{"text_format":"1","workbook":"xlsx","n_sheets":12,"sheets":["Chart Index","محاسبات","متغیرها ","رسم دستی دامن نیم کلوش","رسم دستی دامن کلوش","راهنما ","نمونه بافت","اندازه های شخصی","اندازه گیری و تحلیل","طراحی همه الگوها","مساله سوم مدل 13","temp_print_sheet"],"not_rendered":{"charts":26,"images":67,"macros":1,"external_links":1,"defined_names":4,"comments":3,"pivot_tables":0},"unopened":[],"bounds":{"document_bytes":16777216,"sheet_cells":100000,"rows_first":2000,"rows_last":500,"rows_between":2000,"halvings":0,"cell_chars":16384,"cell_head_chars":4096},"cells_cut":0,"cells_raw":0,"read":"whole","date_system":"1900"}

{"sheet":"Chart Index","index":0,"n_rows":22,"n_cols":4,"rows_kept":22,"cut":false,"hidden":true,"merged":[]}
[]
[]
[]
[]
[]
[]
["Preview","Sheet (and graph link)","Chart Title","Chart Series"]
[null,"طراحی همه الگوها","رسم دستی چادر2","انحنا, صاف"]
[null,"طراحی همه الگوها","رسم دستی چادر 3","انحنا, صاف"]
[null,"طراحی همه الگوها","رسم دستی چادر 5","انحنا, صاف"]
[null,"طراحی همه الگوها","طراحی چادرها و رسم چادر 4","شبیه ساز دست خمیده و سر, شبیه ساز دامن, رسم یا طراحی چادر4"]
[null,"طراحی همه الگوها","  چادر1 و مقنعه برای پرینت ","شبیه ساز دست خمیده و سر, شبیه ساز دامن, چادر 1 با نقطه گذاری"]
[null,"طراحی همه الگوها","شلوار پشت","1شبیه ساز, 2کمر شلوار,  3وسط شلوار و خط اتو, 4پهلو, 6فاق, 7لبه پایین, 9کمر جدا, اطلاعات اندام در شلوار"]
[null,"طراحی همه الگوها","طراحی پشت یقه ","شبیه ساز برش, شبیه ساز انحنا, طراحی یقه گرد"]
[null,"طراحی همه الگوها","طراحی جلو یقه","شبیه ساز اندام, طراحی یقه شکاری"]
[null,"طراحی همه الگوها","شلوار جلو","1شبیه ساز جلو, 2کمر شلوار, 3وسط شلوار, 4پهلو, 6فاق, 7لبه پایین شلوار, 8زیپ, 9کمر جدا, 10جیب مردانه, 11جیب جین, اطلاعات اندام در شلوار"]
[null,"طراحی همه الگوها","طراحی جلو دامن ترک با کمر پهن","شبیه ساز دامن تنگ, کمر پهن, خط مرکزی جلو کمر, خطوط اصلی دامن ترک, خطوط فرعی دامن ترک, خط اوزمان, پیلی"]
[null,"طراحی همه الگوها","طراحی پشت دامن ترک با کمر پهن","شبیه ساز دامن تنگ, کمر یکسره, خطوط اصلی دامن ترک, خطوط فرعی دامن ترک, پیلی"]
[null,"طراحی همه الگوها"," آستین ","شبیه ساز آستین, آستین بلند یا کوتاه, مچ آستین بلند یا کوتاه"]
[null,"طراحی همه الگوها","الگو پشت","0 اطلاعات اندام, 72شبیه ساز بالاتنه بدون ساسون, 2شبیه ساز دامن, 5حلقه آستین بدون ساسون, 6سرشانه بدون ساسون, 10پهلو صاف وپایین لباس, 17یقه گرد , 18خط پشت در پیراهن, 24بدون شیفت ساسون کمر"]
[null,"طراحی همه الگوها","یقه و کلاه","شومیزیه"]
[null,"طراحی همه الگوها","الگو جلو","0اطلاعات اندام, 1شبیه ساز بالاتنه, 2شبیه ساز دامن, 6حلقه آستین بدون ساسون  , 7سرشانه بدون ساسون, 11پهلو صاف , 22یقه گرد چرخیده, 23جادکمه یقه گرد در پیراهن, 29پایین پیراهن بدون ترک, 70ساسون کمر, 76جادکمه متصل به یقه"]

{"sheet":"محاسبات","index":1,"n_rows":1141,"n_cols":599,"rows_kept":139,"cut":true,"hidden":true,"merged":[[9,157,9,159],[144,5,144,6],[86,31,86,34],[10,131,10,132],[8,143,8,145],[95,16,95,22],[112,25,112,26],[11,90,11,92],[11,98,11,100],[10,107,10,113],[10,104,10,105]],"bounds":{"rows_first":62,"rows_last":15,"rows_between":62,"halvings":5}}
["height_print ",30.734968314580009]
["width_print ",30.623780540051243]
["charts_resized ",null,null,null,null,null,null,null,null,null,"محاسبات بافت",null,null,null,null,null,null,null,null,null,null,null,null,null,null,null,null,null,null,null,null,null,null,null,null,null,null,null,null,null,null,null,null,null,null,null,null,null,null,null,null,null,null,null,null,null,null,null,null,null,null,null,null,null,null,null,null,null,null,null,null,null,null,null,null,null,null,null,null,null,null,null,null,null,null,null,null,null,null,null,null,null,null,null,null,null,null,null,null,null,null,null,null,null,null,null,null,null,null,null,null,null,null,null,null,null,null,null,null,null,null,null,null,null,null,null,null,null,null,null,null,null,null,null,null,null,null,null,null,null,null,null,null,null,null,null,null,null,null,null,null,null,null,null,null,null,null,null,null,null,null,null,null,null,null,null,null,null,null,null,null,null,null,null,null,null,null,null,null,null,null,null,null,null,null,null,null,null,null,null,null,null,null,null,null,null,null,null,null,null,null,null,null,null,null,null,null,null,null,null,null,null,null,null,null,null,null,null,null,null,null,null,null,null,null,null,null,null,null,null,null,null,null,null,null,null,null,null,null,null,null,null,null,null,null,null,null,null,null,null,null,null,null,null,null,null,null,null,null,null,null,null,null,null,null,null,null,null,null,null,null,null,null,null,null,null,null,null,null,null,null,null,null,null,null,null,null,null,null,null,null,null,null,null,null,null,null,null,null,null,null,null,null,null,null,null,null,null,null,null,null,null,null,null,null,null,null,null,null,null,null,null,null,null,null,null,null,null,null,null,null,null,null,null,null,null,null,null,null,null,null,null,null,null,null,null,null,null,null,null,null,null,null,null,null,null,null,null,null,null,null,null,null,null,null,null,null,null,null,null,null,null,null,null,null,null,null,null,null,null,null,null,null,null,"یقه شکاری ",null,null,null,null,null,null,null,null,null,null,"یقه شومیزیه نوک تیز تا خط جادکمه",null,null,null,null,null,null,null,null,null,null,"یقه شومیزیه معمولی تا خط جادکمه",null,null,null,null,null,null,null,null,null,null,"یقه ب ب غیر مسطح",null,null,null,null,null,null,null,null,null,null,"یقه ب ب معمولی",null,null,null,null,null,null,null,null,null,null,"راهنما نقشه بافت",null,null,null,null,null,null,null,null,null,null,"نقشه بافت بالاتنه",null,null,null,null,null,null,null,"رج دوبل",null,null,null,null,null,null,null,null,null,null,"یقه انگلیسی",null,null,null,null,null,null,null,null,null,null,null,null,null,null,null,null,null,null,"توری بافت"]
["print_body_chartS",null,null,null,null,null,null,null,null,null,null,null,null,null,null,null,null,null,null,null,null,null,null,null,null,null,null,null,"  متغیر محاسبه ای یقه انگلیسی ",null,null,null,null,null,null,null,null,null,null,null,null,null,null,null,null,null,null,null,null,null,null,null,null,null,null,null,null,null,null,null,null,null,null,null,null,null,null,null,null,null,null,null,null,null,null,null,null,null,null,null,null,null,null,null,null,null,null,null,null,null,null,null,null,null,null,null,null,null,null,null,null,null,null,null,null,null,null,null,null,null,null,null,null,null,null,null,null,null,null,null,null,null,null,null,null,null,null,null,null,null,null,null,null,null,null,null,null,null,null,null,null,null,null,null,null,null,null,null,null,null,null,null,null,null,null,null,null,null,null,null,null,null,null,null,null,null,null,null,null,null,null,null,null,null,null,null,null,null,null,null,null,null,null,null,null,null,null,null,null,null,null,null,null,null,null,null,null,null,null,null,null,null,null,null,null,null,null,null,null,null,null,null,null,null,null,null,null,null,null,null,null,null,null,null,null,null,null,null,null,null,null,null,null,null,null,null,null,null,null,null,null,null,null,null,null,null,null,null,null,null,null,null,null,null,null,null,null,null,null,null,null,null,null,null,null,null,null,null,null,null,null,null,null,null,null,null,null,null,null,null,null,null,null,null,null,null,null,null,null,null,null,null,null,null,null,null,null,null,null,null,null,null,null,null,null,null,null,null,null,null,null,null,null,null,null,null,null,null,null,null,null,null,null,null,null,null,null,null,null,null,null,null,null,null,null,null,null,null,null,null,null,null,null,null,null,null,null,null,null,null,null,null,null,null,null,null,null,null,null,null,null,null,null,null,null,null,null,null,null,null,null,null,null,null,null,null,null,null,null,null,null,null,null,null,"بافت  انتخابی",null,null,null,null,null,null,null,"نقشه بافت ",null,null,"بافت  انتخابی",null,null,null,null,null,null,null,"نقشه بافت  ",null,null,"بافت  انتخابی",null,null,null,null,null,null,null,"نقشه بافت  ",null,null,"بافت  انتخابی",null,null,null,null,null,null,null,"نقشه بافت ",null,null,"بافت  انتخابی",null,null,null,null,null,null,null,"نقشه بافت ",null,null,"متغیرهای  ورودی ",null,null,null,null,null,null,null,"راهنمای نقشه بافت ",null,null,"متغیرهای  ورودی ",null,null,null,null,"نقشه بافت بالاتنه یقه گرد",null,null,"متغیرهای  ورودی ",null,null,null,null,null,null,null,"رسم رج دوبل",null,null,"بافت  انتخابی",null,null,null,null,null,null,null,"نقشه بافت ",null,null,null,"آستین",null,null,"جلو",null,null,"پشت ",null,null,"کلاه",null,null,"جلو شلوار",null,null,"پشت شلوار"]
["ActiveWindow.Zoom",15,null,null,"متغیرهای ورودی مربوط به ضخامت میل (متناسب با ضخامت نخ)",null,"میل 2 ","میل  2.5","میل  3","میل   3.5","میل 4 ","میل  4.5","میل  5",null,null,null,null,null,"متغیرهای ورودی یقه شومیزیه بافت انتخابی",null,null,null,"یقه ب ب تا خط مرکزی جلو",null,null,null,null,"طول دور گردن در یقه انگلیسی","d'5",{"$f":"2*(SQRT(POWER((AZ148-AZ140),2)+POWER((BA148-BA140),2))+SQRT(POWER((BK138-BK132),2)+POWER((BL138-BL132),2))+SQRT(POWER((BK132-BK135),2)+POWER((BL132-BL135),2))+SQRT(POWER((BK135-BK104),2)+POWER((BL104-BL135),2))+SQRT(POWER((AC13-J233),2)+POWER((AD13-K233),2)))","v":32.357469453179419},null,null,null,null,null,"سلول مرجع",null,null,null,null,null,null,null,null,null,null,null,null,null,null,null,null,null,null,null,null,null,null,null,null,null,null,null,null,null,null,null,null,null,null,null,null,null,null,null,null,null,null,null,null,null,null,null,null,null,null,null,null,null,null,null,null,null,null,null,null,null,null,null,null,null,null,null,null,null,null,null,null,null,null,null,null,null,null,null,null,null,null,null,null,null,null,null,null,null,null,null,null,null,null,null,null,null,null,null,null,null,null,null,null,null,null,null,null,null,null,null,null,null,null,null,null,null,null,null,null,null,null,null,null,null,null,null,null,null,null,null,null,null,null,null,null,null,null,null,null,null,null,null,null,null,null,null,null,null,null,null,null,null,null,null,null,null,null,null,null,null,null,null,null,null,null,null,null,null,null,null,null,null,null,null,null,null,null,null,null,null,null,null,null,null,null,null,null,null,null,null,null,null,null,null,null,null,null,null,null,null,null,null,null,null,null,null,null,null,null,null,null,null,null,null,null,null,null,null,null,null,null,null,null,null,null,null,null,null,null,null,null,null,null,null,null,null,null,null,null,null,null,null,null,null,null,null,null,null,null,null,null,null,null,null,null,null,null,null,null,null,null,null,null,null,null,null,null,null,null,null,null,null,null,null,null,null,null,null,null,null,null,null,null,null,null,null,null,null,null,null,null,null,null,null,null,null,null,null,null,null,null,null,null,null,null,null,null,null,null,null,null,null,null,null,null,null,null,null,null,null,null,null,null,null,null,null,null,null,null,null,null,null,null,null,null,null,null,null,null,null,null,null,null,null,null,null,null,"a1",{"$f":"O33","v":124},null,null,null,null,null,{"$f":"NV31","v":-35},{"$f":"NV32","v":5},"w1",null,"e1",{"$f":"R34","v":119},null,null,null,null,null,{"$f":"OG36","v":-35},{"$f":"OG37","v":5},"m1",null,"e1",{"$f":"U34","v":104},null,null,null,null,null,{"$f":"OR36","v":-35},{"$f":"OR37","v":5},"m1",null,"c1",{"$f":"X33","v":89},null,null,null,null,null,{"$f":"PB60","v":-35},{"$f":"PC60","v":5},"n1",null,"c1",{"$f":"AA33","v":101},null,null,null,null,null,{"$f":"PM60","v":-35},{"$f":"PN60","v":5},"n1",null,"Xt1",{"$f":"'متغیرها '!C891","v":-45},"جابجایی افقی کل راهنما نقشه",null,null,null,null,{"$f":"PX29","v":-45},5,"t1",null,null,{"$f":"QJ9","v":0},"جابجایی افقی ",null,{"$f":"QI69","v":0},{"$f":"QJ69","v":80.227797473097809},"26'",null,"جابجایی افقی ",{"$f":"'متغیرها '!C903","v":2},"k2",null,null,null,null,{"$f":"QQ20","v":-12.305407289332278},{"$f":"QR20","v":48.28856646104898},"k9",null,"d1",{"$f":"AD33","v":63},null,null,null,null,null,{"$f":"RB60","v":-35},{"$f":"RC60","v":5},"p1",null,null," a001 تعداد رج در یک سانت آستین",{"$f":"I36","v":3.3738095238095243},null," a0 تعداد رج در یک سانت جلو",{"$f":"I22","v":3.46031746031746},null," a01 تعداد رج در یک سانت پشت",{"$f":"I29","v":3.46031746031746},null," a02 تعداد رج در یک سانت کلاه",{"$f":"I48","v":3.3738095238095243},null," a03 تعداد رج در یک سانت شلوار",{"$f":"L48","v":3.3738095238095243},null," a04 تعداد رج در یک سانت پشت شلوار",{"$f":"O48","v":3.3738095238095243}]
["per_font_size_chart",{"$f":"0.1*'مساله سوم مدل 13'!B472","v":0.8},null,null,"  (بدون احتساب بافت انتخابی)      a'0 ضریب تعداد رج",{"$f":"IF(F8=2,G6,IF(F8=2.5,H6,IF(F8=3,I6,IF(F8=3.5,J6,IF(F8=4,K6,IF(F8=4.5,L6,M6))))))","v":3.27},3.5,3.27,3.04,2.8,2.57,2.2999999999999998,2.0699999999999998,"a''0","متغیرهای ورودی  یقه شکاری کشباف",null,null,{"$f":"ROUND(S12*S9,1)","v":4.0999999999999996},"پهنا (cm)=",null,null,null,"متغیر محاسبه ای ",null,null,null,null,"دال بالا","d''3",{"$f":"H231*H124","v":2.65},null,null,null,"تعداد دانه در یک سانت eb0 "," ea0 تعداد رج در یک سانت","میزان جمع شوندگی عمودی مدل","میزان جمع شوندگی افقی مدل","ارتفاع رجها به سانتیمتر","تعداد رج","پهنا به سانتیمتر","تعداد دانه","اسم مدل","شماره مدل",null,null,null,null,null,null,null,null,null,null,null,null,null,null,null,null,null,null,null,null,null,null,null,null,null,null,null,null,null,null,null,null,null,null,null,null,null,null,null,null,null,null,null,null,null,null,null,null,null,null,null,null,null,null,null,null,null,null,null,null,null,null,null,null,null,null,null,null,null,null,null,null,null,null,null,null,null,null,null,null,null,null,null,null,null,null,null,null,null,null,null,null,null,null,null,null,null,null,null,null,null,null,null,null,null,null,null,null,null,null,null,null,null,null,null,null,null,null,null,null,null,null,null,null,null,null,null,null,null,null,null,null,null,null,null,null,null,null,null,null,null,null,null,null,null,null,null,null,null,null,null,null,null,null,null,null,null,null,null,null,null,null,null,null,null,null,null,null,null,null,null,null,null,null,null,null,null,null,null,null,null,null,null,null,null,null,null,null,null,null,null,null,null,null,null,null,null,null,null,null,null,null,null,null,null,null,null,null,null,null,null,null,null,null,null,null,null,null,null,null,null,null,null,null,null,null,null,null,null,null,null,null,null,null,null,null,null,null,null,null,null,null,null,null,null,null,null,null,null,null,null,null,null,null,null,null,null,null,null,null,null,null,null,null,null,null,null,null,null,null,null,null,null,null,null,null,null,null,null,null,null,null,null,null,null,null,null,null,null,null,null,null,null,null,null,null,null,null,null,null,null,null,null,null,null,null,null,null,null,null,null,null,null,null,null,null,null,null,null,null,null,null,null,null,null,null,null,null,null,null,null,null,null,null,null,null,null,null,null,null,null,"a2",4,null,null,null,null,"باکس نوشتهa1",null,null,{"$f":"OA6","v":"باکس نوشتهa1"},null,"e2",9,null,null,null,null,"باکس نوشتهe1",null,null,{"$f":"OL6","v":"باکس نوشتهe1"},null,"e2",9,null,null,null,null,"باکس نوشتهe1",null,null,{"$f":"OW6","v":"باکس نوشتهe1"},null,"c2",2,null,null,null,null,"باکس نوشتهc1",null,null,{"$f":"PH6","v":"باکس نوشتهc1"},null,"c2",2,null,null,null,null,"باکس نوشتهc1",null,null,{"$f":"PS6","v":"باکس نوشتهc1"},null,"Yt1",{"$f":"'متغیرها '!C892","v":5},"جابجایی عمودی کل راهنما نقشه",null,null,null,null,-41.5,5,"t2",null,null,{"$f":"QJ10","v":0},"جابجایی عمودی",null,{"$f":"QI68","v":0},{"$f":"QJ68","v":49.8},"1'",null,"جابجایی عمودی",{"$f":"'متغیرها '!C904","v":2},"k3",null,null,null,null,{"$f":"QQ22","v":-11},{"$f":"QR22","v":48.763695857960052},"k11",null,"d2",{"$f":"AD34","v":5},null,null,null,null,"باکس نوشتهd1",null,null,{"$f":"RH6","v":"باکس نوشتهd1"},null,null,"تعداد دانه در یک سانت آستینb001 ",{"$f":"I37","v":2.3351351351351353},null,"تعداد دانه در یک سانت جلوb0 ",{"$f":"I23","v":2.4685714285714284},null,"تعداد دانه در یک سانت پشتb01 ",{"$f":"I30","v":2.4685714285714284},null,"تعداد دانه در یک سانت کلاهb02 ",{"$f":"I49","v":2.3351351351351353},null,"تعداد دانه در یک سانت شلوارb03 ",{"$f":"L49","v":2.3351351351351353},null,"تعداد دانه در یک سانت پشت شلوارb04 ",{"$f":"O49","v":2.3351351351351353}]
["ChartFieldRange( باید خالی باشد )",null,null,null,"  (بدون احتساب بافت انتخابی)      b'0 ضریب تعداد دانه",{"$f":"IF(F8=2,G7,IF(F8=2.5,H7,IF(F8=3,I7,IF(F8=3.5,J7,IF(F8=4,K7,IF(F8=4.5,L7,M7))))))","v":2.4},2.6,2.4,2.2000000000000002,2,1.8,1.6,1.4,"b''0",{"$f":"ROUND(O11*(0.4*G166+0.037*H131),1)","v":5.0999999999999996},"پهنا (cm)=",null,{"$f":"ROUND(S13*S9,1)","v":6.1},"پهنا (cm)=",null,null,null,"c'6",{"$f":"DD692-DD682","v":4.1735271397363221},null,null,null,"دال پایین","d'3",{"$f":"H232*H124","v":4.7699999999999987},null,null,null,{"$f":"AO7/AN7","v":30},{"$f":"AM7/AL7","v":20},{"$f":"(10/3)*((AM7/AL7)*(1/F6)-1)","v":17.05402650356779},{"$f":"(100/68)*((AO7/AN7)*(1/F7)-1)","v":16.911764705882355},{"$f":"'مساله سوم مدل 13'!K480","v":1},20,{"$f":"'مساله سوم مدل 13'!K479","v":1},30,{"$f":"'مساله سوم مدل 13'!J478","v":" اول مخصوص کاربر"},1,null,null,null,null,null,null,null,null,null,null,null,null,null,null,null,null,null,null,null,null,null,null,null,null,null,null,null,null,null,null,null,null,null,null,null,null,null,null,null,null,null,null,null,null,null,null,null,null,null,null,null,null,null,null,null,null,null,null,null,null,null,null,null,null,null,null,null,null,null,null,null,null,null,null,null,null,null,null,null,null,null,null,null,null,null,null,null,null,null,null,null,null,null,null,null,null,null,null,null,null,null,null,null,null,null,null,null,null,null,null,null,null,null,null,null,null,null,null,null,null,null,null,null,null,null,null,null,null,null,null,null,null,null,null,null,null,null,null,null,null,null,null,null,null,null,null,null,null,null,null,null,null,null,null,null,null,null,null,null,null,null,null,null,null,null,null,null,null,null,null,null,null,null,null,null,null,null,null,null,null,null,null,null,null,null,null,null,null,null,null,null,null,null,null,null,null,null,null,null,null,null,null,null,null,null,null,null,null,null,null,null,null,null,null,null,null,null,null,null,null,null,null,null,null,null,null,null,null,null,null,null,null,null,null,null,null,null,null,null,null,null,null,null,null,null,null,null,null,null,null,null,null,null,null,null,null,null,null,null,null,null,null,null,null,null,null,null,null,null,null,null,null,null,null,null,null,null,null,null,null,null,null,null,null,null,null,null,null,null,null,null,null,null,null,null,null,null,null,null,null,null,null,null,null,null,null,null,null,null,null,null,null,null,null,null,null,null,null,null,null,null,null,null,null,null,null,null,null,null,null,null,null,null,null,null,null,null,null,null,null,null,"a3",14,null,null,null,"متغیرهای ورودی",null,{"$f":"NZ13","v":-35},{"$f":"OA13","v":5},{"$f":"NY13","v":"w1"},null,"e3",12,null,null,null,"متغیرهای ورودی",null,{"$f":"OK13","v":-35},{"$f":"OL13","v":5},{"$f":"OJ13","v":"m1"},null,"e3",12,null,null,null,"متغیرهای ورودی",null,{"$f":"OV13","v":-35},{"$f":"OW13","v":5},{"$f":"OU13","v":"m1"},null,"c3",4,null,null,null,"متغیرهای ورودی",null,{"$f":"PG13","v":-35},{"$f":"PH13","v":5},{"$f":"PF13","v":"n1"},null,"c3",4,null,null,null,"متغیرهای ورودی",null,{"$f":"PR13","v":-35},{"$f":"PS13","v":5},{"$f":"PQ13","v":"n1"},null,"w11",{"$f":"4/PX18","v":1.4285714285714286},"ارتفاع هر رج",null,"نسبت سایز افقی",{"$f":"PY17","v":42},"انحنا چپگرد ",null,null,{"$f":"QD7","v":"انحنا چپگرد "},null,null,null,null,null,null,null,null,null,"شعاع",{"$f":"0.5*'متغیرها '!C902","v":4},"k4",null,null,null,null,{"$f":"QQ24","v":-9.5358983848622465},{"$f":"QR24","v":50.227797473097809},"k13",null,"d3",{"$f":"AD35","v":10},null,null,null,"متغیرهای ورودی",null,{"$f":"RG13","v":-35},{"$f":"RH13","v":5},{"$f":"RF13","v":"p1"},null,null,"بافت انتخابی آستین",{"$f":"I40","v":11},null,"بافت انتخابی جلو",{"$f":"I26","v":15},null,"بافت انتخابی پشت",{"$f":"I33","v":15},null,"بافت انتخابی کلاه",{"$f":"I52","v":11},null,"بافت انتخابی شلوار",{"$f":"L52","v":11},null,"بافت انتخابی پشت شلوار",{"$f":"O52","v":11}]
["show_temp_print_sheet ",0,null,null,"انتخاب ضخامت میل بافتنی   f1",{"$f":"'متغیرها '!C857","v":2.5},null,null,null,null,null,null,null,null,"  متغیر محاسبه ای یقه شکاری  ",null,null,"متغیر محاسبه ای شومیزیه",null,null,null,null,"c6",{"$f":"ROUNDUP(X19*X7,0)","v":19},null,null,null,null,"d11",{"$f":"SQRT(POWER((GW680-GW686),2)+POWER((GX680-GX686),2))","v":4.1941773662540527},null,null,null,30,20,{"$f":"(10/3)*((AM8/AL8)*(1/F6)-1)","v":17.05402650356779},{"$f":"(100/68)*((AO8/AN8)*(1/F7)-1)","v":16.911764705882355},{"$f":"'مساله سوم مدل 13'!K484","v":1},20,{"$f":"'مساله سوم مدل 13'!K483","v":1},30,{"$f":"'مساله سوم مدل 13'!J482","v":" دوم مخصوص کاربر"},{"$f":"AQ7+1","v":2},null,null,null,null,null,null,null,null,null,null,null,null,null,null,null,null,null,null,null,null,null,null,null,null,null,null,null,null,null,null,null,null,null,null,null,null,null,null,null,null,null,null,null,null,null,null,null,null,null,null,null,null,null,null,null,null,null,null,null,null,null,null,null,null,null,null,null,null,null,null,null,null,null,null,null,null,null,null,null,null,null,null,null,null,null,null,null,null,null,null,null,null,null,null,null,null,null,null,null,null,null,null,null,null,null,null,null,null,null,null,null,null,null,null,null,null,null,null,null,null,null,null,null,null,null,null,null,null,null,null,null,null,null,null,null,null,null,null,null,null,null,null,null,null,null,null,null,null,null,null,null,null,null,null,null,null,null,null,null,null,null,null,null,null,null,null,null,null,null,null,null,null,null,null,null,null,null,null,null,null,null,null,null,null,null,null,null,null,null,null,null,null,null,null,null,null,null,null,null,null,null,null,null,null,null,null,null,null,null,null,null,null,null,null,null,null,null,null,null,null,null,null,null,null,null,null,null,null,null,null,null,null,null,null,null,null,null,null,null,null,null,null,null,null,null,null,null,null,null,null,null,null,null,null,null,null,null,null,null,null,null,null,null,null,null,null,null,null,null,null,null,null,null,null,null,null,null,null,null,null,null,null,null,null,null,null,null,null,null,null,null,null,null,null,null,null,null,null,null,null,null,null,null,null,null,null,null,null,null,null,null,null,null,null,null,null,null,null,null,null,null,null,null,null,null,null,null,null,null,null,null,null,null,null,null,null,null,null,null,null,null,"a4",28,null,null,"طول باکس نوشته",{"$f":"NV36","v":4.5},"h3",{"$f":"NZ18","v":-21.427083333333336},{"$f":"OA18","v":5},{"$f":"NY18","v":"h8"},null,"e4",21,null,null,"طول باکس نوشته",{"$f":"OG41","v":4.5},"h3",{"$f":"OK18","v":-12.664930555555554},{"$f":"OL18","v":5},{"$f":"OJ18","v":"h8"},null,"e4",24,null,null,"طول باکس نوشته",{"$f":"OR41","v":4.5},"h3",{"$f":"OV18","v":-15.763888888888886},{"$f":"OW18","v":5},{"$f":"OU18","v":"h8"},null,"c4",8,null,null,"طول باکس نوشته",{"$f":"PC39","v":4.5},"h3",{"$f":"PG18","v":-18.862847222222221},{"$f":"PH18","v":5},{"$f":"PF18","v":"h8"},null,"c4",9,null,null,"طول باکس نوشته",{"$f":"PN39","v":4.5},"h3",{"$f":"PR18","v":-16.383680555555554},{"$f":"PS18","v":5},{"$f":"PQ18","v":"h8"},null,"g9",0.5,"پهنای نیم دایره",null,"ارتفاع نیم دایره",{"$f":"PY14","v":1.4285714285714286},"بزرگی فلش",{"$f":"QC11","v":-41.5},{"$f":"QD11","v":5},{"$f":"QB11","v":"t2"},null,"نقاط ورودی",null,null,null,{"$f":"QI68","v":0},{"$f":"QJ68","v":49.8},"1'",null,"ارتفاع",{"$f":"0.1*'متغیرها '!C901","v":0.60000000000000009},"k17",null,null,null,null,{"$f":"QQ16","v":-9},{"$f":"QR16","v":52.227797473097809},"k5",null,"d4",{"$f":"AD36","v":1},null,null,"طول باکس نوشته",{"$f":"1.3*RC41","v":5.8500000000000005},"h3",{"$f":"RG18","v":-22.612500000000001},{"$f":"RH18","v":5},{"$f":"RF18","v":"h8"},null,null,"بافت انتخابی آستین",{"$f":"I41","v":"ساده "},null,"بافت انتخابی جلو",{"$f":"I27","v":"سبدی (5 تایی)"},null,"بافت انتخابی پشت",{"$f":"I34","v":"سبدی (5 تایی)"},null,"بافت انتخابی کلاه",{"$f":"I53","v":"ساده "},null,"بافت انتخابی شلوار",{"$f":"L53","v":"ساده "},null,"بافت انتخابی پشت شلوار",{"$f":"O53","v":"ساده "}]
["per_line_size_chart",null,null,null," از آستین رگلان   γ9",{"$f":"DE542","v":0.60687824118191358},null,null,"مقادیر قدیمی تا تاریخ 12  99",null,null,null,null,null,"   a7",{"$f":"O16*O11*(0.4*G166+0.037*H131)","v":15.923084197104288},null,"e'1",{"$f":"(0.4*G166+0.037*H131)","v":2.0451667776097251},null,null,null,"c7",0.15,null,null,null,null,"d'10",{"$f":"SQRT(POWER((J236-AC13),2)+POWER((K236-AD13),2))*SIN(RADIANS(H234))","v":0.97450352212306424},null,null,null,30,20,{"$f":"(10/3)*((AM9/AL9)*(1/F6)-1)","v":17.05402650356779},{"$f":"(100/68)*((AO9/AN9)*(1/F7)-1)","v":16.911764705882355},{"$f":"'مساله سوم مدل 13'!K488","v":1},20,{"$f":"'مساله سوم مدل 13'!K487","v":1},30,{"$f":"'مساله سوم مدل 13'!J486","v":" سوم مخصوص کاربر"},3,null,null,null,null,null,null,null,null,null,null,null,null,null,null,null,null,null,null,null,null,null,null,null,null,null,null,null,null,null,null,null,null,null,null,null,null,null,null,null,null,null,null,null,null,null,null,null,null,null,null,null,null,null,null,null,null,null,null,null,null,null,null,null,null,null,null,null,null,null,null,null,null,null,null,null,null,null,null,null,null,null,null,null,null,null,null,null,null,null,null,null,null,null,null,null,null,null,null,null,null,"رسم دستی چادر  4",null,null,null,null,null,"رسم و طراحی چادر شماره 4",null,null,null,null,null,null,null,null,null,null,null,"رسم چادر شماره 5",null,null,null,null,null,null,null,"طراحی چادر شماره 5",null,null,null," طراحی چادر شماره 5",null,null,null,null,null,null,null,null,"پروسیجر یافتن راس سوم مثلث با داشتن دو راس و دو ضلع",null,null,null,null,null,"پروسیجر چرخش یک نقطه حول نقطه دیگر",null,null,null,null,null,"کامل شده",null,null,"رسم باکس زیپ دامن- باکس دوطرفه راست و چپ","مولفه افقی","مولفه عمودی",null,null,"به دست آوردن راس سوم مثلث وقتی دو راس و دو ضلع را داریم",null,null,null,null,null,"جلو(k''5 →k6)",{"$f":"SQRT(POWER((#REF!-#REF!),2)+POWER((#REF!-#REF!),2))","v":{"$error":"#REF!"}},"ضلع راست",null,null,null,null,null,null,null,null,null,null,null,"قرینه",null,null,null,null,null,null,"قرینه نقطه نسبت به خط با داشتن دو نقطه از یک خط",null,null,null,null,null,null,null,null,null,null,null,null,null,null,null,null,null,null,null,null,null,null,null,null,null,null,null,null,null,null,null,null,null,null,null,null,null,null,null,null,null,null,null,null,null,null,null,null,null,null,null,null,null,null,null,null,null,null,null,null,null,null,null,null,null,null,null,null,null,null,null,null,null,null,null,null,null,null,null,null,null,null,null,null,null,null,null,null,null,null,null,null,null,null,null,null,null,null,null,null,null,null,null,null,null,null,null,null,null,null,null,null,null,null,null,null,null,null,null,null,null,null,null,null,null,null,null,null,null,null,null,null,null,null,null,null,null,null,null,null,null,null,null,null,null,null,null,null,null,null,null,null,null,null,"a5",43,null,null,"پهنای باکس نوشته",{"$f":"NV37","v":0.5},"h4",null,null,null,null,"e5",33,null,null,"پهنای باکس نوشته",{"$f":"OG42","v":0.5},"h4",null,null,null,null,"e5",36,null,null,"پهنای باکس نوشته",{"$f":"OR42","v":0.5},"h4",null,null,null,null,"c10",51,null,null,"پهنای باکس نوشته",{"$f":"PC40","v":0.5},"h4",null,null,null,null,"c10",51,null,null,"پهنای باکس نوشته",{"$f":"PN40","v":0.5},"h4",null,null,null,null,"f'4",0.4,"بزرگی فلش رج",null,"پهنای نیم دایره",{"$f":"PY8","v":0.5},{"$f":"PY16","v":0.57142857142857151},{"$f":"QC15","v":-41.1325},{"$f":"QD15","v":5.2},{"$f":"QB15","v":"g5"},null,null,{"$f":"C100","v":0},"شیفت افقی جلو",null,{"$f":"QI71","v":8.3104559999999985},{"$f":"QJ71","v":49.8},50,null,{"$f":"QI69","v":0},{"$f":"QJ69","v":80.227797473097809},"26'",null,null,null,null,{"$f":"QQ26","v":-11},{"$f":"QR26","v":55.691899088235566},"k15",null,"d14",{"$f":"AD45","v":1},null,null,"پهنای باکس نوشته",{"$f":"RC42","v":0.5},"h4",null,null,null,null,null,null,{"$f":"\" بافت  \"&TEXT(0,RO8)&\"  با میل \"&TEXT(0,RP11)","v":" بافت  ساده   با میل 2.5"},null,null,{"$f":"\" بافت  \"&TEXT(0,RR8)&\"  با میل \"&TEXT(0,RP11)","v":" بافت  سبدی (5 تایی)  با میل 2.5"},null,null,{"$f":"\" بافت  \"&TEXT(0,RU8)&\"  با میل \"&TEXT(0,RP11)","v":" بافت  سبدی (5 تایی)  با میل 2.5"},null,null,{"$f":"\" بافت  \"&TEXT(0,RX8)&\"  با میل \"&TEXT(0,RP11)","v":" بافت  ساده   با میل 2.5"},null,null,{"$f":"\" بافت  \"&TEXT(0,SA8)&\"  با میل \"&TEXT(0,RP11)","v":" بافت  ساده   با میل 2.5"},null,null,{"$f":"\" بافت  \"&TEXT(0,SD8)&\"  با میل \"&TEXT(0,RP11)","v":" بافت  ساده   با میل 2.5"}]
["Max_H_Chart",35.980000000000004,null,null,"γ10 از آستین رگلان",{"$f":"DE543","v":0.59297189331038513},null,"میل 2 و 2.5","میل  3 و 3.5","میل 4 و 4.5",null,null,null,"متغیرهای ورودی  یقه شکاری کشباف",null,null,null,"e''1",{"$f":"S13*S9","v":6.1355003328291753},null,null,null,"c8",0.25,null,null,null,null,"d9",{"$f":"ROUNDDOWN((K233-K236)*AD19/((J233-AC14)*AD20),0)","v":2},null,null,null,30,20,{"$f":"(10/3)*((AM10/AL10)*(1/F6)-1)","v":17.05402650356779},{"$f":"(100/68)*((AO10/AN10)*(1/F7)-1)","v":16.911764705882355},{"$f":"'مساله سوم مدل 13'!K492","v":1},20,{"$f":"'مساله سوم مدل 13'!K491","v":1},30,{"$f":"'مساله سوم مدل 13'!J490","v":" چهارم مخصوص کاربر"},4,null,null,null,null,null,null,null,null,null,null,null,null,null,null,null,null,null,null,null,null,null,null,null,null,null,null,null,null,null,null,null,null,null,null,null,null,null,null,null,null,null,null,null,null,null,null,null,null,null,null,null,null,null,null,null,null,null,null,null,null,null,null,null,null,null,null,null,null,null,null,null,null,null,null,null,null,null,null,null,null,null,null,null,null,null,null,null,null,null,null,null,null,null,null,null,null,null,null,null,null,null,null,null,null,null,null,"رسم دستی چادر4 با نقطه گذاری",null,null,null,null,"خطوط پرینت الگو یا طراحی چادر4",null,null,"رسم دستی چادر 5 (بر حسب سانتیمتر)",null,null,null,null,"صاف",null,null,null,"انحنا",null,null,"اسم نقطه ","مولفه افقی","مولفه عمودی",null,{"$f":"FO14","v":0},{"$f":"FP14","v":105.12643599999997},"s'6",null,null,null,null,null,null,null,null,"اطلاعات ورودی",null,null,null,"رادیان",{"$f":"-#REF!","v":{"$error":"#REF!"}},"زاویه چرخش","چرخش مخالف عقربه های ساعت",null,null,null,null,"نقطه ورودی بالا","b5",1,1,null,null," درجه α1"," رادیان α1","xdp'6","ydp'6","(dp4→dp'6)","(dp4→dp6)-(dp4→dp'6) ","(k6 →45)جلو",{"$f":"SQRT(POWER((#REF!-#REF!),2)+POWER((#REF!-#REF!),2))","v":{"$error":"#REF!"}},"ضلع چپ",null,null,null,null,null,null,null,null,null,null,null,{"$f":"-HK10+HP9","v":0},{"$f":"HL10","v":0},null,null,"مولفه افقی","مولفه عمودی","اسم نقطه ورودی",null,null,null,null,null,null,null,null,null,null,null,null,null,null,null,null,null,null,null,null,null,null,null,null,null,null,null,null,null,null,null,null,null,null,null,null,null,null,null,null,null,null,null,null,null,null,null,null,null,null,null,null,null,null,null,null,null,null,null,null,null,null,null,null,null,null,null,null,null,null,null,null,null,null,null,null,null,null,null,null,null,null,null,null,null,null,null,null,null,null,null,null,null,null,null,null,null,null,null,null,null,null,null,null,null,null,null,null,null,null,null,null,null,null,null,null,null,null,null,null,null,null,null,null,null,null,null,null,null,null,null,null,null,null,null,null,null,null,null,null,null,null,null,null,null,null,null,null,null,null,null,null,null,null,null,"a6",6,null,null,null,null,null,{"$f":"NZ20","v":-21.427083333333336},{"$f":"OA20","v":5.25},{"$f":"NY20","v":"h10"},null,"e6",9,null,null,null,null,null,{"$f":"OK20","v":-12.664930555555554},{"$f":"OL20","v":5.25},{"$f":"OJ20","v":"h10"},null,"e6",9,null,null,null,null,null,{"$f":"OV20","v":-15.763888888888886},{"$f":"OW20","v":5.25},{"$f":"OU20","v":"h10"},null,"c11",49,null,null,null,null,null,{"$f":"PG20","v":-18.862847222222221},{"$f":"PH20","v":5.25},{"$f":"PF20","v":"h10"},null,"c11",49,null,null,null,null,null,{"$f":"PR20","v":-16.383680555555554},{"$f":"PS20","v":5.25},{"$f":"PQ20","v":"h10"},null,"f5",0.5,"زاویه فلش رج",null,"نقطه شروع انحنا","مولفه افقی","مولفه عمودی",{"$f":"QC14","v":-40.975000000000001},{"$f":"QD14","v":5.7142857142857144},{"$f":"QB14","v":"g4"},null,null,0,"شیفت عمودی جلو",null,{"$f":"QI70","v":16.725532656711231},{"$f":"QJ70","v":50.142500152855277},7,null,"f5",0.5,"زاویه فلش رج",null,null,null,null,{"$f":"QQ18","v":-13},{"$f":"QR18","v":56.227797473097809},"k7",null,"d15",{"$f":"AD46","v":1},null,null,null,null,null,{"$f":"RG20","v":-22.612500000000001},{"$f":"RH20","v":5.25},{"$f":"RF20","v":"h10"},null,null,"محاسبات کلی"]
["Max_W_Chart",14.414999999999999,null,null," (نصف طول دور گردن بعلاوه جادکمه)     (b'1)/2+b'2",{"$f":"AZ102-BD98+SQRT(POWER((AZ102-AZ145),2)+POWER((BA145-BA102),2))+SQRT(POWER((AZ145-AZ148),2)+POWER((BA145-BA148),2))+SQRT(POWER((AZ148-AZ140),2)+POWER((BA148-BA140),2))+SQRT(POWER((BK138-BK132),2)+POWER((BL138-BL132),2))+SQRT(POWER((BK132-BK135),2)+POWER((BL132-BL135),2))+SQRT(POWER((BK135-BK104),2)+POWER((BL104-BL135),2))","v":15.197111807824456},null,3.5,2.8,2.6,"a''0",null,null,"    ضریب پهنای یقه  (1.5 الی 3)",{"$f":"EF682/EF679","v":2.5},null,null,null,"متغیرهای ورودی یقه شومیزیه بافت انتخابی",null,null,null,"c12",{"$f":"2*(F11-F12)","v":30.394223615648912},null,null,null,null,"d10",{"$f":"ROUNDDOWN((AD19*AD43/(AD20*AD9)),0)","v":8},null,null,null,30,20,{"$f":"(10/3)*((AM11/AL11)*(1/F6)-1)","v":17.05402650356779},{"$f":"(100/68)*((AO11/AN11)*(1/F7)-1)","v":16.911764705882355},{"$f":"'مساله سوم مدل 13'!K496","v":1},20,{"$f":"'مساله سوم مدل 13'!K495","v":1},30,{"$f":"'مساله سوم مدل 13'!J494","v":" پنجم مخصوص کاربر"},5,null,null,null,null,null,null,null,null,null,null,null,null,null,null,null,null,null,null,null,null,null,null,null,null,null,null,null,null,null,null,null,null,null,null,null,null,null,null,null,null,null,null,null,null,null,null,null,null,null,null,null,null,null,null,null,null,null,null,null,null,null,"رسم دستی چادر 2 (بر حسب سانتیمتر)",null,null,"رسم چادر شماره 2",null,null,null,null,null,null,null,"نقاط ورودی",null,null,null," طراحی چادر شماره 2",null,null,null,null,null,null,null," طراحی چادر شماره 3",null,null,null,"رسم دستی چادر 3 (بر حسب سانتیمتر)",null,null,"رسم چادر شماره 3",null,null,null,null,null,null,null,null,null,null,null,null,null,null,{"$f":"EP29","v":0},{"$f":"EQ30","v":-10.700000000000003},2,null,{"$f":"EP30","v":-6.3},{"$f":"EQ30","v":-10.700000000000003},3,null,null,null,null,null,{"$f":"FF15-'طراحی همه الگوها'!U274","v":42.3},{"$f":"FG15","v":60.4},"خط پهلو",null,{"$f":"FF30","v":62.099999999999994},{"$f":"FG30","v":70.199999999999989},13,null,"s1",{"$f":"DB400","v":0},{"$f":"DC400","v":103.145},null,5.0399378466446105,103.02325967030265,"s''7",null,null,null,null,null,null,"اسم نقطه ","مولفه افقی","مولفه عمودی",null,null,null,"مولفه افقی","مولفه عمودی","اسم نقطه ",null,"نقطه  خروجی چرخیده",null,null,null,"نقطه ورودی پایین","b6",1,1,null,2,-100,{"$f":"RADIANS(GU11)","v":-1.7453292519943295},{"$f":"HB13+HB10*COS(GV11)","v":{"$error":"#REF!"}},{"$f":"HC13-HB10*SIN(GV11)","v":{"$error":"#REF!"}},{"$f":"SQRT(POWER((HB12-GW11),2)+POWER((HC12-GX11),2))","v":{"$error":"#REF!"}},{"$f":"ABS(HB9-GY11)","v":{"$error":"#REF!"}},"اسم نقطه ","مولفه افقی","مولفه عمودی",null,null,null,null,null,null,null,null,null,null,null,{"$f":"-HK11+HP9","v":0},0,null,null,0,0,1,"نقطه اول خط تقارن","نقاط قرینه شده نسبت به خط تقارن",null,null,null,null,null,null,null,null,null,null,null,null,null,null,null,null,null,null,null,null,null,null,null,null,null,null,null,null,null,null,null,null,null,null,null,null,null,null,null,null,null,null,null,null,null,null,null,null,null,null,null,null,null,null,null,null,null,null,null,null,null,null,null,null,null,null,null,null,null,null,null,null,null,null,null,null,null,null,null,null,null,null,null,null,null,null,null,null,null,null,null,null,null,null,null,null,null,null,null,null,null,null,null,null,null,null,null,null,null,null,null,null,null,null,null,null,null,null,null,null,null,null,null,null,null,null,null,null,null,null,null,null,null,null,null,null,null,null,null,null,null,null,null,null,null,null,null,null,null,null,null,null,null,"a10",5,null,null,null,null,null,{"$f":"NZ21","v":-21.427083333333336},{"$f":"OA21","v":4.75},{"$f":"NY21","v":"h11"},null,"e7",0,null,null,null,null,null,{"$f":"OK21","v":-12.664930555555554},{"$f":"OL21","v":4.75},{"$f":"OJ21","v":"h11"},null,"e7",0,null,null,null,null,null,{"$f":"OV21","v":-15.763888888888886},{"$f":"OW21","v":4.75},{"$f":"OU21","v":"h11"},null,"خطا"," ",null,null,null,null,null,{"$f":"PG21","v":-18.862847222222221},{"$f":"PH21","v":4.75},{"$f":"PF21","v":"h11"},null,"خطا"," ",null,null,null,null,null,{"$f":"PR21","v":-16.383680555555554},{"$f":"PS21","v":4.75},{"$f":"PQ21","v":"h11"},null,"f9",0.5,"بزرگی خط عمودی دانه",null,{"$f":"PZ30","v":"t2"},{"$f":"PX30","v":-41.5},{"$f":"PY30","v":5},{"$f":"QC16","v":-41.1325},{"$f":"QD16","v":6.2285714285714286},{"$f":"QB16","v":"g6"},null,null,0,"شیفت افقی پشت",null,null,null,null,null,"f4",{"$f":"0.7*QR8","v":0.42000000000000004},"بزرگی فلش رج",null,null,null,null,{"$f":"QQ27","v":-15},{"$f":"QR27","v":55.691899088235566},"k16",null,"d8",{"$f":"AD40","v":14},null,null,null,null,null,{"$f":"RG21","v":-22.612500000000001},{"$f":"RH21","v":4.75},{"$f":"RF21","v":"h11"},null,null,{"$f":"2/RO6","v":0.8564814814814814},"c1",{"$f":"RB20","v":2.5},"انتخاب ضخامت میل بافتنی "]
["Min_H_Chart",20,null,null," ( از خط مرکزی جلو تا خط جادکمه = طول جادکمه)     b'2",{"$f":"AZ102-BD98","v":0},null,2.2999999999999998,1.8,1.7,"b''0",null,null,"a15",{"$f":"EE699-EE697+SQRT(POWER((EE699-EE701),2)+POWER((EF699-EF701),2))+SQRT(POWER((EE701-EE704),2)+POWER((EF701-EF704),2))+SQRT(POWER((EE704-EE705),2)+POWER((EF704-EF705),2))+SQRT(POWER((EE705-EE703),2)+POWER((EF705-EF703),2))","v":15.123838751804799},null,null,"    ضریب پهنای پایه یقه    (1 الی 2)",{"$f":"DH682/DH679","v":2},null,null,null,"c13",{"$f":"2*(SQRT(POWER((DC682-DC683),2)+POWER((DD682-DD683),2))+SQRT(POWER((DC683-DC684),2)+POWER((DD683-DD684),2))+SQRT(POWER((DC684-DC685),2)+POWER((DD684-DD685),2))+SQRT(POWER((DC685-DC686),2)+POWER((DD685-DD686),2))+SQRT(POWER((DC686-DC687),2)+POWER((DD686-DD687),2))+SQRT(POWER((DC687-DC688),2)+POWER((DD687-DD688),2))+SQRT(POWER((DC688-DC689),2)+POWER((DD688-DD689),2))+SQRT(POWER((DC689-DC690),2)+POWER((DD689-DD690),2)))","v":48.275941049284455},null,null,null,null,"d12",{"$f":"ROUND(SQRT(POWER((J236-J250),2)+POWER((K236-K250),2))-SQRT(POWER((J250-AC13),2)+POWER((K250-AD13),2)),0)","v":6},null,null,null,30,20,{"$f":"(10/3)*((AM12/AL12)*(1/F6)-1)","v":17.05402650356779},{"$f":"(100/68)*((AO12/AN12)*(1/F7)-1)","v":16.911764705882355},{"$f":"'مساله سوم مدل 13'!K500","v":1},20,{"$f":"'مساله سوم مدل 13'!K499","v":1},30,{"$f":"'مساله سوم مدل 13'!J498","v":" ششم مخصوص کاربر"},6,null,null,null,null,null,null,null,null,null,null,null,null,null,null,null,null,null,null,null,null,null,null,null,null,null,null,null,null,null,null,null,null,null,null,null,null,null,null,null,null,null,null,null,"نقاط ورودی",null,null,null,"رسم چادر شماره 1 و مقنعه چانه دار",null,null,null,"نقاط ورودی",null,null,null,"رسم مقنعه دراپه",null,null,null,null,null,null,null,null,null,"صاف",null,null,null,"انحنا",null,null,"اسم نقطه ","مولفه افقی","مولفه عمودی",null,{"$f":"DM23","v":0},105.12643599999997,"s6",null,"طراحی چادر شماره 3",null,null,null,{"$f":"DU14","v":0},105.12643599999997,"s'6",null,null,null,null,null,"صاف",null,null,null,"انحنا",null,null,null,null,null,null,null,null,null,{"$f":"EP29","v":0},{"$f":"EQ29","v":109.1},1,null,{"$f":"EP32","v":4.2854730683984821},{"$f":"EQ32","v":-11.254761136175208},6,null,null,null,null,null,null,null,null,null,{"$f":"FJ11+0.45*(FJ15-FJ11)","v":68.894999999999996},{"$f":"FK11+0.25*(FK15-FK11)","v":89.299999999999983},"13'",null,"s3",{"$f":"DB402","v":4.8769200000000001},{"$f":"DC402","v":96.45035},null,13.439834257718964,88.301025362421342,"s''8",null,null,null,null,null,"راس پایین","منهای شیفتa50",{"$f":"ER37","v":52.279449588859698},{"$f":"ES37","v":0},"ضلع پایین",{"$f":"EZ25","v":8},null,{"$f":"#REF!","v":{"$error":"#REF!"}},{"$f":"#REF!","v":{"$error":"#REF!"}},"a40","نقطه مرکزی چرخش","مولفه افقی","مولفه عمودی","اسم نقطه ",null,"متغیر ورودی پهنا","a20",1,"(سانتیمتر)",null,null,{"$f":"GU11+GT11","v":-98},-1.7104226669544429,{"$f":"HB13+HB10*COS(GV12)","v":{"$error":"#REF!"}},{"$f":"HC13-HB10*SIN(GV12)","v":{"$error":"#REF!"}},{"$f":"SQRT(POWER((HB12-GW12),2)+POWER((HC12-GX12),2))","v":{"$error":"#REF!"}},{"$f":"ABS(HB9-GY12)","v":{"$error":"#REF!"}},"پشتk''5",{"$f":"GQ33","v":{"$error":"#REF!"}},{"$f":"GR33","v":{"$error":"#REF!"}},"راس راست",null,null,null,null,null,null,null,null,null,null,{"$f":"-HK12+HP9","v":0},0,null,null,{"$f":"HF29","v":0},{"$f":"HG29","v":0},2,"نقطه دوم خط تقارن","مولفه افقی","مولفه عمودی","اسم نقطه ",null,null,null,null,null,null,null,null,null,null,null,null,null,null,null,null,null,null,null,null,null,null,null,null,null,null,null,null,null,null,null,null,null,null,null,null,null,null,null,null,null,null,null,null,null,null,null,null,null,null,null,null,null,null,null,null,null,null,null,null,null,null,null,null,null,null,null,null,null,null,null,null,null,null,null,null,null,null,null,null,null,null,null,null,null,null,null,null,null,null,null,null,null,null,null,null,null,null,null,null,null,null,null,null,null,null,null,null,null,null,null,null,null,null,null,null,null,null,null,null,null,null,null,null,null,null,null,null,null,null,null,null,null,null,null,null,null,null,null,null,null,null,null,null,null,null,null,null,null,null,null,"a11",3,null,null,"نقطه شروع رج(چپ)","مولفه افقی","مولفه عمودی",null,null,null,null,"e8",-4,null,null,"نقطه شروع رج(چپ)","مولفه افقی","مولفه عمودی",null,null,null,null,"e8",-4,null,null,"نقطه شروع رج(چپ)","مولفه افقی","مولفه عمودی",null,null,null,null,"c16",{"$f":"X15","v":77},"تعداد دانه دور یقه ب ب",null,"نقطه شروع رج(چپ)","مولفه افقی","مولفه عمودی",null,null,null,null,"c16",{"$f":"X15","v":77},"تعداد دانه دور یقه ب ب",null,"نقطه شروع رج(چپ)","مولفه افقی","مولفه عمودی",null,null,null,null,"f10",0.3,"بزرگی فلش دانه",null,"g11",{"$f":"QC16+0.8*(QC14-QC16)","v":-41.006500000000003},{"$f":"QD14+0.6*(QD16-QD14)","v":6.0228571428571431},{"$f":"QC13","v":-41.5},{"$f":"QD13","v":6.4285714285714288},{"$f":"QB13","v":"g2"},null,null,0,"شیفت عمودی پشت",null,{"$f":"QI70","v":16.725532656711231},{"$f":"QJ70","v":50.142500152855277},7,null,null,null,null,null,null,null,null,{"$f":"QQ17","v":-17},{"$f":"QR17","v":52.227797473097809},"k6",null,"d5",{"$f":"AD37","v":70},"تعداد دانه دور یقه انگلیسی",null,"نقطه شروع رج(چپ)","مولفه افقی","مولفه عمودی",null,null,null,null,null,{"$f":"2/RO5","v":0.59280169371912483},"c2"]
["Min_W_Chart",-30,null,null,"گشادی بالای مچ آستین (cm)     b'11",{"$f":"ROUND(DY522-DY523,0)","v":18},null,null,null,null,null,null,null,"a'25",{"$f":"F11-O12","v":7.3273056019656835E-2},null,null,"ضریب پهنای برگرد یقه  (1.5 الی 3)",{"$f":"DH710/DH707","v":3},null,null,null,"c14",{"$f":"0.88*X12","v":42.482828123370318},null,null,null,"d16",{"$f":"J250+((AD36+4)/AD19)*SIN(RADIANS(H234))","v":-0.97450352212306557},{"$f":"K250-((AD36+4)/AD19)*COS(RADIANS(H234))","v":80.501684108169954},null,null,null,30,20,{"$f":"(10/3)*((AM13/AL13)*(1/F6)-1)","v":17.05402650356779},{"$f":"(100/68)*((AO13/AN13)*(1/F7)-1)","v":16.911764705882355},{"$f":"'مساله سوم مدل 13'!K504","v":1},20,{"$f":"'مساله سوم مدل 13'!K503","v":1},30,{"$f":"'مساله سوم مدل 13'!J502","v":" هفتم مخصوص کاربر"},7,null,null,null,null,null,null,null,null,null,null,null,null,null,null,null,null,null,null,null,null,null,null,null,null,null,null,null,null,null,null,null,null,null,null,null,null,null,null,null,null,null,null,null,"مولفه افقی","مولفه عمودی","اسم نقطه",null,"مولفه افقی","مولفه عمودی","اسم نقطه",null,"مولفه افقی","مولفه عمودی","اسم نقطه",null,"مولفه افقی","مولفه عمودی","اسم نقطه",null,null,null,null,null,null,{"$f":"DB37+'طراحی همه الگوها'!U190","v":13.3},{"$f":"DE14","v":0},5,null,{"$f":"DD17","v":13.3},{"$f":"DE17","v":24},11,null,"s2",{"$f":"DB401","v":3.4138440000000001},{"$f":"DC401","v":101.4713375},null,3.9893519936232877,103.44816197486102,"s7",null,"اسم نقطه ","مولفه افقی","مولفه عمودی",null,4.1931706234262212,102.95608452608991,"s'7",null,null,null,null,{"$f":"DB37","v":0},{"$f":"'طراحی همه الگوها'!U210+EC35","v":109.1},1,null,{"$f":"EE32","v":119.8},{"$f":"EF32","v":109.1},11,null,null,null,null,null,null,null,null,null,null,null,null,null,null,null,null,null,null,null,null,0,{"$f":"FC42","v":0},1,null,{"$f":"FJ11+0.75*(FJ15-FJ11)","v":73.424999999999997},{"$f":"FK11+0.5*(FK15-FK11)","v":108.39999999999999},28,null,"s5",{"$f":"DB404","v":0},{"$f":"DC404","v":88.268000000000001},null,23.519709951008181,74.840696852358448,"s''9",null,null,null,null,null,"راس بالا "," منهای شیفتe18",{"$f":"FB27-EW21","v":0},{"$f":"FC27","v":0},"ضلع بالا",{"$f":"EZ26","v":0},null,{"$f":"#REF!-#REF!+#REF!","v":{"$error":"#REF!"}},{"$f":"#REF!","v":{"$error":"#REF!"}},"a48-b16+f22","نقطه قبل از چرخش",{"$f":"IF(GH13>GH12,IF(GG13>GG12,GG12+SQRT(POWER(GG13-GG12,2)+POWER(GH13-GH12,2))*COS(ATAN((GH13-GH12)/(GG13-GG12+0.000123))+GH10),GG12-SQRT(POWER(GG13-GG12,2)+POWER(GH13-GH12,2))*COS(ATAN((GH13-GH12)/(GG12-GG13+0.000123))-GH10)),IF(GG13>GG12,GG12+SQRT(POWER(GG13-GG12,2)+POWER(GH13-GH12,2))*COS(ATAN((GH12-GH13)/(GG13-GG12+0.000123))-GH10),GG12-SQRT(POWER(GG13-GG12,2)+POWER(GH13-GH12,2))*COS(ATAN((GH12-GH13)/(GG12-GG13+0.000123))+GH10)))","v":{"$error":"#REF!"}},{"$f":"IF(GH13>GH12,IF(GG13>GG12,GH12+SQRT(POWER(GG13-GG12,2)+POWER(GH13-GH12,2))*SIN(ATAN((GH13-GH12)/(GG13-GG12+0.000123))+GH10),GH12+SQRT(POWER(GG13-GG12,2)+POWER(GH13-GH12,2))*SIN(ATAN((GH13-GH12)/(GG12-GG13+0.000123))-GH10)),IF(GG13>GG12,GH12-SQRT(POWER(GG13-GG12,2)+POWER(GH13-GH12,2))*SIN(ATAN((GH12-GH13)/(GG13-GG12+0.000123))-GH10),GH12-SQRT(POWER(GG13-GG12,2)+POWER(GH13-GH12,2))*SIN(ATAN((GH12-GH13)/(GG12-GG13+0.000123))+GH10)))","v":{"$error":"#REF!"}},"e52",null,"متغیر ورودی طول","a21",1,null,null,null,{"$f":"GU12+GT11","v":-96},-1.6755160819145565,{"$f":"HB13+HB10*COS(GV13)","v":{"$error":"#REF!"}},{"$f":"HC13-HB10*SIN(GV13)","v":{"$error":"#REF!"}},{"$f":"SQRT(POWER((HB12-GW13),2)+POWER((HC12-GX13),2))","v":{"$error":"#REF!"}},{"$f":"ABS(HB9-GY13)","v":{"$error":"#REF!"}},"42پشت",{"$f":"GQ35","v":1},{"$f":"GR35","v":0},"راس چپ",null,null,null,null,null,null,null,null,null,null,{"$f":"-HK13+HP9","v":0},0,null,null,0,0,3,null,{"$f":"HS13+2*(SIN(ATAN((HS12-HS11)/(HT12-HT11)))*(HT13-HT11)+COS(ATAN((HS12-HS11)/(HT12-HT11)))*(HS11-HS13))*COS(ATAN((HS12-HS11)/(HT12-HT11)))","v":{"$error":"#DIV/0!"}},{"$f":"HT13-2*(SIN(ATAN((HS12-HS11)/(HT12-HT11)))*(HT13-HT11)+COS(ATAN((HS12-HS11)/(HT12-HT11)))*(HS11-HS13))*SIN(ATAN((HS12-HS11)/(HT12-HT11)))","v":{"$error":"#DIV/0!"}},{"$f":"HU13","v":3},null,null,null,null,null,null,null,null,null,null,null,null,null,null,null,null,null,null,null,null,null,null,null,null,null,null,null,null,null,null,null,null,null,null,null,null,null,null,null,null,null,null,null,null,null,null,null,null,null,null,null,null,null,null,null,null,null,null,null,null,null,null,null,null,null,null,null,null,null,null,null,null,null,null,null,null,null,null,null,null,null,null,null,null,null,null,null,null,null,null,null,null,null,null,null,null,null,null,null,null,null,null,null,null,null,null,null,null,null,null,null,null,null,null,null,null,null,null,null,null,null,null,null,null,null,null,null,null,null,null,null,null,null,null,null,null,null,null,null,null,null,null,null,null,null,null,null,null,null,null,null,"a25",1,null,null,"w1",{"$f":"NV31","v":-35},{"$f":"NV32","v":5},{"$f":"NZ20","v":-21.427083333333336},{"$f":"OA20","v":5.25},{"$f":"NY20","v":"h10"},null,"e9",20,null,null,"m1",{"$f":"OG36","v":-35},{"$f":"OG37","v":5},{"$f":"OK20","v":-12.664930555555554},{"$f":"OL20","v":5.25},{"$f":"OJ20","v":"h10"},null,"e9",20,null,null,"m1",{"$f":"OR36","v":-35},{"$f":"OR37","v":5},{"$f":"OV20","v":-15.763888888888886},{"$f":"OW20","v":5.25},{"$f":"OU20","v":"h10"},null,"c17",{"$f":"X16","v":74},"تعداد دانه دور یقه لباس",null,"n1",{"$f":"PB60","v":-35},{"$f":"PC60","v":5},{"$f":"PG20","v":-18.862847222222221},{"$f":"PH20","v":5.25},{"$f":"PF20","v":"h10"},null,"c17",{"$f":"X16","v":74},"تعداد دانه دور یقه لباس",null,"n1",{"$f":"PM60","v":-35},{"$f":"PN60","v":5},{"$f":"PR20","v":-16.383680555555554},{"$f":"PS20","v":5.25},{"$f":"PQ20","v":"h10"},null,"f11",0.75,"زاویه فلش دانه",null,"g2",{"$f":"QC11","v":-41.5},{"$f":"QD11+QC8","v":6.4285714285714288},null,null,null,null,null,0,"شیفت افقی تکه جلو",null,{"$f":"IF(QJ65>QJ70,QI65,QI70)","v":16.725532656711231},{"$f":"IF(QJ65>QJ70,QJ65,QJ70)","v":50.142500152855277},"9 یا 7",null,null,null,null,null,null,null,null,{"$f":"QQ25","v":-16.464101615137753},{"$f":"QR25","v":50.227797473097809},"k14",null,"d13",{"$f":"AD44","v":72},"تعداد دانه دور یقه لباس",null,"p1",{"$f":"RB60","v":-35},{"$f":"RC60","v":5},{"$f":"RG20","v":-22.612500000000001},{"$f":"RH20","v":5.25},{"$f":"RF20","v":"h10"},null,null,{"$f":"2/RR6","v":0.81018518518518523},"c7",null,null,"محاسبات توری در صفحه چاپ"]
["print_baft_grid",null,null,null,"تعداد دانه ها  در بالای مچ آستین      b'12",{"$f":"ROUND(I37*F13,0)","v":42},null,"محاسبه برای بافت بالاتنه ( بافت انتخابی) ",null,null,null,null,null,"یقه شکاری",null,null,null,"یقه شومیزیه تا خط جادکمه",null,null,null,null,"c15",{"$f":"ROUND(X20*X13,0)","v":108},null,null,null,"d17",{"$f":"J236+2*F12","v":0},{"$f":"K236","v":74.974999999999994},null,null,null,30,20,{"$f":"(10/3)*((AM14/AL14)*(1/F6)-1)","v":17.05402650356779},{"$f":"(100/68)*((AO14/AN14)*(1/F7)-1)","v":16.911764705882355},{"$f":"'مساله سوم مدل 13'!K508","v":1},20,{"$f":"'مساله سوم مدل 13'!K507","v":1},30,{"$f":"'مساله سوم مدل 13'!J506","v":" هشتم مخصوص کاربر"},8,null,null,null,null,null,null,null,null,null,null,null,null,null,null,null,null,null,null,null,null,null,null,null,null,null,null,null,null,null,null,null,null,null,null,null,null,null,null,null,null,null,null,null,{"$f":"DB406","v":0},{"$f":"DC406","v":104.81199999999998},"شبیه ساز s15",null,{"$f":"CI39","v":59.3},{"$f":"CJ39","v":109.1},"j5",null,{"$f":"DB404","v":0},{"$f":"DC404","v":88.268000000000001},"شبیه ساز s5",null,{"$f":"CQ27","v":0},{"$f":"CR27","v":50.004499999999993},"d6",null,null,null,null,null,null,{"$f":"DB37","v":0},{"$f":"CR36","v":0},2,null,{"$f":"'طراحی همه الگوها'!U190+'طراحی همه الگوها'!U199","v":25.8},{"$f":"DE14+'طراحی همه الگوها'!U201","v":25.8},17,null,"s3",{"$f":"DB402","v":4.8769200000000001},{"$f":"DC402","v":96.45035},null,13.297839978744292,91.140819123842135,"s8",null,"s'6",{"$f":"DM16","v":0},{"$f":"1.003*DN16","v":105.12643599999997},null,13.97723541142074,87.763624208719563,"s'8",null,null,null,null,{"$f":"DB37","v":0},{"$f":"EF13-'طراحی همه الگوها'!U212","v":56.999999999999993},4,null,{"$f":"EI15+0.7*(EI13-EI15)","v":119.5},{"$f":"EJ15+0.4*(EJ13-EJ15)","v":109.39999999999999},"13'",null,null,null,null,null,null,null,null,{"$f":"EP31","v":5.7},{"$f":"EQ31","v":0},5,null,{"$f":"EP32","v":4.2854730683984821},{"$f":"EQ32","v":-11.254761136175208},6,null,null,null,null,null,{"$f":"FF13+'طراحی همه الگوها'!U249","v":55.8},{"$f":"FG13","v":0},2,null,{"$f":"FJ11+0.95*(FJ15-FJ11)","v":76.445000000000007},{"$f":"FK11+0.8*(FK15-FK11)","v":131.32},"13'''",null,"s'6",{"$f":"DU14","v":0},{"$f":"DV14","v":105.12643599999997},null,33.599585644297406,63.062909406053407,"s''10",null,null,null,null,null,"c19",{"$f":"ATAN((GB13-GB12)/(GC13-GC12))","v":{"$error":"#DIV/0!"}},null,"محاسبات",null,null,null,null,null,null,null,null,null,null,null,null,null,"ماکزیمم متغیر ورودی  ضریب طول",20,null,null,{"$f":"GU13+GT11","v":-94},-1.6406094968746698,{"$f":"HB13+HB10*COS(GV14)","v":{"$error":"#REF!"}},{"$f":"HC13-HB10*SIN(GV14)","v":{"$error":"#REF!"}},{"$f":"SQRT(POWER((HB12-GW14),2)+POWER((HC12-GX14),2))","v":{"$error":"#REF!"}},{"$f":"ABS(HB9-GY14)","v":{"$error":"#REF!"}},"k6",{"$f":"HB13+HB10*COS(RADIANS(GT24))","v":{"$error":"#REF!"}},{"$f":"HC13-HB10*SIN(RADIANS(GT24))","v":{"$error":"#REF!"}},"راس سوم",null,null,null,null,null,null,null,null,null,null,{"$f":"-HK14+HP9","v":0},0,null,null,0,0,4,null,{"$f":"HS14+2*(SIN(ATAN((HS12-HS11)/(HT12-HT11)))*(HT14-HT11)+COS(ATAN((HS12-HS11)/(HT12-HT11)))*(HS11-HS14))*COS(ATAN((HS12-HS11)/(HT12-HT11)))","v":{"$error":"#DIV/0!"}},{"$f":"HT14-2*(SIN(ATAN((HS12-HS11)/(HT12-HT11)))*(HT14-HT11)+COS(ATAN((HS12-HS11)/(HT12-HT11)))*(HS11-HS14))*SIN(ATAN((HS12-HS11)/(HT12-HT11)))","v":{"$error":"#DIV/0!"}},4,null,null,null,null,null,null,null,null,null,null,null,null,null,null,null,null,null,null,null,null,null,null,null,null,null,null,null,null,null,null,null,null,null,null,null,null,null,null,null,null,null,null,null,null,null,null,null,null,null,null,null,null,null,null,null,null,null,null,null,null,null,null,null,null,null,null,null,null,null,null,null,null,null,null,null,null,null,null,null,null,null,null,null,null,null,null,null,null,null,null,null,null,null,null,null,null,null,null,null,null,null,null,null,null,null,null,null,null,null,null,null,null,null,null,null,null,null,null,null,null,null,null,null,null,null,null,null,null,null,null,null,null,null,null,null,null,null,null,null,null,null,null,null,null,null,null,null,null,null,null,null,"خطا"," ",null,null,"نقطه پایان رج(راست)","مولفه افقی","مولفه عمودی",{"$f":"NZ23","v":-16.927083333333336},{"$f":"OA23","v":5.25},{"$f":"NY23","v":"h13"},null,"e10",48,null,null,"نقطه پایان رج(راست)","مولفه افقی","مولفه عمودی",{"$f":"OK23","v":-8.1649305555555536},{"$f":"OL23","v":5.25},{"$f":"OJ23","v":"h13"},null,"e10",48,null,null,"نقطه پایان رج(راست)","مولفه افقی","مولفه عمودی",{"$f":"OV23","v":-11.263888888888886},{"$f":"OW23","v":5.25},{"$f":"OU23","v":"h13"},null,"b''1",{"$f":"G46","v":74},null,null,"نقطه پایان رج(راست)","مولفه افقی","مولفه عمودی",{"$f":"PG23","v":-14.362847222222221},{"$f":"PH23","v":5.25},{"$f":"PF23","v":"h13"},null,"b''1",{"$f":"G46","v":74},null,null,"نقطه پایان رج(راست)","مولفه افقی","مولفه عمودی",{"$f":"PR23","v":-11.883680555555554},{"$f":"PS23","v":5.25},{"$f":"PQ23","v":"h13"},null,"g3",{"$f":"PY7","v":1.4285714285714286},"ارتفاع نیم دایره",null,"g4",{"$f":"QC11+QC9*QC7/40","v":-40.975000000000001},{"$f":"QD11+0.5*QC8","v":5.7142857142857144},{"$f":"QC18","v":-41.256622955421101},{"$f":"QD18","v":5.7107057257989862},{"$f":"QB18","v":"g8"},null,null,0,"شیفت افقی تکه پشت",null,{"$f":"QI66","v":15.776499999999999},{"$f":"QJ66","v":70.065165014267322},12,null,null,"نقاط خروجی ",null,null,null,null,null,{"$f":"QQ23","v":-15},{"$f":"QR23","v":48.763695857960052},"k12",null,"d9",{"$f":"AD41","v":2},null,null,"نقطه پایان رج(راست)","مولفه افقی","مولفه عمودی",{"$f":"RG23","v":-16.762499999999999},{"$f":"RH23","v":5.25},{"$f":"RF23","v":"h13"},null,null,{"$f":"2/RR5","v":0.57798165137614688},"c8",null,"Max_H_Chart",{"$f":"B10","v":35.980000000000004}]
[null,null,null,null,"تعداد دانه های اضافه شده زیر بغل   b8",{"$f":"ROUNDUP(I23*(AX119+AX114+BI116),0)","v":9},null,"تعداد رج در یک سانت جادکمه",{"$f":"F6+0.3*I17*F6","v":3.1142857142857143},null,null,null,null,"بافت انتخابی یقه شکاری",null,null,null,"جمع شوندگی عمودی  e9  ",{"$f":"OFFSET(AJ6,S20,0)","v":1.1640211640211644},null,null,null,"c16",{"$f":"ROUND(X20*X11,0)","v":77},null,null,null,null,"d5-2*d8",{"$f":"AD37-2*AD40","v":42},null,null,null,30,20,{"$f":"(10/3)*((AM15/AL15)*(1/F6)-1)","v":17.05402650356779},{"$f":"(100/68)*((AO15/AN15)*(1/F7)-1)","v":16.911764705882355},{"$f":"'مساله سوم مدل 13'!K512","v":1},20,{"$f":"'مساله سوم مدل 13'!K511","v":1},30,{"$f":"'مساله سوم مدل 13'!J510","v":" نهم مخصوص کاربر"},9,null,null,null,null,null,null,null,null,null,null,null,null,null,null,null,null,null,null,null,null,null,null,null,null,null,null,null,null,null,null,null,null,null,null,null,null,null,null,null,null,null,null,null,null,{"$f":"'متغیرها '!C52","v":0},"شیفت عمودی",null,{"$f":"CI36","v":0},{"$f":"CJ36","v":109.1},"j1",null,{"$f":"CI37","v":0},{"$f":"CJ37","v":60.499999999999993},"j2",null,{"$f":"CQ25","v":0},{"$f":"CR25","v":118.50949999999999},"d3",null,null,null,null,null,null,{"$f":"DB37","v":0},{"$f":"'طراحی همه الگوها'!U188+CR36","v":116.2},1,null,{"$f":"DD21","v":38.200000000000003},{"$f":"DE21","v":29.2},10,null,"خط سینه",{"$f":"DT400","v":0},{"$f":"DU400","v":71.8},null,23.271219962802512,82.749448998147443,"s9",null,"s'7",{"$f":"DU14+0.12*(DU18-DU14)","v":4.1931706234262212},{"$f":"DV18+0.95*(DV14-DV18)","v":102.95608452608991},null,24.460161969986292,74.741515365259275,"s'9",null,null,null,null,{"$f":"DB37","v":0},{"$f":"EC35","v":0},2,null,{"$f":"EE31-'طراحی همه الگوها'!U220","v":118.8},{"$f":"EF31","v":109.6},13,null,null,null,null,null,null,null,null,{"$f":"EP29","v":0},{"$f":"EQ31","v":0},4,null,{"$f":"EX14+0.3*(EX17-EX14)","v":16.982325149204073},{"$f":"EY14+0.05*(EY17-EY14)","v":-10.434387123367211},"6''",null,null,null,null,null,{"$f":"FF13+'طراحی همه الگوها'!U249","v":55.8},{"$f":"FG13+'طراحی همه الگوها'!U251","v":60.4},4,null,{"$f":"FF34","v":77.2},{"$f":"FG34","v":146.6},15,null,"s''7",{"$f":"FO14+0.15*(FO18-FO14)","v":5.0399378466446105},{"$f":"FP18+0.95*(FP14-FP18)","v":103.02325967030265},null,38.973597181315171,57.68889786903565,"k4 شبیه ساز",null,null,null,null,null,null," درجه α","x","y","c21","c'17",null,"پروسیجر چرخش چند نقطه حول نقطه دیگر",null,null,null,null,null,"کامل شده",null,"m1",{"$f":"ATAN(IF(GQ11>GQ10,1,-1)*(GQ11-GQ10)/(GR10-GR11))","v":{"$error":"#DIV/0!"}},"m2",{"$f":"SQRT(POWER(GQ10-GQ11,2)+POWER(GR10-GR11,2))","v":0},null,null,{"$f":"GU14+GT11","v":-92},-1.6057029118347832,{"$f":"HB13+HB10*COS(GV15)","v":{"$error":"#REF!"}},{"$f":"HC13-HB10*SIN(GV15)","v":{"$error":"#REF!"}},{"$f":"SQRT(POWER((HB12-GW15),2)+POWER((HC12-GX15),2))","v":{"$error":"#REF!"}},{"$f":"ABS(HB9-GY15)","v":{"$error":"#REF!"}},"رسم مثلث",null,null,null,null,null,null,null,null,null,null,null,null,null,{"$f":"-HK15+HP9","v":0},0,null,null,{"$f":"HF30","v":0},{"$f":"HG30","v":0},5,null,{"$f":"HS15+2*(SIN(ATAN((HS12-HS11)/(HT12-HT11)))*(HT15-HT11)+COS(ATAN((HS12-HS11)/(HT12-HT11)))*(HS11-HS15))*COS(ATAN((HS12-HS11)/(HT12-HT11)))","v":{"$error":"#DIV/0!"}},{"$f":"HT15-2*(SIN(ATAN((HS12-HS11)/(HT12-HT11)))*(HT15-HT11)+COS(ATAN((HS12-HS11)/(HT12-HT11)))*(HS11-HS15))*SIN(ATAN((HS12-HS11)/(HT12-HT11)))","v":{"$error":"#DIV/0!"}},5,null,null,null,null,null,null,null,null,null,null,null,null,null,null,null,null,null,null,null,null,null,null,null,null,null,null,null,null,null,null,null,null,null,null,null,null,null,null,null,null,null,null,null,null,null,null,null,null,null,null,null,null,null,null,null,null,null,null,null,null,null,null,null,null,null,null,null,null,null,null,null,null,null,null,null,null,null,null,null,null,null,null,null,null,null,null,null,null,null,null,null,null,null,null,null,null,null,null,null,null,null,null,null,null,null,null,null,null,null,null,null,null,null,null,null,null,null,null,null,null,null,null,null,null,null,null,null,null,null,null,null,null,null,null,null,null,null,null,null,null,null,null,null,null,null,null,null,null,null,null,null,"b''1-2*a25",{"$f":"NV17-2*NV13","v":72},null,null,"w2",{"$f":"NU51","v":-3.3541666666666679},{"$f":"NV51","v":5},null,null,null,null,"e11",46,null,null,"m2",{"$f":"OF61","v":14.170138888888893},{"$f":"OG61","v":5},null,null,null,null,"e11",46,null,null,"m2",{"$f":"OQ61","v":7.9722222222222285},{"$f":"OR61","v":5},null,null,null,null,"b2",{"$f":"ROUND(F12*I16,0)","v":0},"دانه ها جادکمه",null,"n2",{"$f":"PB61","v":1.7743055555555571},{"$f":"PC61","v":5},null,null,null,null,"b2",{"$f":"ROUND(F12*I16,0)","v":0},"دانه ها جادکمه",null,"n2",{"$f":"PM61","v":6.7326388888888928},{"$f":"PN61","v":5},null,null,null,null,"n0",{"$f":"PX19*40/PY17","v":1.9047619047619047},"ضریب کاهش تعداد دانه ها",null,"g5",{"$f":"QC11+0.7*(QC14-QC11)","v":-41.1325},{"$f":"QD11+0.28*(QD14-QD11)","v":5.2},{"$f":"QC12","v":-41.006500000000003},{"$f":"QD12","v":6.0228571428571431},{"$f":"QB12","v":"g11"},null,null,0,"شیفت عمودی تکه پشت",null,null,null,null,null,{"$f":"QQ9+QR5-15","v":-13},{"$f":"QR9+QR6-30","v":52.227797473097809},"k1",null,null,null,null,{"$f":"QQ29","v":-15.299999999999999},{"$f":"QR29","v":48.244080615689391},"k19",null,"d10",{"$f":"AD42","v":8},null,null,"p2",{"$f":"RB61","v":-4.3750000000000036},{"$f":"RC61","v":5},null,null,null,null,null,{"$f":"2/RU6","v":0.81018518518518523},"c9",null,"Max_W_Chart",{"$f":"B11","v":14.414999999999999}]
[null,null,null,null,"تعداد دانه های سرتاسر آستین در قسمت زیر بغل   b20",{"$f":"ROUNDUP(F15+I22*F29*COS(0.4*(F9+F10))+G44+0.5*F27,0)","v":73},null,"تعداد دانه در یک سانت جادکمه ",{"$f":"F7+0.68*I18*F7","v":2.16},null,null,null,null," aa0 تعداد رج در یک سانت",{"$f":"F6+0.3*O19*F6","v":3.1142857142857143},null,null,"جمع شوندگی افقی e8",{"$f":"OFFSET(AJ6,S20,1)","v":8.6505190311418706E-2},null,null,null,"c17",{"$f":"G46-G42","v":74},null,null,null,null,"d13-2*d8",{"$f":"AD44-2*AD40","v":44},null,null,null,30,20,{"$f":"(10/3)*((AM16/AL16)*(1/F6)-1)","v":17.05402650356779},{"$f":"(100/68)*((AO16/AN16)*(1/F7)-1)","v":16.911764705882355},{"$f":"'مساله سوم مدل 13'!K516","v":1},20,{"$f":"'مساله سوم مدل 13'!K515","v":1},30,{"$f":"'مساله سوم مدل 13'!J514","v":" دهم مخصوص کاربر"},10,null,"اسم نمونه بافت","میزان جمع شوندگی افقی کاربر","میزان جمع شوندگی عمودی کاربر",null,null,null,null,null,null,null,null,null,null,null,null,null,null,null,null,null,null,null,null,null,null,null,null,null,null,null,null,null,null,null,null,null,null,null,null,null,null,null,"دور سر",{"$f":"'متغیرها '!U85","v":51},"w12",null,null,null,null,null,null,{"$f":"CJ22","v":104},"تمام قد",null,null,null,null,null,null,null,null,null,null,{"$f":"DB37+'طراحی همه الگوها'!U190","v":13.3},{"$f":"DE15","v":116.2},4,null,{"$f":"'طراحی همه الگوها'!U190+'طراحی همه الگوها'!U192+'طراحی همه الگوها'!U202","v":45.300000000000004},{"$f":"DE14+'طراحی همه الگوها'!U204","v":28.2},20,null,"s15",{"$f":"DB406","v":0},{"$f":"DC406","v":104.81199999999998},null,33.244599946860731,77.155202247684315,"s10",null,"s'8",{"$f":"DU14+0.4*(DU18-DU14)","v":13.97723541142074},{"$f":"DV18+0.6*(DV14-DV18)","v":87.763624208719563},null,34.943088528551847,61.719406521798973,"s'10",null,null,null,null,{"$f":"DB37+'طراحی همه الگوها'!U216","v":110},{"$f":"EF15","v":0},8,null,null,null,null,null,null,null,null,null,null,null,null,{"$f":"EP29","v":0},{"$f":"EQ30","v":-10.700000000000003},2,null,{"$f":"EX14+0.7*(EX17-EX14)","v":33.911461256944854},{"$f":"EY14+0.4*(EY17-EY14)","v":-4.6917690337112239},"6'''",null,null,null,null,null,{"$f":"FF13+'طراحی همه الگوها'!U249-'طراحی همه الگوها'!U255","v":50.4},{"$f":"FG15","v":60.4},8,null,null,null,null,null,"s''8",{"$f":"FO14+0.4*(FO18-FO14)","v":13.439834257718964},{"$f":"FP18+0.6*(FP14-FP18)","v":88.301025362421342},null,null,null,null,null,null,null,null,null,null,2,{"$f":"GB12+GE12*SIN(RADIANS(GA16)+GA14)","v":{"$error":"#DIV/0!"}},{"$f":"GC12+GE12*COS(RADIANS(GA16)+GA14)","v":{"$error":"#DIV/0!"}},{"$f":"IF(GB13>GB16,ATAN((GC13-GC16)/(GB13-GB16)),ATAN((GC13-GC16)/(GB16-GB13)))","v":{"$error":"#DIV/0!"}},{"$f":"IF(GB13>GB16,(GB13-GB16)/COS(GD16),(GB16-GB13)/COS(GD16))","v":{"$error":"#DIV/0!"}},null,"رادیان",1,"زاویه چرخش","چرخش مخالف عقربه های ساعت",null,null,null,null,"نقطه خروجی بالا","b28",{"$f":"GQ10+IF(GQ11>GQ10,1,-1)*GQ12*COS(GP15)","v":{"$error":"#DIV/0!"}},{"$f":"GR10+GQ12*SIN(GP15)","v":{"$error":"#DIV/0!"}},null,null,{"$f":"GU15+GT11","v":-90},-1.5707963267948966,{"$f":"HB13+HB10*COS(GV16)","v":{"$error":"#REF!"}},{"$f":"HC13-HB10*SIN(GV16)","v":{"$error":"#REF!"}},{"$f":"SQRT(POWER((HB12-GW16),2)+POWER((HC12-GX16),2))","v":{"$error":"#REF!"}},{"$f":"ABS(HB9-GY16)","v":{"$error":"#REF!"}},{"$f":"HA12","v":"پشتk''5"},{"$error":"#REF!"},{"$error":"#REF!"},null,null,null,null,null,null,null,null,null,null,null,{"$f":"-HK16+HP9","v":0},0,null,null,0,0,6,null,{"$f":"HS16+2*(SIN(ATAN((HS12-HS11)/(HT12-HT11)))*(HT16-HT11)+COS(ATAN((HS12-HS11)/(HT12-HT11)))*(HS11-HS16))*COS(ATAN((HS12-HS11)/(HT12-HT11)))","v":{"$error":"#DIV/0!"}},{"$f":"HT16-2*(SIN(ATAN((HS12-HS11)/(HT12-HT11)))*(HT16-HT11)+COS(ATAN((HS12-HS11)/(HT12-HT11)))*(HS11-HS16))*SIN(ATAN((HS12-HS11)/(HT12-HT11)))","v":{"$error":"#DIV/0!"}},6,null,null,null,null,null,null,null,null,null,null,null,null,null,null,null,null,null,null,null,null,null,null,null,null,null,null,null,null,null,null,null,null,null,null,null,null,null,null,null,null,null,null,null,null,null,null,null,null,null,null,null,null,null,null,null,null,null,null,null,null,null,null,null,null,null,null,null,null,null,null,null,null,null,null,null,null,null,null,null,null,null,null,null,null,null,null,null,null,null,null,null,null,null,null,null,null,null,null,null,null,null,null,null,null,null,null,null,null,null,null,null,null,null,null,null,null,null,null,null,null,null,null,null,null,null,null,null,null,null,null,null,null,null,null,null,null,null,null,null,null,null,null,null,null,null,null,null,null,null,null,null,"b2",{"$f":"F25","v":0},null,null,"نقاط خروجی","مولفه افقی","مولفه عمودی",{"$f":"NZ21","v":-21.427083333333336},{"$f":"OA21","v":4.75},{"$f":"NY21","v":"h11"},null,"خطا"," ",null,null,"نقاط خروجی","مولفه افقی","مولفه عمودی",{"$f":"OK21","v":-12.664930555555554},{"$f":"OL21","v":4.75},{"$f":"OJ21","v":"h11"},null,"خطا"," ",null,null,"نقاط خروجی","مولفه افقی","مولفه عمودی",{"$f":"OV21","v":-15.763888888888886},{"$f":"OW21","v":4.75},{"$f":"OU21","v":"h11"},null,{"$f":"X19","v":4.4119047619047622}," ca0 تعداد رج در یک سانت",null,null,"نقاط خروجی","مولفه افقی","مولفه عمودی",{"$f":"PG21","v":-18.862847222222221},{"$f":"PH21","v":4.75},{"$f":"PF21","v":"h11"},null,{"$f":"X19","v":4.4119047619047622}," ca0 تعداد رج در یک سانت",null,null,"نقاط خروجی","مولفه افقی","مولفه عمودی",{"$f":"PR21","v":-16.383680555555554},{"$f":"PS21","v":4.75},{"$f":"PQ21","v":"h11"},null,"f4",{"$f":"PY9*PY7","v":0.57142857142857151},"بزرگی فلش رج",null,"g6",{"$f":"QC15","v":-41.1325},{"$f":"QD13-QD15+QD11","v":6.2285714285714286},null,null,null,null,null,"جلو",null,null,{"$f":"QI66","v":15.776499999999999},{"$f":"QJ66","v":70.065165014267322},12,null,{"$f":"QQ15+QR7","v":-9},{"$f":"QR15","v":52.227797473097809},"k5",null,null,null,null,{"$f":"QQ31","v":-16.983716857408417},{"$f":"QR31","v":49.927797473097812},"k21",null,"d12",{"$f":"AD43","v":6},null,null,"نقاط خروجی","مولفه افقی","مولفه عمودی",{"$f":"RG21","v":-22.612500000000001},{"$f":"RH21","v":4.75},{"$f":"RF21","v":"h11"},null,null,{"$f":"2/RU5","v":0.57798165137614688},"c10",null,"Min_H_Chart",{"$f":"B12","v":20}]
[null,null,null,null,"تعداد دانه های اضافه شده در کنار آستین در هر طرف b21",{"$f":"0.5*(F16-F14)","v":15.5},null,"جمع شوندگی عمودی بافت جادکمه",{"$f":"OFFSET(AJ6,I19,0)","v":-0.15873015873015892},null,null,null,null,"تعداد دانه در یک سانت ab0 ",{"$f":"F7+0.68*O20*F7","v":4.1142857142857148},null,null," ea0 تعداد رج در یک سانت",{"$f":"F6+0.3*S15*F6","v":4.4119047619047622},null,null,null,"جمع شوندگی عمودی  e9  ",{"$f":"OFFSET(AJ6,X21,0)","v":1.1640211640211644},null,null,null,null,"جمع شوندگی عمودی    ",{"$f":"OFFSET(AJ6,AD21,0)","v":-0.15873015873015892},null,null,null,{"$f":"AO17/AN17","v":1.9459459459459461},{"$f":"AM17/AL17","v":2.8888888888888888},{"$f":"(10/3)*((AM17/AL17)*(1/J6)-1)","v":0.10582010582010619},{"$f":"(100/68)*((AO17/AN17)*(1/J7)-1)","v":-3.9745627980922023E-2},13.5,39,18.5,36,"ساده ",11,null,{"$f":"IF(AM17=0,\"  \",AP17)","v":"ساده "},{"$f":"IF(AN17=0,\"  \",ROUND(AK17*100+20,0))","v":16},{"$f":"IF(AM17=0,\"  \",ROUND(AJ17*50+30,0))","v":35},null,null,null,null,null,null,null,null,null,null,null,null,null,null,null,null,null,null,null,null,null,null,null,null,null,null,null,null,null,null,null,null,null,null,null,null,null,null,null,null,{"$f":"'متغیرها '!U76","v":54},"t3",null,{"$f":"CI36","v":0},{"$f":"CJ36","v":109.1},"j1",null,null,{"$f":"'متغیرها '!C52","v":0},"شیفت عمودی",null,{"$f":"CQ25","v":0},{"$f":"CR25","v":118.50949999999999},"d3",null,null,null,null,null,null,{"$f":"DB37+'طراحی همه الگوها'!U190","v":13.3},{"$f":"DE14+'طراحی همه الگوها'!U195","v":24},11,null,{"$f":"DD25","v":52.3},{"$f":"DE25","v":23.994000000000003},7,null,"زاویه متوسط سرشانه",{"$f":"'متغیرها '!B245","v":0.33685946794520588},"α2",null,null,null,null,null,"s'9",{"$f":"DU14+0.7*(DU18-DU14)","v":24.460161969986292},{"$f":"DV18+0.3*(DV14-DV18)","v":74.741515365259275},null,null,null,null,null,null,null,null,{"$f":"EE16","v":110},{"$f":"EF16+'طراحی همه الگوها'!U221","v":1},14,null,{"$f":"EE15","v":0},{"$f":"EF15","v":0},2,null,null,null,null,null,null,null,null,{"$f":"EP30","v":-6.3},{"$f":"EQ30","v":-10.700000000000003},3,null,{"$f":"EP34","v":46.608313337750445},{"$f":"EQ34","v":5.1527191199847522},8,null,null,null,null,null,{"$f":"FF13","v":0},{"$f":"FG15","v":60.4},3,null,{"$f":"FF32","v":0},{"$f":"FG32","v":78.699999999999989},18,null,"s''9",{"$f":"FO14+0.7*(FO18-FO14)","v":23.519709951008181},{"$f":"FP18+0.28*(FP14-FP18)","v":74.840696852358448},null,{"$f":"FO19","v":38.973597181315171},57.68889786903565,"k4 شبیه ساز",null,null,null,null,null,null,4,{"$f":"GB12+GE12*SIN(RADIANS(GA17)+GA14)","v":{"$error":"#DIV/0!"}},{"$f":"GC12+GE12*COS(RADIANS(GA17)+GA14)","v":{"$error":"#DIV/0!"}},{"$f":"IF(GB13>GB17,ATAN((GC13-GC17)/(GB13-GB17)),ATAN((GC13-GC17)/(GB17-GB13)))","v":{"$error":"#DIV/0!"}},{"$f":"IF(GB13>GB17,(GB13-GB17)/COS(GD17),(GB17-GB13)/COS(GD17))","v":{"$error":"#DIV/0!"}},null,"مولفه افقی","مولفه عمودی","اسم نقطه ",null,"نقطه  خروجی چرخیده",null,null,null,"نقطه خروجی پایین","b27",{"$f":"GQ18+IF(GQ11>GQ10,1,-1)*GQ12*COS(GP15)","v":{"$error":"#DIV/0!"}},{"$f":"GR18+GQ12*SIN(GP15)","v":{"$error":"#DIV/0!"}},null,null,{"$f":"GU16+GT11","v":-88},-1.5358897417550099,{"$f":"HB13+HB10*COS(GV17)","v":{"$error":"#REF!"}},{"$f":"HC13-HB10*SIN(GV17)","v":{"$error":"#REF!"}},{"$f":"SQRT(POWER((HB12-GW17),2)+POWER((HC12-GX17),2))","v":{"$error":"#REF!"}},{"$f":"ABS(HB9-GY17)","v":{"$error":"#REF!"}},"42پشت",1,0,null,null,null,null,null,null,null,null,null,null,null,{"$f":"-HK17+HP9","v":0},0,null,null,0,0,7,null,{"$f":"HS17+2*(SIN(ATAN((HS12-HS11)/(HT12-HT11)))*(HT17-HT11)+COS(ATAN((HS12-HS11)/(HT12-HT11)))*(HS11-HS17))*COS(ATAN((HS12-HS11)/(HT12-HT11)))","v":{"$error":"#DIV/0!"}},{"$f":"HT17-2*(SIN(ATAN((HS12-HS11)/(HT12-HT11)))*(HT17-HT11)+COS(ATAN((HS12-HS11)/(HT12-HT11)))*(HS11-HS17))*SIN(ATAN((HS12-HS11)/(HT12-HT11)))","v":{"$error":"#DIV/0!"}},7,null,null,null,null,null,null,null,null,null,null,null,null,null,null,null,null,null,null,null,null,null,null,null,null,null,null,null,null,null,null,null,null,null,null,null,null,null,null,null,null,null,null,null,null,null,null,null,null,null,null,null,null,null,null,null,null,null,null,null,null,null,null,null,null,null,null,null,null,null,null,null,null,null,null,null,null,null,null,null,null,null,null,null,null,null,null,null,null,null,null,null,null,null,null,null,null,null,null,null,null,null,null,null,null,null,null,null,null,null,null,null,null,null,null,null,null,null,null,null,null,null,null,null,null,null,null,null,null,null,null,null,null,null,null,null,null,null,null,null,null,null,null,null,null,null,null,null,null,null,null,null,"b''1",{"$f":"G46","v":74},null,null,"h5",{"$f":"NZ13+0.5*(NZ15-NZ13)","v":-19.177083333333336},{"$f":"OA13","v":5},{"$f":"NZ22","v":-16.927083333333336},{"$f":"OA22","v":4.75},{"$f":"NY22","v":"h12"},null,"e12-4*eb0*b'2",{"$f":"ROUND(S19-4*S18*F12,0)","v":77},null,null,"h5",{"$f":"OK13+0.5*(OK15-OK13)","v":-10.414930555555554},{"$f":"OL13","v":5},{"$f":"OK22","v":-8.1649305555555536},{"$f":"OL22","v":4.75},{"$f":"OJ22","v":"h12"},null,"e12-4*eb0*b'2",{"$f":"OG17","v":77},null,null,"h5",{"$f":"OV13+0.5*(OV15-OV13)","v":-13.513888888888886},{"$f":"OW13","v":5},{"$f":"OV22","v":-11.263888888888886},{"$f":"OW22","v":4.75},{"$f":"OU22","v":"h12"},null,{"$f":"X20","v":2.5411764705882351},"تعداد دانه در یک سانت cb0 ",null,null,"h5",{"$f":"PG13+0.5*(PG15-PG13)","v":-16.612847222222221},{"$f":"PH13","v":5},{"$f":"PG22","v":-14.362847222222221},{"$f":"PH22","v":4.75},{"$f":"PF22","v":"h12"},null,{"$f":"X20","v":2.5411764705882351},"تعداد دانه در یک سانت cb0 ",null,null,"h5",{"$f":"PR13+0.5*(PR15-PR13)","v":-14.133680555555554},{"$f":"PS13","v":5},{"$f":"PR22","v":-11.883680555555554},{"$f":"PS22","v":4.75},{"$f":"PQ22","v":"h12"},null,"w'12",42,"نسبت نقشه بافت به سایز واقعی",null,"g7",{"$f":"QC12+0.7*QD9*SIN(RADIANS(30)+2*ATAN((QC12-QC15)/(QD12-QD15+0.0001)))","v":-40.712016253334198},{"$f":"QD12-0.7*QD9*COS(RADIANS(30)+2*ATAN((QC12-QC15)/(QD12-QD15+0.0001)))","v":5.7521556043508548},{"$f":"QC12","v":-41.006500000000003},{"$f":"QD12","v":6.0228571428571431},{"$f":"QB12","v":"g11"},null,null,null,"یقه گرد جلو",null,{"$f":"QI75","v":38.368598467294198},{"$f":"QJ75","v":53.424278931886874},"k''5",null,{"$f":"QQ15-QR7","v":-17},{"$f":"QR15","v":52.227797473097809},"k6",null,null,null,null,{"$f":"QQ33","v":-17.600000000000001},{"$f":"QR33","v":52.227797473097809},"k23",null,"خطا",{"$f":"AD47","v":" "},null,null,"h5",{"$f":"RG13+0.5*(RG15-RG13)","v":-19.6875},{"$f":"RH13","v":5},{"$f":"RG22","v":-16.762499999999999},{"$f":"RH22","v":4.75},{"$f":"RF22","v":"h12"},null,null,{"$f":"2/RX6","v":0.8564814814814814},"c11",null,"Min_W_Chart",{"$f":"B13","v":-30}]
[null,null,null,null,"طول اضافه شده در کنار آستین در هر طرف b'21",{"$f":"F17/I23","v":6.278935185185186},null,"جمع شوندگی افقی بافت جادکمه",{"$f":"OFFSET(AJ6,I19,1)","v":-0.14705882352941174},null,null,null,null,"متغیر ورودی بافت یقه شکاری ",null,null,null,"تعداد دانه در یک سانت eb0 ",{"$f":"F7+0.68*S16*F7","v":2.5411764705882351},null,null,null,"جمع شوندگی افقی e8",{"$f":"OFFSET(AJ6,X21,1)","v":8.6505190311418706E-2},null,null,null,null,"جمع شوندگی افقی ",{"$f":"OFFSET(AJ6,AD21,1)","v":-0.14705882352941174},null,null,null,2.1176470588235294,3.7777777777777777,{"$f":"(10/3)*((AM18/AL18)*(1/J6)-1)","v":1.1640211640211644},{"$f":"(100/68)*((AO18/AN18)*(1/J7)-1)","v":8.6505190311418706E-2},13.5,51,17,36,"همه از زیر",12,null,"همه از زیر",29,88,null,null,null,null,null,null,null,null,null,null,null,null,null,null,null,null,null,null,null,null,null,null,null,null,null,null,null,null,null,null,null,null,null,null,null,null,null,null,null,null,{"$f":"'متغیرها '!U56","v":60.4},"e",null,{"$f":"CI37","v":0},{"$f":"CJ37","v":60.499999999999993},"j2",null,"محاسبات",null,null,null,{"$f":"CQ26","v":57.574999999999996},{"$f":"CR26","v":60.934499999999993},"d4",null,null,null,null,null,null,{"$f":"DB37+'طراحی همه الگوها'!U190","v":13.3},{"$f":"DE14","v":0},5,null,null,null,null,null,"دست صاف شبیه ساز k4",{"$f":"F406","v":47.9678384749811},{"$f":"J406","v":71.999016909270651},null,{"$f":"DM28","v":28.848621421161901},{"$f":"DN28","v":64.602697605120156},"s12",null,"s'10",{"$f":"EC41-('متغیرها '!C19*'متغیرها '!U83)*COS(DM17+RADIANS(EC40))","v":34.943088528551847},{"$f":"ED41+('متغیرها '!C19*'متغیرها '!U83)*SIN(DM17+RADIANS(EC40))","v":61.719406521798973},null,{"$f":"DU20","v":27.589178004211753},54.365495997458879,"s'12",null,null,null,null,{"$f":"DB37+'طراحی همه الگوها'!U216","v":110},{"$f":"EF15+'طراحی همه الگوها'!U217","v":9.8000000000000007},9,null,{"$f":"EI17+0.3*(EI20-EI17)","v":13.139999999999999},{"$f":"EJ17+0.15*(EJ20-EJ17)","v":1.9799999999999998},"16'",null,null,null,null,null,null,null,null,null,null,null,null,null,null,null,null,null,null,null,null,{"$f":"FF13","v":0},{"$f":"FG17-'طراحی همه الگوها'!U252","v":51.9},5,null,{"$f":"FJ17+'طراحی همه الگوها'!U268","v":15},{"$f":"FG31+'طراحی همه الگوها'!U269","v":79.299999999999983},24,null,"s''10",{"$f":"EC41-0.2*'متغیرها '!U83*COS(DM17+RADIANS(EC40))","v":33.599585644297406},{"$f":"ED41+0.2*'متغیرها '!U83*SIN(DM17+RADIANS(EC40))","v":63.062909406053407},null,31.884469043582385,45.032777825405319,"s''11",null,null,null,null,null,null,6,{"$f":"GB12+GE12*SIN(RADIANS(GA18)+GA14)","v":{"$error":"#DIV/0!"}},{"$f":"GC12+GE12*COS(RADIANS(GA18)+GA14)","v":{"$error":"#DIV/0!"}},{"$f":"IF(GB13>GB18,ATAN((GC13-GC18)/(GB13-GB18)),ATAN((GC13-GC18)/(GB18-GB13)))","v":{"$error":"#DIV/0!"}},{"$f":"IF(GB13>GB18,(GB13-GB18)/COS(GD18),(GB18-GB13)/COS(GD18))","v":{"$error":"#DIV/0!"}},null,2,1,"a40","نقطه مرکزی چرخش","مولفه افقی","مولفه عمودی","اسم نقطه ",null,"نقطه خروجی میانه","b26",{"$f":"GQ10+IF(GQ11>GQ10,1,-1)*GQ13*GR15*SIN(GP15)/GR14","v":{"$error":"#DIV/0!"}},{"$f":"GR10-GQ13*GR15*COS(GP15)/GR14","v":{"$error":"#DIV/0!"}},null,null,{"$f":"GU17+GT11","v":-86},-1.5009831567151235,{"$f":"HB13+HB10*COS(GV18)","v":{"$error":"#REF!"}},{"$f":"HC13-HB10*SIN(GV18)","v":{"$error":"#REF!"}},{"$f":"SQRT(POWER((HB12-GW18),2)+POWER((HC12-GX18),2))","v":{"$error":"#REF!"}},{"$f":"ABS(HB9-GY18)","v":{"$error":"#REF!"}},null,null,null,null,null,null,null,null,null,null,null,null,null,null,{"$f":"-HK18+HP9","v":0},0,null,null,{"$f":"HF30","v":0},{"$f":"HG30","v":0},8,null,{"$f":"HS18+2*(SIN(ATAN((HS12-HS11)/(HT12-HT11)))*(HT18-HT11)+COS(ATAN((HS12-HS11)/(HT12-HT11)))*(HS11-HS18))*COS(ATAN((HS12-HS11)/(HT12-HT11)))","v":{"$error":"#DIV/0!"}},{"$f":"HT18-2*(SIN(ATAN((HS12-HS11)/(HT12-HT11)))*(HT18-HT11)+COS(ATAN((HS12-HS11)/(HT12-HT11)))*(HS11-HS18))*SIN(ATAN((HS12-HS11)/(HT12-HT11)))","v":{"$error":"#DIV/0!"}},8,null,null,null,null,null,null,null,null,null,null,null,null,null,null,null,null,null,null,null,null,null,null,null,null,null,null,null,null,null,null,null,null,null,null,null,null,null,null,null,null,null,null,null,null,null,null,null,null,null,null,null,null,null,null,null,null,null,null,null,null,null,null,null,null,null,null,null,null,null,null,null,null,null,null,null,null,null,null,null,null,null,null,null,null,null,null,null,null,null,null,null,null,null,null,null,null,null,null,null,null,null,null,null,null,null,null,null,null,null,null,null,null,null,null,null,null,null,null,null,null,null,null,null,null,null,null,null,null,null,null,null,null,null,null,null,null,null,null,null,null,null,null,null,null,null,null,null,null,null,null,null,"نوشته ها یقه شکاری ",null,null,null,"h8",{"$f":"NZ17-0.5*NZ8","v":-21.427083333333336},{"$f":"OA13","v":5},null,null,null,null,"e12",{"$f":"ROUND(S19,0)","v":77},null,null,"h8",{"$f":"OK17-0.5*OK8","v":-12.664930555555554},{"$f":"OL13","v":5},null,null,null,null,"e12",{"$f":"ROUND(S19,0)","v":77},null,null,"h8",{"$f":"OV17-0.5*OV8","v":-15.763888888888886},{"$f":"OW13","v":5},null,null,null,null,{"$f":"I16","v":2.16}," تعداد دانه در یک سانت جادکمه ",null,null,"h8",{"$f":"PG17-0.5*PG8","v":-18.862847222222221},{"$f":"PH13","v":5},null,null,null,null,{"$f":"I16","v":2.16}," تعداد دانه در یک سانت جادکمه ",null,null,"h8",{"$f":"PR17-0.5*PR8","v":-16.383680555555554},{"$f":"PS13","v":5},null,null,null,null,2.8,"  تعداد رج در یک سانت",null,null,"g8",{"$f":"QC12-0.7*QD9*SIN(RADIANS(30)+ATAN((QC12-QC15)/(QD12-QD15+0.0001)))","v":-41.256622955421101},{"$f":"QD12-0.7*QD9*COS(RADIANS(30)+ATAN((QC12-QC15)/(QD12-QD15+0.0001)))","v":5.7107057257989862},{"$f":"QC17","v":-40.712016253334198},{"$f":"QD17","v":5.7521556043508548},{"$f":"QB17","v":"g7"},null,{"$f":"FF150","v":5.4188000000000001},86.9,25,null,null,null,null,null,{"$f":"QQ15","v":-13},{"$f":"QR15+QR7","v":56.227797473097809},"k7",null,null,null,null,{"$f":"QQ35","v":-15.299999999999999},{"$f":"QR35","v":56.211514330506226},"k25",null,{"$f":"AD19","v":3.1142857142857143}," da0 تعداد رج در یک سانت",null,null,"h8",{"$f":"RG17-0.5*RG8","v":-22.612500000000001},{"$f":"RH13","v":5},null,null,null,null,null,{"$f":"2/RX5","v":0.59280169371912483},"c12",null,"print_baft_grid",{"$f":"B14","v":0}]
[null,null,null,null,"هر b11   رج در بافت آستین یکدانه از ابتدا و یکدانه از انتها کم شود",{"$f":"IF(OR(ROUND(F21/F17,0)>50,ROUND(F21/F17,0)<-50),0,ROUND(F21/F17,0))","v":6},null,"بافت انتخابی جادکمه",{"$f":"'متغیرها '!C858","v":13},null,null,null,null,"جمع شوندگی عمودی  a9  ",{"$f":"OFFSET(AJ6,O21,0)","v":-0.15873015873015892},null,null,"e12",{"$f":"S18*2*F11","v":77.237085893884284},null,null,null," ca0 تعداد رج در یک سانت",{"$f":"F6+0.3*X17*F6","v":4.4119047619047622},null,null,null,null," da0 تعداد رج در یک سانت",{"$f":"F6+0.3*AD17*F6","v":3.1142857142857143},null,null,null,1.8,2.6666666666666665,{"$f":"(10/3)*((AM19/AL19)*(1/J6)-1)","v":-0.15873015873015892},{"$f":"(100/68)*((AO19/AN19)*(1/J7)-1)","v":-0.14705882352941174},13.5,36,20,36,"جودانه",13,null,"جودانه",5,22,null,null,null,null,null,null,null,null,null,null,null,null,null,null,null,null,null,null,null,null,null,null,null,null,null,null,null,null,null,null,null,null,null,null,null,null,null,null,null,null,{"$f":"'متغیرها '!U58","v":60.6},"g",null,null,null,null,null,"(d1 → d2)",{"$f":"0.45*'متغیرها '!U85","v":22.95},null,null,null,null,null,null,null,null,null,null,null,{"$f":"DD18+'طراحی همه الگوها'!U192","v":38.200000000000003},{"$f":"DE14","v":0},8,null,{"$f":"DD18","v":13.3},{"$f":"DE18","v":0},5,null,"شبیه ساز 26",{"$f":"DX388","v":0},{"$f":"DY388","v":80.227797473097809},null,{"$f":"DP18+0.25*(DP21-DP18)","v":33.048966065871426},{"$f":"DQ21+0.5*(DQ18-DQ21)","v":32.301348802560078},"s12'",null,"s'11",{"$f":"DU29-'طراحی همه الگوها'!U226*SIN(DM17+RADIANS(EC40))","v":32.256082760042972},{"$f":"DV29-'طراحی همه الگوها'!U226*COS(DM17+RADIANS(EC40))","v":50.971383447763451},null,35.737424602948224,27.18274799872944,"s''13",null,null,null,null,{"$f":"EE26","v":43.9},{"$f":"EF14+'طراحی همه الگوها'!U215","v":59.699999999999996},7,null,{"$f":"DB37+'طراحی همه الگوها'!U227","v":26.279999999999998},{"$f":"EJ17+'طراحی همه الگوها'!U228","v":5.9},22,null,null,null,null,null,null,null,null,{"$f":"EP29","v":0},{"$f":"EQ35","v":64.987314242926061},13,null,{"$f":"EP31","v":5.7},{"$f":"EQ31","v":0},5,null,null,null,null,null,{"$f":"FF13","v":0},{"$f":"FG13","v":0},1,null,{"$f":"FJ17+'طراحی همه الگوها'!U270","v":29.9},{"$f":"FG31+'طراحی همه الگوها'!U271","v":81.799999999999983},26,null,"k4 شبیه ساز",{"$f":"K384","v":38.973597181315171},{"$f":"L384","v":57.68889786903565},null,17.706212768116806,34.907881790501058,"s'11",null,null,null,null,null,null,8,{"$f":"GB12+GE12*SIN(RADIANS(GA19)+GA14)","v":{"$error":"#DIV/0!"}},{"$f":"GC12+GE12*COS(RADIANS(GA19)+GA14)","v":{"$error":"#DIV/0!"}},{"$f":"IF(GB13>GB19,ATAN((GC13-GC19)/(GB13-GB19)),ATAN((GC13-GC19)/(GB19-GB13)))","v":{"$error":"#DIV/0!"}},{"$f":"IF(GB13>GB19,(GB13-GB19)/COS(GD19),(GB19-GB13)/COS(GD19))","v":{"$error":"#DIV/0!"}},null,1,2,"نقطه 1","نقطه قبل از چرخش",{"$f":"IF(GH19>GH18,IF(GG19>GG18,GG18+SQRT(POWER(GG19-GG18,2)+POWER(GH19-GH18,2))*COS(ATAN((GH19-GH18)/(GG19-GG18+0.000123))+GH16),GG18-SQRT(POWER(GG19-GG18,2)+POWER(GH19-GH18,2))*COS(ATAN((GH19-GH18)/(GG18-GG19+0.000123))-GH16)),IF(GG19>GG18,GG18+SQRT(POWER(GG19-GG18,2)+POWER(GH19-GH18,2))*COS(ATAN((GH18-GH19)/(GG19-GG18+0.000123))-GH16),GG18-SQRT(POWER(GG19-GG18,2)+POWER(GH19-GH18,2))*COS(ATAN((GH18-GH19)/(GG18-GG19+0.000123))+GH16)))","v":0.61824523267144293},{"$f":"IF(GH19>GH18,IF(GG19>GG18,GH18+SQRT(POWER(GG19-GG18,2)+POWER(GH19-GH18,2))*SIN(ATAN((GH19-GH18)/(GG19-GG18+0.000123))+GH16),GH18+SQRT(POWER(GG19-GG18,2)+POWER(GH19-GH18,2))*SIN(ATAN((GH19-GH18)/(GG18-GG19+0.000123))-GH16)),IF(GG19>GG18,GH18-SQRT(POWER(GG19-GG18,2)+POWER(GH19-GH18,2))*SIN(ATAN((GH18-GH19)/(GG19-GG18+0.000123))-GH16),GH18-SQRT(POWER(GG19-GG18,2)+POWER(GH19-GH18,2))*SIN(ATAN((GH18-GH19)/(GG18-GG19+0.000123))+GH16)))","v":0.69874634779839551},"نقطه چرخیده",null,null,null,null,null,null,null,{"$f":"GU18+GT11","v":-84},-1.4660765716752369,{"$f":"HB13+HB10*COS(GV19)","v":{"$error":"#REF!"}},{"$f":"HC13-HB10*SIN(GV19)","v":{"$error":"#REF!"}},{"$f":"SQRT(POWER((HB12-GW19),2)+POWER((HC12-GX19),2))","v":{"$error":"#REF!"}},{"$f":"ABS(HB9-GY19)","v":{"$error":"#REF!"}},{"$f":"HA13","v":"42پشت"},{"$f":"HB13","v":1},{"$f":"HC13","v":0},null,null,null,null,null,null,null,null,null,null,null,{"$f":"-HK19+HP9","v":0},0,null,null,0,0,9,null,{"$f":"HS19+2*(SIN(ATAN((HS12-HS11)/(HT12-HT11)))*(HT19-HT11)+COS(ATAN((HS12-HS11)/(HT12-HT11)))*(HS11-HS19))*COS(ATAN((HS12-HS11)/(HT12-HT11)))","v":{"$error":"#DIV/0!"}},{"$f":"HT19-2*(SIN(ATAN((HS12-HS11)/(HT12-HT11)))*(HT19-HT11)+COS(ATAN((HS12-HS11)/(HT12-HT11)))*(HS11-HS19))*SIN(ATAN((HS12-HS11)/(HT12-HT11)))","v":{"$error":"#DIV/0!"}},{"$f":"HU19","v":9},null,null,null,null,null,null,null,null,null,null,null,null,null,null,null,null,null,null,null,null,null,null,null,null,null,null,null,null,null,null,null,null,null,null,null,null,null,null,null,null,null,null,null,null,null,null,null,null,null,null,null,null,null,null,null,null,null,null,null,null,null,null,null,null,null,null,null,null,null,null,null,null,null,null,null,null,null,null,null,null,null,null,null,null,null,null,null,null,null,null,null,null,null,null,null,null,null,null,null,null,null,null,null,null,null,null,null,null,null,null,null,null,null,null,null,null,null,null,null,null,null,null,null,null,null,null,null,null,null,null,null,null,null,null,null,null,null,null,null,null,null,null,null,null,null,null,null,null,null,null,null,"a1",{"$f":"TEXT(0,NV5)&\" دانه سر می اندازیم\"","v":"124 دانه سر می اندازیم"},null,null,"h9",{"$f":"NZ17+0.5*NZ8","v":-16.927083333333336},{"$f":"OA13","v":5},{"$f":"NZ22","v":-16.927083333333336},{"$f":"OA22","v":4.75},{"$f":"NY22","v":"h12"},null,"b''1",{"$f":"G46","v":74},null,null,"h9",{"$f":"OK17+0.5*OK8","v":-8.1649305555555536},{"$f":"OL13","v":5},{"$f":"OK22","v":-8.1649305555555536},{"$f":"OL22","v":4.75},{"$f":"OJ22","v":"h12"},null,"b''1",{"$f":"OG19","v":74},null,null,"h9",{"$f":"OV17+0.5*OV8","v":-11.263888888888886},{"$f":"OW13","v":5},{"$f":"OV22","v":-11.263888888888886},{"$f":"OW22","v":4.75},{"$f":"OU22","v":"h12"},null,{"$f":"IF(PB20<11,\" مخصوص \",F8)","v":2.5},"انتخاب ضخامت میل بافتنی   f1",null,null,"h9",{"$f":"PG17+0.5*PG8","v":-14.362847222222221},{"$f":"PH13","v":5},{"$f":"PG22","v":-14.362847222222221},{"$f":"PH22","v":4.75},{"$f":"PF22","v":"h12"},null,{"$f":"IF(PM20<11,\" مخصوص \",F8)","v":2.5},"انتخاب ضخامت میل بافتنی   f1",null,null,"h9",{"$f":"PR17+0.5*PR8","v":-11.883680555555554},{"$f":"PS13","v":5},{"$f":"PR22","v":-11.883680555555554},{"$f":"PS22","v":4.75},{"$f":"PQ22","v":"h12"},null,2,"تعداد دانه در یک سانت ",null,null,null,null,null,null,null,null,null,4.3350400000000011,83.563898736548907,30,null,{"$f":"QI75","v":38.368598467294198},{"$f":"QJ75","v":53.424278931886874},"k''5",null,{"$f":"QQ15","v":-13},{"$f":"QR15-QR7","v":48.227797473097809},"k8",null,null,null,null,{"$f":"QQ36","v":-13},{"$f":"QR36","v":56.82779747309781},"k26",null,{"$f":"AD20","v":2.16},"تعداد دانه در یک سانت db0 ",null,null,"h9",{"$f":"RG17+0.5*RG8","v":-16.762499999999999},{"$f":"RH13","v":5},{"$f":"RG22","v":-16.762499999999999},{"$f":"RH22","v":4.75},{"$f":"RF22","v":"h12"},null,null,{"$f":"2/SA6","v":0.8564814814814814},"c13",null,"پهنا افقی",{"$f":"RR15-RR17","v":44.414999999999999}]
[null,null,null,null," b22",{"$f":"SQRT(POWER(F33,2)-POWER(F18,2))","v":29.335558166502363},null,"بافت انتخابی جادکمه",{"$f":"OFFSET(AJ6,I19,6)","v":"جودانه"},null,null,null,null,"جمع شوندگی افقی a8",{"$f":"OFFSET(AJ6,O21,1)","v":1.0504201680672269},null,null,"بافت انتخابی یقه شومیزیه",{"$f":"'متغیرها '!C873","v":12},null,null,null,"تعداد دانه در یک سانت cb0 ",{"$f":"F7+0.68*X18*F7","v":2.5411764705882351},null,null,null,null,"تعداد دانه در یک سانت db0 ",{"$f":"F7+0.68*AD18*F7","v":2.16},null,null,null,3.4285714285714284,2.6666666666666665,{"$f":"(10/3)*((AM20/AL20)*(1/J6)-1)","v":-0.15873015873015892},{"$f":"(100/68)*((AO20/AN20)*(1/J7)-1)","v":1.0504201680672269},13.5,36,10.5,36,"کشباف (دوتایی)",14,null,"کشباف (دوتایی)",125,22,null,null,null,null,null,null,null,null,null,null,null,null,null,null,null,null,null,null,null,null,null,null,null,null,null,null,null,null,null,null,null,null,null,null,null,null,null,null,null,"محاسبات",null,null,null,{"$f":"CI37","v":0},{"$f":"CJ37","v":60.499999999999993},"j2",null,"(d1 →d4)",{"$f":"'طراحی همه الگوها'!U178+'طراحی همه الگوها'!U177","v":59.3},null,null,{"$f":"CQ31","v":0},{"$f":"CR31","v":58.609434999999991},"j'2",null,null,null,null,null,null,{"$f":"DD18+'طراحی همه الگوها'!U192","v":38.200000000000003},{"$f":"DE14+'طراحی همه الگوها'!U193","v":12},9,null,{"$f":"'طراحی همه الگوها'!U190+'طراحی همه الگوها'!U199","v":25.8},{"$f":"DE14+'طراحی همه الگوها'!U200","v":4.2},16,null,null,null,null,null,{"$f":"DP18+0.6*(DP21-DP18)","v":38.929448568464757},{"$f":"DQ21+0.2*(DQ18-DQ21)","v":12.920539521024033},"s12''",null,"s'12",{"$f":"DU18-'طراحی همه الگوها'!U225*SIN(DM17+RADIANS(EC40))","v":27.589178004211753},{"$f":"DV18-'طراحی همه الگوها'!U225*COS(DM17+RADIANS(EC40))","v":54.365495997458879},null,42.527630101895284,13.59137399936472,"s'''13",null,null,null,null,{"$f":"DB37+'طراحی همه الگوها'!U216","v":110},{"$f":"EF18+'طراحی همه الگوها'!U218","v":109.6},10,null,{"$f":"DB37+'طراحی همه الگوها'!U222","v":43.8},{"$f":"EF15+'طراحی همه الگوها'!U223","v":13.2},16,null,null,null,null,null,null,null,null,{"$f":"EP35","v":24.830301733630133},{"$f":"EQ35","v":64.987314242926061},9,null,{"$f":"EP33","v":13.888762184987506},{"$f":"EQ33","v":0.42915484119213942},7,null,null,null,null,null,null,null,null,null,{"$f":"FF37","v":37.4},{"$f":"FG37","v":84.299999999999983},17,null,"s''11",{"$f":"FO22+0.8*(FO19-FO22)","v":31.884469043582385},{"$f":"FP22+0.5*(FP19-FP22)","v":45.032777825405319},null,3.527956492651227,32.376657781774995,"s11",null,null,null,null,null,null,10,{"$f":"GB12+GE12*SIN(RADIANS(GA20)+GA14)","v":{"$error":"#DIV/0!"}},{"$f":"GC12+GE12*COS(RADIANS(GA20)+GA14)","v":{"$error":"#DIV/0!"}},{"$f":"IF(GB13>GB20,ATAN((GC13-GC20)/(GB13-GB20)),ATAN((GC13-GC20)/(GB20-GB13)))","v":{"$error":"#DIV/0!"}},{"$f":"IF(GB13>GB20,(GB13-GB20)/COS(GD20),(GB20-GB13)/COS(GD20))","v":{"$error":"#DIV/0!"}},null,1,2,"نقطه2","نقطه قبل از چرخش",{"$f":"IF(GH20>GH18,IF(GG20>GG18,GG18+SQRT(POWER(GG20-GG18,2)+POWER(GH20-GH18,2))*COS(ATAN((GH20-GH18)/(GG20-GG18+0.000123))+GH16),GG18-SQRT(POWER(GG20-GG18,2)+POWER(GH20-GH18,2))*COS(ATAN((GH20-GH18)/(GG18-GG20+0.000123))-GH16)),IF(GG20>GG18,GG18+SQRT(POWER(GG20-GG18,2)+POWER(GH20-GH18,2))*COS(ATAN((GH18-GH20)/(GG20-GG18+0.000123))-GH16),GG18-SQRT(POWER(GG20-GG18,2)+POWER(GH20-GH18,2))*COS(ATAN((GH18-GH20)/(GG18-GG20+0.000123))+GH16)))","v":0.61824523267144293},{"$f":"IF(GH20>GH18,IF(GG20>GG18,GH18+SQRT(POWER(GG20-GG18,2)+POWER(GH20-GH18,2))*SIN(ATAN((GH20-GH18)/(GG20-GG18+0.000123))+GH16),GH18+SQRT(POWER(GG20-GG18,2)+POWER(GH20-GH18,2))*SIN(ATAN((GH20-GH18)/(GG18-GG20+0.000123))-GH16)),IF(GG20>GG18,GH18-SQRT(POWER(GG20-GG18,2)+POWER(GH20-GH18,2))*SIN(ATAN((GH18-GH20)/(GG20-GG18+0.000123))-GH16),GH18-SQRT(POWER(GG20-GG18,2)+POWER(GH20-GH18,2))*SIN(ATAN((GH18-GH20)/(GG18-GG20+0.000123))+GH16)))","v":0.69874634779839551},"نقطه چرخیده",null,null,"رسم باکس زیپ دامن- باکس راست","مولفه افقی","مولفه عمودی",null,null,{"$f":"GU19+GT11","v":-82},-1.4311699866353502,{"$f":"HB13+HB10*COS(GV20)","v":{"$error":"#REF!"}},{"$f":"HC13-HB10*SIN(GV20)","v":{"$error":"#REF!"}},{"$f":"SQRT(POWER((HB12-GW20),2)+POWER((HC12-GX20),2))","v":{"$error":"#REF!"}},{"$f":"ABS(HB9-GY20)","v":{"$error":"#REF!"}},{"$f":"HA14","v":"k6"},{"$f":"#REF!","v":{"$error":"#REF!"}},{"$f":"#REF!","v":{"$error":"#REF!"}},null,null,null,null,null,null,null,null,null,null,null,{"$f":"-HK20+HP9","v":0},0,null,null,0,0,10,null,{"$f":"HS20+2*(SIN(ATAN((HS12-HS11)/(HT12-HT11)))*(HT20-HT11)+COS(ATAN((HS12-HS11)/(HT12-HT11)))*(HS11-HS20))*COS(ATAN((HS12-HS11)/(HT12-HT11)))","v":{"$error":"#DIV/0!"}},{"$f":"HT20-2*(SIN(ATAN((HS12-HS11)/(HT12-HT11)))*(HT20-HT11)+COS(ATAN((HS12-HS11)/(HT12-HT11)))*(HS11-HS20))*SIN(ATAN((HS12-HS11)/(HT12-HT11)))","v":{"$error":"#DIV/0!"}},10,null,null,null,null,null,null,null,null,null,null,null,null,null,null,null,null,null,null,null,null,null,null,null,null,null,null,null,null,null,null,null,null,null,null,null,null,null,null,null,null,null,null,null,null,null,null,null,null,null,null,null,null,null,null,null,null,null,null,null,null,null,null,null,null,null,null,null,null,null,null,null,null,null,null,null,null,null,null,null,null,null,null,null,null,null,null,null,null,null,null,null,null,null,null,null,null,null,null,null,null,null,null,null,null,null,null,null,null,null,null,null,null,null,null,null,null,null,null,null,null,null,null,null,null,null,null,null,null,null,null,null,null,null,null,null,null,null,null,null,null,null,null,null,null,null,null,null,null,null,null,null,"a2",{"$f":"TEXT(0,NV6)&\" رج بافت انتخابی یقه میبافیم\"","v":"4 رج بافت انتخابی یقه میبافیم"},null,null,"h10",{"$f":"NZ18","v":-21.427083333333336},{"$f":"OA18+0.5*NZ9","v":5.25},{"$f":"NZ23","v":-16.927083333333336},{"$f":"OA23","v":5.25},{"$f":"NY23","v":"h13"},null,"خطا",{"$f":"R46","v":"خطا : قد پایه یقه شومیزیه زیاد شود یا پهنای جادکمه جلو زیاد شود "},null,null,"h10",{"$f":"OK18","v":-12.664930555555554},{"$f":"OL18+0.5*OK9","v":5.25},{"$f":"OK23","v":-8.1649305555555536},{"$f":"OL23","v":5.25},{"$f":"OJ23","v":"h13"},null,"خطا",{"$f":"U46","v":"خطا : قد پایه یقه شومیزیه زیاد شود یا پهنای جادکمه جلو زیاد شود "},null,null,"h10",{"$f":"OV18","v":-15.763888888888886},{"$f":"OW18+0.5*OV9","v":5.25},{"$f":"OV23","v":-11.263888888888886},{"$f":"OW23","v":5.25},{"$f":"OU23","v":"h13"},null,{"$f":"X21","v":12},"بافت انتخابی یقه ب ب",null,null,"h10",{"$f":"PG18","v":-18.862847222222221},{"$f":"PH18+0.5*PG9","v":5.25},{"$f":"PG23","v":-14.362847222222221},{"$f":"PH23","v":5.25},{"$f":"PF23","v":"h13"},null,{"$f":"X21","v":12},"بافت انتخابی یقه ب ب",null,null,"h10",{"$f":"PR18","v":-16.383680555555554},{"$f":"PS18+0.5*PR9","v":5.25},{"$f":"PR23","v":-11.883680555555554},{"$f":"PS23","v":5.25},{"$f":"PQ23","v":"h13"},null,null,null,null,null,null,null,null,{"$f":"PX31","v":-41.5},{"$f":"PY31","v":6.4285714285714288},{"$f":"PZ31","v":"t3"},null,{"$f":"FF153","v":2.1675199999999997},{"$f":"FG153","v":80.895017725788037},28,null,{"$f":"QI74","v":43.546556196820219},{"$f":"QJ74","v":59.750366091517364},"k''4",null,{"$f":"QQ15+QR7*SIN(RADIANS(10))","v":-12.305407289332278},{"$f":"QR15-QR7*COS(RADIANS(10))","v":48.28856646104898},"k9",null,null,null,null,{"$f":"QQ34","v":-10.700000000000001},{"$f":"QR34","v":56.211514330506226},"k24",null,{"$f":"IF(PB20<11,\" مخصوص \",F8)","v":2.5},"انتخاب ضخامت میل بافتنی   f1",null,null,"h10",{"$f":"RG18","v":-22.612500000000001},{"$f":"RH18+0.5*RG9","v":5.25},{"$f":"RG23","v":-16.762499999999999},{"$f":"RH23","v":5.25},{"$f":"RF23","v":"h13"},null,null,{"$f":"2/SA5","v":0.59280169371912483},"c14",null,"پهنا عمودی",{"$f":"RR14-RR16","v":15.980000000000004}]
[null,null,null,null," b'22",{"$f":"F20*I36","v":98.972585528413944},null,null,null,null,null,null,null,"بافت انتخابی یقه شکاری",{"$f":"'متغیرها '!C870","v":14},null,null,"بافت انتخابی یقه شومیزیه",{"$f":"OFFSET(AJ6,S20,6)","v":"همه از زیر"},null,null,null,"بافت انتخابی یقه ب ب",{"$f":"'متغیرها '!C876","v":12},null,null,null,null,"بافت انتخابی یقه انگلیسی",{"$f":"'متغیرها '!C867","v":13},null,null,null,2.0571428571428569,2.9629629629629628,{"$f":"(10/3)*((AM21/AL21)*(1/J6)-1)","v":0.19400352733686049},{"$f":"(100/68)*((AO21/AN21)*(1/J7)-1)","v":4.2016806722688926E-2},13.5,40,17.5,36,"سبدی (5 تایی)",15,null,"سبدی (5 تایی)",24,40,null,null,null,null,null,null,null,null,null,null,null,null,null,null,null,null,null,null,null,null,null,null,null,null,null,null,null,null,null,null,null,null,null,null,null,null,null,null,null,"قد سرشانه تا زمین",{"$f":"0.5*(CJ17+CJ18+CJ19)","v":87.5},null,null,{"$f":"CI47","v":10.7},{"$f":"CJ47","v":60.499999999999993},"j13",null,"(d5 →d6)",{"$f":"5+0.1*CR20","v":10.93},null,null,null,null,null,null,null,null,null,null,null,{"$f":"DD18+'طراحی همه الگوها'!U192","v":38.200000000000003},{"$f":"DE14+'طراحی همه الگوها'!U194","v":29.2},10,null,{"$f":"DD20","v":38.200000000000003},{"$f":"DE20","v":12},9,null,"طراحی چادر شماره 2",null,null,null,{"$f":"DM30","v":45.65},{"$f":"DN30","v":0},"s13",null,"s''13",{"$f":"DU20+0.3*(DU23-DU20)","v":35.737424602948224},{"$f":"DV23+0.5*(DV20-DV23)","v":27.18274799872944},null,54.749999999999993,0,"s'13",null,null,null,null,{"$f":"DB37+'طراحی همه الگوها'!U216","v":110},{"$f":"EF18","v":9.8000000000000007},9,null,{"$f":"EI20+0.5*(EI22-EI20)","v":76.900000000000006},{"$f":"EJ22+0.8*(EJ20-EJ22)","v":10.76},"14'",null,null,null,null,null,null,null,null,null,null,null,null,null,null,null,null,null,null,null,null,{"$f":"FF13+'طراحی همه الگوها'!U249-'طراحی همه الگوها'!U253","v":37.4},{"$f":"FG15","v":60.4},6,null,null,null,null,null,"s'11",{"$f":"FO22+0.4*(FO19-FO22)","v":17.706212768116806},{"$f":"FP22+0.1*(FP19-FP22)","v":34.907881790501058},null,null,null,null,null,null,null,null,null,null,12,{"$f":"GB12+GE12*SIN(RADIANS(GA21)+GA14)","v":{"$error":"#DIV/0!"}},{"$f":"GC12+GE12*COS(RADIANS(GA21)+GA14)","v":{"$error":"#DIV/0!"}},{"$f":"IF(GB13>GB21,ATAN((GC13-GC21)/(GB13-GB21)),ATAN((GC13-GC21)/(GB21-GB13)))","v":{"$error":"#DIV/0!"}},{"$f":"IF(GB13>GB21,(GB13-GB21)/COS(GD21),(GB21-GB13)/COS(GD21))","v":{"$error":"#DIV/0!"}},null,1,2,"نقطه 3","نقطه قبل از چرخش",{"$f":"IF(GH21>GH18,IF(GG21>GG18,GG18+SQRT(POWER(GG21-GG18,2)+POWER(GH21-GH18,2))*COS(ATAN((GH21-GH18)/(GG21-GG18+0.000123))+GH16),GG18-SQRT(POWER(GG21-GG18,2)+POWER(GH21-GH18,2))*COS(ATAN((GH21-GH18)/(GG18-GG21+0.000123))-GH16)),IF(GG21>GG18,GG18+SQRT(POWER(GG21-GG18,2)+POWER(GH21-GH18,2))*COS(ATAN((GH18-GH21)/(GG21-GG18+0.000123))-GH16),GG18-SQRT(POWER(GG21-GG18,2)+POWER(GH21-GH18,2))*COS(ATAN((GH18-GH21)/(GG18-GG21+0.000123))+GH16)))","v":0.61824523267144293},{"$f":"IF(GH21>GH18,IF(GG21>GG18,GH18+SQRT(POWER(GG21-GG18,2)+POWER(GH21-GH18,2))*SIN(ATAN((GH21-GH18)/(GG21-GG18+0.000123))+GH16),GH18+SQRT(POWER(GG21-GG18,2)+POWER(GH21-GH18,2))*SIN(ATAN((GH21-GH18)/(GG18-GG21+0.000123))-GH16)),IF(GG21>GG18,GH18-SQRT(POWER(GG21-GG18,2)+POWER(GH21-GH18,2))*SIN(ATAN((GH18-GH21)/(GG21-GG18+0.000123))-GH16),GH18-SQRT(POWER(GG21-GG18,2)+POWER(GH21-GH18,2))*SIN(ATAN((GH18-GH21)/(GG18-GG21+0.000123))+GH16)))","v":0.69874634779839551},"نقطه چرخیده",null,"نقطه ورودی بالا","su3",{"$f":"#REF!","v":{"$error":"#REF!"}},{"$f":"#REF!","v":{"$error":"#REF!"}},null,null,{"$f":"GU20+GT11","v":-80},-1.3962634015954636,{"$f":"HB13+HB10*COS(GV21)","v":{"$error":"#REF!"}},{"$f":"HC13-HB10*SIN(GV21)","v":{"$error":"#REF!"}},{"$f":"SQRT(POWER((HB12-GW21),2)+POWER((HC12-GX21),2))","v":{"$error":"#REF!"}},{"$f":"ABS(HB9-GY21)","v":{"$error":"#REF!"}},null,null,null,null,null,null,null,null,null,null,null,null,null,null,{"$f":"-HK21+HP9","v":0},0,null,null,{"$f":"HF30","v":0},{"$f":"HG30","v":0},11,null,{"$f":"HS21+2*(SIN(ATAN((HS12-HS11)/(HT12-HT11)))*(HT21-HT11)+COS(ATAN((HS12-HS11)/(HT12-HT11)))*(HS11-HS21))*COS(ATAN((HS12-HS11)/(HT12-HT11)))","v":{"$error":"#DIV/0!"}},{"$f":"HT21-2*(SIN(ATAN((HS12-HS11)/(HT12-HT11)))*(HT21-HT11)+COS(ATAN((HS12-HS11)/(HT12-HT11)))*(HS11-HS21))*SIN(ATAN((HS12-HS11)/(HT12-HT11)))","v":{"$error":"#DIV/0!"}},11,null,null,null,null,null,null,null,null,null,null,null,null,null,null,null,null,null,null,null,null,null,null,null,null,null,null,null,null,null,null,null,null,null,null,null,null,null,null,null,null,null,null,null,null,null,null,null,null,null,null,null,null,null,null,null,null,null,null,null,null,null,null,null,null,null,null,null,null,null,null,null,null,null,null,null,null,null,null,null,null,null,null,null,null,null,null,null,null,null,null,null,null,null,null,null,null,null,null,null,null,null,null,null,null,null,null,null,null,null,null,null,null,null,null,null,null,null,null,null,null,null,null,null,null,null,null,null,null,null,null,null,null,null,null,null,null,null,null,null,null,null,null,null,null,null,null,null,null,null,null,null,"a3",{"$f":"TEXT(0,NV7)&\" دانه\"","v":"14 دانه"},null,null,"h11",{"$f":"NZ18","v":-21.427083333333336},{"$f":"OA18-0.5*NZ9","v":4.75},null,null,null,null,"خطا",{"$f":"R47","v":" "},null,null,"h11",{"$f":"OK18","v":-12.664930555555554},{"$f":"OL18-0.5*OK9","v":4.75},null,null,null,null,"خطا",{"$f":"U47","v":" "},null,null,"h11",{"$f":"OV18","v":-15.763888888888886},{"$f":"OW18-0.5*OV9","v":4.75},null,null,null,null,{"$f":"X22","v":"همه از زیر"},"بافت انتخابی یقه ب ب",null,null,"h11",{"$f":"PG18","v":-18.862847222222221},{"$f":"PH18-0.5*PG9","v":4.75},null,null,null,null,{"$f":"X22","v":"همه از زیر"},"بافت انتخابی یقه ب ب",null,null,"h11",{"$f":"PR18","v":-16.383680555555554},{"$f":"PS18-0.5*PR9","v":4.75},null,null,null,null,null,"بعد از دانه اول یکدانه اضافه میکنیم","علامت اول",null,null,null,null,{"$f":"PX34","v":-48.5},{"$f":"PY34","v":6.4285714285714288},{"$f":"PZ34","v":"t6"},null,{"$f":"FF163","v":0},{"$f":"FG163","v":80.227797473097809},26,null,null,null,null,null,{"$f":"2*QQ15-QQ20","v":-13.694592710667722},{"$f":"QR20","v":48.28856646104898},"k10",null,null,null,null,{"$f":"QQ32","v":-8.4},{"$f":"QR32","v":52.227797473097809},"k22",null,{"$f":"AD21","v":13},{"$f":"AC21","v":"بافت انتخابی یقه انگلیسی"},null,null,"h11",{"$f":"RG18","v":-22.612500000000001},{"$f":"RH18-0.5*RG9","v":4.75},null,null,null,null,null,{"$f":"2/SD6","v":0.8564814814814814},"c15"]
[null,null,null,null," b12",{"$f":"IF(F37=F13,0,ROUND(F14/((F13-F37)*I37),0))","v":4},null," a0 تعداد رج در یک سانت جلو",{"$f":"F6+0.3*I24*F6","v":3.46031746031746},null,null,null,null,"بافت انتخابی یقه شکاری",{"$f":"OFFSET(AJ6,O21,6)","v":"کشباف (دوتایی)"},null,null,{"$f":"ROUND(OF144-OF143-2/OG50,0)","v":31},{"$f":"(S18*40*(G46-2*F42)/I23/OG38)/OG50","v":29.976851851851855},null,null,null,"بافت انتخابی یقه ب ب",{"$f":"OFFSET(AJ6,X21,6)","v":"همه از زیر"},null,null,null,null,"بافت انتخابی یقه انگلیسی",{"$f":"OFFSET(AJ6,AD21,6)","v":"جودانه"},null,null,null,2.5714285714285716,2.8148148148148149,{"$f":"(10/3)*((AM22/AL22)*(1/J6)-1)","v":1.7636684303351156E-2},{"$f":"(100/68)*((AO22/AN22)*(1/J7)-1)","v":0.42016806722689093},13.5,38,14,36,"تمشکی",16,null,"تمشکی",62,31,null,null,null,null,null,null,null,null,null,null,null,null,null,null,null,null,null,null,null,null,null,null,null,null,null,null,null,null,null,null,null,null,null,null,null,null,null,null,null,"تمام قد",{"$f":"ROUND(CJ21+IF(CJ16>51.5,0.35,IF(CJ16>50.5,0.33,0.31))*CJ16,0)","v":104},null,null,null,null,null,null,"نقاط خروجی در مقنعه دراپه",null,null,null,{"$f":"CQ24","v":0},{"$f":"CR24","v":86.149999999999991},"d2",null,null,null,null,null,null,null,null,null,null,{"$f":"'طراحی همه الگوها'!U190+'طراحی همه الگوها'!U192+'طراحی همه الگوها'!U202","v":45.300000000000004},{"$f":"DE14+'طراحی همه الگوها'!U203","v":17.399999999999999},19,null,"اسم نقطه ","مولفه افقی","مولفه عمودی",null,null,null,null,null,"s'''13",{"$f":"DU20+0.55*(DU23-DU20)","v":42.527630101895284},{"$f":"DV23+0.25*(DV20-DV23)","v":13.59137399936472},null,null,null,null,null,null,null,null,null,null,null,null,{"$f":"EE16","v":110},{"$f":"EF16+'طراحی همه الگوها'!U221","v":1},14,null,null,null,null,null,null,null,null,{"$f":"EP29","v":0},{"$f":"EQ37","v":53.592117676856013},12,null,{"$f":"EP33","v":13.888762184987506},{"$f":"EQ33","v":0.42915484119213942},7,null,null,null,null,null,{"$f":"FF13+'طراحی همه الگوها'!U249-'طراحی همه الگوها'!U253","v":37.4},{"$f":"FG15-'طراحی همه الگوها'!U254","v":46.3},7,null,{"$f":"FF18","v":0},{"$f":"FG18","v":51.9},5,null,"s11",{"$f":"0.7*FO15","v":3.527956492651227},{"$f":"FP15-'طراحی همه الگوها'!U263+1.2*SQRT(POWER(FO15-FO14,2)+POWER(FP15-FP14,2))","v":32.376657781774995},null,{"$f":"FO28","v":0},{"$f":"FP28","v":103.045},"s''17",null,null,null,null,null,null,14,{"$f":"GB12+GE12*SIN(RADIANS(GA22)+GA14)","v":{"$error":"#DIV/0!"}},{"$f":"GC12+GE12*COS(RADIANS(GA22)+GA14)","v":{"$error":"#DIV/0!"}},{"$f":"IF(GB13>GB22,ATAN((GC13-GC22)/(GB13-GB22)),ATAN((GC13-GC22)/(GB22-GB13)))","v":{"$error":"#DIV/0!"}},{"$f":"IF(GB13>GB22,(GB13-GB22)/COS(GD22),(GB22-GB13)/COS(GD22))","v":{"$error":"#DIV/0!"}},null,1,2,"نقطه 4","نقطه قبل از چرخش",{"$f":"IF(GH22>GH18,IF(GG22>GG18,GG18+SQRT(POWER(GG22-GG18,2)+POWER(GH22-GH18,2))*COS(ATAN((GH22-GH18)/(GG22-GG18+0.000123))+GH16),GG18-SQRT(POWER(GG22-GG18,2)+POWER(GH22-GH18,2))*COS(ATAN((GH22-GH18)/(GG18-GG22+0.000123))-GH16)),IF(GG22>GG18,GG18+SQRT(POWER(GG22-GG18,2)+POWER(GH22-GH18,2))*COS(ATAN((GH18-GH22)/(GG22-GG18+0.000123))-GH16),GG18-SQRT(POWER(GG22-GG18,2)+POWER(GH22-GH18,2))*COS(ATAN((GH18-GH22)/(GG18-GG22+0.000123))+GH16)))","v":0.61824523267144293},{"$f":"IF(GH22>GH18,IF(GG22>GG18,GH18+SQRT(POWER(GG22-GG18,2)+POWER(GH22-GH18,2))*SIN(ATAN((GH22-GH18)/(GG22-GG18+0.000123))+GH16),GH18+SQRT(POWER(GG22-GG18,2)+POWER(GH22-GH18,2))*SIN(ATAN((GH22-GH18)/(GG18-GG22+0.000123))-GH16)),IF(GG22>GG18,GH18-SQRT(POWER(GG22-GG18,2)+POWER(GH22-GH18,2))*SIN(ATAN((GH18-GH22)/(GG22-GG18+0.000123))-GH16),GH18-SQRT(POWER(GG22-GG18,2)+POWER(GH22-GH18,2))*SIN(ATAN((GH18-GH22)/(GG18-GG22+0.000123))+GH16)))","v":0.69874634779839551},"نقطه چرخیده",null,"نقطه ورودی پایین","sd3",{"$f":"#REF!","v":{"$error":"#REF!"}},{"$f":"#REF!","v":{"$error":"#REF!"}},null,"به روش تخمین",{"$f":"GU21+GT11","v":-78},-1.3613568165555769,{"$f":"HB13+HB10*COS(GV22)","v":{"$error":"#REF!"}},{"$f":"HC13-HB10*SIN(GV22)","v":{"$error":"#REF!"}},{"$f":"SQRT(POWER((HB12-GW22),2)+POWER((HC12-GX22),2))","v":{"$error":"#REF!"}},{"$f":"ABS(HB9-GY22)","v":{"$error":"#REF!"}},{"$f":"HA14","v":"k6"},{"$f":"#REF!","v":{"$error":"#REF!"}},{"$f":"#REF!","v":{"$error":"#REF!"}},null,null,null,null,null,null,null,null,null,null,null,{"$f":"-HK22+HP9","v":0},0,null,null,0,0,12,null,{"$f":"HS22+2*(SIN(ATAN((HS12-HS11)/(HT12-HT11)))*(HT22-HT11)+COS(ATAN((HS12-HS11)/(HT12-HT11)))*(HS11-HS22))*COS(ATAN((HS12-HS11)/(HT12-HT11)))","v":{"$error":"#DIV/0!"}},{"$f":"HT22-2*(SIN(ATAN((HS12-HS11)/(HT12-HT11)))*(HT22-HT11)+COS(ATAN((HS12-HS11)/(HT12-HT11)))*(HS11-HS22))*SIN(ATAN((HS12-HS11)/(HT12-HT11)))","v":{"$error":"#DIV/0!"}},12,null,null,null,null,null,null,null,null,null,null,null,null,null,null,null,null,null,null,null,null,null,null,null,null,null,null,null,null,null,null,null,null,null,null,null,null,null,null,null,null,null,null,null,null,null,null,null,null,null,null,null,null,null,null,null,null,null,null,null,null,null,null,null,null,null,null,null,null,null,null,null,null,null,null,null,null,null,null,null,null,null,null,null,null,null,null,null,null,null,null,null,null,null,null,null,null,null,null,null,null,null,null,null,null,null,null,null,null,null,null,null,null,null,null,null,null,null,null,null,null,null,null,null,null,null,null,null,null,null,null,null,null,null,null,null,null,null,null,null,null,null,null,null,null,null,null,null,null,null,null,null,"a4",{"$f":"TEXT(0,NV8)&\" دانه\"","v":"28 دانه"},null,null,"h12",{"$f":"NZ19","v":-16.927083333333336},{"$f":"OA21","v":4.75},{"$f":"NZ19","v":-16.927083333333336},{"$f":"OA19","v":5},{"$f":"NY19","v":"h9"},null,"نوشته ها یقه شومیزیه نوک تیز",null,null,null,"h12",{"$f":"OK19","v":-8.1649305555555536},{"$f":"OL21","v":4.75},{"$f":"OK19","v":-8.1649305555555536},{"$f":"OL19","v":5},{"$f":"OJ19","v":"h9"},null,"نوشته ها یقه شومیزیه ",null,null,null,"h12",{"$f":"OV19","v":-11.263888888888886},{"$f":"OW21","v":4.75},{"$f":"OV19","v":-11.263888888888886},{"$f":"OW19","v":5},{"$f":"OU19","v":"h9"},null,{"$f":"I20","v":"جودانه"},"بافت انتخابی جادکمه",null,null,"h12",{"$f":"PG19","v":-14.362847222222221},{"$f":"PH21","v":4.75},{"$f":"PG19","v":-14.362847222222221},{"$f":"PH19","v":5},{"$f":"PF19","v":"h9"},null,{"$f":"I20","v":"جودانه"},"بافت انتخابی جادکمه",null,null,"h12",{"$f":"PR19","v":-11.883680555555554},{"$f":"PS21","v":4.75},{"$f":"PR19","v":-11.883680555555554},{"$f":"PS19","v":5},{"$f":"PQ19","v":"h9"},null,null,"قبل از دانه آخر یکدانه اضافه میکنیم","علامت دوم",null,"زاویه فلش",{"$f":"PY10","v":0.5},"f5",null,null,"فلش به سمت چپ",null,null,null,"پهلو صاف",null,{"$f":"QI74","v":43.546556196820219},{"$f":"QJ74","v":59.750366091517364},"k''4",null,{"$f":"QQ15+QR7*SIN(RADIANS(30))","v":-11},{"$f":"QR15-QR7*COS(RADIANS(30))","v":48.763695857960052},"k11",null,null,null,null,{"$f":"QQ30","v":-9.0162831425915826},{"$f":"QR30","v":49.927797473097812},"k20",null,{"$f":"AD22","v":"جودانه"},{"$f":"AC22","v":"بافت انتخابی یقه انگلیسی"},null,null,"h12",{"$f":"RG19","v":-16.762499999999999},{"$f":"RH21","v":4.75},{"$f":"RG19","v":-16.762499999999999},{"$f":"RH19","v":5},{"$f":"RF19","v":"h9"},null,null,{"$f":"2/SD5","v":0.59280169371912483},"c16"]
[null,null,null,null,"محاسبات در بافت بالاتنه و آستین (بافت انتخابی) ",null,null,"تعداد دانه در یک سانت جلوb0 ",{"$f":"F7+0.68*I25*F7","v":2.4685714285714284},null,null,"محاسبات یقه شکاری ",null,null,null,null,null,"پهنای یقه منهای جادکمه روی نقشه بافت","پهنای یقه منهای جادکمه روی بافت",null,null,null,"محاسبات یقه ب ب",null,null,null,null,null,"یقه انگلیسی ",null,null,null,null,2.5714285714285716,2.8148148148148149,{"$f":"(10/3)*((AM23/AL23)*(1/J6)-1)","v":1.7636684303351156E-2},{"$f":"(100/68)*((AO23/AN23)*(1/J7)-1)","v":0.42016806722689093},13.5,38,14,36,"کج راه",17,null,"کج راه",62,31,null,null,null,null,null,null,null,null,null,null,null,null,null,null,null,null,null,null,null,null,null,null,null,null,null,null,null,null,null,null,null,null,null,null,null,null,null,null,null,"j4",{"$f":"IF('متغیرها '!C5<1,'متغیرها '!C5*'متغیرها '!U59,IF('متغیرها '!C5<2,'متغیرها '!U59+('متغیرها '!C5-1)*('متغیرها '!U60-'متغیرها '!U59),IF('متغیرها '!C5<3,'متغیرها '!U60+('متغیرها '!C5-2)*(I105-'متغیرها '!U60),I105+('متغیرها '!C5-3)*(H127-H126))))","v":60.5},null,null,{"$f":"CI46","v":10.7},{"$f":"CJ46","v":101.39999999999999},"j12",null,"مولفه افقی","مولفه عمودی","اسم نقطه",null,null,null,null,null,null,null,null,null,null,{"$f":"DD18+'طراحی همه الگوها'!U192","v":38.200000000000003},{"$f":"DE14","v":0},8,null,{"$f":"DD25","v":52.3},{"$f":"DE25","v":23.994000000000003},7,null,"s6",{"$f":"DM16","v":0},{"$f":"1.003*DN16","v":105.12643599999997},null,{"$f":"DM34","v":0},{"$f":"DN34","v":103.045},"s17",null,"s'13",{"$f":"DM19+0.5*('طراحی همه الگوها'!U216+'طراحی همه الگوها'!U210-'طراحی همه الگوها'!U217-'طراحی همه الگوها'!U218)","v":54.749999999999993},{"$f":"EC35+DM44","v":0},null,{"$f":"DU27","v":0},{"$f":"DV27","v":103.045},"s'17",null,null,null,null,{"$f":"DB37","v":0},{"$f":"EF14","v":56.999999999999993},4,null,null,null,null,null,null,null,null,null,null,null,null,{"$f":"EP37","v":40.517218561989182},{"$f":"EQ37","v":53.592117676856013},11,null,{"$f":"EX22+0.3*(EX25-EX22)","v":23.704627530816389},{"$f":"MIN(EY22,EY25)+IF(EY25>EY22,0.15,0.9)*ABS(EY25-EY22)","v":1.1376894830110313},"7''",null,null,null,null,null,null,null,null,null,{"$f":"FJ22+'طراحی همه الگوها'!U264","v":15},{"$f":"FG17-'طراحی همه الگوها'!U265","v":51.3},20,null,"s12",{"$f":"FO24","v":14.115},{"$f":"FP24+'طراحی همه الگوها'!U257","v":63.642500152855277},null,{"$f":"FO29","v":2.4384600000000001},{"$f":"FP29","v":101.066605},"s''18",null,null,null,null,null,null,16,{"$f":"GB12+GE12*SIN(RADIANS(GA23)+GA14)","v":{"$error":"#DIV/0!"}},{"$f":"GC12+GE12*COS(RADIANS(GA23)+GA14)","v":{"$error":"#DIV/0!"}},{"$f":"IF(GB13>GB23,ATAN((GC13-GC23)/(GB13-GB23)),ATAN((GC13-GC23)/(GB23-GB13)))","v":{"$error":"#DIV/0!"}},{"$f":"IF(GB13>GB23,(GB13-GB23)/COS(GD23),(GB23-GB13)/COS(GD23))","v":{"$error":"#DIV/0!"}},null,1,2,"نقطه 5","نقطه قبل از چرخش",{"$f":"IF(GH23>GH18,IF(GG23>GG18,GG18+SQRT(POWER(GG23-GG18,2)+POWER(GH23-GH18,2))*COS(ATAN((GH23-GH18)/(GG23-GG18+0.000123))+GH16),GG18-SQRT(POWER(GG23-GG18,2)+POWER(GH23-GH18,2))*COS(ATAN((GH23-GH18)/(GG18-GG23+0.000123))-GH16)),IF(GG23>GG18,GG18+SQRT(POWER(GG23-GG18,2)+POWER(GH23-GH18,2))*COS(ATAN((GH18-GH23)/(GG23-GG18+0.000123))-GH16),GG18-SQRT(POWER(GG23-GG18,2)+POWER(GH23-GH18,2))*COS(ATAN((GH18-GH23)/(GG18-GG23+0.000123))+GH16)))","v":0.61824523267144293},{"$f":"IF(GH23>GH18,IF(GG23>GG18,GH18+SQRT(POWER(GG23-GG18,2)+POWER(GH23-GH18,2))*SIN(ATAN((GH23-GH18)/(GG23-GG18+0.000123))+GH16),GH18+SQRT(POWER(GG23-GG18,2)+POWER(GH23-GH18,2))*SIN(ATAN((GH23-GH18)/(GG18-GG23+0.000123))-GH16)),IF(GG23>GG18,GH18-SQRT(POWER(GG23-GG18,2)+POWER(GH23-GH18,2))*SIN(ATAN((GH18-GH23)/(GG23-GG18+0.000123))-GH16),GH18-SQRT(POWER(GG23-GG18,2)+POWER(GH23-GH18,2))*SIN(ATAN((GH18-GH23)/(GG18-GG23+0.000123))+GH16)))","v":0.69874634779839551},"نقطه چرخیده",null,"متغیر ورودی پهنا","a20",{"$f":"#REF!","v":{"$error":"#REF!"}},"(سانتیمتر)",null,"بهینه α1",{"$f":"GU22+GT11","v":-76},-1.3264502315156905,{"$f":"HB13+HB10*COS(GV23)","v":{"$error":"#REF!"}},{"$f":"HC13-HB10*SIN(GV23)","v":{"$error":"#REF!"}},{"$f":"SQRT(POWER((HB12-GW23),2)+POWER((HC12-GX23),2))","v":{"$error":"#REF!"}},{"$f":"ABS(HB9-GY23)","v":{"$error":"#REF!"}},{"$f":"HA12","v":"پشتk''5"},{"$f":"HB12","v":{"$error":"#REF!"}},{"$f":"HC12","v":{"$error":"#REF!"}},null,null,null,null,null,null,null,null,null,null,null,{"$f":"-HK23+HP9","v":0},0,null,null,0,0,13,null,{"$f":"HS23+2*(SIN(ATAN((HS12-HS11)/(HT12-HT11)))*(HT23-HT11)+COS(ATAN((HS12-HS11)/(HT12-HT11)))*(HS11-HS23))*COS(ATAN((HS12-HS11)/(HT12-HT11)))","v":{"$error":"#DIV/0!"}},{"$f":"HT23-2*(SIN(ATAN((HS12-HS11)/(HT12-HT11)))*(HT23-HT11)+COS(ATAN((HS12-HS11)/(HT12-HT11)))*(HS11-HS23))*SIN(ATAN((HS12-HS11)/(HT12-HT11)))","v":{"$error":"#DIV/0!"}},13,null,null,null,null,null,null,null,null,null,null,null,null,null,null,null,null,null,null,null,null,null,null,null,null,null,null,null,null,null,null,null,null,null,null,null,null,null,null,null,null,null,null,null,null,null,null,null,null,null,null,null,null,null,null,null,null,null,null,null,null,null,null,null,null,null,null,null,null,null,null,null,null,null,null,null,null,null,null,null,null,null,null,null,null,null,null,null,null,null,null,null,null,null,null,null,null,null,null,null,null,null,null,null,null,null,null,null,null,null,null,null,null,null,null,null,null,null,null,null,null,null,null,null,null,null,null,null,null,null,null,null,null,null,null,null,null,null,null,null,null,null,null,null,null,null,null,null,null,null,null,null,"a5",{"$f":"TEXT(0,NV9)&\" دانه\"","v":"43 دانه"},null,null,"h13",{"$f":"NZ19","v":-16.927083333333336},{"$f":"OA20","v":5.25},{"$f":"NZ15","v":-3.3541666666666679},{"$f":"OA15","v":5},{"$f":"NY15","v":"w2"},null,{"$f":"OF5","v":"e1"},{"$f":"TEXT(0,OG5)&\" دانه سر می اندازیم\"","v":"119 دانه سر می اندازیم"},null,null,"h13",{"$f":"OK19","v":-8.1649305555555536},{"$f":"OL20","v":5.25},{"$f":"OK15","v":14.170138888888893},{"$f":"OL15","v":5},{"$f":"OJ15","v":"m2"},null,{"$f":"OQ5","v":"e1"},{"$f":"TEXT(0,OR5)&\" دانه سر می اندازیم\"","v":"104 دانه سر می اندازیم"},null,null,"h13",{"$f":"OV19","v":-11.263888888888886},{"$f":"OW20","v":5.25},{"$f":"OV15","v":7.9722222222222285},{"$f":"OW15","v":5},{"$f":"OU15","v":"m2"},null,"نوشته ها یقه ب ب ",null,null,null,"h13",{"$f":"PG19","v":-14.362847222222221},{"$f":"PH20","v":5.25},{"$f":"PG15","v":1.7743055555555571},{"$f":"PH15","v":5},{"$f":"PF15","v":"n2"},null,"نوشته ها یقه ب ب ",null,null,null,"h13",{"$f":"PR19","v":-11.883680555555554},{"$f":"PS20","v":5.25},{"$f":"PR15","v":6.7326388888888928},{"$f":"PS15","v":5},{"$f":"PQ15","v":"n2"},null,null,"یک رج درمیان یکدانه کم میکنیم","علامت سوم",null,"بزرگی فلش",{"$f":"PY16","v":0.57142857142857151},"f4",{"$f":"QC25","v":-45},{"$f":"QD25","v":6.4285714285714288},{"$f":"QB25","v":"t5"},null,{"$f":"FN173","v":16.725532656711231},{"$f":"FO173","v":50.142500152855277},"شیفت9",null,{"$f":"QI73","v":14.084547276098418},{"$f":"QJ73","v":83.865278353859139},"22f",null,{"$f":"2*QQ15-QQ22","v":-15},{"$f":"QR22","v":48.763695857960052},"k12",null,null,null,null,{"$f":"QQ28","v":-10.700000000000001},{"$f":"QR28","v":48.244080615689391},"k18",null,"نوشته ها یقه انگلیسی ",null,null,null,"h13",{"$f":"RG19","v":-16.762499999999999},{"$f":"RH20","v":5.25},{"$f":"RG15","v":-4.3750000000000036},{"$f":"RH15","v":5},{"$f":"RF15","v":"p2"},null,"متغیرهای  ورودی ",null,null,null,null,null,null,null,null,null,null,"توری بافت آستین",null,null,null,null,null,null,null,null,"متغیرهای  ورودی ",null,null,null,null,null,null,null,null,null,null,"توری بافت یقه و کلاه",null,null,null,null,null,null,null,null,"متغیرهای  ورودی ",null,null,null,null,null,null,null,null,null,null,"توری بافت جلو پیراهن",null,null,null,null,null,null,null,null,"متغیرهای  ورودی ",null,null,null,null,null,null,null,null,null,null,"توری بافت پشت پیراهن",null,null,null,null,null,null,null,null,"متغیرهای  ورودی ",null,null,null,null,null,null,null,null,null,null,"توری بافت جلو شلوار",null,null,null,null,null,null,null,null,"متغیرهای  ورودی ",null,null,null,null,null,null,null,null,null,null,"توری بافت پشت شلوار"]
[null,null,null,null,"تعداد دانه ها  دور گردن + دو تا نیمه جادکمه که از خط مرکزی اضافه شده",{"$f":"F26+2*F25","v":72},null,"جمع شوندگی عمودی بافت جلو   f2",{"$f":"OFFSET(AJ6,I26,0)","v":0.19400352733686049},null,null,"a10","a11","a22","a22",null,"محاسبات یقه شومیزیه تا خط جادکمه",null,null,null,null,null,"c10","c11","c22","c22",null,null,"d14","d15","d22","d22",null,2.88,3.1111111111111112,{"$f":"(10/3)*((AM24/AL24)*(1/J6)-1)","v":0.37037037037037057},{"$f":"(100/68)*((AO24/AN24)*(1/J7)-1)","v":0.64705882352941169},13.5,42,12.5,36,"تیغ ماهی",18,null,"تیغ ماهی",85,49,null,null,null,null,null,null,null,null,null,null,null,null,null,null,null,null,null,null,null,null,null,null,null,null,null,null,null,null,null,null,null,null,null,null,null,null,null,null,null,"رسم دستی چادر 1 یا مقنعه چانه دار(بر حسب سانتیمتر)",null,null,null,{"$f":"CI38","v":10.7},{"$f":"CJ38","v":109.1},"j3",null,{"$f":"CQ14","v":0},{"$f":"CR16+0.1*'متغیرها '!U85-CR19+CR17","v":86.149999999999991},"d2",null,null,null,"انحنا",null,null,null,null,null,null,{"$f":"DB37+'طراحی همه الگوها'!U189","v":52.3},{"$f":"DE14","v":0},6,null,null,null,null,null,"s7",{"$f":"DM23+0.12*(DM27-DM23)","v":3.9893519936232877},{"$f":"DN27+0.94*(DN23-DN27)","v":103.44816197486102},null,{"$f":"DM35","v":2.4384600000000001},{"$f":"DN35","v":101.066605},"s18",null,"s'14",{"$f":"DM13+DM42*COS(DM40)","v":4.8769200000000001},{"$f":"DN13-DM42*SIN(DM40)","v":96.45035},null,{"$f":"DU28","v":2.9261520000000001},{"$f":"DV28","v":101.066605},"s'18",null,null,null,null,{"$f":"DB37+'طراحی همه الگوها'!U213","v":33.9},{"$f":"EF14","v":56.999999999999993},5,null,{"$f":"EI20","v":43.8},{"$f":"EJ20","v":13.2},16,null,null,null,null,null,null,null,null,null,null,null,null,{"$f":"EX22+0.7*(EX25-EX22)","v":36.792447991921563},{"$f":"MIN(EY22,EY25)+0.5*ABS(EY25-EY22)","v":2.7909369805884459},"7'''",null,null,null,null,null,{"$f":"FF15","v":55.8},{"$f":"FG15","v":60.4},4,null,{"$f":"FJ22+'طراحی همه الگوها'!U266","v":29.9},{"$f":"FG17-'طراحی همه الگوها'!U267","v":48.8},22,null,"41 شبیه ساز",{"$f":"DT395","v":14.115},{"$f":"DU395","v":60.84250015285528},null,{"$f":"FO12","v":4.8769200000000001},{"$f":"FP12","v":96.45035},"s3",null,null,null,null,null,null,18,{"$f":"GB12+GE12*SIN(RADIANS(GA24)+GA14)","v":{"$error":"#DIV/0!"}},{"$f":"GC12+GE12*COS(RADIANS(GA24)+GA14)","v":{"$error":"#DIV/0!"}},{"$f":"IF(GB13>GB24,ATAN((GC13-GC24)/(GB13-GB24)),ATAN((GC13-GC24)/(GB24-GB13)))","v":{"$error":"#DIV/0!"}},{"$f":"IF(GB13>GB24,(GB13-GB24)/COS(GD24),(GB24-GB13)/COS(GD24))","v":{"$error":"#DIV/0!"}},null,1,2,"نقطه 6","نقطه قبل از چرخش",{"$f":"IF(GH24>GH18,IF(GG24>GG18,GG18+SQRT(POWER(GG24-GG18,2)+POWER(GH24-GH18,2))*COS(ATAN((GH24-GH18)/(GG24-GG18+0.000123))+GH16),GG18-SQRT(POWER(GG24-GG18,2)+POWER(GH24-GH18,2))*COS(ATAN((GH24-GH18)/(GG18-GG24+0.000123))-GH16)),IF(GG24>GG18,GG18+SQRT(POWER(GG24-GG18,2)+POWER(GH24-GH18,2))*COS(ATAN((GH18-GH24)/(GG24-GG18+0.000123))-GH16),GG18-SQRT(POWER(GG24-GG18,2)+POWER(GH24-GH18,2))*COS(ATAN((GH18-GH24)/(GG18-GG24+0.000123))+GH16)))","v":0.61824523267144293},{"$f":"IF(GH24>GH18,IF(GG24>GG18,GH18+SQRT(POWER(GG24-GG18,2)+POWER(GH24-GH18,2))*SIN(ATAN((GH24-GH18)/(GG24-GG18+0.000123))+GH16),GH18+SQRT(POWER(GG24-GG18,2)+POWER(GH24-GH18,2))*SIN(ATAN((GH24-GH18)/(GG18-GG24+0.000123))-GH16)),IF(GG24>GG18,GH18-SQRT(POWER(GG24-GG18,2)+POWER(GH24-GH18,2))*SIN(ATAN((GH18-GH24)/(GG24-GG18+0.000123))-GH16),GH18-SQRT(POWER(GG24-GG18,2)+POWER(GH24-GH18,2))*SIN(ATAN((GH18-GH24)/(GG18-GG24+0.000123))+GH16)))","v":0.69874634779839551},"نقطه چرخیده",null,"متغیر ورودی طول","a21",1,null,null,{"$f":"IF(GZ12>GZ11,GU11,IF(GZ13>GZ12,GU12,IF(GZ14>GZ13,GU13,IF(GZ15>GZ14,GU14,IF(GZ16>GZ15,GU15,IF(GZ17>GZ16,GU16,IF(GZ18>GZ17,GU17,IF(GZ19>GZ18,GU18,IF(GZ20>GZ19,GU19,IF(GZ21>GZ20,GU20,IF(GZ22>GZ21,GU21,IF(GZ23>GZ22,GU22,IF(GZ24>GZ23,GU23,IF(GZ25>GZ24,GU24,IF(GZ26>GZ25,GU25,IF(GZ27>GZ26,GU26,IF(GZ28>GZ27,GU27,IF(GZ29>GZ28,GU28,IF(GZ30>GZ29,GU29,IF(GZ31>GZ30,GU30,IF(GZ32>GZ31,GU31,IF(GZ33>GZ32,GU32,IF(GZ34>GZ33,GU33,IF(GZ35>GZ34,GU34,IF(GZ36>GZ35,GU35,IF(GZ37>GZ36,GU36,IF(GZ38>GZ37,GU37,IF(GZ39>GZ38,GU38,IF(GZ40>GZ39,GU39,IF(GZ41>GZ40,GU40,IF(GZ42>GZ41,GU41,IF(GZ43>GZ42,GU42,IF(GZ44>GZ43,GU43,IF(GZ45>GZ44,GU44,IF(GZ46>GZ45,GU45,IF(GZ47>GZ46,GU46,IF(GZ48>GZ47,GU47,IF(GZ49>GZ48,GU48,IF(GZ50>GZ49,GU49,IF(GZ51>GZ50,GU50,IF(GZ52>GZ51,GU51,GU52)))))))))))))))))))))))))))))))))))))))))","v":{"$error":"#REF!"}},{"$f":"GU23+GT11","v":-74},-1.2915436464758039,{"$f":"HB13+HB10*COS(GV24)","v":{"$error":"#REF!"}},{"$f":"HC13-HB10*SIN(GV24)","v":{"$error":"#REF!"}},{"$f":"SQRT(POWER((HB12-GW24),2)+POWER((HC12-GX24),2))","v":{"$error":"#REF!"}},{"$f":"ABS(HB9-GY24)","v":{"$error":"#REF!"}},null,null,null,null,null,null,null,null,null,null,null,null,null,null,{"$f":"-HK24+HP9","v":0},0,null,null,{"$f":"HF30","v":0},{"$f":"HG30","v":0},14,null,{"$f":"HS24+2*(SIN(ATAN((HS12-HS11)/(HT12-HT11)))*(HT24-HT11)+COS(ATAN((HS12-HS11)/(HT12-HT11)))*(HS11-HS24))*COS(ATAN((HS12-HS11)/(HT12-HT11)))","v":{"$error":"#DIV/0!"}},{"$f":"HT24-2*(SIN(ATAN((HS12-HS11)/(HT12-HT11)))*(HT24-HT11)+COS(ATAN((HS12-HS11)/(HT12-HT11)))*(HS11-HS24))*SIN(ATAN((HS12-HS11)/(HT12-HT11)))","v":{"$error":"#DIV/0!"}},14,null,null,null,null,null,null,null,null,null,null,null,null,null,null,null,null,null,null,null,null,null,null,null,null,null,null,null,null,null,null,null,null,null,null,null,null,null,null,null,null,null,null,null,null,null,null,null,null,null,null,null,null,null,null,null,null,null,null,null,null,null,null,null,null,null,null,null,null,null,null,null,null,null,null,null,null,null,null,null,null,null,null,null,null,null,null,null,null,null,null,null,null,null,null,null,null,null,null,null,null,null,null,null,null,null,null,null,null,null,null,null,null,null,null,null,null,null,null,null,null,null,null,null,null,null,null,null,null,null,null,null,null,null,null,null,null,null,null,null,null,null,null,null,null,null,null,null,null,null,null,null,"a6",{"$f":"TEXT(0,NV10)&\" رج مثل رج قبل میبافیم\"","v":"6 رج مثل رج قبل میبافیم"},null,null,null,null,null,null,null,null,null,"e2",{"$f":"TEXT(0,OG6)&\" رج مثل رج قبل میبافیم\"","v":"9 رج مثل رج قبل میبافیم"},null,null,null,null,null,null,null,null,null,"e2",{"$f":"TEXT(0,OR6)&\" رج مثل رج قبل میبافیم\"","v":"9 رج مثل رج قبل میبافیم"},null,null,null,null,null,null,null,null,null,{"$f":"PB5","v":"c1"},{"$f":"TEXT(0,PC5)&\" دانه سر می اندازیم\"","v":"89 دانه سر می اندازیم"},null,null,null,null,null,null,null,null,null,{"$f":"PM5","v":"c1"},{"$f":"TEXT(0,PN5)&\" دانه سر می اندازیم\"","v":"101 دانه سر می اندازیم"},null,null,null,null,null,null,null,null,null,null,"بکدانه کم میکنیم","علامت چهارم",null,"نقطه ورودی سر فلش","مولفه افقی","مولفه عمودی",{"$f":"QC27","v":-44.428571428571431},{"$f":"QD27","v":6.7142857142857144},{"$f":"QB27","v":"f3"},null,{"$f":"AZ113","v":15.776499999999999},{"$f":"BA113","v":70.065165014267322},12,null,{"$f":"QI61","v":5.4188000000000001},{"$f":"QJ61","v":86.9},25,null,{"$f":"QQ15+QR7*SIN(RADIANS(60))","v":-9.5358983848622465},{"$f":"QR15-QR7*COS(RADIANS(60))","v":50.227797473097809},"k13",null,null,null,null,{"$f":"QQ37","v":-10.4},{"$f":"QR37","v":47.724465373418724},"k27",null,{"$f":"RB5","v":"d1"},{"$f":"TEXT(0,RC5)&\" دانه سر می اندازیم\"","v":"63 دانه سر می اندازیم"},null,null,null,null,null,null,null,null,null,"c3",{"$f":"IF(RR18=1,RR17,'متغیرها '!C909)","v":0},"جابجایی افقی ",null,null,"رسم توری اصلی عمودی بافت ",null,null,null,"محاسبات رسم افقی",null,null,null,"رسم توری اصلی افقی بافت ",null,null,null,"رسم توری فرعی افقی بافت ",null,null,"c3",{"$f":"IF(RR18=1,RR17,'متغیرها '!C915)","v":0},"جابجایی افقی ",null,null,"رسم توری اصلی عمودی بافت ",null,null,null,"محاسبات رسم افقی",null,null,null,"رسم توری اصلی افقی بافت ",null,null,null,"رسم توری فرعی افقی بافت ",null,null,"c3",{"$f":"IF(RR18=1,RR17,'متغیرها '!C921)","v":0},"جابجایی افقی ",null,null,"رسم توری اصلی عمودی بافت ",null,null,null,"محاسبات رسم افقی",null,null,null,"رسم توری اصلی افقی بافت ",null,null,null,"رسم توری فرعی افقی بافت ",null,null,"c3",{"$f":"IF(RR18=1,RR17,'متغیرها '!C927)","v":0},"جابجایی افقی ",null,null,"رسم توری اصلی عمودی بافت ",null,null,null,"محاسبات رسم افقی",null,null,null,"رسم توری اصلی افقی بافت ",null,null,null,"رسم توری فرعی افقی بافت ",null,null,"c3",{"$f":"IF(RR18=1,RR17,'متغیرها '!C933)","v":0},"جابجایی افقی ",null,null,"رسم توری اصلی عمودی بافت ",null,null,null,"محاسبات رسم افقی",null,null,null,"رسم توری اصلی افقی بافت ",null,null,null,"رسم توری فرعی افقی بافت ",null,null,"c3",{"$f":"IF(RR18=1,RR17,'متغیرها '!C939)","v":0},"جابجایی افقی ",null,null,"رسم توری اصلی عمودی بافت ",null,null,null,"محاسبات رسم افقی",null,null,null,"رسم توری اصلی افقی بافت ",null,null,null,"رسم توری فرعی افقی بافت "]
[null,null,null,null," b2  (بدون اعمال بافت اننتخابی) تعداد دانه های اضافه شده  از خط مرکزی تا خط جادکمه = نیمه جادکمه",{"$f":"ROUNDUP(F7*(-AX147),0)","v":0},null,"جمع شوندگی افقی بافت جلو   f3",{"$f":"OFFSET(AJ6,I26,1)","v":4.2016806722688926E-2},null,null,{"$f":"IF(((O33-(G46-2*O41))/(O33+(G46-2*O41)))<1,1,ABS(ROUND(O33/(O33-(G46-2*O41+0.001)),0)))","v":1},{"$f":"IF(((O33-(G46-2*O41))/(O33+(G46-2*O41)))<1,1,ABS(ROUND(O33/(O33-(G46-2*O41)+0.0001),0)-1))","v":1},{"$f":"O33-(O33/L25)*(L25-M25)-(G46-2*O41)","v":52},{"$f":"ROUNDDOWN(ABS(N25),0)","v":52},null,"e10","e11","e22","e22",null,null,{"$f":"IF(((X15-X16)/(X15+X16))<1,1,ABS(ROUND(X15/(X15-(X16+0.0001)),0)))","v":1},{"$f":"IF(((X15-X16)/(X15+X16))<1,1,ABS(ROUND(X15/(X15-X16+0.0001),0)-1))","v":1},{"$f":"X15-(X15/W25)*(W25-X25)-X16","v":3},{"$f":"ROUNDDOWN(ABS(Y25),0)","v":3},null,null,{"$f":"IF(((AD15-AD16)/(AD15+AD16))<1,1,ABS(ROUND(AD15/(AD15-(AD16+0.0001)),0)))","v":1},{"$f":"IF(((AD15-AD16)/(AD15+AD16))<1,1,ABS(ROUND(AD15/(AD15-AD16+0.0001),0)-1))","v":1},{"$f":"AD15-(AD15/AC25)*(AC25-AD25)-AD16","v":-2},{"$f":"ROUNDDOWN(ABS(AE25),0)","v":2},null,3.4285714285714284,2.6666666666666665,{"$f":"(10/3)*((AM25/AL25)*(1/J6)-1)","v":-0.15873015873015892},{"$f":"(100/68)*((AO25/AN25)*(1/J7)-1)","v":1.0504201680672269},13.5,36,10.5,36,"اسموکینگ",19,null,"اسموکینگ",125,22,null,null,null,null,null,null,null,null,null,null,null,null,null,null,null,null,null,null,null,null,null,null,null,null,null,null,null,null,null,null,null,null,null,null,null,null,null,null,null,null,null,null,null,null,null,null,null,{"$f":"CQ24","v":0},{"$f":"CR24+1.41*CR19","v":118.50949999999999},"d3",null,{"$f":"CQ27","v":0},{"$f":"CR27","v":50.004499999999993},"d6",null,null,null,null,null,null,{"$f":"DB37+'طراحی همه الگوها'!U189","v":52.3},{"$f":"DE14+'طراحی همه الگوها'!U191","v":23.994000000000003},7,null,{"$f":"DD15","v":0},{"$f":"DE15","v":116.2},1,null,"s8",{"$f":"DM23+0.4*(DM27-DM23)","v":13.297839978744292},{"$f":"DN27+0.5*(DN23-DN27)","v":91.140819123842135},null,{"$f":"DM31","v":4.8769200000000001},{"$f":"DN31","v":96.45035},"s14",null,"s'16",{"$f":"DM15","v":0},{"$f":"DN15","v":71.8},null,{"$f":"DU24","v":4.8769200000000001},{"$f":"DV24","v":96.45035},"s'14",null,null,null,null,{"$f":"DB37+'طراحی همه الگوها'!U213+'طراحی همه الگوها'!U214","v":43.9},{"$f":"EF14","v":56.999999999999993},6,null,{"$f":"EI20","v":43.8},{"$f":"EF15","v":0},15,null,null,"(3 →6)",{"$f":"ROUND(0.2*(EP34-EP30),1)","v":10.6},null,null,null,null,{"$f":"EP29","v":0},{"$f":"EQ34","v":5.1527191199847522},14,null,{"$f":"EP34","v":46.608313337750445},{"$f":"EQ34","v":5.1527191199847522},8,null,null,null,null,null,{"$f":"FF15","v":55.8},{"$f":"FG15+'طراحی همه الگوها'!U257","v":63.199999999999996},9,null,{"$f":"FF22","v":37.4},{"$f":"FG22","v":46.3},7,null,"41'",{"$f":"FO24+0.5*(FO27-FO24)","v":21.0075},{"$f":"FP27+0.7*(FP24-FP27)","v":42.589750106998693},null,null,null,null,null,null,null,null,null,null,20,{"$f":"GB12+GE12*SIN(RADIANS(GA25)+GA14)","v":{"$error":"#DIV/0!"}},{"$f":"GC12+GE12*COS(RADIANS(GA25)+GA14)","v":{"$error":"#DIV/0!"}},{"$f":"IF(GB13>GB25,ATAN((GC13-GC25)/(GB13-GB25)),ATAN((GC13-GC25)/(GB25-GB13)))","v":{"$error":"#DIV/0!"}},{"$f":"IF(GB13>GB25,(GB13-GB25)/COS(GD25),(GB25-GB13)/COS(GD25))","v":{"$error":"#DIV/0!"}},null,1,2,"نقطه 7","نقطه قبل از چرخش",{"$f":"IF(GH25>GH18,IF(GG25>GG18,GG18+SQRT(POWER(GG25-GG18,2)+POWER(GH25-GH18,2))*COS(ATAN((GH25-GH18)/(GG25-GG18+0.000123))+GH16),GG18-SQRT(POWER(GG25-GG18,2)+POWER(GH25-GH18,2))*COS(ATAN((GH25-GH18)/(GG18-GG25+0.000123))-GH16)),IF(GG25>GG18,GG18+SQRT(POWER(GG25-GG18,2)+POWER(GH25-GH18,2))*COS(ATAN((GH18-GH25)/(GG25-GG18+0.000123))-GH16),GG18-SQRT(POWER(GG25-GG18,2)+POWER(GH25-GH18,2))*COS(ATAN((GH18-GH25)/(GG18-GG25+0.000123))+GH16)))","v":0.61824523267144293},{"$f":"IF(GH25>GH18,IF(GG25>GG18,GH18+SQRT(POWER(GG25-GG18,2)+POWER(GH25-GH18,2))*SIN(ATAN((GH25-GH18)/(GG25-GG18+0.000123))+GH16),GH18+SQRT(POWER(GG25-GG18,2)+POWER(GH25-GH18,2))*SIN(ATAN((GH25-GH18)/(GG18-GG25+0.000123))-GH16)),IF(GG25>GG18,GH18-SQRT(POWER(GG25-GG18,2)+POWER(GH25-GH18,2))*SIN(ATAN((GH18-GH25)/(GG25-GG18+0.000123))-GH16),GH18-SQRT(POWER(GG25-GG18,2)+POWER(GH25-GH18,2))*SIN(ATAN((GH18-GH25)/(GG18-GG25+0.000123))+GH16)))","v":0.69874634779839551},"نقطه چرخیده",null,null,null,"ماکزیمم متغیر ورودی  ضریب طول",1,null,null,{"$f":"GU24+GT11","v":-72},-1.2566370614359172,{"$f":"HB13+HB10*COS(GV25)","v":{"$error":"#REF!"}},{"$f":"HC13-HB10*SIN(GV25)","v":{"$error":"#REF!"}},{"$f":"SQRT(POWER((HB12-GW25),2)+POWER((HC12-GX25),2))","v":{"$error":"#REF!"}},{"$f":"ABS(HB9-GY25)","v":{"$error":"#REF!"}},null,null,null,null,null,null,null,null,null,null,null,null,null,null,{"$f":"-HK25+HP9","v":0},0,null,null,0,0,15,null,{"$f":"HS25+2*(SIN(ATAN((HS12-HS11)/(HT12-HT11)))*(HT25-HT11)+COS(ATAN((HS12-HS11)/(HT12-HT11)))*(HS11-HS25))*COS(ATAN((HS12-HS11)/(HT12-HT11)))","v":{"$error":"#DIV/0!"}},{"$f":"HT25-2*(SIN(ATAN((HS12-HS11)/(HT12-HT11)))*(HT25-HT11)+COS(ATAN((HS12-HS11)/(HT12-HT11)))*(HS11-HS25))*SIN(ATAN((HS12-HS11)/(HT12-HT11)))","v":{"$error":"#DIV/0!"}},15,null,null,null,null,null,null,null,null,null,null,null,null,null,null,null,null,null,null,null,null,null,null,null,null,null,null,null,null,null,null,null,null,null,null,null,null,null,null,null,null,null,null,null,null,null,null,null,null,null,null,null,null,null,null,null,null,null,null,null,null,null,null,null,null,null,null,null,null,null,null,null,null,null,null,null,null,null,null,null,null,null,null,null,null,null,null,null,null,null,null,null,null,null,null,null,null,null,null,null,null,null,null,null,null,null,null,null,null,null,null,null,null,null,null,null,null,null,null,null,null,null,null,null,null,null,null,null,null,null,null,null,null,null,null,null,null,null,null,null,null,null,null,null,null,null,null,null,null,null,null,null,"a10,a11,b1",{"$f":"\"تعداد دانه ها\"&TEXT(0,NV5)&\"میباشد. هر\"&TEXT(0,NV11)&\"  دانه را تبدیل به  \"&TEXT(0,NV12)&\"  دانه میکنیم تا تعداد دانه ها  \"&TEXT(0,NV15)&\" شود\"","v":"تعداد دانه ها124میباشد. هر5  دانه را تبدیل به  3  دانه میکنیم تا تعداد دانه ها  72 شود"},null,null,null,null,"نقطه وسط باکس جایی برای لیبل نوشته",{"$f":"NZ17","v":-19.177083333333336},{"$f":"OA17","v":5},{"$f":"NY17","v":"h5"},null,"e3",{"$f":"TEXT(0,OG7)&\" دانه\"","v":"12 دانه"},null,null,null,null,"نقطه وسط باکس جایی برای لیبل نوشته",{"$f":"OK17","v":-10.414930555555554},{"$f":"OL17","v":5},{"$f":"OJ17","v":"h5"},null,"e3",{"$f":"TEXT(0,OR7)&\" دانه\"","v":"12 دانه"},null,null,null,null,"نقطه وسط باکس جایی برای لیبل نوشته",{"$f":"OV17","v":-13.513888888888886},{"$f":"OW17","v":5},{"$f":"OU17","v":"h5"},null,{"$f":"PB6","v":"c2"},{"$f":"TEXT(0,PC6)&\" رج مثل رج قبل میبافیم\"","v":"2 رج مثل رج قبل میبافیم"},null,null,null,null,"نقطه وسط باکس جایی برای لیبل نوشته",{"$f":"PG17","v":-16.612847222222221},{"$f":"PH17","v":5},{"$f":"PF17","v":"h5"},null,{"$f":"PM6","v":"c2"},{"$f":"TEXT(0,PN6)&\" رج مثل رج قبل میبافیم\"","v":"2 رج مثل رج قبل میبافیم"},null,null,null,null,"نقطه وسط باکس جایی برای لیبل نوشته",{"$f":"PR17","v":-14.133680555555554},{"$f":"PS17","v":5},{"$f":"PQ17","v":"h5"},null,null,"یکدانه اضافه میکنیم","علامت پنجم",null,{"$f":"PZ33","v":"t5"},{"$f":"PX33","v":-45},{"$f":"PY33","v":6.4285714285714288},null,null,null,null,null,null,"جادکمه",null,null,null,null,null,{"$f":"2*QQ15-QQ24","v":-16.464101615137753},{"$f":"QR24","v":50.227797473097809},"k14",null,null,null,null,{"$f":"QQ38","v":-8.4966679003209187},{"$f":"QR38","v":49.627797473097807},"k28",null,{"$f":"RB6","v":"d2"},{"$f":"TEXT(0,RC6)&\" رج مثل رج قبل میبافیم\"","v":"5 رج مثل رج قبل میبافیم"},null,null,null,null,"نقطه وسط باکس جایی برای لیبل نوشته",{"$f":"RG17","v":-19.6875},{"$f":"RH17","v":5},{"$f":"RF17","v":"h5"},null,"c4",{"$f":"IF(RR18=1,RR14,'متغیرها '!C910+80)","v":-20},"جابجایی عمودی ",null,"مولفه افقی","مولفه عمودی","اسم نقطه",null,"c3",{"$f":"RN25-RN27","v":-40},"جابجایی عمودی ",null,"مولفه عمودی","مولفه افقی","اسم نقطه",null,"مولفه عمودی","مولفه افقی","اسم نقطه",null,"c4",{"$f":"IF(RR18=1,RR14,'متغیرها '!C916+80)","v":-20},"جابجایی عمودی ",null,"مولفه افقی","مولفه عمودی","اسم نقطه",null,"c3",{"$f":"SH25-SH27","v":-40},"جابجایی عمودی ",null,"مولفه عمودی","مولفه افقی","اسم نقطه",null,"مولفه عمودی","مولفه افقی","اسم نقطه",null,"c4",{"$f":"IF(RR18=1,RR14,'متغیرها '!C922+80)","v":-20},"جابجایی عمودی ",null,"مولفه افقی","مولفه عمودی","اسم نقطه",null,"c3",{"$f":"TB25-TB27","v":-40},"جابجایی عمودی ",null,"مولفه عمودی","مولفه افقی","اسم نقطه",null,"مولفه عمودی","مولفه افقی","اسم نقطه",null,"c4",{"$f":"IF(RR18=1,RR14,'متغیرها '!C928+80)","v":-20},"جابجایی عمودی ",null,"مولفه افقی","مولفه عمودی","اسم نقطه",null,"c3",{"$f":"TV25-TV27","v":-40},"جابجایی عمودی ",null,"مولفه عمودی","مولفه افقی","اسم نقطه",null,"مولفه عمودی","مولفه افقی","اسم نقطه",null,"c4",{"$f":"IF(RR18=1,RR14,'متغیرها '!C934+80)","v":-20},"جابجایی عمودی ",null,"مولفه افقی","مولفه عمودی","اسم نقطه",null,"c3",{"$f":"UP25-UP27","v":-40},"جابجایی عمودی ",null,"مولفه عمودی","مولفه افقی","اسم نقطه",null,"مولفه عمودی","مولفه افقی","اسم نقطه",null,"c4",{"$f":"IF(RR18=1,RR14,'متغیرها '!C940+80)","v":-20},"جابجایی عمودی ",null,"مولفه افقی","مولفه عمودی","اسم نقطه",null,"c3",{"$f":"VJ25-VJ27","v":-40},"جابجایی عمودی ",null,"مولفه عمودی","مولفه افقی","اسم نقطه",null,"مولفه عمودی","مولفه افقی","اسم نقطه"]
[null,null,null,null,"(بدون اعمال بافت اننتخابی)  b1 تعداد دانه ها  دور تا دور گردن ",{"$f":"F45+2*F44+2*F43+F42","v":72},null,"بافت انتخابی جلو",{"$f":"'متغیرها '!C859","v":15},null,null,{"$f":"ABS(ROUND(2*O33/(O33-(G46-2*O41)+0.001),0))","v":5},{"$f":"ABS(ROUND(2*(O33/(O33-(G46-2*O41)+0.001)-1),0))","v":3},{"$f":"O33-(O33/L26)*(L26-M26)-(G46-2*O41)","v":2.4000000000000057},{"$f":"ROUNDDOWN(ABS(N26),0)","v":2},null,{"$f":"IF(((S19-G46)/(S19+G46))<1,1,ABS(ROUND(S19/(S19-(G46+0.0001)),0)))","v":1},{"$f":"IF(((S19-G46)/(S19+G46))<1,1,ABS(ROUND(S19/(S19-G46+0.0001),0)-1))","v":1},{"$f":"S19-(S19/Q26)*(Q26-R26)-G46","v":3.2370858938842844},{"$f":"ROUNDDOWN(ABS(S26),0)","v":3},null,null,{"$f":"ABS(ROUND(2*X15/(X15-(X16)+0.001),0))","v":51},{"$f":"ABS(ROUND(2*(X15/(X15-X16+0.0001)-1),0))","v":49},{"$f":"X15-(X15/W26)*(W26-X26)-X16","v":-1.960784313725128E-2},{"$f":"ROUNDDOWN(ABS(Y26),0)","v":0},null,null,{"$f":"ABS(ROUND(2*AD15/(AD15-(AD16)+0.001),0))","v":42},{"$f":"ABS(ROUND(2*(AD15/(AD15-AD16+0.0001)-1),0))","v":44},{"$f":"AD15-(AD15/AC26)*(AC26-AD26)-AD16","v":0},{"$f":"ROUNDDOWN(ABS(AE26),0)","v":0},null,2.7692307692307692,2.8148148148148149,{"$f":"(10/3)*((AM26/AL26)*(1/J6)-1)","v":1.7636684303351156E-2},{"$f":"(100/68)*((AO26/AN26)*(1/J7)-1)","v":0.56561085972850678},13.5,38,13,36,"زنبوری",20,null,"زنبوری",77,31,null,null,null,null,null,null,null,null,null,null,null,null,null,null,null,null,null,null,null,null,null,null,null,null,null,null,null,null,null,null,null,null,null,null,null,null,null,null,null,null,null,null,null,{"$f":"CI45","v":19.899999999999999},{"$f":"CJ45","v":109.1},"j11",null,{"$f":"0.7*(CR20+CR19)+CQ24","v":57.574999999999996},{"$f":"CR25-0.7*(CR19+CR20)","v":60.934499999999993},"d4",null,{"$f":"CQ28","v":11.515000000000001},{"$f":"CR28","v":50.004499999999993},"d7",null,null,null,null,null,null,{"$f":"DB37+'طراحی همه الگوها'!U189","v":52.3},{"$f":"DE15-'طراحی همه الگوها'!U198","v":102.9},14,null,null,null,null,null,"s9",{"$f":"DM23+0.7*(DM27-DM23)","v":23.271219962802512},{"$f":"DN27+0.2*(DN23-DN27)","v":82.749448998147443},null,null,null,null,null,"s'15",{"$f":"DU25+0.7*(DU24-DU25)","v":3.4138440000000001},{"$f":"DV25+0.5*(DV24-DV25)","v":84.125174999999999},null,{"$f":"DU26","v":3.4138440000000001},{"$f":"DV26","v":84.125174999999999},"s'15",null,null,null,null,{"$f":"EE25","v":43.9},{"$f":"EF19","v":59.699999999999996},7,null,null,null,null,null,null,"(5 →7)",{"$f":"ROUND(0.2*(EP34-EP31),1)","v":8.1999999999999993},null,null,null,null,{"$f":"EP34","v":46.608313337750445},{"$f":"EQ34","v":5.1527191199847522},8,null,null,null,null,null,null,null,null,null,{"$f":"FF13+'طراحی همه الگوها'!U249-'طراحی همه الگوها'!U256","v":-23.400000000000006},{"$f":"FG25","v":63.199999999999996},10,null,null,null,null,null,"41''",{"$f":"FO24+0.88*(FO27-FO24)","v":26.245799999999999},{"$f":"FP27+0.3*(FP24-FP27)","v":18.252750045856583},null,{"$f":"FO12","v":4.8769200000000001},{"$f":"FP12","v":96.45035},"s3",null,null,null,null,null,null,22,{"$f":"GB12+GE12*SIN(RADIANS(GA26)+GA14)","v":{"$error":"#DIV/0!"}},{"$f":"GC12+GE12*COS(RADIANS(GA26)+GA14)","v":{"$error":"#DIV/0!"}},{"$f":"IF(GB13>GB26,ATAN((GC13-GC26)/(GB13-GB26)),ATAN((GC13-GC26)/(GB26-GB13)))","v":{"$error":"#DIV/0!"}},{"$f":"IF(GB13>GB26,(GB13-GB26)/COS(GD26),(GB26-GB13)/COS(GD26))","v":{"$error":"#DIV/0!"}},null,1,2,"نقطه 8","نقطه قبل از چرخش",{"$f":"IF(GH26>GH18,IF(GG26>GG18,GG18+SQRT(POWER(GG26-GG18,2)+POWER(GH26-GH18,2))*COS(ATAN((GH26-GH18)/(GG26-GG18+0.000123))+GH16),GG18-SQRT(POWER(GG26-GG18,2)+POWER(GH26-GH18,2))*COS(ATAN((GH26-GH18)/(GG18-GG26+0.000123))-GH16)),IF(GG26>GG18,GG18+SQRT(POWER(GG26-GG18,2)+POWER(GH26-GH18,2))*COS(ATAN((GH18-GH26)/(GG26-GG18+0.000123))-GH16),GG18-SQRT(POWER(GG26-GG18,2)+POWER(GH26-GH18,2))*COS(ATAN((GH18-GH26)/(GG18-GG26+0.000123))+GH16)))","v":0.61824523267144293},{"$f":"IF(GH26>GH18,IF(GG26>GG18,GH18+SQRT(POWER(GG26-GG18,2)+POWER(GH26-GH18,2))*SIN(ATAN((GH26-GH18)/(GG26-GG18+0.000123))+GH16),GH18+SQRT(POWER(GG26-GG18,2)+POWER(GH26-GH18,2))*SIN(ATAN((GH26-GH18)/(GG18-GG26+0.000123))-GH16)),IF(GG26>GG18,GH18-SQRT(POWER(GG26-GG18,2)+POWER(GH26-GH18,2))*SIN(ATAN((GH18-GH26)/(GG26-GG18+0.000123))-GH16),GH18-SQRT(POWER(GG26-GG18,2)+POWER(GH26-GH18,2))*SIN(ATAN((GH18-GH26)/(GG18-GG26+0.000123))+GH16)))","v":0.69874634779839551},"نقطه چرخیده",null,"m1",{"$f":"IF(GR21>GR22,ATAN((GQ22-GQ21)/(GR21-GR22)),2*RADIANS(90)-ATAN((GQ22-GQ21)/(GR22-GR21)))","v":{"$error":"#REF!"}},"m2",{"$f":"SQRT(POWER(GQ21-GQ22,2)+POWER(GR21-GR22,2))","v":{"$error":"#REF!"}},null,null,{"$f":"GU25+GT11","v":-70},-1.2217304763960306,{"$f":"HB13+HB10*COS(GV26)","v":{"$error":"#REF!"}},{"$f":"HC13-HB10*SIN(GV26)","v":{"$error":"#REF!"}},{"$f":"SQRT(POWER((HB12-GW26),2)+POWER((HC12-GX26),2))","v":{"$error":"#REF!"}},{"$f":"ABS(HB9-GY26)","v":{"$error":"#REF!"}},null,null,null,null,null,null,null,null,null,null,null,null,null,null,{"$f":"-HK26+HP9","v":0},0,null,null,0,0,16,null,{"$f":"HS26+2*(SIN(ATAN((HS12-HS11)/(HT12-HT11)))*(HT26-HT11)+COS(ATAN((HS12-HS11)/(HT12-HT11)))*(HS11-HS26))*COS(ATAN((HS12-HS11)/(HT12-HT11)))","v":{"$error":"#DIV/0!"}},{"$f":"HT26-2*(SIN(ATAN((HS12-HS11)/(HT12-HT11)))*(HT26-HT11)+COS(ATAN((HS12-HS11)/(HT12-HT11)))*(HS11-HS26))*SIN(ATAN((HS12-HS11)/(HT12-HT11)))","v":{"$error":"#DIV/0!"}},16,null,null,null,null,null,null,null,null,null,null,null,null,null,null,null,null,null,null,null,null,null,null,null,null,null,null,null,null,null,null,null,null,null,null,null,null,null,null,null,null,null,null,null,null,null,null,null,null,null,null,null,null,null,null,null,null,null,null,null,null,null,null,null,null,null,null,null,null,null,null,null,null,null,null,null,null,null,null,null,null,null,null,null,null,null,null,null,null,null,null,null,null,null,null,null,null,null,null,null,null,null,null,null,null,null,null,null,null,null,null,null,null,null,null,null,null,null,null,null,null,null,null,null,null,null,null,null,null,null,null,null,null,null,null,null,null,null,null,null,null,null,null,null,null,null,null,null,null,null,null,null,"a25",{"$f":"TEXT(0,NV13)&\"دانه\"","v":"1دانه"},null,null,null,null,null,null,null,null,null,"e4",{"$f":"TEXT(0,OG8)&\" دانه\"","v":"21 دانه"},null,null,null,null,null,null,null,null,null,"e4",{"$f":"TEXT(0,OR8)&\" دانه\"","v":"24 دانه"},null,null,null,null,null,null,null,null,null,{"$f":"PB7","v":"c3"},{"$f":"TEXT(0,PC7)&\" رج مثل رج قبل میبافیم\"","v":"4 رج مثل رج قبل میبافیم"},null,null,null,null,null,null,null,null,null,{"$f":"PM7","v":"c3"},{"$f":"TEXT(0,PN7)&\" رج مثل رج قبل میبافیم\"","v":"4 رج مثل رج قبل میبافیم"},null,null,null,null,null,null,null,null,null,null,"راهنمای نقشه بافت","عنوان",null,"f2",{"$f":"QC25+1*QC23","v":-44.428571428571431},{"$f":"QD25-QC22*QC23","v":6.1428571428571432},{"$f":"QC25","v":-45},{"$f":"QD25","v":6.4285714285714288},{"$f":"QB25","v":"t5"},null,{"$f":"FJ146","v":0},{"$f":"FK146","v":49.8},1,null,{"$f":"QI61","v":5.4188000000000001},{"$f":"QJ61","v":86.9},25,null,{"$f":"QQ15+QR7*SIN(RADIANS(30))","v":-11},{"$f":"QR15+QR7*COS(RADIANS(30))","v":55.691899088235566},"k15",null,null,null,null,{"$f":"QQ40","v":-7.8},{"$f":"QR40","v":52.227797473097809},"k30",null,{"$f":"RB7","v":"d3"},{"$f":"TEXT(0,RC7)&\" دانه\"","v":"10 دانه"},null,null,null,null,null,null,null,null,null,"c5",{"$f":"IF(RR18=1,RR19,'متغیرها '!C907)","v":10},"پهنا افقی",null,{"$f":"RM40","v":0},{"$f":"RN40","v":-20},{"$f":"RO40","v":0},null,"c4",{"$f":"RN24","v":0},"جابجایی افقی ",null,{"$f":"RU40","v":-40},{"$f":"RV40","v":0},{"$f":"RW40","v":0},null,{"$f":"RU65","v":-39.407198306280875},{"$f":"RV65","v":0},1,null,"c5",{"$f":"IF(RR18=1,RR19,'متغیرها '!C913)","v":10},"پهنا افقی",null,{"$f":"SG40","v":0},{"$f":"SH40","v":-20},{"$f":"SI40","v":0},null,"c4",{"$f":"SH24","v":0},"جابجایی افقی ",null,{"$f":"SO40","v":-40},{"$f":"SP40","v":0},{"$f":"SQ40","v":0},null,{"$f":"SO65","v":-39.407198306280875},{"$f":"SP65","v":0},1,null,"c5",{"$f":"IF(RR18=1,RR19,'متغیرها '!C919)","v":10},"پهنا افقی",null,{"$f":"TA40","v":0},{"$f":"TB40","v":-20},{"$f":"TC40","v":0},null,"c4",{"$f":"TB24","v":0},"جابجایی افقی ",null,{"$f":"TI40","v":-40},{"$f":"TJ40","v":0},{"$f":"TK40","v":0},null,{"$f":"TI65","v":-39.422018348623851},{"$f":"TJ65","v":0},1,null,"c5",{"$f":"IF(RR18=1,RR19,'متغیرها '!C925)","v":10},"پهنا افقی",null,{"$f":"TU40","v":0},{"$f":"TV40","v":-20},{"$f":"TW40","v":0},null,"c4",{"$f":"TV24","v":0},"جابجایی افقی ",null,{"$f":"UC40","v":-40},{"$f":"UD40","v":0},{"$f":"UE40","v":0},null,{"$f":"UC65","v":-39.422018348623851},{"$f":"UD65","v":0},1,null,"c5",{"$f":"IF(RR18=1,RR19,'متغیرها '!C931)","v":10},"پهنا افقی",null,{"$f":"UO40","v":0},{"$f":"UP40","v":-20},{"$f":"UQ40","v":0},null,"c4",{"$f":"UP24","v":0},"جابجایی افقی ",null,{"$f":"UW40","v":-40},{"$f":"UX40","v":0},{"$f":"UY40","v":0},null,{"$f":"UW65","v":-39.407198306280875},{"$f":"UX65","v":0},1,null,"c5",{"$f":"IF(RR18=1,RR19,'متغیرها '!C937)","v":10},"پهنا افقی",null,{"$f":"VI40","v":0},{"$f":"VJ40","v":-20},{"$f":"VK40","v":0},null,"c4",{"$f":"VJ24","v":0},"جابجایی افقی ",null,{"$f":"VQ40","v":-40},{"$f":"VR40","v":0},{"$f":"VS40","v":0},null,{"$f":"VQ65","v":-39.407198306280875},{"$f":"VR65","v":0},1]
[null,null,null,null,"تعداد رج دوبل برای ایجاد گودی گردن جلو b13",{"$f":"ROUNDDOWN(0.25*I22*((AX129-BI128)),0)","v":4},null,"بافت انتخابی جلو",{"$f":"OFFSET(AJ6,I26,6)","v":"سبدی (5 تایی)"},null,null,{"$f":"ABS(ROUND(3*O33/(O33-(G46-2*O41)+0.001),0))","v":7},{"$f":"ABS(ROUND(3*(O33/(O33-(G46-2*O41)+0.001)-1),0))","v":4},{"$f":"O33-(O33/L27)*(L27-M27)-(G46-2*O41)","v":-1.1428571428571388},{"$f":"ROUNDDOWN(ABS(N27),0)","v":1},null,{"$f":"ABS(ROUND(2*S19/(S19-(G46)+0.001),0))","v":48},{"$f":"ABS(ROUND(2*(S19/(S19-G46+0.0001)-1),0))","v":46},{"$f":"S19-(S19/Q27)*(Q27-R27)-G46","v":1.8873981639103476E-2},{"$f":"ROUNDDOWN(ABS(S27),0)","v":0},null,null,{"$f":"ABS(ROUND(3*X15/(X15-X16+0.001),0))","v":77},{"$f":"ABS(ROUND(3*(X15/(X15-X16+0.0001)-1),0))","v":74},{"$f":"X15-(X15/W27)*(W27-X27)-X16","v":0},{"$f":"ROUNDDOWN(ABS(Y27),0)","v":0},null,null,{"$f":"ABS(ROUND(3*AD15/(AD15-AD16+0.001),0))","v":63},{"$f":"ABS(ROUND(3*(AD15/(AD15-AD16+0.0001)-1),0))","v":66},{"$f":"AD15-(AD15/AC27)*(AC27-AD27)-AD16","v":0},{"$f":"ROUNDDOWN(ABS(AE27),0)","v":0},null,3.1428571428571428,3.1111111111111112,{"$f":"(10/3)*((AM27/AL27)*(1/J6)-1)","v":0.37037037037037057},{"$f":"(100/68)*((AO27/AN27)*(1/J7)-1)","v":0.84033613445378152},13.5,42,7,22,"پیچ گیسباف",21,null,"پیچ گیسباف",104,49,null,null,null,null,null,null,null,null,null,null,null,null,null,null,null,null,null,null,null,null,null,null,null,null,null,null,null,null,null,null,null,null,null,null,null,null,null,null,null,null,null,null,null,{"$f":"CI46","v":10.7},{"$f":"CJ46","v":101.39999999999999},"j12",null,{"$f":"CQ24","v":0},{"$f":"CR26-CR21+'متغیرها '!C6*0.1*'متغیرها '!U85*0.7","v":50.004499999999993},"d6",null,{"$f":"CQ30","v":40.302499999999995},{"$f":"CR30","v":51.097499999999997},"d9",null,null,null,null,null,null,{"$f":"DD29+'طراحی همه الگوها'!U196","v":67.899999999999991},{"$f":"DE15-'طراحی همه الگوها'!U197","v":105.4},13,null,null,"صاف",null,null,"s10",{"$f":"DM18-('طراحی همه الگوها'!U196-'متغیرها '!C13*'متغیرها '!U83)*COS(DM17)","v":33.244599946860731},{"$f":"DN18+('طراحی همه الگوها'!U196-'متغیرها '!C13*'متغیرها '!U83)*SIN(DM17)","v":77.155202247684315},null,{"$f":"DM31","v":4.8769200000000001},{"$f":"DN31","v":96.45035},"s14",null,"s'17",{"$f":"DB400","v":0},{"$f":"IF('متغیرها '!C22=-1,DQ12,IF('متغیرها '!C22=0,DC400-0.1,DC400-0.25*(DC400-DC404)))","v":103.045},null,{"$f":"DU25","v":0},{"$f":"DV25","v":71.8},"s'16",null,null,null,null,{"$f":"EE24","v":33.9},{"$f":"EF24","v":56.999999999999993},5,null,{"$f":"EI19","v":26.279999999999998},{"$f":"EJ17","v":0},21,null,null,null,"نقاط در چادر شماره 4",null,null,null,null,null,null,null,null,{"$f":"EP29","v":0},{"$f":"EQ29","v":109.1},1,null,null,null,null,null,{"$f":"FF26","v":-23.400000000000006},{"$f":"FG17","v":60.4},11,null,{"$f":"FJ23","v":15},{"$f":"FG17","v":60.4},19,null,"s13",{"$f":"FO30+0.5*'طراحی همه الگوها'!U249","v":27.9},{"$f":"FP30","v":0},null,{"$f":"FO33","v":4.2024382463256131},{"$f":"FP33","v":70.82087311270999},"s'3",null,null,null,null,null,null,24,{"$f":"GB12+GE12*SIN(RADIANS(GA27)+GA14)","v":{"$error":"#DIV/0!"}},{"$f":"GC12+GE12*COS(RADIANS(GA27)+GA14)","v":{"$error":"#DIV/0!"}},{"$f":"IF(GB13>GB27,ATAN((GC13-GC27)/(GB13-GB27)),ATAN((GC13-GC27)/(GB27-GB13)))","v":{"$error":"#DIV/0!"}},{"$f":"IF(GB13>GB27,(GB13-GB27)/COS(GD27),(GB27-GB13)/COS(GD27))","v":{"$error":"#DIV/0!"}},null,1,2,"نقطه 9","نقطه قبل از چرخش",{"$f":"IF(GH27>GH18,IF(GG27>GG18,GG18+SQRT(POWER(GG27-GG18,2)+POWER(GH27-GH18,2))*COS(ATAN((GH27-GH18)/(GG27-GG18+0.000123))+GH16),GG18-SQRT(POWER(GG27-GG18,2)+POWER(GH27-GH18,2))*COS(ATAN((GH27-GH18)/(GG18-GG27+0.000123))-GH16)),IF(GG27>GG18,GG18+SQRT(POWER(GG27-GG18,2)+POWER(GH27-GH18,2))*COS(ATAN((GH18-GH27)/(GG27-GG18+0.000123))-GH16),GG18-SQRT(POWER(GG27-GG18,2)+POWER(GH27-GH18,2))*COS(ATAN((GH18-GH27)/(GG18-GG27+0.000123))+GH16)))","v":0.61824523267144293},{"$f":"IF(GH27>GH18,IF(GG27>GG18,GH18+SQRT(POWER(GG27-GG18,2)+POWER(GH27-GH18,2))*SIN(ATAN((GH27-GH18)/(GG27-GG18+0.000123))+GH16),GH18+SQRT(POWER(GG27-GG18,2)+POWER(GH27-GH18,2))*SIN(ATAN((GH27-GH18)/(GG18-GG27+0.000123))-GH16)),IF(GG27>GG18,GH18-SQRT(POWER(GG27-GG18,2)+POWER(GH27-GH18,2))*SIN(ATAN((GH18-GH27)/(GG27-GG18+0.000123))-GH16),GH18-SQRT(POWER(GG27-GG18,2)+POWER(GH27-GH18,2))*SIN(ATAN((GH18-GH27)/(GG18-GG27+0.000123))+GH16)))","v":0.69874634779839551},"نقطه چرخیده",null,"نقطه خروجی بالا","su9",{"$f":"GQ21+GQ23*COS(GP26)","v":{"$error":"#REF!"}},{"$f":"GR21+GQ23*SIN(GP26)","v":{"$error":"#REF!"}},null,null,{"$f":"GU26+GT11","v":-68},-1.1868238913561442,{"$f":"HB13+HB10*COS(GV27)","v":{"$error":"#REF!"}},{"$f":"HC13-HB10*SIN(GV27)","v":{"$error":"#REF!"}},{"$f":"SQRT(POWER((HB12-GW27),2)+POWER((HC12-GX27),2))","v":{"$error":"#REF!"}},{"$f":"ABS(HB9-GY27)","v":{"$error":"#REF!"}},null,null,"به دست آوردن نقطه تقاطع دو خط ","مولفه افقی","مولفه عمودی",null,null,null,null,null,null,null,null,null,{"$f":"-HK27+HP9","v":0},0,null,null,{"$f":"HF30","v":0},{"$f":"HG30","v":0},17,null,{"$f":"HS27+2*(SIN(ATAN((HS12-HS11)/(HT12-HT11)))*(HT27-HT11)+COS(ATAN((HS12-HS11)/(HT12-HT11)))*(HS11-HS27))*COS(ATAN((HS12-HS11)/(HT12-HT11)))","v":{"$error":"#DIV/0!"}},{"$f":"HT27-2*(SIN(ATAN((HS12-HS11)/(HT12-HT11)))*(HT27-HT11)+COS(ATAN((HS12-HS11)/(HT12-HT11)))*(HS11-HS27))*SIN(ATAN((HS12-HS11)/(HT12-HT11)))","v":{"$error":"#DIV/0!"}},17,null,null,null,null,null,null,null,null,null,null,null,null,null,null,null,null,null,null,null,null,null,null,null,null,null,null,null,null,null,null,null,null,null,null,null,null,null,null,null,null,null,null,null,null,null,null,null,null,null,null,null,null,null,null,null,null,null,null,null,null,null,null,null,null,null,null,null,null,null,null,null,null,null,null,null,null,null,null,null,null,null,null,null,null,null,null,null,null,null,null,null,null,null,null,null,null,null,null,null,null,null,null,null,null,null,null,null,null,null,null,null,null,null,null,null,null,null,null,null,null,null,null,null,null,null,null,null,null,null,null,null,null,null,null,null,null,null,null,null,null,null,null,null,null,null,null,null,null,null,null,null,"b''1",{"$f":"\"تعداد دانه ها \"&TEXT(0,NV17)&\"  -  تقسیم بندی بالاتنه و آستین \"","v":"تعداد دانه ها 74  -  تقسیم بندی بالاتنه و آستین "},null,null,"زاویه فلش",{"$f":"NV39","v":0.5},"f5",null,null,"فلش به سمت راست",null,"e5",{"$f":"TEXT(0,OG9)&\" دانه\"","v":"33 دانه"},null,null,"زاویه فلش",{"$f":"OG44","v":0.5},"f5",null,null,"فلش به سمت راست",null,"e5",{"$f":"TEXT(0,OR9)&\" دانه\"","v":"36 دانه"},null,null,"زاویه فلش",{"$f":"OR44","v":0.5},"f5",null,null,"فلش به سمت راست",null,{"$f":"PB8","v":"c4"},{"$f":"TEXT(0,PC8)&\" رج مثل رج قبل میبافیم\"","v":"8 رج مثل رج قبل میبافیم"},null,null,"زاویه فلش",{"$f":"PC42","v":0.5},"f5",null,null,"فلش به سمت راست",null,{"$f":"PM8","v":"c4"},{"$f":"TEXT(0,PN8)&\" رج مثل رج قبل میبافیم\"","v":"9 رج مثل رج قبل میبافیم"},null,null,"زاویه فلش",{"$f":"PN42","v":0.5},"f5",null,null,"فلش به سمت راست",null,null,null,null,null,"f3",{"$f":"QC26","v":-44.428571428571431},{"$f":"QD25+QC22*QC23","v":6.7142857142857144},{"$f":"QC26","v":-44.428571428571431},{"$f":"QD26","v":6.1428571428571432},{"$f":"QB26","v":"f2"},null,{"$f":"FJ145","v":0},{"$f":"FK145","v":49.8},"1'",null,{"$f":"QI62","v":4.3350400000000011},{"$f":"QJ62","v":83.563898736548907},30,null,{"$f":"2*QQ15-QQ26","v":-15},{"$f":"QR26","v":55.691899088235566},"k16",null,null,null,null,{"$f":"QQ42","v":-10.4},{"$f":"QR42","v":56.731129572776894},"k32",null,{"$f":"RB8","v":"d4"},{"$f":"TEXT(0,RC8)&\" رج مثل رج قبل میبافیم\"","v":"1 رج مثل رج قبل میبافیم"},null,null,"زاویه فلش",{"$f":"RC44","v":0.5},"f5",null,null,"فلش به سمت راست",null,"c6",{"$f":"IF(RR18=1,RR20,'متغیرها '!C908)","v":20},"پهنا عمودی",null,{"$f":"RM38","v":0},{"$f":"RN38","v":-40.155257586450247},null,null,"c5",{"$f":"RN27","v":20},"پهنا عمودی",null,{"$f":"RU38","v":-40},{"$f":"RV38","v":10.277777777777777},null,null,{"$f":"SC26","v":-39.407198306280875},{"$f":"RV38","v":10.277777777777777},null,null,"c6",{"$f":"IF(RR18=1,RR20,'متغیرها '!C914)","v":20},"پهنا عمودی",null,{"$f":"SG38","v":0},{"$f":"SH38","v":-40.155257586450247},null,null,"c5",{"$f":"SH27","v":20},"پهنا عمودی",null,{"$f":"SO38","v":-40},{"$f":"SP38","v":10.277777777777777},null,null,{"$f":"SW26","v":-39.407198306280875},{"$f":"SP38","v":10.277777777777777},null,null,"c6",{"$f":"IF(RR18=1,RR20,'متغیرها '!C920)","v":20},"پهنا عمودی",null,{"$f":"TA38","v":0},{"$f":"TB38","v":-40.22935779816514},null,null,"c5",{"$f":"TB27","v":20},"پهنا عمودی",null,{"$f":"TI38","v":-40},{"$f":"TJ38","v":9.7222222222222232},null,null,{"$f":"TQ26","v":-39.422018348623851},{"$f":"TJ38","v":9.7222222222222232},null,null,"c6",{"$f":"IF(RR18=1,RR20,'متغیرها '!C926)","v":20},"پهنا عمودی",null,{"$f":"TU38","v":0},{"$f":"TV38","v":-40.22935779816514},null,null,"c5",{"$f":"TV27","v":20},"پهنا عمودی",null,{"$f":"UC38","v":-40},{"$f":"UD38","v":9.7222222222222232},null,null,{"$f":"UK26","v":-39.422018348623851},{"$f":"UD38","v":9.7222222222222232},null,null,"c6",{"$f":"IF(RR18=1,RR20,'متغیرها '!C932)","v":20},"پهنا عمودی",null,{"$f":"UO38","v":0},{"$f":"UP38","v":-40.155257586450247},null,null,"c5",{"$f":"UP27","v":20},"پهنا عمودی",null,{"$f":"UW38","v":-40},{"$f":"UX38","v":10.277777777777777},null,null,{"$f":"VE26","v":-39.407198306280875},{"$f":"UX38","v":10.277777777777777},null,null,"c6",{"$f":"IF(RR18=1,RR20,'متغیرها '!C938)","v":20},"پهنا عمودی",null,{"$f":"VI38","v":0},{"$f":"VJ38","v":-40.155257586450247},null,null,"c5",{"$f":"VJ27","v":20},"پهنا عمودی",null,{"$f":"VQ38","v":-40},{"$f":"VR38","v":10.277777777777777},null,null,{"$f":"VY26","v":-39.407198306280875},{"$f":"VR38","v":10.277777777777777}]
[null,null,null,null,"تعداد رج دوبل جدید برای ایجاد گودی گردن جلو b'''13",{"$f":"ROUNDDOWN(0.5*(1/6)*(I22*AX129-I29*BI128),0)","v":1},null,null,null,null,null,{"$f":"ABS(ROUND(4*O33/(O33-(G46-2*O41)+0.001),0))","v":10},{"$f":"ABS(ROUND(4*(O33/(O33-(G46-2*O41)+0.001)-1),0))","v":6},{"$f":"O33-(O33/L28)*(L28-M28)-(G46-2*O41)","v":2.4000000000000057},{"$f":"ROUNDDOWN(ABS(N28),0)","v":2},null,{"$f":"ABS(ROUND(3*S19/(S19-G46+0.001),0))","v":72},{"$f":"ABS(ROUND(3*(S19/(S19-G46+0.0001)-1),0))","v":69},{"$f":"S19-(S19/Q28)*(Q28-R28)-G46","v":1.8873981639103476E-2},{"$f":"ROUNDDOWN(ABS(S28),0)","v":0},null,null,{"$f":"ABS(ROUND(4*X15/(X15-X16+0.001),0))","v":103},{"$f":"ABS(ROUND(4*(X15/(X15-X16+0.0001)-1),0))","v":99},{"$f":"X15-(X15/W28)*(W28-X28)-X16","v":9.7087378640736688E-3},{"$f":"ROUNDDOWN(ABS(Y28),0)","v":0},null,null,{"$f":"ABS(ROUND(4*AD15/(AD15-AD16+0.001),0))","v":84},{"$f":"ABS(ROUND(4*(AD15/(AD15-AD16+0.0001)-1),0))","v":88},{"$f":"AD15-(AD15/AC28)*(AC28-AD28)-AD16","v":0},{"$f":"ROUNDDOWN(ABS(AE28),0)","v":0},null,3.2727272727272729,2.9629629629629628,{"$f":"(10/3)*((AM28/AL28)*(1/J6)-1)","v":0.19400352733686049},{"$f":"(100/68)*((AO28/AN28)*(1/J7)-1)","v":0.93582887700534778},13.5,40,11,36,"پیچ چپ و راستی",{"$f":"AQ27+1","v":22},null,"پیچ چپ و راستی",114,40,null,null,null,null,null,null,null,null,null,null,null,null,null,null,null,null,null,null,null,null,null,null,null,null,null,null,null,null,null,null,null,null,null,null,null,null,null,null,null,null,null,null,null,null,null,null,null,{"$f":"0.2*(CQ26-CQ24)+CQ24","v":11.515000000000001},{"$f":"CR27","v":50.004499999999993},"d7",null,{"$f":"CQ29","v":51.817499999999995},{"$f":"CR29","v":55.469499999999996},"d8",null,null,null,null,null,null,{"$f":"DD29+'طراحی همه الگوها'!U196","v":67.899999999999991},{"$f":"DE15","v":116.2},12,null,{"$f":"DH20","v":25.8},{"$f":"DE14","v":0},15,null,"s12",{"$f":"DM27-'طراحی همه الگوها'!U198*SIN(DM17)","v":28.848621421161901},{"$f":"DN27-'طراحی همه الگوها'!U198*COS(DM17)","v":64.602697605120156},null,{"$f":"DM33","v":3.4138440000000001},{"$f":"DN33","v":84.125174999999999},"s15",null,"s'18",{"$f":"DU27+0.6*(DU24-DU27)","v":2.9261520000000001},{"$f":"DV27-0.3*(DV27-DV24)","v":101.066605},null,null,null,null,null,null,null,null,null,null,null,null,{"$f":"EI19","v":26.279999999999998},{"$f":"EJ19","v":5.9},22,null,null,"افقی شبیه ساز","اسم نقطه ","مولفه افقی","مولفه عمودی","عمودی شبیه ساز",null,{"$f":"ER43","v":29},{"$f":"ER44","v":41.6},15,null,{"$f":"EP36","v":48.012550442566585},{"$f":"EQ36","v":61.087449557433416},10,null,null,null,null,null,{"$f":"FF16","v":50.4},{"$f":"FG16","v":60.4},8,null,{"$f":"FJ23","v":15},{"$f":"FK23","v":51.3},20,null,"s''17",{"$f":"FO11","v":0},{"$f":"IF('متغیرها '!C40=-1,FP14,IF('متغیرها '!C40=0,FP11-0.1,FP11-0.25*(FP11-FP13)))","v":103.045},null,{"$f":"FO22","v":3.527956492651227},{"$f":"FP22","v":32.376657781774995},"s11",null,null,null,null,null,null,26,{"$f":"GB12+GE12*SIN(RADIANS(GA28)+GA14)","v":{"$error":"#DIV/0!"}},{"$f":"GC12+GE12*COS(RADIANS(GA28)+GA14)","v":{"$error":"#DIV/0!"}},{"$f":"IF(GB13>GB28,ATAN((GC13-GC28)/(GB13-GB28)),ATAN((GC13-GC28)/(GB28-GB13)))","v":{"$error":"#DIV/0!"}},{"$f":"IF(GB13>GB28,(GB13-GB28)/COS(GD28),(GB28-GB13)/COS(GD28))","v":{"$error":"#DIV/0!"}},null,1,2,"نقطه 10","نقطه قبل از چرخش",{"$f":"IF(GH28>GH18,IF(GG28>GG18,GG18+SQRT(POWER(GG28-GG18,2)+POWER(GH28-GH18,2))*COS(ATAN((GH28-GH18)/(GG28-GG18+0.000123))+GH16),GG18-SQRT(POWER(GG28-GG18,2)+POWER(GH28-GH18,2))*COS(ATAN((GH28-GH18)/(GG18-GG28+0.000123))-GH16)),IF(GG28>GG18,GG18+SQRT(POWER(GG28-GG18,2)+POWER(GH28-GH18,2))*COS(ATAN((GH18-GH28)/(GG28-GG18+0.000123))-GH16),GG18-SQRT(POWER(GG28-GG18,2)+POWER(GH28-GH18,2))*COS(ATAN((GH18-GH28)/(GG18-GG28+0.000123))+GH16)))","v":0.61824523267144293},{"$f":"IF(GH28>GH18,IF(GG28>GG18,GH18+SQRT(POWER(GG28-GG18,2)+POWER(GH28-GH18,2))*SIN(ATAN((GH28-GH18)/(GG28-GG18+0.000123))+GH16),GH18+SQRT(POWER(GG28-GG18,2)+POWER(GH28-GH18,2))*SIN(ATAN((GH28-GH18)/(GG18-GG28+0.000123))-GH16)),IF(GG28>GG18,GH18-SQRT(POWER(GG28-GG18,2)+POWER(GH28-GH18,2))*SIN(ATAN((GH18-GH28)/(GG28-GG18+0.000123))-GH16),GH18-SQRT(POWER(GG28-GG18,2)+POWER(GH28-GH18,2))*SIN(ATAN((GH18-GH28)/(GG18-GG28+0.000123))+GH16)))","v":0.69874634779839551},"نقطه چرخیده",null,"نقطه خروجی پایین","sd8",{"$f":"GQ29+GQ23*COS(GP26)","v":{"$error":"#REF!"}},{"$f":"GR29+GQ23*SIN(GP26)","v":{"$error":"#REF!"}},null,null,{"$f":"GU27+GT11","v":-66},-1.1519173063162575,{"$f":"HB13+HB10*COS(GV28)","v":{"$error":"#REF!"}},{"$f":"HC13-HB10*SIN(GV28)","v":{"$error":"#REF!"}},{"$f":"SQRT(POWER((HB12-GW28),2)+POWER((HC12-GX28),2))","v":{"$error":"#REF!"}},{"$f":"ABS(HB9-GY28)","v":{"$error":"#REF!"}},null,"نقطه اول از خط اول","f5",{"$f":"#REF!","v":{"$error":"#REF!"}},{"$f":"#REF!","v":{"$error":"#REF!"}},null,null,null,null,null,null,null,null,null,{"$f":"-HK28+HP9","v":0},0,null,null,0,0,18,null,{"$f":"HS28+2*(SIN(ATAN((HS12-HS11)/(HT12-HT11)))*(HT28-HT11)+COS(ATAN((HS12-HS11)/(HT12-HT11)))*(HS11-HS28))*COS(ATAN((HS12-HS11)/(HT12-HT11)))","v":{"$error":"#DIV/0!"}},{"$f":"HT28-2*(SIN(ATAN((HS12-HS11)/(HT12-HT11)))*(HT28-HT11)+COS(ATAN((HS12-HS11)/(HT12-HT11)))*(HS11-HS28))*SIN(ATAN((HS12-HS11)/(HT12-HT11)))","v":{"$error":"#DIV/0!"}},18,null,null,null,null,null,null,null,null,null,null,null,null,null,null,null,null,null,null,null,null,null,null,null,null,null,null,null,null,null,null,null,null,null,null,null,null,null,null,null,null,null,null,null,null,null,null,null,null,null,null,null,null,null,null,null,null,null,null,null,null,null,null,null,null,null,null,null,null,null,null,null,null,null,null,null,null,null,null,null,null,null,null,null,null,null,null,null,null,null,null,null,null,null,null,null,null,null,null,null,null,null,null,null,null,null,null,null,null,null,null,null,null,null,null,null,null,null,null,null,null,null,null,null,null,null,null,null,null,null,null,null,null,null,null,null,null,null,null,null,null,null,null,null,null,null,null,null,null,null,null,null,null,{"$f":"\"نقشه بافت یقه شکاری با میل \"&TEXT(0,NV43)&\"  بافت   \"&TEXT(0,NU44)","v":"نقشه بافت یقه شکاری با میل 2.5  بافت   کشباف (دوتایی)"},null,null,"بزرگی فلش",{"$f":"NV49","v":0.48165137614678905},"f4",{"$f":"NZ30","v":-31.835416666666667},{"$f":"OA30","v":5},{"$f":"NY30","v":"w6"},null,"e6",{"$f":"TEXT(0,OG10)&\" رج مثل رج قبل میبافیم\"","v":"9 رج مثل رج قبل میبافیم"},null,null,"بزرگی فلش",{"$f":"OG51","v":0.33998920669185106},"f4",{"$f":"OK30","v":-30.082986111111111},{"$f":"OL30","v":5},{"$f":"OJ30","v":"m3"},null,"e6",{"$f":"TEXT(0,OR10)&\" رج مثل رج قبل میبافیم\"","v":"9 رج مثل رج قبل میبافیم"},null,null,"بزرگی فلش",{"$f":"OR51","v":0.33998920669185106},"f4",{"$f":"OV30","v":-30.702777777777776},{"$f":"OW30","v":5},{"$f":"OU30","v":"m3"},null,null,{"$f":"\"در اینجا تعداد دانه ها \"&TEXT(0,PC12)&\"   میباشد \"","v":"در اینجا تعداد دانه ها 77   میباشد "},null,null,"بزرگی فلش",{"$f":"PC49","v":0.33998920669185106},"f4",{"$f":"PG30","v":-31.322569444444444},{"$f":"PH30","v":5},{"$f":"PF30","v":"n3"},null,null,{"$f":"\"در اینجا تعداد دانه ها \"&TEXT(0,PN12)&\"   میباشد \"","v":"در اینجا تعداد دانه ها 77   میباشد "},null,null,"بزرگی فلش",{"$f":"PN49","v":0.33998920669185106},"f4",{"$f":"PR30","v":-30.82673611111111},{"$f":"PS30","v":5},{"$f":"PQ30","v":"n3"},null,null,"نقاط خروجی ",null,null,null,null,null,null,null,null,null,{"$f":"BD98","v":0},{"$f":"BE98","v":80.227797473097809},"26'",null,{"$f":"QI78","v":0},{"$f":"QJ78","v":80.227797473097809},"26''",null,{"$f":"QQ15+(QR7+QR8)*SIN(RADIANS(30))","v":-10.700000000000001},{"$f":"QR15-(QR7+QR8)*COS(RADIANS(30))","v":48.244080615689391},"k18",null,null,null,null,{"$f":"QQ44","v":-13},{"$f":"QR44","v":57.427797473097812},"k34",null,"a10,a11,b1",{"$f":"\"تعداد دانه ها \"&TEXT(0,RC12)&\"میباشد. در قسمت پشت و آستین هر\"&TEXT(0,RC9)&\"  دانه را تبدیل به  \"&TEXT(0,RC10)&\"  دانه میکنیم   \"","v":"تعداد دانه ها 70میباشد. در قسمت پشت و آستین هر1  دانه را تبدیل به  1  دانه میکنیم   "},null,null,"بزرگی فلش",{"$f":"RC51","v":0.33998920669185106},"f4",{"$f":"RG30","v":-31.9375},{"$f":"RH30","v":5},{"$f":"RF30","v":"p3"},null,null,{"$f":"RN11","v":0.8564814814814814},"c1",null,null,null,null,null,"c6",{"$f":"RN26","v":10},"پهنا افقی",null,null,null,null,null,null,null,null,null,null,{"$f":"RN17","v":0.8564814814814814},"c1",null,null,null,null,null,"c6",{"$f":"SH26","v":10},"پهنا افقی",null,null,null,null,null,null,null,null,null,null,{"$f":"RN13","v":0.81018518518518523},"c1",null,null,null,null,null,"c6",{"$f":"TB26","v":10},"پهنا افقی",null,null,null,null,null,null,null,null,null,null,{"$f":"RN15","v":0.81018518518518523},"c1",null,null,null,null,null,"c6",{"$f":"TV26","v":10},"پهنا افقی",null,null,null,null,null,null,null,null,null,null,{"$f":"RN19","v":0.8564814814814814},"c1",null,null,null,null,null,"c6",{"$f":"UP26","v":10},"پهنا افقی",null,null,null,null,null,null,null,null,null,null,{"$f":"RN21","v":0.8564814814814814},"c1",null,null,null,null,null,"c6",{"$f":"VJ26","v":10},"پهنا افقی"]
[null,null,null,null,"فاصله  گردن تا محل جدا شدن آستین در قسمت جلو (cm)     b7",{"$f":"ROUNDUP(SQRT(POWER(CI103-CI121,2)+POWER(CJ103-CJ121,2)),0)","v":16},null," a01 تعداد رج در یک سانت پشت",{"$f":"F6+0.3*I31*F6","v":3.46031746031746},null,null,{"$f":"ABS(ROUND(5*O33/(O33-(G46-2*O41)+0.001),0))","v":12},{"$f":"ABS(ROUND(5*(O33/(O33-(G46-F412*O41)+0.001)-1),0))","v":4},{"$f":"O33-(O33/L29)*(L29-M29)-(G46-2*O41)","v":-30.666666666666671},{"$f":"ROUNDDOWN(ABS(N29),0)","v":30},null,{"$f":"ABS(ROUND(4*S19/(S19-G46+0.001),0))","v":95},{"$f":"ABS(ROUND(4*(S19/(S19-G46+0.0001)-1),0))","v":91},{"$f":"S19-(S19/Q29)*(Q29-R29)-G46","v":-1.5001933226628239E-2},{"$f":"ROUNDDOWN(ABS(S29),0)","v":0},null,null,{"$f":"ABS(ROUND(5*X15/(X15-X16+0.001),0))","v":128},{"$f":"ABS(ROUND(5*(X15/(X15-X16+0.0001)-1),0))","v":123},{"$f":"X15-(X15/W29)*(W29-X29)-X16","v":-7.8125E-3},{"$f":"ROUNDDOWN(ABS(Y29),0)","v":0},null,null,{"$f":"ABS(ROUND(5*AD15/(AD15-AD16+0.001),0))","v":105},{"$f":"ABS(ROUND(5*(AD15/(AD15-AD16+0.0001)-1),0))","v":110},{"$f":"AD15-(AD15/AC29)*(AC29-AD29)-AD16","v":0},{"$f":"ROUNDDOWN(ABS(AE29),0)","v":0},null,2.5714285714285716,2.4444444444444446,{"$f":"(10/3)*((AM29/AL29)*(1/J6)-1)","v":-0.42328042328042292},{"$f":"(100/68)*((AO29/AN29)*(1/J7)-1)","v":0.42016806722689093},13.5,33,14,36,"کشباف (یکی)",23,null,"کشباف (یکی)",62,9,null,null,null,null,null,null,null,null,null,null,null,null,null,null,null,null,null,null,null,null,null,null,null,null,null,null,null,null,null,null,null,null,null,null,null,null,null,null,null,null,null,null,null,{"$f":"CI40","v":5.0999999999999996},{"$f":"CJ40","v":109.1},"j6",null,{"$f":"0.9*(CQ26-CQ24)+CQ24","v":51.817499999999995},{"$f":"CR27+0.5*(CR26-CR27)","v":55.469499999999996},"d8",null,{"$f":"CQ26","v":57.574999999999996},{"$f":"CR26","v":60.934499999999993},"d4",null,null,null,null,null,null,{"$f":"DB37+'طراحی همه الگوها'!U189","v":52.3},{"$f":"DE15","v":116.2},3,null,{"$f":"DH20","v":25.8},{"$f":"DI20","v":4.2},16,null,"s11",{"$f":"DM36-'طراحی همه الگوها'!U197*SIN(DM17)","v":44.398171702233178},{"$f":"DN36-'طراحی همه الگوها'!U197*COS(DM17)","v":61.806005620571938},null,{"$f":"DM32","v":0},{"$f":"DN32","v":71.8},"s16",null,"s'19",{"$f":"EC41+('متغیرها '!C20*'متغیرها '!U83)*COS(DM17+RADIANS(EC40))","v":38.973597181315171},{"$f":"ED41-('متغیرها '!C20*'متغیرها '!U83)*SIN(DM17+RADIANS(EC40))","v":57.68889786903565},null,{"$f":"DU18","v":34.943088528551847},{"$f":"DV18","v":61.719406521798973},"s'10",null,null,null,null,{"$f":"DB37+'طراحی همه الگوها'!U216","v":110},{"$f":"EF20","v":109.6},10,null,null,null,null,null,null,null,1,{"$f":"DM19","v":0},{"$f":"'طراحی همه الگوها'!U233+ER39+DM44","v":109.1},null,null,{"$f":"ET28+'طراحی همه الگوها'!U242","v":33.1},{"$f":"EU28","v":41.6},16,null,null,null,null,null,null,null,null,null,null,null,null,null,null,null,null,null,"s''18",{"$f":"FO28+0.5*(FO12-FO28)","v":2.4384600000000001},{"$f":"FP28-0.3*(FP28-FP12)","v":101.066605},null,null,null,null,null,null,null,null,null,null,28,{"$f":"GB12+GE12*SIN(RADIANS(GA29)+GA14)","v":{"$error":"#DIV/0!"}},{"$f":"GC12+GE12*COS(RADIANS(GA29)+GA14)","v":{"$error":"#DIV/0!"}},{"$f":"IF(GB13>GB29,ATAN((GC13-GC29)/(GB13-GB29)),ATAN((GC13-GC29)/(GB29-GB13)))","v":{"$error":"#DIV/0!"}},{"$f":"IF(GB13>GB29,(GB13-GB29)/COS(GD29),(GB29-GB13)/COS(GD29))","v":{"$error":"#DIV/0!"}},null,1,2,"نقطه 11","نقطه قبل از چرخش",{"$f":"IF(GH29>GH18,IF(GG29>GG18,GG18+SQRT(POWER(GG29-GG18,2)+POWER(GH29-GH18,2))*COS(ATAN((GH29-GH18)/(GG29-GG18+0.000123))+GH16),GG18-SQRT(POWER(GG29-GG18,2)+POWER(GH29-GH18,2))*COS(ATAN((GH29-GH18)/(GG18-GG29+0.000123))-GH16)),IF(GG29>GG18,GG18+SQRT(POWER(GG29-GG18,2)+POWER(GH29-GH18,2))*COS(ATAN((GH18-GH29)/(GG29-GG18+0.000123))-GH16),GG18-SQRT(POWER(GG29-GG18,2)+POWER(GH29-GH18,2))*COS(ATAN((GH18-GH29)/(GG18-GG29+0.000123))+GH16)))","v":0.61824523267144293},{"$f":"IF(GH29>GH18,IF(GG29>GG18,GH18+SQRT(POWER(GG29-GG18,2)+POWER(GH29-GH18,2))*SIN(ATAN((GH29-GH18)/(GG29-GG18+0.000123))+GH16),GH18+SQRT(POWER(GG29-GG18,2)+POWER(GH29-GH18,2))*SIN(ATAN((GH29-GH18)/(GG18-GG29+0.000123))-GH16)),IF(GG29>GG18,GH18-SQRT(POWER(GG29-GG18,2)+POWER(GH29-GH18,2))*SIN(ATAN((GH18-GH29)/(GG29-GG18+0.000123))-GH16),GH18-SQRT(POWER(GG29-GG18,2)+POWER(GH29-GH18,2))*SIN(ATAN((GH18-GH29)/(GG18-GG29+0.000123))+GH16)))","v":0.69874634779839551},"نقطه چرخیده",null,"نقطه خروجی میانه",null,{"$f":"GQ21+GQ24*GR26*SIN(GP26)/GR25","v":{"$error":"#REF!"}},{"$f":"GR21-GQ24*GR26*COS(GP26)/GR25","v":{"$error":"#REF!"}},null,null,{"$f":"GU28+GT11","v":-64},-1.1170107212763709,{"$f":"HB13+HB10*COS(GV29)","v":{"$error":"#REF!"}},{"$f":"HC13-HB10*SIN(GV29)","v":{"$error":"#REF!"}},{"$f":"SQRT(POWER((HB12-GW29),2)+POWER((HC12-GX29),2))","v":{"$error":"#REF!"}},{"$f":"ABS(HB9-GY29)","v":{"$error":"#REF!"}},null,"نقطه دوم از خط اول","f6",{"$f":"#REF!","v":{"$error":"#REF!"}},{"$f":"#REF!","v":{"$error":"#REF!"}},null,null,null,null,null,null,null,null,null,{"$f":"-HK29+HP9","v":0},0,null,null,0,0,19,null,{"$f":"HS29+2*(SIN(ATAN((HS12-HS11)/(HT12-HT11)))*(HT29-HT11)+COS(ATAN((HS12-HS11)/(HT12-HT11)))*(HS11-HS29))*COS(ATAN((HS12-HS11)/(HT12-HT11)))","v":{"$error":"#DIV/0!"}},{"$f":"HT29-2*(SIN(ATAN((HS12-HS11)/(HT12-HT11)))*(HT29-HT11)+COS(ATAN((HS12-HS11)/(HT12-HT11)))*(HS11-HS29))*SIN(ATAN((HS12-HS11)/(HT12-HT11)))","v":{"$error":"#DIV/0!"}},19,null,null,null,null,null,null,null,null,null,null,null,null,null,null,null,null,null,null,null,null,null,null,null,null,null,null,null,null,null,null,null,null,null,null,null,null,null,null,null,null,null,null,null,null,null,null,null,null,null,null,null,null,null,null,null,null,null,null,null,null,null,null,null,null,null,null,null,null,null,null,null,null,null,null,null,null,null,null,null,null,null,null,null,null,null,null,null,null,null,null,null,null,null,null,null,null,null,null,null,null,null,null,null,null,null,null,null,null,null,null,null,null,null,null,null,null,null,null,null,null,null,null,null,null,null,null,null,null,null,null,null,null,null,null,null,null,null,null,null,null,null,null,null,null,null,null,null,null,null,null,null,null,{"$f":"\"بافت جادکمه: \"&TEXT(0,NU45)&\"-  \"&TEXT(0,'مساله سوم مدل 13'!A478)","v":"بافت جادکمه: جودانه-  بچگانه 4 ساله"},null,null,"نقطه ورودی سر فلش","مولفه افقی","مولفه عمودی",{"$f":"NZ32","v":-32.317068042813453},{"$f":"OA32","v":5.2408256880733948},{"$f":"NY32","v":"f3"},null,null,{"$f":"\"در اینجا تعداد دانه ها \"&TEXT(0,OG17)&\"   میباشد \"","v":"در اینجا تعداد دانه ها 77   میباشد "},null,null,"نقطه ورودی سر فلش","مولفه افقی","مولفه عمودی",{"$f":"OK32","v":-30.422975317802962},{"$f":"OL32","v":5.1699946033459252},{"$f":"OJ32","v":"f3"},null,null,{"$f":"\"در اینجا تعداد دانه ها \"&TEXT(0,OR17)&\"   میباشد \"","v":"در اینجا تعداد دانه ها 77   میباشد "},null,null,"نقطه ورودی سر فلش","مولفه افقی","مولفه عمودی",{"$f":"OV32","v":-31.042766984469626},{"$f":"OW32","v":5.1699946033459252},{"$f":"OU32","v":"f3"},null,"a10,a11,b1",{"$f":"\"تعداد دانه\"&TEXT(0,PC12)&\"میباشد. هر\"&TEXT(0,PC9)&\"  دانه را تبدیل به  \"&TEXT(0,PC10)&\"  دانه میکنیم تا تعداد دانه ها  \"&TEXT(0,PC13)&\" شود\"","v":"تعداد دانه77میباشد. هر51  دانه را تبدیل به  49  دانه میکنیم تا تعداد دانه ها  74 شود"},null,null,"نقطه ورودی سر فلش","مولفه افقی","مولفه عمودی",{"$f":"PG32","v":-31.662558651136294},{"$f":"PH32","v":5.1699946033459252},{"$f":"PF32","v":"f3"},null,"a10,a11,b1",{"$f":"\"تعداد دانه\"&TEXT(0,PN12)&\"میباشد. هر\"&TEXT(0,PN9)&\"  دانه را تبدیل به  \"&TEXT(0,PN10)&\"  دانه میکنیم تا تعداد دانه ها  \"&TEXT(0,PN13)&\" شود\"","v":"تعداد دانه77میباشد. هر51  دانه را تبدیل به  49  دانه میکنیم تا تعداد دانه ها  74 شود"},null,null,"نقطه ورودی سر فلش","مولفه افقی","مولفه عمودی",{"$f":"PR32","v":-31.16672531780296},{"$f":"PS32","v":5.1699946033459252},{"$f":"PQ32","v":"f3"},null,{"$f":"PY5","v":-45},{"$f":"PY6","v":5},"t1",null,"بزرگی خط عمودی دانه",{"$f":"PY11","v":0.5},"f9",null,null,"فلش به سمت بالا",null,null,null,"پایین پیراهن",null,{"$f":"QI78","v":0},{"$f":"QJ78","v":80.227797473097809},"26''",null,{"$f":"2*QQ15-QQ28","v":-15.299999999999999},{"$f":"QR28","v":48.244080615689391},"k19",null,null,null,null,{"$f":"QQ43","v":-15.6},{"$f":"QR43","v":56.731129572776894},"k33",null,"a10,a11,b1",{"$f":"\"   تا تعداد دانه ها  \"&TEXT(0,RC13)&\" شود\"","v":"   تا تعداد دانه ها  72 شود"},null,null,"نقطه ورودی سر فلش","مولفه افقی","مولفه عمودی",{"$f":"RG32","v":-32.277489206691854},{"$f":"RH32","v":5.1699946033459252},{"$f":"RF32","v":"f3"},null,null,{"$f":"RN12","v":0.59280169371912483},"c2",null,{"$f":"RM41","v":4.2824074074074066},{"$f":"RN41","v":-20},{"$f":"RO41","v":5},null,null,null,null,null,{"$f":"RU41","v":-37.035991531404377},{"$f":"RV41","v":0},{"$f":"RW41","v":5},null,{"$f":"RU66","v":-38.814396612561751},{"$f":"RV66","v":0},{"$f":"RW66","v":2},null,null,{"$f":"RN18","v":0.59280169371912483},"c2",null,{"$f":"SG41","v":4.2824074074074066},{"$f":"SH41","v":-20},{"$f":"SI41","v":5},null,null,null,null,null,{"$f":"SO41","v":-37.035991531404377},{"$f":"SP41","v":0},{"$f":"SQ41","v":5},null,{"$f":"SO66","v":-38.814396612561751},{"$f":"SP66","v":0},{"$f":"SQ66","v":2},null,null,{"$f":"RN14","v":0.57798165137614688},"c2",null,{"$f":"TA41","v":4.0509259259259265},{"$f":"TB41","v":-20},{"$f":"TC41","v":5},null,null,null,null,null,{"$f":"TI41","v":-37.110091743119263},{"$f":"TJ41","v":0},{"$f":"TK41","v":5},null,{"$f":"TI66","v":-38.844036697247709},{"$f":"TJ66","v":0},{"$f":"TK66","v":2},null,null,{"$f":"RN16","v":0.57798165137614688},"c2",null,{"$f":"TU41","v":4.0509259259259265},{"$f":"TV41","v":-20},{"$f":"TW41","v":5},null,null,null,null,null,{"$f":"UC41","v":-37.110091743119263},{"$f":"UD41","v":0},{"$f":"UE41","v":5},null,{"$f":"UC66","v":-38.844036697247709},{"$f":"UD66","v":0},{"$f":"UE66","v":2},null,null,{"$f":"RN20","v":0.59280169371912483},"c2",null,{"$f":"UO41","v":4.2824074074074066},{"$f":"UP41","v":-20},{"$f":"UQ41","v":5},null,null,null,null,null,{"$f":"UW41","v":-37.035991531404377},{"$f":"UX41","v":0},{"$f":"UY41","v":5},null,{"$f":"UW66","v":-38.814396612561751},{"$f":"UX66","v":0},{"$f":"UY66","v":2},null,null,{"$f":"RN22","v":0.59280169371912483},"c2",null,{"$f":"VI41","v":4.2824074074074066},{"$f":"VJ41","v":-20},{"$f":"VK41","v":5},null,null,null,null,null,{"$f":"VQ41","v":-37.035991531404377},{"$f":"VR41","v":0},{"$f":"VS41","v":5},null,{"$f":"VQ66","v":-38.814396612561751},{"$f":"VR66","v":0},{"$f":"VS66","v":2}]
[null,null,null,null,"تعداد دانه های اضافه شده زیر بغل   b8",{"$f":"F15","v":9},null,"تعداد دانه در یک سانت پشتb01 ",{"$f":"F7+0.68*I32*F7","v":2.4685714285714284},null,null,{"$f":"IF(O33+2*O41-G46=0,1,IF(O25<=2,L25,IF(O26<=2,L26,IF(O27<=2,L27,IF(O28<=2,L28,L29)))))","v":5},{"$f":"IF(O33+2*O41-G46=0,1,IF(O25<=2,M25,IF(O26<=2,M26,IF(O27<=2,M27,IF(O28<=2,M28,M29)))))","v":3},null,null,null,{"$f":"ABS(ROUND(5*S19/(S19-G46+0.001),0))","v":119},{"$f":"ABS(ROUND(5*(S19/(S19-G46+0.0001)-1),0))","v":114},{"$f":"S19-(S19/Q30)*(Q30-R30)-G46","v":-8.1698159427929795E-3},{"$f":"ROUNDDOWN(ABS(S30),0)","v":0},null,null,{"$f":"IF(X33+2*F25-G46=0,1,IF(Z25<=2,W25,IF(Z26<=2,W26,IF(Z27<=2,W27,IF(Z28<=2,W28,W29)))))","v":51},{"$f":"IF(X33+2*F25-G46=0,1,IF(Z25<=2,X25,IF(Z26<=2,X26,IF(Z27<=2,X27,IF(Z28<=2,X28,X29)))))","v":49},null,null,null,null,{"$f":"IF(AD33+2*L25-M46=0,1,IF(AF25<=2,AC25,IF(AF26<=2,AC26,IF(AF27<=2,AC27,IF(AF28<=2,AC28,AC29)))))","v":1},{"$f":"IF(AD33+2*L25-M46=0,1,IF(AF25<=2,AD25,IF(AF26<=2,AD26,IF(AF27<=2,AD27,IF(AF28<=2,AD28,AD29)))))","v":1},null,null,null,2.5714285714285716,2.8888888888888888,{"$f":"(10/3)*((AM30/AL30)*(1/J6)-1)","v":0.10582010582010619},{"$f":"(100/68)*((AO30/AN30)*(1/J7)-1)","v":0.42016806722689093},13.5,39,14,36,"پیچ با فاصله",24,null,"پیچ با فاصله",62,35,null,null,null,null,null,null,null,null,null,null,null,null,null,null,null,null,null,null,null,null,null,null,null,null,null,null,null,null,null,null,null,null,null,null,null,null,null,null,null,null,null,null,null,{"$f":"CI42","v":2},{"$f":"CJ42","v":94.8},"j8",null,{"$f":"0.7*(CQ26-CQ24)+CQ24","v":40.302499999999995},{"$f":"CR27+0.1*(CR26-CR27)","v":51.097499999999997},"d9",null,null,null,null,null,null,null,null,null,null,{"$f":"DB37+'طراحی همه الگوها'!U189","v":52.3},{"$f":"DE15-'طراحی همه الگوها'!U198","v":102.9},14,null,{"$f":"DH14","v":25.8},{"$f":"DI14","v":25.8},17,null,"s13",{"$f":"DM19+'طراحی همه الگوها'!U189-0.5*'طراحی همه الگوها'!U190","v":45.65},{"$f":"DM45+DM44","v":0},null,null,null,null,null,"2'",{"$f":"DM19","v":0},{"$f":"EC35+DM44","v":0},null,{"$f":"DU29","v":38.973597181315171},{"$f":"DV29","v":57.68889786903565},"s'19",null,null,null,null,{"$f":"EI15","v":118.8},{"$f":"EJ15","v":109.6},13,null,{"$f":"DB37","v":0},{"$f":"EF13","v":109.1},1,null,null,null,3,{"$f":"EP29-'طراحی همه الگوها'!U234","v":-6.3},{"$f":"EQ29-'طراحی همه الگوها'!U232","v":-10.700000000000003},null,null,{"$f":"ET28+'طراحی همه الگوها'!U242","v":33.1},{"$f":"EU28-'طراحی همه الگوها'!U245","v":29.1},19,null,{"$f":"EP36","v":48.012550442566585},{"$f":"EQ36","v":61.087449557433416},10,null,null,null,null,null,{"$f":"FF13+'طراحی همه الگوها'!U260+'طراحی همه الگوها'!U262","v":62.099999999999994},{"$f":"FG25+FC44","v":70.199999999999989},13,null,{"$f":"FJ24","v":29.9},{"$f":"FG17","v":60.4},21,null,2,{"$f":"FO14","v":0},{"$f":"FC42+DM44","v":0},null,{"$f":"FO24","v":14.115},60.84250015285528,"41شبیه ساز",null,null,null,null,null,null,30,{"$f":"GB12+GE12*SIN(RADIANS(GA30)+GA14)","v":{"$error":"#DIV/0!"}},{"$f":"GC12+GE12*COS(RADIANS(GA30)+GA14)","v":{"$error":"#DIV/0!"}},{"$f":"IF(GB13>GB30,ATAN((GC13-GC30)/(GB13-GB30)),ATAN((GC13-GC30)/(GB30-GB13)))","v":{"$error":"#DIV/0!"}},{"$f":"IF(GB13>GB30,(GB13-GB30)/COS(GD30),(GB30-GB13)/COS(GD30))","v":{"$error":"#DIV/0!"}},null,1,2,"نقطه 12","نقطه قبل از چرخش",{"$f":"IF(GH30>GH18,IF(GG30>GG18,GG18+SQRT(POWER(GG30-GG18,2)+POWER(GH30-GH18,2))*COS(ATAN((GH30-GH18)/(GG30-GG18+0.000123))+GH16),GG18-SQRT(POWER(GG30-GG18,2)+POWER(GH30-GH18,2))*COS(ATAN((GH30-GH18)/(GG18-GG30+0.000123))-GH16)),IF(GG30>GG18,GG18+SQRT(POWER(GG30-GG18,2)+POWER(GH30-GH18,2))*COS(ATAN((GH18-GH30)/(GG30-GG18+0.000123))-GH16),GG18-SQRT(POWER(GG30-GG18,2)+POWER(GH30-GH18,2))*COS(ATAN((GH18-GH30)/(GG18-GG30+0.000123))+GH16)))","v":0.61824523267144293},{"$f":"IF(GH30>GH18,IF(GG30>GG18,GH18+SQRT(POWER(GG30-GG18,2)+POWER(GH30-GH18,2))*SIN(ATAN((GH30-GH18)/(GG30-GG18+0.000123))+GH16),GH18+SQRT(POWER(GG30-GG18,2)+POWER(GH30-GH18,2))*SIN(ATAN((GH30-GH18)/(GG18-GG30+0.000123))-GH16)),IF(GG30>GG18,GH18-SQRT(POWER(GG30-GG18,2)+POWER(GH30-GH18,2))*SIN(ATAN((GH18-GH30)/(GG30-GG18+0.000123))-GH16),GH18-SQRT(POWER(GG30-GG18,2)+POWER(GH30-GH18,2))*SIN(ATAN((GH18-GH30)/(GG18-GG30+0.000123))+GH16)))","v":0.69874634779839551},"نقطه چرخیده",null,null,null,null,null,null,null,{"$f":"GU29+GT11","v":-62},-1.0821041362364843,{"$f":"HB13+HB10*COS(GV30)","v":{"$error":"#REF!"}},{"$f":"HC13-HB10*SIN(GV30)","v":{"$error":"#REF!"}},{"$f":"SQRT(POWER((HB12-GW30),2)+POWER((HC12-GX30),2))","v":{"$error":"#REF!"}},{"$f":"ABS(HB9-GY30)","v":{"$error":"#REF!"}},null,"نقطه اول از خط دوم","f7",{"$f":"#REF!","v":{"$error":"#REF!"}},{"$f":"#REF!","v":{"$error":"#REF!"}},null,null,null,null,null,null,null,null,null,{"$f":"-HK30+HP9","v":0},0,null,null,{"$f":"HF30","v":0},{"$f":"HG30","v":0},20,null,{"$f":"HS30+2*(SIN(ATAN((HS12-HS11)/(HT12-HT11)))*(HT30-HT11)+COS(ATAN((HS12-HS11)/(HT12-HT11)))*(HS11-HS30))*COS(ATAN((HS12-HS11)/(HT12-HT11)))","v":{"$error":"#DIV/0!"}},{"$f":"HT30-2*(SIN(ATAN((HS12-HS11)/(HT12-HT11)))*(HT30-HT11)+COS(ATAN((HS12-HS11)/(HT12-HT11)))*(HS11-HS30))*SIN(ATAN((HS12-HS11)/(HT12-HT11)))","v":{"$error":"#DIV/0!"}},20,null,null,null,null,null,null,null,null,null,null,null,null,null,null,null,null,null,null,null,null,null,null,null,null,null,null,null,null,null,null,null,null,null,null,null,null,null,null,null,null,null,null,null,null,null,null,null,null,null,null,null,null,null,null,null,null,null,null,null,null,null,null,null,null,null,null,null,null,null,null,null,null,null,null,null,null,null,null,null,null,null,null,null,null,null,null,null,null,null,null,null,null,null,null,null,null,null,null,null,null,null,null,null,null,null,null,null,null,null,null,null,null,null,null,null,null,null,null,null,null,null,null,null,null,null,null,null,null,null,null,null,null,null,null,null,null,null,null,null,null,null,null,null,null,null,null,null,null,null,null,null,"متغیرهای  ورودی ",null,null,null,"w6",{"$f":"NU55","v":-31.835416666666667},{"$f":"NV55","v":5},null,null,null,null,{"$f":"OF11","v":"e7"},{"$f":"TEXT(0,OG11)&\" رج مثل رج قبل میبافیم\"","v":"0 رج مثل رج قبل میبافیم"},null,null,"m3",{"$f":"OF62","v":-30.082986111111111},{"$f":"OG62","v":5},null,null,null,null,{"$f":"OQ11","v":"e7"},{"$f":"TEXT(0,OR11)&\" رج مثل رج قبل میبافیم\"","v":"0 رج مثل رج قبل میبافیم"},null,null,"m3",{"$f":"OQ62","v":-30.702777777777776},{"$f":"OR62","v":5},null,null,null,null,null,{"$f":"\"نقشه بافت یقه ب ب غیر مسطح تا خط مرکزی جلو با میل \"&TEXT(0,PB19)&\"  بافت   \"&TEXT(0,PB21)","v":"نقشه بافت یقه ب ب غیر مسطح تا خط مرکزی جلو با میل 2.5  بافت   همه از زیر"},null,null,"n3",{"$f":"PB62","v":-31.322569444444444},{"$f":"PC62","v":5},null,null,null,null,null,{"$f":"\"نقشه بافت یقه ب ب معمولی تا خط مرکزی جلو بافت \"&TEXT(0,PM21)&\"  با میل \"&TEXT(0,PM19)","v":"نقشه بافت یقه ب ب معمولی تا خط مرکزی جلو بافت همه از زیر  با میل 2.5"},null,null,"n3",{"$f":"PM62","v":-30.82673611111111},{"$f":"PN62","v":5},null,null,null,null,{"$f":"PX29+3.5","v":-41.5},{"$f":"PY29","v":5},"t2",null,"بزرگی فلش دانه",{"$f":"PY12","v":0.3},"f10",{"$f":"QC37","v":-42.55},{"$f":"QD37","v":7.4285714285714288},{"$f":"QB37","v":"f8"},null,{"$f":"FF166","v":16.725532656711231},{"$f":"FG166","v":50.142500152855277},"شیفت7",null,null,null,null,null,{"$f":"QQ15+(QR7+QR8)*SIN(RADIANS(60))","v":-9.0162831425915826},{"$f":"QR15-(QR7+QR8)*COS(RADIANS(60))","v":49.927797473097812},"k20",null,null,null,null,{"$f":"QQ41","v":-18.2},{"$f":"QR41","v":52.227797473097809},"k31",null,null,{"$f":"\"یقه انگلیسی بافت  \"&TEXT(0,RB22)&\"  با میل \"&TEXT(0,RB20)","v":"یقه انگلیسی بافت  جودانه  با میل 2.5"},null,null,"p3",{"$f":"RB62","v":-31.9375},{"$f":"RC62","v":5},null,null,null,null,null,null,null,null,{"$f":"RQ29","v":4.2824074074074066},{"$f":"RN38","v":-40.155257586450247},null,null,"پهنا عمودی",{"$f":"IF(AND(ABS(RY87-RY150)>0,(RY86-RY26)>0,(2*RV27-(RY86-RY26))>(RU66-RU65)),\"پهنای عمودی توری کوچکتر از انتخاب شما است \",\"  \")","v":"  "},"خطا : ",null,{"$f":"RY29","v":-37.035991531404377},{"$f":"RV38","v":10.277777777777777},null,null,{"$f":"SC29","v":-38.814396612561751},{"$f":"RV38","v":10.277777777777777},null,null,null,null,null,null,{"$f":"SK29","v":4.2824074074074066},{"$f":"SH38","v":-40.155257586450247},null,null,"پهنا عمودی",{"$f":"IF(AND(ABS(SS87-SS150)>0,(SS86-SS26)>0,(2*SP27-(SS86-SS26))>(SO66-SO65)),\"پهنای عمودی توری کوچکتر از انتخاب شما است \",\"  \")","v":"  "},"خطا : ",null,{"$f":"SS29","v":-37.035991531404377},{"$f":"SP38","v":10.277777777777777},null,null,{"$f":"SW29","v":-38.814396612561751},{"$f":"SP38","v":10.277777777777777},null,null,null,null,null,null,{"$f":"TE29","v":4.0509259259259265},{"$f":"TB38","v":-40.22935779816514},null,null,"پهنا عمودی",{"$f":"IF(AND(ABS(TM87-TM150)>0,(TM86-TM26)>0,(2*TJ27-(TM86-TM26))>(TI66-TI65)),\"پهنای عمودی توری کوچکتر از انتخاب شما است \",\"  \")","v":"  "},"خطا : ",null,{"$f":"TM29","v":-37.110091743119263},{"$f":"TJ38","v":9.7222222222222232},null,null,{"$f":"TQ29","v":-38.844036697247709},{"$f":"TJ38","v":9.7222222222222232},null,null,null,null,null,null,{"$f":"TY29","v":4.0509259259259265},{"$f":"TV38","v":-40.22935779816514},null,null,"پهنا عمودی",{"$f":"IF(AND(ABS(UG87-UG150)>0,(UG86-UG26)>0,(2*UD27-(UG86-UG26))>(UC66-UC65)),\"پهنای عمودی توری کوچکتر از انتخاب شما است \",\"  \")","v":"  "},"خطا : ",null,{"$f":"UG29","v":-37.110091743119263},{"$f":"UD38","v":9.7222222222222232},null,null,{"$f":"UK29","v":-38.844036697247709},{"$f":"UD38","v":9.7222222222222232},null,null,null,null,null,null,{"$f":"US29","v":4.2824074074074066},{"$f":"UP38","v":-40.155257586450247},null,null,"پهنا عمودی",{"$f":"IF(AND(ABS(VA87-VA150)>0,(VA86-VA26)>0,(2*UX27-(VA86-VA26))>(UW66-UW65)),\"پهنای عمودی توری کوچکتر از انتخاب شما است \",\"  \")","v":"  "},"خطا : ",null,{"$f":"VA29","v":-37.035991531404377},{"$f":"UX38","v":10.277777777777777},null,null,{"$f":"VE29","v":-38.814396612561751},{"$f":"UX38","v":10.277777777777777},null,null,null,null,null,null,{"$f":"VM29","v":4.2824074074074066},{"$f":"VJ38","v":-40.155257586450247},null,null,"پهنا عمودی",{"$f":"IF(AND(ABS(VU87-VU150)>0,(VU86-VU26)>0,(2*VR27-(VU86-VU26))>(VQ66-VQ65)),\"پهنای عمودی توری کوچکتر از انتخاب شما است \",\"  \")","v":"  "},"خطا : ",null,{"$f":"VU29","v":-37.035991531404377},{"$f":"VR38","v":10.277777777777777},null,null,{"$f":"VY29","v":-38.814396612561751},{"$f":"VR38","v":10.277777777777777}]
[null,null,null,null,"تعداد دانه های سرتاسر آستین در قسمت زیر بغل   b20",{"$f":"F16","v":73},null,"جمع شوندگی عمودی بافت پشت   f02",{"$f":"OFFSET(AJ6,I33,0)","v":0.19400352733686049},null,null,null,null,"یقه شکاری",null,null,{"$f":"IF(S19=G46,1,IF(T26<=2,Q26,IF(T27<=2,Q27,IF(T28<=2,Q28,IF(T29<=2,Q29,Q30)))))","v":48},{"$f":"IF(S19=G46,1,IF(T26<=2,R26,IF(T27<=2,R27,IF(T28<=2,R28,IF(T29<=2,R29,R30)))))","v":46},null,null,null,null,"یقه ب ب غیر مسطح تا خط مرکزی جلو",null,null,"یقه ب ب مسطح تا خط مرکزی جلو",null,null,"یقه انگلیسی ",null,null,null,null,{"$f":"AO31/AN31","v":2.8571428571428572},{"$f":"AM31/AL31","v":2.8888888888888888},{"$f":"(10/3)*((AM31/AL31)*(1/J6)-1)","v":0.10582010582010619},{"$f":"(100/68)*((AO31/AN31)*(1/J7)-1)","v":0.63025210084033623},13.5,39,3.5,10,"پیچ متراکم",25,null,"پیچ متراکم",83,35,null,null,null,null,null,null,null,null,null,null,null,null,null,null,null,null,null,null,null,null,null,null,null,null,null,null,null,null,null,null,null,null,null,null,null,null,null,null,null,null,null,null,null,null,null,null,null,{"$f":"CQ24","v":0},{"$f":"CR15-1-0.013*(CR25-CR27)","v":58.609434999999991},"j'2",null,null,null,null,null,null,null,null,null,null,null,null,null,null,null,null,null,null,"s14",{"$f":"DM13+DM42*COS(DM40)","v":4.8769200000000001},{"$f":"DN13-DM42*SIN(DM40)","v":96.45035},null,{"$f":"DP25","v":4.8769200000000001},{"$f":"DQ25","v":96.45035},"s14",null,null,null,null,null,null,null,null,null,null,null,null,{"$f":"DB37+'طراحی همه الگوها'!U211+'طراحی همه الگوها'!U219","v":119.8},{"$f":"EF20","v":109.6},12,null,{"$f":"DB37+'طراحی همه الگوها'!U216","v":110},{"$f":"EF33","v":109.1},3,null,null,null,5,{"$f":"EP29+'طراحی همه الگوها'!U235","v":5.7},{"$f":"EQ29-'طراحی همه الگوها'!U233","v":0},null,null,null,null,null,null,{"$f":"EP37","v":40.517218561989182},{"$f":"EQ37","v":53.592117676856013},11,null,null,null,null,null,{"$f":"FF13","v":0},{"$f":"FG30","v":70.199999999999989},12,null,{"$f":"FJ24","v":29.9},{"$f":"FK24","v":48.8},22,null,"s''12",{"$f":"FO30","v":0},{"$f":"FP24","v":60.84250015285528},null,21.0075,42.589750106998693,"41'",null,null,null,null,null,null,32,{"$f":"GB12+GE12*SIN(RADIANS(GA31)+GA14)","v":{"$error":"#DIV/0!"}},{"$f":"GC12+GE12*COS(RADIANS(GA31)+GA14)","v":{"$error":"#DIV/0!"}},{"$f":"IF(GB13>GB31,ATAN((GC13-GC31)/(GB13-GB31)),ATAN((GC13-GC31)/(GB31-GB13)))","v":{"$error":"#DIV/0!"}},{"$f":"IF(GB13>GB31,(GB13-GB31)/COS(GD31),(GB31-GB13)/COS(GD31))","v":{"$error":"#DIV/0!"}},null,1,2,"نقطه 13","نقطه قبل از چرخش",{"$f":"IF(GH31>GH18,IF(GG31>GG18,GG18+SQRT(POWER(GG31-GG18,2)+POWER(GH31-GH18,2))*COS(ATAN((GH31-GH18)/(GG31-GG18+0.000123))+GH16),GG18-SQRT(POWER(GG31-GG18,2)+POWER(GH31-GH18,2))*COS(ATAN((GH31-GH18)/(GG18-GG31+0.000123))-GH16)),IF(GG31>GG18,GG18+SQRT(POWER(GG31-GG18,2)+POWER(GH31-GH18,2))*COS(ATAN((GH18-GH31)/(GG31-GG18+0.000123))-GH16),GG18-SQRT(POWER(GG31-GG18,2)+POWER(GH31-GH18,2))*COS(ATAN((GH18-GH31)/(GG18-GG31+0.000123))+GH16)))","v":0.61824523267144293},{"$f":"IF(GH31>GH18,IF(GG31>GG18,GH18+SQRT(POWER(GG31-GG18,2)+POWER(GH31-GH18,2))*SIN(ATAN((GH31-GH18)/(GG31-GG18+0.000123))+GH16),GH18+SQRT(POWER(GG31-GG18,2)+POWER(GH31-GH18,2))*SIN(ATAN((GH31-GH18)/(GG18-GG31+0.000123))-GH16)),IF(GG31>GG18,GH18-SQRT(POWER(GG31-GG18,2)+POWER(GH31-GH18,2))*SIN(ATAN((GH18-GH31)/(GG31-GG18+0.000123))-GH16),GH18-SQRT(POWER(GG31-GG18,2)+POWER(GH31-GH18,2))*SIN(ATAN((GH18-GH31)/(GG18-GG31+0.000123))+GH16)))","v":0.69874634779839551},"نقطه چرخیده",null,null,"رسم باکس زیپ دامن-باکس چپ","مولفه افقی","مولفه عمودی",null,null,{"$f":"GU30+GT11","v":-60},-1.0471975511965976,{"$f":"HB13+HB10*COS(GV31)","v":{"$error":"#REF!"}},{"$f":"HC13-HB10*SIN(GV31)","v":{"$error":"#REF!"}},{"$f":"SQRT(POWER((HB12-GW31),2)+POWER((HC12-GX31),2))","v":{"$error":"#REF!"}},{"$f":"ABS(HB9-GY31)","v":{"$error":"#REF!"}},null,"نقطه دوم از خط دوم","f8",{"$f":"#REF!","v":{"$error":"#REF!"}},{"$f":"#REF!","v":{"$error":"#REF!"}},null,null,null,null,null,null,null,null,null,{"$f":"-HK31+HP9","v":0},0,null,null,0,0,21,null,{"$f":"HS31+2*(SIN(ATAN((HS12-HS11)/(HT12-HT11)))*(HT31-HT11)+COS(ATAN((HS12-HS11)/(HT12-HT11)))*(HS11-HS31))*COS(ATAN((HS12-HS11)/(HT12-HT11)))","v":{"$error":"#DIV/0!"}},{"$f":"HT31-2*(SIN(ATAN((HS12-HS11)/(HT12-HT11)))*(HT31-HT11)+COS(ATAN((HS12-HS11)/(HT12-HT11)))*(HS11-HS31))*SIN(ATAN((HS12-HS11)/(HT12-HT11)))","v":{"$error":"#DIV/0!"}},{"$f":"HU31","v":21},null,null,null,null,null,null,null,null,null,null,null,null,null,null,null,null,null,null,null,null,null,null,null,null,null,null,null,null,null,null,null,null,null,null,null,null,null,null,null,null,null,null,null,null,null,null,null,null,null,null,null,null,null,null,null,null,null,null,null,null,null,null,null,null,null,null,null,null,null,null,null,null,null,null,null,null,null,null,null,null,null,null,null,null,null,null,null,null,null,null,null,null,null,null,null,null,null,null,null,null,null,null,null,null,null,null,null,null,null,null,null,null,null,null,null,null,null,null,null,null,null,null,null,null,null,null,null,null,null,null,null,null,null,null,null,null,null,null,null,null,null,null,null,null,null,null,null,null,null,null,null,"Xw1",{"$f":"'متغیرها '!C879-20","v":-35},"جابجایی افقی کل نقشه",null,"f2",{"$f":"NZ30-1*NZ28","v":-32.317068042813453},{"$f":"OA30-NZ27*NZ28","v":4.7591743119266052},{"$f":"NZ30","v":-31.835416666666667},{"$f":"OA30","v":5},{"$f":"NY30","v":"w6"},null,{"$f":"OF12","v":"e8"},{"$f":"TEXT(0,OG12)&\" رج مثل رج قبل میبافیم\"","v":"-4 رج مثل رج قبل میبافیم"},null,null,"f2",{"$f":"OK30-1*OK28","v":-30.422975317802962},{"$f":"OL30-OK27*OK28","v":4.8300053966540748},{"$f":"OK30","v":-30.082986111111111},{"$f":"OL30","v":5},{"$f":"OJ30","v":"m3"},null,{"$f":"OQ12","v":"e8"},{"$f":"TEXT(0,OR12)&\" رج مثل رج قبل میبافیم\"","v":"-4 رج مثل رج قبل میبافیم"},null,null,"f2",{"$f":"OV30-1*OV28","v":-31.042766984469626},{"$f":"OW30-OV27*OV28","v":4.8300053966540748},{"$f":"OV30","v":-30.702777777777776},{"$f":"OW30","v":5},{"$f":"OU30","v":"m3"},null,"b2",{"$f":"TEXT(0,PC15)&\"دانه\"","v":"0دانه"},null,null,"f2",{"$f":"PG30-1*PG28","v":-31.662558651136294},{"$f":"PH30-PG27*PG28","v":4.8300053966540748},{"$f":"PG30","v":-31.322569444444444},{"$f":"PH30","v":5},{"$f":"PF30","v":"n3"},null,"b2",{"$f":"TEXT(0,PN15)&\"دانه\"","v":"0دانه"},null,null,"f2",{"$f":"PR30-1*PR28","v":-31.16672531780296},{"$f":"PS30-PR27*PR28","v":4.8300053966540748},{"$f":"PR30","v":-30.82673611111111},{"$f":"PS30","v":5},{"$f":"PQ30","v":"n3"},null,{"$f":"PX30","v":-41.5},{"$f":"PY30+PY7","v":6.4285714285714288},"t3",null,"زاویه فلش دانه",{"$f":"PY13","v":0.75},"f11",{"$f":"QC34","v":-42.55},{"$f":"QD34","v":6.4285714285714288},{"$f":"QB34","v":"t4"},null,{"$f":"FF169","v":8.3104559999999985},{"$f":"FG169","v":49.8},"شیفت50",null,{"$f":"QI78","v":0},{"$f":"QJ78","v":80.227797473097809},"26''",null,{"$f":"2*QQ15-QQ30","v":-16.983716857408417},{"$f":"QR30","v":49.927797473097812},"k21",null,null,null,null,{"$f":"QQ39","v":-17.503332099679081},{"$f":"QR39","v":49.627797473097807},"k29",null,"d8",{"$f":"TEXT(0,RC11)&\" دانه جلوانگلیسی\"","v":"14 دانه جلوانگلیسی"},null,null,"f2",{"$f":"RG30-1*RG28","v":-32.277489206691854},{"$f":"RH30-RG27*RG28","v":4.8300053966540748},{"$f":"RG30","v":-31.9375},{"$f":"RH30","v":5},{"$f":"RF30","v":"p3"},null,null,"محاسبات رسم عمودی",null,null,null,null,null,null,null,{"$f":"RN29","v":0.59280169371912483},"c1",null,null,null,null,null,null,null,null,null,null,"محاسبات رسم عمودی",null,null,null,null,null,null,null,{"$f":"SH29","v":0.59280169371912483},"c1",null,null,null,null,null,null,null,null,null,null,"محاسبات رسم عمودی",null,null,null,null,null,null,null,{"$f":"TB29","v":0.57798165137614688},"c1",null,null,null,null,null,null,null,null,null,null,"محاسبات رسم عمودی",null,null,null,null,null,null,null,{"$f":"TV29","v":0.57798165137614688},"c1",null,null,null,null,null,null,null,null,null,null,"محاسبات رسم عمودی",null,null,null,null,null,null,null,{"$f":"UP29","v":0.59280169371912483},"c1",null,null,null,null,null,null,null,null,null,null,"محاسبات رسم عمودی",null,null,null,null,null,null,null,{"$f":"VJ29","v":0.59280169371912483},"c1"]
[null,null,null,null,"فاصله زیر بغل تا پایین لباس (cm)     b9",{"$f":"ROUND(AX113,0)","v":20},null,"جمع شوندگی افقی بافت پشت   f03",{"$f":"OFFSET(AJ6,I33,1)","v":4.2016806722688926E-2},null,null,null,null,"بافت انتخابی",null,null,"یقه شومیزیه نوک تیز تا خط جادکمه",null,null,"یقه شومیزیه معمولی تا خط جادکمه",null,null,"بافت انتخابی",null,null,"بافت انتخابی",null,null,"بافت انتخابی",null,null,null,null,4,2.5185185185185186,{"$f":"(10/3)*((AM32/AL32)*(1/J6)-1)","v":-0.33509700176366825},{"$f":"(100/68)*((AO32/AN32)*(1/J7)-1)","v":1.4705882352941178},13.5,34,9,36,"کشباف سه تایی",26,null,"کشباف سه تایی",167,13,null,null,null,null,null,null,null,null,null,null,null,null,null,null,null,null,null,null,null,null,null,null,null,null,null,null,null,null,null,null,null,null,null,null,null,null,null,null,null,null,null,null,null,{"$f":"CI42","v":2},{"$f":"CJ42","v":94.8},"j8",null,null,null,null,null,null,null,null,null,null,null,null,null,null,{"$f":"DD29","v":52.3},{"$f":"DE15","v":116.2},3,null,{"$f":"DH22","v":45.300000000000004},{"$f":"DE14","v":0},18,null,"s16",{"$f":"DM15","v":0},{"$f":"DN15","v":71.8},null,{"$f":"DP31+0.32*(DP34-DP31)","v":13.624052881815071},{"$f":"DQ34+0.5*(DQ31-DQ34)","v":85.328092777676261},null,null,null,null,null,null,{"$f":"DX30","v":38.973597181315171},{"$f":"DY30","v":57.68889786903565},"s'19",null,"شیفت افقی مچ",{"$f":"EE20+10","v":120},null,{"$f":"EE31","v":119.8},{"$f":"EF13","v":109.1},11,null,null,null,null,null,null,null,6,{"$f":"EP30+EO25*COS(RADIANS('متغیرها '!C26))","v":4.2854730683984821},{"$f":"EQ30-EO25*SIN(RADIANS('متغیرها '!C26))","v":-11.254761136175208},null,null,{"$f":"ET28+'طراحی همه الگوها'!U242","v":33.1},{"$f":"EU28+'طراحی همه الگوها'!U244","v":54.1},18,null,null,null,null,null,null,null,null,null,{"$f":"FF13","v":0},{"$f":"FG31+'طراحی همه الگوها'!U258","v":78.699999999999989},18,null,null,null,null,null,"s'12",{"$f":"FO30","v":0},{"$f":"FP23","v":63.642500152855277},null,26.245799999999999,18.252750045856583,"41''",null,null,null,null,null,null,34,{"$f":"GB12+GE12*SIN(RADIANS(GA32)+GA14)","v":{"$error":"#DIV/0!"}},{"$f":"GC12+GE12*COS(RADIANS(GA32)+GA14)","v":{"$error":"#DIV/0!"}},{"$f":"IF(GB13>GB32,ATAN((GC13-GC32)/(GB13-GB32)),ATAN((GC13-GC32)/(GB32-GB13)))","v":{"$error":"#DIV/0!"}},{"$f":"IF(GB13>GB32,(GB13-GB32)/COS(GD32),(GB32-GB13)/COS(GD32))","v":{"$error":"#DIV/0!"}},null,1,2,"نقطه 14","نقطه قبل از چرخش",{"$f":"IF(GH32>GH18,IF(GG32>GG18,GG18+SQRT(POWER(GG32-GG18,2)+POWER(GH32-GH18,2))*COS(ATAN((GH32-GH18)/(GG32-GG18+0.000123))+GH16),GG18-SQRT(POWER(GG32-GG18,2)+POWER(GH32-GH18,2))*COS(ATAN((GH32-GH18)/(GG18-GG32+0.000123))-GH16)),IF(GG32>GG18,GG18+SQRT(POWER(GG32-GG18,2)+POWER(GH32-GH18,2))*COS(ATAN((GH18-GH32)/(GG32-GG18+0.000123))-GH16),GG18-SQRT(POWER(GG32-GG18,2)+POWER(GH32-GH18,2))*COS(ATAN((GH18-GH32)/(GG18-GG32+0.000123))+GH16)))","v":0.61824523267144293},{"$f":"IF(GH32>GH18,IF(GG32>GG18,GH18+SQRT(POWER(GG32-GG18,2)+POWER(GH32-GH18,2))*SIN(ATAN((GH32-GH18)/(GG32-GG18+0.000123))+GH16),GH18+SQRT(POWER(GG32-GG18,2)+POWER(GH32-GH18,2))*SIN(ATAN((GH32-GH18)/(GG18-GG32+0.000123))-GH16)),IF(GG32>GG18,GH18-SQRT(POWER(GG32-GG18,2)+POWER(GH32-GH18,2))*SIN(ATAN((GH18-GH32)/(GG32-GG18+0.000123))-GH16),GH18-SQRT(POWER(GG32-GG18,2)+POWER(GH32-GH18,2))*SIN(ATAN((GH18-GH32)/(GG18-GG32+0.000123))+GH16)))","v":0.69874634779839551},"نقطه چرخیده",null,"نقطه ورودی بالا","s'u3",{"$f":"#REF!","v":{"$error":"#REF!"}},{"$f":"#REF!","v":{"$error":"#REF!"}},null,null,{"$f":"GU31+GT11","v":-58},-1.0122909661567112,{"$f":"HB13+HB10*COS(GV32)","v":{"$error":"#REF!"}},{"$f":"HC13-HB10*SIN(GV32)","v":{"$error":"#REF!"}},{"$f":"SQRT(POWER((HB12-GW32),2)+POWER((HC12-GX32),2))","v":{"$error":"#REF!"}},{"$f":"ABS(HB9-GY32)","v":{"$error":"#REF!"}},null,"نقطه تقاطع","f10",{"$f":"(HE30-HE28+HD28*((HE29-HE28)/(HD29-HD28+0.0001))-HD30*((HE31-HE30)/(HD31-HD30+0.0001)))/(((HE29-HE28)/(HD29-HD28+0.0001))-((HE31-HE30)/(HD31-HD30+0.0001)))","v":{"$error":"#REF!"}},{"$f":"HE28+(HD32-HD28)*((HE29-HE28)/(HD29-HD28+0.0001))","v":{"$error":"#REF!"}},null,null,null,null,null,null,null,null,null,{"$f":"-HK32+HP9","v":0},0,null,null,0,0,22,null,{"$f":"HS32+2*(SIN(ATAN((HS12-HS11)/(HT12-HT11)))*(HT32-HT11)+COS(ATAN((HS12-HS11)/(HT12-HT11)))*(HS11-HS32))*COS(ATAN((HS12-HS11)/(HT12-HT11)))","v":{"$error":"#DIV/0!"}},{"$f":"HT32-2*(SIN(ATAN((HS12-HS11)/(HT12-HT11)))*(HT32-HT11)+COS(ATAN((HS12-HS11)/(HT12-HT11)))*(HS11-HS32))*SIN(ATAN((HS12-HS11)/(HT12-HT11)))","v":{"$error":"#DIV/0!"}},22,null,null,null,null,null,null,null,null,null,null,null,null,null,null,null,null,null,null,null,null,null,null,null,null,null,null,null,null,null,null,null,null,null,null,null,null,null,null,null,null,null,null,null,null,null,null,null,null,null,null,null,null,null,null,null,null,null,null,null,null,null,null,null,null,null,null,null,null,null,null,null,null,null,null,null,null,null,null,null,null,null,null,null,null,null,null,null,null,null,null,null,null,null,null,null,null,null,null,null,null,null,null,null,null,null,null,null,null,null,null,null,null,null,null,null,null,null,null,null,null,null,null,null,null,null,null,null,null,null,null,null,null,null,null,null,null,null,null,null,null,null,null,null,null,null,null,null,null,null,null,null,"Yw1",{"$f":"'متغیرها '!C880+5","v":5},"جابجایی عمودی کل نقشه",null,"f3",{"$f":"NZ31","v":-32.317068042813453},{"$f":"OA30+NZ27*NZ28","v":5.2408256880733948},{"$f":"NZ31","v":-32.317068042813453},{"$f":"OA31","v":4.7591743119266052},{"$f":"NY31","v":"f2"},null,{"$f":"OF13","v":"e9"},{"$f":"TEXT(0,OG13)&\" رج مثل رج قبل میبافیم\"","v":"20 رج مثل رج قبل میبافیم"},null,null,"f3",{"$f":"OK31","v":-30.422975317802962},{"$f":"OL30+OK27*OK28","v":5.1699946033459252},{"$f":"OK31","v":-30.422975317802962},{"$f":"OL31","v":4.8300053966540748},{"$f":"OJ31","v":"f2"},null,{"$f":"OQ13","v":"e9"},{"$f":"TEXT(0,OR13)&\" رج مثل رج قبل میبافیم\"","v":"20 رج مثل رج قبل میبافیم"},null,null,"f3",{"$f":"OV31","v":-31.042766984469626},{"$f":"OW30+OV27*OV28","v":5.1699946033459252},{"$f":"OV31","v":-31.042766984469626},{"$f":"OW31","v":4.8300053966540748},{"$f":"OU31","v":"f2"},null,null,{"$f":"\"بافت جادکمه: \"&TEXT(0,PB22)&\"-  \"&TEXT(0,'مساله سوم مدل 13'!A478)","v":"بافت جادکمه: جودانه-  بچگانه 4 ساله"},null,null,"f3",{"$f":"PG31","v":-31.662558651136294},{"$f":"PH30+PG27*PG28","v":5.1699946033459252},{"$f":"PG31","v":-31.662558651136294},{"$f":"PH31","v":4.8300053966540748},{"$f":"PF31","v":"f2"},null,null,{"$f":"\"بافت جادکمه: \"&TEXT(0,PM22)&\"-  \"&TEXT(0,'مساله سوم مدل 13'!A478)","v":"بافت جادکمه: جودانه-  بچگانه 4 ساله"},null,null,"f3",{"$f":"PR31","v":-31.16672531780296},{"$f":"PS30+PR27*PR28","v":5.1699946033459252},{"$f":"PR31","v":-31.16672531780296},{"$f":"PS31","v":4.8300053966540748},{"$f":"PQ31","v":"f2"},null,{"$f":"PX31-2/PY15","v":-42.55},{"$f":"PY31","v":6.4285714285714288},"t4",null,"ارتفاع هر رج",{"$f":"PY7","v":1.4285714285714286},"w11",null,null,null,null,null,null,"رگلان",null,{"$f":"QI69","v":0},{"$f":"QJ69","v":80.227797473097809},"26'",null,{"$f":"QQ15+QR7+QR8","v":-8.4},{"$f":"QR15","v":52.227797473097809},"k22",null,null,null,null,{"$f":"QQ46","v":-18.022947341949745},{"$f":"QR46","v":49.32779747309781},"k36",null,"d9",{"$f":"\"هر  \"&TEXT(0,RC14)&\"  رج یکدانه از بافت یقه را به بافت جلو تبدیل میکنیم \"","v":"هر  2  رج یکدانه از بافت یقه را به بافت جلو تبدیل میکنیم "},null,null,"f3",{"$f":"RG31","v":-32.277489206691854},{"$f":"RH30+RG27*RG28","v":5.1699946033459252},{"$f":"RG31","v":-32.277489206691854},{"$f":"RH31","v":4.8300053966540748},{"$f":"RF31","v":"f2"},null,"پهنا افقی",{"$f":"IF(AND((RQ86-RQ26)>0,(RN26-(RQ86-RQ26))>(RM66-RM65)),\"پهنای افقی توری کوچکتر از انتخاب شما است \",\"  \")","v":"  "},"خطا : ",null,{"$f":"IF(RN26>(RM42-RM40),RM42,RM40)","v":8.5648148148148131},{"$f":"IF(RN26>(RM42-RM40),RN42,RN40)","v":-20},{"$f":"RO42","v":10},null,null,{"$f":"RN28","v":0.8564814814814814},"c2",null,{"$f":"IF(RV27>(RU42-RU40),RU42,RU40)","v":-34.071983062808755},{"$f":"IF(RV27>(RU42-RU40),RV42,RV40)","v":0},{"$f":"RW42","v":10},null,{"$f":"RU67","v":-38.221594918842626},{"$f":"RV67","v":0},{"$f":"RW67","v":3},null,"پهنا افقی",{"$f":"IF(AND((SK86-SK26)>0,(SH26-(SK86-SK26))>(SG66-SG65)),\"پهنای افقی توری کوچکتر از انتخاب شما است \",\"  \")","v":"  "},"خطا : ",null,{"$f":"IF(SH26>(SG42-SG40),SG42,SG40)","v":8.5648148148148131},{"$f":"IF(SH26>(SG42-SG40),SH42,SH40)","v":-20},{"$f":"SI42","v":10},null,null,{"$f":"SH28","v":0.8564814814814814},"c2",null,{"$f":"IF(SP27>(SO42-SO40),SO42,SO40)","v":-34.071983062808755},{"$f":"IF(SP27>(SO42-SO40),SP42,SP40)","v":0},{"$f":"SQ42","v":10},null,{"$f":"SO67","v":-38.221594918842626},{"$f":"SP67","v":0},{"$f":"SQ67","v":3},null,"پهنا افقی",{"$f":"IF(AND((TE86-TE26)>0,(TB26-(TE86-TE26))>(TA66-TA65)),\"پهنای افقی توری کوچکتر از انتخاب شما است \",\"  \")","v":"  "},"خطا : ",null,{"$f":"IF(TB26>(TA42-TA40),TA42,TA40)","v":8.101851851851853},{"$f":"IF(TB26>(TA42-TA40),TB42,TB40)","v":-20},{"$f":"TC42","v":10},null,null,{"$f":"TB28","v":0.81018518518518523},"c2",null,{"$f":"IF(TJ27>(TI42-TI40),TI42,TI40)","v":-34.220183486238533},{"$f":"IF(TJ27>(TI42-TI40),TJ42,TJ40)","v":0},{"$f":"TK42","v":10},null,{"$f":"TI67","v":-38.26605504587156},{"$f":"TJ67","v":0},{"$f":"TK67","v":3},null,"پهنا افقی",{"$f":"IF(AND((TY86-TY26)>0,(TV26-(TY86-TY26))>(TU66-TU65)),\"پهنای افقی توری کوچکتر از انتخاب شما است \",\"  \")","v":"  "},"خطا : ",null,{"$f":"IF(TV26>(TU42-TU40),TU42,TU40)","v":8.101851851851853},{"$f":"IF(TV26>(TU42-TU40),TV42,TV40)","v":-20},{"$f":"TW42","v":10},null,null,{"$f":"TV28","v":0.81018518518518523},"c2",null,{"$f":"IF(UD27>(UC42-UC40),UC42,UC40)","v":-34.220183486238533},{"$f":"IF(UD27>(UC42-UC40),UD42,UD40)","v":0},{"$f":"UE42","v":10},null,{"$f":"UC67","v":-38.26605504587156},{"$f":"UD67","v":0},{"$f":"UE67","v":3},null,"پهنا افقی",{"$f":"IF(AND((US86-US26)>0,(UP26-(US86-US26))>(UO66-UO65)),\"پهنای افقی توری کوچکتر از انتخاب شما است \",\"  \")","v":"  "},"خطا : ",null,{"$f":"IF(UP26>(UO42-UO40),UO42,UO40)","v":8.5648148148148131},{"$f":"IF(UP26>(UO42-UO40),UP42,UP40)","v":-20},{"$f":"UQ42","v":10},null,null,{"$f":"UP28","v":0.8564814814814814},"c2",null,{"$f":"IF(UX27>(UW42-UW40),UW42,UW40)","v":-34.071983062808755},{"$f":"IF(UX27>(UW42-UW40),UX42,UX40)","v":0},{"$f":"UY42","v":10},null,{"$f":"UW67","v":-38.221594918842626},{"$f":"UX67","v":0},{"$f":"UY67","v":3},null,"پهنا افقی",{"$f":"IF(AND((VM86-VM26)>0,(VJ26-(VM86-VM26))>(VI66-VI65)),\"پهنای افقی توری کوچکتر از انتخاب شما است \",\"  \")","v":"  "},"خطا : ",null,{"$f":"IF(VJ26>(VI42-VI40),VI42,VI40)","v":8.5648148148148131},{"$f":"IF(VJ26>(VI42-VI40),VJ42,VJ40)","v":-20},{"$f":"VK42","v":10},null,null,{"$f":"VJ28","v":0.8564814814814814},"c2",null,{"$f":"IF(VR27>(VQ42-VQ40),VQ42,VQ40)","v":-34.071983062808755},{"$f":"IF(VR27>(VQ42-VQ40),VR42,VR40)","v":0},{"$f":"VS42","v":10},null,{"$f":"VQ67","v":-38.221594918842626},{"$f":"VR67","v":0},{"$f":"VS67","v":3}]
[null,null,null,null,"فاصله زیر بغل تا بالای مچ آستین (cm)     b10",{"$f":"ROUNDUP(SQRT(POWER(DY513-DY520,2)+POWER(DZ513-DZ520,2)),0)","v":30},null,"بافت انتخابی پشت",{"$f":"'متغیرها '!C860","v":15},null,null,null,null,"a1",{"$f":"ROUND(2*O12*O17,0)","v":124},null,"بافت انتخابی",null,null,"بافت انتخابی",null,null,"c1",{"$f":"ROUND(X20*X11+1.5*(X36+1)+0.5*(X35+1)-0.5*(X34+1)-3,0)","v":89},null,"c1",{"$f":"ROUND(X20*X11+2*(X36+1)+1*(X35+1)+X34+1-2,0)","v":101},null,"d1",{"$f":"AD37+AD36-2*AD35+AD34+7","v":63},null,null,null,{"$error":"#DIV/0!"},0,{"$f":"IF(AM33=0,\"  \",(10/3)*((AM33/AL33)*(1/J6)-1))","v":"  "},{"$f":"IF(AN33=0,\"  \",(100/68)*((AO33/AN33)*(1/J7)-1))","v":"  "},13.5,0,0,36,null,27,null,"  ","  ","  ",null,null,null,null,null,null,null,null,null,null,null,null,null,null,null,null,null,null,null,null,null,null,null,null,null,null,null,null,null,null,null,null,null,null,null,null,null,null,null,null,null,null,null,{"$f":"CI41","v":0},{"$f":"CJ41","v":94.8},"j7",null,null,null,null,null,null,null,null,null,null,null,null,null,null,{"$f":"DD16","v":13.3},{"$f":"DE15","v":116.2},4,null,{"$f":"DH22","v":45.300000000000004},{"$f":"DI22","v":17.399999999999999},19,null,"s15",{"$f":"DM32+0.7*(DM31-DM32)","v":3.4138440000000001},{"$f":"DN32+0.5*(DN31-DN32)","v":84.125174999999999},null,{"$f":"DP31+0.67*(DP34-DP31)","v":23.191229471300304},{"$f":"DQ34+0.2*(DQ31-DQ34)","v":78.654738444282003},null,null,null,null,null,null,{"$f":"DU19","v":32.256082760042972},{"$f":"DV19","v":50.971383447763451},"s'11",null,"شیفت عمودی مچ",{"$f":"EF20-10","v":99.6},null,{"$f":"DB37+'طراحی همه الگوها'!U216","v":110},{"$f":"EF13","v":109.1},3,null,{"$f":"EE21","v":110},{"$f":"EF21","v":9.8000000000000007},9,null,null,null,7,{"$f":"EP31+EO26*COS(RADIANS('متغیرها '!C26))","v":13.888762184987506},{"$f":"EQ31+EO26*SIN(RADIANS('متغیرها '!C26))","v":0.42915484119213942},null,null,{"$f":"ET28+'طراحی همه الگوها'!U242","v":33.1},{"$f":"EU28","v":41.6},16,null,{"$f":"EP37","v":40.517218561989182},{"$f":"EQ37","v":53.592117676856013},11,null,null,null,null,null,{"$f":"FF13","v":0},{"$f":"FG32+'طراحی همه الگوها'!U259","v":146.6},14,null,{"$f":"FJ18","v":15},{"$f":"FG31","v":70.199999999999989},23,null,"s'3",{"$f":"FO22+0.5*(FO12-FO22)","v":4.2024382463256131},{"$f":"FP22+0.6*(FP12-FP22)","v":70.82087311270999},null,27.9,0,"s13",null,null,null,null,null,null,36,{"$f":"GB12+GE12*SIN(RADIANS(GA33)+GA14)","v":{"$error":"#DIV/0!"}},{"$f":"GC12+GE12*COS(RADIANS(GA33)+GA14)","v":{"$error":"#DIV/0!"}},{"$f":"IF(GB13>GB33,ATAN((GC13-GC33)/(GB13-GB33)),ATAN((GC13-GC33)/(GB33-GB13)))","v":{"$error":"#DIV/0!"}},{"$f":"IF(GB13>GB33,(GB13-GB33)/COS(GD33),(GB33-GB13)/COS(GD33))","v":{"$error":"#DIV/0!"}},null,1,2,"نقطه 15","نقطه قبل از چرخش",{"$f":"IF(GH33>GH18,IF(GG33>GG18,GG18+SQRT(POWER(GG33-GG18,2)+POWER(GH33-GH18,2))*COS(ATAN((GH33-GH18)/(GG33-GG18+0.000123))+GH16),GG18-SQRT(POWER(GG33-GG18,2)+POWER(GH33-GH18,2))*COS(ATAN((GH33-GH18)/(GG18-GG33+0.000123))-GH16)),IF(GG33>GG18,GG18+SQRT(POWER(GG33-GG18,2)+POWER(GH33-GH18,2))*COS(ATAN((GH18-GH33)/(GG33-GG18+0.000123))-GH16),GG18-SQRT(POWER(GG33-GG18,2)+POWER(GH33-GH18,2))*COS(ATAN((GH18-GH33)/(GG18-GG33+0.000123))+GH16)))","v":0.61824523267144293},{"$f":"IF(GH33>GH18,IF(GG33>GG18,GH18+SQRT(POWER(GG33-GG18,2)+POWER(GH33-GH18,2))*SIN(ATAN((GH33-GH18)/(GG33-GG18+0.000123))+GH16),GH18+SQRT(POWER(GG33-GG18,2)+POWER(GH33-GH18,2))*SIN(ATAN((GH33-GH18)/(GG18-GG33+0.000123))-GH16)),IF(GG33>GG18,GH18-SQRT(POWER(GG33-GG18,2)+POWER(GH33-GH18,2))*SIN(ATAN((GH18-GH33)/(GG33-GG18+0.000123))-GH16),GH18-SQRT(POWER(GG33-GG18,2)+POWER(GH33-GH18,2))*SIN(ATAN((GH18-GH33)/(GG18-GG33+0.000123))+GH16)))","v":0.69874634779839551},"نقطه چرخیده",null,"نقطه ورودی پایین","s'd3",{"$f":"#REF!","v":{"$error":"#REF!"}},{"$f":"#REF!","v":{"$error":"#REF!"}},null,null,{"$f":"GU32+GT11","v":-56},-0.97738438111682457,{"$f":"HB13+HB10*COS(GV33)","v":{"$error":"#REF!"}},{"$f":"HC13-HB10*SIN(GV33)","v":{"$error":"#REF!"}},{"$f":"SQRT(POWER((HB12-GW33),2)+POWER((HC12-GX33),2))","v":{"$error":"#REF!"}},{"$f":"ABS(HB9-GY33)","v":{"$error":"#REF!"}},null,null,null,null,null,null,null,null,null,null,null,null,null,null,{"$f":"-HK33+HP9","v":0},0,null,null,{"$f":"HF30","v":0},{"$f":"HG30","v":0},23,null,{"$f":"HS33+2*(SIN(ATAN((HS12-HS11)/(HT12-HT11)))*(HT33-HT11)+COS(ATAN((HS12-HS11)/(HT12-HT11)))*(HS11-HS33))*COS(ATAN((HS12-HS11)/(HT12-HT11)))","v":{"$error":"#DIV/0!"}},{"$f":"HT33-2*(SIN(ATAN((HS12-HS11)/(HT12-HT11)))*(HT33-HT11)+COS(ATAN((HS12-HS11)/(HT12-HT11)))*(HS11-HS33))*SIN(ATAN((HS12-HS11)/(HT12-HT11)))","v":{"$error":"#DIV/0!"}},23,null,null,null,null,null,null,null,null,null,null,null,null,null,null,null,null,null,null,null,null,null,null,null,null,null,null,null,null,null,null,null,null,null,null,null,null,null,null,null,null,null,null,null,null,null,null,null,null,null,null,null,null,null,null,null,null,null,null,null,null,null,null,null,null,null,null,null,null,null,null,null,null,null,null,null,null,null,null,null,null,null,null,null,null,null,null,null,null,null,null,null,null,null,null,null,null,null,null,null,null,null,null,null,null,null,null,null,null,null,null,null,null,null,null,null,null,null,null,null,null,null,null,null,null,null,null,null,null,null,null,null,null,null,null,null,null,null,null,null,null,null,null,null,null,null,null,null,null,null,null,null,"w'12",{"$f":"'متغیرها '!C881","v":42},"نسبت نقشه بافت به سایز واقعی",null,null,null,null,null,null,null,null,"a10,a11,b1",{"$f":"\"تعداد دانه ها\"&TEXT(0,OG18)&\"میباشد. هر\"&TEXT(0,OG14)&\"  دانه را تبدیل به  \"&TEXT(0,OG15)&\"  دانه میکنیم تا تعداد دانه ها  \"&TEXT(0,OG19)&\" شود\"","v":"تعداد دانه ها77میباشد. هر48  دانه را تبدیل به  46  دانه میکنیم تا تعداد دانه ها  74 شود"},null,null,null,null,null,null,null,null,null,"a10,a11,b1",{"$f":"\"تعداد دانه ها\"&TEXT(0,OR18)&\"میباشد. هر\"&TEXT(0,OR14)&\"  دانه را تبدیل به  \"&TEXT(0,OR15)&\"  دانه میکنیم تا تعداد دانه ها  \"&TEXT(0,OR19)&\" شود\"","v":"تعداد دانه ها77میباشد. هر48  دانه را تبدیل به  46  دانه میکنیم تا تعداد دانه ها  74 شود"},null,null,null,null,null,null,null,null,null,"متغیرهای  ورودی ",null,null,null,null,null,null,null,null,null,null,"متغیرهای  ورودی ",null,null,null,null,null,null,null,null,null,null,{"$f":"PX29","v":-45},{"$f":"PY31","v":6.4285714285714288},"t5",null,"نقطه ورودی سر فلش","مولفه افقی","مولفه عمودی",{"$f":"QC37","v":-42.55},{"$f":"QD37","v":7.4285714285714288},{"$f":"QB37","v":"f8"},null,{"$f":"FB146","v":8.3947949678515617},{"$f":"FC146","v":78.361099076013957},"5'",null,null,null,null,null,{"$f":"2*QQ15-QQ32","v":-17.600000000000001},{"$f":"QR15","v":52.227797473097809},"k23",null,null,null,null,{"$f":"QQ48","v":-18.8},{"$f":"QR48","v":52.227797473097809},"k38",null,"d10",{"$f":"\"هر  \"&TEXT(0,RC15)&\"  رج یکدانه کم میکنیم \"","v":"هر  8  رج یکدانه کم میکنیم "},null,null,null,null,null,null,null,null,null,null,null,null,null,{"$f":"RQ32","v":8.5648148148148131},{"$f":"RN38","v":-40.155257586450247},null,null,null,{"$f":"2*RV40","v":0},"قرینه",null,{"$f":"RY32","v":-34.071983062808755},{"$f":"RV38","v":10.277777777777777},null,null,{"$f":"SC32","v":-38.221594918842626},{"$f":"RV38","v":10.277777777777777},null,null,null,null,null,null,{"$f":"SK32","v":8.5648148148148131},{"$f":"SH38","v":-40.155257586450247},null,null,null,{"$f":"2*SP40","v":0},"قرینه",null,{"$f":"SS32","v":-34.071983062808755},{"$f":"SP38","v":10.277777777777777},null,null,{"$f":"SW32","v":-38.221594918842626},{"$f":"SP38","v":10.277777777777777},null,null,null,null,null,null,{"$f":"TE32","v":8.101851851851853},{"$f":"TB38","v":-40.22935779816514},null,null,null,{"$f":"2*TJ40","v":0},"قرینه",null,{"$f":"TM32","v":-34.220183486238533},{"$f":"TJ38","v":9.7222222222222232},null,null,{"$f":"TQ32","v":-38.26605504587156},{"$f":"TJ38","v":9.7222222222222232},null,null,null,null,null,null,{"$f":"TY32","v":8.101851851851853},{"$f":"TV38","v":-40.22935779816514},null,null,null,{"$f":"2*UD40","v":0},"قرینه",null,{"$f":"UG32","v":-34.220183486238533},{"$f":"UD38","v":9.7222222222222232},null,null,{"$f":"UK32","v":-38.26605504587156},{"$f":"UD38","v":9.7222222222222232},null,null,null,null,null,null,{"$f":"US32","v":8.5648148148148131},{"$f":"UP38","v":-40.155257586450247},null,null,null,{"$f":"2*UX40","v":0},"قرینه",null,{"$f":"VA32","v":-34.071983062808755},{"$f":"UX38","v":10.277777777777777},null,null,{"$f":"VE32","v":-38.221594918842626},{"$f":"UX38","v":10.277777777777777},null,null,null,null,null,null,{"$f":"VM32","v":8.5648148148148131},{"$f":"VJ38","v":-40.155257586450247},null,null,null,{"$f":"2*VR40","v":0},"قرینه",null,{"$f":"VU32","v":-34.071983062808755},{"$f":"VR38","v":10.277777777777777},null,null,{"$f":"VY32","v":-38.221594918842626},{"$f":"VR38","v":10.277777777777777}]
[null,null,null,null,"گشادی لبه پایین آستین (cm)     b'11",{"$f":"F13","v":18},null,"بافت انتخابی پشت",{"$f":"OFFSET(AJ6,I33,6)","v":"سبدی (5 تایی)"},null,null,null,null,"a2",{"$f":"IF((ROUND(0.6*P9,0)-6)<0,\" خطا  \",(ROUND(0.6*P9,0)-6))","v":4},null,"e1",{"$f":"ROUND(S19-4*S18*F12+3*R35+15,0)","v":119},null,"e1",{"$f":"ROUND(S19-4*S18*F12+1.5*U35+13.5,0)","v":104},null,"c2",{"$f":"ROUND(X9*X19*X7,0)-1","v":2},null,"c2",{"$f":"X34","v":2},null,"d2",{"$f":"ROUND(AD19*AD6,0)-3","v":5},null,null,null,{"$error":"#DIV/0!"},0,{"$f":"IF(AM34=0,\"  \",(10/3)*((AM34/AL34)*(1/J6)-1))","v":"  "},{"$f":"IF(AN34=0,\"  \",(100/68)*((AO34/AN34)*(1/J7)-1))","v":"  "},13.5,0,0,36,null,28,null,"  ","  ","  ",null,null,null,null,null,null,null,null,null,null,null,null,null,null,null,null,null,null,null,null,null,null,null,null,null,null,null,null,null,null,null,null,null,null,null,null,null,null,null,"نقاط خروجی ",null,null,null,null,null,null,null,null,null,null,null,null,null,null,null,null,null,null,null,null,null,null,"نقاب",null,{"$f":"DH16","v":45.300000000000004},{"$f":"DI16","v":28.2},20,null,"s17",{"$f":"DB400","v":0},{"$f":"IF('متغیرها '!C14=-1,DQ12,IF('متغیرها '!C14=0,DC400-0.1,DC400-0.25*(DC400-DC404)))","v":103.045},null,{"$f":"DM37","v":32.211710255672095},{"$f":"DN37","v":74.205835555352508},"s20",null,null,null,null,null,null,null,null,null,"زاویه گشادی نسبی جلو به پشت",33,null,{"$f":"DB37+'طراحی همه الگوها'!U216","v":110},{"$f":"EF20","v":109.6},10,null,{"$f":"EI22","v":110},{"$f":"EJ22","v":1},14,null,null,null,8,{"$f":"EP35+ER41*SIN(RADIANS('متغیرها '!C30))","v":46.608313337750445},{"$f":"EQ35-ER41*COS(RADIANS('متغیرها '!C30))","v":5.1527191199847522},null,null,{"$f":"ET28+'طراحی همه الگوها'!U242+'طراحی همه الگوها'!U243","v":37.200000000000003},{"$f":"EU28","v":41.6},17,null,{"$f":"EP35","v":24.830301733630133},{"$f":"EQ35","v":64.987314242926061},9,null,null,null,null,null,{"$f":"FF13+'طراحی همه الگوها'!U263","v":77.2},{"$f":"FG33","v":146.6},15,null,{"$f":"FJ18","v":15},{"$f":"FK18","v":79.299999999999983},24,null,null,null,null,null,null,null,null,null,null,null,null,null,null,38,{"$f":"GB12+GE12*SIN(RADIANS(GA34)+GA14)","v":{"$error":"#DIV/0!"}},{"$f":"GC12+GE12*COS(RADIANS(GA34)+GA14)","v":{"$error":"#DIV/0!"}},{"$f":"IF(GB13>GB34,ATAN((GC13-GC34)/(GB13-GB34)),ATAN((GC13-GC34)/(GB34-GB13)))","v":{"$error":"#DIV/0!"}},{"$f":"IF(GB13>GB34,(GB13-GB34)/COS(GD34),(GB34-GB13)/COS(GD34))","v":{"$error":"#DIV/0!"}},null,1,2,"نقطه 16","نقطه قبل از چرخش",{"$f":"IF(GH34>GH18,IF(GG34>GG18,GG18+SQRT(POWER(GG34-GG18,2)+POWER(GH34-GH18,2))*COS(ATAN((GH34-GH18)/(GG34-GG18+0.000123))+GH16),GG18-SQRT(POWER(GG34-GG18,2)+POWER(GH34-GH18,2))*COS(ATAN((GH34-GH18)/(GG18-GG34+0.000123))-GH16)),IF(GG34>GG18,GG18+SQRT(POWER(GG34-GG18,2)+POWER(GH34-GH18,2))*COS(ATAN((GH18-GH34)/(GG34-GG18+0.000123))-GH16),GG18-SQRT(POWER(GG34-GG18,2)+POWER(GH34-GH18,2))*COS(ATAN((GH18-GH34)/(GG18-GG34+0.000123))+GH16)))","v":0.61824523267144293},{"$f":"IF(GH34>GH18,IF(GG34>GG18,GH18+SQRT(POWER(GG34-GG18,2)+POWER(GH34-GH18,2))*SIN(ATAN((GH34-GH18)/(GG34-GG18+0.000123))+GH16),GH18+SQRT(POWER(GG34-GG18,2)+POWER(GH34-GH18,2))*SIN(ATAN((GH34-GH18)/(GG18-GG34+0.000123))-GH16)),IF(GG34>GG18,GH18-SQRT(POWER(GG34-GG18,2)+POWER(GH34-GH18,2))*SIN(ATAN((GH18-GH34)/(GG34-GG18+0.000123))-GH16),GH18-SQRT(POWER(GG34-GG18,2)+POWER(GH34-GH18,2))*SIN(ATAN((GH18-GH34)/(GG18-GG34+0.000123))+GH16)))","v":0.69874634779839551},"نقطه چرخیده",null,"متغیر ورودی پهنا","a20",{"$f":"#REF!","v":{"$error":"#REF!"}},"(سانتیمتر)",null,null,{"$f":"GU33+GT11","v":-54},-0.94247779607693793,{"$f":"HB13+HB10*COS(GV34)","v":{"$error":"#REF!"}},{"$f":"HC13-HB10*SIN(GV34)","v":{"$error":"#REF!"}},{"$f":"SQRT(POWER((HB12-GW34),2)+POWER((HC12-GX34),2))","v":{"$error":"#REF!"}},{"$f":"ABS(HB9-GY34)","v":{"$error":"#REF!"}},null,"b17",null,null,"فاصله عمود از نقطه اصلی :",null,null,null,null,null,null,null,null,null,{"$f":"-HK34+HP9","v":0},0,null,null,0,0,24,null,{"$f":"HS34+2*(SIN(ATAN((HS12-HS11)/(HT12-HT11)))*(HT34-HT11)+COS(ATAN((HS12-HS11)/(HT12-HT11)))*(HS11-HS34))*COS(ATAN((HS12-HS11)/(HT12-HT11)))","v":{"$error":"#DIV/0!"}},{"$f":"HT34-2*(SIN(ATAN((HS12-HS11)/(HT12-HT11)))*(HT34-HT11)+COS(ATAN((HS12-HS11)/(HT12-HT11)))*(HS11-HS34))*SIN(ATAN((HS12-HS11)/(HT12-HT11)))","v":{"$error":"#DIV/0!"}},24,null,null,null,null,null,null,null,null,null,null,null,null,null,null,null,null,null,null,null,null,null,null,null,null,null,null,null,null,null,null,null,null,null,null,null,null,null,null,null,null,null,null,null,null,null,null,null,null,null,null,null,null,null,null,null,null,null,null,null,null,null,null,null,null,null,null,null,null,null,null,null,null,null,null,null,null,null,null,null,null,null,null,null,null,null,null,null,null,null,null,null,null,null,null,null,null,null,null,null,null,null,null,null,null,null,null,null,null,null,null,null,null,null,null,null,null,null,null,null,null,null,null,null,null,null,null,null,null,null,null,null,null,null,null,null,null,null,null,null,null,null,null,null,null,null,null,null,null,null,null,null,"w11",{"$f":"'متغیرها '!C882/NV40","v":0.80275229357798161},"ارتفاع هر رج",null,"نسبت سایز افقی",{"$f":"NV33","v":42},"انحنا چپگرد ",null,null,{"$f":"OA34","v":"انحنا چپگرد "},null,null,{"$f":"\"نقشه بافت یقه شومیزیه نوک تیز با میل \"&TEXT(0,OG58)&\"  بافت   \"&TEXT(0,OF59)","v":"نقشه بافت یقه شومیزیه نوک تیز با میل 2.5  بافت   همه از زیر"},null,null,"نسبت سایز افقی",{"$f":"OG38","v":42},"انحنا چپگرد ",null,null,{"$f":"OL34","v":"انحنا چپگرد "},null,null,{"$f":"\"نقشه بافت یقه شومیزیه معمولی با میل \"&TEXT(0,OR58)&\"  بافت   \"&TEXT(0,OQ59)","v":"نقشه بافت یقه شومیزیه معمولی با میل 2.5  بافت   همه از زیر"},null,null,"نسبت سایز افقی",{"$f":"OR38","v":42},"انحنا چپگرد ",null,null,{"$f":"OW34","v":"انحنا چپگرد "},null,"Xw1",{"$f":"NV31","v":-35},"جابجایی افقی کل نقشه",null,"نسبت سایز افقی",{"$f":"PC36","v":42},"انحنا چپگرد ",null,null,{"$f":"PH34","v":"انحنا چپگرد "},null,"Xw1",{"$f":"NV31","v":-35},"جابجایی افقی کل نقشه",null,"نسبت سایز افقی",{"$f":"PN36","v":42},"انحنا چپگرد ",null,null,{"$f":"PS34","v":"انحنا چپگرد "},null,{"$f":"PX29-PX30+PX29","v":-48.5},{"$f":"PY31","v":6.4285714285714288},"t6",null,{"$f":"PZ32","v":"t4"},{"$f":"PX32","v":-42.55},{"$f":"PY32","v":6.4285714285714288},{"$f":"QC35","v":-42.871428571428567},{"$f":"QD35","v":7},{"$f":"QB35","v":"f6"},null,{"$f":"CI121","v":13.773290959576977},{"$f":"CJ121","v":70.883459105574801},"18f",null,{"$f":"QI62","v":4.3350400000000011},{"$f":"QJ62","v":83.563898736548907},30,null,{"$f":"QQ15+(QR7+QR8)*SIN(RADIANS(30))","v":-10.700000000000001},{"$f":"QR15+(QR7+QR8)*COS(RADIANS(30))","v":56.211514330506226},"k24",null,null,null,null,{"$f":"QQ50","v":-15.9},{"$f":"QR50","v":57.250744815047554},"k40",null,"d12",{"$f":"TEXT(0,RC16)&\"  سانت تا اولین جادکمه میبافیم \"","v":"6  سانت تا اولین جادکمه میبافیم "},null,null,"نسبت سایز افقی",{"$f":"RC38","v":42},"انحنا چپگرد ",null,null,{"$f":"RH34","v":"انحنا چپگرد "},null,null,null,null,null,null,null,null,null,null,"نقاط خروجی افقی - اصلی ",null,null,null,null,null,null,null,null,null,null,null,"نقاط خروجی عمودی - اصلی ",null,null,null,null,null,null,null,"نقاط خروجی افقی - اصلی ",null,null,null,null,null,null,null,null,null,null,null,null,null,null,null,null,null,null,null,"نقاط خروجی افقی - اصلی ",null,null,null,null,null,null,null,null,null,null,null,null,null,null,null,null,null,null,null,"نقاط خروجی افقی - اصلی ",null,null,null,null,null,null,null,null,null,null,null,null,null,null,null,null,null,null,null,"نقاط خروجی افقی - اصلی ",null,null,null,null,null,null,null,null,null,null,null,null,null,null,null,null,null,null,null,"نقاط خروجی افقی - اصلی "]
[null,null,null,null,"تعداد دانه ها  در بالای مچ آستین      b'12",{"$f":"F14","v":42},null,null,null,null,null,null,null,"a3",{"$f":"ROUND(0.33*O37,0)","v":14},null,"e2",{"$f":"ROUNDDOWN(0.5*(S17*S10-9),0)","v":9},null,"e2",{"$f":"R35","v":9},null,"c3",{"$f":"ROUND(X10*X19*X7,0)-1","v":4},null,"c3",{"$f":"X35","v":4},null,"d3",{"$f":"ROUND(AD20*AD7,0)","v":10},null,null,null,{"$error":"#DIV/0!"},0,{"$f":"IF(AM35=0,\"  \",(10/3)*((AM35/AL35)*(1/J6)-1))","v":"  "},{"$f":"IF(AN35=0,\"  \",(100/68)*((AO35/AN35)*(1/J7)-1))","v":"  "},13.5,0,0,36,null,29,null,"  ","  ","  ",null,null,null,null,null,null,null,null,null,null,null,null,null,null,null,null,null,null,null,null,null,null,null,null,null,null,null,null,null,null,null,null,null,null,null,null,null,null,null,"مولفه افقی","مولفه عمودی","اسم نقطه",null,{"$f":"CI42","v":2},{"$f":"CJ42","v":94.8},"j8",null,null,null,null,null,null,null,null,null,null,null,null,null,null,{"$f":"DD15","v":0},{"$f":"DE15","v":116.2},1,null,null,null,null,null,"s18",{"$f":"DM34+0.5*(DM31-DM34)","v":2.4384600000000001},{"$f":"DN34-0.3*(DN34-DN31)","v":101.066605},null,null,null,null,null,null,null,null,null,{"$f":"DX33","v":32.256082760042972},{"$f":"DY33","v":50.971383447763451},"s'11",null,"j4",{"$f":"IF('متغیرها '!C17<1,'متغیرها '!C17*'متغیرها '!U59,IF('متغیرها '!C17<2,'متغیرها '!U59+('متغیرها '!C17-1)*('متغیرها '!U60-'متغیرها '!U59),IF('متغیرها '!C17<3,'متغیرها '!U60+('متغیرها '!C17-2)*(I105-'متغیرها '!U60),I105+('متغیرها '!C17-3)*(H127-H126))))","v":0},"چادر 3",null,null,null,null,null,null,null,null,null,{"$f":"EN37-ER45*SIN(ER46-RADIANS(45)+ER42)","v":16.732999698106543},9,{"$f":"EP37-ER40*SIN(ER46-RADIANS(45)+ER42)","v":24.830301733630133},{"$f":"EQ37+ER40*COS(ER46-RADIANS(45)+ER42)","v":64.987314242926061},{"$f":"ER37+ER45*COS(ER46-RADIANS(45)+ER42)","v":68.558301826102635},null,null,null,null,null,null,null,null,null,null,null,null,null,null,null,null,null,null,null,null,null,null,null,null,null,{"$f":"FO18","v":33.599585644297406},{"$f":"FP18","v":63.062909406053407},"s''10",null,null,null,null,null,null,40,{"$f":"GB12+GE12*SIN(RADIANS(GA35)+GA14)","v":{"$error":"#DIV/0!"}},{"$f":"GC12+GE12*COS(RADIANS(GA35)+GA14)","v":{"$error":"#DIV/0!"}},{"$f":"IF(GB13>GB35,ATAN((GC13-GC35)/(GB13-GB35)),ATAN((GC13-GC35)/(GB35-GB13)))","v":{"$error":"#DIV/0!"}},{"$f":"IF(GB13>GB35,(GB13-GB35)/COS(GD35),(GB35-GB13)/COS(GD35))","v":{"$error":"#DIV/0!"}},null,1,2,"نقطه 17","نقطه قبل از چرخش",{"$f":"IF(GH35>GH18,IF(GG35>GG18,GG18+SQRT(POWER(GG35-GG18,2)+POWER(GH35-GH18,2))*COS(ATAN((GH35-GH18)/(GG35-GG18+0.000123))+GH16),GG18-SQRT(POWER(GG35-GG18,2)+POWER(GH35-GH18,2))*COS(ATAN((GH35-GH18)/(GG18-GG35+0.000123))-GH16)),IF(GG35>GG18,GG18+SQRT(POWER(GG35-GG18,2)+POWER(GH35-GH18,2))*COS(ATAN((GH18-GH35)/(GG35-GG18+0.000123))-GH16),GG18-SQRT(POWER(GG35-GG18,2)+POWER(GH35-GH18,2))*COS(ATAN((GH18-GH35)/(GG18-GG35+0.000123))+GH16)))","v":0.61824523267144293},{"$f":"IF(GH35>GH18,IF(GG35>GG18,GH18+SQRT(POWER(GG35-GG18,2)+POWER(GH35-GH18,2))*SIN(ATAN((GH35-GH18)/(GG35-GG18+0.000123))+GH16),GH18+SQRT(POWER(GG35-GG18,2)+POWER(GH35-GH18,2))*SIN(ATAN((GH35-GH18)/(GG18-GG35+0.000123))-GH16)),IF(GG35>GG18,GH18-SQRT(POWER(GG35-GG18,2)+POWER(GH35-GH18,2))*SIN(ATAN((GH18-GH35)/(GG35-GG18+0.000123))-GH16),GH18-SQRT(POWER(GG35-GG18,2)+POWER(GH35-GH18,2))*SIN(ATAN((GH18-GH35)/(GG18-GG35+0.000123))+GH16)))","v":0.69874634779839551},"نقطه چرخیده",null,"متغیر ورودی طول","a21",1,null,null,null,{"$f":"GU34+GT11","v":-52},-0.90757121103705141,{"$f":"HB13+HB10*COS(GV35)","v":{"$error":"#REF!"}},{"$f":"HC13-HB10*SIN(GV35)","v":{"$error":"#REF!"}},{"$f":"SQRT(POWER((HB12-GW35),2)+POWER((HC12-GX35),2))","v":{"$error":"#REF!"}},{"$f":"ABS(HB9-GY35)","v":{"$error":"#REF!"}},null,null,"اسم نقطه","مولفه افقی","مولفه عمودی",null,null,null,null,null,null,null,null,null,{"$f":"-HK35+HP9","v":0},0,null,null,0,0,25,null,{"$f":"HS35+2*(SIN(ATAN((HS12-HS11)/(HT12-HT11)))*(HT35-HT11)+COS(ATAN((HS12-HS11)/(HT12-HT11)))*(HS11-HS35))*COS(ATAN((HS12-HS11)/(HT12-HT11)))","v":{"$error":"#DIV/0!"}},{"$f":"HT35-2*(SIN(ATAN((HS12-HS11)/(HT12-HT11)))*(HT35-HT11)+COS(ATAN((HS12-HS11)/(HT12-HT11)))*(HS11-HS35))*SIN(ATAN((HS12-HS11)/(HT12-HT11)))","v":{"$error":"#DIV/0!"}},25,null,null,null,null,null,null,null,null,null,null,null,null,null,null,null,null,null,null,null,null,null,null,null,null,null,null,null,null,null,null,null,null,null,null,null,null,null,null,null,null,null,null,null,null,null,null,null,null,null,null,null,null,null,null,null,null,null,null,null,null,null,null,null,null,null,null,null,null,null,null,null,null,null,null,null,null,null,null,null,null,null,null,null,null,null,null,null,null,null,null,null,null,null,null,null,null,null,null,null,null,null,null,null,null,null,null,null,null,null,null,null,null,null,null,null,null,null,null,null,null,null,null,null,null,null,null,null,null,null,null,null,null,null,null,null,null,null,null,null,null,null,null,null,null,null,null,null,null,null,null,null,"g9",{"$f":"'متغیرها '!C883","v":0.5},"پهنای نیم دایره",null,"ارتفاع نیم دایره",{"$f":"NV47","v":0.80275229357798161},"بزرگی فلش",{"$f":"NZ38","v":-3.3541666666666679},{"$f":"OA38","v":5},{"$f":"NY38","v":"w2"},null,"متغیرهای  ورودی ",null,null,null,"ارتفاع نیم دایره",{"$f":"OG49","v":0.5666486778197517},"بزرگی فلش",{"$f":"OK38","v":14.170138888888893},{"$f":"OL38","v":5},{"$f":"OJ38","v":"m2"},null,"متغیرهای  ورودی ",null,null,null,"ارتفاع نیم دایره",{"$f":"OR49","v":0.5666486778197517},"بزرگی فلش",{"$f":"OV38","v":7.9722222222222285},{"$f":"OW38","v":5},{"$f":"OU38","v":"m2"},null,"Yw1",{"$f":"NV32","v":5},"جابجایی عمودی کل نقشه",null,"ارتفاع نیم دایره",{"$f":"PC47","v":0.5666486778197517},"بزرگی فلش",{"$f":"PG38","v":1.7743055555555571},{"$f":"PH38","v":5},{"$f":"PF38","v":"n2"},null,"Yw1",{"$f":"NV32","v":5},"جابجایی عمودی کل نقشه",null,"ارتفاع نیم دایره",{"$f":"PN47","v":0.5666486778197517},"بزرگی فلش",{"$f":"PR38","v":6.7326388888888928},{"$f":"PS38","v":5},{"$f":"PQ38","v":"n2"},null,{"$f":"PX30+5","v":-36.5},{"$f":"PY30+0.5*PY7","v":5.7142857142857144},"t7",null,"f6",{"$f":"QC34-QC31*QC30*QC32","v":-42.871428571428567},{"$f":"QD37-QC30*QC32","v":7},null,null,null,null,null,null,"کیمونو",null,{"$f":"QI72","v":8.3947949678515617},{"$f":"QJ72","v":78.361099076013957},"5'",null,{"$f":"2*QQ15-QQ34","v":-15.299999999999999},{"$f":"QR34","v":56.211514330506226},"k25",null,null,null,null,{"$f":"QQ51","v":-13},{"$f":"QR51","v":58.027797473097806},"k41",null,"متغیرهای  ورودی ",null,null,null,"ارتفاع نیم دایره",{"$f":"RC49","v":0.5666486778197517},"بزرگی فلش",{"$f":"RG38","v":-4.3750000000000036},{"$f":"RH38","v":5},{"$f":"RF38","v":"p2"},null,null,null,null,null,{"$f":"IF(RN26>(RM43-RM40),RM43,RM40)","v":0},{"$f":"IF(RN26>(RM43-RM40),RN43,RN40)","v":-20},{"$f":"RO43","v":15},null,null,null,"b",null,{"$f":"IF(RV27>(RU43-RU40),RU43,RU40)","v":-31.107974594213125},{"$f":"IF(RV27>(RU43-RU40),RV43,RV40)","v":0},{"$f":"RW43","v":15},null,{"$f":"RU68","v":-37.628793225123502},{"$f":"RV68","v":0},{"$f":"RW68","v":4},null,null,null,"a",null,{"$f":"IF(SH26>(SG43-SG40),SG43,SG40)","v":0},{"$f":"IF(SH26>(SG43-SG40),SH43,SH40)","v":-20},{"$f":"SI43","v":15},null,null,null,"b",null,{"$f":"IF(SP27>(SO43-SO40),SO43,SO40)","v":-31.107974594213125},{"$f":"IF(SP27>(SO43-SO40),SP43,SP40)","v":0},{"$f":"SQ43","v":15},null,{"$f":"SO68","v":-37.628793225123502},{"$f":"SP68","v":0},{"$f":"SQ68","v":4},null,null,null,null,null,{"$f":"IF(TB26>(TA43-TA40),TA43,TA40)","v":0},{"$f":"IF(TB26>(TA43-TA40),TB43,TB40)","v":-20},{"$f":"TC43","v":15},null,null,null,"b",null,{"$f":"IF(TJ27>(TI43-TI40),TI43,TI40)","v":-31.330275229357795},{"$f":"IF(TJ27>(TI43-TI40),TJ43,TJ40)","v":0},{"$f":"TK43","v":15},null,{"$f":"TI68","v":-37.688073394495412},{"$f":"TJ68","v":0},{"$f":"TK68","v":4},null,null,null,null,null,{"$f":"IF(TV26>(TU43-TU40),TU43,TU40)","v":0},{"$f":"IF(TV26>(TU43-TU40),TV43,TV40)","v":-20},{"$f":"TW43","v":15},null,null,null,"b",null,{"$f":"IF(UD27>(UC43-UC40),UC43,UC40)","v":-31.330275229357795},{"$f":"IF(UD27>(UC43-UC40),UD43,UD40)","v":0},{"$f":"UE43","v":15},null,{"$f":"UC68","v":-37.688073394495412},{"$f":"UD68","v":0},{"$f":"UE68","v":4},null,null,null,null,null,{"$f":"IF(UP26>(UO43-UO40),UO43,UO40)","v":0},{"$f":"IF(UP26>(UO43-UO40),UP43,UP40)","v":-20},{"$f":"UQ43","v":15},null,null,null,"b",null,{"$f":"IF(UX27>(UW43-UW40),UW43,UW40)","v":-31.107974594213125},{"$f":"IF(UX27>(UW43-UW40),UX43,UX40)","v":0},{"$f":"UY43","v":15},null,{"$f":"UW68","v":-37.628793225123502},{"$f":"UX68","v":0},{"$f":"UY68","v":4},null,null,null,null,null,{"$f":"IF(VJ26>(VI43-VI40),VI43,VI40)","v":0},{"$f":"IF(VJ26>(VI43-VI40),VJ43,VJ40)","v":-20},{"$f":"VK43","v":15},null,null,null,"b",null,{"$f":"IF(VR27>(VQ43-VQ40),VQ43,VQ40)","v":-31.107974594213125},{"$f":"IF(VR27>(VQ43-VQ40),VR43,VR40)","v":0},{"$f":"VS43","v":15},null,{"$f":"VQ68","v":-37.628793225123502},{"$f":"VR68","v":0},{"$f":"VS68","v":4}]
[null,null,null,null,"پهنای مچ آستین (cm)     b14",{"$f":"ROUNDUP(CA513-CA511,0)","v":0},null," a001 تعداد رج در یک سانت آستین",{"$f":"F6+0.3*I38*F6","v":3.3738095238095243},null,null,null,null,"a4",{"$f":"ROUND(0.66*O37,0)","v":28},null,"e3",{"$f":"ROUND(0.35*(R38),0)","v":12},null,"e3",{"$f":"ROUND(0.33*(U38),0)","v":12},null,"c4",{"$f":"X8-X34-X35-5","v":8},null,"c4",{"$f":"X8-X34-X35-4","v":9},null,"d4",{"$f":"ROUND(AD19*AD8,0)-AD34-7","v":1},null,null,null,{"$error":"#DIV/0!"},0,{"$f":"IF(AM36=0,\"  \",(10/3)*((AM36/AL36)*(1/J6)-1))","v":"  "},{"$f":"IF(AN36=0,\"  \",(100/68)*((AO36/AN36)*(1/J7)-1))","v":"  "},13.5,0,0,36,null,30,null,"  ","  ","  ",null,null,null,null,null,null,null,null,null,null,null,null,null,null,null,null,null,null,null,null,null,null,null,null,null,null,null,null,null,null,null,null,null,null,null,null,null,null,null,{"$f":"CI14","v":0},{"$f":"CJ23+'طراحی همه الگوها'!U177+CJ15","v":109.1},"j1",null,{"$f":"CI44","v":2},{"$f":"CJ44","v":59.5},"j10",null,null,null,null,null,null,null,null,null,null,null,"محاسبات",null,null,{"$f":"DD15","v":0},{"$f":"DE15-'طراحی همه الگوها'!U205","v":111.10000000000001},21,null,null,null,null,null,"s19",{"$f":"DM18+'متغیرها '!C13*'متغیرها '!U83*COS(DM17)","v":47.9678384749811},{"$f":"DN18-'متغیرها '!C13*'متغیرها '!U83*SIN(DM17)","v":71.999016909270651},null,{"$f":"DM27","v":33.244599946860731},{"$f":"DN27","v":77.155202247684315},"s10",null,null,null,null,null,{"$f":"DU20","v":27.589178004211753},{"$f":"DV20","v":54.365495997458879},"s'12",null,"(1 → 5)",{"$f":"DB38-'متغیرها '!C19*'متغیرها '!U83","v":62.15639301293875},null,{"$f":"EC32","v":120},{"$f":"EC33","v":99.6},17,null,{"$f":"EE20","v":110},{"$f":"EF20","v":109.6},10,null,null,{"$f":"EP29+DB38*COS(RADIANS(45))","v":47.981715646308459},10,{"$f":"EP29+'طراحی همه الگوها'!U236*COS(RADIANS(45))","v":48.012550442566585},{"$f":"EQ29-'طراحی همه الگوها'!U236*SIN(RADIANS(45))","v":61.087449557433416},{"$f":"EQ29-DB38*SIN(RADIANS(45))","v":61.118284353691543},null,{"$f":"EP36","v":48.012550442566585},{"$f":"EQ36","v":61.087449557433416},10,null,{"$f":"EP35","v":24.830301733630133},{"$f":"EQ35","v":64.987314242926061},9,null,null,null,null,null,{"$f":"FF31+'طراحی همه الگوها'!U260","v":37.4},{"$f":"FG31","v":70.199999999999989},16,null,{"$f":"FJ19","v":29.9},{"$f":"FG31","v":70.199999999999989},25,null,null,null,null,null,{"$f":"FO19","v":38.973597181315171},{"$f":"FP19","v":57.68889786903565},"k4 شبیه ساز",null,null,null,null,null,null,42,{"$f":"GB12+GE12*SIN(RADIANS(GA36)+GA14)","v":{"$error":"#DIV/0!"}},{"$f":"GC12+GE12*COS(RADIANS(GA36)+GA14)","v":{"$error":"#DIV/0!"}},{"$f":"IF(GB13>GB36,ATAN((GC13-GC36)/(GB13-GB36)),ATAN((GC13-GC36)/(GB36-GB13)))","v":{"$error":"#DIV/0!"}},{"$f":"IF(GB13>GB36,(GB13-GB36)/COS(GD36),(GB36-GB13)/COS(GD36))","v":{"$error":"#DIV/0!"}},null,1,2,"نقطه 18","نقطه قبل از چرخش",{"$f":"IF(GH36>GH18,IF(GG36>GG18,GG18+SQRT(POWER(GG36-GG18,2)+POWER(GH36-GH18,2))*COS(ATAN((GH36-GH18)/(GG36-GG18+0.000123))+GH16),GG18-SQRT(POWER(GG36-GG18,2)+POWER(GH36-GH18,2))*COS(ATAN((GH36-GH18)/(GG18-GG36+0.000123))-GH16)),IF(GG36>GG18,GG18+SQRT(POWER(GG36-GG18,2)+POWER(GH36-GH18,2))*COS(ATAN((GH18-GH36)/(GG36-GG18+0.000123))-GH16),GG18-SQRT(POWER(GG36-GG18,2)+POWER(GH36-GH18,2))*COS(ATAN((GH18-GH36)/(GG18-GG36+0.000123))+GH16)))","v":0.61824523267144293},{"$f":"IF(GH36>GH18,IF(GG36>GG18,GH18+SQRT(POWER(GG36-GG18,2)+POWER(GH36-GH18,2))*SIN(ATAN((GH36-GH18)/(GG36-GG18+0.000123))+GH16),GH18+SQRT(POWER(GG36-GG18,2)+POWER(GH36-GH18,2))*SIN(ATAN((GH36-GH18)/(GG18-GG36+0.000123))-GH16)),IF(GG36>GG18,GH18-SQRT(POWER(GG36-GG18,2)+POWER(GH36-GH18,2))*SIN(ATAN((GH18-GH36)/(GG36-GG18+0.000123))-GH16),GH18-SQRT(POWER(GG36-GG18,2)+POWER(GH36-GH18,2))*SIN(ATAN((GH18-GH36)/(GG18-GG36+0.000123))+GH16)))","v":0.69874634779839551},"نقطه چرخیده",null,null,null,"ماکزیمم متغیر ورودی  ضریب طول",1,null,null,{"$f":"GU35+GT11","v":-50},-0.87266462599716477,{"$f":"HB13+HB10*COS(GV36)","v":{"$error":"#REF!"}},{"$f":"HC13-HB10*SIN(GV36)","v":{"$error":"#REF!"}},{"$f":"SQRT(POWER((HB12-GW36),2)+POWER((HC12-GX36),2))","v":{"$error":"#REF!"}},{"$f":"ABS(HB9-GY36)","v":{"$error":"#REF!"}},null,"نقطه اصلی",{"$f":"HB34","v":"b17"},1,1,null,null,null,null,null,null,null,null,null,{"$f":"-HK36+HP9","v":0},0,null,null,{"$f":"HF30","v":0},{"$f":"HG30","v":0},26,null,{"$f":"HS36+2*(SIN(ATAN((HS12-HS11)/(HT12-HT11)))*(HT36-HT11)+COS(ATAN((HS12-HS11)/(HT12-HT11)))*(HS11-HS36))*COS(ATAN((HS12-HS11)/(HT12-HT11)))","v":{"$error":"#DIV/0!"}},{"$f":"HT36-2*(SIN(ATAN((HS12-HS11)/(HT12-HT11)))*(HT36-HT11)+COS(ATAN((HS12-HS11)/(HT12-HT11)))*(HS11-HS36))*SIN(ATAN((HS12-HS11)/(HT12-HT11)))","v":{"$error":"#DIV/0!"}},26,null,null,null,null,null,null,null,null,null,null,null,null,null,null,null,null,null,null,null,null,null,null,null,null,null,null,null,null,null,null,null,null,null,null,null,null,null,null,null,null,null,null,null,null,null,null,null,null,null,null,null,null,null,null,null,null,null,null,null,null,null,null,null,null,null,null,null,null,null,null,null,null,null,null,null,null,null,null,null,null,null,null,null,null,null,null,null,null,null,null,null,null,null,null,null,null,null,null,null,null,null,null,null,null,null,null,null,null,null,null,null,null,null,null,null,null,null,null,null,null,null,null,null,null,null,null,null,null,null,null,null,null,null,null,null,null,null,null,null,null,null,null,null,null,null,null,null,null,null,null,null,"h3",{"$f":"'متغیرها '!C884","v":4.5},"طول باکس نوشته",null,"پهنای نیم دایره",{"$f":"NV35","v":0.5},{"$f":"NV49","v":0.48165137614678905},{"$f":"NZ42","v":-2.9866666666666681},{"$f":"OA42","v":5.1123853211009171},{"$f":"NY42","v":"g5"},null,"Xm1",{"$f":"NV31","v":-35},"جابجایی افقی کل نقشه",null,"پهنای نیم دایره",{"$f":"OG40","v":0.5},{"$f":"OG51","v":0.33998920669185106},{"$f":"OK42","v":14.537638888888893},{"$f":"OL42","v":5.0793308148947656},{"$f":"OJ42","v":"g5"},null,"Xm1",{"$f":"NV31","v":-35},"جابجایی افقی کل نقشه",null,"پهنای نیم دایره",{"$f":"OR40","v":0.5},{"$f":"OR51","v":0.33998920669185106},{"$f":"OV42","v":8.3397222222222283},{"$f":"OW42","v":5.0793308148947656},{"$f":"OU42","v":"g5"},null,"w'12",{"$f":"NV33","v":42},"نسبت نقشه بافت به سایز واقعی",null,"پهنای نیم دایره",{"$f":"PC38","v":0.5},{"$f":"PC49","v":0.33998920669185106},{"$f":"PG42","v":2.1418055555555569},{"$f":"PH42","v":5.0793308148947656},{"$f":"PF42","v":"g5"},null,"w'12",{"$f":"NV33","v":42},"نسبت نقشه بافت به سایز واقعی",null,"پهنای نیم دایره",{"$f":"PN38","v":0.5},{"$f":"PN49","v":0.33998920669185106},{"$f":"PR42","v":7.1001388888888934},{"$f":"PS42","v":5.0793308148947656},{"$f":"PQ42","v":"g5"},null,{"$f":"PX29","v":-45},{"$f":"PY34+2*PY7","v":9.2857142857142865},"t8",null,"f7",{"$f":"QC34+QC34-QC35","v":-42.228571428571428},{"$f":"QD35","v":7},{"$f":"QC37","v":-42.55},{"$f":"QD37","v":7.4285714285714288},{"$f":"QB37","v":"f8"},null,{"$f":"AH384","v":14.084547276098418},{"$f":"AI384","v":83.865278353859139},"22f",null,{"$f":"QI79","v":13.773290959576977},{"$f":"QJ79","v":70.065165014267322},"a1",null,{"$f":"QQ15","v":-13},{"$f":"QR15+QR7+QR8","v":56.82779747309781},"k26",null,null,null,null,{"$f":"QQ49","v":-10.1},{"$f":"QR49","v":57.250744815047554},"k39",null,"Xw1",{"$f":"PN34","v":-35},"جابجایی افقی کل نقشه",null,"پهنای نیم دایره",{"$f":"RC40","v":0.5},{"$f":"RC51","v":0.33998920669185106},{"$f":"RG42","v":-4.0075000000000038},{"$f":"RH42","v":5.0793308148947656},{"$f":"RF42","v":"g5"},null,null,"نقاط خروجی عمودی - اصلی ",null,null,{"$f":"RQ35","v":0},{"$f":"RN38","v":-40.155257586450247},null,null,null,null,null,null,{"$f":"RY35","v":-31.107974594213125},{"$f":"RV38","v":10.277777777777777},null,null,{"$f":"SC35","v":-37.628793225123502},{"$f":"RV38","v":10.277777777777777},null,null,null,null,null,null,{"$f":"SK35","v":0},{"$f":"SH38","v":-40.155257586450247},null,null,null,null,null,null,{"$f":"SS35","v":-31.107974594213125},{"$f":"SP38","v":10.277777777777777},null,null,{"$f":"SW35","v":-37.628793225123502},{"$f":"SP38","v":10.277777777777777},null,null,null,"نقاط خروجی عمودی - اصلی ",null,null,{"$f":"TE35","v":0},{"$f":"TB38","v":-40.22935779816514},null,null,null,null,null,null,{"$f":"TM35","v":-31.330275229357795},{"$f":"TJ38","v":9.7222222222222232},null,null,{"$f":"TQ35","v":-37.688073394495412},{"$f":"TJ38","v":9.7222222222222232},null,null,null,"نقاط خروجی عمودی - اصلی ",null,null,{"$f":"TY35","v":0},{"$f":"TV38","v":-40.22935779816514},null,null,null,null,null,null,{"$f":"UG35","v":-31.330275229357795},{"$f":"UD38","v":9.7222222222222232},null,null,{"$f":"UK35","v":-37.688073394495412},{"$f":"UD38","v":9.7222222222222232},null,null,null,"نقاط خروجی عمودی - اصلی ",null,null,{"$f":"US35","v":0},{"$f":"UP38","v":-40.155257586450247},null,null,null,null,null,null,{"$f":"VA35","v":-31.107974594213125},{"$f":"UX38","v":10.277777777777777},null,null,{"$f":"VE35","v":-37.628793225123502},{"$f":"UX38","v":10.277777777777777},null,null,null,"نقاط خروجی عمودی - اصلی ",null,null,{"$f":"VM35","v":0},{"$f":"VJ38","v":-40.155257586450247},null,null,null,null,null,null,{"$f":"VU35","v":-31.107974594213125},{"$f":"VR38","v":10.277777777777777},null,null,{"$f":"VY35","v":-37.628793225123502},{"$f":"VR38","v":10.277777777777777}]
[null,null,null,null,"گشادی مچ جدار در پایین آستین (cm)     b15",{"$f":"ROUND(BZ520-BZ519,0)","v":14},null,"تعداد دانه در یک سانت آستینb001 ",{"$f":"F7+0.68*I39*F7","v":2.3351351351351353},null,null,null,null,"a5",{"$f":"ROUND(0.35*O33,0)","v":43},null,"e4",{"$f":"ROUND(0.65*(R38),0)","v":21},null,"e4",{"$f":"ROUND(0.66*(U38),0)","v":24},null,"c10",{"$f":"W30","v":51},null,"c10",{"$f":"X37","v":51},null,"d5",{"$f":"ROUND(AD20*AD5,0)","v":70},null,null,null,{"$error":"#DIV/0!"},0,{"$f":"IF(AM37=0,\"  \",(10/3)*((AM37/AL37)*(1/J6)-1))","v":"  "},{"$f":"IF(AN37=0,\"  \",(100/68)*((AO37/AN37)*(1/J7)-1))","v":"  "},13.5,0,0,36,null,31,null,"  ","  ","  ",null,null,null,null,null,null,null,null,null,null,null,null,null,null,null,null,null,null,null,null,null,null,null,null,null,null,null,null,null,null,null,null,null,null,null,null,null,null,null,{"$f":"CI36","v":0},{"$f":"CJ36-'طراحی همه الگوها'!U177","v":60.499999999999993},"j2",null,null,null,null,null,null,null,null,null,null,null,null,null,null,null,"مولفه افقی نقطه 1",{"$f":"0","v":0},null,{"$f":"DD16","v":13.3},{"$f":"DE16-'طراحی همه الگوها'!U206","v":112.60000000000001},22,null,null,null,null,null,"s20",{"$f":"DM27-0.25*'متغیرها '!U84*SIN(DM17)","v":32.211710255672095},{"$f":"DN27-0.25*'متغیرها '!U84*COS(DM17)","v":74.205835555352508},null,{"$f":"DM36","v":47.9678384749811},{"$f":"DN36","v":71.999016909270651},"s19",null,null,null,null,null,null,null,null,null,"زاویه مچ",15,null,{"$f":"EC32+'طراحی همه الگوها'!U224","v":125.7},{"$f":"EC33","v":99.6},18,null,{"$f":"EI15","v":118.8},{"$f":"EJ15","v":109.6},13,null,null,{"$f":"EN36-'متغیرها '!U84*COS(RADIANS(45))","v":39.142880881476614},11,{"$f":"EP36-'طراحی همه الگوها'!U237*COS(RADIANS(45))","v":40.517218561989182},{"$f":"EQ36-'طراحی همه الگوها'!U237*SIN(RADIANS(45))","v":53.592117676856013},{"$f":"ER36-'متغیرها '!U84*SIN(RADIANS(45))","v":52.279449588859698},null,null,null,null,null,{"$f":"EP34","v":46.608313337750445},{"$f":"EQ34","v":5.1527191199847522},8,null,null,null,null,null,{"$f":"FF36","v":37.4},{"$f":"FG31+'طراحی همه الگوها'!U261","v":84.299999999999983},17,null,{"$f":"FJ19","v":29.9},{"$f":"FK19","v":81.799999999999983},26,null,null,null,null,null,null,null,null,null,null,null,null,null,null,44,{"$f":"GB12+GE12*SIN(RADIANS(GA37)+GA14)","v":{"$error":"#DIV/0!"}},{"$f":"GC12+GE12*COS(RADIANS(GA37)+GA14)","v":{"$error":"#DIV/0!"}},{"$f":"IF(GB13>GB37,ATAN((GC13-GC37)/(GB13-GB37)),ATAN((GC13-GC37)/(GB37-GB13)))","v":{"$error":"#DIV/0!"}},{"$f":"IF(GB13>GB37,(GB13-GB37)/COS(GD37),(GB37-GB13)/COS(GD37))","v":{"$error":"#DIV/0!"}},null,1,2,"نقطه 19","نقطه قبل از چرخش",{"$f":"IF(GH37>GH18,IF(GG37>GG18,GG18+SQRT(POWER(GG37-GG18,2)+POWER(GH37-GH18,2))*COS(ATAN((GH37-GH18)/(GG37-GG18+0.000123))+GH16),GG18-SQRT(POWER(GG37-GG18,2)+POWER(GH37-GH18,2))*COS(ATAN((GH37-GH18)/(GG18-GG37+0.000123))-GH16)),IF(GG37>GG18,GG18+SQRT(POWER(GG37-GG18,2)+POWER(GH37-GH18,2))*COS(ATAN((GH18-GH37)/(GG37-GG18+0.000123))-GH16),GG18-SQRT(POWER(GG37-GG18,2)+POWER(GH37-GH18,2))*COS(ATAN((GH18-GH37)/(GG18-GG37+0.000123))+GH16)))","v":0.61824523267144293},{"$f":"IF(GH37>GH18,IF(GG37>GG18,GH18+SQRT(POWER(GG37-GG18,2)+POWER(GH37-GH18,2))*SIN(ATAN((GH37-GH18)/(GG37-GG18+0.000123))+GH16),GH18+SQRT(POWER(GG37-GG18,2)+POWER(GH37-GH18,2))*SIN(ATAN((GH37-GH18)/(GG18-GG37+0.000123))-GH16)),IF(GG37>GG18,GH18-SQRT(POWER(GG37-GG18,2)+POWER(GH37-GH18,2))*SIN(ATAN((GH18-GH37)/(GG37-GG18+0.000123))-GH16),GH18-SQRT(POWER(GG37-GG18,2)+POWER(GH37-GH18,2))*SIN(ATAN((GH18-GH37)/(GG18-GG37+0.000123))+GH16)))","v":0.69874634779839551},"نقطه چرخیده",null,"m1",{"$f":"ATAN((-GQ33+GQ32)/(GR32-GR33))","v":{"$error":"#REF!"}},"m2",{"$f":"SQRT(POWER(GQ32-GQ33,2)+POWER(GR32-GR33,2))","v":{"$error":"#REF!"}},null,null,{"$f":"GU36+GT11","v":-48},-0.83775804095727824,{"$f":"HB13+HB10*COS(GV37)","v":{"$error":"#REF!"}},{"$f":"HC13-HB10*SIN(GV37)","v":{"$error":"#REF!"}},{"$f":"SQRT(POWER((HB12-GW37),2)+POWER((HC12-GX37),2))","v":{"$error":"#REF!"}},{"$f":"ABS(HB9-GY37)","v":{"$error":"#REF!"}},null,"نقطه سمت راست","b18",2,2,null,null,null,null,null,null,null,null,null,{"$f":"-HK37+HP9","v":0},0,null,null,0,0,27,null,{"$f":"HS37+2*(SIN(ATAN((HS12-HS11)/(HT12-HT11)))*(HT37-HT11)+COS(ATAN((HS12-HS11)/(HT12-HT11)))*(HS11-HS37))*COS(ATAN((HS12-HS11)/(HT12-HT11)))","v":{"$error":"#DIV/0!"}},{"$f":"HT37-2*(SIN(ATAN((HS12-HS11)/(HT12-HT11)))*(HT37-HT11)+COS(ATAN((HS12-HS11)/(HT12-HT11)))*(HS11-HS37))*SIN(ATAN((HS12-HS11)/(HT12-HT11)))","v":{"$error":"#DIV/0!"}},27,null,null,null,null,null,null,null,null,null,null,null,null,null,null,null,null,null,null,null,null,null,null,null,null,null,null,null,null,null,null,null,null,null,null,null,null,null,null,null,null,null,null,null,null,null,null,null,null,null,null,null,null,null,null,null,null,null,null,null,null,null,null,null,null,null,null,null,null,null,null,null,null,null,null,null,null,null,null,null,null,null,null,null,null,null,null,null,null,null,null,null,null,null,null,null,null,null,null,null,null,null,null,null,null,null,null,null,null,null,null,null,null,null,null,null,null,null,null,null,null,null,null,null,null,null,null,null,null,null,null,null,null,null,null,null,null,null,null,null,null,null,null,null,null,null,null,null,null,null,null,null,"h4",{"$f":"'متغیرها '!C885","v":0.5},"پهنای باکس نوشته",null,"نقطه شروع انحنا","مولفه افقی","مولفه عمودی",{"$f":"NZ41","v":-2.8291666666666679},{"$f":"OA41","v":5.4013761467889907},{"$f":"NY41","v":"g4"},null,"Ym1",{"$f":"NV32","v":5},"جابجایی عمودی کل نقشه",null,"نقطه شروع انحنا","مولفه افقی","مولفه عمودی",{"$f":"OK41","v":14.695138888888893},{"$f":"OL41","v":5.2833243389098756},{"$f":"OJ41","v":"g4"},null,"Ym1",{"$f":"NV32","v":5},"جابجایی عمودی کل نقشه",null,"نقطه شروع انحنا","مولفه افقی","مولفه عمودی",{"$f":"OV41","v":8.4972222222222289},{"$f":"OW41","v":5.2833243389098756},{"$f":"OU41","v":"g4"},null,"wn11",{"$f":"'متغیرها '!C882/PB16","v":0.5666486778197517},"ارتفاع هر رج",null,"نقطه شروع انحنا","مولفه افقی","مولفه عمودی",{"$f":"PG41","v":2.299305555555557},{"$f":"PH41","v":5.2833243389098756},{"$f":"PF41","v":"g4"},null,"wn11",{"$f":"'متغیرها '!C882/PM16","v":0.5666486778197517},"ارتفاع هر رج",null,"نقطه شروع انحنا","مولفه افقی","مولفه عمودی",{"$f":"PR41","v":7.2576388888888932},{"$f":"PS41","v":5.2833243389098756},{"$f":"PQ41","v":"g4"},null,{"$f":"PX36-PX30+PX29","v":-48.5},{"$f":"PY36","v":9.2857142857142865},"t9",null,"f8",{"$f":"QC34","v":-42.55},{"$f":"QD34+2*QC29","v":7.4285714285714288},{"$f":"QC36","v":-42.228571428571428},{"$f":"QD36","v":7},{"$f":"QB36","v":"f7"},null,{"$f":"AH385","v":43.546556196820219},{"$f":"AI385","v":59.750366091517364},"k''4",null,null,null,null,null,{"$f":"QQ15+(QR7+2*QR8)*SIN(RADIANS(30))","v":-10.4},{"$f":"QR15-(QR7+2*QR8)*COS(RADIANS(30))","v":47.724465373418724},"k27",null,null,null,null,{"$f":"QQ47","v":-7.1999999999999993},{"$f":"QR47","v":52.227797473097809},"k37",null,"Yw1",5,"جابجایی عمودی کل نقشه",null,"نقطه شروع انحنا","مولفه افقی","مولفه عمودی",{"$f":"RG41","v":-3.8500000000000036},{"$f":"RH41","v":5.2833243389098756},{"$f":"RF41","v":"g4"},null,null,null,"a",null,null,null,null,null,null,null,null,null,null,null,null,null,null,null,null,null,null,null,null,null,null,null,null,null,null,null,null,null,null,null,null,null,null,null,null,null,null,null,"a",null,null,null,null,null,null,null,null,null,null,null,null,null,null,null,null,null,null,null,"a",null,null,null,null,null,null,null,null,null,null,null,null,null,null,null,null,null,null,null,"a",null,null,null,null,null,null,null,null,null,null,null,null,null,null,null,null,null,null,null,"a"]
[null,null,null,null,"در بالای مچ هر b12   دانه یکی کم شود",{"$f":"F22","v":4},null,"جمع شوندگی عمودی بافت آستین   f002",{"$f":"OFFSET(AJ6,I40,0)","v":0.10582010582010619},null,null,null,null,"a6",{"$f":"ROUND(0.4*P9,0)","v":6},null,"e5",{"$f":"ROUND(0.28*(R34),0)","v":33},null,"e5",{"$f":"ROUND(0.35*(U34),0)","v":36},null,"c11",{"$f":"X30","v":49},null,"c11",{"$f":"X38","v":49},null,"d6",{"$f":"G45","v":20},null,null,null,{"$error":"#DIV/0!"},0,{"$f":"IF(AM38=0,\"  \",(10/3)*((AM38/AL38)*(1/J6)-1))","v":"  "},{"$f":"IF(AN38=0,\"  \",(100/68)*((AO38/AN38)*(1/J7)-1))","v":"  "},13.5,0,0,36,null,32,null,"  ","  ","  ",null,null,null,null,null,null,null,null,null,null,null,null,null,null,null,null,null,null,null,null,null,null,null,null,null,null,null,null,null,null,null,null,null,null,null,null,null,null,null,{"$f":"CI36+'طراحی همه الگوها'!U178","v":10.7},{"$f":"CJ36","v":109.1},"j3",null,{"$f":"CI44","v":2},{"$f":"CJ44","v":59.5},"j10",null,null,null,null,null,null,null,null,null,null,null,"نوک سر تا مچ دست شبیه ساز  a3",{"$f":"1.03*(SQRT(POWER(0.5*H168,2)+POWER((0.47*'متغیرها '!U85+H167*SIN('متغیرها '!B245)),2)))+'متغیرها '!U83","v":67.856393012938753},null,null,null,null,null,null,null,null,null,null,null,null,null,null,null,null,null,null,null,null,null,{"$f":"DX36","v":27.589178004211753},{"$f":"DY36","v":54.365495997458879},"s'12",null," شبیه سازαk1",{"$f":"F423","v":1.3911005957611302},null,{"$f":"EC32+'طراحی همه الگوها'!U224","v":125.7},{"$f":"EC33-'طراحی همه الگوها'!U226","v":90.1},20,null,null,null,null,null,null,null,null,null,null,null,null,null,null,null,null,null,null,null,null,null,null,null,null,null,null,null,null,null,null,null,null,null,null,null,null,{"$f":"FO27","v":27.9},{"$f":"FP27","v":0},"s13",null,null,null,null,null,null,46,{"$f":"GB12+GE12*SIN(RADIANS(GA38)+GA14)","v":{"$error":"#DIV/0!"}},{"$f":"GC12+GE12*COS(RADIANS(GA38)+GA14)","v":{"$error":"#DIV/0!"}},{"$f":"IF(GB13>GB38,ATAN((GC13-GC38)/(GB13-GB38)),ATAN((GC13-GC38)/(GB38-GB13)))","v":{"$error":"#DIV/0!"}},{"$f":"IF(GB13>GB38,(GB13-GB38)/COS(GD38),(GB38-GB13)/COS(GD38))","v":{"$error":"#DIV/0!"}},null,1,2,"نقطه 20","نقطه قبل از چرخش",{"$f":"IF(GH38>GH18,IF(GG38>GG18,GG18+SQRT(POWER(GG38-GG18,2)+POWER(GH38-GH18,2))*COS(ATAN((GH38-GH18)/(GG38-GG18+0.000123))+GH16),GG18-SQRT(POWER(GG38-GG18,2)+POWER(GH38-GH18,2))*COS(ATAN((GH38-GH18)/(GG18-GG38+0.000123))-GH16)),IF(GG38>GG18,GG18+SQRT(POWER(GG38-GG18,2)+POWER(GH38-GH18,2))*COS(ATAN((GH18-GH38)/(GG38-GG18+0.000123))-GH16),GG18-SQRT(POWER(GG38-GG18,2)+POWER(GH38-GH18,2))*COS(ATAN((GH18-GH38)/(GG18-GG38+0.000123))+GH16)))","v":0.61824523267144293},{"$f":"IF(GH38>GH18,IF(GG38>GG18,GH18+SQRT(POWER(GG38-GG18,2)+POWER(GH38-GH18,2))*SIN(ATAN((GH38-GH18)/(GG38-GG18+0.000123))+GH16),GH18+SQRT(POWER(GG38-GG18,2)+POWER(GH38-GH18,2))*SIN(ATAN((GH38-GH18)/(GG18-GG38+0.000123))-GH16)),IF(GG38>GG18,GH18-SQRT(POWER(GG38-GG18,2)+POWER(GH38-GH18,2))*SIN(ATAN((GH18-GH38)/(GG38-GG18+0.000123))-GH16),GH18-SQRT(POWER(GG38-GG18,2)+POWER(GH38-GH18,2))*SIN(ATAN((GH18-GH38)/(GG18-GG38+0.000123))+GH16)))","v":0.69874634779839551},"نقطه چرخیده",null,"نقطه خروجی بالا","s'u9",{"$f":"GQ32-GQ34*COS(GP37)","v":{"$error":"#REF!"}},{"$f":"GR32+GQ34*SIN(GP37)","v":{"$error":"#REF!"}},null,null,{"$f":"GU37+GT11","v":-46},-0.8028514559173916,{"$f":"HB13+HB10*COS(GV38)","v":{"$error":"#REF!"}},{"$f":"HC13-HB10*SIN(GV38)","v":{"$error":"#REF!"}},{"$f":"SQRT(POWER((HB12-GW38),2)+POWER((HC12-GX38),2))","v":{"$error":"#REF!"}},{"$f":"ABS(HB9-GY38)","v":{"$error":"#REF!"}},null,"نقطه سمت چپ","b16",3,3,null,null,null,null,null,null,null,null,null,{"$f":"-HK38+HP9","v":0},0,null,null,0,0,28,null,{"$f":"HS38+2*(SIN(ATAN((HS12-HS11)/(HT12-HT11)))*(HT38-HT11)+COS(ATAN((HS12-HS11)/(HT12-HT11)))*(HS11-HS38))*COS(ATAN((HS12-HS11)/(HT12-HT11)))","v":{"$error":"#DIV/0!"}},{"$f":"HT38-2*(SIN(ATAN((HS12-HS11)/(HT12-HT11)))*(HT38-HT11)+COS(ATAN((HS12-HS11)/(HT12-HT11)))*(HS11-HS38))*SIN(ATAN((HS12-HS11)/(HT12-HT11)))","v":{"$error":"#DIV/0!"}},28,null,null,null,null,null,null,null,null,null,null,null,null,null,null,null,null,null,null,null,null,null,null,null,null,null,null,null,null,null,null,null,null,null,null,null,null,null,null,null,null,null,null,null,null,null,null,null,null,null,null,null,null,null,null,null,null,null,null,null,null,null,null,null,null,null,null,null,null,null,null,null,null,null,null,null,null,null,null,null,null,null,null,null,null,null,null,null,null,null,null,null,null,null,null,null,null,null,null,null,null,null,null,null,null,null,null,null,null,null,null,null,null,null,null,null,null,null,null,null,null,null,null,null,null,null,null,null,null,null,null,null,null,null,null,null,null,null,null,null,null,null,null,null,null,null,null,null,null,null,null,null,"f'4",{"$f":"'متغیرها '!C886","v":0.60000000000000009},"بزرگی فلش رج",null,"w2",{"$f":"NU51","v":-3.3541666666666679},{"$f":"NV51","v":5},{"$f":"NZ43","v":-2.9866666666666681},{"$f":"OA43","v":5.6903669724770642},{"$f":"NY43","v":"g6"},null,"w'12",{"$f":"NV33","v":42},"نسبت نقشه بافت به سایز واقعی",null,"m2",{"$f":"OF61","v":14.170138888888893},{"$f":"OG61","v":5},{"$f":"OK43","v":14.537638888888893},{"$f":"OL43","v":5.4873178629249857},{"$f":"OJ43","v":"g6"},null,"w'12",{"$f":"NV33","v":42},"نسبت نقشه بافت به سایز واقعی",null,"m2",{"$f":"OQ61","v":7.9722222222222285},{"$f":"OR61","v":5},{"$f":"OV43","v":8.3397222222222283},{"$f":"OW43","v":5.4873178629249857},{"$f":"OU43","v":"g6"},null,"g9",{"$f":"NV35","v":0.5},"پهنای نیم دایره",null,"n2",{"$f":"PB61","v":1.7743055555555571},{"$f":"PC61","v":5},{"$f":"PG43","v":2.1418055555555569},{"$f":"PH43","v":5.4873178629249857},{"$f":"PF43","v":"g6"},null,"g9",{"$f":"NV35","v":0.5},"پهنای نیم دایره",null,"n2",{"$f":"PM61","v":6.7326388888888928},{"$f":"PN61","v":5},{"$f":"PR43","v":7.1001388888888934},{"$f":"PS43","v":5.4873178629249857},{"$f":"PQ43","v":"g6"},null,{"$f":"PX37","v":-48.5},{"$f":"PY37+PY7","v":10.714285714285715},"t10",null,null,null,null,null,null,null,null,{"$f":"AH388","v":38.368598467294198},{"$f":"AI388","v":53.424278931886874},"k''5",null,{"$f":"QI79","v":13.773290959576977},{"$f":"QJ79","v":70.065165014267322},"a1",null,{"$f":"QQ15+(QR7+2*QR8)*SIN(RADIANS(60))","v":-8.4966679003209187},{"$f":"QR15-(QR7+2*QR8)*COS(RADIANS(60))","v":49.627797473097807},"k28",null,null,null,null,{"$f":"QQ45","v":-7.9770526580502557},{"$f":"QR45","v":49.32779747309781},"k35",null,"w'12",42,"نسبت نقشه بافت به سایز واقعی",null,"p2",{"$f":"RB61","v":-4.3750000000000036},{"$f":"RC61","v":5},{"$f":"RG43","v":-4.0075000000000038},{"$f":"RH43","v":5.4873178629249857},{"$f":"RF43","v":"g6"},null,{"$f":"RM40","v":0},{"$f":"RN40-ROUND(RN27/RN29,0)*RN29","v":-40.155257586450247},"1'",null,{"$f":"IF(RN26>(RM44-RM40),RM44,RM40)","v":0},{"$f":"IF(RN26>(RM44-RM40),RN44,RN40)","v":-20},{"$f":"RO44","v":20},null,{"$f":"RU40","v":-40},{"$f":"-(RV40-ROUND(RV28/RV32,0)*RV32)+RV33","v":10.277777777777777},"1'",null,{"$f":"IF(RV27>(RU44-RU40),RU44,RU40)","v":-28.143966125617503},{"$f":"IF(RV27>(RU44-RU40),RV44,RV40)","v":0},{"$f":"RW44","v":20},null,{"$f":"IF(RV27>(RU69-RU40),RU69,RU40)","v":-36.443189837685253},{"$f":"IF(RV27>(RU69-RU40),RV69,RV40)","v":0},6,null,{"$f":"SG40","v":0},{"$f":"SH40-ROUND(SH27/SH29,0)*SH29","v":-40.155257586450247},"1'",null,{"$f":"IF(SH26>(SG44-SG40),SG44,SG40)","v":0},{"$f":"IF(SH26>(SG44-SG40),SH44,SH40)","v":-20},{"$f":"SI44","v":20},null,{"$f":"SO40","v":-40},{"$f":"-(SP40-ROUND(SP28/SP32,0)*SP32)+SP33","v":10.277777777777777},"1'",null,{"$f":"IF(SP27>(SO44-SO40),SO44,SO40)","v":-28.143966125617503},{"$f":"IF(SP27>(SO44-SO40),SP44,SP40)","v":0},{"$f":"SQ44","v":20},null,{"$f":"IF(SP27>(SO69-SO40),SO69,SO40)","v":-36.443189837685253},{"$f":"IF(SP27>(SO69-SO40),SP69,SP40)","v":0},6,null,{"$f":"TA40","v":0},{"$f":"TB40-ROUND(TB27/TB29,0)*TB29","v":-40.22935779816514},"1'",null,{"$f":"IF(TB26>(TA44-TA40),TA44,TA40)","v":0},{"$f":"IF(TB26>(TA44-TA40),TB44,TB40)","v":-20},{"$f":"TC44","v":20},null,{"$f":"TI40","v":-40},{"$f":"-(TJ40-ROUND(TJ28/TJ32,0)*TJ32)+TJ33","v":9.7222222222222232},"1'",null,{"$f":"IF(TJ27>(TI44-TI40),TI44,TI40)","v":-28.440366972477062},{"$f":"IF(TJ27>(TI44-TI40),TJ44,TJ40)","v":0},{"$f":"TK44","v":20},null,{"$f":"IF(TJ27>(TI69-TI40),TI69,TI40)","v":-36.532110091743121},{"$f":"IF(TJ27>(TI69-TI40),TJ69,TJ40)","v":0},6,null,{"$f":"TU40","v":0},{"$f":"TV40-ROUND(TV27/TV29,0)*TV29","v":-40.22935779816514},"1'",null,{"$f":"IF(TV26>(TU44-TU40),TU44,TU40)","v":0},{"$f":"IF(TV26>(TU44-TU40),TV44,TV40)","v":-20},{"$f":"TW44","v":20},null,{"$f":"UC40","v":-40},{"$f":"-(UD40-ROUND(UD28/UD32,0)*UD32)+UD33","v":9.7222222222222232},"1'",null,{"$f":"IF(UD27>(UC44-UC40),UC44,UC40)","v":-28.440366972477062},{"$f":"IF(UD27>(UC44-UC40),UD44,UD40)","v":0},{"$f":"UE44","v":20},null,{"$f":"IF(UD27>(UC69-UC40),UC69,UC40)","v":-36.532110091743121},{"$f":"IF(UD27>(UC69-UC40),UD69,UD40)","v":0},6,null,{"$f":"UO40","v":0},{"$f":"UP40-ROUND(UP27/UP29,0)*UP29","v":-40.155257586450247},"1'",null,{"$f":"IF(UP26>(UO44-UO40),UO44,UO40)","v":0},{"$f":"IF(UP26>(UO44-UO40),UP44,UP40)","v":-20},{"$f":"UQ44","v":20},null,{"$f":"UW40","v":-40},{"$f":"-(UX40-ROUND(UX28/UX32,0)*UX32)+UX33","v":10.277777777777777},"1'",null,{"$f":"IF(UX27>(UW44-UW40),UW44,UW40)","v":-28.143966125617503},{"$f":"IF(UX27>(UW44-UW40),UX44,UX40)","v":0},{"$f":"UY44","v":20},null,{"$f":"IF(UX27>(UW69-UW40),UW69,UW40)","v":-36.443189837685253},{"$f":"IF(UX27>(UW69-UW40),UX69,UX40)","v":0},6,null,{"$f":"VI40","v":0},{"$f":"VJ40-ROUND(VJ27/VJ29,0)*VJ29","v":-40.155257586450247},"1'",null,{"$f":"IF(VJ26>(VI44-VI40),VI44,VI40)","v":0},{"$f":"IF(VJ26>(VI44-VI40),VJ44,VJ40)","v":-20},{"$f":"VK44","v":20},null,{"$f":"VQ40","v":-40},{"$f":"-(VR40-ROUND(VR28/VR32,0)*VR32)+VR33","v":10.277777777777777},"1'",null,{"$f":"IF(VR27>(VQ44-VQ40),VQ44,VQ40)","v":-28.143966125617503},{"$f":"IF(VR27>(VQ44-VQ40),VR44,VR40)","v":0},{"$f":"VS44","v":20},null,{"$f":"IF(VR27>(VQ69-VQ40),VQ69,VQ40)","v":-36.443189837685253},{"$f":"IF(VR27>(VQ69-VQ40),VR69,VR40)","v":0},6]
[null,null,null,null,"هر b11   رج در بافت آستین یکدانه از ابتدا و یکدانه از انتها کم شود",{"$f":"F19","v":6},null,"جمع شوندگی افقی بافت آستین   f003",{"$f":"OFFSET(AJ6,I40,1)","v":-3.9745627980922023E-2},null,null,null,null,"a10",{"$f":"L30","v":5},null,"e6",{"$f":"R35","v":9},null,"e6",{"$f":"U35","v":9},null,"خطا",{"$f":"IF(X34>0,\" \",\"خطا : پهنای یقه ب ب زیاد شود \")","v":" "},null,"خطا",{"$f":"X39","v":" "},null,"d7",{"$f":"G44","v":12},null,null,null,{"$error":"#DIV/0!"},0,{"$f":"IF(AM39=0,\"  \",(10/3)*((AM39/AL39)*(1/J6)-1))","v":"  "},{"$f":"IF(AN39=0,\"  \",(100/68)*((AO39/AN39)*(1/J7)-1))","v":"  "},13.5,0,0,36,null,33,null,"  ","  ","  ",null,null,null,null,null,null,null,null,null,null,null,null,null,null,null,null,null,null,null,null,null,null,null,null,null,null,null,null,null,null,null,null,null,null,null,null,null,null,null,{"$f":"'طراحی همه الگوها'!U178+'طراحی همه الگوها'!U177+CI36","v":59.3},{"$f":"CJ36","v":109.1},"j5",null,{"$f":"CI43","v":0},{"$f":"CJ43","v":59.5},"j9",null,null,null,null,null,null,null,null,null,null,null,null,null,null,null,null,null,null,null,null,null,null,"محاسبات طراحی چادر 2",null,null,null,{"$f":"DP37","v":47.9678384749811},{"$f":"DQ37","v":71.999016909270651},"s19",null,null,null,null,null,{"$f":"DU18","v":34.943088528551847},{"$f":"DV18","v":61.719406521798973},"s'10",null,"(k4 →k5)شبیه ساز",{"$f":"F425","v":6.3598264410722098},null,{"$f":"EC32","v":120},{"$f":"EC33-'طراحی همه الگوها'!U225","v":89.199999999999989},19,null,{"$f":"EE37","v":125.7},{"$f":"EF37","v":99.6},18,null,null,null,null,null,"j4",{"$f":"IF('متغیرها '!C25<1,'متغیرها '!C25*'متغیرها '!U59,IF('متغیرها '!C25<2,'متغیرها '!U59+('متغیرها '!C25-1)*('متغیرها '!U60-'متغیرها '!U59),IF('متغیرها '!C25<3,'متغیرها '!U60+('متغیرها '!C25-2)*(I105-'متغیرها '!U60),I105+('متغیرها '!C25-3)*(H127-H126))))","v":0},null,null,null,null,null,{"$f":"EP29","v":0},{"$f":"EQ29","v":109.1},1,null,null,null,null,null,{"$f":"FF13","v":0},{"$f":"FG33-FC43","v":135.88999999999999},"19'",null,{"$f":"FJ13","v":73.424999999999997},{"$f":"FG33","v":146.6},27,null,null,null,null,null,{"$f":"FO30","v":0},{"$f":"FP30","v":0},2,null,null,null,null,null,null,48,{"$f":"GB12+GE12*SIN(RADIANS(GA39)+GA14)","v":{"$error":"#DIV/0!"}},{"$f":"GC12+GE12*COS(RADIANS(GA39)+GA14)","v":{"$error":"#DIV/0!"}},{"$f":"IF(GB13>GB39,ATAN((GC13-GC39)/(GB13-GB39)),ATAN((GC13-GC39)/(GB39-GB13)))","v":{"$error":"#DIV/0!"}},{"$f":"IF(GB13>GB39,(GB13-GB39)/COS(GD39),(GB39-GB13)/COS(GD39))","v":{"$error":"#DIV/0!"}},null,1,2,"نقطه 21","نقطه قبل از چرخش",{"$f":"IF(GH39>GH18,IF(GG39>GG18,GG18+SQRT(POWER(GG39-GG18,2)+POWER(GH39-GH18,2))*COS(ATAN((GH39-GH18)/(GG39-GG18+0.000123))+GH16),GG18-SQRT(POWER(GG39-GG18,2)+POWER(GH39-GH18,2))*COS(ATAN((GH39-GH18)/(GG18-GG39+0.000123))-GH16)),IF(GG39>GG18,GG18+SQRT(POWER(GG39-GG18,2)+POWER(GH39-GH18,2))*COS(ATAN((GH18-GH39)/(GG39-GG18+0.000123))-GH16),GG18-SQRT(POWER(GG39-GG18,2)+POWER(GH39-GH18,2))*COS(ATAN((GH18-GH39)/(GG18-GG39+0.000123))+GH16)))","v":0.61824523267144293},{"$f":"IF(GH39>GH18,IF(GG39>GG18,GH18+SQRT(POWER(GG39-GG18,2)+POWER(GH39-GH18,2))*SIN(ATAN((GH39-GH18)/(GG39-GG18+0.000123))+GH16),GH18+SQRT(POWER(GG39-GG18,2)+POWER(GH39-GH18,2))*SIN(ATAN((GH39-GH18)/(GG18-GG39+0.000123))-GH16)),IF(GG39>GG18,GH18-SQRT(POWER(GG39-GG18,2)+POWER(GH39-GH18,2))*SIN(ATAN((GH18-GH39)/(GG39-GG18+0.000123))-GH16),GH18-SQRT(POWER(GG39-GG18,2)+POWER(GH39-GH18,2))*SIN(ATAN((GH18-GH39)/(GG18-GG39+0.000123))+GH16)))","v":0.69874634779839551},"نقطه چرخیده",null,"نقطه خروجی پایین","s'd8",{"$f":"GQ40-GQ34*COS(GP37)","v":{"$error":"#REF!"}},{"$f":"GR40+GQ34*SIN(GP37)","v":{"$error":"#REF!"}},null,null,{"$f":"GU38+GT11","v":-44},-0.76794487087750496,{"$f":"HB13+HB10*COS(GV39)","v":{"$error":"#REF!"}},{"$f":"HC13-HB10*SIN(GV39)","v":{"$error":"#REF!"}},{"$f":"SQRT(POWER((HB12-GW39),2)+POWER((HC12-GX39),2))","v":{"$error":"#REF!"}},{"$f":"ABS(HB9-GY39)","v":{"$error":"#REF!"}},null,null,null,"فاصله تا نقطه اصلی",4,null,null,null,null,null,null,null,null,null,{"$f":"-HK39+HP9","v":0},0,null,null,{"$f":"HF30","v":0},{"$f":"HG30","v":0},29,null,{"$f":"HS39+2*(SIN(ATAN((HS12-HS11)/(HT12-HT11)))*(HT39-HT11)+COS(ATAN((HS12-HS11)/(HT12-HT11)))*(HS11-HS39))*COS(ATAN((HS12-HS11)/(HT12-HT11)))","v":{"$error":"#DIV/0!"}},{"$f":"HT39-2*(SIN(ATAN((HS12-HS11)/(HT12-HT11)))*(HT39-HT11)+COS(ATAN((HS12-HS11)/(HT12-HT11)))*(HS11-HS39))*SIN(ATAN((HS12-HS11)/(HT12-HT11)))","v":{"$error":"#DIV/0!"}},29,null,null,null,null,null,null,null,null,null,null,null,null,null,null,null,null,null,null,null,null,null,null,null,null,null,null,null,null,null,null,null,null,null,null,null,null,null,null,null,null,null,null,null,null,null,null,null,null,null,null,null,null,null,null,null,null,null,null,null,null,null,null,null,null,null,null,null,null,null,null,null,null,null,null,null,null,null,null,null,null,null,null,null,null,null,null,null,null,null,null,null,null,null,null,null,null,null,null,null,null,null,null,null,null,null,null,null,null,null,null,null,null,null,null,null,null,null,null,null,null,null,null,null,null,null,null,null,null,null,null,null,null,null,null,null,null,null,null,null,null,null,null,null,null,null,null,null,null,null,null,null,"f5",{"$f":"'متغیرها '!C887","v":0.5},"زاویه فلش رج",null,"g11",{"$f":"NZ43+0.8*(NZ41-NZ43)","v":-2.8606666666666678},{"$f":"OA41+0.6*(OA43-OA41)","v":5.5747706422018348},{"$f":"NZ40","v":-3.3541666666666679},{"$f":"OA40","v":5.8027522935779814},{"$f":"NY40","v":"g2"},null,"w11",{"$f":"'متغیرها '!C882/OG56","v":0.5666486778197517},"ارتفاع هر رج",null,"g11",{"$f":"OK43+0.8*(OK41-OK43)","v":14.663638888888894},{"$f":"OL41+0.6*(OL43-OL41)","v":5.405720453318942},{"$f":"OK40","v":14.170138888888893},{"$f":"OL40","v":5.5666486778197513},{"$f":"OJ40","v":"g2"},null,"w11",{"$f":"'متغیرها '!C882/OR56","v":0.5666486778197517},"ارتفاع هر رج",null,"g11",{"$f":"OV43+0.8*(OV41-OV43)","v":8.4657222222222295},{"$f":"OW41+0.6*(OW43-OW41)","v":5.405720453318942},{"$f":"OV40","v":7.9722222222222285},{"$f":"OW40","v":5.5666486778197513},{"$f":"OU40","v":"g2"},null,"h3",{"$f":"NV36","v":4.5},"طول باکس نوشته",null,"g11",{"$f":"PG43+0.8*(PG41-PG43)","v":2.2678055555555572},{"$f":"PH41+0.6*(PH43-PH41)","v":5.405720453318942},{"$f":"PG40","v":1.7743055555555571},{"$f":"PH40","v":5.5666486778197513},{"$f":"PF40","v":"g2"},null,"h3",{"$f":"NV36","v":4.5},"طول باکس نوشته",null,"g11",{"$f":"PR43+0.8*(PR41-PR43)","v":7.2261388888888929},{"$f":"PS41+0.6*(PS43-PS41)","v":5.405720453318942},{"$f":"PR40","v":6.7326388888888928},{"$f":"PS40","v":5.5666486778197513},{"$f":"PQ40","v":"g2"},null,{"$f":"PX38+PX31-PX34","v":-41.5},{"$f":"PY38","v":10.714285714285715},"t11",null,null,null,null,{"$f":"PX35","v":-36.5},{"$f":"PY35","v":5.7142857142857144},{"$f":"PZ35","v":"t7"},null,null,null,"قرینه یقه گرد جلو",null,{"$f":"QI66","v":15.776499999999999},{"$f":"QJ66","v":70.065165014267322},12,null,{"$f":"2*QQ15-QQ38","v":-17.503332099679081},{"$f":"QR38","v":49.627797473097807},"k29",null,null,null,null,{"$f":"QQ52","v":-7.4574374157795926},{"$f":"QR52","v":49.027797473097806},"k42",null,"wn11",{"$f":"PN37","v":0.5666486778197517},"ارتفاع هر رج",null,"g11",{"$f":"RG43+0.8*(RG41-RG43)","v":-3.8815000000000035},{"$f":"RH41+0.6*(RH43-RH41)","v":5.405720453318942},{"$f":"RG40","v":-4.3750000000000036},{"$f":"RH40","v":5.5666486778197513},{"$f":"RF40","v":"g2"},null,null,null,null,null,{"$f":"RQ38","v":0},{"$f":"RN38","v":-40.155257586450247},null,null,null,null,null,null,{"$f":"RY38","v":-28.143966125617503},{"$f":"RV38","v":10.277777777777777},null,null,{"$f":"SC38","v":-36.443189837685253},{"$f":"RV38","v":10.277777777777777},null,null,null,null,null,null,{"$f":"SK38","v":0},{"$f":"SH38","v":-40.155257586450247},null,null,null,null,null,null,{"$f":"SS38","v":-28.143966125617503},{"$f":"SP38","v":10.277777777777777},null,null,{"$f":"SW38","v":-36.443189837685253},{"$f":"SP38","v":10.277777777777777},null,null,null,null,null,null,{"$f":"TE38","v":0},{"$f":"TB38","v":-40.22935779816514},null,null,null,null,null,null,{"$f":"TM38","v":-28.440366972477062},{"$f":"TJ38","v":9.7222222222222232},null,null,{"$f":"TQ38","v":-36.532110091743121},{"$f":"TJ38","v":9.7222222222222232},null,null,null,null,null,null,{"$f":"TY38","v":0},{"$f":"TV38","v":-40.22935779816514},null,null,null,null,null,null,{"$f":"UG38","v":-28.440366972477062},{"$f":"UD38","v":9.7222222222222232},null,null,{"$f":"UK38","v":-36.532110091743121},{"$f":"UD38","v":9.7222222222222232},null,null,null,null,null,null,{"$f":"US38","v":0},{"$f":"UP38","v":-40.155257586450247},null,null,null,null,null,null,{"$f":"VA38","v":-28.143966125617503},{"$f":"UX38","v":10.277777777777777},null,null,{"$f":"VE38","v":-36.443189837685253},{"$f":"UX38","v":10.277777777777777},null,null,null,null,null,null,{"$f":"VM38","v":0},{"$f":"VJ38","v":-40.155257586450247},null,null,null,null,null,null,{"$f":"VU38","v":-28.143966125617503},{"$f":"VR38","v":10.277777777777777},null,null,{"$f":"VY38","v":-36.443189837685253},{"$f":"VR38","v":10.277777777777777}]
[null,null,null,null,null,null,null,"بافت انتخابی آستین",{"$f":"'متغیرها '!C861","v":11},null,null,null,null,"a11",{"$f":"M30","v":3},null,"e7",{"$f":"ROUND(S18*F12,0)","v":0},null,"e7",{"$f":"R40","v":0},null,"اختلاف دور یقه ب ب خیاطی با بافتنی (سانتیمتر)",{"$f":"ROUND((X14-X33)/X20,1)","v":7.5},null,"اختلاف دور یقه ب ب خیاطی با بافتنی (سانتیمتر)",{"$f":"ROUND((X14-AA33)/X20,1)","v":2.8},null,"d8",{"$f":"ROUND(AD20*SQRT(POWER((AC13-J233),2)+POWER((AD13-K233),2)),0)","v":14},null,null,null,{"$error":"#DIV/0!"},0,{"$f":"IF(AM40=0,\"  \",(10/3)*((AM40/AL40)*(1/J6)-1))","v":"  "},{"$f":"IF(AN40=0,\"  \",(100/68)*((AO40/AN40)*(1/J7)-1))","v":"  "},13.5,0,0,36,null,34,null,"  ","  ","  ",null,null,null,null,null,null,null,null,null,null,null,null,null,null,null,null,null,null,null,null,null,null,null,null,null,null,null,null,null,null,null,null,null,null,null,null,null,null,null,{"$f":"'طراحی همه الگوها'!U179+CI36","v":5.0999999999999996},{"$f":"CJ36","v":109.1},"j6",null,null,null,null,null,null,null,null,null,null,null,null,null,null,null,null,null,null,null,null,null,null,null,null,null,null,"αs2",{"$f":"ATAN((DN13-DN14)/(DM14-DM13))","v":1.2872552937315835},null,null,{"$f":"DM29","v":44.398171702233178},{"$f":"DN29","v":61.806005620571938},"s11",null,null,null,null,null,null,null,null,null,"زاویه خم بودن دست",{"$f":"K390","v":25.699374197717262},null,{"$f":"EC32","v":120},{"$f":"EC33","v":99.6},17,null,null,null,null,null,null,null,null,null,"(9→11)",{"$f":"'متغیرها '!C29*ER45+'متغیرها '!C27*'متغیرها '!U83","v":19.388910860572572},null,null,null,null,null,{"$f":"EP30","v":-6.3},{"$f":"EQ30","v":-10.700000000000003},3,null,null,null,null,null,null,null,null,null,{"$f":"FJ13","v":73.424999999999997},{"$f":"FK13","v":108.39999999999999},28,null,null,null,null,null,null,null,null,null,null,null,null,null,null,50,{"$f":"GB12+GE12*SIN(RADIANS(GA40)+GA14)","v":{"$error":"#DIV/0!"}},{"$f":"GC12+GE12*COS(RADIANS(GA40)+GA14)","v":{"$error":"#DIV/0!"}},{"$f":"IF(GB13>GB40,ATAN((GC13-GC40)/(GB13-GB40)),ATAN((GC13-GC40)/(GB40-GB13)))","v":{"$error":"#DIV/0!"}},{"$f":"IF(GB13>GB40,(GB13-GB40)/COS(GD40),(GB40-GB13)/COS(GD40))","v":{"$error":"#DIV/0!"}},null,1,2,"نقطه 22","نقطه قبل از چرخش",{"$f":"IF(GH40>GH18,IF(GG40>GG18,GG18+SQRT(POWER(GG40-GG18,2)+POWER(GH40-GH18,2))*COS(ATAN((GH40-GH18)/(GG40-GG18+0.000123))+GH16),GG18-SQRT(POWER(GG40-GG18,2)+POWER(GH40-GH18,2))*COS(ATAN((GH40-GH18)/(GG18-GG40+0.000123))-GH16)),IF(GG40>GG18,GG18+SQRT(POWER(GG40-GG18,2)+POWER(GH40-GH18,2))*COS(ATAN((GH18-GH40)/(GG40-GG18+0.000123))-GH16),GG18-SQRT(POWER(GG40-GG18,2)+POWER(GH40-GH18,2))*COS(ATAN((GH18-GH40)/(GG18-GG40+0.000123))+GH16)))","v":0.61824523267144293},{"$f":"IF(GH40>GH18,IF(GG40>GG18,GH18+SQRT(POWER(GG40-GG18,2)+POWER(GH40-GH18,2))*SIN(ATAN((GH40-GH18)/(GG40-GG18+0.000123))+GH16),GH18+SQRT(POWER(GG40-GG18,2)+POWER(GH40-GH18,2))*SIN(ATAN((GH40-GH18)/(GG18-GG40+0.000123))-GH16)),IF(GG40>GG18,GH18-SQRT(POWER(GG40-GG18,2)+POWER(GH40-GH18,2))*SIN(ATAN((GH18-GH40)/(GG40-GG18+0.000123))-GH16),GH18-SQRT(POWER(GG40-GG18,2)+POWER(GH40-GH18,2))*SIN(ATAN((GH18-GH40)/(GG18-GG40+0.000123))+GH16)))","v":0.69874634779839551},"نقطه چرخیده",null,"نقطه خروجی میانه",null,{"$f":"GQ32-GQ35*GR37*SIN(GP37)/GR36","v":{"$error":"#REF!"}},{"$f":"GR32-GQ35*GR37*COS(GP37)/GR36","v":{"$error":"#REF!"}},null,null,{"$f":"GU39+GT11","v":-42},-0.73303828583761843,{"$f":"HB13+HB10*COS(GV40)","v":{"$error":"#REF!"}},{"$f":"HC13-HB10*SIN(GV40)","v":{"$error":"#REF!"}},{"$f":"SQRT(POWER((HB12-GW40),2)+POWER((HC12-GX40),2))","v":{"$error":"#REF!"}},{"$f":"ABS(HB9-GY40)","v":{"$error":"#REF!"}},null,"نقطه خروجی","b26",{"$f":"HD36+HE39*COS(ATAN((HD37-HD38)/(HE38-HE37+0.0001)))","v":3.8285685354963559},{"$f":"HE36+HE39*SIN(IF(HE37=HE38,RADIANS(-90),ATAN((HD37-HD38)/(HE38-HE37+0.001))))","v":-1.8270132649136972},null,null,null,null,null,null,null,null,null,{"$f":"-HK40+HP9","v":0},0,null,null,0,0,30,null,{"$f":"HS40+2*(SIN(ATAN((HS12-HS11)/(HT12-HT11)))*(HT40-HT11)+COS(ATAN((HS12-HS11)/(HT12-HT11)))*(HS11-HS40))*COS(ATAN((HS12-HS11)/(HT12-HT11)))","v":{"$error":"#DIV/0!"}},{"$f":"HT40-2*(SIN(ATAN((HS12-HS11)/(HT12-HT11)))*(HT40-HT11)+COS(ATAN((HS12-HS11)/(HT12-HT11)))*(HS11-HS40))*SIN(ATAN((HS12-HS11)/(HT12-HT11)))","v":{"$error":"#DIV/0!"}},30,null,null,null,null,null,null,null,null,null,null,null,null,null,null,null,null,null,null,null,null,null,null,null,null,null,null,null,null,null,null,null,null,null,null,null,null,null,null,null,null,null,null,null,null,null,null,null,null,null,null,null,null,null,null,null,null,null,null,null,null,null,null,null,null,null,null,null,null,null,null,null,null,null,null,null,null,null,null,null,null,null,null,null,null,null,null,null,null,null,null,null,null,null,null,null,null,null,null,null,null,null,null,null,null,null,null,null,null,null,null,null,null,null,null,null,null,null,null,null,null,null,null,null,null,null,null,null,null,null,null,null,null,null,null,null,null,null,null,null,null,null,null,null,null,null,null,null,null,null,null,null,null,{"$f":"O16","v":3.1142857142857143}," aa0 تعداد رج در یک سانت",null,"g2",{"$f":"NZ38","v":-3.3541666666666679},{"$f":"OA38+NZ35","v":5.8027522935779814},null,null,null,null,"g9",{"$f":"NV35","v":0.5},"پهنای نیم دایره",null,"g2",{"$f":"OK38","v":14.170138888888893},{"$f":"OL38+OK35","v":5.5666486778197513},null,null,null,null,"g9",{"$f":"NV35","v":0.5},"پهنای نیم دایره",null,"g2",{"$f":"OV38","v":7.9722222222222285},{"$f":"OW38+OV35","v":5.5666486778197513},null,null,null,null,"h4",{"$f":"NV37","v":0.5},"پهنای باکس نوشته",null,"g2",{"$f":"PG38","v":1.7743055555555571},{"$f":"PH38+PG35","v":5.5666486778197513},null,null,null,null,"h4",{"$f":"NV37","v":0.5},"پهنای باکس نوشته",null,"g2",{"$f":"PR38","v":6.7326388888888928},{"$f":"PS38+PR35","v":5.5666486778197513},null,null,null,null,{"$f":"PX36","v":-45},{"$f":"PY38","v":10.714285714285715},"t12",null,null,null,null,null,null,null,null,{"$f":"HX179","v":-5.4188000000000001},86.9,25,null,null,null,null,null,{"$f":"QQ15+QR7+2*QR8","v":-7.8},{"$f":"QR15","v":52.227797473097809},"k30",null,null,null,null,{"$f":"QQ54","v":-6.6},{"$f":"QR54","v":52.227797473097809},"k44",null,"g9",0.5,"پهنای نیم دایره",null,"g2",{"$f":"RG38","v":-4.3750000000000036},{"$f":"RH38+RG35","v":5.5666486778197513},null,null,null,null,{"$f":"RN24","v":0},{"$f":"RN25","v":-20},0,null,null,null,null,null,{"$f":"RV25","v":-40},{"$f":"RV26","v":0},0,null,null,null,null,null,null,null,null,null,{"$f":"SH24","v":0},{"$f":"SH25","v":-20},0,null,null,null,null,null,{"$f":"SP25","v":-40},{"$f":"SP26","v":0},0,null,null,null,null,null,null,null,null,null,{"$f":"TB24","v":0},{"$f":"TB25","v":-20},0,null,null,null,null,null,{"$f":"TJ25","v":-40},{"$f":"TJ26","v":0},0,null,null,null,null,null,null,null,null,null,{"$f":"TV24","v":0},{"$f":"TV25","v":-20},0,null,null,null,null,null,{"$f":"UD25","v":-40},{"$f":"UD26","v":0},0,null,null,null,null,null,null,null,null,null,{"$f":"UP24","v":0},{"$f":"UP25","v":-20},0,null,null,null,null,null,{"$f":"UX25","v":-40},{"$f":"UX26","v":0},0,null,null,null,null,null,null,null,null,null,{"$f":"VJ24","v":0},{"$f":"VJ25","v":-20},0,null,null,null,null,null,{"$f":"VR25","v":-40},{"$f":"VR26","v":0},0]
[null,null,null,null,"تقسیم بندی بالاتنه","تعداد دانه ها\n(بافت جودانه یا ساده)","تعداد دانه ها\n(بافت انتخابی)","بافت انتخابی آستین",{"$f":"OFFSET(AJ6,I40,6)","v":"ساده "},null,null,null,null,"a25",{"$f":"ROUNDUP(IF((O13-2*F12)<0.1,I16*(O13),I16*2*F12+I23*(O13-2*F12)),0)","v":1},null,"e8",{"$f":"2*R40-4","v":-4},null,"e8",-4,null,null,null,null,null,null,null,"d9",{"$f":"IF(OR(AD10>30,AD10<0),0,AD10)","v":2},null,null,null,{"$error":"#DIV/0!"},0,{"$f":"IF(AM41=0,\"  \",(10/3)*((AM41/AL41)*(1/J6)-1))","v":"  "},{"$f":"IF(AN41=0,\"  \",(100/68)*((AO41/AN41)*(1/J7)-1))","v":"  "},13.5,0,0,36,null,35,null,"  ","  ","  ",null,null,null,null,null,null,null,null,null,null,null,null,null,null,null,null,null,null,null,null,null,null,null,null,null,null,null,null,null,null,null,null,null,null,null,null,null,null,null,{"$f":"CI36","v":0},{"$f":"CJ42","v":94.8},"j7",null,{"$f":"CI43","v":0},{"$f":"CJ43","v":59.5},"j9",null,null,null,null,null,null,null,null,null,null,null,null,null,null,null,null,null,null,null,null,null,null,"(s2 →s3)",{"$f":"SQRT(POWER((DM14-DM13),2)+POWER((DN13-DN14),2))","v":5.2298094474782051},null,null,null,null,null,null,null,null,null,null,{"$f":"DU23","v":54.749999999999993},{"$f":"DV23","v":0},"s'13",null,"دست خمیده شبیه ساز k4",{"$f":"K384","v":38.973597181315171},{"$f":"L384","v":57.68889786903565},null,null,null,null,null,null,null,null,null,null,null,null,"(8→9)",{"$f":"ER37+'متغیرها '!C29*ER45*COS(ER46-RADIANS(45)+ER42)-EQ31","v":63.674646154929754},null,null,null,null,null,null,null,null,null,null,null,null,null,null,null,null,null,null,null,null,null,null,null,null,null,{"$f":"FR39","v":0},{"$f":"FS39","v":0},2,null,null,null,null,null,null,52,{"$f":"GB12+GE12*SIN(RADIANS(GA41)+GA14)","v":{"$error":"#DIV/0!"}},{"$f":"GC12+GE12*COS(RADIANS(GA41)+GA14)","v":{"$error":"#DIV/0!"}},{"$f":"IF(GB13>GB41,ATAN((GC13-GC41)/(GB13-GB41)),ATAN((GC13-GC41)/(GB41-GB13)))","v":{"$error":"#DIV/0!"}},{"$f":"IF(GB13>GB41,(GB13-GB41)/COS(GD41),(GB41-GB13)/COS(GD41))","v":{"$error":"#DIV/0!"}},null,1,2,"نقطه 23","نقطه قبل از چرخش",{"$f":"IF(GH41>GH18,IF(GG41>GG18,GG18+SQRT(POWER(GG41-GG18,2)+POWER(GH41-GH18,2))*COS(ATAN((GH41-GH18)/(GG41-GG18+0.000123))+GH16),GG18-SQRT(POWER(GG41-GG18,2)+POWER(GH41-GH18,2))*COS(ATAN((GH41-GH18)/(GG18-GG41+0.000123))-GH16)),IF(GG41>GG18,GG18+SQRT(POWER(GG41-GG18,2)+POWER(GH41-GH18,2))*COS(ATAN((GH18-GH41)/(GG41-GG18+0.000123))-GH16),GG18-SQRT(POWER(GG41-GG18,2)+POWER(GH41-GH18,2))*COS(ATAN((GH18-GH41)/(GG18-GG41+0.000123))+GH16)))","v":0.61824523267144293},{"$f":"IF(GH41>GH18,IF(GG41>GG18,GH18+SQRT(POWER(GG41-GG18,2)+POWER(GH41-GH18,2))*SIN(ATAN((GH41-GH18)/(GG41-GG18+0.000123))+GH16),GH18+SQRT(POWER(GG41-GG18,2)+POWER(GH41-GH18,2))*SIN(ATAN((GH41-GH18)/(GG18-GG41+0.000123))-GH16)),IF(GG41>GG18,GH18-SQRT(POWER(GG41-GG18,2)+POWER(GH41-GH18,2))*SIN(ATAN((GH18-GH41)/(GG41-GG18+0.000123))-GH16),GH18-SQRT(POWER(GG41-GG18,2)+POWER(GH41-GH18,2))*SIN(ATAN((GH18-GH41)/(GG18-GG41+0.000123))+GH16)))","v":0.69874634779839551},"نقطه چرخیده",null,null,null,null,null,null,null,{"$f":"GU40+GT11","v":-40},-0.69813170079773179,{"$f":"HB13+HB10*COS(GV41)","v":{"$error":"#REF!"}},{"$f":"HC13-HB10*SIN(GV41)","v":{"$error":"#REF!"}},{"$f":"SQRT(POWER((HB12-GW41),2)+POWER((HC12-GX41),2))","v":{"$error":"#REF!"}},{"$f":"ABS(HB9-GY41)","v":{"$error":"#REF!"}},null,null,null,null,null,null,null,null,null,null,null,null,null,null,{"$f":"-HK41+HP9","v":0},0,null,null,0,0,31,null,{"$f":"HS41+2*(SIN(ATAN((HS12-HS11)/(HT12-HT11)))*(HT41-HT11)+COS(ATAN((HS12-HS11)/(HT12-HT11)))*(HS11-HS41))*COS(ATAN((HS12-HS11)/(HT12-HT11)))","v":{"$error":"#DIV/0!"}},{"$f":"HT41-2*(SIN(ATAN((HS12-HS11)/(HT12-HT11)))*(HT41-HT11)+COS(ATAN((HS12-HS11)/(HT12-HT11)))*(HS11-HS41))*SIN(ATAN((HS12-HS11)/(HT12-HT11)))","v":{"$error":"#DIV/0!"}},31,null,null,null,null,null,null,null,null,null,null,null,null,null,null,null,null,null,null,null,null,null,null,null,null,null,null,null,null,null,null,null,null,null,null,null,null,null,null,null,null,null,null,null,null,null,null,null,null,null,null,null,null,null,null,null,null,null,null,null,null,null,null,null,null,null,null,null,null,null,null,null,null,null,null,null,null,null,null,null,null,null,null,null,null,null,null,null,null,null,null,null,null,null,null,null,null,null,null,null,null,null,null,null,null,null,null,null,null,null,null,null,null,null,null,null,null,null,null,null,null,null,null,null,null,null,null,null,null,null,null,null,null,null,null,null,null,null,null,null,null,null,null,null,null,null,null,null,null,null,null,null,null,{"$f":"O17","v":4.1142857142857148},"تعداد دانه در یک سانت ab0 ",null,"g4",{"$f":"NZ38+NZ36*NZ34/40","v":-2.8291666666666679},{"$f":"OA38+0.5*NZ35","v":5.4013761467889907},{"$f":"NZ45","v":-3.1000678696091728},{"$f":"OA45","v":5.3373654872024368},{"$f":"NY45","v":"g8"},null,"h3",{"$f":"NV36","v":4.5},"طول باکس نوشته",null,"g4",{"$f":"OK38+OK36*OK34/40","v":14.695138888888893},{"$f":"OL38+0.5*OK35","v":5.2833243389098756},{"$f":"OK45","v":14.47841567491993},{"$f":"OL45","v":5.2562789439120357},{"$f":"OJ45","v":"g8"},null,"h3",{"$f":"NV36","v":4.5},"طول باکس نوشته",null,"g4",{"$f":"OV38+OV36*OV34/40","v":8.4972222222222289},{"$f":"OW38+0.5*OV35","v":5.2833243389098756},{"$f":"OV45","v":8.2804990082532655},{"$f":"OW45","v":5.2562789439120357},{"$f":"OU45","v":"g8"},null,"f'4",{"$f":"NV38","v":0.60000000000000009},"بزرگی فلش رج",null,"g4",{"$f":"PG38+PG36*PG34/40","v":2.299305555555557},{"$f":"PH38+0.5*PG35","v":5.2833243389098756},{"$f":"PG45","v":2.0825823415865927},{"$f":"PH45","v":5.2562789439120348},{"$f":"PF45","v":"g8"},null,"f'4",{"$f":"NV38","v":0.60000000000000009},"بزرگی فلش رج",null,"g4",{"$f":"PR38+PR36*PR34/40","v":7.2576388888888932},{"$f":"PS38+0.5*PR35","v":5.2833243389098756},{"$f":"PR45","v":7.0409156749199289},{"$f":"PS45","v":5.2562789439120348},{"$f":"PQ45","v":"g8"},null,{"$f":"PX37+2/PY15","v":-47.45},{"$f":"PY37","v":9.2857142857142865},"t13",null,null,null,null,{"$f":"PX36","v":-45},9.2857142857142865,"t8",null,-4.3350400000000011,83.563898736548907,30,null,{"$f":"QI78","v":0},{"$f":"QJ78","v":80.227797473097809},"26''",null,{"$f":"2*QQ15-QQ40","v":-18.2},{"$f":"QR40","v":52.227797473097809},"k31",null,null,null,null,{"$f":"QQ56","v":-9.8000000000000007},{"$f":"QR56","v":57.770360057318214},"k46",null,"h3",4.5,"طول باکس نوشته",null,"g4",{"$f":"RG38+RG36*RG34/40","v":-3.8500000000000036},{"$f":"RH38+0.5*RG35","v":5.2833243389098756},{"$f":"RG45","v":-4.0667232139689684},{"$f":"RH45","v":5.2562789439120348},{"$f":"RF45","v":"g8"},null,{"$f":"RM40+5*RN28","v":4.2824074074074066},{"$f":"RN40","v":-20},5,null,{"$f":"IF(RN26>(RM45-RM40),RM45,RM40)","v":0},{"$f":"IF(RN26>(RM45-RM40),RN45,RN40)","v":-20},{"$f":"RO45","v":25},null,{"$f":"RU40+5*RV31","v":-37.035991531404377},{"$f":"RV40","v":0},5,null,{"$f":"IF(RV27>(RU45-RU40),RU45,RU40)","v":-25.17995765702188},{"$f":"IF(RV27>(RU45-RU40),RV45,RV40)","v":0},{"$f":"RW45","v":25},null,{"$f":"IF(RV27>(RU70-RU40),RU70,RU40)","v":-35.850388143966128},{"$f":"IF(RV27>(RU70-RU40),RV70,RV40)","v":0},7,null,{"$f":"SG40+5*SH28","v":4.2824074074074066},{"$f":"SH40","v":-20},5,null,{"$f":"IF(SH26>(SG45-SG40),SG45,SG40)","v":0},{"$f":"IF(SH26>(SG45-SG40),SH45,SH40)","v":-20},{"$f":"SI45","v":25},null,{"$f":"SO40+5*SP31","v":-37.035991531404377},{"$f":"SP40","v":0},5,null,{"$f":"IF(SP27>(SO45-SO40),SO45,SO40)","v":-25.17995765702188},{"$f":"IF(SP27>(SO45-SO40),SP45,SP40)","v":0},{"$f":"SQ45","v":25},null,{"$f":"IF(SP27>(SO70-SO40),SO70,SO40)","v":-35.850388143966128},{"$f":"IF(SP27>(SO70-SO40),SP70,SP40)","v":0},7,null,{"$f":"TA40+5*TB28","v":4.0509259259259265},{"$f":"TB40","v":-20},5,null,{"$f":"IF(TB26>(TA45-TA40),TA45,TA40)","v":0},{"$f":"IF(TB26>(TA45-TA40),TB45,TB40)","v":-20},{"$f":"TC45","v":25},null,{"$f":"TI40+5*TJ31","v":-37.110091743119263},{"$f":"TJ40","v":0},5,null,{"$f":"IF(TJ27>(TI45-TI40),TI45,TI40)","v":-25.550458715596328},{"$f":"IF(TJ27>(TI45-TI40),TJ45,TJ40)","v":0},{"$f":"TK45","v":25},null,{"$f":"IF(TJ27>(TI70-TI40),TI70,TI40)","v":-35.954128440366972},{"$f":"IF(TJ27>(TI70-TI40),TJ70,TJ40)","v":0},7,null,{"$f":"TU40+5*TV28","v":4.0509259259259265},{"$f":"TV40","v":-20},5,null,{"$f":"IF(TV26>(TU45-TU40),TU45,TU40)","v":0},{"$f":"IF(TV26>(TU45-TU40),TV45,TV40)","v":-20},{"$f":"TW45","v":25},null,{"$f":"UC40+5*UD31","v":-37.110091743119263},{"$f":"UD40","v":0},5,null,{"$f":"IF(UD27>(UC45-UC40),UC45,UC40)","v":-25.550458715596328},{"$f":"IF(UD27>(UC45-UC40),UD45,UD40)","v":0},{"$f":"UE45","v":25},null,{"$f":"IF(UD27>(UC70-UC40),UC70,UC40)","v":-35.954128440366972},{"$f":"IF(UD27>(UC70-UC40),UD70,UD40)","v":0},7,null,{"$f":"UO40+5*UP28","v":4.2824074074074066},{"$f":"UP40","v":-20},5,null,{"$f":"IF(UP26>(UO45-UO40),UO45,UO40)","v":0},{"$f":"IF(UP26>(UO45-UO40),UP45,UP40)","v":-20},{"$f":"UQ45","v":25},null,{"$f":"UW40+5*UX31","v":-37.035991531404377},{"$f":"UX40","v":0},5,null,{"$f":"IF(UX27>(UW45-UW40),UW45,UW40)","v":-25.17995765702188},{"$f":"IF(UX27>(UW45-UW40),UX45,UX40)","v":0},{"$f":"UY45","v":25},null,{"$f":"IF(UX27>(UW70-UW40),UW70,UW40)","v":-35.850388143966128},{"$f":"IF(UX27>(UW70-UW40),UX70,UX40)","v":0},7,null,{"$f":"VI40+5*VJ28","v":4.2824074074074066},{"$f":"VJ40","v":-20},5,null,{"$f":"IF(VJ26>(VI45-VI40),VI45,VI40)","v":0},{"$f":"IF(VJ26>(VI45-VI40),VJ45,VJ40)","v":-20},{"$f":"VK45","v":25},null,{"$f":"VQ40+5*VR31","v":-37.035991531404377},{"$f":"VR40","v":0},5,null,{"$f":"IF(VR27>(VQ45-VQ40),VQ45,VQ40)","v":-25.17995765702188},{"$f":"IF(VR27>(VQ45-VQ40),VR45,VR40)","v":0},{"$f":"VS45","v":25},null,{"$f":"IF(VR27>(VQ70-VQ40),VQ70,VQ40)","v":-35.850388143966128},{"$f":"IF(VR27>(VQ70-VQ40),VR70,VR40)","v":0},7]
[null,null,null,null," b6  کل پهنای جادکمه ",{"$f":"2*F25","v":0},{"$f":"ROUNDUP(I16*(2*F12),0)","v":0},null,null,null,null,null,null,"خطا",{"$f":"IF((ROUND(0.6*P9,0)-6)<0,\" خطا : قد پشت یقه زیاد شود \",\" \")","v":" "},null,"e9",{"$f":"IF((ROUNDUP(S12*S17*S9,0)-R40-R41-3)>-1,ROUNDUP(S12*S17*S9,0)-R40-R41-3,\"خطا\")","v":20},null,"e9",20,null,null,null,null,null,null,null,"d10",{"$f":"IF(OR(AD11>30,AD11<0),0,AD11)","v":8},null,null,null,{"$error":"#DIV/0!"},0,{"$f":"IF(AM42=0,\"  \",(10/3)*((AM42/AL42)*(1/J6)-1))","v":"  "},{"$f":"IF(AN42=0,\"  \",(100/68)*((AO42/AN42)*(1/J7)-1))","v":"  "},13.5,0,0,36,null,36,null,"  ","  ","  ",null,null,null,null,null,null,null,null,null,null,null,null,null,null,null,null,null,null,null,null,null,null,null,null,null,null,null,null,null,null,null,null,null,null,null,null,null,null,null,{"$f":"'طراحی همه الگوها'!U181+CI36","v":2},{"$f":"CJ36-'طراحی همه الگوها'!U180","v":94.8},"j8",null,{"$f":"CI41","v":0},{"$f":"CJ41","v":94.8},"j7",null,null,null,null,null,null,null,null,null,null,null,null,null,null,null,null,null,null,null,null,null,null,"(s2 →s14)",{"$f":"DM41*2*('متغیرها '!C10-0.5)","v":5.2298094474782051},null,null,{"$f":"DP40","v":44.398171702233178},{"$f":"DQ40","v":61.806005620571938},"s11",null,null,null,null,null,{"$f":"DU30","v":0},{"$f":"DV30","v":0},"2'",null,null,null,null,null,null,null,null,null,null,null,null,null,null,null,null,"α2",{"$f":"'متغیرها '!B245","v":0.33685946794520588},null,null,null,null,null,{"$f":"ET28","v":29},{"$f":"EU28","v":41.6},15,null,"j4",{"$f":"IF('متغیرها '!C37<1,'متغیرها '!C37*'متغیرها '!U59,IF('متغیرها '!C37<2,'متغیرها '!U59+('متغیرها '!C37-1)*('متغیرها '!U60-'متغیرها '!U59),IF('متغیرها '!C37<3,'متغیرها '!U60+('متغیرها '!C37-2)*(I105-'متغیرها '!U60),I105+('متغیرها '!C37-3)*(H127-H126))))","v":0},null,null,null,null,null,null,null,null,null,null,null,null,null,null,{"$f":"FO31","v":0},{"$f":"FP31","v":60.84250015285528},"s''12",null,null,null,null,null,null,54,{"$f":"GB12+GE12*SIN(RADIANS(GA42)+GA14)","v":{"$error":"#DIV/0!"}},{"$f":"GC12+GE12*COS(RADIANS(GA42)+GA14)","v":{"$error":"#DIV/0!"}},{"$f":"IF(GB13>GB42,ATAN((GC13-GC42)/(GB13-GB42)),ATAN((GC13-GC42)/(GB42-GB13)))","v":{"$error":"#DIV/0!"}},{"$f":"IF(GB13>GB42,(GB13-GB42)/COS(GD42),(GB42-GB13)/COS(GD42))","v":{"$error":"#DIV/0!"}},null,1,2,"نقطه 24","نقطه قبل از چرخش",{"$f":"IF(GH42>GH18,IF(GG42>GG18,GG18+SQRT(POWER(GG42-GG18,2)+POWER(GH42-GH18,2))*COS(ATAN((GH42-GH18)/(GG42-GG18+0.000123))+GH16),GG18-SQRT(POWER(GG42-GG18,2)+POWER(GH42-GH18,2))*COS(ATAN((GH42-GH18)/(GG18-GG42+0.000123))-GH16)),IF(GG42>GG18,GG18+SQRT(POWER(GG42-GG18,2)+POWER(GH42-GH18,2))*COS(ATAN((GH18-GH42)/(GG42-GG18+0.000123))-GH16),GG18-SQRT(POWER(GG42-GG18,2)+POWER(GH42-GH18,2))*COS(ATAN((GH18-GH42)/(GG18-GG42+0.000123))+GH16)))","v":0.61824523267144293},{"$f":"IF(GH42>GH18,IF(GG42>GG18,GH18+SQRT(POWER(GG42-GG18,2)+POWER(GH42-GH18,2))*SIN(ATAN((GH42-GH18)/(GG42-GG18+0.000123))+GH16),GH18+SQRT(POWER(GG42-GG18,2)+POWER(GH42-GH18,2))*SIN(ATAN((GH42-GH18)/(GG18-GG42+0.000123))-GH16)),IF(GG42>GG18,GH18-SQRT(POWER(GG42-GG18,2)+POWER(GH42-GH18,2))*SIN(ATAN((GH18-GH42)/(GG42-GG18+0.000123))-GH16),GH18-SQRT(POWER(GG42-GG18,2)+POWER(GH42-GH18,2))*SIN(ATAN((GH18-GH42)/(GG18-GG42+0.000123))+GH16)))","v":0.69874634779839551},"نقطه چرخیده",null,null,null,null,null,null,null,{"$f":"GU41+GT11","v":-38},-0.66322511575784526,{"$f":"HB13+HB10*COS(GV42)","v":{"$error":"#REF!"}},{"$f":"HC13-HB10*SIN(GV42)","v":{"$error":"#REF!"}},{"$f":"SQRT(POWER((HB12-GW42),2)+POWER((HC12-GX42),2))","v":{"$error":"#REF!"}},{"$f":"ABS(HB9-GY42)","v":{"$error":"#REF!"}},null,null,null,null,"یافتن راس سوم مثلث با داشتن دو راس و یک ضلع و یک زاویه",null,null,null,null,null,null,null,null,null,{"$f":"-HK42+HP9","v":0},{"$f":"HL42","v":0},null,null,{"$f":"HF30","v":0},{"$f":"HG30","v":0},32,null,{"$f":"HS42+2*(SIN(ATAN((HS12-HS11)/(HT12-HT11)))*(HT42-HT11)+COS(ATAN((HS12-HS11)/(HT12-HT11)))*(HS11-HS42))*COS(ATAN((HS12-HS11)/(HT12-HT11)))","v":{"$error":"#DIV/0!"}},{"$f":"HT42-2*(SIN(ATAN((HS12-HS11)/(HT12-HT11)))*(HT42-HT11)+COS(ATAN((HS12-HS11)/(HT12-HT11)))*(HS11-HS42))*SIN(ATAN((HS12-HS11)/(HT12-HT11)))","v":{"$error":"#DIV/0!"}},32,null,null,null,null,null,null,null,null,null,null,null,null,null,null,null,null,null,null,null,null,null,null,null,null,null,null,null,null,null,null,null,null,null,null,null,null,null,null,null,null,null,null,null,null,null,null,null,null,null,null,null,null,null,null,null,null,null,null,null,null,null,null,null,null,null,null,null,null,null,null,null,null,null,null,null,null,null,null,null,null,null,null,null,null,null,null,null,null,null,null,null,null,null,null,null,null,null,null,null,null,null,null,null,null,null,null,null,null,null,null,null,null,null,null,null,null,null,null,null,null,null,null,null,null,null,null,null,null,null,null,null,null,null,null,null,null,null,null,null,null,null,null,null,null,null,null,null,null,null,null,null,null,{"$f":"I16","v":2.16}," تعداد دانه در یک سانت جادکمه",null,"g5",{"$f":"NZ38+0.7*(NZ41-NZ38)","v":-2.9866666666666681},{"$f":"OA38+0.28*(OA41-OA38)","v":5.1123853211009171},{"$f":"NZ39","v":-2.8606666666666678},{"$f":"OA39","v":5.5747706422018348},{"$f":"NY39","v":"g11"},null,"h4",{"$f":"NV37","v":0.5},"پهنای باکس نوشته",null,"g5",{"$f":"OK38+0.7*(OK41-OK38)","v":14.537638888888893},{"$f":"OL38+0.28*(OL41-OL38)","v":5.0793308148947656},{"$f":"OK39","v":14.663638888888894},{"$f":"OL39","v":5.405720453318942},{"$f":"OJ39","v":"g11"},null,"h4",{"$f":"NV37","v":0.5},"پهنای باکس نوشته",null,"g5",{"$f":"OV38+0.7*(OV41-OV38)","v":8.3397222222222283},{"$f":"OW38+0.28*(OW41-OW38)","v":5.0793308148947656},{"$f":"OV39","v":8.4657222222222295},{"$f":"OW39","v":5.405720453318942},{"$f":"OU39","v":"g11"},null,"f5",{"$f":"NV39","v":0.5},"زاویه فلش رج",null,"g5",{"$f":"PG38+0.7*(PG41-PG38)","v":2.1418055555555569},{"$f":"PH38+0.28*(PH41-PH38)","v":5.0793308148947656},{"$f":"PG39","v":2.2678055555555572},{"$f":"PH39","v":5.405720453318942},{"$f":"PF39","v":"g11"},null,"f5",{"$f":"NV39","v":0.5},"زاویه فلش رج",null,"g5",{"$f":"PR38+0.7*(PR41-PR38)","v":7.1001388888888934},{"$f":"PS38+0.28*(PS41-PS38)","v":5.0793308148947656},{"$f":"PR39","v":7.2261388888888929},{"$f":"PS39","v":5.405720453318942},{"$f":"PQ39","v":"g11"},null,{"$f":"PX35","v":-36.5},{"$f":"PY36+0.5*PY7","v":10},"t14",null,null,null,null,-48.5,9.2857142857142865,"t9",null,{"$f":"HX182","v":-2.1675199999999997},{"$f":"HY182","v":80.895017725788037},28,null,{"$f":"QI77","v":0},{"$f":"QJ77","v":49.8},"1''",null,{"$f":"QQ15+(QR7+2*QR8)*SIN(RADIANS(30))","v":-10.4},{"$f":"QR15+(QR7+2*QR8)*COS(RADIANS(30))","v":56.731129572776894},"k32",null,null,null,null,{"$f":"QQ58","v":-13},{"$f":"QR58","v":58.627797473097807},"k48",null,"h4",0.5,"پهنای باکس نوشته",null,"g5",{"$f":"RG38+0.7*(RG41-RG38)","v":-4.0075000000000038},{"$f":"RH38+0.28*(RH41-RH38)","v":5.0793308148947656},{"$f":"RG39","v":-3.8815000000000035},{"$f":"RH39","v":5.405720453318942},{"$f":"RF39","v":"g11"},null,{"$f":"RM40+10*RN28","v":8.5648148148148131},{"$f":"RN40","v":-20},10,null,{"$f":"RQ41","v":0},{"$f":"RN38","v":-40.155257586450247},null,null,{"$f":"RU40+10*RV31","v":-34.071983062808755},{"$f":"RV40","v":0},10,null,{"$f":"RY41","v":-25.17995765702188},{"$f":"RV38","v":10.277777777777777},null,null,{"$f":"SC41","v":-35.850388143966128},{"$f":"RV38","v":10.277777777777777},null,null,{"$f":"SG40+10*SH28","v":8.5648148148148131},{"$f":"SH40","v":-20},10,null,{"$f":"SK41","v":0},{"$f":"SH38","v":-40.155257586450247},null,null,{"$f":"SO40+10*SP31","v":-34.071983062808755},{"$f":"SP40","v":0},10,null,{"$f":"SS41","v":-25.17995765702188},{"$f":"SP38","v":10.277777777777777},null,null,{"$f":"SW41","v":-35.850388143966128},{"$f":"SP38","v":10.277777777777777},null,null,{"$f":"TA40+10*TB28","v":8.101851851851853},{"$f":"TB40","v":-20},10,null,{"$f":"TE41","v":0},{"$f":"TB38","v":-40.22935779816514},null,null,{"$f":"TI40+10*TJ31","v":-34.220183486238533},{"$f":"TJ40","v":0},10,null,{"$f":"TM41","v":-25.550458715596328},{"$f":"TJ38","v":9.7222222222222232},null,null,{"$f":"TQ41","v":-35.954128440366972},{"$f":"TJ38","v":9.7222222222222232},null,null,{"$f":"TU40+10*TV28","v":8.101851851851853},{"$f":"TV40","v":-20},10,null,{"$f":"TY41","v":0},{"$f":"TV38","v":-40.22935779816514},null,null,{"$f":"UC40+10*UD31","v":-34.220183486238533},{"$f":"UD40","v":0},10,null,{"$f":"UG41","v":-25.550458715596328},{"$f":"UD38","v":9.7222222222222232},null,null,{"$f":"UK41","v":-35.954128440366972},{"$f":"UD38","v":9.7222222222222232},null,null,{"$f":"UO40+10*UP28","v":8.5648148148148131},{"$f":"UP40","v":-20},10,null,{"$f":"US41","v":0},{"$f":"UP38","v":-40.155257586450247},null,null,{"$f":"UW40+10*UX31","v":-34.071983062808755},{"$f":"UX40","v":0},10,null,{"$f":"VA41","v":-25.17995765702188},{"$f":"UX38","v":10.277777777777777},null,null,{"$f":"VE41","v":-35.850388143966128},{"$f":"UX38","v":10.277777777777777},null,null,{"$f":"VI40+10*VJ28","v":8.5648148148148131},{"$f":"VJ40","v":-20},10,null,{"$f":"VM41","v":0},{"$f":"VJ38","v":-40.155257586450247},null,null,{"$f":"VQ40+10*VR31","v":-34.071983062808755},{"$f":"VR40","v":0},10,null,{"$f":"VU41","v":-25.17995765702188},{"$f":"VR38","v":10.277777777777777},null,null,{"$f":"VY41","v":-35.850388143966128},{"$f":"VR38","v":10.277777777777777}]
[null,null,null,null,"b3  جلو بدون جادکمه\nبین خط رگلان و خط مرکزی جلو که نیمه جادکمه از آن کم شود",{"$f":"ROUNDUP(F7*(SQRT(POWER(AX129-AX131,2)+POWER(AX130,2))+SQRT(POWER(AX131-AX133,2)+POWER(AX132-AX130,2))),0)-F25","v":14},{"$f":"ROUNDUP(I23*((SQRT(POWER(AX129-AX131,2)+POWER(AX130,2))+SQRT(POWER(AX131-AX133,2)+POWER(AX132-AX130,2)))-F12),0)","v":15},null,null,null,null,null,null,"a22 خطا",{"$f":"ROUNDDOWN(O33-(O33/O39)*(O39-O40)-(G46-2*O41),0)","v":2},null,"e10",{"$f":"Q31","v":48},null,"e10",48,null,null,null,null,null,null,null,"d12",{"$f":"AD12","v":6},null,null,null,{"$error":"#DIV/0!"},0,{"$f":"IF(AM43=0,\"  \",(10/3)*((AM43/AL43)*(1/J6)-1))","v":"  "},{"$f":"IF(AN43=0,\"  \",(100/68)*((AO43/AN43)*(1/J7)-1))","v":"  "},13.5,0,0,36,null,37,null,"  ","  ","  ",null,null,null,null,null,null,null,null,null,null,null,null,null,null,null,null,null,null,null,null,null,null,null,null,null,null,null,null,null,null,null,null,null,null,null,null,null,null,null,{"$f":"CI36","v":0},{"$f":"CJ44","v":59.5},"j9",null,null,null,"انحنا",null,null,null,null,null,null,null,null,null,null,null,null,null,null,null,null,null,null,null,null,null,null,"شیفت افقی کل ",{"$f":"'متغیرها '!C51","v":0},null,null,{"$f":"DM28","v":28.848621421161901},{"$f":"DN28","v":64.602697605120156},"s12",null,null,null,null,null,null,null,null,null,null,null,null,null,null,null,null,null,null,null,null,null,null,null,null,"شیفت افقی مرغک",{"$f":"'متغیرها '!C33*0.5*('متغیرها '!U72-'متغیرها '!U73)","v":29},null,null,null,null,null,{"$f":"ET32","v":33.1},{"$f":"EU32","v":54.1},18,null,"(14 →19')",{"$f":"DM47+0.1*'متغیرها '!C40","v":10.709999999999999},null,null,"رسم چادر شماره 5   برای پرینت",null,null,null,null,null,null,null,null,null,null,null,null,null,null,null,null,null,null,null,null,56,{"$f":"GB12+GE12*SIN(RADIANS(GA43)+GA14)","v":{"$error":"#DIV/0!"}},{"$f":"GC12+GE12*COS(RADIANS(GA43)+GA14)","v":{"$error":"#DIV/0!"}},{"$f":"IF(GB13>GB43,ATAN((GC13-GC43)/(GB13-GB43)),ATAN((GC13-GC43)/(GB43-GB13)))","v":{"$error":"#DIV/0!"}},{"$f":"IF(GB13>GB43,(GB13-GB43)/COS(GD43),(GB43-GB13)/COS(GD43))","v":{"$error":"#DIV/0!"}},null,1,2,"نقطه 25","نقطه قبل از چرخش",{"$f":"IF(GH43>GH18,IF(GG43>GG18,GG18+SQRT(POWER(GG43-GG18,2)+POWER(GH43-GH18,2))*COS(ATAN((GH43-GH18)/(GG43-GG18+0.000123))+GH16),GG18-SQRT(POWER(GG43-GG18,2)+POWER(GH43-GH18,2))*COS(ATAN((GH43-GH18)/(GG18-GG43+0.000123))-GH16)),IF(GG43>GG18,GG18+SQRT(POWER(GG43-GG18,2)+POWER(GH43-GH18,2))*COS(ATAN((GH18-GH43)/(GG43-GG18+0.000123))-GH16),GG18-SQRT(POWER(GG43-GG18,2)+POWER(GH43-GH18,2))*COS(ATAN((GH18-GH43)/(GG18-GG43+0.000123))+GH16)))","v":0.61824523267144293},{"$f":"IF(GH43>GH18,IF(GG43>GG18,GH18+SQRT(POWER(GG43-GG18,2)+POWER(GH43-GH18,2))*SIN(ATAN((GH43-GH18)/(GG43-GG18+0.000123))+GH16),GH18+SQRT(POWER(GG43-GG18,2)+POWER(GH43-GH18,2))*SIN(ATAN((GH43-GH18)/(GG18-GG43+0.000123))-GH16)),IF(GG43>GG18,GH18-SQRT(POWER(GG43-GG18,2)+POWER(GH43-GH18,2))*SIN(ATAN((GH18-GH43)/(GG43-GG18+0.000123))-GH16),GH18-SQRT(POWER(GG43-GG18,2)+POWER(GH43-GH18,2))*SIN(ATAN((GH18-GH43)/(GG18-GG43+0.000123))+GH16)))","v":0.69874634779839551},"نقطه چرخیده",null,null,null,null,null,null,null,{"$f":"GU42+GT11","v":-36},-0.62831853071795862,{"$f":"HB13+HB10*COS(GV43)","v":{"$error":"#REF!"}},{"$f":"HC13-HB10*SIN(GV43)","v":{"$error":"#REF!"}},{"$f":"SQRT(POWER((HB12-GW43),2)+POWER((HC12-GX43),2))","v":{"$error":"#REF!"}},{"$f":"ABS(HB9-GY43)","v":{"$error":"#REF!"}},null,"اطلاعات  ورودی",null,null,null,null,null,null,null,null,null,null,null,null,{"$f":"-HK43+HP9","v":0},0,null,null,0,0,33,null,{"$f":"HS43+2*(SIN(ATAN((HS12-HS11)/(HT12-HT11)))*(HT43-HT11)+COS(ATAN((HS12-HS11)/(HT12-HT11)))*(HS11-HS43))*COS(ATAN((HS12-HS11)/(HT12-HT11)))","v":{"$error":"#DIV/0!"}},{"$f":"HT43-2*(SIN(ATAN((HS12-HS11)/(HT12-HT11)))*(HT43-HT11)+COS(ATAN((HS12-HS11)/(HT12-HT11)))*(HS11-HS43))*SIN(ATAN((HS12-HS11)/(HT12-HT11)))","v":{"$error":"#DIV/0!"}},33,null,null,null,null,null,null,null,null,null,null,null,null,null,null,null,null,null,null,null,null,null,null,null,null,null,null,null,null,null,null,null,null,null,null,null,null,null,null,null,null,null,null,null,null,null,null,null,null,null,null,null,null,null,null,null,null,null,null,null,null,null,null,null,null,null,null,null,null,null,null,null,null,null,null,null,null,null,null,null,null,null,null,null,null,null,null,null,null,null,null,null,null,null,null,null,null,null,null,null,null,null,null,null,null,null,null,null,null,null,null,null,null,null,null,null,null,null,null,null,null,null,null,null,null,null,null,null,null,null,null,null,null,null,null,null,null,null,null,null,null,null,null,null,null,null,null,null,null,null,null,null,null,{"$f":"IF(NV44<11,\" مخصوص \",F8)","v":2.5},"انتخاب ضخامت میل بافتنی   f1",null,"g6",{"$f":"NZ42","v":-2.9866666666666681},{"$f":"OA40-OA42+OA38","v":5.6903669724770642},null,null,null,null,"f'4",{"$f":"NV38","v":0.60000000000000009},"بزرگی فلش رج",null,"g6",{"$f":"OK42","v":14.537638888888893},{"$f":"OL40-OL42+OL38","v":5.4873178629249857},null,null,null,null,"f'4",{"$f":"NV38","v":0.60000000000000009},"بزرگی فلش رج",null,"g6",{"$f":"OV42","v":8.3397222222222283},{"$f":"OW40-OW42+OW38","v":5.4873178629249857},null,null,null,null,"f9",{"$f":"OG45","v":0.30000000000000004},"بزرگی خط عمودی دانه",null,"g6",{"$f":"PG42","v":2.1418055555555569},{"$f":"PH40-PH42+PH38","v":5.4873178629249857},null,null,null,null,"f9",{"$f":"OG45","v":0.30000000000000004},"بزرگی خط عمودی دانه",null,"g6",{"$f":"PR42","v":7.1001388888888934},{"$f":"PS40-PS42+PS38","v":5.4873178629249857},null,null,null,null,{"$f":"PX37","v":-48.5},{"$f":"PY38+PY36-PY29","v":15},"t15",null,"نسبت سایز افقی",{"$f":"PY17","v":42},"انحنا راستگرد ",null,null,{"$f":"QD43","v":"انحنا راستگرد "},null,{"$f":"HX183","v":0},{"$f":"HY183","v":0},26,null,null,null,null,null,{"$f":"2*QQ15-QQ42","v":-15.6},{"$f":"QR42","v":56.731129572776894},"k33",null,null,null,null,{"$f":"QQ57","v":-16.2},{"$f":"QR57","v":57.770360057318214},"k47",null,"f'4",0.60000000000000009,"بزرگی فلش رج",null,"g6",{"$f":"RG42","v":-4.0075000000000038},{"$f":"RH40-RH42+RH38","v":5.4873178629249857},null,null,null,null,{"$f":"RM40+15*RN28","v":12.847222222222221},{"$f":"RN40","v":-20},15,null,null,null,null,null,{"$f":"RU40+15*RV31","v":-31.107974594213125},{"$f":"RV40","v":0},15,null,null,null,null,null,null,null,null,null,{"$f":"SG40+15*SH28","v":12.847222222222221},{"$f":"SH40","v":-20},15,null,null,null,null,null,{"$f":"SO40+15*SP31","v":-31.107974594213125},{"$f":"SP40","v":0},15,null,null,null,null,null,null,null,null,null,{"$f":"TA40+15*TB28","v":12.152777777777779},{"$f":"TB40","v":-20},15,null,null,null,null,null,{"$f":"TI40+15*TJ31","v":-31.330275229357795},{"$f":"TJ40","v":0},15,null,null,null,null,null,null,null,null,null,{"$f":"TU40+15*TV28","v":12.152777777777779},{"$f":"TV40","v":-20},15,null,null,null,null,null,{"$f":"UC40+15*UD31","v":-31.330275229357795},{"$f":"UD40","v":0},15,null,null,null,null,null,null,null,null,null,{"$f":"UO40+15*UP28","v":12.847222222222221},{"$f":"UP40","v":-20},15,null,null,null,null,null,{"$f":"UW40+15*UX31","v":-31.107974594213125},{"$f":"UX40","v":0},15,null,null,null,null,null,null,null,null,null,{"$f":"VI40+15*VJ28","v":12.847222222222221},{"$f":"VJ40","v":-20},15,null,null,null,null,null,{"$f":"VQ40+15*VR31","v":-31.107974594213125},{"$f":"VR40","v":0},15]
[null,null,null,null,"b4  آستین",{"$f":"ROUNDDOWN(F7*(DE534+DE535),0)","v":12},{"$f":"ROUNDDOWN(I37*(DE534+DE535),0)","v":12},null,null,null,null,null,null,null,null,null,"e11",{"$f":"R31","v":46},null,"e11",46,null,null,null,null,null,null,null,"d13",{"$f":"AD38+2*AD39+2*AD40","v":72},null,null,null,{"$error":"#DIV/0!"},{"$f":"AM44/AL44","v":0},{"$f":"IF(AM44=0,\"  \",(10/3)*((AM44/AL44)*(1/J6)-1))","v":"  "},{"$f":"IF(AN44=0,\"  \",(100/68)*((AO44/AN44)*(1/J7)-1))","v":"  "},13.5,0,0,36,null,38,null,"  ","  ","  ",null,null,null,null,null,null,null,null,null,null,null,null,null,null,null,null,null,null,null,null,null,null,null,null,null,null,null,null,null,null,null,null,null,null,null,null,null,null,null,{"$f":"CI42","v":2},{"$f":"CJ41-'طراحی همه الگوها'!U182","v":59.5},"j10",null,{"$f":"CI39","v":59.3},{"$f":"CJ39","v":109.1},"j5",null,null,null,null,null,null,null,null,null,null,null,null,null,null,null,null,null,null,null,null,null,null,"شیفت عمودی کل",{"$f":"'متغیرها '!C52","v":0},null,null,null,null,null,null,null,null,null,null,{"$f":"DX42","v":0},{"$f":"DY42","v":0},"2'",null,null,null,null,null,null,null,null,null,null,null,null,null,null,null,null,"شیفت عمودی مرغک",{"$f":"IF('متغیرها '!C34<1,'متغیرها '!C34*'متغیرها '!U59,IF('متغیرها '!C34<2,'متغیرها '!U59+('متغیرها '!C34-1)*('متغیرها '!U60-'متغیرها '!U59),IF('متغیرها '!C34<3,'متغیرها '!U60+('متغیرها '!C34-2)*(I105-'متغیرها '!U60),I105+('متغیرها '!C34-3)*(H127-H126))))+'طراحی همه الگوها'!U245","v":41.6},null,null,null,null,null,null,null,null,null,"شیفت عمودی الگو دسته",7,null,null,null,"صاف","برای پرینت",null,null,"انحنا","برای پرینت",null,null,null,null,null,{"$f":"FR42","v":0},{"$f":"FS42","v":60.84250015285528},"s''12",null,null,null,null,null,null,58,{"$f":"GB12+GE12*SIN(RADIANS(GA44)+GA14)","v":{"$error":"#DIV/0!"}},{"$f":"GC12+GE12*COS(RADIANS(GA44)+GA14)","v":{"$error":"#DIV/0!"}},{"$f":"IF(GB13>GB44,ATAN((GC13-GC44)/(GB13-GB44)),ATAN((GC13-GC44)/(GB44-GB13)))","v":{"$error":"#DIV/0!"}},{"$f":"IF(GB13>GB44,(GB13-GB44)/COS(GD44),(GB44-GB13)/COS(GD44))","v":{"$error":"#DIV/0!"}},null,1,2,"نقطه 26","نقطه قبل از چرخش",{"$f":"IF(GH44>GH18,IF(GG44>GG18,GG18+SQRT(POWER(GG44-GG18,2)+POWER(GH44-GH18,2))*COS(ATAN((GH44-GH18)/(GG44-GG18+0.000123))+GH16),GG18-SQRT(POWER(GG44-GG18,2)+POWER(GH44-GH18,2))*COS(ATAN((GH44-GH18)/(GG18-GG44+0.000123))-GH16)),IF(GG44>GG18,GG18+SQRT(POWER(GG44-GG18,2)+POWER(GH44-GH18,2))*COS(ATAN((GH18-GH44)/(GG44-GG18+0.000123))-GH16),GG18-SQRT(POWER(GG44-GG18,2)+POWER(GH44-GH18,2))*COS(ATAN((GH18-GH44)/(GG18-GG44+0.000123))+GH16)))","v":0.61824523267144293},{"$f":"IF(GH44>GH18,IF(GG44>GG18,GH18+SQRT(POWER(GG44-GG18,2)+POWER(GH44-GH18,2))*SIN(ATAN((GH44-GH18)/(GG44-GG18+0.000123))+GH16),GH18+SQRT(POWER(GG44-GG18,2)+POWER(GH44-GH18,2))*SIN(ATAN((GH44-GH18)/(GG18-GG44+0.000123))-GH16)),IF(GG44>GG18,GH18-SQRT(POWER(GG44-GG18,2)+POWER(GH44-GH18,2))*SIN(ATAN((GH18-GH44)/(GG44-GG18+0.000123))-GH16),GH18-SQRT(POWER(GG44-GG18,2)+POWER(GH44-GH18,2))*SIN(ATAN((GH18-GH44)/(GG18-GG44+0.000123))+GH16)))","v":0.69874634779839551},"نقطه چرخیده",null,null,null,null,null,null,null,{"$f":"GU43+GT11","v":-34},-0.59341194567807209,{"$f":"HB13+HB10*COS(GV44)","v":{"$error":"#REF!"}},{"$f":"HC13-HB10*SIN(GV44)","v":{"$error":"#REF!"}},{"$f":"SQRT(POWER((HB12-GW44),2)+POWER((HC12-GX44),2))","v":{"$error":"#REF!"}},{"$f":"ABS(HB9-GY44)","v":{"$error":"#REF!"}},null,"مولفه افقی","مولفه عمودی","اسم نقطه ",null,"محاسبات ",null,null,null,null,null,null,null,null,{"$f":"-HK44+HP9","v":0},0,null,null,0,0,34,null,{"$f":"HS44+2*(SIN(ATAN((HS12-HS11)/(HT12-HT11)))*(HT44-HT11)+COS(ATAN((HS12-HS11)/(HT12-HT11)))*(HS11-HS44))*COS(ATAN((HS12-HS11)/(HT12-HT11)))","v":{"$error":"#DIV/0!"}},{"$f":"HT44-2*(SIN(ATAN((HS12-HS11)/(HT12-HT11)))*(HT44-HT11)+COS(ATAN((HS12-HS11)/(HT12-HT11)))*(HS11-HS44))*SIN(ATAN((HS12-HS11)/(HT12-HT11)))","v":{"$error":"#DIV/0!"}},34,null,null,null,null,null,null,null,null,null,null,null,null,null,null,null,null,null,null,null,null,null,null,null,null,null,null,null,null,null,null,null,null,null,null,null,null,null,null,null,null,null,null,null,null,null,null,null,null,null,null,null,null,null,null,null,null,null,null,null,null,null,null,null,null,null,null,null,null,null,null,null,null,null,null,null,null,null,null,null,null,null,null,null,null,null,null,null,null,null,null,null,null,null,null,null,null,null,null,null,null,null,null,null,null,null,null,null,null,null,null,null,null,null,null,null,null,null,null,null,null,null,null,null,null,null,null,null,null,null,null,null,null,null,null,null,null,null,null,null,null,null,null,null,null,null,null,null,null,null,null,null,{"$f":"O22","v":"کشباف (دوتایی)"},{"$f":"O21","v":14},"بافت انتخابی یقه شکاری",null,"g7",{"$f":"NZ39+0.7*OA36*SIN(RADIANS(30)+2*ATAN((NZ39-NZ42)/(OA39-OA42+0.0001)))","v":-2.5672798646533739},{"$f":"OA39-0.7*OA36*COS(RADIANS(30)+2*ATAN((NZ39-NZ42)/(OA39-OA42+0.0001)))","v":5.4086431971633369},{"$f":"NZ39","v":-2.8606666666666678},{"$f":"OA39","v":5.5747706422018348},{"$f":"NY39","v":"g11"},null,"f5",{"$f":"NV39","v":0.5},"زاویه فلش رج",null,"g7",{"$f":"OK39+0.7*OL36*SIN(RADIANS(30)+2*ATAN((OK39-OK42)/(OL39-OL42+0.0001)))","v":14.890245523707287},{"$f":"OL39-0.7*OL36*COS(RADIANS(30)+2*ATAN((OK39-OK42)/(OL39-OL42+0.0001)))","v":5.3329891891810854},{"$f":"OK39","v":14.663638888888894},{"$f":"OL39","v":5.405720453318942},{"$f":"OJ39","v":"g11"},null,"f5",{"$f":"NV39","v":0.5},"زاویه فلش رج",null,"g7",{"$f":"OV39+0.7*OW36*SIN(RADIANS(30)+2*ATAN((OV39-OV42)/(OW39-OW42+0.0001)))","v":8.6923288570406232},{"$f":"OW39-0.7*OW36*COS(RADIANS(30)+2*ATAN((OV39-OV42)/(OW39-OW42+0.0001)))","v":5.3329891891810854},{"$f":"OV39","v":8.4657222222222295},{"$f":"OW39","v":5.405720453318942},{"$f":"OU39","v":"g11"},null,"f10",{"$f":"OG46","v":0.4},"بزرگی فلش دانه",null,"g7",{"$f":"PG39+0.7*PH36*SIN(RADIANS(30)+2*ATAN((PG39-PG42)/(PH39-PH42+0.0001)))","v":2.4944121903739505},{"$f":"PH39-0.7*PH36*COS(RADIANS(30)+2*ATAN((PG39-PG42)/(PH39-PH42+0.0001)))","v":5.3329891891810846},{"$f":"PG39","v":2.2678055555555572},{"$f":"PH39","v":5.405720453318942},{"$f":"PF39","v":"g11"},null,"f10",{"$f":"OG46","v":0.4},"بزرگی فلش دانه",null,"g7",{"$f":"PR39+0.7*PS36*SIN(RADIANS(30)+2*ATAN((PR39-PR42)/(PS39-PS42+0.0001)))","v":7.4527455237072857},{"$f":"PS39-0.7*PS36*COS(RADIANS(30)+2*ATAN((PR39-PR42)/(PS39-PS42+0.0001)))","v":5.3329891891810828},{"$f":"PR39","v":7.2261388888888929},{"$f":"PS39","v":5.405720453318942},{"$f":"PQ39","v":"g11"},null,{"$f":"PX30","v":-41.5},{"$f":"PY43","v":15},"t16",null,"ارتفاع نیم دایره",{"$f":"PY14","v":1.4285714285714286},"بزرگی فلش",{"$f":"QC47","v":-48.5},{"$f":"QD47","v":9.2857142857142865},{"$f":"QB47","v":"t9"},null,null,"پشت",null,null,{"$f":"QI61","v":5.4188000000000001},{"$f":"QJ61","v":86.9},25,null,{"$f":"QQ15","v":-13},{"$f":"QR15+QR7+2*QR8","v":57.427797473097812},"k34",null,null,null,null,{"$f":"QQ55","v":-19.399999999999999},{"$f":"QR55","v":52.227797473097809},"k45",null,"f5",0.5,"زاویه فلش رج",null,"g7",{"$f":"RG39+0.7*RH36*SIN(RADIANS(30)+2*ATAN((RG39-RG42)/(RH39-RH42+0.0001)))","v":-3.6548933651816102},{"$f":"RH39-0.7*RH36*COS(RADIANS(30)+2*ATAN((RG39-RG42)/(RH39-RH42+0.0001)))","v":5.3329891891810846},{"$f":"RG39","v":-3.8815000000000035},{"$f":"RH39","v":5.405720453318942},{"$f":"RF39","v":"g11"},null,{"$f":"RM40+20*RN28","v":17.129629629629626},{"$f":"RN40","v":-20},20,null,{"$f":"IF(RN26>(RM46-RM40),RM46,RM40)","v":0},{"$f":"IF(RN26>(RM46-RM40),RN46,RN40)","v":-20},{"$f":"RO46","v":30},null,{"$f":"RU40+20*RV31","v":-28.143966125617503},{"$f":"RV40","v":0},20,null,{"$f":"IF(RV27>(RU46-RU40),RU46,RU40)","v":-22.215949188426254},{"$f":"IF(RV27>(RU46-RU40),RV46,RV40)","v":0},{"$f":"RW46","v":30},null,{"$f":"IF(RV27>(RU71-RU40),RU71,RU40)","v":-35.257586450247004},{"$f":"IF(RV27>(RU71-RU40),RV71,RV40)","v":0},8,null,{"$f":"SG40+20*SH28","v":17.129629629629626},{"$f":"SH40","v":-20},20,null,{"$f":"IF(SH26>(SG46-SG40),SG46,SG40)","v":0},{"$f":"IF(SH26>(SG46-SG40),SH46,SH40)","v":-20},{"$f":"SI46","v":30},null,{"$f":"SO40+20*SP31","v":-28.143966125617503},{"$f":"SP40","v":0},20,null,{"$f":"IF(SP27>(SO46-SO40),SO46,SO40)","v":-22.215949188426254},{"$f":"IF(SP27>(SO46-SO40),SP46,SP40)","v":0},{"$f":"SQ46","v":30},null,{"$f":"IF(SP27>(SO71-SO40),SO71,SO40)","v":-35.257586450247004},{"$f":"IF(SP27>(SO71-SO40),SP71,SP40)","v":0},8,null,{"$f":"TA40+20*TB28","v":16.203703703703706},{"$f":"TB40","v":-20},20,null,{"$f":"IF(TB26>(TA46-TA40),TA46,TA40)","v":0},{"$f":"IF(TB26>(TA46-TA40),TB46,TB40)","v":-20},{"$f":"TC46","v":30},null,{"$f":"TI40+20*TJ31","v":-28.440366972477062},{"$f":"TJ40","v":0},20,null,{"$f":"IF(TJ27>(TI46-TI40),TI46,TI40)","v":-22.660550458715594},{"$f":"IF(TJ27>(TI46-TI40),TJ46,TJ40)","v":0},{"$f":"TK46","v":30},null,{"$f":"IF(TJ27>(TI71-TI40),TI71,TI40)","v":-35.376146788990823},{"$f":"IF(TJ27>(TI71-TI40),TJ71,TJ40)","v":0},8,null,{"$f":"TU40+20*TV28","v":16.203703703703706},{"$f":"TV40","v":-20},20,null,{"$f":"IF(TV26>(TU46-TU40),TU46,TU40)","v":0},{"$f":"IF(TV26>(TU46-TU40),TV46,TV40)","v":-20},{"$f":"TW46","v":30},null,{"$f":"UC40+20*UD31","v":-28.440366972477062},{"$f":"UD40","v":0},20,null,{"$f":"IF(UD27>(UC46-UC40),UC46,UC40)","v":-22.660550458715594},{"$f":"IF(UD27>(UC46-UC40),UD46,UD40)","v":0},{"$f":"UE46","v":30},null,{"$f":"IF(UD27>(UC71-UC40),UC71,UC40)","v":-35.376146788990823},{"$f":"IF(UD27>(UC71-UC40),UD71,UD40)","v":0},8,null,{"$f":"UO40+20*UP28","v":17.129629629629626},{"$f":"UP40","v":-20},20,null,{"$f":"IF(UP26>(UO46-UO40),UO46,UO40)","v":0},{"$f":"IF(UP26>(UO46-UO40),UP46,UP40)","v":-20},{"$f":"UQ46","v":30},null,{"$f":"UW40+20*UX31","v":-28.143966125617503},{"$f":"UX40","v":0},20,null,{"$f":"IF(UX27>(UW46-UW40),UW46,UW40)","v":-22.215949188426254},{"$f":"IF(UX27>(UW46-UW40),UX46,UX40)","v":0},{"$f":"UY46","v":30},null,{"$f":"IF(UX27>(UW71-UW40),UW71,UW40)","v":-35.257586450247004},{"$f":"IF(UX27>(UW71-UW40),UX71,UX40)","v":0},8,null,{"$f":"VI40+20*VJ28","v":17.129629629629626},{"$f":"VJ40","v":-20},20,null,{"$f":"IF(VJ26>(VI46-VI40),VI46,VI40)","v":0},{"$f":"IF(VJ26>(VI46-VI40),VJ46,VJ40)","v":-20},{"$f":"VK46","v":30},null,{"$f":"VQ40+20*VR31","v":-28.143966125617503},{"$f":"VR40","v":0},20,null,{"$f":"IF(VR27>(VQ46-VQ40),VQ46,VQ40)","v":-22.215949188426254},{"$f":"IF(VR27>(VQ46-VQ40),VR46,VR40)","v":0},{"$f":"VS46","v":30},null,{"$f":"IF(VR27>(VQ71-VQ40),VQ71,VQ40)","v":-35.257586450247004},{"$f":"IF(VR27>(VQ71-VQ40),VR71,VR40)","v":0},8]
[null,null,null,null,"b5  پشت",{"$f":"ROUNDDOWN(F7*2*(SQRT(POWER(BI128-BI130,2)+POWER(BI129,2))+SQRT(POWER(BI130-BI132,2)+POWER(BI131-BI129,2))),0)","v":20},{"$f":"ROUNDDOWN(I30*2*(SQRT(POWER(BI128-BI130,2)+POWER(BI129,2))+SQRT(POWER(BI130-BI132,2)+POWER(BI131-BI129,2))),0)","v":20},null,null,null,null,null,null,null,null,null,"خطا",{"$f":"IF((ROUNDUP(S12*S17*S9,0)-R40-R41-3)>-1,\" \",\"خطا : قد پایه یقه شومیزیه زیاد شود یا پهنای جادکمه جلو کم شود\")","v":" "},null,"خطا"," ",null,null,null,null,null,null,null,"d14",{"$f":"AC30","v":1},null,null,null,{"$error":"#DIV/0!"},0,{"$f":"IF(AM45=0,\"  \",(10/3)*((AM45/AL45)*(1/J6)-1))","v":"  "},{"$f":"IF(AN45=0,\"  \",(100/68)*((AO45/AN45)*(1/J7)-1))","v":"  "},13.5,0,0,36,null,39,null,"  ","  ","  ",null,null,null,null,null,null,null,null,null,null,null,null,null,null,null,null,null,null,null,null,null,null,null,null,null,null,null,null,null,null,null,null,null,null,null,null,null,null,null,{"$f":"CI38+'طراحی همه الگوها'!U183","v":19.899999999999999},{"$f":"CJ36","v":109.1},"j11",null,{"$f":"CI48","v":57.841999999999999},98.407999999999987,"j5'",null,null,null,null,null,null,null,null,null,null,null,null,null,null,null,null,null,null,null,null,null,null,"j4",{"$f":"IF('متغیرها '!C9<1,'متغیرها '!C9*'متغیرها '!U59,IF('متغیرها '!C9<2,'متغیرها '!U59+('متغیرها '!C9-1)*('متغیرها '!U60-'متغیرها '!U59),IF('متغیرها '!C9<3,'متغیرها '!U60+('متغیرها '!C9-2)*(I105-'متغیرها '!U60),I105+('متغیرها '!C9-3)*(H127-H126))))","v":0},"چادر 2",null,{"$f":"DP43","v":28.848621421161901},{"$f":"DQ43","v":64.602697605120156},"s12",null,null,null,null,null,{"$f":"DM15","v":0},{"$f":"DN15","v":71.8},"خط سینه",null,null,null,null,null,null,null,null,null,null,null,null,null,null,null,null,"شبیه ساز آستین(3→19)",{"$f":"BL516","v":27.698444086532248},null,null,null,null,null,{"$f":"ET34","v":37.200000000000003},{"$f":"EU34","v":41.6},17,null,"شیفت عمودی الگو دسته برای پرینت",{"$f":"-'متغیرها '!U56","v":-60.4},null,null,{"$f":"FF13+'طراحی همه الگوها'!U260+'طراحی همه الگوها'!U262","v":62.099999999999994},{"$f":"FG25+FC45","v":2.7999999999999972},13,null,{"$f":"FF45","v":62.099999999999994},{"$f":"FG45","v":2.7999999999999972},13,null,null,null,null,null,{"$f":"FO32","v":0},{"$f":"FP32","v":63.642500152855277},"s'12",null,null,null,null,null,null,60,{"$f":"GB12+GE12*SIN(RADIANS(GA45)+GA14)","v":{"$error":"#DIV/0!"}},{"$f":"GC12+GE12*COS(RADIANS(GA45)+GA14)","v":{"$error":"#DIV/0!"}},{"$f":"IF(GB13>GB45,ATAN((GC13-GC45)/(GB13-GB45)),ATAN((GC13-GC45)/(GB45-GB13)))","v":{"$error":"#DIV/0!"}},{"$f":"IF(GB13>GB45,(GB13-GB45)/COS(GD45),(GB45-GB13)/COS(GD45))","v":{"$error":"#DIV/0!"}},null,1,2,"نقطه 27","نقطه قبل از چرخش",{"$f":"IF(GH45>GH18,IF(GG45>GG18,GG18+SQRT(POWER(GG45-GG18,2)+POWER(GH45-GH18,2))*COS(ATAN((GH45-GH18)/(GG45-GG18+0.000123))+GH16),GG18-SQRT(POWER(GG45-GG18,2)+POWER(GH45-GH18,2))*COS(ATAN((GH45-GH18)/(GG18-GG45+0.000123))-GH16)),IF(GG45>GG18,GG18+SQRT(POWER(GG45-GG18,2)+POWER(GH45-GH18,2))*COS(ATAN((GH18-GH45)/(GG45-GG18+0.000123))-GH16),GG18-SQRT(POWER(GG45-GG18,2)+POWER(GH45-GH18,2))*COS(ATAN((GH18-GH45)/(GG18-GG45+0.000123))+GH16)))","v":0.61824523267144293},{"$f":"IF(GH45>GH18,IF(GG45>GG18,GH18+SQRT(POWER(GG45-GG18,2)+POWER(GH45-GH18,2))*SIN(ATAN((GH45-GH18)/(GG45-GG18+0.000123))+GH16),GH18+SQRT(POWER(GG45-GG18,2)+POWER(GH45-GH18,2))*SIN(ATAN((GH45-GH18)/(GG18-GG45+0.000123))-GH16)),IF(GG45>GG18,GH18-SQRT(POWER(GG45-GG18,2)+POWER(GH45-GH18,2))*SIN(ATAN((GH18-GH45)/(GG45-GG18+0.000123))-GH16),GH18-SQRT(POWER(GG45-GG18,2)+POWER(GH45-GH18,2))*SIN(ATAN((GH18-GH45)/(GG18-GG45+0.000123))+GH16)))","v":0.69874634779839551},"نقطه چرخیده",null,null,null,null,null,null,null,{"$f":"GU44+GT11","v":-32},-0.55850536063818546,{"$f":"HB13+HB10*COS(GV45)","v":{"$error":"#REF!"}},{"$f":"HC13-HB10*SIN(GV45)","v":{"$error":"#REF!"}},{"$f":"SQRT(POWER((HB12-GW45),2)+POWER((HC12-GX45),2))","v":{"$error":"#REF!"}},{"$f":"ABS(HB9-GY45)","v":{"$error":"#REF!"}},null,5,50,1,"راس بالا",{"$f":"SQRT(POWER(HB46-HB45,2)+POWER(HC45-HC46,2))","v":10.198039027185569},"m2",null,null,null,null,null,null,null,{"$f":"-HK45+HP9","v":0},0,null,null,{"$f":"HF30","v":0},{"$f":"HG30","v":0},35,null,{"$f":"HS45+2*(SIN(ATAN((HS12-HS11)/(HT12-HT11)))*(HT45-HT11)+COS(ATAN((HS12-HS11)/(HT12-HT11)))*(HS11-HS45))*COS(ATAN((HS12-HS11)/(HT12-HT11)))","v":{"$error":"#DIV/0!"}},{"$f":"HT45-2*(SIN(ATAN((HS12-HS11)/(HT12-HT11)))*(HT45-HT11)+COS(ATAN((HS12-HS11)/(HT12-HT11)))*(HS11-HS45))*SIN(ATAN((HS12-HS11)/(HT12-HT11)))","v":{"$error":"#DIV/0!"}},35,null,null,null,null,null,null,null,null,null,null,null,null,null,null,null,null,null,null,null,null,null,null,null,null,null,null,null,null,null,null,null,null,null,null,null,null,null,null,null,null,null,null,null,null,null,null,null,null,null,null,null,null,null,null,null,null,null,null,null,null,null,null,null,null,null,null,null,null,null,null,null,null,null,null,null,null,null,null,null,null,null,null,null,null,null,null,null,null,null,null,null,null,null,null,null,null,null,null,null,null,null,null,null,null,null,null,null,null,null,null,null,null,null,null,null,null,null,null,null,null,null,null,null,null,null,null,null,null,null,null,null,null,null,null,null,null,null,null,null,null,null,null,null,null,null,null,null,null,null,null,null,{"$f":"I20","v":"جودانه"},"بافت انتخابی جادکمه",null,null,"g8",{"$f":"NZ39-0.7*OA36*SIN(RADIANS(30)+ATAN((NZ39-NZ42)/(OA39-OA42+0.0001)))","v":-3.1000678696091728},{"$f":"OA39-0.7*OA36*COS(RADIANS(30)+ATAN((NZ39-NZ42)/(OA39-OA42+0.0001)))","v":5.3373654872024368},{"$f":"NZ44","v":-2.5672798646533739},{"$f":"OA44","v":5.4086431971633369},{"$f":"NY44","v":"g7"},null,"f9",{"$f":"'متغیرها '!C888","v":0.30000000000000004},"بزرگی خط عمودی دانه",null,"g8",{"$f":"OK39-0.7*OL36*SIN(RADIANS(30)+ATAN((OK39-OK42)/(OL39-OL42+0.0001)))","v":14.47841567491993},{"$f":"OL39-0.7*OL36*COS(RADIANS(30)+ATAN((OK39-OK42)/(OL39-OL42+0.0001)))","v":5.2562789439120357},{"$f":"OK44","v":14.890245523707287},{"$f":"OL44","v":5.3329891891810854},{"$f":"OJ44","v":"g7"},null,"f9",{"$f":"'متغیرها '!C888","v":0.30000000000000004},"بزرگی خط عمودی دانه",null,"g8",{"$f":"OV39-0.7*OW36*SIN(RADIANS(30)+ATAN((OV39-OV42)/(OW39-OW42+0.0001)))","v":8.2804990082532655},{"$f":"OW39-0.7*OW36*COS(RADIANS(30)+ATAN((OV39-OV42)/(OW39-OW42+0.0001)))","v":5.2562789439120357},{"$f":"OV44","v":8.6923288570406232},{"$f":"OW44","v":5.3329891891810854},{"$f":"OU44","v":"g7"},null,"f11",{"$f":"OG47","v":0.75},"زاویه فلش دانه",null,"g8",{"$f":"PG39-0.7*PH36*SIN(RADIANS(30)+ATAN((PG39-PG42)/(PH39-PH42+0.0001)))","v":2.0825823415865927},{"$f":"PH39-0.7*PH36*COS(RADIANS(30)+ATAN((PG39-PG42)/(PH39-PH42+0.0001)))","v":5.2562789439120348},{"$f":"PG44","v":2.4944121903739505},{"$f":"PH44","v":5.3329891891810846},{"$f":"PF44","v":"g7"},null,"f11",{"$f":"OG47","v":0.75},"زاویه فلش دانه",null,"g8",{"$f":"PR39-0.7*PS36*SIN(RADIANS(30)+ATAN((PR39-PR42)/(PS39-PS42+0.0001)))","v":7.0409156749199289},{"$f":"PS39-0.7*PS36*COS(RADIANS(30)+ATAN((PR39-PR42)/(PS39-PS42+0.0001)))","v":5.2562789439120348},{"$f":"PR44","v":7.4527455237072857},{"$f":"PS44","v":5.3329891891810828},{"$f":"PQ44","v":"g7"},null,{"$f":"PX29","v":-45},{"$f":"PY43","v":15},"t17",null,"پهنای نیم دایره",{"$f":"PY8","v":0.5},{"$f":"PY16","v":0.57142857142857151},{"$f":"QC51","v":-48.8675},{"$f":"QD51","v":9.4857142857142858},{"$f":"QB51","v":"g5"},null,{"$f":"CY105","v":-13.648306246367321},{"$f":"CZ105","v":73.664298292773395},"16fقرینه شیفت",null,{"$f":"QI82","v":4.0640999999999998},85.690838205201246,"28پ",null,{"$f":"QQ15+(QR7+3*QR8)*SIN(RADIANS(60))","v":-7.9770526580502557},{"$f":"QR15-(QR7+3*QR8)*COS(RADIANS(60))","v":49.32779747309781},"k35",null,null,null,null,{"$f":"QQ60","v":-20},{"$f":"QR60","v":52.227797473097809},"k50",null,"f9",0.30000000000000004,"بزرگی خط عمودی دانه",null,"g8",{"$f":"RG39-0.7*RH36*SIN(RADIANS(30)+ATAN((RG39-RG42)/(RH39-RH42+0.0001)))","v":-4.0667232139689684},{"$f":"RH39-0.7*RH36*COS(RADIANS(30)+ATAN((RG39-RG42)/(RH39-RH42+0.0001)))","v":5.2562789439120348},{"$f":"RG44","v":-3.6548933651816102},{"$f":"RH44","v":5.3329891891810846},{"$f":"RF44","v":"g7"},null,{"$f":"RM40+25*RN28","v":21.412037037037035},{"$f":"RN40","v":-20},25,null,{"$f":"RQ44","v":0},{"$f":"RN38","v":-40.155257586450247},null,null,{"$f":"RU40+25*RV31","v":-25.17995765702188},{"$f":"RV40","v":0},25,null,{"$f":"RY44","v":-22.215949188426254},{"$f":"RV38","v":10.277777777777777},null,null,{"$f":"SC44","v":-35.257586450247004},{"$f":"RV38","v":10.277777777777777},null,null,{"$f":"SG40+25*SH28","v":21.412037037037035},{"$f":"SH40","v":-20},25,null,{"$f":"SK44","v":0},{"$f":"SH38","v":-40.155257586450247},null,null,{"$f":"SO40+25*SP31","v":-25.17995765702188},{"$f":"SP40","v":0},25,null,{"$f":"SS44","v":-22.215949188426254},{"$f":"SP38","v":10.277777777777777},null,null,{"$f":"SW44","v":-35.257586450247004},{"$f":"SP38","v":10.277777777777777},null,null,{"$f":"TA40+25*TB28","v":20.25462962962963},{"$f":"TB40","v":-20},25,null,{"$f":"TE44","v":0},{"$f":"TB38","v":-40.22935779816514},null,null,{"$f":"TI40+25*TJ31","v":-25.550458715596328},{"$f":"TJ40","v":0},25,null,{"$f":"TM44","v":-22.660550458715594},{"$f":"TJ38","v":9.7222222222222232},null,null,{"$f":"TQ44","v":-35.376146788990823},{"$f":"TJ38","v":9.7222222222222232},null,null,{"$f":"TU40+25*TV28","v":20.25462962962963},{"$f":"TV40","v":-20},25,null,{"$f":"TY44","v":0},{"$f":"TV38","v":-40.22935779816514},null,null,{"$f":"UC40+25*UD31","v":-25.550458715596328},{"$f":"UD40","v":0},25,null,{"$f":"UG44","v":-22.660550458715594},{"$f":"UD38","v":9.7222222222222232},null,null,{"$f":"UK44","v":-35.376146788990823},{"$f":"UD38","v":9.7222222222222232},null,null,{"$f":"UO40+25*UP28","v":21.412037037037035},{"$f":"UP40","v":-20},25,null,{"$f":"US44","v":0},{"$f":"UP38","v":-40.155257586450247},null,null,{"$f":"UW40+25*UX31","v":-25.17995765702188},{"$f":"UX40","v":0},25,null,{"$f":"VA44","v":-22.215949188426254},{"$f":"UX38","v":10.277777777777777},null,null,{"$f":"VE44","v":-35.257586450247004},{"$f":"UX38","v":10.277777777777777},null,null,{"$f":"VI40+25*VJ28","v":21.412037037037035},{"$f":"VJ40","v":-20},25,null,{"$f":"VM44","v":0},{"$f":"VJ38","v":-40.155257586450247},null,null,{"$f":"VQ40+25*VR31","v":-25.17995765702188},{"$f":"VR40","v":0},25,null,{"$f":"VU44","v":-22.215949188426254},{"$f":"VR38","v":10.277777777777777},null,null,{"$f":"VY44","v":-35.257586450247004},{"$f":"VR38","v":10.277777777777777}]
[null,null,null,null,"تعداد دانه ها  دور گردن + دو تا نیمه جادکمه که از خط مرکزی اضافه شده",{"$f":"F45+2*F44+2*F43+2*F42","v":72},{"$f":"G45+2*G44+2*G43+2*G42","v":74},"b''1",null,null,null,null,null,null,null,null,"خطا",{"$f":"IF(AND(R42>0,R41>0),\" \",\"خطا : قد پایه یقه شومیزیه زیاد شود یا پهنای جادکمه جلو زیاد شود \")","v":"خطا : قد پایه یقه شومیزیه زیاد شود یا پهنای جادکمه جلو زیاد شود "},null,"خطا","خطا : قد پایه یقه شومیزیه زیاد شود یا پهنای جادکمه جلو زیاد شود ",null,null,null,null,null,null,null,"d15",{"$f":"AD30","v":1},null,null,null,{"$error":"#DIV/0!"},0,{"$f":"IF(AM46=0,\"  \",(10/3)*((AM46/AL46)*(1/J6)-1))","v":"  "},{"$f":"IF(AN46=0,\"  \",(100/68)*((AO46/AN46)*(1/J7)-1))","v":"  "},13.5,0,0,36,null,40,null,"  ","  ","  ",null,null,null,null,null,null,null,null,null,null,null,null,null,null,null,null,null,null,null,null,null,null,null,null,null,null,null,null,null,null,null,null,null,null,null,null,null,null,null,{"$f":"CI38","v":10.7},{"$f":"CJ36-'طراحی همه الگوها'!U184","v":101.39999999999999},"j12",null,52.009999999999991,84.8,"j5''",null,null,null,null,null,null,null,null,null,null,null,null,null,null,null,null,null,null,null,null,null,null,"(j1 → j2)",{"$f":"ROUND(CJ22+0.1*'متغیرها '!U85-DM45,1)","v":109.1},null,null,{"$f":"DM27","v":33.244599946860731},{"$f":"DN27","v":77.155202247684315},"s10",null,null,null,null,null,null,null,null,null,null,null,null,null,null,null,null,null,null,null,null,null,null,null,null," شبیه سازαk1",{"$f":"F423","v":1.3911005957611302},null,null,null,null,null,{"$f":"ET30","v":33.1},{"$f":"EU30","v":29.1},19,null,null,null,null,null,{"$f":"FF13","v":0},{"$f":"FG45","v":2.7999999999999972},12,null,{"$f":"FJ45+0.45*(FJ49-FJ45)","v":68.894999999999996},{"$f":"FK45+0.25*(FK49-FK45)","v":21.9},"13'",null,null,null,null,null,null,null,null,null,null,null,null,null,null,62,{"$f":"GB12+GE12*SIN(RADIANS(GA46)+GA14)","v":{"$error":"#DIV/0!"}},{"$f":"GC12+GE12*COS(RADIANS(GA46)+GA14)","v":{"$error":"#DIV/0!"}},{"$f":"IF(GB13>GB46,ATAN((GC13-GC46)/(GB13-GB46)),ATAN((GC13-GC46)/(GB46-GB13)))","v":{"$error":"#DIV/0!"}},{"$f":"IF(GB13>GB46,(GB13-GB46)/COS(GD46),(GB46-GB13)/COS(GD46))","v":{"$error":"#DIV/0!"}},null,1,2,"نقطه 28","نقطه قبل از چرخش",{"$f":"IF(GH46>GH18,IF(GG46>GG18,GG18+SQRT(POWER(GG46-GG18,2)+POWER(GH46-GH18,2))*COS(ATAN((GH46-GH18)/(GG46-GG18+0.000123))+GH16),GG18-SQRT(POWER(GG46-GG18,2)+POWER(GH46-GH18,2))*COS(ATAN((GH46-GH18)/(GG18-GG46+0.000123))-GH16)),IF(GG46>GG18,GG18+SQRT(POWER(GG46-GG18,2)+POWER(GH46-GH18,2))*COS(ATAN((GH18-GH46)/(GG46-GG18+0.000123))-GH16),GG18-SQRT(POWER(GG46-GG18,2)+POWER(GH46-GH18,2))*COS(ATAN((GH18-GH46)/(GG18-GG46+0.000123))+GH16)))","v":0.61824523267144293},{"$f":"IF(GH46>GH18,IF(GG46>GG18,GH18+SQRT(POWER(GG46-GG18,2)+POWER(GH46-GH18,2))*SIN(ATAN((GH46-GH18)/(GG46-GG18+0.000123))+GH16),GH18+SQRT(POWER(GG46-GG18,2)+POWER(GH46-GH18,2))*SIN(ATAN((GH46-GH18)/(GG18-GG46+0.000123))-GH16)),IF(GG46>GG18,GH18-SQRT(POWER(GG46-GG18,2)+POWER(GH46-GH18,2))*SIN(ATAN((GH18-GH46)/(GG46-GG18+0.000123))-GH16),GH18-SQRT(POWER(GG46-GG18,2)+POWER(GH46-GH18,2))*SIN(ATAN((GH18-GH46)/(GG18-GG46+0.000123))+GH16)))","v":0.69874634779839551},"نقطه چرخیده",null,null,null,null,null,null,null,{"$f":"GU45+GT11","v":-30},-0.52359877559829882,{"$f":"HB13+HB10*COS(GV46)","v":{"$error":"#REF!"}},{"$f":"HC13-HB10*SIN(GV46)","v":{"$error":"#REF!"}},{"$f":"SQRT(POWER((HB12-GW46),2)+POWER((HC12-GX46),2))","v":{"$error":"#REF!"}},{"$f":"ABS(HB9-GY46)","v":{"$error":"#REF!"}},null,7,40,2,"راس پایین",{"$f":"ATAN((HB46-HB45)/(HC45-HC46))","v":0.19739555984988078},"γ18",null,null,null,null,null,null,null,{"$f":"-HK46+HP9","v":0},0,null,null,0,0,36,null,{"$f":"HS46+2*(SIN(ATAN((HS12-HS11)/(HT12-HT11)))*(HT46-HT11)+COS(ATAN((HS12-HS11)/(HT12-HT11)))*(HS11-HS46))*COS(ATAN((HS12-HS11)/(HT12-HT11)))","v":{"$error":"#DIV/0!"}},{"$f":"HT46-2*(SIN(ATAN((HS12-HS11)/(HT12-HT11)))*(HT46-HT11)+COS(ATAN((HS12-HS11)/(HT12-HT11)))*(HS11-HS46))*SIN(ATAN((HS12-HS11)/(HT12-HT11)))","v":{"$error":"#DIV/0!"}},36,null,null,null,null,null,null,null,null,null,null,null,null,null,null,null,null,null,null,null,null,null,null,null,null,null,null,null,null,null,null,null,null,null,null,null,null,null,null,null,null,null,null,null,null,null,null,null,null,null,null,null,null,null,null,null,null,null,null,null,null,null,null,null,null,null,null,null,null,null,null,null,null,null,null,null,null,null,null,null,null,null,null,null,null,null,null,null,null,null,null,null,null,null,null,null,null,null,null,null,null,null,null,null,null,null,null,null,null,null,null,null,null,null,null,null,null,null,null,null,null,null,null,null,null,null,null,null,null,null,null,null,null,null,null,null,null,null,null,null,null,null,null,null,null,null,null,null,null,null,null,null,"محاسبات",null,null,null,null,null,null,null,null,null,null,"f10",{"$f":"'متغیرها '!C889","v":0.4},"بزرگی فلش دانه",null,null,null,null,null,null,null,null,"f10",{"$f":"'متغیرها '!C889","v":0.4},"بزرگی فلش دانه",null,null,null,null,null,null,null,null,"محاسبات",null,null,null,null,null,null,null,null,null,null,"محاسبات",null,null,null,null,null,null,null,null,null,null,{"$f":"PX30+4","v":-37.5},{"$f":"PY43","v":15},"t18",null,"نقطه شروع انحنا","مولفه افقی","مولفه عمودی",{"$f":"QC50","v":-49.024999999999999},{"$f":"QD50","v":10},{"$f":"QB50","v":"g4"},null,null,null,"یقه گرد پشت",null,2.1675199999999997,85.086257307801858,"26پ",null,{"$f":"2*QQ15-QQ45","v":-18.022947341949745},{"$f":"QR45","v":49.32779747309781},"k36",null,null,null,null,{"$f":"QQ62","v":-16.5},{"$f":"QR62","v":58.289975299588882},"k52",null,"f10",0.4,"بزرگی فلش دانه",null,null,null,null,null,null,null,null,{"$f":"RM40+30*RN28","v":25.694444444444443},{"$f":"RN40","v":-20},30,null,null,null,null,null,{"$f":"RU40+30*RV31","v":-22.215949188426254},{"$f":"RV40","v":0},30,null,null,null,null,null,null,null,null,null,{"$f":"SG40+30*SH28","v":25.694444444444443},{"$f":"SH40","v":-20},30,null,null,null,null,null,{"$f":"SO40+30*SP31","v":-22.215949188426254},{"$f":"SP40","v":0},30,null,null,null,null,null,null,null,null,null,{"$f":"TA40+30*TB28","v":24.305555555555557},{"$f":"TB40","v":-20},30,null,null,null,null,null,{"$f":"TI40+30*TJ31","v":-22.660550458715594},{"$f":"TJ40","v":0},30,null,null,null,null,null,null,null,null,null,{"$f":"TU40+30*TV28","v":24.305555555555557},{"$f":"TV40","v":-20},30,null,null,null,null,null,{"$f":"UC40+30*UD31","v":-22.660550458715594},{"$f":"UD40","v":0},30,null,null,null,null,null,null,null,null,null,{"$f":"UO40+30*UP28","v":25.694444444444443},{"$f":"UP40","v":-20},30,null,null,null,null,null,{"$f":"UW40+30*UX31","v":-22.215949188426254},{"$f":"UX40","v":0},30,null,null,null,null,null,null,null,null,null,{"$f":"VI40+30*VJ28","v":25.694444444444443},{"$f":"VJ40","v":-20},30,null,null,null,null,null,{"$f":"VQ40+30*VR31","v":-22.215949188426254},{"$f":"VR40","v":0},30]
[null,null,null,null,null,null,null,null,null,null,null,null,null,null,null,null,"خطا",{"$f":"IF(R35>0,\" \",\"خطا : قد برگردان یقه شومیزیه زیاد شود \")","v":" "},null,"خطا"," ",null,null,null,null,null,null,null,"خطا",{"$f":"IF(ROUND(AD19*AD6,0)>3,\" \",\"خطا : پهنای دال بالا یقه انگلیسی زیاد شود \")","v":" "},null,null,null,{"$error":"#DIV/0!"},0,{"$f":"IF(AM47=0,\"  \",(10/3)*((AM47/AL47)*(1/J6)-1))","v":"  "},{"$f":"IF(AN47=0,\"  \",(100/68)*((AO47/AN47)*(1/J7)-1))","v":"  "},13.5,0,0,36,null,41,null,"  ","  ","  ",null,null,null,null,null,null,null,null,null,null,null,null,null,null,null,null,null,null,null,null,null,null,null,null,null,null,null,null,null,null,null,null,null,null,null,null,null,null,null,{"$f":"CI38","v":10.7},{"$f":"CJ37","v":60.499999999999993},"j13",null,39.86,71.677999999999997,"j5'''",null,null,null,null,null,null,null,null,null,null,null,null,null,null,null,null,null,null,null,null,null,null,"(j1 → j3)",{"$f":"0.21*CJ16","v":10.709999999999999},"بدون انتخاب",null,null,null,null,null,null,null,null,null,null,null,null,null,null,null,null,null,null,null,null,null,null,null,null,null,null,null,null,null,null,null,null,null,null,null,null,null,null,null,null,null,null,null,{"$f":"FF13","v":0},{"$f":"FG46+'طراحی همه الگوها'!U258","v":11.299999999999997},18,null,{"$f":"FJ45+0.75*(FJ49-FJ45)","v":73.424999999999997},{"$f":"FK45+0.5*(FK49-FK45)","v":41},"13''",null,null,null,null,null,{"$f":"FR45","v":0},{"$f":"FS45","v":63.642500152855277},"s'12",null,null,null,null,null,null,64,{"$f":"GB12+GE12*SIN(RADIANS(GA47)+GA14)","v":{"$error":"#DIV/0!"}},{"$f":"GC12+GE12*COS(RADIANS(GA47)+GA14)","v":{"$error":"#DIV/0!"}},{"$f":"IF(GB13>GB47,ATAN((GC13-GC47)/(GB13-GB47)),ATAN((GC13-GC47)/(GB47-GB13)))","v":{"$error":"#DIV/0!"}},{"$f":"IF(GB13>GB47,(GB13-GB47)/COS(GD47),(GB47-GB13)/COS(GD47))","v":{"$error":"#DIV/0!"}},null,1,2,"نقطه 29","نقطه قبل از چرخش",{"$f":"IF(GH47>GH18,IF(GG47>GG18,GG18+SQRT(POWER(GG47-GG18,2)+POWER(GH47-GH18,2))*COS(ATAN((GH47-GH18)/(GG47-GG18+0.000123))+GH16),GG18-SQRT(POWER(GG47-GG18,2)+POWER(GH47-GH18,2))*COS(ATAN((GH47-GH18)/(GG18-GG47+0.000123))-GH16)),IF(GG47>GG18,GG18+SQRT(POWER(GG47-GG18,2)+POWER(GH47-GH18,2))*COS(ATAN((GH18-GH47)/(GG47-GG18+0.000123))-GH16),GG18-SQRT(POWER(GG47-GG18,2)+POWER(GH47-GH18,2))*COS(ATAN((GH18-GH47)/(GG18-GG47+0.000123))+GH16)))","v":0.61824523267144293},{"$f":"IF(GH47>GH18,IF(GG47>GG18,GH18+SQRT(POWER(GG47-GG18,2)+POWER(GH47-GH18,2))*SIN(ATAN((GH47-GH18)/(GG47-GG18+0.000123))+GH16),GH18+SQRT(POWER(GG47-GG18,2)+POWER(GH47-GH18,2))*SIN(ATAN((GH47-GH18)/(GG18-GG47+0.000123))-GH16)),IF(GG47>GG18,GH18-SQRT(POWER(GG47-GG18,2)+POWER(GH47-GH18,2))*SIN(ATAN((GH18-GH47)/(GG47-GG18+0.000123))-GH16),GH18-SQRT(POWER(GG47-GG18,2)+POWER(GH47-GH18,2))*SIN(ATAN((GH18-GH47)/(GG18-GG47+0.000123))+GH16)))","v":0.69874634779839551},"نقطه چرخیده",null,null,null,null,null,null,null,{"$f":"GU46+GT11","v":-28},-0.48869219055841229,{"$f":"HB13+HB10*COS(GV47)","v":{"$error":"#REF!"}},{"$f":"HC13-HB10*SIN(GV47)","v":{"$error":"#REF!"}},{"$f":"SQRT(POWER((HB12-GW47),2)+POWER((HC12-GX47),2))","v":{"$error":"#REF!"}},{"$f":"ABS(HB9-GY47)","v":{"$error":"#REF!"}},null,10,"m4","ضلع بالا",null,{"$f":"RADIANS(90)-RADIANS(HF46)-HB48","v":1.829150512145848},"m5",null,null,null,null,null,null,null,{"$f":"-HK47+HP9","v":0},0,null,null,0,0,37,null,{"$f":"HS47+2*(SIN(ATAN((HS12-HS11)/(HT12-HT11)))*(HT47-HT11)+COS(ATAN((HS12-HS11)/(HT12-HT11)))*(HS11-HS47))*COS(ATAN((HS12-HS11)/(HT12-HT11)))","v":{"$error":"#DIV/0!"}},{"$f":"HT47-2*(SIN(ATAN((HS12-HS11)/(HT12-HT11)))*(HT47-HT11)+COS(ATAN((HS12-HS11)/(HT12-HT11)))*(HS11-HS47))*SIN(ATAN((HS12-HS11)/(HT12-HT11)))","v":{"$error":"#DIV/0!"}},37,null,null,null,null,null,null,null,null,null,null,null,null,null,null,null,null,null,null,null,null,null,null,null,null,null,null,null,null,null,null,null,null,null,null,null,null,null,null,null,null,null,null,null,null,null,null,null,null,null,null,null,null,null,null,null,null,null,null,null,null,null,null,null,null,null,null,null,null,null,null,null,null,null,null,null,null,null,null,null,null,null,null,null,null,null,null,null,null,null,null,null,null,null,null,null,null,null,null,null,null,null,null,null,null,null,null,null,null,null,null,null,null,null,null,null,null,null,null,null,null,null,null,null,null,null,null,null,null,null,null,null,null,null,null,null,null,null,null,null,null,null,null,null,null,null,null,null,null,null,null,null,"g3",{"$f":"NV34","v":0.80275229357798161},"ارتفاع نیم دایره",null,null,null,"باکس نوشته a2",null,null,{"$f":"OA47","v":"باکس نوشته a2"},null,"f11",{"$f":"'متغیرها '!C890","v":0.75},"زاویه فلش دانه",null,null,null,null,{"$f":"OF63","v":14.170138888888893},{"$f":"OG63","v":5.5666486778197513},"m4",null,"f11",{"$f":"'متغیرها '!C890","v":0.75},"زاویه فلش دانه",null,null,null,null,{"$f":"OQ63","v":7.9722222222222285},{"$f":"OR63","v":5.5666486778197513},"m4",null,"g3",{"$f":"PC37","v":0.5666486778197517},"ارتفاع نیم دایره",null,null,null,null,{"$f":"PB63","v":1.7743055555555571},{"$f":"PC63","v":5.5666486778197513},"n4",null,"g3",{"$f":"PN37","v":0.5666486778197517},"ارتفاع نیم دایره",null,null,null,null,{"$f":"PM63","v":6.7326388888888928},{"$f":"PN63","v":5.5666486778197513},"n4",null,{"$f":"PX43","v":-48.5},{"$f":"PY43+PY36-PY29","v":19.285714285714285},"t19",null,{"$f":"PZ37","v":"t9"},{"$f":"PX37","v":-48.5},{"$f":"PY37","v":9.2857142857142865},{"$f":"QC52","v":-48.8675},{"$f":"QD52","v":10.514285714285716},{"$f":"QB52","v":"g6"},null,{"$f":"GL101","v":5.4188000000000001},88.1,"23پ",null,0,84.884730342002058,"24پ",null,{"$f":"QQ15+QR7+3*QR8","v":-7.1999999999999993},{"$f":"QR15","v":52.227797473097809},"k37",null,null,null,null,{"$f":"QQ63","v":-13},{"$f":"QR63","v":59.227797473097809},"k53",null,"f11",0.75,"زاویه فلش دانه",null,null,null,null,{"$f":"RB63","v":-4.3750000000000036},{"$f":"RC63","v":5.5666486778197513},"p4",null,{"$f":"RM40+35*RN28","v":29.976851851851848},{"$f":"RN40","v":-20},35,null,{"$f":"IF(RN26>(RM47-RM40),RM47,RM40)","v":0},{"$f":"IF(RN26>(RM47-RM40),RN47,RN40)","v":-20},35,null,{"$f":"RU40+35*RV31","v":-19.251940719830632},{"$f":"RV40","v":0},35,null,{"$f":"IF(RV27>(RU47-RU40),RU47,RU40)","v":-40},{"$f":"IF(RV27>(RU47-RU40),RV47,RV40)","v":0},35,null,{"$f":"IF(RV27>(RU72-RU40),RU72,RU40)","v":-34.664784756527879},{"$f":"IF(RV27>(RU72-RU40),RV72,RV40)","v":0},9,null,{"$f":"SG40+35*SH28","v":29.976851851851848},{"$f":"SH40","v":-20},35,null,{"$f":"IF(SH26>(SG47-SG40),SG47,SG40)","v":0},{"$f":"IF(SH26>(SG47-SG40),SH47,SH40)","v":-20},35,null,{"$f":"SO40+35*SP31","v":-19.251940719830632},{"$f":"SP40","v":0},35,null,{"$f":"IF(SP27>(SO47-SO40),SO47,SO40)","v":-40},{"$f":"IF(SP27>(SO47-SO40),SP47,SP40)","v":0},35,null,{"$f":"IF(SP27>(SO72-SO40),SO72,SO40)","v":-34.664784756527879},{"$f":"IF(SP27>(SO72-SO40),SP72,SP40)","v":0},9,null,{"$f":"TA40+35*TB28","v":28.356481481481485},{"$f":"TB40","v":-20},35,null,{"$f":"IF(TB26>(TA47-TA40),TA47,TA40)","v":0},{"$f":"IF(TB26>(TA47-TA40),TB47,TB40)","v":-20},35,null,{"$f":"TI40+35*TJ31","v":-19.77064220183486},{"$f":"TJ40","v":0},35,null,{"$f":"IF(TJ27>(TI47-TI40),TI47,TI40)","v":-40},{"$f":"IF(TJ27>(TI47-TI40),TJ47,TJ40)","v":0},35,null,{"$f":"IF(TJ27>(TI72-TI40),TI72,TI40)","v":-34.798165137614674},{"$f":"IF(TJ27>(TI72-TI40),TJ72,TJ40)","v":0},9,null,{"$f":"TU40+35*TV28","v":28.356481481481485},{"$f":"TV40","v":-20},35,null,{"$f":"IF(TV26>(TU47-TU40),TU47,TU40)","v":0},{"$f":"IF(TV26>(TU47-TU40),TV47,TV40)","v":-20},35,null,{"$f":"UC40+35*UD31","v":-19.77064220183486},{"$f":"UD40","v":0},35,null,{"$f":"IF(UD27>(UC47-UC40),UC47,UC40)","v":-40},{"$f":"IF(UD27>(UC47-UC40),UD47,UD40)","v":0},35,null,{"$f":"IF(UD27>(UC72-UC40),UC72,UC40)","v":-34.798165137614674},{"$f":"IF(UD27>(UC72-UC40),UD72,UD40)","v":0},9,null,{"$f":"UO40+35*UP28","v":29.976851851851848},{"$f":"UP40","v":-20},35,null,{"$f":"IF(UP26>(UO47-UO40),UO47,UO40)","v":0},{"$f":"IF(UP26>(UO47-UO40),UP47,UP40)","v":-20},35,null,{"$f":"UW40+35*UX31","v":-19.251940719830632},{"$f":"UX40","v":0},35,null,{"$f":"IF(UX27>(UW47-UW40),UW47,UW40)","v":-40},{"$f":"IF(UX27>(UW47-UW40),UX47,UX40)","v":0},35,null,{"$f":"IF(UX27>(UW72-UW40),UW72,UW40)","v":-34.664784756527879},{"$f":"IF(UX27>(UW72-UW40),UX72,UX40)","v":0},9,null,{"$f":"VI40+35*VJ28","v":29.976851851851848},{"$f":"VJ40","v":-20},35,null,{"$f":"IF(VJ26>(VI47-VI40),VI47,VI40)","v":0},{"$f":"IF(VJ26>(VI47-VI40),VJ47,VJ40)","v":-20},35,null,{"$f":"VQ40+35*VR31","v":-19.251940719830632},{"$f":"VR40","v":0},35,null,{"$f":"IF(VR27>(VQ47-VQ40),VQ47,VQ40)","v":-40},{"$f":"IF(VR27>(VQ47-VQ40),VR47,VR40)","v":0},35,null,{"$f":"IF(VR27>(VQ72-VQ40),VQ72,VQ40)","v":-34.664784756527879},{"$f":"IF(VR27>(VQ72-VQ40),VR72,VR40)","v":0},9]
[null,null,null,null,null,null,null," a02 تعداد رج در یک سانت کلاه",{"$f":"F6+0.3*I50*F6","v":3.3738095238095243},null," a03 تعداد رج در یک سانت جلو شلوار",{"$f":"F6+0.3*L50*F6","v":3.3738095238095243},null," a04 تعداد رج در یک سانت پشت شلوار",{"$f":"F6+0.3*O50*F6","v":3.3738095238095243},null,null,null,null,null,null,null,null,null,null,null,null,null,null,null,null,null,null,{"$error":"#DIV/0!"},0,{"$f":"IF(AM48=0,\"  \",(10/3)*((AM48/AL48)*(1/J6)-1))","v":"  "},{"$f":"IF(AN48=0,\"  \",(100/68)*((AO48/AN48)*(1/J7)-1))","v":"  "},13.5,0,0,36,null,42,null,"  ","  ","  ",null,null,null,null,null,null,null,null,null,null,null,null,null,null,null,null,null,null,null,null,null,null,null,null,null,null,null,null,null,null,null,null,null,null,null,null,null,null,null,{"$f":"CI47+0.97*(CI39-CI47)","v":57.841999999999999},{"$f":"CJ47+0.78*(CJ39-CJ47)","v":98.407999999999987},"j5'",null,22.849999999999998,62.443999999999996,"j5''''",null,null,null,null,null,null,null,null,null,null,null,null,null,null,null,null,null,null,null,null,null,null,null,null,null,null,{"$f":"DM30","v":45.65},{"$f":"DN30","v":0},"s13",null,null,null,null,null,null,null,null,null,null,null,null,null,null,null,null,null,null,null,null,null,null,null,null,null,null,null,null,null,null,null,{"$f":"ET28","v":29},{"$f":"EU28","v":41.6},15,null,null,null,null,null,{"$f":"FF13","v":0},{"$f":"FG47+'طراحی همه الگوها'!U259","v":79.2},14,null,{"$f":"FJ45+0.95*(FJ49-FJ45)","v":76.445000000000007},{"$f":"FK45+0.8*(FK49-FK45)","v":63.92},"13'''",null,null,null,null,null,{"$f":"FO23","v":14.115},{"$f":"FP23","v":63.642500152855277},"s12",null,null,null,null,null,null,"بهینه α",{"$f":"IF(GE13<GE16,GA16,IF(GE13<GE17,GA17,IF(GE13<GE18,GA18,IF(GE13<GE19,GA19,IF(GE13<GE20,GA20,IF(GE13<GE21,GA21,IF(GE13<GE22,GA22,IF(GE13<GE23,GA23,IF(GE13<GE24,GA24,IF(GE13<GE25,GA25,IF(GE13<GE26,GA26,IF(GE13<GE27,GA27,IF(GE13<GE28,GA28,IF(GE13<GE29,GA29,IF(GE13<GE30,GA30,IF(GE13<GE31,GA31,IF(GE13<GE32,GA32,IF(GE13<GE33,GA33,IF(GE13<GE34,GA34,IF(GE13<GE35,GA35,IF(GE13<GE36,GA36,IF(GE13<GE37,GA37,IF(GE13<GE38,GA38,IF(GE13<GE39,GA39,IF(GE13<GE40,GA40,IF(GE13<GE41,GA41,IF(GE13<GE42,GA42,IF(GE13<GE43,GA43,IF(GE13<GE44,GA44,IF(GE13<GE45,GA45,IF(GE13<GE46,GA46,GA47)))))))))))))))))))))))))))))))","v":{"$error":"#DIV/0!"}},{"$f":"RADIANS(GB48)","v":{"$error":"#DIV/0!"}},"c21",{"$f":"IF(GB13>GB50,ATAN((GC13-GC50)/(GB13-GB50)),ATAN((GC13-GC50)/(GB50-GB13)))","v":{"$error":"#DIV/0!"}},null,1,2,"نقطه 30","نقطه قبل از چرخش",{"$f":"IF(GH48>GH18,IF(GG48>GG18,GG18+SQRT(POWER(GG48-GG18,2)+POWER(GH48-GH18,2))*COS(ATAN((GH48-GH18)/(GG48-GG18+0.000123))+GH16),GG18-SQRT(POWER(GG48-GG18,2)+POWER(GH48-GH18,2))*COS(ATAN((GH48-GH18)/(GG18-GG48+0.000123))-GH16)),IF(GG48>GG18,GG18+SQRT(POWER(GG48-GG18,2)+POWER(GH48-GH18,2))*COS(ATAN((GH18-GH48)/(GG48-GG18+0.000123))-GH16),GG18-SQRT(POWER(GG48-GG18,2)+POWER(GH48-GH18,2))*COS(ATAN((GH18-GH48)/(GG18-GG48+0.000123))+GH16)))","v":0.61824523267144293},{"$f":"IF(GH48>GH18,IF(GG48>GG18,GH18+SQRT(POWER(GG48-GG18,2)+POWER(GH48-GH18,2))*SIN(ATAN((GH48-GH18)/(GG48-GG18+0.000123))+GH16),GH18+SQRT(POWER(GG48-GG18,2)+POWER(GH48-GH18,2))*SIN(ATAN((GH48-GH18)/(GG18-GG48+0.000123))-GH16)),IF(GG48>GG18,GH18-SQRT(POWER(GG48-GG18,2)+POWER(GH48-GH18,2))*SIN(ATAN((GH18-GH48)/(GG48-GG18+0.000123))-GH16),GH18-SQRT(POWER(GG48-GG18,2)+POWER(GH48-GH18,2))*SIN(ATAN((GH18-GH48)/(GG18-GG48+0.000123))+GH16)))","v":0.69874634779839551},"نقطه چرخیده",null,null,null,null,null,null,null,{"$f":"GU47+GT11","v":-26},-0.4537856055185257,{"$f":"HB13+HB10*COS(GV48)","v":{"$error":"#REF!"}},{"$f":"HC13-HB10*SIN(GV48)","v":{"$error":"#REF!"}},{"$f":"SQRT(POWER((HB12-GW48),2)+POWER((HC12-GX48),2))","v":{"$error":"#REF!"}},{"$f":"ABS(HB9-GY48)","v":{"$error":"#REF!"}},null,{"$f":"RADIANS(-15)","v":-0.26179938779914941},"m1","زاویه ضلع پایین با افق به رادیان ساعتگرزیر افق عدد مثبت",null,{"$f":"HB47*COS(HF49)-HF45*COS(HF47)","v":4.2754038455317325},"m7",null,null,null,null,null,null,null,{"$f":"-HK48+HP9","v":0},0,null,null,{"$f":"HF30","v":0},{"$f":"HG30","v":0},38,null,{"$f":"HS48+2*(SIN(ATAN((HS12-HS11)/(HT12-HT11)))*(HT48-HT11)+COS(ATAN((HS12-HS11)/(HT12-HT11)))*(HS11-HS48))*COS(ATAN((HS12-HS11)/(HT12-HT11)))","v":{"$error":"#DIV/0!"}},{"$f":"HT48-2*(SIN(ATAN((HS12-HS11)/(HT12-HT11)))*(HT48-HT11)+COS(ATAN((HS12-HS11)/(HT12-HT11)))*(HS11-HS48))*SIN(ATAN((HS12-HS11)/(HT12-HT11)))","v":{"$error":"#DIV/0!"}},38,null,null,null,null,null,null,null,null,null,null,null,null,null,null,null,null,null,null,null,null,null,null,null,null,null,null,null,null,null,null,null,null,null,null,null,null,null,null,null,null,null,null,null,null,null,null,null,null,null,null,null,null,null,null,null,null,null,null,null,null,null,null,null,null,null,null,null,null,null,null,null,null,null,null,null,null,null,null,null,null,null,null,null,null,null,null,null,null,null,null,null,null,null,null,null,null,null,null,null,null,null,null,null,null,null,null,null,null,null,null,null,null,null,null,null,null,null,null,null,null,null,null,null,null,null,null,null,null,null,null,null,null,null,null,null,null,null,null,null,null,null,null,null,null,null,null,null,null,null,null,null,"w12",{"$f":"O17*40/NV33","v":3.9183673469387759},"ضریب کاهش تعداد دانه ها",null,null,"متغیرهای ورودی",null,{"$f":"NZ54","v":-35},{"$f":"OA54","v":5.8027522935779814},{"$f":"NY54","v":"w8"},null,"محاسبات",null,null,null,null,null,null,{"$f":"OF65","v":-35},{"$f":"OG65","v":5.5666486778197513},"m6",null,"محاسبات",null,null,null,null,null,null,{"$f":"OQ65","v":-35},{"$f":"OR65","v":5.5666486778197513},"m6",null,"n0",{"$f":"PB17*40/PC36","v":2.4201680672268906},"ضریب کاهش تعداد دانه ها",null,null,null,null,{"$f":"PB64","v":-35.206597222222221},{"$f":"PC64","v":5.5666486778197513},"n5",null,"n0",{"$f":"PM17*40/PN36","v":2.4201680672268906},"ضریب کاهش تعداد دانه ها",null,null,null,null,{"$f":"PM64","v":-35.413194444444443},{"$f":"PN64","v":5.5666486778197513},"n'5",null,{"$f":"PX44","v":-41.5},{"$f":"PY47","v":19.285714285714285},"t20",null,"g11",{"$f":"QC52+0.8*(QC50-QC52)","v":-48.993499999999997},{"$f":"QD50+0.6*(QD52-QD50)","v":10.30857142857143},{"$f":"QC49","v":-48.5},{"$f":"QD49","v":10.714285714285715},{"$f":"QB49","v":"g2"},null,4.0640999999999998,86.890838205201234,"28پ",null,-2.1675199999999997,85.086257307801858,"26پ ق",null,{"$f":"2*QQ15-QQ47","v":-18.8},{"$f":"QR47","v":52.227797473097809},"k38",null,null,null,null,{"$f":"QQ61","v":-9.5},{"$f":"QR61","v":58.289975299588882},"k51",null,"محاسبات",null,null,null,null,null,null,{"$f":"RB64","v":-35},{"$f":"RC64","v":5.5666486778197513},"p5",null,{"$f":"RM40+40*RN28","v":34.259259259259252},{"$f":"RN40","v":-20},40,null,{"$f":"RQ47","v":0},{"$f":"RN38","v":-40.155257586450247},null,null,{"$f":"RU40+40*RV31","v":-16.287932251235006},{"$f":"RV40","v":0},40,null,{"$f":"RY47","v":-40},{"$f":"RV38","v":10.277777777777777},null,null,{"$f":"SC47","v":-34.664784756527879},{"$f":"RV38","v":10.277777777777777},null,null,{"$f":"SG40+40*SH28","v":34.259259259259252},{"$f":"SH40","v":-20},40,null,{"$f":"SK47","v":0},{"$f":"SH38","v":-40.155257586450247},null,null,{"$f":"SO40+40*SP31","v":-16.287932251235006},{"$f":"SP40","v":0},40,null,{"$f":"SS47","v":-40},{"$f":"SP38","v":10.277777777777777},null,null,{"$f":"SW47","v":-34.664784756527879},{"$f":"SP38","v":10.277777777777777},null,null,{"$f":"TA40+40*TB28","v":32.407407407407412},{"$f":"TB40","v":-20},40,null,{"$f":"TE47","v":0},{"$f":"TB38","v":-40.22935779816514},null,null,{"$f":"TI40+40*TJ31","v":-16.880733944954123},{"$f":"TJ40","v":0},40,null,{"$f":"TM47","v":-40},{"$f":"TJ38","v":9.7222222222222232},null,null,{"$f":"TQ47","v":-34.798165137614674},{"$f":"TJ38","v":9.7222222222222232},null,null,{"$f":"TU40+40*TV28","v":32.407407407407412},{"$f":"TV40","v":-20},40,null,{"$f":"TY47","v":0},{"$f":"TV38","v":-40.22935779816514},null,null,{"$f":"UC40+40*UD31","v":-16.880733944954123},{"$f":"UD40","v":0},40,null,{"$f":"UG47","v":-40},{"$f":"UD38","v":9.7222222222222232},null,null,{"$f":"UK47","v":-34.798165137614674},{"$f":"UD38","v":9.7222222222222232},null,null,{"$f":"UO40+40*UP28","v":34.259259259259252},{"$f":"UP40","v":-20},40,null,{"$f":"US47","v":0},{"$f":"UP38","v":-40.155257586450247},null,null,{"$f":"UW40+40*UX31","v":-16.287932251235006},{"$f":"UX40","v":0},40,null,{"$f":"VA47","v":-40},{"$f":"UX38","v":10.277777777777777},null,null,{"$f":"VE47","v":-34.664784756527879},{"$f":"UX38","v":10.277777777777777},null,null,{"$f":"VI40+40*VJ28","v":34.259259259259252},{"$f":"VJ40","v":-20},40,null,{"$f":"VM47","v":0},{"$f":"VJ38","v":-40.155257586450247},null,null,{"$f":"VQ40+40*VR31","v":-16.287932251235006},{"$f":"VR40","v":0},40,null,{"$f":"VU47","v":-40},{"$f":"VR38","v":10.277777777777777},null,null,{"$f":"VY47","v":-34.664784756527879},{"$f":"VR38","v":10.277777777777777}]
[null,null,null,null,null,null,null,"تعداد دانه در یک سانت کلاهb02 ",{"$f":"F7+0.68*I51*F7","v":2.3351351351351353},null,"تعداد دانه در یک سانت جلو شلوارb03 ",{"$f":"F7+0.68*L51*F7","v":2.3351351351351353},null,"تعداد دانه در یک سانت پشت شلوارb04 ",{"$f":"F7+0.68*O51*F7","v":2.3351351351351353},null,null,null,null,null,null,null,null,null,null,null,null,null,null,null,null,null,null,{"$f":"AO49/AN49","v":{"$error":"#DIV/0!"}},{"$f":"AM49/AL49","v":0},{"$f":"IF(AM49=0,\"  \",(10/3)*((AM49/AL49)*(1/J6)-1))","v":"  "},{"$f":"IF(AN49=0,\"  \",(100/68)*((AO49/AN49)*(1/J7)-1))","v":"  "},13.5,0,0,36,null,43,null,{"$f":"IF(AM49=0,\"  \",AP49)","v":"  "},{"$f":"IF(AN49=0,\"  \",ROUND(AK49*100+20,0))","v":"  "},{"$f":"IF(AM49=0,\"  \",ROUND(AJ49*50+30,0))","v":"  "},null,null,null,null,null,null,null,null,null,null,null,null,null,null,null,null,null,null,null,null,null,null,null,null,null,null,null,null,null,null,null,null,null,null,null,null,null,null,null,{"$f":"CI47+0.85*(CI39-CI47)","v":52.009999999999991},{"$f":"CJ47+0.5*(CJ39-CJ47)","v":84.8},"j5''",null,{"$f":"CI47","v":10.7},{"$f":"CJ47","v":60.499999999999993},"j13",null,null,null,null,null,null,null,null,null,null,null,null,null,null,null,null,null,null,null,null,null,null,null,null,null,null,{"$f":"DM19","v":0},{"$f":"DN30","v":0},2,null,null,null,null,null,null,null,null,null,null,null,null,null,null,null,null,null,null,null,null,null,null,null,null,null,null,null,null,null,null,null,{"$f":"ET30","v":33.1},{"$f":"EU30","v":29.1},19,null,null,null,null,null,{"$f":"FF13+'طراحی همه الگوها'!U263","v":77.2},{"$f":"FG48","v":79.2},15,null,{"$f":"FF49","v":77.2},{"$f":"FG49","v":79.2},15,null,null,null,null,null,null,null,null,null,null,null,null,null,null,null,"مولفه افقی","مولفه عمودی",null,null,null,null,null,null,"پروسیجرها",null,null,null,null,null,null,null,null,null,null,{"$f":"GU48+GT11","v":-24},-0.41887902047863912,{"$f":"HB13+HB10*COS(GV49)","v":{"$error":"#REF!"}},{"$f":"HC13-HB10*SIN(GV49)","v":{"$error":"#REF!"}},{"$f":"SQRT(POWER((HB12-GW49),2)+POWER((HC12-GX49),2))","v":{"$error":"#REF!"}},{"$f":"ABS(HB9-GY49)","v":{"$error":"#REF!"}},null,"راس سوم",null,null,null,{"$f":"ASIN(HF50/HB47)","v":1.4030193189660189},"m8",null,null,null,null,null,null,null,{"$f":"-HK49+HP9","v":0},0,null,null,0,0,39,null,{"$f":"HS49+2*(SIN(ATAN((HS12-HS11)/(HT12-HT11)))*(HT49-HT11)+COS(ATAN((HS12-HS11)/(HT12-HT11)))*(HS11-HS49))*COS(ATAN((HS12-HS11)/(HT12-HT11)))","v":{"$error":"#DIV/0!"}},{"$f":"HT49-2*(SIN(ATAN((HS12-HS11)/(HT12-HT11)))*(HT49-HT11)+COS(ATAN((HS12-HS11)/(HT12-HT11)))*(HS11-HS49))*SIN(ATAN((HS12-HS11)/(HT12-HT11)))","v":{"$error":"#DIV/0!"}},39,null,null,null,null,null,null,null,null,null,null,null,null,null,null,null,null,null,null,null,null,null,null,null,null,null,null,null,null,null,null,null,null,null,null,null,null,null,null,null,null,null,null,null,null,null,null,null,null,null,null,null,null,null,null,null,null,null,null,null,null,null,null,null,null,null,null,null,null,null,null,null,null,null,null,null,null,null,null,null,null,null,null,null,null,null,null,null,null,null,null,null,null,null,null,null,null,null,null,null,null,null,null,null,null,null,null,null,null,null,null,null,null,null,null,null,null,null,null,null,null,null,null,null,null,null,null,null,null,null,null,null,null,null,null,null,null,null,null,null,null,null,null,null,null,null,null,null,null,null,null,null,"f4",{"$f":"NV38*NV34","v":0.48165137614678905},"بزرگی فلش رج",null,"طول باکس نوشته",{"$f":"1.1*NV36","v":4.95},"h3",{"$f":"NZ59","v":-21.652083333333337},{"$f":"OA59","v":5.8027522935779814},{"$f":"NY59","v":"h8"},null,"g3",{"$f":"OG39","v":0.5666486778197517},"ارتفاع نیم دایره",null,"زاویه فلش",{"$f":"OG44","v":0.5},"f5",null,null,"فلش به سمت چپ",null,"g3",{"$f":"OR39","v":0.5666486778197517},"ارتفاع نیم دایره",null,"زاویه فلش",{"$f":"OR44","v":0.5},"f5",null,null,"فلش به سمت چپ",null,"f4",{"$f":"PC41*PC37","v":0.33998920669185106},"بزرگی فلش رج",null,"زاویه فلش",{"$f":"PC42","v":0.5},"f5",null,null,"فلش به سمت چپ",null,"f4",{"$f":"PN41*PN37","v":0.33998920669185106},"بزرگی فلش رج",null,"زاویه فلش",{"$f":"PN42","v":0.5},"f5",null,null,"فلش به سمت چپ",null,{"$f":"PX45","v":-45},{"$f":"PY47","v":19.285714285714285},"t21",null,"g2",{"$f":"QC47","v":-48.5},{"$f":"QD47+QC44","v":10.714285714285715},null,null,null,null,2.1675199999999997,86.286257307801847,"26پ",null,-4.0640999999999998,85.690838205201246,"28پ ق",null,{"$f":"QQ15+(QR7+3*QR8)*SIN(RADIANS(30))","v":-10.1},{"$f":"QR15+(QR7+3*QR8)*COS(RADIANS(30))","v":57.250744815047554},"k39",null,null,null,null,{"$f":"QQ59","v":-6},{"$f":"QR59","v":52.227797473097809},"k49",null,"g3",{"$f":"RC39","v":0.5666486778197517},"ارتفاع نیم دایره",null,"زاویه فلش",{"$f":"RC44","v":0.5},"f5",null,null,"فلش به سمت چپ",null,{"$f":"RM40+45*RN28","v":38.541666666666664},{"$f":"RN40","v":-20},45,null,null,null,null,null,{"$f":"RU40+45*RV31","v":-13.323923782639383},{"$f":"RV40","v":0},45,null,null,null,null,null,null,null,null,null,{"$f":"SG40+45*SH28","v":38.541666666666664},{"$f":"SH40","v":-20},45,null,null,null,null,null,{"$f":"SO40+45*SP31","v":-13.323923782639383},{"$f":"SP40","v":0},45,null,null,null,null,null,null,null,null,null,{"$f":"TA40+45*TB28","v":36.458333333333336},{"$f":"TB40","v":-20},45,null,null,null,null,null,{"$f":"TI40+45*TJ31","v":-13.990825688073389},{"$f":"TJ40","v":0},45,null,null,null,null,null,null,null,null,null,{"$f":"TU40+45*TV28","v":36.458333333333336},{"$f":"TV40","v":-20},45,null,null,null,null,null,{"$f":"UC40+45*UD31","v":-13.990825688073389},{"$f":"UD40","v":0},45,null,null,null,null,null,null,null,null,null,{"$f":"UO40+45*UP28","v":38.541666666666664},{"$f":"UP40","v":-20},45,null,null,null,null,null,{"$f":"UW40+45*UX31","v":-13.323923782639383},{"$f":"UX40","v":0},45,null,null,null,null,null,null,null,null,null,{"$f":"VI40+45*VJ28","v":38.541666666666664},{"$f":"VJ40","v":-20},45,null,null,null,null,null,{"$f":"VQ40+45*VR31","v":-13.323923782639383},{"$f":"VR40","v":0},45]
[null,null,null,null,null,null,null,"جمع شوندگی عمودی بافت کلاه",{"$f":"OFFSET(AJ6,I52,0)","v":0.10582010582010619},null,"جمع شوندگی عمودی بافت  جلوشلوار",{"$f":"OFFSET(AJ6,L52,0)","v":0.10582010582010619},null,"جمع شوندگی عمودی بافت پشت شلوار",{"$f":"OFFSET(AJ6,O52,0)","v":0.10582010582010619},null,null,null,null,null,null,null,null,null,null,null,null,null,null,null,null,null,null,{"$error":"#DIV/0!"},0,{"$f":"IF(AM50=0,\"  \",(10/3)*((AM50/AL50)*(1/J6)-1))","v":"  "},{"$f":"IF(AN50=0,\"  \",(100/68)*((AO50/AN50)*(1/J7)-1))","v":"  "},13.5,0,0,36,null,{"$f":"AQ49+1","v":44},null,"  ","  ","  ",null,null,null,null,null,null,null,null,null,null,null,null,null,null,null,null,null,null,null,null,null,null,null,null,null,null,null,null,null,null,null,null,null,null,null,null,null,null,null,{"$f":"CI47+0.6*(CI39-CI47)","v":39.86},{"$f":"CJ47+0.23*(CJ39-CJ47)","v":71.677999999999997},"j5'''",null,{"$f":"CI37","v":0},{"$f":"CJ37","v":60.499999999999993},"j2",null,null,null,null,null,null,null,null,null,null,null,null,null,null,null,null,null,null,null,null,null,null,null,null,null,null,null,null,null,null,null,null,null,null,null,null,null,null,null,null,null,null,null,null,null,null,null,null,null,null,null,null,null,null,null,null,null,null,null,null,null,null,null,null,null,null,null,null,null,null,null,null,null,null,null,null,null,null,null,null,{"$f":"FR48","v":14.115},{"$f":"FS48","v":63.642500152855277},"s12",null,null,null,null,null,null,"e23",{"$f":"GB12+GE12*SIN(GC48+GA14)","v":{"$error":"#DIV/0!"}},{"$f":"GC12+GE12*COS(GC48+GA14)","v":{"$error":"#DIV/0!"}},"راس سوم ",null,null,null,null,null,null,null,null,null,null,null,null,null,null,null,null,{"$f":"GU49+GT11","v":-22},-0.38397243543875248,{"$f":"HB13+HB10*COS(GV50)","v":{"$error":"#REF!"}},{"$f":"HC13-HB10*SIN(GV50)","v":{"$error":"#REF!"}},{"$f":"SQRT(POWER((HB12-GW50),2)+POWER((HC12-GX50),2))","v":{"$error":"#REF!"}},{"$f":"ABS(HB9-GY50)","v":{"$error":"#REF!"}},null,{"$f":"HB46+HF48*COS(HB48)","v":11.129722992214699},{"$f":"HC46-HF48*SIN(HB48)","v":41.106555940728171},3,null,{"$f":"HF45*SIN(HF47)","v":9.8595842240901757},"m9",null,null,null,null,null,null,null,{"$f":"-HK50+HP9","v":0},0,null,null,0,0,40,null,{"$f":"HS50+2*(SIN(ATAN((HS12-HS11)/(HT12-HT11)))*(HT50-HT11)+COS(ATAN((HS12-HS11)/(HT12-HT11)))*(HS11-HS50))*COS(ATAN((HS12-HS11)/(HT12-HT11)))","v":{"$error":"#DIV/0!"}},{"$f":"HT50-2*(SIN(ATAN((HS12-HS11)/(HT12-HT11)))*(HT50-HT11)+COS(ATAN((HS12-HS11)/(HT12-HT11)))*(HS11-HS50))*SIN(ATAN((HS12-HS11)/(HT12-HT11)))","v":{"$error":"#DIV/0!"}},40,null,null,null,null,null,null,null,null,null,null,null,null,null,null,null,null,null,null,null,null,null,null,null,null,null,null,null,null,null,null,null,null,null,null,null,null,null,null,null,null,null,null,null,null,null,null,null,null,null,null,null,null,null,null,null,null,null,null,null,null,null,null,null,null,null,null,null,null,null,null,null,null,null,null,null,null,null,null,null,null,null,null,null,null,null,null,null,null,null,null,null,null,null,null,null,null,null,null,null,null,null,null,null,null,null,null,null,null,null,null,null,null,null,null,null,null,null,null,null,null,null,null,null,null,null,null,null,null,null,null,null,null,null,null,null,null,null,null,null,null,null,null,null,null,null,null,null,null,null,null,null,null,"نقاط خروجی ",null,null,"پهنای باکس نوشته",{"$f":"NV37","v":0.5},"h4",null,null,null,null,"m0",{"$f":"S18*40/OG38","v":2.4201680672268906},"ضریب کاهش تعداد دانه ها",null,"بزرگی فلش",{"$f":"OG51","v":0.33998920669185106},"f4",{"$f":"OK52","v":-30.082986111111111},{"$f":"OL52","v":5.5666486778197513},{"$f":"OJ52","v":"m5"},null,"m0",{"$f":"S18*40/OR38","v":2.4201680672268906},"ضریب کاهش تعداد دانه ها",null,"بزرگی فلش",{"$f":"OR51","v":0.33998920669185106},"f4",{"$f":"OV52","v":-30.702777777777776},{"$f":"OW52","v":5.5666486778197513},{"$f":"OU52","v":"m5"},null,"n20",0.15,"فاصله فلش کم کردن",null,"بزرگی فلش",{"$f":"PC49","v":0.33998920669185106},"f4",{"$f":"PG52","v":-31.322569444444444},{"$f":"PH52","v":5.5666486778197513},{"$f":"PF52","v":"n6"},null,"n20",0.15,"فاصله فلش کم کردن",null,"بزرگی فلش",{"$f":"PN49","v":0.33998920669185106},"f4",{"$f":"PR52","v":-30.82673611111111},{"$f":"PS52","v":5.5666486778197513},{"$f":"PQ52","v":"n6"},null,{"$f":"PX30+3","v":-38.5},{"$f":"PY47","v":19.285714285714285},"t22",null,"g4",{"$f":"QC47-QC45*QC43/40","v":-49.024999999999999},{"$f":"QD47+0.5*QC44","v":10},{"$f":"QC54","v":-49.243622955421095},{"$f":"QD54","v":9.9964200115132726},{"$f":"QB54","v":"g8"},null,0,86.084730342002047,"24پ",null,-5.4188000000000001,86.9,"23پ ق",null,{"$f":"2*QQ15-QQ49","v":-15.9},{"$f":"QR49","v":57.250744815047554},"k40",null,null,null,null,{"$f":"QQ64","v":-5.3999999999999995},{"$f":"QR64","v":52.227797473097809},"k54",null,"p0",{"$f":"RB19*40/RC38","v":2.0571428571428574},"ضریب کاهش تعداد دانه ها",null,"بزرگی فلش",{"$f":"RC51","v":0.33998920669185106},"f4",{"$f":"RG52","v":-31.9375},{"$f":"RH52","v":5.5666486778197513},{"$f":"RF52","v":"p6"},null,{"$f":"RM40+50*RN28","v":42.824074074074069},{"$f":"RN40","v":-20},50,null,{"$f":"IF(RN26>(RM48-RM40),RM48,RM40)","v":0},{"$f":"IF(RN26>(RM48-RM40),RN48,RN40)","v":-20},40,null,{"$f":"RU40+50*RV31","v":-10.359915314043757},{"$f":"RV40","v":0},50,null,{"$f":"IF(RV27>(RU48-RU40),RU48,RU40)","v":-40},{"$f":"IF(RV27>(RU48-RU40),RV48,RV40)","v":0},40,null,{"$f":"IF(RV27>(RU73-RU40),RU73,RU40)","v":-33.47918136908963},{"$f":"IF(RV27>(RU73-RU40),RV73,RV40)","v":0},11,null,{"$f":"SG40+50*SH28","v":42.824074074074069},{"$f":"SH40","v":-20},50,null,{"$f":"IF(SH26>(SG48-SG40),SG48,SG40)","v":0},{"$f":"IF(SH26>(SG48-SG40),SH48,SH40)","v":-20},40,null,{"$f":"SO40+50*SP31","v":-10.359915314043757},{"$f":"SP40","v":0},50,null,{"$f":"IF(SP27>(SO48-SO40),SO48,SO40)","v":-40},{"$f":"IF(SP27>(SO48-SO40),SP48,SP40)","v":0},40,null,{"$f":"IF(SP27>(SO73-SO40),SO73,SO40)","v":-33.47918136908963},{"$f":"IF(SP27>(SO73-SO40),SP73,SP40)","v":0},11,null,{"$f":"TA40+50*TB28","v":40.50925925925926},{"$f":"TB40","v":-20},50,null,{"$f":"IF(TB26>(TA48-TA40),TA48,TA40)","v":0},{"$f":"IF(TB26>(TA48-TA40),TB48,TB40)","v":-20},40,null,{"$f":"TI40+50*TJ31","v":-11.100917431192656},{"$f":"TJ40","v":0},50,null,{"$f":"IF(TJ27>(TI48-TI40),TI48,TI40)","v":-40},{"$f":"IF(TJ27>(TI48-TI40),TJ48,TJ40)","v":0},40,null,{"$f":"IF(TJ27>(TI73-TI40),TI73,TI40)","v":-33.642201834862384},{"$f":"IF(TJ27>(TI73-TI40),TJ73,TJ40)","v":0},11,null,{"$f":"TU40+50*TV28","v":40.50925925925926},{"$f":"TV40","v":-20},50,null,{"$f":"IF(TV26>(TU48-TU40),TU48,TU40)","v":0},{"$f":"IF(TV26>(TU48-TU40),TV48,TV40)","v":-20},40,null,{"$f":"UC40+50*UD31","v":-11.100917431192656},{"$f":"UD40","v":0},50,null,{"$f":"IF(UD27>(UC48-UC40),UC48,UC40)","v":-40},{"$f":"IF(UD27>(UC48-UC40),UD48,UD40)","v":0},40,null,{"$f":"IF(UD27>(UC73-UC40),UC73,UC40)","v":-33.642201834862384},{"$f":"IF(UD27>(UC73-UC40),UD73,UD40)","v":0},11,null,{"$f":"UO40+50*UP28","v":42.824074074074069},{"$f":"UP40","v":-20},50,null,{"$f":"IF(UP26>(UO48-UO40),UO48,UO40)","v":0},{"$f":"IF(UP26>(UO48-UO40),UP48,UP40)","v":-20},40,null,{"$f":"UW40+50*UX31","v":-10.359915314043757},{"$f":"UX40","v":0},50,null,{"$f":"IF(UX27>(UW48-UW40),UW48,UW40)","v":-40},{"$f":"IF(UX27>(UW48-UW40),UX48,UX40)","v":0},40,null,{"$f":"IF(UX27>(UW73-UW40),UW73,UW40)","v":-33.47918136908963},{"$f":"IF(UX27>(UW73-UW40),UX73,UX40)","v":0},11,null,{"$f":"VI40+50*VJ28","v":42.824074074074069},{"$f":"VJ40","v":-20},50,null,{"$f":"IF(VJ26>(VI48-VI40),VI48,VI40)","v":0},{"$f":"IF(VJ26>(VI48-VI40),VJ48,VJ40)","v":-20},40,null,{"$f":"VQ40+50*VR31","v":-10.359915314043757},{"$f":"VR40","v":0},50,null,{"$f":"IF(VR27>(VQ48-VQ40),VQ48,VQ40)","v":-40},{"$f":"IF(VR27>(VQ48-VQ40),VR48,VR40)","v":0},40,null,{"$f":"IF(VR27>(VQ73-VQ40),VQ73,VQ40)","v":-33.47918136908963},{"$f":"IF(VR27>(VQ73-VQ40),VR73,VR40)","v":0},11]
[null,null,null,null,null,null,null,"جمع شوندگی افقی بافت کلاه",{"$f":"OFFSET(AJ6,I52,1)","v":-3.9745627980922023E-2},null,"جمع شوندگی افقی بافت  جلوشلوار",{"$f":"OFFSET(AJ6,L52,1)","v":-3.9745627980922023E-2},null,"جمع شوندگی افقی بافت پشت شلوار",{"$f":"OFFSET(AJ6,O52,1)","v":-3.9745627980922023E-2},null,null,null,null,null,null,null,null,null,null,null,null,null,null,null,null,null,null,{"$error":"#DIV/0!"},0,{"$f":"IF(AM51=0,\"  \",(10/3)*((AM51/AL51)*(1/J6)-1))","v":"  "},{"$f":"IF(AN51=0,\"  \",(100/68)*((AO51/AN51)*(1/J7)-1))","v":"  "},13.5,0,0,36,null,45,null,"  ","  ","  ",null,null,null,null,null,null,null,null,null,null,null,null,null,null,null,null,null,null,null,null,null,null,null,null,null,null,null,null,null,null,null,null,null,null,null,null,null,null,null,{"$f":"CI47+0.25*(CI39-CI47)","v":22.849999999999998},{"$f":"CJ47+0.04*(CJ39-CJ47)","v":62.443999999999996},"j5''''",null,null,null,null,null,null,null,null,null,null,null,null,null,null,null,null,null,null,null,null,null,null,null,null,null,null,null,null,null,null,{"$f":"DP49","v":0},{"$f":"DQ49","v":0},2,null,null,null,null,null,null,null,null,null,null,null,null,null,null,null,null,null,null,null,null,null,null,null,null,null,null,null,null,null,null,null,{"$f":"ET34","v":37.200000000000003},{"$f":"EU34","v":41.6},17,null,null,null,null,null,{"$f":"FJ54","v":37.4},{"$f":"FG46","v":2.7999999999999972},16,null,{"$f":"FF47","v":0},{"$f":"FG47","v":11.299999999999997},18,null,null,null,null,null,{"$f":"FO24","v":14.115},{"$f":"FP24","v":60.84250015285528},"41 شبیه ساز",null,null,null,null,null,null,null,null,null,null,null,null,null,null,null,null,null,null,null,null,null,null,null,null,null,null,{"$f":"GU50+GT11","v":-20},-0.3490658503988659,{"$f":"HB13+HB10*COS(GV51)","v":{"$error":"#REF!"}},{"$f":"HC13-HB10*SIN(GV51)","v":{"$error":"#REF!"}},{"$f":"SQRT(POWER((HB12-GW51),2)+POWER((HC12-GX51),2))","v":{"$error":"#REF!"}},{"$f":"ABS(HB9-GY51)","v":{"$error":"#REF!"}},null,null,null,null,null,null,null,null,null,null,null,null,null,null,{"$f":"-HK51+HP9","v":0},0,null,null,{"$f":"HF30","v":0},{"$f":"HG30","v":0},41,null,{"$f":"HS51+2*(SIN(ATAN((HS12-HS11)/(HT12-HT11)))*(HT51-HT11)+COS(ATAN((HS12-HS11)/(HT12-HT11)))*(HS11-HS51))*COS(ATAN((HS12-HS11)/(HT12-HT11)))","v":{"$error":"#DIV/0!"}},{"$f":"HT51-2*(SIN(ATAN((HS12-HS11)/(HT12-HT11)))*(HT51-HT11)+COS(ATAN((HS12-HS11)/(HT12-HT11)))*(HS11-HS51))*SIN(ATAN((HS12-HS11)/(HT12-HT11)))","v":{"$error":"#DIV/0!"}},41,null,null,null,null,null,null,null,null,null,null,null,null,null,null,null,null,null,null,null,null,null,null,null,null,null,null,null,null,null,null,null,null,null,null,null,null,null,null,null,null,null,null,null,null,null,null,null,null,null,null,null,null,null,null,null,null,null,null,null,null,null,null,null,null,null,null,null,null,null,null,null,null,null,null,null,null,null,null,null,null,null,null,null,null,null,null,null,null,null,null,null,null,null,null,null,null,null,null,null,null,null,null,null,null,null,null,null,null,null,null,null,null,null,null,null,null,null,null,null,null,null,null,null,null,null,null,null,null,null,null,null,null,null,null,null,null,null,null,null,null,null,null,null,null,null,null,null,null,null,null,null,{"$f":"NV31+NV5/NV48","v":-3.3541666666666679},{"$f":"NV32","v":5},"w2",null,null,null,null,{"$f":"NZ61","v":-21.652083333333337},{"$f":"OA61","v":6.0527522935779814},{"$f":"NY61","v":"h10"},null,"f4",{"$f":"OG43*OG39","v":0.33998920669185106},"بزرگی فلش رج",null,"نقطه ورودی سر فلش","مولفه افقی","مولفه عمودی",{"$f":"OK54","v":-29.742996904419261},{"$f":"OL54","v":5.7366432811656765},{"$f":"OJ54","v":"f3"},null,"f4",{"$f":"OR43*OR39","v":0.33998920669185106},"بزرگی فلش رج",null,"نقطه ورودی سر فلش","مولفه افقی","مولفه عمودی",{"$f":"OV54","v":-30.362788571085925},{"$f":"OW54","v":5.7366432811656765},{"$f":"OU54","v":"f3"},null,"n40",0.38,"فاصله فلش کم کردن",null,"نقطه ورودی سر فلش","مولفه افقی","مولفه عمودی",{"$f":"PG54","v":-30.982580237752593},{"$f":"PH54","v":5.7366432811656765},{"$f":"PF54","v":"f3"},null,"n40",0.38,"فاصله فلش کم کردن",null,"نقطه ورودی سر فلش","مولفه افقی","مولفه عمودی",{"$f":"PR54","v":-30.48674690441926},{"$f":"PS54","v":5.7366432811656765},{"$f":"PQ54","v":"f3"},null,{"$f":"PX47","v":-48.5},{"$f":"PY47+PY36-PY29","v":23.571428571428569},"t23",null,"g5",{"$f":"QC47+0.7*(QC50-QC47)","v":-48.8675},{"$f":"QD47+0.28*(QD50-QD47)","v":9.4857142857142858},{"$f":"QC48","v":-48.993499999999997},{"$f":"QD48","v":10.30857142857143},{"$f":"QB48","v":"g11"},null,null,null,"قرینه یقه گرد پشت",null,null,null,null,null,{"$f":"QQ15","v":-13},{"$f":"QR15+QR7+3*QR8","v":58.027797473097806},"k41",null,null,null,null,{"$f":"QQ66","v":-9.1999999999999993},{"$f":"QR66","v":58.809590541859542},"k56",null,"f4",{"$f":"RC43*RC39","v":0.33998920669185106},"بزرگی فلش رج",null,"نقطه ورودی سر فلش","مولفه افقی","مولفه عمودی",{"$f":"RG54","v":-31.59751079330815},{"$f":"RH54","v":5.7366432811656765},{"$f":"RF54","v":"f3"},null,{"$f":"RM40+55*RN28","v":47.106481481481474},{"$f":"RN40","v":-20},55,null,{"$f":"RQ50","v":0},{"$f":"RN38","v":-40.155257586450247},null,null,{"$f":"RU40+55*RV31","v":-7.3959068454481312},{"$f":"RV40","v":0},55,null,{"$f":"RY50","v":-40},{"$f":"RV38","v":10.277777777777777},null,null,{"$f":"SC50","v":-33.47918136908963},{"$f":"RV38","v":10.277777777777777},null,null,{"$f":"SG40+55*SH28","v":47.106481481481474},{"$f":"SH40","v":-20},55,null,{"$f":"SK50","v":0},{"$f":"SH38","v":-40.155257586450247},null,null,{"$f":"SO40+55*SP31","v":-7.3959068454481312},{"$f":"SP40","v":0},55,null,{"$f":"SS50","v":-40},{"$f":"SP38","v":10.277777777777777},null,null,{"$f":"SW50","v":-33.47918136908963},{"$f":"SP38","v":10.277777777777777},null,null,{"$f":"TA40+55*TB28","v":44.56018518518519},{"$f":"TB40","v":-20},55,null,{"$f":"TE50","v":0},{"$f":"TB38","v":-40.22935779816514},null,null,{"$f":"TI40+55*TJ31","v":-8.211009174311922},{"$f":"TJ40","v":0},55,null,{"$f":"TM50","v":-40},{"$f":"TJ38","v":9.7222222222222232},null,null,{"$f":"TQ50","v":-33.642201834862384},{"$f":"TJ38","v":9.7222222222222232},null,null,{"$f":"TU40+55*TV28","v":44.56018518518519},{"$f":"TV40","v":-20},55,null,{"$f":"TY50","v":0},{"$f":"TV38","v":-40.22935779816514},null,null,{"$f":"UC40+55*UD31","v":-8.211009174311922},{"$f":"UD40","v":0},55,null,{"$f":"UG50","v":-40},{"$f":"UD38","v":9.7222222222222232},null,null,{"$f":"UK50","v":-33.642201834862384},{"$f":"UD38","v":9.7222222222222232},null,null,{"$f":"UO40+55*UP28","v":47.106481481481474},{"$f":"UP40","v":-20},55,null,{"$f":"US50","v":0},{"$f":"UP38","v":-40.155257586450247},null,null,{"$f":"UW40+55*UX31","v":-7.3959068454481312},{"$f":"UX40","v":0},55,null,{"$f":"VA50","v":-40},{"$f":"UX38","v":10.277777777777777},null,null,{"$f":"VE50","v":-33.47918136908963},{"$f":"UX38","v":10.277777777777777},null,null,{"$f":"VI40+55*VJ28","v":47.106481481481474},{"$f":"VJ40","v":-20},55,null,{"$f":"VM50","v":0},{"$f":"VJ38","v":-40.155257586450247},null,null,{"$f":"VQ40+55*VR31","v":-7.3959068454481312},{"$f":"VR40","v":0},55,null,{"$f":"VU50","v":-40},{"$f":"VR38","v":10.277777777777777},null,null,{"$f":"VY50","v":-33.47918136908963},{"$f":"VR38","v":10.277777777777777}]
[null,null,null,null,null,null,null,"بافت انتخابی کلاه",{"$f":"'متغیرها '!C862","v":11},null,"بافت انتخابی جلو شلوار",{"$f":"'متغیرها '!C863","v":11},null,"بافت انتخابی پشت شلوار",{"$f":"'متغیرها '!C864","v":11},null,null,null,null,null,null,null,null,null,null,null,null,null,null,null,null,null,null,{"$error":"#DIV/0!"},0,{"$f":"IF(AM52=0,\"  \",(10/3)*((AM52/AL52)*(1/J6)-1))","v":"  "},{"$f":"IF(AN52=0,\"  \",(100/68)*((AO52/AN52)*(1/J7)-1))","v":"  "},13.5,0,0,36,null,46,null,"  ","  ","  ",null,null,null,null,null,null,null,null,null,null,null,null,null,null,null,null,null,null,null,null,null,null,null,null,null,null,null,null,null,null,null,null,null,null,null,null,null,null,null,null,null,null,null,null,null,null,null,null,null,null,null,null,null,null,null,null,null,null,null,null,null,null,null,null,null,null,null,null,null,null,null,null,{"$f":"DM15","v":0},{"$f":"DN15","v":71.8},"خط سینه",null,null,null,null,null,null,null,null,null,null,null,null,null,null,null,null,null,null,null,null,null,null,null,null,null,null,null,null,null,null,null,{"$f":"ET32","v":33.1},{"$f":"EU32","v":54.1},18,null,null,null,null,null,null,null,null,null,{"$f":"FJ18","v":15},{"$f":"FG46+'طراحی همه الگوها'!U269","v":11.899999999999997},24,null,null,null,null,null,null,null,null,null,null,null,null,null,null,null,null,null,null,null,null,null,null,null,null,null,null,null,null,null,null,null,null,null,null,{"$f":"GU51+GT11","v":-18},-0.31415926535897931,{"$f":"HB13+HB10*COS(GV52)","v":{"$error":"#REF!"}},{"$f":"HC13-HB10*SIN(GV52)","v":{"$error":"#REF!"}},{"$f":"SQRT(POWER((HB12-GW52),2)+POWER((HC12-GX52),2))","v":{"$error":"#REF!"}},{"$f":"ABS(HB9-GY52)","v":{"$error":"#REF!"}},null,null,null,null,null,null,null,null,null,null,null,null,null,null,{"$f":"-HK52+HP9","v":0},0,null,null,0,0,42,null,{"$f":"HS52+2*(SIN(ATAN((HS12-HS11)/(HT12-HT11)))*(HT52-HT11)+COS(ATAN((HS12-HS11)/(HT12-HT11)))*(HS11-HS52))*COS(ATAN((HS12-HS11)/(HT12-HT11)))","v":{"$error":"#DIV/0!"}},{"$f":"HT52-2*(SIN(ATAN((HS12-HS11)/(HT12-HT11)))*(HT52-HT11)+COS(ATAN((HS12-HS11)/(HT12-HT11)))*(HS11-HS52))*SIN(ATAN((HS12-HS11)/(HT12-HT11)))","v":{"$error":"#DIV/0!"}},42,null,null,null,null,null,null,null,null,null,null,null,null,null,null,null,null,null,null,null,null,null,null,null,null,null,null,null,null,null,null,null,null,null,null,null,null,null,null,null,null,null,null,null,null,null,null,null,null,null,null,null,null,null,null,null,null,null,null,null,null,null,null,null,null,null,null,null,null,null,null,null,null,null,null,null,null,null,null,null,null,null,null,null,null,null,null,null,null,null,null,null,null,null,null,null,null,null,null,null,null,null,null,null,null,null,null,null,null,null,null,null,null,null,null,null,null,null,null,null,null,null,null,null,null,null,null,null,null,null,null,null,null,null,null,null,null,null,null,null,null,null,null,null,null,null,null,null,null,null,null,null,{"$f":"NV31","v":-35},{"$f":"NV57+NV34*NV6","v":9.013761467889907},"w3",null,null,null,null,{"$f":"NZ62","v":-21.652083333333337},{"$f":"OA62","v":5.5527522935779814},{"$f":"NY62","v":"h11"},null,"m20",0.2,"فاصله فلش کم کردن",null,"m5",{"$f":"OF64","v":-30.082986111111111},{"$f":"OG64","v":5.5666486778197513},null,null,null,null,"m20",{"$f":"OG52","v":0.2},"فاصله فلش کم کردن",null,"m5",{"$f":"OQ64","v":-30.702777777777776},{"$f":"OR64","v":5.5666486778197513},null,null,null,null,"n50",0.05,"فاصله فلش کم کردن",null,"n6",{"$f":"PB65","v":-31.322569444444444},{"$f":"PC65","v":5.5666486778197513},null,null,null,null,"n50",0.06,"فاصله فلش کم کردن",null,"n6",{"$f":"PM65","v":-30.82673611111111},{"$f":"PN65","v":5.5666486778197513},null,null,null,null,{"$f":"PX48","v":-41.5},{"$f":"PY51","v":23.571428571428569},"t24",null,"g6",{"$f":"QC51","v":-48.8675},{"$f":"QD49-QD51+QD47","v":10.514285714285716},null,null,null,null,{"$f":"GP101","v":-5.4188000000000001},88.1,"23پ ق",null,{"$f":"QI69-0.5","v":-0.5},{"$f":"QJ69-3","v":77.227797473097809},"26'*",null,{"$f":"QQ15+(QR7+4*QR8)*SIN(RADIANS(60))","v":-7.4574374157795926},{"$f":"QR15-(QR7+4*QR8)*COS(RADIANS(60))","v":49.027797473097806},"k42",null,null,null,null,{"$f":"QQ68","v":-13},{"$f":"QR68","v":59.82779747309781},"k58",null,"p50",0.3,"فاصله فلش کم کردن",null,"p6",{"$f":"RB65","v":-31.9375},{"$f":"RC65","v":5.5666486778197513},null,null,null,null,{"$f":"RM40+60*RN28","v":51.388888888888886},{"$f":"RN40","v":-20},60,null,null,null,null,null,{"$f":"RU40+60*RV31","v":-4.4318983768525086},{"$f":"RV40","v":0},60,null,null,null,null,null,null,null,null,null,{"$f":"SG40+60*SH28","v":51.388888888888886},{"$f":"SH40","v":-20},60,null,null,null,null,null,{"$f":"SO40+60*SP31","v":-4.4318983768525086},{"$f":"SP40","v":0},60,null,null,null,null,null,null,null,null,null,{"$f":"TA40+60*TB28","v":48.611111111111114},{"$f":"TB40","v":-20},60,null,null,null,null,null,{"$f":"TI40+60*TJ31","v":-5.3211009174311883},{"$f":"TJ40","v":0},60,null,null,null,null,null,null,null,null,null,{"$f":"TU40+60*TV28","v":48.611111111111114},{"$f":"TV40","v":-20},60,null,null,null,null,null,{"$f":"UC40+60*UD31","v":-5.3211009174311883},{"$f":"UD40","v":0},60,null,null,null,null,null,null,null,null,null,{"$f":"UO40+60*UP28","v":51.388888888888886},{"$f":"UP40","v":-20},60,null,null,null,null,null,{"$f":"UW40+60*UX31","v":-4.4318983768525086},{"$f":"UX40","v":0},60,null,null,null,null,null,null,null,null,null,{"$f":"VI40+60*VJ28","v":51.388888888888886},{"$f":"VJ40","v":-20},60,null,null,null,null,null,{"$f":"VQ40+60*VR31","v":-4.4318983768525086},{"$f":"VR40","v":0},60]
[null,null,null,null,null,null,null,"بافت انتخابی کلاه",{"$f":"OFFSET(AJ6,I52,6)","v":"ساده "},null,"بافت انتخابی جلو شلوار",{"$f":"OFFSET(AJ6,L52,6)","v":"ساده "},null,"بافت انتخابی پشت شلوار",{"$f":"OFFSET(AJ6,O52,6)","v":"ساده "},null,null,null,null,null,null,null,null,null,null,null,null,null,null,null,null,null,null,{"$error":"#DIV/0!"},0,{"$f":"IF(AM53=0,\"  \",(10/3)*((AM53/AL53)*(1/J6)-1))","v":"  "},{"$f":"IF(AN53=0,\"  \",(100/68)*((AO53/AN53)*(1/J7)-1))","v":"  "},13.5,0,0,36,null,47,null,"  ","  ","  ",null,null,null,null,null,null,null,null,null,null,null,null,null,null,null,null,null,null,null,null,null,null,null,null,null,null,null,null,null,null,null,null,null,null,null,null,null,null,null,null,null,null,null,null,null,null,null,null,null,null,null,null,null,null,null,null,null,null,null,null,null,null,null,null,null,null,null,null,null,null,null,null,null,null,null,null,null,null,null,null,null,null,null,null,null,null,null,null,null,null,null,null,null,null,null,null,null,null,null,null,null,null,null,null,null,null,null,null,null,null,null,null,null,null,null,null,null,null,{"$f":"FJ19","v":29.9},{"$f":"FG46+'طراحی همه الگوها'!U271","v":14.399999999999997},26,null,null,null,null,null,{"$f":"FR51","v":14.115},{"$f":"FS51","v":60.84250015285528},"41 شبیه ساز",null,null,null,null,null,null,null,null,null,null,null,null,null,null,null,null,null,null,null,null,null,null,null,null,null,null,null,null,null,null,null,null,null,null,null,null,null,null,null,null,null,null,null,null,null,null,{"$f":"-HK53+HP9","v":0},0,null,null,0,0,43,null,{"$f":"HS53+2*(SIN(ATAN((HS12-HS11)/(HT12-HT11)))*(HT53-HT11)+COS(ATAN((HS12-HS11)/(HT12-HT11)))*(HS11-HS53))*COS(ATAN((HS12-HS11)/(HT12-HT11)))","v":{"$error":"#DIV/0!"}},{"$f":"HT53-2*(SIN(ATAN((HS12-HS11)/(HT12-HT11)))*(HT53-HT11)+COS(ATAN((HS12-HS11)/(HT12-HT11)))*(HS11-HS53))*SIN(ATAN((HS12-HS11)/(HT12-HT11)))","v":{"$error":"#DIV/0!"}},43,null,null,null,null,null,null,null,null,null,null,null,null,null,null,null,null,null,null,null,null,null,null,null,null,null,null,null,null,null,null,null,null,null,null,null,null,null,null,null,null,null,null,null,null,null,null,null,null,null,null,null,null,null,null,null,null,null,null,null,null,null,null,null,null,null,null,null,null,null,null,null,null,null,null,null,null,null,null,null,null,null,null,null,null,null,null,null,null,null,null,null,null,null,null,null,null,null,null,null,null,null,null,null,null,null,null,null,null,null,null,null,null,null,null,null,null,null,null,null,null,null,null,null,null,null,null,null,null,null,null,null,null,null,null,null,null,null,null,null,null,null,null,null,null,null,null,null,null,null,null,null,{"$f":"NU51","v":-3.3541666666666679},{"$f":"NV52","v":9.013761467889907},"w4",null,"نقطه شروع رج(چپ)","مولفه افقی","مولفه عمودی",null,null,null,null,"m30",0.25,"فاصله فلش کم کردن",null,"f2",{"$f":"OK52+1*OK50","v":-29.742996904419261},{"$f":"OL52-OK49*OK50","v":5.3966540744738261},{"$f":"OK52","v":-30.082986111111111},{"$f":"OL52","v":5.5666486778197513},{"$f":"OJ52","v":"m5"},null,"m30",{"$f":"OG53","v":0.25},"فاصله فلش کم کردن",null,"f2",{"$f":"OV52+1*OV50","v":-30.362788571085925},{"$f":"OW52-OV49*OV50","v":5.3966540744738261},{"$f":"OV52","v":-30.702777777777776},{"$f":"OW52","v":5.5666486778197513},{"$f":"OU52","v":"m5"},null,"n60",0.75,"فاصله فلش کم کردن",null,"f2",{"$f":"PG52+1*PG50","v":-30.982580237752593},{"$f":"PH52-PG49*PG50","v":5.3966540744738261},{"$f":"PG52","v":-31.322569444444444},{"$f":"PH52","v":5.5666486778197513},{"$f":"PF52","v":"n6"},null,"n60",0.4,"فاصله فلش کم کردن",null,"f2",{"$f":"PR52+1*PR50","v":-30.48674690441926},{"$f":"PS52-PR49*PR50","v":5.3966540744738261},{"$f":"PR52","v":-30.82673611111111},{"$f":"PS52","v":5.5666486778197513},{"$f":"PQ52","v":"n6"},null,{"$f":"PX49","v":-45},{"$f":"PY51","v":23.571428571428569},"t25",null,"g7",{"$f":"QC48+0.7*QD45*SIN(RADIANS(30)-2*ATAN((QC48-QC51)/(QD48-QD51+0.0001)))","v":-48.699016253334193},{"$f":"QD48-0.7*QD45*COS(RADIANS(30)-2*ATAN((QC48-QC51)/(QD48-QD51+0.0001)))","v":10.03786989006514},{"$f":"QC48","v":-48.993499999999997},{"$f":"QD48","v":10.30857142857143},{"$f":"QB48","v":"g11"},null,-4.0640999999999998,86.890838205201234,"28پ ق",null,null,null,null,null,{"$f":"2*QQ15-QQ52","v":-18.542562584220406},{"$f":"QR52","v":49.027797473097806},"k43",null,null,null,null,{"$f":"QQ67","v":-16.8},{"$f":"QR67","v":58.809590541859542},"k57",null,"p51",0.7,"فاصله فلش کم کردن",null,"f2",{"$f":"RG52+1*RG50","v":-31.59751079330815},{"$f":"RH52-RG49*RG50","v":5.3966540744738261},{"$f":"RG52","v":-31.9375},{"$f":"RH52","v":5.5666486778197513},{"$f":"RF52","v":"p6"},null,{"$f":"RM40+65*RN28","v":55.671296296296291},{"$f":"RN40","v":-20},65,null,{"$f":"IF(RN26>(RM49-RM40),RM49,RM40)","v":0},{"$f":"IF(RN26>(RM49-RM40),RN49,RN40)","v":-20},45,null,{"$f":"RU40+65*RV31","v":-1.4678899082568861},{"$f":"RV40","v":0},65,null,{"$f":"IF(RV27>(RU49-RU40),RU49,RU40)","v":-40},{"$f":"IF(RV27>(RU49-RU40),RV49,RV40)","v":0},45,null,{"$f":"IF(RV27>(RU74-RU40),RU74,RU40)","v":-32.886379675370506},{"$f":"IF(RV27>(RU74-RU40),RV74,RV40)","v":0},12,null,{"$f":"SG40+65*SH28","v":55.671296296296291},{"$f":"SH40","v":-20},65,null,{"$f":"IF(SH26>(SG49-SG40),SG49,SG40)","v":0},{"$f":"IF(SH26>(SG49-SG40),SH49,SH40)","v":-20},45,null,{"$f":"SO40+65*SP31","v":-1.4678899082568861},{"$f":"SP40","v":0},65,null,{"$f":"IF(SP27>(SO49-SO40),SO49,SO40)","v":-40},{"$f":"IF(SP27>(SO49-SO40),SP49,SP40)","v":0},45,null,{"$f":"IF(SP27>(SO74-SO40),SO74,SO40)","v":-32.886379675370506},{"$f":"IF(SP27>(SO74-SO40),SP74,SP40)","v":0},12,null,{"$f":"TA40+65*TB28","v":52.662037037037038},{"$f":"TB40","v":-20},65,null,{"$f":"IF(TB26>(TA49-TA40),TA49,TA40)","v":0},{"$f":"IF(TB26>(TA49-TA40),TB49,TB40)","v":-20},45,null,{"$f":"TI40+65*TJ31","v":-2.431192660550451},{"$f":"TJ40","v":0},65,null,{"$f":"IF(TJ27>(TI49-TI40),TI49,TI40)","v":-40},{"$f":"IF(TJ27>(TI49-TI40),TJ49,TJ40)","v":0},45,null,{"$f":"IF(TJ27>(TI74-TI40),TI74,TI40)","v":-33.064220183486235},{"$f":"IF(TJ27>(TI74-TI40),TJ74,TJ40)","v":0},12,null,{"$f":"TU40+65*TV28","v":52.662037037037038},{"$f":"TV40","v":-20},65,null,{"$f":"IF(TV26>(TU49-TU40),TU49,TU40)","v":0},{"$f":"IF(TV26>(TU49-TU40),TV49,TV40)","v":-20},45,null,{"$f":"UC40+65*UD31","v":-2.431192660550451},{"$f":"UD40","v":0},65,null,{"$f":"IF(UD27>(UC49-UC40),UC49,UC40)","v":-40},{"$f":"IF(UD27>(UC49-UC40),UD49,UD40)","v":0},45,null,{"$f":"IF(UD27>(UC74-UC40),UC74,UC40)","v":-33.064220183486235},{"$f":"IF(UD27>(UC74-UC40),UD74,UD40)","v":0},12,null,{"$f":"UO40+65*UP28","v":55.671296296296291},{"$f":"UP40","v":-20},65,null,{"$f":"IF(UP26>(UO49-UO40),UO49,UO40)","v":0},{"$f":"IF(UP26>(UO49-UO40),UP49,UP40)","v":-20},45,null,{"$f":"UW40+65*UX31","v":-1.4678899082568861},{"$f":"UX40","v":0},65,null,{"$f":"IF(UX27>(UW49-UW40),UW49,UW40)","v":-40},{"$f":"IF(UX27>(UW49-UW40),UX49,UX40)","v":0},45,null,{"$f":"IF(UX27>(UW74-UW40),UW74,UW40)","v":-32.886379675370506},{"$f":"IF(UX27>(UW74-UW40),UX74,UX40)","v":0},12,null,{"$f":"VI40+65*VJ28","v":55.671296296296291},{"$f":"VJ40","v":-20},65,null,{"$f":"IF(VJ26>(VI49-VI40),VI49,VI40)","v":0},{"$f":"IF(VJ26>(VI49-VI40),VJ49,VJ40)","v":-20},45,null,{"$f":"VQ40+65*VR31","v":-1.4678899082568861},{"$f":"VR40","v":0},65,null,{"$f":"IF(VR27>(VQ49-VQ40),VQ49,VQ40)","v":-40},{"$f":"IF(VR27>(VQ49-VQ40),VR49,VR40)","v":0},45,null,{"$f":"IF(VR27>(VQ74-VQ40),VQ74,VQ40)","v":-32.886379675370506},{"$f":"IF(VR27>(VQ74-VQ40),VR74,VR40)","v":0},12]
[null,null,null,null,null,null,null,null,null,null,null,null,null,null,null,null,null,null,null,null,null,null,null,null,null,null,null,null,null,null,null,null,null,{"$error":"#DIV/0!"},0,{"$f":"IF(AM54=0,\"  \",(10/3)*((AM54/AL54)*(1/J6)-1))","v":"  "},{"$f":"IF(AN54=0,\"  \",(100/68)*((AO54/AN54)*(1/J7)-1))","v":"  "},13.5,0,0,36,null,48,null,"  ","  ","  ",null,null,null,null,null,null,null,null,null,null,null,null,null,null,null,null,null,null,null,null,null,null,null,null,null,null,null,null,null,null,null,null,null,null,null,null,null,null,null,null,null,null,null,null,null,null,null,null,null,null,null,null,null,null,null,null,null,null,null,null,null,null,null,null,null,null,null,null,null,null,null,null,null,null,null,null,null,null,null,null,null,null,null,null,null,null,null,null,null,null,null,null,null,null,null,null,null,null,null,null,null,null,null,null,null,null,{"$f":"EP29","v":0},{"$f":"EQ29","v":109.1},1,null,null,null,null,null,null,null,null,null,{"$f":"FF46+'طراحی همه الگوها'!U260","v":37.4},{"$f":"FG46+'طراحی همه الگوها'!U261","v":16.899999999999999},17,null,null,null,null,null,{"$f":"FO31","v":0},{"$f":"FP31","v":60.84250015285528},"s''12",null,null,null,null,null,null,null,null,null,null,null,null,null,null,null,null,null,null,null,null,null,null,null,null,null,null,null,null,null,null,null,null,null,null,null,null,null,null,null,null,null,null,null,null,null,null,{"$f":"-HK54+HP9","v":0},0,null,null,{"$f":"HF30","v":0},{"$f":"HG30","v":0},44,null,{"$f":"HS54+2*(SIN(ATAN((HS12-HS11)/(HT12-HT11)))*(HT54-HT11)+COS(ATAN((HS12-HS11)/(HT12-HT11)))*(HS11-HS54))*COS(ATAN((HS12-HS11)/(HT12-HT11)))","v":{"$error":"#DIV/0!"}},{"$f":"HT54-2*(SIN(ATAN((HS12-HS11)/(HT12-HT11)))*(HT54-HT11)+COS(ATAN((HS12-HS11)/(HT12-HT11)))*(HS11-HS54))*SIN(ATAN((HS12-HS11)/(HT12-HT11)))","v":{"$error":"#DIV/0!"}},44,null,null,null,null,null,null,null,null,null,null,null,null,null,null,null,null,null,null,null,null,null,null,null,null,null,null,null,null,null,null,null,null,null,null,null,null,null,null,null,null,null,null,null,null,null,null,null,null,null,null,null,null,null,null,null,null,null,null,null,null,null,null,null,null,null,null,null,null,null,null,null,null,null,null,null,null,null,null,null,null,null,null,null,null,null,null,null,null,null,null,null,null,null,null,null,null,null,null,null,null,null,null,null,null,null,null,null,null,null,null,null,null,null,null,null,null,null,null,null,null,null,null,null,null,null,null,null,null,null,null,null,null,null,null,null,null,null,null,null,null,null,null,null,null,null,null,null,null,null,null,null,{"$f":"NU51","v":-3.3541666666666679},{"$f":"NV32+NV34","v":5.8027522935779814},"w5",null,"w8",{"$f":"NU57","v":-35},{"$f":"NV57","v":5.8027522935779814},{"$f":"NZ61","v":-21.652083333333337},{"$f":"OA61","v":6.0527522935779814},{"$f":"NY61","v":"h10"},null,"m40",0.35,"فاصله فلش کم کردن",null,"f3",{"$f":"OK53","v":-29.742996904419261},{"$f":"OL52+OK49*OK50","v":5.7366432811656765},{"$f":"OK53","v":-29.742996904419261},{"$f":"OL53","v":5.3966540744738261},{"$f":"OJ53","v":"f2"},null,"m40",{"$f":"OG54","v":0.35},"فاصله فلش کم کردن",null,"f3",{"$f":"OV53","v":-30.362788571085925},{"$f":"OW52+OV49*OV50","v":5.7366432811656765},{"$f":"OV53","v":-30.362788571085925},{"$f":"OW53","v":5.3966540744738261},{"$f":"OU53","v":"f2"},null,"n61",0.03,"فاصله فلش کم کردن",null,"f3",{"$f":"PG53","v":-30.982580237752593},{"$f":"PH52+PG49*PG50","v":5.7366432811656765},{"$f":"PG53","v":-30.982580237752593},{"$f":"PH53","v":5.3966540744738261},{"$f":"PF53","v":"f2"},null,"n61",0.11,"فاصله فلش کم کردن",null,"f3",{"$f":"PR53","v":-30.48674690441926},{"$f":"PS52+PR49*PR50","v":5.7366432811656765},{"$f":"PR53","v":-30.48674690441926},{"$f":"PS53","v":5.3966540744738261},{"$f":"PQ53","v":"f2"},null,{"$f":"PX50","v":-38.5},{"$f":"PY51","v":23.571428571428569},"t26",null,"g8",{"$f":"QC48-0.7*QD45*SIN(RADIANS(30)-ATAN((QC48-QC51)/(QD48-QD51+0.0001)))","v":-49.243622955421095},{"$f":"QD48-0.7*QD45*COS(RADIANS(30)-ATAN((QC48-QC51)/(QD48-QD51+0.0001)))","v":9.9964200115132726},{"$f":"QC53","v":-48.699016253334193},{"$f":"QD53","v":10.03786989006514},{"$f":"QB53","v":"g7"},null,-2.1675199999999997,86.286257307801847,"26پ ق",null,{"$f":"QM52","v":-0.5},{"$f":"QN52-3","v":74.227797473097809},"26'**",null,{"$f":"QQ15+QR7+4*QR8","v":-6.6},{"$f":"QR15","v":52.227797473097809},"k44",null,null,null,null,{"$f":"QQ65","v":-20.6},{"$f":"QR65","v":52.227797473097809},"k55",null,"p52",0.5,"فاصله فلش کم کردن",null,"f3",{"$f":"RG53","v":-31.59751079330815},{"$f":"RH52+RG49*RG50","v":5.7366432811656765},{"$f":"RG53","v":-31.59751079330815},{"$f":"RH53","v":5.3966540744738261},{"$f":"RF53","v":"f2"},null,{"$f":"RM40+70*RN28","v":59.953703703703695},{"$f":"RN40","v":-20},70,null,{"$f":"RQ53","v":0},{"$f":"RN38","v":-40.155257586450247},null,null,{"$f":"RU40+70*RV31","v":1.4961185603387364},{"$f":"RV40","v":0},70,null,{"$f":"RY53","v":-40},{"$f":"RV38","v":10.277777777777777},null,null,{"$f":"SC53","v":-32.886379675370506},{"$f":"RV38","v":10.277777777777777},null,null,{"$f":"SG40+70*SH28","v":59.953703703703695},{"$f":"SH40","v":-20},70,null,{"$f":"SK53","v":0},{"$f":"SH38","v":-40.155257586450247},null,null,{"$f":"SO40+70*SP31","v":1.4961185603387364},{"$f":"SP40","v":0},70,null,{"$f":"SS53","v":-40},{"$f":"SP38","v":10.277777777777777},null,null,{"$f":"SW53","v":-32.886379675370506},{"$f":"SP38","v":10.277777777777777},null,null,{"$f":"TA40+70*TB28","v":56.712962962962969},{"$f":"TB40","v":-20},70,null,{"$f":"TE53","v":0},{"$f":"TB38","v":-40.22935779816514},null,null,{"$f":"TI40+70*TJ31","v":0.45871559633027914},{"$f":"TJ40","v":0},70,null,{"$f":"TM53","v":-40},{"$f":"TJ38","v":9.7222222222222232},null,null,{"$f":"TQ53","v":-33.064220183486235},{"$f":"TJ38","v":9.7222222222222232},null,null,{"$f":"TU40+70*TV28","v":56.712962962962969},{"$f":"TV40","v":-20},70,null,{"$f":"TY53","v":0},{"$f":"TV38","v":-40.22935779816514},null,null,{"$f":"UC40+70*UD31","v":0.45871559633027914},{"$f":"UD40","v":0},70,null,{"$f":"UG53","v":-40},{"$f":"UD38","v":9.7222222222222232},null,null,{"$f":"UK53","v":-33.064220183486235},{"$f":"UD38","v":9.7222222222222232},null,null,{"$f":"UO40+70*UP28","v":59.953703703703695},{"$f":"UP40","v":-20},70,null,{"$f":"US53","v":0},{"$f":"UP38","v":-40.155257586450247},null,null,{"$f":"UW40+70*UX31","v":1.4961185603387364},{"$f":"UX40","v":0},70,null,{"$f":"VA53","v":-40},{"$f":"UX38","v":10.277777777777777},null,null,{"$f":"VE53","v":-32.886379675370506},{"$f":"UX38","v":10.277777777777777},null,null,{"$f":"VI40+70*VJ28","v":59.953703703703695},{"$f":"VJ40","v":-20},70,null,{"$f":"VM53","v":0},{"$f":"VJ38","v":-40.155257586450247},null,null,{"$f":"VQ40+70*VR31","v":1.4961185603387364},{"$f":"VR40","v":0},70,null,{"$f":"VU53","v":-40},{"$f":"VR38","v":10.277777777777777},null,null,{"$f":"VY53","v":-32.886379675370506},{"$f":"VR38","v":10.277777777777777}]
[null,null,null,null,null,null,null,null,null,null,null,null,null,null,null,null,null,null,null,null,null,null,null,null,null,null,null,null,null,null,null,null,null,{"$error":"#DIV/0!"},0,{"$f":"IF(AM55=0,\"  \",(10/3)*((AM55/AL55)*(1/J6)-1))","v":"  "},{"$f":"IF(AN55=0,\"  \",(100/68)*((AO55/AN55)*(1/J7)-1))","v":"  "},13.5,0,0,36,null,49,null,"  ","  ","  ",null,null,null,null,null,null,null,null,null,null,null,null,null,null,null,null,null,null,null,null,null,null,null,null,null,null,null,null,null,null,null,null,null,null,null,null,null,null,null,null,null,null,null,null,null,null,null,null,null,null,null,null,null,null,null,null,null,null,null,null,null,null,null,null,null,null,null,null,null,null,null,null,null,null,null,null,null,null,null,null,null,null,null,null,null,null,null,null,null,null,null,null,null,null,null,null,null,null,null,null,null,null,null,null,null,null,{"$f":"EP31","v":5.7},{"$f":"EQ31","v":0},5,null,null,null,null,null,null,null,null,null,null,null,null,null,null,null,null,null,null,null,null,null,null,null,null,null,null,null,null,null,null,null,null,null,null,null,null,null,null,null,null,null,null,null,null,null,null,null,null,null,null,null,null,null,null,null,null,null,null,null,null,null,null,null,null,null,null,{"$f":"-HK55+HP9","v":0},0,null,null,0,0,45,null,{"$f":"HS55+2*(SIN(ATAN((HS12-HS11)/(HT12-HT11)))*(HT55-HT11)+COS(ATAN((HS12-HS11)/(HT12-HT11)))*(HS11-HS55))*COS(ATAN((HS12-HS11)/(HT12-HT11)))","v":{"$error":"#DIV/0!"}},{"$f":"HT55-2*(SIN(ATAN((HS12-HS11)/(HT12-HT11)))*(HT55-HT11)+COS(ATAN((HS12-HS11)/(HT12-HT11)))*(HS11-HS55))*SIN(ATAN((HS12-HS11)/(HT12-HT11)))","v":{"$error":"#DIV/0!"}},{"$f":"HU55","v":45},null,null,null,null,null,null,null,null,null,null,null,null,null,null,null,null,null,null,null,null,null,null,null,null,null,null,null,null,null,null,null,null,null,null,null,null,null,null,null,null,null,null,null,null,null,null,null,null,null,null,null,null,null,null,null,null,null,null,null,null,null,null,null,null,null,null,null,null,null,null,null,null,null,null,null,null,null,null,null,null,null,null,null,null,null,null,null,null,null,null,null,null,null,null,null,null,null,null,null,null,null,null,null,null,null,null,null,null,null,null,null,null,null,null,null,null,null,null,null,null,null,null,null,null,null,null,null,null,null,null,null,null,null,null,null,null,null,null,null,null,null,null,null,null,null,null,null,null,null,null,null,{"$f":"NV31+0.1*(NU51-NV31)","v":-31.835416666666667},{"$f":"NV32","v":5},"w6",null,"نقطه پایان رج(راست)","مولفه افقی","مولفه عمودی",{"$f":"NZ64","v":-16.702083333333334},{"$f":"OA64","v":6.0527522935779814},{"$f":"NY64","v":"h13"},null,"m50",0.42,"فاصله فلش کم کردن",null,null,null,null,null,null,null,null,"m50",{"$f":"OG55","v":0.42},"فاصله فلش کم کردن",null,null,null,null,null,null,null,null,"n62",0.4,"فاصله فلش کم کردن",null,null,null,null,null,null,null,null,"n62",0.3,"فاصله فلش کم کردن",null,null,null,null,null,null,null,null,{"$f":"PX34-1","v":-49.5},{"$f":"PY51+2","v":25.571428571428569},"t27",null,null,null,null,null,null,null,null,0,86.084730342002047,"24پ ق",null,null,null,null,null,{"$f":"2*QQ15-QQ54","v":-19.399999999999999},{"$f":"QR54","v":52.227797473097809},"k45",null,null,null,null,{"$f":"QQ53","v":-18.542562584220406},{"$f":"QR53","v":49.027797473097806},"k43",null,"p53",0.4,"فاصله فلش کم کردن",null,null,null,null,null,null,null,null,{"$f":"RM40+75*RN28","v":64.2361111111111},{"$f":"RN40","v":-20},75,null,null,null,null,null,{"$f":"RU40+75*RV31","v":4.460127028934366},{"$f":"RV40","v":0},75,null,null,null,null,null,null,null,null,null,{"$f":"SG40+75*SH28","v":64.2361111111111},{"$f":"SH40","v":-20},75,null,null,null,null,null,{"$f":"SO40+75*SP31","v":4.460127028934366},{"$f":"SP40","v":0},75,null,null,null,null,null,null,null,null,null,{"$f":"TA40+75*TB28","v":60.763888888888893},{"$f":"TB40","v":-20},75,null,null,null,null,null,{"$f":"TI40+75*TJ31","v":3.3486238532110164},{"$f":"TJ40","v":0},75,null,null,null,null,null,null,null,null,null,{"$f":"TU40+75*TV28","v":60.763888888888893},{"$f":"TV40","v":-20},75,null,null,null,null,null,{"$f":"UC40+75*UD31","v":3.3486238532110164},{"$f":"UD40","v":0},75,null,null,null,null,null,null,null,null,null,{"$f":"UO40+75*UP28","v":64.2361111111111},{"$f":"UP40","v":-20},75,null,null,null,null,null,{"$f":"UW40+75*UX31","v":4.460127028934366},{"$f":"UX40","v":0},75,null,null,null,null,null,null,null,null,null,{"$f":"VI40+75*VJ28","v":64.2361111111111},{"$f":"VJ40","v":-20},75,null,null,null,null,null,{"$f":"VQ40+75*VR31","v":4.460127028934366},{"$f":"VR40","v":0},75]
[null,null,null,null,null,null,null,null,null,null,null,null,null,null,null,null,null,null,null,null,null,null,null,null,null,null,null,null,null,null,null,null,null,{"$error":"#DIV/0!"},0,{"$f":"IF(AM56=0,\"  \",(10/3)*((AM56/AL56)*(1/J6)-1))","v":"  "},{"$f":"IF(AN56=0,\"  \",(100/68)*((AO56/AN56)*(1/J7)-1))","v":"  "},13.5,0,0,36,null,50,null,"  ","  ","  ",null,null,null,null,null,null,null,null,null,null,null,null,null,null,null,null,null,null,null,null,null,null,null,null,null,null,null,null,null,null,null,null,null,null,null,null,null,null,null,null,null,null,null,null,null,null,null,null,null,null,null,null,null,null,null,null,null,null,null,null,null,null,null,null,null,null,null,null,null,null,null,null,null,null,null,null,null,null,null,null,null,null,null,null,null,null,null,null,null,null,null,null,null,null,null,null,null,null,null,null,null,null,null,null,null,null,null,null,null,null,null,null,null,null,null,null,null,null,null,null,null,null,null,null,null,null,null,null,null,null,null,null,null,null,null,null,null,null,null,null,null,null,null,null,null,null,null,null,null,null,null,null,null,null,null,null,null,null,null,null,null,null,null,null,null,null,null,null,null,null,null,null,null,null,null,{"$f":"-HK56+HP9","v":0},0,null,null,0,0,46,null,{"$f":"HS56+2*(SIN(ATAN((HS12-HS11)/(HT12-HT11)))*(HT56-HT11)+COS(ATAN((HS12-HS11)/(HT12-HT11)))*(HS11-HS56))*COS(ATAN((HS12-HS11)/(HT12-HT11)))","v":{"$error":"#DIV/0!"}},{"$f":"HT56-2*(SIN(ATAN((HS12-HS11)/(HT12-HT11)))*(HT56-HT11)+COS(ATAN((HS12-HS11)/(HT12-HT11)))*(HS11-HS56))*SIN(ATAN((HS12-HS11)/(HT12-HT11)))","v":{"$error":"#DIV/0!"}},46,null,null,null,null,null,null,null,null,null,null,null,null,null,null,null,null,null,null,null,null,null,null,null,null,null,null,null,null,null,null,null,null,null,null,null,null,null,null,null,null,null,null,null,null,null,null,null,null,null,null,null,null,null,null,null,null,null,null,null,null,null,null,null,null,null,null,null,null,null,null,null,null,null,null,null,null,null,null,null,null,null,null,null,null,null,null,null,null,null,null,null,null,null,null,null,null,null,null,null,null,null,null,null,null,null,null,null,null,null,null,null,null,null,null,null,null,null,null,null,null,null,null,null,null,null,null,null,null,null,null,null,null,null,null,null,null,null,null,null,null,null,null,null,null,null,null,null,null,null,null,null,{"$f":"NU57+0.1*(NU54-NU57)","v":-31.835416666666667},{"$f":"NV54","v":5.8027522935779814},"w7",null,"w5",{"$f":"NU54","v":-3.3541666666666679},{"$f":"NV54","v":5.8027522935779814},null,null,null,null,null,{"$f":"S17","v":4.4119047619047622}," ea0 تعداد رج در یک سانت",null,"نسبت سایز افقی",{"$f":"OG38","v":42},"انحنا راستگرد ",null,null,{"$f":"OL56","v":"انحنا راستگرد "},null,null,{"$f":"S17","v":4.4119047619047622}," ea0 تعداد رج در یک سانت",null,"نسبت سایز افقی",{"$f":"OR38","v":42},"انحنا راستگرد ",null,null,{"$f":"OW56","v":"انحنا راستگرد "},null,null,null,null,null,"بزرگی خط عمودی دانه",{"$f":"PC43","v":0.30000000000000004},"f9",null,null,"فلش به سمت بالا",null,null,null,null,null,"بزرگی خط عمودی دانه",{"$f":"PN43","v":0.30000000000000004},"f9",null,null,"فلش به سمت بالا",null,{"$f":"PX35+4","v":-32.5},{"$f":"PY55","v":25.571428571428569},"t28",null,null,null,null,{"$f":"PX38","v":-48.5},10.714285714285715,"t10",null,null,null,null,null,{"$f":"QM52","v":-0.5},{"$f":"QN54-3","v":71.227797473097809},"26'***",null,{"$f":"QQ15+(QR7+4*QR8)*SIN(RADIANS(30))","v":-9.8000000000000007},{"$f":"QR15+(QR7+4*QR8)*COS(RADIANS(30))","v":57.770360057318214},"k46",null,null,null,null,{"$f":"QQ69","v":-15.6},{"$f":"QR69","v":47.724465373418724},"k59",null,"p54",0.6,"فاصله فلش کم کردن",null,"نسبت سایز افقی",{"$f":"RC38","v":42},"انحنا راستگرد ",null,null,{"$f":"RH56","v":"انحنا راستگرد "},null,{"$f":"RM40+80*RN28","v":68.518518518518505},{"$f":"RN40","v":-20},80,null,{"$f":"IF(RN26>(RM50-RM40),RM50,RM40)","v":0},{"$f":"IF(RN26>(RM50-RM40),RN50,RN40)","v":-20},50,null,{"$f":"RU40+80*RV31","v":7.4241354975299885},{"$f":"RV40","v":0},80,null,{"$f":"IF(RV27>(RU50-RU40),RU50,RU40)","v":-40},{"$f":"IF(RV27>(RU50-RU40),RV50,RV40)","v":0},50,null,{"$f":"IF(RV27>(RU75-RU40),RU75,RU40)","v":-32.293577981651374},{"$f":"IF(RV27>(RU75-RU40),RV75,RV40)","v":0},13,null,{"$f":"SG40+80*SH28","v":68.518518518518505},{"$f":"SH40","v":-20},80,null,{"$f":"IF(SH26>(SG50-SG40),SG50,SG40)","v":0},{"$f":"IF(SH26>(SG50-SG40),SH50,SH40)","v":-20},50,null,{"$f":"SO40+80*SP31","v":7.4241354975299885},{"$f":"SP40","v":0},80,null,{"$f":"IF(SP27>(SO50-SO40),SO50,SO40)","v":-40},{"$f":"IF(SP27>(SO50-SO40),SP50,SP40)","v":0},50,null,{"$f":"IF(SP27>(SO75-SO40),SO75,SO40)","v":-32.293577981651374},{"$f":"IF(SP27>(SO75-SO40),SP75,SP40)","v":0},13,null,{"$f":"TA40+80*TB28","v":64.814814814814824},{"$f":"TB40","v":-20},80,null,{"$f":"IF(TB26>(TA50-TA40),TA50,TA40)","v":0},{"$f":"IF(TB26>(TA50-TA40),TB50,TB40)","v":-20},50,null,{"$f":"TI40+80*TJ31","v":6.2385321100917537},{"$f":"TJ40","v":0},80,null,{"$f":"IF(TJ27>(TI50-TI40),TI50,TI40)","v":-40},{"$f":"IF(TJ27>(TI50-TI40),TJ50,TJ40)","v":0},50,null,{"$f":"IF(TJ27>(TI75-TI40),TI75,TI40)","v":-32.486238532110093},{"$f":"IF(TJ27>(TI75-TI40),TJ75,TJ40)","v":0},13,null,{"$f":"TU40+80*TV28","v":64.814814814814824},{"$f":"TV40","v":-20},80,null,{"$f":"IF(TV26>(TU50-TU40),TU50,TU40)","v":0},{"$f":"IF(TV26>(TU50-TU40),TV50,TV40)","v":-20},50,null,{"$f":"UC40+80*UD31","v":6.2385321100917537},{"$f":"UD40","v":0},80,null,{"$f":"IF(UD27>(UC50-UC40),UC50,UC40)","v":-40},{"$f":"IF(UD27>(UC50-UC40),UD50,UD40)","v":0},50,null,{"$f":"IF(UD27>(UC75-UC40),UC75,UC40)","v":-32.486238532110093},{"$f":"IF(UD27>(UC75-UC40),UD75,UD40)","v":0},13,null,{"$f":"UO40+80*UP28","v":68.518518518518505},{"$f":"UP40","v":-20},80,null,{"$f":"IF(UP26>(UO50-UO40),UO50,UO40)","v":0},{"$f":"IF(UP26>(UO50-UO40),UP50,UP40)","v":-20},50,null,{"$f":"UW40+80*UX31","v":7.4241354975299885},{"$f":"UX40","v":0},80,null,{"$f":"IF(UX27>(UW50-UW40),UW50,UW40)","v":-40},{"$f":"IF(UX27>(UW50-UW40),UX50,UX40)","v":0},50,null,{"$f":"IF(UX27>(UW75-UW40),UW75,UW40)","v":-32.293577981651374},{"$f":"IF(UX27>(UW75-UW40),UX75,UX40)","v":0},13,null,{"$f":"VI40+80*VJ28","v":68.518518518518505},{"$f":"VJ40","v":-20},80,null,{"$f":"IF(VJ26>(VI50-VI40),VI50,VI40)","v":0},{"$f":"IF(VJ26>(VI50-VI40),VJ50,VJ40)","v":-20},50,null,{"$f":"VQ40+80*VR31","v":7.4241354975299885},{"$f":"VR40","v":0},80,null,{"$f":"IF(VR27>(VQ50-VQ40),VQ50,VQ40)","v":-40},{"$f":"IF(VR27>(VQ50-VQ40),VR50,VR40)","v":0},50,null,{"$f":"IF(VR27>(VQ75-VQ40),VQ75,VQ40)","v":-32.293577981651374},{"$f":"IF(VR27>(VQ75-VQ40),VR75,VR40)","v":0},13]
[null,null,null,null,null,null,null,null,null,null,null,null,null,null,null,null,null,null,null,null,null,null,null,null,null,null,null,null,null,null,null,null,null,{"$error":"#DIV/0!"},0,{"$f":"IF(AM57=0,\"  \",(10/3)*((AM57/AL57)*(1/J6)-1))","v":"  "},{"$f":"IF(AN57=0,\"  \",(100/68)*((AO57/AN57)*(1/J7)-1))","v":"  "},13.5,0,0,36,null,51,null,"  ","  ","  ",null,null,null,null,null,null,null,null,null,null,null,null,null,null,null,null,null,null,null,null,null,null,null,null,null,null,null,null,null,null,null,null,null,null,null,null,null,null,null,null,null,null,null,null,null,null,null,null,null,null,null,null,null,null,null,null,null,null,null,null,null,null,null,null,null,null,null,null,null,null,null,null,null,null,null,null,null,null,null,null,null,null,null,null,null,null,null,null,null,null,null,null,null,null,null,null,null,null,null,null,null,null,null,null,null,null,null,null,null,null,null,null,null,null,null,null,null,null,null,null,null,null,null,null,null,null,null,null,null,null,null,null,null,null,null,null,null,null,null,null,null,null,null,null,null,null,null,null,null,null,null,null,null,null,null,null,null,null,null,null,null,null,null,null,null,null,null,null,null,null,null,null,null,null,null,{"$f":"-HK57+HP9","v":0},0,null,null,{"$f":"HF30","v":0},{"$f":"HG30","v":0},47,null,{"$f":"HS57+2*(SIN(ATAN((HS12-HS11)/(HT12-HT11)))*(HT57-HT11)+COS(ATAN((HS12-HS11)/(HT12-HT11)))*(HS11-HS57))*COS(ATAN((HS12-HS11)/(HT12-HT11)))","v":{"$error":"#DIV/0!"}},{"$f":"HT57-2*(SIN(ATAN((HS12-HS11)/(HT12-HT11)))*(HT57-HT11)+COS(ATAN((HS12-HS11)/(HT12-HT11)))*(HS11-HS57))*SIN(ATAN((HS12-HS11)/(HT12-HT11)))","v":{"$error":"#DIV/0!"}},47,null,null,null,null,null,null,null,null,null,null,null,null,null,null,null,null,null,null,null,null,null,null,null,null,null,null,null,null,null,null,null,null,null,null,null,null,null,null,null,null,null,null,null,null,null,null,null,null,null,null,null,null,null,null,null,null,null,null,null,null,null,null,null,null,null,null,null,null,null,null,null,null,null,null,null,null,null,null,null,null,null,null,null,null,null,null,null,null,null,null,null,null,null,null,null,null,null,null,null,null,null,null,null,null,null,null,null,null,null,null,null,null,null,null,null,null,null,null,null,null,null,null,null,null,null,null,null,null,null,null,null,null,null,null,null,null,null,null,null,null,null,null,null,null,null,null,null,null,null,null,null,{"$f":"NV31","v":-35},{"$f":"NV54","v":5.8027522935779814},"w8",null,"نقاط خروجی","مولفه افقی","مولفه عمودی",{"$f":"NZ62","v":-21.652083333333337},{"$f":"OA62","v":5.5527522935779814},{"$f":"NY62","v":"h11"},null,null,{"$f":"S18","v":2.5411764705882351},"تعداد دانه در یک سانت eb0 ",null,"ارتفاع نیم دایره",{"$f":"OG49","v":0.5666486778197517},"بزرگی فلش",{"$f":"OK60","v":-35},{"$f":"OL60","v":5.5666486778197513},{"$f":"OJ60","v":"m6"},null,null,{"$f":"S18","v":2.5411764705882351},"تعداد دانه در یک سانت eb0 ",null,"ارتفاع نیم دایره",{"$f":"OR49","v":0.5666486778197517},"بزرگی فلش",{"$f":"OV60","v":-35},{"$f":"OW60","v":5.5666486778197513},{"$f":"OU60","v":"m6"},null,null,null,null,null,"بزرگی فلش دانه",{"$f":"PC44","v":0.4},"f10",{"$f":"PG64","v":-34.793402777777779},{"$f":"PH64","v":6.1666486778197509},{"$f":"PF64","v":"f8"},null,null,null,null,null,"بزرگی فلش دانه",{"$f":"PN44","v":0.4},"f10",{"$f":"PR64","v":-35},{"$f":"PS64","v":6.1666486778197509},{"$f":"PQ64","v":"f8"},null,{"$f":"PX56","v":-32.5},{"$f":"PY56+2","v":27.571428571428569},"t29",null,null,null,null,-41.5,10.714285714285715,"t11",null,{"$f":"-QJ11+QJ5+(QI61-QI81)","v":0},"شیفت افقی",null,null,null,null,null,null,{"$f":"2*QQ15-QQ56","v":-16.2},{"$f":"QR56","v":57.770360057318214},"k47",null,null,null,null,{"$f":"QQ21","v":-13.694592710667722},{"$f":"QR21","v":48.28856646104898},"k10",null,"p55",0.38,"فاصله فلش کم کردن",null,"ارتفاع نیم دایره",{"$f":"RC49","v":0.5666486778197517},"بزرگی فلش",{"$f":"RG60","v":-35},{"$f":"RH60","v":5.5666486778197513},{"$f":"RF60","v":"p5"},null,{"$f":"RM40+85*RN28","v":72.800925925925924},{"$f":"RN40","v":-20},85,null,{"$f":"RQ56","v":0},{"$f":"RN38","v":-40.155257586450247},null,null,{"$f":"RU40+85*RV31","v":10.388143966125611},{"$f":"RV40","v":0},85,null,{"$f":"RY56","v":-40},{"$f":"RV38","v":10.277777777777777},null,null,{"$f":"SC56","v":-32.293577981651374},{"$f":"RV38","v":10.277777777777777},null,null,{"$f":"SG40+85*SH28","v":72.800925925925924},{"$f":"SH40","v":-20},85,null,{"$f":"SK56","v":0},{"$f":"SH38","v":-40.155257586450247},null,null,{"$f":"SO40+85*SP31","v":10.388143966125611},{"$f":"SP40","v":0},85,null,{"$f":"SS56","v":-40},{"$f":"SP38","v":10.277777777777777},null,null,{"$f":"SW56","v":-32.293577981651374},{"$f":"SP38","v":10.277777777777777},null,null,{"$f":"TA40+85*TB28","v":68.865740740740748},{"$f":"TB40","v":-20},85,null,{"$f":"TE56","v":0},{"$f":"TB38","v":-40.22935779816514},null,null,{"$f":"TI40+85*TJ31","v":9.1284403669724838},{"$f":"TJ40","v":0},85,null,{"$f":"TM56","v":-40},{"$f":"TJ38","v":9.7222222222222232},null,null,{"$f":"TQ56","v":-32.486238532110093},{"$f":"TJ38","v":9.7222222222222232},null,null,{"$f":"TU40+85*TV28","v":68.865740740740748},{"$f":"TV40","v":-20},85,null,{"$f":"TY56","v":0},{"$f":"TV38","v":-40.22935779816514},null,null,{"$f":"UC40+85*UD31","v":9.1284403669724838},{"$f":"UD40","v":0},85,null,{"$f":"UG56","v":-40},{"$f":"UD38","v":9.7222222222222232},null,null,{"$f":"UK56","v":-32.486238532110093},{"$f":"UD38","v":9.7222222222222232},null,null,{"$f":"UO40+85*UP28","v":72.800925925925924},{"$f":"UP40","v":-20},85,null,{"$f":"US56","v":0},{"$f":"UP38","v":-40.155257586450247},null,null,{"$f":"UW40+85*UX31","v":10.388143966125611},{"$f":"UX40","v":0},85,null,{"$f":"VA56","v":-40},{"$f":"UX38","v":10.277777777777777},null,null,{"$f":"VE56","v":-32.293577981651374},{"$f":"UX38","v":10.277777777777777},null,null,{"$f":"VI40+85*VJ28","v":72.800925925925924},{"$f":"VJ40","v":-20},85,null,{"$f":"VM56","v":0},{"$f":"VJ38","v":-40.155257586450247},null,null,{"$f":"VQ40+85*VR31","v":10.388143966125611},{"$f":"VR40","v":0},85,null,{"$f":"VU56","v":-40},{"$f":"VR38","v":10.277777777777777},null,null,{"$f":"VY56","v":-32.293577981651374},{"$f":"VR38","v":10.277777777777777}]
[null,null,null,null,null,null,null,null,null,null,null,null,null,null,null,null,null,null,null,null,null,null,null,null,null,null,null,null,null,null,null,null,null,{"$error":"#DIV/0!"},0,{"$f":"IF(AM58=0,\"  \",(10/3)*((AM58/AL58)*(1/J6)-1))","v":"  "},{"$f":"IF(AN58=0,\"  \",(100/68)*((AO58/AN58)*(1/J7)-1))","v":"  "},13.5,0,0,36,null,52,null,"  ","  ","  ",null,null,null,null,null,null,null,null,null,null,null,null,null,null,null,null,null,null,null,null,null,null,null,null,null,null,null,null,null,null,null,null,null,null,null,null,null,null,null,null,null,null,null,null,null,null,null,null,null,null,null,null,null,null,null,null,null,null,null,null,null,null,null,null,null,null,null,null,null,null,null,null,null,null,null,null,null,null,null,null,null,null,null,null,null,null,null,null,null,null,null,null,null,null,null,null,null,null,null,null,null,null,null,null,null,null,null,null,null,null,null,null,null,null,null,null,null,null,null,null,null,null,null,null,null,null,null,null,null,null,null,null,null,null,null,null,null,null,null,null,null,null,null,null,null,null,null,null,null,null,null,null,null,null,null,null,null,null,null,null,null,null,null,null,null,null,null,null,null,null,null,null,null,null,null,{"$f":"-HK58+HP9","v":0},0,null,null,0,0,48,null,{"$f":"HS58+2*(SIN(ATAN((HS12-HS11)/(HT12-HT11)))*(HT58-HT11)+COS(ATAN((HS12-HS11)/(HT12-HT11)))*(HS11-HS58))*COS(ATAN((HS12-HS11)/(HT12-HT11)))","v":{"$error":"#DIV/0!"}},{"$f":"HT58-2*(SIN(ATAN((HS12-HS11)/(HT12-HT11)))*(HT58-HT11)+COS(ATAN((HS12-HS11)/(HT12-HT11)))*(HS11-HS58))*SIN(ATAN((HS12-HS11)/(HT12-HT11)))","v":{"$error":"#DIV/0!"}},48,null,null,null,null,null,null,null,null,null,null,null,null,null,null,null,null,null,null,null,null,null,null,null,null,null,null,null,null,null,null,null,null,null,null,null,null,null,null,null,null,null,null,null,null,null,null,null,null,null,null,null,null,null,null,null,null,null,null,null,null,null,null,null,null,null,null,null,null,null,null,null,null,null,null,null,null,null,null,null,null,null,null,null,null,null,null,null,null,null,null,null,null,null,null,null,null,null,null,null,null,null,null,null,null,null,null,null,null,null,null,null,null,null,null,null,null,null,null,null,null,null,null,null,null,null,null,null,null,null,null,null,null,null,null,null,null,null,null,null,null,null,null,null,null,null,null,null,null,null,null,null,{"$f":"NU52+0.1*(NU53-NU52)","v":-31.835416666666667},{"$f":"NV52","v":9.013761467889907},"w9",null,"h5",{"$f":"NZ54+0.5*(NZ56-NZ54)","v":-19.177083333333336},{"$f":"OA54","v":5.8027522935779814},{"$f":"NZ63","v":-16.702083333333334},{"$f":"OA63","v":5.5527522935779814},{"$f":"NY63","v":"h12"},null,null,{"$f":"IF(OG59<11,\" مخصوص \",F8)","v":2.5},"انتخاب ضخامت میل بافتنی   f1",null,"پهنای نیم دایره",{"$f":"OG40","v":0.5},{"$f":"OG51","v":0.33998920669185106},{"$f":"OK64","v":-35.3675},{"$f":"OL64","v":5.6459794927145168},{"$f":"OJ64","v":"g5"},null,null,{"$f":"IF(OR59<11,\" مخصوص \",F8)","v":2.5},"انتخاب ضخامت میل بافتنی   f1",null,"پهنای نیم دایره",{"$f":"OR40","v":0.5},{"$f":"OR51","v":0.33998920669185106},{"$f":"OV64","v":-35.3675},{"$f":"OW64","v":5.6459794927145168},{"$f":"OU64","v":"g5"},null,null,null,null,null,"زاویه فلش دانه",{"$f":"PC45","v":0.75},"f11",{"$f":"PG61","v":-34.793402777777779},{"$f":"PH61","v":5.5666486778197513},{"$f":"PF61","v":"n7"},null,null,null,null,null,"زاویه فلش دانه",{"$f":"PN45","v":0.75},"f11",{"$f":"PR61","v":-35},{"$f":"PS61","v":5.5666486778197513},{"$f":"PQ61","v":"n7"},null,{"$f":"PX55","v":-49.5},{"$f":"PY57","v":27.571428571428569},"t30",null,"زاویه فلش",{"$f":"PY10","v":0.5},"f5",null,null,"فلش به سمت راست",null,{"$f":"-QJ12+QJ6+(QJ61-QJ81)","v":-1.1999999999999886},"شیفت عمودی",null,null,{"$f":"QM52","v":-0.5},{"$f":"QN56-3","v":68.227797473097809},"26'****",null,{"$f":"QQ15","v":-13},{"$f":"QR15+QR7+4*QR8","v":58.627797473097807},"k48",null,null,null,null,null,null,null,null,null,null,null,null,"پهنای نیم دایره",{"$f":"RC40","v":0.5},{"$f":"RC51","v":0.33998920669185106},{"$f":"RG64","v":-35.3675},{"$f":"RH64","v":5.6459794927145168},{"$f":"RF64","v":"g5"},null,{"$f":"RM40+90*RN28","v":77.083333333333329},{"$f":"RN40","v":-20},90,null,null,null,null,null,{"$f":"RU40+90*RV31","v":13.352152434721233},{"$f":"RV40","v":0},90,null,null,null,null,null,null,null,null,null,{"$f":"SG40+90*SH28","v":77.083333333333329},{"$f":"SH40","v":-20},90,null,null,null,null,null,{"$f":"SO40+90*SP31","v":13.352152434721233},{"$f":"SP40","v":0},90,null,null,null,null,null,null,null,null,null,{"$f":"TA40+90*TB28","v":72.916666666666671},{"$f":"TB40","v":-20},90,null,null,null,null,null,{"$f":"TI40+90*TJ31","v":12.018348623853221},{"$f":"TJ40","v":0},90,null,null,null,null,null,null,null,null,null,{"$f":"TU40+90*TV28","v":72.916666666666671},{"$f":"TV40","v":-20},90,null,null,null,null,null,{"$f":"UC40+90*UD31","v":12.018348623853221},{"$f":"UD40","v":0},90,null,null,null,null,null,null,null,null,null,{"$f":"UO40+90*UP28","v":77.083333333333329},{"$f":"UP40","v":-20},90,null,null,null,null,null,{"$f":"UW40+90*UX31","v":13.352152434721233},{"$f":"UX40","v":0},90,null,null,null,null,null,null,null,null,null,{"$f":"VI40+90*VJ28","v":77.083333333333329},{"$f":"VJ40","v":-20},90,null,null,null,null,null,{"$f":"VQ40+90*VR31","v":13.352152434721233},{"$f":"VR40","v":0},90]
[null,null,null,null,null,null,null,null,null,null,null,null,null,null,null,null,null,null,null,null,null,null,null,null,null,null,null,null,null,null,null,null,null,{"$error":"#DIV/0!"},0,{"$f":"IF(AM59=0,\"  \",(10/3)*((AM59/AL59)*(1/J6)-1))","v":"  "},{"$f":"IF(AN59=0,\"  \",(100/68)*((AO59/AN59)*(1/J7)-1))","v":"  "},13.5,0,0,36,null,53,null,"  ","  ","  ",null,null,null,null,null,null,null,null,null,null,null,null,null,null,null,null,null,null,null,null,null,null,null,null,null,null,null,null,null,null,null,null,null,null,null,null,null,null,null,null,null,null,null,null,null,null,null,null,null,null,null,null,null,null,null,null,null,null,null,null,null,null,null,null,null,null,null,null,null,null,null,null,null,null,null,null,null,null,null,null,null,null,null,null,null,null,null,null,null,null,null,null,null,null,null,null,null,null,null,null,null,null,null,null,null,null,null,null,null,null,null,null,null,null,null,null,null,null,null,null,null,null,null,null,null,null,null,null,null,null,null,null,null,null,null,null,null,null,null,null,null,null,null,null,null,null,null,null,null,null,null,null,null,null,null,null,null,null,null,null,null,null,null,null,null,null,null,null,null,null,null,null,null,null,null,{"$f":"-HK59+HP9","v":0},0,null,null,0,0,49,null,{"$f":"HS59+2*(SIN(ATAN((HS12-HS11)/(HT12-HT11)))*(HT59-HT11)+COS(ATAN((HS12-HS11)/(HT12-HT11)))*(HS11-HS59))*COS(ATAN((HS12-HS11)/(HT12-HT11)))","v":{"$error":"#DIV/0!"}},{"$f":"HT59-2*(SIN(ATAN((HS12-HS11)/(HT12-HT11)))*(HT59-HT11)+COS(ATAN((HS12-HS11)/(HT12-HT11)))*(HS11-HS59))*SIN(ATAN((HS12-HS11)/(HT12-HT11)))","v":{"$error":"#DIV/0!"}},49,null,null,null,null,null,null,null,null,null,null,null,null,null,null,null,null,null,null,null,null,null,null,null,null,null,null,null,null,null,null,null,null,null,null,null,null,null,null,null,null,null,null,null,null,null,null,null,null,null,null,null,null,null,null,null,null,null,null,null,null,null,null,null,null,null,null,null,null,null,null,null,null,null,null,null,null,null,null,null,null,null,null,null,null,null,null,null,null,null,null,null,null,null,null,null,null,null,null,null,null,null,null,null,null,null,null,null,null,null,null,null,null,null,null,null,null,null,null,null,null,null,null,null,null,null,null,null,null,null,null,null,null,null,null,null,null,null,null,null,null,null,null,null,null,null,null,null,null,null,null,null,{"$f":"NU53","v":-3.3541666666666679},{"$f":"NV53+NV34","v":9.8165137614678883},"w10",null,"h8",{"$f":"NZ58-0.5*NZ49","v":-21.652083333333337},{"$f":"OA54","v":5.8027522935779814},null,null,null,null,{"$f":"S21","v":"همه از زیر"},{"$f":"S20","v":12},"بافت انتخابی یقه شومیزیه",null,"نقطه شروع انحنا","مولفه افقی","مولفه عمودی",{"$f":"OK63","v":-35.524999999999999},{"$f":"OL63","v":5.8499730167296269},{"$f":"OJ63","v":"g4"},null,{"$f":"S21","v":"همه از زیر"},{"$f":"S20","v":12},"بافت انتخابی یقه شومیزیه",null,"نقطه شروع انحنا","مولفه افقی","مولفه عمودی",{"$f":"OV63","v":-35.524999999999999},{"$f":"OW63","v":5.8499730167296269},{"$f":"OU63","v":"g4"},null,null,"نقاط خروجی ",null,null,"ارتفاع هر رج",{"$f":"PC37","v":0.5666486778197517},"w11",null,null,null,null,null,"نقاط خروجی ",null,null,"ارتفاع هر رج",{"$f":"PN37","v":0.5666486778197517},"w11",null,null,null,null,{"$f":"PX55+0.5*(PX56-PX55)","v":-41},{"$f":"PY56+0.5*(PY57-PY56)","v":26.571428571428569},"t31",null,"بزرگی فلش",{"$f":"PY16","v":0.57142857142857151},"f4",{"$f":"QC61","v":-45},{"$f":"QD61","v":10.714285714285715},{"$f":"QB61","v":"t12"},null,null,null,null,null,null,null,null,null,{"$f":"QQ15+QR7+5*QR8","v":-6},{"$f":"QR15","v":52.227797473097809},"k49",null,null,null,null,{"$f":"QQ16","v":-9},{"$f":"QR16","v":52.227797473097809},"k5",null,null,"نقاط خروجی ",null,null,"نقطه شروع انحنا","مولفه افقی","مولفه عمودی",{"$f":"RG63","v":-35.524999999999999},{"$f":"RH63","v":5.8499730167296269},{"$f":"RF63","v":"g4"},null,{"$f":"RM40+95*RN28","v":81.365740740740733},{"$f":"RN40","v":-20},95,null,{"$f":"IF(RN26>(RM51-RM40),RM51,RM40)","v":0},{"$f":"IF(RN26>(RM51-RM40),RN51,RN40)","v":-20},55,null,{"$f":"RU40+95*RV31","v":16.316160903316856},{"$f":"RV40","v":0},95,null,{"$f":"IF(RV27>(RU51-RU40),RU51,RU40)","v":-40},{"$f":"IF(RV27>(RU51-RU40),RV51,RV40)","v":0},55,null,{"$f":"IF(RV27>(RU76-RU40),RU76,RU40)","v":-31.70077628793225},{"$f":"IF(RV27>(RU76-RU40),RV76,RV40)","v":0},14,null,{"$f":"SG40+95*SH28","v":81.365740740740733},{"$f":"SH40","v":-20},95,null,{"$f":"IF(SH26>(SG51-SG40),SG51,SG40)","v":0},{"$f":"IF(SH26>(SG51-SG40),SH51,SH40)","v":-20},55,null,{"$f":"SO40+95*SP31","v":16.316160903316856},{"$f":"SP40","v":0},95,null,{"$f":"IF(SP27>(SO51-SO40),SO51,SO40)","v":-40},{"$f":"IF(SP27>(SO51-SO40),SP51,SP40)","v":0},55,null,{"$f":"IF(SP27>(SO76-SO40),SO76,SO40)","v":-31.70077628793225},{"$f":"IF(SP27>(SO76-SO40),SP76,SP40)","v":0},14,null,{"$f":"TA40+95*TB28","v":76.967592592592595},{"$f":"TB40","v":-20},95,null,{"$f":"IF(TB26>(TA51-TA40),TA51,TA40)","v":0},{"$f":"IF(TB26>(TA51-TA40),TB51,TB40)","v":-20},55,null,{"$f":"TI40+95*TJ31","v":14.908256880733951},{"$f":"TJ40","v":0},95,null,{"$f":"IF(TJ27>(TI51-TI40),TI51,TI40)","v":-40},{"$f":"IF(TJ27>(TI51-TI40),TJ51,TJ40)","v":0},55,null,{"$f":"IF(TJ27>(TI76-TI40),TI76,TI40)","v":-31.908256880733944},{"$f":"IF(TJ27>(TI76-TI40),TJ76,TJ40)","v":0},14,null,{"$f":"TU40+95*TV28","v":76.967592592592595},{"$f":"TV40","v":-20},95,null,{"$f":"IF(TV26>(TU51-TU40),TU51,TU40)","v":0},{"$f":"IF(TV26>(TU51-TU40),TV51,TV40)","v":-20},55,null,{"$f":"UC40+95*UD31","v":14.908256880733951},{"$f":"UD40","v":0},95,null,{"$f":"IF(UD27>(UC51-UC40),UC51,UC40)","v":-40},{"$f":"IF(UD27>(UC51-UC40),UD51,UD40)","v":0},55,null,{"$f":"IF(UD27>(UC76-UC40),UC76,UC40)","v":-31.908256880733944},{"$f":"IF(UD27>(UC76-UC40),UD76,UD40)","v":0},14,null,{"$f":"UO40+95*UP28","v":81.365740740740733},{"$f":"UP40","v":-20},95,null,{"$f":"IF(UP26>(UO51-UO40),UO51,UO40)","v":0},{"$f":"IF(UP26>(UO51-UO40),UP51,UP40)","v":-20},55,null,{"$f":"UW40+95*UX31","v":16.316160903316856},{"$f":"UX40","v":0},95,null,{"$f":"IF(UX27>(UW51-UW40),UW51,UW40)","v":-40},{"$f":"IF(UX27>(UW51-UW40),UX51,UX40)","v":0},55,null,{"$f":"IF(UX27>(UW76-UW40),UW76,UW40)","v":-31.70077628793225},{"$f":"IF(UX27>(UW76-UW40),UX76,UX40)","v":0},14,null,{"$f":"VI40+95*VJ28","v":81.365740740740733},{"$f":"VJ40","v":-20},95,null,{"$f":"IF(VJ26>(VI51-VI40),VI51,VI40)","v":0},{"$f":"IF(VJ26>(VI51-VI40),VJ51,VJ40)","v":-20},55,null,{"$f":"VQ40+95*VR31","v":16.316160903316856},{"$f":"VR40","v":0},95,null,{"$f":"IF(VR27>(VQ51-VQ40),VQ51,VQ40)","v":-40},{"$f":"IF(VR27>(VQ51-VQ40),VR51,VR40)","v":0},55,null,{"$f":"IF(VR27>(VQ76-VQ40),VQ76,VQ40)","v":-31.70077628793225},{"$f":"IF(VR27>(VQ76-VQ40),VR76,VR40)","v":0},14]
[null,null,null,null,null,null,null,null,null,null,null,null,null,null,null,null,null,null,null,null,null,null,null,null,null,null,null,null,null,null,null,null,null,{"$error":"#DIV/0!"},0,{"$f":"IF(AM60=0,\"  \",(10/3)*((AM60/AL60)*(1/J6)-1))","v":"  "},{"$f":"IF(AN60=0,\"  \",(100/68)*((AO60/AN60)*(1/J7)-1))","v":"  "},13.5,0,0,36,null,54,null,"  ","  ","  ",null,null,null,null,null,null,null,null,null,null,null,null,null,null,null,null,null,null,null,null,null,null,null,null,null,null,null,null,null,null,null,null,null,null,null,null,null,null,null,null,null,null,null,null,null,null,null,null,null,null,null,null,null,null,null,null,null,null,null,null,null,null,null,null,null,null,null,null,null,null,null,null,null,null,null,null,null,null,null,null,null,null,null,null,null,null,null,null,null,null,null,null,null,null,null,null,null,null,null,null,null,null,null,null,null,null,null,null,null,null,null,null,null,null,null,null,null,null,null,null,null,null,null,null,null,null,null,null,null,null,null,null,null,null,null,null,null,null,null,null,null,null,null,null,null,null,null,null,null,null,null,null,null,null,null,null,null,null,null,null,null,null,null,null,null,null,null,null,null,null,null,null,null,null,null,{"$f":"-HK60+HP9","v":0},0,null,null,{"$f":"HF30","v":0},{"$f":"HG30","v":0},50,null,{"$f":"HS60+2*(SIN(ATAN((HS12-HS11)/(HT12-HT11)))*(HT60-HT11)+COS(ATAN((HS12-HS11)/(HT12-HT11)))*(HS11-HS60))*COS(ATAN((HS12-HS11)/(HT12-HT11)))","v":{"$error":"#DIV/0!"}},{"$f":"HT60-2*(SIN(ATAN((HS12-HS11)/(HT12-HT11)))*(HT60-HT11)+COS(ATAN((HS12-HS11)/(HT12-HT11)))*(HS11-HS60))*SIN(ATAN((HS12-HS11)/(HT12-HT11)))","v":{"$error":"#DIV/0!"}},50,null,null,null,null,null,null,null,null,null,null,null,null,null,null,null,null,null,null,null,null,null,null,null,null,null,null,null,null,null,null,null,null,null,null,null,null,null,null,null,null,null,null,null,null,null,null,null,null,null,null,null,null,null,null,null,null,null,null,null,null,null,null,null,null,null,null,null,null,null,null,null,null,null,null,null,null,null,null,null,null,null,null,null,null,null,null,null,null,null,null,null,null,null,null,null,null,null,null,null,null,null,null,null,null,null,null,null,null,null,null,null,null,null,null,null,null,null,null,null,null,null,null,null,null,null,null,null,null,null,null,null,null,null,null,null,null,null,null,null,null,null,null,null,null,null,null,null,null,null,null,null,{"$f":"NU59-NV7/NV48","v":-6.9270833333333339},{"$f":"NV59","v":9.8165137614678883},"w13",null,"h9",{"$f":"NZ58+0.5*NZ49","v":-16.702083333333334},{"$f":"OA54","v":5.8027522935779814},{"$f":"NZ63","v":-16.702083333333334},{"$f":"OA63","v":5.5527522935779814},{"$f":"NY63","v":"h12"},null,null,"نقاط خروجی ",null,null,"m6",{"$f":"OF65","v":-35},{"$f":"OG65","v":5.5666486778197513},{"$f":"OK65","v":-35.3675},{"$f":"OL65","v":6.0539665407447369},{"$f":"OJ65","v":"g6"},null,null,"نقاط خروجی ",null,null,"m6",{"$f":"OQ65","v":-35},{"$f":"OR65","v":5.5666486778197513},{"$f":"OV65","v":-35.3675},{"$f":"OW65","v":6.0539665407447369},{"$f":"OU65","v":"g6"},null,{"$f":"PC34","v":-35},{"$f":"PC35","v":5},"n1",null,"نقطه ورودی سر فلش","مولفه افقی","مولفه عمودی",{"$f":"PG64","v":-34.793402777777779},{"$f":"PH64","v":6.1666486778197509},{"$f":"PF64","v":"f8"},null,{"$f":"PN34","v":-35},{"$f":"PN35","v":5},"n1",null,"نقطه ورودی سر فلش","مولفه افقی","مولفه عمودی",{"$f":"PR64","v":-35},{"$f":"PS64","v":6.1666486778197509},{"$f":"PQ64","v":"f8"},null,{"$f":"PX55","v":-49.5},{"$f":"PY29-1","v":4},"t32",null,"نقطه ورودی سر فلش","مولفه افقی","مولفه عمودی",{"$f":"QC63","v":-45.571428571428569},{"$f":"QD63","v":11.000000000000002},{"$f":"QB63","v":"f3"},null,null,"نقاط خروجی ",null,null,{"$f":"QI88","v":27.072549233647099},{"$f":"QJ88","v":61.744721973077098},"12'",null,{"$f":"2*QQ15-QQ59","v":-20},{"$f":"QR59","v":52.227797473097809},"k50",null,null,null,null,{"$f":"QQ70","v":-4.1999999999999993},{"$f":"QR70","v":52.227797473097809},"k60",null,{"$f":"RC36","v":-35},{"$f":"RC37","v":5},"p1",null,"p5",{"$f":"RB64","v":-35},{"$f":"RC64","v":5.5666486778197513},{"$f":"RG65","v":-35.3675},{"$f":"RH65","v":6.0539665407447369},{"$f":"RF65","v":"g6"},null,{"$f":"RM40+100*RN28","v":85.648148148148138},{"$f":"RN40","v":-20},100,null,{"$f":"RQ59","v":0},{"$f":"RN38","v":-40.155257586450247},null,null,{"$f":"RU40+100*RV31","v":19.280169371912486},{"$f":"RV40","v":0},100,null,{"$f":"RY59","v":-40},{"$f":"RV38","v":10.277777777777777},null,null,{"$f":"SC59","v":-31.70077628793225},{"$f":"RV38","v":10.277777777777777},null,null,{"$f":"SG40+100*SH28","v":85.648148148148138},{"$f":"SH40","v":-20},100,null,{"$f":"SK59","v":0},{"$f":"SH38","v":-40.155257586450247},null,null,{"$f":"SO40+100*SP31","v":19.280169371912486},{"$f":"SP40","v":0},100,null,{"$f":"SS59","v":-40},{"$f":"SP38","v":10.277777777777777},null,null,{"$f":"SW59","v":-31.70077628793225},{"$f":"SP38","v":10.277777777777777},null,null,{"$f":"TA40+100*TB28","v":81.018518518518519},{"$f":"TB40","v":-20},100,null,{"$f":"TE59","v":0},{"$f":"TB38","v":-40.22935779816514},null,null,{"$f":"TI40+100*TJ31","v":17.798165137614689},{"$f":"TJ40","v":0},100,null,{"$f":"TM59","v":-40},{"$f":"TJ38","v":9.7222222222222232},null,null,{"$f":"TQ59","v":-31.908256880733944},{"$f":"TJ38","v":9.7222222222222232},null,null,{"$f":"TU40+100*TV28","v":81.018518518518519},{"$f":"TV40","v":-20},100,null,{"$f":"TY59","v":0},{"$f":"TV38","v":-40.22935779816514},null,null,{"$f":"UC40+100*UD31","v":17.798165137614689},{"$f":"UD40","v":0},100,null,{"$f":"UG59","v":-40},{"$f":"UD38","v":9.7222222222222232},null,null,{"$f":"UK59","v":-31.908256880733944},{"$f":"UD38","v":9.7222222222222232},null,null,{"$f":"UO40+100*UP28","v":85.648148148148138},{"$f":"UP40","v":-20},100,null,{"$f":"US59","v":0},{"$f":"UP38","v":-40.155257586450247},null,null,{"$f":"UW40+100*UX31","v":19.280169371912486},{"$f":"UX40","v":0},100,null,{"$f":"VA59","v":-40},{"$f":"UX38","v":10.277777777777777},null,null,{"$f":"VE59","v":-31.70077628793225},{"$f":"UX38","v":10.277777777777777},null,null,{"$f":"VI40+100*VJ28","v":85.648148148148138},{"$f":"VJ40","v":-20},100,null,{"$f":"VM59","v":0},{"$f":"VJ38","v":-40.155257586450247},null,null,{"$f":"VQ40+100*VR31","v":19.280169371912486},{"$f":"VR40","v":0},100,null,{"$f":"VU59","v":-40},{"$f":"VR38","v":10.277777777777777},null,null,{"$f":"VY59","v":-31.70077628793225},{"$f":"VR38","v":10.277777777777777}]
[null,null,null,null,null,null,null,null,null,null,null,null,null,null,null,null,null,null,null,null,null,null,null,null,null,null,null,null,null,null,null,null,null,{"$error":"#DIV/0!"},0,{"$f":"IF(AM61=0,\"  \",(10/3)*((AM61/AL61)*(1/J6)-1))","v":"  "},{"$f":"IF(AN61=0,\"  \",(100/68)*((AO61/AN61)*(1/J7)-1))","v":"  "},13.5,0,0,36,null,55,null,"  ","  ","  ",null,null,null,null,null,null,null,null,null,null,null,null,null,null,null,null,null,null,null,null,null,null,null,null,null,null,null,null,null,null,null,null,null,null,null,null,null,null,null,null,null,null,null,null,null,null,null,null,null,null,null,null,null,null,null,null,null,null,null,null,null,null,null,null,null,null,null,null,null,null,null,null,null,null,null,null,null,null,null,null,null,null,null,null,null,null,null,null,null,null,null,null,null,null,null,null,null,null,null,null,null,null,null,null,null,null,null,null,null,null,null,null,null,null,null,null,null,null,null,null,null,null,null,null,null,null,null,null,null,null,null,null,null,null,null,null,null,null,null,null,null,null,null,null,null,null,null,null,null,null,null,null,null,null,null,null,null,null,null,null,null,null,null,null,null,null,null,null,null,null,null,null,null,null,null,{"$f":"-HK61+HP9","v":0},0,null,null,null,null,null,null,null,null,null,null,null,null,null,null,null,null,null,null,null,null,null,null,null,null,null,null,null,null,null,null,null,null,null,null,null,null,null,null,null,null,null,null,null,null,null,null,null,null,null,null,null,null,null,null,null,null,null,null,null,null,null,null,null,null,null,null,null,null,null,null,null,null,null,null,null,null,null,null,null,null,null,null,null,null,null,null,null,null,null,null,null,null,null,null,null,null,null,null,null,null,null,null,null,null,null,null,null,null,null,null,null,null,null,null,null,null,null,null,null,null,null,null,null,null,null,null,null,null,null,null,null,null,null,null,null,null,null,null,null,null,null,null,null,null,null,null,null,null,null,null,null,null,null,null,null,null,null,null,null,null,{"$f":"NU60","v":-6.9270833333333339},{"$f":"NV60+NV34","v":10.61926605504587},"w14",null,"h10",{"$f":"NZ59","v":-21.652083333333337},{"$f":"OA59+0.5*NZ50","v":6.0527522935779814},{"$f":"NZ64","v":-16.702083333333334},{"$f":"OA64","v":6.0527522935779814},{"$f":"NY64","v":"h13"},null,{"$f":"OG36+OG5/OG50","v":14.170138888888893},{"$f":"OG37","v":5},"m2",null,"g11",{"$f":"OK65+0.8*(OK63-OK65)","v":-35.493499999999997},{"$f":"OL63+0.6*(OL65-OL63)","v":5.9723691311386933},{"$f":"OK62","v":-35},{"$f":"OL62","v":6.1332973556395025},{"$f":"OJ62","v":"g2"},null,{"$f":"OR36+OR5/OR50","v":7.9722222222222285},{"$f":"OR37","v":5},"m2",null,"g11",{"$f":"OV65+0.8*(OV63-OV65)","v":-35.493499999999997},{"$f":"OW63+0.6*(OW65-OW63)","v":5.9723691311386933},{"$f":"OV62","v":-35},{"$f":"OW62","v":6.1332973556395025},{"$f":"OU62","v":"g2"},null,{"$f":"PB60+PC5/PC48","v":1.7743055555555571},{"$f":"PC60","v":5},"n2",null,"n7",{"$f":"PB66","v":-34.793402777777779},{"$f":"PC66","v":5.5666486778197513},{"$f":"PG62","v":-34.963397381123706},{"$f":"PH62","v":5.93998920669185},{"$f":"PF62","v":"f6"},null,{"$f":"PM60+PN5/PN48","v":6.7326388888888928},{"$f":"PN60","v":5},"n2",null,"n7",{"$f":"PM66","v":-35},{"$f":"PN66","v":5.5666486778197513},{"$f":"PR62","v":-35.169994603345927},{"$f":"PS62","v":5.93998920669185},{"$f":"PQ62","v":"f6"},null,{"$f":"PX56","v":-32.5},{"$f":"PY60","v":4},"t33",null,{"$f":"PZ40","v":"t12"},{"$f":"PX40","v":-45},{"$f":"PY40","v":10.714285714285715},null,null,null,null,{"$f":"QI18-QJ9+QJ5","v":5.4188000000000001},{"$f":"QJ18-QJ10+QJ6","v":86.9},25,null,null,null,null,null,{"$f":"QQ15+(QR7+5*QR8)*SIN(RADIANS(30))","v":-9.5},{"$f":"QR15+(QR7+5*QR8)*COS(RADIANS(30))","v":58.289975299588882},"k51",null,null,null,null,null,null,null,null,{"$f":"RB60+RC5/RC50","v":-4.3750000000000036},{"$f":"RC60","v":5},"p2",null,"g11",{"$f":"RG65+0.8*(RG63-RG65)","v":-35.493499999999997},{"$f":"RH63+0.6*(RH65-RH63)","v":5.9723691311386933},{"$f":"RG62","v":-35},{"$f":"RH62","v":6.1332973556395025},{"$f":"RF62","v":"g2"}]
[null,null,null,null,null,null,null,null,null,null,null,null,null,null,null,null,null,null,null,null,null,null,null,null,null,null,null,null,null,null,null,null,null,{"$error":"#DIV/0!"},0,{"$f":"IF(AM62=0,\"  \",(10/3)*((AM62/AL62)*(1/J6)-1))","v":"  "},{"$f":"IF(AN62=0,\"  \",(100/68)*((AO62/AN62)*(1/J7)-1))","v":"  "},13.5,0,0,36,null,56,null,"  ","  ","  ",null,null,null,null,null,null,null,null,null,null,null,null,null,null,null,null,null,null,null,null,null,null,null,null,null,null,null,null,null,null,null,null,null,null,null,null,null,null,null,null,null,null,null,null,null,null,null,null,null,null,null,null,null,null,null,null,null,null,null,null,null,null,null,null,null,null,null,null,null,null,null,null,null,null,null,null,null,null,null,null,null,null,null,null,null,null,null,null,null,null,null,null,null,null,null,null,null,null,null,null,null,null,null,null,null,null,null,null,null,null,null,null,null,null,null,null,null,null,null,null,null,null,null,null,null,null,null,null,null,null,null,null,null,null,null,null,null,null,null,null,null,null,null,null,null,null,null,null,null,null,null,null,null,null,null,null,null,null,null,null,null,null,null,null,null,null,null,null,null,null,null,null,null,null,null,{"$f":"-HK62+HP9","v":0},0,null,null,null,null,null,null,null,null,null,null,null,null,null,null,null,null,null,null,null,null,null,null,null,null,null,null,null,null,null,null,null,null,null,null,null,null,null,null,null,null,null,null,null,null,null,null,null,null,null,null,null,null,null,null,null,null,null,null,null,null,null,null,null,null,null,null,null,null,null,null,null,null,null,null,null,null,null,null,null,null,null,null,null,null,null,null,null,null,null,null,null,null,null,null,null,null,null,null,null,null,null,null,null,null,null,null,null,null,null,null,null,null,null,null,null,null,null,null,null,null,null,null,null,null,null,null,null,null,null,null,null,null,null,null,null,null,null,null,null,null,null,null,null,null,null,null,null,null,null,null,null,null,null,null,null,null,null,null,null,null,{"$f":"NU59","v":-3.3541666666666679},{"$f":"NV61","v":10.61926605504587},"w15",null,"h11",{"$f":"NZ59","v":-21.652083333333337},{"$f":"OA59-0.5*NZ50","v":5.5527522935779814},null,null,null,null,{"$f":"OG36+0.1*(OF61-OG36)","v":-30.082986111111111},{"$f":"OG37","v":5},"m3",null,"g2",{"$f":"OK60","v":-35},{"$f":"OL60+OK57","v":6.1332973556395025},null,null,null,null,{"$f":"OR36+0.1*(OQ61-OR36)","v":-30.702777777777776},{"$f":"OR37","v":5},"m3",null,"g2",{"$f":"OV60","v":-35},{"$f":"OW60+OV57","v":6.1332973556395025},null,null,null,null,{"$f":"PB60+0.1*(PB61-PB60)","v":-31.322569444444444},{"$f":"PC60","v":5},"n3",null,"f6",{"$f":"PG61-PG58*PG57*PG59","v":-34.963397381123706},{"$f":"PH64-PG57*PG59","v":5.93998920669185},null,null,null,null,{"$f":"PM60+0.1*(PM61-PM60)","v":-30.82673611111111},{"$f":"PN60","v":5},"n3",null,"f6",{"$f":"PR61-PR58*PR57*PR59","v":-35.169994603345927},{"$f":"PS64-PR57*PR59","v":5.93998920669185},null,null,null,null,null,null,null,null,"f2",{"$f":"QC61-1*QC59","v":-45.571428571428569},{"$f":"QD61-QC58*QC59","v":10.428571428571429},{"$f":"QC61","v":-45},{"$f":"QD61","v":10.714285714285715},{"$f":"QB61","v":"t12"},null,{"$f":"QI19-QJ9+QJ5","v":4.3350400000000011},{"$f":"QJ19-QJ10+QJ6","v":83.563898736548907},30,null,null,null,null,null,{"$f":"2*QQ15-QQ61","v":-16.5},{"$f":"QR61","v":58.289975299588882},"k52",null,null,null,null,{"$f":"QQ26","v":-11},{"$f":"QR26","v":55.691899088235566},"k15",null,{"$f":"RB60+0.1*(RB61-RB60)","v":-31.9375},{"$f":"RC60","v":5},"p3",null,"g2",{"$f":"RG60","v":-35},{"$f":"RH60+RG57","v":6.1332973556395025},null,null,null,null,null,null,null,null,{"$f":"IF(RN26>(RM52-RM40),RM52,RM40)","v":0},{"$f":"IF(RN26>(RM52-RM40),RN52,RN40)","v":-20},60,null,null,null,null,null,{"$f":"IF(RV27>(RU52-RU40),RU52,RU40)","v":-40},{"$f":"IF(RV27>(RU52-RU40),RV52,RV40)","v":0},60,null,{"$f":"IF(RV27>(RU77-RU40),RU77,RU40)","v":-30.515172900494001},{"$f":"IF(RV27>(RU77-RU40),RV77,RV40)","v":0},16,null,null,null,null,null,{"$f":"IF(SH26>(SG52-SG40),SG52,SG40)","v":0},{"$f":"IF(SH26>(SG52-SG40),SH52,SH40)","v":-20},60,null,null,null,null,null,{"$f":"IF(SP27>(SO52-SO40),SO52,SO40)","v":-40},{"$f":"IF(SP27>(SO52-SO40),SP52,SP40)","v":0},60,null,{"$f":"IF(SP27>(SO77-SO40),SO77,SO40)","v":-30.515172900494001},{"$f":"IF(SP27>(SO77-SO40),SP77,SP40)","v":0},16,null,null,null,null,null,{"$f":"IF(TB26>(TA52-TA40),TA52,TA40)","v":0},{"$f":"IF(TB26>(TA52-TA40),TB52,TB40)","v":-20},60,null,null,null,null,null,{"$f":"IF(TJ27>(TI52-TI40),TI52,TI40)","v":-40},{"$f":"IF(TJ27>(TI52-TI40),TJ52,TJ40)","v":0},60,null,{"$f":"IF(TJ27>(TI77-TI40),TI77,TI40)","v":-30.75229357798165},{"$f":"IF(TJ27>(TI77-TI40),TJ77,TJ40)","v":0},16,null,null,null,null,null,{"$f":"IF(TV26>(TU52-TU40),TU52,TU40)","v":0},{"$f":"IF(TV26>(TU52-TU40),TV52,TV40)","v":-20},60,null,null,null,null,null,{"$f":"IF(UD27>(UC52-UC40),UC52,UC40)","v":-40},{"$f":"IF(UD27>(UC52-UC40),UD52,UD40)","v":0},60,null,{"$f":"IF(UD27>(UC77-UC40),UC77,UC40)","v":-30.75229357798165},{"$f":"IF(UD27>(UC77-UC40),UD77,UD40)","v":0},16,null,null,null,null,null,{"$f":"IF(UP26>(UO52-UO40),UO52,UO40)","v":0},{"$f":"IF(UP26>(UO52-UO40),UP52,UP40)","v":-20},60,null,null,null,null,null,{"$f":"IF(UX27>(UW52-UW40),UW52,UW40)","v":-40},{"$f":"IF(UX27>(UW52-UW40),UX52,UX40)","v":0},60,null,{"$f":"IF(UX27>(UW77-UW40),UW77,UW40)","v":-30.515172900494001},{"$f":"IF(UX27>(UW77-UW40),UX77,UX40)","v":0},16,null,null,null,null,null,{"$f":"IF(VJ26>(VI52-VI40),VI52,VI40)","v":0},{"$f":"IF(VJ26>(VI52-VI40),VJ52,VJ40)","v":-20},60,null,null,null,null,null,{"$f":"IF(VR27>(VQ52-VQ40),VQ52,VQ40)","v":-40},{"$f":"IF(VR27>(VQ52-VQ40),VR52,VR40)","v":0},60,null,{"$f":"IF(VR27>(VQ77-VQ40),VQ77,VQ40)","v":-30.515172900494001},{"$f":"IF(VR27>(VQ77-VQ40),VR77,VR40)","v":0},16]
[null,null,null,null,null,null,null,null,null,null,null,null,null,null,null,null,null,null,null,null,null,null,null,null,null,null,null,null,null,null,null,null,null,{"$error":"#DIV/0!"},0,{"$f":"IF(AM66=0,\"  \",(10/3)*((AM66/AL66)*(1/J6)-1))","v":"  "},{"$f":"IF(AN66=0,\"  \",(100/68)*((AO66/AN66)*(1/J7)-1))","v":"  "},13.5,0,0,36,null,60,null,"  ","  ","  ",null,null,null,null,null,null,null,null,null,null,null,null,null,null,null,null,null,null,null,null,null,null,null,null,null,null,null,null,null,null,null,null,null,null,null,null,null,null,null,null,null,null,null,null,null,null,null,null,null,null,null,null,null,null,null,null,null,null,null,null,null,null,null,null,null,null,null,null,null,null,null,null,null,null,null,null,null,null,null,null,null,null,null,null,null,null,null,null,null,null,null,null,null,null,null,null,null,null,null,null,null,null,null,null,null,null,null,null,null,null,null,null,null,null,null,null,null,null,null,null,null,null,null,null,null,null,null,null,null,null,null,null,null,null,null,null,null,null,null,null,null,null,null,null,null,null,null,null,null,null,null,null,null,null,null,null,null,null,null,null,null,null,null,null,null,null,null,null,null,null,null,null,null,null,null,{"$f":"-HK66+HP9","v":0},0,null,null,null,null,null,null,null,null,null,null,null,null,null,null,null,null,null,null,null,null,null,null,null,null,null,null,null,null,null,null,null,null,null,null,null,null,null,null,null,null,null,null,null,null,null,null,null,null,null,null,null,null,null,null,null,null,null,null,null,null,null,null,null,null,null,null,null,null,null,null,null,null,null,null,null,null,null,null,null,null,null,null,null,null,null,null,null,null,null,null,null,null,null,null,null,null,null,null,null,null,null,null,null,null,null,null,null,null,null,null,null,null,null,null,null,null,null,null,null,null,null,null,null,null,null,null,null,null,null,null,null,null,null,null,null,null,null,null,null,null,null,null,null,null,null,null,null,null,null,null,null,null,null,null,null,null,null,null,null,null,{"$f":"NU52","v":-35},{"$f":"NV64","v":11.422018348623851},"w19",null,null,null,null,{"$f":"NZ58","v":-19.177083333333336},{"$f":"OA58","v":5.8027522935779814},{"$f":"NY58","v":"h5"},null,{"$f":"OG36","v":-35},{"$f":"OG37+2*OG39","v":6.1332973556395034},"m7",null,"g7",{"$f":"OK61+0.7*OL58*SIN(RADIANS(30)-2*ATAN((OK61-OK64)/(OL61-OL64+0.0001)))","v":-35.266893365181602},{"$f":"OL61-0.7*OL58*COS(RADIANS(30)-2*ATAN((OK61-OK64)/(OL61-OL64+0.0001)))","v":5.8996378670008323},{"$f":"OK61","v":-35.493499999999997},{"$f":"OL61","v":5.9723691311386933},{"$f":"OJ61","v":"g11"},null,{"$f":"OR36","v":-35},{"$f":"OR37+2*OR39","v":6.1332973556395034},"m7",null,"g7",{"$f":"OV61+0.7*OW58*SIN(RADIANS(30)-2*ATAN((OV61-OV64)/(OW61-OW64+0.0001)))","v":-35.266893365181602},{"$f":"OW61-0.7*OW58*COS(RADIANS(30)-2*ATAN((OV61-OV64)/(OW61-OW64+0.0001)))","v":5.8996378670008323},{"$f":"OV61","v":-35.493499999999997},{"$f":"OW61","v":5.9723691311386933},{"$f":"OU61","v":"g11"},null,{"$f":"PB64+1/PC48","v":-34.793402777777779},{"$f":"PC63","v":5.5666486778197513},"n7",null,"نسبت سایز افقی",{"$f":"PC36","v":42},"انحنا راستگرد ",null,null,{"$f":"PH66","v":"انحنا راستگرد "},null,{"$f":"PM64+1/PN48","v":-35},{"$f":"PN63","v":5.5666486778197513},"n7",null,"نسبت سایز افقی",{"$f":"PN36","v":42},"انحنا راستگرد ",null,null,{"$f":"PS66","v":"انحنا راستگرد "},null,null,null,null,null,"بزرگی فلش دانه",{"$f":"PY12","v":0.3},"f10",{"$f":"QC73","v":-47.45},{"$f":"QD73","v":10.285714285714286},{"$f":"QB73","v":"f8"},null,{"$f":"QI24-QJ9+QJ5","v":15.776499999999999},{"$f":"QJ24-QJ10+QJ6","v":70.065165014267322},12,null,null,null,null,null,{"$f":"QQ15+(QR7+6*QR8)*SIN(RADIANS(30))","v":-9.1999999999999993},{"$f":"QR15+(QR7+6*QR8)*COS(RADIANS(30))","v":58.809590541859542},"k56",null,null,null,null,{"$f":"QQ73","v":-17.399999999999999},{"$f":"QR73","v":59.84882102640087},"k63",null,{"$f":"RB64","v":-35},{"$f":"RC64+RC39","v":6.1332973556395025},"p7",null,"g7",{"$f":"RG61+0.7*RH58*SIN(RADIANS(30)-2*ATAN((RG61-RG64)/(RH61-RH64+0.0001)))","v":-35.266893365181602},{"$f":"RH61-0.7*RH58*COS(RADIANS(30)-2*ATAN((RG61-RG64)/(RH61-RH64+0.0001)))","v":5.8996378670008323},{"$f":"RG61","v":-35.493499999999997},{"$f":"RH61","v":5.9723691311386933},{"$f":"RF61","v":"g11"},null,{"$f":"RM40+2*RN28","v":1.7129629629629628},{"$f":"RN40","v":-20},2,null,{"$f":"RQ65","v":0},{"$f":"RN38","v":-40.155257586450247},null,null,{"$f":"RU40+2*RV31","v":-38.814396612561751},{"$f":"RV40","v":0},2,null,{"$f":"RY65","v":-40},{"$f":"RV38","v":10.277777777777777},null,null,{"$f":"SC65","v":-29.922371206774876},{"$f":"RV38","v":10.277777777777777},null,null,{"$f":"SG40+2*SH28","v":1.7129629629629628},{"$f":"SH40","v":-20},2,null,{"$f":"SK65","v":0},{"$f":"SH38","v":-40.155257586450247},null,null,{"$f":"SO40+2*SP31","v":-38.814396612561751},{"$f":"SP40","v":0},2,null,{"$f":"SS65","v":-40},{"$f":"SP38","v":10.277777777777777},null,null,{"$f":"SW65","v":-29.922371206774876},{"$f":"SP38","v":10.277777777777777},null,null,{"$f":"TA40+2*TB28","v":1.6203703703703705},{"$f":"TB40","v":-20},2,null,{"$f":"TE65","v":0},{"$f":"TB38","v":-40.22935779816514},null,null,{"$f":"TI40+2*TJ31","v":-38.844036697247709},{"$f":"TJ40","v":0},2,null,{"$f":"TM65","v":-40},{"$f":"TJ38","v":9.7222222222222232},null,null,{"$f":"TQ65","v":-30.174311926605505},{"$f":"TJ38","v":9.7222222222222232},null,null,{"$f":"TU40+2*TV28","v":1.6203703703703705},{"$f":"TV40","v":-20},2,null,{"$f":"TY65","v":0},{"$f":"TV38","v":-40.22935779816514},null,null,{"$f":"UC40+2*UD31","v":-38.844036697247709},{"$f":"UD40","v":0},2,null,{"$f":"UG65","v":-40},{"$f":"UD38","v":9.7222222222222232},null,null,{"$f":"UK65","v":-30.174311926605505},{"$f":"UD38","v":9.7222222222222232},null,null,{"$f":"UO40+2*UP28","v":1.7129629629629628},{"$f":"UP40","v":-20},2,null,{"$f":"US65","v":0},{"$f":"UP38","v":-40.155257586450247},null,null,{"$f":"UW40+2*UX31","v":-38.814396612561751},{"$f":"UX40","v":0},2,null,{"$f":"VA65","v":-40},{"$f":"UX38","v":10.277777777777777},null,null,{"$f":"VE65","v":-29.922371206774876},{"$f":"UX38","v":10.277777777777777},null,null,{"$f":"VI40+2*VJ28","v":1.7129629629629628},{"$f":"VJ40","v":-20},2,null,{"$f":"VM65","v":0},{"$f":"VJ38","v":-40.155257586450247},null,null,{"$f":"VQ40+2*VR31","v":-38.814396612561751},{"$f":"VR40","v":0},2,null,{"$f":"VU65","v":-40},{"$f":"VR38","v":10.277777777777777},null,null,{"$f":"VY65","v":-29.922371206774876},{"$f":"VR38","v":10.277777777777777}]
[null,null,null,null,null,null,null,null,null,null,null,null,null,null,null,null,null,null,null,null,null,null,null,null,null,null,null,null,null,null,null,null,null,null,null,null,null,null,null,null,null,null,null,null,null,null,null,null,null,null,null,null,null,null,null,null,null,null,null,null,null,null,null,null,null,null,null,null,null,null,null,null,null,null,null,null,null,null,null,null,null,null,null,null,null,null,null,null,null,null,null,null,null,null,null,null,null,null,null,null,null,null,null,null,null,null,null,null,null,null,null,null,null,null,null,null,null,null,null,null,null,null,null,null,null,null,null,null,null,null,null,null,null,null,null,null,null,null,null,null,null,null,null,null,null,null,null,null,null,null,null,null,null,null,null,null,null,null,null,null,null,null,null,null,null,null,null,null,null,null,null,null,null,null,null,null,null,null,null,null,null,null,null,null,null,null,null,null,null,null,null,null,null,null,null,null,null,null,null,null,null,null,null,null,null,null,null,null,null,null,null,null,null,null,null,null,null,null,null,null,null,null,null,null,null,null,null,null,null,null,null,null,null,null,null,null,null,null,null,null,null,null,null,null,null,null,null,null,null,null,null,null,null,null,null,null,null,null,null,null,null,null,null,null,null,null,null,null,null,null,null,null,null,{"$f":"DX401","v":6.9275399999999996},{"$f":"DY401","v":60.4},39,null,{"$f":"'متغیرها '!C705","v":0.8},"f31",null,{"$f":"AA309","v":7.327898338149768},{"$f":"AB309","v":65.239999999999995},"su6",null,{"$f":"AZ309","v":7.5257475239774925},{"$f":"BA309","v":65.44},"su2",null,null,null,null,null,null,null,null,null,null,null,null,null,null,null,null,null,null,null,null,null,null,null,null,null,null,null,null,null,null,null,null,null,null,null,null,null,null,null,null,null,null,null,null,null,null,null,null,null,null,null,null,null,null,null,null,null,null,null,null,null,null,null,null,null,null,null,null,null,null,null,null,null,null,null,null,null,null,null,null,null,null,null,null,null,null,null,null,null,null,null,null,null,null,null,null,null,{"$f":"NU83+NU75-NU76","v":-27.854166666666671},{"$f":"NV83","v":17.041284403669721},"w37",null,"g6",{"$f":"NZ83","v":-35.3675},{"$f":"OA81-OA83+OA79","v":8.5642201834862384},null,null,null,null,{"$f":"OF74","v":-26.405555555555555},{"$f":"OG82","v":12.933081489476523},"m26",null,"f6",{"$f":"OK83-OK80*OK79*OK81","v":-34.756800158901484},{"$f":"OL83+OK79*OK81","v":6.3599568267674043},null,null,null,null,{"$f":"OQ74","v":-28.864062499999999},{"$f":"OR82","v":12.933081489476523},"m26",null,"f6",{"$f":"OV83-OV80*OV79*OV81","v":-34.756800158901484},{"$f":"OW83+OV79*OV81","v":6.3599568267674043},null,null,null,null,{"$f":"PB83-2*(PB83-PB71)+1/PC48","v":-35.206597222222221},{"$f":"PC83","v":8.3998920669185075},"n26",null,"n11",{"$f":"PB70","v":-31.446527777777778},{"$f":"PC70","v":6.1332973556395025},null,null,null,null,{"$f":"PM78","v":6.9392361111111134},{"$f":"PN79+PN37","v":8.3998920669185093},"n'31",null,"n11",{"$f":"PM70","v":-31.157291666666666},{"$f":"PN70","v":6.1332973556395025},null,null,null,null,null,null,null,null,"ارتفاع هر رج",{"$f":"PY7","v":1.4285714285714286},"w11",null,null,null,null,{"$f":"QI50+QI57","v":0},{"$f":"QJ50+QI58","v":84.884730342002058},"24پ",null,{"$f":"QI74","v":43.546556196820219},{"$f":"QJ74","v":59.750366091517364},"k''4",null,null,null,null,null,"زاویه فلش",{"$f":"QR10","v":0.5},"f5",null,null,"فلش به سمت راست",null,{"$f":"RB81-RC7/RC50","v":-38.159722222222229},{"$f":"RC80","v":10.099838100377763},"p25",null,"f6",{"$f":"RG83-RG80*RG79*RG81","v":-26.055411270012595},{"$f":"RH83+RG79*RG81","v":6.3599568267674034},null,null,null,null,{"$f":"RM40+24*RN28","v":20.555555555555554},{"$f":"RN40","v":-20},24,null,{"$f":"RQ83","v":0},{"$f":"RN38","v":-40.155257586450247},null,null,{"$f":"RU40+24*RV31","v":-25.772759350741005},{"$f":"RV40","v":0},24,null,{"$f":"RY83","v":-40},{"$f":"RV38","v":10.277777777777777},null,null,{"$f":"SC83","v":-25.772759350741005},{"$f":"RV38","v":10.277777777777777},null,null,{"$f":"SG40+24*SH28","v":20.555555555555554},{"$f":"SH40","v":-20},24,null,{"$f":"SK83","v":0},{"$f":"SH38","v":-40.155257586450247},null,null,{"$f":"SO40+24*SP31","v":-25.772759350741005},{"$f":"SP40","v":0},24,null,{"$f":"SS83","v":-40},{"$f":"SP38","v":10.277777777777777},null,null,{"$f":"SW83","v":-25.772759350741005},{"$f":"SP38","v":10.277777777777777},null,null,{"$f":"TA40+24*TB28","v":19.444444444444446},{"$f":"TB40","v":-20},24,null,{"$f":"TE83","v":0},{"$f":"TB38","v":-40.22935779816514},null,null,{"$f":"TI40+24*TJ31","v":-26.128440366972477},{"$f":"TJ40","v":0},24,null,{"$f":"TM83","v":-40},{"$f":"TJ38","v":9.7222222222222232},null,null,{"$f":"TQ83","v":-26.128440366972477},{"$f":"TJ38","v":9.7222222222222232},null,null,{"$f":"TU40+24*TV28","v":19.444444444444446},{"$f":"TV40","v":-20},24,null,{"$f":"TY83","v":0},{"$f":"TV38","v":-40.22935779816514},null,null,{"$f":"UC40+24*UD31","v":-26.128440366972477},{"$f":"UD40","v":0},24,null,{"$f":"UG83","v":-40},{"$f":"UD38","v":9.7222222222222232},null,null,{"$f":"UK83","v":-26.128440366972477},{"$f":"UD38","v":9.7222222222222232},null,null,{"$f":"UO40+24*UP28","v":20.555555555555554},{"$f":"UP40","v":-20},24,null,{"$f":"US83","v":0},{"$f":"UP38","v":-40.155257586450247},null,null,{"$f":"UW40+24*UX31","v":-25.772759350741005},{"$f":"UX40","v":0},24,null,{"$f":"VA83","v":-40},{"$f":"UX38","v":10.277777777777777},null,null,{"$f":"VE83","v":-25.772759350741005},{"$f":"UX38","v":10.277777777777777},null,null,{"$f":"VI40+24*VJ28","v":20.555555555555554},{"$f":"VJ40","v":-20},24,null,{"$f":"VM83","v":0},{"$f":"VJ38","v":-40.155257586450247},null,null,{"$f":"VQ40+24*VR31","v":-25.772759350741005},{"$f":"VR40","v":0},24,null,{"$f":"VU83","v":-40},{"$f":"VR38","v":10.277777777777777},null,null,{"$f":"VY83","v":-25.772759350741005},{"$f":"VR38","v":10.277777777777777}]
[null,"شیفت عمودی جلو",{"$f":"GM360","v":0},null,"نوار کمر از پشت بین دو خط پهلو","b",null,{"$f":"'متغیرها '!U53+0.3*'متغیرها '!C60*('متغیرها '!U53+'متغیرها '!U55+'متغیرها '!U73)","v":28.637},{"$f":"'متغیرها '!U53","v":26},null,"نقطه تقاطع","اسم نقطه",{"$f":"(N99-N97+M97*((N98-N97)/(M98-M97))-M99*((N100-N99)/(M100-M99)))/(((N98-N97)/(M98-M97))-((N100-N99)/(M100-M99)))","v":4},{"$f":"N97+(M101-M97)*((N98-N97)/(M98-M97))","v":4},null,null,{"$f":"0","v":0},{"$f":"L114-L144","v":19.82779747309781},26,null,null,null,null,null,null,null,null,null,null,null,null,null,null,null,null,{"$f":"Y121","v":0},0,9,null,null,null,null,null,null,null,null,null,null,"زاویه خط پهلو جلو در پیراهن راسته با ساسون",{"$f":"ATAN((AX110-AX104)/(AX113-AX115-AX111))","v":5.6688104429695102E-2},null,"رسم جلو پیراهن",null,null,null,"انحنای حلقه یقه جلو",null,null,null,"زاویه  متوسط سرشانه پشت و جلو مانتو راسته",{"$f":"0.5*(P139+0.3*(P140-P139)+AE139+0.3*(AE140-AE139))","v":0.33685946794520588},null,{"$f":"BI126+BI98","v":8.917824621346341},{"$f":"BI125+BI97","v":80.76650872508813},22,null,{"$f":"BK140","v":15.115469186666687},{"$f":"BL140","v":83.970147316912147},"شیفت18",null,"نقاط  ورودی","متغیر انتخاب چرخش",{"$f":"'طراحی همه الگوها'!B251","v":1},null,"انتخاب c1 >1 ",{"$f":"'متغیرها '!C108","v":0},null,null,"نقاط  ورودی",null,null,null,null,null,null,null,"نقاط  ورودی",null,null,null,null,null,"حلقه بدون ساسون",null,"نقاط  ورودی",null,null,null,null,"انحنا",null,null,"قرینه",{"$f":"2*C102","v":0},null,null,"نقاط  ورودی",null,null,null,"نقاط  خروجی",null,null,null,"نقاط  ورودی",null,null,null,"نقاط  ورودی",null,null,null,"نقاط  خروجی",null,null,null,null,null,null,"کنترل گشادی جلو",null,null,null,"قرینه کنترل گشادی جلو",null,null,null,"کنترل گشادی پشت",null,null,null,"قرینه کنترل گشادی پشت",null,null,null,null,null,"نقاط  ورودی",null,null,null,"نقاط  ورودی",null,null,null,null,null,{"$f":"BW141+BT132","v":17.007205582855462},{"$f":"BX141","v":70.066293144391707},"شیفت b14",null,null,null,null,null,{"$f":"BS142+BT132","v":15.776499999999999},{"$f":"BT142","v":66.865865014267314},"شیفت 14",null,"مولفه افقی","مولفه عمودی","اسم نقطه ",null,null,null,"کمر",null,{"$f":"DK103","v":13.978216537659673},{"$f":"DL103","v":70.803465014267317},{"$f":"DM103","v":"18شیفت"},null,{"$f":"BW116","v":4.6365455354195433},{"$f":"BX116","v":84.140549616256322},"e5",null,{"$f":"CE122+CB112","v":17.151306701363204},{"$f":"CF122+CB113","v":69.864894640034663},"شیفت b14",null,{"$f":"-GD101+FK99","v":-17.151306701363204},{"$f":"GE101","v":69.864894640034663},"شیفت b14",null,{"$f":"CE105","v":5.4188000000000001},88.1,23,null,{"$f":"-GL101+FS99","v":-5.4188000000000001},{"$f":"GM101","v":88.1},23,null,{"$f":"EA167","v":13.781643024000024},{"$f":"EB167","v":76.016402628723455},"شیفت12p یا 12",null,{"$f":"-GT101+GA99","v":-13.781643024000024},{"$f":"GU101","v":76.016402628723455},"شیفت12p یا 12",null,{"$f":"DO103","v":13.781643024000024},76.016402628723455,"شیفت12p",null,{"$f":"-HB101+GI99","v":-13.781643024000024},{"$f":"HC101","v":76.016402628723455},{"$f":"DU103","v":"شیفت10m"},null,null,null,"مولفه افقی","مولفه عمودی","اسم نقطه ",null,null,{"$f":"AZ106","v":0},"مرجع",null,null,null,"12'",null,null,{"$f":"-2*C100","v":0},"شیفت افقی",null,null,{"$f":"C101","v":0},"شیفت عمودی",null,null,null,"14'",null,null,null,null,null,null,null,"48'",null,null,null,null,null,null,null,null,null,null,null,null,null,null,null,null,"کمر",null,null,null,"کمر",null,null,{"$f":"J340","v":7.1828399999999997},{"$f":"K340","v":60.4},"d5",null,{"$f":"IF(JR86=0,JR100,JR97)","v":1.2297281330999628},"f13",null,null,null,null,null,null,null,null,null,null,null,null,null,null,null,null,null,null,null,null,null,null,null,null,null,null,null,null,null,null,null,null,null,null,null,null,null,null,null,null,null,null,null,null,null,null,null,null,null,null,null,null,null,null,null,null,null,null,null,null,null,null,null,null,null,null,null,null,null,null,null,null,null,null,null,null,null,null,null,null,null,null,null,null,null,null,null,null,null,null,null,null,null,null,null,null,null,null,null,null,null,null,null,null,null,{"$f":"NU100","v":-24.026041666666671},{"$f":"NV100+NV34","v":22.660550458715591},"w54",null,"w4",{"$f":"NU53","v":-3.3541666666666679},{"$f":"NV53","v":9.013761467889907},{"$f":"NZ106","v":-2.9866666666666681},{"$f":"OA106","v":9.7041284403669703},{"$f":"NY106","v":"g6"},null,{"$f":"OF100+0.5*(OF99-OF100)","v":-25.703124999999996},{"$f":"OG99","v":15.766324878575279},"m45",null,"نقطه شروع انحنا","مولفه افقی","مولفه عمودی",{"$f":"OK105","v":14.281944444444449},{"$f":"OL105","v":6.416621694549379},{"$f":"OJ105","v":"g4"},null,{"$f":"OQ100+0.5*(OQ99-OQ100)","v":-27.149305555555557},{"$f":"OR99","v":15.766324878575279},"m45",null,"f13",{"$f":"OV98","v":-26.276880396654072},{"$f":"OW99","v":6.7332973556395039},{"$f":"OV100","v":-26.616869603345926},{"$f":"OW100","v":6.509293038316244},{"$f":"OU100","v":"f12"},null,{"$f":"PB100-2*(PB100-PB71)","v":-31.074652777777775},{"$f":"PC100","v":16.332973556395032},"n44",null,"ارتفاع هر رج",{"$f":"PC37","v":0.5666486778197517},"w11",null,null,null,null,{"$f":"PM94","v":1.9809027777777786},{"$f":"PN100","v":17.466270912034538},"n'49",null,"ارتفاع هر رج",{"$f":"PN37","v":0.5666486778197517},"w11",null,null,null,null,null,null,null,null,"ارتفاع هر رج",{"$f":"PY7","v":1.4285714285714286},"w11",null,null,null,null,"تعداد رج دوبل جدید برای گودی گردن جلو b13",1,null,null,{"$f":"QI66","v":15.776499999999999},{"$f":"QJ66","v":70.065165014267322},12,null,null,null,null,null,"k41",{"$f":"QQ51","v":-13},{"$f":"QR51","v":58.027797473097806},null,null,null,null,null,null,null,null,"بزرگی خط عمودی دانه",{"$f":"RC45","v":0.30000000000000004},"f9",null,null,"فلش به سمت پایین",null,{"$f":"RM40+46*RN28","v":39.398148148148145},{"$f":"RN40","v":-20},46,null,{"$f":"RQ100","v":2.5694444444444442},{"$f":"RN38","v":-40.155257586450247},null,null,{"$f":"RU40+46*RV31","v":-12.731122088920259},{"$f":"RV40","v":0},46,null,{"$f":"IF(RV149>(RU166-RU162),RU166,RU162)","v":-28.143966125617503},{"$f":"IF(RV149>(RU166-RU162),RV166,RV162)","v":0},{"$f":"RW166","v":20},null,{"$f":"IF(RV27>(RU90-RU40),RU90,RU40)","v":-21.030345800988005},{"$f":"IF(RV27>(RU90-RU40),RV90,RV40)","v":0},32,null,{"$f":"SG40+46*SH28","v":39.398148148148145},{"$f":"SH40","v":-20},46,null,{"$f":"SK100","v":2.5694444444444442},{"$f":"SH38","v":-40.155257586450247},null,null,{"$f":"SO40+46*SP31","v":-12.731122088920259},{"$f":"SP40","v":0},46,null,{"$f":"IF(SP149>(SO166-SO162),SO166,SO162)","v":-28.143966125617503},{"$f":"IF(SP149>(SO166-SO162),SP166,SP162)","v":0},{"$f":"SQ166","v":20},null,{"$f":"IF(SP27>(SO90-SO40),SO90,SO40)","v":-21.030345800988005},{"$f":"IF(SP27>(SO90-SO40),SP90,SP40)","v":0},32,null,{"$f":"TA40+46*TB28","v":37.268518518518519},{"$f":"TB40","v":-20},46,null,{"$f":"TE100","v":2.4305555555555558},{"$f":"TB38","v":-40.22935779816514},null,null,{"$f":"TI40+46*TJ31","v":-13.412844036697244},{"$f":"TJ40","v":0},46,null,{"$f":"IF(TJ149>(TI166-TI162),TI166,TI162)","v":-28.440366972477062},{"$f":"IF(TJ149>(TI166-TI162),TJ166,TJ162)","v":0},{"$f":"TK166","v":20},null,{"$f":"IF(TJ27>(TI90-TI40),TI90,TI40)","v":-21.5045871559633},{"$f":"IF(TJ27>(TI90-TI40),TJ90,TJ40)","v":0},32,null,{"$f":"TU40+46*TV28","v":37.268518518518519},{"$f":"TV40","v":-20},46,null,{"$f":"TY100","v":2.4305555555555558},{"$f":"TV38","v":-40.22935779816514},null,null,{"$f":"UC40+46*UD31","v":-13.412844036697244},{"$f":"UD40","v":0},46,null,{"$f":"IF(UD149>(UC166-UC162),UC166,UC162)","v":-28.440366972477062},{"$f":"IF(UD149>(UC166-UC162),UD166,UD162)","v":0},{"$f":"UE166","v":20},null,{"$f":"IF(UD27>(UC90-UC40),UC90,UC40)","v":-21.5045871559633},{"$f":"IF(UD27>(UC90-UC40),UD90,UD40)","v":0},32,null,{"$f":"UO40+46*UP28","v":39.398148148148145},{"$f":"UP40","v":-20},46,null,{"$f":"US100","v":2.5694444444444442},{"$f":"UP38","v":-40.155257586450247},null,null,{"$f":"UW40+46*UX31","v":-12.731122088920259},{"$f":"UX40","v":0},46,null,{"$f":"IF(UX149>(UW166-UW162),UW166,UW162)","v":-28.143966125617503},{"$f":"IF(UX149>(UW166-UW162),UX166,UX162)","v":0},{"$f":"UY166","v":20},null,{"$f":"IF(UX27>(UW90-UW40),UW90,UW40)","v":-21.030345800988005},{"$f":"IF(UX27>(UW90-UW40),UX90,UX40)","v":0},32,null,{"$f":"VI40+46*VJ28","v":39.398148148148145},{"$f":"VJ40","v":-20},46,null,{"$f":"VM100","v":2.5694444444444442},{"$f":"VJ38","v":-40.155257586450247},null,null,{"$f":"VQ40+46*VR31","v":-12.731122088920259},{"$f":"VR40","v":0},46,null,{"$f":"IF(VR149>(VQ166-VQ162),VQ166,VQ162)","v":-28.143966125617503},{"$f":"IF(VR149>(VQ166-VQ162),VR166,VR162)","v":0},{"$f":"VS166","v":20},null,{"$f":"IF(VR27>(VQ90-VQ40),VQ90,VQ40)","v":-21.030345800988005},{"$f":"IF(VR27>(VQ90-VQ40),VR90,VR40)","v":0},32]
[null,null,null,null,"نوار کمر از پشت بین دو خط پهلو","b",null,{"$f":"'متغیرها '!U71+0.3*'متغیرها '!C60*('متغیرها '!U53+'متغیرها '!U55+'متغیرها '!U73)","v":28.637},null,"(5 → 7)",{"$f":"'متغیرها '!C88*(H124-H123)","v":1.1399999999999997},{"$f":"0*(I124-I123)","v":0},null,null,null,null,7.7903400000000005,0,9,null,{"$f":"AN132","v":13.978216537659673},{"$f":"AO132","v":10.403465014267326},18,null,{"$f":"(H153-1)*(I127-I126)+0.2*'متغیرها '!U82","v":4.4518827160493784},"(6 → 7)",{"$f":"(G153-1)*(H127-H126)+0.2*H130","v":3.1446648614120449},null,null,null,null,7.5342500000000001,0,10,null,{"$f":"AR134","v":15.492676354062036},{"$f":"AS134","v":9.8878631052693571},20,null,{"$f":"K117","v":7.4903399999999998},{"$f":"K116+AP111","v":11.399999999999999},5,null,0,{"$f":"AA117+AT111","v":16.500000000000004},5,null,2.0749999999999997,"(12 → 17)",1.7982834623403254,null,null,null,null,null,{"$f":"AZ106","v":0},{"$f":"BA151+'متغیرها '!C278*('متغیرها '!U60-'متغیرها '!U59)","v":4.602500152855292},null,2.3000000000000003,"(15 →16)",2.4610000000000003,null,{"$f":"BI108-BI116+BI98+'متغیرها '!C56","v":15.492676354062036},{"$f":"BI110+BI97+'متغیرها '!C57","v":69.863902628723451},"شیفت13",null,{"$f":"BK155","v":7.9092500000000001},{"$f":"BL155","v":50.879999999999995},38,null,{"$f":"J234","v":3.2497874584784983},{"$f":"K234","v":83.656053698836047},"e9",null,{"$f":"BS104+SQRT(POWER(BS119-BS104,2)+POWER(BT119-BT104,2))*SIN(BT103-ATAN((BS104-BS119)/(BT119-BT104)))","v":3.2497874584784983},{"$f":"BT104+SQRT(POWER(BS119-BS104,2)+POWER(BT119-BT104,2))*COS(BT103-ATAN((BS104-BS119)/(BT119-BT104)))","v":83.656053698836047},{"$f":"BU119","v":"e9"},null,{"$f":"BO102-CB112","v":14.181790872800024},{"$f":"BP102-CB113","v":80.390962207227233},20,"نقطه حلقه آستین",{"$f":"CA104+SQRT(POWER(CA119-CA104,2)+POWER(CB119-CB104,2))*SIN(ATAN((CA119-CA104)/(CB119-CB104))-CB114)","v":14.181032942749605},{"$f":"CB104+SQRT(POWER(CA119-CA104,2)+POWER(CB119-CB104,2))*COS(ATAN((CA119-CA104)/(CB119-CB104))-CB114)","v":80.39163545356061},"b12",null,11.76987070424715,75.519992028021832,"16f",null,{"$f":"BS130+BT132","v":8.0782879251109012},{"$f":"BT130","v":75.715584055424245},"شیفت 5 پیراهن",null,"مولفه افقی","مولفه عمودی","اسم نقطه ",null,{"$f":"CU122+0.5*(CQ120-CU122)","v":9.7516718991178308},{"$f":"CR120+0.5*(CV122-CR120)","v":86.582636816283113}," وسط 18f",null,{"$f":"-CU119+CZ101","v":-9.7516718991178308},{"$f":"CV119","v":86.582636816283113}," وسط 18f",null,{"$f":"BW134","v":15.77670559150099},{"$f":"BX134","v":70.066147279233178},"b4",null,{"$f":"DH134","v":15.939215886591086},{"$f":"DI134","v":47.373044886193355},"s'2",null,"نقاط  خروجی",null,null,null,{"$f":"BO102-DP120","v":14.181790872800024},{"$f":"BP102","v":80.390962207227233},20,null,{"$f":"CE109","v":9.4038046604669017},{"$f":"CF109","v":86.85981185210764},"30m",null,null,{"$f":"CI112-EA137","v":15.776499999999999},{"$f":"CJ112","v":66.865865014267314},14,null,{"$f":"-DX119+ED137","v":-15.776499999999999},{"$f":"DY119","v":66.865865014267314},14,null,{"$f":"BK162-EA138","v":15.555999999999999},{"$f":"BL162-EA139","v":60.641237767311416},36,null,{"$f":"-EF119+ED138","v":-15.555999999999999},{"$f":"EG119","v":60.641237767311416},36,null,null,null,null,null,"نقاط  خروجی ",null,null,null,"نقاط  خروجی ",null,null,null,null,null,{"$f":"BS104+BT132","v":7.4903399999999998},{"$f":"BT104","v":71.8},"شیفت 5 بالاتنه",null,{"$f":"BW122","v":6.7945350676428067},94.602807277298638,"a4",null,null,null,null,null,{"$f":"DG117","v":15.392798861554237},{"$f":"DH117","v":60.843436844191537},"41s",null,null,null,"سینه",null,null,null,"پهلو جدا روی جیب با ساسون",null,null,null,"انگلیسی",null,{"$f":"EW150","v":9.4632497827179822},{"$f":"EX150","v":87.070070516400236},"30b",null,{"$f":"-GD119+FK99","v":-9.4632497827179822},{"$f":"GE119","v":87.070070516400236},"30b",null,11.250047499999999,49.828247553462283,"41''",null,{"$f":"-GL119+FS99","v":-11.250047499999999},49.828247553462283,"41''",null,{"$f":"DO105","v":7.9092500000000001},{"$f":"DP105","v":73.33019837527084},{"$f":"DQ105","v":"شیفت40"},null,{"$f":"-GT119+GA99","v":-7.9092500000000001},{"$f":"GU119","v":73.33019837527084},{"$f":"DU105","v":"شیفت42m"},null,{"$f":"EJ337","v":-2.5782500000000006},{"$f":"EK337-0.3*EY171","v":46.8},"e215",null,{"$f":"-HB119+GI99","v":2.5782500000000006},{"$f":"HC119","v":46.8},"e215",null,null,null,{"$f":"-DS157-HY101","v":-12.17955523145584},{"$f":"DT157","v":74.987720902672521},35,null,{"$f":"-CM128-HY101","v":-7.4903399999999998},{"$f":"CN128","v":71.8}," 5 بالاتنه",null,null,null,null,null,{"$f":"-FB117-HY101","v":-8.0782879251109012},{"$f":"FC117","v":75.715584055424245},"شیفت 5 پیراهن",null,{"$f":"-FJ115-HY101","v":-7.4753399999999992},{"$f":"FK115","v":49.8},"شیفت 47''",null,{"$f":"-FN119-HY101","v":-15.392798861554237},{"$f":"FO119","v":60.843436844191537},"41s",null,null,null,null,null,{"$f":"-FI265-HY101","v":0},{"$f":"FJ265","v":61.61},"d4",null,null,null,null,null,null,null,null,null,null,null,null,null,null,{"$f":"JN156","v":1.0459650567820713},{"$f":"JO156","v":22.199999999999996},"f18",null,{"$f":"JN175","v":1.9959650567820706},{"$f":"JO175","v":20.971310177710841},"f23",null,null,{"$f":"EJ386","v":0},{"$f":"EK386","v":49.941237767311414},48,null,null,null,null,null,null,null,null,null,null,null,null,null,null,null,null,null,null,null,null,null,null,null,null,null,null,null,null,null,null,null,null,null,null,null,null,null,null,null,null,null,null,null,null,null,null,null,null,null,null,null,null,null,null,null,null,null,null,null,null,null,null,null,null,null,null,null,null,null,null,null,null,null,null,null,null,null,null,null,null,null,null,null,null,null,null,null,null,null,null,null,null,null,null,null,null,null,null,null,null,null,null,null,null,null,null,null,null,{"$f":"NU112","v":-31.835416666666667},{"$f":"NV118","v":30.688073394495405},"w72",null,"w10",{"$f":"NU59","v":-3.3541666666666679},{"$f":"NV59","v":9.8165137614678883},null,null,null,null,{"$f":"OF118","v":-15.579861111111104},{"$f":"OG118+OG39","v":19.166216945493797},"m64",null,"نقطه پایان رج(راست)","مولفه افقی","مولفه عمودی",{"$f":"OK128","v":-6.3055555555555536},{"$f":"OL128","v":6.9499460334592555},{"$f":"OJ128","v":"h13"},null,{"$f":"OQ118","v":-16.406250000000007},{"$f":"OR118+OR39","v":19.166216945493797},"m64",null,"طول باکس نوشته",{"$f":"1*OR41","v":4.5},"h3",{"$f":"OV129","v":-14.834201388888886},{"$f":"OW129","v":6.6999460334592555},{"$f":"OU129","v":"h8"},null,null,null,null,null,"g8",{"$f":"PG113-0.7*PH110*SIN(RADIANS(30)+ATAN((PG113-PG116)/(PH113-PH116+0.0001)))","v":2.7023740082532588},{"$f":"PH113-0.7*PH110*COS(RADIANS(30)+ATAN((PG113-PG116)/(PH113-PH116+0.0001)))","v":6.3895762995515373},{"$f":"PG118","v":3.1142038570406165},{"$f":"PH118","v":6.4662865448205871},{"$f":"PF118","v":"g7"},null,null,null,null,null,"g8",{"$f":"PR113-0.7*PS110*SIN(RADIANS(30)+ATAN((PR113-PR116)/(PS113-PS116+0.0001)))","v":7.4541101193643717},{"$f":"PS113-0.7*PS110*COS(RADIANS(30)+ATAN((PR113-PR116)/(PS113-PS116+0.0001)))","v":6.3895762995515373},{"$f":"PR118","v":7.8659399681517286},{"$f":"PS118","v":6.4662865448205853},{"$f":"PQ118","v":"g7"},null,null,null,null,null,"f7",{"$f":"QC117+QC117-QC118","v":-44.678571428571431},{"$f":"QD118","v":24.142857142857142},{"$f":"QC120","v":-45},{"$f":"QD120","v":24.571428571428569},{"$f":"QB120","v":"f8"},null,null,null,null,null,null,null,null,null,null,null,null,null,"زاویه فلش",{"$f":"QR10","v":0.5},"f5",null,null,"فلش به سمت چپ",null,null,null,null,null,"نقطه پایان رج(راست)","مولفه افقی","مولفه عمودی",{"$f":"RG128","v":-16.033333333333335},{"$f":"RH128","v":6.9499460334592538},{"$f":"RF128","v":"h13"},null,{"$f":"RM40+68*RN28","v":58.240740740740733},{"$f":"RN40","v":-20},68,null,{"$f":"RQ118","v":9.4212962962962958},{"$f":"RN38","v":-40.155257586450247},null,null,{"$f":"RU40+68*RV31","v":0.31051517290048736},{"$f":"RV40","v":0},68,null,{"$f":"IF(RV149>(RU172-RU162),RU172,RU162)","v":-40},{"$f":"IF(RV149>(RU172-RU162),RV172,RV162)","v":0},50,null,{"$f":"IF(RV27>(RU96-RU40),RU96,RU40)","v":-40},{"$f":"IF(RV27>(RU96-RU40),RV96,RV40)","v":0},39,null,{"$f":"SG40+68*SH28","v":58.240740740740733},{"$f":"SH40","v":-20},68,null,{"$f":"SK118","v":9.4212962962962958},{"$f":"SH38","v":-40.155257586450247},null,null,{"$f":"SO40+68*SP31","v":0.31051517290048736},{"$f":"SP40","v":0},68,null,{"$f":"IF(SP149>(SO172-SO162),SO172,SO162)","v":-40},{"$f":"IF(SP149>(SO172-SO162),SP172,SP162)","v":0},50,null,{"$f":"IF(SP27>(SO96-SO40),SO96,SO40)","v":-40},{"$f":"IF(SP27>(SO96-SO40),SP96,SP40)","v":0},39,null,{"$f":"TA40+68*TB28","v":55.092592592592595},{"$f":"TB40","v":-20},68,null,{"$f":"TE118","v":8.9120370370370381},{"$f":"TB38","v":-40.22935779816514},null,null,{"$f":"TI40+68*TJ31","v":-0.6972477064220115},{"$f":"TJ40","v":0},68,null,{"$f":"IF(TJ149>(TI172-TI162),TI172,TI162)","v":-40},{"$f":"IF(TJ149>(TI172-TI162),TJ172,TJ162)","v":0},50,null,{"$f":"IF(TJ27>(TI96-TI40),TI96,TI40)","v":-40},{"$f":"IF(TJ27>(TI96-TI40),TJ96,TJ40)","v":0},39,null,{"$f":"TU40+68*TV28","v":55.092592592592595},{"$f":"TV40","v":-20},68,null,{"$f":"TY118","v":8.9120370370370381},{"$f":"TV38","v":-40.22935779816514},null,null,{"$f":"UC40+68*UD31","v":-0.6972477064220115},{"$f":"UD40","v":0},68,null,{"$f":"IF(UD149>(UC172-UC162),UC172,UC162)","v":-40},{"$f":"IF(UD149>(UC172-UC162),UD172,UD162)","v":0},50,null,{"$f":"IF(UD27>(UC96-UC40),UC96,UC40)","v":-40},{"$f":"IF(UD27>(UC96-UC40),UD96,UD40)","v":0},39,null,{"$f":"UO40+68*UP28","v":58.240740740740733},{"$f":"UP40","v":-20},68,null,{"$f":"US118","v":9.4212962962962958},{"$f":"UP38","v":-40.155257586450247},null,null,{"$f":"UW40+68*UX31","v":0.31051517290048736},{"$f":"UX40","v":0},68,null,{"$f":"IF(UX149>(UW172-UW162),UW172,UW162)","v":-40},{"$f":"IF(UX149>(UW172-UW162),UX172,UX162)","v":0},50,null,{"$f":"IF(UX27>(UW96-UW40),UW96,UW40)","v":-40},{"$f":"IF(UX27>(UW96-UW40),UX96,UX40)","v":0},39,null,{"$f":"VI40+68*VJ28","v":58.240740740740733},{"$f":"VJ40","v":-20},68,null,{"$f":"VM118","v":9.4212962962962958},{"$f":"VJ38","v":-40.155257586450247},null,null,{"$f":"VQ40+68*VR31","v":0.31051517290048736},{"$f":"VR40","v":0},68,null,{"$f":"IF(VR149>(VQ172-VQ162),VQ172,VQ162)","v":-40},{"$f":"IF(VR149>(VQ172-VQ162),VR172,VR162)","v":0},50,null,{"$f":"IF(VR27>(VQ96-VQ40),VQ96,VQ40)","v":-40},{"$f":"IF(VR27>(VQ96-VQ40),VR96,VR40)","v":0},39]
[null,null,null,null,"زاویه خام سرشانه جلو",{"$f":"ATAN((I123-I122-0.3*(0.5*('متغیرها '!U72-2*'متغیرها '!U73)))/(0.52*H168-H163))","v":0.26981395436355265},{"$f":"ROUND(DEGREES(F136),0)","v":15},{"$f":"ROUND((محاسبات!H111-2*محاسبات!H110-0.03*محاسبات!H102)/محاسبات!H102,2)","v":0.16},null,"(12 → 19)",{"$f":"0.8*K132","v":2.8772535397445207},{"$f":"0.8*L132","v":3.32},null,"(36 → 34')",{"$f":"O132/COS(O134)","v":9.5497694725092526},{"$f":"P132/COS(P134)","v":9.1356566265005927},{"$f":"AN136","v":15.476510896099455},{"$f":"AO136","v":22.610790453120416},22,null,{"$f":"AN125","v":15.3765},{"$f":"AO125","v":0.4547585469503081},11,null,{"$f":"(AD128)*'متغیرها '!U82","v":5.75},"(17 → 18)",{"$f":"(AD128+O128*'متغیرها '!C77)*H130","v":6.1524999999999999},null,"(38 → 36')",{"$f":"AD132/COS(AD134)","v":5.3487280039449674},{"$f":"AE132/COS(AE134)","v":4.6666761404315036},{"$f":"AR137","v":15.115469186666687},{"$f":"AS137","v":15.425113105269357},23,null,{"$f":"AR125","v":8.2842500000000001},{"$f":"AS125","v":0},11,null,{"$f":"K115-K132+K138","v":15.476510896099455},{"$f":"K127+K133+K139+AP111","v":22.610790453120416},22,null,{"$f":"AA115-AA139","v":14.423280522773279},{"$f":"AA130+AA140+AT111","v":11.733613105269358},22,null,{"$f":"L151","v":0.96486049545030683},"(31 → 32)",{"$f":"K151","v":1.256552328434432},null,{"$f":"AX104-AX117+AX123-AX138+AX99","v":11.011845519502714},{"$f":"AX113+AX118+AX124+AX139+AX98","v":85.279965749792041},34,null,null,null,null,{"$f":"Y156","v":3.0737237512724511},"(18 → 31)",{"$f":"AA156","v":4.2832151200001132},null,null,null,null,null,null,null,null,null,{"$f":"AZ97-BT132","v":12.899246460255478},{"$f":"BA97","v":72.033965014267324},20,"نقطه حلقه آستین",{"$f":"BS104+SQRT(POWER(BS136-BS104,2)+POWER(BT136-BT104,2))*SIN(IF(BT136=BT104,RADIANS(90)-BT133,ATAN((BS136-BS104)/ABS(BT136-BT104))+IF(BT136>BT104,-1,1)*IF(AND(BX101=1,BX102=0),(ATAN((BS140-BS104)/(BT140-BT104))-ATAN((BS111-BS104)/(BT111-BT104))),BT133)))","v":12.899218687718504},{"$f":"BT104+IF(BT136<BT104,-1,1)*SQRT(POWER(BS136-BS104,2)+POWER(BT136-BT104,2))*COS(IF(BT136=BT104,RADIANS(90)-BT133,ATAN((BS136-BS104)/ABS(BT136-BT104))+IF(BT136>BT104,-1,1)*IF(AND(BX101=1,BX102=0),(ATAN((BS140-BS104)/(BT140-BT104))-ATAN((BS111-BS104)/(BT111-BT104))),BT133)))","v":72.034606191817502},"b10",null,{"$f":"BO101-CB112","v":15.115469186666687},{"$f":"BP101-CB113","v":83.970147316912147},18,"نقطه حلقه آستین",{"$f":"CA104+SQRT(POWER(CA136-CA104,2)+POWER(CB136-CB104,2))*SIN(ATAN((CA136-CA104)/(CB136-CB104))-CB130)","v":13.932889454300163},{"$f":"CB104+SQRT(POWER(CA136-CA104,2)+POWER(CB136-CB104,2))*COS(ATAN((CA136-CA104)/(CB136-CB104))-CB130)","v":84.681580501321193},"b16",null,null,null,null,null,null,null,"رگلان",null,"نقطه دوم از خط دوم","وسط 18f",{"$f":"CU119","v":9.7516718991178308},{"$f":"CV119","v":86.582636816283113},null,null,null,null,null,null,null,null,"α45",{"$f":"ATAN((DD105-DD115)/(DC115-DC105))","v":-4.098931371727664E-2},null,null,{"$f":"DK124-DD122","v":14.028216537659675},{"$f":"DL124","v":50.142500152855277},"49'm",null,{"$f":"DK122","v":13.593216537659673},{"$f":"DL122","v":60.84250015285528},"شیفت 41m",null,null,{"$f":"ATAN((DT111-DP118)/(DO118-DS111))","v":0.40263631167857566},"αm",null,{"$f":"DS125","v":18.161020954414671},{"$f":"DT125","v":11.80119018555078},"p1 rm",null,null,null,null,null,null,null,null,null,null,null,null,null,null,null,null,null,null,null,null,null,null,{"$f":"BW137","v":12.17955523145584},{"$f":"BX137","v":74.987720902672521},16,"نقطه حلقه آستین",null,{"$f":"CE118","v":13.781354656229663},{"$f":"CF118","v":76.017032948867993},12,"نقطه حلقه آستین",null,null,null,null,null,6.8484788916788881,95.6662940016557,"p7",null,{"$f":"BD150","v":0},{"$f":"BE150","v":49.8},1,null,{"$f":"DC103","v":7.4903399999999998},{"$f":"DD103","v":70.66},43,null,null,null,null,null,{"$f":"DG109","v":13.978334622700345},{"$f":"DH109","v":70.804234103056586},{"$f":"DI109","v":"b8s"},null,null,null,"آرشال",null,null,null,"42رگلان با درز",null,null,null,"رگلان با درز",null,{"$f":"BK159","v":7.2904999999999998},{"$f":"BL159","v":60.6},34,null,{"$f":"-GL136+FS99","v":-7.2904999999999998},{"$f":"GM136","v":60.6},34,null,{"$f":"BK159","v":7.2904999999999998},{"$f":"BL159","v":60.6},34,null,{"$f":"-GT136+GA99","v":-7.2904999999999998},{"$f":"GU136","v":60.6},34,null,{"$f":"DS114","v":15.353642052776824},{"$f":"DT114","v":84.394430199154129},"18m",null,{"$f":"-HB136+GI99","v":-15.353642052776824},{"$f":"HC136","v":84.394430199154129},"18m",null,null,null,{"$f":"-DS174-HY101","v":-15.776499999999999},{"$f":"DT174","v":66.865865014267314},14,null,{"$f":"-CM144-HY101","v":-8.6320839398323574},{"$f":"CN144","v":78.914832476747208},"وسط 16f",null,{"$f":"-FV135-HY101","v":-13.978422129160665},{"$f":"FW135","v":70.804198188683813},"b'8s",null,{"$f":"-FB134-HY101","v":-9.4589835893663938},{"$f":"FC134","v":85.853460296820955},"چرخیده32b",null,{"$f":"-FJ134-HY101","v":0},{"$f":"FK134","v":49.8},1,null,{"$f":"-FR138-HY101","v":0},{"$f":"FS138","v":74.974999999999994},"e1",null,null,null,null,null,null,null,null,null,null,null,null,null,null,null,null,null,{"$f":"-DP466-HY101","v":-15.348690242836158},{"$f":"DQ466","v":50.849938596643284},"β5",null,null,{"$f":"-JE102+EC383","v":0},{"$f":"JF102","v":61.61},"d4",null,null,null,null,null,null,{"$f":"J311","v":7.5659240993579226},{"$f":"K311","v":58.18},"d2",null,null,null,null,{"$f":"JN162","v":4.7406744000000005},{"$f":"JO162","v":56.384378720840132},"f40",null,{"$f":"JN185","v":11.841864335767372},{"$f":"JO185","v":53.752978720840133},"f52",null,null,null,null,null,null,null,null,null,null,null,null,null,null,null,null,null,null,null,null,null,null,null,null,null,null,null,null,null,null,null,null,null,null,null,null,null,null,null,null,null,null,null,null,null,null,null,null,null,null,null,null,null,null,null,null,null,null,null,null,null,null,null,null,null,null,null,null,null,null,null,null,null,null,null,null,null,null,null,null,null,null,null,null,null,null,null,null,null,null,null,null,null,null,null,null,null,null,null,null,null,"g11",{"$f":"NZ140+0.8*(NZ138-NZ140)","v":-7.420583333333334},{"$f":"OA138+0.6*(OA140-OA138)","v":10.391284403669722},{"$f":"NZ137","v":-6.9270833333333339},{"$f":"OA137","v":10.61926605504587},{"$f":"NY137","v":"g2"},null,{"$f":"OF133+0.1*(OF132-OF133)","v":-24.752777777777769},{"$f":"OG132","v":21.43281165677281},"m81",null,"نقطه ورودی سر فلش","مولفه افقی","مولفه عمودی",{"$f":"OK137","v":13.343750000000004},{"$f":"OL137","v":6.6999460334592555},{"$f":"OJ137","v":"m14"},null,{"$f":"OQ133+0.1*(OQ132-OQ133)","v":-27.02534722222223},{"$f":"OR132","v":21.43281165677281},"m81",null,null,null,null,{"$f":"OV128","v":-12.584201388888886},{"$f":"OW128","v":6.6999460334592555},{"$f":"OU128","v":"h5"},null,null,null,null,null,"f6",{"$f":"PG135-PG132*PG131*PG133","v":1.8109081744318534},{"$f":"PH138-PG131*PG133","v":7.0732865623313526},null,null,null,null,null,null,null,null,"n'19",{"$f":"PM75","v":0.76197916666666909},{"$f":"PN75","v":6.1332973556395025},{"$f":"PR137","v":0.59198456332074356},{"$f":"PS137","v":6.3599568267674034},{"$f":"PQ137","v":"f6"},null,null,null,null,null,null,null,null,null,null,null,null,null,null,null,null,null,null,null,null,null,null,null,null,null,null,null,null,null,null,null,null,null,null,null,"p14",{"$f":"RB73","v":-33.298611111111114},{"$f":"RC73","v":6.6999460334592538},{"$f":"RG141","v":-33.666111111111114},{"$f":"RH141","v":9.1365353480841858},{"$f":"RF141","v":"g6"},null,{"$f":"RM40+89*RN28","v":76.226851851851848},{"$f":"RN40","v":-20},89,null,{"$f":"IF(RN26>(RM79-RM40),RM79,RM40)","v":0},{"$f":"IF(RN26>(RM79-RM40),RN79,RN40)","v":-20},18,null,{"$f":"RU40+89*RV31","v":12.759350741002109},{"$f":"RV40","v":0},89,null,null,null,null,null,null,null,null,null,{"$f":"SG40+89*SH28","v":76.226851851851848},{"$f":"SH40","v":-20},89,null,{"$f":"IF(SH26>(SG79-SG40),SG79,SG40)","v":0},{"$f":"IF(SH26>(SG79-SG40),SH79,SH40)","v":-20},18,null,{"$f":"SO40+89*SP31","v":12.759350741002109},{"$f":"SP40","v":0},89,null,null,null,null,null,null,null,null,null,{"$f":"TA40+89*TB28","v":72.106481481481481},{"$f":"TB40","v":-20},89,null,{"$f":"IF(TB26>(TA79-TA40),TA79,TA40)","v":0},{"$f":"IF(TB26>(TA79-TA40),TB79,TB40)","v":-20},18,null,{"$f":"TI40+89*TJ31","v":11.440366972477072},{"$f":"TJ40","v":0},89,null,null,null,null,null,null,null,null,null,{"$f":"TU40+89*TV28","v":72.106481481481481},{"$f":"TV40","v":-20},89,null,{"$f":"IF(TV26>(TU79-TU40),TU79,TU40)","v":0},{"$f":"IF(TV26>(TU79-TU40),TV79,TV40)","v":-20},18,null,{"$f":"UC40+89*UD31","v":11.440366972477072},{"$f":"UD40","v":0},89,null,null,null,null,null,null,null,null,null,{"$f":"UO40+89*UP28","v":76.226851851851848},{"$f":"UP40","v":-20},89,null,{"$f":"IF(UP26>(UO79-UO40),UO79,UO40)","v":0},{"$f":"IF(UP26>(UO79-UO40),UP79,UP40)","v":-20},18,null,{"$f":"UW40+89*UX31","v":12.759350741002109},{"$f":"UX40","v":0},89,null,null,null,null,null,null,null,null,null,{"$f":"VI40+89*VJ28","v":76.226851851851848},{"$f":"VJ40","v":-20},89,null,{"$f":"IF(VJ26>(VI79-VI40),VI79,VI40)","v":0},{"$f":"IF(VJ26>(VI79-VI40),VJ79,VJ40)","v":-20},18,null,{"$f":"VQ40+89*VR31","v":12.759350741002109},{"$f":"VR40","v":0},89]
[null,null,null,null,"ضریب بالا آمدن کف حلقه آستین از خط سینه ","z1",{"$f":"(H127-H126+H122-O128*H130-O127-(0.5-G148)*H119*((G151)/(I127-I126+0.05*H130)))/(H127-H126)","v":0.83842407831018584},{"$f":"(I127-I126+I122-O128*'متغیرها '!U82-P127-(0.5-G148)*'متغیرها '!U71*((H151)/(I127-I126+0.05*'متغیرها '!U82)))/(I127-I126)","v":0.98653479236812525},null,"(22 → 33)",{"$f":"(1-'متغیرها '!C76+'متغیرها '!C78)*0.5*G167*COS(O140)","v":4.4646653765967423},{"$f":"0.5*H167*COS(P140)","v":3.2029858815045475},null,"(36 → 32)","وصل",null,{"$f":"AN140","v":0},{"$f":"AO140","v":19.82779747309781},26,null,{"$f":"AN148","v":11.011845519502714},{"$f":"AO148","v":24.879965749792042},34,null,{"$f":"0.5*H167*COS(AE139)","v":3.4084576290083124},"(27 → 33)",{"$f":"(1-'متغیرها '!C71)*0.5*G167*COS(AD139)","v":3.9850046604669012},null,"(38 → 36)","وصل",null,{"$f":"AR116","v":0},{"$f":"AS116","v":27.5},2,null,null,null,null,null,null,null,null,null,{"$f":"AR156+0.6*(AR152-AR156)","v":10.066482288538481},{"$f":"AS156+0.65*(AS152-AS156)","v":23.941590764774055},"36-",null,null,null,null,null,{"$f":"AZ131","v":12.719418114021446},{"$f":"BA131","v":55.15},35,null,{"$f":"AZ108+'متغیرها '!C55","v":16.725532656711231},{"$f":"BA108","v":50.142500152855277},"7شیفت ",{"$f":"BG155","v":7.25},"(37 → 38)",{"$f":"BI155","v":7.9092500000000001},null,{"$f":"0+BI98","v":0},{"$f":"BI154+BI97","v":73.33019837527084},39,null,{"$f":"BO170","v":15.92043468657754},{"$f":"BP170","v":66.664602628723458},"10شیفت",null,null,null,null,null,{"$f":"BW146","v":15.475181897504374},{"$f":"BX146","v":83.011737066009914},"b16",null,"نقطه اول از خط اول",28,{"$f":"CE106","v":4.0640999999999998},{"$f":"CF106","v":86.890838205201234},null,null,null,null,"مولفه افقی","مولفه عمودی","اسم نقطه ",null,null,"مولفه افقی","مولفه عمودی","اسم نقطه ",null,"مولفه افقی","مولفه عمودی","اسم نقطه ",null,"قرینه","19'",null,{"$f":"CN157","v":0},{"$f":"CO157","v":61.61},"d4",null,"مولفه افقی","مولفه عمودی","اسم نقطه ",null,null,null,"21خط پشت در بالاتنه جناقی",null,null,"قرینه",{"$f":"2*C102","v":0},null,"مولفه افقی","مولفه عمودی","اسم نقطه ",null,{"$f":"DO157","v":15.685103863730308},{"$f":"DP157","v":83.456460566335451},{"$f":"DQ157","v":39},null,"مولفه افقی","مولفه عمودی","اسم نقطه ",null,{"$f":"DW158+DX161","v":13.781643024000024},{"$f":"DX158+DX162","v":76.016402628723455},"شیفت12p یا 12",null,{"$f":"-EA153+EF152","v":-13.781643024000024},{"$f":"EB153","v":76.016402628723455},"شیفت12p یا 12",null,null,null,null,null,null,null,null,null,null,null,null,null,null,null,null,null,null,null,null,{"$f":"BW144+BT132","v":8.318956},{"$f":"BX144","v":71.306653026124991},"شیفت b",null,{"$f":"BW108","v":2.1675199999999997},{"$f":"BX108","v":80.895017725788037},{"$f":"BY108","v":28},null,null,null,null,null,{"$f":"CE183","v":0.8080695},{"$f":"CF183","v":62.4478008862894},"7n",null,{"$f":"FR152-(FR149-FR150)","v":7.4288400000000001},{"$f":"FS149","v":69.120999999999995},"39aa",null,null,null,null,null,{"$f":"FF117","v":6.7945350676428067},{"$f":"FG117","v":94.602807277298638},"a4",null,null,null,null,null,null,null,null,null,{"$f":"BK182","v":15.35511972149679},{"$f":"BL182","v":49.924289235234042},"4'شیفت",null,{"$f":"-GL153+FS99","v":-15.35511972149679},{"$f":"GM153","v":49.924289235234042},"4'شیفت",null,null,null,null,null,null,null,null,null,null,null,"کمر",null,null,null,"کمر",null,null,null,{"$f":"-(FE232)+2*HQ101","v":-7.5863199999999997},{"$f":"FF232","v":77.460000000000008},"p25",null,{"$f":"-FN135-HY101","v":-7.1828399999999997},{"$f":"FO135","v":60.4},39,null,{"$f":"-FR148-HY101","v":-7.7824650000000002},{"$f":"FS148","v":66.555999999999997},"40a",null,null,null,"4'",null,{"$f":"-FJ149-HY101","v":0},{"$f":"FK149","v":80.227797473097809},"چرخیده26'",null,{"$f":"-FR109-HY101","v":-7.5053400000000003},{"$f":"FS109","v":49.8},"g47'",null,null,null,null,null,{"$f":"-AU231-HY101","v":-9.0622691370272488},{"$f":"AV231","v":91.646080455452307},"a2",null,null,null,"42'",null,{"$f":"-DF262-HY101","v":-6.6752642524647854E-8},{"$f":"DG262","v":71.800999999991092},"چرخیده 4'",null,null,null,null,null,null,{"$f":"-JE119+EC383","v":-1.0459650567820713},{"$f":"JF119","v":22.199999999999996},"f18",null,null,null,null,null,null,{"$f":"IF(JO106>JO105,JN89+JR85*JR102,JN89+JR85*JR103)","v":14.159722831977712},{"$f":"IF(JO106>JO105,JO90,JO154)","v":22.199999999999996},"f15",null,null,null,null,{"$f":"-JU141+EC383","v":-11.41709849719626},{"$f":"JV141","v":58.802799999999998},"f43",null,{"$f":"JN177","v":15.575712831977715},{"$f":"JO177","v":11.100000000000001},"f25",null,null,null,null,null,null,null,null,null,null,null,null,null,null,null,null,null,null,null,null,null,null,null,null,null,null,null,null,null,null,null,null,null,null,null,null,null,null,null,null,null,null,null,null,null,null,null,null,null,null,null,null,null,null,null,null,null,null,null,null,null,null,null,null,null,null,null,null,null,null,null,null,null,null,null,null,null,null,null,null,null,null,null,null,null,null,null,null,null,null,null,null,null,null,null,null,null,null,null,null,null,"نسبت سایز افقی",{"$f":"NV33","v":42},"انحنا چپگرد ",null,null,{"$f":"OA153","v":"انحنا چپگرد "},null,{"$f":"OF150+1/OG50","v":-26.322916666666664},{"$f":"OG150","v":28.232595790609832},"m98",null,"بزرگی فلش",{"$f":"OG51","v":0.33998920669185106},"f4",{"$f":"OK155","v":-26.405555555555555},{"$f":"OL155","v":6.6999460334592555},{"$f":"OJ155","v":"m15"},null,{"$f":"OQ150+1/OR50","v":-29.421875000000014},{"$f":"OR150","v":28.232595790609832},"m98",null,"زاویه فلش دانه",{"$f":"OR47","v":0.75},"f11",{"$f":"OV156","v":-0.37430555555555056},{"$f":"OW156","v":6.6999460334592555},{"$f":"OU156","v":"m17"},null,null,null,null,null,"ارتفاع هر رج",{"$f":"PC37","v":0.5666486778197517},"w11",null,null,null,null,null,null,null,null,"طول باکس نوشته",{"$f":"1.3*PN39","v":5.8500000000000005},"h3",{"$f":"PR163","v":-17.058680555555554},{"$f":"PS163","v":6.6999460334592538},{"$f":"PQ163","v":"h8"},null,{"$f":"PX148","v":35},{"$f":"PY148-PY143+2","v":7},"t39",null,null,null,null,null,null,null,null,null,null,null,null,null,null,null,null,null,null,null,null,null,null,null,null,null,null,null,null,null,null,null,"بزرگی فلش دانه",{"$f":"RC46","v":0.4},"f10",{"$f":"RG160","v":-19.809027777777779},{"$f":"RH160","v":10.133189422558011},{"$f":"RF160","v":"f8"},null,null,null,null,null,null,null,null,null,null,{"$f":"RN29","v":0.59280169371912483},"c1",null,null,null,null,null,{"$f":"SC152","v":-40},{"$f":"RV38","v":10.277777777777777},null,null,null,null,null,null,null,null,null,null,null,{"$f":"SH29","v":0.59280169371912483},"c1",null,null,null,null,null,{"$f":"SW152","v":-40},{"$f":"SP38","v":10.277777777777777},null,null,null,null,null,null,null,null,null,null,null,{"$f":"TB29","v":0.57798165137614688},"c1",null,null,null,null,null,{"$f":"TQ152","v":-40},{"$f":"TJ38","v":9.7222222222222232},null,null,null,null,null,null,null,null,null,null,null,{"$f":"TV29","v":0.57798165137614688},"c1",null,null,null,null,null,{"$f":"UK152","v":-40},{"$f":"UD38","v":9.7222222222222232},null,null,null,null,null,null,null,null,null,null,null,{"$f":"UP29","v":0.59280169371912483},"c1",null,null,null,null,null,{"$f":"VE152","v":-40},{"$f":"UX38","v":10.277777777777777},null,null,null,null,null,null,null,null,null,null,null,{"$f":"VJ29","v":0.59280169371912483},"c1",null,null,null,null,null,{"$f":"VY152","v":-40},{"$f":"VR38","v":10.277777777777777}]
[null,null,null,null,"میزان بیرون آمدن کارور جلو به قسمت سرشانه","z'4",{"$f":"0.14*H130","v":3.4454000000000002},{"$f":"0.14*'متغیرها '!U82","v":3.22},null,null,null,null,null,null,null,null,null,null,null,null,null,null,null,null,null,null,null,null,null,null,null,null,null,null,null,null,null,null,null,null,null,null,null,null,null,null,null,null,null,null,null,null,null,"جداسازی قسمت پهلو",null,{"$f":"AZ167","v":7.7978399999999999},{"$f":"BA167","v":60.4},40,null,null,null,null,{"$f":"BK176+0.55*(BK172-BK176)","v":13.578066249999999},{"$f":"BL176+0.55*(BL172-BL176)","v":49.877680772021279},"شیفت41'''",null,null,null,null,null,"ζ'2",{"$f":"(1+0.001)*ATAN((BS168-BS104)/(BT168-BT104))","v":0.25578466932656846},null,null,null,null,null,null,{"$f":"BD98","v":0},{"$f":"BE98","v":80.227797473097809},"26'",null,{"$f":"BD98","v":0},{"$f":"BE98","v":80.227797473097809},"26'",null,{"$f":"ER425","v":14.656760532996698},{"$f":"ES425","v":71.493120483360798},8,null,null,null,{"$f":"'متغیرها '!C56","v":0},"شیفت افقی تکه پهلو",null,null,null,null,null,null,null,null,{"$f":"BS113","v":0},{"$f":"BT113","v":71.8},4,null,null,null,null,null,{"$f":"-DG160+DM153","v":0},{"$f":"DH160","v":60.6},"44 یا d1",null,null,null,null,null,{"$f":"DP167","v":10.069616191425641},{"$f":"DP166","v":73.905373760700485},31,"شیفت",{"$f":"BD155","v":15.776499999999999},{"$f":"BE155","v":66.865865014267314},14,null,{"$f":"DX165","v":9.0837286048000045},{"$f":"DX164","v":74.404680076651886},23,null,null,null,null,null,null,null,null,null,null,null,null,null,null,null,"نقاط  ورودی",null,null,null,null,"مولفه افقی","مولفه عمودی","اسم نقطه ",null,"αa23",{"$f":"ATAN((EX161-EX160)/(EY160-EY161))","v":{"$error":"#DIV/0!"}},null,null,null,null,null,null,{"$f":"BD180","v":15.826500000000001},{"$f":"BE180","v":50.142500152855277},"شیفت49'  …",null,null,null,null,null,null,null,null,null,null,null,null,null,null,null,null,null,null,null,null,null,null,null,null,null,null,null,null,null,null,null,null,null,null,null,null,null,null,null,null,null,null,null,null,null,{"$f":"HB164","v":17.7685},{"$f":"BL162-(H105-H107)","v":22.341237767311419},"b'42",null,{"$f":"-HB174+GI99","v":-17.7685},{"$f":"HC174","v":22.341237767311419},"b'42",null,null,null,null,null,null,null,null,null,null,null,null,null,null,null,null,null,"چیب",null,{"$f":"IB184","v":-7.4753399999999992},{"$f":"IC184","v":49.8},"شیفت53",null,{"$f":"-FN160-HY101","v":-7.7978399999999999},{"$f":"FO160","v":60.4},40,null,{"$f":"-CO188-HY101","v":0},{"$f":"CP188","v":74.974999999999994},"e1",null,null,null,null,null,null,null,null,null,null,null,null,null,null,null,null,null,null,null,null,null,null,null,null,null,null,null,{"$f":"JN124-(2-JR85)*JR103","v":1.5743550567820677},{"$f":"JO173","v":11.100000000000001},"f22",null,null,null,null,{"$f":"-JU157+EC383","v":-15.287836879859979},{"$f":"JV157","v":50.142500152855277},"f14",null,{"$f":"-JY154+HQ412","v":-15.575712831977715},{"$f":"JZ154","v":11.100000000000001},"f21",null,null,null,null,null,null,null,null,null,null,null,null,null,null,null,null,null,null,null,null,null,null,null,null,null,null,null,null,null,null,null,null,null,null,{"$f":"KP282-KP265","v":0},{"$f":"KQ282-KP266","v":49.8},"j40",null,{"$f":"LJ174","v":0},{"$f":"LK174","v":49.8},{"$f":"LL174","v":"j40"},null,null,null,null,null,null,null,null,null,null,null,null,null,null,null,null,null,null,null,null,null,null,null,null,null,null,null,null,null,null,null,null,null,null,null,null,null,null,null,null,null,null,null,null,null,null,null,null,null,null,null,null,null,null,null,null,null,null,null,null,null,null,null,null,null,null,null,null,null,null,null,"طول باکس نوشته",{"$f":"0.3*OG41","v":1.3499999999999999},"h3",{"$f":"OK184","v":-29.06388888888889},{"$f":"OL184","v":11.79978413383702},{"$f":"OJ184","v":"h8"},null,null,null,null,null,"نقطه شروع انحنا","مولفه افقی","مولفه عمودی",{"$f":"OV178","v":-33.459027777777777},{"$f":"OW178","v":9.2498650836481389},{"$f":"OU178","v":"g4"},null,null,null,null,null,null,null,null,{"$f":"PG173","v":-20.876429007765182},{"$f":"PH173","v":7.2999460334592534},{"$f":"PF173","v":"f13"},null,null,null,null,null,"پهنای نیم دایره",{"$f":"PN38","v":0.5},{"$f":"PN49","v":0.33998920669185106},{"$f":"PR180","v":-35.780694444444443},{"$f":"PS180","v":6.858607663248784},{"$f":"PQ180","v":"g5"},null,null,null,null,null,null,null,null,null,null,null,null,null,null,null,null,null,null,null,null,null,null,null,null,null,null,null,null,null,null,null,null,null,null,null,null,null,null,{"$f":"RG184","v":-4.7888888888888861},{"$f":"RH184","v":9.2831894225580118},{"$f":"RF184","v":"h11"},null,null,null,null,null,null,null,null,null,{"$f":"RU162+60*RV153","v":-4.4318983768525086},{"$f":"RV162","v":0},60,null,null,null,null,null,{"$f":"SC173","v":-40},{"$f":"RV38","v":10.277777777777777},null,null,null,null,null,null,null,null,null,null,{"$f":"SO162+60*SP153","v":-4.4318983768525086},{"$f":"SP162","v":0},60,null,null,null,null,null,{"$f":"SW173","v":-40},{"$f":"SP38","v":10.277777777777777},null,null,null,null,null,null,null,null,null,null,{"$f":"TI162+60*TJ153","v":-5.3211009174311883},{"$f":"TJ162","v":0},60,null,null,null,null,null,{"$f":"TQ173","v":-40},{"$f":"TJ38","v":9.7222222222222232},null,null,null,null,null,null,null,null,null,null,{"$f":"UC162+60*UD153","v":-5.3211009174311883},{"$f":"UD162","v":0},60,null,null,null,null,null,{"$f":"UK173","v":-40},{"$f":"UD38","v":9.7222222222222232},null,null,null,null,null,null,null,null,null,null,{"$f":"UW162+60*UX153","v":-4.4318983768525086},{"$f":"UX162","v":0},60,null,null,null,null,null,{"$f":"VE173","v":-40},{"$f":"UX38","v":10.277777777777777},null,null,null,null,null,null,null,null,null,null,{"$f":"VQ162+60*VR153","v":-4.4318983768525086},{"$f":"VR162","v":0},60,null,null,null,null,null,{"$f":"VY173","v":-40},{"$f":"VR38","v":10.277777777777777}]
[null,null,null,null,null,null,null,null,null,null,null,null,null,null,null,null,null,null,null,null,null,null,null,null,null,null,null,null,null,null,null,null,null,null,null,null,null,null,null,null,null,null,null,null,null,null,null,null,null,null,null,null,null,null,null,{"$f":"BD117","v":8.318956},{"$f":"BE117","v":71.306653026124991}," شیفت b",null,null,null,null,null,null,null,null,null,null,null,null,{"$f":"BS187","v":10.965153773137693},{"$f":"BT187","v":47.8},null,null,{"$f":"-BS189+BX182","v":-10.965153773137693},{"$f":"BT189","v":47.8},null,null,"نقاط  محاسبه شده",null,null,null,null,null,null,null,null,null,null,null,null,null,null,null,null,null,null,null,null,null,null,null,"نقطه خروجی پایین","b",{"$f":"DA190+DA184*COS(CZ187)","v":19.383367005119801},{"$f":"DB190+DA184*SIN(CZ187)","v":60.587453387130012},null,null,null,null,"نقطه خروجی پایین","b",{"$f":"DI190+DI184*COS(DH187)","v":19.548711000475809},{"$f":"DJ190+DI184*SIN(DH187)","v":60.39976894868353},null,null,null,null,null,null,null,null,null,null,null,null,null,null,null,{"$f":"DJ215","v":3.75},{"$f":"DK215","v":44.973894072137014},"m2",null,{"$f":"-DZ189-HY101","v":-3.75},{"$f":"EA189","v":44.973894072137014},"m2",null,null,null,null,null,null,null,null,null,{"$f":"DT352","v":0},{"$f":"DU352","v":49.8},"e21","نقطه دوم خط تقارن","مولفه افقی","مولفه عمودی","اسم نقطه ",null,{"$f":"EX182+EY159*COS(EY176)","v":{"$error":"#DIV/0!"}},{"$f":"EY182+EY159*SIN(EY176)","v":{"$error":"#DIV/0!"}},"b1",null,null,null,null,null,null,null,null,null,null,null,null,null,null,null,null,null,null,null,null,null,null,null,null,null,null,null,null,null,null,null,null,null,null,null,null,null,null,null,null,null,null,null,null,null,null,null,null,null,null,null,null,null,null,null,null,null,null,null,null,null,null,null,null,null,null,null,null,null,null,null,null,null,null,null,null,null,null,null,null,null,null,null,null,null,null,null,null,null,null,null,null,null,null,null,null,null,null,null,null,null,null,null,null,null,null,null,null,null,null,null,null,null,null,null,null,null,null,null,null,null,null,null,null,null,null,null,null,null,null,null,null,null,null,null,null,null,null,null,null,null,null,null,null,null,null,null,null,null,null,null,null,null,null,null,null,null,null,null,null,null,null,null,null,null,{"$f":"LJ188","v":3.9588925706905971},{"$f":"LK174-0.3*LJ163*(KQ283-KQ284)","v":48.666833361308505},"j55",null,{"$f":"LJ188","v":3.9588925706905971},49.8,"j54",null,null,null,null,null,null,null,null,null,null,null,null,null,null,null,null,null,null,null,null,null,null,null,null,null,null,null,null,null,null,null,null,null,null,null,null,null,null,null,null,null,null,null,null,null,null,null,null,null,null,null,null,null,null,null,null,null,null,null,null,null,"متغیرهای ورودی",null,{"$f":"NZ195","v":-35},{"$f":"OA195","v":12.224770642201833},{"$f":"NY195","v":"w20"},null,null,null,null,null,"h13",{"$f":"OK185","v":-27.713888888888889},{"$f":"OL186","v":12.04978413383702},{"$f":"OK181","v":-25.909722222222221},{"$f":"OL181","v":11.79978413383702},{"$f":"OJ181","v":"m19"},null,null,null,null,null,null,null,null,{"$f":"OV199","v":-31.129861111111111},{"$f":"OW199","v":11.54978413383702},{"$f":"OU199","v":"h11"},null,null,null,null,null,"نسبت سایز افقی",{"$f":"PC36","v":42},"انحنا راستگرد ",null,null,{"$f":"PH189","v":"انحنا راستگرد "},null,null,null,null,null,"زاویه فلش دانه",{"$f":"PN45","v":0.75},"f11",{"$f":"PR192","v":-35},{"$f":"PS192","v":7.8332433890987572},{"$f":"PQ192","v":"n'28"},null,null,null,null,null,null,null,null,null,null,null,null,null,null,null,null,null,null,null,null,null,null,null,null,null,null,null,null,null,null,null,null,null,null,null,null,null,null,null,null,null,null,null,null,null,null,null,null,null,null,{"$f":"RU162+3*RV153","v":-38.221594918842626},{"$f":"RV162","v":0},3,null,null,null,null,null,{"$f":"SC188","v":-40},{"$f":"RV38","v":10.277777777777777},null,null,null,null,null,null,null,null,null,null,{"$f":"SO162+3*SP153","v":-38.221594918842626},{"$f":"SP162","v":0},3,null,null,null,null,null,{"$f":"SW188","v":-40},{"$f":"SP38","v":10.277777777777777},null,null,null,null,null,null,null,null,null,null,{"$f":"TI162+3*TJ153","v":-38.26605504587156},{"$f":"TJ162","v":0},3,null,null,null,null,null,{"$f":"TQ188","v":-40},{"$f":"TJ38","v":9.7222222222222232},null,null,null,null,null,null,null,null,null,null,{"$f":"UC162+3*UD153","v":-38.26605504587156},{"$f":"UD162","v":0},3,null,null,null,null,null,{"$f":"UK188","v":-40},{"$f":"UD38","v":9.7222222222222232},null,null,null,null,null,null,null,null,null,null,{"$f":"UW162+3*UX153","v":-38.221594918842626},{"$f":"UX162","v":0},3,null,null,null,null,null,{"$f":"VE188","v":-40},{"$f":"UX38","v":10.277777777777777},null,null,null,null,null,null,null,null,null,null,{"$f":"VQ162+3*VR153","v":-38.221594918842626},{"$f":"VR162","v":0},3,null,null,null,null,null,{"$f":"VY188","v":-40},{"$f":"VR38","v":10.277777777777777}]
[null,null,null,null,null,{"$f":"K196+AX99","v":12.413362402041827},{"$f":"AX98+K195","v":84.450539465328035},"b2  ..",null,null,null,null,"مرجع قرینه",{"$f":"HY101","v":0},null,null,null,null,{"$f":"IF(R201>R202,ATAN((S201-S202)/(R201-R202)),ATAN((R202-R201)/(S201-S202)))","v":1.2702167530842439},"b12",null,"رسم قرینه",null,null,null,null,null,null,null,{"$f":"AD205","v":-10.43235462216977},{"$f":"AA202","v":85.144216665593333},"قرینه bs2",null,{"$f":"AM196+BI98","v":12.413358924179073},{"$f":"BI97+AM195","v":85.650534744035127},"b2","نقطه تقاطع","b10",{"$f":"(AN205-AN203+AM203*((AN204-AN203)/(AM204-AM203+0.0001))-AM205*((AN206-AN205)/(AM206-AM205+0.0001)))/(((AN204-AN203)/(AM204-AM203+0.0001))-((AN206-AN205)/(AM206-AM205+0.0001)))","v":9.6329097766012453},{"$f":"AN203+(AM207-AM203)*((AN204-AN203)/(AM204-AM203+0.0001))","v":85.728341093842516},{"$f":"-AO195+AP206","v":-14.084543798235664},{"$f":"AP195","v":85.065273632566232},"شیفت 18f",null,null,null,{"$f":"IF(AT201>AT202,ATAN((AU201-AU202)/(AT201-AT202)),ATAN((AT202-AT201)/(AU201-AU202)))","v":1.2454496512143924},"b12",null,"رسم قرینه",null,null,null,{"$f":"BB203+0.8*(BB206-BB203)","v":8.3458836977358164},{"$f":"BC203+0.75*(BC206-BC203)","v":86.279345084695507},"bs4",null,{"$f":"-BB208","v":-4.1729418488679082},{"$f":"BC208","v":86.128843017012571},"قرینه bs6",null,null,null,null,null,null,null,null,null,null,null,null,null,null,null,null,null,null,null,null,null,null,null,null,null,null,null,null,null,null,null,null,null,null,null,null,null,null,null,null,null,null,null,null,null,null,null,null,null,null,null,null,null,null,null,null,null,null,null,null,null,null,null,null,null,null,null,null,null,7.9132500000000006,45.174651550051166,"s14",null,null,null,null,null,{"$f":"BK162-EI250","v":15.555999999999999},{"$f":"BL162-EI251","v":60.641237767311416},36,null,{"$f":"EL206+0.1*H132","v":1.3625},{"$f":"EM206-0.05*H132","v":42.628249847144716},"p10",null,{"$f":"EH208","v":17.7685},{"$f":"EI208","v":49.941237767311414},42,null,{"$f":"-EP207+EU204","v":-17.7685},{"$f":"EQ207","v":49.941237767311414},42,null,{"$f":"EH226","v":15.826500000000001},{"$f":"EI226","v":50.142500152855277},45,null,null,null,null,null,null,null,null,null,null,null,null,null,null,null,null,null,null,null,null,null,null,null,null,null,null,null,null,null,null,null,null,null,null,null,null,null,null,null,null,null,null,null,null,null,null,null,null,null,null,null,null,null,null,null,null,null,null,null,null,null,null,null,null,null,null,null,null,null,null,null,null,null,null,null,null,null,null,null,null,null,null,null,null,null,null,null,null,null,null,null,null,null,null,null,null,null,null,null,null,null,null,null,null,null,null,null,null,null,null,null,null,null,null,null,null,null,null,null,null,null,null,null,null,null,null,null,null,null,null,null,null,null,null,null,null,null,null,null,null,null,null,null,null,null,null,null,null,null,null,null,null,null,null,null,null,null,null,null,null,null,null,null,null,null,{"$f":"LJ193+0.5*(LJ199-LJ193)","v":4.1661232455468431},{"$f":"LK193","v":16.650000000000002},"j74",null,{"$f":"LJ193","v":0},{"$f":"LK193","v":16.650000000000002},{"$f":"LL193","v":"j60"},null,null,null,null,null,null,null,null,null,null,null,null,null,null,null,null,null,null,null,null,null,null,null,null,null,null,null,null,null,null,null,null,null,null,null,null,null,null,null,null,null,null,null,null,null,null,null,null,null,null,null,null,null,null,null,null,null,null,null,null,null,null,null,{"$f":"NZ199","v":-33.213541666666671},{"$f":"OA199","v":12.224770642201833},{"$f":"NY199","v":"h5"},null,null,null,null,null,null,null,null,{"$f":"OF81","v":-30.868055555555557},{"$f":"OG81","v":12.366432811656772},"m23",null,null,null,null,null,"پهنای نیم دایره",{"$f":"OR40","v":0.5},{"$f":"OR51","v":0.33998920669185106},{"$f":"OV213","v":-27.608194444444443},{"$f":"OW213","v":11.879114948731786},{"$f":"OU213","v":"g5"},null,null,null,null,null,null,null,null,{"$f":"PG217","v":-19.434548611111111},{"$f":"PH217","v":7.016594711279005},{"$f":"PF217","v":"h11"},null,null,null,null,null,"بزرگی خط عمودی دانه",{"$f":"PN43","v":0.30000000000000004},"f9",null,null,"فلش به سمت پایین",null,null,null,null,null,null,null,null,null,null,null,null,null,null,null,null,null,null,null,null,null,null,null,null,null,null,null,null,null,null,null,null,null,null,null,"پهنای نیم دایره",{"$f":"RC40","v":0.5},{"$f":"RC51","v":0.33998920669185106},{"$f":"RG213","v":-38.527222222222228},{"$f":"RH213","v":10.179168915272529},{"$f":"RF213","v":"g5"},null,null,null,null,null,null,null,null,null,{"$f":"RU162+26*RV153","v":-24.587155963302756},{"$f":"RV162","v":0},26,null,null,null,null,null,{"$f":"SC206","v":-40},{"$f":"RV38","v":10.277777777777777},null,null,null,null,null,null,null,null,null,null,{"$f":"SO162+26*SP153","v":-24.587155963302756},{"$f":"SP162","v":0},26,null,null,null,null,null,{"$f":"SW206","v":-40},{"$f":"SP38","v":10.277777777777777},null,null,null,null,null,null,null,null,null,null,{"$f":"TI162+26*TJ153","v":-24.972477064220179},{"$f":"TJ162","v":0},26,null,null,null,null,null,{"$f":"TQ206","v":-40},{"$f":"TJ38","v":9.7222222222222232},null,null,null,null,null,null,null,null,null,null,{"$f":"UC162+26*UD153","v":-24.972477064220179},{"$f":"UD162","v":0},26,null,null,null,null,null,{"$f":"UK206","v":-40},{"$f":"UD38","v":9.7222222222222232},null,null,null,null,null,null,null,null,null,null,{"$f":"UW162+26*UX153","v":-24.587155963302756},{"$f":"UX162","v":0},26,null,null,null,null,null,{"$f":"VE206","v":-40},{"$f":"UX38","v":10.277777777777777},null,null,null,null,null,null,null,null,null,null,{"$f":"VQ162+26*VR153","v":-24.587155963302756},{"$f":"VR162","v":0},26,null,null,null,null,null,{"$f":"VY206","v":-40},{"$f":"VR38","v":10.277777777777777}]
[null,null,null,null,null,null,null,null,null,null,null,null,null,null,null,null,null,null,null,null,null,null,null,null,null,null,null,null,null,null,null,null,null,null,null,null,null,null,null,null,null,null,null,null,null,null,null,null,null,null,null,null,null,null,null,null,null,null,null,null,null,null,null,null,null,null,null,null,null,null,null,null,null,null,null,null,null,null,null,null,null,null,null,null,null,"بررسی خطا m5",{"$f":"IF(CI222>0,\"  \",\"  ریزش پارچه کم شود\")","v":"  "},null,null,null,null,null,null,{"$f":"CH284-BI266","v":7.4180161029618308},{"$f":"CI284-BI267","v":51.95916258802125},"m14",null,null,"m17",{"$f":"0.25*CV221","v":2.9203265466571144},null,null,{"$f":"CU242-CV253","v":16.360440834412238},{"$f":"CV242-CV254","v":49.62723522713754},"m16",null,"(1 → m9)",{"$f":"DD216+0.35*(DD218-DD216)","v":-1.6529688531109361},null,null,{"$f":"DD224","v":-1.6529688531109361},"(1 → m9)",null,{"$f":"0+AX99","v":0},{"$f":"DD226+AX98","v":42.973894072137014},"m11",null,null,null,null,null,{"$f":"DJ254","v":3.75},{"$f":"DK254","v":29.471539349533263},"m12",null,{"$f":"-DR224+DW213","v":-3.75},{"$f":"DS224","v":29.471539349533263},"m12",null,{"$f":"DF228","v":4.5830042523364485},{"$f":"DG228","v":48.147031146889063},"m10",null,{"$f":"-DZ224-HY101","v":-4.5830042523364485},{"$f":"EA224","v":48.147031146889063},"m10",null,{"$f":"BD150","v":0},{"$f":"(BA165-I104)","v":0},"زمین 1'",null,null,null,null,null,{"$f":"EH206","v":0},{"$f":"EI206","v":49.8},48,null,{"$f":"-EP224+EU204","v":0},{"$f":"EQ224","v":49.8},48,null,{"$f":"EL248","v":0},{"$f":"EM248","v":43.651999999999994},"p'3",null,null,null,null,null,null,null,null,null,null,null,null,null,null,null,null,null,null,null,null,null,null,null,null,null,null,null,null,null,null,null,null,null,null,null,null,null,null,null,null,null,null,null,null,null,null,null,null,null,null,null,null,null,null,null,null,null,null,null,null,null,null,null,null,null,null,null,null,null,null,null,null,null,null,null,null,null,null,null,null,null,null,null,null,null,null,null,null,null,null,null,null,null,null,null,null,null,null,null,null,null,null,null,null,null,null,null,null,null,null,null,null,null,null,null,null,null,null,null,null,null,null,null,null,null,null,null,null,null,null,null,null,null,null,null,null,null,null,null,null,null,null,null,null,null,null,null,null,null,null,null,null,null,null,null,null,null,null,null,null,null,null,null,null,null,{"$f":"-LJ222+2*LJ212","v":-13.561230483723094},{"$f":"LK212","v":11.100000000000001},"j92",null,null,null,null,null,null,null,{"$f":"'متغیرها '!C57","v":0},"شیفت عمودی",null,null,null,null,null,null,"d'ʻ4  b12",{"$f":"LY223","v":7.6573222080815651},{"$f":"LZ223","v":68.147021377508196},null,null,null,null,null,null,null,null,null,null,null,null,null,null,null,null,null,null,null,null,null,null,null,null,null,null,null,null,null,null,null,null,null,null,null,null,null,null,null,null,null,null,null,null,null,null,"زاویه فلش",{"$f":"NV39","v":0.5},"f5",null,null,"فلش به سمت چپ",null,null,null,null,null,"g6",{"$f":"OK223","v":-31.235555555555557},{"$f":"OL221-OL223+OL219","v":12.853750674581757},null,null,null,null,null,null,null,null,"f2",{"$f":"OV223+1*OV221","v":-30.11487190441926},{"$f":"OW223-OV220*OV221","v":12.196438208310846},{"$f":"OV223","v":-30.454861111111111},{"$f":"OW223","v":12.366432811656772},{"$f":"OU223","v":"m22"},null,null,null,null,null,"ارتفاع نیم دایره",{"$f":"PC47*PC6","v":1.1332973556395034},"بزرگی فلش",{"$f":"PG227","v":2.3940972222222223},{"$f":"PH227","v":7.266594711279005},{"$f":"PF227","v":"n24"},null,null,null,null,null,"نسبت سایز افقی",{"$f":"PN36","v":42},"انحنا چپگرد ",null,null,{"$f":"PS224","v":"انحنا چپگرد "},null,null,null,null,null,null,null,null,null,null,null,null,null,null,null,null,null,null,null,null,null,null,null,null,null,null,null,null,null,null,null,null,null,null,null,"f6",{"$f":"RG223-RG220*RG219*RG221","v":-23.649161270012595},{"$f":"RH223+RG219*RG221","v":10.326497571505664},null,null,null,null,null,null,null,null,{"$f":"RQ223","v":0},{"$f":"RN38","v":-40.155257586450247},null,null,{"$f":"RU162+47*RV153","v":-12.138320395201134},{"$f":"RV162","v":0},47,null,null,null,null,null,{"$f":"IF(RV27>(RU131-RU40),RU131,RU40)","v":-40},{"$f":"IF(RV27>(RU131-RU40),RV131,RV40)","v":0},83,null,null,null,null,null,{"$f":"SK223","v":0},{"$f":"SH38","v":-40.155257586450247},null,null,{"$f":"SO162+47*SP153","v":-12.138320395201134},{"$f":"SP162","v":0},47,null,null,null,null,null,{"$f":"IF(SP27>(SO131-SO40),SO131,SO40)","v":-40},{"$f":"IF(SP27>(SO131-SO40),SP131,SP40)","v":0},83,null,null,null,null,null,{"$f":"TE223","v":0},{"$f":"TB38","v":-40.22935779816514},null,null,{"$f":"TI162+47*TJ153","v":-12.834862385321095},{"$f":"TJ162","v":0},47,null,null,null,null,null,{"$f":"IF(TJ27>(TI131-TI40),TI131,TI40)","v":-40},{"$f":"IF(TJ27>(TI131-TI40),TJ131,TJ40)","v":0},83,null,null,null,null,null,{"$f":"TY223","v":0},{"$f":"TV38","v":-40.22935779816514},null,null,{"$f":"UC162+47*UD153","v":-12.834862385321095},{"$f":"UD162","v":0},47,null,null,null,null,null,{"$f":"IF(UD27>(UC131-UC40),UC131,UC40)","v":-40},{"$f":"IF(UD27>(UC131-UC40),UD131,UD40)","v":0},83,null,null,null,null,null,{"$f":"US223","v":0},{"$f":"UP38","v":-40.155257586450247},null,null,{"$f":"UW162+47*UX153","v":-12.138320395201134},{"$f":"UX162","v":0},47,null,null,null,null,null,{"$f":"IF(UX27>(UW131-UW40),UW131,UW40)","v":-40},{"$f":"IF(UX27>(UW131-UW40),UX131,UX40)","v":0},83,null,null,null,null,null,{"$f":"VM223","v":0},{"$f":"VJ38","v":-40.155257586450247},null,null,{"$f":"VQ162+47*VR153","v":-12.138320395201134},{"$f":"VR162","v":0},47,null,null,null,null,null,{"$f":"IF(VR27>(VQ131-VQ40),VQ131,VQ40)","v":-40},{"$f":"IF(VR27>(VQ131-VQ40),VR131,VR40)","v":0},83]
[null,null,null,null,null,"α14",{"$f":"ATAN(0.4*AA146/G238)","v":0.34755508613703529},null,null,{"$f":"G249+AX99","v":3.2647231667187575},{"$f":"AX103+G248+AX98","v":91.369771234963707},"a6",null,"(e → e5)",{"$f":"SQRT(O239*O239+G262*G262)","v":4.9113724206438292},null,null,null,null,null,{"$f":"U249","v":0},{"$f":"V249","v":71.800000000000011},"49''",null,{"$f":"-U241+S257","v":0},{"$f":"V241","v":71.800000000000011},"49''",null,{"$f":"CQ120","v":14.084543798235664},{"$f":"CR120","v":85.065273632566232},"18f",null,"زاویه (20f - 18f - 23)",{"$f":"AD233+RADIANS(90)-AH240","v":1.7767692049416652},{"$f":"AC241","v":14.084543798235664},{"$f":"AD241","v":85.065273632566232},{"$f":"AE241","v":"18f"},null,{"$f":"-AI241+AN239","v":-14.084543798235664},{"$f":"AJ241","v":85.065273632566232},"18f",null,null,null,"محاسبات",null,{"$f":"AQ251","v":8.0082763978752478},{"$f":"AR251","v":78.483073639616592},{"$f":"AS251","v":"d9"},null,null,null,null,null,null,null,null,null,null,"(12 → 15)",{"$f":"BE250*COS(2*BI264)","v":5.9313352658457461},null,{"$f":"BD273","v":0.81339805947605148},{"$f":"BE273","v":56.5715},"8n'",null,{"$f":"-BK241-BN226","v":-0.81339805947605148},{"$f":"BL241","v":56.5715},"8n'",null,"β4",{"$f":"'متغیرها '!C324","v":0.1},null,null,"(12 → 15)",{"$f":"BT249*COS(2*BT241)","v":6.0251134917001341},null,{"$f":"BX230+BS255","v":11.147657340760912},{"$f":"BX227+BX229+BT251","v":67.180000000000007},4,null,{"$f":"-BZ241+CE227","v":-11.147657340760912},67.180000000000007,4,null,{"$f":"BK255+CI226*COS(CI225)","v":3.0979766171246568},{"$f":"BL255","v":66.61},"m20",null,null,null,"چین",null,null,null,null,null,null,{"$f":"CU237+0.5*CV224","v":18.444293997579411},{"$f":"CV237+0.5*CV224*TAN(CV222)+CV223","v":59.597741582242598},"m15",null,null,null,"قرینه",null,"(m9→ m10)",{"$f":"0.12*(DD235-DD233)+DD233","v":5.3344877722768125},null,null,{"$f":"DD241","v":5.3344877722768125},"(m9→ m10)",null,null,null,null,null,null,null,null,null,{"$f":"DF249","v":0},{"$f":"DG249","v":58.133315027481999},"s5",null,{"$f":"-DR241+DW213","v":0},{"$f":"DS241","v":58.133315027481999},"s5",null,{"$f":"AZ168+BT132","v":15.391499999999999},{"$f":"BA168","v":60.84250015285528},"شیفت 41",null,{"$f":"-DZ241-HY101","v":-15.391499999999999},{"$f":"EA241","v":60.84250015285528},"شیفت 41",null,null,{"$f":"'متغیرها '!C410","v":1.1000000000000001},"p1",null,"مولفه افقی","مولفه عمودی","اسم نقطه ",null,null,null,null,null,null,null,null,null,{"$f":"EQ274","v":6.5929629672940813},{"$f":"ER274","v":47.897799999999997},80,null,"(p27 → p28)",{"$f":"0.9*FC232","v":5.104234933080174},null,{"$f":"AX104-FC238+AX99","v":17.314847},{"$f":"AX113+AX98","v":70.065165014267322},"p19",null,{"$f":"FE232","v":7.5863199999999997},{"$f":"FF232","v":77.460000000000008},"p25",null,"(p22 → p23)",{"$f":"0.9*FN233","v":1.5819377745840704},null,{"$f":"FL255","v":6.5025599999999999},{"$f":"FM255","v":82.5},"p20",null,{"$f":"-FP241+FU230","v":-6.5025599999999999},{"$f":"FQ241","v":82.5},"p20",null,null,{"$f":"'متغیرها '!C310","v":20},"d2",null,"(d5 → d4)",{"$f":"((GC244-GC239)-(GC243-GC238)*TAN(RADIANS(FY241)))*COS(RADIANS(FY241))*SIN(RADIANS(FY241))","v":5.9690277529122024},null,null,null,null,null,null,{"$f":"'متغیرها '!C313","v":20},"d2",null,null,null,null,null,null,null,{"$f":"AZ148","v":4.3350400000000002},{"$f":"BA148","v":83.563898736548907},30,null,"(dp'5 →dp6)",{"$f":"GX239","v":30.030577492001285},null,null,null,null,null,{"$f":"HA246","v":-15.489883085623283},{"$f":"HB246","v":58.422500152855278},"dp'5",null,null,null,null,null,null,null,null,null,null,null,null,null,null,null,null,null,null,null,null,null,null,null,null,null,null,null,null,null,null,null,null,null,null,null,null,null,null,null,null,null,null,null,null,null,null,null,null,null,null,null,null,null,null,null,null,null,null,null,null,null,null,null,null,null,null,null,null,null,null,null,null,null,null,null,null,null,null,null,null,null,null,null,null,null,null,null,7.7978399999999999,60.4,"dd5",null,{"$f":"KP284","v":17.419127311038629},{"$f":"KQ284","v":16.650000000000002},"j22",null,{"$f":"-KT241+KW231","v":-17.419127311038629},{"$f":"KU241","v":16.650000000000002},"j''22",null,"نقاط  ورودی دیگر",null,null,null,{"$f":"LB262","v":19.54672050085599},{"$f":"LC262","v":16.650000000000002},"j'22",null,{"$f":"LJ237+0.5*(LJ232-LJ237)","v":13.665314668831886},{"$f":"LK231","v":5.5500000000000007},"j110",null,{"$f":"LJ217","v":0},{"$f":"LK217","v":10.467614394697057},{"$f":"LL217","v":"j85"},null,null,"d5  b10",{"$f":"0.45*(LT222-LT227)+LT227","v":3.5591625000000002},{"$f":"LU227+((LT241-LT227)/(LT216-LT227))*(LU216-LU227)+0.6*'متغیرها '!C360*(LT214-LT227)","v":62.161400964497012},null,"نقطه دوم از خط اول","d'4b14",{"$f":"LT246","v":9.7576613402726409},{"$f":"LU246","v":62.802121158954748},null,"d6  b14",13.454484020817922,65.624456252357234,null,null,null,null,null,null,null,null,null,null,null,null,null,null,null,null,null,null,null,null,null,null,null,null,null,null,null,null,null,null,null,null,null,null,null,null,null,null,null,null,null,null,null,null,null,null,"g7",{"$f":"NZ236+0.7*OA233*SIN(RADIANS(30)-2*ATAN((NZ236-NZ239)/(OA236-OA239+0.0001)))","v":-35.200113197986703},{"$f":"OA236-0.7*OA233*COS(RADIANS(30)-2*ATAN((NZ236-NZ239)/(OA236-OA239+0.0001)))","v":13.436166132943146},{"$f":"NZ236","v":-35.493499999999997},{"$f":"OA236","v":13.602293577981648},{"$f":"NY236","v":"g11"},null,null,null,null,null,"نقطه ورودی سر فلش","مولفه افقی","مولفه عمودی",{"$f":"OK242","v":-30.454861111111114},{"$f":"OL242","v":12.933081489476523},{"$f":"OJ242","v":"m27"},null,null,null,null,null,null,null,null,{"$f":"OQ83","v":5.4930555555555625},{"$f":"OR83","v":12.933081489476523},"m25",null,null,null,null,null,"n30",{"$f":"PB88","v":-31.446527777777778},{"$f":"PC88","v":8.3998920669185075},null,null,null,null,null,null,null,null,null,null,null,{"$f":"PR251","v":-16.645486111111111},{"$f":"PS251","v":8.6498920669185093},{"$f":"PQ251","v":"h10"},null,null,null,null,null,null,null,null,null,null,null,null,null,null,null,null,null,null,null,null,null,null,null,null,null,null,null,null,null,null,null,null,null,null,null,"h5",{"$f":"RG237+0.5*(RG239-RG237)","v":-35.729166666666671},{"$f":"RH237","v":10.099838100377763},{"$f":"RG246","v":-34.829166666666673},{"$f":"RH246","v":9.8498381003777631},{"$f":"RF246","v":"h12"},null,null,null,null,null,{"$f":"IF(RN26>(RM114-RM40),RM114,RM40)","v":0},{"$f":"IF(RN26>(RM114-RM40),RN114,RN40)","v":-20},62,null,{"$f":"RU162+68*RV153","v":0.31051517290048736},{"$f":"RV162","v":0},68,null,null,null,null,null,null,null,null,null,null,null,null,null,{"$f":"IF(SH26>(SG114-SG40),SG114,SG40)","v":0},{"$f":"IF(SH26>(SG114-SG40),SH114,SH40)","v":-20},62,null,{"$f":"SO162+68*SP153","v":0.31051517290048736},{"$f":"SP162","v":0},68,null,null,null,null,null,null,null,null,null,null,null,null,null,{"$f":"IF(TB26>(TA114-TA40),TA114,TA40)","v":0},{"$f":"IF(TB26>(TA114-TA40),TB114,TB40)","v":-20},62,null,{"$f":"TI162+68*TJ153","v":-0.6972477064220115},{"$f":"TJ162","v":0},68,null,null,null,null,null,null,null,null,null,null,null,null,null,{"$f":"IF(TV26>(TU114-TU40),TU114,TU40)","v":0},{"$f":"IF(TV26>(TU114-TU40),TV114,TV40)","v":-20},62,null,{"$f":"UC162+68*UD153","v":-0.6972477064220115},{"$f":"UD162","v":0},68,null,null,null,null,null,null,null,null,null,null,null,null,null,{"$f":"IF(UP26>(UO114-UO40),UO114,UO40)","v":0},{"$f":"IF(UP26>(UO114-UO40),UP114,UP40)","v":-20},62,null,{"$f":"UW162+68*UX153","v":0.31051517290048736},{"$f":"UX162","v":0},68,null,null,null,null,null,null,null,null,null,null,null,null,null,{"$f":"IF(VJ26>(VI114-VI40),VI114,VI40)","v":0},{"$f":"IF(VJ26>(VI114-VI40),VJ114,VJ40)","v":-20},62,null,{"$f":"VQ162+68*VR153","v":0.31051517290048736},{"$f":"VR162","v":0},68]
[null,null,null,null,null,"(1' →e2)",{"$f":"AX103-AX129-H233*H124","v":32.282797473097816},null,null,null,null,"رسم انحنا پایه",null,"(p1 → p3)",{"$f":"O268","v":1.6361334220877795},null,null,null,null,null,null,null,null,null,null,null,null,null,null,null,null,null,null,null,{"$f":"AI257","v":5.964408153752939},{"$f":"AJ257","v":89.551225774566575},"b8",null,{"$f":"-AI259+AN252","v":-5.964408153752939},{"$f":"AJ259","v":89.551225774566575},"b8",null,null,null,null,null,null,null,{"$f":"ATAN((NJ328-NJ324)/(NK324-NK328))","v":5.6688910134086057E-2},"زاویه پهلو با عمود",null,null,null,null,null,{"$f":"LB256","v":16.870909652936227},"j'17",null,null,"طول نصف کمر پشت",{"$f":"SQRT(POWER((BZ240-BZ241),2)+POWER((CA240-CA241),2))+SQRT(POWER((BZ241-BZ242),2)+POWER((CA241-CA242),2))+SQRT(POWER((BZ242-BZ243),2)+POWER((CA242-CA243),2))+SQRT(POWER((BZ243-BZ244),2)+POWER((CA243-CA244),2))+SQRT(POWER((BZ244-BZ245),2)+POWER((CA244-CA245),2))","v":30.739423553594257},null,{"$f":"BI230+BI233+BI239+BI245+BK290","v":24.192162917782529},{"$f":"BI227+BI234+BI240+BI246+BI229+BE252","v":67.473536943474571},20,null,{"$f":"-BK259-BN226","v":-24.192162917782529},67.473536943474571,20,null,null,null,null,null,null,null,null,{"$f":"IF(BI265=1,KM313+BX256,BZ240)","v":5},{"$f":"IF(BI265=1,KN313+BX257,CA260)","v":58.8},"b7",null,{"$f":"-BZ259+CE227","v":-5},{"$f":"CA259","v":58.8},"b7",null,"m12",{"$f":"0.3*IF(POWER((CI256/(1.1*10)),2)>POWER((0.5*CI260),2),SQRT(POWER((CI256/(1.1*10)),2)-POWER((0.5*CI260),2)),0)","v":0.64246829519560067},null,null,null,null,null,null,{"$f":"-CP224-CI249","v":-7.4180161029618308},51.95916258802125,"m14",null,null,null,null,null,null,null,null,null,null,null,null,null,{"$f":"BW112","v":0},{"$f":"BX112","v":80.227797473097809},"چرخیده 26'",null,{"$f":"-DN292+DD254","v":0},{"$f":"DO292","v":74.649999999999991},"d3",null,null,null,null,null,13.653048576730079,47.128578134979271,"m6",null,-13.653048576730079,47.128578134979271,"m6",null,{"$f":"DZ197","v":0},{"$f":"EA197","v":42.973894072137014},"m11",null,{"$f":"ED197","v":0},{"$f":"EE197","v":42.973894072137014},"m11",null,null,{"$f":"EL247","v":15.814539631111254},{"$f":"EM247","v":49.8},"p8",null,{"$f":"-EX213-HY101","v":-15.814539631111254},{"$f":"EY213","v":49.8},"p8",{"$f":"EQ286","v":3.540209640753373},{"$f":"ER286","v":49.021768050743212},"p81",null,{"$f":"-EP259+EU204","v":-3.540209640753373},{"$f":"EQ259","v":49.021768050743212},"p81",null,null,null,null,null,null,null,null,null,null,null,null,{"$f":"CY154","v":0},{"$f":"CZ154","v":61.61},"26''",{"$f":"FN242+BI98","v":4.8769200000000001},{"$f":"FN231-FN243+BI97","v":81.445374816943954},"p25",null,null,null,null,null,null,null,null,null,{"$f":"FX258-(FX257-FX258)","v":-3.2512799999999999},{"$f":"FY257","v":78.268780660276065},null,null,"(18 → 32)",{"$f":"SQRT(POWER((GI232-GI233),2)+POWER((GJ233-GJ232),2))","v":5.0082325676835797},null,null,null,null,null,"y30d",{"$f":"GJ250","v":88.1},null,null,null,null,null,null,null,null,null,null,null,null,null,null,null,"مولفه افقی","مولفه عمودی","اسم نقطه ",null,{"$f":"IF(HB244>HA261,GV263,GZ260)","v":-15.622499999999999},{"$f":"IF(HB244>HA261,GW263,HA260)","v":64.456519069702495},{"$f":"HF257","v":"dp10"},null,null,null,null,null,null,null,null,null,null,null,null,null,null,null,null,null,null,null,null,null,null,null,null,null,null,null,null,null,null,null,null,null,null,null,null,null,null,null,null,null,null,null,null,null,null,null,null,null,null,null,null,null,null,null,null,null,null,null,null,null,null,null,null,null,null,null,null,null,null,null,null,null,null,null,null,null,null,null,null,null,null,null,null,null,null,null,{"$f":"'متغیرها '!C826","v":0.5},"j4",null,null,{"$f":"KP289","v":38.322080084284984},{"$f":"KQ289","v":11.100000000000001},"j27",null,{"$f":"-KT259+KW231","v":-38.322080084284984},{"$f":"KU259","v":11.100000000000001},"j''27",null,"مولفه افقی","مولفه عمودی","اسم نقطه ",null,{"$f":"LB267","v":43.002785101883184},{"$f":"LC267","v":11.100000000000001},"j'27",null,null,null,null,null,-4.5204101612410312,10.910284318409118,"j97",null,null,null,null,null,null,null,null,null,null,null,"m1",{"$f":"'متغیرها '!C377","v":2},null,null,{"$f":"MC278+MC263","v":36.104799999999997},{"$f":"MD278","v":52.072990213849131},"جدا m12",null,{"$f":"-MF259+MK212","v":-36.104799999999997},{"$f":"MG259","v":52.072990213849131},"جدا m12",null,{"$f":"MC276+MC263","v":35.8324},{"$f":"MD276","v":60.6},"جدا m10",null,{"$f":"-MN259+MS212","v":-35.8324},{"$f":"MO259","v":60.6},"جدا m10",null,{"$f":"MC276+MC263","v":35.8324},{"$f":"MD276","v":60.6},"جدا m10",null,{"$f":"-MV259+NA212","v":-35.8324},{"$f":"MW259","v":60.6},"جدا m10",null,{"$f":"MC276+MC263","v":35.8324},{"$f":"MD276","v":60.6},"جدا m10",null,{"$f":"-ND259+NI212","v":-35.8324},{"$f":"NE259","v":60.6},"جدا m10",null,{"$f":"MC276+MC263","v":35.8324},{"$f":"MD276","v":60.6},"جدا m10",null,{"$f":"-NL259+NQ212","v":-35.8324},{"$f":"NM259","v":60.6},"جدا m10",null,null,null,null,null,null,"g2",{"$f":"NZ257","v":-3.3541666666666679},{"$f":"OA257+NZ254","v":14.633027522935777},null,null,null,null,null,null,null,null,"پهنای نیم دایره",{"$f":"OG40","v":0.5},{"$f":"OG51","v":0.33998920669185106},{"$f":"OK265","v":9.992500000000005},{"$f":"OL265","v":13.012412304371288},{"$f":"OJ265","v":"g5"},null,null,null,null,null,"بزرگی خط عمودی دانه",{"$f":"OR45","v":0.30000000000000004},"f9",null,null,"فلش به سمت پایین",null,null,null,null,null,"نقطه ورودی سر فلش","مولفه افقی","مولفه عمودی",{"$f":"PG260","v":0.51406250000000009},{"$f":"PH260","v":8.3998920669185075},{"$f":"PF260","v":"n28"},null,null,null,null,null,"ارتفاع نیم دایره",{"$f":"PN47*PN7","v":2.2665947112790068},"بزرگی فلش",{"$f":"PR262","v":-34.380208333333336},{"$f":"PS262","v":8.3998920669185093},{"$f":"PQ262","v":"n'32"},null,null,null,null,null,null,null,null,null,null,null,null,null,null,null,null,null,null,null,null,null,null,null,null,null,null,null,null,null,null,null,null,null,null,null,null,null,null,{"$f":"RB86","v":-1.458333333333327},{"$f":"RC86","v":10.666486778197514},"p27",null,null,null,null,null,{"$f":"IF(RN26>(RM120-RM40),RM120,RM40)","v":0},{"$f":"IF(RN26>(RM120-RM40),RN120,RN40)","v":-20},69,null,{"$f":"RU162+91*RV153","v":13.944954128440358},{"$f":"RV162","v":0},91,null,null,null,null,null,null,null,null,null,null,null,null,null,{"$f":"IF(SH26>(SG120-SG40),SG120,SG40)","v":0},{"$f":"IF(SH26>(SG120-SG40),SH120,SH40)","v":-20},69,null,{"$f":"SO162+91*SP153","v":13.944954128440358},{"$f":"SP162","v":0},91,null,null,null,null,null,null,null,null,null,null,null,null,null,{"$f":"IF(TB26>(TA120-TA40),TA120,TA40)","v":0},{"$f":"IF(TB26>(TA120-TA40),TB120,TB40)","v":-20},69,null,{"$f":"TI162+91*TJ153","v":12.596330275229363},{"$f":"TJ162","v":0},91,null,null,null,null,null,null,null,null,null,null,null,null,null,{"$f":"IF(TV26>(TU120-TU40),TU120,TU40)","v":0},{"$f":"IF(TV26>(TU120-TU40),TV120,TV40)","v":-20},69,null,{"$f":"UC162+91*UD153","v":12.596330275229363},{"$f":"UD162","v":0},91,null,null,null,null,null,null,null,null,null,null,null,null,null,{"$f":"IF(UP26>(UO120-UO40),UO120,UO40)","v":0},{"$f":"IF(UP26>(UO120-UO40),UP120,UP40)","v":-20},69,null,{"$f":"UW162+91*UX153","v":13.944954128440358},{"$f":"UX162","v":0},91,null,null,null,null,null,null,null,null,null,null,null,null,null,{"$f":"IF(VJ26>(VI120-VI40),VI120,VI40)","v":0},{"$f":"IF(VJ26>(VI120-VI40),VJ120,VJ40)","v":-20},69,null,{"$f":"VQ162+91*VR153","v":13.944954128440358},{"$f":"VR162","v":0},91]
[null,null,null,null,null,null,null,null,null,null,null,null,null,null,null,null,null,null,null,null,null,null,null,null,null,null,null,null,null,null,null,null,null,null,null,null,null,null,null,{"$f":"AN283+0.92*(AN286-AN283)","v":15.806464420845561},{"$f":"AO283+0.5*(AO286-AO283)","v":53.298519893506807},"7n",null,{"$f":"AN268+AO272+AO274","v":15.776710314741571},{"$f":"AO268+AO275","v":66.865950700033238},14,null,"(3 →5)","هلال دایروی",null,0,{"$f":"-AW280","v":-39},2,null,null,null,"(1 → 5)",{"$f":"BF279+BF280","v":31.3},null,{"$f":"ROUND(0.87*(-BF279-BF280),1)","v":-27.2},{"$f":"ROUND(0.43*(-BF279-BF280),1)","v":-13.5},"4'",null,null,null,null,null,null,null,null,null,"نقطه خروجی پایین","c2",{"$f":"BV286+BV280*COS(BU283)","v":41.914585826735362},{"$f":"BW286+BV280*SIN(BU283)","v":66.686713696073753},null,null,{"$f":"IF(BI265=1,IF((BT233-BT228)>(BT233-BL170),BZ260,KM330+BX256),BZ260)","v":5},{"$f":"IF(BI265=1,IF((BT233-BT228)>(BT233-BL170),CA260,KN330+BX257),CA260)","v":58.8},"b25",null,{"$f":"-BZ285+CE227","v":-5},{"$f":"CA285","v":58.8},"b25",null,{"$f":"CH281+CH283-CH299","v":10.244294719680084},{"$f":"CI281-0.5*CI260*SIN(CI258)-CI259","v":55.359729207423449},"m15",null,null,null,null,null,null,null,null,null,null,null,null,null,null,null,null,null,null,null,null,null,null,null,null,null,null,null,null,null,{"$f":"DJ231","v":0},{"$f":"DK231","v":58.422500152855278},"s'1",null,{"$f":"EZ567","v":0},{"$f":"FA567","v":58.18},"d1",null,{"$f":"-DR285+DW213","v":0},{"$f":"DS285","v":58.18},"d1",null,{"$f":"DZ211","v":7.9132500000000006},35.070645877359965,"s10",null,0,55.339859451065415,"m9'''",null,null,{"$f":"EI290-EJ260","v":1.5766391036577154},{"$f":"EJ258","v":49.8},"64a",null,{"$f":"-EX239-HY101","v":-1.0369670242448645},{"$f":"EY239","v":45.477562644531346},83,null,{"$f":"EI266+0.5*(EI267-EI266)","v":7.4294068008878238},{"$f":"EJ266+EJ271","v":51.8},"p80",null,null,null,null,null,null,null,null,null,null,null,null,null,null,null,null,null,null,null,null,null,null,null,null,null,null,null,null,null,null,null,null,null,null,null,null,null,null,null,null,null,null,null,null,null,null,null,null,null,null,null,null,null,null,"پروسیجر چرخش دراپه 8",null,null,null,null,null,"کامل شده",null,{"$f":"HD282","v":-15.622499999999999},{"$f":"HE282","v":64.456519069702495},{"$f":"HF257","v":"dp10"},null,{"$f":"CR182","v":15.489883085623283},{"$f":"CS182","v":58.422500152855278}," شیفت45 یا d3",null,null,null,null,null,null,null,null,null,null,null,null,null,null,null,null,null,null,null,null,null,null,null,null,null,null,null,null,null,null,null,null,null,null,null,null,null,null,null,null,null,null,null,null,null,null,null,null,null,null,null,null,null,null,null,null,null,null,null,null,null,null,null,null,null,null,null,null,null,null,null,null,null,null,null,null,null,null,null,null,null,null,null,{"$f":"KP282","v":0},{"$f":"KQ284","v":16.650000000000002},"j23",null,null,null,null,null,null,null,null,null,null,null,null,null,null,null,null,null,null,null,null,null,{"$f":"LJ243","v":-13.665314668831886},5.5500000000000007,"j112",null,null,null,null,null,null,null,null,null,null,null,null,null,null,null,null,null,null,null,null,null,null,null,{"$f":"IF(MC259=4,MC234,MC274)+MC263","v":36.327399999999997},{"$f":"IF(MC259=4,MD234,MD274)","v":62.749578561888001},"جدا m8 یا d'4b10",null,{"$f":"-MN285+MS212","v":-36.327399999999997},{"$f":"MO285","v":62.749578561888001},"جدا m8 یا d'4b10",null,{"$f":"IF(MC259=4,MC228,MC273)+MC263","v":36.327399999999997},{"$f":"IF(MC259=4,MD228,MD273)","v":64.627853630483273},"جدا m7 یا d'4b6",null,{"$f":"-MV285+NA212","v":-36.327399999999997},{"$f":"MW285","v":64.627853630483273},"جدا m7 یا d'4b6",null,{"$f":"IF(MC259=4,MC222,MC272)+MC263","v":36.327399999999997},{"$f":"IF(MC259=4,MD222,MD272)","v":66.415834614509947},"جدا m6 یا d'4b12",null,{"$f":"-ND285+NI212","v":-36.327399999999997},{"$f":"NE285","v":66.415834614509947},"جدا m6 یا d'4b12",null,{"$f":"IF(MC259=4,MC216,MC271)+MC263","v":36.327399999999997},{"$f":"IF(MC259=4,MD216,MD271)","v":67.444727297786741},"جدا m5 یا d'4b16",null,{"$f":"-NL285+NQ212","v":-36.327399999999997},{"$f":"NM285","v":67.444727297786741},"جدا m5 یا d'4b16",null,null,null,null,null,null,null,null,null,{"$f":"NZ277","v":-6.9270833333333339},{"$f":"OA277","v":14.633027522935777},{"$f":"NY277","v":"h5"},null,null,null,null,null,"h11",{"$f":"OK282","v":6.4708333333333385},{"$f":"OL282-0.5*OK273","v":13.249730167296274},null,null,null,null,null,null,null,null,"پهنای باکس نوشته",{"$f":"OR42","v":0.5},"h4",null,null,null,null,null,null,null,null,"نقطه ورودی سر فلش","مولفه افقی","مولفه عمودی",{"$f":"PG286","v":-33.326562500000001},{"$f":"PH286","v":8.3998920669185075},{"$f":"PF286","v":"n31"},null,null,null,null,null,"زاویه فلش دانه",{"$f":"PN45","v":0.75},"f11",{"$f":"PR288","v":-22.356249999999999},{"$f":"PS288","v":10.666486778197516},{"$f":"PQ288","v":"n'37"},null,null,null,null,null,null,null,null,null,null,null,null,null,null,null,null,null,null,null,null,null,null,null,null,null,null,null,null,null,null,null,null,null,null,null,"g5",{"$f":"RG281+0.7*(RG284-RG281)","v":-1.0908333333333271},{"$f":"RH281+0.28*(RH284-RH281)","v":10.74581759309228},{"$f":"RG282","v":-0.96483333333332699},{"$f":"RH282","v":11.072207231516456},{"$f":"RF282","v":"g11"},null,null,null,null,null,null,null,null,null,null,null,null,null,null,null,null,null,{"$f":"SC284","v":-35.257586450247004},{"$f":"RV160","v":10.277777777777777},null,null,null,null,null,null,null,null,null,null,null,null,null,null,null,null,null,null,{"$f":"SW284","v":-35.257586450247004},{"$f":"SP160","v":10.277777777777777},null,null,null,null,null,null,null,null,null,null,null,null,null,null,null,null,null,null,{"$f":"TQ284","v":-35.376146788990823},{"$f":"TJ160","v":9.7222222222222232},null,null,null,null,null,null,null,null,null,null,null,null,null,null,null,null,null,null,{"$f":"UK284","v":-35.376146788990823},{"$f":"UD160","v":9.7222222222222232},null,null,null,null,null,null,null,null,null,null,null,null,null,null,null,null,null,null,{"$f":"VE284","v":-35.257586450247004},{"$f":"UX160","v":10.277777777777777},null,null,null,null,null,null,null,null,null,null,null,null,null,null,null,null,null,null,{"$f":"VY284","v":-35.257586450247004},{"$f":"VR160","v":10.277777777777777}]
[null,null,null,null,null,null,null,null,null,null,null,null,null,null,null,null,null,null,null,null,null,null,null,null,null,null,null,"sq2",{"$f":"AC292-(AD292-AD293)*TAN(RADIANS(AC288))","v":3.9396083117130463},{"$f":"AD293","v":80.227797473097809},null,null,null,null,null,null,null,null,null,null,null,null,null,null,null,null,null,null,null,null,null,null,null,null,null,null,null,null,null,0,{"$f":"-BF279","v":-19.5},10,null,null,null,null,null,null,null,null,null,null,null,null,null,null,null,null,null,null,null,null,null,null,null,{"$f":"CH293","v":12.391906468498627},{"$f":"CI293-0.7*CI263*CI264","v":58.910600091713164},"m27",null,null,null,null,null,"نقطه دوم از خط دوم",28,{"$f":"BK263","v":33.624979516156344},{"$f":"BL263","v":61.605765474884556},null,null,null,null,null,null,null,null,null,null,null,null,{"$f":"DF249","v":0},{"$f":"DG249","v":58.133315027481999},"s5",null,{"$f":"-DF294+DW251","v":0},{"$f":"DG294","v":58.133315027481999},"s5",null,{"$f":"FA372+FA376","v":0},{"$f":"FB372+FA377","v":74.649999999999991},"d3",null,null,null,null,null,null,null,null,null,11.663250000000001,45.973027363489329,"جلوm2",null,null,null,null,null,null,null,null,null,null,{"$f":"-EX248-HY101","v":-6.5929629672940813},39.758335808720631,85,null,{"$f":"2*EQ285-EQ293","v":3.540209640753373},{"$f":"ER293","v":38.486798782914761},"p89",null,null,null,null,null,null,null,null,null,null,null,null,null,null,null,null,null,null,null,null,null,null,null,null,null,null,null,null,null,null,null,null,null,null,null,null,null,null,null,null,null,null,null,null,null,null,null,null,null,null,null,null,null,null,{"$f":"GZ266","v":-15.826500000000001},{"$f":"HA266","v":36.17125007642764},"dp70","نقطه مرکزی چرخش","مولفه افقی","مولفه عمودی","اسم نقطه ",null,{"$f":"IF(OR(HB243<HA262,HB244>HA262),GV263,HL371)","v":-16.257378425697201},{"$f":"IF(OR(HB243<HA262,HB244>HA262),GW263,HM371)","v":60.90314547857178},{"$f":"HF263","v":"12dp30"},"قرینه",{"$f":"IF(HB243<GW264,GV267,CU185)","v":-15.391499999999999},{"$f":"IF(HB243<GW264,GW267,CV185)","v":60.84250015285528}," شیفت41 یا d3 یا 45'",null,null,null,null,null,null,null,null,null,null,null,null,null,null,null,null,null,null,null,null,null,null,null,null,null,null,null,null,null,null,null,null,null,null,null,null,null,null,null,null,null,null,null,null,null,null,null,null,null,null,null,null,null,null,null,null,null,null,null,null,null,null,null,null,null,null,null,null,null,null,null,null,null,null,null,null,null,null,null,null,null,null,null,{"$f":"KP282","v":0},{"$f":"KQ293","v":0},"j32",null,null,null,null,null,null,null,null,null,null,null,null,null,null,null,null,null,null,null,null,null,null,null,null,null,null,null,null,null,null,null,null,null,null,null,{"$f":"CN170","v":0},{"$f":"CO170","v":58.18},"d1",null,{"$f":"-MB294+MG286","v":0},{"$f":"MC294","v":58.18},"d1",null,null,null,null,null,null,null,null,null,null,null,null,null,null,null,null,null,null,null,null,null,null,null,null,null,null,null,null,null,null,null,null,null,null,null,null,null,null,null,null,null,null,"g4",{"$f":"NZ291-NZ289*NZ287/40","v":-11.025},{"$f":"OA291+0.5*NZ288","v":15.034403669724767},{"$f":"NZ298","v":-11.232901202942507},{"$f":"OA298","v":14.970393010138213},{"$f":"NY298","v":"g8"},null,null,null,null,null,"نقطه شروع انحنا","مولفه افقی","مولفه عمودی",{"$f":"OK298","v":4.141666666666671},{"$f":"OL298","v":13.783054506206151},{"$f":"OJ298","v":"g4"},null,null,null,null,null,"h8",{"$f":"OV293-0.5*OV284","v":2.3388888888888957},{"$f":"OW289","v":13.499730167296274},null,null,null,null,null,null,null,null,"نسبت سایز افقی",{"$f":"PC36","v":42},"انحنا راستگرد ",null,null,{"$f":"PH294","v":"انحنا راستگرد "},null,null,null,null,null,"بزرگی فلش",{"$f":"PN49","v":0.33998920669185106},"f4",{"$f":"PR296","v":-30.372222222222224},{"$f":"PS296","v":10.666486778197516},{"$f":"PQ296","v":"n'35"},null,null,null,null,null,null,null,null,null,null,null,null,null,null,null,null,null,null,null,null,null,null,null,null,null,null,null,null,null,null,null,null,null,null,null,"نقطه ورودی سر فلش","مولفه افقی","مولفه عمودی",{"$f":"RG295","v":-23.761111111111109},{"$f":"RH295","v":11.233135456017266},{"$f":"RF295","v":"p32"},null,null,null,null,null,null,null,null,null,null,null,null,null,null,null,null,null,{"$f":"SC293","v":-32.886379675370506},{"$f":"RV160","v":10.277777777777777},null,null,null,null,null,null,null,null,null,null,null,null,null,null,null,null,null,null,{"$f":"SW293","v":-32.886379675370506},{"$f":"SP160","v":10.277777777777777},null,null,null,null,null,null,null,null,null,null,null,null,null,null,null,null,null,null,{"$f":"TQ293","v":-33.064220183486235},{"$f":"TJ160","v":9.7222222222222232},null,null,null,null,null,null,null,null,null,null,null,null,null,null,null,null,null,null,{"$f":"UK293","v":-33.064220183486235},{"$f":"UD160","v":9.7222222222222232},null,null,null,null,null,null,null,null,null,null,null,null,null,null,null,null,null,null,{"$f":"VE293","v":-32.886379675370506},{"$f":"UX160","v":10.277777777777777},null,null,null,null,null,null,null,null,null,null,null,null,null,null,null,null,null,null,{"$f":"VY293","v":-32.886379675370506},{"$f":"VR160","v":10.277777777777777}]
[null,null,null,null,null,{"$f":"BO167","v":7.2904999999999998},{"$f":"BP167","v":60.6},34,null,null,null,null,null,{"$f":"J311","v":7.5659240993579226},{"$f":"K311","v":58.18},{"$f":"L311","v":"d2"},null,{"$f":"IF(JR81=0,JN84,IF(AND(JR81=1,JN84<AZ166),JN84,AZ166))","v":6.9275399999999996},{"$f":"BA166","v":60.4},39,null,"sf9",null,{"$f":"R311","v":7.5053400000000003},{"$f":"S311","v":49.8},null,{"$f":"-X319+2*X308","v":-1.5125},{"$f":"Y319","v":65.239999999999995},"s'u5",null,{"$f":"X311","v":7.5053400000000003},{"$f":"Y311","v":49.8},"sf2",null,null,null,null,null,null,null,null,null,{"$f":"IF(JR81=0,JN117,IF(AND(JR81=1,JN117<(BO186)),JN117,(BO186)))","v":6.6312499999999996},{"$f":"BP186","v":60.6},34,null,"sf9",null,{"$f":"AQ311","v":8.3967500000000008},{"$f":"AR311","v":49.8},null,{"$f":"-AW319+2*AW308","v":0},{"$f":"AX319","v":65.44},"s'u5",null,{"$f":"AW311","v":8.3967500000000008},{"$f":"AX311","v":49.8},"sf2",null,null,null,null,null,null,null,null,null,null,{"$f":"'متغیرها '!U54-'متغیرها '!U55","v":29.1},"(c-d)",null,{"$f":"BP310+0.6*(BT310-BP310)","v":-7.5053400000000003},{"$f":"BQ310+0.4*(BU310-BQ310)","v":49.8},"e24",null,{"$f":"BT312","v":-7.5053400000000003},{"$f":"BU312","v":49.8},{"$f":"BV312","v":"e24"},null,null,{"$f":"'متغیرها '!U54-'متغیرها '!U55","v":29.1},"(c-d)",null,{"$f":"CB325","v":7.5053400000000003},{"$f":"CC325","v":49.8},{"$f":"CD325","v":"e24"},null,null,{"$f":"'متغیرها '!U54-'متغیرها '!U55","v":29.1},"(c-d)",null,null,"گوده",null,{"$f":"CJ325","v":7.4753399999999992},{"$f":"CK325","v":49.8},{"$f":"CL325","v":"e24"},null,null,null,{"$f":"'متغیرها '!U54-'متغیرها '!U55","v":29.1},"(c-d)",null,{"$f":"CV310+0.6*(CZ310-CV310)","v":0},{"$f":"CW310+0.4*(DA310-CW310)","v":49.8},"e24",null,{"$f":"CZ312","v":0},{"$f":"DA312","v":49.8},{"$f":"DB312","v":"e24"},null,null,{"$f":"'متغیرها '!U54-'متغیرها '!U55","v":29.1},"(c-d)",null,{"$f":"DH310+0.6*(DL310-DH310)","v":17.7685},{"$f":"DI310+0.4*(DM310-DI310)","v":49.941237767311414},"e24",null,{"$f":"DL317","v":22.668499999999998},{"$f":"DM317","v":49.870618883655709},{"$f":"DN317","v":"e28"},null,{"$f":"-DP312+DU307","v":-22.668499999999998},{"$f":"DQ312","v":49.870618883655709},"e28",null,null,{"$f":"'متغیرها '!U54-'متغیرها '!U55","v":29.1},"(c-d)",null,{"$f":"DX326","v":8.3967500000000008},{"$f":"DY326","v":49.8},{"$f":"DZ326","v":"e24"},null,{"$f":"-EB312+EG307","v":-8.3967500000000008},{"$f":"EC312","v":49.8},"e24",null,null,{"$f":"'متغیرها '!U54-'متغیرها '!U55","v":29.1},"(c-d)",null,{"$f":"EJ327","v":7.4217499999999994},{"$f":"EK327","v":49.8},{"$f":"EL327","v":"e24"},null,{"$f":"-EN312+ES307","v":-7.4217499999999994},{"$f":"EO312","v":49.8},"e24",null,{"$f":"-CQ312-HY101","v":-7.4753399999999992},{"$f":"CR312","v":49.8},"e24",null,null,"نقطه دوم",{"$f":"EZ308","v":"b10"},{"$f":"FA308","v":12.899218687718504},{"$f":"FB308","v":72.034606191817502},null,null,{"$f":"AZ106","v":0},{"$f":"BA106","v":49.8},1,null,{"$f":"FD368+FA376","v":4.3887215764150866},{"$f":"FE368+FA377","v":78.512460436607824},"g8",null,{"$f":"FD352+FA376","v":4.0423700402564062},{"$f":"FE352+FA377","v":75.868131348605147},"g8",null,{"$f":"-FG313-GA306","v":0},{"$f":"FH313","v":49.8},"1'",null,{"$f":"-FK312-GA306","v":-4.3887215764150866},{"$f":"FL312","v":78.512460436607824},"g8",null,{"$f":"-FO312-GA306","v":-4.0423700402564062},{"$f":"FP312","v":75.868131348605147},"g8",null,null,"نقطه دوم",{"$f":"GE308","v":"b10"},{"$f":"GF308","v":12.833514779526453},{"$f":"GG308","v":72.672635089328281},null,null,null,null,"قرینه",null,null,null,"قرینه",null,null,null,"پروسیجر چرخش دراپه 5",null,null,null,null,null,"کامل شده",null,{"$f":"HD272","v":-15.776499999999999},{"$f":"HE272","v":66.865865014267314},{"$f":"HF272","v":"12345dp60"},null,{"$f":"HD254","v":15.622499999999999},{"$f":"HE254","v":66.376099069702505},"dp4",null,null,null,null,null,null,null,null,null,null,null,"b10",{"$f":"CE133-HW320","v":14.493522940990498},{"$f":"CF133-HW321","v":73.029261457980056},null,"نقطه تقاطع"," شیفتd''4b10",{"$f":"(IC310-IC308+IB308*((IC309-IC308)/(IB309-IB308))-IB310*((IC311-IC310)/(IB311-IB310)))/(((IC309-IC308)/(IB309-IB308))-((IC311-IC310)/(IB311-IB310)))","v":8.323433812849256},{"$f":"IC308+(IB312-IB308)*((IC309-IC308)/(IB309-IB308))","v":64.808756595235138},null,null,null,null,null,null,null,null,null,null,null,null,null,{"$f":"AZ176","v":7.5053400000000003},{"$f":"BA176","v":49.8},"47'",null,{"$f":"IF((IQ314-IQ313+IQ312-IQ319)>(IU311-IU310+IU308-IU307),IQ314-IR347,IU311)","v":15.856500000000002},{"$f":"IR314-IR348","v":49.699999999999996},"a6",null,{"$f":"-IU312+IR325","v":-15.856500000000002},49.699999999999996,"a'6",null,null,null,null,null,{"$f":"JG308+JG308-JG310","v":-15.856500000000002},{"$f":"JH308","v":49.699999999999996},"c'67",null,{"$f":"IU326","v":0},{"$f":"IV326","v":61.61},"a40",null,{"$f":"IY326","v":0},{"$f":"IZ326","v":61.61},"a'40",null,null,null,null,null,null,null,null,null,{"$f":"IU315","v":15.856500000000002},{"$f":"IV315","v":49.8},"a9",null,{"$f":"-KA312+IR325","v":-15.856500000000002},49.8,"a9",null,{"$f":"BO187","v":8.3967500000000008},{"$f":"BP187","v":50.879999999999995},"38'",null,{"$f":"IF((KI314-KI313+KI312-KI318)>(KM311-KM310+KM308-KM307),KI314-KJ327,KM311)","v":18.743500000000001},{"$f":"KJ314-KJ328-KJ322","v":49.9},"b6",null,{"$f":"-KM312+KJ323+KJ324+KJ334","v":-18.743500000000001},49.9,"b'6",null,{"$f":"KM315","v":18.743500000000001},{"$f":"KN315","v":49.8},"b9",null,{"$f":"KY308+KY308-KY310","v":-13.129486314621634},{"$f":"KZ308","v":58.13},"c'54",null,{"$f":"KM362","v":0},{"$f":"KN362","v":49.8},"b67",null,{"$f":"KQ339","v":-3.7829620496789613},{"$f":"KR339","v":58.18},"b'44",null,{"$f":"KM355","v":18.743500000000001},{"$f":"KN355","v":49.8},"b60",null,{"$f":"KQ355","v":-18.743500000000001},{"$f":"KR355","v":49.8},"b'9",null,null,15.519883085623285,58.079999999999991,"a5",null,null,null,null,null,{"$f":"LT311","v":7.827840000000001},{"$f":"LU311","v":60.4},"a4",null,{"$f":"LT310","v":7.5053400000000003},{"$f":"LU310","v":49.8},"a3",null,null,12.464114475636812,79.692558398141443,"24f",null,null,{"$f":"ATAN((ML308-ML309)/(MK309-MK308))","v":0.33685946794520627},"a5",null,null,null,null,null,null,null,null,null,null,13.424009817458867,80.048772950463473,"20f",null,null,{"$f":"ATAN((NC308-NC309)/(NB309-NB308))","v":0.3573260297916615},"a5",null,null,null,null,null,null,null,null,null,null,null,null,null,null,null,null,"نقطه شروع انحنا","مولفه افقی","مولفه عمودی",{"$f":"NZ316","v":-2.8291666666666679},{"$f":"OA316","v":15.837155963302749},{"$f":"NY316","v":"g4"},null,null,null,null,null,null,null,null,null,null,null,null,null,null,null,null,"g6",{"$f":"OV311","v":0.16722222222222854},{"$f":"OW309-OW311+OW307","v":13.98704803022126},null,null,null,null,null,null,null,null,null,null,null,{"$f":"PG322","v":-19.744444444444444},{"$f":"PH322","v":8.7165407447382588},{"$f":"PF322","v":"h11"},null,null,null,null,null,null,null,null,null,null,null,null,null,null,null,null,null,null,null,null,null,null,null,null,null,null,null,null,null,null,null,null,null,null,null,null,null,null,null,null,null,null,null,null,null,null,null,null,null,null,null,null,null,null,null,null,null,null,null,null,null,null,null,null,null,null,null,null,null,{"$f":"SC311","v":-28.736767819336627},{"$f":"RV160","v":10.277777777777777},null,null,null,null,null,null,null,null,null,null,null,null,null,null,null,null,null,null,{"$f":"SW311","v":-28.736767819336627},{"$f":"SP160","v":10.277777777777777},null,null,null,null,null,null,null,null,null,null,null,null,null,null,null,null,null,null,{"$f":"TQ311","v":-29.018348623853207},{"$f":"TJ160","v":9.7222222222222232},null,null,null,null,null,null,null,null,null,null,null,null,null,null,null,null,null,null,{"$f":"UK311","v":-29.018348623853207},{"$f":"UD160","v":9.7222222222222232},null,null,null,null,null,null,null,null,null,null,null,null,null,null,null,null,null,null,{"$f":"VE311","v":-28.736767819336627},{"$f":"UX160","v":10.277777777777777},null,null,null,null,null,null,null,null,null,null,null,null,null,null,null,null,null,null,{"$f":"VY311","v":-28.736767819336627},{"$f":"VR160","v":10.277777777777777}]
[null,null,null,null,null,"u30",{"$f":"'متغیرها '!C342","v":8},null,{"$f":"G331*G326*0.01","v":2.42},"d3 d'3",{"$f":"ATAN((F325-F324)/(G324-G325+0.00001))","v":0.20390190150812099},"αd3",null,null,null,null,null,"نصف عرض پیلی1",{"$f":"'متغیرها '!C137*0.5","v":2.5},"0.5*e119",null,"sp12",null,{"$f":"X328+S329","v":2.5},{"$f":"Y328","v":49.8},null,null,null,null,null,{"$f":"-X312+2*X308","v":-7.5053400000000003},{"$f":"Y312","v":49.8},"s'f9",null,{"$f":"AA354","v":13.598383177570092},{"$f":"AB354","v":82.98},"sd3",null,{"$f":"AA343","v":-13.598383177570092},{"$f":"AB343","v":82.98},"s'd3",null,{"$f":"J321","v":8.2525759006420767},{"$f":"K321","v":58.18}," پشت پهلوd2",null,"sp12",null,{"$f":"AR330+AW328","v":2.5},{"$f":"AX328","v":49.8},null,null,null,null,null,{"$f":"-AW312+2*AW308","v":-8.3967500000000008},{"$f":"AX312","v":49.8},"s'f9",null,{"$f":"BD359","v":0},{"$f":"BE359","v":83.18},"sd1",null,{"$f":"-AW338+2*AW308","v":-16.369428377243171},{"$f":"AX338","v":49.157794131801658},"s'p33",null,"(e29→e26)",{"$f":"BQ315-(BT310-BT314)","v":7},null,null,null,null,null,null,null,null,null,null,{"$f":"CB323+0.3*(CB328-CB323)","v":9.60534},{"$f":"CC323+0.12*(CC328-CC323)","v":49.8},"e27",null,null,null,null,null,{"$f":"CJ323+0.3*(CJ328-CJ323)","v":5.3753399999999996},{"$f":"CK323+0.12*(CK328-CK323)","v":49.8},"e27",null,null,null,null,{"$f":"IF(CK319=1,CJ318,CJ323)","v":7.4753399999999992},{"$f":"IF(CK319=1,CK318,CK323)","v":49.8},{"$f":"IF(CK319=1,CL318,CL323)","v":"e21"},null,null,"(e29→e26)",{"$f":"CW315-(CZ310-CZ314)","v":7},null,null,{"$f":"-DD320-HY101","v":4.8999999999999995},{"$f":"DE320","v":49.8},"e28",null,null,null,null,null,"e210",{"$f":"ATAN((DL310-DH309)/(DI309-DM310+0.0001))","v":0},null,null,null,null,null,null,{"$f":"DL325","v":25.2685},{"$f":"DM325","v":49.941237767311414},{"$f":"DN325","v":"e217"},null,{"$f":"-DP329+DU307","v":-25.2685},{"$f":"DQ329","v":49.941237767311414},"e217",null,{"$f":"DX328+DZ349","v":15.396750000000001},{"$f":"DY328-DZ351","v":49.8},"e26",null,null,null,null,null,null,null,null,null,{"$f":"EJ309+(EK309-EL348)*TAN(EL349)","v":7.4217499999999994},{"$f":"EL348","v":49.8},"e25",null,null,null,null,null,null,null,null,null,"رسم",null,"اوز مان",null,"خط دوم","نقطه اول",{"$f":"EZ373","v":" بالاتنه 5"},{"$f":"FA373","v":7.4903399999999998},{"$f":"FB373","v":71.8},null,null,{"$f":"FG331","v":0},{"$f":"FH331","v":61.61},"26''",null,{"$f":"FA373+FA376","v":7.4903399999999998},{"$f":"FB373+FA377","v":71.8},{"$f":"EZ373","v":" بالاتنه 5"},null,null,null,null,null,null,null,null,null,{"$f":"-FK329-GA306","v":-7.4903399999999998},{"$f":"FL329","v":71.8}," بالاتنه 5",null,null,null,null,null,"خط دوم","نقطه اول",{"$f":"GL356","v":" بالاتنه 5"},{"$f":"GM356","v":7.4903399999999998},{"$f":"GN356","v":71.8},null,null,null,null,"سبز",null,null,null,"سبز",null,null,null,"مولفه افقی","مولفه عمودی","اسم نقطه ",null,"نقطه  خروجی چرخیده",null,null,null,null,null,"انحنا پیلی",null,{"$f":"IF(OR(HB243<HA264,HB244>HA264),GV263,GZ264)","v":-15.776499999999999},{"$f":"IF(OR(HB243<HA264,HB244>HA264),GW263,HA264)","v":66.865865014267314},"dp50",null,null,null,null,null,null,null,null,null,null,null,"m9",{"$f":"MC275-HW320-HW341","v":6.3274000000000008},{"$f":"MD275-HW321","v":61.215521572092825},null,"نقطه اول از خط اول","d4b12",{"$f":"HW346","v":6.3274000000000008},{"$f":"HX346","v":67.417960122064216},null,{"$f":"-IE313","v":-7.8035208655006532},{"$f":"IF313","v":71.154921031881145},"d4  b16''",null,{"$f":"-II313","v":-7.7178549518578352},{"$f":"IJ313","v":69.392425557663941},"d4  b12''",null,{"$f":"-IM313","v":-7.4632837519161734},{"$f":"IN313","v":64.154862929966001},"d4  b10''",null,"a21",{"$f":"'متغیرها '!C793","v":16},"ضریب طول (بلندی) زیپ در خط پهلو  ",null,{"$f":"IU328","v":3.5914199999999998},{"$f":"IV327","v":49.8},"a43",null,{"$f":"IY328","v":-3.5914199999999998},{"$f":"IZ327","v":49.8},"a'43",null,{"$f":"IU323","v":19.785953406785669},{"$f":"IV323","v":51.536546858041547},"a27",null,{"$f":"IY308+0.5*(IY307-IY308)","v":-3.5914199999999998},{"$f":"IZ308+0.5*(IZ307-IZ308)","v":61.004999999999995},"d'42",null,null,null,null,null,null,null,null,null,{"$f":"IU351","v":19.785953406785669},{"$f":"IV351","v":51.536546858041547},"a65",null,{"$f":"IY351","v":-19.785953406785669},{"$f":"IZ351","v":51.536546858041547},"a'27",null,null,null,"بالا کمر جلو دامن تنگ",null,null,null,"قرینه بالا کمر جلو دامن تنگ",null,null,{"$f":"ATAN((KM320-KM313)/(KN320-KN313+0.00001))","v":0},"b29",null,{"$f":"KM313-IR332*COS(KJ329)","v":0},{"$f":"KN313+IR332*SIN(KJ329)","v":49.8},"b24",null,{"$f":"-KM329+KJ323+KJ324+KJ334","v":0},49.8,"b'24",null,{"$f":"KM309","v":8.3967500000000008},{"$f":"KN309","v":50.879999999999995},"b3",null,{"$f":"KM320","v":0},{"$f":"KN320","v":49.8},"d14",null,null,null,null,null,null,null,null,null,{"$f":"KM341","v":7.5659240993579226},{"$f":"KN341","v":58.18},"b46",null,{"$f":"KQ341","v":-7.5659240993579226},{"$f":"KR341","v":58.18},"b'46",null,null,"n1",{"$f":"'متغیرها '!C839","v":26},null,null,null,null,null,null,null,null,null,null,null,null,null,null,null,"رادیان",{"$f":"RADIANS(MP315)","v":0},"زاویه چرخش","چرخش مخالف عقربه های ساعت",null,null,null,null,null,null,null,null,null,null,null,null,null,"رادیان",{"$f":"RADIANS(NG315)","v":0},"زاویه چرخش","چرخش مخالف عقربه های ساعت",null,null,null,null,null,null,null,null,null,null,null,null,null,null,null,null,null,null,null,"f3",{"$f":"NZ328","v":-31.353765290519878},{"$f":"OA327+NZ324*NZ325","v":16.479357798165132},{"$f":"NZ328","v":-31.353765290519878},{"$f":"OA328","v":15.997706422018345},{"$f":"NY328","v":"f2"},null,null,null,null,null,"بزرگی فلش",{"$f":"OG51","v":0.33998920669185106},"f4",{"$f":"OK331","v":-26.074999999999996},{"$f":"OL331","v":14.633027522935777},{"$f":"OJ331","v":"m37"},null,null,null,null,null,"m34",{"$f":"OQ91","v":5.4930555555555625},{"$f":"OR91","v":14.066378845116025},{"$f":"OV334","v":5.8605555555555631},{"$f":"OW334","v":14.553696708041011},{"$f":"OU334","v":"g6"},null,null,null,null,null,"ارتفاع نیم دایره",{"$f":"PC47*PC7","v":2.2665947112790068},"بزرگی فلش",{"$f":"PG332","v":1.5677083333333341},{"$f":"PH332","v":8.9665407447382588},{"$f":"PF332","v":"n33"},null,null,null,null,null,"h12",{"$f":"PR326","v":-9.3493055555555493},{"$f":"PS328","v":10.983135456017267},{"$f":"PR326","v":-9.3493055555555493},{"$f":"PS326","v":11.233135456017267},{"$f":"PQ326","v":"h9"},null,null,null,null,null,null,null,null,null,null,null,null,null,null,null,null,null,null,null,null,null,null,null,null,null,null,null,null,null,null,null,null,null,null,null,"h12",{"$f":"RG326","v":-16.519444444444442},{"$f":"RH328","v":10.983135456017266},{"$f":"RG326","v":-16.519444444444442},{"$f":"RH326","v":11.233135456017266},{"$f":"RF326","v":"h9"},null,null,null,null,null,{"$f":"RQ328","v":0},{"$f":"RN38","v":-40.155257586450247},null,null,null,null,null,null,null,null,null,null,{"$f":"IF(RV149>(RU208-RU162),RU208,RU162)","v":-23.994354269583628},{"$f":"IF(RV149>(RU208-RU162),RV208,RV162)","v":0},27,null,null,null,null,null,{"$f":"SK328","v":0},{"$f":"SH38","v":-40.155257586450247},null,null,null,null,null,null,null,null,null,null,{"$f":"IF(SP149>(SO208-SO162),SO208,SO162)","v":-23.994354269583628},{"$f":"IF(SP149>(SO208-SO162),SP208,SP162)","v":0},27,null,null,null,null,null,{"$f":"TE328","v":0},{"$f":"TB38","v":-40.22935779816514},null,null,null,null,null,null,null,null,null,null,{"$f":"IF(TJ149>(TI208-TI162),TI208,TI162)","v":-24.394495412844034},{"$f":"IF(TJ149>(TI208-TI162),TJ208,TJ162)","v":0},27,null,null,null,null,null,{"$f":"TY328","v":0},{"$f":"TV38","v":-40.22935779816514},null,null,null,null,null,null,null,null,null,null,{"$f":"IF(UD149>(UC208-UC162),UC208,UC162)","v":-24.394495412844034},{"$f":"IF(UD149>(UC208-UC162),UD208,UD162)","v":0},27,null,null,null,null,null,{"$f":"US328","v":0},{"$f":"UP38","v":-40.155257586450247},null,null,null,null,null,null,null,null,null,null,{"$f":"IF(UX149>(UW208-UW162),UW208,UW162)","v":-23.994354269583628},{"$f":"IF(UX149>(UW208-UW162),UX208,UX162)","v":0},27,null,null,null,null,null,{"$f":"VM328","v":0},{"$f":"VJ38","v":-40.155257586450247},null,null,null,null,null,null,null,null,null,null,{"$f":"IF(VR149>(VQ208-VQ162),VQ208,VQ162)","v":-23.994354269583628},{"$f":"IF(VR149>(VQ208-VQ162),VR208,VR162)","v":0},27]
[null,null,null,null,null,"u''50",{"$f":"'متغیرها '!C335","v":2.5},null,{"$f":"G348*G343*0.01","v":4.84},"u6 u'6",{"$f":"ATAN((F342-F341)/(G341-G342+0.00001))","v":3.0415117328663022E-2},"αd5",null,null,null,null,null,null,null,null,{"$f":"S345+'متغیرها '!C51","v":14.55},{"$f":"S341+'متغیرها '!C52","v":22.200000000000003},"s6",null,null,null,{"$f":"-X319+R336+2*X308","v":-1.5125},{"$f":"Y319-S333+R337","v":90.240000000000009},"s'u5",null,{"$f":"-X330+2*X308","v":-2.5},{"$f":"Y330","v":49.8},"s'p13",null,{"$f":"AA353","v":0},{"$f":"AB353","v":88.425000000000011},"su4",null,{"$f":"AA365","v":-17.593380808103266},{"$f":"AB365","v":82.780005170240116},"s'd8",null,null,null,null,{"$f":"0+'متغیرها '!C53","v":0},{"$f":"AR342+'متغیرها '!C54","v":60.5},"s9",null,null,null,"خط دوم","نقطه اول","47''",{"$f":"AQ315","v":7.4217499999999994},{"$f":"AR315","v":50.879999999999995},null,null,null,{"$f":"BD373","v":18.038971760846085},{"$f":"BE373","v":83.392511557985969},"sd8",null,{"$f":"-BH325+2*BA353+2*AW308","v":-13.000133506231908},{"$f":"BI325","v":85.600000000000009},"s'fp16",null,"نقاط  ورودی",null,null,"انتخاب مدل جیب با ساسون","نقاط  خروجی",null,null,null,"رسم",null,"گوده",null,null,null,null,null,null,null,null,null,null,{"$f":"'متغیرها '!C134","v":0},"انتخاب ترک گشاد",null,null,null,null,null,{"$f":"CN344","v":-2.5753399999999997},{"$f":"CO344","v":49.8},{"$f":"CP344","v":"e28"},null,"نقاط  ورودی",null,null,null,"نقاط  خروجی",null,null,null,"رسم",null,"گوده",null,null,{"$f":"'متغیرها '!C147","v":2},"e0",null,{"$f":"DH342+(DI342-DI360)*TAN(DI361)","v":0},{"$f":"DI360","v":49.8},"e25",null,{"$f":"DL343","v":0},{"$f":"DM343","v":49.8},{"$f":"DN343","v":"e21"},null,{"$f":"-DP347+DU340","v":0},{"$f":"DQ347","v":49.8},"e21",null,null,"e01",{"$f":"IF(DY314<1,DY314*DY316,DY316+(DY314-1)*(DY317-DY316))+DY313","v":49.8},null,null,null,null,null,null,null,null,null,null,null,"گوده",null,null,null,null,null,null,null,null,null,{"$f":"-CF325-HY101","v":-17.50534},{"$f":"CG325","v":49.8},"e215",null,null,"نقطه تقاطع","g1",{"$f":"(FD345-FD343+FC343*((FD344-FD343)/(FC344-FC343))-FC345*((FD346-FD345)/(FC346-FC345)))/(((FD344-FD343)/(FC344-FC343))-((FD346-FD345)/(FC346-FC345)))","v":8.1011567566641691},{"$f":"FD343+(FC347-FC343)*((FD344-FD343)/(FC344-FC343))","v":74.874632995257997},null,null,null,null,null,null,{"$f":"FK315","v":17.007205582855462},{"$f":"BX141","v":70.066293144391707},"شیفت b14",null,{"$f":"BW142+BT132","v":15.777084840913144},{"$f":"BX142","v":66.866847301711545},"شیفت b2",null,null,null,null,null,{"$f":"-FK315-HY101","v":-17.007205582855462},{"$f":"FL315","v":70.066293144391707},"شیفت b14",null,{"$f":"-FK315-HY101","v":-17.007205582855462},{"$f":"FL315","v":70.066293144391707},"شیفت b14",null,null,"نقطه تقاطع","g1",{"$f":"(GI345-GI343+GH343*((GI344-GI343)/(GH344-GH343))-GH345*((GI346-GI345)/(GH346-GH345)))/(((GI344-GI343)/(GH344-GH343))-((GI346-GI345)/(GH346-GH345)))","v":7.9641536329419882},{"$f":"GI343+(GH347-GH343)*((GI344-GI343)/(GH344-GH343))","v":75.238644124428703},null,null,{"$f":"-GL342","v":-7.8945141184063612},74.731960715660477,"g7",null,{"$f":"GL347+GP354","v":-7.8945141184063612},{"$f":"GM347+GP355","v":74.731960715660477},"g7",null,null,null,"مولفه افقی","مولفه عمودی","اسم نقطه ",null,"نقطه  خروجی چرخیده",null,null,null,null,null,null,null,{"$f":"IF(HB244>HA263,GV263,GZ262)","v":-15.776499999999999},{"$f":"IF(HB244>HA263,GW263,HA262)","v":66.865865014267314},"dp30",null,null,null,null,null,null,null,null,null,null,null,"d5  b12",{"$f":"0.45*(HW317-HW341)+HW341","v":3.5591625000000002},{"$f":"HX341+((HW347-HW341)/(HW310-HW341))*(HX310-HX341)+0.6*'متغیرها '!C360*(HW310-HW341)","v":64.834922035371747},null,"نقطه تقاطع","d''4b10",{"$f":"(IC345-IC343+IB343*((IC344-IC343)/(IB344-IB343))-IB345*((IC346-IC345)/(IB346-IB345)))/(((IC344-IC343)/(IB344-IB343))-((IC346-IC345)/(IB346-IB345)))","v":7.4632837519161734},{"$f":"IC343+(IB347-IB343)*((IC344-IC343)/(IB344-IB343))","v":64.154862929966001},null,null,null,null,null,{"$f":"HW350-HW341+HW319","v":6.3274000000000008},{"$f":"HX350","v":65.308934212557034},"d4  b6",null,{"$f":"HW358-HW341+HW319","v":6.3274000000000008},{"$f":"HX358","v":61.791244917322885},"d4  b14''",null,null,{"$f":"IQ313-IQ312","v":-3.0000000000001137E-2},"a17",null,{"$f":"IU311+IR334+IR335+IR336+IR337","v":15.519883085623285},{"$f":"IV311","v":58.079999999999991},"a61",null,{"$f":"IY311+IR340+IR341+IR342+IR343","v":-15.519883085623285},{"$f":"IZ311","v":58.079999999999991},"a'61",null,{"$f":"IU314","v":8.3404559999999996},{"$f":"IV314","v":49.8},"a8",null,{"$f":"JG343+JG343-JG345","v":3.5914199999999998},{"$f":"JH343","v":61.004999999999995},"c44",null,null,null,null,null,null,null,null,null,{"$f":"IU337","v":7.827840000000001},{"$f":"IV337","v":60.4},"a51",null,{"$f":"IY337","v":-7.827840000000001},{"$f":"IZ337","v":60.4},"a'51",null,null,null,null,null,null,null,null,null,null,null,null,null,{"$f":"KM310+0.5*(KM311-KM310)+KJ333+KJ335+KJ336","v":13.129486314621634},{"$f":"KN310+0.5*(KN311-KN310)","v":58.13},"b52",null,{"$f":"KQ310+0.5*(KQ311-KQ310)+KJ340+KJ341+KJ342","v":-13.129486314621634},{"$f":"KR310+0.5*(KR311-KR310)","v":58.13},"b'52",null,{"$f":"KM320","v":0},{"$f":"KN320","v":49.8},"b14",null,{"$f":"KY343+KY343-KY345","v":8.3967500000000008},{"$f":"KZ343","v":50.879999999999995},"c49",null,null,null,null,null,null,null,null,null,{"$f":"KM345","v":8.3967500000000008},{"$f":"KN345","v":49.8},"b50",null,{"$f":"KQ345","v":-8.3967500000000008},{"$f":"KR345","v":49.8},"b'50",null,null,null,null,null,null,null,null,null,null,{"$f":"LX311","v":15.856500000000002},{"$f":"LY311","v":49.764102564102558},"an11",null,null,null,null,null,null,null,null,null,null,null,null,null,null,null,null,null,null,null,null,null,null,null,null,null,null,null,null,null,null,null,null,null,null,null,null,null,null,null,null,null,null,null,null,null,null,"پهنای باکس نوشته",{"$f":"NV37","v":0.5},"h4",null,null,null,null,null,null,null,null,"زاویه فلش دانه",{"$f":"OG47","v":0.75},"f11",{"$f":"OK350","v":-0.29166666666666252},{"$f":"OL350","v":14.633027522935777},{"$f":"OJ350","v":"m39"},null,null,null,null,null,"بزرگی خط عمودی دانه",{"$f":"OR45","v":0.30000000000000004},"f9",null,null,"فلش به سمت پایین",null,null,null,null,null,"f2",{"$f":"PG346+1*PG344","v":-29.701677459974814},{"$f":"PH346-PG343*PG344","v":11.06314085267134},{"$f":"PG346","v":-30.041666666666664},{"$f":"PH346","v":11.233135456017266},{"$f":"PF346","v":"n36"},null,null,null,null,null,null,null,"باکس نوشته c9",null,null,{"$f":"PS347","v":"باکس نوشته c9"},null,null,null,null,null,null,null,null,null,null,null,null,null,null,null,null,null,null,null,null,null,null,null,null,null,null,null,null,null,null,null,null,null,null,null,"g2",{"$f":"RG345","v":-1.9444444444444429},{"$f":"RH345+RG342","v":12.366432811656768},null,null,null,null,null,null,null,null,null,null,null,null,null,null,null,null,null,null,null,null,{"$f":"IF(RV149>(RU214-RU162),RU214,RU162)","v":-40},{"$f":"IF(RV149>(RU214-RU162),RV214,RV162)","v":0},34,null,null,null,null,null,null,null,null,null,null,null,null,null,null,null,null,null,{"$f":"IF(SP149>(SO214-SO162),SO214,SO162)","v":-40},{"$f":"IF(SP149>(SO214-SO162),SP214,SP162)","v":0},34,null,null,null,null,null,null,null,null,null,null,null,null,null,null,null,null,null,{"$f":"IF(TJ149>(TI214-TI162),TI214,TI162)","v":-20.348623853211006},{"$f":"IF(TJ149>(TI214-TI162),TJ214,TJ162)","v":0},34,null,null,null,null,null,null,null,null,null,null,null,null,null,null,null,null,null,{"$f":"IF(UD149>(UC214-UC162),UC214,UC162)","v":-20.348623853211006},{"$f":"IF(UD149>(UC214-UC162),UD214,UD162)","v":0},34,null,null,null,null,null,null,null,null,null,null,null,null,null,null,null,null,null,{"$f":"IF(UX149>(UW214-UW162),UW214,UW162)","v":-40},{"$f":"IF(UX149>(UW214-UW162),UX214,UX162)","v":0},34,null,null,null,null,null,null,null,null,null,null,null,null,null,null,null,null,null,{"$f":"IF(VR149>(VQ214-VQ162),VQ214,VQ162)","v":-40},{"$f":"IF(VR149>(VQ214-VQ162),VR214,VR162)","v":0},34]
[null,null,null,null,null,"قرینه",{"$f":"-HY101","v":0},null,null,null,null,null,null,null,null,null,null,null,null,"نقطه تقاطع","47'''",{"$f":"(W361-W358+V358*((W359-W358)/(V359-V358+0.0001))-V361*((W362-W361)/(V362-V361+0.0001)))/(((W359-W358)/(V359-V358+0.0001))-((W362-W361)/(V362-V361+0.0001)))","v":15.881387220712814},{"$f":"W358+(V364-V358)*((W359-W358)/(V359-V358+0.0001))","v":49.8},null,null,null,{"$f":"Z376","v":-17.956825947083843},{"$f":"AA376","v":90.040005195238848},"s'u9",null,null,null,null,null,null,null,null,null,null,null,null,null,null,"نقطه خروجی پایین","sd8",{"$f":"AT365+AT359*COS(AS362)","v":18.038971760846085},{"$f":"AU365+AT359*SIN(AS362)","v":83.392511557985969},null,null,null,null,null,null,null,null,{"$f":"-AW321+BA353+2*AW308","v":-7.5659240993579226},{"$f":"AX321-BA354+BA352","v":83.18},"s'd2",null,null,null,null,null,null,null,null,null,"(e22→e21)",{"$f":"BQ351*0.25*BQ352+BP350-BP349","v":0},null,null,{"$f":"BT350+1*BQ358*COS(BQ368)","v":20.826500000000003},{"$f":"BU350+1*BQ358*SIN(BQ368)","v":50.142500152855277},"e218",null,null,null,null,null,null,null,null,null,null,null,null,null,null,null,null,null,null,null,null,null,null,null,null,null,"(e22→e21)",{"$f":"CW351*0.25*CW352+CV350-CV349","v":0},null,null,{"$f":"CZ350-1*CW358*COS(CW368)","v":-20.826500000000003},{"$f":"DA350-1*CW358*SIN(CW368)","v":50.142500152855277},"e218",null,null,null,null,null,"(e25→e29)",{"$f":"IF(DI362>DI363,0,SQRT(POWER((DI363),2)-POWER((DI362),2)))","v":0},null,null,null,null,null,null,{"$f":"DL355","v":-5},{"$f":"DM355","v":49.8},{"$f":"DN355","v":"e215"},null,{"$f":"-DP364+DU340","v":5},{"$f":"DQ364","v":49.8},"e215",null,null,null,null,null,null,null,null,null,null,null,null,null,null,null,null,null,null,null,null,null,null,null,null,null,{"$f":"-CF342-HY101","v":-7.5053400000000003},{"$f":"CG342","v":49.8},"e21",null,"متغیرهای محاسبه ای",null,null,"اسم نقطه","مولفه افقی","مولفه عمودی",null,null,null,null,null,{"$f":"FK333","v":7.4903399999999998},{"$f":"BA161","v":70.66},"شیفت 43",null,{"$f":"BS104","v":7.4903399999999998},{"$f":"BT104","v":71.8}," 5 بالاتنه",null,null,null,null,null,{"$f":"-FK333-GA306","v":-7.4903399999999998},{"$f":"FL333","v":70.66},"شیفت 43",null,{"$f":"-FK335-GA306","v":-7.4903399999999998},{"$f":"FL335","v":70.66},43,null,"متغیرهای محاسبه ای",null,null,"اسم نقطه","مولفه افقی","مولفه عمودی",null,"ضریب عمودی g8",0.4,null,null,null,null,null,null,null,null,-3.968141713262046,9.244361502479741,"4567dp83","نقطه قبل از چرخش",{"$f":"IF(GW364>GW348,IF(GV364>GV348,GV348+SQRT(POWER(GV364-GV348,2)+POWER(GW364-GW348,2))*COS(ATAN((GW364-GW348)/(GV364-GV348+0.000123))+GW346),GV348-SQRT(POWER(GV364-GV348,2)+POWER(GW364-GW348,2))*COS(ATAN((GW364-GW348)/(GV348-GV364+0.000123))-GW346)),IF(GV364>GV348,GV348+SQRT(POWER(GV364-GV348,2)+POWER(GW364-GW348,2))*COS(ATAN((GW348-GW364)/(GV364-GV348+0.000123))-GW346),GV348-SQRT(POWER(GV364-GV348,2)+POWER(GW364-GW348,2))*COS(ATAN((GW348-GW364)/(GV348-GV364+0.000123))+GW346)))","v":-12.462523660943553},{"$f":"IF(GW364>GW348,IF(GV364>GV348,GW348+SQRT(POWER(GV364-GV348,2)+POWER(GW364-GW348,2))*SIN(ATAN((GW364-GW348)/(GV364-GV348+0.000123))+GW346),GW348+SQRT(POWER(GV364-GV348,2)+POWER(GW364-GW348,2))*SIN(ATAN((GW364-GW348)/(GV348-GV364+0.000123))-GW346)),IF(GV364>GV348,GW348-SQRT(POWER(GV364-GV348,2)+POWER(GW364-GW348,2))*SIN(ATAN((GW348-GW364)/(GV364-GV348+0.000123))-GW346),GW348-SQRT(POWER(GV364-GV348,2)+POWER(GW364-GW348,2))*SIN(ATAN((GW348-GW364)/(GV348-GV364+0.000123))+GW346)))","v":8.0762029136533471},"34567dp83",null,{"$f":"HD316","v":-15.776499999999999},{"$f":"HE316","v":66.865865014267314},{"$f":"HF316","v":"12345dp63"},null,"رادیان",{"$f":"-HA276","v":-0.16002560409665548},"زاویه چرخش","چرخش مخالف عقربه های ساعت",null,null,null,null,null,null,null,null,null,null,null,null,null,null,"نقطه اول از خط اول","d4b12",{"$f":"HW346","v":6.3274000000000008},{"$f":"HX346","v":67.417960122064216},null,null,null,null,null,{"$f":"-II348","v":-3.5591625000000002},{"$f":"IJ348","v":63.648594961273957},"d5  b6",null,{"$f":"-IM348","v":-3.5591625000000002},{"$f":"IN348","v":61.669894732704748},"d5  b14",null,null,null,null,null,null,null,null,"ماکزیمم متغیر ورودی  ضریب طول",20,null,null,null,{"$f":"IY312","v":-15.856500000000002},{"$f":"IZ312","v":49.699999999999996},"a'6",null,{"$f":"IU312","v":15.856500000000002},{"$f":"IV312","v":49.699999999999996},"d62",null,{"$f":"IU346","v":15.856500000000002},{"$f":"IV346","v":49.8},"a60",null,{"$f":"IY346","v":-15.856500000000002},{"$f":"IZ346","v":49.8},"a'60",null,10.595269200000001,49.8,"a57",null,-10.595269200000001,49.8,"a'57",null,null,null,null,null,null,null,null,null,null,null,null,null,null,null,null,null,null,null,null,null,null,null,null,null,null,null,null,null,null,null,null,null,null,null,null,null,{"$f":"KM325","v":-5},{"$f":"KN325","v":58.18},"b20",null,{"$f":"KQ325","v":5},{"$f":"KR325","v":58.18},"b'20",null,null,null,null,null,null,null,null,null,null,null,null,null,null,{"$f":"LX377","v":-0.32978551199810191},{"$f":"LY377","v":41.237586441313674},"fg3",null,null,8.3103330845626893,49.800003223876281,"b50","نقطه قبل از چرخش",{"$f":"IF(ML364>ML351,IF(MK364>MK351,MK351+SQRT(POWER(MK364-MK351,2)+POWER(ML364-ML351,2))*COS(ATAN((ML364-ML351)/(MK364-MK351+0.000123))+ML349),MK351-SQRT(POWER(MK364-MK351,2)+POWER(ML364-ML351,2))*COS(ATAN((ML364-ML351)/(MK351-MK364+0.000123))-ML349)),IF(MK364>MK351,MK351+SQRT(POWER(MK364-MK351,2)+POWER(ML364-ML351,2))*COS(ATAN((ML351-ML364)/(MK364-MK351+0.000123))-ML349),MK351-SQRT(POWER(MK364-MK351,2)+POWER(ML364-ML351,2))*COS(ATAN((ML351-ML364)/(MK351-MK364+0.000123))+ML349)))","v":8.3104557953608928},{"$f":"IF(ML364>ML351,IF(MK364>MK351,ML351+SQRT(POWER(MK364-MK351,2)+POWER(ML364-ML351,2))*SIN(ATAN((ML364-ML351)/(MK364-MK351+0.000123))+ML349),ML351+SQRT(POWER(MK364-MK351,2)+POWER(ML364-ML351,2))*SIN(ATAN((ML364-ML351)/(MK351-MK364+0.000123))-ML349)),IF(MK364>MK351,ML351-SQRT(POWER(MK364-MK351,2)+POWER(ML364-ML351,2))*SIN(ATAN((ML351-ML364)/(MK364-MK351+0.000123))-ML349),ML351-SQRT(POWER(MK364-MK351,2)+POWER(ML364-ML351,2))*SIN(ATAN((ML351-ML364)/(MK351-MK364+0.000123))+ML349)))","v":49.800009180969468},"c50",null,null,null,null,null,null,null,null,null,null,7.4216283565350594,49.800012845659367,"b50","نقطه قبل از چرخش",{"$f":"IF(NC364>NC351,IF(NB364>NB351,NB351+SQRT(POWER(NB364-NB351,2)+POWER(NC364-NC351,2))*COS(ATAN((NC364-NC351)/(NB364-NB351+0.000123))+NC349),NB351-SQRT(POWER(NB364-NB351,2)+POWER(NC364-NC351,2))*COS(ATAN((NC364-NC351)/(NB351-NB364+0.000123))-NC349)),IF(NB364>NB351,NB351+SQRT(POWER(NB364-NB351,2)+POWER(NC364-NC351,2))*COS(ATAN((NC351-NC364)/(NB364-NB351+0.000123))-NC349),NB351-SQRT(POWER(NB364-NB351,2)+POWER(NC364-NC351,2))*COS(ATAN((NC351-NC364)/(NB351-NB364+0.000123))+NC349)))","v":7.4217513473942196},{"$f":"IF(NC364>NC351,IF(NB364>NB351,NC351+SQRT(POWER(NB364-NB351,2)+POWER(NC364-NC351,2))*SIN(ATAN((NC364-NC351)/(NB364-NB351+0.000123))+NC349),NC351+SQRT(POWER(NB364-NB351,2)+POWER(NC364-NC351,2))*SIN(ATAN((NC364-NC351)/(NB351-NB364+0.000123))-NC349)),IF(NB364>NB351,NC351-SQRT(POWER(NB364-NB351,2)+POWER(NC364-NC351,2))*SIN(ATAN((NC351-NC364)/(NB364-NB351+0.000123))-NC349),NC351-SQRT(POWER(NB364-NB351,2)+POWER(NC364-NC351,2))*SIN(ATAN((NC351-NC364)/(NB351-NB364+0.000123))+NC349)))","v":49.800013905860929},"c50",null,null,null,null,null,null,null,null,null,null,null,null,null,null,null,null,null,null,null,null,null,null,null,null,null,null,null,"g6",{"$f":"OK363","v":-30.409166666666664},{"$f":"OL361-OL363+OL359","v":15.120345385860762},null,null,null,null,null,null,null,null,"f7",{"$f":"OV362+OV362-OV363","v":-3.7371234522096266},{"$f":"OW363","v":14.859686994063678},{"$f":"OV362","v":-3.9071180555555518},{"$f":"OW362","v":14.633027522935777},{"$f":"OU362","v":"m39"},null,null,null,null,null,"بزرگی فلش دانه",{"$f":"PC44","v":0.4},"f10",{"$f":"PG371","v":-19.505208333333329},{"$f":"PH371","v":11.833135456017265},{"$f":"PF371","v":"f8"},null,null,null,null,null,"h13",{"$f":"PR360","v":-7.3836805555555536},{"$f":"PS361","v":16.582973556395032},{"$f":"PR356","v":1.9809027777777786},{"$f":"PS356","v":16.332973556395032},{"$f":"PQ356","v":"n'42"},null,null,null,null,null,null,null,null,null,null,null,null,null,null,null,null,null,null,null,null,null,null,null,null,null,null,null,null,null,null,null,null,null,null,null,"پهنای باکس نوشته",{"$f":"RC42","v":0.5},"h4"]
[null,null,null,null,null,null,null,null,null,null,null,null,null,null,null,null,null,null,null,null,null,null,null,"نقطه خروجی میانه",null,{"$f":"Z370-Z373*AA375*SIN(Y375)/AA374","v":-13.598383676931761},{"$f":"AA370-Z373*AA375*COS(Y375)/AA374","v":82.979999975001277},null,null,null,null,null,null,null,null,null,null,null,null,null,null,null,null,null,null,null,null,null,null,null,null,null,null,null,null,null,null,null,null,null,null,null,null,{"$f":"BD365","v":-14.044621427251029},{"$f":"BE365","v":83.18},"s'd3",null,null,null,null,null,null,null,null,null,null,null,null,null,null,null,null,null,null,null,null,null,null,null,null,null,null,null,null,null,null,null,null,null,null,null,null,null,null,null,null,null,null,null,null,null,null,null,null,null,null,null,null,null,null,null,null,null,null,null,null,null,null,null,null,null,null,null,null,null,null,null,null,null,null,null,null,null,null,null,null,null,null,null,null,null,null,null,null,null,"شیفت افقی ترک",{"$f":"'متغیرها '!C55","v":0},null,35,{"$f":"0.5*(FA374+FA375)","v":10.204461281591481},{"$f":"0.5*(FB374+FB375)","v":85.461915385371782},null,null,null,null,null,null,null,null,null,null,null,null,null,null,null,null,null,null,null,null,null,null,null,null,null,null,null,null,null,null,null,null,null,null,null,null,null,null,null,null,null,null,11.64661673227676,40.558275721460745,"34dp52","نقطه قبل از چرخش",{"$f":"IF(GW378>GW369,IF(GV378>GV369,GV369+SQRT(POWER(GV378-GV369,2)+POWER(GW378-GW369,2))*COS(ATAN((GW378-GW369)/(GV378-GV369+0.000123))+GW367),GV369-SQRT(POWER(GV378-GV369,2)+POWER(GW378-GW369,2))*COS(ATAN((GW378-GW369)/(GV369-GV378+0.000123))-GW367)),IF(GV378>GV369,GV369+SQRT(POWER(GV378-GV369,2)+POWER(GW378-GW369,2))*COS(ATAN((GW369-GW378)/(GV378-GV369+0.000123))-GW367),GV369-SQRT(POWER(GV378-GV369,2)+POWER(GW378-GW369,2))*COS(ATAN((GW369-GW378)/(GV369-GV378+0.000123))+GW367)))","v":7.7484763715991747},{"$f":"IF(GW378>GW369,IF(GV378>GV369,GW369+SQRT(POWER(GV378-GV369,2)+POWER(GW378-GW369,2))*SIN(ATAN((GW378-GW369)/(GV378-GV369+0.000123))+GW367),GW369+SQRT(POWER(GV378-GV369,2)+POWER(GW378-GW369,2))*SIN(ATAN((GW378-GW369)/(GV369-GV378+0.000123))-GW367)),IF(GV378>GV369,GW369-SQRT(POWER(GV378-GV369,2)+POWER(GW378-GW369,2))*SIN(ATAN((GW369-GW378)/(GV378-GV369+0.000123))-GW367),GW369-SQRT(POWER(GV378-GV369,2)+POWER(GW378-GW369,2))*SIN(ATAN((GW369-GW378)/(GV369-GV378+0.000123))+GW367)))","v":36.4860936426401},"234dp52",null,{"$f":"HA251","v":-16.257378425697201},{"$f":"HB251","v":60.90314547857178},{"$f":"GZ251","v":"dp'8"},null,7.7484763715991747,36.4860936426401,"234dp52","نقطه قبل از چرخش",{"$f":"IF(HI378>HI366,IF(HH378>HH366,HH366+SQRT(POWER(HH378-HH366,2)+POWER(HI378-HI366,2))*COS(ATAN((HI378-HI366)/(HH378-HH366+0.000123))+HI364),HH366-SQRT(POWER(HH378-HH366,2)+POWER(HI378-HI366,2))*COS(ATAN((HI378-HI366)/(HH366-HH378+0.000123))-HI364)),IF(HH378>HH366,HH366+SQRT(POWER(HH378-HH366,2)+POWER(HI378-HI366,2))*COS(ATAN((HI366-HI378)/(HH378-HH366+0.000123))-HI364),HH366-SQRT(POWER(HH378-HH366,2)+POWER(HI378-HI366,2))*COS(ATAN((HI366-HI378)/(HH366-HH378+0.000123))+HI364)))","v":2.9930462939325366},{"$f":"IF(HI378>HI366,IF(HH378>HH366,HI366+SQRT(POWER(HH378-HH366,2)+POWER(HI378-HI366,2))*SIN(ATAN((HI378-HI366)/(HH378-HH366+0.000123))+HI364),HI366+SQRT(POWER(HH378-HH366,2)+POWER(HI378-HI366,2))*SIN(ATAN((HI378-HI366)/(HH366-HH378+0.000123))-HI364)),IF(HH378>HH366,HI366-SQRT(POWER(HH378-HH366,2)+POWER(HI378-HI366,2))*SIN(ATAN((HI366-HI378)/(HH378-HH366+0.000123))-HI364),HI366-SQRT(POWER(HH378-HH366,2)+POWER(HI378-HI366,2))*SIN(ATAN((HI366-HI378)/(HH366-HH378+0.000123))+HI364)))","v":33.119501481693902},"1234dp52",null,null,null,null,null,null,null,null,null,null,null,null,null,null,null,null,null,null,null,null,null,null,null,null,null,null,null,null,null,null,null,null,null,null,null,null,null,null,null,null,{"$f":"IY307","v":0},{"$f":"IZ307","v":61.61},"a'1",null,null,null,null,null,null,null,null,null,null,null,null,null,null,null,null,null,null,null,null,null,null,null,null,null,null,null,null,null,null,null,null,null,null,null,null,null,null,null,null,null,null,null,null,null,null,null,null,null,null,null,null,null,null,null,null,null,{"$f":"KM329","v":0},{"$f":"KN329","v":49.8},"b24",null,{"$f":"KQ329","v":0},{"$f":"KR329","v":49.8},"b'24",null,null,{"$f":"LX359","v":-2.8305603480831021},{"$f":"LY359","v":43.341491812080832},"ef3","نقطه قبل از چرخش",{"$f":"IF(LU378>LU370,IF(LT378>LT370,LT370+SQRT(POWER(LT378-LT370,2)+POWER(LU378-LU370,2))*COS(ATAN((LU378-LU370)/(LT378-LT370+0.000123))+LU368),LT370-SQRT(POWER(LT378-LT370,2)+POWER(LU378-LU370,2))*COS(ATAN((LU378-LU370)/(LT370-LT378+0.000123))-LU368)),IF(LT378>LT370,LT370+SQRT(POWER(LT378-LT370,2)+POWER(LU378-LU370,2))*COS(ATAN((LU370-LU378)/(LT378-LT370+0.000123))-LU368),LT370-SQRT(POWER(LT378-LT370,2)+POWER(LU378-LU370,2))*COS(ATAN((LU370-LU378)/(LT370-LT378+0.000123))+LU368)))","v":3.8144137356105592},{"$f":"IF(LU378>LU370,IF(LT378>LT370,LU370+SQRT(POWER(LT378-LT370,2)+POWER(LU378-LU370,2))*SIN(ATAN((LU378-LU370)/(LT378-LT370+0.000123))+LU368),LU370+SQRT(POWER(LT378-LT370,2)+POWER(LU378-LU370,2))*SIN(ATAN((LU378-LU370)/(LT370-LT378+0.000123))-LU368)),IF(LT378>LT370,LU370-SQRT(POWER(LT378-LT370,2)+POWER(LU378-LU370,2))*SIN(ATAN((LU370-LU378)/(LT378-LT370+0.000123))-LU368),LU370-SQRT(POWER(LT378-LT370,2)+POWER(LU378-LU370,2))*SIN(ATAN((LU370-LU378)/(LT370-LT378+0.000123))+LU368)))","v":34.097440133135073},"efg3",null,null,null,null,null,{"$f":"LT315","v":15.721853234249314},{"$f":"LU315","v":53.889999999999993},"a13",null,null,null,null,null,null,null,null,null,null,null,null,null,null,null,null,null,null,null,null,null,null,null,null,null,null,null,null,null,null,null,null,null,null,null,null,null,null,null,null,null,null,null,null,null,{"$f":"NU85","v":-27.854166666666671},{"$f":"NV85","v":17.844036697247702},"w38",null,null,null,null,null,"نقاط خروجی","مولفه افقی","مولفه عمودی",{"$f":"OK383","v":-26.378124999999997},{"$f":"OL383","v":14.949676200755528},{"$f":"OJ383","v":"h11"},null,null,null,null,null,"g8",{"$f":"OV372-0.7*OW369*SIN(RADIANS(30)-ATAN((OV372-OV375)/(OW372-OW375+0.0001)))","v":-32.786362102857851},{"$f":"OW372-0.7*OW369*COS(RADIANS(30)-ATAN((OV372-OV375)/(OW372-OW375+0.0001)))","v":14.88930646684781},{"$f":"OV377","v":-32.374532254070495},{"$f":"OW377","v":14.966016712116858},{"$f":"OU377","v":"g7"},null,null,null,null,null,"زاویه فلش دانه",{"$f":"PC45","v":0.75},"f11",{"$f":"PG381","v":-32.500173611111109},{"$f":"PH381","v":11.233135456017266},{"$f":"PF381","v":"n39"},null,null,null,null,null,"نقاط خروجی","مولفه افقی","مولفه عمودی",{"$f":"PR383","v":1.3059027777777787},{"$f":"PS383","v":16.082973556395032},{"$f":"PQ383","v":"h11"},null,null,null,null,null,null,null,null,null,null,null,null,null,null,null,null,null,null,null,null,null,null,null,null,null,null,null,null,null,null,null,null,null,null,null,"h13",{"$f":"RG374","v":-3.7624999999999997},{"$f":"RH375","v":12.049784133837017},{"$f":"RG370","v":-1.9444444444444429},{"$f":"RH370","v":11.799784133837017},{"$f":"RF370","v":"p35"},null,null,null,null,null,null,null,null,null,null,null,null,null,null,null,null,null,{"$f":"SC377","v":-40},{"$f":"RV160","v":10.277777777777777},null,null,null,null,null,null,null,null,null,null,null,null,null,null,null,null,null,null,{"$f":"SW377","v":-40},{"$f":"SP160","v":10.277777777777777},null,null,null,null,null,null,null,null,null,null,null,null,null,null,null,null,null,null,{"$f":"TQ377","v":-40},{"$f":"TJ160","v":9.7222222222222232},null,null,null,null,null,null,null,null,null,null,null,null,null,null,null,null,null,null,{"$f":"UK377","v":-40},{"$f":"UD160","v":9.7222222222222232},null,null,null,null,null,null,null,null,null,null,null,null,null,null,null,null,null,null,{"$f":"VE377","v":-40},{"$f":"UX160","v":10.277777777777777},null,null,null,null,null,null,null,null,null,null,null,null,null,null,null,null,null,null,{"$f":"VY377","v":-40},{"$f":"VR160","v":10.277777777777777}]
[null,null,null,null,null,null,null,{"$f":"AZ181-'متغیرها '!C55","v":7.4753399999999992},{"$f":"BA181","v":49.8},53,null,"k''5",{"$f":"M398-O387*SIN(RADIANS('متغیرها '!C394)+M431)","v":38.36859498943145},{"$f":"N398-O387*COS(RADIANS('متغیرها '!C394)+M431)","v":54.624274210593967},null,null,null,null,"رسم آستین کیمونو تا اوزمان",null,null,null,"رسم آستین کیمونو تا اوزمان",null,null,null,null,null,null,null,null,null,null,{"$f":"AP440","v":7.5053400000000003},{"$f":"AQ440","v":49.8},52,null,{"$f":"AT440","v":-7.5053400000000003},{"$f":"AU440","v":49.8},52,null,null,null,null,null,null,null,null,null,null,{"$f":"AY399+AX391","v":-82},-1.4311699866353502,{"$f":"BF393+BF390*COS(AZ400)","v":19.619290747335967},{"$f":"BG393-BF390*SIN(AZ400)","v":63.110298213374605},{"$f":"SQRT(POWER((BF392-BA400),2)+POWER((BG392-BB400),2))","v":20.580306434512309},{"$f":"ABS(BF389-BC400)","v":0.66692005273856125},{"$f":"BE394","v":"k6"},{"$f":"BC387","v":24.340175267874717},{"$f":"BD387","v":38.37998075969783},null,null,null,{"$f":"BK399+BJ391","v":-82},-1.4311699866353502,{"$f":"BR393+BR390*COS(BL400)","v":16.421629601601428},{"$f":"BS393-BR390*SIN(BL400)","v":66.80051242534573},{"$f":"SQRT(POWER((BR392-BM400),2)+POWER((BS392-BN400),2))","v":25.098407654610089},{"$f":"ABS(BR389-BO400)","v":0.23573537306255332},"k6",16.636057869054529,66.766550324215402,null,null,null,{"$f":"BW399+BV391","v":-81},-1.4137166941154069,{"$f":"CD393+CD390*COS(BX400)","v":19.848840658242494},{"$f":"CE393-CD390*SIN(BX400)","v":63.075991749330029},{"$f":"SQRT(POWER((CD392-BY400),2)+POWER((CE392-BZ400),2))","v":20.357132161534217},{"$f":"ABS(CD389-CA400)","v":0.89009432571665315},"k6",18.927538931674341,63.189113377285786,null,null,null,{"$f":"CI399+CH391","v":-73},-1.2740903539558606,{"$f":"CP393+CP390*COS(CJ400)","v":18.043083605346673},{"$f":"CQ393-CP390*SIN(CJ400)","v":68.776121690248573},{"$f":"SQRT(POWER((CP392-CK400),2)+POWER((CQ392-CL400),2))","v":25.689586881803987},{"$f":"ABS(CP389-CM400)","v":9.6366415672723775},{"$f":"CO394","v":"k15"},{"$f":"CM387","v":22.631712099456912},{"$f":"CN387","v":55.919350476699258},null,null,{"$f":"HD426+CT434","v":7.0899848740565901},{"$f":"HE426+CT435","v":86.9},"s18",null,{"$f":"DB400","v":0},103.145,"s1","سر",{"$f":"DK403+I403","v":0},{"$f":"DL403+I402","v":103.145},"s1","سر",{"$f":"-DF406-HY101","v":-3.4138440000000001},{"$f":"DG406","v":90.313587499999997},"s4'",null,null,{"$f":"AV128+H167*COS(DL392)","v":12.103539496226361},{"$f":"AV103-H167*SIN(DL392)+H114","v":84.558955554124452},"سرشانه g3",null,"قرینه",{"$f":"-DP397","v":-9.833197420291512},{"$f":"DL421","v":76.611655764213381},"شبیه سازb6",null,{"$f":"AZ170","v":0},{"$f":"BA170","v":71.8},"خط سینه",null,null,null,null,null,null,null,null,null,null,null,null,null,null,null,null,null,null,null,null,null,{"$f":"ER398","v":7.25},{"$f":"ES398","v":49.8},38,null,{"$f":"-ER400+EK402","v":-7.25},{"$f":"ES400","v":49.8},38,null,null,null,null,{"$f":"FG392","v":3.7826665779122202},{"$f":"FH392","v":86.9},{"$f":"FI392","v":"ee25"},"نقطه دوم خط تقارن","مولفه افقی","مولفه عمودی","اسم نقطه ",null,{"$f":"FC399","v":0},{"$f":"FD399","v":74.974999999999994},{"$f":"FE399","v":"e1"},null,null,null,"رسم انحنا",null,null,{"$f":"J236-'متغیرها '!C51","v":0},{"$f":"K236-'متغیرها '!C52","v":74.974999999999994},"e1","نقطه اول خط تقارن","نقاط قرینه شده نسبت به خط تقارن",null,null,null,null,null,null,null,{"$f":"GB406+FX407","v":0},{"$f":"GC406+FX408","v":74.974999999999994},"e1",null,{"$f":"DX385","v":5.4188000000000001},{"$f":"DY385","v":86.9},25,null,9.833197420291512,76.611655764213381,"16f",null,"کارور پشت",{"$f":"I129","v":23.5},"v3",null,11.81084594134248,80.959899740337704,"20f",null,{"$f":"-GV400+GS413","v":-11.81084594134248},80.959899740337704,"20f",null,{"$f":"0","v":0},{"$f":"0","v":0},"زمین",null,{"$f":"EF577","v":1.0003896103896075},{"$f":"EG577","v":4.4399999999999942},"4r",null,11.176479022729623,0,"q8",null,{"$f":"EF593","v":3.8444690197905906},{"$f":"EG593","v":-1.2286898222891622},"p2r",null,12.339879009309955,0,"r8",null,{"$f":"-HT400+HQ412","v":-12.339879009309955},0,"r8",null,null,{"$f":"AZ177","v":7.5053400000000003},{"$f":"BA177","v":49.8},52,null,{"$f":"-AZ177+IR325","v":-7.5053400000000003},{"$f":"BA177","v":49.8},52,null,{"$f":"AZ177","v":7.5053400000000003},{"$f":"BA177","v":49.8},52,null,{"$f":"-AZ177+IR325","v":-7.5053400000000003},{"$f":"BA177","v":49.8},52,null,{"$f":"BO176","v":0},{"$f":"BP176","v":49.8},47,null,{"$f":"-IS400+FS99","v":0},{"$f":"IT400","v":49.8},47,null,null,null,-15.856500000000002,49.8,"d'60",null,{"$f":"IU322","v":15.789176617124658},51.375999999999998,"a26",null,{"$f":"JK399+0.05*JG439","v":-14.04659530765532},{"$f":"JL392+0.6*JG439","v":67.61619578695263},"w23",null,null,null,null,null,{"$f":"JK422","v":8.6151037218907245},{"$f":"JL422","v":23.20152589940453},"w49",null,null,"a'1",{"$f":"IY307","v":0},{"$f":"IZ307","v":61.61},null,null,null,"جیب جین",null,null,null,null,null,null,null,null,null,null,null,null,null,null,null,null,{"$f":"KQ314+KJ325","v":-9.4314250000000008},{"$f":"KR314","v":49.8},"b'8",null,null,null,null,null,null,null,null,null,null,null,null,null,null,null,null,null,null,null,null,null,null,null,null,null,null,null,null,null,null,null,null,null,null,null,null,null,null,null,null,null,null,null,null,null,null,null,null,null,null,null,null,null,null,null,null,null,null,null,null,null,null,null,null,null,null,null,null,null,null,null,null,null,null,null,null,null,null,null,null,null,null,{"$f":"NU88","v":-35},{"$f":"NV88","v":18.646788990825684},"w41",null,null,null,null,null,"g8",{"$f":"OK394-0.7*OL391*SIN(RADIANS(30)+ATAN((OK394-OK397)/(OL394-OL397+0.0001)))","v":-21.056306547302295},{"$f":"OL394-0.7*OL391*COS(RADIANS(30)+ATAN((OK394-OK397)/(OL394-OL397+0.0001)))","v":15.455955144667561},{"$f":"OK399","v":-20.644476698514939},{"$f":"OL399","v":15.532665389936609},{"$f":"OJ399","v":"g7"},null,null,null,null,null,null,null,null,null,null,null,null,null,null,null,null,"g8",{"$f":"PG394-0.7*PH391*SIN(RADIANS(30)-ATAN((PG394-PG397)/(PH394-PH397+0.0001)))","v":-34.232542658413401},{"$f":"PH394-0.7*PH391*COS(RADIANS(30)-ATAN((PG394-PG397)/(PH394-PH397+0.0001)))","v":11.489414399929299},{"$f":"PG399","v":-33.820712809626045},{"$f":"PH399","v":11.566124645198347},{"$f":"PF399","v":"g7"},null,null,null,null,null,"g8",{"$f":"PR394-0.7*PS391*SIN(RADIANS(30)+ATAN((PR394-PR397)/(PS394-PS397+0.0001)))","v":2.2891795638088142},{"$f":"PS394-0.7*PS391*COS(RADIANS(30)+ATAN((PR394-PR397)/(PS394-PS397+0.0001)))","v":16.589252500307065},{"$f":"PR399","v":2.7010094125961719},{"$f":"PS399","v":16.665962745576117},{"$f":"PQ399","v":"g7"}]
[null,null,null,null,null,null,"k10",{"$f":"H394+H421*(G385+G388)*COS(RADIANS('متغیرها '!C394)+I398)","v":43.519618025703842},{"$f":"I394-H421*(G385+G388)*SIN(RADIANS('متغیرها '!C394)+I398)","v":59.772415220438873},null,null,null,{"$f":"K403","v":22.235704608265841},{"$f":"O403","v":65.140683648060886},"k8",null,14.084543798235664,85.065273632566232,"18f",null,{"$f":"-Q417+V382","v":-14.084543798235664},{"$f":"R417","v":85.065273632566232},"18f",null,{"$f":"-M400+AD382","v":-38.36859498943145},{"$f":"N400","v":54.624274210593967},"k''5",null,{"$f":"-H410-HY101","v":-38.368598467294198},{"$f":"I410","v":53.424278931886874},"k''5",null,null,null,null,null,null,null,null,null,null,{"$f":"AH387","v":43.546556196820219},{"$f":"AI387","v":59.750366091517364},"k''4",null,{"$f":"AL387","v":-43.546556196820219},{"$f":"AM387","v":59.750366091517364},"k''4",null,null,{"$f":"AY416+AX391","v":-48},-0.83775804095727824,{"$f":"BF393+BF390*COS(AZ417)","v":26.666920215294589},{"$f":"BG393-BF390*SIN(AZ417)","v":59.823934620626666},{"$f":"SQRT(POWER((BF392-BA417),2)+POWER((BG392-BB417),2))","v":12.804907688044159},{"$f":"ABS(BF389-BC417)","v":8.4423187992067117},null,null,null,null,null,null,{"$f":"BK416+BJ391","v":-48},-0.83775804095727824,{"$f":"BR393+BR390*COS(BL417)","v":19.717862142943432},{"$f":"BS393-BR390*SIN(BL417)","v":65.263453948258231},{"$f":"SQRT(POWER((BR392-BM417),2)+POWER((BS392-BN417),2))","v":21.471888161067554},{"$f":"ABS(BR389-BO417)","v":3.3907841204799816},null,null,null,null,null,null,{"$f":"BW416+BV391","v":-64},-1.1170107212763709,{"$f":"CD393+CD390*COS(BX417)","v":23.598170078337105},{"$f":"CE393-CD390*SIN(BX417)","v":61.893832724065852},{"$f":"SQRT(POWER((CD392-BY417),2)+POWER((CE392-BZ417),2))","v":16.46244006929313},{"$f":"ABS(CD389-CA417)","v":4.78478641795774},null,null,null,null,null,null,{"$f":"CI416+CH391","v":-22},-0.38397243543875248,{"$f":"CP393+CP390*COS(CJ417)","v":23.443164614722257},{"$f":"CQ393-CP390*SIN(CJ417)","v":63.827859119138246},{"$f":"SQRT(POWER((CP392-CK417),2)+POWER((CQ392-CL417),2))","v":18.409090402993769},{"$f":"ABS(CP389-CM417)","v":2.35614508846216},null,null,null,null,null,{"$f":"-CT388+2*CT434","v":-37.480958405946815},{"$f":"CU388","v":56.768715785520875},"k5'",null,null,null,null,null,{"$f":"CX415+10","v":10},{"$f":"DL390+I402","v":71.800000000000011},null,null,{"$f":"DB411","v":5.4188000000000001},86.9,25,null,null,{"$f":"(1+0.001)*ATAN((DK415-DK419)/(DL415-DL419))","v":0.22316448646506754},"ζ'2 شبیه ساز",null,null,null,{"$f":"-DK385","v":-5.4188000000000001},{"$f":"DL385","v":86.9},{"$f":"DM385","v":"25 شبیه ساز"},null,null,null,null,null,null,null,"سرشانه",null,null,null,null,null,null,null,"سرشانه",null,null,null,null,null,null,null,null,null,null,null,null,null,null,null,null,null,null,null,null,null,"خط اول","نقطه اول",{"$f":"FJ401","v":"e13"},{"$f":"FG401","v":2.3482654862413508},{"$f":"FH401","v":83.942020745681745},null,null,null,null,null,null,{"$f":"-FO388+FG408","v":-5.1211601379012102},{"$f":"FP388","v":80.060789594256192},"e20",null,null,null,null,null,null,null,null,null,null,{"$f":"-FX396","v":-5.7623333961779277},{"$f":"FY396","v":86.607796351922957},{"$f":"FZ396","v":"e'9"},null,null,null,null,null,{"$f":"-GJ401+EC383","v":-14.5},{"$f":"GK401","v":71.694382868904654},12,null,null,null,"سرشانه",null,null,null,null,null,null,null,"سرشانه",null,null,null,"سرشانه",null,null,null,null,null,{"$f":"HH419+1.2*0.5*(HI415-HI419)*((HH415-HH419)/(HI415-HI419))","v":12.082003155998422},{"$f":"HI419+0.5*(HI415-HI419)","v":11.099999999999998},"q6",null,null,null," رسم قرینه شبیه ساز ",null,{"$f":"HP396","v":16.45},{"$f":"HQ396","v":49.941237767311414},"r2",null,{"$f":"HP394","v":0},{"$f":"HQ394","v":49.941237767311414},48,null,{"$f":"-HT417+HQ412","v":0},{"$f":"HU417","v":49.941237767311414},48,null,null,{"$f":"AZ172","v":15.826500000000001},{"$f":"BA172","v":50.142500152855277},"شیفت 45",null,{"$f":"-AZ172+IR325","v":-15.826500000000001},{"$f":"BA172","v":50.142500152855277},"شیفت 45",null,{"$f":"AZ172","v":15.826500000000001},{"$f":"BA172","v":50.142500152855277},"شیفت 45",null,{"$f":"-AZ172+IR325","v":-15.826500000000001},{"$f":"BA172","v":50.142500152855277},"شیفت 45",null,{"$f":"KM329","v":0},{"$f":"KN329","v":49.8},"b24",null,{"$f":"-IS417+FS99","v":0},{"$f":"IT417","v":49.8},"b24",null,null,null,{"$f":"JG317","v":-11.673861542811643},{"$f":"JH317","v":59.239999999999995},{"$f":"JI317","v":"c'52"},null,0,51.475999999999999,"b'15",null,{"$f":"JK411-JH425","v":9.0506972834604831},{"$f":"JH393","v":60.4},"w42",null,{"$f":"JG392","v":0},{"$f":"JH392","v":61.61},"a1",null,{"$f":"JK416","v":6.3161043823790823},{"$f":"JL416","v":61.61},"w41",null,null,35,{"$f":"JY396+(JZ396-JZ417)*TAN(JY403)","v":-15.856500000000002},{"$f":"JZ397-0.8*(JZ397-JZ418)","v":43.079999999999991},null,{"$f":"-KB401+KB407","v":8.6744666563756496},{"$f":"KC401","v":60.144648616638321},31,null,null,null,null,null,null,null,null,null,null,null,null,null,null,null,null,null,null,null,null,null,null,null,null,null,null,null,null,null,null,null,null,null,null,null,null,null,null,null,null,null,null,null,null,null,null,null,null,null,null,null,null,null,null,null,null,null,null,null,null,null,null,null,null,null,null,null,null,null,null,null,null,null,null,null,null,null,null,null,null,null,null,null,null,null,null,null,null,null,null,null,null,null,null,null,null,null,null,"g5",{"$f":"NZ413+0.7*(NZ416-NZ413)","v":-2.9866666666666681},{"$f":"OA413+0.28*(OA416-OA413)","v":18.7591743119266},{"$f":"NZ414","v":-2.8606666666666678},{"$f":"OA414","v":19.221559633027518},{"$f":"NY414","v":"g11"},null,null,null,null,null,"g2",{"$f":"OK415","v":-30.041666666666664},{"$f":"OL415+OK412","v":16.332973556395032},null,null,null,null,null,null,null,null,"بزرگی فلش",{"$f":"OR51","v":0.33998920669185106},"f4",{"$f":"OV419","v":-27.149305555555557},{"$f":"OW419","v":15.766324878575279},{"$f":"OU419","v":"m45"},null,null,null,null,null,"h11",{"$f":"PG414","v":-20.777430555555558},{"$f":"PH414-0.5*PG405","v":11.549784133837017},null,null,null,null,null,null,null,null,"نقطه شروع رج(چپ)","مولفه افقی","مولفه عمودی",null,null,null,null,null,null,null,null,null,null,null,null,null,null,null,null,null,null,null,null,null,null,null,null,null,null,null,null,null,null,null,null,null,null,null,null,null,null,null,null,null,null,null,null,null,null,null,null,null,null,null,null,null,null,null,null,null,null,null,null,null,{"$f":"SC416","v":-40},{"$f":"RV160","v":10.277777777777777},null,null,null,null,null,null,null,null,null,null,null,null,null,null,null,null,null,null,{"$f":"SW416","v":-40},{"$f":"SP160","v":10.277777777777777},null,null,null,null,null,null,null,null,null,null,null,null,null,null,null,null,null,null,{"$f":"TQ416","v":-40},{"$f":"TJ160","v":9.7222222222222232},null,null,null,null,null,null,null,null,null,null,null,null,null,null,null,null,null,null,{"$f":"UK416","v":-40},{"$f":"UD160","v":9.7222222222222232},null,null,null,null,null,null,null,null,null,null,null,null,null,null,null,null,null,null,{"$f":"VE416","v":-40},{"$f":"UX160","v":10.277777777777777},null,null,null,null,null,null,null,null,null,null,null,null,null,null,null,null,null,null,{"$f":"VY416","v":-40},{"$f":"VR160","v":10.277777777777777}]
[null,null,null,null,null,null,null,null,"مقایسه خط پهلو جلو و پشت",null,null,null,"k'11",{"$f":"L427+H418-H396","v":38.507390523794619},{"$f":"M427+I418-I396","v":53.246568686207567},null,{"$f":"N435","v":38.507390523794619},{"$f":"O435","v":53.246568686207567},"k'11",null,{"$f":"-Q435+V382","v":-38.507390523794619},{"$f":"R435","v":53.246568686207567},"k11",null,null,null,null,null,null,null,null,null,null,{"$f":"H410","v":38.368598467294198},{"$f":"I410","v":53.424278931886874},"k''5",null,{"$f":"-AH435-HY101","v":-38.368598467294198},{"$f":"AI435","v":53.424278931886874},"k''5",null,{"$f":"AZ172-'متغیرها '!C55","v":15.826500000000001},{"$f":"BA172","v":50.142500152855277},45,null,{"$f":"-AP435-HY101","v":-15.826500000000001},{"$f":"AQ435","v":50.142500152855277},45,null,null,null,null,null,null,null,null,null,null,null,null,null,null,null,null,null,null,null,null,null,null,null,null,null,null,null,null,null,null,null,null,null,null,null,null,null,null,null,null,null,null,null,null,null,null,null,null,null,{"$f":"C103","v":0},"شیفت عمودی شبیه ساز پشت",null,null,null,null,null,null,null,null,null,null,{"$f":"-DF397-HY101","v":-23.845584500432352},{"$f":"DG397","v":65.907528695155179},"k8'",null,null,null,null,null,null,"قرینه",{"$f":"-DK409","v":-4.2539909244339542},{"$f":"DL409","v":102.66255999999998},"s16",null,null,null,null,null,null,null,null,null,null,null,null,null,null,null,null,null,null,null,null,null,null,null,null,null,null,null,null,null,null,null,null,null,null,null,null,"نقاط  خروجی ",null,null,null,null,{"$f":"FH429*COS(FH433)","v":2.0631523467990629},"m10",null,{"$f":"FC439","v":5.3122103045557383},{"$f":"FD439","v":87.743787937940013},"e99",null,{"$f":"-FO406+FG408","v":-5.3122103045557383},{"$f":"FP406","v":87.743787937940013},"e99",null,null,{"$f":"FT433+0.3*(FX396-FT433)","v":5.1782720002149443},{"$f":"FY396+0.5*(FU433-FY396)","v":87.821964887005379},"e99",null,null,{"$f":"ATAN((FX403-FX402)/(FY403-FY402))","v":0.71973466211544013},"m13",null,{"$f":"-FX395","v":-4.9279599733736656},{"$f":"FY395","v":86.9},"e'25",null,null,null,null,null,null,null,"خط مرکزی جلو",null,null,null,null,null,null,null,null,null,null,null,null,null,null,null,null,null,{"$f":"DK402","v":4.4160890755660462},{"$f":"DL402-(DL385-HE418)","v":89.862000000000009},"g2",null,null,null,null,null,{"$f":"-HH425+EC383","v":-1.5533503777053623},32.925999999999995,"q14",null,null,null,null,null,null,null,null,null,null,null,null,null,null,null,null,null,null,null,null,null,null,null,"زیپ",null,null,null,"زیپ",null,null,{"$f":"IF(CO172<CO167,CN172,CN167)","v":8.2525759006420767},{"$f":"IF(CO172<CO167,CO172,CO167)","v":58.18}," شیفت35 یا dd2",null,{"$f":"-IS435+FS99","v":-8.2525759006420767},{"$f":"IT435","v":58.18}," شیفت35 یا dd2",null,null,null,{"$f":"JG326","v":-7.5053400000000003},49.8,"c'49",null,{"$f":"JG397-JG413","v":34.6},"w6","انطباق افقی پشت به جلو",null,null,null,null,null,{"$f":"JG409+JG435","v":27.03407590064208},{"$f":"JH409+JG436","v":58.18},"b'2",null,{"$f":"-JS420+JG432","v":-9.0506972834604831},{"$f":"JT420","v":60.4},"w'42",null,null,null,null,null,null,null,null,null,null,null,null,null,null,null,null,null,null,null,null,null,null,null,null,null,null,null,null,null,null,null,null,null,null,null,null,null,null,null,null,null,null,null,null,null,null,null,null,null,null,null,null,null,null,null,null,null,null,null,null,null,null,null,null,null,null,null,null,null,null,null,null,null,null,null,null,null,null,null,null,null,null,null,null,null,null,null,null,null,null,null,null,null,null,null,null,null,null,null,null,null,null,null,null,null,null,null,"h9",{"$f":"NZ433+0.5*NZ424","v":-8.1661458333333332},{"$f":"OA429","v":19.449541284403665},{"$f":"NZ438","v":-8.1661458333333332},{"$f":"OA438","v":19.199541284403665},{"$f":"NY438","v":"h12"},null,null,null,null,null,null,null,null,null,null,null,null,null,null,null,null,null,null,null,null,null,null,null,null,null,null,null,null,null,null,null,null,null,null,null,null,null,null,"نقطه شروع انحنا","مولفه افقی","مولفه عمودی",{"$f":"PR439","v":-30.773263888888884},{"$f":"PS439","v":17.18294657312466},{"$f":"PQ439","v":"g4"},null,null,null,null,null,null,null,null,null,null,null,null,null,null,null,null,null,null,null,null,null,null,null,null,null,null,null,null,null,null,null,null,null,null,null,"طول باکس نوشته",{"$f":"4.2*RC41","v":18.900000000000002},"h3",{"$f":"RG445","v":-34.105555555555561},{"$f":"RH445","v":11.799784133837017},{"$f":"RF445","v":"h8"},null,null,null,null,null,null,null,null,null,null,null,null,null,null,null,null,null,{"$f":"SC434","v":-40},{"$f":"RV160","v":10.277777777777777},null,null,null,null,null,null,null,null,null,null,null,null,null,null,null,null,null,null,{"$f":"SW434","v":-40},{"$f":"SP160","v":10.277777777777777},null,null,null,null,null,null,null,null,null,null,null,null,null,null,null,null,null,null,{"$f":"TQ434","v":-40},{"$f":"TJ160","v":9.7222222222222232},null,null,null,null,null,null,null,null,null,null,null,null,null,null,null,null,null,null,{"$f":"UK434","v":-40},{"$f":"UD160","v":9.7222222222222232},null,null,null,null,null,null,null,null,null,null,null,null,null,null,null,null,null,null,{"$f":"VE434","v":-40},{"$f":"UX160","v":10.277777777777777},null,null,null,null,null,null,null,null,null,null,null,null,null,null,null,null,null,null,{"$f":"VY434","v":-40},{"$f":"VR160","v":10.277777777777777}]
[null,null,null,null,null,null,null,null,null,null,null,null,null,null,null,null,null,null,null,null,null,null,null,null,null,null,null,null,null,null,null,null,null,null,null,null,null,null,null,null,null,null,null,null,null,null,null,null,null,null,null,null,null,null,null,null,null,null,null,null,null,null,null,null,null,null,null,null,null,null,null,null,null,null,null,null,null,null,null,null,null,null,null,null,null,null,null,null,null,null,null,null,null,null,null,null,null,null,null,null,null,null,null,null,null,null,null,null,null,null,null,null,null,null,null,null,null,null,null,null,null,null,null,null,null,null,null,null,null,null,null,null,null,null,null,null,null,null,null,null,null,null,null,null,null,null,null,null,null,null,null,null,null,null,null,null,null,null,null,null,null,null,null,null,null,null,null,null,null,null,null,null,null,null,null,null,null,null,null,null,null,null,null,null,null,null,null,null,null,null,null,null,null,null,null,null,null,null,null,null,null,null,null,null,null,null,null,null,null,null,null,null,null,null,null,null,null,null,null,null,null,null,null,null,null,null,null,null,null,null,null,null,null,null,null,null,{"$f":"IU320","v":0},{"$f":"IV320","v":49.8},"a14",null,{"$f":"-IU320+IR325","v":0},{"$f":"IV320","v":49.8},"a14",null,null,null,null,null,null,null,null,null,null,null,"پایین لباس پهلو",null,null,null,"پایین لباس پهلو",null,null,null,null,null,null,null,null,null,null,null,null,null,null,null,{"$f":"JG421+JG435","v":12.283759136818322},{"$f":"JH421+JG436","v":52.355457315660203},"b'27",null,{"$f":"JG392","v":0},{"$f":"JH392","v":61.61},"a1",null,null,null,null,null,null,null,null,null,null,null,null,null,null,null,null,null,null,null,null,null,null,null,null,null,{"$f":"KY320+KJ325","v":-8.3967500000000008},{"$f":"KZ320","v":49.8},{"$f":"LA320","v":"c'50"},null,null,null,null,null,null,null,null,null,null,null,null,null,null,null,null,null,null,null,null,null,null,null,null,null,null,null,null,null,null,null,null,null,null,null,null,null,null,null,null,null,null,null,null,null,null,null,null,null,null,null,null,null,null,null,null,null,null,null,null,null,null,null,null,null,null,null,null,null,null,null,null,null,null,null,null,null,null,null,"g6",{"$f":"NZ451","v":-14.695625},{"$f":"OA449-OA451+OA447","v":20.13990825688073},null,null,null,null,null,null,null,null,null,null,null,null,null,null,null,null,null,null,null,"نقطه ورودی سر فلش","مولفه افقی","مولفه عمودی",{"$f":"OV453","v":-19.236631944444444},{"$f":"OW453","v":16.332973556395032},{"$f":"OU453","v":"m51"},null,null,null,null,null,"h12",{"$f":"PG449","v":-9.8628472222222214},{"$f":"PH451","v":16.082973556395032},{"$f":"PG449","v":-9.8628472222222214},{"$f":"PH449","v":16.332973556395032},{"$f":"PF449","v":"h9"},null,null,null,null,null,"n'48",{"$f":"PM100","v":-30.248263888888886},{"$f":"PN100","v":17.466270912034538},{"$f":"PR459","v":-16.383680555555554},{"$f":"PS459","v":17.716270912034538},{"$f":"PQ459","v":"h10"},null,null,null,null,null,null,null,null,null,null,null,null,null,null,null,null,null,null,null,null,null,null,null,null,null,null,null,null,null,null,null,null,null,null,null,null,null,null,{"$f":"RG444","v":-24.655555555555559},{"$f":"RH444","v":11.799784133837017},{"$f":"RF444","v":"h5"},null,null,null,null,null,null,null,null,null,null,null,null,null,null,null,null,null,{"$f":"IF(RV149>(RU249-RU162),RU249,RU162)","v":-40},{"$f":"IF(RV149>(RU249-RU162),RV249,RV162)","v":0},78,null,null,null,null,null,null,null,null,null,null,null,null,null,null,null,null,null,{"$f":"IF(SP149>(SO249-SO162),SO249,SO162)","v":-40},{"$f":"IF(SP149>(SO249-SO162),SP249,SP162)","v":0},78,null,null,null,null,null,null,null,null,null,null,null,null,null,null,null,null,null,{"$f":"IF(TJ149>(TI249-TI162),TI249,TI162)","v":-40},{"$f":"IF(TJ149>(TI249-TI162),TJ249,TJ162)","v":0},78,null,null,null,null,null,null,null,null,null,null,null,null,null,null,null,null,null,{"$f":"IF(UD149>(UC249-UC162),UC249,UC162)","v":-40},{"$f":"IF(UD149>(UC249-UC162),UD249,UD162)","v":0},78,null,null,null,null,null,null,null,null,null,null,null,null,null,null,null,null,null,{"$f":"IF(UX149>(UW249-UW162),UW249,UW162)","v":-40},{"$f":"IF(UX149>(UW249-UW162),UX249,UX162)","v":0},78,null,null,null,null,null,null,null,null,null,null,null,null,null,null,null,null,null,{"$f":"IF(VR149>(VQ249-VQ162),VQ249,VQ162)","v":-40},{"$f":"IF(VR149>(VQ249-VQ162),VR249,VR162)","v":0},78]
[null,null,null,null,null,null,{"$f":"AZ104","v":8.0782879251109012},{"$f":"BA104","v":75.715584055424245},5,null,"نقطه دوم از خط اول",{"$f":"R465","v":"g6"},{"$f":"P465","v":15.83854664989116},{"$f":"Q465","v":75.732739354948762},null,null,{"$f":"IF(M470=M471,RADIANS(90),IF(M470>M471,ATAN((N470-N471)/(M470-M471)),RADIANS(180)-ATAN((N470-N471)/(M471-M470))))","v":1.3292185716571927},"g9",null,{"$f":"BK101","v":8.917824621346341},{"$f":"BL101","v":80.76650872508813},22,null,"نقطه دوم از خط اول",{"$f":"AE465","v":"g6"},{"$f":"AC465","v":17.558999831288602},{"$f":"AD465","v":83.453011726916529},null,null,{"$f":"IF(Z470=Z471,RADIANS(90),IF(Z470>Z471,ATAN((AA470-AA471)/(Z470-Z471)),RADIANS(180)-ATAN((AA470-AA471)/(Z471-Z470))))","v":1.3157270691039551},"g9",null,{"$f":"BW138","v":13.168053004956455},{"$f":"BX138","v":78.999650828169507},"b12",null,"نقطه اول از خط دوم",{"$f":"AI468","v":"b16"},{"$f":"AG468","v":15.475181897504374},{"$f":"AH468","v":83.011737066009914},null,{"$f":"CI118","v":12.464279025301986},{"$f":"CJ118","v":79.692671158197953},"24f",null,"نقطه دوم از خط اول",{"$f":"AR478","v":"g4"},{"$f":"AP478","v":13.156087860286807},{"$f":"AQ478","v":80.474703546252499},null,{"$f":"DX388","v":0},{"$f":"DY388","v":80.227797473097809},"26شبیه ساز",null,"نقطه دوم از خط اول",{"$f":"BA482","v":"g6"},{"$f":"AY482","v":15.836366816497467},{"$f":"AZ482","v":75.733370637750681},null,{"$f":"BK154","v":7.9092500000000001},{"$f":"BL154","v":73.33019837527084},40,null,"نقطه دوم از خط اول",{"$f":"BJ485","v":"g6"},{"$f":"BH485","v":16.306042452227029},{"$f":"BI485","v":77.946575855975681},null,{"$f":"BQ465","v":0},{"$f":"BR465-BR466","v":75.697797473097808},"g1",null,null,{"$f":"BV465","v":0},{"$f":"BW465-BW466+H127-I127","v":77.946575855975681},"g1",null,null,null,null,null,null,null,null,null,"(10 → 11)",{"$f":"0.75*CI471","v":4.0640999999999998},null,"طول حلقه آستین در یقه مربعی",{"$f":"SQRT(POWER(CW463-CW462,2)+POWER(CX463-CX462,2))+SQRT(POWER(CW462-#REF!,2)+POWER(CX462-#REF!,2))+SQRT(POWER(#REF!-#REF!,2)+POWER(#REF!-#REF!,2))+SQRT(POWER(#REF!-CW461,2)+POWER(#REF!-CX461,2))","v":{"$error":"#REF!"}},null,null,"α2+α4",{"$f":"2*CM463","v":0.67371893589041176},"رادیان",null,null,null,null,null,{"$f":"0+'متغیرها '!C301","v":0},{"$f":"CI465+'متغیرها '!C302","v":8.1381544860263695},7,null,{"$f":"CW480","v":5.3467356433291204},{"$f":"CX480","v":18.748567349841053},29,null,{"$f":"CP473","v":5.3467356433291204},{"$f":"CQ473","v":18.748567349841053},{"$f":"CR473","v":21},null,null,null,null,"(β15→β16)",{"$f":"'متغیرها '!C197*(0.5*'متغیرها '!U84+0.18*'متغیرها '!U83)*SIN(0.5*(RADIANS(90)-RADIANS('متغیرها '!C198)))","v":7.5081155518351927},null,null,{"$f":"DP467","v":14.06697747872458},{"$f":"DQ467","v":51.44761107410352},"β7",null,"(β15→β16)",{"$f":"IF('متغیرها '!C209=0,'متغیرها '!C205,DU486)*(0.5*'متغیرها '!U84+(0.18-'متغیرها '!C208*0.08)*'متغیرها '!U83)*SIN((0.5*'متغیرها '!C208+0.5)*(RADIANS(90)-IF('متغیرها '!C209=0,RADIANS('متغیرها '!C206),DU487)))","v":-1.0132949346858005E-15},null,null,{"$f":"DX467","v":10.874999999999996},{"$f":"DY467","v":55.15},"β7",null,{"$f":"EB461","v":-10.874999999999996},{"$f":"EC461","v":55.15},"β7",null,{"$f":"-EN469+FO481","v":-7.25},{"$f":"EO469","v":74.800000000000011},"β'3",null,"عمودی وسط جیب",{"$f":"IF(ES462<1,ES462*ES470,IF(ES462<2,ES470+(ES462-1)*(ES471-ES470),IF(ES462<3,ES471+(ES462-2)*(ES477-ES471),ES477+(ES462-3)*(ES476-ES475))))+ES474","v":74.800000000000011},null,null,{"$f":"EN480-EK472*COS(RADIANS(ES465))","v":7.25},{"$f":"EO480-EK472*SIN(RADIANS(ES465))","v":74.800000000000011},"β'3",null,"s2",{"$f":"'متغیرها '!U73","v":29},null,"عمودی وسط جیب",{"$f":"IF(FD462<1,FD462*FD470,IF(FD462<2,FD470+(FD462-1)*(FD471-FD470),IF(FD462<3,FD471+(FD462-2)*(FD477-FD471),FD477+(FD462-3)*(FD476-FD475))))+FD474","v":88},null,null,{"$f":"EV462+EV460","v":5.7679999999999998},{"$f":"EV463+EV461","v":89},"β11",null,"s2",29,null,"افقی پایین جادکمه",{"$f":"FF462","v":0},null,null,{"$f":"FG469-FG468","v":0},{"$f":"FG470+FG467","v":69.098647473097813},"β7",null,"(وسط جیب→β16)",{"$f":"'متغیرها '!C215*(0.5*'متغیرها '!U84+(0.18-'متغیرها '!C218*0.08)*'متغیرها '!U83)*COS((0.5*'متغیرها '!C218+0.5)*(RADIANS(90)-RADIANS('متغیرها '!C216)))","v":-8.9261931179862592E-15},null,null,{"$f":"FR461","v":7.2499999999999956},{"$f":"FS467","v":74.800000000000011},"β7",null,{"$f":"FV461","v":-7.2499999999999956},{"$f":"FS469","v":74.800000000000011},"β7",null,null,null,null,null,null,null,null,null,null,null,null,null,null,null,null,null,null,null,null,null,null,null,null,null,null,null,null,null,null,null,null,null,null,null,null,null,null,null,null,null,null,null,null,null,null,null,null,null,null,null,null,null,null,null,null,null,null,null,null,null,null,null,null,null,null,null,null,null,null,null,null,{"$f":"IJ466","v":21.343214875662067},{"$f":"IK466","v":52.407206433413577},"c2",null,{"$f":"-IS469+FS99","v":-21.343214875662067},{"$f":"IT469","v":52.407206433413577},"c2",null,null,null,{"$f":"JG339","v":0},{"$f":"JH339","v":49.8},{"$f":"JI339","v":"c7"},null,null,null,null,null,null,null,null,null,null,null,null,null,null,null,null,null,null,null,null,null,null,null,null,null,null,null,null,null,null,null,null,null,null,null,null,null,null,null,null,null,{"$f":"KY327+KJ325","v":-3.7829620496789613},{"$f":"KZ327","v":49.8},{"$f":"LA327","v":"c'45"},null,null,null,null,null,null,null,null,null,null,null,null,null,null,null,null,null,null,null,null,null,null,null,null,null,null,null,null,null,null,null,null,null,null,null,null,null,null,null,null,null,null,null,null,null,null,null,null,null,null,null,null,null,null,null,null,null,null,null,null,null,null,null,null,null,null,null,null,null,null,null,null,null,null,null,null,null,null,null,"w47",{"$f":"NU94","v":-3.3541666666666679},{"$f":"NV94","v":20.252293577981646},{"$f":"NZ474","v":-2.9866666666666681},{"$f":"OA474","v":20.942660550458712},{"$f":"NY474","v":"g6"},null,null,null,null,null,"پهنای باکس نوشته",{"$f":"OG42","v":0.5},"h4",null,null,null,null,null,null,null,null,"m47",{"$f":"OQ103","v":4.6666666666666767},{"$f":"OR103","v":16.332973556395032},{"$f":"OV474","v":5.0341666666666773},{"$f":"OW474","v":16.820291419320021},{"$f":"OU474","v":"g6"},null,null,null,null,null,"h8",{"$f":"PG468-0.5*PG459","v":-31.749652777777776},{"$f":"PH464","v":16.332973556395032},null,null,null,null,null,null,null,null,"نقطه شروع رج(چپ)","مولفه افقی","مولفه عمودی"]
[null,null,null,null,null,null,null,{"$f":"ROUND(BA102-Q460+0.5*CL460,1)","v":19.7},"نصف دور یقه (گرد) در پیراهن برش از کارور ",null,"نقطه اول از خط اول",{"$f":"R460","v":"g1"},{"$f":"P460","v":0},{"$f":"Q460","v":75.697797473097808},null,null,{"$f":"((M479-P477)*SIN(Q473*(H478-H477)))/COS(RADIANS(90)-Q473*(H478-H477)-Q474)","v":0.45234068298983299},"(g14→g16)",null,null,{"$f":"'متغیرها '!C57","v":0},"شیفت عمودی حلقه آستین ",null,"نقطه اول از خط اول",{"$f":"AE460","v":"g1"},{"$f":"AC460","v":0},{"$f":"AD460","v":77.946575855975681},null,null,{"$f":"((Z479-Z486)*SIN(AD473*(U478-U477)))/COS(RADIANS(90)-AD473*(U478-U477)-AD474)","v":0.64666408887048399},"(g14→g16)",null,null,{"$f":"SQRT(POWER(AG462-AM464,2)+POWER(AN464-AH462,2))","v":6.454156562617948},"(5→g2)",null,null,{"$f":"AM464","v":8.9291859705403773},{"$f":"AN464","v":82.113404735239257},{"$f":"AL464","v":"g2"},null,null,{"$f":"SQRT(POWER(AP462-AV465,2)+POWER(AW465-AQ462,2))","v":6.2554106433735388},"(5→g2)",null,null,{"$f":"AV465","v":9.1452441625509913},{"$f":"AW465","v":81.879330213777834},{"$f":"AU465","v":"g2"},null,null,null,null,null,"نقطه اول از خط اول",{"$f":"BA477","v":"g1"},{"$f":"AY477","v":0},{"$f":"AZ477","v":75.697797473097808},null,null,{"$f":"'متغیرها '!C57","v":0},"شیفت عمودی حلقه آستین ",null,"نقطه اول از خط اول",{"$f":"BJ480","v":"g1"},{"$f":"BH480","v":0},{"$f":"BI480","v":77.946575855975681},null,"نقطه دوم از خط دوم","نقطه پایینی",{"$f":"IF(BR470>BR462,BQ462,IF(BR470>BR463,BQ463,BQ464))","v":12.17955523145584},{"$f":"IF(BR470>BR462,BR462,IF(BR470>BR463,BR463,BR464))","v":74.987720902672521},null,"نقطه دوم از خط دوم","نقطه پایینی",{"$f":"IF(BW470>BW462,BV462,IF(BW470>BW463,BV463,BV464))","v":13.781354656229663},{"$f":"IF(BW470>BW462,BW462,IF(BW470>BW463,BW463,BW464))","v":76.017032948867993},null,"خط دوم","نقطه اول",{"$f":"CC463","v":30},{"$f":"CA463","v":4.3350400000000002},{"$f":"CB463","v":83.563898736548907},null,null,"(16 → 17)",{"$f":"CI471+0.65*K144*SIN(CL463+CL462)-(1-0.75)*AA146*COS(CL463+CL462)","v":7.065889882279059},null,{"$f":"CE134","v":13.459710940847025},{"$f":"CF134","v":76.630664473221643},"b6",null,"متغیر محاسبه ای",null,null,null,{"$f":"CS477","v":6.6532166072509105},{"$f":"CT477","v":13.436764366624338},"g21",null,{"$f":"CI479+'متغیرها '!C301","v":5.3467356433291204},{"$f":"CI478+'متغیرها '!C302","v":18.748567349841053},21,null,{"$f":"CW465","v":13.367980000000001},{"$f":"CX465","v":0},3,null,null,null,"سرشانه",null,null,null,null,null,null,null,null,{"$f":"DM466-DM462","v":13.46930500126434},{"$f":"DM467-DM463","v":50.165898309991945},"β3",null,null,null,null,null,{"$f":"DX473","v":10.874999999999996},{"$f":"DY473","v":55.15},"β3",null,{"$f":"EB470","v":-10.874999999999996},{"$f":"EC470","v":55.15},"β3",null,null,null,null,null,null,null,null,null,{"$f":"EK462+EK460","v":7.25},{"$f":"EK463+EK461","v":74.800000000000011},"β11",null,"t5",{"$f":"H126","v":16.5},null,null,null,null,null,{"$f":"EV464-EV461","v":7.7319999999999993},{"$f":"EV465+EV460","v":88},"β7",null,"t5",16.5,null,null,null,null,null,{"$f":"FG469+FG467","v":2.6708500000000002},{"$f":"FG470+FG468","v":66.427797473097812},"β5",null,"متغیر محاسبه ای خارجی",null,null,null,{"$f":"FR473","v":7.2499999999999956},{"$f":"FS473","v":74.800000000000011},"β3",null,{"$f":"FV470","v":-7.2499999999999956},{"$f":"FS475","v":74.800000000000011},"β3",null,null,null,null,null,null,null,null,null,null,null,null,null,null,null,null,null,null,null,null,null,null,null,null,null,null,null,null,null,null,null,null,null,null,null,null,null,null,null,null,null,null,null,null,null,null,null,null,null,null,null,null,null,null,null,null,null,null,null,null,null,null,null,null,null,null,null,null,null,null,null,null,null,null,null,null,null,null,null,null,null,null,3.5914199999999998,49.8,"d43",null,null,null,null,null,null,null,null,null,null,null,null,null,null,null,null,null,null,null,null,null,null,null,null,null,null,null,null,null,null,null,null,null,null,null,null,null,null,null,null,null,{"$f":"KY329","v":0},49.8,"d14",null,null,null,null,null,null,null,null,null,null,null,null,null,null,null,null,null,null,null,null,null,null,null,null,null,null,null,null,null,null,null,null,null,null,null,null,null,null,null,null,null,null,null,null,null,null,null,null,null,null,null,null,null,null,null,null,null,null,null,null,null,null,null,null,null,null,null,null,null,null,null,null,null,null,null,null,null,null,null,"g7",{"$f":"NZ470+0.7*OA467*SIN(RADIANS(30)+2*ATAN((NZ470-NZ473)/(OA470-OA473+0.0001)))","v":-2.5672798646533739},{"$f":"OA470-0.7*OA467*COS(RADIANS(30)+2*ATAN((NZ470-NZ473)/(OA470-OA473+0.0001)))","v":20.660936775144982},{"$f":"NZ470","v":-2.8606666666666678},{"$f":"OA470","v":20.82706422018348},{"$f":"NY470","v":"g11"},null,null,null,null,null,"m52",{"$f":"OF107","v":8.7986111111111125},{"$f":"OG107","v":16.899622234214785},null,null,null,null,null,null,null,null,"g7",{"$f":"OV470+0.7*OW467*SIN(RADIANS(30)+2*ATAN((OV470-OV473)/(OW470-OW473+0.0001)))","v":5.3867733014850696},{"$f":"OW470-0.7*OW467*COS(RADIANS(30)+2*ATAN((OV470-OV473)/(OW470-OW473+0.0001)))","v":16.665962745576113},{"$f":"OV470","v":5.1601666666666768},{"$f":"OW470","v":16.738694009713974},{"$f":"OU470","v":"g11"},null,null,null,null,null,null,null,null,null,null,null,null,null,null,null,null,"h9",{"$f":"PR473+0.5*PR467","v":-20.066840277777779},{"$f":"PS470","v":3.8667026443604966}]
[null,null,null,null,null,"β15",-0.88169759129007474,null,"k''15",{"$f":"J504-G510*COS(G504+4*RADIANS('متغیرها '!C582))","v":4.4331233912074772},{"$f":"K504+G510*SIN(G504+4*RADIANS('متغیرها '!C582))","v":43.927014516338943},null,14.694932869653607,40.745041571523814,"k''11",null,{"$f":"IF(J524<J526,J526,J524)","v":3.6123672229784676},{"$f":"IF(J524<J526,K526,K524)","v":12.995900422422405},"n15",null,"f6",{"$f":"IF(OR('متغیرها '!C511=0,'متغیرها '!C511=1),AQ534,0)","v":0},null,null,"f4",{"$f":"V537","v":0},null,"f4",{"$f":"V503","v":0},null,null,{"$f":"G167","v":8.3470542794726406},"W",null,null,null,13.773290959576977,70.883459105574801,"18f",null,{"$f":"AZ118","v":13.978216537659673},{"$f":"BA118","v":70.803465014267317},18,null,{"$f":"ER108","v":13.978334622700345},{"$f":"ES108","v":70.804234103056586},"b8",null,{"$f":"DS170-DP160","v":12.899246460255478},{"$f":"DT170","v":72.033965014267324},"20g",null,12.148919444719809,72.430421998662538,"18f",null,12.425000000000001,72.384382868904652,18,null,null,"(3 →8)",{"$f":"0.6*BK507","v":6.690254455739292},{"$f":"0.6*BL507","v":6.493045143124343},null,{"$f":"BK499-BK500-BK505-BX498+'متغیرها '!C532","v":16.138654990780584},{"$f":"BK517+BK506+'متغیرها '!C533","v":36.309168904009951},9,null,{"$f":"BK499-BK500-BK501-BX498+'متغیرها '!C532","v":20.821833109798089},{"$f":"BK517+BK502+'متغیرها '!C533","v":28.787752647779428},5,null,{"$f":"BL499-BL500-BL505+'متغیرها '!C532","v":16.007182115703948},{"$f":"BL517+BL506+'متغیرها '!C533","v":36.248735494710481},9,null,{"$f":"BZ500+BK530*'متغیرها '!C550*AI520","v":26.706071168330112},{"$f":"CA501+BW510-BW522","v":27.698444086532248},"1'",null,null,null,null,null,null,null,null,"(11 → a15)",{"$f":"0.55*H131+AI524*0.5*'متغیرها '!C529","v":20.900000000000002},null,{"$f":"CV500","v":3.2243038750912811},{"$f":"CW500","v":0},"a24",null,{"$f":"CR506+0.5*(CR504-CR506)","v":14.598088819893164},{"$f":"CS506+0.6*(CS504-CS506)","v":0.72676583894950098},"a'13",null,{"$f":"CK542","v":18.190434918075404},{"$f":"CL542","v":17.172811336505379},"a10",null,{"$f":"CN515","v":3.2243038750912811},{"$f":"CO515","v":0},"a26",null,{"$f":"IF('متغیرها '!C511=3,CI120,BW164)","v":12.37090174657336},{"$f":"IF('متغیرها '!C511=3,CJ120,BX164)","v":72.792612823966749},"20f",null,"b10",null,null,"(9 →10)",{"$f":"DL500+DE540*SIN(DE542)","v":10.904321801691587},null,"(30 →31)",{"$f":"DR504*COS(DQ525)","v":8.5502106813508494},null,"γ19",{"$f":"ATAN((DD507-DD503)/(DE503-DE507))","v":0.74606924893375803},{"$f":"DEGREES(DR505)","v":42.746619188399528},null,{"$f":"DQ559","v":11.969065557170191},{"$f":"DR559","v":36.692865325928445},"43'",null,{"$f":"DI537","v":2.3547700184795399},{"$f":"DJ537","v":31.597358712112314},"8''",null,16.138654990780584,36.309168904009951,9,null,{"$f":"EC545","v":4.788412781614813},{"$f":"ED545","v":0},"q23",null,{"$f":"EC510","v":-0.89009174662404078},{"$f":"ED510","v":27.698444086532248},2,"نقطه مرکزی چرخش","مولفه افقی","مولفه عمودی","اسم نقطه ",null,16.138654990780584,36.309168904009951,9,null,{"$f":"DY528","v":4.9380156764934906},{"$f":"DZ528","v":3.4200000000000013},"32 یا z2",null,21.80882563707738,36.6449106908278,"10'",null,null,null,null,null,{"$f":"EW503","v":-0.57837892415495373},29.289294381659868,{"$f":"EY503","v":"13'"},null,null,{"$f":"BK138","v":0},{"$f":"BL138","v":86.084730342002047},24,null,{"$f":"FR504","v":0},{"$f":"FS504+FP512","v":73.360282840916369},"r14",null,{"$f":"FR503","v":13.114836511346335},{"$f":"FS503","v":70.71518311244202},"r12",null,{"$f":"-FV505+FZ499","v":-13.114836511346335},70.71518311244202,"r12",null,null,{"$f":"JG589","v":20.065249999999999},{"$f":"JH589","v":64.321605910484806},"e15",null,{"$f":"GI501-GG511","v":12.982154055435185},{"$f":"GJ501","v":59.63782718057287},"r17",null,13.126714812109073,59.273229072257593,"r18",null,{"$f":"-GM505+GQ499","v":-13.126714812109073},59.273229072257593,"r18",null,null,null,null,null,null,null,null,null,null,null,null,null,null,null,null,null,null,null,null,null,null,null,null,null,null,null,null,null,null,null,null,null,null,null,null,null,null,null,null,null,null,null,null,null,null,null,null,null,null,null,null,null,null,null,null,null,null,null,null,null,11.673861542811643,49.8,"d53",null,null,null,null,null,null,null,null,null,null,null,null,null,null,null,null,null,null,null,null,null,null,null,null,null,null,null,null,null,null,null,null,null,null,null,null,null,null,null,null,null,{"$f":"KY343","v":8.3967500000000008},50.879999999999995,"d47",null,null,null,null,null,null,null,null,null,null,null,null,null,null,null,null,null,null,null,null,null,null,null,null,null,null,null,null,null,null,null,null,null,null,null,null,null,null,null,null,null,null,null,null,null,null,null,null,null,null,null,null,null,null,null,null,null,null,null,null,null,null,null,null,null,null,null,null,null,null,null,null,null,null,null,null,null,null,null,null,null,null,{"$f":"NZ515","v":-30.188020833333336},{"$f":"OA515","v":21.607798165137609},{"$f":"NY515","v":"h11"},null,null,null,null,null,"m56",{"$f":"OF111","v":4.4600694444444455},{"$f":"OG111","v":17.466270912034538},null,null,null,null,null,null,null,null,"g2",{"$f":"OV503","v":-5.2499999999999911},{"$f":"OW503+OV500","v":17.466270912034538},null,null,null,null,null,null,null,null,"g11",{"$f":"PG509+0.8*(PG507-PG509)","v":-1.6575416666666671},{"$f":"PH507+0.6*(PH509-PH507)","v":17.305342687533727},{"$f":"PG506","v":-2.151041666666667},{"$f":"PH506","v":17.466270912034538},{"$f":"PF506","v":"g2"}]
[null,null,null,null,null,"k'13",{"$f":"BN507-BN508","v":4.1476304430808835},null,"n11",{"$f":"J521-G520*COS(2*RADIANS('متغیرها '!C586))","v":11.758974571379799},{"$f":"K521-G520*SIN(2*RADIANS('متغیرها '!C586))","v":15.553019074210832},null,{"$f":"J519","v":-5.2971549135377405},{"$f":"K519","v":43.873988415066805},"k2",null,{"$f":"J537","v":-4.7150998694656643},{"$f":"K537","v":21.337479382060721},"n'2",null,"xf3",{"$f":"Q521+IF(V502<V510,-(V510-V502)*COS(V514),(V517-V511+V502)*COS(V515))","v":-4.7150998694656643},null,null,"xf2",{"$f":"Q536+IF(Z501<Z509,(Z509-Z501)*COS(Z514),-(Z518-Z510+Z501)*COS(Z515))","v":22.760457492769159},null,"xf2",{"$f":"BN504+IF(AC501<AC509,(AC509-AC501)*COS(AC514),-(AC518-AC510+AC501)*COS(AC515))","v":22.760457492769159},null,null," گشادترین قسمت پشت آستین","w5",{"$f":"IF('متغیرها '!C511=0,AQ518,IF('متغیرها '!C511=1,AU518,IF('متغیرها '!C511=2,AY520,IF('متغیرها '!C511=3,AM518,0))))","v":12.568577100245093},{"$f":"IF('متغیرها '!C511=3,BC518,BG518)","v":11.678485353621053},null,"زاویه حلقه جلو آستین با افق","α8",{"$f":"ASIN(AM520/AM524)","v":0.74935967978268592},null,null,"α8",{"$f":"ASIN(AQ520/AQ524)","v":0.67076434095212567},null,null,"α8",{"$f":"ASIN(AU520/AU524)","v":0.71339551481185248},null,null,"w7",{"$f":"0.75*0.5*(AY521+AY523)*(1+0.5*'متغیرها '!C529)+0.5*0.5*H167*('متغیرها '!C76-3*'متغیرها '!C78)","v":7.6303512841309642},null,"زاویه حلقه جلو آستین با افق","α8",{"$f":"ASIN(BC520/BC524)","v":0.76077696650254301},null,null,"α8",{"$f":"ASIN(BG520/BG524)","v":0.73687598390635711},null,null,"(21→25)",{"$f":"BK518*TAN(AH533)","v":0.6485790291787753},{"$f":"BL518*TAN(AI533)","v":1.6778101996715049},null,{"$f":"BR540","v":21.333793163426556},{"$f":"BS540","v":0},"z1",null,{"$f":"BK499-BK500-BK513-BX498+'متغیرها '!C532","v":0.99519481841272395},{"$f":"BK517+'متغیرها '!C533","v":27.698444086532248},16,null,{"$f":"BL500+BL526+'متغیرها '!C532","v":5.0739529434656161},{"$f":"0+'متغیرها '!C533","v":0},29,null,{"$f":"IF('متغیرها '!C549=1,IF(CA510<CA508,IF(CA512<CA508,BZ512,BZ508),BZ510),BZ510)","v":18.656774315362672},{"$f":"IF(CA510<CA508,IF(CA512<CA508,CA512,CA508),CA510)","v":0},"z14 یا 25' یا z12",null,null,null,null,null,null,null,null,"(2→ 4')",{"$f":"0.5*CL524","v":2.4550699753283052},null,null,null,null,null,{"$f":"CP548","v":3.2243038750912811},{"$f":"CQ548","v":0},"z3",null,"αa26",{"$f":"ATAN((CW508-CW506)/(CV506-CV508))","v":0.13252964640271853},null,null,null,null,"انحنا تکه رو",null,{"$f":"IF('متغیرها '!C511=3,CQ124,CE132)","v":15.010520595912675},{"$f":"IF('متغیرها '!C511=3,CR124,CF132)","v":71.232097600274543},"14f",null,"b8","رگلان با درز",null,"(1→24)",{"$f":"DL511-DL520-(DL499-DL506-DL508)*TAN(DE548)","v":8.726906377536034},null,"(r29 →r30)",{"$f":"DO520","v":3.4345622673010769},null,{"$f":"RADIANS(180)-DQ521-DE519","v":2.0760393987716941},118.94829565249498,"γ2",null,null,null,null,null,{"$f":"DN540","v":22.767651260138134},{"$f":"DO540","v":0},"z1",null,null,{"$f":"SQRT(POWER((EC503-EC504),2)+POWER((ED503-ED504),2))","v":2.4254722666968354},"q6",null,{"$f":"EC510","v":-0.89009174662404078},{"$f":"ED510","v":27.698444086532248},2,null,null,null,null,null,null,null,null,null,{"$f":"EC510","v":-0.89009174662404078},{"$f":"ED510","v":27.698444086532248},2,null,null,null,null,null,22.767651260138134,3.4200000000000013,"30 یا z1","نقطه قبل از چرخش",{"$f":"IF(FB522>FB515,IF(FA522>FA515,FA515+SQRT(POWER(FA522-FA515,2)+POWER(FB522-FB515,2))*COS(ATAN((FB522-FB515)/(FA522-FA515+0.000123))+FB513),FA515-SQRT(POWER(FA522-FA515,2)+POWER(FB522-FB515,2))*COS(ATAN((FB522-FB515)/(FA515-FA522+0.000123))-FB513)),IF(FA522>FA515,FA515+SQRT(POWER(FA522-FA515,2)+POWER(FB522-FB515,2))*COS(ATAN((FB515-FB522)/(FA522-FA515+0.000123))-FB513),FA515-SQRT(POWER(FA522-FA515,2)+POWER(FB522-FB515,2))*COS(ATAN((FB515-FB522)/(FA515-FA522+0.000123))+FB513)))","v":26.346885976281804},{"$f":"IF(FB522>FB515,IF(FA522>FA515,FB515+SQRT(POWER(FA522-FA515,2)+POWER(FB522-FB515,2))*SIN(ATAN((FB522-FB515)/(FA522-FA515+0.000123))+FB513),FB515+SQRT(POWER(FA522-FA515,2)+POWER(FB522-FB515,2))*SIN(ATAN((FB522-FB515)/(FA515-FA522+0.000123))-FB513)),IF(FA522>FA515,FB515-SQRT(POWER(FA522-FA515,2)+POWER(FB522-FB515,2))*SIN(ATAN((FB515-FB522)/(FA522-FA515+0.000123))-FB513),FB515-SQRT(POWER(FA522-FA515,2)+POWER(FB522-FB515,2))*SIN(ATAN((FB515-FB522)/(FA515-FA522+0.000123))+FB513)))","v":3.9576001314386957},"b30",null,30.421492036258666,2.3076998399283113,{"$f":"FG538","v":"cz1"},null,null,null,null,null,null,null,null,null,null,null,null,null,null,null,null,null,null,null,null,null,null,null,null,null,null,null,null,null,null,null,null,null,null,null,null,null,null,null,null,null,null,null,null,null,null,null,null,null,null,null,null,null,null,null,null,null,null,null,null,null,null,null,null,null,null,null,null,null,null,null,null,null,null,null,null,null,null,null,null,null,null,null,null,null,null,null,null,null,null,null,null,null,null,null,{"$f":"JG366","v":15.856500000000002},{"$f":"JH366","v":49.699999999999996},{"$f":"JI366","v":"c62"},null,null,null,null,null,null,null,null,null,null,null,null,null,null,null,null,null,null,null,null,null,null,null,null,null,null,null,null,null,null,null,null,null,null,null,null,null,null,null,null,null,null,null,null,null,null,null,null,null,null,null,null,null,null,null,null,null,null,null,null,null,null,null,null,null,null,null,null,null,null,null,null,null,null,null,null,null,null,null,null,null,null,null,null,null,null,null,null,null,null,null,null,null,null,null,null,null,null,null,null,null,null,null,null,null,null,null,null,null,null,null,null,null,null,null,null,null,null,null,null,null,null,null,"ارتفاع نیم دایره",{"$f":"NV47","v":0.80275229357798161},"بزرگی فلش",{"$f":"NZ525","v":-24.026041666666671},{"$f":"OA525","v":21.857798165137609},{"$f":"NY525","v":"w53"},null,null,null,null,null,null,null,null,{"$f":"OF112","v":8.7986111111111125},{"$f":"OG112","v":18.032919589854291},"m57",null,null,null,null,null,"ارتفاع نیم دایره",{"$f":"OR49","v":0.5666486778197517},"بزرگی فلش",{"$f":"OV525","v":4.6666666666666767},{"$f":"OW525","v":17.466270912034538},{"$f":"OU525","v":"m55"},null,null,null,null,null,"n49",{"$f":"PB106","v":-2.151041666666667},{"$f":"PC106","v":16.899622234214785}]
[null,null,null,null,null,null,null,null,null,null,null,null,{"$f":"Z528","v":22.760457492769159},{"$f":"Z529","v":25.856742862470714},"f5",null,4.4331233912074772,43.927014516338943,"k''15",null,null,null,null,null,null,null,null,null,null,null,null,null,null,null,null,null,null,null,null,null,null,null,null,null,null,null,null,null,null,null,null,null,null,null,null,null,null,null,null,null,null,null,"طول کل حلقه آستین بدون ساسون",{"$f":"ROUND(AM526,1)","v":33},null,null,null,null,null,{"$f":"IF((BS540-BS533)<(BS532-BS533),BR533,IF((BS540-BS533)<(BS531-BS533),(BS540-BS532)*TAN(AH533)+BR532,BR531+(BS540-BS531)*TAN(AH534)))","v":21.333793163426556},{"$f":"BS533+BZ542*(BS531-BS533)","v":0},"z1",null,null,null,null,"   z7",{"$f":"'متغیرها '!C563","v":0},null,null,"z9",{"$f":"(BV519-BV506)/(BV519-BV522)","v":0.51375842843518105},null,{"$f":"IF((CG539-CG530)<(CG532-CG530),CF531,IF((CG539-CG530)<(CG537-CG530),-(CG539-CG532)*TAN(CD541)+CF533,CF538-(CG539-CG537)*TAN(CD542)))","v":5.073952943465617},{"$f":"CG539","v":0},"z13",null,null,"نقاط  خروجی آستین کتی",null,null,null,null,null,null,null,null,null,null,null,null,null,null,19.149269495863265,31.433216296522577,"7'",null,"(3→ 10)",{"$f":"SQRT(POWER((DD518-DD517),2)+POWER(DE517-DE518,2))","v":16.333963616585933},null,null,null,{"$f":"DL525+DE528+'متغیرها '!C532","v":25.198922427427398},{"$f":"DL524+'متغیرها '!C533","v":17.100000000000001},27,null,"z1",{"$f":"IF((DO540-DO538)<(DO537-DO538),DN538,IF((DO540-DO538)<(DO536-DO538),(DO540-DO537)*(DN536-DN537)/(DO536-DO537)+DN537,DN536+(DO540-DO536)*(DN535-DN536)/(DO535-DO536)))","v":22.767651260138134},{"$f":"DO538+DN539*(DO536-DO538)","v":0},null,{"$f":"DQ541-DO511","v":6.9872881036931425},{"$f":"DR541-DO512","v":47.04536295337558},39,null,{"$f":"DU542","v":27.159908349062043},{"$f":"DV542","v":17.099999999999998},"r25 یا z1",null,{"$f":"DL515+DE528+'متغیرها '!C532","v":25.188950850628231},{"$f":"DL499-DL504-DL514+'متغیرها '!C533","v":31.33929162607113},17,null,null,{"$f":"ATAN((ED509-ED510)/(EC509-EC510))","v":0.69005048419263837},"q39",null,null,null,null,null,null,null,null,null,null,null,null,null,{"$f":"EC512","v":1.8355245364692792},{"$f":"ED512","v":0},"z2",null,null,null,null,null,{"$f":"FE499","v":18.400943191279758},{"$f":"FF499","v":44.676389918009498},"a3","نقطه قبل از چرخش",{"$f":"IF(FB540>FB530,IF(FA540>FA530,FA530+SQRT(POWER(FA540-FA530,2)+POWER(FB540-FB530,2))*COS(ATAN((FB540-FB530)/(FA540-FA530+0.000123))+FB528),FA530-SQRT(POWER(FA540-FA530,2)+POWER(FB540-FB530,2))*COS(ATAN((FB540-FB530)/(FA530-FA540+0.000123))-FB528)),IF(FA540>FA530,FA530+SQRT(POWER(FA540-FA530,2)+POWER(FB540-FB530,2))*COS(ATAN((FB530-FB540)/(FA540-FA530+0.000123))-FB528),FA530-SQRT(POWER(FA540-FA530,2)+POWER(FB540-FB530,2))*COS(ATAN((FB530-FB540)/(FA530-FA540+0.000123))+FB528)))","v":18.362931585667525},{"$f":"IF(FB540>FB530,IF(FA540>FA530,FB530+SQRT(POWER(FA540-FA530,2)+POWER(FB540-FB530,2))*SIN(ATAN((FB540-FB530)/(FA540-FA530+0.000123))+FB528),FB530+SQRT(POWER(FA540-FA530,2)+POWER(FB540-FB530,2))*SIN(ATAN((FB540-FB530)/(FA530-FA540+0.000123))-FB528)),IF(FA540>FA530,FB530-SQRT(POWER(FA540-FA530,2)+POWER(FB540-FB530,2))*SIN(ATAN((FB530-FB540)/(FA540-FA530+0.000123))-FB528),FB530-SQRT(POWER(FA540-FA530,2)+POWER(FB540-FB530,2))*SIN(ATAN((FB530-FB540)/(FA530-FA540+0.000123))+FB528)))","v":45.546998821071483},"c3",null,{"$f":"FE540","v":18.362931585667525},{"$f":"FF540","v":45.546998821071483},"c3",null,null,null,null,null,null,null,null,null,null,null,null,null,null,null,null,null,null,null,null,null,null,null,null,null,null,null,null,null,{"$f":"BS113","v":0},{"$f":"BT113","v":71.8},4,null,"c2",{"$f":"GQ551*GT539","v":-6.9416049615728725E-2},null,{"$f":"GO540","v":0},{"$f":"GP540","v":71.8},"a1",null,{"$f":"GV546+2*SIN(GT550)","v":17.063726825354102},{"$f":"GW546+2*COS(GT550)","v":72.649518819817501},"a36",null,null,null,"کاسه بالا",null,null,null,"کاسه بالا",null,null,null,"قرینه کاسه بالا",null,null,1,{"$f":"RADIANS(HQ540)","v":1.7453292519943295E-2},{"$f":"GV547+GT554*SIN(GT557+HR540)","v":7.7026955833540391},{"$f":"GW547+GT554*COS(GT557+HR540)","v":73.352881842277881},{"$f":"ATAN((HT540-GW542)/(HS540-GV542))","v":0.15466883660104702},{"$f":"(HS540-GV542)/COS(HU540)","v":7.0376730906027065},null,null,null,"کاسه بالا",null,null,null,"قرینه کاسه بالا",null,{"$f":"GV553","v":2.0247416980453501},{"$f":"GW553","v":70.021605910484809},"a14",null,{"$f":"-GV553+GP549","v":-2.0247416980453501},{"$f":"GW553","v":70.021605910484809},"a14",null,{"$f":"GV552","v":0},{"$f":"GW552","v":70.021605910484809},"a13",null,{"$f":"-GV552+GP549","v":0},{"$f":"GW552","v":70.021605910484809},"a13",null,null,null,null,null,null,null,null,null,null,null,null,null,null,null,null,null,null,null,null,"قرینه",{"$f":"2*C102","v":0},null,null,{"$f":"JG575","v":0},{"$f":"JH575","v":64.321605910484806},"e1",null,{"$f":"-JG575+JA605","v":0},{"$f":"JH575","v":64.321605910484806},"e1",null,{"$f":"JG575","v":0},{"$f":"JH575","v":64.321605910484806},"e1",null,{"$f":"-JG575+JA605","v":0},{"$f":"JH575","v":64.321605910484806},"e1",null,{"$f":"JG575-JB585","v":0},{"$f":"JH575","v":64.321605910484806},"e1",null,null,null,null,"اطلاعات ورودی",null,null,null,null,null,null,null,null,null,null,null,null,null,null,null,null,null,null,null,null,null,null,null,null,null,null,null,null,null,null,null,null,null,null,null,null,null,null,null,null,null,null,null,null,null,null,null,null,null,null,null,null,null,null,null,null,null,null,null,null,null,null,null,null,null,null,null,null,null,null,null,null,null,null,null,null,null,null,null,null,null,null,null,null,null,null,"f2",{"$f":"NZ539+1*NZ537","v":-29.031369457186546},{"$f":"OA539-NZ536*NZ537","v":22.419724770642198},{"$f":"NZ539","v":-29.513020833333336},{"$f":"OA539","v":22.660550458715591},{"$f":"NY539","v":"w56"},null,null,null,null,null,null,null,null,null,null,null,null,null,null,null,null,"f2",{"$f":"OV539+1*OV537","v":-27.346469126641487},{"$f":"OW539-OV536*OV537","v":17.862924986508364},{"$f":"OV539","v":-27.686458333333338},{"$f":"OW539","v":18.032919589854291},{"$f":"OU539","v":"m61"},null,null,null,null,null,"نقطه شروع رج(چپ)","مولفه افقی","مولفه عمودی"]
[null,null,null,null,null,null,null,null,null,null,null,null,null,null,null,null,null,null,null,null,null,null,null,null,null,null,null,null,null,null,null,null,null,null,null,null,null,null,null,null,null,null,null,null,null,null,null,null,null,null,null,null,null,null,null,null,null,null,null,null,null,null,null,null,null,null,null,null,null,null,null,null,null,null,null,null,null,null,null,null,null,null,null,null,null,null,null,null,null,null,null,null,"z4",{"$f":"IF((CQ557-CQ555)<(CQ554-CQ555),CP555,IF((CQ557-CQ555)<(CQ553-CQ555),(CQ557-CQ554)*(CP553-CP554)/(CQ553-CQ554)+CP554,CP553+(CQ557-CQ553)*(CP552-CP553)/(CQ552-CQ553)))","v":-5.8617870508130849},{"$f":"CQ555+CP556*(CQ553-CQ555)","v":1.2112763982491683},null,null,"ضریب کوتاهی آستین","z0",{"$f":"BZ542","v":0},null,null,"ضریب کوتاهی آستین","z0",{"$f":"BZ542","v":0},null,null,"α5",{"$f":"'متغیرها '!C518","v":3},null,"ضریب کوتاهی آستین","z0",{"$f":"BZ542","v":0},null,null,"ضریب کوتاهی آستین","z0",{"$f":"BZ542","v":0},null,null,{"$f":"BV506-DE556*0.07*(BV502-BV506)","v":10.920963420256545},{"$f":"BW501","v":27.698444086532248},"10'",null,{"$f":"DU555","v":2.0096198160785463},{"$f":"DV555","v":3.4345622673010769},"r30 یا z1",null,null,null,null,null,null,null,null,null,null,null,null,null,null,null,null,null,null,null,null,null,null,null,null,null,null,null,null,null,null,null,null,null,null,null,null,null,null,null,null,null,null,null,null,null,null,null,null,null,null,null,null,null,null,null,null,null,null,null,null,null,null,null,null,null,null,null,null,null,null,"b7",{"$f":"'متغیرها '!C465","v":0.25},null,"c19",{"$f":"ATAN((GV541-GV547)/(GW541-GW547))","v":6.815097224420702E-2},null,{"$f":"IF(GQ556>0,GV551+(GV556-GV551)*(0.5-0.1*GQ559),GZ557+(GV556-GZ557)*(0.5-0.1*GQ559))","v":6.8261765789238344},{"$f":"IF(GQ556>0,GW551+(GW556-GW551)*(0.5+GQ559),HA557+(GW556-HA557)*(0.5+GQ559))","v":70.993157223458837},"a18",null,{"$f":"GT590","v":3.2383583345026432},{"$f":"GU590-2*(HA542-GW541)","v":65.393127163241871},"a56",null,{"$f":"GV573","v":14.665972268083108},{"$f":"GW573+GQ567","v":102.81673770644323},"a34",null,null,null,null,null,{"$f":"-GV573+GP549","v":-14.665972268083108},{"$f":"GW573+GQ567","v":102.81673770644323},"a34",null,null,18,0.31415926535897931,{"$f":"GV547+GT554*SIN(GT557+HR557)","v":9.4511492910833574},{"$f":"GW547+GT554*COS(GT557+HR557)","v":72.936187809866738},{"$f":"ATAN((HT557-GW542)/(HS557-GV542))","v":7.6553282338085463E-2},{"$f":"(HS557-GV542)/COS(HU557)","v":8.7276766642323373},null,{"$f":"GV573","v":14.665972268083108},{"$f":"GW573+GQ567","v":102.81673770644323},"a34",null,{"$f":"-GV573+GP549","v":-14.665972268083108},{"$f":"GW573+GQ567","v":102.81673770644323},"a34",null,{"$f":"CR164","v":0},{"$f":"CS164","v":61.61},"_ U5",null,{"$f":"-IF557-HY101","v":0},{"$f":"IG557","v":61.61},"_ U5",null,{"$f":"AZ181","v":7.4753399999999992},{"$f":"BA181","v":49.8},"شیفت 53",null,{"$f":"-IN557-HY101","v":-7.4753399999999992},{"$f":"IO557","v":49.8},"شیفت 53",null,null,null,null,null,null,null,null,null,null,null,null,null,null,null,null,{"$f":"JG619","v":7.0322341035585758},{"$f":"JH619","v":73.800000000000011},"e45",null,{"$f":"-JK557+JP540","v":-7.0322341035585758},{"$f":"JL557","v":73.800000000000011},"e45",null,{"$f":"JG576","v":1.4360304433385473},{"$f":"JH576","v":64.321605910484806},"e2",null,{"$f":"-JG576+JA605","v":-1.4360304433385473},{"$f":"JH576","v":64.321605910484806},"e2",null,{"$f":"JG576","v":1.4360304433385473},{"$f":"JH576","v":64.321605910484806},"e2",null,{"$f":"-JG576+JA605","v":-1.4360304433385473},{"$f":"JH576","v":64.321605910484806},"e2",null,{"$f":"JG576-JB585","v":1.4360304433385473},{"$f":"JH576","v":64.321605910484806},"e2",null,null,24,{"$f":"KO542+KR542*SIN(RADIANS(KN557)+KN544)","v":7.2246988722239083},{"$f":"KP542+KR542*COS(RADIANS(KN557)+KN544)","v":75.935917646397826},{"$f":"IF(KO543>KO557,ATAN((KP543-KP557)/(KO543-KO557)),ATAN((KP543-KP557)/(KO557-KO543)))","v":-1.1370185064363787},{"$f":"IF(KO543>KO557,(KO543-KO557)/COS(KQ557),(KO557-KO543)/COS(KQ557))","v":2.807836647843382},null,null,null,null,null,null,null,null,null,null,null,null,null,null,null,null,null,null,null,null,null,null,null,null,null,null,null,null,null,null,null,null,null,null,null,null,null,null,null,null,null,null,null,null,null,null,null,null,null,null,null,null,null,null,null,null,null,null,null,null,null,null,null,null,null,null,null,null,null,null,null,null,null,null,null,null,null,null,null,null,null,null,null,null,null,null,null,{"$f":"NU105","v":-3.3541666666666679},{"$f":"NV105","v":23.463302752293572},"w58",null,null,null,null,null,"g2",{"$f":"OK555","v":-29.215277777777771},{"$f":"OL555+OK552","v":18.599568267674044},null,null,null,null,null,null,null,null,"نقطه ورودی سر فلش","مولفه افقی","مولفه عمودی",{"$f":"OV558","v":-7.9151041666666622},{"$f":"OW558","v":18.032919589854291},{"$f":"OU558","v":"m60"},null,null,null,null,null,"پهنای باکس نوشته",{"$f":"PC40","v":0.5},"h4",{"$f":"PG566","v":-30.306423611111111},{"$f":"PH566","v":3.6167026443604966},{"$f":"PF566","v":"h11"}]
[null,null,null,null,null,"t9",{"$f":"'متغیرها '!C608","v":0},null,null,"t51",{"$f":"'متغیرها '!C611","v":0},null,null,"s9",{"$f":"SQRT(POWER((W579-W573),2)+POWER((X579-X573),2))","v":21.565304628285308},{"$f":"SQRT(POWER((U579-U573),2)+POWER((Y579-Y573),2))","v":21.713893752447117},null,"s40",{"$f":"SQRT(POWER((AB568-AB569),2)+POWER((AC568-AC569),2))+SQRT(POWER((AB567-AB568),2)+POWER((AC567-AC568),2))+SQRT(POWER((AB567-W616),2)+POWER((X616-AC567),2))-SQRT(POWER((AB571-AB577),2)+POWER((AC571-AC577),2))-SQRT(POWER((AB576-AB577),2)+POWER((AC576-AC577),2))","v":5.748218169646357},null,{"$f":"U573+0.5*(Y575-Y573)*(U579-U573)/(Y579-Y573)","v":18.708659090909094},8,{"$f":"W573+0.5*(X575-X573)*(W579-W573)/(X579-X573)","v":19.69002272727273},{"$f":"X573+0.3*(X579-X573)","v":38.635600000000004},{"$f":"Y573+0.3*(Y579-Y573)","v":38.635600000000004},null,49,{"$f":"W618-SQRT(POWER((AL573-AG577),2)+POWER((AM573-AH577),2))","v":-5.9663666407207439},{"$f":"X578","v":59.8},null,{"$f":"AE573+0.5*(AI575-AI573)*(AE578-AE573)/(AI578-AI573)","v":16.792445720483943},"p8",{"$f":"AG573+0.5*(AH575-AH573)*(AG578-AG573)/(AH578-AH573)","v":18.006403841306426},{"$f":"AH573+0.3*(AH578-AH573)","v":38.480792308007381},{"$f":"AI573+0.3*(AI578-AI573)","v":38.432587806674853},null,"p44",{"$f":"AG607+S574*COS(O572-O581)","v":-3.6358743885671743},{"$f":"AH607+S574*SIN(O572-O581)","v":62.393321680688729},null,8,{"$f":"RADIANS(8)+O581","v":0.21944650728008425},{"$f":"AG574-O576*SIN(AP575)","v":-5.422237590987713},{"$f":"AH574+O576*COS(AP575)","v":59.224142446647775},{"$f":"AG573+O575*SIN(O573+(AP575-O581)*G579)","v":22.402419548103424},{"$f":"AH573+O575*COS(O573+(AP575-O581)*G579)","v":53.135974360024605},{"$f":"AQ575+0.5*L582*COS(AP575-O581)","v":10.86767213981112},{"$f":"AR575+0.5*L582*SIN(AP575-O581)","v":61.513539957440855},14.256016382991369,null,"(وسط جیب→β16)",{"$f":"'متغیرها '!C696*(0.5*'متغیرها '!U84+(0.18-'متغیرها '!C699*0.08)*'متغیرها '!U83)*COS((0.5*'متغیرها '!C699+0.5)*(RADIANS(90)-RADIANS('متغیرها '!C697)))","v":-8.7905841874770826E-15},null,null,"(وسط جیب→β16)",{"$f":"'متغیرها '!C687*(0.5*'متغیرها '!U84+(0.18-'متغیرها '!C690*0.08)*'متغیرها '!U83)*COS((0.5*'متغیرها '!C690+0.5)*(RADIANS(90)-RADIANS('متغیرها '!C688)))","v":-1.006863262590434E-14},null,null,{"$f":"AE578","v":22.16027450019596},{"$f":"AI578","v":52.97529268891617},{"$f":"AF578","v":"p11"},null,{"$f":"U579","v":21.566590909090912},{"$f":"Y579","v":53.652000000000001},{"$f":"V579","v":11},null,{"$f":"W593","v":3.4511619124165209},{"$f":"X593","v":65.498229427224217},{"$f":"V593","v":18},null,{"$f":"W604","v":17.818667822307816},{"$f":"X604","v":70.498229427224217},{"$f":"V604","v":27},null,null,null,"جیب جین",null,null,null,null,null,null,null,null,null,null,null,null,null,null,null,null,null,{"$f":"AL571","v":1.1314787749058286},{"$f":"AM571","v":21.1},{"$f":"AK571","v":"p40"},null,{"$f":"AL599","v":-14.880310539590775},{"$f":"AM599","v":24.837519931614644},"p84",null,null,null,null,null,null,null,null,null,null,{"$f":"BD98","v":0},{"$f":"BE98","v":80.227797473097809},"26'",null,{"$f":"DL574","v":13.96144959916991},{"$f":"DM583","v":11.099999999999994},"1r",null,-2.5198376623376681,11.099999999999994,"4r",null,{"$f":"IF(BT142<DI571,BS142+BT132,DL570)","v":15.567271264248665},{"$f":"IF(BT142<DI571,BT142,DM570)","v":55.500713888539764},{"$f":"DN570","v":"32r"},null,-4.7726664026516925,27.091420814609783,"p8r",null,{"$f":"U581","v":19.568490909090915},{"$f":"Y581","v":55.189},13,null,{"$f":"EF574+EB574-EB584","v":-1.3653149350649372},{"$f":"EG574-EC574+EC584","v":28.635599999999997},"8r",null,null,null,null,null,-0.86097402597402706,22.199999999999996,"6r",null,{"$f":"AZ162","v":7.4903399999999998},{"$f":"BA162","v":49.8},47,null,-2.5198376623376681,11.099999999999994,"4r",null,-3.1141911314219159,20.810628506602406,"p6r",null,null,{"$f":"AG567","v":0},{"$f":"AH567","v":21.1},"p1",null,{"$f":"2*FI566-FI574","v":8.5423937489564601},{"$f":"FJ574","v":10.682944953792385},89,null,{"$f":"FI574","v":16.320788069225365},{"$f":"FJ574","v":10.682944953792385},88,null,null,null,null,null,null,null,null,null,null,null,null,null,null,null,null,null,null,null,null,null,null,null,null,null,null,null,null,null,null,null,null,null,null,null,null,null,null,null,null,null,null,null,null,{"$f":"GV560","v":7.3827150000000001},{"$f":"GW560+GQ566","v":94.5474731795656},"a21",null,null,null,null,null,null,16,{"$f":"HR564+HU564*SIN(RADIANS(HQ575)+HQ566)","v":16.664222865968796},{"$f":"HS564+HU564*COS(RADIANS(HQ575)+HQ566)","v":68.510610742108099},{"$f":"IF(HR565>HR575,ATAN((HS565-HS575)/(HR565-HR575)),ATAN((HS565-HS575)/(HR575-HR565)))","v":0.85680289827588851},{"$f":"IF(HR565>HR575,(HR565-HR575)/COS(HT575),(HR575-HR565)/COS(HT575))","v":3.0514303248778423},null,null,4.6037908490226744,93.385610179672639,"e55",null,{"$f":"-JG629+JA605","v":-4.6037908490226744},{"$f":"JH629","v":93.385610179672639},"e55",null,{"$f":"CR182","v":15.489883085623283},{"$f":"CS182","v":58.422500152855278}," شیفت45 یا d3",null,{"$f":"-IF575-HY101","v":-15.489883085623283},{"$f":"IG575","v":58.422500152855278}," شیفت45 یا d3",null,{"$f":"GZ563","v":7.7978399999999999},67.294946359131188,"a62",null,{"$f":"-GV565+GP549-GP548","v":-7.7978399999999999},{"$f":"GW565","v":67.294946359131188},"a62",null,null,{"$f":"GV550","v":6.4968115123099324},70.479054903219151,"a11",null,"d2",{"$f":"'متغیرها '!C480","v":20},null,"f2",{"$f":"JA594","v":0.26981395436355265},null,{"$f":"JG577","v":0},{"$f":"JH577-(1-JB574)*JE574","v":64.321605910484806},"e1",null,"مولفه افقی","مولفه عمودی","اسم نقطه ",null,null,null,null,null,{"$f":"JG622","v":2.0247416980453501},{"$f":"JH622","v":95.021605910484809},"e48",null,{"$f":"-JG622+JA605","v":-2.0247416980453501},{"$f":"JH622","v":95.021605910484809},"e48",null,{"$f":"JK576","v":11.06688219920327},{"$f":"JL576","v":98.33104881344444},"e60",null,{"$f":"-JK576+JA605","v":-11.06688219920327},{"$f":"JL576","v":98.33104881344444},"e60",null,4.6093175999999998,68.289698669401915,"e37",null,null,60,{"$f":"KO542+KR542*SIN(RADIANS(KN575)+KN544)","v":10.687264367107122},{"$f":"KP542+KR542*COS(RADIANS(KN575)+KN544)","v":75.258665546706439},{"$f":"IF(KO543>KO575,ATAN((KP543-KP575)/(KO543-KO575)),ATAN((KP543-KP575)/(KO575-KO543)))","v":-0.38300194811706983},{"$f":"IF(KO543>KO575,(KO543-KO575)/COS(KQ575),(KO575-KO543)/COS(KQ575))","v":5.005357408522082},null,null,null,null,null,null,null,null,null,null,null,null,null,null,null,null,null,null,null,null,null,null,null,null,null,null,null,null,null,null,null,null,null,null,null,null,null,null,null,null,null,null,null,null,null,null,null,null,null,null,null,null,null,null,null,null,null,null,null,null,null,null,null,null,null,null,null,null,null,null,null,null,null,null,null,null,null,null,null,null,null,null,null,null,"g7",{"$f":"NZ570+0.7*OA567*SIN(RADIANS(30)+2*ATAN((NZ570-NZ573)/(OA570-OA573+0.0001)))","v":-2.5672798646533739},{"$f":"OA570-0.7*OA567*COS(RADIANS(30)+2*ATAN((NZ570-NZ573)/(OA570-OA573+0.0001)))","v":23.871945949456908},{"$f":"NZ570","v":-2.8606666666666678},{"$f":"OA570","v":24.038073394495406},{"$f":"NY570","v":"g11"},null,null,null,null,null,"h5",{"$f":"OK571+0.5*(OK573-OK571)","v":-22.397569444444436},{"$f":"OL571","v":18.599568267674044},{"$f":"OK580","v":-21.722569444444435},{"$f":"OL580","v":18.349568267674044},{"$f":"OJ580","v":"h12"},null,null,null,null,null,null,null,null,null,null,null,null,null,null,null,null,"نقطه پایان رج(راست)","مولفه افقی","مولفه عمودی",{"$f":"PG583","v":5.7291666666676733E-3},{"$f":"PH583","v":4.1167026443604966},{"$f":"PF583","v":"h13"}]
[null,null,null,null,null,"t20",{"$f":"'متغیرها '!C629","v":1},1,null,{"$f":"'متغیرها '!T59","v":"h"},22.200000000000003,{"$f":"K586+G606*K586","v":22.200000000000003},null,"s20",{"$f":"(G610*2*O583)*SQRT(POWER((W578-W587),2)+POWER((X578-X587),2))/SQRT(POWER((W578-W586),2)+POWER((X578-X586),2))+IF(O584<0.3,O584,0)","v":0.15458114373053236},{"$f":"(H610*2*P583)*SQRT(POWER((U578-U587),2)+POWER((Y578-Y587),2))/SQRT(POWER((U578-U586),2)+POWER((Y578-Y586),2))+IF(P584<0.3,P584,0)","v":0.41006493506493391},null,"s51",{"$f":"ATAN((X592-AC600)/(AB600-W592))","v":9.3657308770090288E-3},null,{"$f":"U578","v":3.2965909090909129},"20a",{"$f":"W578","v":3.2965909090909129},{"$f":"X567-O566+L584","v":70.5},{"$f":"Y567+K584","v":70.5},null,60,{"$f":"W610+S573","v":9.5106704620259102},{"$f":"X610","v":60.419437670302337},null,{"$f":"AE585-P588*COS(P572-P581)","v":8.7665587981562751},"p15e",{"$f":"AG585-O588*COS(O572-O581)","v":9.6193943061190517},{"$f":"AH585-O588*SIN(O572-O581)","v":67.094123112109401},{"$f":"AI585-P588*SIN(P572-P581)","v":71.828689822289164},null,"p48",{"$f":"AL579+(AL578-AL584)","v":9.8097000000000047},{"$f":"AM583","v":21.1},null,"درجه اضافه شده به زاویه خط پهلو پشت","s'6","xp10","yp10","xp11","yp11","xp12","yp12","s11",null,null,null,null,null,null,"اطلاعات ورودی",null,null,{"$f":"AE579","v":11.10981718771858},{"$f":"AI579","v":61.352858286332406},{"$f":"AF579","v":"p12"},null,{"$f":"U580","v":17.846590909090914},{"$f":"Y580","v":65.099999999999994},{"$f":"V580","v":12},null,null,null,"خط اتو",null,{"$f":"W568","v":19.863181818181825},{"$f":"X568","v":21.1},{"$f":"V568","v":2},null,{"$f":"BD571+BD567","v":6.9340909090909104},{"$f":"BD572+BD568","v":60.334999999999994},"β5",null,null,null,null,null,{"$f":"AG569","v":8.9179090909090952},{"$f":"AH569","v":21.1},{"$f":"AF569","v":"p3"},null,{"$f":"AG577","v":-5.422237590987713},{"$f":"AH577","v":59.224142446647775},{"$f":"AF577","v":"p10"},null,{"$f":"AZ569+BA568","v":3.5926721398111239},{"$f":"AZ570-BA567","v":59.8},"β13",null,{"$f":"AG610","v":2.3407955153758824},{"$f":"AH610","v":63.740781397056146},{"$f":"AF610","v":"p30"},null,null,null,null,null,null,{"$f":"CZ567","v":-9.3951175622338035},{"$f":"DA567","v":49.8},"β13",null,{"$f":"DD567","v":9.3951175622338035},{"$f":"DE567","v":49.8},"β13",null,{"$f":"W606","v":3.7906715196306355},{"$f":"X606","v":53.627593284300843},29,null,{"$f":"DL585+0.2*(DL570-DL585)","v":9.7070294804794841},{"$f":"DM570+0.35*(DM585-DM570)","v":57.341675440295191},"31'r",null,null,null,null,null,{"$f":"DT567","v":15.664858690078997},{"$f":"DU567","v":50.145631409328118},"10r",null,{"$f":"DL615","v":8.3967500000000008},{"$f":"DM615","v":50.879999999999995},"38'b",null,{"$f":"U570","v":16.34295454545455},{"$f":"Y570","v":14.440000000000001},4,null,{"$f":"EB611-EB596+EB597+(EC597-EC596)*TAN(EC607-EC608)","v":-0.87097628129730653},{"$f":"EC611-EC597+EC596","v":50.124168464043244},"p12r",null,null,null,null,null,9.301408807686677,0,"1r",null,null,null,null,null,null,null,null,null,{"$f":"IF(ES577>DM613,DL613,ER577)","v":7.5659240993579226},{"$f":"IF(ES577>DM613,DM613,ES577)","v":58.18},"34 b یا d2",null,null,null,{"$f":"SQRT(POWER((FE598-FE595),2)+POWER((FF598-FF595),2))","v":2.112162765175901},"s67",null,{"$f":"2*FI577-FI585","v":5.0287119307746408},{"$f":"FJ585","v":9.7867987829147669},"p89",null,{"$f":"FI580","v":3.3619131478598749},{"$f":"FJ580","v":15.881416473653733},"p83",null,null,null,null,null,null,null,null,null,null,null,null,null,null,null,null,null,null,null,null,null,null,null,null,null,null,"پروسیجر چرخش یک نقطه حول نقطه دیگر",null,null,null,null,null,"کامل شده",null,null,null,null,null,null,null,17.743247890791384,94.732200057988237,"a47",null,null,null,null,null,{"$f":"-GZ549+GP549","v":-17.743247890791384},{"$f":"HA549","v":94.732200057988237},"a47",null,null,38,{"$f":"HR564+HU564*SIN(RADIANS(HQ586)+HQ566)","v":15.368364717860921},{"$f":"HS564+HU564*COS(RADIANS(HQ586)+HQ566)","v":65.360679391026764},{"$f":"IF(HR565>HR586,ATAN((HS565-HS586)/(HR565-HR586)),ATAN((HS565-HS586)/(HR586-HR565)))","v":1.442764277246531},{"$f":"IF(HR565>HR586,(HR565-HR586)/COS(HT586),(HR586-HR565)/COS(HT586))","v":5.5010842108379068},null,null,null,null,"نقطه خروجی بالا","a",{"$f":"IB580+IB582*COS(IA585)","v":19.676769361683952},{"$f":"IC580+IB582*SIN(IA585)","v":67.592666572754908},null,null,{"$f":"IB586","v":19.676769361683952},{"$f":"IC586","v":67.592666572754908},"a",null,{"$f":"-IF586-HY101","v":-19.676769361683952},{"$f":"IG586","v":67.592666572754908},"a",null,null,null,null,null,null,null,null,null,null,{"$f":"GZ550","v":19.725050521055181},{"$f":"HA550","v":96.16360302398364},"a48",null,"d13",{"$f":"'متغیرها '!C495","v":5},null,"xf9",{"$f":"IW590-JA595","v":13.743247890791384},null,{"$f":"JM597+JA595","v":17.632867016396272},{"$f":"JN597+JA596","v":97.211138426136927},"e12",null,null,null,null,null,null,null,null,null,{"$f":"JG595","v":13.513628556673853},{"$f":"JH595","v":76.133899911147452},"e21",null,{"$f":"-JG595+JA605","v":-13.513628556673853},{"$f":"JH595","v":76.133899911147452},"e21",null,null,null,null,null,null,null,null,null,null,null,null,null,{"$f":"JK582-JA595+JE600","v":10.770822320412826},{"$f":"JL582","v":98.079170605989503},"e66-b16+f22","نقطه قبل از چرخش",{"$f":"IF(KN586>KN585,IF(KM586>KM585,KM585+SQRT(POWER(KM586-KM585,2)+POWER(KN586-KN585,2))*COS(ATAN((KN586-KN585)/(KM586-KM585+0.000123))+KN583),KM585-SQRT(POWER(KM586-KM585,2)+POWER(KN586-KN585,2))*COS(ATAN((KN586-KN585)/(KM585-KM586+0.000123))-KN583)),IF(KM586>KM585,KM585+SQRT(POWER(KM586-KM585,2)+POWER(KN586-KN585,2))*COS(ATAN((KN585-KN586)/(KM586-KM585+0.000123))-KN583),KM585-SQRT(POWER(KM586-KM585,2)+POWER(KN586-KN585,2))*COS(ATAN((KN585-KN586)/(KM585-KM586+0.000123))+KN583)))","v":10.628660026942928},{"$f":"IF(KN586>KN585,IF(KM586>KM585,KN585+SQRT(POWER(KM586-KM585,2)+POWER(KN586-KN585,2))*SIN(ATAN((KN586-KN585)/(KM586-KM585+0.000123))+KN583),KN585+SQRT(POWER(KM586-KM585,2)+POWER(KN586-KN585,2))*SIN(ATAN((KN586-KN585)/(KM585-KM586+0.000123))-KN583)),IF(KM586>KM585,KN585-SQRT(POWER(KM586-KM585,2)+POWER(KN586-KN585,2))*SIN(ATAN((KN585-KN586)/(KM586-KM585+0.000123))-KN583),KN585-SQRT(POWER(KM586-KM585,2)+POWER(KN586-KN585,2))*SIN(ATAN((KN585-KN586)/(KM585-KM586+0.000123))+KN583)))","v":97.406086743885467},"e58",null,null,null,null,null,null,null,null,null,null,null,null,null,null,null,null,null,null,null,null,null,null,null,null,null,null,null,null,null,null,null,null,null,null,null,null,null,null,null,null,null,null,null,null,null,null,null,null,null,null,null,null,null,null,null,null,null,null,null,null,null,null,null,null,null,null,null,null,null,null,null,null,null,null,null,null,null,null,null,null,null,null,null,"ارتفاع نیم دایره",{"$f":"NV47*NV10","v":4.8165137614678901},"بزرگی فلش",{"$f":"NZ589","v":-35},{"$f":"OA589","v":24.266055045871553},{"$f":"NY589","v":"w61"},null,null,null,null,null,"ارتفاع نیم دایره",{"$f":"OG49","v":0.5666486778197517},"بزرگی فلش",{"$f":"OK589","v":-15.579861111111104},{"$f":"OL589","v":18.599568267674044},{"$f":"OJ589","v":"m63"},null,null,null,null,null,"نقاط خروجی","مولفه افقی","مولفه عمودی",{"$f":"OV591","v":-24.518750000000008},{"$f":"OW591","v":18.349568267674044},{"$f":"OU591","v":"h11"}]
[null,null,null,null,null,"t45",{"$f":"'متغیرها '!C634","v":1},1,null,null,null,null,null,null,null,null,null,null,null,null,null,33,{"$f":"W609+0.5*(W608-W609)","v":6.9380417630235929},{"$f":"X609+0.05*(X608-X609)","v":60.419437670302337},null,null,83,{"$f":"AB609-S589*COS(S586+2*RADIANS(G612))","v":6.3843028176024923},{"$f":"AC609+S589*SIN(S586+2*RADIANS(G612))","v":67.07990893797097},null,null,"p30",{"$f":"AG605","v":2.3407955153758824},{"$f":"AH605+1","v":63.740781397056146},null,null,null,null,null,null,null,"نقطه دوم","p15b",{"$f":"AE593","v":8.7665587981562751},{"$f":"AI593","v":71.828689822289164},null,null,"نقطه دوم",{"$f":"V598","v":"22b"},{"$f":"W598","v":19.818105243812795},{"$f":"X598","v":65.783264352505654},null,null,38,{"$f":"BC588+BF588*SIN(RADIANS(BB610)+BB590)","v":-1.1974318372279749},{"$f":"BD588+BF588*COS(RADIANS(BB610)+BB590)","v":65.547831739942382},{"$f":"IF(BC589>BC610,ATAN((BD589-BD610)/(BC589-BC610)),ATAN((BD589-BD610)/(BC610-BC589)))","v":6.1918879469894945E-2},{"$f":"IF(BC589>BC610,(BC589-BC610)/COS(BE610),(BC610-BC589)/COS(BE610))","v":4.7780913534758911},null,null,null,null,null,null,null,null,{"$f":"W572","v":12.431590909090913},{"$f":"X572","v":32.200000000000003},{"$f":"V572","v":"6a"},null,{"$f":"AB609","v":7.7400942543797129},{"$f":"AC609","v":66.677362548223286},{"$f":"AA609","v":81},null,{"$f":"BW611+(0.3+'متغیرها '!C690*0.1)*(BW609-BW611)-(0.17+'متغیرها '!C690*0.05)*BD576*COS(BD577)","v":{"$error":"#DIV/0!"}},{"$f":"BX611+(0.4)*(BX609-BX611)+(0.17+'متغیرها '!C690*0.05)*BD576*SIN(BD577)","v":{"$error":"#DIV/0!"}},"β'9",null,{"$f":"AB586","v":9.5106704620259102},{"$f":"AC586","v":60.419437670302337},{"$f":"AA586","v":60},null,{"$f":"AL585","v":17.83581818181819},{"$f":"AM585","v":21.1},{"$f":"AK585","v":"p53"},null,null,null,null,null,{"$f":"AL569","v":2.7227172744117034},{"$f":"AM569","v":60.071900409479603},{"$f":"AK569","v":"p38"},null,null,null,null,null,{"$f":"AL574","v":-3.5195985057442449},{"$f":"AM574","v":65.247558095181404},{"$f":"AK574","v":"p43"},null,null,{"$f":"CZ608","v":-10.265072427633225},{"$f":"DA608","v":50.071900409479603},{"$f":"AF622","v":"p'38"},null,{"$f":"DD608","v":10.265072427633225},{"$f":"DE608","v":50.071900409479603},"p38",null,{"$f":"AG574","v":0.60518181818182271},{"$f":"AH574","v":32.200000000000003},"p7",null,"نقاط  ورودی از بالاتنه پیراهن",null,null,null,13.593216537659673,60.84250015285528,"شیفت 41m",null,null,null,null,null,{"$f":"DS136","v":18.161020954414671},{"$f":"DT136","v":11.80119018555078},"p1 rm",null,"مولفه افقی","مولفه عمودی","اسم نقطه ",null,null,null,null,null,null,null,null,null,null,null,"پهلو شبیه ساز پشت شلوار متصل به بالاتنه",null,null,null,null,null,{"$f":"EV604","v":15.664858690078997},{"$f":"EW604","v":50.145631409328118},"10r",null,{"$f":"DL625","v":16.426976281297307},{"$f":"DM625","v":49.925332632198554},"p10r",null,null,null,{"$f":"I132*(1+G606)","v":12.5},"w11",null,{"$f":"FI603+FF628*(FI607-FI603)","v":11.276801911465336},{"$f":"FJ608+FI610-FI603","v":5.3434797910783427},87,null,null,null,null,null,null,null,null,null,null,null,null,null,null,null,null,null,null,null,null,null,null,null,null,null,null,null,null,null,null,null,null,null,null,null,null,null,null,null,null,null,null,null,null,{"$f":"-GV557+GP549","v":-6.8261765789238344},{"$f":"GW557+HE594","v":73.63504741702053},"a18",null,null,null,null,null,null,null,null,null,null,null,null,null,null,null,null,null,null,null,null,null,null,null,null,null,{"$f":"CY156","v":0},{"$f":"CZ156","v":61.61},"26''",null,{"$f":"-IF608-HY101","v":0},{"$f":"IG608","v":61.61},"26''",null,null,null,null,null,null,null,null,null,null,{"$f":"GZ561","v":4.6093175999999998},{"$f":"HA561","v":68.289698669401915},"a60",null,null,null,null,null,null,null,{"$f":"IW593","v":7.1828399999999997},{"$f":"IX593-JA596","v":67.294946359131188},"e36",null,"پروسیجر چرخش یک نقطه حول نقطه دیگر",null,null,null,null,null,"کامل شده",null,{"$f":"JG606","v":1.801651805815073},{"$f":"JH606","v":64.321605910484806},"e32",null,{"$f":"-JG606+JA605","v":-1.801651805815073},{"$f":"JH606","v":64.321605910484806},"e32",null,7.9137978007967291,102.26895118655555,"e25",null,{"$f":"-JG599+JA605","v":-7.9137978007967291},{"$f":"JH599","v":102.26895118655555},"e25",null,null,null,"تکه پهلو",null,null,null,null,null,null,null,null,null,null,null,null,null,null,null,null,null,null,null,null,null,null,null,null,null,null,null,null,null,null,null,null,null,null,null,null,null,null,null,null,null,null,null,null,null,null,null,null,null,null,null,null,null,null,null,null,null,null,null,null,null,null,null,null,null,null,null,null,null,null,null,null,null,null,null,null,null,null,null,null,null,null,null,null,null,null,null,null,null,null,null,"h8",{"$f":"NZ609-0.5*NZ600","v":-21.202083333333334},{"$f":"OA605","v":24.266055045871553},null,null,null,null,null,null,null,null,"نقطه شروع انحنا","مولفه افقی","مولفه عمودی",{"$f":"OK614","v":-29.74027777777777},{"$f":"OL614","v":19.449541284403672},{"$f":"OJ614","v":"g4"},null,null,null,null,null,null,null,null,{"$f":"OQ119","v":-16.406250000000007},{"$f":"OR119","v":19.166216945493797},"m64"]
[null,null,null,null,null,null,null,null,null,null,null,null,null,null,null,null,null,null,null,null,null,null,null,null,null,null,null,null,null,null,null,null,null,null,null,null,null,null,null,null,null,null,null,null,null,null,null,null,null,null,null,null,null,null,null,null,null,null,null,null,null,null,null,null,null,null,null,null,null,null,null,null,null,null,null,null,null,null,null,null,null,null,null,null,null,null,null,null,null,null,"(41→β4)",{"$f":"0.5*CO648*COS(RADIANS(CO650)+RADIANS(CO651))","v":0},{"$f":"0.5*CO648*COS(RADIANS(CO650))","v":0},"(β7→β8)","انطباق جابجایی جیب در مکان دلخواه",null,null,null,"انطباق جابجایی جیب جین",null,null,null,null,null,null,null,null,null,null,null,null,null,null,null,null,{"$f":"DL627-(DH613-DH611)+(DI611-DI613)*TAN(DI617-DI618)","v":16.362737492074345},{"$f":"DM627-(DI611-DI613)","v":11.80119018555078},"p1 r",null,null,null,null,null,16.362737492074345,11.80119018555078,"p5r",null,null,null,null,null,{"$f":"CE108","v":0},{"$f":"CF108","v":86.084730342002047},24,null,null,null,null,null,null,null,null,null,null,null,null,null,null,null,null,null,{"$f":"ER574","v":0},{"$f":"ES574","v":61.61},"26''",null,{"$f":"ER577","v":7.5659240993579226},{"$f":"ES577","v":58.18},"d2",null,null,null,1,"s72",null,null,null,null,null,null,null,null,null,null,null,null,null,null,null,null,null,null,null,null,null,null,null,null,null,null,null,null,null,null,null,null,null,null,null,null,null,null,null,null,null,null,null,null,null,null,null,null,null,null,null,null,null,null,null,null,null,null,null,null,null,null,null,null,null,null,null,null,null,null,null,null,null,null,null,null,null,null,null,null,null,null,null,null,null,null,null,null,null,null,null,null,null,null,"پروسیجر چرخش یک نقطه حول نقطه دیگر",null,null,null,null,null,"کامل شده",null,null,{"$f":"IW593","v":7.1828399999999997},{"$f":"IX593+JB589","v":92.294946359131188},"e54",null,"پروسیجر چرخش یک نقطه حول نقطه دیگر",null,null,null,null,null,"کامل شده",null,null,null,null,null,null,null,null,null,{"$f":"JG607","v":13.240931321044009},{"$f":"JH607","v":64.321605910484806},"e33",null,{"$f":"-JG607+JA605","v":-13.240931321044009},{"$f":"JH607","v":64.321605910484806},"e33",null,null,null,null,null,null,null,null,null,null,null,null,null,null,null,null,null,null,null,null,null,null,null,null,null,null,null,null,null,null,null,null,null,null,null,null,null,null,null,null,null,null,null,null,null,null,null,null,null,null,null,null,null,null,null,null,null,null,null,null,null,null,null,null,null,null,null,null,null,null,null,null,null,null,null,null,null,null,null,null,null,null,null,null,null,null,null,null,null,null,null,null,null,null,null,"طول باکس نوشته",{"$f":"3*NV36","v":13.5},"h3",{"$f":"NZ638","v":-25.927083333333336},{"$f":"OA638","v":29.082568807339442},{"$f":"NY638","v":"h8"},null,null,null,null,null,null,null,null,null,null,null,null,null,null,null,null,"g6",{"$f":"OV627","v":-31.648750000000007},{"$f":"OW625-OW627+OW623","v":19.653534808418787}]
[null,null,null,null,null,null,null,null,null,null,null,null,null,null,null,null,null,null,null,null,null,null,null,null,null,null,null,null,null,null,null,null,null,null,null,null,null,null,null,null,null,null,null,null,null,null,null,null,null,null,null,null,null,null,null,null,null,null,null,null,null,null,null,null,null,null,null,null,null,null,null,null,null,null,null,null,null,null,null,null,null,null,null,null,null,null,null,null,null,null,null,null,"متغیرهای ورودی",null,{"$f":"CR631-CR633","v":38.124142446647774},"a3",null,null,{"$f":"CV631-CV633","v":38.124142446647774},"a3",null,null,null,null,null,null,null,null,null,null,null,null,null,null,null,null,null,null,null,null,null,null,null,null,null,null,null,null,null,null,null,null,null,null,null,null,null,null,null,null,null,null,null,null,null,null,null,null,null,null,null,{"$f":"EV643","v":7.4903399999999998},{"$f":"EW643","v":49.8},47,null,{"$f":"FI615","v":3.2124867436991256},{"$f":"FJ615","v":9.3136521455530676},"p81",null,null,null,null,null,null,null,null,null,null,null,null,null,null,null,null,null,null,null,null,null,null,null,null,null,null,null,null,null,null,null,null,null,null,null,null,null,null,null,null,null,null,null,null,null,null,null,null,null,null,null,null,null,null,null,null,null,null,null,null,null,null,null,null,null,null,null,null,null,null,null,null,null,null,null,null,null,null,null,null,null,null,null,null,null,null,null,null,null,null,null,null,null,null,null,null,null,null,null,null,null,null,null,null,null,null,null,null,null,null,null,null,null,null,null,null,null,null,null,null,null,null,null,null,null,null,null,null,null,null,null,null,null,null,null,null,null,null,null,null,null,null,null,null,null,null,null,null,null,null,null,null,null,null,null,null,null,null,null,null,null,null,null,null,null,null,null,null,null,null,null,null,null,null,null,null,null,null,null,null,null,null,null,null,null,null,null,null,null,null,null,null,null,null,null,null,null,null,null,null,null,null,null,null,null,null,null,null,null,null,null,null,null,null,null,null,null,null,null,null,null,null,null,null,null,null,null,null,null,null,null,null,null,{"$f":"NZ637","v":-19.177083333333336},{"$f":"OA637","v":29.082568807339442},{"$f":"NY637","v":"h5"},null,null,null,null,null,"f6",{"$f":"OK644-OK641*OK640*OK642","v":-13.7665223811237},{"$f":"OL644+OK640*OK642","v":19.95952509444145},null,null,null,null,null,null,null,null,"نقطه ورودی سر فلش","مولفه افقی","مولفه عمودی",{"$f":"OV646","v":-30.868055555555564},{"$f":"OW646","v":19.73286562331355},{"$f":"OU646","v":"m69"}]
[null,null,null,null,null,null,null,null,null,null,null,null,null,null,null,null,null,null,null,null,null,null,null,null,null,null,null,null,null,null,null,null,null,null,null,null,null,null,null,null,null,null,null,null,null,null,null,null,null,null,null,null,null,null,null,null,null,null,null,null,null,null,null,null,null,null,null,null,null,null,null,null,null,null,null,null,null,null,null,null,null,null,null,null,null,null,null,null,null,null,null,null,null,null,null,null,null,null,null,null,null,null,null,null,null,null,null,null,null,null,null,null,null,null,null,null,null,null,null,null,null,null,null,null,null,null,null,null,null,null,null,null,null,null,null,null,null,null,null,null,null,null,null,null,null,null,null,null,null,null,null,{"$f":"FI610","v":11.276801911465336},{"$f":"FJ610","v":5.3434797910783427},87,null,null,null,null,null,null,null,null,null,null,null,null,null,null,null,null,null,null,null,null,null,null,null,null,null,null,null,null,null,null,null,null,null,null,null,null,null,null,null,null,null,null,null,null,null,null,null,null,null,null,null,null,null,null,null,null,null,null,null,null,null,null,null,null,null,null,null,null,null,null,null,null,null,null,null,null,null,null,null,null,null,null,null,null,null,null,null,null,null,null,null,null,null,null,null,null,null,null,null,null,null,null,null,null,null,null,null,null,null,null,null,null,null,null,null,null,null,null,null,null,null,null,null,null,null,null,null,null,null,null,null,null,null,null,null,null,null,null,null,null,null,null,null,null,null,null,null,null,null,null,null,null,null,null,null,null,null,null,null,null,null,null,null,null,null,null,null,null,null,null,null,null,null,null,null,null,null,null,null,null,null,null,null,null,null,null,null,null,null,null,null,null,null,null,null,null,null,null,null,null,null,null,null,null,null,null,null,null,null,null,null,null,null,null,null,null,null,null,null,null,null,null,null,null,null,null,null,null,null,null,null,null,null,null,"h11",{"$f":"NZ659","v":-3.7861111111111123},{"$f":"OA659-0.5*NZ650","v":28.832568807339442},null,null,null,null,null,null,null,null,null,null,"باکس نوشته e5",null,null,{"$f":"OL662","v":"باکس نوشته e5"},null,null,null,null,null,"ارتفاع نیم دایره",{"$f":"OR49","v":0.5666486778197517},"بزرگی فلش",{"$f":"OV665","v":3.840277777777791},{"$f":"OW665","v":19.73286562331355},{"$f":"OU665","v":"m68"}]
[null,null,null,null,null,null,null,null,null,null,null,null,null,null,null,null,null,null,null,null,null,null,null,null,null,null,null,null,null,null,null,null,null,null,null,null,null,null,null,null,null,null,null,null,null,null,null,null,null,null,null,null,null,null,null,null,null,null,null,null,null,null,null,null,null,null,null,null,null,null,null,null,null,null,null,null,null,null,null,null,null,null,null,null,null,null,null,null,null,null,null,null,null,null,null,null,null,null,null,null,null,null,null,null,null,null,null,null,null,null,null,null,null,null,null,null,null,null,null,null,null,null,null,null,null,null,null,null,null,null,null,null,null,null,null,null,null,null,null,null,null,null,null,null,null,null,null,null,null,null,null,{"$f":"FI611","v":9.6100031285505718},{"$f":"FJ611","v":1.4542826309438928},88,null,null,null,null,null,null,null,null,null,null,null,null,null,null,null,null,null,null,null,null,null,null,null,null,null,null,null,null,null,null,null,null,null,null,null,null,null,null,null,null,null,null,null,null,null,null,null,null,null,null,null,null,null,null,null,null,null,null,null,null,null,null,null,null,null,null,null,null,null,null,null,null,null,null,null,null,null,null,null,null,null,null,null,null,null,null,null,null,null,null,null,null,null,null,null,null,null,null,null,null,null,null,null,null,null,null,null,null,null,null,null,null,null,null,null,null,null,null,null,null,null,null,null,null,null,null,null,null,null,null,null,null,null,null,null,null,null,null,null,null,null,null,null,null,null,null,null,null,null,null,null,null,null,null,null,null,null,null,null,null,null,null,null,null,null,null,null,null,null,null,null,null,null,null,null,null,null,null,null,null,null,null,null,null,null,null,null,null,null,null,null,null,null,null,null,null,null,null,null,null,null,null,null,null,null,null,null,null,null,null,null,null,null,null,null,null,null,null,null,null,null,null,null,null,null,null,null,null,null,null,null,null,null,null,"h12",{"$f":"NZ660","v":-2.4361111111111127},{"$f":"OA662","v":28.832568807339442},{"$f":"NZ660","v":-2.4361111111111127},{"$f":"OA660","v":29.082568807339442},{"$f":"NY660","v":"h9"},null,null,null,null,null,null,"متغیرهای ورودی",null,{"$f":"OK669","v":-5.6631944444444482},{"$f":"OL669","v":20.299514301133303},{"$f":"OJ669","v":"m73"},null,null,null,null,null,"پهنای نیم دایره",{"$f":"OR40","v":0.5},{"$f":"OR51","v":0.33998920669185106},{"$f":"OV669","v":4.2077777777777916},{"$f":"OW669","v":19.812196438208314},{"$f":"OU669","v":"g5"}]
[null,null,null,null,null,null,{"$f":"AZ140-'متغیرها '!C51","v":5.4188000000000001},{"$f":"BA140-'متغیرها '!C52","v":86.9},25,null,{"$f":"G701","v":5.4188000000000001},{"$f":"H701","v":88.740650099848764},"m1",null,{"$f":"K680+H733","v":5.4188000000000001},{"$f":"L680+H734","v":88.740650099848764},"m1",null,null,{"$f":"AZ140-'متغیرها '!C51","v":5.4188000000000001},{"$f":"BA140-'متغیرها '!C52","v":86.9},25,null,{"$f":"T701","v":6.269228165474293},{"$f":"U701","v":90.900949953238893},"m1",null,{"$f":"X680+U733","v":6.269228165474293},{"$f":"Y680+U734","v":90.900949953238893},"m1",null,{"$f":"AZ140-'متغیرها '!C51","v":5.4188000000000001},{"$f":"BA140-'متغیرها '!C52","v":86.9},25,null,{"$f":"AF701","v":5.4188000000000001},{"$f":"AG701","v":88.945166777609728},"m1",null,{"$f":"AJ680+AG710","v":5.4188000000000001},{"$f":"AK680+AG711","v":88.945166777609728},"m1",null,null,{"$f":"AZ140-'متغیرها '!C51","v":5.4188000000000001},{"$f":"BA140-'متغیرها '!C52","v":86.9},25,null,{"$f":"AS701","v":4.7836062650523816},{"$f":"AT701","v":89.270575291473961},"m1",null,{"$f":"AW680+AS725","v":4.7836062650523816},{"$f":"AX680+AS726","v":89.270575291473961},"m1",null,{"$f":"AZ140-'متغیرها '!C51","v":5.4188000000000001},{"$f":"BA140-'متغیرها '!C52","v":86.9},25,null,{"$f":"BE691","v":8.1682137990267947},{"$f":"BF691","v":81.558276199296472},{"$f":"BG691","v":"m6"},null,{"$f":"BI680+BF702","v":8.1682137990267947},{"$f":"BJ680+BF703","v":81.558276199296472},"m6",null,{"$f":"S229","v":5.0394840000000007},{"$f":"AX103-S228+AX98-'متغیرها '!C52","v":83.125},"51'",null,{"$f":"AZ148-'متغیرها '!C51","v":4.3350400000000002},{"$f":"BA148-'متغیرها '!C52","v":83.563898736548907},30,null,null,null,null,null,null,null,null,null,{"$f":"DK385","v":5.4188000000000001},{"$f":"DL385","v":86.9},"25 شبیه ساز","از شبیه ساز اندام",null,{"$f":"CG682","v":0},{"$f":"CH682","v":74.974999999999994},{"$f":"CI682","v":"e1"},null,{"$f":"CL683+CH700","v":2.6232364345870085},{"$f":"CM683+CH701","v":77.364099951509019},"d7",null,null,null,"پهنای یقه ب ب ",{"$f":"'متغیرها '!C775*G167","v":4.1735271397363203},null,null,null,null,null,{"$f":"CW713+CW677","v":5.9091005600393718},{"$f":"CW712+CW678","v":36.54095731013679},32,null,"c8",{"$f":"DP680","v":6.0126667279650583},"نصف نوار گردن از پشت برای یقه یاز شده",null,-3,{"$f":"DH691","v":24.090333555219452},2,null,"c8",{"$f":"1.04*SQRT(AA147*AA147+AA146*AA146)","v":6.0126667279650583},"نصف نوار گردن از پشت برای یقه یاز شده",null,-3,{"$f":"DP691","v":22.454200133131671},2,null,"c8",{"$f":"DP680","v":6.0126667279650583},"نصف نوار گردن از پشت برای یقه یاز شده",null,{"$f":"DW705","v":3.6533369038219607},{"$f":"DX705","v":23.900164204655091},6,null,"c8",{"$f":"DP680","v":6.0126667279650583},"نصف نوار گردن از پشت برای یقه یاز شده",null,{"$f":"EE702","v":3.3047770553421216},{"$f":"EF702","v":24.893767135607547},6,null,"(1 → 4)",{"$f":"0.17*FG679","v":8.67},null,null,{"$f":"EN680+'متغیرها '!C741","v":-21.33},{"$f":"EN681+'متغیرها '!C742","v":25.763041768831531},5,null,"زاویه بالای کلاه (γ ) ",{"$f":"ATAN((1+'متغیرها '!C733)*7/40)","v":0.17324566645236494},null,null,null,null,null,{"$f":"EX683+EY728","v":-30},{"$f":"EY683+EY729","v":25.5},7,null,"کلاه دو تکه ",null,null,null,{"$f":"FG683+'متغیرها '!C741","v":-18.78},{"$f":"FG684+'متغیرها '!C742","v":30.935541768831534},5,null,{"$f":"FO698+0.6*(FO702-FO698)","v":6.6473263872572623},{"$f":"FO703+0.6*(FO700-FO703)","v":6.3760442046044385},28,{"$f":"FN679","v":0.59335108429499783},{"$f":"FO679","v":7.9503982869538099},27,null,{"$f":"FQ680+FO729","v":-2.4066489157050022},{"$f":"FR680+FO730","v":27.95039828695381},27,null,{"$f":"FQ690+FO729","v":-2.5846543697558708},{"$f":"FR690+FO730","v":30.501103279842539},29,null,"مولفه افقی","مولفه عمودی","اسم نقطه ورودی",null,null,null,"یقه انگلیسی با پایه برای نازک دوزی",null,"مولفه افقی","مولفه عمودی","اسم نقطه ورودی",null,null,null,"یقه انگلیسی با پایه برای نازک دوزی",null,null,{"$f":"G228*(0.4*G166+0.037*H131)","v":1.5525992603619405},"قد یقه فرنچی",null,0,{"$f":"GU683","v":10.508442231120084},3,null,{"$f":"GW679+GU719","v":-3.1462855116636526},{"$f":"GX679+GU720","v":30.503333828487293},24,null,null,null,null,null,"مولفه افقی","مولفه عمودی","اسم نقطه ورودی",null,null,null,"یقه انگلیسی برای ضخیم دوزی",null,"مولفه افقی","مولفه عمودی","اسم نقطه ورودی",null,null,null,"یقه انگلیسی  برای نازک دوزی",null,null,null,{"$f":"'متغیرها '!C782","v":2},"a5",null,{"$f":"HZ695","v":18.195000000000007},{"$f":"IA695","v":0},"a11",null,null,{"$f":"'متغیرها '!C786","v":20},"a5",null,{"$f":"IH697","v":-16.170000000000002},{"$f":"II697","v":0},"a11",null,null,null,"جلو",null,{"$f":"IP681-IQ687+IQ698","v":-3},{"$f":"IQ681-IQ688+IQ699+2*(IQ685-IQ681)","v":26.672202526902197},"b10",null,"مولفه افقی","مولفه عمودی","اسم نقطه ",null,"نقطه  خروجی چرخیده",null,null,null,null,null,"لبه گرد",null,null,null,"لبه گرد",null,null,null,{"$f":"C101","v":0},null,null,null,null,null,null,null,null,null,null,null,null,null,null,null,null,null,null,null,null,null,null,null,null,null,null,null,null,null,null,null,null,null,null,null,null,null,null,null,null,null,null,null,null,null,null,null,null,null,null,null,null,null,null,null,null,null,null,null,null,null,null,null,null,null,null,null,null,null,null,null,null,null,null,null,null,null,null,null,null,null,null,null,null,null,null,null,null,null,null,null,null,null,null,null,null,null,null,null,null,null,null,null,null,null,null,null,null,null,null,null,null,null,null,null,null,null,null,null,null,null,null,null,null,null,null,null,null,null,null,null,null,null,null,"نقطه شروع رج(چپ)","مولفه افقی","مولفه عمودی"]
[null,null,null,null,null,null,{"$f":"G708","v":0},{"$f":"H708","v":80.227797473097809},"m3",null,null,null,null,null,null,null,null,null,null,{"$f":"T702+0.65*U689*U691*SIN(RADIANS(15))*IF(U688=-1,1,U688)","v":1.4560681374083027},{"$f":"U702-0.65*U689*U691*COS(RADIANS(15))*IF(U688=-1,1,U688)","v":82.100079996261599},"m3",null,null,null,null,null,null,null,null,null,{"$f":"AF708","v":0},{"$f":"AG708","v":80.227797473097809},"m3",null,null,null,null,null,null,null,null,null,null,{"$f":"AS702+0.7*AT689*AT691*SIN(RADIANS(10))*(1.5*IF(AT688=-1,1,AT688)-0.5)","v":3.2164181169204475},{"$f":"AT702-0.7*AT689*AT691*COS(RADIANS(10))*IF(AT688=-1,1,AT688)","v":82.607214407817224},"m3",null,{"$f":"-AS701","v":-4.7836062650523816},{"$f":"AT701","v":89.270575291473961},"قرینهm1",null,{"$f":"AW703+AS725","v":-4.7836062650523816},{"$f":"AX703+AS726","v":89.270575291473961},"قرینهm1",null,null,{"$f":"C101","v":0},"شیفت عمودی کل جلو",null,2.1675200000000001,80.895017725788037,28,null,{"$f":"BI703+BF702","v":2.1675200000000001},{"$f":"BJ703+BF703","v":80.895017725788037},28,null,{"$f":"AS724","v":0},{"$f":"AT724","v":74.974999999999994},"e1",null,{"$f":"BQ733","v":8.448908914256382},{"$f":"BR733","v":78.317097769437254},"r4",null,null,{"$f":"CW680","v":4.1735271397363203},"پهنا یقه ب ب",null,{"$f":"BY705","v":0},{"$f":"BZ705","v":81.911203202265725},{"$f":"CA705","v":"m3"},null,null,null,null,null,null,null,null,null,null,{"$f":"-CP689+CH702","v":-5.4188000000000001},{"$f":"CQ689","v":86.9},"25 شبیه ساز",null,null,null,"(1 → 23)",{"$f":"CW686+0.3*(K144-CW680*SIN(EY679)+CW680)*COS(EY679+EY678)+(1-0.95)*(AA146+CW680*COS(EY679))*SIN(EY679+EY678)","v":6.9032919667054209},null,0,{"$f":"CW693","v":5.7714440837606338},13,null,{"$f":"CW694+CW677","v":2.4188000000000001},{"$f":"CW693+CW678","v":25.771444083760635},14,null,null,null,null,null,{"$f":"DG701","v":5.8531262309684919},{"$f":"DH701","v":23.650251350071805},{"$f":"DI701","v":13},null,null,null,null,null,{"$f":"DO701","v":4.6319305754436026},{"$f":"DP701","v":22.868860666190489},{"$f":"DQ701","v":13},null,{"$f":"DW702","v":-0.59493330881397632},{"$f":"DX701","v":24.499366910741394},4,null,null,null,null,null,{"$f":"EE705+IF(EF688>=0,EF692*EF688*EF681,EF692*EF681+EF686)*COS(EF684)","v":12.036194215415303},{"$f":"EF701+IF(EF688>=0,EF679*EF688*'متغیرها '!C756,'متغیرها '!C756*EF679)","v":18.76697327571636},7,null,{"$f":"EE702","v":3.3047770553421216},{"$f":"EF702","v":24.893767135607547},{"$f":"EG702","v":6},null,"(1 → 23)",{"$f":"EN705-0.65*(EN705-EN678)","v":18.576331287373662},null,null,null,null,null,null,"(22 → 23)",{"$f":"EV686+0.3*(EV705-EV686)","v":22.688202947776205},null,{"$f":"EX692","v":25.5},{"$f":"EY692","v":1.1072118368996133},4,null,null,null,"سرشانه",null,"(21 → 10)","وصل",null,null,-30,5.0708739204456661,33,null,"(14 → 15)",{"$f":"G264","v":4.8769200000000001},null,{"$f":"FO707","v":8.4656809369480932},{"$f":"FO708","v":4.6365455354195433},19,null,null,null,null,null,null,null,"رسم انحنا پایه",null,{"$f":"FY718","v":6.5671485088339203},24.287154795727581,"19'",null,{"$f":"GC703+2*(SIN(ATAN((GC682-GC681)/(GD682-GD681)))*(GD703-GD681)+COS(ATAN((GC682-GC681)/(GD682-GD681)))*(GC681-GC703))*COS(ATAN((GC682-GC681)/(GD682-GD681)))","v":-10.784647909171543},{"$f":"GD703-2*(SIN(ATAN((GC682-GC681)/(GD682-GD681)))*(GD703-GD681)+COS(ATAN((GC682-GC681)/(GD682-GD681)))*(GC681-GC703))*SIN(ATAN((GC682-GC681)/(GD682-GD681)))","v":23.076229028695909},"19'",null,{"$f":"FU721","v":6.5671485088339203},24.287154795727581,"19'",null,{"$f":"GK703+2*(SIN(ATAN((GK682-GK681)/(GL682-GL681)))*(GL703-GL681)+COS(ATAN((GK682-GK681)/(GL682-GL681)))*(GK681-GK703))*COS(ATAN((GK682-GK681)/(GL682-GL681)))","v":-10.784647909171543},{"$f":"GL703-2*(SIN(ATAN((GK682-GK681)/(GL682-GL681)))*(GL703-GL681)+COS(ATAN((GK682-GK681)/(GL682-GL681)))*(GK681-GK703))*SIN(ATAN((GK682-GK681)/(GL682-GL681)))","v":23.076229028695909},"19'",null,null,"(22 → 23)",{"$f":"GU700+(O238-H232*H124)*SIN(RADIANS(90)-O233-2*O232)","v":5.4904789991408327},null,{"$f":"GW679","v":-0.1462855116636527},{"$f":"GX679","v":10.503333828487294},24,null,null,null,null,null,{"$f":"HA699","v":5.4656809369480932},{"$f":"HB699","v":24.636545535419543},19,null,6.6609348419804544,25.490478999140834,23,null,{"$f":"HI703+2*(SIN(ATAN((HI682-HI681)/(HJ682-HJ681)))*(HJ703-HJ681)+COS(ATAN((HI682-HI681)/(HJ682-HJ681)))*(HI681-HI703))*COS(ATAN((HI682-HI681)/(HJ682-HJ681)))","v":-12.596070170805392},{"$f":"HJ703-2*(SIN(ATAN((HI682-HI681)/(HJ682-HJ681)))*(HJ703-HJ681)+COS(ATAN((HI682-HI681)/(HJ682-HJ681)))*(HI681-HI703))*SIN(ATAN((HI682-HI681)/(HJ682-HJ681)))","v":24.925840415880963},23,null,6.6609348419804544,25.490478999140834,23,null,{"$f":"HQ703+2*(SIN(ATAN((HQ682-HQ681)/(HR682-HR681)))*(HR703-HR681)+COS(ATAN((HQ682-HQ681)/(HR682-HR681)))*(HQ681-HQ703))*COS(ATAN((HQ682-HQ681)/(HR682-HR681)))","v":-12.579936893149037},{"$f":"HR703-2*(SIN(ATAN((HQ682-HQ681)/(HR682-HR681)))*(HR703-HR681)+COS(ATAN((HQ682-HQ681)/(HR682-HR681)))*(HQ681-HQ703))*SIN(ATAN((HQ682-HQ681)/(HR682-HR681)))","v":24.818572952458094},23,null,null,null,null,null,null,{"$f":"HZ700","v":-29.5},{"$f":"IA700","v":0.5},"a16",null,{"$f":"IH696+II688-II691","v":-16.670000000000002},{"$f":"II702","v":0.5},"a17",null,{"$f":"IH702","v":-29.5},{"$f":"II702","v":0.5},"a16",null,"c1",{"$f":"'متغیرها '!C774","v":20},"زاویه جلو یقه ب ب مثلثی",null,{"$f":"IP682","v":0},{"$f":"IQ682-IQ714","v":76.686391282402738},"b33",null,0.35965600000000064,24.803985819369572,"b'96","نقطه قبل از چرخش",{"$f":"IF(IY703>IY681,IF(IX703>IX681,IX681+SQRT(POWER(IX703-IX681,2)+POWER(IY703-IY681,2))*COS(ATAN((IY703-IY681)/(IX703-IX681+0.000123))+IY679),IX681-SQRT(POWER(IX703-IX681,2)+POWER(IY703-IY681,2))*COS(ATAN((IY703-IY681)/(IX681-IX703+0.000123))-IY679)),IF(IX703>IX681,IX681+SQRT(POWER(IX703-IX681,2)+POWER(IY703-IY681,2))*COS(ATAN((IY681-IY703)/(IX703-IX681+0.000123))-IY679),IX681-SQRT(POWER(IX703-IX681,2)+POWER(IY703-IY681,2))*COS(ATAN((IY681-IY703)/(IX681-IX703+0.000123))+IY679)))","v":3.8065568310907478},{"$f":"IF(IY703>IY681,IF(IX703>IX681,IY681+SQRT(POWER(IX703-IX681,2)+POWER(IY703-IY681,2))*SIN(ATAN((IY703-IY681)/(IX703-IX681+0.000123))+IY679),IY681+SQRT(POWER(IX703-IX681,2)+POWER(IY703-IY681,2))*SIN(ATAN((IY703-IY681)/(IX681-IX703+0.000123))-IY679)),IF(IX703>IX681,IY681-SQRT(POWER(IX703-IX681,2)+POWER(IY703-IY681,2))*SIN(ATAN((IY681-IY703)/(IX703-IX681+0.000123))-IY679),IY681-SQRT(POWER(IX703-IX681,2)+POWER(IY703-IY681,2))*SIN(ATAN((IY681-IY703)/(IX681-IX703+0.000123))+IY679)))","v":25.039095627511042},"b102",null,{"$f":"-IT756+JH720","v":-8.2775614206239592},{"$f":"IU756","v":83.970680077384799},"b86",null,{"$f":"-IT800+JL734","v":-12.480536420002592},{"$f":"IU800","v":20.505696869184309},"b124",null,{"$f":"JF702-JP679","v":-7.4744858218672015},{"$f":"JG702-JP680","v":81.924777747384098},"b52",null,null,null,null,null,null,null,null,null,null,null,null,null,null,null,null,null,null,null,null,null,null,null,null,null,null,null,null,null,null,null,null,null,null,null,null,null,null,null,null,null,null,null,null,null,null,null,null,null,null,null,null,null,null,null,null,null,null,null,null,null,null,null,null,null,null,null,null,null,null,null,null,null,null,null,null,null,null,null,null,null,null,null,null,null,null,null,null,null,null,null,null,null,null,null,null,null,null,null,null,null,null,null,null,null,null,null,null,null,null,null,null,"h9",{"$f":"NZ701+0.5*NZ692","v":-34.56805555555556},{"$f":"OA697","v":29.885321100917423},{"$f":"NZ706","v":-34.56805555555556},{"$f":"OA706","v":29.635321100917423},{"$f":"NY706","v":"h12"},null,null,null,null,null,null,null,null,{"$f":"OF129","v":-5.6631944444444482},{"$f":"OG129","v":20.866162978953056},"m74",null,null,null,null,null,"g5",{"$f":"OV699+0.7*(OV702-OV699)","v":-11.40222222222221},{"$f":"OW699+0.28*(OW702-OW699)","v":20.378845116028067},{"$f":"OV700","v":-11.528222222222212},{"$f":"OW700","v":20.705234754452245},{"$f":"OU700","v":"g11"}]
[null,null,null,null,null,null,null,null,null,null,null,null,null,null,null,null,null,null,null,null,null,null,null,null,null,null,null,null,null,null,null,null,null,null,null,null,null,null,null,null,null,null,null,null,{"$f":"-AS680","v":-5.4188000000000001},{"$f":"AT680","v":86.9},"قرینه25",null,{"$f":"AW708","v":-3.1145788083485377},{"$f":"AX708","v":82.06113719397068},"قرینهm9",null,{"$f":"AW716+AS725","v":-3.1145788083485377},{"$f":"AX716+AS726","v":82.06113719397068},"قرینهm9",null,null,null,null,null,{"$f":"BE693","v":-9.357763819353961},{"$f":"BF693","v":85.520546189270519},{"$f":"BG693","v":"قرینهm2"},null,{"$f":"BI716+BF702","v":-9.357763819353961},{"$f":"BJ716+BF703","v":85.520546189270519},"قرینهm2",null,null,{"$f":"SQRT(POWER((EX711-EX712),2)+POWER((EY711-EY712),2))","v":10.694384000000001},"r13",null,null,null,null,null,null,null,null,null,-4.0640999999999998,86.890838205201234,"28قرینه",null,"مولفه افقی","مولفه عمودی","اسم نقطه ",null,null,null,null,null,null,null,null,null,null,null,null,"گرد",null,null,{"$f":"CW702","v":5.3467356433291204},{"$f":"CW701","v":14.366587289577369},22,null,{"$f":"CW687+CW677","v":6.357763819353961},{"$f":"CW686+CW678","v":24.391990273031151},7,null,"نقاط  خروجی برگردان",null,null,null,null,null,null,null,null,null,null,null,null,null,null,null,{"$f":"DW714+DX694","v":6.7620948498801425},{"$f":"DX714","v":15},21,null,{"$f":"DW716","v":6.7620948498801425},{"$f":"DX716","v":15},21,null,null,null,null,null,null,null,null,null,"(1 → 34)",{"$f":"0.45*EN713","v":1.3735800000000005},null,null,{"$f":"EQ714","v":-9.1500000000000021},{"$f":"ER714","v":32.993304758906071},22,null,"(28 → 29)",{"$f":"EV701-EY677*COS(EY679+EY678)","v":5.3467356433291204},null,{"$f":"EV718","v":12.018926193430929},{"$f":"EV717","v":44.468147150245912},31,null,{"$f":"FB714","v":-24.653264356670881},{"$f":"FC714","v":36.11041286381468},29,null,"نقاط  خروجی ",null,null,null,null,null,null,null,"پایه یقه انگلیسی ",null,null,{"$f":"FO720+FO724","v":6.3249918811706287},{"$f":"FO721+FO725","v":-4.0183199467473321},"p7",null,{"$f":"FQ723+FO729","v":-3},{"$f":"FR723+FO730","v":16.636133422087781},"p3",null,{"$f":"FQ726+FO729","v":6.5671485088339203},{"$f":"FR726+FO730","v":24.287154795727581},"19'",null,{"$f":"FY706","v":3.3249918811706287},{"$f":"FZ706","v":15.981680053252667},"p7",null,{"$f":"GC716+2*(SIN(ATAN((GC713-GC712)/(GD713-GD712)))*(GD716-GD712)+COS(ATAN((GC713-GC712)/(GD713-GD712)))*(GC712-GC716))*COS(ATAN((GC713-GC712)/(GD713-GD712)))","v":-9.3249918811706287},{"$f":"GD716-2*(SIN(ATAN((GC713-GC712)/(GD713-GD712)))*(GD716-GD712)+COS(ATAN((GC713-GC712)/(GD713-GD712)))*(GC712-GC716))*SIN(ATAN((GC713-GC712)/(GD713-GD712)))","v":15.981680053252667},"p7",null,{"$f":"FU709","v":3.3249918811706287},{"$f":"FV709","v":15.981680053252667},"p7",null,{"$f":"GK716+2*(SIN(ATAN((GK713-GK712)/(GL713-GL712)))*(GL716-GL712)+COS(ATAN((GK713-GK712)/(GL713-GL712)))*(GK712-GK716))*COS(ATAN((GK713-GK712)/(GL713-GL712)))","v":-9.3249918811706287},{"$f":"GL716-2*(SIN(ATAN((GK713-GK712)/(GL713-GL712)))*(GL716-GL712)+COS(ATAN((GK713-GK712)/(GL713-GL712)))*(GK712-GK716))*SIN(ATAN((GK713-GK712)/(GL713-GL712)))","v":15.981680053252667},"p7",null,null,{"$f":"GU686","v":2.4050666911860237},{"$f":"GU689+1.5*'متغیرها '!C176","v":11.263550633752873},"9'",2.4050666911860237,11.263550633752873,"9'",null,{"$f":"HA702","v":6.6609348419804544},{"$f":"HB702","v":25.490478999140834},23,null,{"$f":"HA715","v":6.5671485088339203},{"$f":"HB715","v":24.287154795727581},"19'",null,null,null,null,null,null,null,null,null,null,null,null,null,null,null,null,null,null,null,null,null,null,null,null,null,null,null,null,null,null,null,null,null,null,null,{"$f":"SQRT(POWER(IP683-IT737,2)+POWER(IQ683-IU737,2))","v":1.692211785516224},"c12",null,{"$f":"JB689","v":5.0219397776766712},{"$f":"JC689","v":30.916165543900409},"b46",null,-0.87449006333088874,29.857149223370911,"b110","نقطه قبل از چرخش",{"$f":"IF(IY716>IY711,IF(IX716>IX711,IX711+SQRT(POWER(IX716-IX711,2)+POWER(IY716-IY711,2))*COS(ATAN((IY716-IY711)/(IX716-IX711+0.000123))+IY709),IX711-SQRT(POWER(IX716-IX711,2)+POWER(IY716-IY711,2))*COS(ATAN((IY716-IY711)/(IX711-IX716+0.000123))-IY709)),IF(IX716>IX711,IX711+SQRT(POWER(IX716-IX711,2)+POWER(IY716-IY711,2))*COS(ATAN((IY711-IY716)/(IX716-IX711+0.000123))-IY709),IX711-SQRT(POWER(IX716-IX711,2)+POWER(IY716-IY711,2))*COS(ATAN((IY711-IY716)/(IX711-IX716+0.000123))+IY709)))","v":5.9946304115196565},{"$f":"IF(IY716>IY711,IF(IX716>IX711,IY711+SQRT(POWER(IX716-IX711,2)+POWER(IY716-IY711,2))*SIN(ATAN((IY716-IY711)/(IX716-IX711+0.000123))+IY709),IY711+SQRT(POWER(IX716-IX711,2)+POWER(IY716-IY711,2))*SIN(ATAN((IY716-IY711)/(IX711-IX716+0.000123))-IY709)),IF(IX716>IX711,IY711-SQRT(POWER(IX716-IX711,2)+POWER(IY716-IY711,2))*SIN(ATAN((IY711-IY716)/(IX716-IX711+0.000123))-IY709),IY711-SQRT(POWER(IX716-IX711,2)+POWER(IY716-IY711,2))*SIN(ATAN((IY711-IY716)/(IX711-IX716+0.000123))+IY709)))","v":29.758206142580043},"b116",null,2.1675199999999997,80.895017725788037,"b97",null,null,null,"سرشانه",null,{"$f":"JF715-JP679","v":3.3596560000000006},{"$f":"JG715-JP680","v":82.096014180630434},"b96",null,null,null,null,null,null,null,null,null,null,null,null,null,null,null,null,null,null,null,null,null,null,null,null,null,null,null,null,null,null,null,null,null,null,null,null,null,null,null,null,null,null,null,null,null,null,null,null,null,null,null,null,null,null,null,null,null,null,null,null,null,null,null,null,null,null,null,null,null,null,null,null,null,null,null,null,null,null,null,null,null,null,null,null,null,null,null,null,null,null,null,null,null,null,null,null,null,null,null,null,null,null,null,null,null,null,null,null,null,null,null,null,"g11",{"$f":"NZ720+0.8*(NZ718-NZ720)","v":-35.979611111111112},{"$f":"OA718+0.6*(OA720-OA718)","v":30.460091743119257},{"$f":"NZ717","v":-35.486111111111114},{"$f":"OA717","v":30.688073394495405},{"$f":"NY717","v":"g2"},null,null,null,null,null,"g8",{"$f":"OK710-0.7*OL707*SIN(RADIANS(30)+ATAN((OK710-OK713)/(OL710-OL713+0.0001)))","v":8.2804990082532566},{"$f":"OL710-0.7*OL707*COS(RADIANS(30)+ATAN((OK710-OK713)/(OL710-OL713+0.0001)))","v":21.122441922865093},{"$f":"OK715","v":8.6923288570406143},{"$f":"OL715","v":21.199152168134141},{"$f":"OJ715","v":"g7"},null,null,null,null,null,null,null,null,{"$f":"OQ130","v":3.840277777777791},{"$f":"OR130","v":20.866162978953056},"m75"]
[null,null,null,null,null,null,null,{"$f":"C100","v":0},"شیفت افقی کل جلو",null,4.3350400000000002,83.563898736548907,30,null,{"$f":"K733+H733","v":4.3350400000000002},{"$f":"L733+H734","v":83.563898736548907},30,null,null,null,{"$f":"C100","v":0},"شیفت افقی کل جلو",null,4.3350400000000002,83.563898736548907,30,null,{"$f":"X733+U733","v":4.3350400000000002},{"$f":"Y733+U734","v":83.563898736548907},30,null,null,null,null,null,4.3350400000000002,83.563898736548907,30,null,{"$f":"AJ733+AG710","v":4.3350400000000002},{"$f":"AK733+AG711","v":83.563898736548907},30,null,null,null,null,null,null,null,null,null,null,null,null,null,null,null,null,null,null,null,null,null,null,null,null,null,null,{"$f":"BQ703+0.5*SQRT(POWER((BQ703-BQ732),2)+POWER((BR703-BR732),2))*SIN(ATAN((BQ732-BQ703)/(BR732-BR703))+RADIANS(5))","v":8.448908914256382},{"$f":"BR703+0.5*SQRT(POWER((BQ703-BQ732),2)+POWER((BR703-BR732),2))*COS(ATAN((BQ732-BQ703)/(BR732-BR703))+RADIANS(5))","v":78.317097769437254},"r4",null,{"$f":"BQ734","v":0},{"$f":"BR734","v":64.186221473097802},"r8",null,null,null,null,null,null,null,null,null,null,null,null,null,null,null,null,null,null,null,null,null,null,null,null,null,null,null,0,{"$f":"CW719","v":15.562490800885053},31,null,null,null,null,null,null,null,null,null,{"$f":"DG721","v":2.4050666911860237},{"$f":"DH721","v":51.135500332829174},{"$f":"DI721","v":4},null,null,null,null,null,null,null,null,null,null,null,null,null,null,null,null,null,null,null,null,null,null,null,null,null,"a",{"$f":"'متغیرها '!$C$736","v":0.2},null,null,{"$f":"EQ734-0.15*(ER734-ER731)","v":-33.452732151614128},{"$f":"ER731+0.7*(ER734-ER731)","v":1.8682167075326137},"32''",null,null,null,null,null,null,null,null,null,null,null,null,null,null,null,null,null,null,null,null,"(p8→p10)",{"$f":"FO717","v":1.6361334220877795},null,null,null,null,null,{"$f":"FN744+FO729","v":6.0905203068175329},{"$f":"FO744+FO730","v":7.9115152230540922},"p13",null,{"$f":"FN742+FO729","v":-0.28242658966346124},{"$f":"FO742+FO730","v":7},"p11",null,{"$f":"FY729","v":5.8579231712932653},7.5372109941678307,"p9",null,{"$f":"GC733+2*(SIN(ATAN((GC726-GC725)/(GD726-GD725)))*(GD733-GD725)+COS(ATAN((GC726-GC725)/(GD726-GD725)))*(GC725-GC733))*COS(ATAN((GC726-GC725)/(GD726-GD725)))","v":-11.857923171293265},{"$f":"GD733-2*(SIN(ATAN((GC726-GC725)/(GD726-GD725)))*(GD733-GD725)+COS(ATAN((GC726-GC725)/(GD726-GD725)))*(GC725-GC733))*SIN(ATAN((GC726-GC725)/(GD726-GD725)))","v":7.5372109941678307},"p9",null,{"$f":"FU732","v":5.8579231712932653},7.5372109941678307,"p9",null,{"$f":"GK733+2*(SIN(ATAN((GK726-GK725)/(GL726-GL725)))*(GL733-GL725)+COS(ATAN((GK726-GK725)/(GL726-GL725)))*(GK725-GK733))*COS(ATAN((GK726-GK725)/(GL726-GL725)))","v":-11.857923171293265},{"$f":"GL733-2*(SIN(ATAN((GK726-GK725)/(GL726-GL725)))*(GL733-GL725)+COS(ATAN((GK726-GK725)/(GL726-GL725)))*(GK725-GK733))*SIN(ATAN((GK726-GK725)/(GL726-GL725)))","v":7.5372109941678307},"p9",null,null,null,null,null,null,null,null,null,null,null,null,null,null,null,null,null,null,null,null,null,null,null,null,null,null,null,null,null,null,null,null,null,null,null,null,null,null,null,null,null,null,null,null,null,null,null,null,null,null,null,{"$f":"0.3*IQ707*IQ723","v":0.642174989246039},"c30",null,{"$f":"JB692","v":4.5955486144541702},29.455911571899051,"b63",null,"b18",null,null,"فاصله عمود از نقطه اصلی :",{"$f":"IT692","v":3.6241646250325781},{"$f":"IU692","v":26.721438080702672},"b22",null,{"$f":"-IT767+JH720","v":-2.1675199999999997},80.895017725788037,"b97",null,{"$f":"IT695","v":-3},{"$f":"IU695","v":14.443324151306983},"b25",null,{"$f":"JF733-JP679","v":-2.1675199999999997},{"$f":"JG733-JP680","v":80.895017725788037},"b97",null,null,null,null,null,null,null,null,null,null,null,null,null,null,null,null,null,null,null,null,null,null,null,null,null,null,null,null,null,null,null,null,null,null,null,null,null,null,null,null,null,null,null,null,null,null,null,null,null,null,null,null,null,null,null,null,null,null,null,null,null,null,null,null,null,null,null,null,null,null,null,null,null,null,null,null,null,null,null,null,null,null,null,null,null,null,null,null,null,null,null,null,null,null,null,null,null,null,null,null,null,null,null,null,null,null,null,null,null,null,null,null,null,null,null,{"$f":"NU120","v":-35},{"$f":"NV120","v":30.688073394495405},"w73",null,null,null,null,null,"ارتفاع هر رج",{"$f":"OG39","v":0.5666486778197517},"w11",null,null,null,null,null,null,null,null,"بزرگی فلش دانه",{"$f":"OR46","v":0.4},"f10",{"$f":"OV740","v":3.4270833333333464},{"$f":"OW740","v":22.032811656772811},{"$f":"OU740","v":"f8"}]
[null,null,null,null,null,null,null,null,null,null,null,null,null,null,null,null,null,null,null,null,null,null,null,null,null,null,null,null,null,null,null,null,null,null,null,null,null,null,null,null,null,null,null,null,null,null,null,null,null,null,null,null,null,null,null,null,null,null,null,null,null,null,null,null,null,null,null,null,{"$f":"BQ700","v":5.4188000000000001},{"$f":"BR700","v":86.9},25,null,null,null,null,null,null,null,null,null,null,null,null,null,null,null,null,null,null,null,null,null,null,null,null,null,null,null,null,null,null,null,null,null,null,null,null,null,null,null,null,null,null,null,null,null,null,null,null,null,null,null,null,null,null,null,null,null,null,null,null,null,null,null,null,null,null,null,null,null,null,null,null,null,null,null,{"$f":"EM742","v":-4.0500000000000007},{"$f":"EN742","v":45.998304758906073},42,null,null,null,null,null,null,null,null,null,null,null,null,null,null,null,null,null,null,null,null,null,null,null,null,null,null,null,{"$f":"GO688","v":-2.4066489157050022},27.95039828695381,{"$f":"GQ688","v":27},null,-8.1832687774959005,25.550425220886176,{"$f":"GI691","v":28},null,null,null,null,null,null,null,null,null,null,null,null,null,null,null,null,null,null,null,null,null,null,null,null,null,{"$f":"HU707","v":-11.328027179314784},24.050096325379833,19,null,{"$f":"HM707","v":-11.352835998986414},24.14340635988664,19,null,null,null,null,null,null,null,null,null,null,null,null,null,null,null,null,null,null,null,null,null,null,null,null,null,null,null,null,null,null,null,null,null,null,null,null,null,null,5.9946304115196565,29.758206142580043,"b81",null,"نقطه اصلی",{"$f":"IX749","v":"b21"},{"$f":"IT691","v":2.3464870036638459},{"$f":"IU691","v":28.595141117547804},null,null,null,null,{"$f":"-IT709+JH720","v":-1.795129522236254},{"$f":"IU709","v":77.175082647587701},"b39",null,{"$f":"-IT780+JL734","v":-9.0685783872106427},27.762577901278547,"b104",null,{"$f":"JF751-JP679","v":-1.795129522236254},{"$f":"JG751-JP680","v":77.175082647587701},"b39",null,null,null,null,null,null,null,null,null,null,null,null,null,null,null,null,null,null,null,null,null,null,null,null,null,null,null,null,null,null,null,null,null,null,null,null,null,null,null,null,null,null,null,null,null,null,null,null,null,null,null,null,null,null,null,null,null,null,null,null,null,null,null,null,null,null,null,null,null,null,null,null,null,null,null,null,null,null,null,null,null,null,null,null,null,null,null,null,null,null,null,null,null,null,null,null,null,null,null,null,null,null,null,null,null,null,null,null,null,null,null,null,"h13",{"$f":"NZ747","v":-14.452083333333334},{"$f":"OA748","v":30.938073394495405},{"$f":"NZ743","v":-3.3541666666666679},{"$f":"OA743","v":30.688073394495405},{"$f":"NY743","v":"w74"},null,null,null,null,null,"m78",{"$f":"OF133","v":-28.388888888888879},{"$f":"OG133","v":21.43281165677281},{"$f":"OK756","v":-28.756388888888878},{"$f":"OL756","v":21.920129519697799},{"$f":"OJ756","v":"g6"}]
[null,null,null,null,null,null,null,null,null,null,null,null,null,null,null,null,null,null,null,null,null,null,null,null,null,null,null,null,null,null,null,null,null,null,null,null,null,null,null,null,null,null,null,null,null,null,null,null,null,null,null,null,null,null,null,null,null,null,null,null,null,null,null,null,null,null,null,null,{"$f":"-BQ751","v":-5.4188000000000001},{"$f":"BR751","v":86.9},25,null,{"$f":"BQ737","v":0},{"$f":"BR737","v":69.533413473097809},"r14",null,null,null,null,null,null,null,null,null,null,null,null,null,null,null,null,null,null,null,null,null,null,null,null,null,null,null,null,null,null,null,null,null,null,null,null,null,null,null,null,null,null,null,null,null,null,null,null,null,null,null,null,null,null,null,null,null,null,null,null,null,null,null,null,null,null,null,null,null,null,null,null,null,null,null,null,null,null,null,null,null,null,null,null,null,null,null,null,null,null,null,null,null,null,null,null,null,null,null,null,null,null,null,null,null,null,null,null,null,null,null,null,null,null,null,null,null,null,null,null,null,null,null,null,null,null,null,null,null,null,null,null,null,null,null,null,null,null,null,null,null,null,null,null,null,null,null,null,null,null,null,null,null,null,null,null,null,null,null,null,null,null,null,null,null,null,null,null,null,null,null,null,null,null,null,null,null,null,{"$f":"IF(IT706>IT736,IT767,IT736)","v":1.0837599999999998},{"$f":"IF(IT706>IT736,IU767,IU736)","v":80.42796354890487},"b98",null,"نقطه سمت راست","b79",{"$f":"IT749","v":3.8065568310907478},{"$f":"IU749","v":25.039095627511042},null,null,null,null,{"$f":"IT806","v":8.7611798200338011},{"$f":"IU806","v":86.929506537342405},"b120",null,5.9946304115196565,29.758206142580043,"b117",null,"مولفه افقی","مولفه عمودی","اسم نقطه ",null,null,null,null,null,null,null,null,null,null,null,null,null,null,null,null,null,null,null,null,null,null,null,null,null,null,null,null,null,null,null,null,null,null,null,null,null,null,null,null,null,null,null,null,null,null,null,null,null,null,null,null,null,null,null,null,null,null,null,null,null,null,null,null,null,null,null,null,null,null,null,null,null,null,null,null,null,null,null,null,null,null,null,null,null,null,null,null,null,null,null,null,null,null,null,null,null,null,null,null,null,null,null,null,null,null,null,null,null,null,null,null,"h13",{"$f":"NZ764","v":-22.588541666666668},{"$f":"OA765","v":3.6444954128440368},{"$f":"NZ762","v":-27.088541666666668},{"$f":"OA762","v":3.3944954128440368},{"$f":"NY762","v":"h5"},null,null,null,null,null,null,null,null,null,null,null,null,null,null,null,null,"g6",{"$f":"OV767","v":-30.822361111111121},{"$f":"OW765-OW767+OW763","v":21.920129519697799}]
[null,null,null,null,null,null,null,null,null,null,null,null,null,null,null,null,null,null,null,null,null,null,null,null,null,null,null,null,null,null,null,null,null,null,null,null,null,null,null,null,null,null,null,null,null,null,null,null,null,null,null,null,null,null,null,null,null,null,null,null,null,null,null,null,null,null,null,null,null,null,null,null,{"$f":"-BU769","v":-16.041575999999999},{"$f":"BV769","v":69.533413473097809},"r16",null,null,null,null,null,null,null,null,null,null,null,null,null,null,null,null,null,null,null,null,null,null,null,null,null,null,null,null,null,null,null,null,null,null,null,null,null,null,null,null,null,null,null,null,null,null,null,null,null,null,null,null,null,null,null,null,null,null,null,null,null,null,null,null,null,null,null,null,null,null,null,null,null,null,null,null,null,null,null,null,null,null,null,null,null,null,null,null,null,null,null,null,null,null,null,null,null,null,null,null,null,-10.133069498843538,23.779115346740138,{"$f":"GQ708","v":30},null,-12.090520306817533,7.9115152230540922,"p13",null,null,null,null,null,null,null,null,null,null,null,null,null,null,null,null,null,null,null,null,null,null,null,null,null,null,null,null,null,null,null,null,null,null,null,null,null,null,null,null,null,null,null,null,null,null,null,null,null,null,null,null,null,null,null,null,null,null,null,null,null,null,null,null,null,null,null,null,null,null,{"$f":"IT762-IQ687+IQ698","v":-0.87449006333088874},{"$f":"IU762-IQ688+IQ699+2*(IQ685-IU762)","v":29.857149223370911},"b110",null,null,null,"فاصله تا نقطه اصلی",{"$f":"IQ714","v":3.5414061906950685},null,null,null,null,null,null,null,null,{"$f":"-IT711+JL734","v":-11.653935024157374},{"$f":"IU711","v":29.860978988829494},"b41",null,null,null,null,null,null,null,null,null,null,null,null,null,null,null,null,null,null,null,null,null,null,null,null,null,null,null,null,null,null,null,null,null,null,null,null,null,null,null,null,null,null,null,null,null,null,null,null,null,null,null,null,null,null,null,null,null,null,null,null,null,null,null,null,null,null,null,null,null,null,null,null,null,null,null,null,null,null,null,null,null,null,null,null,null,null,null,null,null,null,null,null,null,null,null,null,null,null,null,null,null,null,null,null,null,null,null,null,null,null,null,null,null,null,null,null,null,null,null,null,null,null,null,null,null,null,null,"g4",{"$f":"OK783+OK781*OK779/40","v":7.8774305555555495},{"$f":"OL783+0.5*OK780","v":22.282784673502437},{"$f":"OK790","v":7.6607073415865852},{"$f":"OL790","v":22.255739278504596},{"$f":"OJ790","v":"g8"},null,null,null,null,null,"m84",{"$f":"OQ139","v":-30.041666666666679},{"$f":"OR139","v":21.999460334592563},{"$f":"OV787","v":-30.211661270012605},{"$f":"OW787","v":22.226119805720462},{"$f":"OU787","v":"f6"}]
[null,null,null,null,null,null,null,null,null,null,null,null,null,null,null,null,null,null,null,null,null,null,null,null,null,null,null,null,null,null,null,null,null,null,null,null,null,null,null,null,null,null,null,null,null,null,null,null,null,null,null,null,null,null,null,null,null,null,null,null,null,null,null,null,null,null,null,null,null,null,null,null,null,null,null,null,null,null,null,null,null,null,null,null,null,null,null,null,null,null,null,null,null,null,null,null,null,null,null,null,null,null,null,null,null,null,null,null,null,null,null,null,null,null,null,null,null,null,null,null,null,null,null,null,null,null,null,null,null,null,null,null,null,null,null,null,null,null,null,null,null,null,null,null,null,null,null,null,null,null,null,null,null,null,null,null,null,null,null,null,null,null,null,null,null,null,null,null,null,null,null,null,null,null,null,null,null,null,null,null,null,null,null,null,null,null,null,null,null,null,null,null,null,null,null,null,null,null,null,null,null,null,null,null,null,null,null,null,null,null,null,null,null,null,null,null,null,null,null,null,null,null,null,null,null,null,null,null,null,null,null,null,null,null,null,null,null,null,null,null,null,null,null,null,null,null,null,null,null,null,null,null,null,{"$f":"-IT808+IT811","v":-5.7893178958637881},{"$f":"IU808","v":83.797711318897399},"b'122",null,null,"اسم نقطه","مولفه افقی","مولفه عمودی",null,null,null,null,null,null,null,null,null,null,null,null,null,null,null,null,null,null,null,null,null,null,null,null,null,null,null,null,null,null,null,null,null,null,null,null,null,null,null,null,null,null,null,null,null,null,null,null,null,null,null,null,null,null,null,null,null,null,null,null,null,null,null,null,null,null,null,null,null,null,null,null,null,null,null,null,null,null,null,null,null,null,null,null,null,null,null,null,null,null,null,null,null,null,null,null,null,null,null,null,null,null,null,null,null,null,null,null,null,null,null,null,null,null,null,null,null,null,null,null,null,null,null,null,null,null,null,null,null,null,null,null,null,null,null,null,null,null,"ارتفاع نیم دایره",{"$f":"OG49*OG10","v":5.0998381003777649},"بزرگی فلش",{"$f":"OK817","v":-26.322916666666657},{"$f":"OL817","v":22.566109012412316},{"$f":"OJ817","v":"m87"},null,null,null,null,null,"m87",{"$f":"OQ142","v":-29.421875000000011},{"$f":"OR142","v":22.566109012412316},{"$f":"OV821","v":-15.299045138888886},{"$f":"OW821","v":22.816109012412316},{"$f":"OU821","v":"h10"}]
[null,null,null,null,null,null,null,null,null,null,null,null,null,null,null,null,null,null,null,null,null,null,null,null,null,null,null,null,null,null,null,null,null,null,null,null,null,null,null,null,null,null,null,null,null,null,null,null,null,null,null,null,null,null,null,null,null,null,null,null,null,null,null,null,null,null,null,null,null,null,null,null,null,null,null,null,null,null,null,null,null,null,null,null,null,null,null,null,null,null,null,null,null,null,null,null,null,null,null,null,null,null,null,null,null,null,null,null,null,null,null,null,null,null,null,null,null,null,null,null,null,null,null,null,null,null,null,null,null,null,null,null,null,null,null,null,null,null,null,null,null,null,null,null,null,null,null,null,null,null,null,null,null,null,null,null,null,null,null,null,null,null,null,null,null,null,null,null,null,null,null,null,null,null,null,null,null,null,null,null,null,null,null,null,null,null,null,null,null,null,null,null,null,null,null,null,null,null,null,null,null,null,null,null,null,null,null,null,null,null,null,null,null,null,null,null,null,null,null,null,null,null,null,null,null,null,null,null,null,null,null,null,null,null,null,null,null,null,null,null,null,null,null,null,null,null,null,null,null,null,null,null,null,null,null,null,null,"b68",null,null,"فاصله عمود از نقطه اصلی :",null,null,null,null,null,null,null,null,null,null,null,null,null,null,null,null,null,null,null,null,null,null,null,null,null,null,null,null,null,null,null,null,null,null,null,null,null,null,null,null,null,null,null,null,null,null,null,null,null,null,null,null,null,null,null,null,null,null,null,null,null,null,null,null,null,null,null,null,null,null,null,null,null,null,null,null,null,null,null,null,null,null,null,null,null,null,null,null,null,null,null,null,null,null,null,null,null,null,null,null,null,null,null,null,null,null,null,null,null,null,null,null,null,null,null,null,null,null,null,null,null,null,null,null,null,null,null,null,null,null,null,null,null,null,null,null,null,null,"g5",{"$f":"OK817+0.7*(OK820-OK817)","v":-26.690416666666657},{"$f":"OL817+0.28*(OL820-OL817)","v":23.280086346465204},{"$f":"OK818","v":-26.816416666666655},{"$f":"OL818","v":26.217593092282794},{"$f":"OJ818","v":"g11"},null,null,null,null,null,"h10",{"$f":"OV819","v":-15.299045138888886},{"$f":"OW819+0.5*OV810","v":22.816109012412316},{"$f":"OV824","v":-10.799045138888886},{"$f":"OW824","v":22.816109012412316},{"$f":"OU824","v":"h13"}]
[null,null,null,null,null,null,null,null,null,null,null,null,null,null,null,null,null,null,null,null,null,null,null,null,null,null,null,null,null,null,null,null,null,null,null,null,null,null,null,null,null,null,null,null,null,null,null,null,null,null,null,null,null,null,null,null,null,null,null,null,null,null,null,null,null,null,null,null,null,null,null,null,null,null,null,null,null,null,null,null,null,null,null,null,null,null,null,null,null,null,null,null,null,null,null,null,null,null,null,null,null,null,null,null,null,null,null,null,null,null,null,null,null,null,null,null,null,null,null,null,null,null,null,null,null,null,null,null,null,null,null,null,null,null,null,null,null,null,null,null,null,null,null,null,null,null,null,null,null,null,null,null,null,null,null,null,null,null,null,null,null,null,null,null,null,null,null,null,null,null,null,null,null,null,null,null,null,null,null,null,null,null,null,null,null,null,null,null,null,null,null,null,null,null,null,null,null,null,null,null,null,null,null,null,null,null,null,null,null,null,null,null,null,null,null,null,null,null,null,null,null,null,null,null,null,null,null,null,null,null,null,null,null,null,null,null,null,null,null,null,null,null,null,null,null,null,null,null,null,null,null,null,null,null,null,null,null,null,null,null,null,null,null,null,null,null,null,null,null,null,null,null,null,null,null,null,null,null,null,null,null,null,null,null,null,null,null,null,null,null,null,null,null,null,null,null,null,null,null,null,null,null,null,null,null,null,null,null,null,null,null,null,null,null,null,null,null,null,null,null,null,null,null,null,null,null,null,null,null,null,null,null,null,null,null,null,null,null,null,null,null,null,null,null,null,null,null,null,null,null,null,null,null,null,null,null,null,null,null,null,null,null,null,null,null,null,null,null,null,null,null,null,null,null,null,null,null,null,null,null,null,null,null,null,null,null,null,null,null,null,null,null,null,null,null,null,null,null,null,"نقطه ورودی سر فلش","مولفه افقی","مولفه عمودی",{"$f":"OK843","v":-25.909722222222214},{"$f":"OL843","v":28.26594711279008},{"$f":"OJ843","v":"f8"},null,null,null,null,null,"g8",{"$f":"OV833-0.7*OW830*SIN(RADIANS(30)-ATAN((OV833-OV836)/(OW833-OW836+0.0001)))","v":-30.043094167069295},{"$f":"OW833-0.7*OW830*COS(RADIANS(30)-ATAN((OV833-OV836)/(OW833-OW836+0.0001)))","v":26.016774223423479},{"$f":"OV838","v":-29.779167533104438},{"$f":"OW838","v":26.02243180081161},{"$f":"OU838","v":"g7"}]
[null,null,null,null,null,null,null,null,null,null,null,null,null,null,null,null,null,null,null,null,null,null,null,null,null,null,null,null,null,null,null,null,null,null,null,null,null,null,null,null,null,null,null,null,null,null,null,null,null,null,null,null,null,null,null,null,null,null,null,null,null,null,null,null,null,null,null,null,null,null,null,null,null,null,null,null,null,null,null,null,null,null,null,null,null,null,null,null,null,null,null,null,null,null,null,null,null,null,null,null,null,null,null,null,null,null,null,null,null,null,null,null,null,null,null,null,null,null,null,null,null,null,null,null,null,null,null,null,null,null,null,null,null,null,null,null,null,null,null,null,null,null,null,null,null,null,null,null,null,null,null,null,null,null,null,null,null,null,null,null,null,null,null,null,null,null,null,null,null,null,null,null,null,null,null,null,null,null,null,null,null,null,null,null,null,null,null,null,null,null,null,null,null,null,null,null,null,null,null,null,null,null,null,null,null,null,null,null,null,null,null,null,null,null,null,null,null,null,null,null,null,null,null,null,null,null,null,null,null,null,null,null,null,null,null,null,null,null,null,null,null,null,null,null,null,null,null,null,null,null,null,null,null,null,null,null,null,null,null,null,null,null,null,null,null,null,null,null,null,null,null,null,null,null,null,null,null,null,null,null,null,null,null,null,null,null,null,null,null,null,null,null,null,null,null,null,null,null,null,null,null,null,null,null,null,null,null,null,null,null,null,null,null,null,null,null,null,null,null,null,null,null,null,null,null,null,null,null,null,null,null,null,null,null,null,null,null,null,null,null,null,null,null,null,null,null,null,null,null,null,null,null,null,null,null,null,null,null,null,null,null,null,null,null,null,null,null,null,null,null,null,null,null,null,null,null,null,null,null,null,null,null,null,null,null,null,null,null,null,null,null,null,null,null,null,null,null,null,null,"ارتفاع نیم دایره",{"$f":"OG49","v":0.5666486778197517},"بزرگی فلش",{"$f":"OK859","v":5.9062499999999947},{"$f":"OL859","v":27.665947112790079},{"$f":"OJ859","v":"m89"},null,null,null,null,null,"f6",{"$f":"OV855-OV852*OV851*OV853","v":-29.178675158901495},{"$f":"OW858-OV851*OV853","v":28.039287641662181}]
[null,null,null,null,null,null,null,null,null,null,null,null,null,null,null,null,null,null,null,null,null,null,null,null,null,null,null,null,null,null,null,null,null,null,null,null,null,null,null,null,null,null,null,null,null,null,null,null,null,null,null,null,null,null,null,null,null,null,null,null,null,null,null,null,null,null,null,null,null,null,null,null,null,null,null,null,null,null,null,null,null,null,null,null,null,null,null,null,null,null,null,null,null,null,null,null,null,null,null,null,null,null,null,null,null,null,null,null,null,null,null,null,null,null,null,null,null,null,null,null,null,null,null,null,null,null,null,null,null,null,null,null,null,null,null,null,null,null,null,null,null,null,null,null,null,null,null,null,null,null,null,null,null,null,null,null,null,null,null,null,null,null,null,null,null,null,null,null,null,null,null,null,null,null,null,null,null,null,null,null,null,null,null,null,null,null,null,null,null,null,null,null,null,null,null,null,null,null,null,null,null,null,null,null,null,null,null,null,null,null,null,null,null,null,null,null,null,null,null,null,null,null,null,null,null,null,null,null,null,null,null,null,null,null,null,null,null,null,null,null,null,null,null,null,null,null,null,null,null,null,null,null,null,null,null,null,null,null,null,null,null,null,null,null,null,null,null,null,null,null,null,null,null,null,null,null,null,null,null,null,null,null,null,null,null,null,null,null,null,null,null,null,null,null,null,null,null,null,null,null,null,null,null,null,null,null,null,null,null,null,null,null,null,null,null,null,null,null,null,null,null,null,null,null,null,null,null,null,null,null,null,null,null,null,null,null,null,null,null,null,null,null,null,null,null,null,null,null,null,null,null,null,null,null,null,null,null,null,null,null,null,null,null,null,null,null,null,null,null,null,null,null,null,null,null,null,null,null,null,null,null,null,null,null,null,null,null,null,null,null,null,null,null,null,null,null,null,null,null,null,null,null,{"$f":"OK883","v":-12.664930555555557},{"$f":"OL883","v":27.982595790609832},{"$f":"OJ883","v":"h11"},null,null,null,null,null,"نقطه شروع انحنا","مولفه افقی","مولفه عمودی",{"$f":"OV877","v":3.3322916666666837},{"$f":"OW877","v":27.949271451699953},{"$f":"OU877","v":"g4"}]
[null,null,null,null,null,null,null,null,null,null,null,null,null,null,null,null,null,null,null,null,null,null,null,null,null,null,null,null,null,null,null,null,null,null,null,null,null,null,null,null,null,null,null,null,null,null,null,null,null,null,null,null,null,null,null,null,null,null,null,null,null,null,null,null,null,null,null,null,null,null,null,null,null,null,null,null,null,null,null,null,null,null,null,null,null,null,null,null,null,null,null,null,null,null,null,null,null,null,null,null,null,null,null,null,null,null,null,null,null,null,null,null,null,null,null,null,null,null,null,null,null,null,null,null,null,null,null,null,null,null,null,null,null,null,null,null,null,null,null,null,null,null,null,null,null,null,null,null,null,null,null,null,null,null,null,null,null,null,null,null,null,null,null,null,null,null,null,null,null,null,null,null,null,null,null,null,null,null,null,null,null,null,null,null,null,null,null,null,null,null,null,null,null,null,null,null,null,null,null,null,null,null,null,null,null,null,null,null,null,null,null,null,null,null,null,null,null,null,null,null,null,null,null,null,null,null,null,null,null,null,null,null,null,null,null,null,null,null,null,null,null,null,null,null,null,null,null,null,null,null,null,null,null,null,null,null,null,null,null,null,null,null,null,null,null,null,null,null,null,null,null,null,null,null,null,null,null,null,null,null,null,null,null,null,null,null,null,null,null,null,null,null,null,null,null,null,null,null,null,null,null,null,null,null,null,null,null,null,null,null,null,null,null,null,null,null,null,null,null,null,null,null,null,null,null,null,null,null,null,null,null,null,null,null,null,null,null,null,null,null,null,null,null,null,null,null,null,null,null,null,null,null,null,null,null,null,null,null,null,null,null,null,null,null,null,null,null,null,null,null,null,null,null,null,null,null,null,null,null,null,null,null,null,null,null,null,null,null,null,null,null,null,null,null,null,null,null,null,null,"پهنای نیم دایره",{"$f":"OG40","v":0.5},{"$f":"OG51","v":0.33998920669185106},{"$f":"OK897","v":-27.103611111111107},{"$f":"OL897","v":28.232595790609832},{"$f":"OJ897","v":"g5"},null,null,null,null,null,"نقطه پایان رج(راست)","مولفه افقی","مولفه عمودی",{"$f":"OV900","v":-11.263888888888886},{"$f":"OW900","v":28.482595790609832},{"$f":"OU900","v":"h13"}]
[null,null,null,null,null,null,null,null,null,null,null,null,null,null,null,null,null,null,null,null,null,null,null,null,null,null,null,null,null,null,null,null,null,null,null,null,null,null,null,null,null,null,null,null,null,null,null,null,null,null,null,null,null,null,null,null,null,null,null,null,null,null,null,null,null,null,null,null,null,null,null,null,null,null,null,null,null,null,null,null,null,null,null,null,null,null,null,null,null,null,null,null,null,null,null,null,null,null,null,null,null,null,null,null,null,null,null,null,null,null,null,null,null,null,null,null,null,null,null,null,null,null,null,null,null,null,null,null,null,null,null,null,null,null,null,null,null,null,null,null,null,null,null,null,null,null,null,null,null,null,null,null,null,null,null,null,null,null,null,null,null,null,null,null,null,null,null,null,null,null,null,null,null,null,null,null,null,null,null,null,null,null,null,null,null,null,null,null,null,null,null,null,null,null,null,null,null,null,null,null,null,null,null,null,null,null,null,null,null,null,null,null,null,null,null,null,null,null,null,null,null,null,null,null,null,null,null,null,null,null,null,null,null,null,null,null,null,null,null,null,null,null,null,null,null,null,null,null,null,null,null,null,null,null,null,null,null,null,null,null,null,null,null,null,null,null,null,null,null,null,null,null,null,null,null,null,null,null,null,null,null,null,null,null,null,null,null,null,null,null,null,null,null,null,null,null,null,null,null,null,null,null,null,null,null,null,null,null,null,null,null,null,null,null,null,null,null,null,null,null,null,null,null,null,null,null,null,null,null,null,null,null,null,null,null,null,null,null,null,null,null,null,null,null,null,null,null,null,null,null,null,null,null,null,null,null,null,null,null,null,null,null,null,null,null,null,null,null,null,null,null,null,null,null,null,null,null,null,null,null,null,null,null,null,null,null,null,null,null,null,null,null,null,null,null,null,null,null,null,"f3",{"$f":"OK906","v":-23.791204484469624},{"$f":"OL905+OK902*OK903","v":28.402590393955759},{"$f":"OK906","v":-23.791204484469624},{"$f":"OL906","v":28.062601187263905},{"$f":"OJ906","v":"f2"},null,null,null,null,null,"نقطه شروع انحنا","مولفه افقی","مولفه عمودی",{"$f":"OV911","v":-30.360069444444456},{"$f":"OW911","v":28.232595790609832},{"$f":"OU911","v":"g4"}]
[null,null,null,null,null,null,null,null,null,null,null,null,null,null,null,null,null,null,null,null,null,null,null,null,null,null,null,null,null,null,null,null,null,null,null,null,null,null,null,null,null,null,null,null,null,null,null,null,null,null,null,null,null,null,null,null,null,null,null,null,null,null,null,null,null,null,null,null,null,null,null,null,null,null,null,null,null,null,null,null,null,null,null,null,null,null,null,null,null,null,null,null,null,null,null,null,null,null,null,null,null,null,null,null,null,null,null,null,null,null,null,null,null,null,null,null,null,null,null,null,null,null,null,null,null,null,null,null,null,null,null,null,null,null,null,null,null,null,null,null,null,null,null,null,null,null,null,null,null,null,null,null,null,null,null,null,null,null,null,null,null,null,null,null,null,null,null,null,null,null,null,null,null,null,null,null,null,null,null,null,null,null,null,null,null,null,null,null,null,null,null,null,null,null,null,null,null,null,null,null,null,null,null,null,null,null,null,null,null,null,null,null,null,null,null,null,null,null,null,null,null,null,null,null,null,null,null,null,null,null,null,null,null,null,null,null,null,null,null,null,null,null,null,null,null,null,null,null,null,null,null,null,null,null,null,null,null,null,null,null,null,null,null,null,null,null,null,null,null,null,null,null,null,null,null,null,null,null,null,null,null,null,null,null,null,null,null,null,null,null,null,null,null,null,null,null,null,null,null,null,null,null,null,null,null,null,null,null,null,null,null,null,null,null,null,null,null,null,null,null,null,null,null,null,null,null,null,null,null,null,null,null,null,null,null,null,null,null,null,null,null,null,null,null,null,null,null,null,null,null,null,null,null,null,null,null,null,null,null,null,null,null,null,null,null,null,null,null,null,null,null,null,null,null,null,null,null,null,null,null,null,null,null,null,null,null,null,null,null,null,null,null,null,null,null,null,null,null,null,"g2",{"$f":"OK925","v":6.1128472222222223},{"$f":"OL925+OK922","v":28.799244468429585},null,null,null,null,null,null,null,null,"بزرگی فلش دانه",{"$f":"OR46","v":0.4},"f10",{"$f":"OV934","v":-29.421875000000014},{"$f":"OW934","v":28.832595790609833},{"$f":"OU934","v":"f8"}]
[null,null,null,null,null,null,null,null,null,null,null,null,null,null,null,null,null,null,null,null,null,null,null,null,null,null,null,null,null,null,null,null,null,null,null,null,null,null,null,null,null,null,null,null,null,null,null,null,null,null,null,null,null,null,null,null,null,null,null,null,null,null,null,null,null,null,null,null,null,null,null,null,null,null,null,null,null,null,null,null,null,null,null,null,null,null,null,null,null,null,null,null,null,null,null,null,null,null,null,null,null,null,null,null,null,null,null,null,null,null,null,null,null,null,null,null,null,null,null,null,null,null,null,null,null,null,null,null,null,null,null,null,null,null,null,null,null,null,null,null,null,null,null,null,null,null,null,null,null,null,null,null,null,null,null,null,null,null,null,null,null,null,null,null,null,null,null,null,null,null,null,null,null,null,null,null,null,null,null,null,null,null,null,null,null,null,null,null,null,null,null,null,null,null,null,null,null,null,null,null,null,null,null,null,null,null,null,null,null,null,null,null,null,null,null,null,null,null,null,null,null,null,null,null,null,null,null,null,null,null,null,null,null,null,null,null,null,null,null,null,null,null,null,null,null,null,null,null,null,null,null,null,null,null,null,null,null,null,null,null,null,null,null,null,null,null,null,null,null,null,null,null,null,null,null,null,null,null,null,null,null,null,null,null,null,null,null,null,null,null,null,null,null,null,null,null,null,null,null,null,null,null,null,null,null,null,null,null,null,null,null,null,null,null,null,null,null,null,null,null,null,null,null,null,null,null,null,null,null,null,null,null,null,null,null,null,null,null,null,null,null,null,null,null,null,null,null,null,null,null,null,null,null,null,null,null,null,null,null,null,null,null,null,null,null,null,null,null,null,null,null,null,null,null,null,null,null,null,null,null,null,null,null,null,null,null,null,null,null,null,null,null,null,null,null,null,null,null,null,"نقاط خروجی","مولفه افقی","مولفه عمودی",{"$f":"OK949","v":-12.251736111111107},{"$f":"OL949","v":28.549244468429585},{"$f":"OJ949","v":"h11"},null,null,null,null,null,"g5",{"$f":"OV940+0.7*(OV943-OV940)","v":3.3813888888889077},{"$f":"OW940+0.28*(OW943-OW940)","v":28.311926605504595},{"$f":"OV941","v":3.507388888888908},{"$f":"OW941","v":28.638316243928774},{"$f":"OU941","v":"g11"}]
[null,null,null,null,null,null,null,null,null,null,null,null,null,null,null,null,null,null,null,null,null,null,null,null,null,null,null,null,null,null,null,null,null,null,null,null,null,null,null,null,null,null,null,null,null,null,null,null,null,null,null,null,null,null,null,null,null,null,null,null,null,null,null,null,null,null,null,null,null,null,null,null,null,null,null,null,null,null,null,null,null,null,null,null,null,null,null,null,null,null,null,null,null,null,null,null,null,null,null,null,null,null,null,null,null,null,null,null,null,null,null,null,null,null,null,null,null,null,null,null,null,null,null,null,null,null,null,null,null,null,null,null,null,null,null,null,null,null,null,null,null,null,null,null,null,null,null,null,null,null,null,null,null,null,null,null,null,null,null,null,null,null,null,null,null,null,null,null,null,null,null,null,null,null,null,null,null,null,null,null,null,null,null,null,null,null,null,null,null,null,null,null,null,null,null,null,null,null,null,null,null,null,null,null,null,null,null,null,null,null,null,null,null,null,null,null,null,null,null,null,null,null,null,null,null,null,null,null,null,null,null,null,null,null,null,null,null,null,null,null,null,null,null,null,null,null,null,null,null,null,null,null,null,null,null,null,null,null,null,null,null,null,null,null,null,null,null,null,null,null,null,null,null,null,null,null,null,null,null,null,null,null,null,null,null,null,null,null,null,null,null,null,null,null,null,null,null,null,null,null,null,null,null,null,null,null,null,null,null,null,null,null,null,null,null,null,null,null,null,null,null,null,null,null,null,null,null,null,null,null,null,null,null,null,null,null,null,null,null,null,null,null,null,null,null,null,null,null,null,null,null,null,null,null,null,null,null,null,null,null,null,null,null,null,null,null,null,null,null,null,null,null,null,null,null,null,null,null,null,null,null,null,null,null,null,null,null,null,null,null,null,null,null,null,null,null,null,null,null,null,null,null,null,null,null,null,null,null,null,null,"h8",{"$f":"OV960-0.5*OV951","v":-15.350694444444439},{"$f":"OW956","v":28.799244468429585}]
[null,null,null,null,null,null,null,null,null,null,null,null,null,null,null,null,null,null,null,null,null,null,null,null,null,null,null,null,null,null,null,null,null,null,null,null,null,null,null,null,null,null,null,null,null,null,null,null,null,null,null,null,null,null,null,null,null,null,null,null,null,null,null,null,null,null,null,null,null,null,null,null,null,null,null,null,null,null,null,null,null,null,null,null,null,null,null,null,null,null,null,null,null,null,null,null,null,null,null,null,null,null,null,null,null,null,null,null,null,null,null,null,null,null,null,null,null,null,null,null,null,null,null,null,null,null,null,null,null,null,null,null,null,null,null,null,null,null,null,null,null,null,null,null,null,null,null,null,null,null,null,null,null,null,null,null,null,null,null,null,null,null,null,null,null,null,null,null,null,null,null,null,null,null,null,null,null,null,null,null,null,null,null,null,null,null,null,null,null,null,null,null,null,null,null,null,null,null,null,null,null,null,null,null,null,null,null,null,null,null,null,null,null,null,null,null,null,null,null,null,null,null,null,null,null,null,null,null,null,null,null,null,null,null,null,null,null,null,null,null,null,null,null,null,null,null,null,null,null,null,null,null,null,null,null,null,null,null,null,null,null,null,null,null,null,null,null,null,null,null,null,null,null,null,null,null,null,null,null,null,null,null,null,null,null,null,null,null,null,null,null,null,null,null,null,null,null,null,null,null,null,null,null,null,null,null,null,null,null,null,null,null,null,null,null,null,null,null,null,null,null,null,null,null,null,null,null,null,null,null,null,null,null,null,null,null,null,null,null,null,null,null,null,null,null,null,null,null,null,null,null,null,null,null,null,null,null,null,null,null,null,null,null,null,null,null,null,null,null,null,null,null,null,null,null,null,null,null,null,null,null,null,null,null,null,null,null,null,null,null,null,null,null,null,null,null,null,null,null,"پهنای نیم دایره",{"$f":"OG40","v":0.5},{"$f":"OG51","v":0.33998920669185106},{"$f":"OK985","v":5.6539583333333328},{"$f":"OL985","v":26.611980572045344},{"$f":"OJ985","v":"g5"},null,null,null,null,null,"پهنای نیم دایره",{"$f":"OR40","v":0.5},{"$f":"OR51","v":0.33998920669185106},{"$f":"OV985","v":-29.582777777777789},{"$f":"OW985","v":28.481921208850522},{"$f":"OU985","v":"g5"}]
[null,null,null,null,null,null,null,null,null,null,null,null,null,null,null,null,null,null,null,null,null,null,null,null,null,null,null,null,null,null,null,null,null,null,null,null,null,null,null,null,null,null,null,null,null,null,null,null,null,null,null,null,null,null,null,null,null,null,null,null,null,null,null,null,null,null,null,null,null,null,null,null,null,null,null,null,null,null,null,null,null,null,null,null,null,null,null,null,null,null,null,null,null,null,null,null,null,null,null,null,null,null,null,null,null,null,null,null,null,null,null,null,null,null,null,null,null,null,null,null,null,null,null,null,null,null,null,null,null,null,null,null,null,null,null,null,null,null,null,null,null,null,null,null,null,null,null,null,null,null,null,null,null,null,null,null,null,null,null,null,null,null,null,null,null,null,null,null,null,null,null,null,null,null,null,null,null,null,null,null,null,null,null,null,null,null,null,null,null,null,null,null,null,null,null,null,null,null,null,null,null,null,null,null,null,null,null,null,null,null,null,null,null,null,null,null,null,null,null,null,null,null,null,null,null,null,null,null,null,null,null,null,null,null,null,null,null,null,null,null,null,null,null,null,null,null,null,null,null,null,null,null,null,null,null,null,null,null,null,null,null,null,null,null,null,null,null,null,null,null,null,null,null,null,null,null,null,null,null,null,null,null,null,null,null,null,null,null,null,null,null,null,null,null,null,null,null,null,null,null,null,null,null,null,null,null,null,null,null,null,null,null,null,null,null,null,null,null,null,null,null,null,null,null,null,null,null,null,null,null,null,null,null,null,null,null,null,null,null,null,null,null,null,null,null,null,null,null,null,null,null,null,null,null,null,null,null,null,null,null,null,null,null,null,null,null,null,null,null,null,null,null,null,null,null,null,null,null,null,null,null,null,null,null,null,null,null,null,null,null,null,null,null,null,null,null,null,null,null,"نقطه شروع رج(چپ)","مولفه افقی","مولفه عمودی",null,null,null,null,null,null,null,null,"m102",{"$f":"OQ157","v":2.1875000000000178},{"$f":"OR157","v":26.53264975715058},{"$f":"OV1001","v":2.5550000000000175},{"$f":"OW1001","v":27.019967620075569},{"$f":"OU1001","v":"g6"}]
[null,null,null,null,null,null,null,null,null,null,null,null,null,null,null,null,null,null,null,null,null,null,null,null,null,null,null,null,null,null,null,null,null,null,null,null,null,null,null,null,null,null,null,null,null,null,null,null,null,null,null,null,null,null,null,null,null,null,null,null,null,null,null,null,null,null,null,null,null,null,null,null,null,null,null,null,null,null,null,null,null,null,null,null,null,null,null,null,null,null,null,null,null,null,null,null,null,null,null,null,null,null,null,null,null,null,null,null,null,null,null,null,null,null,null,null,null,null,null,null,null,null,null,null,null,null,null,null,null,null,null,null,null,null,null,null,null,null,null,null,null,null,null,null,null,null,null,null,null,null,null,null,null,null,null,null,null,null,null,null,null,null,null,null,null,null,null,null,null,null,null,null,null,null,null,null,null,null,null,null,null,null,null,null,null,null,null,null,null,null,null,null,null,null,null,null,null,null,null,null,null,null,null,null,null,null,null,null,null,null,null,null,null,null,null,null,null,null,null,null,null,null,null,null,null,null,null,null,null,null,null,null,null,null,null,null,null,null,null,null,null,null,null,null,null,null,null,null,null,null,null,null,null,null,null,null,null,null,null,null,null,null,null,null,null,null,null,null,null,null,null,null,null,null,null,null,null,null,null,null,null,null,null,null,null,null,null,null,null,null,null,null,null,null,null,null,null,null,null,null,null,null,null,null,null,null,null,null,null,null,null,null,null,null,null,null,null,null,null,null,null,null,null,null,null,null,null,null,null,null,null,null,null,null,null,null,null,null,null,null,null,null,null,null,null,null,null,null,null,null,null,null,null,null,null,null,null,null,null,null,null,null,null,null,null,null,null,null,null,null,null,null,null,null,null,null,null,null,null,null,null,null,null,null,null,null,null,null,null,null,null,null,null,null,null,null,null,null,null,"g8",{"$f":"OK1016-0.7*OL1013*SIN(RADIANS(30)-ATAN((OK1016-OK1019)/(OL1016-OL1019+0.0001)))","v":-26.732771008818546},{"$f":"OL1016-0.7*OL1013*COS(RADIANS(30)-ATAN((OK1016-OK1019)/(OL1016-OL1019+0.0001)))","v":35.009934793302278},{"$f":"OK1021","v":-26.482958331955714},{"$f":"OL1021","v":35.012345484412187},{"$f":"OJ1021","v":"g7"},null,null,null,null,null,"h13",{"$f":"OV1018","v":-11.263888888888886},{"$f":"OW1019","v":27.349298434970333},{"$f":"OV1014","v":2.1875000000000178},{"$f":"OW1014","v":27.099298434970333},{"$f":"OU1014","v":"m104"}]
[null,null,null,null,null,null,null,null,null,null,null,null,null,null,null,null,null,null,null,null,null,null,null,null,null,null,null,null,null,null,null,null,null,null,null,null,null,null,null,null,null,null,null,null,null,null,null,null,null,null,null,null,null,null,null,null,null,null,null,null,null,null,null,null,null,null,null,null,null,null,null,null,null,null,null,null,null,null,null,null,null,null,null,null,null,null,null,null,null,null,null,null,null,null,null,null,null,null,null,null,null,null,null,null,null,null,null,null,null,null,null,null,null,null,null,null,null,null,null,null,null,null,null,null,null,null,null,null,null,null,null,null,null,null,null,null,null,null,null,null,null,null,null,null,null,null,null,null,null,null,null,null,null,null,null,null,null,null,null,null,null,null,null,null,null,null,null,null,null,null,null,null,null,null,null,null,null,null,null,null,null,null,null,null,null,null,null,null,null,null,null,null,null,null,null,null,null,null,null,null,null,null,null,null,null,null,null,null,null,null,null,null,null,null,null,null,null,null,null,null,null,null,null,null,null,null,null,null,null,null,null,null,null,null,null,null,null,null,null,null,null,null,null,null,null,null,null,null,null,null,null,null,null,null,null,null,null,null,null,null,null,null,null,null,null,null,null,null,null,null,null,null,null,null,null,null,null,null,null,null,null,null,null,null,null,null,null,null,null,null,null,null,null,null,null,null,null,null,null,null,null,null,null,null,null,null,null,null,null,null,null,null,null,null,null,null,null,null,null,null,null,null,null,null,null,null,null,null,null,null,null,null,null,null,null,null,null,null,null,null,null,null,null,null,null,null,null,null,null,null,null,null,null,null,null,null,null,null,null,null,null,null,null,null,null,null,null,null,null,null,null,null,null,null,null,null,null,null,null,null,null,null,null,null,null,null,null,null,null,null,null,null,null,null,null,null,null,null,null,"نقطه پایان رج(راست)","مولفه افقی","مولفه عمودی",{"$f":"OK1041","v":-3.6649305555555536},{"$f":"OL1041","v":38.682271991365369},{"$f":"OJ1041","v":"h13"},null,null,null,null,null,"g2",{"$f":"OV1030","v":-29.215277777777789},{"$f":"OW1030+OV1027","v":38.432271991365369}]
[null,null,null,null,null,null,null,null,null,null,null,null,null,null,null,null,null,null,null,null,null,null,null,null,null,null,null,null,null,null,null,null,null,null,null,null,null,null,null,null,null,null,null,null,null,null,null,null,null,null,null,null,null,null,null,null,null,null,null,null,null,null,null,null,null,null,null,null,null,null,null,null,null,null,null,null,null,null,null,null,null,null,null,null,null,null,null,null,null,null,null,null,null,null,null,null,null,null,null,null,null,null,null,null,null,null,null,null,null,null,null,null,null,null,null,null,null,null,null,null,null,null,null,null,null,null,null,null,null,null,null,null,null,null,null,null,null,null,null,null,null,null,null,null,null,null,null,null,null,null,null,null,null,null,null,null,null,null,null,null,null,null,null,null,null,null,null,null,null,null,null,null,null,null,null,null,null,null,null,null,null,null,null,null,null,null,null,null,null,null,null,null,null,null,null,null,null,null,null,null,null,null,null,null,null,null,null,null,null,null,null,null,null,null,null,null,null,null,null,null,null,null,null,null,null,null,null,null,null,null,null,null,null,null,null,null,null,null,null,null,null,null,null,null,null,null,null,null,null,null,null,null,null,null,null,null,null,null,null,null,null,null,null,null,null,null,null,null,null,null,null,null,null,null,null,null,null,null,null,null,null,null,null,null,null,null,null,null,null,null,null,null,null,null,null,null,null,null,null,null,null,null,null,null,null,null,null,null,null,null,null,null,null,null,null,null,null,null,null,null,null,null,null,null,null,null,null,null,null,null,null,null,null,null,null,null,null,null,null,null,null,null,null,null,null,null,null,null,null,null,null,null,null,null,null,null,null,null,null,null,null,null,null,null,null,null,null,null,null,null,null,null,null,null,null,null,null,null,null,null,null,null,null,null,null,null,null,null,null,null,null,null,null,null,null,null,null,null,null,"m107",{"$f":"OF162","v":5.2864583333333321},{"$f":"OG162","v":38.432271991365369},{"$f":"OK1054","v":5.6539583333333328},{"$f":"OL1054","v":38.919589854290351},{"$f":"OJ1054","v":"g6"},null,null,null,null,null,"نقاط خروجی","مولفه افقی","مولفه عمودی",{"$f":"OV1054","v":-20.263888888888886},{"$f":"OW1054","v":38.182271991365369},{"$f":"OU1054","v":"h11"}]
[null,null,null,null,null,null,null,null,null,null,null,null,null,null,null,null,null,null,null,null,null,null,null,null,null,null,null,null,null,null,null,null,null,null,null,null,null,null,null,null,null,null,null,null,null,null,null,null,null,null,null,null,null,null,null,null,null,null,null,null,null,null,null,null,null,null,null,null,null,null,null,null,null,null,null,null,null,null,null,null,null,null,null,null,null,null,null,null,null,null,null,null,null,null,null,null,null,null,null,null,null,null,null,null,null,null,null,null,null,null,null,null,null,null,null,null,null,null,null,null,null,null,null,null,null,null,null,null,null,null,null,null,null,null,null,null,null,null,null,null,null,null,null,null,null,null,null,null,null,null,null,null,null,null,null,null,null,null,null,null,null,null,null,null,null,null,null,null,null,null,null,null,null,null,null,null,null,null,null,null,null,null,null,null,null,null,null,null,null,null,null,null,null,null,null,null,null,null,null,null,null,null,null,null,null,null,null,null,null,null,null,null,null,null,null,null,null,null,null,null,null,null,null,null,null,null,null,null,null,null,null,null,null,null,null,null,null,null,null,null,null,null,null,null,null,null,null,null,null,null,null,null,null,null,null,null,null,null,null,null,null,null,null,null,null,null,null,null,null,null,null,null,null,null,null,null,null,null,null,null,null,null,null,null,null,null,null,null,null,null,null,null,null,null,null,null,null,null,null,null,null,null,null,null,null,null,null,null,null,null,null,null,null,null,null,null,null,null,null,null,null,null,null,null,null,null,null,null,null,null,null,null,null,null,null,null,null,null,null,null,null,null,null,null,null,null,null,null,null,null,null,null,null,null,null,null,null,null,null,null,null,null,null,null,null,null,null,null,null,null,null,null,null,null,null,null,null,null,null,null,null,null,null,null,null,null,null,null,null,null,null,null,null,null,null,null,null,null,null,"m108",{"$f":"OF163","v":5.2864583333333321},{"$f":"OG163","v":38.998920669185118},null,null,null,null,null,null,null,null,"g4",{"$f":"OV1064+OV1062*OV1060/40","v":2.7125000000000177},{"$f":"OW1064+0.5*OV1061","v":38.715596330275247},{"$f":"OV1071","v":2.4957767860310529},{"$f":"OW1071","v":38.688550935277405},{"$f":"OU1071","v":"g8"}]
[null,null,null,null,null,null,null,null,null,null,null,null,null,null,null,null,null,null,null,null,null,null,null,null,null,null,null,null,null,null,null,null,null,null,null,null,null,null,null,null,null,null,null,null,null,null,null,null,null,null,null,null,null,null,null,null,null,null,null,null,null,null,null,null,null,null,null,null,null,null,null,null,null,null,null,null,null,null,null,null,null,null,null,null,null,null,null,null,null,null,null,null,null,null,null,null,null,null,null,null,null,null,null,null,null,null,null,null,null,null,null,null,null,null,null,null,null,null,null,null,null,null,null,null,null,null,null,null,null,null,null,null,null,null,null,null,null,null,null,null,null,null,null,null,null,null,null,null,null,null,null,null,null,null,null,null,null,null,null,null,null,null,null,null,null,null,null,null,null,null,null,null,null,null,null,null,null,null,null,null,null,null,null,null,null,null,null,null,null,null,null,null,null,null,null,null,null,null,null,null,null,null,null,null,null,null,null,null,null,null,null,null,null,null,null,null,null,null,null,null,null,null,null,null,null,null,null,null,null,null,null,null,null,null,null,null,null,null,null,null,null,null,null,null,null,null,null,null,null,null,null,null,null,null,null,null,null,null,null,null,null,null,null,null,null,null,null,null,null,null,null,null,null,null,null,null,null,null,null,null,null,null,null,null,null,null,null,null,null,null,null,null,null,null,null,null,null,null,null,null,null,null,null,null,null,null,null,null,null,null,null,null,null,null,null,null,null,null,null,null,null,null,null,null,null,null,null,null,null,null,null,null,null,null,null,null,null,null,null,null,null,null,null,null,null,null,null,null,null,null,null,null,null,null,null,null,null,null,null,null,null,null,null,null,null,null,null,null,null,null,null,null,null,null,null,null,null,null,null,null,null,null,null,null,null,null,null,null,null,null,null,null,null,null,null,null,null,null,null,"نقطه پایان رج(راست)","مولفه افقی","مولفه عمودی",{"$f":"OK1092","v":-20.457465277777779},{"$f":"OL1092","v":4.1167026443604966},{"$f":"OJ1092","v":"h13"},null,null,null,null,null,"h5",{"$f":"OV1080+0.5*(OV1082-OV1080)","v":-13.513888888888886},{"$f":"OW1080","v":38.998920669185118},{"$f":"OV1089","v":-11.263888888888886},{"$f":"OW1089","v":38.748920669185118},{"$f":"OU1089","v":"h12"}]
[null,null,null,null,null,null,null,null,null,null,null,null,null,null,null,null,null,null,null,null,null,null,null,null,null,null,null,null,null,null,null,null,null,null,null,null,null,null,null,null,null,null,null,null,null,null,null,null,null,null,null,null,null,null,null,null,null,null,null,null,null,null,null,null,null,null,null,null,null,null,null,null,null,null,null,null,null,null,null,null,null,null,null,null,null,null,null,null,null,null,null,null,null,null,null,null,null,null,null,null,null,null,null,null,null,null,null,null,null,null,null,null,null,null,null,null,null,null,null,null,null,null,null,null,null,null,null,null,null,null,null,null,null,null,null,null,null,null,null,null,null,null,null,null,null,null,null,null,null,null,null,null,null,null,null,null,null,null,null,null,null,null,null,null,null,null,null,null,null,null,null,null,null,null,null,null,null,null,null,null,null,null,null,null,null,null,null,null,null,null,null,null,null,null,null,null,null,null,null,null,null,null,null,null,null,null,null,null,null,null,null,null,null,null,null,null,null,null,null,null,null,null,null,null,null,null,null,null,null,null,null,null,null,null,null,null,null,null,null,null,null,null,null,null,null,null,null,null,null,null,null,null,null,null,null,null,null,null,null,null,null,null,null,null,null,null,null,null,null,null,null,null,null,null,null,null,null,null,null,null,null,null,null,null,null,null,null,null,null,null,null,null,null,null,null,null,null,null,null,null,null,null,null,null,null,null,null,null,null,null,null,null,null,null,null,null,null,null,null,null,null,null,null,null,null,null,null,null,null,null,null,null,null,null,null,null,null,null,null,null,null,null,null,null,null,null,null,null,null,null,null,null,null,null,null,null,null,null,null,null,null,null,null,null,null,null,null,null,null,null,null,null,null,null,null,null,null,null,null,null,null,null,null,null,null,null,null,null,null,null,null,null,null,null,null,null,null,null,null,"h5",{"$f":"OK1098+0.5*(OK1100-OK1098)","v":1.8776041666666696},{"$f":"OL1098","v":3.8667026443604966},{"$f":"OK1105","v":-4.8723958333333304},{"$f":"OL1105","v":3.6167026443604966},{"$f":"OJ1105","v":"h11"},null,null,null,null,null,"h5",{"$f":"OV1098+0.5*(OV1100-OV1098)","v":-24.256944444444443},{"$f":"OW1098","v":3.8667026443604966},{"$f":"OV1105","v":-26.506944444444443},{"$f":"OW1105","v":3.6167026443604966},{"$f":"OU1105","v":"h11"}]
[null,null,null,null,null,null,null,null,null,null,null,null,null,null,null,null,null,null,null,null,null,null,null,null,null,null,null,null,null,null,null,null,null,null,null,null,null,null,null,null,null,null,null,null,null,null,null,null,null,null,null,null,null,null,null,null,null,null,null,null,null,null,null,null,null,null,null,null,null,null,null,null,null,null,null,null,null,null,null,null,null,null,null,null,null,null,null,null,null,null,null,null,null,null,null,null,null,null,null,null,null,null,null,null,null,null,null,null,null,null,null,null,null,null,null,null,null,null,null,null,null,null,null,null,null,null,null,null,null,null,null,null,null,null,null,null,null,null,null,null,null,null,null,null,null,null,null,null,null,null,null,null,null,null,null,null,null,null,null,null,null,null,null,null,null,null,null,null,null,null,null,null,null,null,null,null,null,null,null,null,null,null,null,null,null,null,null,null,null,null,null,null,null,null,null,null,null,null,null,null,null,null,null,null,null,null,null,null,null,null,null,null,null,null,null,null,null,null,null,null,null,null,null,null,null,null,null,null,null,null,null,null,null,null,null,null,null,null,null,null,null,null,null,null,null,null,null,null,null,null,null,null,null,null,null,null,null,null,null,null,null,null,null,null,null,null,null,null,null,null,null,null,null,null,null,null,null,null,null,null,null,null,null,null,null,null,null,null,null,null,null,null,null,null,null,null,null,null,null,null,null,null,null,null,null,null,null,null,null,null,null,null,null,null,null,null,null,null,null,null,null,null,null,null,null,null,null,null,null,null,null,null,null,null,null,null,null,null,null,null,null,null,null,null,null,null,null,null,null,null,null,null,null,null,null,null,null,null,null,null,null,null,null,null,null,null,null,null,null,null,null,null,null,null,null,null,null,null,null,null,null,null,null,null,null,null,null,null,null,null,null,null,null,null,null,null,null,null,null,null,null,null,null,null,null,null,null,null,null,null,"m2",{"$f":"OQ61","v":7.9722222222222285},{"$f":"OR61-2*OR39","v":3.8667026443604966}]
[]
[null,null,null,null,null,null,null,null,null,null,null,null,null,null,null,null,null,null,null,null,null,null,null,null,null,null,null,null,null,null,null,null,null,null,null,null,null,null,null,null,null,null,null,null,null,null,null,null,null,null,null,null,null,null,null,null,null,null,null,null,null,null,null,null,null,null,null,null,null,null,null,null,null,null,null,null,null,null,null,null,null,null,null,null,null,null,null,null,null,null,null,null,null,null,null,null,null,null,null,null,null,null,null,null,null,null,null,null,null,null,null,null,null,null,null,null,null,null,null,null,null,null,null,null,null,null,null,null,null,null,null,null,null,null,null,null,null,null,null,null,null,null,null,null,null,null,null,null,null,null,null,null,null,null,null,null,null,null,null,null,null,null,null,null,null,null,null,null,null,null,null,null,null,null,null,null,null,null,null,null,null,null,null,null,null,null,null,null,null,null,null,null,null,null,null,null,null,null,null,null,null,null,null,null,null,null,null,null,null,null,null,null,null,null,null,null,null,null,null,null,null,null,null,null,null,null,null,null,null,null,null,null,null,null,null,null,null,null,null,null,null,null,null,null,null,null,null,null,null,null,null,null,null,null,null,null,null,null,null,null,null,null,null,null,null,null,null,null,null,null,null,null,null,null,null,null,null,null,null,null,null,null,null,null,null,null,null,null,null,null,null,null,null,null,null,null,null,null,null,null,null,null,null,null,null,null,null,null,null,null,null,null,null,null,null,null,null,null,null,null,null,null,null,null,null,null,null,null,null,null,null,null,null,null,null,null,null,null,null,null,null,null,null,null,null,null,null,null,null,null,null,null,null,null,null,null,null,null,null,null,null,null,null,null,null,null,null,null,null,null,null,null,null,null,null,null,null,null,null,null,null,null,null,null,null,null,null,null,null,null,null,null,null,null,null,null,null,null,null,null,null,null,null,null,null,null,null,null,null,null,null,null,null,{"$f":"OR36+0.5*(OQ61-OR36)","v":-13.513888888888886},{"$f":"OR61-1*OR39","v":4.4333513221802487},"m'''1"]
[]
[null,null,null,null,null,null,null,null,null,null,null,null,null,null,null,null,null,null,null,null,null,null,null,null,null,null,null,null,null,null,null,null,null,null,null,null,null,null,null,null,null,null,null,null,null,null,null,null,null,null,null,null,null,null,null,null,null,null,null,null,null,null,null,null,null,null,null,null,null,null,null,null,null,null,null,null,null,null,null,null,null,null,null,null,null,null,null,null,null,null,null,null,null,null,null,null,null,null,null,null,null,null,null,null,null,null,null,null,null,null,null,null,null,null,null,null,null,null,null,null,null,null,null,null,null,null,null,null,null,null,null,null,null,null,null,null,null,null,null,null,null,null,null,null,null,null,null,null,null,null,null,null,null,null,null,null,null,null,null,null,null,null,null,null,null,null,null,null,null,null,null,null,null,null,null,null,null,null,null,null,null,null,null,null,null,null,null,null,null,null,null,null,null,null,null,null,null,null,null,null,null,null,null,null,null,null,null,null,null,null,null,null,null,null,null,null,null,null,null,null,null,null,null,null,null,null,null,null,null,null,null,null,null,null,null,null,null,null,null,null,null,null,null,null,null,null,null,null,null,null,null,null,null,null,null,null,null,null,null,null,null,null,null,null,null,null,null,null,null,null,null,null,null,null,null,null,null,null,null,null,null,null,null,null,null,null,null,null,null,null,null,null,null,null,null,null,null,null,null,null,null,null,null,null,null,null,null,null,null,null,null,null,null,null,null,null,null,null,null,null,null,null,null,null,null,null,null,null,null,null,null,null,null,null,null,null,null,null,null,null,null,null,null,null,null,null,null,null,null,null,null,null,null,null,null,null,null,null,null,null,null,null,null,null,null,null,null,null,null,null,null,null,null,null,null,null,null,null,null,null,null,null,null,null,null,null,null,null,null,null,null,null,null,null,null,null,null,null,null,null,null,null,null,null,null,null,null,null,null,null,"بزرگی خط عمودی دانه",{"$f":"OR45","v":0.30000000000000004},"f9",null,null,"فلش دبل به سمت پایین"]
[null,null,null,null,null,null,null,null,null,null,null,null,null,null,null,null,null,null,null,null,null,null,null,null,null,null,null,null,null,null,null,null,null,null,null,null,null,null,null,null,null,null,null,null,null,null,null,null,null,null,null,null,null,null,null,null,null,null,null,null,null,null,null,null,null,null,null,null,null,null,null,null,null,null,null,null,null,null,null,null,null,null,null,null,null,null,null,null,null,null,null,null,null,null,null,null,null,null,null,null,null,null,null,null,null,null,null,null,null,null,null,null,null,null,null,null,null,null,null,null,null,null,null,null,null,null,null,null,null,null,null,null,null,null,null,null,null,null,null,null,null,null,null,null,null,null,null,null,null,null,null,null,null,null,null,null,null,null,null,null,null,null,null,null,null,null,null,null,null,null,null,null,null,null,null,null,null,null,null,null,null,null,null,null,null,null,null,null,null,null,null,null,null,null,null,null,null,null,null,null,null,null,null,null,null,null,null,null,null,null,null,null,null,null,null,null,null,null,null,null,null,null,null,null,null,null,null,null,null,null,null,null,null,null,null,null,null,null,null,null,null,null,null,null,null,null,null,null,null,null,null,null,null,null,null,null,null,null,null,null,null,null,null,null,null,null,null,null,null,null,null,null,null,null,null,null,null,null,null,null,null,null,null,null,null,null,null,null,null,null,null,null,null,null,null,null,null,null,null,null,null,null,null,null,null,null,null,null,null,null,null,null,null,null,null,null,null,null,null,null,null,null,null,null,null,null,null,null,null,null,null,null,null,null,null,null,null,null,null,null,null,null,null,null,null,null,null,null,null,null,null,null,null,null,null,null,null,null,null,null,null,null,null,null,null,null,null,null,null,null,null,null,null,null,null,null,null,null,null,null,null,null,null,null,null,null,null,null,null,null,null,null,null,null,null,null,null,null,null,null,null,null,null,null,null,null,null,null,null,null,"بزرگی فلش دانه",{"$f":"OR46","v":0.4},"f10",{"$f":"OV1138","v":2.9105902777777941},{"$f":"OW1138","v":23.166109012412317},{"$f":"OU1138","v":"f8"}]
[null,null,null,null,null,null,null,null,null,null,null,null,null,null,null,null,null,null,null,null,null,null,null,null,null,null,null,null,null,null,null,null,null,null,null,null,null,null,null,null,null,null,null,null,null,null,null,null,null,null,null,null,null,null,null,null,null,null,null,null,null,null,null,null,null,null,null,null,null,null,null,null,null,null,null,null,null,null,null,null,null,null,null,null,null,null,null,null,null,null,null,null,null,null,null,null,null,null,null,null,null,null,null,null,null,null,null,null,null,null,null,null,null,null,null,null,null,null,null,null,null,null,null,null,null,null,null,null,null,null,null,null,null,null,null,null,null,null,null,null,null,null,null,null,null,null,null,null,null,null,null,null,null,null,null,null,null,null,null,null,null,null,null,null,null,null,null,null,null,null,null,null,null,null,null,null,null,null,null,null,null,null,null,null,null,null,null,null,null,null,null,null,null,null,null,null,null,null,null,null,null,null,null,null,null,null,null,null,null,null,null,null,null,null,null,null,null,null,null,null,null,null,null,null,null,null,null,null,null,null,null,null,null,null,null,null,null,null,null,null,null,null,null,null,null,null,null,null,null,null,null,null,null,null,null,null,null,null,null,null,null,null,null,null,null,null,null,null,null,null,null,null,null,null,null,null,null,null,null,null,null,null,null,null,null,null,null,null,null,null,null,null,null,null,null,null,null,null,null,null,null,null,null,null,null,null,null,null,null,null,null,null,null,null,null,null,null,null,null,null,null,null,null,null,null,null,null,null,null,null,null,null,null,null,null,null,null,null,null,null,null,null,null,null,null,null,null,null,null,null,null,null,null,null,null,null,null,null,null,null,null,null,null,null,null,null,null,null,null,null,null,null,null,null,null,null,null,null,null,null,null,null,null,null,null,null,null,null,null,null,null,null,null,null,null,null,null,null,null,null,null,null,null,null,null,null,null,null,null,null,"زاویه فلش دانه",{"$f":"OR47","v":0.75},"f11",{"$f":"OV1135","v":2.9105902777777941},{"$f":"OW1135","v":22.566109012412316},{"$f":"OU1135","v":"m110"}]
[null,null,null,null,null,null,null,null,null,null,null,null,null,null,null,null,null,null,null,null,null,null,null,null,null,null,null,null,null,null,null,null,null,null,null,null,null,null,null,null,null,null,null,null,null,null,null,null,null,null,null,null,null,null,null,null,null,null,null,null,null,null,null,null,null,null,null,null,null,null,null,null,null,null,null,null,null,null,null,null,null,null,null,null,null,null,null,null,null,null,null,null,null,null,null,null,null,null,null,null,null,null,null,null,null,null,null,null,null,null,null,null,null,null,null,null,null,null,null,null,null,null,null,null,null,null,null,null,null,null,null,null,null,null,null,null,null,null,null,null,null,null,null,null,null,null,null,null,null,null,null,null,null,null,null,null,null,null,null,null,null,null,null,null,null,null,null,null,null,null,null,null,null,null,null,null,null,null,null,null,null,null,null,null,null,null,null,null,null,null,null,null,null,null,null,null,null,null,null,null,null,null,null,null,null,null,null,null,null,null,null,null,null,null,null,null,null,null,null,null,null,null,null,null,null,null,null,null,null,null,null,null,null,null,null,null,null,null,null,null,null,null,null,null,null,null,null,null,null,null,null,null,null,null,null,null,null,null,null,null,null,null,null,null,null,null,null,null,null,null,null,null,null,null,null,null,null,null,null,null,null,null,null,null,null,null,null,null,null,null,null,null,null,null,null,null,null,null,null,null,null,null,null,null,null,null,null,null,null,null,null,null,null,null,null,null,null,null,null,null,null,null,null,null,null,null,null,null,null,null,null,null,null,null,null,null,null,null,null,null,null,null,null,null,null,null,null,null,null,null,null,null,null,null,null,null,null,null,null,null,null,null,null,null,null,null,null,null,null,null,null,null,null,null,null,null,null,null,null,null,null,null,null,null,null,null,null,null,null,null,null,null,null,null,null,null,null,null,null,null,null,null,null,null,null,null,null,null,null,null,"ارتفاع هر رج",{"$f":"OR39","v":0.5666486778197517},"w11"]
[null,null,null,null,null,null,null,null,null,null,null,null,null,null,null,null,null,null,null,null,null,null,null,null,null,null,null,null,null,null,null,null,null,null,null,null,null,null,null,null,null,null,null,null,null,null,null,null,null,null,null,null,null,null,null,null,null,null,null,null,null,null,null,null,null,null,null,null,null,null,null,null,null,null,null,null,null,null,null,null,null,null,null,null,null,null,null,null,null,null,null,null,null,null,null,null,null,null,null,null,null,null,null,null,null,null,null,null,null,null,null,null,null,null,null,null,null,null,null,null,null,null,null,null,null,null,null,null,null,null,null,null,null,null,null,null,null,null,null,null,null,null,null,null,null,null,null,null,null,null,null,null,null,null,null,null,null,null,null,null,null,null,null,null,null,null,null,null,null,null,null,null,null,null,null,null,null,null,null,null,null,null,null,null,null,null,null,null,null,null,null,null,null,null,null,null,null,null,null,null,null,null,null,null,null,null,null,null,null,null,null,null,null,null,null,null,null,null,null,null,null,null,null,null,null,null,null,null,null,null,null,null,null,null,null,null,null,null,null,null,null,null,null,null,null,null,null,null,null,null,null,null,null,null,null,null,null,null,null,null,null,null,null,null,null,null,null,null,null,null,null,null,null,null,null,null,null,null,null,null,null,null,null,null,null,null,null,null,null,null,null,null,null,null,null,null,null,null,null,null,null,null,null,null,null,null,null,null,null,null,null,null,null,null,null,null,null,null,null,null,null,null,null,null,null,null,null,null,null,null,null,null,null,null,null,null,null,null,null,null,null,null,null,null,null,null,null,null,null,null,null,null,null,null,null,null,null,null,null,null,null,null,null,null,null,null,null,null,null,null,null,null,null,null,null,null,null,null,null,null,null,null,null,null,null,null,null,null,null,null,null,null,null,null,null,null,null,null,null,null,null,null,null,null,null,null,null,null,null,null,"نقطه ورودی سر فلش","مولفه افقی","مولفه عمودی",{"$f":"OV1135","v":2.9105902777777941},{"$f":"OW1135","v":22.566109012412316},{"$f":"OU1135","v":"m110"}]
[null,null,null,null,null,null,null,null,null,null,null,null,null,null,null,null,null,null,null,null,null,null,null,null,null,null,null,null,null,null,null,null,null,null,null,null,null,null,null,null,null,null,null,null,null,null,null,null,null,null,null,null,null,null,null,null,null,null,null,null,null,null,null,null,null,null,null,null,null,null,null,null,null,null,null,null,null,null,null,null,null,null,null,null,null,null,null,null,null,null,null,null,null,null,null,null,null,null,null,null,null,null,null,null,null,null,null,null,null,null,null,null,null,null,null,null,null,null,null,null,null,null,null,null,null,null,null,null,null,null,null,null,null,null,null,null,null,null,null,null,null,null,null,null,null,null,null,null,null,null,null,null,null,null,null,null,null,null,null,null,null,null,null,null,null,null,null,null,null,null,null,null,null,null,null,null,null,null,null,null,null,null,null,null,null,null,null,null,null,null,null,null,null,null,null,null,null,null,null,null,null,null,null,null,null,null,null,null,null,null,null,null,null,null,null,null,null,null,null,null,null,null,null,null,null,null,null,null,null,null,null,null,null,null,null,null,null,null,null,null,null,null,null,null,null,null,null,null,null,null,null,null,null,null,null,null,null,null,null,null,null,null,null,null,null,null,null,null,null,null,null,null,null,null,null,null,null,null,null,null,null,null,null,null,null,null,null,null,null,null,null,null,null,null,null,null,null,null,null,null,null,null,null,null,null,null,null,null,null,null,null,null,null,null,null,null,null,null,null,null,null,null,null,null,null,null,null,null,null,null,null,null,null,null,null,null,null,null,null,null,null,null,null,null,null,null,null,null,null,null,null,null,null,null,null,null,null,null,null,null,null,null,null,null,null,null,null,null,null,null,null,null,null,null,null,null,null,null,null,null,null,null,null,null,null,null,null,null,null,null,null,null,null,null,null,null,null,null,null,null,null,null,null,null,null,null,null,null,null,null,{"$f":"OS165","v":"m110"},{"$f":"OQ165","v":2.9105902777777941},{"$f":"OR165","v":22.566109012412316},{"$f":"OV1136","v":2.7405956744318685},{"$f":"OW1136","v":22.792768483540215},{"$f":"OU1136","v":"f6"}]
[null,null,null,null,null,null,null,null,null,null,null,null,null,null,null,null,null,null,null,null,null,null,null,null,null,null,null,null,null,null,null,null,null,null,null,null,null,null,null,null,null,null,null,null,null,null,null,null,null,null,null,null,null,null,null,null,null,null,null,null,null,null,null,null,null,null,null,null,null,null,null,null,null,null,null,null,null,null,null,null,null,null,null,null,null,null,null,null,null,null,null,null,null,null,null,null,null,null,null,null,null,null,null,null,null,null,null,null,null,null,null,null,null,null,null,null,null,null,null,null,null,null,null,null,null,null,null,null,null,null,null,null,null,null,null,null,null,null,null,null,null,null,null,null,null,null,null,null,null,null,null,null,null,null,null,null,null,null,null,null,null,null,null,null,null,null,null,null,null,null,null,null,null,null,null,null,null,null,null,null,null,null,null,null,null,null,null,null,null,null,null,null,null,null,null,null,null,null,null,null,null,null,null,null,null,null,null,null,null,null,null,null,null,null,null,null,null,null,null,null,null,null,null,null,null,null,null,null,null,null,null,null,null,null,null,null,null,null,null,null,null,null,null,null,null,null,null,null,null,null,null,null,null,null,null,null,null,null,null,null,null,null,null,null,null,null,null,null,null,null,null,null,null,null,null,null,null,null,null,null,null,null,null,null,null,null,null,null,null,null,null,null,null,null,null,null,null,null,null,null,null,null,null,null,null,null,null,null,null,null,null,null,null,null,null,null,null,null,null,null,null,null,null,null,null,null,null,null,null,null,null,null,null,null,null,null,null,null,null,null,null,null,null,null,null,null,null,null,null,null,null,null,null,null,null,null,null,null,null,null,null,null,null,null,null,null,null,null,null,null,null,null,null,null,null,null,null,null,null,null,null,null,null,null,null,null,null,null,null,null,null,null,null,null,null,null,null,null,null,null,null,null,null,null,null,null,null,null,null,null,"f6",{"$f":"OV1135-OV1132*OV1131*OV1133","v":2.7405956744318685},{"$f":"OW1135+OV1131*OV1133","v":22.792768483540215}]
[null,null,null,null,null,null,null,null,null,null,null,null,null,null,null,null,null,null,null,null,null,null,null,null,null,null,null,null,null,null,null,null,null,null,null,null,null,null,null,null,null,null,null,null,null,null,null,null,null,null,null,null,null,null,null,null,null,null,null,null,null,null,null,null,null,null,null,null,null,null,null,null,null,null,null,null,null,null,null,null,null,null,null,null,null,null,null,null,null,null,null,null,null,null,null,null,null,null,null,null,null,null,null,null,null,null,null,null,null,null,null,null,null,null,null,null,null,null,null,null,null,null,null,null,null,null,null,null,null,null,null,null,null,null,null,null,null,null,null,null,null,null,null,null,null,null,null,null,null,null,null,null,null,null,null,null,null,null,null,null,null,null,null,null,null,null,null,null,null,null,null,null,null,null,null,null,null,null,null,null,null,null,null,null,null,null,null,null,null,null,null,null,null,null,null,null,null,null,null,null,null,null,null,null,null,null,null,null,null,null,null,null,null,null,null,null,null,null,null,null,null,null,null,null,null,null,null,null,null,null,null,null,null,null,null,null,null,null,null,null,null,null,null,null,null,null,null,null,null,null,null,null,null,null,null,null,null,null,null,null,null,null,null,null,null,null,null,null,null,null,null,null,null,null,null,null,null,null,null,null,null,null,null,null,null,null,null,null,null,null,null,null,null,null,null,null,null,null,null,null,null,null,null,null,null,null,null,null,null,null,null,null,null,null,null,null,null,null,null,null,null,null,null,null,null,null,null,null,null,null,null,null,null,null,null,null,null,null,null,null,null,null,null,null,null,null,null,null,null,null,null,null,null,null,null,null,null,null,null,null,null,null,null,null,null,null,null,null,null,null,null,null,null,null,null,null,null,null,null,null,null,null,null,null,null,null,null,null,null,null,null,null,null,null,null,null,null,null,null,null,null,null,null,null,null,null,null,null,null,null,"f7",{"$f":"OV1135+OV1135-OV1136","v":3.0805848811237198},{"$f":"OW1136","v":22.792768483540215},{"$f":"OV1135","v":2.9105902777777941},{"$f":"OW1135","v":22.566109012412316},{"$f":"OU1135","v":"m110"}]
[null,null,null,null,null,null,null,null,null,null,null,null,null,null,null,null,null,null,null,null,null,null,null,null,null,null,null,null,null,null,null,null,null,null,null,null,null,null,null,null,null,null,null,null,null,null,null,null,null,null,null,null,null,null,null,null,null,null,null,null,null,null,null,null,null,null,null,null,null,null,null,null,null,null,null,null,null,null,null,null,null,null,null,null,null,null,null,null,null,null,null,null,null,null,null,null,null,null,null,null,null,null,null,null,null,null,null,null,null,null,null,null,null,null,null,null,null,null,null,null,null,null,null,null,null,null,null,null,null,null,null,null,null,null,null,null,null,null,null,null,null,null,null,null,null,null,null,null,null,null,null,null,null,null,null,null,null,null,null,null,null,null,null,null,null,null,null,null,null,null,null,null,null,null,null,null,null,null,null,null,null,null,null,null,null,null,null,null,null,null,null,null,null,null,null,null,null,null,null,null,null,null,null,null,null,null,null,null,null,null,null,null,null,null,null,null,null,null,null,null,null,null,null,null,null,null,null,null,null,null,null,null,null,null,null,null,null,null,null,null,null,null,null,null,null,null,null,null,null,null,null,null,null,null,null,null,null,null,null,null,null,null,null,null,null,null,null,null,null,null,null,null,null,null,null,null,null,null,null,null,null,null,null,null,null,null,null,null,null,null,null,null,null,null,null,null,null,null,null,null,null,null,null,null,null,null,null,null,null,null,null,null,null,null,null,null,null,null,null,null,null,null,null,null,null,null,null,null,null,null,null,null,null,null,null,null,null,null,null,null,null,null,null,null,null,null,null,null,null,null,null,null,null,null,null,null,null,null,null,null,null,null,null,null,null,null,null,null,null,null,null,null,null,null,null,null,null,null,null,null,null,null,null,null,null,null,null,null,null,null,null,null,null,null,null,null,null,null,null,null,null,null,null,null,null,null,null,null,null,null,"f8",{"$f":"OV1135","v":2.9105902777777941},{"$f":"OW1135+2*OV1130","v":23.166109012412317},{"$f":"OV1137","v":3.0805848811237198},{"$f":"OW1137","v":22.792768483540215},{"$f":"OU1137","v":"f7"}]
[null,null,null,null,null,null,null,null,null,null,null,null,null,null,null,null,null,null,null,null,null,null,null,null,null,null,null,null,null,null,null,null,null,null,null,null,null,null,null,null,null,null,null,null,null,null,null,null,null,null,null,null,null,null,null,null,null,null,null,null,null,null,null,null,null,null,null,null,null,null,null,null,null,null,null,null,null,null,null,null,null,null,null,null,null,null,null,null,null,null,null,null,null,null,null,null,null,null,null,null,null,null,null,null,null,null,null,null,null,null,null,null,null,null,null,null,null,null,null,null,null,null,null,null,null,null,null,null,null,null,null,null,null,null,null,null,null,null,null,null,null,null,null,null,null,null,null,null,null,null,null,null,null,null,null,null,null,null,null,null,null,null,null,null,null,null,null,null,null,null,null,null,null,null,null,null,null,null,null,null,null,null,null,null,null,null,null,null,null,null,null,null,null,null,null,null,null,null,null,null,null,null,null,null,null,null,null,null,null,null,null,null,null,null,null,null,null,null,null,null,null,null,null,null,null,null,null,null,null,null,null,null,null,null,null,null,null,null,null,null,null,null,null,null,null,null,null,null,null,null,null,null,null,null,null,null,null,null,null,null,null,null,null,null,null,null,null,null,null,null,null,null,null,null,null,null,null,null,null,null,null,null,null,null,null,null,null,null,null,null,null,null,null,null,null,null,null,null,null,null,null,null,null,null,null,null,null,null,null,null,null,null,null,null,null,null,null,null,null,null,null,null,null,null,null,null,null,null,null,null,null,null,null,null,null,null,null,null,null,null,null,null,null,null,null,null,null,null,null,null,null,null,null,null,null,null,null,null,null,null,null,null,null,null,null,null,null,null,null,null,null,null,null,null,null,null,null,null,null,null,null,null,null,null,null,null,null,null,null,null,null,null,null,null,null,null,null,null,null,null,null,null,null,null,null,null,null,null,null,null,"f12",{"$f":"OV1136","v":2.7405956744318685},{"$f":"OW1136+0.4*(OW1138-OW1136)","v":22.942104695089057}]
[null,null,null,null,null,null,null,null,null,null,null,null,null,null,null,null,null,null,null,null,null,null,null,null,null,null,null,null,null,null,null,null,null,null,null,null,null,null,null,null,null,null,null,null,null,null,null,null,null,null,null,null,null,null,null,null,null,null,null,null,null,null,null,null,null,null,null,null,null,null,null,null,null,null,null,null,null,null,null,null,null,null,null,null,null,null,null,null,null,null,null,null,null,null,null,null,null,null,null,null,null,null,null,null,null,null,null,null,null,null,null,null,null,null,null,null,null,null,null,null,null,null,null,null,null,null,null,null,null,null,null,null,null,null,null,null,null,null,null,null,null,null,null,null,null,null,null,null,null,null,null,null,null,null,null,null,null,null,null,null,null,null,null,null,null,null,null,null,null,null,null,null,null,null,null,null,null,null,null,null,null,null,null,null,null,null,null,null,null,null,null,null,null,null,null,null,null,null,null,null,null,null,null,null,null,null,null,null,null,null,null,null,null,null,null,null,null,null,null,null,null,null,null,null,null,null,null,null,null,null,null,null,null,null,null,null,null,null,null,null,null,null,null,null,null,null,null,null,null,null,null,null,null,null,null,null,null,null,null,null,null,null,null,null,null,null,null,null,null,null,null,null,null,null,null,null,null,null,null,null,null,null,null,null,null,null,null,null,null,null,null,null,null,null,null,null,null,null,null,null,null,null,null,null,null,null,null,null,null,null,null,null,null,null,null,null,null,null,null,null,null,null,null,null,null,null,null,null,null,null,null,null,null,null,null,null,null,null,null,null,null,null,null,null,null,null,null,null,null,null,null,null,null,null,null,null,null,null,null,null,null,null,null,null,null,null,null,null,null,null,null,null,null,null,null,null,null,null,null,null,null,null,null,null,null,null,null,null,null,null,null,null,null,null,null,null,null,null,null,null,null,null,null,null,null,null,null,null,null,null,"f13",{"$f":"OV1137","v":3.0805848811237198},{"$f":"OW1138","v":23.166109012412317},{"$f":"OV1139","v":2.7405956744318685},{"$f":"OW1139","v":22.942104695089057},{"$f":"OU1139","v":"f12"}]
[null,null,null,null,null,null,null,null,null,null,null,null,null,null,null,null,null,null,null,null,null,null,null,null,null,null,null,null,null,null,null,null,null,null,null,null,null,null,null,null,null,null,null,null,null,null,null,null,null,null,null,null,null,null,null,null,null,null,null,null,null,null,null,null,null,null,null,null,null,null,null,null,null,null,null,null,null,null,null,null,null,null,null,null,null,null,null,null,null,null,null,null,null,null,null,null,null,null,null,null,null,null,null,null,null,null,null,null,null,null,null,null,null,null,null,null,null,null,null,null,null,null,null,null,null,null,null,null,null,null,null,null,null,null,null,null,null,null,null,null,null,null,null,null,null,null,null,null,null,null,null,null,null,null,null,null,null,null,null,null,null,null,null,null,null,null,null,null,null,null,null,null,null,null,null,null,null,null,null,null,null,null,null,null,null,null,null,null,null,null,null,null,null,null,null,null,null,null,null,null,null,null,null,null,null,null,null,null,null,null,null,null,null,null,null,null,null,null,null,null,null,null,null,null,null,null,null,null,null,null,null,null,null,null,null,null,null,null,null,null,null,null,null,null,null,null,null,null,null,null,null,null,null,null,null,null,null,null,null,null,null,null,null,null,null,null,null,null,null,null,null,null,null,null,null,null,null,null,null,null,null,null,null,null,null,null,null,null,null,null,null,null,null,null,null,null,null,null,null,null,null,null,null,null,null,null,null,null,null,null,null,null,null,null,null,null,null,null,null,null,null,null,null,null,null,null,null,null,null,null,null,null,null,null,null,null,null,null,null,null,null,null,null,null,null,null,null,null,null,null,null,null,null,null,null,null,null,null,null,null,null,null,null,null,null,null,null,null,null,null,null,null,null,null,null,null,null,null,null,null,null,null,null,null,null,null,null,null,null,null,null,null,null,null,null,null,null,null,null,null,null,null,null,null,null,null,null,null,null,null,null,null,null,{"$f":"OV1140","v":3.0805848811237198},{"$f":"OW1140","v":23.166109012412317},{"$f":"OU1140","v":"f13"}]

{"sheet":"متغیرها ","index":2,"n_rows":960,"n_cols":149,"rows_kept":960,"cut":false,"hidden":true,"merged":[]}
[]
[null,null,null,null,null,null,null,null,null,null,null,null,null,null,null,null,null,null,null,null,0.5,null,null,null,null,null,null,null,"مقایسه ترتیب اندازه ها"]
["متغیرهای ورودی چادر",null,null,null,"تبدیل رنج متغیر ورودی","توضیح متغیر ورودی برای صفحه نمایش",null,null,null,null,null,null,null,null,null,null,null,null,null,null,9,{"$f":"U3+U2","v":9.5},{"$f":"V3+U2","v":10},{"$f":"W3+U2","v":10.5},{"$f":"X3+U2","v":11},{"$f":"Y3+U2","v":11.5},{"$f":"Z3+U2","v":12},{"$f":"AA3+U2","v":12.5},{"$f":"AB3+U2","v":13},{"$f":"AC3+U2","v":13.5},{"$f":"AD3+U2","v":14},{"$f":"AE3+U2","v":14.5},{"$f":"AF3+U2","v":15},{"$f":"AG3+U2","v":15.5},{"$f":"AH3+U2","v":16},{"$f":"AI3+U2","v":16.5},{"$f":"AJ3+U2","v":17},{"$f":"AK3+U2","v":17.5}]
[" متغیر ورودی چادر شماره 1 یا مقنعه ",null,null,null,null," متغیر ورودی چادر شماره 1 یا مقنعه ","x1","y1","x2","y2(بهینه)","a","b",null,"کمترین",null,"بیشترین",null,null,null,null,"انتخاب ستون سلول مرجع برای انتخاب سایز در رسم الگو","انتخاب نوع الگو","انتخاب نوع اندازه گیری","اندازه جدید یا اندازه موجود","انتخاب ستون سلول مرجع برای انتخاب سایز در بررسی اندازه ها"]
["ضریب فاصله لبه چادر یا مقنعه تا زمین   j0","(از -0.1 الی 4.5)",{"$f":"K5*E5+L5","v":3},"خط زمین=0 \nخط زانو=1 \nخط باسن=2 \nخط کمر=3 \nخط سینه=4  ",{"$f":"'طراحی همه الگوها'!Q177","v":70},"ضریب فاصله لبه چادر یا مقنعه تا زمین   ",10,0,30,1,{"$f":"(J5-H5)/(I5-G5)","v":0.05},{"$f":"H5-G5*K5","v":-0.5},2,{"$f":"(M5-L5)/K5","v":50},4,{"$f":"(O5-L5)/K5","v":90},3,{"$f":"(Q5-L5)/K5","v":70},null,"سلول مرجع",{"$f":"MATCH('مساله سوم مدل 13'!A475,'متغیرها '!AJ51:AJ179,0)","v":8},1,3,2,18]
["انتخاب چادر تا پایین پیشانی=1    انتخاب چادر تا بالای پیشانی=0\nانتخاب چادر روی سر = -1"," -1 یا 0 یا 1",{"$f":"K6*E6+L6","v":0},null,{"$f":"'طراحی همه الگوها'!Q178","v":2},"انتخاب چادر تا پایین پیشانی=3    انتخاب چادر تا بالای پیشانی=2\nانتخاب چادر روی سر = 1",2,0,1,-1,{"$f":"(J6-H6)/(I6-G6)","v":1},{"$f":"H6-G6*K6","v":-2},0,{"$f":"(M6-L6)/K6","v":2},2,{"$f":"(O6-L6)/K6","v":4},1,{"$f":"(Q6-L6)/K6","v":3},null,null," 1ماهه با پوشک","1 تا 3 ماهه با پوشک"," 3 تا 6 ماهه با پوشک","6ماهه تا یکساله با پوشک","بچگانه 1 ساله با پوشک","بچگانه 2 ساله با پوشک","بچگانه 3 ساله","بچگانه 4 ساله","بچگانه 5 ساله","بچگانه 6 ساله","بچگانه 7 ساله","بچگانه 8 ساله","بچگانه 9 ساله","بچگانه 10 ساله","بچگانه 11 ساله","بچگانه 12 ساله","بچگانه 13 ساله","بچگانه 14 ساله","34زنانه","36زنانه","38زنانه","40زنانه","42زنانه","44زنانه","46زنانه","48زنانه","50زنانه","52زنانه","54زنانه","56زنانه","58زنانه","60زنانه","37 مردانه","38 مردانه","39 مردانه","40 مردانه","41 مردانه","42 مردانه","43 مردانه","44 مردانه","45 مردانه","46 مردانه","47 مردانه","48 مردانه","49 مردانه","50 مردانه","6ماهه تا یکساله کت","1ساله کت","2ساله کت","3ساله کت","4ساله کت","5ساله کت","6ساله کت","7ساله کت","8ساله کت","9ساله کت","10ساله کت","11ساله کت","12ساله کت","13ساله کت","14ساله کت","34زنانه کمر پهن","36زنانه کمر پهن","38زنانه کمر پهن","40زنانه کمر پهن","42زنانه کمر پهن","44زنانه کمر پهن","46زنانه کمر پهن","48زنانه کمر پهن","50زنانه کمر پهن","52زنانه کمر پهن","54زنانه کمر پهن","56زنانه کمر پهن","58زنانه کمر پهن","60زنانه کمر پهن","37مردانه کت","38مردانه کت","39مردانه کت","40مردانه کت","41مردانه کت","42مردانه کت","43مردانه کت","44مردانه کت","45مردانه کت","46 مردانه کت","47 مردانه کت","48 مردانه کت","49 مردانه کت","50 مردانه کت",{"$f":"'اندازه های شخصی'!G5","v":"عنوان 1"},{"$f":"'اندازه های شخصی'!I5","v":"عنوان 2"},{"$f":"'اندازه های شخصی'!K5","v":"عنوان 3"},{"$f":"'اندازه های شخصی'!M5","v":"عنوان 4"},{"$f":"'اندازه های شخصی'!O5","v":"عنوان 5"},{"$f":"'اندازه های شخصی'!Q5","v":"عنوان 6"},{"$f":"'اندازه های شخصی'!S5","v":"عنوان 7"},{"$f":"'اندازه های شخصی'!U5","v":"عنوان 8"},{"$f":"'اندازه های شخصی'!W5","v":"عنوان 9"},{"$f":"'اندازه های شخصی'!Y5","v":"عنوان 10"},{"$f":"'اندازه های شخصی'!AA5","v":"عنوان 11"},{"$f":"'اندازه های شخصی'!AC5","v":"عنوان 12"},{"$f":"'اندازه های شخصی'!AE5","v":"عنوان 13"},{"$f":"'اندازه های شخصی'!AG5","v":"عنوان 14"},{"$f":"'اندازه های شخصی'!AI5","v":"عنوان 15"},{"$f":"'اندازه های شخصی'!AK5","v":"عنوان 16"},{"$f":"'اندازه های شخصی'!AM5","v":"عنوان 17"},{"$f":"'اندازه های شخصی'!AO5","v":"عنوان 18"},{"$f":"'اندازه های شخصی'!AQ5","v":"عنوان 19"},{"$f":"'اندازه های شخصی'!AS5","v":"عنوان 20"},{"$f":"'اندازه های شخصی'!AU5","v":"عنوان 21"},{"$f":"'اندازه های شخصی'!AW5","v":"عنوان 22"},{"$f":"'اندازه های شخصی'!AY5","v":"عنوان 23"},{"$f":"'اندازه های شخصی'!BA5","v":"عنوان 24"},{"$f":"'اندازه های شخصی'!BC5","v":"عنوان 25"},{"$f":"'اندازه های شخصی'!BE5","v":"عنوان 26"},{"$f":"'اندازه های شخصی'!BG5","v":"عنوان 27"},{"$f":"'اندازه های شخصی'!BI5","v":"عنوان 28"},{"$f":"'اندازه های شخصی'!BK5","v":"عنوان 29"},{"$f":"'اندازه های شخصی'!BM5","v":"عنوان 30"},{"$f":"'اندازه های شخصی'!BO5","v":"عنوان 31"},{"$f":"'اندازه های شخصی'!BQ5","v":"عنوان 32"},{"$f":"'اندازه های شخصی'!BS5","v":"عنوان 33"},{"$f":"'اندازه های شخصی'!BU5","v":"عنوان 34"},{"$f":"'اندازه های شخصی'!BW5","v":"عنوان 35"},{"$f":"'اندازه های شخصی'!BY5","v":"عنوان 36"},{"$f":"'اندازه های شخصی'!CA5","v":"عنوان 37"},{"$f":"'اندازه های شخصی'!CC5","v":"عنوان 38"},{"$f":"'اندازه های شخصی'!CE5","v":"عنوان 39"},{"$f":"'اندازه های شخصی'!CG5","v":"عنوان 40"}]
[null,null,null,null,null,null,null,null,null,null,null,null,null,null,null,null,null,null,null,"a",41,42,45,47,48,49,51,53,55,57,59,61,63,65.5,68,71,73,75,63,65,68,72,77,82,87,92,97,103,110,117,124,131,74,78,82,86,90,94,98,102,106,111,116,121,126,131,47,48,49,51,53,55,57,59,61,63,65.5,68,71,73,75,67,69,72,76,81,86,91,96,101,107,114,121,127,135,75.5,79.599999999999994,83.6,87.7,91.8,95.9,100,104,108.1,113.2,118.3,123.4,128.5,133.6,{"$f":"'اندازه های شخصی'!G8","v":0},{"$f":"'اندازه های شخصی'!I8","v":0},{"$f":"'اندازه های شخصی'!K8","v":0},{"$f":"'اندازه های شخصی'!M8","v":0},{"$f":"'اندازه های شخصی'!O8","v":0},{"$f":"'اندازه های شخصی'!Q8","v":0},{"$f":"'اندازه های شخصی'!S8","v":0},{"$f":"'اندازه های شخصی'!U8","v":0},{"$f":"'اندازه های شخصی'!W8","v":0},{"$f":"'اندازه های شخصی'!Y8","v":0},{"$f":"'اندازه های شخصی'!AA8","v":0},{"$f":"'اندازه های شخصی'!AC8","v":0},{"$f":"'اندازه های شخصی'!AE8","v":0},{"$f":"'اندازه های شخصی'!AG8","v":0},{"$f":"'اندازه های شخصی'!AI8","v":0},{"$f":"'اندازه های شخصی'!AK8","v":0},{"$f":"'اندازه های شخصی'!AM8","v":0},{"$f":"'اندازه های شخصی'!AO8","v":0},{"$f":"'اندازه های شخصی'!AQ8","v":0},{"$f":"'اندازه های شخصی'!AS8","v":0},{"$f":"'اندازه های شخصی'!AU8","v":0},{"$f":"'اندازه های شخصی'!AW8","v":0},{"$f":"'اندازه های شخصی'!AY8","v":0},{"$f":"'اندازه های شخصی'!BA8","v":0},{"$f":"'اندازه های شخصی'!BC8","v":0},{"$f":"'اندازه های شخصی'!BE8","v":0},{"$f":"'اندازه های شخصی'!BG8","v":0},{"$f":"'اندازه های شخصی'!BI8","v":0},{"$f":"'اندازه های شخصی'!BK8","v":0},{"$f":"'اندازه های شخصی'!BM8","v":0},{"$f":"'اندازه های شخصی'!BO8","v":0},{"$f":"'اندازه های شخصی'!BQ8","v":0},{"$f":"'اندازه های شخصی'!BS8","v":0},{"$f":"'اندازه های شخصی'!BU8","v":0},{"$f":"'اندازه های شخصی'!BW8","v":0},{"$f":"'اندازه های شخصی'!BY8","v":0},{"$f":"'اندازه های شخصی'!CA8","v":0},{"$f":"'اندازه های شخصی'!CC8","v":0},{"$f":"'اندازه های شخصی'!CE8","v":0},{"$f":"'اندازه های شخصی'!CG8","v":0}]
[" متغیرهای ورودی چادر شماره 2",null,null,null,null," متغیرهای ورودی چادر شماره 2","x1","y1","x2","y2(بهینه)","a","b",null,"کمترین",null,"بیشترین",null,null,null,"b",20.100000000000001,20.6,22.1,23,23.5,24,25,26,27,27.9,28.9,29.9,30.9,32.1,33.299999999999997,34.799999999999997,35.799999999999997,36.799999999999997,32.200000000000003,32.700000000000003,33.700000000000003,35.200000000000003,36.9,38.700000000000003,40.6,42.3,44.3,47.5,51,54.8,59.2,63.6,37,39,41,43,45,47,49,51,53,55.5,58,60.5,63,65.5,23,23.5,24,25,26,27,27.9,28.9,29.9,30.9,32.1,33.299999999999997,34.799999999999997,35.799999999999997,36.799999999999997,34.200000000000003,34.700000000000003,35.700000000000003,37.1,38.799999999999997,40.6,42.4,44.2,46.1,49.4,52.8,56.7,60.7,64.5,37.799999999999997,39.799999999999997,41.8,43.9,45.9,48,50,52,54.1,56.6,59.2,61.7,64.3,66.8,{"$f":"'اندازه های شخصی'!G9","v":0},{"$f":"'اندازه های شخصی'!I9","v":0},{"$f":"'اندازه های شخصی'!K9","v":0},{"$f":"'اندازه های شخصی'!M9","v":0},{"$f":"'اندازه های شخصی'!O9","v":0},{"$f":"'اندازه های شخصی'!Q9","v":0},{"$f":"'اندازه های شخصی'!S9","v":0},{"$f":"'اندازه های شخصی'!U9","v":0},{"$f":"'اندازه های شخصی'!W9","v":0},{"$f":"'اندازه های شخصی'!Y9","v":0},{"$f":"'اندازه های شخصی'!AA9","v":0},{"$f":"'اندازه های شخصی'!AC9","v":0},{"$f":"'اندازه های شخصی'!AE9","v":0},{"$f":"'اندازه های شخصی'!AG9","v":0},{"$f":"'اندازه های شخصی'!AI9","v":0},{"$f":"'اندازه های شخصی'!AK9","v":0},{"$f":"'اندازه های شخصی'!AM9","v":0},{"$f":"'اندازه های شخصی'!AO9","v":0},{"$f":"'اندازه های شخصی'!AQ9","v":0},{"$f":"'اندازه های شخصی'!AS9","v":0},{"$f":"'اندازه های شخصی'!AU9","v":0},{"$f":"'اندازه های شخصی'!AW9","v":0},{"$f":"'اندازه های شخصی'!AY9","v":0},{"$f":"'اندازه های شخصی'!BA9","v":0},{"$f":"'اندازه های شخصی'!BC9","v":0},{"$f":"'اندازه های شخصی'!BE9","v":0},{"$f":"'اندازه های شخصی'!BG9","v":0},{"$f":"'اندازه های شخصی'!BI9","v":0},{"$f":"'اندازه های شخصی'!BK9","v":0},{"$f":"'اندازه های شخصی'!BM9","v":0},{"$f":"'اندازه های شخصی'!BO9","v":0},{"$f":"'اندازه های شخصی'!BQ9","v":0},{"$f":"'اندازه های شخصی'!BS9","v":0},{"$f":"'اندازه های شخصی'!BU9","v":0},{"$f":"'اندازه های شخصی'!BW9","v":0},{"$f":"'اندازه های شخصی'!BY9","v":0},{"$f":"'اندازه های شخصی'!CA9","v":0},{"$f":"'اندازه های شخصی'!CC9","v":0},{"$f":"'اندازه های شخصی'!CE9","v":0},{"$f":"'اندازه های شخصی'!CG9","v":0}]
["ضریب فاصله لبه چادر تا زمین   j0","(از -0.1 الی 0.5)",{"$f":"K9*E9+L9","v":0},"خط زمین=0 \nخط زانو=1  ",{"$f":"'طراحی همه الگوها'!Q188","v":10},"ضریب فاصله لبه چادر تا زمین   ",10,0,30,1,{"$f":"(J9-H9)/(I9-G9)","v":0.05},{"$f":"H9-G9*K9","v":-0.5},-0.1,{"$f":"(M9-L9)/K9","v":8},0.5,{"$f":"(O9-L9)/K9","v":20},0,{"$f":"(Q9-L9)/K9","v":10},null,"c",43,45,48,50,53,56,59,62,65,68,71,74,77,80,83,85,89,93,85,89,93,97,102,107,112,117,122,126,132,138,144,150,92,96,100,104,108,112,116,120,124,128,132,136,140,144,50,53,56,59,62,65,68,71,74,77,80,83,85,89,93,85,89,93,97,102,107,112,117,122,126,132,138,144,150,92,96,100,104,108,112,116,120,124,128,132,136,140,144,{"$f":"'اندازه های شخصی'!G10","v":0},{"$f":"'اندازه های شخصی'!I10","v":0},{"$f":"'اندازه های شخصی'!K10","v":0},{"$f":"'اندازه های شخصی'!M10","v":0},{"$f":"'اندازه های شخصی'!O10","v":0},{"$f":"'اندازه های شخصی'!Q10","v":0},{"$f":"'اندازه های شخصی'!S10","v":0},{"$f":"'اندازه های شخصی'!U10","v":0},{"$f":"'اندازه های شخصی'!W10","v":0},{"$f":"'اندازه های شخصی'!Y10","v":0},{"$f":"'اندازه های شخصی'!AA10","v":0},{"$f":"'اندازه های شخصی'!AC10","v":0},{"$f":"'اندازه های شخصی'!AE10","v":0},{"$f":"'اندازه های شخصی'!AG10","v":0},{"$f":"'اندازه های شخصی'!AI10","v":0},{"$f":"'اندازه های شخصی'!AK10","v":0},{"$f":"'اندازه های شخصی'!AM10","v":0},{"$f":"'اندازه های شخصی'!AO10","v":0},{"$f":"'اندازه های شخصی'!AQ10","v":0},{"$f":"'اندازه های شخصی'!AS10","v":0},{"$f":"'اندازه های شخصی'!AU10","v":0},{"$f":"'اندازه های شخصی'!AW10","v":0},{"$f":"'اندازه های شخصی'!AY10","v":0},{"$f":"'اندازه های شخصی'!BA10","v":0},{"$f":"'اندازه های شخصی'!BC10","v":0},{"$f":"'اندازه های شخصی'!BE10","v":0},{"$f":"'اندازه های شخصی'!BG10","v":0},{"$f":"'اندازه های شخصی'!BI10","v":0},{"$f":"'اندازه های شخصی'!BK10","v":0},{"$f":"'اندازه های شخصی'!BM10","v":0},{"$f":"'اندازه های شخصی'!BO10","v":0},{"$f":"'اندازه های شخصی'!BQ10","v":0},{"$f":"'اندازه های شخصی'!BS10","v":0},{"$f":"'اندازه های شخصی'!BU10","v":0},{"$f":"'اندازه های شخصی'!BW10","v":0},{"$f":"'اندازه های شخصی'!BY10","v":0},{"$f":"'اندازه های شخصی'!CA10","v":0},{"$f":"'اندازه های شخصی'!CC10","v":0},{"$f":"'اندازه های شخصی'!CE10","v":0},{"$f":"'اندازه های شخصی'!CG10","v":0}]
["ضریب قرارگیری نقطه اتصال جلو چادر به پشت چادر  a0","(از 0.5 الی 1.2)",1,"روی پیشانی=0.5 \nبالای گوش=1  ",{"$f":"'طراحی همه الگوها'!Q189","v":20},"مکان نقطه اتصال جلو چادر به پشت چادر  ",10,0.5,20,1,0.05,0,0.5,10,1.2,23.999999999999996,0.5,10,null,"d",24.1,25.2,26.9,28,29.7,31.4,31.3,32.9,34.5,36,37.6,39.200000000000003,40.799999999999997,42.4,44,45.1,47.2,49.3,47.5,49,50.4,51.9,53.6,55.4,57.2,59,61,63.7,67,70.8,75.3,79.8,50.6,52.8,55,57.2,59.4,61.6,63.8,66,68.2,70.400000000000006,72.599999999999994,74.8,77,79.2,28,29.7,31.4,31.3,33.5,35.1,36.700000000000003,38.299999999999997,40,41.6,43.2,44,45.1,47.2,49.3,47.5,49,50.4,51.9,53.6,55.4,57.2,59,61,63.7,67,70.8,75.3,79.8,48.3,50.4,52.5,54.6,56.7,58.8,60.9,63,65.099999999999994,67.2,69.3,71.400000000000006,73.5,75.599999999999994,{"$f":"'اندازه های شخصی'!G11","v":0},{"$f":"'اندازه های شخصی'!I11","v":0},{"$f":"'اندازه های شخصی'!K11","v":0},{"$f":"'اندازه های شخصی'!M11","v":0},{"$f":"'اندازه های شخصی'!O11","v":0},{"$f":"'اندازه های شخصی'!Q11","v":0},{"$f":"'اندازه های شخصی'!S11","v":0},{"$f":"'اندازه های شخصی'!U11","v":0},{"$f":"'اندازه های شخصی'!W11","v":0},{"$f":"'اندازه های شخصی'!Y11","v":0},{"$f":"'اندازه های شخصی'!AA11","v":0},{"$f":"'اندازه های شخصی'!AC11","v":0},{"$f":"'اندازه های شخصی'!AE11","v":0},{"$f":"'اندازه های شخصی'!AG11","v":0},{"$f":"'اندازه های شخصی'!AI11","v":0},{"$f":"'اندازه های شخصی'!AK11","v":0},{"$f":"'اندازه های شخصی'!AM11","v":0},{"$f":"'اندازه های شخصی'!AO11","v":0},{"$f":"'اندازه های شخصی'!AQ11","v":0},{"$f":"'اندازه های شخصی'!AS11","v":0},{"$f":"'اندازه های شخصی'!AU11","v":0},{"$f":"'اندازه های شخصی'!AW11","v":0},{"$f":"'اندازه های شخصی'!AY11","v":0},{"$f":"'اندازه های شخصی'!BA11","v":0},{"$f":"'اندازه های شخصی'!BC11","v":0},{"$f":"'اندازه های شخصی'!BE11","v":0},{"$f":"'اندازه های شخصی'!BG11","v":0},{"$f":"'اندازه های شخصی'!BI11","v":0},{"$f":"'اندازه های شخصی'!BK11","v":0},{"$f":"'اندازه های شخصی'!BM11","v":0},{"$f":"'اندازه های شخصی'!BO11","v":0},{"$f":"'اندازه های شخصی'!BQ11","v":0},{"$f":"'اندازه های شخصی'!BS11","v":0},{"$f":"'اندازه های شخصی'!BU11","v":0},{"$f":"'اندازه های شخصی'!BW11","v":0},{"$f":"'اندازه های شخصی'!BY11","v":0},{"$f":"'اندازه های شخصی'!CA11","v":0},{"$f":"'اندازه های شخصی'!CC11","v":0},{"$f":"'اندازه های شخصی'!CE11","v":0},{"$f":"'اندازه های شخصی'!CG11","v":0}]
["ضریب گشادی عرضی چادر  a1","(از 0.35 الی 0.53)",0.45,"بهینه=0.45",{"$f":"'طراحی همه الگوها'!Q190","v":20},"ضریب گشادی عرضی چادر  ",21,0.46,20,0.45,1.0000000000000009E-2,0.24999999999999983,0.35,10.000000000000005,0.53,27.999999999999993,0.45,20,null,"e",23,25,32,38,42,48,53.9,60.4,66.400000000000006,70.400000000000006,74.400000000000006,77.900000000000006,80.900000000000006,84.4,87.9,91.9,95.9,99.9,101,102,103,104,104.4,104.9,105.4,105.9,106.4,106.9,107.4,107.9,108.4,108.9,103.8,105.1,106.5,107.2,107.8,108.4,109,109.6,110.2,110.7,111.2,111.7,112.2,112.7,38,42,48,53.9,60.4,66.400000000000006,70.400000000000006,74.400000000000006,77.900000000000006,80.900000000000006,84.4,87.9,91.9,95.9,99.9,101,102,103,104,104.4,104.9,105.4,105.9,106.4,106.9,107.4,107.9,108.4,108.9,104.7,106.1,107.5,108.2,108.8,109.4,110,110.6,111.2,111.7,112.2,112.7,113.2,113.7,{"$f":"'اندازه های شخصی'!G12","v":0},{"$f":"'اندازه های شخصی'!I12","v":0},{"$f":"'اندازه های شخصی'!K12","v":0},{"$f":"'اندازه های شخصی'!M12","v":0},{"$f":"'اندازه های شخصی'!O12","v":0},{"$f":"'اندازه های شخصی'!Q12","v":0},{"$f":"'اندازه های شخصی'!S12","v":0},{"$f":"'اندازه های شخصی'!U12","v":0},{"$f":"'اندازه های شخصی'!W12","v":0},{"$f":"'اندازه های شخصی'!Y12","v":0},{"$f":"'اندازه های شخصی'!AA12","v":0},{"$f":"'اندازه های شخصی'!AC12","v":0},{"$f":"'اندازه های شخصی'!AE12","v":0},{"$f":"'اندازه های شخصی'!AG12","v":0},{"$f":"'اندازه های شخصی'!AI12","v":0},{"$f":"'اندازه های شخصی'!AK12","v":0},{"$f":"'اندازه های شخصی'!AM12","v":0},{"$f":"'اندازه های شخصی'!AO12","v":0},{"$f":"'اندازه های شخصی'!AQ12","v":0},{"$f":"'اندازه های شخصی'!AS12","v":0},{"$f":"'اندازه های شخصی'!AU12","v":0},{"$f":"'اندازه های شخصی'!AW12","v":0},{"$f":"'اندازه های شخصی'!AY12","v":0},{"$f":"'اندازه های شخصی'!BA12","v":0},{"$f":"'اندازه های شخصی'!BC12","v":0},{"$f":"'اندازه های شخصی'!BE12","v":0},{"$f":"'اندازه های شخصی'!BG12","v":0},{"$f":"'اندازه های شخصی'!BI12","v":0},{"$f":"'اندازه های شخصی'!BK12","v":0},{"$f":"'اندازه های شخصی'!BM12","v":0},{"$f":"'اندازه های شخصی'!BO12","v":0},{"$f":"'اندازه های شخصی'!BQ12","v":0},{"$f":"'اندازه های شخصی'!BS12","v":0},{"$f":"'اندازه های شخصی'!BU12","v":0},{"$f":"'اندازه های شخصی'!BW12","v":0},{"$f":"'اندازه های شخصی'!BY12","v":0},{"$f":"'اندازه های شخصی'!CA12","v":0},{"$f":"'اندازه های شخصی'!CC12","v":0},{"$f":"'اندازه های شخصی'!CE12","v":0},{"$f":"'اندازه های شخصی'!CG12","v":0}]
["ضریب گشادی دور مچ  a2","(از 1.1 الی 2)",1.7000000000000006,"بهینه=1.7",{"$f":"'طراحی همه الگوها'!Q191","v":7},"ضریب گشادی دور مچ  ",1,1.1000000000000001,0,1,0.10000000000000009,1,1.1000000000000001,1,2,9.9999999999999911,1.7,6.9999999999999938,null,"f",23,25,32,38,42,48,54,60.5,66.5,70.5,74.5,78,81,84.5,88,92,96,100,102,103,104,105,105.5,106,106.5,107,107.5,108,108.5,109,109.5,110,104.8,106.2,107.6,108.3,108.9,109.5,110.1,110.7,111.3,111.8,112.3,112.8,113.3,113.8,38,42,48,54,60.5,66.5,70.5,74.5,78,81,84.5,88,92,96,100,102,103,104,105,105.5,106,106.5,107,107.5,108,108.5,109,109.5,110,104.8,106.2,107.6,108.3,108.9,109.5,110.1,110.7,111.3,111.8,112.3,112.8,113.3,113.8,{"$f":"'اندازه های شخصی'!G13","v":0},{"$f":"'اندازه های شخصی'!I13","v":0},{"$f":"'اندازه های شخصی'!K13","v":0},{"$f":"'اندازه های شخصی'!M13","v":0},{"$f":"'اندازه های شخصی'!O13","v":0},{"$f":"'اندازه های شخصی'!Q13","v":0},{"$f":"'اندازه های شخصی'!S13","v":0},{"$f":"'اندازه های شخصی'!U13","v":0},{"$f":"'اندازه های شخصی'!W13","v":0},{"$f":"'اندازه های شخصی'!Y13","v":0},{"$f":"'اندازه های شخصی'!AA13","v":0},{"$f":"'اندازه های شخصی'!AC13","v":0},{"$f":"'اندازه های شخصی'!AE13","v":0},{"$f":"'اندازه های شخصی'!AG13","v":0},{"$f":"'اندازه های شخصی'!AI13","v":0},{"$f":"'اندازه های شخصی'!AK13","v":0},{"$f":"'اندازه های شخصی'!AM13","v":0},{"$f":"'اندازه های شخصی'!AO13","v":0},{"$f":"'اندازه های شخصی'!AQ13","v":0},{"$f":"'اندازه های شخصی'!AS13","v":0},{"$f":"'اندازه های شخصی'!AU13","v":0},{"$f":"'اندازه های شخصی'!AW13","v":0},{"$f":"'اندازه های شخصی'!AY13","v":0},{"$f":"'اندازه های شخصی'!BA13","v":0},{"$f":"'اندازه های شخصی'!BC13","v":0},{"$f":"'اندازه های شخصی'!BE13","v":0},{"$f":"'اندازه های شخصی'!BG13","v":0},{"$f":"'اندازه های شخصی'!BI13","v":0},{"$f":"'اندازه های شخصی'!BK13","v":0},{"$f":"'اندازه های شخصی'!BM13","v":0},{"$f":"'اندازه های شخصی'!BO13","v":0},{"$f":"'اندازه های شخصی'!BQ13","v":0},{"$f":"'اندازه های شخصی'!BS13","v":0},{"$f":"'اندازه های شخصی'!BU13","v":0},{"$f":"'اندازه های شخصی'!BW13","v":0},{"$f":"'اندازه های شخصی'!BY13","v":0},{"$f":"'اندازه های شخصی'!CA13","v":0},{"$f":"'اندازه های شخصی'!CC13","v":0},{"$f":"'اندازه های شخصی'!CE13","v":0},{"$f":"'اندازه های شخصی'!CG13","v":0}]
["ضریب بلند شدن آستین نسبت به مچ  a4","(از -0.4 الی 0.4)",0,"آستین تا مچ=0 \nآستین کوتاه تر از مچ = منفی \nآستین بلند تر از مچ = مثبت   ",{"$f":"'طراحی همه الگوها'!Q192","v":10},"بلند شدن آستین چادر نسبت به مچ اندام ",30,-0.45,10,0,-2.2499999999999999E-2,0.22499999999999992,-0.4,27.777777777777779,0.4,-7.7777777777777821,0,9.9999999999999964,null,"g",23,25,32,38,42,48,54.1,60.6,66.599999999999994,70.599999999999994,74.599999999999994,78.099999999999994,81.099999999999994,84.6,88.1,92.1,96.1,100.1,103,104,105,106.1,106.6,107.1,107.6,108.1,108.6,109.1,109.6,110.1,110.6,111.1,105.8,107.3,108.7,109.4,110,110.6,111.2,111.8,112.4,112.9,113.4,113.9,114.4,114.9,38,42,48,54.1,60.6,66.599999999999994,70.599999999999994,74.599999999999994,78.099999999999994,81.099999999999994,84.6,88.1,92.1,96.1,100.1,103,104,105,106.1,106.6,107.1,107.6,108.1,108.6,109.1,109.6,110.1,110.6,111.1,104.9,106.3,107.7,108.4,109,109.6,110.2,110.8,111.4,111.9,112.4,112.9,113.4,113.9,{"$f":"'اندازه های شخصی'!G14","v":0},{"$f":"'اندازه های شخصی'!I14","v":0},{"$f":"'اندازه های شخصی'!K14","v":0},{"$f":"'اندازه های شخصی'!M14","v":0},{"$f":"'اندازه های شخصی'!O14","v":0},{"$f":"'اندازه های شخصی'!Q14","v":0},{"$f":"'اندازه های شخصی'!S14","v":0},{"$f":"'اندازه های شخصی'!U14","v":0},{"$f":"'اندازه های شخصی'!W14","v":0},{"$f":"'اندازه های شخصی'!Y14","v":0},{"$f":"'اندازه های شخصی'!AA14","v":0},{"$f":"'اندازه های شخصی'!AC14","v":0},{"$f":"'اندازه های شخصی'!AE14","v":0},{"$f":"'اندازه های شخصی'!AG14","v":0},{"$f":"'اندازه های شخصی'!AI14","v":0},{"$f":"'اندازه های شخصی'!AK14","v":0},{"$f":"'اندازه های شخصی'!AM14","v":0},{"$f":"'اندازه های شخصی'!AO14","v":0},{"$f":"'اندازه های شخصی'!AQ14","v":0},{"$f":"'اندازه های شخصی'!AS14","v":0},{"$f":"'اندازه های شخصی'!AU14","v":0},{"$f":"'اندازه های شخصی'!AW14","v":0},{"$f":"'اندازه های شخصی'!AY14","v":0},{"$f":"'اندازه های شخصی'!BA14","v":0},{"$f":"'اندازه های شخصی'!BC14","v":0},{"$f":"'اندازه های شخصی'!BE14","v":0},{"$f":"'اندازه های شخصی'!BG14","v":0},{"$f":"'اندازه های شخصی'!BI14","v":0},{"$f":"'اندازه های شخصی'!BK14","v":0},{"$f":"'اندازه های شخصی'!BM14","v":0},{"$f":"'اندازه های شخصی'!BO14","v":0},{"$f":"'اندازه های شخصی'!BQ14","v":0},{"$f":"'اندازه های شخصی'!BS14","v":0},{"$f":"'اندازه های شخصی'!BU14","v":0},{"$f":"'اندازه های شخصی'!BW14","v":0},{"$f":"'اندازه های شخصی'!BY14","v":0},{"$f":"'اندازه های شخصی'!CA14","v":0},{"$f":"'اندازه های شخصی'!CC14","v":0},{"$f":"'اندازه های شخصی'!CE14","v":0},{"$f":"'اندازه های شخصی'!CG14","v":0}]
["انتخاب چادر تا پایین پیشانی=1    انتخاب چادر تا بالای پیشانی=0\nانتخاب چادر روی سر = -1"," -1 یا 0 یا 1",0,null,{"$f":"'طراحی همه الگوها'!Q193","v":2},"انتخاب چادر تا پایین پیشانی=3    انتخاب چادر تا بالای پیشانی=2\nانتخاب چادر روی سر = 1",2,0,1,-1,1,-2,0,2,1,3,1,3,null,"h",6.5,7.8,10.3,12.8,15.3,17.600000000000001,19.900000000000002,22.200000000000003,24.500000000000004,26.800000000000004,29.100000000000005,31.400000000000006,33.700000000000003,36,38.299999999999997,40.599999999999994,42.899999999999991,45.199999999999989,44.5,45,45.5,46,46,46,46,46,46.3,46.3,46.4,46.5,46.6,46.7,48.1,48.8,49.6,50,50.4,50.8,51.2,51.5,51.9,52.3,52.6,53,53.2,53.6,13.4,14.9,17.2,24.9,27.4,30.3,32.1,33.9,35.4,36.6,38.200000000000003,39.700000000000003,41.4,43.5,45.7,44.5,45,45.5,46,46,46,46,46,46.3,46.3,46.4,46.5,46.6,46.7,48.1,48.8,49.6,50,50.3,50.8,51.2,51.5,51.9,52.3,52.6,52.9,53.3,53.6,{"$f":"'اندازه های شخصی'!G15","v":0},{"$f":"'اندازه های شخصی'!I15","v":0},{"$f":"'اندازه های شخصی'!K15","v":0},{"$f":"'اندازه های شخصی'!M15","v":0},{"$f":"'اندازه های شخصی'!O15","v":0},{"$f":"'اندازه های شخصی'!Q15","v":0},{"$f":"'اندازه های شخصی'!S15","v":0},{"$f":"'اندازه های شخصی'!U15","v":0},{"$f":"'اندازه های شخصی'!W15","v":0},{"$f":"'اندازه های شخصی'!Y15","v":0},{"$f":"'اندازه های شخصی'!AA15","v":0},{"$f":"'اندازه های شخصی'!AC15","v":0},{"$f":"'اندازه های شخصی'!AE15","v":0},{"$f":"'اندازه های شخصی'!AG15","v":0},{"$f":"'اندازه های شخصی'!AI15","v":0},{"$f":"'اندازه های شخصی'!AK15","v":0},{"$f":"'اندازه های شخصی'!AM15","v":0},{"$f":"'اندازه های شخصی'!AO15","v":0},{"$f":"'اندازه های شخصی'!AQ15","v":0},{"$f":"'اندازه های شخصی'!AS15","v":0},{"$f":"'اندازه های شخصی'!AU15","v":0},{"$f":"'اندازه های شخصی'!AW15","v":0},{"$f":"'اندازه های شخصی'!AY15","v":0},{"$f":"'اندازه های شخصی'!BA15","v":0},{"$f":"'اندازه های شخصی'!BC15","v":0},{"$f":"'اندازه های شخصی'!BE15","v":0},{"$f":"'اندازه های شخصی'!BG15","v":0},{"$f":"'اندازه های شخصی'!BI15","v":0},{"$f":"'اندازه های شخصی'!BK15","v":0},{"$f":"'اندازه های شخصی'!BM15","v":0},{"$f":"'اندازه های شخصی'!BO15","v":0},{"$f":"'اندازه های شخصی'!BQ15","v":0},{"$f":"'اندازه های شخصی'!BS15","v":0},{"$f":"'اندازه های شخصی'!BU15","v":0},{"$f":"'اندازه های شخصی'!BW15","v":0},{"$f":"'اندازه های شخصی'!BY15","v":0},{"$f":"'اندازه های شخصی'!CA15","v":0},{"$f":"'اندازه های شخصی'!CC15","v":0},{"$f":"'اندازه های شخصی'!CE15","v":0},{"$f":"'اندازه های شخصی'!CG15","v":0}]
[null,null,null,null,null,null,null,null,null,null,null,null,null,null,null,null,null,null,null,"j",15,17,23,28.7,31.8,36.700000000000003,45.2,49.8,55.1,58.3,61.6,64.3,66.5,69.400000000000006,72.099999999999994,75.3,79.099999999999994,83,82.5,82.7,83.4,84.1,84.3,84.5,84.7,85,85.3,85.7,86.1,86.5,86.9,87.3,87.4,88.8,90.2,90.9,91.6,92.3,93,93.7,94.3,95,95.7,96.3,96.8,97.5,28.7,31.8,36.700000000000003,45.2,49.8,55.1,58.3,61.6,64.3,66.5,69.400000000000006,72.099999999999994,75.3,79.099999999999994,83,82.5,82.7,83.4,84.1,84.3,84.5,84.7,85,85.3,85.7,86.1,86.5,86.9,87.3,87.4,88.8,90.2,90.9,91.5,92.3,93,93.6,94.4,95,95.7,96.2,96.9,97.5,{"$f":"'اندازه های شخصی'!G16","v":0},{"$f":"'اندازه های شخصی'!I16","v":0},{"$f":"'اندازه های شخصی'!K16","v":0},{"$f":"'اندازه های شخصی'!M16","v":0},{"$f":"'اندازه های شخصی'!O16","v":0},{"$f":"'اندازه های شخصی'!Q16","v":0},{"$f":"'اندازه های شخصی'!S16","v":0},{"$f":"'اندازه های شخصی'!U16","v":0},{"$f":"'اندازه های شخصی'!W16","v":0},{"$f":"'اندازه های شخصی'!Y16","v":0},{"$f":"'اندازه های شخصی'!AA16","v":0},{"$f":"'اندازه های شخصی'!AC16","v":0},{"$f":"'اندازه های شخصی'!AE16","v":0},{"$f":"'اندازه های شخصی'!AG16","v":0},{"$f":"'اندازه های شخصی'!AI16","v":0},{"$f":"'اندازه های شخصی'!AK16","v":0},{"$f":"'اندازه های شخصی'!AM16","v":0},{"$f":"'اندازه های شخصی'!AO16","v":0},{"$f":"'اندازه های شخصی'!AQ16","v":0},{"$f":"'اندازه های شخصی'!AS16","v":0},{"$f":"'اندازه های شخصی'!AU16","v":0},{"$f":"'اندازه های شخصی'!AW16","v":0},{"$f":"'اندازه های شخصی'!AY16","v":0},{"$f":"'اندازه های شخصی'!BA16","v":0},{"$f":"'اندازه های شخصی'!BC16","v":0},{"$f":"'اندازه های شخصی'!BE16","v":0},{"$f":"'اندازه های شخصی'!BG16","v":0},{"$f":"'اندازه های شخصی'!BI16","v":0},{"$f":"'اندازه های شخصی'!BK16","v":0},{"$f":"'اندازه های شخصی'!BM16","v":0},{"$f":"'اندازه های شخصی'!BO16","v":0},{"$f":"'اندازه های شخصی'!BQ16","v":0},{"$f":"'اندازه های شخصی'!BS16","v":0},{"$f":"'اندازه های شخصی'!BU16","v":0},{"$f":"'اندازه های شخصی'!BW16","v":0},{"$f":"'اندازه های شخصی'!BY16","v":0},{"$f":"'اندازه های شخصی'!CA16","v":0},{"$f":"'اندازه های شخصی'!CC16","v":0},{"$f":"'اندازه های شخصی'!CE16","v":0},{"$f":"'اندازه های شخصی'!CG16","v":0}]
[" متغیرهای ورودی چادر شماره 3",null,null,null,null," متغیرهای ورودی چادر شماره 3","x1","y1","x2","y2(بهینه)","a","b",null,"کمترین",null,"بیشترین",null,null,null,"L",17.600000000000001,18.5,19.7,20.5,21.7,23,24.2,25.4,26.7,27.9,29.1,30.3,31.6,32.799999999999997,34,34.9,36.5,38.1,34.9,36.5,38.1,39.799999999999997,41.8,43.9,45.9,48,50,51.7,54.1,56.6,59,61.5,37.700000000000003,39.4,41,42.6,44.3,45.9,47.6,49.2,50.8,52.5,54.1,55.8,57.4,59,20.5,21.7,23,24.2,25.4,26.7,27.9,29.1,30.3,31.6,32.799999999999997,34,34.9,36.5,38.1,34.9,36.5,38.1,39.799999999999997,41.8,43.9,45.9,48,50,51.7,54.1,56.6,59,61.5,37.700000000000003,39.4,41,42.6,44.3,45.9,47.6,49.2,50.8,52.5,54.1,55.8,57.4,59,{"$f":"'اندازه های شخصی'!G17","v":0},{"$f":"'اندازه های شخصی'!I17","v":0},{"$f":"'اندازه های شخصی'!K17","v":0},{"$f":"'اندازه های شخصی'!M17","v":0},{"$f":"'اندازه های شخصی'!O17","v":0},{"$f":"'اندازه های شخصی'!Q17","v":0},{"$f":"'اندازه های شخصی'!S17","v":0},{"$f":"'اندازه های شخصی'!U17","v":0},{"$f":"'اندازه های شخصی'!W17","v":0},{"$f":"'اندازه های شخصی'!Y17","v":0},{"$f":"'اندازه های شخصی'!AA17","v":0},{"$f":"'اندازه های شخصی'!AC17","v":0},{"$f":"'اندازه های شخصی'!AE17","v":0},{"$f":"'اندازه های شخصی'!AG17","v":0},{"$f":"'اندازه های شخصی'!AI17","v":0},{"$f":"'اندازه های شخصی'!AK17","v":0},{"$f":"'اندازه های شخصی'!AM17","v":0},{"$f":"'اندازه های شخصی'!AO17","v":0},{"$f":"'اندازه های شخصی'!AQ17","v":0},{"$f":"'اندازه های شخصی'!AS17","v":0},{"$f":"'اندازه های شخصی'!AU17","v":0},{"$f":"'اندازه های شخصی'!AW17","v":0},{"$f":"'اندازه های شخصی'!AY17","v":0},{"$f":"'اندازه های شخصی'!BA17","v":0},{"$f":"'اندازه های شخصی'!BC17","v":0},{"$f":"'اندازه های شخصی'!BE17","v":0},{"$f":"'اندازه های شخصی'!BG17","v":0},{"$f":"'اندازه های شخصی'!BI17","v":0},{"$f":"'اندازه های شخصی'!BK17","v":0},{"$f":"'اندازه های شخصی'!BM17","v":0},{"$f":"'اندازه های شخصی'!BO17","v":0},{"$f":"'اندازه های شخصی'!BQ17","v":0},{"$f":"'اندازه های شخصی'!BS17","v":0},{"$f":"'اندازه های شخصی'!BU17","v":0},{"$f":"'اندازه های شخصی'!BW17","v":0},{"$f":"'اندازه های شخصی'!BY17","v":0},{"$f":"'اندازه های شخصی'!CA17","v":0},{"$f":"'اندازه های شخصی'!CC17","v":0},{"$f":"'اندازه های شخصی'!CE17","v":0},{"$f":"'اندازه های شخصی'!CG17","v":0}]
["ضریب فاصله لبه چادر تا زمین   j0","(از -0.1 الی 0.5)",{"$f":"K17*E17+L17","v":0},"خط زمین=0 \nخط زانو=1  ",{"$f":"'طراحی همه الگوها'!Q210","v":10},"ضریب فاصله لبه چادر تا زمین   ",10,0,30,1,{"$f":"(J17-H17)/(I17-G17)","v":0.05},{"$f":"H17-G17*K17","v":-0.5},-0.1,{"$f":"(M17-L17)/K17","v":8},0.5,{"$f":"(O17-L17)/K17","v":20},0,{"$f":"(Q17-L17)/K17","v":10},null,"m",9.5,10.4,11.3,12.200000000000001,13.100000000000001,14.000000000000002,14.900000000000002,15.800000000000002,16.700000000000003,17.600000000000001,18.5,19.399999999999999,20.299999999999997,21.199999999999996,22.099999999999994,22.999999999999993,23.899999999999991,24.79999999999999,25.1,25.8,26.4,27.1,27.8,28.4,29.1,29.7,30.3,31,31.6,32.299999999999997,32.9,33.5,23.1,23.5,23.8,24.2,24.5,24.7,25,25.3,25.6,25.8,26.1,26.4,26.7,26.9,12,13,14,14,16,17,18,19,20,21,22,23,24,24.5,25,25.1,25.8,26.4,27.1,27.8,28.4,29.1,29.7,30.3,31,31.6,32.299999999999997,32.9,33.5,23.1,23.5,23.8,24.2,24.5,24.7,25,25.3,25.5,25.8,26.1,26.4,26.6,26.9,{"$f":"'اندازه های شخصی'!G18","v":0},{"$f":"'اندازه های شخصی'!I18","v":0},{"$f":"'اندازه های شخصی'!K18","v":0},{"$f":"'اندازه های شخصی'!M18","v":0},{"$f":"'اندازه های شخصی'!O18","v":0},{"$f":"'اندازه های شخصی'!Q18","v":0},{"$f":"'اندازه های شخصی'!S18","v":0},{"$f":"'اندازه های شخصی'!U18","v":0},{"$f":"'اندازه های شخصی'!W18","v":0},{"$f":"'اندازه های شخصی'!Y18","v":0},{"$f":"'اندازه های شخصی'!AA18","v":0},{"$f":"'اندازه های شخصی'!AC18","v":0},{"$f":"'اندازه های شخصی'!AE18","v":0},{"$f":"'اندازه های شخصی'!AG18","v":0},{"$f":"'اندازه های شخصی'!AI18","v":0},{"$f":"'اندازه های شخصی'!AK18","v":0},{"$f":"'اندازه های شخصی'!AM18","v":0},{"$f":"'اندازه های شخصی'!AO18","v":0},{"$f":"'اندازه های شخصی'!AQ18","v":0},{"$f":"'اندازه های شخصی'!AS18","v":0},{"$f":"'اندازه های شخصی'!AU18","v":0},{"$f":"'اندازه های شخصی'!AW18","v":0},{"$f":"'اندازه های شخصی'!AY18","v":0},{"$f":"'اندازه های شخصی'!BA18","v":0},{"$f":"'اندازه های شخصی'!BC18","v":0},{"$f":"'اندازه های شخصی'!BE18","v":0},{"$f":"'اندازه های شخصی'!BG18","v":0},{"$f":"'اندازه های شخصی'!BI18","v":0},{"$f":"'اندازه های شخصی'!BK18","v":0},{"$f":"'اندازه های شخصی'!BM18","v":0},{"$f":"'اندازه های شخصی'!BO18","v":0},{"$f":"'اندازه های شخصی'!BQ18","v":0},{"$f":"'اندازه های شخصی'!BS18","v":0},{"$f":"'اندازه های شخصی'!BU18","v":0},{"$f":"'اندازه های شخصی'!BW18","v":0},{"$f":"'اندازه های شخصی'!BY18","v":0},{"$f":"'اندازه های شخصی'!CA18","v":0},{"$f":"'اندازه های شخصی'!CC18","v":0},{"$f":"'اندازه های شخصی'!CE18","v":0},{"$f":"'اندازه های شخصی'!CG18","v":0}]
["ضریب گشادی دور مچ  b2","(از 1.1 الی 2)",1.5000000000000004,"بهینه=1.5",{"$f":"'طراحی همه الگوها'!Q211","v":5},"ضریب گشادی دور مچ  ",1,1.1000000000000001,0,1,0.10000000000000009,1,1.1000000000000001,1,2,9.9999999999999911,1.5,4.9999999999999956,null,"q",30,32.1,34.799999999999997,37.299999999999997,39.4,41.8,42.600000000000009,44.70000000000001,46.800000000000011,48.900000000000013,51.000000000000014,53.100000000000016,55.200000000000017,57.300000000000018,59.40000000000002,61.500000000000021,63.600000000000023,65.700000000000017,65.2,67.2,69.2,71.099999999999994,73.400000000000006,75.2,77.3,79.400000000000006,81.2,83.3,85.3,87.5,89.7,91.7,66.5,67.8,69.2,70.5,71.599999999999994,72.8,73.900000000000006,75.099999999999994,76.400000000000006,77.400000000000006,78.5,79.599999999999994,80.900000000000006,81.8,35.700000000000003,38.5,41.7,37.700000000000003,42.6,45,47.6,50.1,52.7,55.3,57.7,60.3,62.6,64.400000000000006,66,65.2,67.2,69.2,71.099999999999994,73.400000000000006,75.2,77.3,79.400000000000006,81.2,83.3,85.3,87.5,89.7,91.7,66.3,67.7,69,70.3,71.7,72.599999999999994,73.8,75.099999999999994,76.099999999999994,77.2,78.3,79.599999999999994,80.5,81.7,{"$f":"'اندازه های شخصی'!G19","v":0},{"$f":"'اندازه های شخصی'!I19","v":0},{"$f":"'اندازه های شخصی'!K19","v":0},{"$f":"'اندازه های شخصی'!M19","v":0},{"$f":"'اندازه های شخصی'!O19","v":0},{"$f":"'اندازه های شخصی'!Q19","v":0},{"$f":"'اندازه های شخصی'!S19","v":0},{"$f":"'اندازه های شخصی'!U19","v":0},{"$f":"'اندازه های شخصی'!W19","v":0},{"$f":"'اندازه های شخصی'!Y19","v":0},{"$f":"'اندازه های شخصی'!AA19","v":0},{"$f":"'اندازه های شخصی'!AC19","v":0},{"$f":"'اندازه های شخصی'!AE19","v":0},{"$f":"'اندازه های شخصی'!AG19","v":0},{"$f":"'اندازه های شخصی'!AI19","v":0},{"$f":"'اندازه های شخصی'!AK19","v":0},{"$f":"'اندازه های شخصی'!AM19","v":0},{"$f":"'اندازه های شخصی'!AO19","v":0},{"$f":"'اندازه های شخصی'!AQ19","v":0},{"$f":"'اندازه های شخصی'!AS19","v":0},{"$f":"'اندازه های شخصی'!AU19","v":0},{"$f":"'اندازه های شخصی'!AW19","v":0},{"$f":"'اندازه های شخصی'!AY19","v":0},{"$f":"'اندازه های شخصی'!BA19","v":0},{"$f":"'اندازه های شخصی'!BC19","v":0},{"$f":"'اندازه های شخصی'!BE19","v":0},{"$f":"'اندازه های شخصی'!BG19","v":0},{"$f":"'اندازه های شخصی'!BI19","v":0},{"$f":"'اندازه های شخصی'!BK19","v":0},{"$f":"'اندازه های شخصی'!BM19","v":0},{"$f":"'اندازه های شخصی'!BO19","v":0},{"$f":"'اندازه های شخصی'!BQ19","v":0},{"$f":"'اندازه های شخصی'!BS19","v":0},{"$f":"'اندازه های شخصی'!BU19","v":0},{"$f":"'اندازه های شخصی'!BW19","v":0},{"$f":"'اندازه های شخصی'!BY19","v":0},{"$f":"'اندازه های شخصی'!CA19","v":0},{"$f":"'اندازه های شخصی'!CC19","v":0},{"$f":"'اندازه های شخصی'!CE19","v":0},{"$f":"'اندازه های شخصی'!CG19","v":0}]
["ضریب بلندی طول مچ  b3  معادل ضریب تنگی پایین چادر","(از0 الی 0.4)",0.15,"بهینه=0.15",{"$f":"'طراحی همه الگوها'!Q212","v":15},"گشادی پایین چادر (معادل بلندی طول مچ)",1,0.01,0,0,0.01,0,0,0,0.4,40,0.15,15,null,"r",12.8,13.430000000000001,14.060000000000002,14.690000000000003,15.320000000000004,15.950000000000005,16.580000000000005,17.210000000000004,17.840000000000003,18.470000000000002,19.100000000000001,19.73,20.36,20.99,21.619999999999997,22.249999999999996,22.879999999999995,23.509999999999994,23,23.5,24,24.5,25.1,25.7,26.3,26.9,27.5,28,28.5,29,29.5,30,24,25,26,27,28,29,29,29,29,29.4,29.8,30.2,32.6,31,14.9,16.2,16.2,17.600000000000001,17.600000000000001,17.600000000000001,18.899999999999999,18.899999999999999,20.3,21.6,20.3,21.6,22.3,23,23.6,23,23.5,24,24.5,25.1,25.7,26.3,26.9,27.5,28,28.5,29,29.5,30,24,25,26,27,28,29,29,29,29,29.4,29.8,30.2,32.6,31,{"$f":"'اندازه های شخصی'!G20","v":0},{"$f":"'اندازه های شخصی'!I20","v":0},{"$f":"'اندازه های شخصی'!K20","v":0},{"$f":"'اندازه های شخصی'!M20","v":0},{"$f":"'اندازه های شخصی'!O20","v":0},{"$f":"'اندازه های شخصی'!Q20","v":0},{"$f":"'اندازه های شخصی'!S20","v":0},{"$f":"'اندازه های شخصی'!U20","v":0},{"$f":"'اندازه های شخصی'!W20","v":0},{"$f":"'اندازه های شخصی'!Y20","v":0},{"$f":"'اندازه های شخصی'!AA20","v":0},{"$f":"'اندازه های شخصی'!AC20","v":0},{"$f":"'اندازه های شخصی'!AE20","v":0},{"$f":"'اندازه های شخصی'!AG20","v":0},{"$f":"'اندازه های شخصی'!AI20","v":0},{"$f":"'اندازه های شخصی'!AK20","v":0},{"$f":"'اندازه های شخصی'!AM20","v":0},{"$f":"'اندازه های شخصی'!AO20","v":0},{"$f":"'اندازه های شخصی'!AQ20","v":0},{"$f":"'اندازه های شخصی'!AS20","v":0},{"$f":"'اندازه های شخصی'!AU20","v":0},{"$f":"'اندازه های شخصی'!AW20","v":0},{"$f":"'اندازه های شخصی'!AY20","v":0},{"$f":"'اندازه های شخصی'!BA20","v":0},{"$f":"'اندازه های شخصی'!BC20","v":0},{"$f":"'اندازه های شخصی'!BE20","v":0},{"$f":"'اندازه های شخصی'!BG20","v":0},{"$f":"'اندازه های شخصی'!BI20","v":0},{"$f":"'اندازه های شخصی'!BK20","v":0},{"$f":"'اندازه های شخصی'!BM20","v":0},{"$f":"'اندازه های شخصی'!BO20","v":0},{"$f":"'اندازه های شخصی'!BQ20","v":0},{"$f":"'اندازه های شخصی'!BS20","v":0},{"$f":"'اندازه های شخصی'!BU20","v":0},{"$f":"'اندازه های شخصی'!BW20","v":0},{"$f":"'اندازه های شخصی'!BY20","v":0},{"$f":"'اندازه های شخصی'!CA20","v":0},{"$f":"'اندازه های شخصی'!CC20","v":0},{"$f":"'اندازه های شخصی'!CE20","v":0},{"$f":"'اندازه های شخصی'!CG20","v":0}]
["ضریب بلند شدن آستین نسبت به مچ  b5","(از -0.4 الی 0.4)",0,"آستین تا مچ=0 \nآستین کوتاه تر از مچ = منفی \nآستین بلند تر از مچ = مثبت   ",{"$f":"'طراحی همه الگوها'!Q213","v":10},"بلند شدن آستین چادر نسبت به مچ اندام ",30,-0.45,10,0,-2.2499999999999999E-2,0.22499999999999992,-0.4,27.777777777777779,0.4,-7.7777777777777821,0,9.9999999999999964]
["عرض پارچه به سانتیمتر b1","(از 90 الی 200)",110," 90 یا 100 یا 110 \n115 یا 120 یا ...",{"$f":"'طراحی همه الگوها'!Q214","v":110},"عرض پارچه ",2,2,1,1,1,0,90,90,200,200,100,100,null,null,2,2,2,2,2,2,0,0,0,0,0,0,0,0,0,0,0,0,0,0,0,0,0,0,0,0,0,0,0,0,0,0,1,1,1,1,1,1,1,1,1,1,1,1,1,1,2,2,2,0,0,0,0,0,0,0,0,0,0,0,0,0,0,0,0,0,0,0,0,0,0,0,0,0,0,1,1,1,1,1,1,1,1,1,1,1,1,1,1,{"$f":"'اندازه های شخصی'!G21","v":0},{"$f":"'اندازه های شخصی'!I21","v":0},{"$f":"'اندازه های شخصی'!K21","v":0},{"$f":"'اندازه های شخصی'!M21","v":0},{"$f":"'اندازه های شخصی'!O21","v":0},{"$f":"'اندازه های شخصی'!Q21","v":0},{"$f":"'اندازه های شخصی'!S21","v":0},{"$f":"'اندازه های شخصی'!U21","v":0},{"$f":"'اندازه های شخصی'!W21","v":0},{"$f":"'اندازه های شخصی'!Y21","v":0},{"$f":"'اندازه های شخصی'!AA21","v":0},{"$f":"'اندازه های شخصی'!AC21","v":0},{"$f":"'اندازه های شخصی'!AE21","v":0},{"$f":"'اندازه های شخصی'!AG21","v":0},{"$f":"'اندازه های شخصی'!AI21","v":0},{"$f":"'اندازه های شخصی'!AK21","v":0},{"$f":"'اندازه های شخصی'!AM21","v":0},{"$f":"'اندازه های شخصی'!AO21","v":0},{"$f":"'اندازه های شخصی'!AQ21","v":0},{"$f":"'اندازه های شخصی'!AS21","v":0},{"$f":"'اندازه های شخصی'!AU21","v":0},{"$f":"'اندازه های شخصی'!AW21","v":0},{"$f":"'اندازه های شخصی'!AY21","v":0},{"$f":"'اندازه های شخصی'!BA21","v":0},{"$f":"'اندازه های شخصی'!BC21","v":0},{"$f":"'اندازه های شخصی'!BE21","v":0},{"$f":"'اندازه های شخصی'!BG21","v":0},{"$f":"'اندازه های شخصی'!BI21","v":0},{"$f":"'اندازه های شخصی'!BK21","v":0},{"$f":"'اندازه های شخصی'!BM21","v":0},{"$f":"'اندازه های شخصی'!BO21","v":0},{"$f":"'اندازه های شخصی'!BQ21","v":0},{"$f":"'اندازه های شخصی'!BS21","v":0},{"$f":"'اندازه های شخصی'!BU21","v":0},{"$f":"'اندازه های شخصی'!BW21","v":0},{"$f":"'اندازه های شخصی'!BY21","v":0},{"$f":"'اندازه های شخصی'!CA21","v":0},{"$f":"'اندازه های شخصی'!CC21","v":0},{"$f":"'اندازه های شخصی'!CE21","v":0},{"$f":"'اندازه های شخصی'!CG21","v":0}]
["انتخاب چادر تا پایین پیشانی=1    انتخاب چادر تا بالای پیشانی=0\nانتخاب چادر روی سر = -1"," -1 یا 0 یا 1",0,null,{"$f":"'طراحی همه الگوها'!Q215","v":2},"انتخاب چادر تا پایین پیشانی=3    انتخاب چادر تا بالای پیشانی=2\nانتخاب چادر روی سر = 1",2,0,1,-1,1,-2,0,2,2,4,1,3]
[]
[" متغیرهای ورودی چادر شماره 4",null,null,null,null," متغیرهای ورودی چادر شماره 4","x1","y1","x2","y2(بهینه)","a","b",null,"کمترین",null,"بیشترین",null,null,null,null,"اندازه شخص","اندازه شخص","اندازه شخص","اندازه شخص","اندازه شخص","اندازه شخص","اندازه شخص","اندازه شخص","اندازه شخص","اندازه شخص","اندازه شخص","اندازه شخص","اندازه شخص","اندازه شخص","اندازه شخص","اندازه شخص","اندازه شخص","اندازه شخص","اندازه شخص","اندازه شخص","اندازه شخص","اندازه شخص","اندازه شخص","اندازه شخص","اندازه شخص","اندازه شخص","اندازه شخص","اندازه شخص","اندازه شخص","اندازه شخص","اندازه شخص","اندازه شخص","اندازه شخص","اندازه شخص","اندازه شخص","اندازه شخص","اندازه شخص","اندازه شخص","اندازه شخص","اندازه شخص","اندازه شخص","اندازه شخص","اندازه شخص","اندازه شخص","اندازه شخص","اندازه شخص","اندازه شخص","اندازه شخص","اندازه شخص","اندازه شخص","اندازه شخص","اندازه شخص","اندازه شخص","اندازه شخص","اندازه شخص","اندازه شخص","اندازه شخص","اندازه شخص","اندازه شخص","اندازه شخص","اندازه شخص","اندازه شخص","اندازه شخص","اندازه شخص","اندازه شخص","اندازه شخص","اندازه شخص","اندازه شخص","اندازه شخص","اندازه شخص","اندازه شخص","اندازه شخص","اندازه شخص","اندازه شخص","اندازه شخص","اندازه شخص","اندازه شخص","اندازه شخص","اندازه شخص","اندازه شخص","اندازه شخص","اندازه شخص","اندازه شخص","اندازه شخص","اندازه شخص","اندازه شخص","اندازه شخص","اندازه شخص","اندازه شخص"]
["ضریب فاصله لبه چادر تا زمین   j0","(از -0.1 الی 0.5)",{"$f":"K25*E25+L25","v":0},"خط زمین=0 \nخط زانو=1  ",{"$f":"'طراحی همه الگوها'!Q232","v":10},"ضریب فاصله لبه چادر تا زمین   ",10,0,30,1,{"$f":"(J25-H25)/(I25-G25)","v":0.05},{"$f":"H25-G25*K25","v":-0.5},-0.1,{"$f":"(M25-L25)/K25","v":8},0.5,{"$f":"(O25-L25)/K25","v":20},0,{"$f":"(Q25-L25)/K25","v":10},null,"a",41,42,45,47,48,49,51,53,55,57,59,61,63,65.5,68,71,73,75,63,65,68,72,77,82,87,92,97,103,110,117,124,131,74,78,82,86,90,94,98,102,106,111,116,121,126,131,47,48,49,51,53,55,57,59,61,63,65.5,68,71,73,75,67,69,72,76,81,86,91,96,101,107,114,121,127,135,75.5,79.599999999999994,83.6,87.7,91.8,95.9,100,104,108.1,113.2,118.3,123.4,128.5,133.6,{"$f":"DF7","v":0},0,0,0,0,0,0,0,0,0,0,0,0,0,0,0,0,0,0,0,{"$f":"DZ7","v":0},0,0,{"$f":"EC7","v":0},{"$f":"ED7","v":0},0,0,{"$f":"EG7","v":0},{"$f":"EH7","v":0},0,0,{"$f":"EK7","v":0},{"$f":"EL7","v":0},0,0,{"$f":"EO7","v":0},{"$f":"EP7","v":0},0,0,0]
["ضریب گشادی پشت چادر نسبت به جلو چادر (به درجه)  c1","(از -5 الی 5)",3,"بهینه=3",{"$f":"'طراحی همه الگوها'!Q233","v":3},"ضریب گشادی پشت چادر نسبت به جلو چادر (درجه)  ",1,1,0,0,1,0,-5,-5,5,5,3,3,null,"b",20.100000000000001,20.6,22.1,23,23.5,24,25,26,27,27.9,28.9,29.9,30.9,32.1,33.299999999999997,34.799999999999997,35.799999999999997,36.799999999999997,32.200000000000003,32.700000000000003,33.700000000000003,35.200000000000003,36.9,38.700000000000003,40.6,42.3,44.3,47.5,51,54.8,59.2,63.6,37,39,41,43,45,47,49,51,53,55.5,58,60.5,63,65.5,23,23.5,24,25,26,27,27.9,28.9,29.9,30.9,32.1,33.299999999999997,34.799999999999997,35.799999999999997,36.799999999999997,34.200000000000003,34.700000000000003,35.700000000000003,37.1,38.799999999999997,40.6,42.4,44.2,46.1,49.4,52.8,56.7,60.7,64.5,37.799999999999997,39.799999999999997,41.8,43.9,45.9,48,50,52,54.1,56.6,59.2,61.7,64.3,66.8,{"$f":"DF8","v":0},0,0,0,0,0,0,0,0,0,0,0,0,0,0,0,0,0,0,0,0,0,0,{"$f":"EC8","v":0},0,0,0,{"$f":"EG8","v":0},0,0,0,{"$f":"EK8","v":0},0,0,0,{"$f":"EO8","v":0},0,0,0,0]
["ضریب بلند شدن آستین نسبت به مچ  c2","(از -0.4 الی 0.4)",0,"آستین تا مچ=0 \nآستین کوتاه تر از مچ = منفی \nآستین بلند تر از مچ = مثبت   ",{"$f":"'طراحی همه الگوها'!Q234","v":10},"بلند شدن آستین چادر نسبت به مچ اندام ",30,-0.45,10,0,-2.2499999999999999E-2,0.22499999999999992,-0.4,27.777777777777779,0.4,-7.7777777777777821,0,9.9999999999999964,null,"s1",43,45,47,50,52,54,56,58,60,62,64,66,68,71,75,78,82,86,80,84,88,92,97,102,107,112,117,122,128,134,140,146,88,92,96,100,104,108,112,116,120,124,128,132,136,140,50,52,54,56,58,60,62,64,66,68,71,75,78,82,86,80,84,88,92,97,102,107,112,117,122,128,134,140,146,88,92,96,100,104,108,112,116,120,124,128,132,136,140,{"$f":"'اندازه های شخصی'!G22","v":0},{"$f":"'اندازه های شخصی'!I22","v":0},{"$f":"'اندازه های شخصی'!K22","v":0},{"$f":"'اندازه های شخصی'!M22","v":0},{"$f":"'اندازه های شخصی'!O22","v":0},{"$f":"'اندازه های شخصی'!Q22","v":0},{"$f":"'اندازه های شخصی'!S22","v":0},{"$f":"'اندازه های شخصی'!U22","v":0},{"$f":"'اندازه های شخصی'!W22","v":0},{"$f":"'اندازه های شخصی'!Y22","v":0},{"$f":"'اندازه های شخصی'!AA22","v":0},{"$f":"'اندازه های شخصی'!AC22","v":0},{"$f":"'اندازه های شخصی'!AE22","v":0},{"$f":"'اندازه های شخصی'!AG22","v":0},{"$f":"'اندازه های شخصی'!AI22","v":0},{"$f":"'اندازه های شخصی'!AK22","v":0},{"$f":"'اندازه های شخصی'!AM22","v":0},{"$f":"'اندازه های شخصی'!AO22","v":0},{"$f":"'اندازه های شخصی'!AQ22","v":0},{"$f":"'اندازه های شخصی'!AS22","v":0},{"$f":"'اندازه های شخصی'!AU22","v":0},{"$f":"'اندازه های شخصی'!AW22","v":0},{"$f":"'اندازه های شخصی'!AY22","v":0},{"$f":"'اندازه های شخصی'!BA22","v":0},{"$f":"'اندازه های شخصی'!BC22","v":0},{"$f":"'اندازه های شخصی'!BE22","v":0},{"$f":"'اندازه های شخصی'!BG22","v":0},{"$f":"'اندازه های شخصی'!BI22","v":0},{"$f":"'اندازه های شخصی'!BK22","v":0},{"$f":"'اندازه های شخصی'!BM22","v":0},{"$f":"'اندازه های شخصی'!BO22","v":0},{"$f":"'اندازه های شخصی'!BQ22","v":0},{"$f":"'اندازه های شخصی'!BS22","v":0},{"$f":"'اندازه های شخصی'!BU22","v":0},{"$f":"'اندازه های شخصی'!BW22","v":0},{"$f":"'اندازه های شخصی'!BY22","v":0},{"$f":"'اندازه های شخصی'!CA22","v":0},{"$f":"'اندازه های شخصی'!CC22","v":0},{"$f":"'اندازه های شخصی'!CE22","v":0},{"$f":"'اندازه های شخصی'!CG22","v":0}]
["ضریب گشادی دور مچ  c3","(از 1.1 الی 3)",1.7000000000000006,"بدون گشادی=1",{"$f":"'طراحی همه الگوها'!Q235","v":7},"ضریب گشادی دور مچ  ",1,1.1000000000000001,0,1,0.10000000000000009,1,1.1000000000000001,1,3,19.999999999999982,1,0,null,"s2",21.5,22.5,23.5,25,26,27,28,29,30,31,32,33,34,35.5,37.5,39,41,43,38.9,40.200000000000003,41.5,42.8,44.3,45.9,47.5,49.1,50.9,53.6,56.5,59.8,63.7,67.5,44,46,48,50,52,54,56,58,60,62,64,66,68,70,25,26,27,28,29,30,31,32,33,34,35.5,37.5,39,41,43,38.9,40.200000000000003,41.5,42.8,44.3,45.9,47.5,49.1,50.9,53.6,56.5,59.8,63.7,67.5,44,46,48,50,52,54,56,58,60,62,64,66,68,70,{"$f":"'اندازه های شخصی'!G23","v":0},{"$f":"'اندازه های شخصی'!I23","v":0},{"$f":"'اندازه های شخصی'!K23","v":0},{"$f":"'اندازه های شخصی'!M23","v":0},{"$f":"'اندازه های شخصی'!O23","v":0},{"$f":"'اندازه های شخصی'!Q23","v":0},{"$f":"'اندازه های شخصی'!S23","v":0},{"$f":"'اندازه های شخصی'!U23","v":0},{"$f":"'اندازه های شخصی'!W23","v":0},{"$f":"'اندازه های شخصی'!Y23","v":0},{"$f":"'اندازه های شخصی'!AA23","v":0},{"$f":"'اندازه های شخصی'!AC23","v":0},{"$f":"'اندازه های شخصی'!AE23","v":0},{"$f":"'اندازه های شخصی'!AG23","v":0},{"$f":"'اندازه های شخصی'!AI23","v":0},{"$f":"'اندازه های شخصی'!AK23","v":0},{"$f":"'اندازه های شخصی'!AM23","v":0},{"$f":"'اندازه های شخصی'!AO23","v":0},{"$f":"'اندازه های شخصی'!AQ23","v":0},{"$f":"'اندازه های شخصی'!AS23","v":0},{"$f":"'اندازه های شخصی'!AU23","v":0},{"$f":"'اندازه های شخصی'!AW23","v":0},{"$f":"'اندازه های شخصی'!AY23","v":0},{"$f":"'اندازه های شخصی'!BA23","v":0},{"$f":"'اندازه های شخصی'!BC23","v":0},{"$f":"'اندازه های شخصی'!BE23","v":0},{"$f":"'اندازه های شخصی'!BG23","v":0},{"$f":"'اندازه های شخصی'!BI23","v":0},{"$f":"'اندازه های شخصی'!BK23","v":0},{"$f":"'اندازه های شخصی'!BM23","v":0},{"$f":"'اندازه های شخصی'!BO23","v":0},{"$f":"'اندازه های شخصی'!BQ23","v":0},{"$f":"'اندازه های شخصی'!BS23","v":0},{"$f":"'اندازه های شخصی'!BU23","v":0},{"$f":"'اندازه های شخصی'!BW23","v":0},{"$f":"'اندازه های شخصی'!BY23","v":0},{"$f":"'اندازه های شخصی'!CA23","v":0},{"$f":"'اندازه های شخصی'!CC23","v":0},{"$f":"'اندازه های شخصی'!CE23","v":0},{"$f":"'اندازه های شخصی'!CG23","v":0}]
["ضریب بلند شدن آستین به سمت زیر بغل c4","(از 0 الی 1)",0.7,"آستین تا زیر بغل=0 \nبدون آستین= 1  ",{"$f":"'طراحی همه الگوها'!Q236","v":30}," بلند شدن آستین به سمت زیر بغل ",30,0.7,10,0.1,0.03,-0.19999999999999996,0,6.6666666666666652,1,40,0,6.6666666666666652,null,"t1",15.8,16.2,18.3,20.3,21.3,24.4,26.5,26.9,28.6,30.2,31.8,33.299999999999997,35.5,36.5,37.299999999999997,38.200000000000003,39,39.799999999999997,43.6,43.8,44.1,44.4,44.8,45,45,45.6,45.9,46.3,46.3,46.6,46.3,46.5,43.9,44.2,44.3,44.5,44.8,44.8,44.9,44.9,45.2,45.1,45.3,45.6,45.5,45.7,21.8,22.8,25.8,28.2,28.4,30.2,31.7,33.299999999999997,34.9,37.200000000000003,38.200000000000003,39.1,39.700000000000003,40.5,40.9,43.6,43.8,44.1,44.4,44.8,45,45,45.6,45.9,46.3,46.3,46.6,46.3,46.5,46.3,46.3,46,46,45.6,45.6,45.4,45,44.8,44.4,44.4,44.2,44,43.6,{"$f":"'اندازه های شخصی'!G24","v":0},{"$f":"'اندازه های شخصی'!I24","v":0},{"$f":"'اندازه های شخصی'!K24","v":0},{"$f":"'اندازه های شخصی'!M24","v":0},{"$f":"'اندازه های شخصی'!O24","v":0},{"$f":"'اندازه های شخصی'!Q24","v":0},{"$f":"'اندازه های شخصی'!S24","v":0},{"$f":"'اندازه های شخصی'!U24","v":0},{"$f":"'اندازه های شخصی'!W24","v":0},{"$f":"'اندازه های شخصی'!Y24","v":0},{"$f":"'اندازه های شخصی'!AA24","v":0},{"$f":"'اندازه های شخصی'!AC24","v":0},{"$f":"'اندازه های شخصی'!AE24","v":0},{"$f":"'اندازه های شخصی'!AG24","v":0},{"$f":"'اندازه های شخصی'!AI24","v":0},{"$f":"'اندازه های شخصی'!AK24","v":0},{"$f":"'اندازه های شخصی'!AM24","v":0},{"$f":"'اندازه های شخصی'!AO24","v":0},{"$f":"'اندازه های شخصی'!AQ24","v":0},{"$f":"'اندازه های شخصی'!AS24","v":0},{"$f":"'اندازه های شخصی'!AU24","v":0},{"$f":"'اندازه های شخصی'!AW24","v":0},{"$f":"'اندازه های شخصی'!AY24","v":0},{"$f":"'اندازه های شخصی'!BA24","v":0},{"$f":"'اندازه های شخصی'!BC24","v":0},{"$f":"'اندازه های شخصی'!BE24","v":0},{"$f":"'اندازه های شخصی'!BG24","v":0},{"$f":"'اندازه های شخصی'!BI24","v":0},{"$f":"'اندازه های شخصی'!BK24","v":0},{"$f":"'اندازه های شخصی'!BM24","v":0},{"$f":"'اندازه های شخصی'!BO24","v":0},{"$f":"'اندازه های شخصی'!BQ24","v":0},{"$f":"'اندازه های شخصی'!BS24","v":0},{"$f":"'اندازه های شخصی'!BU24","v":0},{"$f":"'اندازه های شخصی'!BW24","v":0},{"$f":"'اندازه های شخصی'!BY24","v":0},{"$f":"'اندازه های شخصی'!CA24","v":0},{"$f":"'اندازه های شخصی'!CC24","v":0},{"$f":"'اندازه های شخصی'!CE24","v":0},{"$f":"'اندازه های شخصی'!CG24","v":0}]
["ضریب گشادی پایین چادر (به درجه) c5","(از 0 الی حداکثر)",20,"چادر راسته بدون گشادی=0  ",{"$f":"'طراحی همه الگوها'!Q237","v":20},"ضریب گشادی پایین چادر (درجه) ",21,21,20,20,1,0,0,0,2,2,0,0,null,"t2",19.399999999999999,19.899999999999999,22.2,24.5,25.7,28.7,31,31.6,33.4,35.200000000000003,36.9,38.6,40.9,42.1,43.3,44.5,45.7,46.9,50.8,51.4,51.9,52.5,53.5,54.3,55.1,56.4,57.5,58.7,59.8,61,62.1,63.3,50.7,51.3,51.7,52.3,52.7,53,53.6,54,54.6,55,55.4,56,56.4,56.9,26.6,27.9,31.1,33.6,34.200000000000003,36.1,37.9,39.799999999999997,41.8,44.3,45.5,46.9,48,49.4,50.6,50.8,51.4,51.9,52.5,53.5,54.3,55.1,56.4,57.5,58.7,59.8,61,62.1,63.3,55.9,56.4,56.7,57.3,57.7,58.3,58.9,59.3,59.9,60.2,60.8,61.4,62,62.4,{"$f":"'اندازه های شخصی'!G25","v":0},{"$f":"'اندازه های شخصی'!I25","v":0},{"$f":"'اندازه های شخصی'!K25","v":0},{"$f":"'اندازه های شخصی'!M25","v":0},{"$f":"'اندازه های شخصی'!O25","v":0},{"$f":"'اندازه های شخصی'!Q25","v":0},{"$f":"'اندازه های شخصی'!S25","v":0},{"$f":"'اندازه های شخصی'!U25","v":0},{"$f":"'اندازه های شخصی'!W25","v":0},{"$f":"'اندازه های شخصی'!Y25","v":0},{"$f":"'اندازه های شخصی'!AA25","v":0},{"$f":"'اندازه های شخصی'!AC25","v":0},{"$f":"'اندازه های شخصی'!AE25","v":0},{"$f":"'اندازه های شخصی'!AG25","v":0},{"$f":"'اندازه های شخصی'!AI25","v":0},{"$f":"'اندازه های شخصی'!AK25","v":0},{"$f":"'اندازه های شخصی'!AM25","v":0},{"$f":"'اندازه های شخصی'!AO25","v":0},{"$f":"'اندازه های شخصی'!AQ25","v":0},{"$f":"'اندازه های شخصی'!AS25","v":0},{"$f":"'اندازه های شخصی'!AU25","v":0},{"$f":"'اندازه های شخصی'!AW25","v":0},{"$f":"'اندازه های شخصی'!AY25","v":0},{"$f":"'اندازه های شخصی'!BA25","v":0},{"$f":"'اندازه های شخصی'!BC25","v":0},{"$f":"'اندازه های شخصی'!BE25","v":0},{"$f":"'اندازه های شخصی'!BG25","v":0},{"$f":"'اندازه های شخصی'!BI25","v":0},{"$f":"'اندازه های شخصی'!BK25","v":0},{"$f":"'اندازه های شخصی'!BM25","v":0},{"$f":"'اندازه های شخصی'!BO25","v":0},{"$f":"'اندازه های شخصی'!BQ25","v":0},{"$f":"'اندازه های شخصی'!BS25","v":0},{"$f":"'اندازه های شخصی'!BU25","v":0},{"$f":"'اندازه های شخصی'!BW25","v":0},{"$f":"'اندازه های شخصی'!BY25","v":0},{"$f":"'اندازه های شخصی'!CA25","v":0},{"$f":"'اندازه های شخصی'!CC25","v":0},{"$f":"'اندازه های شخصی'!CE25","v":0},{"$f":"'اندازه های شخصی'!CG25","v":0}]
["حداکثر مقدار  c5  برای اندام شما",{"$f":"ROUND(DEGREES(محاسبات!ER46-RADIANS(45)+محاسبات!ER42),0)","v":54},null,null,null,"حداکثر مقدار ضریب گشادی پایین چادر  برای اندام شما",null,null,null,null,null,null,null,null,null,null,null,null,null,"t3",33,34,38,42,44,49,53,54,57,60,63,66,70,72,74,76,78,80,80,81,82,83,84.4,85.7,87,88.9,90.8,92.6,94.5,96.3,98.2,100,86.8,87.6,88.4,89.2,90,90.8,91.6,92.4,93.2,94,94.8,95.6,96.4,97.2,42,44,49,53,54,57,60,63,66,70,72,74,76,78,80,80,81,82,83,84.4,85.7,87,88.9,90.8,92.6,94.5,96.3,98.2,100,88.2,89,89.7,90.5,91.3,92.1,92.9,93.7,94.5,95.3,96.1,97.1,97.9,98.7,{"$f":"'اندازه های شخصی'!G26","v":0},{"$f":"'اندازه های شخصی'!I26","v":0},{"$f":"'اندازه های شخصی'!K26","v":0},{"$f":"'اندازه های شخصی'!M26","v":0},{"$f":"'اندازه های شخصی'!O26","v":0},{"$f":"'اندازه های شخصی'!Q26","v":0},{"$f":"'اندازه های شخصی'!S26","v":0},{"$f":"'اندازه های شخصی'!U26","v":0},{"$f":"'اندازه های شخصی'!W26","v":0},{"$f":"'اندازه های شخصی'!Y26","v":0},{"$f":"'اندازه های شخصی'!AA26","v":0},{"$f":"'اندازه های شخصی'!AC26","v":0},{"$f":"'اندازه های شخصی'!AE26","v":0},{"$f":"'اندازه های شخصی'!AG26","v":0},{"$f":"'اندازه های شخصی'!AI26","v":0},{"$f":"'اندازه های شخصی'!AK26","v":0},{"$f":"'اندازه های شخصی'!AM26","v":0},{"$f":"'اندازه های شخصی'!AO26","v":0},{"$f":"'اندازه های شخصی'!AQ26","v":0},{"$f":"'اندازه های شخصی'!AS26","v":0},{"$f":"'اندازه های شخصی'!AU26","v":0},{"$f":"'اندازه های شخصی'!AW26","v":0},{"$f":"'اندازه های شخصی'!AY26","v":0},{"$f":"'اندازه های شخصی'!BA26","v":0},{"$f":"'اندازه های شخصی'!BC26","v":0},{"$f":"'اندازه های شخصی'!BE26","v":0},{"$f":"'اندازه های شخصی'!BG26","v":0},{"$f":"'اندازه های شخصی'!BI26","v":0},{"$f":"'اندازه های شخصی'!BK26","v":0},{"$f":"'اندازه های شخصی'!BM26","v":0},{"$f":"'اندازه های شخصی'!BO26","v":0},{"$f":"'اندازه های شخصی'!BQ26","v":0},{"$f":"'اندازه های شخصی'!BS26","v":0},{"$f":"'اندازه های شخصی'!BU26","v":0},{"$f":"'اندازه های شخصی'!BW26","v":0},{"$f":"'اندازه های شخصی'!BY26","v":0},{"$f":"'اندازه های شخصی'!CA26","v":0},{"$f":"'اندازه های شخصی'!CC26","v":0},{"$f":"'اندازه های شخصی'!CE26","v":0},{"$f":"'اندازه های شخصی'!CG26","v":0}]
["انتخاب چادر تا پایین پیشانی=1    انتخاب چادر تا بالای پیشانی=0\nانتخاب چادر روی سر = -1"," -1 یا 0 یا 1",{"$f":"K32*E32+L32","v":0},null,{"$f":"'طراحی همه الگوها'!Q239","v":2},"انتخاب چادر تا پایین پیشانی=3    انتخاب چادر تا بالای پیشانی=2\nانتخاب چادر روی سر = 1",2,0,1,-1,{"$f":"(J32-H32)/(I32-G32)","v":1},{"$f":"H32-G32*K32","v":-2},0,{"$f":"(M32-L32)/K32","v":2},1,{"$f":"(O32-L32)/K32","v":3},0,{"$f":"(Q32-L32)/K32","v":2},null,"t4",8.1,8.3000000000000007,9.4,10.4,10.9,12.5,13.6,13.8,14.7,15.5,16.3,17.100000000000001,18.2,18.7,19.100000000000001,19.600000000000001,20,20.399999999999999,21.9,22.1,22.3,22.5,22.8,23,23.1,23.5,23.7,23.9,23.9,24,23.8,23.8,21.9,22,22,22.1,22.2,22.2,22.2,22.2,22.3,22.2,22.3,22.4,22.3,22.4,10.8,11.3,12.8,14,14.1,15,15.8,16.600000000000001,17.399999999999999,18.600000000000001,19,19.399999999999999,19.7,20.100000000000001,20.3,21.9,22.1,22.3,22.5,22.8,23,23.1,23.5,23.7,23.9,23.9,24,23.8,23.8,22.9,22.9,22.7,22.7,22.5,22.5,22.4,22.2,22.1,21.9,21.9,21.8,21.7,21.5,{"$f":"'اندازه های شخصی'!G27","v":0},{"$f":"'اندازه های شخصی'!I27","v":0},{"$f":"'اندازه های شخصی'!K27","v":0},{"$f":"'اندازه های شخصی'!M27","v":0},{"$f":"'اندازه های شخصی'!O27","v":0},{"$f":"'اندازه های شخصی'!Q27","v":0},{"$f":"'اندازه های شخصی'!S27","v":0},{"$f":"'اندازه های شخصی'!U27","v":0},{"$f":"'اندازه های شخصی'!W27","v":0},{"$f":"'اندازه های شخصی'!Y27","v":0},{"$f":"'اندازه های شخصی'!AA27","v":0},{"$f":"'اندازه های شخصی'!AC27","v":0},{"$f":"'اندازه های شخصی'!AE27","v":0},{"$f":"'اندازه های شخصی'!AG27","v":0},{"$f":"'اندازه های شخصی'!AI27","v":0},{"$f":"'اندازه های شخصی'!AK27","v":0},{"$f":"'اندازه های شخصی'!AM27","v":0},{"$f":"'اندازه های شخصی'!AO27","v":0},{"$f":"'اندازه های شخصی'!AQ27","v":0},{"$f":"'اندازه های شخصی'!AS27","v":0},{"$f":"'اندازه های شخصی'!AU27","v":0},{"$f":"'اندازه های شخصی'!AW27","v":0},{"$f":"'اندازه های شخصی'!AY27","v":0},{"$f":"'اندازه های شخصی'!BA27","v":0},{"$f":"'اندازه های شخصی'!BC27","v":0},{"$f":"'اندازه های شخصی'!BE27","v":0},{"$f":"'اندازه های شخصی'!BG27","v":0},{"$f":"'اندازه های شخصی'!BI27","v":0},{"$f":"'اندازه های شخصی'!BK27","v":0},{"$f":"'اندازه های شخصی'!BM27","v":0},{"$f":"'اندازه های شخصی'!BO27","v":0},{"$f":"'اندازه های شخصی'!BQ27","v":0},{"$f":"'اندازه های شخصی'!BS27","v":0},{"$f":"'اندازه های شخصی'!BU27","v":0},{"$f":"'اندازه های شخصی'!BW27","v":0},{"$f":"'اندازه های شخصی'!BY27","v":0},{"$f":"'اندازه های شخصی'!CA27","v":0},{"$f":"'اندازه های شخصی'!CC27","v":0},{"$f":"'اندازه های شخصی'!CE27","v":0},{"$f":"'اندازه های شخصی'!CG27","v":0}]
["ضریب فاصله افقی مرغک از خط مرکزی جلو","(از -1 الی 4)",{"$f":"K33*E33+L33","v":2},"خط مرکزی جلو=0 \nخط پهلو=1  ",{"$f":"'طراحی همه الگوها'!Q240","v":40},"ضریب فاصله افقی مرغک از خط مرکزی جلو",20,1,0,0,{"$f":"(J33-H33)/(I33-G33)","v":0.05},{"$f":"H33-G33*K33","v":0},-1,{"$f":"(M33-L33)/K33","v":-20},4,{"$f":"(O33-L33)/K33","v":80},0,{"$f":"(Q33-L33)/K33","v":0},null,"t5",10.1,10.4,11.6,12.8,13.4,15,16.2,16.5,17.5,18.399999999999999,19.3,20.2,21.4,22,22.6,23.3,23.9,24.5,25.4,25.7,26,26.3,26.7,27,27.3,27.8,28.2,28.7,29.1,29.6,30,30.5,26,26.3,26.5,26.8,27,27.2,27.5,27.7,28,28.2,28.4,28.7,28.9,29.2,13.7,14.4,16,17.3,17.600000000000001,18.600000000000001,19.600000000000001,20.6,21.6,22.9,23.5,24.2,24.8,25.5,26.1,25.4,25.7,26,26.3,26.7,27,27.3,27.8,28.2,28.7,29.1,29.6,30,30.5,28.8,29.1,29.3,29.6,29.8,30.1,30.4,30.6,30.9,31.1,31.4,31.7,32,32.200000000000003,{"$f":"'اندازه های شخصی'!G28","v":0},{"$f":"'اندازه های شخصی'!I28","v":0},{"$f":"'اندازه های شخصی'!K28","v":0},{"$f":"'اندازه های شخصی'!M28","v":0},{"$f":"'اندازه های شخصی'!O28","v":0},{"$f":"'اندازه های شخصی'!Q28","v":0},{"$f":"'اندازه های شخصی'!S28","v":0},{"$f":"'اندازه های شخصی'!U28","v":0},{"$f":"'اندازه های شخصی'!W28","v":0},{"$f":"'اندازه های شخصی'!Y28","v":0},{"$f":"'اندازه های شخصی'!AA28","v":0},{"$f":"'اندازه های شخصی'!AC28","v":0},{"$f":"'اندازه های شخصی'!AE28","v":0},{"$f":"'اندازه های شخصی'!AG28","v":0},{"$f":"'اندازه های شخصی'!AI28","v":0},{"$f":"'اندازه های شخصی'!AK28","v":0},{"$f":"'اندازه های شخصی'!AM28","v":0},{"$f":"'اندازه های شخصی'!AO28","v":0},{"$f":"'اندازه های شخصی'!AQ28","v":0},{"$f":"'اندازه های شخصی'!AS28","v":0},{"$f":"'اندازه های شخصی'!AU28","v":0},{"$f":"'اندازه های شخصی'!AW28","v":0},{"$f":"'اندازه های شخصی'!AY28","v":0},{"$f":"'اندازه های شخصی'!BA28","v":0},{"$f":"'اندازه های شخصی'!BC28","v":0},{"$f":"'اندازه های شخصی'!BE28","v":0},{"$f":"'اندازه های شخصی'!BG28","v":0},{"$f":"'اندازه های شخصی'!BI28","v":0},{"$f":"'اندازه های شخصی'!BK28","v":0},{"$f":"'اندازه های شخصی'!BM28","v":0},{"$f":"'اندازه های شخصی'!BO28","v":0},{"$f":"'اندازه های شخصی'!BQ28","v":0},{"$f":"'اندازه های شخصی'!BS28","v":0},{"$f":"'اندازه های شخصی'!BU28","v":0},{"$f":"'اندازه های شخصی'!BW28","v":0},{"$f":"'اندازه های شخصی'!BY28","v":0},{"$f":"'اندازه های شخصی'!CA28","v":0},{"$f":"'اندازه های شخصی'!CC28","v":0},{"$f":"'اندازه های شخصی'!CE28","v":0},{"$f":"'اندازه های شخصی'!CG28","v":0}]
["ضریب فاصله عمودی مرغک از زمین","(از 0 الی 5)",{"$f":"K34*E34+L34","v":1.25},"خط زمین=0 \nخط زانو=1 \nخط باسن=2 \nخط کمر=3 \nخط سینه=4  ",{"$f":"'طراحی همه الگوها'!Q241","v":35},"ضریب فاصله عمودی مرغک از زمین",10,0,30,1,{"$f":"(J34-H34)/(I34-G34)","v":0.05},{"$f":"H34-G34*K34","v":-0.5},0,{"$f":"(M34-L34)/K34","v":10},5,{"$f":"(O34-L34)/K34","v":110},0,{"$f":"(Q34-L34)/K34","v":10},null,"t6",16.8,17.3,19.399999999999999,21.4,22.4,25,27,27.5,29.1,30.6,32.1,33.700000000000003,35.700000000000003,36.700000000000003,37.700000000000003,38.799999999999997,39.799999999999997,40.799999999999997,39,39.5,40,40.5,41,41.5,42,42.7,43.4,44.1,44.8,45.5,46.2,46.9,43.4,43.8,44.2,44.6,45,45.4,45.8,46.2,46.6,47,47.4,47.8,48.2,48.6,21.1,22.1,24.6,26.6,27.1,28.6,30.2,31.7,33.200000000000003,35.200000000000003,36.200000000000003,37.200000000000003,38.200000000000003,39.200000000000003,40.200000000000003,39,39.5,40,40.5,41,41.5,42,42.7,43.4,44.1,44.8,45.5,46.2,46.9,44.3,44.7,45.1,45.5,45.9,46.3,46.7,47.1,47.5,47.9,48.3,48.8,49.2,49.6,{"$f":"'اندازه های شخصی'!G29","v":0},{"$f":"'اندازه های شخصی'!I29","v":0},{"$f":"'اندازه های شخصی'!K29","v":0},{"$f":"'اندازه های شخصی'!M29","v":0},{"$f":"'اندازه های شخصی'!O29","v":0},{"$f":"'اندازه های شخصی'!Q29","v":0},{"$f":"'اندازه های شخصی'!S29","v":0},{"$f":"'اندازه های شخصی'!U29","v":0},{"$f":"'اندازه های شخصی'!W29","v":0},{"$f":"'اندازه های شخصی'!Y29","v":0},{"$f":"'اندازه های شخصی'!AA29","v":0},{"$f":"'اندازه های شخصی'!AC29","v":0},{"$f":"'اندازه های شخصی'!AE29","v":0},{"$f":"'اندازه های شخصی'!AG29","v":0},{"$f":"'اندازه های شخصی'!AI29","v":0},{"$f":"'اندازه های شخصی'!AK29","v":0},{"$f":"'اندازه های شخصی'!AM29","v":0},{"$f":"'اندازه های شخصی'!AO29","v":0},{"$f":"'اندازه های شخصی'!AQ29","v":0},{"$f":"'اندازه های شخصی'!AS29","v":0},{"$f":"'اندازه های شخصی'!AU29","v":0},{"$f":"'اندازه های شخصی'!AW29","v":0},{"$f":"'اندازه های شخصی'!AY29","v":0},{"$f":"'اندازه های شخصی'!BA29","v":0},{"$f":"'اندازه های شخصی'!BC29","v":0},{"$f":"'اندازه های شخصی'!BE29","v":0},{"$f":"'اندازه های شخصی'!BG29","v":0},{"$f":"'اندازه های شخصی'!BI29","v":0},{"$f":"'اندازه های شخصی'!BK29","v":0},{"$f":"'اندازه های شخصی'!BM29","v":0},{"$f":"'اندازه های شخصی'!BO29","v":0},{"$f":"'اندازه های شخصی'!BQ29","v":0},{"$f":"'اندازه های شخصی'!BS29","v":0},{"$f":"'اندازه های شخصی'!BU29","v":0},{"$f":"'اندازه های شخصی'!BW29","v":0},{"$f":"'اندازه های شخصی'!BY29","v":0},{"$f":"'اندازه های شخصی'!CA29","v":0},{"$f":"'اندازه های شخصی'!CC29","v":0},{"$f":"'اندازه های شخصی'!CE29","v":0},{"$f":"'اندازه های شخصی'!CG29","v":0}]
[null,null,null,null,null,null,null,null,null,null,null,null,null,null,null,null,null,null,null,"v",25,27,27,28,28,30,30,31,31,32,32,33,34,35,36,37,38,39,36,37,38,39,40.200000000000003,41.4,42.6,43.8,45,46,47,48,49,50,39,40,41,42,43,44,45,46,47,48,49,50,51,52,28,28,30,30,31,31,32,32,33,34,35,36,37,38,39,36,37,38,39,40.200000000000003,41.4,42.6,43.8,45,46,47,48,49,50,39,40,41,42,43,44,45,46,47,48,49,50,51,52,{"$f":"'اندازه های شخصی'!G30","v":0},{"$f":"'اندازه های شخصی'!I30","v":0},{"$f":"'اندازه های شخصی'!K30","v":0},{"$f":"'اندازه های شخصی'!M30","v":0},{"$f":"'اندازه های شخصی'!O30","v":0},{"$f":"'اندازه های شخصی'!Q30","v":0},{"$f":"'اندازه های شخصی'!S30","v":0},{"$f":"'اندازه های شخصی'!U30","v":0},{"$f":"'اندازه های شخصی'!W30","v":0},{"$f":"'اندازه های شخصی'!Y30","v":0},{"$f":"'اندازه های شخصی'!AA30","v":0},{"$f":"'اندازه های شخصی'!AC30","v":0},{"$f":"'اندازه های شخصی'!AE30","v":0},{"$f":"'اندازه های شخصی'!AG30","v":0},{"$f":"'اندازه های شخصی'!AI30","v":0},{"$f":"'اندازه های شخصی'!AK30","v":0},{"$f":"'اندازه های شخصی'!AM30","v":0},{"$f":"'اندازه های شخصی'!AO30","v":0},{"$f":"'اندازه های شخصی'!AQ30","v":0},{"$f":"'اندازه های شخصی'!AS30","v":0},{"$f":"'اندازه های شخصی'!AU30","v":0},{"$f":"'اندازه های شخصی'!AW30","v":0},{"$f":"'اندازه های شخصی'!AY30","v":0},{"$f":"'اندازه های شخصی'!BA30","v":0},{"$f":"'اندازه های شخصی'!BC30","v":0},{"$f":"'اندازه های شخصی'!BE30","v":0},{"$f":"'اندازه های شخصی'!BG30","v":0},{"$f":"'اندازه های شخصی'!BI30","v":0},{"$f":"'اندازه های شخصی'!BK30","v":0},{"$f":"'اندازه های شخصی'!BM30","v":0},{"$f":"'اندازه های شخصی'!BO30","v":0},{"$f":"'اندازه های شخصی'!BQ30","v":0},{"$f":"'اندازه های شخصی'!BS30","v":0},{"$f":"'اندازه های شخصی'!BU30","v":0},{"$f":"'اندازه های شخصی'!BW30","v":0},{"$f":"'اندازه های شخصی'!BY30","v":0},{"$f":"'اندازه های شخصی'!CA30","v":0},{"$f":"'اندازه های شخصی'!CC30","v":0},{"$f":"'اندازه های شخصی'!CE30","v":0},{"$f":"'اندازه های شخصی'!CG30","v":0}]
[" متغیرهای ورودی چادر شماره 5",null,null,null,null," متغیرهای ورودی چادر شماره 5","x1","y1","x2","y2(بهینه)","a","b",null,"کمترین",null,"بیشترین",null,null,null,"v3",17.7,18.399999999999999,19.2,20.399999999999999,21.2,22,22.7,23.5,24.2,25.2,26,27,27.8,28.9,30.5,31.8,33.4,35.1,31.9,32.9,33.9,34.799999999999997,36,37.1,38.299999999999997,39.5,40.9,43.2,45.7,48.6,52.1,55.5,35.200000000000003,36.9,38.6,40.200000000000003,41.9,43.6,45.4,47.3,49.1,51.8,52.8,54.6,56.5,58.3,20.399999999999999,21.2,22,22.7,23.5,24.2,25.2,26,27,27.8,28.9,30.5,31.8,33.4,35.1,31.9,32.9,33.9,34.799999999999997,36,37.1,38.299999999999997,39.5,40.9,43.2,45.7,48.6,52.1,55.5,35.5,37.200000000000003,38.9,40.6,42.3,44,45.8,47.7,49.5,51.4,53.2,55.1,56.9,58.8,{"$f":"'اندازه های شخصی'!G31","v":0},{"$f":"'اندازه های شخصی'!I31","v":0},{"$f":"'اندازه های شخصی'!K31","v":0},{"$f":"'اندازه های شخصی'!M31","v":0},{"$f":"'اندازه های شخصی'!O31","v":0},{"$f":"'اندازه های شخصی'!Q31","v":0},{"$f":"'اندازه های شخصی'!S31","v":0},{"$f":"'اندازه های شخصی'!U31","v":0},{"$f":"'اندازه های شخصی'!W31","v":0},{"$f":"'اندازه های شخصی'!Y31","v":0},{"$f":"'اندازه های شخصی'!AA31","v":0},{"$f":"'اندازه های شخصی'!AC31","v":0},{"$f":"'اندازه های شخصی'!AE31","v":0},{"$f":"'اندازه های شخصی'!AG31","v":0},{"$f":"'اندازه های شخصی'!AI31","v":0},{"$f":"'اندازه های شخصی'!AK31","v":0},{"$f":"'اندازه های شخصی'!AM31","v":0},{"$f":"'اندازه های شخصی'!AO31","v":0},{"$f":"'اندازه های شخصی'!AQ31","v":0},{"$f":"'اندازه های شخصی'!AS31","v":0},{"$f":"'اندازه های شخصی'!AU31","v":0},{"$f":"'اندازه های شخصی'!AW31","v":0},{"$f":"'اندازه های شخصی'!AY31","v":0},{"$f":"'اندازه های شخصی'!BA31","v":0},{"$f":"'اندازه های شخصی'!BC31","v":0},{"$f":"'اندازه های شخصی'!BE31","v":0},{"$f":"'اندازه های شخصی'!BG31","v":0},{"$f":"'اندازه های شخصی'!BI31","v":0},{"$f":"'اندازه های شخصی'!BK31","v":0},{"$f":"'اندازه های شخصی'!BM31","v":0},{"$f":"'اندازه های شخصی'!BO31","v":0},{"$f":"'اندازه های شخصی'!BQ31","v":0},{"$f":"'اندازه های شخصی'!BS31","v":0},{"$f":"'اندازه های شخصی'!BU31","v":0},{"$f":"'اندازه های شخصی'!BW31","v":0},{"$f":"'اندازه های شخصی'!BY31","v":0},{"$f":"'اندازه های شخصی'!CA31","v":0},{"$f":"'اندازه های شخصی'!CC31","v":0},{"$f":"'اندازه های شخصی'!CE31","v":0},{"$f":"'اندازه های شخصی'!CG31","v":0}]
["ضریب فاصله لبه چادر تا زمین   j0","(از -0.1 الی 0.5)",{"$f":"K37*E37+L37","v":0},"خط زمین=0 \nخط زانو=1  ",{"$f":"'طراحی همه الگوها'!Q249","v":10},"ضریب فاصله لبه چادر تا زمین   ",10,0,30,1,{"$f":"(J37-H37)/(I37-G37)","v":0.05},{"$f":"H37-G37*K37","v":-0.5},-0.1,{"$f":"(M37-L37)/K37","v":8},0.5,{"$f":"(O37-L37)/K37","v":20},0,{"$f":"(Q37-L37)/K37","v":10},null,"w2",16,17,18,19,20,21,22,23,24,24,25,25,26,27.5,29,30,31.5,33,27,28.2,29.4,30.6,32,33.799999999999997,35.4,37,38.5,40,41.5,43,44.5,46,33.9,35.1,36.299999999999997,37.6,38.799999999999997,40,40.700000000000003,41.3,41.9,42.5,43.1,43.7,44.4,45,19,20,21,22,23,24,24,25,25,26,27.5,29,30,31.5,33,27,28.2,29.4,30.6,32,33.799999999999997,35.4,37,38.5,40,41.5,43,44.5,46,33.9,35.1,36.299999999999997,37.6,38.799999999999997,40,40.700000000000003,41.3,41.9,42.5,43.1,43.7,44.4,45,{"$f":"'اندازه های شخصی'!G32","v":0},{"$f":"'اندازه های شخصی'!I32","v":0},{"$f":"'اندازه های شخصی'!K32","v":0},{"$f":"'اندازه های شخصی'!M32","v":0},{"$f":"'اندازه های شخصی'!O32","v":0},{"$f":"'اندازه های شخصی'!Q32","v":0},{"$f":"'اندازه های شخصی'!S32","v":0},{"$f":"'اندازه های شخصی'!U32","v":0},{"$f":"'اندازه های شخصی'!W32","v":0},{"$f":"'اندازه های شخصی'!Y32","v":0},{"$f":"'اندازه های شخصی'!AA32","v":0},{"$f":"'اندازه های شخصی'!AC32","v":0},{"$f":"'اندازه های شخصی'!AE32","v":0},{"$f":"'اندازه های شخصی'!AG32","v":0},{"$f":"'اندازه های شخصی'!AI32","v":0},{"$f":"'اندازه های شخصی'!AK32","v":0},{"$f":"'اندازه های شخصی'!AM32","v":0},{"$f":"'اندازه های شخصی'!AO32","v":0},{"$f":"'اندازه های شخصی'!AQ32","v":0},{"$f":"'اندازه های شخصی'!AS32","v":0},{"$f":"'اندازه های شخصی'!AU32","v":0},{"$f":"'اندازه های شخصی'!AW32","v":0},{"$f":"'اندازه های شخصی'!AY32","v":0},{"$f":"'اندازه های شخصی'!BA32","v":0},{"$f":"'اندازه های شخصی'!BC32","v":0},{"$f":"'اندازه های شخصی'!BE32","v":0},{"$f":"'اندازه های شخصی'!BG32","v":0},{"$f":"'اندازه های شخصی'!BI32","v":0},{"$f":"'اندازه های شخصی'!BK32","v":0},{"$f":"'اندازه های شخصی'!BM32","v":0},{"$f":"'اندازه های شخصی'!BO32","v":0},{"$f":"'اندازه های شخصی'!BQ32","v":0},{"$f":"'اندازه های شخصی'!BS32","v":0},{"$f":"'اندازه های شخصی'!BU32","v":0},{"$f":"'اندازه های شخصی'!BW32","v":0},{"$f":"'اندازه های شخصی'!BY32","v":0},{"$f":"'اندازه های شخصی'!CA32","v":0},{"$f":"'اندازه های شخصی'!CC32","v":0},{"$f":"'اندازه های شخصی'!CE32","v":0},{"$f":"'اندازه های شخصی'!CG32","v":0}]
["ضریب گشادی دامن چادر  d1","(از 1.5 الی 2.3)",{"$f":"K38*E38+L38","v":1.8},"بهینه=1.8",{"$f":"'طراحی همه الگوها'!Q250","v":20},"ضریب گشادی دامن چادر  ",21,1.85,20,1.8,{"$f":"(J38-H38)/(I38-G38)","v":5.0000000000000044E-2},{"$f":"H38-G38*K38","v":0.79999999999999916},1.5,{"$f":"(M38-L38)/K38","v":14.000000000000004},2.2999999999999998,{"$f":"(O38-L38)/K38","v":29.999999999999986},1.8,{"$f":"(Q38-L38)/K38","v":20},null,"w10",17,18,20,23,27,31,35,38,41,44,46,48,50,52,54,56,58,60,57.2,57.8,58.4,59,59.5,60,60.5,61,61.2,62,62.5,63,63.5,64,60,60.3,60.8,61.4,62,62.5,63,63.5,64,64.400000000000006,64.8,65.2,65.599999999999994,66,23,27,31,35,38,41,44,46,48,50,52,54,56,58,60,57.2,57.8,58.4,59,59.5,60,60.5,61,61.2,62,62.5,63,63.5,64,60,60.3,60.8,61.4,62,62.5,63,63.5,64,64.400000000000006,64.8,65.2,65.599999999999994,66,{"$f":"'اندازه های شخصی'!G33","v":0},{"$f":"'اندازه های شخصی'!I33","v":0},{"$f":"'اندازه های شخصی'!K33","v":0},{"$f":"'اندازه های شخصی'!M33","v":0},{"$f":"'اندازه های شخصی'!O33","v":0},{"$f":"'اندازه های شخصی'!Q33","v":0},{"$f":"'اندازه های شخصی'!S33","v":0},{"$f":"'اندازه های شخصی'!U33","v":0},{"$f":"'اندازه های شخصی'!W33","v":0},{"$f":"'اندازه های شخصی'!Y33","v":0},{"$f":"'اندازه های شخصی'!AA33","v":0},{"$f":"'اندازه های شخصی'!AC33","v":0},{"$f":"'اندازه های شخصی'!AE33","v":0},{"$f":"'اندازه های شخصی'!AG33","v":0},{"$f":"'اندازه های شخصی'!AI33","v":0},{"$f":"'اندازه های شخصی'!AK33","v":0},{"$f":"'اندازه های شخصی'!AM33","v":0},{"$f":"'اندازه های شخصی'!AO33","v":0},{"$f":"'اندازه های شخصی'!AQ33","v":0},{"$f":"'اندازه های شخصی'!AS33","v":0},{"$f":"'اندازه های شخصی'!AU33","v":0},{"$f":"'اندازه های شخصی'!AW33","v":0},{"$f":"'اندازه های شخصی'!AY33","v":0},{"$f":"'اندازه های شخصی'!BA33","v":0},{"$f":"'اندازه های شخصی'!BC33","v":0},{"$f":"'اندازه های شخصی'!BE33","v":0},{"$f":"'اندازه های شخصی'!BG33","v":0},{"$f":"'اندازه های شخصی'!BI33","v":0},{"$f":"'اندازه های شخصی'!BK33","v":0},{"$f":"'اندازه های شخصی'!BM33","v":0},{"$f":"'اندازه های شخصی'!BO33","v":0},{"$f":"'اندازه های شخصی'!BQ33","v":0},{"$f":"'اندازه های شخصی'!BS33","v":0},{"$f":"'اندازه های شخصی'!BU33","v":0},{"$f":"'اندازه های شخصی'!BW33","v":0},{"$f":"'اندازه های شخصی'!BY33","v":0},{"$f":"'اندازه های شخصی'!CA33","v":0},{"$f":"'اندازه های شخصی'!CC33","v":0},{"$f":"'اندازه های شخصی'!CE33","v":0},{"$f":"'اندازه های شخصی'!CG33","v":0}]
["ضریب بلند شدن دسته چادر d2","(از 0.1 الی 1)",{"$f":"K39*E39+L39","v":0.5},"بهینه=0.5",{"$f":"'طراحی همه الگوها'!Q251","v":20},"ضریب بلند شدن دسته چادر ",21,0.55000000000000004,20,0.5,{"$f":"(J39-H39)/(I39-G39)","v":5.0000000000000044E-2},{"$f":"H39-G39*K39","v":-0.50000000000000089},0.1,{"$f":"(M39-L39)/K39","v":12.000000000000007},1,{"$f":"(O39-L39)/K39","v":29.999999999999993},0.5,{"$f":"(Q39-L39)/K39","v":20},null,"w11",9,9.5,10,10.5,11,11.5,12,12.5,13,13.5,14,14.5,15,15.5,16,16.5,17,17.5,16.5,17,17.5,18,18.5,19,19.5,20,20.5,21,21.5,22,22.5,23,17.899999999999999,18.3,18.7,19.100000000000001,19.5,19.899999999999999,20.3,20.7,21.1,21.5,21.9,22.3,22.7,23.1,11,12,12,13,13,13,14,14,15,16,15,16,16.5,17,17.5,16.5,17,17.5,18,18.5,19,19.5,20,20.5,21,21.5,22,22.5,23,17.899999999999999,18.3,18.7,19.100000000000001,19.5,19.899999999999999,20.3,20.7,21.1,21.5,21.9,22.3,22.7,23.1,{"$f":"'اندازه های شخصی'!G34","v":0},{"$f":"'اندازه های شخصی'!I34","v":0},{"$f":"'اندازه های شخصی'!K34","v":0},{"$f":"'اندازه های شخصی'!M34","v":0},{"$f":"'اندازه های شخصی'!O34","v":0},{"$f":"'اندازه های شخصی'!Q34","v":0},{"$f":"'اندازه های شخصی'!S34","v":0},{"$f":"'اندازه های شخصی'!U34","v":0},{"$f":"'اندازه های شخصی'!W34","v":0},{"$f":"'اندازه های شخصی'!Y34","v":0},{"$f":"'اندازه های شخصی'!AA34","v":0},{"$f":"'اندازه های شخصی'!AC34","v":0},{"$f":"'اندازه های شخصی'!AE34","v":0},{"$f":"'اندازه های شخصی'!AG34","v":0},{"$f":"'اندازه های شخصی'!AI34","v":0},{"$f":"'اندازه های شخصی'!AK34","v":0},{"$f":"'اندازه های شخصی'!AM34","v":0},{"$f":"'اندازه های شخصی'!AO34","v":0},{"$f":"'اندازه های شخصی'!AQ34","v":0},{"$f":"'اندازه های شخصی'!AS34","v":0},{"$f":"'اندازه های شخصی'!AU34","v":0},{"$f":"'اندازه های شخصی'!AW34","v":0},{"$f":"'اندازه های شخصی'!AY34","v":0},{"$f":"'اندازه های شخصی'!BA34","v":0},{"$f":"'اندازه های شخصی'!BC34","v":0},{"$f":"'اندازه های شخصی'!BE34","v":0},{"$f":"'اندازه های شخصی'!BG34","v":0},{"$f":"'اندازه های شخصی'!BI34","v":0},{"$f":"'اندازه های شخصی'!BK34","v":0},{"$f":"'اندازه های شخصی'!BM34","v":0},{"$f":"'اندازه های شخصی'!BO34","v":0},{"$f":"'اندازه های شخصی'!BQ34","v":0},{"$f":"'اندازه های شخصی'!BS34","v":0},{"$f":"'اندازه های شخصی'!BU34","v":0},{"$f":"'اندازه های شخصی'!BW34","v":0},{"$f":"'اندازه های شخصی'!BY34","v":0},{"$f":"'اندازه های شخصی'!CA34","v":0},{"$f":"'اندازه های شخصی'!CC34","v":0},{"$f":"'اندازه های شخصی'!CE34","v":0},{"$f":"'اندازه های شخصی'!CG34","v":0}]
["انتخاب چادر تا پایین پیشانی=1    انتخاب چادر تا بالای پیشانی=0\nانتخاب چادر روی سر = -1"," -1 یا 0 یا 1",{"$f":"K40*E40+L40","v":0},null,{"$f":"'طراحی همه الگوها'!Q252","v":2},"انتخاب چادر تا پایین پیشانی=3    انتخاب چادر تا بالای پیشانی=2\nانتخاب چادر روی سر = 1",2,0,1,-1,{"$f":"(J40-H40)/(I40-G40)","v":1},{"$f":"H40-G40*K40","v":-2},0,{"$f":"(M40-L40)/K40","v":2},1,{"$f":"(O40-L40)/K40","v":3},0,{"$f":"(Q40-L40)/K40","v":2},null,"w12",37,39,42,45,47,49,50,51,52,53,53.5,54,54.5,55,55.5,56,56.5,57,57,57,57,57,57,57,57,57,57,57,57,57,57,57,59,59,59,59,59,59,59,59,59,59,59,59,59,59,45,47,49,50,51,52,53,53.5,54,54.5,55,55.5,56,56.5,57,57,57,57,57,57,57,57,57,57,57,57,57,57,57,59,59,59,59,59,59,59,59,59,59,59,59,59,59,{"$f":"'اندازه های شخصی'!G35","v":0},{"$f":"'اندازه های شخصی'!I35","v":0},{"$f":"'اندازه های شخصی'!K35","v":0},{"$f":"'اندازه های شخصی'!M35","v":0},{"$f":"'اندازه های شخصی'!O35","v":0},{"$f":"'اندازه های شخصی'!Q35","v":0},{"$f":"'اندازه های شخصی'!S35","v":0},{"$f":"'اندازه های شخصی'!U35","v":0},{"$f":"'اندازه های شخصی'!W35","v":0},{"$f":"'اندازه های شخصی'!Y35","v":0},{"$f":"'اندازه های شخصی'!AA35","v":0},{"$f":"'اندازه های شخصی'!AC35","v":0},{"$f":"'اندازه های شخصی'!AE35","v":0},{"$f":"'اندازه های شخصی'!AG35","v":0},{"$f":"'اندازه های شخصی'!AI35","v":0},{"$f":"'اندازه های شخصی'!AK35","v":0},{"$f":"'اندازه های شخصی'!AM35","v":0},{"$f":"'اندازه های شخصی'!AO35","v":0},{"$f":"'اندازه های شخصی'!AQ35","v":0},{"$f":"'اندازه های شخصی'!AS35","v":0},{"$f":"'اندازه های شخصی'!AU35","v":0},{"$f":"'اندازه های شخصی'!AW35","v":0},{"$f":"'اندازه های شخصی'!AY35","v":0},{"$f":"'اندازه های شخصی'!BA35","v":0},{"$f":"'اندازه های شخصی'!BC35","v":0},{"$f":"'اندازه های شخصی'!BE35","v":0},{"$f":"'اندازه های شخصی'!BG35","v":0},{"$f":"'اندازه های شخصی'!BI35","v":0},{"$f":"'اندازه های شخصی'!BK35","v":0},{"$f":"'اندازه های شخصی'!BM35","v":0},{"$f":"'اندازه های شخصی'!BO35","v":0},{"$f":"'اندازه های شخصی'!BQ35","v":0},{"$f":"'اندازه های شخصی'!BS35","v":0},{"$f":"'اندازه های شخصی'!BU35","v":0},{"$f":"'اندازه های شخصی'!BW35","v":0},{"$f":"'اندازه های شخصی'!BY35","v":0},{"$f":"'اندازه های شخصی'!CA35","v":0},{"$f":"'اندازه های شخصی'!CC35","v":0},{"$f":"'اندازه های شخصی'!CE35","v":0},{"$f":"'اندازه های شخصی'!CG35","v":0}]
[]
[null,null,null,null,null,null,null,null,null,null,null,null,null,null,null,null,null,null,null,null,"سایز مناسب برای الگوهای شلوار",{"$f":"IF(W43=1,(IF(Y43<U9-1,\" کوچکتر از یک ماهه \",IF(Y43<V9-1,U6,IF(Y43<W9-1,V6,IF(Y43<X9-1,W6,IF(Y43<Y9-1,X6,IF(Y43<Z9-1,Y6,IF(Y43<AA9-1,Z6,IF(Y43<AB9-1,AA6,IF(Y43<AC9-1,AB6,IF(Y43<AD9-1,AC6,IF(Y43<AE9-1,AD6,IF(Y43<AF9-1,AE6,IF(Y43<AG9-1,AF6,IF(Y43<AH9-1,AG6,IF(Y43<AI9-1,AH6,IF(Y43<AJ9-1,AI6,IF(Y43<AK9-1,AJ6,IF(Y43<AL9-1,AK6,IF(Y43<AL9+3,AL6,\" بزرگتر از 14 ساله \")))))))))))))))))))),IF(W43=2,(IF(Y43<AM9-1,\" کوچکتر از سایز 34 \",IF(Y43<AN9-1,AM6,IF(Y43<AO9-1,AN6,IF(Y43<AP9-1,AO6,IF(Y43<AQ9-1,AP6,IF(Y43<AR9-1,AQ6,IF(Y43<AS9-1,AR6,IF(Y43<AT9-1,AS6,IF(Y43<AU9-1,AT6,IF(Y43<AV9-1,AU6,IF(Y43<AW9-1,AV6,IF(Y43<AX9-1,AW6,IF(Y43<AY9-1,AX6,IF(Y43<AZ9-1,AY6,IF(Y43<AZ9+3,AZ6,\" بزرگتر از سایز 60 \")))))))))))))))),IF(Y43<BA9-1,\"  کوچکتراز سایز 37  \",IF(Y43<BB9-1,BA6,IF(Y43<BC9-1,BB6,IF(Y43<BD9-1,BC6,IF(Y43<BE9-1,BD6,IF(Y43<BF9-1,BE6,IF(Y43<BG9-1,BF6,IF(Y43<BH9-1,BG6,IF(Y43<BI9-1,BH6,IF(Y43<BJ9-1,BI6,IF(Y43<BK9-1,BJ6,IF(Y43<BL9-1,BK6,IF(Y43<BM9-1,BL6,IF(Y43<BN9-1,BM6,IF(Y43<BN9+3,BN6,\" بزرگتر از سایز 50 \")))))))))))))))))","v":" کوچکتر از سایز 34 "},"انتخاب نوع اندازه گیری","کمر اندام","باسن اندام","دور سینه اندام"]
[null,null,null,null,null,null,null,null,null,null,null,null,null,null,null,null,null,null,null,null,"سایز مناسب برای الگوهای دامن",{"$f":"IF(W43=1,(IF(X43<U7-1,\" کوچکتر از یک ماهه \",IF(X43<V7-1,U6,IF(X43<W7-1,V6,IF(X43<X7-1,W6,IF(X43<Y7-1,X6,IF(X43<Z7-1,Y6,IF(X43<AA7-1,Z6,IF(X43<AB7-1,AA6,IF(X43<AC7-1,AB6,IF(X43<AD7-1,AC6,IF(X43<AE7-1,AD6,IF(X43<AF7-1,AE6,IF(X43<AG7-1,AF6,IF(X43<AH7-1,AG6,IF(X43<AI7-1,AH6,IF(X43<AJ7-1,AI6,IF(X43<AK7-1,AJ6,IF(X43<AL7-1,AK6,IF(X43<AL7+3,AL6,\" بزرگتر از 14 ساله \")))))))))))))))))))),IF(W43=2,(IF(X43<AM7-1,\" کوچکتر از سایز 34 \",IF(X43<AN7-1,AM6,IF(X43<AO7-1,AN6,IF(X43<AP7-1,AO6,IF(X43<AQ7-1,AP6,IF(X43<AR7-1,AQ6,IF(X43<AS7-1,AR6,IF(X43<AT7-1,AS6,IF(X43<AU7-1,AT6,IF(X43<AV7-1,AU6,IF(X43<AW7-1,AV6,IF(X43<AX7-1,AW6,IF(X43<AY7-1,AX6,IF(X43<AZ7-1,AY6,IF(X43<AZ7+3,AZ6,\" بزرگتر از سایز 60 \")))))))))))))))),IF(X43<BA7-1,\" کوچکتر از سایز 37 \",IF(X43<BB7-1,BA6,IF(X43<BC7-1,BB6,IF(X43<BD7-1,BC6,IF(X43<BE7-1,BD6,IF(X43<BF7-1,BE6,IF(X43<BG7-1,BF6,IF(X43<BH7-1,BG6,IF(X43<BI7-1,BH6,IF(X43<BJ7-1,BI6,IF(X43<BK7-1,BJ6,IF(X43<BL7-1,BK6,IF(X43<BM7-1,BL6,IF(X43<BN7-1,BM6,IF(X43<BN7+3,BN6,\" بزرگتر از سایز 50 \")))))))))))))))))","v":" کوچکتر از سایز 34 "},2,{"$f":"'اندازه گیری و تحلیل'!E275","v":0},{"$f":"'اندازه گیری و تحلیل'!E272","v":0},{"$f":"'اندازه گیری و تحلیل'!E269","v":0}]
[null,null,null,null,null,null,null,null,null,null,null,null,null,null,null,null,null,null,null,null,"سایز مناسب برای الگوهای پیراهن",{"$f":"IF(W43=1,(IF(Z43<U27-1,\" کوچکتر از یک ماهه \",IF(Z43<V27-1,U6,IF(Z43<W27-1,V6,IF(Z43<X27-1,W6,IF(Z43<Y27-1,X6,IF(Z43<Z27-1,Y6,IF(Z43<AA27-1,Z6,IF(Z43<AB27-1,AA6,IF(Z43<AC27-1,AB6,IF(Z43<AD27-1,AC6,IF(Z43<AE27-1,AD6,IF(Z43<AF27-1,AE6,IF(Z43<AG27-1,AF6,IF(Z43<AH27-1,AG6,IF(Z43<AI27-1,AH6,IF(Z43<AJ27-1,AI6,IF(Z43<AK27-1,AJ6,IF(Z43<AL27-1,AK6,IF(Z43<AL27+3,AL6,\" بزرگتر از 14 ساله \")))))))))))))))))))),IF(W43=2,(IF(Z43<AM27-1,\" کوچکتر از سایز 34 \",IF(Z43<AN27-1,AM6,IF(Z43<AO27-1,AN6,IF(Z43<AP27-1,AO6,IF(Z43<AQ27-1,AP6,IF(Z43<AR27-1,AQ6,IF(Z43<AS27-1,AR6,IF(Z43<AT27-1,AS6,IF(Z43<AU27-1,AT6,IF(Z43<AV27-1,AU6,IF(Z43<AW27-1,AV6,IF(Z43<AX27-1,AW6,IF(Z43<AY27-1,AX6,IF(Z43<AZ27-1,AY6,IF(Z43<AZ27+3,AZ6,\" بزرگتر از سایز 60 \")))))))))))))))),IF(Z43<BA27-1,\" کوچکتر از سایز 37 \",IF(Z43<BB27-1,BA6,IF(Z43<BC27-1,BB6,IF(Z43<BD27-1,BC6,IF(Z43<BE27-1,BD6,IF(Z43<BF27-1,BE6,IF(Z43<BG27-1,BF6,IF(Z43<BH27-1,BG6,IF(Z43<BI27-1,BH6,IF(Z43<BJ27-1,BI6,IF(Z43<BK27-1,BJ6,IF(Z43<BL27-1,BK6,IF(Z43<BM27-1,BL6,IF(Z43<BN27-1,BM6,IF(Z43<BN27+3,BN6,\" بزرگتر از سایز 50 \")))))))))))))))))","v":" کوچکتر از سایز 34 "}]
[]
["متغیرهای ورودی پیراهن ",null,null,null,null,"متغیرهای ورودی پیراهن ",null,null,null,null,null,null,null,null,null,null,null,null,null,null,0.8,0.1,null,null,34,10,null,null,null,null,"به دست آوردن فرمول اندازه کف پا"]
[null,null,null,null,null,null,null,null,null,null,null,null,null,null,null,null,null,null,null,null,{"$f":"U46*OFFSET(T5,Y46,1)+V46*OFFSET(T5,Z46,1)","v":8.6999999999999993},{"$f":"U46*OFFSET(T5,Y46,2)+V46*OFFSET(T5,Z46,2)","v":9.3000000000000007},{"$f":"U46*OFFSET(T5,Y46,3)+V46*OFFSET(T5,Z46,3)","v":10.3},{"$f":"U46*OFFSET(T5,Y46,4)+V46*OFFSET(T5,Z46,4)","v":11.27},{"$f":"U46*OFFSET(T5,Y46,5)+V46*OFFSET(T5,Z46,5)","v":11.98},{"$f":"U46*OFFSET(T5,Y46,6)+V46*OFFSET(T5,Z46,6)","v":12.870000000000001},{"$f":"U46*OFFSET(T5,Y46,7)+V46*OFFSET(T5,Z46,7)","v":14.120000000000001},{"$f":"U46*OFFSET(T5,Y46,8)+V46*OFFSET(T5,Z46,8)","v":14.98},{"$f":"U46*OFFSET(T5,Y46,9)+V46*OFFSET(T5,Z46,9)","v":15.91},{"$f":"U46*OFFSET(T5,Y46,10)+V46*OFFSET(T5,Z46,10)","v":16.630000000000003},{"$f":"U46*OFFSET(T5,Y46,11)+V46*OFFSET(T5,Z46,11)","v":17.36},{"$f":"U46*OFFSET(T5,Y46,12)+V46*OFFSET(T5,Z46,12)","v":18.03},{"$f":"U46*OFFSET(T5,Y46,13)+V46*OFFSET(T5,Z46,13)","v":18.649999999999999},{"$f":"U46*OFFSET(T5,Y46,14)+V46*OFFSET(T5,Z46,14)","v":19.340000000000003},{"$f":"U46*OFFSET(T5,Y46,15)+V46*OFFSET(T5,Z46,15)","v":20.010000000000002},{"$f":"U46*OFFSET(T5,Y46,16)+V46*OFFSET(T5,Z46,16)","v":20.73},{"$f":"U46*OFFSET(T5,Y46,17)+V46*OFFSET(T5,Z46,17)","v":21.51},{"$f":"U46*OFFSET(T5,Y46,18)+V46*OFFSET(T5,Z46,18)","v":22.3}]
[null,"برچسب الگو :",null,null,null," پنج ساله میل سه",null,null,null,null,null,null,null,null,null,null,null,null,null,null," 1ماهه","1 تا 3 ماهه"," 3 تا 6 ماهه","6ماهه تا یکساله","بچگانه 1 ساله","بچگانه 2 ساله","بچگانه 3 ساله","بچگانه 4 ساله","بچگانه 5 ساله","بچگانه 6 ساله","بچگانه 7 ساله","بچگانه 8 ساله","بچگانه 9 ساله","بچگانه 10 ساله","بچگانه 11 ساله","بچگانه 12 ساله","بچگانه 13 ساله","بچگانه 14 ساله"]
[]
[" متغیرهای ورودی - شیفت الگو پیراهن",null,null,null,null," متغیرهای ورودی - شیفت الگو پیراهن","x1","y1","x2","y2(بهینه)","a","b","کمترین قبلی","کمترین جدید","بیشترین قبلی","بیشترین جدید",null,null,"اندازه های خوانده شده در محاسبه الگوها",null,null,null,"اندازه های خوانده شده برای بررسی اندازه ها",null,null,null,null,null,null,null,null,null,null,null,null,"رنج تغییرات اندزه ها","رنج تغییرات متغیرها مثبت و منفی","رنج تغییرات متغیرها مثبت",null,null,"انتخاب نوع سایزبندی","رنج تغییرات  کوچک متغیرها مثبت و منفی","دامن فون"]
["شیفت افقی کل الگو جلو پیراهن  برحسب سانتیمتر","(از -100 الی100)",{"$f":"K51*E51+L51","v":0},"بدون شیفت=0 ",{"$f":"'مساله سوم مدل 13'!B507","v":0},"شیفت افقی کل الگو جلو پیراهن  (سانتیمتر)",1,1,0,0,{"$f":"(J51-H51)/(I51-G51)","v":1},{"$f":"H51-G51*K51","v":0},-100,{"$f":"(M51-L51)/K51","v":-100},100,{"$f":"(O51-L51)/K51","v":100},null,null,"اندازه ها در دامن و شلوار",null,"اندازه شخص",null,"اندازه شخص",null,null,null,null,null,null,null,null,null,null,null,null,{"$f":"U6","v":" 1ماهه با پوشک"},-100,1,"اندازه جدید",null,"سایزبندی بچگانه",{"$f":"AP52-0.5","v":-129.5},1]
["شیفت عمودی کل الگو جلو پیراهن   برحسب سانتیمتر","(از -100 الی100)",0,"بدون شیفت =0  ",{"$f":"'مساله سوم مدل 13'!B508","v":0},"شیفت عمودی کل الگو جلو پیراهن   (سانتیمتر)",1,1,0,0,1,0,-100,-100,100,100,null,null,"دور کمر","a",{"$f":"OFFSET('متغیرها '!T5,2,'متغیرها '!U5)+'مساله سوم مدل 13'!B481","v":53},null,{"$f":"OFFSET('متغیرها '!T5,2,'متغیرها '!Y5)","v":75},null,null,null,null,null,null,null,null,null,null,null,null,{"$f":"V6","v":"1 تا 3 ماهه با پوشک"},-99,2,"اندازه های موجود",null,"سایزبندی زنانه",-129,{"$f":"AQ51+0.5","v":1.5}]
["شیفت افقی کل الگو پشت پیراهن  برحسب سانتیمتر","(از -100 الی100)",0,"بدون شیفت=0 ",{"$f":"'مساله سوم مدل 13'!B509","v":0},"شیفت افقی کل الگو پشت پیراهن  (سانتیمتر)",1,1,0,0,1,0,-100,-100,100,100,null,null,"نوار کمر از پشت بین دو خط پهلو","b",{"$f":"OFFSET('متغیرها '!T5,3,'متغیرها '!U5)+0.4*'مساله سوم مدل 13'!B481-'مساله سوم مدل 13'!B503","v":26},null,{"$f":"OFFSET('متغیرها '!T5,3,'متغیرها '!Y5)","v":36.799999999999997},null,null,null,null,null,null,null,null,null,null,null,null,{"$f":"W6","v":" 3 تا 6 ماهه با پوشک"},-98,3,"انتخاب نوع اندازه گیری",null,"سایزبندی مردانه",-128.5,2]
["شیفت عمودی کل الگو پشت پیراهن  برحسب سانتیمتر","(از -100 الی100)",0,"بدون شیفت =0  ",{"$f":"'مساله سوم مدل 13'!B510","v":0},"شیفت عمودی کل الگو پشت پیراهن  (سانتیمتر)",1,1,0,0,1,0,-100,-100,100,100,null,null,"دور باسن","c",{"$f":"OFFSET('متغیرها '!T5,4,'متغیرها '!U5)+'مساله سوم مدل 13'!B487","v":62},null,{"$f":"OFFSET('متغیرها '!T5,4,'متغیرها '!Y5)","v":93},null,null,null,null,null,null,null,null,null,null,null,null,{"$f":"X6","v":"6ماهه تا یکساله با پوشک"},-97,4,"اندازه گیری پیشرفته و با جزئیات",null,null,-128,2.5]
["شیفت افقی تکه  پهلو جلو   برحسب سانتیمتر","(از -10 الی50)",{"$f":"IF(E55<51,K55*E55+L55,-2*(محاسبات!AX151-محاسبات!AX150))","v":0},"بدون شیفت=0 ",{"$f":"'طراحی همه الگوها'!B176","v":0},"شیفت افقی تکه  پهلو جلو   (سانتیمتر)",1,1,0,0,1,0,-100,-100,100,100,null,null,"نوار باسن از پشت بین دو خط پهلو","d",{"$f":"OFFSET('متغیرها '!T5,5,'متغیرها '!U5)+0.5*'مساله سوم مدل 13'!B487+'مساله سوم مدل 13'!B504","v":32.9},null,{"$f":"OFFSET('متغیرها '!T5,5,'متغیرها '!Y5)","v":49.3},null,null,null,null,null,null,null,null,null,null,null,null,{"$f":"Y6","v":"بچگانه 1 ساله با پوشک"},-96,5,"اندازه گیری مردان و بچه ها",null,null,-127.5,3]
["شیفت افقی تکه پهلو پشت  برحسب سانتیمتر","(از -10 الی50)",{"$f":"IF(E56<51,K56*E56+L56,-2*(محاسبات!BI144-محاسبات!BI143))","v":0},"بدون شیفت=0 ",{"$f":"'طراحی همه الگوها'!B177","v":0},"شیفت افقی تکه پهلو پشت  (سانتیمتر)",1,1,0,0,1,0,-100,-100,100,100,null,null,"فاصله نوار کمر تا زمین، از قسمت جلو","e",{"$f":"OFFSET('متغیرها '!T5,6,'متغیرها '!U5)+T67*'مساله سوم مدل 13'!B493","v":60.4},null,{"$f":"OFFSET('متغیرها '!T5,6,'متغیرها '!Y5)","v":99.9},null,null,null,null,null,null,null,null,null,null,null,null,{"$f":"Z6","v":"بچگانه 2 ساله با پوشک"},-95,6,"اندازه گیری زنان",null,null,-127,3.5]
["شیفت عمودی تکه پهلو پشت  برحسب سانتیمتر","(از -100 الی100)",0,"بدون شیفت=0 ",{"$f":"'طراحی همه الگوها'!B178","v":0},"شیفت عمودی تکه پهلو پشت  (سانتیمتر)",1,1,0,0,1,0,-100,-100,100,100,null,null,"فاصله نوار کمر تا زمین، از قسمت پهلو","f",{"$f":"OFFSET('متغیرها '!T5,7,'متغیرها '!U5)+T67*'مساله سوم مدل 13'!B493","v":60.5},null,{"$f":"OFFSET('متغیرها '!T5,7,'متغیرها '!Y5)","v":100},null,null,null,null,null,null,null,null,null,null,null,null,{"$f":"AA6","v":"بچگانه 3 ساله"},-94,7,"اندازه گیری پیشرفته زنان",null,null,-126.5,4]
[null,null,null,null,null,null,null,null,null,null,null,null,null,null,null,null,null,null,"فاصله نوار کمر تا زمین، از قسمت پشت","g",{"$f":"OFFSET('متغیرها '!T5,8,'متغیرها '!U5)+T67*'مساله سوم مدل 13'!B493","v":60.6},null,{"$f":"OFFSET('متغیرها '!T5,8,'متغیرها '!Y5)","v":100.1},null,null,null,null,null,null,null,null,null,null,null,null,{"$f":"AB6","v":"بچگانه 4 ساله"},-93,8,null,null,null,-126,4.5]
[" متغیرهای ورودی - گشاد یا تنگ شدن پیراهن",null,null,null,null," متغیرهای ورودی - گشاد یا تنگ شدن پیراهن","x1","y1","x2","y2(بهینه)","a","b","کمترین قبلی","کمترین جدید","بیشترین قبلی","بیشترین جدید",null,null,"فاصله نوار زانو تا زمین","h",{"$f":"OFFSET('متغیرها '!T5,9,'متغیرها '!U5)+0.5*T67*'مساله سوم مدل 13'!B493","v":22.200000000000003},null,{"$f":"OFFSET('متغیرها '!T5,9,'متغیرها '!Y5)","v":45.199999999999989},null,null,null,null,null,null,null,null,null,null,null,null,{"$f":"AC6","v":"بچگانه 5 ساله"},-92,9,null,null,null,-125.5,5]
["ضریب تغییر اندازه های عرضی در پیراهن f2  ","(از -0.2 الی 0.2)",{"$f":"IF(E60<51,K60*E60+L60,IF(E702=3,C590,IF(AND(E702=2,C590<0),C590,IF(AND(E702=1,C590<0),0,(E703/10)*C590))))","v":0.1},"اندامی =0",{"$f":"'مساله سوم مدل 13'!B513","v":10}," اندازه های عرضی در پیراهن   ",1,0.01,0,0,{"$f":"(J60-H60)/(I60-G60)","v":0.01},{"$f":"H60-G60*K60","v":0},-0.2,{"$f":"(M60-L60)/K60","v":-20},0.2,{"$f":"(O60-L60)/K60","v":20},null,null,"فاصله نوار باسن تا زمین","j",{"$f":"OFFSET('متغیرها '!T5,10,'متغیرها '!U5)+0.85*T67*'مساله سوم مدل 13'!B493","v":49.8},null,{"$f":"OFFSET('متغیرها '!T5,10,'متغیرها '!Y5)","v":83},null,null,null,null,null,null,null,null,null,null,null,null,{"$f":"AD6","v":"بچگانه 6 ساله"},-91,10,"انتخاب نوع الگو",null,null,-125,5.5]
["ضریب گشاد یا تنگ شدن از خط پهلو زیر حلقهf3 ","(از -0.03 الی 0.03)",{"$f":"K61*E61+L61","v":0},"اندامی =0",{"$f":"'مساله سوم مدل 13'!B514","v":0}," گشاد یا تنگ شدن از خط پهلو زیر حلقه ",1,5.0000000000000001E-3,0,0,{"$f":"(J61-H61)/(I61-G61)","v":5.0000000000000001E-3},{"$f":"H61-G61*K61","v":0},-0.03,{"$f":"(M61-L61)/K61","v":-6},0.03,{"$f":"(O61-L61)/K61","v":6},null,null,"دور زانو","L",{"$f":"OFFSET('متغیرها '!T5,11,'متغیرها '!U5)","v":25.4},null,{"$f":"OFFSET('متغیرها '!T5,11,'متغیرها '!Y5)","v":38.1},null,null,null,null,null,null,null,null,null,null,null,null,{"$f":"AE6","v":"بچگانه 7 ساله"},-90,11,"فاق معمولی مناسب زنان و بچه ها",null,null,-124.5,6]
["ضریب گشاد یا تنگ شدن از خط پهلو دور باسن f4 ","(از -0.03 الی 0.08)",{"$f":"K62*E62+L62","v":0},"اندامی =0",{"$f":"'مساله سوم مدل 13'!B515","v":0}," گشاد یا تنگ شدن از خط پهلو دور باسن  ",1,5.0000000000000001E-3,0,0,{"$f":"(J62-H62)/(I62-G62)","v":5.0000000000000001E-3},{"$f":"H62-G62*K62","v":0},-0.03,{"$f":"(M62-L62)/K62","v":-6},0.08,{"$f":"(O62-L62)/K62","v":16},null,null,"بلندی فاق","m",{"$f":"OFFSET('متغیرها '!T5,12,'متغیرها '!U5)+0.7*(1-T67)*'مساله سوم مدل 13'!B493","v":15.800000000000002},null,{"$f":"OFFSET('متغیرها '!T5,12,'متغیرها '!Y5)","v":24.79999999999999},null,null,null,null,null,null,null,null,null,null,null,null,{"$f":"AF6","v":"بچگانه 8 ساله"},-89,12,"فاق کمی بلند مناسب مردان",null,null,-124,6.5]
["ضریب تغییر اندازه های طولی در پیراهن f5 ","(از -0.2 الی 0.2)",{"$f":"K63*E63+L63","v":0},"اندامی =0",{"$f":"'مساله سوم مدل 13'!B516","v":0}," اندازه های طولی در پیراهن  ",1,0.01,0,0,{"$f":"(J63-H63)/(I63-G63)","v":0.01},{"$f":"H63-G63*K63","v":0},-0.2,{"$f":"(M63-L63)/K63","v":-20},0.2,{"$f":"(O63-L63)/K63","v":20},null,null,"آنفورشور","q",{"$f":"OFFSET('متغیرها '!T5,13,'متغیرها '!U5)+2*0.7*(1-T67)*'مساله سوم مدل 13'!B493","v":44.70000000000001},null,{"$f":"OFFSET('متغیرها '!T5,13,'متغیرها '!Y5)","v":65.700000000000017},null,null,null,null,null,null,null,null,null,null,null,null,{"$f":"AG6","v":"بچگانه 9 ساله"},-88,13,"فاق کاملا بلند مناسب بچه با پوشک",null,null,-123.5,7]
[null,null,null,null,null,null,null,null,null,null,null,null,null,null,null,null,null,null,"دور مچ پا","r",{"$f":"OFFSET('متغیرها '!T5,14,'متغیرها '!U5)","v":17.210000000000004},null,{"$f":"OFFSET('متغیرها '!T5,14,'متغیرها '!Y5)","v":23.509999999999994},null,null,null,null,null,null,null,null,null,null,null,null,{"$f":"AH6","v":"بچگانه 10 ساله"},-87,14,null,null,null,-123,7.5]
[" متغیرهای ورودی - جادکمه و پایین لباس",null,null,null,null," متغیرهای ورودی - جادکمه و پایین لباس","x1","y1","x2","y2(بهینه)","a","b","کمترین قبلی","کمترین جدید","بیشترین قبلی","بیشترین جدید",null,null,null,null,null,null,null,null,null,null,null,null,null,null,null,null,null,null,null,{"$f":"AI6","v":"بچگانه 11 ساله"},-86,15,"ارتفاع یقه گرد کش",null,null,-122.5,8]
["ضریب بزرگی پهنای جادکمه جلو    مرحله اول","(از 0 الی 0.1)",{"$f":"IF(C707=1,(1+0.5*C595*U64)/(2*U81+U82),IF(E66<51,K66*E66+L66,K235*E235+L235))","v":0},"بهینه=0.015",{"$f":"'مساله سوم مدل 13'!B531","v":0},"پهنای جادکمه جلو      مرحله اول در طراحی یقه انگلیسی",0,0,1,5.0000000000000001E-3,{"$f":"(J66-H66)/(I66-G66)","v":5.0000000000000001E-3},{"$f":"H66-G66*K66","v":0},0,{"$f":"(M66-L66)/K66","v":0},0.1,{"$f":"(O66-L66)/K66","v":20},null,null,"شلوار زنانه و بچگانه = 0       مردانه=1      بچه با پوشک=2",null,{"$f":"OFFSET('متغیرها '!T5,16,'متغیرها '!U5)","v":0},null,{"$f":"OFFSET('متغیرها '!T5,16,'متغیرها '!Y5)","v":0},null,null,null,null,null,null,null,null,null,null,null,null,{"$f":"AJ6","v":"بچگانه 12 ساله"},-85,16,0.5,"نوع آستین",null,-122,8.5]
["ضریب فاصله لبه دامن یا پیراهن تا زمین   k0","(از 0 الی 4)",{"$f":"K67*E67+L67","v":2},"خط زمین=0 \nخط زانو=1 \nخط باسن=2 \nخط کمر=3 \nخط سینه=4  ",{"$f":"'طراحی همه الگوها'!B180","v":50},"لبه پایین لباس",10,0,30,1,{"$f":"(J67-H67)/(I67-G67)","v":0.05},{"$f":"H67-G67*K67","v":-0.5},0,{"$f":"(M67-L67)/K67","v":10},4,{"$f":"(O67-L67)/K67","v":90},null,null,"نسبتها در تغییر تمام قد",0.8,null,null,null,null,null,null,null,null,null,null,null,null,null,null,null,{"$f":"AK6","v":"بچگانه 13 ساله"},-84,17,1,1,null,-121.5,9]
["ضریب انحنا لبه پایین لباس ","(از 0 الی 0.9)",{"$f":"K68*E68+L68","v":0},"بهینه =0.1",{"$f":"'طراحی همه الگوها'!B181","v":0}," انحنا لبه پایین لباس نزدیک خط پهلو",0,0,1,0.05,{"$f":"(J68-H68)/(I68-G68)","v":0.05},{"$f":"H68-G68*K68","v":0},0,{"$f":"(M68-L68)/K68","v":0},0.9,{"$f":"(O68-L68)/K68","v":18},null,null,null,null,null,null,null,null,null,null,null,null,null,null,null,null,null,null,null,{"$f":"AL6","v":"بچگانه 14 ساله"},-83,18,1.5,2,null,-121,9.5]
[" ضریب طول انحنا لبه پایین لباس نزدیک خط پهلو","(از 0 الی 1)",{"$f":"K69*E69+L69","v":0.9},"بهینه =0.9",{"$f":"'طراحی همه الگوها'!B182","v":18}," طول انحنا لبه پایین لباس نزدیک خط پهلو",0,0,1,0.05,{"$f":"(J69-H69)/(I69-G69)","v":0.05},{"$f":"H69-G69*K69","v":0},0,{"$f":"(M69-L69)/K69","v":0},1,{"$f":"(O69-L69)/K69","v":20},null,null,"اندازه ها در بالاتنه",null,"اندازه شخص",null,"اندازه شخص",null,null,null,null,null,null,null,null,null,null,null,null,{"$f":"AM6","v":"34زنانه"},-82,19,2,4,null,-120.5,10]
[" متغیرهای ورودی - یقه",null,null,null,null," متغیرهای ورودی - یقه","x1","y1","x2","y2(بهینه)","a","b","کمترین قبلی","کمترین جدید","بیشترین قبلی","بیشترین جدید",null,null,"دور کمر","a",{"$f":"OFFSET('متغیرها '!T5,20,'متغیرها '!U5)+'مساله سوم مدل 13'!B481","v":53},null,{"$f":"OFFSET('متغیرها '!T5,20,'متغیرها '!Y5)","v":75},null,null,null,null,null,null,null,null,null,null,null,null,{"$f":"AN6","v":"36زنانه"},-81,20,2.5,null,null,-120,10.5]
["ضریب باز شدن یقه روی سرشانه (گرد یا مربعی یا دلبری)   مرحله دوم   x6 ","(از 0 الی 0.99)",{"$f":"K71*E71+L71","v":0},"یقه کیپ=0",{"$f":"'مساله سوم مدل 13'!E469","v":0},"باز شدن یقه روی سرشانه (گرد یا مربعی یا دلبری)   مرحله دوم در طراحی یقه انگلیسی    ",0,0,1,0.05,{"$f":"(J71-H71)/(I71-G71)","v":0.05},{"$f":"H71-G71*K71","v":0},0,{"$f":"(M71-L71)/K71","v":0},0.95,{"$f":"(O71-L71)/K71","v":18.999999999999996},null,null,"نوار کمر از پشت بین دو خط پهلو","b",{"$f":"OFFSET('متغیرها '!T5,21,'متغیرها '!U5)+0.4*'مساله سوم مدل 13'!B481-'مساله سوم مدل 13'!B503","v":26},null,{"$f":"OFFSET('متغیرها '!T5,21,'متغیرها '!Y5)","v":36.799999999999997},null,null,null,null,null,null,null,null,null,null,null,null,{"$f":"AO6","v":"38زنانه"},-80,21,3,null,null,-119.5,11]
["ضریب باز شدن یقه روی خط مرکزی جلو (گرد یا مربعی یا قایقی یا پروانه ای)  x'6","(از 0 الی 3)",{"$f":"K72*E72+L72","v":0},"یقه کیپ=0",{"$f":"'مساله سوم مدل 13'!E470","v":0},"باز شدن یقه روی خط مرکزی جلو (گرد یا مربعی یا قایقی یا پروانه ای)  ",0,0,1,0.05,{"$f":"(J72-H72)/(I72-G72)","v":0.05},{"$f":"H72-G72*K72","v":0},0,{"$f":"(M72-L72)/K72","v":0},3,{"$f":"(O72-L72)/K72","v":60},null,null,"دور سینه : از برجسته ترین قسمت سینه","s1",{"$f":"OFFSET('متغیرها '!T5,22,'متغیرها '!U5)+'مساله سوم مدل 13'!B484","v":58},null,{"$f":"OFFSET('متغیرها '!T5,22,'متغیرها '!Y5)","v":86},null,null,null,null,null,null,null,null,null,null,null,null,{"$f":"AP6","v":"40زنانه"},-79,22,3.5,null,null,-119,11.5]
["ضریب باز شدن یقه روی خط مرکزی پشت  (گرد یا مربعی یا قایقی یا پروانه ای) مرحله دوم    x7","(از 0 الی 3)",{"$f":"K73*E73+L73","v":0.1},"یقه کیپ=0",{"$f":"'مساله سوم مدل 13'!E471","v":2},"باز شدن یقه روی خط مرکزی پشت(گرد؛ مربعی؛ قایقی؛ پروانه ای)مرحله دوم در طراحی یقه انگلیسی    ",0,0,1,0.05,{"$f":"(J73-H73)/(I73-G73)","v":0.05},{"$f":"H73-G73*K73","v":0},0,{"$f":"(M73-L73)/K73","v":0},3,{"$f":"(O73-L73)/K73","v":60},null,null,"پشت نوار سینه، بین دو خط پهلو","s2",{"$f":"OFFSET('متغیرها '!T5,23,'متغیرها '!U5)+0.4*'مساله سوم مدل 13'!B484-0.8*'مساله سوم مدل 13'!B502","v":29},null,{"$f":"OFFSET('متغیرها '!T5,23,'متغیرها '!Y5)","v":43},null,null,null,null,null,null,null,null,null,null,null,null,{"$f":"AQ6","v":"42زنانه"},-78,23,4,null,null,-118.5,12]
[null,null,null,null,null,null,null,null,null,null,null,null,null,null,null,null,null,null,"فاصله عمودی از خط سینه جلو تا خط سینه پشت که از کنار حلقه آستین بگذرد","t1",{"$f":"OFFSET('متغیرها '!T5,24,'متغیرها '!U5)+2*0.4*(1-T67)*'مساله سوم مدل 13'!B493","v":26.9},null,{"$f":"OFFSET('متغیرها '!T5,24,'متغیرها '!Y5)","v":39.799999999999997},null,null,null,null,null,null,null,null,null,null,null,null,{"$f":"AR6","v":"44زنانه"},-77,24,4.5,null,null,-118,12.5]
[" متغیرهای ورودی - سرشانه و حلقه آستین",null,null,null,null," متغیرهای ورودی - سرشانه و حلقه آستین","x1","y1","x2","y2(بهینه)","a","b","کمترین قبلی","کمترین جدید","بیشترین قبلی","بیشترین جدید",null,null,"فاصله عمودی از خط سینه جلو تا خط سینه پشت که از کنارگردن بگذرد","t2",{"$f":"OFFSET('متغیرها '!T5,25,'متغیرها '!U5)+2*0.4*(1-T67)*'مساله سوم مدل 13'!B493","v":31.6},null,{"$f":"OFFSET('متغیرها '!T5,25,'متغیرها '!Y5)","v":46.9},null,null,null,null,null,null,null,null,null,null,null,null,{"$f":"AS6","v":"46زنانه"},-76,25,5,null,null,-117.5,13]
["میزان کم شدن سرشانه x8 ","(از -0.5 الی 0.9)",{"$f":"K76*E76+L76","v":0},"اندامی =0",{"$f":"'مساله سوم مدل 13'!B534","v":0},"ضریب کم شدن سرشانه  ",0,0,1,0.05,{"$f":"(J76-H76)/(I76-G76)","v":0.05},{"$f":"H76-G76*K76","v":0},-0.5,{"$f":"(M76-L76)/K76","v":-10},0.9,{"$f":"(O76-L76)/K76","v":18},null,null,"فاصله عمودی از خط کمر جلو تا خط کمر پشت که از کنار گردن بگذرد","t3",{"$f":"OFFSET('متغیرها '!T5,26,'متغیرها '!U5)+2*(1-T67)*'مساله سوم مدل 13'!B493","v":54},null,{"$f":"OFFSET('متغیرها '!T5,26,'متغیرها '!Y5)","v":80},null,null,null,null,null,null,null,null,null,null,null,null,{"$f":"AT6","v":"48زنانه"},-75,26,null,null,null,-117,13.5]
["میزان بزرگ شدن زیر حلقه آستین x9 ","(از -0.5 الی 1.5)",{"$f":"K77*E77+L77-IF(C511=3,1*(U72-2*U73)/U82,0)","v":0},"اندامی =0",{"$f":"'مساله سوم مدل 13'!B535","v":0},"ضریب بزرگ شدن زیر حلقه آستین  ",0,0,1,0.05,{"$f":"(J77-H77)/(I77-G77)","v":0.05},{"$f":"H77-G77*K77","v":0},-0.5,{"$f":"(M77-L77)/K77","v":-10},1.5,{"$f":"(O77-L77)/K77","v":30},null,null,"فاصله عمودی بین خط سینه پشت و سرشانه، نزدیک دست","t4",{"$f":"OFFSET('متغیرها '!T5,27,'متغیرها '!U5)+0.4*(1-T67)*'مساله سوم مدل 13'!B493","v":13.8},null,{"$f":"OFFSET('متغیرها '!T5,27,'متغیرها '!Y5)","v":20.399999999999999},null,null,null,null,null,null,null,null,null,null,null,null,{"$f":"AU6","v":"50زنانه"},-74,27,"متغیر ورودی به سانتیمتر","متغیر ورودی به سانتیمتر",null,-116.5,14]
["میزان زیاد شدن سرشانه x10 ","(از -0.5 الی 0.5)",{"$f":"K78*E78+L78","v":0.2},"اندامی =0",{"$f":"'مساله سوم مدل 13'!B536","v":4},"ضریب زیاد شدن سرشانه  ",0,0,1,0.05,{"$f":"(J78-H78)/(I78-G78)","v":0.05},{"$f":"H78-G78*K78","v":0},-0.5,{"$f":"(M78-L78)/K78","v":-10},0.5,{"$f":"(O78-L78)/K78","v":10},null,null,"فاصله عمودی بین خط سینه پشت و سرشانه، نزدیک گردن","t5",{"$f":"OFFSET('متغیرها '!T5,28,'متغیرها '!U5)+0.4*(1-T67)*'مساله سوم مدل 13'!B493","v":16.5},null,{"$f":"OFFSET('متغیرها '!T5,28,'متغیرها '!Y5)","v":24.5},null,null,null,null,null,null,null,null,null,null,null,null,{"$f":"AV6","v":"52زنانه"},-73,28,-10,0,null,{"$f":"AP79-0.5","v":-116},14.5]
["انتخاب آستین حلقه ای یا پیش سینه رکابی یا تکه پهلو جدا=0        و انتخاب آستین دیگر=1","0 یا 1 ",{"$f":"K79*E79+L79","v":1},null,{"$f":"'مساله سوم مدل 13'!B537","v":2},"انتخاب آستین حلقه ای یا پیش سینه رکابی یا تکه پهلو جدا=1        و انتخاب آستین دیگر=2",1,0,2,1,{"$f":"(J79-H79)/(I79-G79)","v":1},{"$f":"H79-G79*K79","v":-1},null,1,null,2,null,null,"فاصله عمودی بین خط کمرپشت و سرشانه، نزدیک گردن","t6",{"$f":"OFFSET('متغیرها '!T5,29,'متغیرها '!U5)+(1-T67)*'مساله سوم مدل 13'!B493","v":27.5},null,{"$f":"OFFSET('متغیرها '!T5,29,'متغیرها '!Y5)","v":40.799999999999997},null,null,null,null,null,null,null,null,null,null,null,null,{"$f":"AW6","v":"54زنانه"},-72,29,-9.5,0.1,null,-115.5,15]
[null,null,null,null,null,null,null,null,null,null,null,null,null,null,null,null,null,null,"دور گردن (متر به طور عمودی دور گردن قرار می گیرد و از روی استخوان ترقوه می گذرد)","v",{"$f":"OFFSET('متغیرها '!T5,30,'متغیرها '!U5)","v":31},null,{"$f":"OFFSET('متغیرها '!T5,30,'متغیرها '!Y5)","v":39},null,null,null,null,null,null,null,null,null,null,null,null,{"$f":"AX6","v":"56زنانه"},-71,30,-9,0.2,null,-115,15.5]
[" متغیرهای ورودی - تنظیم ساسون های بالای کمر\nمجموع ضرایب پهنای دو ساسون پشت باید کمتر از یک یا مساوی یک باشد.\nبا تغییر ضرایب پهنای ساسون، باقیمانده ساسون ها روی خط پهلو قرار میگیرد.",null,null,null,null," متغیرهای ورودی - تنظیم ساسون های بالای کمر\nمجموع ضرایب پهنای دو ساسون پشت باید کمتر از یک یا مساوی یک باشد.\nبا تغییر ضرایب پهنای ساسون، باقیمانده ساسون ها روی خط پهلو قرار میگیرد.","x1","y1","x2","y2","a","b",null,"کمترین",null,"بیشترین",null,"تست جدید","کارور پشت (بین دو خط امتداد زیر بغل)","v3",{"$f":"OFFSET('متغیرها '!T5,31,'متغیرها '!U5)-'مساله سوم مدل 13'!B502","v":23.5},null,{"$f":"OFFSET('متغیرها '!T5,31,'متغیرها '!Y5)","v":35.1},null,null,null,null,null,null,null,null,null,null,null,null,{"$f":"AY6","v":"58زنانه"},-70,31,-8.5,0.3,null,-114.5,16]
[" ضریب پهنای ساسون روی خط مرکزی پشت بالاتنه   y'1","(از 0 الی 1)",{"$f":"K82*E82+L82","v":0},"بدون ساسون=0 \nبهینه=0.5  ",{"$f":"'مساله سوم مدل 13'!B542","v":0}," ضریب پهنای ساسون روی خط مرکزی پشت بالاتنه   ",0,0,1,0.05,{"$f":"(J82-H82)/(I82-G82)","v":0.05},{"$f":"H82-G82*K82","v":0},0,{"$f":"(M82-L82)/K82","v":0},1,{"$f":"(O82-L82)/K82","v":20},0.5,{"$f":"(Q82-L82)/K82","v":10},"دور بازو از ناحیه زیر بغل","w2",{"$f":"OFFSET('متغیرها '!T5,32,'متغیرها '!U5)+'مساله سوم مدل 13'!B490","v":23},null,{"$f":"OFFSET('متغیرها '!T5,32,'متغیرها '!Y5)","v":33},null,null,null,null,null,null,null,null,null,null,null,null,{"$f":"AZ6","v":"60زنانه"},-69,32,-8,0.4,"متغیر ورودی خاص شلوار",-114,16.5]
[" ضریب طول ساسون روی خط مرکزی پشت بالاتنه   y'3","(از0.1 الی 0.9)",0.60000000000000009,"بهینه=0.75 ",{"$f":"'مساله سوم مدل 13'!B543","v":12}," ضریب طول ساسون روی خط مرکزی پشت بالاتنه   ",0,0,1,0.05,{"$f":"(J83-H83)/(I83-G83)","v":0.05},{"$f":"H83-G83*K83","v":0},0.1,2,0.9,18,0.75,15,"قد آستین (دست به طور خمیده، قد از سرشانه تا مچ)","w10",{"$f":"OFFSET('متغیرها '!T5,33,'متغیرها '!U5)+1.5*(1-T67)*'مساله سوم مدل 13'!B493","v":38},null,{"$f":"OFFSET('متغیرها '!T5,33,'متغیرها '!Y5)","v":60},null,null,null,null,null,null,null,null,null,null,null,null,{"$f":"BA6","v":"37 مردانه"},-68,33,-7.5,0.5,0.5,-113.5,17]
[" ضریب پهنای ساسون میانی پشت بالاتنه   y'2","(از 0 الی 1)",0.5,"بدون ساسون=0\nبهینه=0.5",{"$f":"'مساله سوم مدل 13'!B544","v":10}," ضریب پهنای ساسون میانی پشت بالاتنه   ",0,0,1,0.05,{"$f":"(J84-H84)/(I84-G84)","v":0.05},{"$f":"H84-G84*K84","v":0},0,0,1,20,0.5,10,"دور مچ دست","w11",{"$f":"OFFSET('متغیرها '!T5,34,'متغیرها '!U5)","v":12.5},null,{"$f":"OFFSET('متغیرها '!T5,34,'متغیرها '!Y5)","v":17.5},null,null,null,null,null,null,null,null,null,null,null,null,{"$f":"BB6","v":"38 مردانه"},-67,34,-7,0.6,0.55000000000000004,-113,17.5]
[" ضریب طول ساسون میانی پشت بالاتنه   y'4","(از 0.3 الی 1)",0.9,"بهینه =0.9",{"$f":"'مساله سوم مدل 13'!B545","v":18}," ضریب طول ساسون میانی پشت بالاتنه   ",0,0,1,0.05,0.05,0,0.3,5.9999999999999991,1,20,0.9,18,"دور سر","w12",{"$f":"OFFSET('متغیرها '!T5,35,'متغیرها '!U5)","v":51},null,{"$f":"OFFSET('متغیرها '!T5,35,'متغیرها '!Y5)","v":57},null,null,null,null,null,null,null,null,null,null,null,null,{"$f":"BC6","v":"39 مردانه"},-66,35,-6.5,0.7,0.6,-112.5,18]
[" ضریب فاصله افقی ساسون وسط بالاتنه از خط مرکزی پشت   y'5","(از0.2 الی 0.8)",0.5,"بهینه=0.5",{"$f":"'مساله سوم مدل 13'!B546","v":25}," ضریب فاصله افقی ساسون وسط بالاتنه از خط مرکزی پشت   ",0,0,1,0.02,0.02,0,0.2,10,0.8,40,0.5,25,null,null,null,null,null,null,null,null,null,null,null,null,null,null,null,null,null,{"$f":"BD6","v":"40 مردانه"},-65,36,-6,0.8,0.65,-112,18.5]
[" ضریب پهنای ساسون میانی جلو بالاتنه    y'6","(از 0 الی 0.5)",0.30000000000000004,"بدون ساسون=0\nبهینه=0.333",{"$f":"'مساله سوم مدل 13'!B547","v":6}," ضریب پهنای ساسون میانی جلو بالاتنه    ",0,0,1,0.05,0.05,0,0,0,0.5,10,0.35,6.9999999999999991,null,"قد سرشانه تا زمین",{"$f":"U57-T67*'مساله سوم مدل 13'!B493+SQRT(SQRT(SQRT(2.1*((U76-U79-(1-T67)*'مساله سوم مدل 13'!B493)/(U52-'مساله سوم مدل 13'!B481))-0.2)))*0.5*(U76-2*(1-T67)*'مساله سوم مدل 13'!B493)","v":86.957032442729712},null,null,null,null,null,null,null,null,null,null,null,null,null,null,{"$f":"BE6","v":"41 مردانه"},-64,37,-5.5,0.9,0.7,-111.5,19]
[" ضریب طول ساسون میانی جلو بالاتنه  y'7","(از 0 الی 0.5)",9.9999999999999978E-2,"بهینه =0.2\nتا خط سینه=0",{"$f":"'مساله سوم مدل 13'!B548","v":18}," ضریب طول ساسون میانی جلو بالاتنه  ",20,0,0,1,-0.05,1,0,20,0.5,10,0.2,16,null,"تمام قد (تقریبی)",{"$f":"ROUND(U87+IF(U85>51.5,0.35,IF(U85>50.5,0.33,0.31))*U85,0)","v":104},null,null,null,null,null,null,null,null,null,null,null,null,null,null,{"$f":"BF6","v":"42 مردانه"},-63,38,-5,1,0.75,-111,19.5]
[" ضریب فاصله افقی ساسون میانی بالاتنه از خط مرکزی جلو   y'8","(از0.2 الی 0.8)",0.5,"بهینه=0.5",{"$f":"'مساله سوم مدل 13'!B549","v":25}," ضریب فاصله افقی ساسون میانی بالاتنه از خط مرکزی جلو   ",0,0,1,0.02,0.02,0,0.2,10,0.8,40,0.5,25,null,null,null,null,null,null,null,null,null,null,null,null,null,null,null,null,null,{"$f":"BG6","v":"43 مردانه"},-62,39,-4.5,1.1000000000000001,0.8,-110.5,20]
[" ضریب نوک ساسون سرشانه جلو تا نوک سینه  y'15","(از 0 الی 0.5)",9.9999999999999978E-2,"بهینه =0.2\nتا خط سینه=0",{"$f":"'مساله سوم مدل 13'!B550","v":18}," ضریب نوک ساسون سرشانه جلو تا نوک سینه  ",20,0,0,1,{"$f":"(J90-H90)/(I90-G90)","v":-0.05},{"$f":"H90-G90*K90","v":1},0,20,0.5,10,0.2,16,null,null,null,null,null,null,null,null,null,null,null,null,null,null,null,null,null,{"$f":"BH6","v":"44 مردانه"},-61,40,-4,1.2,0.85,-110,20.5]
[null,null,null,null,null,null,null,null,null,null,null,null,null,null,null,null,null,null,null,null,null,null,null,null,null,null,null,null,null,null,null,null,null,null,null,{"$f":"BI6","v":"45 مردانه"},-60,41,-3.5,1.3,0.9,-109.5,21]
[" متغیرهای ورودی - تنظیم ساسون های پایین کمر\nمجموع پهنای دو ساسون پشت باید کمتر از یک یا مساوی یک باشد.\nبا تغییر ضرایب پهنای ساسون، باقیمانده ساسون ها روی خط پهلو قرار میگیرد.",null,null,null,null," متغیرهای ورودی - تنظیم ساسون های پایین کمر\nمجموع پهنای دو ساسون پشت باید کمتر از یک یا مساوی یک باشد.\nبا تغییر ضرایب پهنای ساسون، باقیمانده ساسون ها روی خط پهلو قرار میگیرد.","x1","y1","x2","y2(بهینه)","a","b",null,"کمترین",null,"بیشترین",null,null,null,null,null,null,null,null,null,null,null,null,null,null,null,null,null,null,null,{"$f":"BJ6","v":"46 مردانه"},-59,42,-3,1.4,0.95,-109,21.5]
[" ضریب پهنای ساسون روی خط مرکزی پشت دامن   y'9","(از 0 الی 1)",{"$f":"K93*E93+L93","v":0},"بدون ساسون=0 \nبهینه=025  ",{"$f":"'مساله سوم مدل 13'!B555","v":0}," ضریب پهنای ساسون روی خط مرکزی پشت دامن   ",0,0,1,0.05,{"$f":"(J93-H93)/(I93-G93)","v":0.05},{"$f":"H93-G93*K93","v":0},0,{"$f":"(M93-L93)/K93","v":0},1,{"$f":"(O93-L93)/K93","v":20},0.25,{"$f":"(Q93-L93)/K93","v":5},null,null,null,null,null,null,null,null,null,null,null,null,null,null,null,null,null,{"$f":"BK6","v":"47 مردانه"},-58,43,-2.5,1.5,1,-108.5,22]
[" ضریب طول ساسون روی خط مرکزی پشت دامن   y'10     غیر فعال","(از0.1 الی 0.9)",0.9,"بهینه=0.9 ",{"$f":"'طراحی همه الگوها'!B284","v":18}," ضریب طول ساسون روی خط مرکزی پشت دامن        غیر فعال",0,0,1,0.05,0.05,0,0.1,2,0.9,18,0.9,18,null,null,null,null,null,null,null,null,null,null,null,null,null,null,null,null,null,{"$f":"BL6","v":"48 مردانه"},-57,44,-2,1.6,1.05,-108,22.5]
[" ضریب پهنای ساسون میانی پشت دامن   y'11","(از 0 الی 1)",0.5,"بدون ساسون=0\nبهینه=0.5",{"$f":"'مساله سوم مدل 13'!B556","v":10}," ضریب پهنای ساسون میانی پشت دامن   ",0,0,1,0.05,0.05,0,0,0,1,20,0.5,10,null,null,null,null,null,null,null,null,null,null,null,null,null,null,null,null,null,{"$f":"BM6","v":"49 مردانه"},-56,45,-1.5,1.7,1.1000000000000001,{"$f":"AP96-0.5","v":-107.5},23]
[" ضریب طول ساسون میانی پشت دامن   y'12    ","(از 0.3 الی 1)",0.9,"بلندی ساسون تا خط باسن=1\nبهینه =0.9",{"$f":"'مساله سوم مدل 13'!B557","v":18}," ضریب طول ساسون میانی پشت دامن       ",0,0,1,0.05,0.05,0,0.3,5.9999999999999991,1,20,0.9,18,null,null,null,null,null,null,null,null,null,null,null,null,null,null,null,null,null,{"$f":"BN6","v":"50 مردانه"},-55,46,-1,1.8,1.1499999999999999,-107,23.5]
[" ضریب پهنای ساسون میانی جلو دامن    y'13","(از 0 الی 0.5)",0.30000000000000004,"بدون ساسون=0\nبهینه=0.25",{"$f":"'مساله سوم مدل 13'!B558","v":6}," ضریب پهنای ساسون میانی جلو دامن    ",0,0,1,0.05,0.05,0,0,0,0.5,10,0.25,5,null,null,null,null,null,null,null,null,null,null,null,null,null,null,null,null,null,{"$f":"BO6","v":"6ماهه تا یکساله کت"},-54,47,-0.5,1.9,1.2,-106.5,24]
[" ضریب طول ساسون میانی جلو دامن  y'14     ","(از 0.3 الی 0.99)",1,"بلندی ساسون تا خط باسن=1\nبهینه =0.9",{"$f":"'مساله سوم مدل 13'!B559","v":20}," ضریب طول ساسون میانی جلو دامن       ",0,0,1,0.05,0.05,0,0.3,5.9999999999999991,0.95,18.999999999999996,0.9,18,null,null,null,null,null,null,null,null,null,null,null,null,null,null,null,null,null,{"$f":"BP6","v":"1ساله کت"},-53,48,0,2,1.25,-106,24.5]
[null,null,null,null,null,null,null,null,null,null,null,null,null,null,null,null,null,null,null,null,null,null,null,null,null,null,null,null,null,null,null,null,null,null,null,{"$f":"BQ6","v":"2ساله کت"},-52,49,0.5,2.1,1.3,-105.5,25]
[" متغیرهای ورودی-بالاتنه عصایی ساسون ها",null,null,null,null," متغیرهای ورودی-بالاتنه عصایی ساسون ها","x1","y1","x2","y2(بهینه)","a","b",null,"کمترین",null,"بیشترین",null,null,null,null,null,null,null,null,null,null,null,null,null,null,null,null,null,null,null,{"$f":"BR6","v":"3ساله کت"},-51,50,1,2.2000000000000002,1.35,-105,25.5]
["انتخاب بالاتنه عصایی=1        انتخاب دیگر=0","0 یا 1 ",{"$f":"K101*E101+L101","v":0},null,{"$f":"'طراحی همه الگوها'!B287","v":1},"انتخاب بالاتنه عصایی=2        انتخاب دیگر=1",1,0,2,1,{"$f":"(J101-H101)/(I101-G101)","v":1},{"$f":"H101-G101*K101","v":-1},0,{"$f":"(M101-L101)/K101","v":1},1,{"$f":"(O101-L101)/K101","v":2},1,{"$f":"(Q101-L101)/K101","v":2},null,null,null,null,null,null,null,null,null,null,null,null,null,null,null,null,null,{"$f":"BS6","v":"4ساله کت"},-50,51,1.5,2.2999999999999998,1.4,-104.5,26]
["ضریب مکان ساسون جلو عصایی در بالاتنه","(از 0.1 الی 0.3)",{"$f":"K102*E102+L102","v":0.2},"بهینه عصایی=0.2",{"$f":"'طراحی همه الگوها'!B288","v":4},"مکان ساسون عصایی جلو در حلقه آستین بالاتنه",0,0,1,0.05,{"$f":"(J102-H102)/(I102-G102)","v":0.05},{"$f":"H102-G102*K102","v":0},0.1,{"$f":"(M102-L102)/K102","v":2},0.3,{"$f":"(O102-L102)/K102","v":5.9999999999999991},0.2,{"$f":"(Q102-L102)/K102","v":4},null,null,null,null,null,null,null,null,null,null,null,null,null,null,null,null,null,{"$f":"BT6","v":"5ساله کت"},-49,52,2,2.4,1.45,-104,26.5]
["ضریب مکان ساسون پشت عصایی در بالاتنه","(از 0.1 الی 0.4)",{"$f":"K103*E103+L103","v":0.2},"بهینه عصایی=0.3",{"$f":"'طراحی همه الگوها'!B289","v":4},"مکان ساسون عصایی پشت در حلقه آستین بالاتنه",0,0,1,0.05,{"$f":"(J103-H103)/(I103-G103)","v":0.05},{"$f":"H103-G103*K103","v":0},0.1,{"$f":"(M103-L103)/K103","v":2},0.4,{"$f":"(O103-L103)/K103","v":8},0.3,{"$f":"(Q103-L103)/K103","v":5.9999999999999991},null,null,null,null,null,null,null,null,null,null,null,null,null,null,null,null,null,{"$f":"BU6","v":"6ساله کت"},-48,53,2.5,2.5,1.5,-103.5,27]
[null,null,null,null,null,null,null,null,null,null,null,null,null,null,null,null,null,null,null,null,null,null,null,null,null,null,null,null,null,null,null,null,null,null,null,{"$f":"BV6","v":"7ساله کت"},-47,54,3,2.6,1.55,-103,27.5]
[" متغیرهای ورودی- انتقال ساسون سرشانه به زیر بغل، عصایی یا خط مرکزی جلو\nبرای حذف کامل ساسون سرشانه مجموع c1 و c2 باید 1 شود.",null,null,null,null," متغیرهای ورودی- انتقال ساسون سرشانه به زیر بغل، عصایی یا خط مرکزی جلو\nبرای حذف کامل ساسون سرشانه مجموع c1 و c2 باید 30 شود.","x1","y1","x2","y2(بهینه)","a","b",null,"کمترین",null,"بیشترین",null,null,null,null,null,null,null,null,null,null,null,null,null,null,null,null,null,null,null,{"$f":"BW6","v":"8ساله کت"},-46,55,3.5,2.7,1.6,-102.5,28]
["ضریب انتقال ساسون سرشانه جلو به ساسون زیر بغل یا ساسون عصایی  c1","(از 0 الی 1)",{"$f":"K106*E106+L106","v":0},"بدون انتقال=0 \nبهیه برای کت جلو باز=0.8 ",{"$f":"'طراحی همه الگوها'!B249","v":0},"انتقال ساسون سرشانه جلو به ساسون زیر بغل یا ساسون عصایی  c1",0,0,10,1,{"$f":"(J106-H106)/(I106-G106)","v":0.1},{"$f":"H106-G106*K106","v":0},0,{"$f":"(M106-L106)/K106","v":0},1,{"$f":"(O106-L106)/K106","v":10},null,null,null,null,null,null,null,null,null,null,null,null,null,null,null,null,null,null,null,{"$f":"BX6","v":"9ساله کت"},-45,56,4,2.8,1.65,-102,28.5]
["ضریب انتقال ساسون سرشانه به خط مرکزی جلو c2","(از 0 الی 1)",{"$f":"K107*E107+L107","v":0},"بدون انتقال=0 \nبهیه برای کت جلو باز=0.2 ",{"$f":"'طراحی همه الگوها'!B250","v":0},"انتقال ساسون سرشانه به خط مرکزی جلو c2",0,0,10,1,{"$f":"(J107-H107)/(I107-G107)","v":0.1},{"$f":"H107-G107*K107","v":0},0,{"$f":"(M107-L107)/K107","v":0},1,{"$f":"(O107-L107)/K107","v":10},null,null,null,null,null,null,null,null,null,null,null,null,null,null,null,null,null,null,null,{"$f":"BY6","v":"10ساله کت"},-44,57,4.5,2.9,1.7,-101.5,29]
["انتخاب (اصلاح سرشانه و حلقه آستین برای c1 >1 ) = 1         و انتخاب دیگر=0","0 یا 1 ",{"$f":"K108*E108+L108","v":0},null,{"$f":"'طراحی همه الگوها'!B252","v":1},"انتخاب (اصلاح سرشانه و حلقه آستین برای c1 >30 ) = 2        انتخاب دیگر=1",1,0,2,1,{"$f":"(J108-H108)/(I108-G108)","v":1},{"$f":"H108-G108*K108","v":-1},0,{"$f":"(M108-L108)/K108","v":1},1,{"$f":"(O108-L108)/K108","v":2},null,null,null,null,null,null,null,null,null,null,null,null,null,null,null,null,null,null,null,{"$f":"BZ6","v":"11ساله کت"},-43,58,5,3,1.75,-101,29.5]
[null,null,null,null,null,null,null,null,null,null,null,null,null,null,null,null,null,null,null,null,null,null,null,null,null,null,null,null,null,null,null,null,null,null,null,{"$f":"CA6","v":"12ساله کت"},-42,59,5.5,3.1,1.8,-100.5,30]
[" متغیرهای ورودی- انتقال ساسون سرشانه به زیر بغل، عصایی یا خط مرکزی پشت\nبرای حذف کامل ساسون سرشانه مجموع c1 و c2 باید 1 شود.",null,null,null,null," متغیرهای ورودی- انتقال ساسون سرشانه به زیر بغل، عصایی یا خط مرکزی پشت\nبرای حذف کامل ساسون سرشانه مجموع c1 و c2 باید 30 شود.","x1","y1","x2","y2(بهینه)","a","b",null,"کمترین",null,"بیشترین",null,null,null,null,null,null,null,null,null,null,null,null,null,null,null,null,null,null,null,{"$f":"CB6","v":"13ساله کت"},-41,60,6,3.2,null,-100,30.5]
["ضریب انتقال ساسون سرشانه پشت به ساسون زیر بغل یا عصایی  c1","(از 0 الی 1)",{"$f":"K111*E111+L111","v":0},"بدون انتقال=0 \nبهیه برای کت پشت باز=0.8 ",{"$f":"'طراحی همه الگوها'!B256","v":0},"انتقال ساسون سرشانه پشت به ساسون زیر بغل یا عصایی  c1",0,0,10,1,{"$f":"(J111-H111)/(I111-G111)","v":0.1},{"$f":"H111-G111*K111","v":0},0,{"$f":"(M111-L111)/K111","v":0},1,{"$f":"(O111-L111)/K111","v":10},null,null,null,null,null,null,null,null,null,null,null,null,null,null,null,null,null,null,null,{"$f":"CC6","v":"14ساله کت"},-40,61,6.5,3.3,null,-99.5,31]
["ضریب انتقال ساسون سرشانه به خط مرکزی پشت c2","(از 0 الی 1)",{"$f":"K112*E112+L112","v":0},"بدون انتقال=0 \nبهیه برای کت پشت باز=0.2 ",{"$f":"'طراحی همه الگوها'!B257","v":0},"انتقال ساسون سرشانه به خط مرکزی پشت c2",0,0,10,1,{"$f":"(J112-H112)/(I112-G112)","v":0.1},{"$f":"H112-G112*K112","v":0},0,{"$f":"(M112-L112)/K112","v":0},1,{"$f":"(O112-L112)/K112","v":10},null,null,null,null,null,null,null,null,null,null,null,null,null,null,null,null,null,null,null,{"$f":"CD6","v":"34زنانه کمر پهن"},-39,62,7,3.4,null,-99,31.5]
[null,null,null,null,null,null,null,null,null,null,null,null,null,null,null,null,null,null,null,null,null,null,null,null,null,null,null,null,null,null,null,null,null,null,null,{"$f":"CE6","v":"36زنانه کمر پهن"},-38,63,7.5,3.5,null,-98.5,32]
[" متغیرهای ورودی-ساسون زیر بغل",null,null,null,null," متغیرهای ورودی-ساسون زیر بغل","x1","y1","x2","y2(بهینه)","a","b",null,"کمترین",null,"بیشترین",null,null,null,null,null,null,null,null,null,null,null,null,null,null,null,null,null,null,null,{"$f":"CF6","v":"38زنانه کمر پهن"},-37,64,8,3.6,null,-98,32.5]
["ضریب کوتاه شدن ساسون زیر بغل جلو  c3","(از0.1 الی 1)",{"$f":"K115*E115+L115","v":0.9},"بلندی ساسون تا نوک سینه=1\nبهینه =0.9",{"$f":"'طراحی همه الگوها'!B260","v":9},"ضریب کوتاه شدن ساسون زیر بغل جلو  ",0,0,1,0.1,{"$f":"(J115-H115)/(I115-G115)","v":0.1},{"$f":"H115-G115*K115","v":0},0.1,{"$f":"(M115-L115)/K115","v":1},1,{"$f":"(O115-L115)/K115","v":10},null,null,null,null,null,null,null,null,null,null,null,null,null,null,null,null,null,null,null,{"$f":"CG6","v":"40زنانه کمر پهن"},-36,65,8.5,3.7,null,{"$f":"AP116-0.5","v":-97.5},33]
["ضریب کوتاه شدن ساسون زیر بغل پشت  c3","(از 0.1 الی 1)",{"$f":"K116*E116+L116","v":0.9},"بلندی ساسون تا نوک سینه=1\nبهینه =0.9",{"$f":"'طراحی همه الگوها'!B261","v":9},"ضریب کوتاه شدن ساسون زیر بغل پشت  ",0,0,1,0.1,{"$f":"(J116-H116)/(I116-G116)","v":0.1},{"$f":"H116-G116*K116","v":0},0.1,{"$f":"(M116-L116)/K116","v":1},1,{"$f":"(O116-L116)/K116","v":10},null,null,null,null,null,null,null,null,null,null,null,null,null,null,null,null,null,null,null,{"$f":"CH6","v":"42زنانه کمر پهن"},-35,66,9,3.8,null,-97,{"$f":"AQ115+0.5","v":33.5}]
[null,null,null,null,null,null,null,null,null,null,null,null,null,null,null,null,null,null,null,null,null,null,null,null,null,null,null,null,null,null,null,null,null,null,null,{"$f":"CI6","v":"44زنانه کمر پهن"},-34,67,9.5,3.9,null,-96.5,34]
[" متغیرهای ورودی - کنترل گودی حلقه آستین و اپل",null,null,null,null," متغیرهای ورودی - کنترل گودی حلقه آستین و اپل","x1","y1","x2","y2(بهینه)","a","b",null,"کمترین",null,"بیشترین",null,null,null,null,null,null,null,null,null,null,null,null,null,null,null,null,null,null,null,{"$f":"CJ6","v":"46زنانه کمر پهن"},-33,68,10,4,null,-96,34.5]
["انتخاب کنترل گودی حلقه آستین=1        و انتخاب دیگر=0","0 یا 1 ",{"$f":"K119*E119+L119","v":0},null,{"$f":"'طراحی همه الگوها'!B369","v":1},"انتخاب کنترل گودی حلقه آستین=2        و انتخاب دیگر=1",1,0,2,1,{"$f":"(J119-H119)/(I119-G119)","v":1},{"$f":"H119-G119*K119","v":-1},0,{"$f":"(M119-L119)/K119","v":1},1,{"$f":"(O119-L119)/K119","v":2},4,{"$f":"(Q119-L119)/K119","v":5},null,null,null,null,null,null,null,null,null,null,null,null,null,null,null,null,null,{"$f":"CK6","v":"48زنانه کمر پهن"},-32,69,10.5,4.0999999999999996,null,-95.5,35]
[" ضریب میزان روی هم آمدن سرشانه پشت و جلو g2","(از 0 الی 1)",{"$f":"K120*E120+L120","v":0.5},"بهینه=0.5",{"$f":"'طراحی همه الگوها'!B370","v":10},"روی هم آمدن سرشانه پشت و جلو ",1,0.05,0,0,{"$f":"(J120-H120)/(I120-G120)","v":0.05},{"$f":"H120-G120*K120","v":0},0,{"$f":"(M120-L120)/K120","v":0},1,{"$f":"(O120-L120)/K120","v":20},0.5,{"$f":"(Q120-L120)/K120","v":10},null,null,null,null,null,null,null,null,null,null,null,null,null,null,null,null,null,{"$f":"CL6","v":"50زنانه کمر پهن"},-31,70,11,4.2,null,-95,35.5]
[" نسبت اعمال تغییر در حلقه جلو به حلقه پشت  g1","(از 0.5 الی 5)",{"$f":"K121*E121+L121","v":2},"بهینه=2",{"$f":"'طراحی همه الگوها'!B371","v":20},"نسبت اعمال تغییر در حلقه جلو به حلقه پشت  ",1,0.1,0,0,{"$f":"(J121-H121)/(I121-G121)","v":0.1},{"$f":"H121-G121*K121","v":0},0.5,{"$f":"(M121-L121)/K121","v":5},5,{"$f":"(O121-L121)/K121","v":50},2,{"$f":"(Q121-L121)/K121","v":20},null,null,null,null,null,null,null,null,null,null,null,null,null,null,null,null,null,{"$f":"CM6","v":"52زنانه کمر پهن"},-30,71,11.5,4.3,null,-94.5,36]
["زاویه اپل  (به درجه)  b","(از 0 الی 10)",{"$f":"K122*E122+L122","v":3},"بهینه =3",{"$f":"'طراحی همه الگوها'!B372","v":15},"زاویه اپل    ",1,0.2,0,0,{"$f":"(J122-H122)/(I122-G122)","v":0.2},{"$f":"H122-G122*K122","v":0},0,{"$f":"(M122-L122)/K122","v":0},10,{"$f":"(O122-L122)/K122","v":50},3,{"$f":"(Q122-L122)/K122","v":15},null,null,null,null,null,null,null,null,null,null,null,null,null,null,null,null,null,{"$f":"CN6","v":"54زنانه کمر پهن"},-29,72,12,4.4000000000000004,null,-94,36.5]
[null,null,null,null,null,null,null,null,null,null,null,null,null,null,null,null,null,null,null,null,null,null,null,null,null,null,null,null,null,null,null,null,null,null,null,{"$f":"CO6","v":"56زنانه کمر پهن"},-28,73,12.5,4.5,null,-93.5,37]
[" متغیرهای ورودی - نوع پیراهن",null,null,null,null," متغیرهای ورودی - نوع پیراهن","x1","y1","x2","y2(بهینه)","a","b",null,"کمترین",null,"بیشترین",null,null,null,null,null,null,null,null,null,null,null,null,null,null,null,null,null,null,null,{"$f":"CP6","v":"58زنانه کمر پهن"},-27,74,13,4.5999999999999996,null,-93,37.5]
["انتخاب جلو ترک ( سوتین) =1         انتخاب جلو با ساسون  (مایو) = 0","0 یا 1 ",{"$f":"K125*E125+L125","v":0},null,{"$f":"'طراحی همه الگوها'!B236","v":1},"انتخاب الگو جلو ترک ( سوتین) =2         انتخاب الگو جلو با ساسون  (مایو) = 1",1,0,2,1,{"$f":"(J125-H125)/(I125-G125)","v":1},{"$f":"H125-G125*K125","v":-1},null,1,null,2,null,null,null,null,null,null,null,null,null,null,null,null,null,null,null,null,null,null,null,{"$f":"CQ6","v":"60زنانه کمر پهن"},-26,75,13.5,4.7,null,-92.5,38]
[null,null,null,null,null,null,null,null,null,null,null,null,null,null,null,null,null,null,null,null,null,null,null,null,null,null,null,null,null,null,null,null,null,null,null,{"$f":"CR6","v":"37مردانه کت"},-25,76,14,4.8,null,-92,38.5]
[" متغیر ورودی اوزمان ها",null,null,null,null," متغیر ورودی اوزمان ها","x1","y1","x2","y2(بهینه)","a","b",null,"کمترین",null,"بیشترین",null,null,null,null,null,null,null,null,null,null,null,null,null,null,null,null,null,null,null,{"$f":"CS6","v":"38مردانه کت"},-24,77,14.5,4.9000000000000004,null,-91.5,39]
["میزان پایین آمدن نقطه شروع اوزمان از خط کمر x5 ","(از 0 الی 1)",{"$f":"K128*E128+L128","v":1},"روی خط باسن=1",{"$f":"'طراحی همه الگوها'!B239","v":30},"میزان پایین آمدن نقطه شروع اوزمان از خط کمر  ",10,0,30,1,{"$f":"(J128-H128)/(I128-G128)","v":0.05},{"$f":"H128-G128*K128","v":-0.5},0,{"$f":"(M128-L128)/K128","v":10},1,{"$f":"(O128-L128)/K128","v":30},null,null,null,null,null,null,null,null,null,null,null,null,null,null,null,null,null,null,null,{"$f":"CT6","v":"39مردانه کت"},-23,78,15,5,"متغیر ورودی خاص چادر",-91,39.5]
["ضریب بزرگ شدن اوزمان در خط پهلو جلو دامن f0 ","(از -0.5 الی 2)",0.25,"بهینه=0.5",{"$f":"'طراحی همه الگوها'!B240","v":5},"اوزمان در خط پهلو جلو دامن  ",0,0,1,0.05,0.05,0,-0.5,-10,2,40,null,null,null,null,null,null,null,null,null,null,null,null,null,null,null,null,null,null,null,{"$f":"CU6","v":"40مردانه کت"},-22,79,15.5,{"$f":"AN128+0.1","v":5.0999999999999996},70,-90.5,40]
["ضریب بزرگ شدن اوزمان در خط ترک جلو دامن e20 ","(از -0.5 الی 2)",0,"بهینه=0.5",{"$f":"'طراحی همه الگوها'!B241","v":0},"اوزمان در خط ترک جلو دامن  ",0,0,1,0.05,0.05,0,-0.5,-10,2,40,null,null,null,null,null,null,null,null,null,null,null,null,null,null,null,null,null,null,null,{"$f":"CV6","v":"41مردانه کت"},-21,80,16,5.1999999999999993,75,-90,40.5]
["ضریب بزرگ شدن اوزمان در خط  پهلو پشت دامن f1  ","(از -0.5 الی 2)",0.4,"بهینه=0.5",{"$f":"'طراحی همه الگوها'!B242","v":8},"اوزمان در خط  پهلو پشت دامن   ",0,0,1,0.05,0.05,0,-0.5,-10,2,40,null,null,null,null,null,null,null,null,null,null,null,null,null,null,null,null,null,null,null,{"$f":"CW6","v":"42مردانه کت"},-20,81,16.5,5.2999999999999989,80,-89.5,41]
["ضریب بزرگ شدن اوزمان در خط مرکزی پشت دامن e40 ","(از -0.5 الی 2)",0,"بهینه=0.5",{"$f":"'طراحی همه الگوها'!B243","v":0},"اوزمان در خط مرکزی پشت دامن  ",0,0,1,0.05,0.05,0,-0.5,-10,2,40,null,null,null,null,null,null,null,null,null,null,null,null,null,null,null,null,null,null,null,{"$f":"CX6","v":"43مردانه کت"},-19,82,17,5.3999999999999986,85,-89,41.5]
["ضریب بزرگ شدن اوزمان در خط ترک پشت دامن e50 ","(از -0.5 الی 2)",0,"بهینه=0.5",{"$f":"'طراحی همه الگوها'!B244","v":0},"اوزمان در خط ترک پشت دامن  ",0,0,1,0.05,0.05,0,-0.5,-10,2,40,null,null,null,null,null,null,null,null,null,null,null,null,null,null,null,null,null,null,null,{"$f":"CY6","v":"44مردانه کت"},-18,83,17.5,5.4999999999999982,90,-88.5,42]
["انتخاب پیراهن ترک گشاد=1            انتخاب دیگر=0","0 یا 1 ",0,null,{"$f":"'طراحی همه الگوها'!B245","v":1},"انتخاب پیراهن ترک گشاد=2            انتخاب دیگر=1",1,0,2,1,1,-1,null,1,null,2,null,null,null,null,null,null,null,null,null,null,null,null,null,null,null,null,null,null,null,{"$f":"CZ6","v":"45مردانه کت"},-17,84,18,5.5999999999999979,95,-88,42.5]
[null,null,null,null,null,null,null,null,null,null,null,null,null,null,null,null,null,null,null,null,null,null,null,null,null,null,null,null,null,null,null,null,null,null,null,{"$f":"DA6","v":"46 مردانه کت"},-16,85,18.5,5.6999999999999975,100,-87.5,43]
[" متغیرهای ورودی - پیلی ها و گوده ها",null,null,null,null," متغیرهای ورودی - پیلی ها و گوده ها","x1","y1","x2","y2(بهینه)","a","b",null,"کمترین",null,"بیشترین",null,null,null,null,null,null,null,null,null,null,null,null,null,null,null,null,null,null,null,{"$f":"DB6","v":"47 مردانه کت"},-15,86,19,5.7999999999999972,105,{"$f":"AP137-0.5","v":-87},43.5]
[" عرض پیلی 1 - روی خط مرکزی جلو  (سانتیمتر)    e119","(از 0 الی 10)",{"$f":"K137*E137+L137","v":5},"بهینه=4",{"$f":"'طراحی همه الگوها'!B331","v":5}," عرض پیلی 1 - روی خط مرکزی جلو  (سانتیمتر)    ",1,1,0,0,{"$f":"(J137-H137)/(I137-G137)","v":1},{"$f":"H137-G137*K137","v":0},0,{"$f":"(M137-L137)/K137","v":0},10,{"$f":"(O137-L137)/K137","v":10},4,{"$f":"(Q137-L137)/K137","v":4},null,null,null,null,null,null,null,null,null,null,null,null,null,null,null,null,null,{"$f":"DC6","v":"48 مردانه کت"},-14,87,19.5,5.8999999999999968,110,-86.5,44]
[" عرض پیلی 2 - روی خط ترک جلو   (سانتیمتر)    e219","(از 0 الی 10)",5,"بهینه=4",{"$f":"'طراحی همه الگوها'!B332","v":5}," عرض پیلی 2 - روی خط ترک جلو   (سانتیمتر)    ",1,1,0,0,1,0,0,0,10,10,4,4,null,null,null,null,null,null,null,null,null,null,null,null,null,null,null,null,null,{"$f":"DD6","v":"49 مردانه کت"},-13,88,20,6,115,-86,44.5]
[" عرض پیلی 3 - روی خط پهلو  (سانتیمتر)    e319","(از 0 الی 10",5,"بهینه=4",{"$f":"'طراحی همه الگوها'!B333","v":5}," عرض پیلی 3 - روی خط پهلو  (سانتیمتر)    ",1,1,0,0,1,0,0,0,10,10,4,4,null,null,null,null,null,null,null,null,null,null,null,null,null,null,null,null,null,{"$f":"DE6","v":"50 مردانه کت"},-12,89,null,{"$f":"AN138+0.1","v":6.1},120,-85.5,45]
[" عرض پیلی 4 - روی خط مرکزی پشت  (سانتیمتر)    e419","(از 0 الی 10",5,"بهینه=4",{"$f":"'طراحی همه الگوها'!B334","v":5}," عرض پیلی 4 - روی خط مرکزی پشت  (سانتیمتر)    ",1,1,0,0,1,0,0,0,10,10,4,4,null,null,null,null,null,null,null,null,null,null,null,null,null,null,null,null,null,{"$f":"DF6","v":"عنوان 1"},-11,90,null,6.1999999999999993,125,-85,45.5]
[" عرض پیلی 5 و لبه برگردان پایین کت یا پیراهن- روی خط ترک پشت  (سانتیمتر) e519","(از 0 الی 10)",5,"بهینه=4",{"$f":"'طراحی همه الگوها'!B335","v":5}," عرض پیلی 5 و لبه برگردان پایین کت یا پیراهن- روی خط ترک پشت  (سانتیمتر) ",1,1,0,0,1,0,0,0,10,10,4,4,null,null,null,null,null,null,null,null,null,null,null,null,null,null,null,null,null,{"$f":"DG6","v":"عنوان 2"},-10,91,null,6.2999999999999989,130,-84.5,46]
[" عرض گوده 1 - روی خط مرکزی جلو  (سانتیمتر)    e111","(از 0 الی 15)",7,"بهینه=7",{"$f":"'طراحی همه الگوها'!B336","v":7}," عرض گوده 1 - روی خط مرکزی جلو  (سانتیمتر)    ",1,1,0,0,1,0,0,0,15,15,7,7,null,null,null,null,null,null,null,null,null,null,null,null,null,null,null,null,null,{"$f":"DH6","v":"عنوان 3"},-9,92,null,6.3999999999999986,135,-84,46.5]
[" عرض گوده 2 - روی خط ترک جلو  (سانتیمتر)    e211","(از 0 الی 15)",7,"بهینه=7",{"$f":"'طراحی همه الگوها'!B337","v":7}," عرض گوده 2 - روی خط ترک جلو  (سانتیمتر)    ",1,1,0,0,1,0,0,0,15,15,7,7,null,null,null,null,null,null,null,null,null,null,null,null,null,null,null,null,null,{"$f":"DI6","v":"عنوان 4"},-8,93,null,6.4999999999999982,140,-83.5,47]
[" عرض گوده 3 - روی خط پهلو   (سانتیمتر)    e311","(از 0 الی 15)",7,"بهینه=7",{"$f":"'طراحی همه الگوها'!B338","v":7}," عرض گوده 3 - روی خط پهلو   (سانتیمتر)    ",1,1,0,0,1,0,0,0,15,15,7,7,null,null,null,null,null,null,null,null,null,null,null,null,null,null,null,null,null,{"$f":"DJ6","v":"عنوان 5"},-7,94,null,6.5999999999999979,145,-83,47.5]
[" عرض گوده 4 - روی خط مرکزی پشت  (سانتیمتر)    e411","(از 0 الی 15)",7,"بهینه=7",{"$f":"'طراحی همه الگوها'!B339","v":7}," عرض گوده 4 - روی خط مرکزی پشت  (سانتیمتر)    ",1,1,0,0,1,0,0,0,15,15,7,7,null,null,null,null,null,null,null,null,null,null,null,null,null,null,null,null,null,{"$f":"DK6","v":"عنوان 6"},-6,95,null,6.6999999999999975,150,{"$f":"AP146-0.5","v":-82.5},48]
[" عرض گوده 5 - روی خط ترک پشت  (سانتیمتر)    e511","(از 0 الی 15)",7,"بهینه=7",{"$f":"'طراحی همه الگوها'!B340","v":7}," عرض گوده 5 - روی خط ترک پشت  (سانتیمتر)    ",1,1,0,0,1,0,0,0,15,15,7,7,null,null,null,null,null,null,null,null,null,null,null,null,null,null,null,null,null,{"$f":"DL6","v":"عنوان 7"},-5,96,null,6.7999999999999972,155,-82,48.5]
["ضریب نقطه شروع گوده و پیلی از زمین    e0","(از 0 الی 2)",2,"خط زمین=0 \nخط زانو=1 \nخط باسن=2  ",{"$f":"'طراحی همه الگوها'!B341","v":50},"ضریب نقطه شروع گوده و پیلی از زمین    ",10,0,30,1,0.05,-0.5,null,1,null,50,0,10,null,null,null,null,null,null,null,null,null,null,null,null,null,null,null,null,null,{"$f":"DM6","v":"عنوان 8"},-4,97,null,6.8999999999999968,160,-81.5,49]
[null,null,null,null,null,null,null,null,null,null,null,null,null,null,null,null,null,null,null,null,null,null,null,null,null,null,null,null,null,null,null,null,null,null,null,{"$f":"DN6","v":"عنوان 9"},-3,98,null,7,165,-81,49.5]
[" متغیرهای ورودی جزئی - طراحی تکه پشت یقه انگلیسی  ",null,null,null,null," متغیرهای ورودی جزئی - طراحی تکه پشت یقه انگلیسی  ","x1","y1","x2","y2(بهینه)","a","b",null,"کمترین",null,"بیشترین",null,null,null,null,null,null,null,null,null,null,null,null,null,null,null,null,null,null,null,{"$f":"DO6","v":"عنوان 10"},-2,99,null,{"$f":"AN148+0.1","v":7.1},170,-80.5,50]
["γ11      زاویه تکه پشت یقه روی خط مرکزی ","(از -10 الی 20)",{"$f":"K150*E150+L150","v":2},"بهینه=2",{"$f":"'طراحی همه الگوها'!E225","v":20},"زاویه تکه پشت یقه روی خط مرکزی ",19,1,20,2,{"$f":"(J150-H150)/(I150-G150)","v":1},{"$f":"H150-G150*K150","v":-18},-10,{"$f":"(M150-L150)/K150","v":8},20,{"$f":"(O150-L150)/K150","v":38},2,{"$f":"(Q150-L150)/K150","v":20},null,null,null,null,null,null,null,null,null,null,null,null,null,null,null,null,null,{"$f":"DP6","v":"عنوان 11"},-1,100,null,7.1999999999999993,175,-80,50.5]
["γ12       زاویه تکه پشت یقه با پایه روی خط مرکزی ","(از -10 الی 20)",4,"بهینه=4",{"$f":"'طراحی همه الگوها'!E226","v":20},"زاویه تکه پشت یقه با پایه روی خط مرکزی ",19,3,20,4,1,-16,-10,6,20,36,4,20,null,null,null,null,null,null,null,null,null,null,null,null,null,null,null,null,null,{"$f":"DQ6","v":"عنوان 12"},0,101,null,7.2999999999999989,180,-79.5,51]
[" ضریب تغییر انحنا بالا سمت چپ     مرحله نهم          γ13","(از -1 الی 1)",0,"بهینه=0",{"$f":"'طراحی همه الگوها'!E223","v":20},"ضریب تغییر انحنا بالا سمت چپ     مرحله نهم در طراحی یقه انگلیسی          ",19,-0.1,20,0,0.1,-2,-1,10,1,30,0,20,null,null,null,null,null,null,null,null,null,null,null,null,null,null,null,null,null,{"$f":"DR6","v":"عنوان 13"},1,102,null,7.3999999999999986,185,-79,51.5]
["γ14        ضریب تغییر انحنا بالا    مرحله نهم ","(از 0.5 الی 2)",1.1199999999999999,"بهینه=1.18",{"$f":"'طراحی همه الگوها'!E224","v":37},"ضریب تغییر انحنا بالا    مرحله نهم در طراحی یقه انگلیسی ",39,1.1599999999999999,40,1.18,2.0000000000000018E-2,0.37999999999999923,0.5,6.0000000000000329,2,80.999999999999972,1.18,40,null,null,null,null,null,null,null,null,null,null,null,null,null,null,null,null,null,{"$f":"DS6","v":"عنوان 14"},2,103,null,7.4999999999999982,190,-78.5,52]
["γ15        ضریب تغییر انحنا پایین روی خط مرکزی پشت","(از 0 الی 2)",0.5,"بهینه=0.5",{"$f":"'طراحی همه الگوها'!E227","v":20},"ضریب تغییر انحنا پایین روی خط مرکزی پشت",19,0.45,20,0.5,4.9999999999999989E-2,-0.49999999999999972,0,9.9999999999999964,2,50,0.5,20,null,null,null,null,null,null,null,null,null,null,null,null,null,null,null,null,null,{"$f":"DT6","v":"عنوان 15"},3,104,null,7.5999999999999979,195,-78,52.5]
["γ16        ضریب تغییر انحنا پایین","(از 0 الی 2)",0.6,"بهینه=0.6",{"$f":"'طراحی همه الگوها'!E228","v":20},"ضریب تغییر انحنا پایین",19,0.55000000000000004,20,0.6,4.9999999999999933E-2,-0.39999999999999869,0,7.999999999999984,2,48.000000000000036,0.6,20,null,null,null,null,null,null,null,null,null,null,null,null,null,null,null,null,null,{"$f":"DU6","v":"عنوان 16"},4,105,null,7.6999999999999975,200,-77.5,53]
["γ17      ضریب پهنای پشت پایه (انگلیسی و آرشال) مرحله سوم","(از 0.2 الی 2)",0.99999999999999956,"بهینه=1\nبهینه پایه مستطیل=0.7",{"$f":"'طراحی همه الگوها'!E219","v":26},"پهنای پشت پایه (انگلیسی و آرشال)    مرحله سوم در طراحی یقه انگلیسی      ",19,0.65,20,0.7,4.9999999999999933E-2,-0.29999999999999871,0.2,9.9999999999999876,2,46.000000000000043,1,26.000000000000011,null,null,null,null,null,null,null,null,null,null,null,null,null,null,null,null,null,{"$f":"DV6","v":"عنوان 17"},5,106,null,7.7999999999999972,null,-77,53.5]
["γ18        زاویه کج شدن پایه مستطیل به قسمت گردن بر حسب درجه  مرحله سوم ","(از -30 الی 30)",5,"بهینه=5",{"$f":"'طراحی همه الگوها'!E220","v":40},"زاویه کج شدن پایه مستطیل به قسمت گردن    مرحله سوم در طراحی یقه انگلیسی ",39,4,40,5,1,-35,-30,5,30,65,5,40,null,null,null,null,null,null,null,null,null,null,null,null,null,null,null,null,null,{"$f":"DW6","v":"عنوان 18"},6,107,null,7.8999999999999968,null,-76.5,54]
[" ضریب پهنای جلو پایه مستطیل  مرحله سوم       γ19","(از 0 الی 1)",0.7,"بهینه=0.7",{"$f":"'طراحی همه الگوها'!E221","v":20},"پهنای جلو پایه مستطیل      مرحله سوم در طراحی یقه انگلیسی       ",19,0.65,20,0.7,4.9999999999999933E-2,-0.29999999999999871,0,5.9999999999999822,1,26.000000000000011,0.7,20,null,null,null,null,null,null,null,null,null,null,null,null,null,null,null,null,null,{"$f":"DX6","v":"عنوان 19"},7,108,null,8,null,-76,54.5]
["انتخاب یقه انگلیسی با پایه جدا=1            انتخاب دیگر=0  مرحله سوم","0 یا 1 ",0,null,{"$f":"'طراحی همه الگوها'!E222","v":1},"انتخاب یقه انگلیسی پایه سرخود یا پایه جدا    مرحله سوم در طراحی یقه انگلیسی",1,0,2,1,1,-1,0,1,1,2,0,1,null,null,null,null,null,null,null,null,null,null,null,null,null,null,null,null,null,{"$f":"DY6","v":"عنوان 20"},8,109,null,{"$f":"AN158+0.1","v":8.1},null,-75.5,55]
["γ20        جابجایی عمودی پایه مستطیل","(از -100 الی100)",-8,"بهینه=دلخواه",{"$f":"'طراحی همه الگوها'!E231","v":-8},"جابجایی عمودی پایه مستطیل (سانتیمتر)",1,1,0,0,1,0,-100,{"$f":"(M160-L160)/K160","v":-100},100,{"$f":"(O160-L160)/K160","v":100},null,null,null,null,null,null,null,null,null,null,null,null,null,null,null,null,null,null,null,{"$f":"DZ6","v":"عنوان 21"},9,110,null,8.1999999999999993,null,-75,55.5]
["γ21        جابجایی افقی پایه مستطیل","(از -100 الی100)",0,"بهینه=دلخواه",{"$f":"'طراحی همه الگوها'!E230","v":0},"جابجایی افقی پایه مستطیل (سانتیمتر)",1,1,0,0,1,0,-100,{"$f":"(M161-L161)/K161","v":-100},100,{"$f":"(O161-L161)/K161","v":100},null,null,null,null,null,null,null,null,null,null,null,null,null,null,null,null,null,null,null,{"$f":"EA6","v":"عنوان 22"},10,111,null,8.2999999999999989,null,-74.5,56]
[null,null,null,null,null,null,null,null,null,null,null,null,null,null,null,null,null,null,null,null,null,null,null,null,null,null,null,null,null,null,null,null,null,null,null,{"$f":"EB6","v":"عنوان 23"},11,112,null,8.3999999999999986,null,-74,56.5]
[" متغیرهای ورودی-طراحی یقه انگلیسی و آرشال و یقه هفت",null,null,null,null," متغیرهای ورودی-طراحی یقه انگلیسی و آرشال و یقه هفت","x1","y1","x2","y2(بهینه)","a","b",null,"کمترین",null,"بیشترین",null,null,"مراحل مختلف در طراحی یقه انگلیسی",null,null,null,null,null,null,null,null,null,null,null,null,null,null,null,null,{"$f":"EC6","v":"عنوان 24"},12,113,null,8.4999999999999982,null,-73.5,57]
["پهنای یقه در پشت گردن (انگلیسی یا آرشال)  مرحله سوم","(از 0.7 الی 3)",{"$f":"IF(E164=-1,E164,K164*E164+L164)","v":-1},"بهینه=1",{"$f":"IF('طراحی همه الگوها'!E207=AR230,-1,'طراحی همه الگوها'!E207)","v":-1},"پهنای یقه در پشت گردن (انگلیسی یا آرشال)  مرحله سوم در طراحی یقه انگلیسی",19,0.95,20,1,{"$f":"(J164-H164)/(I164-G164)","v":5.0000000000000044E-2},{"$f":"H164-G164*K164","v":-8.8817841970012523E-16},0.7,{"$f":"(M164-L164)/K164","v":14.000000000000004},3,{"$f":"(O164-L164)/K164","v":59.999999999999964},1,{"$f":"(Q164-L164)/K164","v":20},"پهنای جادکمه جلو - میزان روی هم آمدن یقه انگلیسی","مرحله اول",null,null,null,null,null,null,null,null,null,null,null,null,null,null,null,{"$f":"ED6","v":"عنوان 25"},13,114,null,8.5999999999999979,null,-73,57.5]
["γ1      باز بودن یقه انگلیسی یا آرشال یا هفت   مرحله چهارم ","(از 0.5 الی 1.5)",{"$f":"K165*E165+L165","v":0.45000000000000029},"بهینه=0.7",{"$f":"'طراحی همه الگوها'!E208","v":15}," باز بودن یقه انگلیسی یا آرشال یا هفت   مرحله چهارم در طراحی یقه انگلیسی ",19,0.65,20,0.7,4.9999999999999933E-2,-0.29999999999999871,0.5,15.999999999999995,1.5,36.000000000000021,0.7,20,"میزان باز بودن یقه گرد - نشان میدهد یقه چقدر به گردن میچسبد","مرحله دوم",null,null,null,null,null,null,null,null,null,null,null,null,null,null,null,{"$f":"EE6","v":"عنوان 26"},14,115,null,8.6999999999999975,null,-72.5,58]
["γ7        پهنای بالای دال   مرحله پنجم ","(از 0.01 الی 0.4)",9.9999999999999992E-2,"بهینه=0.1",{"$f":"'طراحی همه الگوها'!E209","v":20}," پهنای بالای دال   مرحله پنجم در طراحی یقه انگلیسی ",21,0.11,20,0.1,9.999999999999995E-3,-9.9999999999999908E-2,0.01,10.999999999999996,0.4,50.000000000000021,0.1,20,"پهنای تکه پشت یقه انگلیسی","مرحله سوم",null,null,null,null,null,null,null,null,null,null,null,null,null,null,null,{"$f":"EF6","v":"عنوان 27"},15,116,null,8.7999999999999972,null,{"$f":"AP167-0.5","v":-72},58.5]
[" پهنای پایین دال   مرحله پنجم         γ6","(از 0.01 الی 0.4)",0.17999999999999994,"بهینه=0.1",{"$f":"'طراحی همه الگوها'!E210","v":28}," پهنای پایین دال   مرحله پنجم در طراحی یقه انگلیسی      ",21,0.11,20,0.1,9.999999999999995E-3,-9.9999999999999908E-2,0.01,10.999999999999996,0.4,50.000000000000021,0.1,20,"باز بودن یقه انگلیسی","مرحله چهارم",null,null,null,null,null,null,null,null,null,null,null,null,null,null,null,{"$f":"EG6","v":"عنوان 28"},16,117,null,8.8999999999999968,null,{"$f":"AP168-0.5","v":-71.5},59]
["γ4          پهنای یقه انگلیسی یا آرشال   مرحله ششم ","(از -5 الی 40)",10,"بهینه=8",{"$f":"'طراحی همه الگوها'!E211","v":22}," پهنای یقه انگلیسی یا آرشال   مرحله ششم در طراحی یقه انگلیسی ",19,7,20,8,1,-12,-5,7,40,52,8,20,"پهنای بالا و پایین دال","مرحله پنجم",null,null,null,null,null,null,null,null,null,null,null,null,null,null,null,{"$f":"EH6","v":"عنوان 29"},17,118,null,9,null,{"$f":"AP169-0.5","v":-71},59.5]
["γ5        وسط دال پایین یا بالا رود (انگلیسی یا آرشال)  مرحله هفتم","(از -0.2 الی 0.3)",-7.0000000000000007E-2,"عدد منفی یعنی دال رو به سرشانه برود\nبهینه=0",{"$f":"'طراحی همه الگوها'!E212","v":13}," وسط دال پایین یا بالا رود (انگلیسی یا آرشال)  مرحله هفتم در طراحی یقه انگلیسی",19,-0.01,20,0,0.01,-0.2,-0.2,0,0.3,50,0,20,"پهنای یقه انگلیسی","مرحله ششم",null,null,null,null,null,null,null,null,null,null,null,null,null,null,null,{"$f":"EI6","v":"عنوان 30"},18,119,"متغیر ورودی خاص یقه","متغیر ورودی خاص شلوار","متغیر ورودی خاص کیمونو",{"$f":"AP170-0.5","v":-70.5},60,"متغیر ورودی خاص پشت یقه انگلیسی","متغیر ورودی خاص کمر شورت","متغیر ورودی گشادی عرضی"]
["γ9       زاویه بالای دال   مرحله هشتم","(از 90 الی 180)",130,"بهینه=130",{"$f":"'طراحی همه الگوها'!E213","v":20}," زاویه بالای دال   مرحله هشتم در طراحی یقه انگلیسی",19,125,20,130,5,30,90,12,180,30,130,20,"بالا و پایین رفتن نقطه وسط دال","مرحله هفتم",null,null,null,null,null,null,null,null,null,null,null,null,null,null,null,{"$f":"EJ6","v":"عنوان 31"},19,120,"خط جادکمه","روش مولر",-10,{"$f":"AP171-0.5","v":-70},60.5,1,51,-50]
["γ10       زاویه پایین دال    مرحله هشتم ","(از 90 الی 180)",180,"بهینه=160",{"$f":"'طراحی همه الگوها'!E214","v":24}," زاویه پایین دال    مرحله هشتم در طراحی یقه انگلیسی ",19,155,20,160,5,60,90,6,180,24,160,20,"تنظیم زاویه های نوک دال","مرحله هشتم",null,null,null,null,null,null,null,null,null,null,null,null,null,null,null,{"$f":"EK6","v":"عنوان 32"},20,121,"مرکزی جلو",0,{"$f":"AO170+0.5","v":-9.5},{"$f":"AP172-0.5","v":-69.5},61,2,52,-49]
["  γ3  دال رو به پایین شود یا رو به بالا شود مرحله هشتم  (در آستین رگلان = 0.05)","(از 0.01 الی 0.3)",3.0000000000000027E-2,"بهینه=0.05",{"$f":"'طراحی همه الگوها'!E215","v":18}," دال رو به پایین یا رو به بالا شود مرحله هشتم در طراحی یقه انگلیسی  ",19,0.04,20,0.05,{"$f":"(J172-H172)/(I172-G172)","v":1.0000000000000002E-2},{"$f":"H172-G172*K172","v":-0.15000000000000002},0.01,{"$f":"(M172-L172)/K172","v":16},0.3,{"$f":"(O172-L172)/K172","v":44.999999999999993},0.05,{"$f":"(Q172-L172)/K172","v":19.999999999999996},"اصلاح انحنای بالای تکه پشت یقه انگلیسی","مرحله نهم",null,null,null,null,null,null,null,null,null,null,null,null,null,null,null,{"$f":"EL6","v":"عنوان 33"},21,122,1,0.5,-9,-69,61.5,3,53,-48]
["γ1      محاسبه در یقه شکاری متصل به یقه هفت   ",{"$f":"ROUND(1-(محاسبات!AX103-محاسبات!AX129-محاسبات!AX155-'متغیرها '!C169*محاسبات!H124)/محاسبات!H124,2)","v":0.18},null,null,null,"   محاسبه در یقه شکاری متصل به یقه هفت   ",null,null,null,null,null,null,null,null,null,null,null,null,null,null,null,null,null,null,null,null,null,null,null,null,null,null,null,null,null,{"$f":"EM6","v":"عنوان 34"},22,123,{"$f":"AM172+0.5","v":1.5},1,-8.5,-68.5,62,4,54,-47]
[null,null,null,null,null,null,null,null,null,null,null,null,null,null,null,null,null,null,null,null,null,null,null,null,null,null,null,null,null,null,null,null,null,null,null,{"$f":"EN6","v":"عنوان 35"},23,124,2,1.5,-8,-68,62.5,5,55,-46]
[" متغیرهای ورودی -ضخیم دوزی در سجاف یقه انگلیسی و آرشال",null,null,null,null," متغیرهای ورودی -ضخیم دوزی در سجاف یقه انگلیسی و آرشال","x1","y1","x2","y2(بهینه)","a","b",null,"کمترین",null,"بیشترین",null,null,null,null,null,null,null,null,null,null,null,null,null,null,null,null,null,null,null,{"$f":"EO6","v":"عنوان 36"},24,125,2.5,2,-7.5,-67.5,63,6,56,-45]
["ضریب اعمال ضخیم دوزی در سجاف  (سانتیمتر) a'0","(از 0 الی 1)",{"$f":"K176*E176+L176","v":0.5},"بهینه کت مردانه=0.5",{"$f":"'طراحی همه الگوها'!E229","v":20},"ضریب اعمال ضخیم دوزی در سجاف  (سانتیمتر) ",19,0.45,20,0.5,{"$f":"(J176-H176)/(I176-G176)","v":4.9999999999999989E-2},{"$f":"H176-G176*K176","v":-0.49999999999999972},0,{"$f":"(M176-L176)/K176","v":9.9999999999999964},1,{"$f":"(O176-L176)/K176","v":30.000000000000004},0.5,{"$f":"(Q176-L176)/K176","v":20},null,null,null,null,null,null,null,null,null,null,null,null,null,null,null,null,null,{"$f":"EP6","v":"عنوان 37"},25,126,3,2.5,-7,-67,63.5,7,57,-44]
[null,null,null,null,null,null,null,null,null,null,null,null,null,null,null,null,null,null,null,null,null,null,null,null,null,null,null,null,null,null,null,null,null,null,null,{"$f":"EQ6","v":"عنوان 38"},26,127,3.5,3,-6.5,-66.5,64,8,58,-43]
[" متغیرهای ورودی - پایه یقه انگلیسی  ",null,null,null,null," متغیرهای ورودی - پایه یقه انگلیسی  ","x1","y1","x2","y2(بهینه)","a","b",null,"کمترین",null,"بیشترین",null,null,null,null,null,null,null,null,null,null,null,null,null,null,null,null,null,null,null,{"$f":"ER6","v":"عنوان 39"},27,128,4,3.5,-6,-66,64.5,9,59,-42]
["شیفت افقی پایه (به سانتیمتر)","(از -100 الی100)",{"$f":"K179*E179+L179","v":0},"بهینه=دلخواه",{"$f":"'طراحی همه الگوها'!E232","v":0},"شیفت افقی پایه (سانتیمتر)",1,1,0,0,{"$f":"(J179-H179)/(I179-G179)","v":1},{"$f":"H179-G179*K179","v":0},-100,{"$f":"(M179-L179)/K179","v":-100},100,{"$f":"(O179-L179)/K179","v":100},null,null,null,null,null,null,null,null,null,null,null,null,null,null,null,null,null,null,null,{"$f":"ES6","v":"عنوان 40"},28,129,4.5,4,-5.5,-65.5,65,10,60,-41]
["شیفت عمودی پایه (به سانتیمتر)","(از -100 الی100)",{"$f":"K180*E180+L180","v":-5},"بهینه=دلخواه",{"$f":"'طراحی همه الگوها'!E233","v":-5},"شیفت عمودی پایه (سانتیمتر)",1,1,0,0,{"$f":"(J180-H180)/(I180-G180)","v":1},{"$f":"H180-G180*K180","v":0},-100,{"$f":"(M180-L180)/K180","v":-100},100,{"$f":"(O180-L180)/K180","v":100},null,null,null,null,null,null,null,null,null,null,null,null,null,null,null,null,null,null,null,null,29,130,5,4.5,-5,-65,{"$f":"AQ179+0.5","v":65.5},11,61,-40]
[null,null,null,null,null,null,null,null,null,null,null,null,null,null,null,null,null,null,null,null,null,null,null,null,null,null,null,null,null,null,null,null,null,null,null,null,30,131,5.5,5,-4.5,-64.5,66,12,62,-39]
[" متغیرهای ورودی - پایه یقه آرشال  ",null,null,null,null," متغیرهای ورودی - پایه یقه آرشال  ","x1","y1","x2","y2(بهینه)","a","b",null,"کمترین",null,"بیشترین",null,null,null,null,null,null,null,null,null,null,null,null,null,null,null,null,null,null,null,null,31,132,6,5.5,-4,-64,66.5,13,63,-38]
["شیفت افقی پایه (به سانتیمتر)","(از -100 الی100)",{"$f":"K183*E183+L183","v":0},"بهینه=دلخواه",{"$f":"'طراحی همه الگوها'!E234","v":0},"شیفت افقی پایه (سانتیمتر)",1,1,0,0,{"$f":"(J183-H183)/(I183-G183)","v":1},{"$f":"H183-G183*K183","v":0},-100,{"$f":"(M183-L183)/K183","v":-100},100,{"$f":"(O183-L183)/K183","v":100},null,null,null,null,null,null,null,null,null,null,null,null,null,null,null,null,null,null,null,null,32,133,6.5,6,-3.5,-63.5,67,14,64,-37]
["شیفت عمودی پایه (به سانتیمتر)","(از -100 الی100)",{"$f":"K184*E184+L184","v":0},"بهینه=دلخواه",{"$f":"'طراحی همه الگوها'!E235","v":0},"شیفت عمودی پایه (سانتیمتر)",1,1,0,0,{"$f":"(J184-H184)/(I184-G184)","v":1},{"$f":"H184-G184*K184","v":0},-100,{"$f":"(M184-L184)/K184","v":-100},100,{"$f":"(O184-L184)/K184","v":100},null,null,null,null,null,null,null,null,null,null,null,null,null,null,null,null,null,null,null,null,33,134,7,6.5,-3,-63,67.5,15,65,-36]
[null,null,null,null,null,null,null,null,null,null,null,null,null,null,null,null,null,null,null,null,null,null,null,null,null,null,null,null,null,null,null,null,null,null,null,null,34,135,7.5,7,-2.5,-62.5,68,16,66,-35]
[" متغیرهای ورودی-انتقال ساسون زیر بغل بر روی جیب در تکه پهلو جدا",null,null,null,null," متغیرهای ورودی-انتقال ساسون زیر بغل بر روی جیب در تکه پهلو جدا","x1","y1","x2","y2(بهینه)","a","b",null,"کمترین",null,"بیشترین",null,null,null,null,null,null,null,null,null,null,null,null,null,null,null,null,null,null,null,null,35,136,8,7.5,-2,-62,68.5,17,67,-34]
[" زاویه جیب با افق  (درجه)","(از -45 الی 45)",{"$f":"K187*E187+L187","v":16},"بهینه =دلخواه",{"$f":"'طراحی همه الگوها'!B376","v":15}," زاویه جیب با افق  (درجه)",0,1,-1,0,{"$f":"(J187-H187)/(I187-G187)","v":1},{"$f":"H187-G187*K187","v":1},-45,{"$f":"(M187-L187)/K187","v":-46},45,{"$f":"(O187-L187)/K187","v":44},0,{"$f":"(Q187-L187)/K187","v":-1},null,null,null,null,null,null,null,null,null,null,null,null,null,null,null,null,null,null,36,137,8.5,8,-1.5,-61.5,69,18,68,-33]
["ضریب طول جیب در مدل تکه پهلو جدا","(از 0.01 الی 1.5)",{"$f":"IF(E188<51,K188*E188+L188,20)","v":1},"بهینه=1",{"$f":"'طراحی همه الگوها'!B377","v":20},"ضریب پهنای جیب در مدل تکه پهلو جدا",19,0.95,20,1,{"$f":"(J188-H188)/(I188-G188)","v":5.0000000000000044E-2},{"$f":"H188-G188*K188","v":-8.8817841970012523E-16},0.01,{"$f":"(M188-L188)/K188","v":0.20000000000001758},1.5,{"$f":"(O188-L188)/K188","v":29.999999999999993},1,{"$f":"(Q188-L188)/K188","v":20},null,null,null,null,null,null,null,null,null,null,null,null,null,null,null,null,null,null,37,138,9,8.5,-1,-61,69.5,19,69,-32]
[null,null,null,null,null,null,null,null,null,null,null,null,null,null,null,null,null,null,null,null,null,null,null,null,null,null,null,null,null,null,null,null,null,null,null,null,38,139,9.5,9,-0.5,-60.5,70,20,70,-31]
[" متغیرهای ورودی-انحنا لبه پیراهن روی خط مرکزی جلو ",null,null,null,null," متغیرهای ورودی-انحنا لبه پیراهن روی خط مرکزی جلو ","x1","y1","x2","y2(بهینه)","a","b",null,"کمترین",null,"بیشترین",null,null,null,null,null,null,null,null,null,null,null,null,null,null,null,null,null,null,null,null,39,140,10,9.5,0,-60,70.5,21,71,-30]
["ضریب انحنا بالای لبه پیراهن  روی خط مرکزی جلو n11","(از 0.01 الی 0.9)",{"$f":"K191*E191+L191","v":0.15000000000000002},"بهینه کت مردانه=0.45",{"$f":"'طراحی همه الگوها'!B344","v":3},"ضریب انحنا بالای لبه پیراهن  روی خط مرکزی جلو ",1,0.05,0,0,{"$f":"(J191-H191)/(I191-G191)","v":0.05},{"$f":"H191-G191*K191","v":0},0.01,{"$f":"(M191-L191)/K191","v":0.19999999999999998},0.9,{"$f":"(O191-L191)/K191","v":18},0.45,{"$f":"(Q191-L191)/K191","v":9},null,null,null,null,null,null,null,null,null,null,null,null,null,null,null,null,null,null,40,141,10.5,10,0.5,-59.5,71,22,72,-29]
["ضریب انحنا میانی لبه پیراهن  روی خط مرکزی جلو n13","(از 0.5 الی 1.7)",{"$f":"K192*E192+L192","v":1},"بهینه کت مردانه=1.3",{"$f":"'طراحی همه الگوها'!B345","v":20},"ضریب انحنا میانی لبه پیراهن  روی خط مرکزی جلو ",1,0.05,0,0,{"$f":"(J192-H192)/(I192-G192)","v":0.05},{"$f":"H192-G192*K192","v":0},0.5,{"$f":"(M192-L192)/K192","v":10},1.7,{"$f":"(O192-L192)/K192","v":34},1.3,{"$f":"(Q192-L192)/K192","v":26},null,null,null,null,null,null,null,null,null,null,null,null,null,null,null,null,null,null,41,142,11,10.5,1,-59,71.5,23,73,-28]
["ضریب انحنا پایین لبه پیراهن روی خط مرکزی جلو n12","(از 0.3 الی 1)",{"$f":"K193*E193+L193","v":0.75},"بهینه کت مردانه=0.8",{"$f":"'طراحی همه الگوها'!B346","v":15},"ضریب انحنا پایین لبه پیراهن روی خط مرکزی جلو ",1,0.05,0,0,{"$f":"(J193-H193)/(I193-G193)","v":0.05},{"$f":"H193-G193*K193","v":0},0.3,{"$f":"(M193-L193)/K193","v":5.9999999999999991},1,{"$f":"(O193-L193)/K193","v":20},0.8,{"$f":"(Q193-L193)/K193","v":16},null,null,null,null,null,null,null,null,null,null,null,null,null,null,null,null,null,null,42,143,11.5,11,1.5,-58.5,72,24,74,-27]
[null,null,null,null,null,null,null,null,null,null,null,null,null,null,null,null,null,null,null,null,null,null,null,null,null,null,null,null,null,null,null,null,null,null,null,null,43,144,12,11.5,2,-58,72.5,25,75,-26]
[" متغیرهای ورودی - جیب پهلو",null,null,null,null," متغیرهای ورودی - جیب پهلو آبی با بلیطی  (جلو)","x1","y1","x2","y2(بهینه)","a","b",null,"کمترین",null,"بیشترین",null,null,null,null,null,null,null,null,null,null,null,null,null,null,null,null,null,null,null,null,44,145,12.5,12,2.5,-57.5,73,26,76,-25]
["عرض پاکت جیب به سانتیمتر","(از 0 الی 4)",{"$f":"K196*E196+L196","v":2},"بهینه=2",{"$f":"'طراحی همه الگوها'!E328","v":2},"پهنای بلیطی جیب  (سانتیمتر)",1,1,0,0,{"$f":"(J196-H196)/(I196-G196)","v":1},{"$f":"H196-G196*K196","v":0},0,{"$f":"(M196-L196)/K196","v":0},4,{"$f":"(O196-L196)/K196","v":4},2,{"$f":"(Q196-L196)/K196","v":2},null,null,null,null,null,null,null,null,null,null,null,null,null,null,null,null,null,null,45,146,13,12.5,3,-57,73.5,27,77,-24]
["ضریب طول پاکت جیب","(از 0.01 الی 1.5)",{"$f":"K197*E197+L197","v":1},"بهینه=1",{"$f":"'طراحی همه الگوها'!E329","v":20},"ضریب طول بلیطی جیب",19,0.95,20,1,{"$f":"(J197-H197)/(I197-G197)","v":5.0000000000000044E-2},{"$f":"H197-G197*K197","v":-8.8817841970012523E-16},0.01,{"$f":"(M197-L197)/K197","v":0.20000000000001758},1.5,{"$f":"(O197-L197)/K197","v":29.999999999999993},1,{"$f":"(Q197-L197)/K197","v":20},null,null,null,null,null,null,null,null,null,null,null,null,null,null,null,null,null,null,46,147,13.5,13,3.5,-56.5,74,28,78,-23]
["زاویه جیب با عمود به درجه","(از 0 الی 90)",{"$f":"K198*E198+L198","v":20},"بهینه=20",{"$f":"'طراحی همه الگوها'!E330","v":4},"زاویه جیب با عمود ",1,5,0,0,{"$f":"(J198-H198)/(I198-G198)","v":5},{"$f":"H198-G198*K198","v":0},0,{"$f":"(M198-L198)/K198","v":0},90,{"$f":"(O198-L198)/K198","v":18},20,{"$f":"(Q198-L198)/K198","v":4},null,null,null,null,null,null,null,null,null,null,null,null,null,null,null,null,null,null,47,148,14,13.5,4,-56,74.5,29,79,-22]
["زاویه چرخش پاکت جیب از مستطیل به متوازی الاضلاع (به درجه)","(از -90 الی 90)",{"$f":"K199*E199+L199","v":0},"پاکت مستطیل=0  ",{"$f":"'طراحی همه الگوها'!E331","v":20},"زاویه چرخش بلیطی جیب از مستطیل به متوازی الاضلاع ",21,5,20,0,{"$f":"(J199-H199)/(I199-G199)","v":5},{"$f":"H199-G199*K199","v":-100},-90,{"$f":"(M199-L199)/K199","v":2},90,{"$f":"(O199-L199)/K199","v":38},0,{"$f":"(Q199-L199)/K199","v":20},null,null,null,null,null,null,null,null,null,null,null,null,null,null,null,null,null,null,48,149,14.5,14,4.5,-55.5,75,30,80,-21]
[null,null,null,null,null,null,null,null,null,null,null,null,null,null,null,null,null,null,null,null,null,null,null,null,null,null,null,null,null,null,null,null,null,null,null,null,49,150,15,14.5,5,-55,75.5,31,81,-20]
[" متغیرهای ورودی - جیب اول درمکان دلخواه",null,null,null,null," متغیرهای ورودی - جیب اول سبز با بلیطی  (جلو)","x1","y1","x2","y2(بهینه)","a","b",null,"کمترین",null,"بیشترین",null,null,null,null,null,null,null,null,null,null,null,null,null,null,null,null,null,null,null,null,50,null,15.5,15,5.5,-54.5,76,32,82,-19]
["ضریب فاصله افقی وسط جیب از خط مرکزی جلو ","(از 0 الی 1)",{"$f":"K202*E202+L202","v":0.75},"خط مرکزی جلو=0 \nخط پهلو=1  ",{"$f":"'مساله سوم مدل 13'!E494","v":15},"ضریب فاصله افقی وسط جیب از خط مرکزی جلو ",20,1,0,0,{"$f":"(J202-H202)/(I202-G202)","v":0.05},{"$f":"H202-G202*K202","v":0},0,{"$f":"(M202-L202)/K202","v":0},1,{"$f":"(O202-L202)/K202","v":20},0.5,{"$f":"(Q202-L202)/K202","v":10},null,null,null,null,null,null,null,null,null,null,null,null,null,null,null,null,null,null,51,null,16,null,6,-54,76.5,33,83,-18]
["ضریب فاصله عمودی بالای جیب از زمین ","(از0 الی 5)",2.5,"خط زمین=0 \nخط زانو=1 \nخط باسن=2 \nخط کمر=3 \nخط سینه=4  ",{"$f":"'مساله سوم مدل 13'!E495","v":60},"ضریب فاصله عمودی بالای جیب از زمین ",10,0,30,1,0.05,-0.5,0,10,5,110,2,50,null,null,null,null,null,null,null,null,null,null,null,null,null,null,null,null,null,null,52,null,16.5,null,{"$f":"AO202+0.5","v":6.5},-53.5,77,34,84,-17]
["عرض پاکت جیب به سانتیمتر","(از 0 الی 4)",0,"بهینه=2",{"$f":"'مساله سوم مدل 13'!E489","v":0},"پهنای بلیطی جیب  (سانتیمتر)",1,1,0,0,1,0,0,0,4,4,2,2,null,null,null,null,null,null,null,null,null,null,null,null,null,null,null,null,null,null,53,null,17,"متغیر ورودی بافت یقه شکاری",7,-53,77.5,35,85,-16]
["ضریب طول پاکت جیب","(از 0.01 الی 2)",-8.8817841970012523E-16,"بهینه=1",{"$f":"'مساله سوم مدل 13'!E490","v":0},"ضریب طول بلیطی جیب",19,0.95,20,1,5.0000000000000044E-2,-8.8817841970012523E-16,0.01,0.20000000000001758,2,39.999999999999986,1,20,null,null,null,null,null,null,null,null,null,null,null,null,null,null,null,null,null,null,54,null,{"$f":"AM204+0.5","v":17.5},0,7.5,-52.5,78,36,86,-15]
["زاویه جیب با عمود به درجه","(از 0 الی 180)",80,"بهینه=دلخواه",{"$f":"'مساله سوم مدل 13'!E491","v":16},"زاویه جیب با عمود ",1,5,0,0,5,0,0,0,180,36,20,4,null,null,null,null,null,null,null,null,null,null,null,null,null,null,null,null,null,null,55,null,18,5,8,-52,78.5,37,87,-14]
["زاویه چرخش پاکت جیب از مستطیل به متوازی الاضلاع (به درجه)","(از -90 الی 90)",-10,"پاکت مستطیل=0  ",{"$f":"'مساله سوم مدل 13'!E492","v":18},"زاویه چرخش بلیطی جیب از مستطیل به متوازی الاضلاع ",21,5,20,0,5,-100,-90,2,90,38,0,20,null,null,null,null,null,null,null,null,null,null,null,null,null,null,null,null,null,null,56,null,18.5,8,8.5,-51.5,79,38,88,-13]
["انتخاب جیب روکار=1        انتخاب دیگر=0","0 یا 1 ",0,null,{"$f":"'مساله سوم مدل 13'!E493","v":1},"انتخاب جیب روکار=2        انتخاب دیگر=1",1,0,2,1,1,-1,0,1,1,2,0,1,null,null,null,null,null,null,null,null,null,null,null,null,null,null,null,null,null,null,57,null,19,10,9,-51,79.5,39,89,-12]
["انتخاب طول جیب منطبق با جیب با ساسون=1        انتخاب طول جیب دستی=0","0 یا 1 ",0,null,{"$f":"'طراحی همه الگوها'!E332","v":1},"انتخاب طول جیب منطبق با جیب با ساسون=1        انتخاب طول جیب دستی=0",1,0,2,1,{"$f":"(J209-H209)/(I209-G209)","v":1},{"$f":"H209-G209*K209","v":-1},0,1,1,2,0,1,null,null,null,null,null,null,null,null,null,null,null,null,null,null,null,null,null,null,58,null,19.5,12,9.5,-50.5,80,40,90,-11]
[null,null,null,null,null,null,null,null,null,null,null,null,null,null,null,null,null,null,null,null,null,null,null,null,null,null,null,null,null,null,null,null,null,null,null,null,59,null,20,15,10,-50,80.5,41,91,-10]
[" متغیرهای ورودی - جیب دوم درمکان دلخواه",null,null,null,null," متغیرهای ورودی - جیب دوم سیاه با بلیطی (جلو)","x1","y1","x2","y2(بهینه)","a","b",null,"کمترین",null,"بیشترین",null,null,null,null,null,null,null,null,null,null,null,null,null,null,null,null,null,null,null,null,60,null,20.5,20,10.5,-49.5,81,42,92,-9]
["ضریب فاصله افقی وسط جیب از خط مرکزی جلو ","(از 0 الی 1)",{"$f":"IF(C219=1,C684,K212*E212+L212)","v":0.5},"خط مرکزی جلو=0 \nخط پهلو=1  ",{"$f":"'مساله سوم مدل 13'!E503","v":10},"ضریب فاصله افقی وسط جیب از خط مرکزی جلو ",20,1,0,0,{"$f":"(J212-H212)/(I212-G212)","v":0.05},{"$f":"H212-G212*K212","v":0},0,{"$f":"(M212-L212)/K212","v":0},1,{"$f":"(O212-L212)/K212","v":20},0.5,{"$f":"(Q212-L212)/K212","v":10},null,null,null,null,null,null,null,null,null,null,null,null,null,null,null,null,null,null,61,null,21,null,11,-49,81.5,43,93,-8]
["ضریب فاصله عمودی بالای جیب از زمین ","(از0 الی 5)",{"$f":"IF(C219=1,C685,K213*E213+L213)","v":4.3000000000000007},"خط زمین=0 \nخط زانو=1 \nخط باسن=2 \nخط کمر=3 \nخط سینه=4  ",{"$f":"'مساله سوم مدل 13'!E504","v":96},"ضریب فاصله عمودی بالای جیب از زمین ",10,0,30,1,0.05,-0.5,0,10,5,110,2,50,null,null,null,null,null,null,null,null,null,null,null,null,null,null,null,null,null,null,62,null,21.5,null,11.5,-48.5,82,44,94,-7]
["عرض پاکت جیب به سانتیمتر","(از 0 الی 4)",{"$f":"IF(C219=1,C686,K214*E214+L214)","v":0},"بهینه=2",{"$f":"'مساله سوم مدل 13'!E498","v":0},"پهنای بلیطی جیب  (سانتیمتر)",1,1,0,0,1,0,0,0,4,4,2,2,null,null,null,null,null,null,null,null,null,null,null,null,null,null,null,null,null,null,63,null,22,null,12,-48,82.5,45,95,-6]
["ضریب طول پاکت جیب","(از 0.01 الی 2)",{"$f":"IF(C219=1,C687,K215*E215+L215)","v":-8.8817841970012523E-16},"بهینه=1",{"$f":"'مساله سوم مدل 13'!E499","v":0},"ضریب طول بلیطی جیب",19,0.95,20,1,5.0000000000000044E-2,-8.8817841970012523E-16,0.01,0.20000000000001758,2,39.999999999999986,1,20,null,null,null,null,null,null,null,null,null,null,null,null,null,null,null,null,null,null,64,null,22.5,null,12.5,-47.5,83,46,96,-5]
["زاویه جیب با عمود به درجه","(از 0 الی 180)",{"$f":"IF(C219=1,C688,K216*E216+L216)","v":90},"بهینه=دلخواه",{"$f":"'مساله سوم مدل 13'!E500","v":18},"زاویه جیب با عمود ",1,5,0,0,5,0,0,0,180,36,20,4,null,null,null,null,null,null,null,null,null,null,null,null,null,null,null,null,null,null,65,null,23,null,13,-47,83.5,47,97,-4]
["زاویه چرخش پاکت جیب از مستطیل به متوازی الاضلاع (به درجه)","(از -90 الی 90)",{"$f":"IF(C219=1,C689,K217*E217+L217)","v":0},"پاکت مستطیل=0  ",{"$f":"'مساله سوم مدل 13'!E501","v":20},"زاویه چرخش بلیطی جیب از مستطیل به متوازی الاضلاع ",21,5,20,0,5,-100,-90,2,90,38,0,20,null,null,null,null,null,null,null,null,null,null,null,null,null,null,null,null,null,null,66,null,23.5,null,13.5,-46.5,84,48,98,-3]
["انتخاب جیب روکار=1        انتخاب دیگر=0","0 یا 1 ",{"$f":"IF(C219=1,C690,K218*E218+L218)","v":1},null,{"$f":"'مساله سوم مدل 13'!E502","v":2},"انتخاب جیب روکار=2        انتخاب دیگر=1",1,0,2,1,1,-1,0,1,1,2,0,1,null,null,null,null,null,null,null,null,null,null,null,null,null,null,null,null,null,null,67,null,24,null,14,-46,84.5,49,99,-2]
["جیب منطبق با جیب جلو شاوار=2     انتخاب دیگر=1","0 یا 1 ",{"$f":"K219*E219+L219","v":0},null,{"$f":"'طراحی همه الگوها'!E333","v":1},"جیب منطبق با جیب جلو شاوار=2     انتخاب دیگر=1",1,0,2,1,{"$f":"(J219-H219)/(I219-G219)","v":1},{"$f":"H219-G219*K219","v":-1},0,1,1,2,0,1,null,null,null,null,null,null,null,null,null,null,null,null,null,null,null,null,null,null,68,null,24.5,null,14.5,-45.5,85,50,100,-1]
["متغیرهای ورودی -  جیب مستطیل",null,null,null,null,"متغیرهای ورودی -  جیب مستطیل قرمز   (جلو)","x1","y1","x2","y2(بهینه)","a","b",null,"کمترین",null,"بیشترین",null,null,null,null,null,null,null,null,null,null,null,null,null,null,null,null,null,null,null,null,69,null,25,null,15,-45,85.5,51,"منطبق",0]
["ضریب فاصله افقی وسط  جیب از خط مرکزی جلو لباس ","(از 0 الی 1)",{"$f":"K221*E221+L221","v":0.5},"لبه جلو=0 \nلبه کناری=1  ",{"$f":"'مساله سوم مدل 13'!E510","v":10},"ضریب فاصله افقی وسط  جیب از خط مرکزی جلو لباس ",20,1,0,0,{"$f":"(J221-H221)/(I221-G221)","v":0.05},{"$f":"H221-G221*K221","v":0},0,{"$f":"(M221-L221)/K221","v":0},1,{"$f":"(O221-L221)/K221","v":20},0.5,{"$f":"(Q221-L221)/K221","v":10},null,null,null,null,null,null,null,null,null,null,null,null,null,null,null,null,null,null,70,null,25.5,null,15.5,-44.5,86,52,null,1]
["ضریب فاصله عمودی بالای  جیب از زمین ","(از0 الی 5)",{"$f":"K222*E222+L222","v":4.3000000000000007},"خط زمین=0 \nخط زانو=1 \nخط باسن=2 \nخط کمر=3 \nخط سینه=4  ",{"$f":"'مساله سوم مدل 13'!E511","v":96},"ضریب فاصله عمودی بالای  جیب از زمین ",10,0,30,1,{"$f":"(J222-H222)/(I222-G222)","v":0.05},{"$f":"H222-G222*K222","v":-0.5},0,{"$f":"(M222-L222)/K222","v":10},5,{"$f":"(O222-L222)/K222","v":110},2,{"$f":"(Q222-L222)/K222","v":50},null,null,null,null,null,null,null,null,null,null,null,null,null,null,null,null,null,null,71,null,26,null,16,-44,86.5,53,null,2]
["ضریب عرض جیب مستطیل","(از 0.01 الی 1.5)",{"$f":"K223*E223+L223","v":0},"بهینه جیب=1.2",{"$f":"'مساله سوم مدل 13'!E507","v":0},"ضریب عرض جیب مستطیل",1,0.05,0,0,{"$f":"(J223-H223)/(I223-G223)","v":0.05},{"$f":"H223-G223*K223","v":0},0.01,{"$f":"(M223-L223)/K223","v":0.19999999999999998},1.5,{"$f":"(O223-L223)/K223","v":30},1.2,{"$f":"(Q223-L223)/K223","v":23.999999999999996},null,null,null,null,null,null,null,null,null,null,null,null,null,null,null,null,null,null,72,null,26.5,null,16.5,-43.5,87,54,null,3]
["زاویه  جیب با عمود (به درجه)","(از 0 الی 180)",{"$f":"K224*E224+L224","v":90},"افقی=90",{"$f":"'مساله سوم مدل 13'!E508","v":18},"زاویه  جیب با عمود ",1,5,0,0,{"$f":"(J224-H224)/(I224-G224)","v":5},{"$f":"H224-G224*K224","v":0},0,{"$f":"(M224-L224)/K224","v":0},180,{"$f":"(O224-L224)/K224","v":36},90,{"$f":"(Q224-L224)/K224","v":18},null,null,null,null,null,null,null,null,null,null,null,null,null,null,null,null,null,null,73,null,27,null,17,-43,87.5,55,null,4]
["ضریب ارتفاع جیب مستطیل","(از 0 الی 1.5)",{"$f":"K225*E225+L225","v":0},"بهینه جیب=1.1",{"$f":"'مساله سوم مدل 13'!E509","v":0},"ضریب ارتفاع جیب مستطیل",1,0.05,0,0,{"$f":"(J225-H225)/(I225-G225)","v":0.05},{"$f":"H225-G225*K225","v":0},0,{"$f":"(M225-L225)/K225","v":0},1.5,{"$f":"(O225-L225)/K225","v":30},1.1000000000000001,{"$f":"(Q225-L225)/K225","v":22},null,null,null,null,null,null,null,null,null,null,null,null,null,null,null,null,null,null,74,null,27.5,null,17.5,-42.5,88,56,null,5]
[null,null,null,null,null,null,null,null,null,null,null,null,null,null,null,null,null,null,null,null,null,null,null,null,null,null,null,null,null,null,null,null,null,null,null,null,75,null,28,null,18,-42,88.5,57,null,6]
["متغیرهای ورودی -  جادکمه با بلیطی",null,null,null,null,"متغیرهای ورودی -  جادکمه با بلیطی (جلو)","x1","y1","x2","y2(بهینه)","a","b",null,"کمترین",null,"بیشترین",null,null,null,null,null,null,null,null,null,null,null,null,null,null,null,null,null,null,null,null,76,null,28.5,null,18.5,-41.5,89,58,null,7]
["ضریب فاصله افقی وسط جادکمه  از خط مرکزی جلو لباس ","(از 0 الی 1)",{"$f":"K228*E228+L228","v":0.5},"لبه جلو=0 \nلبه کناری=1  ",{"$f":"'طراحی همه الگوها'!E364","v":10},"ضریب فاصله افقی وسط جادکمه  از خط مرکزی جلو لباس ",20,1,0,0,{"$f":"(J228-H228)/(I228-G228)","v":0.05},{"$f":"H228-G228*K228","v":0},0,{"$f":"(M228-L228)/K228","v":0},1,{"$f":"(O228-L228)/K228","v":20},0.5,{"$f":"(Q228-L228)/K228","v":10},null,null,null,null,null,null,null,null,null,null,null,null,null,null,null,null,null,null,77,null,29,null,19,-41,89.5,59,null,8]
["ضریب فاصله عمودی بالای جادکمه از زمین ","(از0 الی 5)",{"$f":"K229*E229+L229","v":5.5},"خط زمین=0 \nخط زانو=1 \nخط باسن=2 \nخط کمر=3 \nخط سینه=4  ",{"$f":"'طراحی همه الگوها'!E365","v":120},"ضریب فاصله عمودی بالای جادکمه از زمین ",10,0,30,1,{"$f":"(J229-H229)/(I229-G229)","v":0.05},{"$f":"H229-G229*K229","v":-0.5},0,{"$f":"(M229-L229)/K229","v":10},5,{"$f":"(O229-L229)/K229","v":110},2,{"$f":"(Q229-L229)/K229","v":50},null,null,null,null,null,null,null,null,null,null,null,null,null,null,null,null,null,null,78,null,29.5,null,19.5,-40.5,90,60,null,9]
["عرض پاکت جادکمه به سانتیمتر","(از 0 الی 4)",{"$f":"K230*E230+L230","v":2},"بهینه جادکمه=2",{"$f":"'طراحی همه الگوها'!E361","v":2},"پهنای جادکمه  (سانتیمتر)",1,1,0,0,{"$f":"(J230-H230)/(I230-G230)","v":1},{"$f":"H230-G230*K230","v":0},0,{"$f":"(M230-L230)/K230","v":0},4,{"$f":"(O230-L230)/K230","v":4},2,{"$f":"(Q230-L230)/K230","v":2},null,null,null,null,null,null,null,null,null,null,null,null,null,null,null,null,null,null,79,null,30,null,20,-40,90.5,"منطبق",null,10]
["ضریب طول پاکت جادکمه ","(از 0.01 الی 1.5)",{"$f":"K231*E231+L231","v":0.30000000000000004},"بهینه جادکمه=0.3",{"$f":"'طراحی همه الگوها'!E362","v":20},"ضریب طول جادکمه ",19,0.25,20,0.3,{"$f":"(J231-H231)/(I231-G231)","v":4.9999999999999989E-2},{"$f":"H231-G231*K231","v":-0.69999999999999973},0.01,{"$f":"(M231-L231)/K231","v":14.199999999999998},1.5,{"$f":"(O231-L231)/K231","v":44.000000000000007},0.3,{"$f":"(Q231-L231)/K231","v":20},null,null,null,null,null,null,null,null,null,null,null,null,null,null,null,null,null,null,80,null,null,null,20.5,-39.5,91,"متغیر ورودی خاص دکلته",null,11]
["زاویه جادکمه با عمود (به درجه)","(از 0 الی 180)",{"$f":"K232*E232+L232","v":90},"افقی=90",{"$f":"'طراحی همه الگوها'!E363","v":18},"زاویه جادکمه با عمود ",1,5,0,0,{"$f":"(J232-H232)/(I232-G232)","v":5},{"$f":"H232-G232*K232","v":0},0,{"$f":"(M232-L232)/K232","v":0},180,{"$f":"(O232-L232)/K232","v":36},90,{"$f":"(Q232-L232)/K232","v":18},null,null,null,null,null,null,null,null,null,null,null,null,null,null,null,null,null,null,81,null,null,null,21,-39,91.5,5,null,12]
[null,null,null,null,null,null,null,null,null,null,null,null,null,null,null,null,null,null,null,null,null,null,null,null,null,null,null,null,null,null,null,null,null,null,null,null,82,null,null,null,21.5,-38.5,92,{"$f":"AR232+0.1","v":5.0999999999999996},null,13]
[" متغیرهای ورودی - جادکمه با طول دلخواه",null,null,null,null,"جادکمه متصل به یقه گرد","x1","y1","x2","y2(بهینه)","a","b",null,"کمترین",null,"بیشترین",null,null,null,null,null,null,null,null,null,null,null,null,null,null,null,null,null,null,null,null,83,null,null,null,22,-38,92.5,5.1999999999999993,null,14]
["ضریب عرض جادکمه به سانتیمتر","(از 0 الی 0.03)",{"$f":"K235*E235+L235","v":3.5000000000000003E-2},"بهینه=0.01",{"$f":"'طراحی همه الگوها'!E368","v":7},"ضریب عرض جادکمه ",1,5.0000000000000001E-3,0,0,{"$f":"(J235-H235)/(I235-G235)","v":5.0000000000000001E-3},{"$f":"H235-G235*K235","v":0},0,{"$f":"(M235-L235)/K235","v":0},0.03,{"$f":"(O235-L235)/K235","v":6},0.01,{"$f":"(Q235-L235)/K235","v":2},null,null,null,null,null,null,null,null,null,null,null,null,null,null,null,null,null,null,84,null,null,null,{"$f":"AO234+0.5","v":22.5},-37.5,93,5.2999999999999989,null,15]
["ضریب طول جادکمه ","(از 0.7 الی 2.5)",{"$f":"K236*E236+L236","v":2.0000000000000009},"حداقل طول جادکمه با پارچه کش برای رد شدن از سر=0.7 \nحداقل طول جادکمه با پارچه غیر کش برای رد شدن از سر=1 \nجادکمه بلند  >1 ",{"$f":"'طراحی همه الگوها'!E369","v":50},"ضریب طول جادکمه ",1,1.02,0,1,{"$f":"(J236-H236)/(I236-G236)","v":2.0000000000000018E-2},{"$f":"H236-G236*K236","v":1},1,{"$f":"(M236-L236)/K236","v":0},2.5,{"$f":"(O236-L236)/K236","v":74.999999999999929},1,{"$f":"(Q236-L236)/K236","v":0},null,null,null,null,null,null,null,null,null,null,null,null,null,null,null,null,null,null,85,null,null,null,23,-37,93.5,5.3999999999999986,null,16]
["حداقل طول جادکمه با پارچه غیر کش به سانتیمتر (عدد منفی یعنی دور یقه بزرگتر از دور سر میباشد)  *",{"$f":"ROUND(محاسبات!FH465,0)","v":10},null,null,{"$f":"IF((B261+B239)<B260,\"خیر\",\"بله \")","v":"خیر"},"آیا یقه گرد متصل به جادکمه با پارچه غیر کش از سر رد میشود؟",null,null,null,null,null,null,null,null,null,null,null,null,null,null,null,null,null,null,null,null,null,null,null,null,null,null,null,null,null,null,86,null,null,null,23.5,-36.5,94,5.4999999999999982,null,17]
["حداقل طول جادکمه با پارچه کش به سانتیمتر (عدد منفی یعنی دور یقه بزرگتر از حد لازم برای رد شدن از دور سر میباشد)  '*",{"$f":"ROUND(0.5*('متغیرها '!U85-1.2*(2.12*SQRT(محاسبات!K144*محاسبات!K144+محاسبات!K143*محاسبات!K143)+2.08*SQRT(محاسبات!AA147*محاسبات!AA147+محاسبات!AA146*محاسبات!AA146))),0)","v":7},null,null,{"$f":"IF((B261+B239)<0.85*B260,\"خیر\",\"بله \")","v":"بله "},"آیا یقه گرد متصل به جادکمه با پارچه نیم کش از سر رد میشود؟",null,null,null,null,null,null,null,null,null,null,null,null,null,null,null,null,null,null,null,null,null,null,null,null,null,null,null,null,null,null,87,null,null,null,24,-36,94.5,5.5999999999999979,null,18]
[" طول جادکمه اختیار شده برای لباس شما به سانتیمتر",{"$f":"ROUND((C236-1)*'متغیرها '!U77,1)","v":13.8},null,null,{"$f":"IF((B261+B239)<0.7*B260,\"خیر\",\"بله \")","v":"بله "},"آیا یقه گرد متصل به جادکمه با پارچه کش زیاد از سر رد میشود؟",null,null,null,null,null,null,null,null,null,null,null,null,null,null,null,null,null,null,null,null,null,null,null,null,null,null,null,null,null,null,88,null,null,null,24.5,-35.5,95,5.6999999999999975,null,19]
[" عرض جادکمه اختیار شده برای لباس شما به سانتیمتر",{"$f":"ROUND(محاسبات!FH471,1)","v":5.3},null,null,null,null,null,null,null,null,null,null,null,null,null,null,null,null,null,null,null,null,null,null,null,null,null,null,null,null,null,null,null,null,null,null,89,null,null,null,25,-35,95.5,5.7999999999999972,null,20]
[null,null,null,null,null,null,null,null,null,null,null,null,null,null,null,null,null,null,null,null,null,null,null,null,null,null,null,null,null,null,null,null,null,null,null,null,90,null,null,null,25.5,-34.5,96,5.8999999999999968,null,21]
[" مشخصات مستطیل با پارچه کش برای یقه گرد کیپ :",null,null,null,null," مشخصات مستطیل با پارچه کش برای یقه گرد کیپ :",null,null,null,null,null,null,null,null,null,null,null,null,null,null,null,null,null,null,null,null,null,null,null,null,null,null,null,null,null,null,91,null,null,null,26,-34,96.5,5.9999999999999964,null,22]
["طول",{"$f":"'متغیرها '!U80","v":31},null,null,null,"طول",null,null,null,null,null,null,null,null,null,null,null,null,null,null,null,null,null,null,null,null,null,null,null,null,null,null,null,null,null,null,92,null,null,null,26.5,-33.5,97,6.0999999999999961,null,23]
["عرض",{"$f":"0.5*'متغیرها '!C72*محاسبات!G167","v":0},null,null,null,"عرض",null,null,null,null,null,null,null,null,null,null,null,null,null,null,null,null,null,null,null,null,null,null,null,null,null,null,null,null,null,null,93,null,null,null,27,-33,{"$f":"AQ243+0.5","v":97.5},6.1999999999999957,null,24]
["زاویه متوسط سرشانه",{"$f":"0.5*(محاسبات!P139+0.3*(محاسبات!P140-محاسبات!P139)+محاسبات!AE139+0.3*(محاسبات!AE140-محاسبات!AE139))","v":0.33685946794520588},null,null,null,"زاویه متوسط سرشانه",null,null,null,null,null,null,null,null,null,null,null,null,null,null,null,null,null,null,null,null,null,null,null,null,null,null,null,null,null,null,94,null,null,null,27.5,-32.5,98,6.2999999999999954,null,25]
[null,null,null,null,null,null,null,null,null,null,null,null,null,null,null,null,null,null,null,null,null,null,null,null,null,null,null,null,null,null,null,null,null,null,null,null,95,null,null,null,28,-32,98.5,6.399999999999995,null,26]
["متغیر ورودی یقه گرد کش :",null,null,null,null,"متغیر ورودی یقه گرد کش :","x1","y1","x2","y2(بهینه)","a","b",null,"کمترین",null,"بیشترین",null,null,null,null,null,null,null,null,null,null,null,null,null,null,null,null,null,null,null,null,96,null,null,null,28.5,-31.5,99,6.4999999999999947,null,27]
["ارتفاع یقه گرد کش  به سانتیمتر - متغیر ورودی","(از 0.5 الی 5)",{"$f":"K248*E248+L248","v":1},"cm",{"$f":"'طراحی همه الگوها'!E189","v":1},"ارتفاع یقه گرد کش  به سانتیمتر - متغیر ورودی",0,0,0.5,0.5,{"$f":"(J248-H248)/(I248-G248)","v":1},{"$f":"H248-G248*K248","v":0},0.5,{"$f":"(M248-L248)/K248","v":0.5},5,{"$f":"(O248-L248)/K248","v":5},1,{"$f":"(Q248-L248)/K248","v":1},null,null,null,null,null,null,null,null,null,null,null,null,null,null,null,null,null,null,97,null,null,null,29,-31,99.5,6.5999999999999943,null,28]
["طول (دور تا دور) یقه گرد کش به سانتیمتر",{"$f":"ROUND(2.12*SQRT(POWER((محاسبات!K144-C248*(1-SIN(B245))),2)+POWER((محاسبات!K143-C248*COS(B245)),2))+2.08*SQRT(POWER((محاسبات!AA147-C248*(1-SIN(B245))),2)+POWER((محاسبات!AA146-C248*COS(B245)),2)),0)","v":26},null,null,null,"طول (دور تا دور) یقه گرد کش به سانتیمتر",null,null,null,null,null,null,null,null,null,null,null,null,null,null,null,null,null,null,null,null,null,null,null,null,null,null,null,null,null,null,98,null,null,null,29.5,-30.5,100,6.699999999999994,null,29]
[null,null,null,null,null,null,null,null,null,null,null,null,null,null,null,null,null,null,null,null,null,null,null,null,null,null,null,null,null,null,null,null,null,null,null,null,99,null,null,null,30,-30,100.5,6.7999999999999936,null,30]
[" مشخصات نوار دور یقه گرد کش :",null,null,null,null," مشخصات نوار دور یقه گرد کش :",null,null,null,null,null,null,null,null,null,null,null,null,null,null,null,null,null,null,null,null,null,null,null,null,null,null,null,null,null,null,100,null,null,null,30.5,-29.5,101,6.8999999999999932,null,31]
["ارتفاع نوار  (بعد از دوخت)",0.5,"cm",null,null,"ارتفاع نوار  (بعد از دوخت)",null,null,null,null,null,null,null,null,null,null,null,null,null,null,null,null,null,null,null,null,null,null,null,null,null,null,null,null,null,null,101,null,null,null,31,-29,101.5,6.9999999999999929,null,32]
["طول  نوار  (بعد از دوخت)",{"$f":"ROUND(2.12*SQRT(POWER((محاسبات!K144-B252*(1-SIN(محاسبات!BI101))),2)+POWER((محاسبات!K143-B252*COS(محاسبات!BI101)),2))+2.08*SQRT(POWER((محاسبات!AA147-B252*(1-SIN(محاسبات!BI101))),2)+POWER((محاسبات!AA146-B252*COS(محاسبات!BI101)),2)),0)","v":28},"cm",null,null,"طول  نوار  (بعد از دوخت)",null,null,null,null,null,null,null,null,null,null,null,null,null,null,null,null,null,null,null,null,null,null,null,null,null,null,null,null,null,null,102,null,null,null,31.5,-28.5,102,7.0999999999999925,null,33]
[null,null,null,null,null,null,null,null,null,null,null,null,null,null,null,null,null,null,null,null,null,null,null,null,null,null,null,null,null,null,null,null,null,null,null,null,103,null,null,null,32,-28,102.5,7.1999999999999922,null,34]
[" مشخصات نوار دور یقه گرد کش :",null,null,null,null," مشخصات نوار دور یقه گرد کش :",null,null,null,null,null,null,null,null,null,null,null,null,null,null,null,null,null,null,null,null,null,null,null,null,null,null,null,null,null,null,104,null,null,null,32.5,-27.5,103,7.2999999999999918,null,35]
["ارتفاع نوار  (بعد از دوخت)",1,"cm",null,null,"ارتفاع نوار  (بعد از دوخت)",null,null,null,null,null,null,null,null,null,null,null,null,null,null,null,null,null,null,null,null,null,null,null,null,null,null,null,null,null,null,105,null,null,null,33,-27,103.5,7.3999999999999915,null,36]
["طول  نوار  (بعد از دوخت)",{"$f":"ROUND(2.12*SQRT(POWER((محاسبات!K144-B256*(1-SIN(محاسبات!BI101))),2)+POWER((محاسبات!K143-B256*COS(محاسبات!BI101)),2))+2.08*SQRT(POWER((محاسبات!AA147-B256*(1-SIN(محاسبات!BI101))),2)+POWER((محاسبات!AA146-B256*COS(محاسبات!BI101)),2)),0)","v":26},"cm",null,null,"طول  نوار  (بعد از دوخت)",null,null,null,null,null,null,null,null,null,null,null,null,null,null,null,null,null,null,null,null,null,null,null,null,null,null,null,null,null,null,106,null,null,null,33.5,-26.5,104,7.4999999999999911,null,37]
[null,null,null,null,null,null,null,null,null,null,null,null,null,null,null,null,null,null,null,null,null,null,null,null,null,null,null,null,null,null,null,null,null,null,null,null,107,null,null,null,34,-26,104.5,7.5999999999999908,null,38]
[" کنترل یقه گرد بدون زیپ ",null,null,null,null," کنترل یقه گرد بدون زیپ ",null,null,null,null,null,null,null,null,null,null,null,null,null,null,null,null,null,null,null,null,null,null,null,null,null,null,null,null,null,null,108,null,null,null,34.5,-25.5,105,7.6999999999999904,null,39]
["دور سر",{"$f":"'متغیرها '!U85","v":51},null,null,null,"دور سر",null,null,null,null,null,null,null,null,null,null,null,null,null,null,null,null,null,null,null,null,null,null,null,null,null,null,null,null,null,null,109,null,null,null,35,-25,105.5,7.7999999999999901,null,40]
[" دور یقه گرد لباس",{"$f":"ROUND(2.12*SQRT(محاسبات!K144*محاسبات!K144+محاسبات!K143*محاسبات!K143)+2.08*SQRT(محاسبات!AA147*محاسبات!AA147+محاسبات!AA146*محاسبات!AA146)+2*'متغیرها '!C66*محاسبات!H129,1)","v":30.2},null,null,null," دور یقه گرد لباس",null,null,null,null,null,null,null,null,null,null,null,null,null,null,null,null,null,null,null,null,null,null,null,null,null,null,null,null,null,null,110,null,null,null,35.5,-24.5,106,7.8999999999999897,null,41]
["حداقل دور یقه گرد با پارچه غیر کش ",{"$f":"'متغیرها '!U85","v":51},null,{"$f":"IF(B261<B262,\"خطا\",\"صحیح \")","v":"خطا"},{"$f":"IF(B261<B262,\"خیر\",\"بله \")","v":"خیر"},"حداقل دور یقه گرد با پارچه غیر کش ",null,null,null,null,null,null,null,null,null,null,null,null,null,null,null,null,null,null,null,null,null,null,null,null,null,null,null,null,null,null,111,null,null,null,36,-24,106.5,7.9999999999999893,null,42]
[" حداقل دور یقه گرد با پارچه نیم کش ",{"$f":"ROUND(0.85*'متغیرها '!U85,1)","v":43.4},null,{"$f":"IF(B261<B263,\"خطا\",\"صحیح \")","v":"خطا"},{"$f":"IF(B261<B263,\"خیر\",\"بله \")","v":"خیر"}," حداقل دور یقه گرد با پارچه نیم کش ",null,null,null,null,null,null,null,null,null,null,null,null,null,null,null,null,null,null,null,null,null,null,null,null,null,null,null,null,null,null,112,null,null,null,36.5,-23.5,107,8.099999999999989,null,43]
["حداقل دور یقه گرد با پارچه کش زیاد ",{"$f":"ROUND(0.7*'متغیرها '!U85,1)","v":35.700000000000003},null,{"$f":"IF(B261<B264,\"خطا\",\"صحیح \")","v":"خطا"},{"$f":"IF(B261<B264,\"خیر\",\"بله \")","v":"خیر"},"حداقل دور یقه گرد با پارچه کش زیاد ",null,null,null,null,null,null,null,null,null,null,null,null,null,null,null,null,null,null,null,null,null,null,null,null,null,null,null,null,null,null,113,null,null,null,37,-23,107.5,8.1999999999999886,null,44]
[null,null,null,null,null,null,null,null,null,null,null,null,null,null,null,null,null,null,null,null,null,null,null,null,null,null,null,null,null,null,null,null,null,null,null,null,114,null,null,null,37.5,-22.5,108,8.2999999999999883,null,45]
[" کنترل یقه هفت بدون زیپ ",null,null,null,null," کنترل یقه هفت بدون زیپ ",null,null,null,null,null,null,null,null,null,null,null,null,null,null,null,null,null,null,null,null,null,null,null,null,null,null,null,null,null,null,115,null,null,null,38,-22,108.5,8.3999999999999879,null,46]
["دور سر",{"$f":"'متغیرها '!U85","v":51},null,null,null,"دور سر",null,null,null,null,null,null,null,null,null,null,null,null,null,null,null,null,null,null,null,null,null,null,null,null,null,null,null,null,null,null,116,null,null,null,{"$f":"AO266+0.5","v":38.5},-21.5,109,8.4999999999999876,null,47]
[" دور یقه هفت لباس",{"$f":"ROUND(2.08*SQRT(محاسبات!AA147*محاسبات!AA147+محاسبات!AA146*محاسبات!AA146)+2*(('متغیرها '!C169*محاسبات!H124+محاسبات!K144)/SIN(محاسبات!O233)),1)","v":41.2},null,null,null," دور یقه هفت لباس",null,null,null,null,null,null,null,null,null,null,null,null,null,null,null,null,null,null,null,null,null,null,null,null,null,null,null,null,null,null,117,null,null,null,39,-21,109.5,8.5999999999999872,null,48]
["حداقل دور یقه هفت با پارچه غیر کش ",{"$f":"'متغیرها '!U85","v":51},null,{"$f":"IF(B268<B269,\"خطا\",\"صحیح \")","v":"خطا"},{"$f":"IF(B268<B269,\"خیر\",\"بله \")","v":"خیر"},"حداقل دور یقه هفت با پارچه غیر کش ",null,null,null,null,null,null,null,null,null,null,null,null,null,null,null,null,null,null,null,null,null,null,null,null,null,null,null,null,null,null,118,null,null,null,39.5,-20.5,110,8.6999999999999869,null,49]
[" حداقل دور یقه هفت با پارچه نیم کش ",{"$f":"ROUND(0.85*'متغیرها '!U85,1)","v":43.4},null,{"$f":"IF(B268<B270,\"خطا\",\"صحیح \")","v":"خطا"},{"$f":"IF(B268<B270,\"خیر\",\"بله \")","v":"خیر"}," حداقل دور یقه هفت با پارچه نیم کش ",null,null,null,null,null,null,null,null,null,null,null,null,null,null,null,null,null,null,null,null,null,null,null,null,null,null,null,null,null,null,119,null,null,null,40,-20,110.5,8.7999999999999865,null,50]
[null,null,null,null,null,null,null,null,null,null,null,null,null,null,null,null,null,null,null,null,null,null,null,null,null,null,null,null,null,null,null,null,null,null,null,null,120,null,null,null,40.5,-19.5,111,8.8999999999999861,null,"منطبق"]
[" مشخصات کمربند به شکل مستطیل (مناسب برای لباس شما)",null,null,null,null," مشخصات کمربند به شکل مستطیل (مناسب برای لباس شما)",null,null,null,null,null,null,null,null,null,null,null,null,null,null,null,null,null,null,null,null,null,null,null,null,null,null,null,null,null,null,121,null,null,null,41,-19,111.5,8.9999999999999858]
["طول کمربند به سانتیمتر",{"$f":"ROUND(3*(محاسبات!K120+محاسبات!K124)+2*(محاسبات!AA123+محاسبات!AA127),1)","v":73},null,null,null,"طول کمربند به سانتیمتر",null,null,null,null,null,null,null,null,null,null,null,null,null,null,null,null,null,null,null,null,null,null,null,null,null,null,null,null,null,null,122,null,null,null,41.5,-18.5,112,9.0999999999999854]
["عرض کمربند به سانتیمتر",{"$f":"ROUND(0.07*'متغیرها '!U83,1)","v":2.7},null,null,null,"عرض کمربند به سانتیمتر",null,null,null,null,null,null,null,null,null,null,null,null,null,null,null,null,null,null,null,null,null,null,null,null,null,null,null,null,null,null,123,null,null,null,42,-18,112.5,9.1999999999999851]
[null,null,null,null,null,null,null,null,null,null,null,null,null,null,null,null,null,null,null,null,null,null,null,null,null,null,null,null,null,null,null,null,null,null,null,null,124,null,null,null,42.5,-17.5,113,9.2999999999999847]
[" مشخصات کش یا پارچه پایین سویشرت :",null,null,null,null," مشخصات کش پایین سویشرت :",null,null,null,null,null,null,null,null,null,null,null,null,null,null,null,null,null,null,null,null,null,null,null,null,null,null,null,null,null,null,125,null,null,null,43,-17,113.5,9.3999999999999844]
["طول  کش از ساسون جلو- دور باسن -تا ساسون دیگر جلو",{"$f":"ROUND(C279*2*(محاسبات!AV110-محاسبات!AV164+محاسبات!BG106+محاسبات!BG165),0)","v":31},"cm",null,null,"طول  کش از ساسون جلو- دور باسن -تا ساسون دیگر جلو",null,null,null,null,null,null,null,null,null,null,null,null,null,null,null,null,null,null,null,null,null,null,null,null,null,null,null,null,null,null,126,null,null,null,43.5,-16.5,114,9.499999999999984]
["ضریب پهنای کش","(از -0.1 الی 0.1)",{"$f":"K278*E278+L278","v":-1.65},"بهینه=   - 0.05 ",{"$f":"'طراحی همه الگوها'!B353","v":18},"ضریب پهنای کش",50,-0.05,51,0,{"$f":"(J278-H278)/(I278-G278)","v":0.05},{"$f":"H278-G278*K278","v":-2.5499999999999998},-0.1,{"$f":"(M278-L278)/K278","v":48.999999999999993},0.1,{"$f":"(O278-L278)/K278","v":52.999999999999993},-0.05,{"$f":"(Q278-L278)/K278","v":50},null,null,null,null,null,null,null,null,null,null,null,null,null,null,null,null,null,null,127,null,null,null,44,-16,114.5,9.5999999999999837]
["ضریب کوچک شدن کش","(از 0.5  الی 1)",{"$f":"K279*E279+L279","v":0.64999999999999969},"بهینه=   0.9 ",{"$f":"'طراحی همه الگوها'!B354","v":8},"ضریب کوچک شدن کش",2,0.95,1,1,{"$f":"(J279-H279)/(I279-G279)","v":-5.0000000000000044E-2},{"$f":"H279-G279*K279","v":1.05},0.5,{"$f":"(M279-L279)/K279","v":10.999999999999991},1,{"$f":"(O279-L279)/K279","v":1},0.9,{"$f":"(Q279-L279)/K279","v":2.9999999999999978},null,null,null,null,null,null,null,null,null,null,null,null,null,null,null,null,null,null,128,null,null,null,44.5,-15.5,115,9.6999999999999833]
[null,null,null,null,null,null,null,null,null,null,null,null,null,null,null,null,null,null,null,null,null,null,null,null,null,null,null,null,null,null,null,null,null,null,null,null,129,null,null,null,45,-15,115.5,9.7999999999999829]
[" متغیرهای ورودی-طراحی یقه مربعی یا برش سرشانه در پیراهن",null,null,null,null," متغیرهای ورودی-طراحی یقه مربعی یا برش سرشانه در پیراهن","x1","y1","x2","y2(بهینه)","a","b",null,"کمترین",null,"بیشترین",null,null,null,null,null,null,null,null,null,null,null,null,null,null,null,null,null,null,null,null,130,null,null,null,45.5,-14.5,116,9.8999999999999826]
["انتخاب یقه مربعی=1         انتخاب برش سرشانه در پیراهن مردانه=2  \nانتخاب برش سرشانه در پیراهن برش از کارور=3","1 یا 2 یا 3",{"$f":"K282*E282+L282","v":1},null,{"$f":"'طراحی همه الگوها'!E249","v":1},"انتخاب یقه مربعی=1         انتخاب برش سرشانه در پیراهن مردانه=2  \nانتخاب برش سرشانه در پیراهن برش از کارور=3",2,2,1,1,{"$f":"(J282-H282)/(I282-G282)","v":1},{"$f":"H282-G282*K282","v":0},1,{"$f":"(M282-L282)/K282","v":1},3,{"$f":"(O282-L282)/K282","v":3},1,{"$f":"(Q282-L282)/K282","v":1},null,null,null,null,null,null,null,null,null,null,null,null,null,null,null,null,null,null,131,null,null,null,46,-14,116.5,9.9999999999999822]
["  انتخاب آستین با هر نوع ساسون=2    \n  انتخاب آستین بدون ساسون=3           ","2 یا 3",{"$f":"K283*E283+L283","v":3},null,{"$f":"'طراحی همه الگوها'!E250","v":2},"  انتخاب آستین با هر نوع ساسون=1    \n  انتخاب آستین بدون ساسون=2           ",1,2,2,3,{"$f":"(J283-H283)/(I283-G283)","v":1},{"$f":"H283-G283*K283","v":1},2,{"$f":"(M283-L283)/K283","v":1},3,{"$f":"(O283-L283)/K283","v":2},2,{"$f":"(Q283-L283)/K283","v":1},null,null,null,null,null,null,null,null,null,null,null,null,null,null,null,null,null,null,132,null,null,null,46.5,-13.5,117,10.099999999999982]
["پهنا یقه روی خط سرشانه  (فقط موثر در انتخاب یقه مربعی) ","(از 0.2 الی 1.2)",{"$f":"K284*E284+L284","v":1.2500000000000002},"بهینه=1",{"$f":"'طراحی همه الگوها'!E257","v":25},"پهنا یقه روی خط سرشانه  (فقط موثر در انتخاب یقه مربعی) ",19,0.95,20,1,{"$f":"(J284-H284)/(I284-G284)","v":5.0000000000000044E-2},{"$f":"H284-G284*K284","v":-8.8817841970012523E-16},0.2,{"$f":"(M284-L284)/K284","v":4.0000000000000142},1.2,{"$f":"(O284-L284)/K284","v":23.999999999999996},1,{"$f":"(Q284-L284)/K284","v":20},null,null,null,null,null,null,null,null,null,null,null,null,null,null,null,null,null,null,133,null,null,null,47,-13,117.5,10.199999999999982]
["ضریب پایین آمدن خط کارور پشت","(از0.01 الی 0.6)",{"$f":"K285*E285+L285","v":0.32000000000000006},"بهینه مربعی=0.4 \nبهینه مردانه=0.22 \nبهینه برش از کارور=0.25",{"$f":"'طراحی همه الگوها'!E251","v":30},"ضریب پایین آمدن خط کارور پشت",19,0.21,20,0.22,{"$f":"(J285-H285)/(I285-G285)","v":1.0000000000000009E-2},{"$f":"H285-G285*K285","v":1.9999999999999823E-2},0.01,{"$f":"(M285-L285)/K285","v":-0.99999999999998146},0.6,{"$f":"(O285-L285)/K285","v":57.999999999999964},0.4,{"$f":"(Q285-L285)/K285","v":37.999999999999986},null,null,null,null,null,null,null,null,null,null,null,null,null,null,null,null,null,null,134,null,null,null,47.5,-12.5,118,10.299999999999981]
[{"$f":"IF(محاسبات!AD460<محاسبات!U466+1,\"ضریب خط کارور پشت کم شود\",\" \")","v":" "},{"$f":"IF(محاسبات!AD460<محاسبات!U466+1,\" خطا - خط کارور پشت بالا برود \",\"عدم خطا\")","v":"عدم خطا"},"حلقه آستین با ساسون سرشانه یا بدون ساسون : ",null,null,{"$f":"IF(محاسبات!AI460<محاسبات!Z466+1,\"ضریب خط کارور پشت کم شود\",\" \")","v":" "},null,null,null,null,null,null,null,null,null,null,null,null,null,null,null,null,null,null,null,null,null,null,null,null,null,null,null,null,null,null,135,null,null,null,48,-12,118.5,10.399999999999981]
[{"$f":"IF(محاسبات!BW469<محاسبات!BW463,\"ضریب خط کارور پشت کم شود\",\" \")","v":" "},{"$f":"IF(محاسبات!BW469<محاسبات!BW463,\"  خطا - خط کارور پشت بالا برود \",\"عدم خطا\")","v":"عدم خطا"},"حلقه آستین با ساسون عصایی : ",null,null,null,null,null,null,null,null,null,null,null,null,null,null,null,null,null,null,null,null,null,null,null,null,null,null,null,null,null,null,null,null,null,136,null,null,null,48.5,-11.5,119,10.49999999999998]
[null,null,null,null,null,null,null,null,null,null,null,null,null,null,null,null,null,null,null,null,null,null,null,null,null,null,null,null,null,null,null,null,null,null,null,null,137,null,null,null,49,-11,119.5,10.59999999999998]
["ضریب پایین آمدن خط کارور جلو","(از 0.1 الی 0.45)",{"$f":"K289*E289+L289","v":0.3},"بهینه مربعی=0.3 \nبهینه برش از کارور=0.3",{"$f":"'طراحی همه الگوها'!E254","v":20},"ضریب پایین آمدن خط کارور جلو",19,0.28999999999999998,20,0.3,{"$f":"(J289-H289)/(I289-G289)","v":1.0000000000000009E-2},{"$f":"H289-G289*K289","v":9.9999999999999811E-2},0.1,{"$f":"(M289-L289)/K289","v":1.9428902930940224E-14},0.45,{"$f":"(O289-L289)/K289","v":34.999999999999986},0.3,{"$f":"(Q289-L289)/K289","v":20},null,null,null,null,null,null,null,null,null,null,null,null,null,null,null,null,null,null,138,null,null,null,49.5,-10.5,120,10.69999999999998]
[{"$f":"IF(محاسبات!Q460<محاسبات!H466+1,\"ضریب خط کارور جلو کم شود\",\" \")","v":" "},{"$f":"IF(محاسبات!Q460<محاسبات!H466+1,\" خطا - خط کارور جلو بالا برود \",\"عدم خطا\")","v":"عدم خطا"},"حلقه آستین با ساسون سرشانه یا بدون ساسون : ",null,null,{"$f":"IF(محاسبات!V460<محاسبات!M466+1,\"ضریب خط کارور جلو کم شود\",\" \")","v":" "},null,null,null,null,null,null,null,null,null,null,null,null,null,null,null,null,null,null,null,null,null,null,null,null,null,null,null,null,null,null,139,null,null,null,50,-10,120.5,10.799999999999979]
[{"$f":"IF(محاسبات!BR470<محاسبات!BR463,\"ضریب خط کارور جلو کم شود\",\" \")","v":" "},{"$f":"IF(محاسبات!BR470<محاسبات!BR463,\" خطا - خط کارور جلو بالا برود \",\"عدم خطا\")","v":"عدم خطا"},"حلقه آستین با ساسون عصایی : ",null,null,{"$f":"IF(محاسبات!BW470<محاسبات!BW463,\"ضریب خط کارور جلو کم شود\",\" \")","v":" "},null,null,null,null,null,null,null,null,null,null,null,null,null,null,null,null,null,null,null,null,null,null,null,null,null,null,null,null,null,null,140,null,null,null,"منطبق",-9.5,121,10.899999999999979]
[null,null,null,null,null,null,null,null,null,null,null,null,null,null,null,null,null,null,null,null,null,null,null,null,null,null,null,null,null,null,null,null,null,null,null,null,141,null,null,null,null,-9,121.5,10.999999999999979]
["نصف جلو کارور  (فقط موثر در انتخاب یقه مربعی) ","(از 0.2 الی 0.55)",{"$f":"K293*E293+L293","v":0.54999999999999993},"بهینه=0.45",{"$f":"'طراحی همه الگوها'!E258","v":22},"نصف جلو کارور  (فقط موثر در انتخاب یقه مربعی) ",19,0.4,20,0.45,{"$f":"(J293-H293)/(I293-G293)","v":4.9999999999999989E-2},{"$f":"H293-G293*K293","v":-0.54999999999999971},0.2,{"$f":"(M293-L293)/K293","v":14.999999999999998},0.55000000000000004,{"$f":"(O293-L293)/K293","v":21.999999999999996},0.45,{"$f":"(Q293-L293)/K293","v":20},null,null,null,null,null,null,null,null,null,null,null,null,null,null,null,null,null,null,142,null,null,null,null,-8.5,122,11.099999999999978]
["نصف پشت کارور  (فقط موثر در انتخاب یقه مربعی) ","(از 0.2 الی 0.6)",{"$f":"K294*E294+L294","v":0.5},"بهینه=0.5",{"$f":"'طراحی همه الگوها'!E259","v":20},"نصف پشت کارور  (فقط موثر در انتخاب یقه مربعی) ",19,0.45,20,0.5,{"$f":"(J294-H294)/(I294-G294)","v":4.9999999999999989E-2},{"$f":"H294-G294*K294","v":-0.49999999999999972},0.2,{"$f":"(M294-L294)/K294","v":13.999999999999998},0.6,{"$f":"(O294-L294)/K294","v":21.999999999999996},0.5,{"$f":"(Q294-L294)/K294","v":20},null,null,null,null,null,null,null,null,null,null,null,null,null,null,null,null,null,null,143,null,null,null,null,-8,122.5,11.199999999999978]
[null,null,null,null,null,null,null,null,null,null,null,null,null,null,null,null,null,null,null,null,null,null,null,null,null,null,null,null,null,null,null,null,null,null,null,null,144,null,null,null,null,-7.5,123,11.299999999999978]
["بررسی خطا گردی یقه تا خط کارور جلو",null,null,null,null,"بررسی خطا گردی یقه تا خط کارور جلو",null,null,null,null,null,null,null,null,null,null,null,null,null,null,null,null,null,null,null,null,null,null,null,null,null,null,null,null,null,null,145,null,null,null,null,-7,123.5,11.399999999999977]
[{"$f":"IF((محاسبات!H474-محاسبات!H475)/محاسبات!H474>0.1,\"دور یقه گشاد شود یا ضریب خط کارور جلو زیاد شود\",\"  \")","v":"دور یقه گشاد شود یا ضریب خط کارور جلو زیاد شود"},{"$f":"IF((محاسبات!H474-محاسبات!H475)/محاسبات!H474>0.1,\"خطا\",\"صحیح \")","v":"خطا"}," پارچه کش   ",null,{"$f":"IF((محاسبات!H474-محاسبات!H475)/محاسبات!H474>0.1,\"خیر- گردی یقه زیاد شود یا کارور جلو پایین بیاید\",\" بله \")","v":"خیر- گردی یقه زیاد شود یا کارور جلو پایین بیاید"},null,null,null,null,null,null,null,null,null,null,null,null,null,null,null,null,null,null,null,null,null,null,null,null,null,null,null,null,null,null,null,146,null,null,null,null,-6.5,124,{"$f":"AR296+0.1","v":11.499999999999977}]
[{"$f":"IF((محاسبات!H474-محاسبات!H475)/محاسبات!H474>0.05,\"دور یقه گشاد شود یا ضریب خط کارور جلو زیاد شود\",\"  \")","v":"دور یقه گشاد شود یا ضریب خط کارور جلو زیاد شود"},{"$f":"IF((محاسبات!H474-محاسبات!H475)/محاسبات!H474>0.05,\"خطا\",\"صحیح \")","v":"خطا"}," پارچه غیر کش ",null,{"$f":"IF((محاسبات!H474-محاسبات!H475)/محاسبات!H474>0.05,\"خیر- گردی یقه زیاد شود یا کارور جلو پایین بیاید\",\" بله \")","v":"خیر- گردی یقه زیاد شود یا کارور جلو پایین بیاید"},null,null,null,null,null,null,null,null,null,null,null,null,null,null,null,null,null,null,null,null,null,null,null,null,null,null,null,null,null,null,null,147,null,null,null,null,-6,124.5,11.599999999999977]
[null,null,null,null,null,null,null,null,null,null,null,null,null,null,null,null,null,null,null,null,null,null,null,null,null,null,null,null,null,null,null,null,null,null,null,null,148,null,null,null,null,-5.5,125,11.699999999999976]
[" متغیرهای ورودی شیفت افقی برش سرشانه و یقه مربعی و ملوانی",null,null,null,null," متغیرهای ورودی شیفت افقی برش سرشانه و یقه مربعی و ملوانی","x1","y1","x2","y2(بهینه)","a","b",null,"کمترین",null,"بیشترین",null,null,null,null,null,null,null,null,null,null,null,null,null,null,null,null,null,null,null,null,149,null,null,null,null,-5,125.5,11.799999999999976]
["شیفت افقی   (به سانتیمتر)   ","(از -100 الی100)",{"$f":"K301*E301+L301","v":0},"بهینه=دلخواه",{"$f":"'طراحی همه الگوها'!E260","v":0},"شیفت افقی   (به سانتیمتر)   ",1,1,0,0,{"$f":"(J301-H301)/(I301-G301)","v":1},{"$f":"H301-G301*K301","v":0},-100,{"$f":"(M301-L301)/K301","v":-100},100,{"$f":"(O301-L301)/K301","v":100},null,null,null,null,null,null,null,null,null,null,null,null,null,null,null,null,null,null,null,null,150,null,null,null,null,-4.5,126,11.899999999999975]
["شیفت عمودی  (به سانتیمتر)  ","(از -100 الی100)",{"$f":"K302*E302+L302","v":0},"بهینه=دلخواه",{"$f":"'طراحی همه الگوها'!E261","v":0},"شیفت عمودی  (به سانتیمتر)  ",1,1,0,0,{"$f":"(J302-H302)/(I302-G302)","v":1},{"$f":"H302-G302*K302","v":0},-100,{"$f":"(M302-L302)/K302","v":-100},100,{"$f":"(O302-L302)/K302","v":100},null,null,null,null,null,null,null,null,null,null,null,null,null,null,null,null,null,null,null,null,151,null,null,null,null,-4,126.5,11.999999999999975]
[null,null,null,null,null,null,null,null,null,null,null,null,null,null,null,null,null,null,null,null,null,null,null,null,null,null,null,null,null,null,null,null,null,null,null,null,152,null,null,null,null,-3.5,127,12.099999999999975]
[" متغیرهای ورودی - دراپه از پهلو",null,null,null,null," متغیرهای ورودی - دراپه از پهلو","x1","y1","x2","y2(بهینه)","a","b",null,"کمترین",null,"بیشترین",null,null,null,null,null,null,null,null,null,null,null,null,null,null,null,null,null,null,null,null,153,null,null,null,null,-3,127.5,12.199999999999974]
["حد بالا برش دراپه   dp1","(از 3 الی 4)",{"$f":"K305*E305+L305","v":3.6000000000000005},"زیر بغل=4 \nخط کمر=3 ",{"$f":"'طراحی همه الگوها'!B358","v":82},"حد بالا برش دراپه   ",10,0,30,1,{"$f":"(J305-H305)/(I305-G305)","v":0.05},{"$f":"H305-G305*K305","v":-0.5},3,{"$f":"(M305-L305)/K305","v":70},4,{"$f":"(O305-L305)/K305","v":90},-0.05,{"$f":"(Q305-L305)/K305","v":9},null,null,null,null,null,null,null,null,null,null,null,null,null,null,null,null,null,null,154,null,null,null,null,-2.5,128,12.299999999999974]
["پهنای هر دراپه به سانتیمتر   dp3","(از 2 الی 8)",{"$f":"K306*E306+L306","v":5},"بدون دراپه=0",5,"پهنای هر دراپه  (سانتیمتر)   ",2,2,1,1,{"$f":"(J306-H306)/(I306-G306)","v":1},{"$f":"H306-G306*K306","v":0},2,{"$f":"(M306-L306)/K306","v":2},8,{"$f":"(O306-L306)/K306","v":8},0.9,{"$f":"(Q306-L306)/K306","v":0.9},null,null,null,null,null,null,null,null,null,null,null,null,null,null,null,null,null,null,155,null,null,null,null,-2,128.5,12.399999999999974]
["تعداد دراپه ها      -      خط بالای برش دراپه با هر طراحی می تواند باشد.",{"$f":"محاسبات!GX236","v":4},null,null,null,"تعداد دراپه ها     ",null,null,null,null,null,null,null,null,null,null,null,null,null,null,null,null,null,null,null,null,null,null,null,null,null,null,null,null,null,null,156,null,null,null,null,-1.5,129,12.499999999999973]
[" متغیرهای ورودی- یقه دراپه ",null,null,null,null," متغیرهای ورودی- یقه دراپه ","x1","y1","x2","y2(بهینه)","a","b",null,"کمترین",null,"بیشترین",null,null,null,null,null,null,null,null,null,null,null,null,null,null,null,null,null,null,null,null,157,null,null,null,null,-1,{"$f":"AQ307+0.5","v":129.5},12.599999999999973]
["نقطه شروع دراپه جلو    d1","(از 2 الی 4)",{"$f":"K309*E309+L309","v":3.5},"خط باسن=2 \nخط کمر=3 \nخط سینه=4  ",{"$f":"'طراحی همه الگوها'!E270","v":80},"نقطه شروع دراپه جلو    ",10,0,30,1,{"$f":"(J309-H309)/(I309-G309)","v":0.05},{"$f":"H309-G309*K309","v":-0.5},2,{"$f":"(M309-L309)/K309","v":50},4,{"$f":"(O309-L309)/K309","v":90},3,{"$f":"(Q309-L309)/K309","v":70},null,null,null,null,null,null,null,null,null,null,null,null,null,null,null,null,null,null,158,null,null,null,null,-0.5,130,12.699999999999973]
["میزان باز بودن یقه جلو به سمت  خط سینه    d2","(از 0 الی 50)",20,"یقه کیپ=0",{"$f":"'طراحی همه الگوها'!E271","v":20},"میزان باز بودن یقه جلو به سمت  خط سینه    ",1,1,0,0,1,0,0,0,5,5,0,{"$f":"(Q310-L310)/K310","v":0},null,null,null,null,null,null,null,null,null,null,null,null,null,null,null,null,null,null,159,null,null,null,null,0,130.5,12.799999999999972]
["شیفت عمودی یقه دراپه جلو","(از -100 الی100)",0,"بدون شیفت=0 ",{"$f":"'طراحی همه الگوها'!E272","v":0},"شیفت عمودی یقه دراپه جلو (سانتیمتر)",1,1,0,0,1,0,-100,-100,100,100,null,null,null,null,null,null,null,null,null,null,null,null,null,null,null,null,null,null,null,null,160,null,null,null,null,0.5,131,12.899999999999972]
["نقطه شروع دراپه پشت    d1","(از 2 الی 4)",3.5,"خط باسن=2 \nخط کمر=3 \nخط سینه=4  ",{"$f":"'طراحی همه الگوها'!E273","v":80},"نقطه شروع دراپه پشت    ",10,0,30,1,0.05,-0.5,2,50,4,90,3,{"$f":"(Q312-L312)/K312","v":70},null,null,null,null,null,null,null,null,null,null,null,null,null,null,null,null,null,null,161,null,null,null,null,1,131.5,12.999999999999972]
["میزان باز بودن یقه پشت به سمت  خط سینه    d2","(از 0 الی 50)",20,"یقه کیپ=0",{"$f":"'طراحی همه الگوها'!E274","v":20},"میزان باز بودن یقه پشت به سمت  خط سینه    ",1,1,0,0,1,0,0,0,50,50,0,{"$f":"(Q313-L313)/K313","v":0},null,null,null,null,null,null,null,null,null,null,null,null,null,null,null,null,null,null,162,null,null,null,null,1.5,132,13.099999999999971]
["شیفت عمودی یقه دراپه پشت","(از -100 الی100)",0,"بدون شیفت=0 ",{"$f":"'طراحی همه الگوها'!E275","v":0},"شیفت عمودی یقه دراپه پشت (سانتیمتر)",1,1,0,0,1,0,-100,-100,100,100,null,null,null,null,null,null,null,null,null,null,null,null,null,null,null,null,null,null,null,null,163,null,null,null,null,2,132.5,13.199999999999971]
["زاویه متوسط سرشانه",{"$f":"0.5*(محاسبات!P139+0.3*(محاسبات!P140-محاسبات!P139)+محاسبات!AE139+0.3*(محاسبات!AE140-محاسبات!AE139))","v":0.33685946794520588},null,null,null,"زاویه متوسط سرشانه",null,null,null,null,null,null,null,null,null,null,null,null,null,null,null,null,null,null,null,null,null,null,null,null,null,null,null,null,null,null,164,null,null,null,null,2.5,133,13.299999999999971]
[null,null,null,null,null,null,null,null,null,null,null,null,null,null,null,null,null,null,null,null,null,null,null,null,null,null,null,null,null,null,null,null,null,null,null,null,165,null,null,null,null,3,133.5,13.39999999999997]
[" متغیرهای ورودی-طراحی دامن فون",null,null,null,null," متغیرهای ورودی-طراحی دامن فون","x1","y1","x2","y2(بهینه)","a","b",null,"کمترین",null,"بیشترین",null,null,null,null,null,null,null,null,null,null,null,null,null,null,null,null,null,null,null,null,166,null,null,null,null,3.5,134,13.49999999999997]
["اتصال آزاد = 3   اتصال به دامن تنگ = 2    اتصال به بالاتنه با ساسون=1   اتصال به پیراهن راسته=0","0 یا 1 یا 2 یا 3",{"$f":"K318*E318+L318","v":1},null,{"$f":"'طراحی همه الگوها'!B292","v":2},"اتصال به دامن تنگ = 2    اتصال به بالاتنه با ساسون=1   اتصال به پیراهن راسته=0",1,0,2,1,{"$f":"(J318-H318)/(I318-G318)","v":1},{"$f":"H318-G318*K318","v":-1},null,1,null,2,null,null,null,null,null,null,null,null,null,null,null,null,null,null,null,null,null,null,null,null,167,null,null,null,null,4,134.5,13.599999999999969]
["دور تا دور کمر دراتصال آزاد   (سانتیمتر)  ","(از 0 الی 150)",100,"بهینه=دلخواه",{"$f":"'طراحی همه الگوها'!B293","v":100},"دور تا دور کمر دراتصال آزاد   (سانتیمتر)  ",1,1,0,0,1,0,-7,{"$f":"(M319-L319)/K319","v":-7},7,{"$f":"(O319-L319)/K319","v":7},0.25,{"$f":"(Q319-L319)/K319","v":0.25},null,null,null,null,null,null,null,null,null,null,null,null,null,null,null,null,null,null,168,null,null,null,null,4.5,{"$f":"AQ318+0.5","v":135},13.699999999999969]
["قد دامن دراتصال آزاد  (سانتیمتر)   ","(از 0 الی 150)",40,"بهینه=دلخواه",{"$f":"'طراحی همه الگوها'!B294","v":40},"قد دامن دراتصال آزاد  (سانتیمتر)   ",1,1,0,0,1,0,-7,{"$f":"(M320-L320)/K320","v":-7},7,{"$f":"(O320-L320)/K320","v":7},0.25,0.25,null,null,null,null,null,null,null,null,null,null,null,null,null,null,null,null,null,null,169,null,null,null,null,5,135.5,13.799999999999969]
["ضریب پایین دامن فون تا زمین \nدرانتخاب دامن فون متصل به پیراهن راسته    k'1","(از 0 الی 4)",0.5,"خط زمین=0 \nخط زانو=1 \nخط باسن=2 \nخط کمر=3 \nخط سینه=4  ",{"$f":"'طراحی همه الگوها'!B295","v":20},"مکان پایین دامن فون \nدرانتخاب دامن فون متصل به پیراهن راسته    ",10,0,30,1,0.05,-0.5,0,{"$f":"(M321-L321)/K321","v":10},4,100,0.25,15,null,null,null,null,null,null,null,null,null,null,null,null,null,null,null,null,null,null,170,null,null,null,null,5.5,136,13.899999999999968]
["ضریب چین در دامن فون","(از 0 الی 3)",1,null,{"$f":"'طراحی همه الگوها'!B296","v":2},"چین در دامن فون",2,1,1,0,1,-1,0,1,3,{"$f":"(O322-L322)/K322","v":4},0.9,1.9,null,null,null,null,null,null,null,null,null,null,null,null,null,null,null,null,null,null,171,null,null,null,null,6,136.5,13.999999999999968]
["  مقدار اوزمان در جلو دامن فون    β1","(از 0 الی 0.5",0.1,"بهینه=تامین دور باسن",{"$f":"'طراحی همه الگوها'!B297","v":10},"  اوزمان در جلو دامن فون    ",1,0.01,0,0,0.01,0,0,0,0.5,50,0.25,25,null,null,null,null,null,null,null,null,null,null,null,null,null,null,null,null,null,null,172,null,null,null,null,6.5,137,14.099999999999968]
["  مقدار اوزمان در پشت دامن فون   β4","(از 0 الی 0.5)",0.1,"بهینه=تامین دور باسن",{"$f":"'طراحی همه الگوها'!B298","v":10},"  اوزمان در پشت دامن فون   ",1,0.01,0,0,0.01,0,0,0,0.5,50,0.9,90,null,null,null,null,null,null,null,null,null,null,null,null,null,null,null,null,null,null,173,null,null,null,null,7,137.5,14.199999999999967]
["شیفت افقی جلو دامن فون (به سانتیمتر)","(از -100 الی100)",0,"بهینه=دلخواه",{"$f":"'طراحی همه الگوها'!B300","v":0},"شیفت افقی جلو دامن فون (به سانتیمتر)",1,1,0,0,1,0,-100,-100,100,100,null,null,null,null,null,null,null,null,null,null,null,null,null,null,null,null,null,null,null,null,174,null,null,null,null,7.5,138,14.299999999999967]
["شیفت عمودی جلو دامن فون (به سانتیمتر)","(از -100 الی100)",5,"بهینه=دلخواه",{"$f":"'طراحی همه الگوها'!B301","v":5},"شیفت عمودی جلو دامن فون (به سانتیمتر)",1,1,0,0,1,0,-100,-100,100,100,null,null,null,null,null,null,null,null,null,null,null,null,null,null,null,null,null,null,null,null,175,null,null,null,null,8,138.5,14.399999999999967]
["شیفت افقی پشت دامن فون (به سانتیمتر)","(از -100 الی100)",5,"بهینه=دلخواه",{"$f":"'طراحی همه الگوها'!B302","v":5},"شیفت افقی پشت دامن فون (به سانتیمتر)",1,1,0,0,1,0,-100,-100,100,100,null,null,null,null,null,null,null,null,null,null,null,null,null,null,null,null,null,null,null,null,176,null,null,null,null,8.5,139,14.499999999999966]
["شیفت عمودی پشت دامن فون (به سانتیمتر)","(از -100 الی100)",9,"بهینه=دلخواه",{"$f":"'طراحی همه الگوها'!B303","v":9},"شیفت عمودی پشت دامن فون (به سانتیمتر)",1,1,0,0,1,0,-100,-100,100,100,null,null,null,null,null,null,null,null,null,null,null,null,null,null,null,null,null,null,null,null,177,null,null,null,null,9,139.5,14.599999999999966]
[null,null,null,null,null,null,null,null,null,null,null,null,null,null,null,null,null,null,null,null,null,null,null,null,null,null,null,null,null,null,null,null,null,null,null,null,178,null,null,null,null,9.5,140,14.699999999999966]
[" متغیرهای ورودی - جلو کمر پهن",null,null,null,null,"  جلو کمر پهن","x1","y1","x2","y2(بهینه)","a","b",null,"کمترین",null,"بیشترین",null,null,null,null,null,null,null,null,null,null,null,null,null,null,null,null,null,null,null,null,179,null,null,null,null,10,140.5,14.799999999999965]
["انتخاب کمر برای جلیقه =1         انتخاب دیگر = 0","0 یا 1 ",{"$f":"K331*E331+L331","v":0},null,{"$f":"'طراحی همه الگوها'!B308","v":1},"انتخاب کمر برای جلیقه =2         انتخاب دیگر = 1",1,0,2,1,{"$f":"(J331-H331)/(I331-G331)","v":1},{"$f":"H331-G331*K331","v":-1},null,{"$f":"(M331-L331)/K331","v":1},null,{"$f":"(O331-L331)/K331","v":1},null,null,null,null,null,null,null,null,null,null,null,null,null,null,null,null,null,null,null,null,180,null,null,null,null,10.5,141,14.899999999999965]
["بالای کمر روی خط مرکزی جلو -  ضریب فاصله u4 از خط کمر","(از -7 الی 7)",{"$f":"IF(OR(C707=1,C708=1),(-C606+C607-C608)/0.01/U57,K332*E332+L332)","v":5},"بهینه=دلخواه",{"$f":"'طراحی همه الگوها'!B309","v":5},"بالای کمر پهن یکسره روی خط مرکزی جلو ",1,1,0,0,1,0,-7,-7,7,7,0.25,{"$f":"(Q332-L332)/K332","v":0.25},null,null,null,null,null,null,null,null,null,null,null,null,null,null,null,null,null,null,181,null,null,null,null,11,141.5,14.999999999999964]
["پایین کمر روی خط مرکزی جلو -  ضریب فاصله d4 از خط کمر  -  (کمر جناقی و حد پایین برش دراپه)","(از -10 الی 30)",{"$f":"IF(OR(C707=1,C708=1),(C606+C608)/0.01/U57,K333*E333+L333)","v":-2},"مثبت= پایین خط کمر\nمنفی= بالای خط کمر",{"$f":"'طراحی همه الگوها'!B310","v":2},"پایین کمر روی خط مرکزی جلو  (کمر جناقی و حد پایین برش دراپه)",1,-1,0,0,-1,0,-10,10,30,-30,0.9,-0.9,null,null,null,null,null,null,null,null,null,null,null,null,null,null,null,null,null,null,182,null,null,null,null,11.5,142,15.099999999999964]
["فاصله عمودی دال جلو -  ضریب فاصله u5 از خط کمر - (جلیقه)","(از -10 الی 30)",{"$f":"IF(OR(C707=1,C708=1),(-C606+C607-C608)/0.01/U57,K334*E334+L334)","v":8},"بهینه=دلخواه",{"$f":"IF(C331=1,-1,1)*'طراحی همه الگوها'!B311","v":8},"فاصله عمودی دال جلو   (جلیقه)",1,1,0,0,1,0,-10,-10,30,30,0.25,0.25,null,null,null,null,null,null,null,null,null,null,null,null,null,null,null,null,null,null,183,null,null,null,null,12,142.5,15.199999999999964]
["فاصله افقی دال جلو -  ضریب فاصله u5 از خط مرکزی جلو - (جلیقه)","(از 0 الی 10)",{"$f":"IF(OR(C707=1,C708=1),0,K335*E335+L335)","v":2.5},"بهینه=دلخواه",{"$f":"'طراحی همه الگوها'!B312","v":5},"فاصله افقی دال جلو  (جلیقه)",1,0.5,0,0,0.5,0,0,0,10,20,0.9,1.8,null,null,null,null,null,null,null,null,null,null,null,null,null,null,null,null,null,null,184,null,null,null,null,12.5,143,15.299999999999963]
["پایین کمر روی خط ترک جلو -  ضریب فاصله d5 از خط کمر -  (کمر جناقی و حد پایین برش دراپه)","(از -10 الی 30)",{"$f":"IF(OR(C707=1,C708=1),(C606+0.5*C608)/0.01/U57,K336*E336+L336)","v":0},"مثبت= پایین خط کمر\nمنفی= بالای خط کمر",{"$f":"'طراحی همه الگوها'!B314","v":0},"پایین کمر روی خط ترک جلو   (کمر جناقی و حد پایین برش دراپه)",1,-1,0,0,-1,0,-10,10,30,-30,0.25,-0.25,null,null,null,null,null,null,null,null,null,null,null,null,null,null,null,null,null,null,185,null,null,null,null,13,143.5,15.399999999999963]
["بالای کمر روی خط ترک جلو -  ضریب فاصله u6 از خط کمر","(از -7 الی 7)",{"$f":"IF(OR(C707=1,C708=1),(-C606+C607-0.5*C608)/0.01/U57,K337*E337+L337)","v":8},"بهینه=دلخواه",{"$f":"'طراحی همه الگوها'!B313","v":8},"بالای کمر پهن یکسره روی خط ترک جلو ",1,1,0,0,1,0,-7,-7,7,7,0.9,0.9,null,null,null,null,null,null,null,null,null,null,null,null,null,null,null,null,null,null,186,null,null,null,null,13.5,144,15.499999999999963]
["شیفت عمودی کمر پهن یکسره نسبت به زمین (به سانتیمتر)","(از -100 الی100)",{"$f":"K338*E338+L338","v":75},"بهینه=دلخواه",{"$f":"'طراحی همه الگوها'!B316","v":25},"شیفت عمودی کمر پهن یکسره  (به سانتیمتر)",1,51,0,50,1,50,-100,-150,100,50,null,null,null,null,null,null,null,null,null,null,null,null,null,null,null,null,null,null,null,null,187,null,null,null,null,14,144.5,15.599999999999962]
["شیفت افقی کمر پهن یکسره (به سانتیمتر)","(از -100 الی100)",{"$f":"K339*E339+L339","v":0},"بهینه=دلخواه",{"$f":"'طراحی همه الگوها'!B315","v":0},"شیفت افقی کمر پهن یکسره (به سانتیمتر)",1,1,0,0,1,0,-100,-100,100,100,null,null,null,null,null,null,null,null,null,null,null,null,null,null,null,null,null,null,null,null,188,null,null,null,null,14.5,145,15.699999999999962]
[null,null,null,null,null,null,null,null,null,null,null,null,null,null,null,null,null,null,null,null,null,null,null,null,null,null,null,null,null,null,null,null,null,null,null,null,189,null,null,null,null,15,145.5,15.799999999999962]
[" متغیرهای ورودی - پهلو کمر پهن",null,null,null,null,"  پهلو کمر پهن","x1","y1","x2","y2(بهینه)","a","b",null,"کمترین",null,"بیشترین",null,null,null,null,null,null,null,null,null,null,null,null,null,null,null,null,null,null,null,null,190,null,null,null,null,15.5,146,15.899999999999961]
["بالای کمر روی خط پهلو -  ضریب فاصله u3 از خط کمر","(از -7 الی 7)",{"$f":"IF(OR(C707=1,C708=1),(-C606+C607)/0.01/U57,K342*E342+L342)","v":8},"بهینه=دلخواه",{"$f":"'طراحی همه الگوها'!B319","v":8},"بالای کمر پهن یکسره روی خط پهلو ",1,1,0,0,{"$f":"(J342-H342)/(I342-G342)","v":1},{"$f":"H342-G342*K342","v":0},-7,{"$f":"(M342-L342)/K342","v":-7},7,{"$f":"(O342-L342)/K342","v":7},0.25,{"$f":"(Q342-L342)/K342","v":0.25},null,null,null,null,null,null,null,null,null,null,null,null,null,null,null,null,null,null,191,null,null,null,null,16,146.5,15.999999999999961]
["پایین کمر روی خط پهلو -  ضریب فاصله d3 از خط کمر -  (کمر جناقی و حد پایین برش دراپه)","(از -10 الی 30)",{"$f":"IF(OR(C707=1,C708=1),C606/0.01/U57,K343*E343+L343)","v":4},"مثبت= پایین خط کمر\nمنفی= بالای خط کمر",{"$f":"'طراحی همه الگوها'!B320","v":-4},"پایین کمر روی خط پهلو   (کمر جناقی و حد پایین برش دراپه)",1,-1,0,0,{"$f":"(J343-H343)/(I343-G343)","v":-1},{"$f":"H343-G343*K343","v":0},-10,{"$f":"(M343-L343)/K343","v":10},30,{"$f":"(O343-L343)/K343","v":-30},0.9,{"$f":"(Q343-L343)/K343","v":-0.9},null,null,null,null,null,null,null,null,null,null,null,null,null,null,null,null,null,null,192,null,null,null,null,16.5,147,16.099999999999962]
[null,null,null,null,null,null,null,null,null,null,null,null,null,null,null,null,null,null,null,null,null,null,null,null,null,null,null,null,null,null,null,null,null,null,null,null,193,null,null,null,null,17,147.5,16.199999999999964]
[" متغیرهای ورودی - پشت کمر پهن",null,null,null,null," پشت کمر پهن","x1","y1","x2","y2(بهینه)","a","b",null,"کمترین",null,"بیشترین",null,null,null,null,null,null,null,null,null,null,null,null,null,null,null,null,null,null,null,null,194,null,null,null,null,17.5,148,16.299999999999965]
["بالای کمر روی خط مرکزی پشت -  ضریب فاصله u1 از خط کمر","(از -7 الی 7)",{"$f":"IF(OR(C707=1,C708=1),(-C606+C607)/0.01/U57,K346*E346+L346)","v":8},"بهینه=دلخواه",{"$f":"'طراحی همه الگوها'!B323","v":8},"بالای کمر پهن یکسره روی خط مرکزی پشت ",1,1,0,0,{"$f":"(J346-H346)/(I346-G346)","v":1},{"$f":"H346-G346*K346","v":0},-7,{"$f":"(M346-L346)/K346","v":-7},7,{"$f":"(O346-L346)/K346","v":7},0.25,{"$f":"(Q346-L346)/K346","v":0.25},null,null,null,null,null,null,null,null,null,null,null,null,null,null,null,null,null,null,195,null,null,null,null,18,148.5,16.399999999999967]
["پایین کمر روی خط مرکزی پشت -  ضریب فاصله d1 از خط کمر -  (کمر جناقی)","(از -10 الی 30)",{"$f":"IF(OR(C707=1,C708=1),C606/0.01/U57,K347*E347+L347)","v":4},"مثبت= پایین خط کمر\nمنفی= بالای خط کمر",{"$f":"'طراحی همه الگوها'!B324","v":-4},"پایین کمر روی خط مرکزی پشت   (کمر جناقی)",1,-1,0,0,-1,0,-10,10,30,-30,0.9,{"$f":"(Q347-L347)/K347","v":-0.9},null,null,null,null,null,null,null,null,null,null,null,null,null,null,null,null,null,null,196,null,null,null,null,18.5,149,16.499999999999968]
["بالای کمر روی خط ترک پشت -  ضریب فاصله u2 از خط کمر","(از -7 الی 7)",{"$f":"IF(OR(C707=1,C708=1),(-C606+C607)/0.01/U57,K348*E348+L348)","v":8},"بهینه=دلخواه",{"$f":"'طراحی همه الگوها'!B325","v":8},"بالای کمر پهن یکسره روی خط ترک پشت ",1,1,0,0,1,0,-7,-7,7,7,0.25,{"$f":"(Q348-L348)/K348","v":0.25},null,null,null,null,null,null,null,null,null,null,null,null,null,null,null,null,null,null,197,null,null,null,null,19,149.5,16.599999999999969]
["پایین کمر روی خط ترک پشت -  ضریب فاصله d2 از خط کمر -  (کمر جناقی)","(از -10 الی 30)",{"$f":"IF(OR(C707=1,C708=1),C606/0.01/U57,K349*E349+L349)","v":4},"مثبت= پایین خط کمر\nمنفی= بالای خط کمر",{"$f":"'طراحی همه الگوها'!B326","v":-4},"پایین کمر روی خط ترک پشت   (کمر جناقی)",1,-1,0,0,-1,0,-10,10,30,-30,0.9,{"$f":"(Q349-L349)/K349","v":-0.9},null,null,null,null,null,null,null,null,null,null,null,null,null,null,null,null,null,null,198,null,null,null,null,19.5,150,16.699999999999971]
["شیفت عمودی کمر پهن یکسره نسبت به زمین (به سانتیمتر)","(از -100 الی100)",{"$f":"K350*E350+L350","v":75},"بهینه=دلخواه",{"$f":"'طراحی همه الگوها'!B328","v":25},"شیفت عمودی کمر پهن یکسره  (سانتیمتر)",1,51,0,50,1,50,-100,-150,100,50,null,null,null,null,null,null,null,null,null,null,null,null,null,null,null,null,null,null,null,null,199,null,null,null,null,20,{"$f":"AQ349+0.5","v":150.5},16.799999999999972]
["شیفت افقی کمر پهن یکسره (به سانتیمتر)","(از -100 الی100)",{"$f":"K351*E351+L351","v":0},"بهینه=دلخواه",{"$f":"'طراحی همه الگوها'!B327","v":0},"شیفت افقی کمر پهن یکسره (سانتیمتر)",1,1,0,0,1,0,-100,-100,100,100,null,null,null,null,null,null,null,null,null,null,null,null,null,null,null,null,null,null,null,null,200,null,null,null,null,20.5,151,16.899999999999974]
[null,null,null,null,null,null,null,null,null,null,null,null,null,null,null,null,null,null,null,null,null,null,null,null,null,null,null,null,null,null,null,null,null,null,null,null,null,null,null,null,null,21,151.5,16.999999999999975]
["متغیرهای ورودی-یقه دکلته جلو",null,null,null,null,"متغیرهای ورودی-یقه دکلته جلو","x1","y1","x2","y2(بهینه)","a","b",null,"کمترین",null,"بیشترین",null,null,null,null,null,null,null,null,null,null,null,null,null,null,null,null,null,null,null,null,null,null,null,null,null,21.5,152,17.099999999999977]
["میزان باز بودن یقه در خط مرکزی جلو  d1","(از 3.5 الی 5)",{"$f":"K354*E354+L354","v":4.25},"خط کمر=3 \nخط سینه=4  ",{"$f":"'طراحی همه الگوها'!E278","v":95},"میزان باز بودن یقه در خط مرکزی جلو  ",10,0,30,1,{"$f":"(J354-H354)/(I354-G354)","v":0.05},{"$f":"H354-G354*K354","v":-0.5},3.5,{"$f":"(M354-L354)/K354","v":80},5,{"$f":"(O354-L354)/K354","v":110},3,{"$f":"(Q354-L354)/K354","v":70},null,null,null,null,null,null,null,null,null,null,null,null,null,null,null,null,null,null,null,null,null,null,null,22,152.5,17.199999999999978]
["میزان اضافه شدن ساسون سرشانه  ","(از 0 الی 0.5)",{"$f":"K355*E355+L355","v":0},"بدون اضافه شدن=0 \nبهینه=0.2  ",{"$f":"'طراحی همه الگوها'!E279","v":10},"میزان اضافه شدن ساسون سرشانه  ",19,0.18,20,0.2,{"$f":"(J355-H355)/(I355-G355)","v":2.0000000000000018E-2},{"$f":"H355-G355*K355","v":-0.20000000000000034},0,{"$f":"(M355-L355)/K355","v":10.000000000000009},0.5,{"$f":"(O355-L355)/K355","v":34.999999999999986},0.2,{"$f":"(Q355-L355)/K355","v":20},null,null,null,null,null,null,null,null,null,null,null,null,null,null,null,null,null,null,null,null,null,null,null,22.5,153,17.299999999999979]
["میزان انحنا یقه  d2","(از -0.5 الی 0.5)",{"$f":"K356*E356+L356","v":0.10000000000000009},"خط محدب =+ \nخط صاف =0 \nخط مقعر= - ",{"$f":"'طراحی همه الگوها'!E280","v":21},"میزان انحنا یقه  ",19,-0.1,20,0,{"$f":"(J356-H356)/(I356-G356)","v":0.1},{"$f":"H356-G356*K356","v":-2},-0.5,{"$f":"(M356-L356)/K356","v":15},0.5,{"$f":"(O356-L356)/K356","v":25},0,{"$f":"(Q356-L356)/K356","v":20},null,null,null,null,null,null,null,null,null,null,null,null,null,null,null,null,null,null,null,null,null,null,null,23,153.5,17.399999999999981]
[null,null,null,null,null,null,null,null,null,null,null,null,null,null,null,null,null,null,null,null,null,null,null,null,null,null,null,null,null,null,null,null,null,null,null,null,null,null,null,null,null,23.5,154,17.499999999999982]
[" متغیرهای ورودی-یقه دکلته پشت",null,null,null,null," متغیرهای ورودی-یقه دکلته پشت","x1","y1","x2","y2(بهینه)","a","b",null,"کمترین",null,"بیشترین",null,null,null,null,null,null,null,null,null,null,null,null,null,null,null,null,null,null,null,null,null,null,null,null,null,24,154.5,17.599999999999984]
["میزان باز بودن یقه در خط مرکزی پشت  d1","(از 3 الی 5.5)",{"$f":"K359*E359+L359","v":3.25},"خط کمر=3 \nخط سینه=4  ",{"$f":"'طراحی همه الگوها'!E283","v":75},"میزان باز بودن یقه در خط مرکزی پشت  ",10,0,30,1,{"$f":"(J359-H359)/(I359-G359)","v":0.05},{"$f":"H359-G359*K359","v":-0.5},3,{"$f":"(M359-L359)/K359","v":70},5.5,{"$f":"(O359-L359)/K359","v":120},3.5,{"$f":"(Q359-L359)/K359","v":80},null,null,null,null,null,null,null,null,null,null,null,null,null,null,null,null,null,null,null,null,null,null,null,24.5,155,17.699999999999985]
["میزان انحنا یقه  d2","(از -1 الی 0.5)",{"$f":"K360*E360+L360","v":-0.39999999999999991},"خط صاف =0 \nخط مقعر= -  ",{"$f":"'طراحی همه الگوها'!E284","v":16},"میزان انحنا یقه  ",19,-0.1,20,0,{"$f":"(J360-H360)/(I360-G360)","v":0.1},{"$f":"H360-G360*K360","v":-2},-1,{"$f":"(M360-L360)/K360","v":10},0.5,{"$f":"(O360-L360)/K360","v":25},0,{"$f":"(Q360-L360)/K360","v":20},null,null,null,null,null,null,null,null,null,null,null,null,null,null,null,null,null,null,null,null,null,null,null,25,155.5,17.799999999999986]
[null,null,null,null,null,null,null,null,null,null,null,null,null,null,null,null,null,null,null,null,null,null,null,null,null,null,null,null,null,null,null,null,null,null,null,null,null,null,null,null,null,25.5,156,{"$f":"AR360+0.1","v":17.899999999999988}]
[" طول بند برای لباس دکلته از جلو تا پشت به سانتیمتر",null,null,null,null," طول بند برای لباس دکلته از جلو تا پشت به سانتیمتر",null,null,null,null,null,null,null,null,null,null,null,null,null,null,null,null,null,null,null,null,null,null,null,null,null,null,null,null,null,null,null,null,null,null,null,26,156.5,17.999999999999989]
["دکلته آبی جلو     به     دکلته آبی پشت",{"$f":"ROUND(محاسبات!FB356-محاسبات!FB324+محاسبات!LU213-محاسبات!LU214,0)","v":8},null,null,null,"دکلته آبی جلو     به     دکلته آبی پشت",null,null,null,null,null,null,null,null,null,null,null,null,null,null,null,null,null,null,null,null,null,null,null,null,null,null,null,null,null,null,null,null,null,null,null,26.5,157,18.099999999999991]
["دکلته آبی جلو     به     دکلته سبز پشت",{"$f":"ROUND(محاسبات!FB356-محاسبات!FB324+محاسبات!LU213-محاسبات!LU215,0)","v":12},null,null,null,"دکلته آبی جلو     به     دکلته سبز پشت",null,null,null,null,null,null,null,null,null,null,null,null,null,null,null,null,null,null,null,null,null,null,null,null,null,null,null,null,null,null,null,null,null,null,null,27,157.5,18.199999999999992]
["دکلته آبی جلو     به     دکلته بنفش پشت",{"$f":"ROUND(محاسبات!FB356-محاسبات!FB324+محاسبات!LU213-محاسبات!LU216,0)","v":16},null,null,null,"دکلته آبی جلو     به     دکلته بنفش پشت",null,null,null,null,null,null,null,null,null,null,null,null,null,null,null,null,null,null,null,null,null,null,null,null,null,null,null,null,null,null,null,null,null,null,null,27.5,158,18.299999999999994]
["دکلته آبی جلو     به     دکلته سیاه پشت",{"$f":"ROUND(محاسبات!FB356-محاسبات!FB324+محاسبات!LU213-محاسبات!LU247,0)","v":22},null,null,null,"دکلته آبی جلو     به     دکلته سیاه پشت",null,null,null,null,null,null,null,null,null,null,null,null,null,null,null,null,null,null,null,null,null,null,null,null,null,null,null,null,null,null,null,null,null,null,null,28,158.5,18.399999999999995]
["دکلته سبز جلو     به     دکلته آبی پشت",{"$f":"ROUND(محاسبات!FB356-محاسبات!FB340+محاسبات!LU213-محاسبات!LU214,0)","v":12},null,null,null,"دکلته سبز جلو     به     دکلته آبی پشت",null,null,null,null,null,null,null,null,null,null,null,null,null,null,null,null,null,null,null,null,null,null,null,null,null,null,null,null,null,null,null,null,null,null,null,28.5,159,18.499999999999996]
["دکلته سبز جلو     به     دکلته سبز پشت",{"$f":"ROUND(محاسبات!FB356-محاسبات!FB340+محاسبات!LU213-محاسبات!LU215,0)","v":16},null,null,null,"دکلته سبز جلو     به     دکلته سبز پشت",null,null,null,null,null,null,null,null,null,null,null,null,null,null,null,null,null,null,null,null,null,null,null,null,null,null,null,null,null,null,null,null,null,null,null,29,159.5,18.599999999999998]
["دکلته سبز جلو     به     دکلته بنفش پشت",{"$f":"ROUND(محاسبات!FB356-محاسبات!FB340+محاسبات!LU213-محاسبات!LU216,0)","v":20},null,null,null,"دکلته سبز جلو     به     دکلته بنفش پشت",null,null,null,null,null,null,null,null,null,null,null,null,null,null,null,null,null,null,null,null,null,null,null,null,null,null,null,null,null,null,null,null,null,null,null,29.5,160,18.7]
["دکلته سبز جلو     به     دکلته سیاه پشت",{"$f":"ROUND(محاسبات!FB356-محاسبات!FB340+محاسبات!LU213-محاسبات!LU247,0)","v":26},null,null,null,"دکلته سبز جلو     به     دکلته سیاه پشت",null,null,null,null,null,null,null,null,null,null,null,null,null,null,null,null,null,null,null,null,null,null,null,null,null,null,null,null,null,null,null,null,null,null,null,30,160.5,18.8]
["دکلته بنفش جلو     به     دکلته آبی پشت",{"$f":"ROUND(محاسبات!FB356-محاسبات!FB308+محاسبات!LU213-محاسبات!LU214,0)","v":15},null,null,null,"دکلته سیاه جلو     به     دکلته آبی پشت",null,null,null,null,null,null,null,null,null,null,null,null,null,null,null,null,null,null,null,null,null,null,null,null,null,null,null,null,null,null,null,null,null,null,null,30.5,161,18.900000000000002]
["دکلته بنفش جلو     به     دکلته سبز پشت",{"$f":"ROUND(محاسبات!FB356-محاسبات!FB308+محاسبات!LU213-محاسبات!LU215,0)","v":19},null,null,null,"دکلته سیاه جلو     به     دکلته سبز پشت",null,null,null,null,null,null,null,null,null,null,null,null,null,null,null,null,null,null,null,null,null,null,null,null,null,null,null,null,null,null,null,null,null,null,null,31,161.5,19.000000000000004]
["دکلته بنفش جلو     به     دکلته بنفش پشت",{"$f":"ROUND(محاسبات!FB356-محاسبات!FB308+محاسبات!LU213-محاسبات!LU216,0)","v":23},null,null,null,"دکلته سیاه جلو     به     دکلته بنفش پشت",null,null,null,null,null,null,null,null,null,null,null,null,null,null,null,null,null,null,null,null,null,null,null,null,null,null,null,null,null,null,null,null,null,null,null,31.5,162,19.100000000000005]
["دکلته بنفش جلو     به     دکلته سیاه پشت",{"$f":"ROUND(محاسبات!FB356-محاسبات!FB308+محاسبات!LU213-محاسبات!LU247,0)","v":29},null,null,null,"دکلته سیاه جلو     به     دکلته سیاه پشت",null,null,null,null,null,null,null,null,null,null,null,null,null,null,null,null,null,null,null,null,null,null,null,null,null,null,null,null,null,null,null,null,null,null,null,32,162.5,19.200000000000006]
[null,null,null,null,null,null,null,null,null,null,null,null,null,null,null,null,null,null,null,null,null,null,null,null,null,null,null,null,null,null,null,null,null,null,null,null,null,null,null,null,null,32.5,163,19.300000000000008]
[" متغیرهای ورودی رگلاژ یقه دکلته پشت",null,null,null,null," متغیرهای ورودی رگلاژ یقه دکلته پشت","x1","y1","x2","y2(بهینه)","a","b",null,"کمترین",null,"بیشترین",null,null,null,null,null,null,null,null,null,null,null,null,null,null,null,null,null,null,null,null,null,null,null,null,null,33,163.5,19.400000000000009]
["نقطه بالای رگلاژ روی یقه دکلته   m1 ","(0 یا 1 یا 2 یا 3 یا 4)",{"$f":"K377*E377+L377","v":2},"نقطه روی خط مرکزی پشت=0\nبهینه = 2",{"$f":"'طراحی همه الگوها'!E301","v":2},"نقطه بالای رگلاژ روی یقه دکلته    ",1,1,0,0,{"$f":"(J377-H377)/(I377-G377)","v":1},{"$f":"H377-G377*K377","v":0},0,{"$f":"(M377-L377)/K377","v":0},4,{"$f":"(O377-L377)/K377","v":4},0,{"$f":"(Q377-L377)/K377","v":0},null,null,null,null,null,null,null,null,null,null,null,null,null,null,null,null,null,null,null,null,null,null,null,33.5,164,19.500000000000011]
["نقطه وسط رگلاژ روی خط کمر   m2 ","(از 0 الی 1)",{"$f":"K378*E378+L378","v":0.8},"نقطه روی خط مرکزی پشت=0\nنقطه روی ساسون میانی پشت=1",{"$f":"'طراحی همه الگوها'!E302","v":16},"نقطه وسط رگلاژ روی خط کمر    ",1,0.05,0,0,{"$f":"(J378-H378)/(I378-G378)","v":0.05},{"$f":"H378-G378*K378","v":0},0,{"$f":"(M378-L378)/K378","v":0},1,{"$f":"(O378-L378)/K378","v":20},0.8,{"$f":"(Q378-L378)/K378","v":16},null,null,null,null,null,null,null,null,null,null,null,null,null,null,null,null,null,null,null,null,null,null,null,34,164.5,19.600000000000012]
["نقطه پایین رگلاژ روی خط مرکزی پشت   m3","(از 0 الی 1)",{"$f":"K379*E379+L379","v":0.8},"نقطه روی خط  کمر=0 \nنقطه روی خط باسن=1 ",{"$f":"'طراحی همه الگوها'!E303","v":16},"نقطه پایین رگلاژ روی خط مرکزی پشت   ",1,0.05,0,0,{"$f":"(J379-H379)/(I379-G379)","v":0.05},{"$f":"H379-G379*K379","v":0},0,{"$f":"(M379-L379)/K379","v":0},1,{"$f":"(O379-L379)/K379","v":20},0.8,{"$f":"(Q379-L379)/K379","v":16},null,null,null,null,null,null,null,null,null,null,null,null,null,null,null,null,null,null,null,null,null,null,null,34.5,165,19.700000000000014]
["پهنای جادکمه برای تکه رگلاژ m4","(از 0 الی 0.08)",{"$f":"K380*E380+L380","v":0.08},"بدون جادکمه =0  \nبهینه =0.03  ",{"$f":"'طراحی همه الگوها'!E304","v":16},"پهنای جادکمه برای تکه رگلاژ ",1,5.0000000000000001E-3,0,0,{"$f":"(J380-H380)/(I380-G380)","v":5.0000000000000001E-3},{"$f":"H380-G380*K380","v":0},0,{"$f":"(M380-L380)/K380","v":0},0.08,{"$f":"(O380-L380)/K380","v":16},0.03,{"$f":"(Q380-L380)/K380","v":6},null,null,null,null,null,null,null,null,null,null,null,null,null,null,null,null,null,null,null,null,null,null,null,35,165.5,19.800000000000015]
["شیفت افقی تکه رگلاژ جدا (به سانتیمتر)  m21","(از -100 الی100)",{"$f":"K381*E381+L381","v":30},"بهینه=دلخواه",{"$f":"'طراحی همه الگوها'!E305","v":30},"شیفت افقی تکه رگلاژ جدا (سانتیمتر)  ",1,1,0,0,{"$f":"(J381-H381)/(I381-G381)","v":1},{"$f":"H381-G381*K381","v":0},-100,{"$f":"(M381-L381)/K381","v":-100},100,{"$f":"(O381-L381)/K381","v":100},null,null,null,null,null,null,null,null,null,null,null,null,null,null,null,null,null,null,null,null,null,null,null,null,null,35.5,166,19.900000000000016]
[null,null,null,null,null,null,null,null,null,null,null,null,null,null,null,null,null,null,null,null,null,null,null,null,null,null,null,null,null,null,null,null,null,null,null,null,null,null,null,null,null,36,166.5,20.000000000000018]
["متغیرهای ورودی-یقه قایقی بدون شیفت تکه پهلو",null,null,null,null,"متغیرهای ورودی-یقه قایقی بدون شیفت تکه پهلو","x1","y1","x2","y2(بهینه)","a","b",null,"کمترین",null,"بیشترین",null,null,null,null,null,null,null,null,null,null,null,null,null,null,null,null,null,null,null,null,null,null,null,null,null,36.5,167,20.100000000000019]
["ضریب بزرگ شدن سرشانه  b7","(از 0 الی 0.5)",{"$f":"K384*E384+L384","v":0.25000000000000011},"بهینه=0.1",{"$f":"'طراحی همه الگوها'!E308","v":23},"باز شدن یقه روی سرشانه  ",19,0.05,20,0.1,{"$f":"(J384-H384)/(I384-G384)","v":0.05},{"$f":"H384-G384*K384","v":-0.9},0,{"$f":"(M384-L384)/K384","v":18},0.5,{"$f":"(O384-L384)/K384","v":27.999999999999996},0,{"$f":"(Q384-L384)/K384","v":18},null,null,null,null,null,null,null,null,null,null,null,null,null,null,null,null,null,null,null,null,null,null,null,37,167.5,20.200000000000021]
[null,null,null,null,null,null,null,null,null,null,null,null,null,null,null,null,null,null,null,null,null,null,null,null,null,null,null,null,null,null,null,null,null,null,null,null,null,null,null,null,null,37.5,168,20.300000000000022]
[" متغیرهای ورودی-یقه پروانه ای متصل به حلقه آستین بدون ساسون\nبدون شیفت تکه پهلو",null,null,null,null,"یقه پروانه ای متصل به حلقه آستین بدون ساسون  \nبدون شیفت تکه پهلو","x1","y1","x2","y2(بهینه)","a","b",null,"کمترین",null,"بیشترین",null,null,null,null,null,null,null,null,null,null,null,null,null,null,null,null,null,null,null,null,null,null,null,null,null,38,168.5,20.400000000000023]
["ضریب پهنای سرشانه به سمت پشت    ζ3","(از 0 الی 1)",{"$f":"K387*E387+L387","v":1},"بهینه=1",{"$f":"'مساله سوم مدل 13'!E474","v":20},"پهنای سرشانه به سمت پشت    ",19,0.9,20,1,{"$f":"(J387-H387)/(I387-G387)","v":9.9999999999999978E-2},{"$f":"H387-G387*K387","v":-0.99999999999999944},0,{"$f":"(M387-L387)/K387","v":9.9999999999999964},30,{"$f":"(O387-L387)/K387","v":310.00000000000006},0,{"$f":"(Q387-L387)/K387","v":9.9999999999999964},null,null,null,null,null,null,null,null,null,null,null,null,null,null,null,null,null,null,null,null,null,null,null,38.5,169,20.500000000000025]
["ضریب پهنای سرشانه به سمت جلو   ζ4","(از 0 الی 1)",{"$f":"K388*E388+L388","v":1.0000000000000002},"بهینه=0.8",{"$f":"'مساله سوم مدل 13'!E475","v":22},"پهنای سرشانه به سمت جلو   ",19,0.7,20,0.8,{"$f":"(J388-H388)/(I388-G388)","v":0.10000000000000009},{"$f":"H388-G388*K388","v":-1.2000000000000017},0.3,{"$f":"(M388-L388)/K388","v":15.000000000000004},1.2,{"$f":"(O388-L388)/K388","v":23.999999999999996},0.3,{"$f":"(Q388-L388)/K388","v":15.000000000000004},null,null,null,null,null,null,null,null,null,null,null,null,null,null,null,null,null,null,null,null,null,null,null,39,169.5,20.600000000000026]
[null,null,null,null,null,null,null,null,null,null,null,null,null,null,null,null,null,null,null,null,null,null,null,null,null,null,null,null,null,null,null,null,null,null,null,null,null,null,null,null,null,39.5,170,20.700000000000028]
[" متغیرهای ورودی-سرشانه دکمه خور متصل به حلقه آستین بدون ساسون\nبدون شیفت تکه پهلو",null,null,null,null,"سرشانه پشت دکمه خور متصل به حلقه آستین بدون ساسون \nبدون شیفت تکه پهلو","x1","y1","x2","y2(بهینه)","a","b",null,"کمترین",null,"بیشترین",null,null,null,null,null,null,null,null,null,null,null,null,null,null,null,null,null,null,null,null,null,null,null,null,null,40,170.5,20.800000000000029]
["ضریب پهنای جادکمه سرشانه","(از 0 الی 0.1)",{"$f":"K391*E391+L391","v":0.05},"بهینه=0.05",{"$f":"'طراحی همه الگوها'!B380","v":5},"ضریب پهنای جادکمه سرشانه",1,0.01,0,0,{"$f":"(J391-H391)/(I391-G391)","v":0.01},{"$f":"H391-G391*K391","v":0},0,{"$f":"(M391-L391)/K391","v":0},0.1,{"$f":"(O391-L391)/K391","v":10},0.05,{"$f":"(Q391-L391)/K391","v":5},null,null,null,null,null,null,null,null,null,null,null,null,null,null,null,null,null,null,null,null,null,null,null,40.5,171,20.900000000000031]
[null,null,null,null,null,null,null,null,null,null,null,null,null,null,null,null,null,null,null,null,null,null,null,null,null,null,null,null,null,null,null,null,null,null,null,null,null,null,null,null,null,41,171.5,21.000000000000032]
[" متغیرهای ورودی - آستین کیمونو و آستین سرخود بدون شیفت تکه پهلو",null,null,null,null," متغیرهای ورودی - آستین کیمونو و آستین سرخود بدون شیفت تکه پهلو","x1","y1","x2","y2(بهینه)","a","b",null,"کمترین",null,"بیشترین",null,null,null,null,null,null,null,null,null,null,null,null,null,null,null,null,null,null,null,null,null,null,null,null,null,41.5,172,21.100000000000033]
["میزان خمیدگی آستین کیمونو نسبت به خط سرشانه (به درجه)   k1","(از 0 الی 30)",{"$f":"K394*E394+L394","v":20},"آستین در امتداد سرشانه=0",{"$f":"'طراحی همه الگوها'!B383","v":20},"میزان خمیدگی آستین کیمونو نسبت به خط سرشانه   ",1,1,0,0,{"$f":"(J394-H394)/(I394-G394)","v":1},{"$f":"H394-G394*K394","v":0},0,{"$f":"(M394-L394)/K394","v":0},30,{"$f":"(O394-L394)/K394","v":30},0,{"$f":"(Q394-L394)/K394","v":0},null,null,null,null,null,null,null,null,null,null,null,null,null,null,null,null,null,null,null,null,null,null,null,42,172.5,21.200000000000035]
["ضریب کوتاهی آستین کیمونو   k16","(از 0.3 الی 1.2)",{"$f":"IF(E395<51,K395*E395+L395,20)","v":20},"آستین تا مچ=1",{"$f":"'طراحی همه الگوها'!B384","v":"منطبق"},"کوتاهی آستین کیمونو   ",11,0.97750000000000004,10,1,-2.2499999999999964E-2,1.2249999999999996,0.3,41.111111111111157,1.2,1.1111111111110989,1,10,null,null,null,null,null,null,null,null,null,null,null,null,null,null,null,null,null,null,null,null,null,null,null,42.5,173,21.300000000000036]
["ضریب گشادی دور مچ   k2","(از 1 الی 2)",{"$f":"IF(E396<51,K396*E396+L396,20)","v":20},"بدون گشادی مچ=1",{"$f":"'طراحی همه الگوها'!B385","v":"منطبق"},"گشادی دور مچ   ",1,1.05,0,1,5.0000000000000044E-2,1,1,0,2,19.999999999999982,1,0,null,null,null,null,null,null,null,null,null,null,null,null,null,null,null,null,null,null,null,null,null,null,null,43,173.5,21.400000000000038]
["ضریب انحنا پهلو برای آستین کیمونو   k3","(از 0.2 الی 0.8) ",0.4,"بهینه=0.4",{"$f":"'طراحی همه الگوها'!B386","v":8},"انحنا پهلو برای آستین کیمونو   ",1,0.05,0,0,0.05,0,0.2,4,0.8,16,0.4,8,null,null,null,null,null,null,null,null,null,null,null,null,null,null,null,null,null,null,null,null,null,null,null,43.5,174,21.500000000000039]
["ضریب انحنا پهلو برای آستین سرخود   k14","(از 0 الی 0.2)",0.18,"بدون انحنا=0",{"$f":"'طراحی همه الگوها'!B387","v":1},"انحنا پهلو برای آستین سرخود   ",9,0.02,10,0,-0.02,0.19999999999999998,0,9.9999999999999982,0.2,-1.3877787807814457E-15,0,9.9999999999999982,null,null,null,null,null,null,null,null,null,null,null,null,null,null,null,null,null,null,null,null,null,null,null,44,174.5,21.600000000000041]
["ضریب کوتاهی آستین سرخود   k9","(از 0.35 الی 2)",{"$f":"IF(E399<51,K399*E399+L399,20)","v":20},"لبه آستین روی خط آرنج=1",{"$f":"'طراحی همه الگوها'!B388","v":"منطبق"},"کوتاهی آستین سرخود   ",29,1.0409999999999999,30,1,-4.0999999999999925E-2,2.2299999999999978,0.35,45.853658536585392,2,5.6097560975609309,1,30,null,null,null,null,null,null,null,null,null,null,null,null,null,null,null,null,null,null,null,null,null,null,null,44.5,175,21.700000000000042]
["ضریب کوتاهی تاج آستین سرخود   k12","(از 0 الی 0.25)",0,"بدون کوتاهی=0",{"$f":"'طراحی همه الگوها'!B389","v":0},"کوتاهی تاج آستین سرخود   ",1,0.05,0,0,0.05,0,0,0,0.25,5,0,0,null,null,null,null,null,null,null,null,null,null,null,null,null,null,null,null,null,null,null,null,null,null,null,45,175.5,21.800000000000043]
["گشادی لبه آستین : در طراحی آستین سرخود",{"$f":"IF(محاسبات!O393<محاسبات!O392,\" \",\"مقدار x9 زیاد شود \")","v":" "},null,{"$f":"IF(محاسبات!O393<محاسبات!O392,\"صحیح \",\"خطا\")","v":"صحیح "},{"$f":"IF(محاسبات!O393<محاسبات!O392,\" صحیح\",\" گشاد تر شود \")","v":" صحیح"},"گشادی لبه آستین : در طراحی آستین سرخود",null,null,null,null,null,null,null,null,null,null,null,null,null,null,null,null,null,null,null,null,null,null,null,null,null,null,null,null,null,null,null,null,null,null,null,45.5,176,21.900000000000045]
[null,null,null,null,null,null,null,null,null,null,null,null,null,null,null,null,null,null,null,null,null,null,null,null,null,null,null,null,null,null,null,null,null,null,null,null,null,null,null,null,null,46,176.5,22.000000000000046]
[" متغیرهای ورودی-شورت بدون شیفت تکه پهلو",null,null,null,null," متغیرهای ورودی-شورت بدون شیفت تکه پهلو","x1","y1","x2","y2(بهینه)","a","b",null,"کمترین",null,"بیشترین",null,null,null,null,null,null,null,null,null,null,null,null,null,null,null,null,null,null,null,null,null,null,null,null,null,46.5,177,22.100000000000048]
["ضریب فاصله کمر شورت تا زمین s0","(از 2.2 الی 3.5)",{"$f":"IF(E404<101,K404*E404+L404,20)","v":20},"خط باسن=2 \nخط کمر=3 \nخط سینه=4  ",{"$f":"'طراحی همه الگوها'!B393","v":"منطبق"},"ضریب فاصله کمر شورت تا زمین ",10,0,30,1,{"$f":"(J404-H404)/(I404-G404)","v":0.05},{"$f":"H404-G404*K404","v":-0.5},2.2000000000000002,{"$f":"(M404-L404)/K404","v":54},3.5,{"$f":"(O404-L404)/K404","v":80},0,{"$f":"(Q404-L404)/K404","v":10},null,null,null,null,null,null,null,null,null,null,null,null,null,null,null,null,null,null,null,null,null,null,null,47,177.5,22.200000000000049]
["میزان انحنا جلو شورت مردانه s9","(از 0 الی 0.6)",{"$f":"K405*E405+L405","v":0},"بدون انحنا (زنانه)=0 \nبهیه مردانه =0.4 ",{"$f":"'طراحی همه الگوها'!B394","v":0},"میزان انحنا جلو شورت مردانه ",1,0.05,0,0,{"$f":"(J405-H405)/(I405-G405)","v":0.05},{"$f":"H405-G405*K405","v":0},0,{"$f":"(M405-L405)/K405","v":0},0.6,{"$f":"(O405-L405)/K405","v":11.999999999999998},0.4,{"$f":"(Q405-L405)/K405","v":8},null,null,null,null,null,null,null,null,null,null,null,null,null,null,null,null,null,null,null,null,null,null,null,47.5,178,22.30000000000005]
["ضریب حرکت افقی مرغک","(از -1 الی 3)",{"$f":"K406*E406+L406","v":0.5},"خط مرکزی جلو=0 \nخط پهلو=1  ",{"$f":"'مساله سوم مدل 13'!E483","v":10},"ضریب شیفت افقی مرغک",20,1,0,0,{"$f":"(J406-H406)/(I406-G406)","v":0.05},{"$f":"H406-G406*K406","v":0},-1,{"$f":"(M406-L406)/K406","v":-20},3,{"$f":"(O406-L406)/K406","v":60},0,{"$f":"(Q406-L406)/K406","v":0},null,null,null,null,null,null,null,null,null,null,null,null,null,null,null,null,null,null,null,null,null,null,null,48,178.5,22.400000000000052]
["ضریب حرکت عمودی مرغک","(از -3 الی 3)",{"$f":"K407*E407+L407","v":-1},null,{"$f":"'مساله سوم مدل 13'!E484","v":-10},"ضریب شیفت عمودی مرغک",1,0.1,0,0,{"$f":"(J407-H407)/(I407-G407)","v":0.1},{"$f":"H407-G407*K407","v":0},-3,{"$f":"(M407-L407)/K407","v":-30},3,{"$f":"(O407-L407)/K407","v":30},0.3,{"$f":"(Q407-L407)/K407","v":2.9999999999999996},null,null,null,null,null,null,null,null,null,null,null,null,null,null,null,null,null,null,null,null,null,null,null,48.5,179,22.500000000000053]
[null,null,null,null,null,null,null,null,null,null,null,null,null,null,null,null,null,null,null,null,null,null,null,null,null,null,null,null,null,null,null,null,null,null,null,null,null,null,null,null,null,49,179.5,22.600000000000055]
[" متغیرهای ورودی - مایو پادار",null,null,null,null," متغیرهای ورودی - مایو پادار","x1","y1","x2","y2(بهینه)","a","b",null,"کمترین",null,"بیشترین",null,null,null,null,null,null,null,null,null,null,null,null,null,null,null,null,null,null,null,null,null,null,null,null,null,49.5,180,22.700000000000056]
["ضریب گشادی دور مچ پا    p1  ","(از 1 الی 2.5)",{"$f":"IF(E410<51,K410*E410+L410,20)","v":1.1000000000000001},"بهینه=1.7",{"$f":"'طراحی همه الگوها'!B399","v":2},"ضریب گشادی دور مچ پا      ",1,1.05,0,1,{"$f":"(J410-H410)/(I410-G410)","v":5.0000000000000044E-2},{"$f":"H410-G410*K410","v":1},1,{"$f":"(M410-L410)/K410","v":0},2.5,{"$f":"(O410-L410)/K410","v":29.999999999999975},1.7,{"$f":"(Q410-L410)/K410","v":13.999999999999988},null,null,null,null,null,null,null,null,null,null,null,null,null,null,null,null,null,null,null,null,null,null,null,50,180.5,22.800000000000058]
["ضریب ارتفاع راسته بودن پایین پاچه   p2 ","(از 0 الی 0.5)",{"$f":"K411*E411+L411","v":0},"بهینه=0.2",{"$f":"'طراحی همه الگوها'!B401","v":0},"ضریب ارتفاع راسته بودن پایین پاچه    ",1,0.02,0,0,0.02,0,0,0,0.5,25,0.2,{"$f":"(Q411-L411)/K411","v":10},null,null,null,null,null,null,null,null,null,null,null,null,null,null,null,null,null,null,null,null,null,null,null,{"$f":"AP410+0.5","v":50.5},181,22.900000000000059]
["ضریب عرض جادکمه وسط پا  p20","(از 0 الی 0.1)",{"$f":"K412*E412+L412","v":1.4999999999999999E-2},"بهینه=0.015",{"$f":"'طراحی همه الگوها'!B402","v":3},"ضریب عرض جادکمه وسط پا  ",1,5.0000000000000001E-3,0,0,5.0000000000000001E-3,0,0,0,0.1,20,1.4999999999999999E-2,{"$f":"(Q412-L412)/K412","v":3},null,null,null,null,null,null,null,null,null,null,null,null,null,null,null,null,null,null,null,null,null,null,null,51,181.5,23.00000000000006]
["زاویه خط پهلو شلوار  برحسب درجه   p23","(از -5 الی 10)",{"$f":"K413*E413+L413","v":2},"بهینه=3",{"$f":"'طراحی همه الگوها'!B403","v":2},"زاویه خط پهلو شلوار    ",1,1,0,0,1,0,-5,-5,10,10,3,{"$f":"(Q413-L413)/K413","v":3},null,null,null,null,null,null,null,null,null,null,null,null,null,null,null,null,null,null,null,null,null,null,null,51.5,182,23.100000000000062]
["ضریب افقی شیفت تکه وسط پا  ","(از -100 الی100)",{"$f":"K414*E414+L414","v":0},"بدون شیفت=0 ",{"$f":"'طراحی همه الگوها'!B404","v":0},"ضریب شیفت افقی تکه وسط پا  ",1,1,0,0,1,0,-100,-100,100,100,null,null,null,null,null,null,null,null,null,null,null,null,null,null,null,null,null,null,null,null,null,null,null,null,null,52,{"$f":"AQ413+0.5","v":182.5},23.200000000000063]
["ضریب عمودی شیفت تکه وسط پا","(از -100 الی100)",{"$f":"K415*E415+L415","v":-10},"بدون شیفت=0 ",{"$f":"'طراحی همه الگوها'!B405","v":-10},"ضریب شیفت عمودی تکه وسط پا",1,1,0,0,1,0,-100,-100,100,100,null,null,null,null,null,null,null,null,null,null,null,null,null,null,null,null,null,null,null,null,null,null,null,null,null,52.5,183,23.300000000000065]
[null,null,null,null,null,null,null,null,null,null,null,null,null,null,null,null,null,null,null,null,null,null,null,null,null,null,null,null,null,null,null,null,null,null,null,null,null,null,null,null,null,53,183.5,23.400000000000066]
[" متغیرهای ورودی-مایو بدون شیفت تکه پهلو      باید  x5=1",null,null,null,null," متغیرهای ورودی-مایو بدون شیفت تکه پهلو      باید  شروع اوزمان = خط باسن","x1","y1","x2","y2(بهینه)","a","b",null,"کمترین",null,"بیشترین",null,null,null,null,null,null,null,null,null,null,null,null,null,null,null,null,null,null,null,null,null,null,null,null,null,53.5,184,23.500000000000068]
[" ضریب بالا آمدن خط مایو در پهلو   mx","(از 0 الی 0.7)",{"$f":"K418*E418+L418","v":0.4},"بهینه مایو=0.3\nبهینه شورت زنانه=0.2\nبهینه شورت مردانه=0.2\nبهینه زیردکمه دار بچه=0",{"$f":"'مساله سوم مدل 13'!E478","v":20}," ضریب بالا آمدن خط مایو در پهلو   ",1,0.02,0,0,{"$f":"(J418-H418)/(I418-G418)","v":0.02},{"$f":"H418-G418*K418","v":0},0,{"$f":"(M418-L418)/K418","v":0},0.7,{"$f":"(O418-L418)/K418","v":35},0.3,{"$f":"(Q418-L418)/K418","v":15},null,null,null,null,null,null,null,null,null,null,null,null,null,null,null,null,null,null,null,null,null,null,null,54,184.5,23.600000000000069]
["انتخاب مایو دکمه دار از وسط پا=1            انتخاب مایو بدون دکمه=0","0 یا 1 ",{"$f":"K419*E419+L419","v":1},null,{"$f":"'مساله سوم مدل 13'!E479","v":2},"انتخاب مایو دکمه دار از وسط پا=2            انتخاب مایو بدون دکمه=1",1,0,2,1,{"$f":"(J419-H419)/(I419-G419)","v":1},{"$f":"H419-G419*K419","v":-1},0,{"$f":"(M419-L419)/K419","v":1},1,{"$f":"(O419-L419)/K419","v":2},0,{"$f":"(Q419-L419)/K419","v":1},null,null,null,null,null,null,null,null,null,null,null,null,null,null,null,null,null,null,null,null,null,null,null,54.5,185,23.70000000000007]
["شیفت محل دکمه از پشت به جلو برای پوشک بچه در انتخاب مایو دکمه دار  (cm)","(از 0 الی 4)",{"$f":"K420*E420+L420","v":2},"بهینه=2",{"$f":"'مساله سوم مدل 13'!E480","v":2},"شیفت محل دکمه از پشت به جلو برای پوشک بچه در انتخاب مایو دکمه دار  ",0.5,0.5,0,0,{"$f":"(J420-H420)/(I420-G420)","v":1},{"$f":"H420-G420*K420","v":0},0,{"$f":"(M420-L420)/K420","v":0},4,{"$f":"(O420-L420)/K420","v":4},2,{"$f":"(Q420-L420)/K420","v":2},null,null,null,null,null,null,null,null,null,null,null,null,null,null,null,null,null,null,null,null,null,null,null,55,185.5,23.800000000000072]
["اضافه پهنا وسط پا برای پوشک بچه در انتخاب مایو دکمه دار  (cm)","(از0 الی 4)",{"$f":"K421*E421+L421","v":1.5},"بهینه=1.5",{"$f":"'مساله سوم مدل 13'!E481","v":1.5},"اضافه پهنا وسط پا برای پوشک بچه در انتخاب مایو دکمه دار  ",0.5,0.5,0,0,{"$f":"(J421-H421)/(I421-G421)","v":1},{"$f":"H421-G421*K421","v":0},0,{"$f":"(M421-L421)/K421","v":0},4,{"$f":"(O421-L421)/K421","v":4},1.5,{"$f":"(Q421-L421)/K421","v":1.5},null,null,null,null,null,null,null,null,null,null,null,null,null,null,null,null,null,null,null,null,null,null,null,55.5,186,23.900000000000073]
["اضافه جادکمه وسط پا در انتخاب مایو دکمه دار  (cm)","(از 0 الی 4)",{"$f":"K422*E422+L422","v":2},"بهینه=2",{"$f":"'مساله سوم مدل 13'!E482","v":2},"اضافه جادکمه وسط پا در انتخاب مایو دکمه دار  ",0.5,0.5,0,0,{"$f":"(J422-H422)/(I422-G422)","v":1},{"$f":"H422-G422*K422","v":0},0,{"$f":"(M422-L422)/K422","v":0},4,{"$f":"(O422-L422)/K422","v":4},2,{"$f":"(Q422-L422)/K422","v":2},null,null,null,null,null,null,null,null,null,null,null,null,null,null,null,null,null,null,null,null,null,null,null,56,186.5,24.000000000000075]
[null,null,null,null,null,null,null,null,null,null,null,null,null,null,null,null,null,null,null,null,null,null,null,null,null,null,null,null,null,null,null,null,null,null,null,null,null,null,null,null,null,56.5,187,24.100000000000076]
[" متغیر ورودی پیش بند حمام بچه یا انحنا لبه پیراهن",null,null,null,null," متغیر ورودی پیش بند حمام بچه یا انحنا لبه پیراهن","x1","y1","x2","y2(بهینه)","a","b",null,"کمترین",null,"بیشترین",null,null,null,null,null,null,null,null,null,null,null,null,null,null,null,null,null,null,null,null,null,null,null,null,null,57,187.5,24.200000000000077]
["ضریب بزرگی کلاه بچه   n10","(از 0.8 الی 1.3)",{"$f":"K425*E425+L425","v":1},"بهینه برای نوزاد=1\nبهینه یک ساله=1.2",{"$f":"'طراحی همه الگوها'!B419","v":20},"ضریب بزرگی کلاه بچه   ",19,0.95,20,1,{"$f":"(J425-H425)/(I425-G425)","v":5.0000000000000044E-2},{"$f":"H425-G425*K425","v":-8.8817841970012523E-16},0.8,{"$f":"(M425-L425)/K425","v":16.000000000000004},1.3,{"$f":"(O425-L425)/K425","v":25.999999999999996},1,{"$f":"(Q425-L425)/K425","v":20},null,null,null,null,null,null,null,null,null,null,null,null,null,null,null,null,null,null,null,null,null,null,null,57.5,188,{"$f":"AR424+0.1","v":24.300000000000079}]
["ضریب انحنا بالای لبه پیراهن  n11","(از 0.1 الی 0.9)",{"$f":"K426*E426+L426","v":0.4},"بهینه=0.4",{"$f":"'طراحی همه الگوها'!B420","v":20},"ضریب انحنا بالای لبه پیراهن  ",19,0.35,20,0.4,{"$f":"(J426-H426)/(I426-G426)","v":5.0000000000000044E-2},{"$f":"H426-G426*K426","v":-0.60000000000000087},0.1,{"$f":"(M426-L426)/K426","v":14.000000000000004},0.9,{"$f":"(O426-L426)/K426","v":29.999999999999993},0.4,{"$f":"(Q426-L426)/K426","v":20},null,null,null,null,null,null,null,null,null,null,null,null,null,null,null,null,null,null,null,null,null,null,null,58,188.5,24.40000000000008]
["ضریب انحنا پایین لبه پیراهن  n12","(از 0.3 الی 0.9)",{"$f":"K427*E427+L427","v":0.6},"بهینه=0.6",{"$f":"'طراحی همه الگوها'!B421","v":20},"ضریب انحنا پایین لبه پیراهن  ",19,0.55000000000000004,20,0.6,{"$f":"(J427-H427)/(I427-G427)","v":4.9999999999999933E-2},{"$f":"H427-G427*K427","v":-0.39999999999999869},0.3,{"$f":"(M427-L427)/K427","v":13.999999999999991},0.9,{"$f":"(O427-L427)/K427","v":26.000000000000011},0.6,{"$f":"(Q427-L427)/K427","v":20},null,null,null,null,null,null,null,null,null,null,null,null,null,null,null,null,null,null,null,null,null,null,null,58.5,189,24.500000000000082]
[null,null,null,null,null,null,null,null,null,null,null,null,null,null,null,null,null,null,null,null,null,null,null,null,null,null,null,null,null,null,null,null,null,null,null,null,null,null,null,null,null,59,189.5,24.600000000000083]
[" متغیرهای ورودی- جلو پیش سینه رکابی بدون شیفت تکه پهلو",null,null,null,null," متغیرهای ورودی- جلو پیش سینه رکابی بدون شیفت تکه پهلو","x1","y1","x2","y2(بهینه)","a","b",null,"کمترین",null,"بیشترین",null,null,null,null,null,null,null,null,null,null,null,null,null,null,null,null,null,null,null,null,null,null,null,null,null,59.5,190,24.700000000000085]
["ضریب پایین آمدن پیش سینه از خط سرشانه      γ0","(از 0.2 الی 0.8)",{"$f":"K430*E430+L430","v":0.35999999999999993},null,{"$f":"'طراحی همه الگوها'!B424","v":21},"بالا یا پایین رفتن بند پیش سینه جلو",19,0.34,20,0.35,{"$f":"(J430-H430)/(I430-G430)","v":9.9999999999999534E-3},{"$f":"H430-G430*K430","v":0.15000000000000091},0.8,{"$f":"(M430-L430)/K430","v":65.000000000000213},1.3,{"$f":"(O430-L430)/K430","v":115.00000000000044},1,{"$f":"(Q430-L430)/K430","v":85.000000000000298},null,null,null,null,null,null,null,null,null,null,null,null,null,null,null,null,null,null,null,null,null,null,null,60,190.5,24.800000000000086]
["پهنای بند جلو      γ1","(از 1 الی 9)",{"$f":"K431*E431+L431","v":10},null,{"$f":"'طراحی همه الگوها'!B425","v":10},"پهنای بند جلو      γ1",1,1,0,0,{"$f":"(J431-H431)/(I431-G431)","v":1},{"$f":"H431-G431*K431","v":0},0.1,{"$f":"(M431-L431)/K431","v":0.1},0.9,{"$f":"(O431-L431)/K431","v":0.9},0.4,{"$f":"(Q431-L431)/K431","v":0.4},null,null,null,null,null,null,null,null,null,null,null,null,null,null,null,null,null,null,null,null,null,null,null,60.5,191,24.900000000000087]
["ضریب کوچک شدن ارتفاع یقه      γ2","(از 0 الی 1.5)",{"$f":"K432*E432+L432","v":0.84999999999999953},"صاف=0",{"$f":"'طراحی همه الگوها'!B426","v":25},"گودی بین دو بند در جلو سینه",19,0.55000000000000004,20,0.6,{"$f":"(J432-H432)/(I432-G432)","v":4.9999999999999933E-2},{"$f":"H432-G432*K432","v":-0.39999999999999869},0.3,{"$f":"(M432-L432)/K432","v":13.999999999999991},0.9,{"$f":"(O432-L432)/K432","v":26.000000000000011},0.6,{"$f":"(Q432-L432)/K432","v":20},null,null,null,null,null,null,null,null,null,null,null,null,null,null,null,null,null,null,null,null,null,null,null,61,191.5,25.000000000000089]
["ضریب بزرگ شدن پهنای یقه      γ3","(از 0.5 الی 2.5)",{"$f":"K433*E433+L433","v":1.4},null,{"$f":"'طراحی همه الگوها'!B427","v":20},"فاصله بند تا خط مرکزی جلو",19,1.35,20,1.4,{"$f":"(J433-H433)/(I433-G433)","v":4.9999999999999822E-2},{"$f":"H433-G433*K433","v":0.40000000000000346},0.8,{"$f":"(M433-L433)/K433","v":7.99999999999996},1.3,{"$f":"(O433-L433)/K433","v":17.999999999999996},1,{"$f":"(Q433-L433)/K433","v":11.999999999999973},null,null,null,null,null,null,null,null,null,null,null,null,null,null,null,null,null,null,null,null,null,null,null,61.5,192,25.10000000000009]
["انتخاب خط راست پهلو جلو=1        انتخاب دیگر=0","0 یا 1 ",{"$f":"K434*E434+L434","v":0},null,{"$f":"'طراحی همه الگوها'!B428","v":1},"انتخاب خط راست پهلو جلو=2        انتخاب دیگر=1",1,0,2,1,{"$f":"(J434-H434)/(I434-G434)","v":1},{"$f":"H434-G434*K434","v":-1},0.1,{"$f":"(M434-L434)/K434","v":1.1000000000000001},0.9,{"$f":"(O434-L434)/K434","v":1.9},0.4,{"$f":"(Q434-L434)/K434","v":1.4},null,null,null,null,null,null,null,null,null,null,null,null,null,null,null,null,null,null,null,null,null,null,null,62,192.5,25.200000000000092]
[null,null,null,null,null,null,null,null,null,null,null,null,null,null,null,null,null,null,null,null,null,null,null,null,null,null,null,null,null,null,null,null,null,null,null,null,null,null,null,null,null,62.5,193,25.300000000000093]
[" متغیرهای ورودی-مکان بندینک در پیش سینه یا پیش بند",null,null,null,null," متغیرهای ورودی-مکان بندینک در پیش سینه یا پیش بند","x1","y1","x2","y2(بهینه)","a","b",null,"کمترین",null,"بیشترین",null,null,null,null,null,null,null,null,null,null,null,null,null,null,null,null,null,null,null,null,null,null,null,null,null,63,193.5,25.400000000000095]
["ضریب فاصله افقی نقطه پایین بندینک از خط مرکزی جلو ","(از 0 الی 2)",{"$f":"K437*E437+L437","v":1.1000000000000001},"خط مرکزی جلو=0 \nخط پهلو=1  ",{"$f":"'طراحی همه الگوها'!B431","v":22},"شیفت افقی بند جدا",20,1,0,0,{"$f":"(J437-H437)/(I437-G437)","v":0.05},{"$f":"H437-G437*K437","v":0},0.8,{"$f":"(M437-L437)/K437","v":16},1.3,{"$f":"(O437-L437)/K437","v":26},1,{"$f":"(Q437-L437)/K437","v":20},null,null,null,null,null,null,null,null,null,null,null,null,null,null,null,null,null,null,null,null,null,null,null,63.5,194,25.500000000000096]
["ضریب فاصله عمودی نقطه پایین بندینک از زمین ","(از0 الی 5)",{"$f":"K438*E438+L438","v":2.0500000000000003},"خط زمین=0 \nخط زانو=1 \nخط باسن=2 \nخط کمر=3 \nخط سینه=4  ",{"$f":"'طراحی همه الگوها'!B432","v":51},"شیفت عمودی بند جدا",10,0,30,1,{"$f":"(J438-H438)/(I438-G438)","v":0.05},{"$f":"H438-G438*K438","v":-0.5},0.1,{"$f":"(M438-L438)/K438","v":11.999999999999998},0.9,{"$f":"(O438-L438)/K438","v":27.999999999999996},0.4,{"$f":"(Q438-L438)/K438","v":18},null,null,null,null,null,null,null,null,null,null,null,null,null,null,null,null,null,null,null,null,null,null,null,64,194.5,25.600000000000097]
[null,null,null,null,null,null,null,null,null,null,null,null,null,null,null,null,null,null,null,null,null,null,null,null,null,null,null,null,null,null,null,null,null,null,null,null,null,null,null,null,null,64.5,195,25.700000000000099]
[" متغیرهای ورودی- پشت پیش سینه رکابی بدون شیفت تکه پهلو",null,null,null,null," متغیرهای ورودی- پشت پیش سینه رکابی بدون شیفت تکه پهلو","x1","y1","x2","y2(بهینه)","a","b",null,"کمترین",null,"بیشترین",null,null,null,null,null,null,null,null,null,null,null,null,null,null,null,null,null,null,null,null,null,null,null,null,null,65,195.5,25.8000000000001]
["ضریب پایین آمدن پیش سینه از خط سرشانه      γ0","(از 0.2 الی 0.8)",{"$f":"K441*E441+L441","v":0.1999999999999999},null,{"$f":"'طراحی همه الگوها'!B435","v":10},"بالا یا پایین رفتن بند پیش سینه پشت",19,0.28999999999999998,20,0.3,{"$f":"(J441-H441)/(I441-G441)","v":1.0000000000000009E-2},{"$f":"H441-G441*K441","v":9.9999999999999811E-2},0.8,{"$f":"(M441-L441)/K441","v":69.999999999999957},1.3,{"$f":"(O441-L441)/K441","v":119.99999999999991},1,{"$f":"(Q441-L441)/K441","v":89.999999999999929},null,null,null,null,null,null,null,null,null,null,null,null,null,null,null,null,null,null,null,null,null,null,null,65.5,196,25.900000000000102]
["پهنای بند پشت      γ1","(از 1 الی 9)",{"$f":"K442*E442+L442","v":4},null,{"$f":"'طراحی همه الگوها'!B436","v":4},"پهنای بند پشت      γ1",1,1,0,0,{"$f":"(J442-H442)/(I442-G442)","v":1},{"$f":"H442-G442*K442","v":0},0.1,{"$f":"(M442-L442)/K442","v":0.1},0.9,{"$f":"(O442-L442)/K442","v":0.9},0.4,{"$f":"(Q442-L442)/K442","v":0.4},null,null,null,null,null,null,null,null,null,null,null,null,null,null,null,null,null,null,null,null,null,null,null,66,196.5,26.000000000000103]
["ضریب کوچک شدن ارتفاع یقه      γ2","(از 0 الی 3)",{"$f":"K443*E443+L443","v":1.1000000000000001},"صاف=0",{"$f":"'طراحی همه الگوها'!B437","v":25},"گودی بین دو بند در پشت سینه",19,0.5,20,0.6,{"$f":"(J443-H443)/(I443-G443)","v":9.9999999999999978E-2},{"$f":"H443-G443*K443","v":-1.3999999999999995},0.3,{"$f":"(M443-L443)/K443","v":17},0.9,{"$f":"(O443-L443)/K443","v":23},0.6,{"$f":"(Q443-L443)/K443","v":20},null,null,null,null,null,null,null,null,null,null,null,null,null,null,null,null,null,null,null,null,null,null,null,{"$f":"AP442+0.5","v":66.5},197,26.100000000000104]
["ضریب بزرگ شدن پهنای یقه      γ3","(از 0.5 الی 2.5)",{"$f":"K444*E444+L444","v":1.2},null,{"$f":"'طراحی همه الگوها'!B438","v":20},"فاصله بند تا خط مرکزی پشت",19,1.1000000000000001,20,1.2,{"$f":"(J444-H444)/(I444-G444)","v":9.9999999999999867E-2},{"$f":"H444-G444*K444","v":-0.79999999999999738},0.8,{"$f":"(M444-L444)/K444","v":15.999999999999995},1.3,{"$f":"(O444-L444)/K444","v":21.000000000000004},1,{"$f":"(Q444-L444)/K444","v":17.999999999999996},null,null,null,null,null,null,null,null,null,null,null,null,null,null,null,null,null,null,null,null,null,null,null,67,197.5,26.200000000000106]
["انتخاب خط راست پهلو پشت=1        انتخاب دیگر=0","0 یا 1 ",{"$f":"K445*E445+L445","v":0},null,{"$f":"'طراحی همه الگوها'!B439","v":1},"انتخاب خط راست پهلو پشت=2        انتخاب دیگر=1",1,0,2,1,{"$f":"(J445-H445)/(I445-G445)","v":1},{"$f":"H445-G445*K445","v":-1},0.1,{"$f":"(M445-L445)/K445","v":1.1000000000000001},0.9,{"$f":"(O445-L445)/K445","v":1.9},0.4,{"$f":"(Q445-L445)/K445","v":1.4},null,null,null,null,null,null,null,null,null,null,null,null,null,null,null,null,null,null,null,null,null,null,null,67.5,198,26.300000000000107]
[null,null,null,null,null,null,null,null,null,null,null,null,null,null,null,null,null,null,null,null,null,null,null,null,null,null,null,null,null,null,null,null,null,null,null,null,null,null,null,null,null,68,198.5,26.400000000000109]
[" متغیرهای ورودی-طراحی یقه دلبری",null,null,null,null," متغیرهای ورودی-طراحی یقه دلبری","x1","y1","x2","y2(بهینه)","a","b",null,"کمترین",null,"بیشترین",null,null,null,null,null,null,null,null,null,null,null,null,null,null,null,null,null,null,null,null,null,null,null,null,null,68.5,199,26.50000000000011]
["γ1         باز شدن یقه نسبت به وسط گردن       ","(از 0.3 الی 1.5)",{"$f":"K448*E448+L448","v":0.99999999999999978},"بهینه=1",{"$f":"'طراحی همه الگوها'!E315","v":14}," باز شدن یقه نسبت به وسط گردن       ",1,0.35,0,0.3,{"$f":"(J448-H448)/(I448-G448)","v":4.9999999999999989E-2},{"$f":"H448-G448*K448","v":0.3},0.3,{"$f":"(M448-L448)/K448","v":0},1.5,{"$f":"(O448-L448)/K448","v":24.000000000000004},1,{"$f":"(Q448-L448)/K448","v":14.000000000000002},null,null,null,null,null,null,null,null,null,null,null,null,null,null,null,null,null,null,null,null,null,null,null,69,199.5,26.600000000000112]
["γ2       فاصله عمودی نقطه شکست یقه دلبری   ","(از 0.1 الی 0.9)",{"$f":"K449*E449+L449","v":0.5},"بهینه=0.5",{"$f":"'طراحی همه الگوها'!E316","v":20},"  فاصله عمودی نقطه شکست یقه دلبری   ",19,0.45,20,0.5,{"$f":"(J449-H449)/(I449-G449)","v":4.9999999999999989E-2},{"$f":"H449-G449*K449","v":-0.49999999999999972},0.1,{"$f":"(M449-L449)/K449","v":11.999999999999998},0.9,{"$f":"(O449-L449)/K449","v":28},0.4,{"$f":"(Q449-L449)/K449","v":17.999999999999996},null,null,null,null,null,null,null,null,null,null,null,null,null,null,null,null,null,null,null,null,null,null,null,69.5,200,26.700000000000113]
["γ3        فاصله افقی نقطه شکست یقه دلبری","(از 0.3 الی 2)",{"$f":"K450*E450+L450","v":1},"بهینه=1",{"$f":"'طراحی همه الگوها'!E317","v":20}," فاصله افقی نقطه شکست یقه دلبری",19,0.95,20,1,{"$f":"(J450-H450)/(I450-G450)","v":5.0000000000000044E-2},{"$f":"H450-G450*K450","v":-8.8817841970012523E-16},0.3,{"$f":"(M450-L450)/K450","v":6.0000000000000124},0.9,{"$f":"(O450-L450)/K450","v":18.000000000000004},0.6,{"$f":"(Q450-L450)/K450","v":12.000000000000007},null,null,null,null,null,null,null,null,null,null,null,null,null,null,null,null,null,null,null,null,null,null,null,70,200.5,26.800000000000114]
[null,null,null,null,null,null,null,null,null,null,null,null,null,null,null,null,null,null,null,null,null,null,null,null,null,null,null,null,null,null,null,null,null,null,null,null,null,null,null,null,null,70.5,201,26.900000000000116]
[" متغیرهای ورودی - یقه پشت گردنی بدون شیفت تکه پهلو - روی حلقه آستین با ساسون",null,null,null,null," متغیرهای ورودی - یقه پشت گردنی بدون شیفت تکه پهلو - روی حلقه آستین با ساسون","x1","y1","x2","y2(بهینه)","a","b",null,"کمترین",null,"بیشترین",null,null,null,null,null,null,null,null,null,null,null,null,null,null,null,null,null,null,null,null,null,null,null,null,null,71,201.5,27.000000000000117]
["ضریب طول یقه پشت گردن  d0","(از 0.5 الی 1.3)",{"$f":"K453*E453+L453","v":0.9},"بهینه=0.9",{"$f":"'طراحی همه الگوها'!E321","v":20}," طول یقه پشت گردن  ",19,0.85,20,0.9,{"$f":"(J453-H453)/(I453-G453)","v":5.0000000000000044E-2},{"$f":"H453-G453*K453","v":-0.10000000000000087},0.5,{"$f":"(M453-L453)/K453","v":12.000000000000007},1.3,{"$f":"(O453-L453)/K453","v":27.999999999999993},0.9,{"$f":"(Q453-L453)/K453","v":20},null,null,null,null,null,null,null,null,null,null,null,null,null,null,null,null,null,null,null,null,null,null,null,71.5,202,27.100000000000119]
["ضریب پهنای یقه پشت گردن  d1","(از 0 الی 3)",{"$f":"K454*E454+L454","v":1.5},"بهینه=1.5",{"$f":"'طراحی همه الگوها'!E320","v":20}," پهنای یقه پشت گردن  ",0,0,20,1.5,{"$f":"(J454-H454)/(I454-G454)","v":7.4999999999999997E-2},{"$f":"H454-G454*K454","v":0},0,{"$f":"(M454-L454)/K454","v":0},3,{"$f":"(O454-L454)/K454","v":40},1.5,{"$f":"(Q454-L454)/K454","v":20},null,null,null,null,null,null,null,null,null,null,null,null,null,null,null,null,null,null,null,null,null,null,null,72,202.5,27.20000000000012]
["ضریب افقی انحنا یقه جلو   d2    ","(از 0 الی 1.5)",{"$f":"K455*E455+L455","v":0.9},"بهینه=0.9",{"$f":"'طراحی همه الگوها'!E322","v":20},"  انحنا افقی یقه جلو       ",19,0.85,20,0.9,{"$f":"(J455-H455)/(I455-G455)","v":5.0000000000000044E-2},{"$f":"H455-G455*K455","v":-0.10000000000000087},0,{"$f":"(M455-L455)/K455","v":2.0000000000000155},1.5,{"$f":"(O455-L455)/K455","v":31.999999999999993},0.9,{"$f":"(Q455-L455)/K455","v":20},null,null,null,null,null,null,null,null,null,null,null,null,null,null,null,null,null,null,null,null,null,null,null,72.5,203,27.300000000000122]
["ضریب عمودی انحنا یقه جلو     d3","(از 0 الی 1)",{"$f":"K456*E456+L456","v":0.5},"بهینه=0.5",{"$f":"'طراحی همه الگوها'!E323","v":20}," انحنا عمودی یقه جلو    ",19,0.55000000000000004,20,0.5,{"$f":"(J456-H456)/(I456-G456)","v":-5.0000000000000044E-2},{"$f":"H456-G456*K456","v":1.5000000000000009},0,{"$f":"(M456-L456)/K456","v":29.999999999999993},1,{"$f":"(O456-L456)/K456","v":10.000000000000009},0.5,{"$f":"(Q456-L456)/K456","v":20},null,null,null,null,null,null,null,null,null,null,null,null,null,null,null,null,null,null,null,null,null,null,null,73,203.5,27.400000000000123]
[null,null,null,null,null,null,null,null,null,null,null,null,null,null,null,null,null,null,null,null,null,null,null,null,null,null,null,null,null,null,null,null,null,null,null,null,null,null,null,null,null,73.5,204,27.500000000000124]
[" متغیرهای ورودی - سوتین کلی",null,null,null,null," متغیرهای ورودی - سوتین کلی","x1","y1","x2","y2(بهینه)","a","b",null,"کمترین",null,"بیشترین",null,null,null,null,null,null,null,null,null,null,null,null,null,null,null,null,null,null,null,null,null,null,null,null,null,74,204.5,27.600000000000126]
["ضریب ساسون وسط سینه    b1  ","(از -1 الی 2)",{"$f":"K459*E459+L459","v":-0.90000000000000036},"بهینه= - 0.3",{"$f":"'طراحی همه الگوها'!B442","v":14},"ضریب ساسون وسط سینه      ",19,-0.4,20,-0.3,{"$f":"(J459-H459)/(I459-G459)","v":0.10000000000000003},{"$f":"H459-G459*K459","v":-2.3000000000000007},0,{"$f":"(M459-L459)/K459","v":23},0.7,{"$f":"(O459-L459)/K459","v":30},1,{"$f":"(Q459-L459)/K459","v":32.999999999999993},null,null,null,null,null,null,null,null,null,null,null,null,null,null,null,null,null,null,null,null,null,null,null,74.5,205,27.700000000000127]
["ضریب پایین آمدن از خط پهلو   b2 ","(از 0 الی 0.5)",0.25,"زیر بغل منطبق با بالاتنه=0 \nخط کمر=1  \nبهینه = 0.25",{"$f":"'طراحی همه الگوها'!B443","v":20},"ضریب پایین آمدن از خط پهلو    ",19,0.2,20,0.25,4.9999999999999989E-2,-0.74999999999999978,0,14.999999999999998,1,35,0.4,23.000000000000004,null,null,null,null,null,null,null,null,null,null,null,null,null,null,null,null,null,null,null,null,null,null,null,75,205.5,27.800000000000129]
["ضریب بزرگ شدن کاسه در خط مرکزی جلو    b3  ","(از0.5 الی 1.5)",0.9,"بهینه= 0.9",{"$f":"'طراحی همه الگوها'!B444","v":20},"ضریب بزرگ شدن کاسه در خط مرکزی جلو      ",19,0.88,20,0.9,2.0000000000000018E-2,0.49999999999999967,0,-24.999999999999961,4,174.99999999999986,0.6,5.0000000000000107,null,null,null,null,null,null,null,null,null,null,null,null,null,null,null,null,null,null,null,null,null,null,null,75.5,206,27.90000000000013]
["ضریب بزرگ شدن کاسه زیر نوک سینه   b4 ","(از0.4 الی 1.3)",0.6,"بهینه= 0.6",{"$f":"'طراحی همه الگوها'!B445","v":20},"ضریب بزرگ شدن کاسه زیر نوک سینه    ",19,0.57999999999999996,20,0.6,2.0000000000000018E-2,0.19999999999999962,0,-9.9999999999999716,4,189.99999999999986,1,39.999999999999986,null,null,null,null,null,null,null,null,null,null,null,null,null,null,null,null,null,null,null,null,null,null,null,76,206.5,28.000000000000131]
["ضریب بزرگ شدن کاسه در پهلو    b5  ","(از0.7 الی 1.7)",1.1000000000000001,"بهینه= 1.1",{"$f":"'طراحی همه الگوها'!B446","v":20},"ضریب بزرگ شدن کاسه در پهلو      ",19,1.08,20,1.1000000000000001,2.0000000000000018E-2,0.69999999999999973,0,-34.999999999999957,0.7,1.1102230246251556E-14,0.4,-14.999999999999972,null,null,null,null,null,null,null,null,null,null,null,null,null,null,null,null,null,null,null,null,null,null,null,76.5,207,28.100000000000133]
["ضریب بالا یا پایین آمدن یقه روی خط مرکزی جلو   b6 ","(از -0.7 الی 0.5)",-0.29999999999999993,"بالای خط سینه =+ \nروی خط سینه =0 \nپایین خط سینه= - ",{"$f":"'طراحی همه الگوها'!B447","v":14},"ضریب بالا یا پایین آمدن یقه روی خط مرکزی جلو    ",19,-0.05,20,0,0.05,-1,0,20,1,40,1,40,null,null,null,null,null,null,null,null,null,null,null,null,null,null,null,null,null,null,null,null,null,null,null,77,207.5,28.200000000000134]
["ضریب عمودی نقطه اتصال بند جلو    b7  ","(از 0.1 الی 1)",0.25,"بهینه=0.25",{"$f":"'طراحی همه الگوها'!B448","v":20},"ضریب عمودی نقطه اتصال بند جلو      ",19,0.2,20,0.25,4.9999999999999989E-2,-0.74999999999999978,0,14.999999999999998,4,95.000000000000014,0.4,23.000000000000004,null,null,null,null,null,null,null,null,null,null,null,null,null,null,null,null,null,null,null,null,null,null,null,77.5,208,28.300000000000136]
["ضریب افقی نقطه اتصال بند جلو   b8 ","(از 0.5 الی 3)",1.4,"بهینه=1.4",{"$f":"'طراحی همه الگوها'!B449","v":20},"ضریب افقی نقطه اتصال بند جلو    ",19,1.3,20,1.4,9.9999999999999867E-2,-0.59999999999999742,0,5.9999999999999822,4,46.000000000000043,0.6,11.999999999999991,null,null,null,null,null,null,null,null,null,null,null,null,null,null,null,null,null,null,null,null,null,null,null,78,208.5,28.400000000000137]
["میزان انحنا یقه جلو  b9 ","(از -0.5 الی 0.5)",5.0000000000000044E-2,"خط محدب =+ \nخط صاف =0 \nخط مقعر= - ",{"$f":"'طراحی همه الگوها'!B450","v":21},"میزان انحنا یقه جلو   ",19,-0.05,20,0,0.05,-1,0,20,0.7,34,1,40,null,null,null,null,null,null,null,null,null,null,null,null,null,null,null,null,null,null,null,null,null,null,null,78.5,209,28.500000000000139]
["ضریب گودی خطوط افقی کاسه    b10  ","(از 0 الی 0.5)",0.25,"بهینه=0.25",{"$f":"'طراحی همه الگوها'!B451","v":20},"ضریب گودی خطوط افقی کاسه      ",19,0.2,20,0.25,4.9999999999999989E-2,-0.74999999999999978,0,14.999999999999998,1,35,0.4,23.000000000000004,null,null,null,null,null,null,null,null,null,null,null,null,null,null,null,null,null,null,null,null,null,null,null,79,209.5,28.60000000000014]
["ضریب گودی خطوط عمودی کاسه   b11 ","(از 0 الی 0.5)",0.15000000000000002,"بهینه=0.15",{"$f":"'طراحی همه الگوها'!B452","v":20},"ضریب گودی خطوط عمودی کاسه    ",19,0.1,20,0.15,4.9999999999999989E-2,-0.84999999999999976,0,17,4,97.000000000000014,1,37,null,null,null,null,null,null,null,null,null,null,null,null,null,null,null,null,null,null,null,null,null,null,null,79.5,210,28.700000000000141]
["میزان انحنا یقه در پهلو   b12 ","(از -0.5 الی 0.5)",0,"خط محدب =+ \nخط صاف =0 \nخط مقعر= - ",{"$f":"'طراحی همه الگوها'!B453","v":20},"انحنا یقه در پهلو    ",19,-0.05,20,0,0.05,-1,0,20,4,100,0.4,27.999999999999996,null,null,null,null,null,null,null,null,null,null,null,null,null,null,null,null,null,null,null,null,null,null,null,80,210.5,28.800000000000143]
["ضریب افزایش یا کاهش ساسون زیر بغل    b15 ","(از -0.5 الی 2)",0.30000000000000027,"اندامی=0",{"$f":"'طراحی همه الگوها'!B454","v":23},"ضریب افزایش یا کاهش ساسون زیر بغل     ",19,-0.1,20,0,{"$f":"(J471-H471)/(I471-G471)","v":0.1},{"$f":"H471-G471*K471","v":-2},0,20,4,60,0.6,26,null,null,null,null,null,null,null,null,null,null,null,null,null,null,null,null,null,null,null,null,null,null,null,80.5,211,28.900000000000144]
["ضریب افزایش یا کاهش طول عمودی کاسه    b17 ","(از 0.1 الی 2)",0.70000000000000018,"بهینه=0.7",{"$f":"'طراحی همه الگوها'!B455","v":20},"ضریب افزایش یا کاهش طول عمودی کاسه     ",19,0.6,20,0.7,9.9999999999999978E-2,-1.2999999999999994,0,12.999999999999996,4,53,1,23,null,null,null,null,null,null,null,null,null,null,null,null,null,null,null,null,null,null,null,null,null,null,null,81,211.5,29.000000000000146]
["ضریب افزایش یا کاهش طول افقی کاسه    b18 ","(از 0.1 الی 2)",0.5,"بهینه=0.5",{"$f":"'طراحی همه الگوها'!B456","v":20},"ضریب افزایش یا کاهش طول افقی کاسه     ",19,0.4,20,0.5,9.9999999999999978E-2,-1.4999999999999996,0,{"$f":"(M473-L473)/K473","v":14.999999999999998},4,{"$f":"(O473-L473)/K473","v":55.000000000000014},0.4,19,null,null,null,null,null,null,null,null,null,null,null,null,null,null,null,null,null,null,null,null,null,null,null,81.5,212,29.100000000000147]
["شیفت عمودی کاسه پایین به سانتیمتر   b13 ","(از -100 الی100)",25,"بدون شیفت=0",{"$f":"'طراحی همه الگوها'!B458","v":25},"شیفت عمودی کاسه پایین (سانتیمتر)    ",1,1,0,0,1,0,-100,{"$f":"(M474-L474)/K474","v":-100},100,{"$f":"(O474-L474)/K474","v":100},null,null,null,null,null,null,null,null,null,null,null,null,null,null,null,null,null,null,null,null,null,null,null,null,null,82,212.5,29.200000000000149]
["شیفت عمودی کاسه بالا به سانتیمتر   b14 ","(از -100 الی100)",32,"بدون شیفت=0",{"$f":"'طراحی همه الگوها'!B459","v":32},"شیفت عمودی کاسه بالا (سانتیمتر)    ",1,1,0,0,1,0,-100,{"$f":"(M475-L475)/K475","v":-100},100,{"$f":"(O475-L475)/K475","v":100},null,null,null,null,null,null,null,null,null,null,null,null,null,null,null,null,null,null,null,null,null,null,null,null,null,{"$f":"AP474+0.5","v":82.5},213,29.30000000000015]
["شیفت افقی کاسه پایین راست به سانتیمتر   b16 ","(از -100 الی100)",4,"بدون شیفت=0",{"$f":"'طراحی همه الگوها'!B457","v":4},"شیفت افقی کاسه پایین راست (سانتیمتر)    ",1,1,0,0,1,0,-100,{"$f":"(M476-L476)/K476","v":-100},100,{"$f":"(O476-L476)/K476","v":100},null,null,null,null,null,null,null,null,null,null,null,null,null,null,null,null,null,null,null,null,null,null,null,null,null,83,213.5,29.400000000000151]
[null,null,null,null,null,null,null,null,null,null,null,null,null,null,null,null,null,null,null,null,null,null,null,null,null,null,null,null,null,null,null,null,null,null,null,null,null,null,null,null,null,83.5,214,29.500000000000153]
[" متغیرهای ورودی -  اختصاصی سوتین 6 تکه",null,null,null,null," متغیرهای ورودی -  اختصاصی سوتین 6 تکه","x1","y1","x2","y2(بهینه)","a","b",null,"کمترین",null,"بیشترین",null,null,null,null,null,null,null,null,null,null,null,null,null,null,null,null,null,null,null,null,null,null,null,null,null,84,{"$f":"AQ477+0.5","v":214.5},29.600000000000154]
["انتقال ساسون روی خط سینه به زیر سینه   d17 ","(از 0 الی 1)",{"$f":"K479*E479+L479","v":0.9},"بدون انتقال=0 \nانتقال کامل=1  ",{"$f":"'طراحی همه الگوها'!B462","v":9},"انتقال ساسون روی خط سینه به زیر سینه    ",1,0.1,0,0,{"$f":"(J479-H479)/(I479-G479)","v":0.1},{"$f":"H479-G479*K479","v":0},0,{"$f":"(M479-L479)/K479","v":0},1,{"$f":"(O479-L479)/K479","v":10},0.9,{"$f":"(Q479-L479)/K479","v":9},null,null,null,null,null,null,null,null,null,null,null,null,null,null,null,null,null,null,null,null,null,null,null,84.5,215,29.700000000000156]
["ضریب چرخش تکه پهلو به درجه    d2 ","(از0 الی 100)",20,"بهینه= 20",{"$f":"'طراحی همه الگوها'!B463","v":20},"چرخش تکه پهلو     ",19,19,20,20,{"$f":"(J480-H480)/(I480-G480)","v":1},{"$f":"H480-G480*K480","v":0},0,0,1,1,0.4,0.4,null,null,null,null,null,null,null,null,null,null,null,null,null,null,null,null,null,null,null,null,null,null,null,85,215.5,29.800000000000157]
["پهنای بند جلو به سانتیمتر    d3  ","(از0 الی 5)",1.5,"بهینه= 1.5",{"$f":"'طراحی همه الگوها'!B464","v":1.5},"پهنای بند جلو       ",1,1,0,0,{"$f":"(J481-H481)/(I481-G481)","v":1},{"$f":"H481-G481*K481","v":0},0,{"$f":"(M481-L481)/K481","v":0},5,{"$f":"(O481-L481)/K481","v":5},1.5,{"$f":"(Q481-L481)/K481","v":1.5},null,null,null,null,null,null,null,null,null,null,null,null,null,null,null,null,null,null,null,null,null,null,null,85.5,216,29.900000000000158]
["ضریب عمودی برش جلو بند   d8 ","(از 0.1 الی 2)",1.2,"بهینه=1.2",{"$f":"'طراحی همه الگوها'!B465","v":20},"بالا یا پایین رفتن مکان بند جلو",19,1.1000000000000001,20,1.2,{"$f":"(J482-H482)/(I482-G482)","v":9.9999999999999867E-2},{"$f":"H482-G482*K482","v":-0.79999999999999738},0,7.999999999999984,4,48.000000000000036,1,17.999999999999996,null,null,null,null,null,null,null,null,null,null,null,null,null,null,null,null,null,null,null,null,null,null,null,86,216.5,30.00000000000016]
["ضریب افقی برش جلو بند   d14 ","(از 0.1 الی 2)",0.8,"بهینه=0.8",{"$f":"'طراحی همه الگوها'!B466","v":20},"چپ و راست رفتن مکان بند جلو",19,0.75,20,0.8,{"$f":"(J483-H483)/(I483-G483)","v":5.0000000000000044E-2},{"$f":"H483-G483*K483","v":-0.20000000000000084},0,4.0000000000000133,0.7,18,0.4,12.000000000000007,null,null,null,null,null,null,null,null,null,null,null,null,null,null,null,null,null,null,null,null,null,null,null,86.5,217,30.100000000000161]
["ضریب پهنای افقی برش جلو بند   d9 ","(از 0 الی 1)",0.30000000000000004,"بهینه=0.3",{"$f":"'طراحی همه الگوها'!B467","v":20},"پهنای افقی برش جلو بند    ",19,0.25,20,0.3,4.9999999999999989E-2,-0.69999999999999973,0,13.999999999999998,1,34,1,34,null,null,null,null,null,null,null,null,null,null,null,null,null,null,null,null,null,null,null,null,null,null,null,87,217.5,30.200000000000163]
["ضریب پهنای برش کاسه در پهلو    d10  ","(از 0.1 الی 0.7)",0.25,"بهینه=0.25",{"$f":"'طراحی همه الگوها'!B468","v":20},"پهنای برش کاسه در پهلو      ",19,0.2,20,0.25,4.9999999999999989E-2,-0.74999999999999978,0,14.999999999999998,4,95.000000000000014,0.4,23.000000000000004,null,null,null,null,null,null,null,null,null,null,null,null,null,null,null,null,null,null,null,null,null,null,null,87.5,218,30.300000000000164]
["ضریب بالا یا پایین رفتن خط پایین پایه    d1  ","(از 0.2 الی 0.7)",0.5,"خط کمر=0 \nخط سینه=1  ",{"$f":"'طراحی همه الگوها'!B469","v":80},"بالا یا پایین رفتن خط پایین پایه      ",79,0.45,80,0.5,4.9999999999999989E-2,-3.4999999999999991,0.2,74,0.7,84,0,70,null,null,null,null,null,null,null,null,null,null,null,null,null,null,null,null,null,null,null,null,null,null,null,88,218.5,30.400000000000166]
["پهنای بند پشت به سانتیمتر   d4 ","(از0 الی 5)",1.5,"بهینه= 1.5",{"$f":"'طراحی همه الگوها'!B470","v":1.5},"پهنای بند پشت     ",1,1,0,0,1,0,0,0,5,5,1.5,1.5,null,null,null,null,null,null,null,null,null,null,null,null,null,null,null,null,null,null,null,null,null,null,null,88.5,219,30.500000000000167]
["ضریب عمودی نقطه اتصال بند پشت    d5  ","(از0 الی 1)",0.48000000000000009,"خط کمر =0 \nخط سرشانه= 1 \nبهینه = 0.38",{"$f":"'طراحی همه الگوها'!B471","v":25},"بالا یا پایین رفتن مکان بند پشت",21,0.4,20,0.38,2.0000000000000018E-2,-2.0000000000000351E-2,0,1.0000000000000167,1,50.999999999999979,0.4,21,null,null,null,null,null,null,null,null,null,null,null,null,null,null,null,null,null,null,null,null,null,null,null,89,219.5,30.600000000000168]
["ضریب افقی نقطه اتصال بند پشت    d6 ","(از0.1 الی 0.9)",0.45,"خط مرکزی پشت =0 \nخط پهلو= 1 \nبهینه = 0.45",{"$f":"'طراحی همه الگوها'!B472","v":9},"چپ و راست رفتن مکان بند پشت",1,0.05,0,0,0.05,0,0.1,2,0.9,18,0.45,9,null,null,null,null,null,null,null,null,null,null,null,null,null,null,null,null,null,null,null,null,null,null,null,89.5,220,{"$f":"AR488+0.1","v":30.70000000000017}]
["میزان انحنا یقه پشت پهلو    d7  ","(از -0.5 الی 0.5)",-0.14999999999999991,"خط محدب =+ \nخط صاف =0 \nخط مقعر= - ",{"$f":"'طراحی همه الگوها'!B473","v":17},"انحنا یقه پشت پهلو      ",19,-0.05,20,0,0.05,-1,0,20,4,100,0.4,27.999999999999996,null,null,null,null,null,null,null,null,null,null,null,null,null,null,null,null,null,null,null,null,null,null,null,90,220.5,30.800000000000171]
["پهنای قزن در پشت به سانتیمتر   d11 ","(از 0 الی 10)",5,"بهینه=3",{"$f":"'طراحی همه الگوها'!B474","v":5},"پهنای قزن در پشت (سانتیمتر)    ",2,2,3,3,{"$f":"(J491-H491)/(I491-G491)","v":1},{"$f":"H491-G491*K491","v":0},0,{"$f":"(M491-L491)/K491","v":0},10,{"$f":"(O491-L491)/K491","v":10},3,3,null,null,null,null,null,null,null,null,null,null,null,null,null,null,null,null,null,null,null,null,null,null,null,90.5,221,30.900000000000173]
["میزان انحنا یقه پشت مرکزی    d15  ","(از -0.5 الی 0.5)",-0.25,"خط محدب =+ \nخط صاف =0 \nخط مقعر= - ",{"$f":"'طراحی همه الگوها'!B475","v":15},"انحنا یقه پشت مرکزی      ",19,-0.05,20,0,{"$f":"(J492-H492)/(I492-G492)","v":0.05},{"$f":"H492-G492*K492","v":-1},0,{"$f":"(M492-L492)/K492","v":20},4,{"$f":"(O492-L492)/K492","v":100},1,40,null,null,null,null,null,null,null,null,null,null,null,null,null,null,null,null,null,null,null,null,null,null,null,91,221.5,31.000000000000174]
["شیفت افقی تکه جلو مرکزی به سانتیمتر   d12 ","(از -100 الی100)",0,"بدون شیفت=0",{"$f":"'طراحی همه الگوها'!B476","v":0},"شیفت افقی تکه جلو مرکزی (سانتیمتر)    ",1,1,0,0,{"$f":"(J493-H493)/(I493-G493)","v":1},{"$f":"H493-G493*K493","v":0},-100,{"$f":"(M493-L493)/K493","v":-100},100,{"$f":"(O493-L493)/K493","v":100},0.4,0.4,null,null,null,null,null,null,null,null,null,null,null,null,null,null,null,null,null,null,null,null,null,null,null,91.5,222,31.100000000000176]
["شیفت عمودی کاسه یک تکه زیرین به سانتیمتر   d16 ","(از -100 الی100)",0,"بدون شیفت=0",{"$f":"'طراحی همه الگوها'!B478","v":0},"شیفت عمودی کاسه یک تکه زیرین (سانتیمتر)    ",1,1,0,0,{"$f":"(J494-H494)/(I494-G494)","v":1},{"$f":"H494-G494*K494","v":0},-100,{"$f":"(M494-L494)/K494","v":-100},100,{"$f":"(O494-L494)/K494","v":100},null,null,null,null,null,null,null,null,null,null,null,null,null,null,null,null,null,null,null,null,null,null,null,null,null,92,222.5,31.200000000000177]
["شیفت افقی تکه پهلوجلو به سانتیمتر   d13 ","(از -100 الی100)",5,"بدون شیفت=0",{"$f":"'طراحی همه الگوها'!B477","v":5},"شیفت افقی تکه پهلوجلو (سانتیمتر)    ",1,1,0,0,{"$f":"(J495-H495)/(I495-G495)","v":1},{"$f":"H495-G495*K495","v":0},-100,{"$f":"(M495-L495)/K495","v":-100},100,{"$f":"(O495-L495)/K495","v":100},null,null,null,null,null,null,null,null,null,null,null,null,null,null,null,null,null,null,null,null,null,null,null,null,null,92.5,223,31.300000000000178]
[null,null,null,null,null,null,null,null,null,null,null,null,null,null,null,null,null,null,null,null,null,null,null,null,null,null,null,null,null,null,null,null,null,null,null,null,null,null,null,null,null,93,223.5,31.40000000000018]
[" متغیرهای ورودی- شنل بدون شیفت تکه پهلو",null,null,null,null," متغیرهای ورودی- شنل بدون شیفت تکه پهلو","x1","y1","x2","y2(بهینه)","a","b",null,"کمترین",null,"بیشترین",null,null,null,null,null,null,null,null,null,null,null,null,null,null,null,null,null,null,null,null,null,null,null,null,null,93.5,224,31.500000000000181]
["ضریب بزرگ شدن اوزمان در شنل  c1","(از 0.5 الی 2)",{"$f":"K498*E498+L498","v":1},"بهینه=1",{"$f":"'طراحی همه الگوها'!B481","v":20},"ضریب بزرگ شدن اوزمان در شنل  ",19,0.95,20,1,{"$f":"(J498-H498)/(I498-G498)","v":5.0000000000000044E-2},{"$f":"H498-G498*K498","v":-8.8817841970012523E-16},0.5,{"$f":"(M498-L498)/K498","v":10.000000000000009},2,{"$f":"(O498-L498)/K498","v":39.999999999999986},1,{"$f":"(Q498-L498)/K498","v":20},null,null,null,null,null,null,null,null,null,null,null,null,null,null,null,null,null,null,null,null,null,null,null,94,224.5,31.600000000000183]
["ضریب انحنا روی بازو  c0","(از 0.5 الی 2)",{"$f":"K499*E499+L499","v":1.2500000000000002},"بهینه=1",{"$f":"'طراحی همه الگوها'!B482","v":25},"ضریب انحنا روی بازو  ",19,0.95,20,1,{"$f":"(J499-H499)/(I499-G499)","v":5.0000000000000044E-2},{"$f":"H499-G499*K499","v":-8.8817841970012523E-16},0.5,{"$f":"(M499-L499)/K499","v":10.000000000000009},2,{"$f":"(O499-L499)/K499","v":39.999999999999986},1,{"$f":"(Q499-L499)/K499","v":20},null,null,null,null,null,null,null,null,null,null,null,null,null,null,null,null,null,null,null,null,null,null,null,94.5,225,31.700000000000184]
[null,null,null,null,null,null,null,null,null,null,null,null,null,null,null,null,null,null,null,null,null,null,null,null,null,null,null,null,null,null,null,null,null,null,null,null,null,null,null,null,null,95,225.5,31.800000000000185]
["پیراهن کلوش (با حلقه آستین بدون ساسون سرشانه)",null,null,null,null,null,null,null,null,null,null,null,null,null,null,null,null,null,null,null,null,null,null,null,null,null,null,null,null,null,null,null,null,null,null,null,null,null,null,null,null,95.5,226,31.900000000000187]
[" اوزمان در جلو پیراهن کلوش   a1","(از 1 الی 50)",{"$f":"K502*E502+L502","v":0},null,{"$f":"'طراحی همه الگوها'!B485","v":0},null,1,1,2,2,{"$f":"(J502-H502)/(I502-G502)","v":1},{"$f":"H502-G502*K502","v":0},null,1,null,2,null,null,null,null,null,null,null,null,null,null,null,null,null,null,null,null,null,null,null,null,null,null,null,null,null,96,226.5,32.000000000000185]
[" فاصله اوزمان اول از خط مرکزی جلو  a6   ","(از 1 الی 30)",13,null,{"$f":"'طراحی همه الگوها'!B486","v":13},null,1,1,2,2,1,0,null,1,null,2,null,null,null,null,null,null,null,null,null,null,null,null,null,null,null,null,null,null,null,null,null,null,null,null,null,96.5,227,32.100000000000186]
[" فاصله اوزمان اول از خط مرکزی جلو  a8   ","(از 1 الی 30)",18,null,{"$f":"'طراحی همه الگوها'!B487","v":18},null,1,1,2,2,1,0,null,1,null,2,null,null,null,null,null,null,null,null,null,null,null,null,null,null,null,null,null,null,null,null,null,null,null,null,null,97,227.5,32.200000000000188]
[" اوزمان در پشت پیراهن کلوش   a2","(از 1 الی 50)",0,null,{"$f":"'طراحی همه الگوها'!B488","v":0},null,1,1,2,2,1,0,null,1,null,2,null,null,null,null,null,null,null,null,null,null,null,null,null,null,null,null,null,null,null,null,null,null,null,null,null,97.5,228,32.300000000000189]
[" فاصله اوزمان اول از خط مرکزی پشت  a7   ","(از 1 الی 30)",13,null,{"$f":"'طراحی همه الگوها'!B489","v":13},null,1,1,2,2,1,0,null,1,null,2,null,null,null,null,null,null,null,null,null,null,null,null,null,null,null,null,null,null,null,null,null,null,null,null,null,98,228.5,32.40000000000019]
[" فاصله اوزمان اول از خط مرکزی پشت  a9   ","(از 1 الی 30)",20,null,{"$f":"'طراحی همه الگوها'!B490","v":20},null,1,1,2,2,1,0,null,1,null,2,null,null,null,null,null,null,null,null,null,null,null,null,null,null,null,null,null,null,null,null,null,null,null,null,null,{"$f":"AP506+0.5","v":98.5},229,32.500000000000192]
["متغیرهای ورودی آستین",null,null,null,null,"متغیرهای ورودی آستین",null,null,null,null,null,null,null,null,null,null,null,null,null,null,null,null,null,null,null,null,null,null,null,null,null,null,null,null,null,null,null,null,null,null,null,99,229.5,32.600000000000193]
[null,null,null,null,"x",null,"x1","y1","x2","y2(بهینه)","a","b",null,"کمترین",null,"بیشترین",null,null,null,null,null,null,null,null,null,null,null,null,null,null,null,null,null,null,null,null,null,null,null,null,null,99.5,230,32.700000000000195]
[" متغیر ورودی نوع آستین :",null,null,null,null," متغیر ورودی نوع آستین :","x1","y1","x2","y2(بهینه)","a","b",null,"کمترین",null,"بیشترین",null,null,null,null,null,null,null,null,null,null,null,null,null,null,null,null,null,null,null,null,null,null,null,null,null,100,230.5,32.800000000000196]
["انتخاب آستین با ساسون سرشانه یا زیر بغل یا عصایی = 0\nانتخاب آستین رگلان (بدون درز یا با درز) برای حلقه آستین با ساسون = 0   \nانتخاب آستین با هر نوع ساسون و اپل و کنترل گودی حلقه آستین = 1\n انتخاب آستین بدون ساسون سرشانه = 3 \n انتخاب آستین رگلان (بدون درز یا با درز) برای حلقه آستین بدون ساسون سرشانه = 3 ","0 یا 1 یا 3",{"$f":"K511*E511+L511","v":3},null,{"$f":"'طراحی همه الگوها'!K177","v":4},"انتخاب آستین با ساسون سرشانه یا زیر بغل یا عصایی = 0\nانتخاب آستین رگلان (بدون درز یا با درز) برای حلقه آستین با ساسون = 0   \nانتخاب آستین با هر نوع ساسون و اپل و کنترل گودی حلقه آستین = 1\n انتخاب آستین بدون ساسون سرشانه = 3 \n انتخاب آستین رگلان (بدون درز یا با درز) برای حلقه آستین بدون ساسون سرشانه = 3 ",1,0,4,3,{"$f":"(J511-H511)/(I511-G511)","v":1},{"$f":"H511-G511*K511","v":-1},null,1,null,4,0.15,{"$f":"(Q511-L511)/K511","v":1.1499999999999999},null,null,null,null,null,null,null,null,null,null,null,null,null,null,null,null,null,null,null,null,null,null,null,100.5,231,32.900000000000198]
[null,null,null,null,null,null,null,null,null,null,null,null,null,null,null,null,null,null,null,null,null,null,null,null,null,null,null,null,null,null,null,null,null,null,null,null,null,null,null,null,null,101,231.5,33.000000000000199]
[" متغیرهای ورودی - آستین رگلان درز دار",null,null,null,null," متغیرهای ورودی - آستین رگلان درز دار","x1","y1","x2","y2(بهینه)","a","b",null,"کمترین",null,"بیشترین",null,null,null,null,null,null,null,null,null,null,null,null,null,null,null,null,null,null,null,null,null,null,null,null,null,101.5,232,33.1000000000002]
["میزان خمیدگی بدن به سمت جلو - زاویه به درجه  α1","(از -20 الی 20)",{"$f":"K514*E514+L514","v":3},"بهینه=3",{"$f":"'طراحی همه الگوها'!K195","v":3},"میزان خمیدگی بدن به سمت جلو   ",1,1,0,0,{"$f":"(J514-H514)/(I514-G514)","v":1},{"$f":"H514-G514*K514","v":0},-20,{"$f":"(M514-L514)/K514","v":-20},20,{"$f":"(O514-L514)/K514","v":20},3,{"$f":"(Q514-L514)/K514","v":3},null,null,null,null,null,null,null,null,null,null,null,null,null,null,null,null,null,null,null,null,null,null,null,102,232.5,33.200000000000202]
["میزان خم شدن سرشانه در آستین - زاویه به درجه  α2","(از -20 الی 20)",3,"بهینه=3",{"$f":"'طراحی همه الگوها'!K196","v":3},"میزان خم شدن سرشانه در آستین  ",1,1,0,0,1,0,-20,-20,20,20,3,3,null,null,null,null,null,null,null,null,null,null,null,null,null,null,null,null,null,null,null,null,null,null,null,102.5,233,33.300000000000203]
["پهنای ساسون مچ روی درز آستین  α3","(از 0 الی 2)",0.70000000000000007,"بهینه=0.7\nبدون ساسون=1",{"$f":"'طراحی همه الگوها'!K197","v":3},"پهنای ساسون مچ روی درز آستین  ",1,0.9,0,1,-9.9999999999999978E-2,1,0,10.000000000000002,2,-10.000000000000002,0.7,3.0000000000000013,null,null,null,null,null,null,null,null,null,null,null,null,null,null,null,null,null,null,null,null,null,null,null,103,233.5,33.400000000000205]
["میزان روی هم آمدن سرشانه در دو تکه آستین رگلان  α4","(از 0 الی 2)",1,"بهینه=1\nروی هم نمی آید=0",{"$f":"'طراحی همه الگوها'!K198","v":10},"میزان روی هم آمدن سرشانه در دو تکه آستین رگلان  ",1,0.1,0,0,0.1,0,0,0,2,20,1,10,null,null,null,null,null,null,null,null,null,null,null,null,null,null,null,null,null,null,null,null,null,null,null,103.5,234,33.500000000000206]
["زاویه درز روی آستین نسبت به عمود به درجه  α5","(از -20 الی 20)",3,"بهینه=3",{"$f":"'طراحی همه الگوها'!K199","v":3},"زاویه درز روی آستین نسبت به عمود  ",1,1,0,0,{"$f":"(J518-H518)/(I518-G518)","v":1},{"$f":"H518-G518*K518","v":0},-20,-20,20,20,3,3,null,null,null,null,null,null,null,null,null,null,null,null,null,null,null,null,null,null,null,null,null,null,null,104,234.5,33.600000000000207]
["میزان انحنا لبه جلو آستین  α6","(از -20 الی 20)",1,"بهینه=1",{"$f":"'طراحی همه الگوها'!K200","v":1},"میزان انحنا لبه جلو آستین  ",1,1,0,0,{"$f":"(J519-H519)/(I519-G519)","v":1},{"$f":"H519-G519*K519","v":0},-20,-20,20,20,1,1,null,null,null,null,null,null,null,null,null,null,null,null,null,null,null,null,null,null,null,null,null,null,null,104.5,235,33.700000000000209]
["میزان انحنا لبه پشت آستین  α7","(از -20 الی 20)",1,"بهینه=1",{"$f":"'طراحی همه الگوها'!K201","v":1},"میزان انحنا لبه پشت آستین  ",1,1,0,0,1,0,-20,-20,20,20,1,1,null,null,null,null,null,null,null,null,null,null,null,null,null,null,null,null,null,null,null,null,null,null,null,105,235.5,33.80000000000021]
["سهم گشادی مچ آستین بر روی درز  α8","(از 0 الی 1)",0.2,"بهینه=0.2",{"$f":"'طراحی همه الگوها'!K202","v":4},"سهم گشادی مچ آستین بر روی درز  ",1,0.05,0,0,0.05,0,0,0,1,20,0.2,4,null,null,null,null,null,null,null,null,null,null,null,null,null,null,null,null,null,null,null,null,null,null,null,105.5,236,33.900000000000212]
["شیفت افقی تکه جلو آستین رگلان درز دار    به سانتیمتر","(از -100 الی100)",5,"بدون شیفت=0",{"$f":"'طراحی همه الگوها'!K203","v":5},"شیفت افقی تکه جلو آستین رگلان درز دار    به سانتیمتر",1,1,0,0,1,0,null,1,null,100,0,null,null,null,null,null,null,null,null,null,null,null,null,null,null,null,null,null,null,null,null,null,null,null,null,106,236.5,34.000000000000213]
["شیفت افقی کل آستین رگلان بدون درز   به سانتیمتر","(از -100 الی100)",0,"بدون شیفت=0",{"$f":"'طراحی همه الگوها'!K192","v":0},"شیفت افقی کل آستین رگلان بدون درز   به سانتیمتر",1,1,0,0,{"$f":"(J523-H523)/(I523-G523)","v":1},{"$f":"H523-G523*K523","v":0},null,1,null,100,0,null,null,null,null,null,null,null,null,null,null,null,null,null,null,null,null,null,null,null,null,null,null,null,null,106.5,237,34.100000000000215]
[null,null,null,null,null,null,null,null,null,null,null,null,null,null,null,null,null,null,null,null,null,null,null,null,null,null,null,null,null,null,null,null,null,null,null,null,null,null,null,null,null,107,237.5,34.200000000000216]
[" متغیرهای ورودی کلی آستین ساده (بلند یا کوتاه)",null,null,null,null," متغیرهای ورودی کلی آستین ساده (بلند یا کوتاه)","x1","y1","x2","y2(بهینه)","a","b",null,"کمترین",null,"بیشترین",null,null,null,null,null,null,null,null,null,null,null,null,null,null,null,null,null,null,null,null,null,null,null,null,null,107.5,238,34.300000000000217]
["ضریب پهنای مچ در آستین ساده و مچ بلند","(از 0 الی 0.5)",{"$f":"K526*E526+L526","v":0.20000000000000007},"بهینه=0.15",{"$f":"'مساله سوم مدل 13'!H474","v":14},"ضریب پهنای مچ در آستین ساده و مچ بلند",11,0.05,10,0,{"$f":"(J526-H526)/(I526-G526)","v":0.05},{"$f":"H526-G526*K526","v":-0.5},0,{"$f":"(M526-L526)/K526","v":10},0.5,{"$f":"(O526-L526)/K526","v":20},0.15,{"$f":"(Q526-L526)/K526","v":13},null,null,null,null,null,null,null,null,null,null,null,null,null,null,null,null,null,null,null,null,null,null,null,108,238.5,34.400000000000219]
["ضریب گشادی مچ آستین  ζ4","(از 0.1 الی 4)",1.4000000000000004,"اندامی=1",{"$f":"'مساله سوم مدل 13'!H470","v":4},"ضریب گشادی مچ آستین  ",1,1.1000000000000001,0,1,0.10000000000000009,1,0.1,-8.9999999999999929,4,29.999999999999975,1,0,null,null,null,null,null,null,null,null,null,null,null,null,null,null,null,null,null,null,null,null,null,null,null,108.5,239,34.50000000000022]
["ضریب بلند یا کوتاه شدن اندازه های طولی در آستین","(از -0.2 الی 0.2)",0,"بدون تغییر=0",{"$f":"'مساله سوم مدل 13'!H471","v":0},"ضریب بلند یا کوتاه شدن اندازه های طولی در آستین",1,0.01,0,0,0.01,0,-0.2,-20,0.2,20,0,0,null,null,null,null,null,null,null,null,null,null,null,null,null,null,null,null,null,null,null,null,null,null,null,109,239.5,34.600000000000222]
["ضریب بلندی تاج آستین","(از -1 الی 1)",0,"اندامی=0",{"$f":"'مساله سوم مدل 13'!H472","v":0},"ضریب بلندی تاج آستین",1,0.05,0,0,0.05,0,-1,-20,1,20,0,0,null,null,null,null,null,null,null,null,null,null,null,null,null,null,null,null,null,null,null,null,null,null,null,109.5,240,34.700000000000223]
["ضریب گشادی تاج آستین","(از 0 الی 1)",0,"اندامی=0",{"$f":"'مساله سوم مدل 13'!H473","v":0},"ضریب گشادی تاج آستین",1,0.05,0,0,0.05,0,0,0,1,20,0,0,null,null,null,null,null,null,null,null,null,null,null,null,null,null,null,null,null,null,null,null,null,null,null,110,240.5,34.800000000000225]
["ضریب کوتاهی آستین  (آستین پفی > 0.6)","(از -0.45 الی 1.7)",{"$f":"K531*E531+L531","v":0},"آستین تا مچ=0 \nآستین تا آرنج=1 \nآستین کوتاه بالای آرنج بزرگتر از یک",{"$f":"'مساله سوم مدل 13'!H469","v":10},"بلندی پایین آستین",10,0,30,1,0.05,-0.5,-0.45,0.99999999999999978,1.7,44,0.3,16,null,null,null,null,null,null,null,null,null,null,null,null,null,null,null,null,null,null,null,null,null,null,null,110.5,241,34.900000000000226]
["شیفت افقی کل الگو آستین به سانتیمتر","(از -100 الی100)",0,"بدون شیفت=0",{"$f":"'مساله سوم مدل 13'!H475","v":0},"شیفت افقی کل الگو آستین (سانتیمتر)",1,1,0,0,1,0,null,1,null,100,0,null,null,null,null,null,null,null,null,null,null,null,null,null,null,null,null,null,null,null,null,null,null,null,null,111,241.5,35.000000000000227]
["شیفت عمودی کل الگو آستین به سانتیمتر","(از -100 الی100)",{"$f":"K533*E533+L533","v":0},"بدون شیفت=0",{"$f":"'مساله سوم مدل 13'!H476","v":0},"شیفت عمودی کل الگو آستین (سانتیمتر)",1,1,0,0,1,0,null,1,null,100,0,null,null,null,null,null,null,null,null,null,null,null,null,null,null,null,null,null,null,null,null,null,null,null,null,111.5,242,35.100000000000229]
[null,null,null,null,null,null,null,null,null,null,null,null,null,null,null,null,null,null,null,null,null,null,null,null,null,null,null,null,null,null,null,null,null,null,null,null,null,null,null,null,null,112,242.5,35.20000000000023]
["اطلاعات طول حلقه آستین و طول تاج آستین",null,null,null,null,"اطلاعات طول حلقه آستین و طول تاج آستین",null,null,null,null,null,null,null,null,null,null,null,null,null,null,null,null,null,null,null,null,null,null,null,null,null,null,null,null,null,null,null,null,null,null,null,112.5,243,35.300000000000232]
["طول کل حلقه آستین با اپل",{"$f":"محاسبات!BL538","v":31.3},null,null,null,"طول کل حلقه آستین با اپل (سانتیمتر)",null,null,null,null,null,null,null,null,null,null,null,null,null,null,null,null,null,null,null,null,null,null,null,null,null,null,null,null,null,null,null,null,null,null,null,113,243.5,35.400000000000233]
["طول کل حلقه آستین با ساسون",{"$f":"محاسبات!BL539","v":31.3},null,null,null,"طول کل حلقه آستین با ساسون (سانتیمتر)",null,null,null,null,null,null,null,null,null,null,null,null,null,null,null,null,null,null,null,null,null,null,null,null,null,null,null,null,null,null,null,null,null,null,null,113.5,244,35.500000000000234]
["طول کل حلقه آستین بدون ساسون",{"$f":"محاسبات!BL540","v":33},null,null,null,"طول کل حلقه آستین بدون ساسون (سانتیمتر)",null,null,null,null,null,null,null,null,null,null,null,null,null,null,null,null,null,null,null,null,null,null,null,null,null,null,null,null,null,null,null,null,null,null,null,114,244.5,35.600000000000236]
["طول حلقه آستین مدل 85",{"$f":"محاسبات!BL541","v":31.1},null,null,null,"طول حلقه آستین مدل 85  (سانتیمتر)",null,null,null,null,null,null,null,null,null,null,null,null,null,null,null,null,null,null,null,null,null,null,null,null,null,null,null,null,null,null,null,null,null,null,null,{"$f":"AP538+0.5","v":114.5},245,35.700000000000237]
["طول حلقه آستین مدل 83 کت مردانه",{"$f":"محاسبات!BL542","v":30.7},null,null,null,"طول حلقه آستین مدل 83 کت مردانه  (سانتیمتر)",null,null,null,null,null,null,null,null,null,null,null,null,null,null,null,null,null,null,null,null,null,null,null,null,null,null,null,null,null,null,null,null,null,null,null,115,245.5,35.800000000000239]
["طول تاج آستین کتی",{"$f":"محاسبات!BL543","v":33.6},null,null,null,"طول تاج آستین کتی (سانتیمتر)",null,null,null,null,null,null,null,null,null,null,null,null,null,null,null,null,null,null,null,null,null,null,null,null,null,null,null,null,null,null,null,null,null,null,null,115.5,246,35.90000000000024]
["طول تاج آستین ساده",{"$f":"محاسبات!BL544","v":33.700000000000003},null,null,null,"طول تاج آستین ساده (سانتیمتر) ",null,null,null,null,null,null,null,null,null,null,null,null,null,null,null,null,null,null,null,null,null,null,null,null,null,null,null,null,null,null,null,null,null,null,null,116,{"$f":"AQ541+0.5","v":246.5},36.000000000000242]
[null,null,null,null,null,null,null,null,null,null,null,null,null,null,null,null,null,null,null,null,null,null,null,null,null,null,null,null,null,null,null,null,null,null,null,null,null,null,null,null,null,116.5,247,36.100000000000243]
[" متغیرهای ورودی- جادکمه آستین بلند یا کوتاه",null,null,null,null," متغیرهای ورودی- جادکمه آستین بلند یا کوتاه","x1","y1","x2","y2(بهینه)","a","b",null,"کمترین",null,"بیشترین",null,null,null,null,null,null,null,null,null,null,null,null,null,null,null,null,null,null,null,null,null,null,null,null,null,117,247.5,36.200000000000244]
["ضریب طول مستطیل ","(از 0 الی 0.5)",{"$f":"K545*E545+L545","v":0},"بهینه=0.35",{"$f":"'مساله سوم مدل 13'!H503","v":0},"ضریب طول مستطیل ",1,0.05,0,0,{"$f":"(J545-H545)/(I545-G545)","v":0.05},{"$f":"H545-G545*K545","v":0},0,{"$f":"(M545-L545)/K545","v":0},0.5,{"$f":"(O545-L545)/K545","v":10},0.35,{"$f":"(Q545-L545)/K545","v":6.9999999999999991},null,null,null,null,null,null,null,null,null,null,null,null,null,null,null,null,null,null,null,null,null,null,null,117.5,248,36.300000000000246]
["ضریب عرض مستطیل ","(از 0 الی 0.4)",{"$f":"K546*E546+L546","v":0},"بهینه=0.25",{"$f":"'مساله سوم مدل 13'!H504","v":0},"ضریب عرض مستطیل ",1,0.05,0,0,{"$f":"(J546-H546)/(I546-G546)","v":0.05},{"$f":"H546-G546*K546","v":0},0,{"$f":"(M546-L546)/K546","v":0},0.4,{"$f":"(O546-L546)/K546","v":8},0.25,{"$f":"(Q546-L546)/K546","v":5},null,null,null,null,null,null,null,null,null,null,null,null,null,null,null,null,null,null,null,null,null,null,null,118,248.5,36.400000000000247]
[null,null,null,null,null,null,null,null,null,null,null,null,null,null,null,null,null,null,null,null,null,null,null,null,null,null,null,null,null,null,null,null,null,null,null,null,null,null,null,null,null,118.5,249,36.500000000000249]
[" متغیرهای ورودی - مچ آستین",null,null,null,null," متغیرهای ورودی - مچ آستین","x1","y1","x2","y2(بهینه)","a","b",null,"کمترین",null,"بیشترین",null,null,null,null,null,null,null,null,null,null,null,null,null,null,null,null,null,null,null,null,null,null,null,null,null,119,249.5,36.60000000000025]
["انتخاب مچ اندامی=1        انتخاب مچ مستطیل یا مچ پفی=0","0 یا 1 ",{"$f":"K549*E549+L549","v":0},null,{"$f":"'مساله سوم مدل 13'!H479","v":1},"انتخاب مچ اندامی=2        انتخاب مچ مستطیل یا مچ پفی=1",1,0,2,1,{"$f":"(J549-H549)/(I549-G549)","v":1},{"$f":"H549-G549*K549","v":-1},0,{"$f":"(M549-L549)/K549","v":1},1,{"$f":"(O549-L549)/K549","v":2},0,{"$f":"(Q549-L549)/K549","v":1},null,null,null,null,null,null,null,null,null,null,null,null,null,null,null,null,null,null,null,null,null,null,null,119.5,250,36.700000000000252]
["ضریب گشادی بالای مچ  z3","(از 0.8 الی 3)",1.3000000000000003,"اندامی=1",{"$f":"'مساله سوم مدل 13'!H480","v":3},"ضریب گشادی بالای مچ  ",1,1.1000000000000001,0,1,0.10000000000000009,1,0.8,{"$f":"(M550-L550)/K550","v":-1.9999999999999978},3,{"$f":"(O550-L550)/K550","v":19.999999999999982},1,{"$f":"(Q550-L550)/K550","v":0},null,null,null,null,null,null,null,null,null,null,null,null,null,null,null,null,null,null,null,null,null,null,null,120,250.5,36.800000000000253]
["ضریب گشادی پایین مچ یا مچ مستطیل یا مچ پفی  z4","(از 0.8 الی 3)",1,"اندامی=1",{"$f":"'مساله سوم مدل 13'!H481","v":0},"ضریب گشادی پایین مچ یا مچ مستطیل یا مچ پفی  ",1,1.1000000000000001,0,1,0.10000000000000009,1,0.8,{"$f":"(M551-L551)/K551","v":-1.9999999999999978},3,{"$f":"(O551-L551)/K551","v":19.999999999999982},1,{"$f":"(Q551-L551)/K551","v":0},null,null,null,null,null,null,null,null,null,null,null,null,null,null,null,null,null,null,null,null,null,null,null,null,251,36.900000000000254]
["ضریب ارتفاع بالای مچ    z5","(از 0 الی 1.7)",0,"ارتفاع تا مچ دست =0 \nارتفاع تا آرنج=1 \nارتفاع بالای آرنج بزرگتر از یک",{"$f":"'مساله سوم مدل 13'!H482","v":10},"ضریب ارتفاع بالای مچ    ",10,0,30,1,0.05,-0.5,0,{"$f":"(M552-L552)/K552","v":10},1.7,{"$f":"(O552-L552)/K552","v":44},1,{"$f":"(Q552-L552)/K552","v":30},null,null,null,null,null,null,null,null,null,null,null,null,null,null,null,null,null,null,null,null,null,null,null,null,251.5,37.000000000000256]
["ضریب ارتفاع پایین مچ   z6","(از 0 الی 1.7)",0,"ارتفاع تا مچ دست =0 \nارتفاع تا آرنج=1 \nارتفاع بالای آرنج بزرگتر از یک",{"$f":"'مساله سوم مدل 13'!H483","v":10},"ضریب ارتفاع پایین مچ   ",10,0,30,1,0.05,-0.5,0,{"$f":"(M553-L553)/K553","v":10},1.7,{"$f":"(O553-L553)/K553","v":44},1,{"$f":"(Q553-L553)/K553","v":30},null,null,null,null,null,null,null,null,null,null,null,null,null,null,null,null,null,null,null,null,null,null,null,null,252,{"$f":"AR552+0.1","v":37.100000000000257}]
["شیفت افقی مچ  به سانتیمتر   z7","(از -100 الی100)",0,"بدون شیفت=0",{"$f":"'مساله سوم مدل 13'!H484","v":0},"شیفت افقی مچ  (سانتیمتر)   ",1,1,0,0,1,0,null,1,null,100,0,null,null,null,null,null,null,null,null,null,null,null,null,null,null,null,null,null,null,null,null,null,null,null,null,null,252.5,37.200000000000259]
["شیفت عمودی مچ  به سانتیمتر  z8","(از -100 الی100)",0,"بدون شیفت=0",{"$f":"'مساله سوم مدل 13'!H485","v":0},"شیفت عمودی مچ  (سانتیمتر)  ",1,1,0,0,1,0,null,1,null,100,0,null,null,null,null,null,null,null,null,null,null,null,null,null,null,null,null,null,null,null,null,null,null,null,null,null,253,37.30000000000026]
[null,null,null,null,null,null,null,null,null,null,null,null,null,null,null,null,null,null,null,null,null,null,null,null,null,null,null,null,null,null,null,null,null,null,null,null,null,null,null,null,null,null,253.5,37.400000000000261]
[" متغیرهای ورودی - آستر مچ آستین",null,null,null,null," متغیرهای ورودی - آستر مچ آستین","x1","y1","x2","y2(بهینه)","a","b",null,"کمترین",null,"بیشترین",null,null,null,null,null,null,null,null,null,null,null,null,null,null,null,null,null,null,null,null,null,null,null,null,null,null,254,37.500000000000263]
["انتخاب مچ اندامی=1        انتخاب مچ مستطیل یا مچ پفی=0","0 یا 1 ",{"$f":"K558*E558+L558","v":0},null,{"$f":"'مساله سوم مدل 13'!H488","v":1},"انتخاب مچ اندامی=2        انتخاب مچ مستطیل یا مچ پفی=1",1,0,2,1,{"$f":"(J558-H558)/(I558-G558)","v":1},{"$f":"H558-G558*K558","v":-1},0,{"$f":"(M558-L558)/K558","v":1},1,{"$f":"(O558-L558)/K558","v":2},0,{"$f":"(Q558-L558)/K558","v":1},null,null,null,null,null,null,null,null,null,null,null,null,null,null,null,null,null,null,null,null,null,null,null,null,254.5,37.600000000000264]
["ضریب گشادی بالای مچ  z3","(از 0.8 الی 3)",1,"اندامی=1",{"$f":"'مساله سوم مدل 13'!H489","v":0},"ضریب گشادی بالای مچ  ",1,1.1000000000000001,0,1,0.10000000000000009,1,0.8,{"$f":"(M559-L559)/K559","v":-1.9999999999999978},3,{"$f":"(O559-L559)/K559","v":19.999999999999982},1,{"$f":"(Q559-L559)/K559","v":0},null,null,null,null,null,null,null,null,null,null,null,null,null,null,null,null,null,null,null,null,null,null,null,null,255,37.700000000000266]
["ضریب گشادی پایین مچ یا مچ مستطیل یا مچ پفی  z4","(از 0.8 الی 3)",1,"اندامی=1",{"$f":"'مساله سوم مدل 13'!H490","v":0},"ضریب گشادی پایین مچ یا مچ مستطیل یا مچ پفی  ",1,1.1000000000000001,0,1,0.10000000000000009,1,0.8,{"$f":"(M560-L560)/K560","v":-1.9999999999999978},3,{"$f":"(O560-L560)/K560","v":19.999999999999982},1,{"$f":"(Q560-L560)/K560","v":0},null,null,null,null,null,null,null,null,null,null,null,null,null,null,null,null,null,null,null,null,null,null,null,null,255.5,37.800000000000267]
["ضریب ارتفاع بالای مچ    z5","(از 0 الی 1.7)",0,"ارتفاع تا مچ دست =0 \nارتفاع تا آرنج=1 \nارتفاع بالای آرنج بزرگتر از یک",{"$f":"'مساله سوم مدل 13'!H491","v":10},"ضریب ارتفاع بالای مچ    ",10,0,30,1,0.05,-0.5,0,{"$f":"(M561-L561)/K561","v":10},1.7,{"$f":"(O561-L561)/K561","v":44},1,{"$f":"(Q561-L561)/K561","v":30},null,null,null,null,null,null,null,null,null,null,null,null,null,null,null,null,null,null,null,null,null,null,null,null,256,37.900000000000269]
["ضریب ارتفاع پایین مچ   z6","(از 0 الی 1.7)",0,"ارتفاع تا مچ دست =0 \nارتفاع تا آرنج=1 \nارتفاع بالای آرنج بزرگتر از یک",{"$f":"'مساله سوم مدل 13'!H492","v":10},"ضریب ارتفاع پایین مچ   ",10,0,30,1,0.05,-0.5,0,{"$f":"(M562-L562)/K562","v":10},1.7,{"$f":"(O562-L562)/K562","v":44},1,{"$f":"(Q562-L562)/K562","v":30},null,null,null,null,null,null,null,null,null,null,null,null,null,null,null,null,null,null,null,null,null,null,null,null,256.5,38.00000000000027]
["شیفت افقی آستر مچ  به سانتیمتر   z7","(از -100 الی100)",0,"بدون شیفت=0",{"$f":"'مساله سوم مدل 13'!H493","v":0},"شیفت افقی آستر مچ  (سانتیمتر)   ",1,1,0,0,1,0,null,1,null,100,0,null,null,null,null,null,null,null,null,null,null,null,null,null,null,null,null,null,null,null,null,null,null,null,null,null,257]
["شیفت عمودی آستر مچ  به سانتیمتر  z8","(از -100 الی100)",0,"بدون شیفت=0",{"$f":"'مساله سوم مدل 13'!H494","v":0},"شیفت عمودی آستر مچ  (سانتیمتر)  ",1,1,0,0,1,0,null,1,null,100,0,null,null,null,null,null,null,null,null,null,null,null,null,null,null,null,null,null,null,null,null,null,null,null,null,null,257.5]
[null,null,null,null,null,null,null,null,null,null,null,null,null,null,null,null,null,null,null,null,null,null,null,null,null,null,null,null,null,null,null,null,null,null,null,null,null,null,null,null,null,null,258]
[" متغیرهای ورودی آستین لاله ای",null,null,null,null," متغیرهای ورودی آستین لاله ای","x1","y1","x2","y2(بهینه)","a","b",null,"کمترین",null,"بیشترین",null,null,null,null,null,null,null,null,null,null,null,null,null,null,null,null,null,null,null,null,null,null,null,null,null,null,258.5]
["ضریب قرارگیری نقطه بالای جلو انحنا آستین  q20 ","(از 0 الی 1)",{"$f":"K567*E567+L567","v":0.4},"نقطه بالا روی سرشانه=0 \nنقطه بالا زیر بغل=1 ",{"$f":"'مساله سوم مدل 13'!H515","v":20},"ضریب قرارگیری نقطه بالای جلو انحنا آستین   ",19,0.35,20,0.4,{"$f":"(J567-H567)/(I567-G567)","v":5.0000000000000044E-2},{"$f":"H567-G567*K567","v":-0.60000000000000087},0,{"$f":"(M567-L567)/K567","v":12.000000000000007},1,{"$f":"(O567-L567)/K567","v":31.999999999999993},1,{"$f":"(Q567-L567)/K567","v":31.999999999999993},null,null,null,null,null,null,null,null,null,null,null,null,null,null,null,null,null,null,null,null,null,null,null,null,259]
["ضریب قرارگیری نقطه بالای پشت انحنا آستین  q'20 ","(از 0 الی 1)",0.30000000000000004,"نقطه بالا روی سرشانه=0 \nنقطه بالا زیر بغل=1 ",{"$f":"'مساله سوم مدل 13'!H516","v":20},"ضریب قرارگیری نقطه بالای پشت انحنا آستین   ",19,0.25,20,0.3,4.9999999999999989E-2,-0.69999999999999973,0,13.999999999999998,1,34,1,34,null,null,null,null,null,null,null,null,null,null,null,null,null,null,null,null,null,null,null,null,null,null,null,null,259.5]
["ضریب قرارگیری نقطه پایین جلو انحنا آستین  q21 ","(از 0 الی 1)",0.7,"نقطه پایین وسط آستین=0 \nنقطه پایین روی خط پهلو=1 ",{"$f":"'مساله سوم مدل 13'!H517","v":20},"ضریب قرارگیری نقطه پایین جلو انحنا آستین   ",19,0.65,20,0.7,4.9999999999999933E-2,-0.29999999999999871,0,5.9999999999999822,1,26.000000000000011,1,26.000000000000011,null,null,null,null,null,null,null,null,null,null,null,null,null,null,null,null,null,null,null,null,null,null,null,null,260]
["ضریب قرارگیری نقطه پایین پشت انحنا آستین  q'21 ","(از 0 الی 1)",0.7,"نقطه پایین وسط آستین=0 \nنقطه پایین روی خط پهلو=1 ",{"$f":"'مساله سوم مدل 13'!H518","v":20},"ضریب قرارگیری نقطه پایین پشت انحنا آستین   ",19,0.65,20,0.7,4.9999999999999933E-2,-0.29999999999999871,0,5.9999999999999822,1,26.000000000000011,2,46.000000000000043,null,null,null,null,null,null,null,null,null,null,null,null,null,null,null,null,null,null,null,null,null,null,null,null,260.5]
["ضریب انحنا جلو  q22 ","(از -0.5 الی 0.5)",0.15000000000000013,"خط محدب =+ \nخط صاف =0 \nخط مقعر= - ",{"$f":"'مساله سوم مدل 13'!H519","v":23},"ضریب انحنا جلو   ",21,0.05,20,0,0.05,-1,-0.5,10,0.5,30,0.15,22.999999999999996,null,null,null,null,null,null,null,null,null,null,null,null,null,null,null,null,null,null,null,null,null,null,null,null,261]
["ضریب انحنا پشت  q'22 ","(از -0.5 الی 0.5)",0.15000000000000013,"خط محدب =+ \nخط صاف =0 \nخط مقعر= - ",{"$f":"'مساله سوم مدل 13'!H520","v":23},"ضریب انحنا پشت   ",21,0.05,20,0,0.05,-1,-0.5,10,0.5,30,0.15,22.999999999999996,null,null,null,null,null,null,null,null,null,null,null,null,null,null,null,null,null,null,null,null,null,null,null,null,261.5]
[null,null,null,null,null,null,null,null,null,null,null,null,null,null,null,null,null,null,null,null,null,null,null,null,null,null,null,null,null,null,null,null,null,null,null,null,null,null,null,null,null,null,262]
["متغیرهای ورودی آستین کتی",null,null,null,null,"متغیرهای ورودی آستین کتی","x1","y1","x2","y2(بهینه)","a","b",null,"کمترین",null,"بیشترین",null,null,null,null,null,null,null,null,null,null,null,null,null,null,null,null,null,null,null,null,null,null,null,null,null,null,262.5]
["میزان خمیدگی آستین کتی - زاویه به درجه  ζ2","(از 0 الی 7)",{"$f":"K575*E575+L575","v":5},"بهینه=3",{"$f":"'مساله سوم مدل 13'!H497","v":5},"میزان خمیدگی آستین کتی - زاویه به درجه  ",1,1,0,0,{"$f":"(J575-H575)/(I575-G575)","v":1},{"$f":"H575-G575*K575","v":0},0,{"$f":"(M575-L575)/K575","v":0},7,{"$f":"(O575-L575)/K575","v":7},3,{"$f":"(Q575-L575)/K575","v":3},null,null,null,null,null,null,null,null,null,null,null,null,null,null,null,null,null,null,null,null,null,null,null,null,263]
["ضریب طول مستطیل جادکمه کتی","(از 0.01 الی 0.5)",{"$f":"K576*E576+L576","v":0},"بهینه=0.4",{"$f":"'مساله سوم مدل 13'!H498","v":0},"ضریب طول مستطیل جادکمه کتی",1,0.02,0,0,{"$f":"(J576-H576)/(I576-G576)","v":0.02},{"$f":"H576-G576*K576","v":0},0.01,{"$f":"(M576-L576)/K576","v":0.5},0.5,{"$f":"(O576-L576)/K576","v":25},0.4,{"$f":"(Q576-L576)/K576","v":20},null,null,null,null,null,null,null,null,null,null,null,null,null,null,null,null,null,null,null,null,null,null,null,null,263.5]
["ضریب عرض مستطیل جادکمه کتی","(از 0 الی 0.5)",{"$f":"K577*E577+L577","v":0},"بهینه=0.3",{"$f":"'مساله سوم مدل 13'!H499","v":0},"ضریب عرض مستطیل جادکمه کتی",1,0.02,0,0,{"$f":"(J577-H577)/(I577-G577)","v":0.02},{"$f":"H577-G577*K577","v":0},0,{"$f":"(M577-L577)/K577","v":0},0.5,{"$f":"(O577-L577)/K577","v":25},0.3,{"$f":"(Q577-L577)/K577","v":15},null,null,null,null,null,null,null,null,null,null,null,null,null,null,null,null,null,null,null,null,null,null,null,null,264]
["شیفت افقی تکه جلو آستین کتی به سانتیمتر","(از -100 الی100)",{"$f":"K578*E578+L578","v":0},"بهینه=دلخواه",{"$f":"'مساله سوم مدل 13'!H500","v":0},"شیفت افقی تکه جلو آستین کتی (سانتیمتر)",1,1,0,0,{"$f":"(J578-H578)/(I578-G578)","v":1},{"$f":"H578-G578*K578","v":0},null,1,null,100,0,null,null,null,null,null,null,null,null,null,null,null,null,null,null,null,null,null,null,null,null,null,null,null,null,null,264.5]
[null,null,null,null,null,null,null,null,null,null,null,null,null,null,null,null,null,null,null,null,null,null,null,null,null,null,null,null,null,null,null,null,null,null,null,null,null,null,null,null,null,null,265]
[" متغیر ورودی آستین کلوش :",null,null,null,null," متغیر ورودی آستین کلوش :","x1","y1","x2","y2(بهینه)","a","b",null,"کمترین",null,"بیشترین",null,null,null,null,null,null,null,null,null,null,null,null,null,null,null,null,null,null,null,null,null,null,null,null,null,null,265.5]
["بلندی آستین","(از 0 الی 1)",{"$f":"K581*E581+L581","v":0.18999999999999995},"بدون بلندی=0 \nآستین تا مچ=1 ",{"$f":"'مساله سوم مدل 13'!H507","v":37},"بلندی پایین آستین کلوش",30,0.4,10,1,{"$f":"(J581-H581)/(I581-G581)","v":-0.03},{"$f":"H581-G581*K581","v":1.2999999999999998},0,{"$f":"(M581-L581)/K581","v":43.333333333333329},1,{"$f":"(O581-L581)/K581","v":9.9999999999999947},1,{"$f":"(Q581-L581)/K581","v":9.9999999999999947},null,null,null,null,null,null,null,null,null,null,null,null,null,null,null,null,null,null,null,null,null,null,null,null,266]
["زاویه اوزمان آستین (برحسب درجه)","(از 0 الی 30)",{"$f":"K582*E582+L582","v":15},"بدون کلوش=0 \nبهینه=15 ",{"$f":"'مساله سوم مدل 13'!H508","v":15}," اوزمان آستین کلوش ",1,1,0,0,{"$f":"(J582-H582)/(I582-G582)","v":1},{"$f":"H582-G582*K582","v":0},0,{"$f":"(M582-L582)/K582","v":0},30,{"$f":"(O582-L582)/K582","v":30},15,{"$f":"(Q582-L582)/K582","v":15},null,null,null,null,null,null,null,null,null,null,null,null,null,null,null,null,null,null,null,null,null,null,null,null,266.5]
[null,null,null,null,null,null,null,null,null,null,null,null,null,null,null,null,null,null,null,null,null,null,null,null,null,null,null,null,null,null,null,null,null,null,null,null,null,null,null,null,null,null,267]
[" متغیر ورودی آستین کلوش معکوس :",null,null,null,null," متغیر ورودی آستین کلوش معکوس :","x1","y1","x2","y2(بهینه)","a","b",null,"کمترین",null,"بیشترین",null,null,null,null,null,null,null,null,null,null,null,null,null,null,null,null,null,null,null,null,null,null,null,null,null,null,267.5]
["بلندی آستین","(از 0 الی 1)",{"$f":"K585*E585+L585","v":0.39999999999999991},"بدون بلندی=0 \nآستین تا مچ=1 ",{"$f":"'مساله سوم مدل 13'!H511","v":30},"بلندی پایین آستین کلوش معکوس",30,0.4,10,1,{"$f":"(J585-H585)/(I585-G585)","v":-0.03},{"$f":"H585-G585*K585","v":1.2999999999999998},0,{"$f":"(M585-L585)/K585","v":43.333333333333329},1,{"$f":"(O585-L585)/K585","v":9.9999999999999947},1,{"$f":"(Q585-L585)/K585","v":9.9999999999999947},null,null,null,null,null,null,null,null,null,null,null,null,null,null,null,null,null,null,null,null,null,null,null,null,268]
["زاویه اوزمان آستین (برحسب درجه)","(از 0 الی 10)",{"$f":"K586*E586+L586","v":5},"بدون کلوش=0 \nبهینه=5 ",{"$f":"'مساله سوم مدل 13'!H512","v":5}," اوزمان آستین کلوش معکوس ",1,1,0,0,{"$f":"(J586-H586)/(I586-G586)","v":1},{"$f":"H586-G586*K586","v":0},0,{"$f":"(M586-L586)/K586","v":0},10,{"$f":"(O586-L586)/K586","v":10},5,{"$f":"(Q586-L586)/K586","v":5},null,null,null,null,null,null,null,null,null,null,null,null,null,null,null,null,null,null,null,null,null,null,null,null,268.5]
["متغیرهای ورودی شلوار",null,null,null,null,"متغیرهای ورودی شلوار",null,null,null,null,null,null,null,null,null,null,null,null,null,null,null,null,null,null,null,null,null,null,null,null,null,null,null,null,null,null,null,null,null,null,null,null,269]
[null,null,null,null,null,null,null,null,null,null,null,null,null,null,null,null,null,null,null,null,null,null,null,null,null,null,null,null,null,null,null,null,null,null,null,null,null,null,null,null,null,null,269.5]
[" متغیرهای ورودی کلی شلوار",null,null,null,null," متغیرهای ورودی کلی شلوار","x1","y1","x2","y2(بهینه)","a","b",null,"کمترین",null,"بیشترین",null,null,null,null,null,null,null,null,null,null,null,null,null,null,null,null,null,null,null,null,null,null,null,null,null,null,270]
["ضریب گشاد یا تنگ شدن اندازه های عرضی در شلوار   t4 ","(از -0.2 الی 0.3)",{"$f":"K590*E590+L590","v":0},"اندامی=0\nرکاب دار= - 0.15",{"$f":"'طراحی همه الگوها'!N177","v":0},"ضریب گشاد یا تنگ شدن اندازه های عرضی در شلوار    ",1,0.01,0,0,{"$f":"(J590-H590)/(I590-G590)","v":0.01},{"$f":"H590-G590*K590","v":0},-0.2,{"$f":"(M590-L590)/K590","v":-20},0.3,{"$f":"(O590-L590)/K590","v":30},-0.15,{"$f":"(Q590-L590)/K590","v":-15},null,null,null,null,null,null,null,null,null,null,null,null,null,null,null,null,null,null,null,null,null,null,null,null,270.5]
["ضریب گشاد یا تنگ شدن اندازه های طولی در شلوار   t41 ","(از -0.2 الی 0.2)",0,"اندامی=0\nرکاب دار= - 0.07",{"$f":"'مساله سوم مدل 13'!B517","v":0},"ضریب گشاد یا تنگ شدن اندازه های طولی در شلوار    ",1,0.01,0,0,0.01,0,-0.2,-20,0.2,20,-7.0000000000000007E-2,-7.0000000000000009,null,null,null,null,null,null,null,null,null,null,null,null,null,null,null,null,null,null,null,null,null,null,null,null,271]
["ضریب کوتاهی لبه شلوار تا زمین  (قد شلوار)   t1","(از -0.1 الی 1.8)",0.5,"خط زمین=0 \nخط زانو=1 \nخط باسن = 2",{"$f":"'طراحی همه الگوها'!N179","v":20},"ضریب کوتاهی پایین شلوار  (قد شلوار)   ",10,0,30,1,0.05,-0.5,-0.1,8,1.8,45.999999999999993,1,30,null,null,null,null,null,null,null,null,null,null,null,null,null,null,null,null,null,null,null,null,null,null,null,null,271.5]
["ضریب گشادی پاچه شلوار t2","(از 0.8 الی 3)",1.9000000000000008,"بهینه=1.6",{"$f":"'طراحی همه الگوها'!N180","v":18},"ضریب گشادی پاچه شلوار ",1,1.05,0,1,5.0000000000000044E-2,1,0.8,-3.9999999999999956,3,39.999999999999964,1.6,11.999999999999991,null,null,null,null,null,null,null,null,null,null,null,null,null,null,null,null,null,null,null,null,null,null,null,null,272]
["ضریب گشادی دور زانو t3","(از 0.8 الی 2)",1.2000000000000002,"بهینه=1.2",{"$f":"'طراحی همه الگوها'!N181","v":4},"ضریب گشادی دور زانو ",1,1.05,0,1,5.0000000000000044E-2,1,0.8,-3.9999999999999956,2,19.999999999999982,1.2,3.9999999999999956,null,null,null,null,null,null,null,null,null,null,null,null,null,null,null,null,null,null,null,null,null,null,null,null,272.5]
["ضریب عرض زیپ  t14 ","(از 0 الی 0.5)",0,"بهینه=0.3",{"$f":"'طراحی همه الگوها'!N182","v":0},"ضریب عرض زیپ   ",1,0.05,0,0,0.05,0,0,0,0.5,10,0.3,5.9999999999999991,null,null,null,null,null,null,null,null,null,null,null,null,null,null,null,null,null,null,null,null,null,null,null,null,273]
["شیفت افقی کل الگو جلو شلوار (به سانتیمتر)  x1","(از -100 الی100)",5,"بهینه=دلخواه",{"$f":"'طراحی همه الگوها'!N183","v":5},"شیفت افقی کل الگو جلو شلوار (سانتیمتر)  ",1,1,0,0,1,0,-100,-100,100,100,null,null,null,null,null,null,null,null,null,null,null,null,null,null,null,null,null,null,null,null,null,null,null,null,null,null,273.5]
["شیفت عمودی کل الگو جلو شلوار (به سانتیمتر)  y1","(از -100 الی100)",10,"بهینه=دلخواه",{"$f":"'طراحی همه الگوها'!N184","v":10},"شیفت عمودی کل الگو جلو شلوار (سانتیمتر)  ",1,1,0,0,1,0,-100,-100,100,100,null,null,null,null,null,null,null,null,null,null,null,null,null,null,null,null,null,null,null,null,null,null,null,null,null,null,274]
["شیفت افقی کل الگو پشت شلوار (به سانتیمتر)  xp1","(از -100 الی100)",0,"بهینه=دلخواه",{"$f":"'طراحی همه الگوها'!N185","v":0},"شیفت افقی کل الگو پشت شلوار (سانتیمتر)  ",1,1,0,0,1,0,-100,-100,100,100,null,null,null,null,null,null,null,null,null,null,null,null,null,null,null,null,null,null,null,null,null,null,null,null,null,null,274.5]
["شیفت عمودی کل الگو پشت شلوار (به سانتیمتر)  yp1","(از -100 الی100)",10,"بهینه=دلخواه",{"$f":"'طراحی همه الگوها'!N186","v":10},"شیفت عمودی کل الگو پشت شلوار (سانتیمتر)  ",1,1,0,0,1,0,-100,-100,100,100,null,null,null,null,null,null,null,null,null,null,null,null,null,null,null,null,null,null,null,null,null,null,null,null,null,null,275]
[null,null,null,null,null,null,null,null,null,null,null,null,null,null,null,null,null,null,null,null,null,null,null,null,null,null,null,null,null,null,null,null,null,null,null,null,null,null,null,null,null,null,275.5]
[" متغیرهای ورودی - شلوار متصل به بالاتنه",null,null,null,null," متغیرهای ورودی - شلوار متصل به بالاتنه","x1","y1","x2","y2(بهینه)","a","b",null,"کمترین",null,"بیشترین",null,null,null,null,null,null,null,null,null,null,null,null,null,null,null,null,null,null,null,null,null,null,null,null,null,null,276]
[" ضریب بلند شدن فاق در شلوار متصل به بالاتنه   t53 ","(از 0 الی 4)",{"$f":"K602*E602+L602","v":0},"بهینه شلوار متصل به بالاتنه=1\nغیر از آن= 0",{"$f":"'طراحی همه الگوها'!N264","v":10}," ضریب بلند شدن فاق در شلوار متصل به بالاتنه    ",11,0.1,10,0,{"$f":"(J602-H602)/(I602-G602)","v":0.1},{"$f":"H602-G602*K602","v":-1},0,{"$f":"(M602-L602)/K602","v":10},4,{"$f":"(O602-L602)/K602","v":50},1,{"$f":"(Q602-L602)/K602","v":20},null,null,null,null,null,null,null,null,null,null,null,null,null,null,null,null,null,null,null,null,null,null,null,null,276.5]
["ضریب بزرگی پهنای جادکمه پهلو","(از 0 الی 0.1)",{"$f":"K603*E603+L603","v":0.02},"بهینه=0.04",{"$f":"'طراحی همه الگوها'!N265","v":2},"ضریب بزرگی پهنای جادکمه پهلو",1,0.01,0,0,{"$f":"(J603-H603)/(I603-G603)","v":0.01},{"$f":"H603-G603*K603","v":0},0,{"$f":"(M603-L603)/K603","v":0},0.1,{"$f":"(O603-L603)/K603","v":10},0.04,{"$f":"(Q603-L603)/K603","v":4},null,null,null,null,null,null,null,null,null,null,null,null,null,null,null,null,null,null,null,null,null,null,null,null,277]
[null,null,null,null,null,null,null,null,null,null,null,null,null,null,null,null,null,null,null,null,null,null,null,null,null,null,null,null,null,null,null,null,null,null,null,null,null,null,null,null,null,null,277.5]
[" متغیرهای ورودی کمر شلوار",null,null,null,null," متغیرهای ورودی کمر شلوار","x1","y1","x2","y2(بهینه)","a","b",null,"کمترین",null,"بیشترین",null,null,null,null,null,null,null,null,null,null,null,null,null,null,null,null,null,null,null,null,null,null,null,null,null,null,278]
[" پایین آمدن کمر لباس نسبت به کمر اندام به سانتیمتر  t7","(از -2 الی 10)",{"$f":"K606*E606+L606","v":5},"پهنای کش=2الی3  ",{"$f":"'طراحی همه الگوها'!N189","v":-5}," پایین آمدن کمر شلوار نسبت به کمر اندام   ",1,-1,0,0,{"$f":"(J606-H606)/(I606-G606)","v":-1},{"$f":"H606-G606*K606","v":0},-2,{"$f":"(M606-L606)/K606","v":2},10,{"$f":"(O606-L606)/K606","v":-10},2,{"$f":"(Q606-L606)/K606","v":-2},null,null,null,null,null,null,null,null,null,null,null,null,null,null,null,null,null,null,null,null,null,null,null,null,{"$f":"AQ605+0.5","v":278.5}]
[" پهنای کمر شلوار به سانتیمتر  t8","(از 0 الی 10)",3,"پهنای کش=2الی3  ",{"$f":"'طراحی همه الگوها'!N190","v":3}," پهنای کمر جدا در شلوار  (cm) ",1,1,0,0,1,0,0,0,10,10,2,{"$f":"(Q607-L607)/K607","v":2},null,null,null,null,null,null,null,null,null,null,null,null,null,null,null,null,null,null,null,null,null,null,null,null,279]
["کوتاهی جلو کمر شلوار به سانتیمتر t9","(از -2 الی 10)",0,"بدون کوتاهی=0",{"$f":"'طراحی همه الگوها'!N191","v":0},"کوتاهی جلو کمر شلوار نسبت به پشت کمر شلوار (cm) ",1,-1,0,0,-1,0,-2,2,10,-10,0,{"$f":"(Q608-L608)/K608","v":0},null,null,null,null,null,null,null,null,null,null,null,null,null,null,null,null,null,null,null,null,null,null,null,null,279.5]
["شیفت افقی  جلو کمر شلوار (به سانتیمتر)  t49","(از -100 الی100)",0,"بهینه=دلخواه",{"$f":"'طراحی همه الگوها'!N192","v":0},"شیفت افقی  جلو کمر شلوار (سانتیمتر)  ",1,1,0,0,1,0,-100,-100,100,100,null,null,null,null,null,null,null,null,null,null,null,null,null,null,null,null,null,null,null,null,null,null,null,null,null,null,280]
["شیفت عمودی  جلو کمر شلوار (به سانتیمتر)  t50","(از -100 الی100)",5,"بهینه=دلخواه",{"$f":"'طراحی همه الگوها'!N193","v":5},"شیفت عمودی  جلو کمر شلوار (سانتیمتر)  ",1,1,0,0,1,0,-100,-100,100,100,null,null,null,null,null,null,null,null,null,null,null,null,null,null,null,null,null,null,null,null,null,null,null,null,null,null,280.5]
["شیفت افقی  پشت کمر شلوار (به سانتیمتر)  t51","(از -100 الی100)",0,"بهینه=دلخواه",{"$f":"'طراحی همه الگوها'!N194","v":0},"شیفت افقی  پشت کمر شلوار (سانتیمتر)  ",1,1,0,0,1,0,-100,-100,100,100,null,null,null,null,null,null,null,null,null,null,null,null,null,null,null,null,null,null,null,null,null,null,null,null,null,null,281]
["شیفت عمودی  پشت کمر شلوار (به سانتیمتر)  t52","(از -100 الی100)",5,"بهینه=دلخواه",{"$f":"'طراحی همه الگوها'!N195","v":5},"شیفت عمودی  پشت کمر شلوار (سانتیمتر)  ",1,1,0,0,1,0,-100,-100,100,100,null,null,null,null,null,null,null,null,null,null,null,null,null,null,null,null,null,null,null,null,null,null,null,null,null,null,281.5]
[null,null,null,null,null,null,null,null,null,null,null,null,null,null,null,null,null,null,null,null,null,null,null,null,null,null,null,null,null,null,null,null,null,null,null,null,null,null,null,null,null,null,282]
["اطلاعات شلوار و اندام",null,null,null,null,"اطلاعات شلوار و اندام",null,null,null,null,null,null,null,null,null,null,null,null,null,null,null,null,null,null,null,null,null,null,null,null,null,null,null,null,null,null,null,null,null,null,null,null,282.5]
["گشادی لبه شلوار (محاسبه شده)",{"$f":"ROUND(محاسبات!W568-محاسبات!W567+محاسبات!AG568-محاسبات!AG567,1)","v":32.700000000000003},null,null,null,"گشادی لبه شلوار (سانتیمتر) (محاسبه شده)",null,null,null,null,null,null,null,null,null,null,null,null,null,null,null,null,null,null,null,null,null,null,null,null,null,null,null,null,null,null,null,null,null,null,null,null,283]
["دور کمر (اندازه گیری شده)",{"$f":"'متغیرها '!U52","v":53},null,null,null,"دور کمر (سانتیمتر) (اندازه گیری شده)",null,null,null,null,null,null,null,null,null,null,null,null,null,null,null,null,null,null,null,null,null,null,null,null,null,null,null,null,null,null,null,null,null,null,null,null,283.5]
["طول کش برای کل کمر شلوار (محاسبه شده)",{"$f":"ROUND(0.8*B616,1)","v":42.4},null,null,null,"طول کش برای کل کمر شلوار (سانتیمتر) (محاسبه شده)",null,null,null,null,null,null,null,null,null,null,null,null,null,null,null,null,null,null,null,null,null,null,null,null,null,null,null,null,null,null,null,null,null,null,null,null,{"$f":"AQ616+0.5","v":284}]
["طول کش برای پشت کمر بین دو خط پهلو (محاسبه شده)",{"$f":"ROUND(0.8*'متغیرها '!U53,1)","v":20.8},null,null,null,"طول کش برای پشت کمر بین دو خط پهلو (سانتیمتر) (محاسبه شده)",null,null,null,null,null,null,null,null,null,null,null,null,null,null,null,null,null,null,null,null,null,null,null,null,null,null,null,null,null,null,null,null,null,null,null,null,284.5]
["طول کش از ساسون جلو - پشت - تا ساسون دیگر جلو (محاسبه شده)",{"$f":"ROUND(0.8*('متغیرها '!U53+0.3*('متغیرها '!U52-'متغیرها '!U53)),1)","v":27.3},null,null,null,"طول کش از ساسون جلو - پشت - تا ساسون دیگر جلو (سانتیمتر) (محاسبه شده)",null,null,null,null,null,null,null,null,null,null,null,null,null,null,null,null,null,null,null,null,null,null,null,null,null,null,null,null,null,null,null,null,null,null,null,null,285]
[null,null,null,null,null,null,null,null,null,null,null,null,null,null,null,null,null,null,null,null,null,null,null,null,null,null,null,null,null,null,null,null,null,null,null,null,null,null,null,null,null,null,285.5]
[" متغیرهای ورودی جزئی شلوار",null,null,null,null," متغیرهای ورودی جزئی شلوار","x1","y1","x2","y2(بهینه)","a","b",null,"کمترین",null,"بیشترین",null,null,null,null,null,null,null,null,null,null,null,null,null,null,null,null,null,null,null,null,null,null,null,null,null,null,286]
["ضریب گشادی دور ران یا نسبت گشادی پشت پاچه به جلو پاچه  t5","(از 1 الی 1.5)",{"$f":"K622*E622+L622","v":1.2},"بهینه=1.2",{"$f":"'طراحی همه الگوها'!N202","v":1.2},"ضریب گشادی دور ران یا نسبت گشادی پشت پاچه به جلو پاچه  ",2,2,1,1,{"$f":"(J622-H622)/(I622-G622)","v":1},{"$f":"H622-G622*K622","v":0},1,{"$f":"(M622-L622)/K622","v":1},1.5,{"$f":"(O622-L622)/K622","v":1.5},1.2,{"$f":"(Q622-L622)/K622","v":1.2},null,null,null,null,null,null,null,null,null,null,null,null,null,null,null,null,null,null,null,null,null,null,null,null,286.5]
[" نسبت گشادی جلو زانو به پشت زانو  t55","(از 0.7 الی 1.2)",{"$f":"K623*E623+L623","v":1},"بهینه=1",{"$f":"'طراحی همه الگوها'!N203","v":1}," نسبت گشادی جلو زانو به پشت زانو  ",2,2,1,1,{"$f":"(J623-H623)/(I623-G623)","v":1},{"$f":"H623-G623*K623","v":0},1,{"$f":"(M623-L623)/K623","v":1},1.5,{"$f":"(O623-L623)/K623","v":1.5},1.2,{"$f":"(Q623-L623)/K623","v":1.2},null,null,null,null,null,null,null,null,null,null,null,null,null,null,null,null,null,null,null,null,null,null,null,null,287]
["زاویه خط پهلو جلو به درجه  t6","(از 0 الی 10)",{"$f":"K624*E624+L624","v":-1},"بهینه=7\nبهينه پا پرانتزی=4\nکد برای اعمال روش مولر= -1",{"$f":"IF('طراحی همه الگوها'!N204=AN170,-1,'طراحی همه الگوها'!N204)","v":-1},"زاویه خط پهلو جلو به درجه  ",1,1,0,0,{"$f":"(J624-H624)/(I624-G624)","v":1},{"$f":"H624-G624*K624","v":0},0,{"$f":"(M624-L624)/K624","v":0},10,{"$f":"(O624-L624)/K624","v":10},7,{"$f":"(Q624-L624)/K624","v":7},null,null,null,null,null,null,null,null,null,null,null,null,null,null,null,null,null,null,null,null,null,null,null,null,287.5]
["ضریب پهنای صافی لبه پایین شلوار  t10 ","(از 0 الی 0.5)",{"$f":"IF(C592>1,0,K625*E625+L625)","v":0},"بهینه=0.1",{"$f":"'طراحی همه الگوها'!N205","v":0},"ضریب پهنای صافی لبه پایین شلوار   ",1,0.05,0,0,0.05,0,0,0,0.5,10,0.1,2,null,null,null,null,null,null,null,null,null,null,null,null,null,null,null,null,null,null,null,null,null,null,null,null,288]
["ضریب بالا یا پایین رفتن خط زانو  t11 ","(از -0.4 الی 0.6)",{"$f":"K626*E626+L626","v":0},"بدون تغییر=0\nمنفی به سمت بالای زانو\nمثبت به سمت پایین زانو",{"$f":"'طراحی همه الگوها'!N206","v":0},"ضریب بالا یا پایین رفتن خط زانو   ",-1,0.05,0,0,-0.05,0,-0.4,8,0.6,-11.999999999999998,0,0,null,null,null,null,null,null,null,null,null,null,null,null,null,null,null,null,null,null,null,null,null,null,null,null,288.5]
["ضریب پهنای فاق جلو (در روش مولر این ضریب ثابت مساوی 0.06 می باشد)  t12 ","(از 0.03 الی 0.08)",0.05,"بهینه=0.05",{"$f":"'طراحی همه الگوها'!N207","v":5},"ضریب پهنای فاق جلو (در روش مولر این ضریب ثابت مساوی 0.06 می باشد)   ",1,0.01,0,0,0.01,0,0.03,3,0.08,8,0.05,5,null,null,null,null,null,null,null,null,null,null,null,null,null,null,null,null,null,null,null,null,null,null,null,null,289]
["تغییر زاویه خط وسط پا در پشت شلوار  t13 ","(از 0 الی 5)",1,"بهینه=1",{"$f":"'طراحی همه الگوها'!N208","v":2},"تغییر زاویه خط وسط پا در پشت شلوار   ",1,0.5,0,0,0.5,0,0,0,5,10,1,2,null,null,null,null,null,null,null,null,null,null,null,null,null,null,null,null,null,null,null,null,null,null,null,null,289.5]
["ضریب کوتاه شدن ساسون پشت شلوار  t20 ","(از 0.07 الی 1.5)",1,"بهینه=1",{"$f":"'طراحی همه الگوها'!N209","v":20},"ضریب کوتاه شدن ساسون پشت شلوار   ",1,0.05,0,0,0.05,0,7.0000000000000007E-2,1.4000000000000001,1.5,30,1,20,null,null,null,null,null,null,null,null,null,null,null,null,null,null,null,null,null,null,null,null,null,null,null,null,290]
["ضریب کوتاه شدن ساسون جلو شلوار  t21 ","(از 0.1 الی 1.5)",1,"بهینه=1",{"$f":"'طراحی همه الگوها'!N210","v":20},"ضریب کوتاه شدن ساسون جلو شلوار   ",1,0.05,0,0,0.05,0,0.1,2,1.5,30,1,20,null,null,null,null,null,null,null,null,null,null,null,null,null,null,null,null,null,null,null,null,null,null,null,null,290.5]
["ضریب پهنای ساسون وسط پشت شلوار  t42 ","(از 0 الی 1.5)",1,"بهینه=1\nبهینه جین=0.5\nحذف ساسون وسط=0",{"$f":"'طراحی همه الگوها'!N211","v":10},"ضریب پهنای ساسون وسط پشت شلوار   ",1,0.1,0,0,0.1,0,0,0,1.5,15,0.5,5,null,null,null,null,null,null,null,null,null,null,null,null,null,null,null,null,null,null,null,null,null,null,null,null,291]
["ضریب پهنای ساسون پهلو پشت شلوار  t43 ","(از 0 الی 3)",1,"بهینه=1\nبهینه جین=1.5\nانتقال ساسون وسط به پهلو=3",{"$f":"'طراحی همه الگوها'!N212","v":10},"ضریب پهنای ساسون پهلو پشت شلوار   ",1,0.1,0,0,0.1,0,0,0,3,30,1,10,null,null,null,null,null,null,null,null,null,null,null,null,null,null,null,null,null,null,null,null,null,null,null,null,291.5]
["ضریب پهنای ساسون وسط جلو شلوار  t44 ","(از 0 الی 1.5)",1,"بهینه=1\nحذف ساسون وسط=0",{"$f":"'طراحی همه الگوها'!N213","v":10},"ضریب پهنای ساسون وسط جلو شلوار   ",1,0.1,0,0,0.1,0,0,0,1.5,15,1,10,null,null,null,null,null,null,null,null,null,null,null,null,null,null,null,null,null,null,null,null,null,null,null,null,292]
["ضریب پهنای ساسون پهلو جلو شلوار  t45 ","(از 0 الی 2)",1,"بهینه=1\nانتقال ساسون وسط به پهلو=2",{"$f":"'طراحی همه الگوها'!N214","v":10},"ضریب پهنای ساسون پهلو جلو شلوار   ",1,0.1,0,0,0.1,0,0,0,2,20,1,10,null,null,null,null,null,null,null,null,null,null,null,null,null,null,null,null,null,null,null,null,null,null,null,null,292.5]
["ضریب حذف ساسون پهلو در کمر جدا شلوار   t15","(از 0 الی 1)",0,"ساسون حذف شود=0\nساسون حذف نشود=1",{"$f":"'طراحی همه الگوها'!N215","v":0},"ضریب حذف ساسون پهلو در کمر جدا شلوار   ",1,0.1,0,0,0.1,0,0,0,1,10,1,10,null,null,null,null,null,null,null,null,null,null,null,null,null,null,null,null,null,null,null,null,null,null,null,null,293]
[" شبیه ساز   فاق اندازه گیری منهای فاق پشت و جلو",{"$f":"ROUND(محاسبات!L597,1)","v":0.5},null,null,null,null,null,null,null,null,null,null,null,null,null,null,null,null,null,null,null,null,null,null,null,null,null,null,null,null,null,null,null,null,null,null,null,null,null,null,null,null,293.5]
[" زاویه خط پهلو جلوبه درجه",{"$f":"ROUND(محاسبات!K598,1)","v":4.5999999999999996},null,null,null,null,null,null,null,null,null,null,null,null,null,null,null,null,null,null,null,null,null,null,null,null,null,null,null,null,null,null,null,null,null,null,null,null,null,null,null,null,294]
[" شبیه ساز   زاویه خط پهلو جلوبه درجه",{"$f":"ROUND(محاسبات!L598,1)","v":6.9},null,null,null,null,null,null,null,null,null,null,null,null,null,null,null,null,null,null,null,null,null,null,null,null,null,null,null,null,null,null,null,null,null,null,null,null,null,null,null,null,294.5]
["زاویه خط پهلو پشت به درجه",{"$f":"ROUND(محاسبات!K599,1)","v":12.6},null,null,null,null,null,null,null,null,null,null,null,null,null,null,null,null,null,null,null,null,null,null,null,null,null,null,null,null,null,null,null,null,null,null,null,null,null,null,null,null,295]
[" شبیه ساز   زاویه خط پهلو پشت به درجه",{"$f":"ROUND(محاسبات!L599,1)","v":14.9},null,null,null,null,null,null,null,null,null,null,null,null,null,null,null,null,null,null,null,null,null,null,null,null,null,null,null,null,null,null,null,null,null,null,null,null,null,null,null,null,295.5]
[" متغیرهای ورودی شلوار - برش پشت جین",null,null,null,null," متغیرهای ورودی شلوار - برش پشت جین","x1","y1","x2","y2(بهینه)","a","b",null,"کمترین",null,"بیشترین",null,null,null,null,null,null,null,null,null,null,null,null,null,null,null,null,null,null,null,null,null,null,null,null,null,null,296]
["ضریب بالا یا پایین شدن خط برش در قسمت پهلو پشت شلوار جین  t19 ","(از 0.01 الی 1",{"$f":"K642*E642+L642","v":0.5},"بهینه=0.5",{"$f":"'طراحی همه الگوها'!N198","v":20},"ضریب بالا یا پایین شدن خط برش در قسمت پهلو پشت شلوار جین   ",19,0.45,20,0.5,{"$f":"(J642-H642)/(I642-G642)","v":4.9999999999999989E-2},{"$f":"H642-G642*K642","v":-0.49999999999999972},0.01,{"$f":"(M642-L642)/K642","v":10.199999999999996},1,{"$f":"(O642-L642)/K642","v":30.000000000000004},0.5,{"$f":"(Q642-L642)/K642","v":20},null,null,null,null,null,null,null,null,null,null,null,null,null,null,null,null,null,null,null,null,null,null,null,null,296.5]
["ضریب بالا یا پایین شدن خط برش در قسمت مرکزی پشت شلوار جین  t28 ","(از 0.01 الی 1",{"$f":"K643*E643+L643","v":0.6},"بهینه=0.6",{"$f":"'طراحی همه الگوها'!N199","v":20},"ضریب بالا یا پایین شدن خط برش در قسمت مرکزی پشت شلوار جین   ",19,0.55000000000000004,20,0.6,{"$f":"(J643-H643)/(I643-G643)","v":4.9999999999999933E-2},{"$f":"H643-G643*K643","v":-0.39999999999999869},0.01,{"$f":"(M643-L643)/K643","v":8.1999999999999851},1,{"$f":"(O643-L643)/K643","v":28.000000000000011},0.6,{"$f":"(Q643-L643)/K643","v":20},null,null,null,null,null,null,null,null,null,null,null,null,null,null,null,null,null,null,null,null,null,null,null,null,297]
[null,null,null,null,null,null,null,null,null,null,null,null,null,null,null,null,null,null,null,null,null,null,null,null,null,null,null,null,null,null,null,null,null,null,null,null,null,null,null,null,null,null,297.5]
[" متغیرهای ورودی دامن شلواری",null,null,null,null," متغیرهای ورودی دامن شلواری","x1","y1","x2","y2(بهینه)","a","b",null,"کمترین",null,"بیشترین",null,null,null,null,null,null,null,null,null,null,null,null,null,null,null,null,null,null,null,null,null,null,null,null,null,null,298]
[" ضریب بلند شدن فاق در دامن شلواری   t46 ","(از 0 الی 2)",{"$f":"K646*E646+L646","v":0},"بهینه دامن شلواری=1\nغیر از دامن شلواری = 0",{"$f":"'طراحی همه الگوها'!N218","v":10}," ضریب بلند شدن فاق در دامن شلواری    ",11,0.1,10,0,{"$f":"(J646-H646)/(I646-G646)","v":0.1},{"$f":"H646-G646*K646","v":-1},0,{"$f":"(M646-L646)/K646","v":10},2,{"$f":"(O646-L646)/K646","v":30},1,{"$f":"(Q646-L646)/K646","v":20},null,null,null,null,null,null,null,null,null,null,null,null,null,null,null,null,null,null,null,null,null,null,null,null,298.5]
["زاویه اوزمان در جلو دامن شلواری به درجه    t47 ","(از 0 الی 30)",{"$f":"K647*E647+L647","v":8},"بهینه=8",{"$f":"'طراحی همه الگوها'!N219","v":8},"زاویه اوزمان در جلو دامن شلواری به درجه     ",1,1,0,0,{"$f":"(J647-H647)/(I647-G647)","v":1},{"$f":"H647-G647*K647","v":0},0,{"$f":"(M647-L647)/K647","v":0},30,{"$f":"(O647-L647)/K647","v":30},8,{"$f":"(Q647-L647)/K647","v":8},null,null,null,null,null,null,null,null,null,null,null,null,null,null,null,null,null,null,null,null,null,null,null,null,299]
["زاویه اوزمان در پشت دامن شلواری به درجه    t48 ","(از 0 الی 30)",{"$f":"K648*E648+L648","v":8},"بهینه=8",{"$f":"'طراحی همه الگوها'!N220","v":8},"زاویه اوزمان در پشت دامن شلواری به درجه     ",1,1,0,0,{"$f":"(J648-H648)/(I648-G648)","v":1},{"$f":"H648-G648*K648","v":0},0,{"$f":"(M648-L648)/K648","v":0},30,{"$f":"(O648-L648)/K648","v":30},8,{"$f":"(Q648-L648)/K648","v":8},null,null,null,null,null,null,null,null,null,null,null,null,null,null,null,null,null,null,null,null,null,null,null,null,299.5]
[null,null,null,null,null,null,null,null,null,null,null,null,null,null,null,null,null,null,null,null,null,null,null,null,null,null,null,null,null,null,null,null,null,null,null,null,null,null,null,null,null,null,300]
[" متغیرهای ورودی شلوار با تکه پهلو جدا",null,null,null,null," متغیرهای ورودی شلوار با تکه پهلو جدا","x1","y1","x2","y2(بهینه)","a","b",null,"کمترین",null,"بیشترین"]
["ضریب پهنای تکه پهلو جلو شلوار  t29 ","(از 0 الی 0.9)",{"$f":"K651*E651+L651","v":0.60000000000000009},"بهینه=0.6",{"$f":"'طراحی همه الگوها'!N223","v":12},"ضریب پهنای تکه پهلو جلو شلوار   ",1,0.05,0,0,{"$f":"(J651-H651)/(I651-G651)","v":0.05},{"$f":"H651-G651*K651","v":0},0,{"$f":"(M651-L651)/K651","v":0},0.9,{"$f":"(O651-L651)/K651","v":18},0.6,{"$f":"(Q651-L651)/K651","v":11.999999999999998}]
["ضریب پهنای تکه پهلو پشت شلوار  t30 ","(از 0 الی 0.9)",0.30000000000000004,"بهینه=0.3",{"$f":"'طراحی همه الگوها'!N224","v":6},"ضریب پهنای تکه پهلو پشت شلوار   ",1,0.05,0,0,0.05,0,0,0,0.9,18,0.3,{"$f":"(Q652-L652)/K652","v":5.9999999999999991}]
["ضریب باریک شدن پایین تکه پهلو جلو شلوار  t31 ","(از 0 الی 4)",0.5,"بهینه=0.5",{"$f":"'طراحی همه الگوها'!N225","v":5},"ضریب باریک شدن پایین تکه پهلو جلو شلوار   ",1,0.1,0,0,0.1,0,0,0,4,40,0.5,{"$f":"(Q653-L653)/K653","v":5}]
["ضریب باریک شدن پایین تکه پهلو پشت شلوار  t32 ","(از 0 الی 4)",0.5,"بهینه=0.5",{"$f":"'طراحی همه الگوها'!N226","v":5},"ضریب باریک شدن پایین تکه پهلو پشت شلوار   ",1,0.1,0,0,0.1,0,0,0,4,40,0.5,{"$f":"(Q654-L654)/K654","v":5}]
["شیفت افقی تکه پهلو شلوار (به سانتیمتر)  t33","(از -100 الی100)",7,"بهینه=3",{"$f":"'طراحی همه الگوها'!N227","v":7},"شیفت افقی تکه پهلو شلوار (سانتیمتر)  ",1,1,0,0,1,0,-100,-100,100,100]
["شیفت عمودی تکه پهلو شلوار (به سانتیمتر)  t34","(از -100 الی100)",0,"بهینه=3",{"$f":"'طراحی همه الگوها'!N228","v":0},"شیفت عمودی تکه پهلو شلوار (سانتیمتر)  ",1,1,0,0,1,0,-100,-100,100,100]
[]
[" متغیرهای ورودی شلوار - رکاب دار",null,null,null,null," متغیرهای ورودی شلوار - رکاب دار","x1","y1","x2","y2(بهینه)","a","b",null,"کمترین",null,"بیشترین"]
["ضریب پهنای رکاب جلو شلوار  t35 ","(از 0.1 الی 2)",{"$f":"K659*E659+L659","v":1.5},"بهینه=1",{"$f":"'طراحی همه الگوها'!N231","v":30},"ضریب پهنای رکاب جلو شلوار   ",1,0.05,0,0,{"$f":"(J659-H659)/(I659-G659)","v":0.05},{"$f":"H659-G659*K659","v":0},0.1,{"$f":"(M659-L659)/K659","v":2},2,{"$f":"(O659-L659)/K659","v":40},1,{"$f":"(Q659-L659)/K659","v":20}]
["ضریب پهنای رکاب پشت شلوار  t36 ","(از 0.1 الی 2)",0,"بهینه=1",{"$f":"'طراحی همه الگوها'!N232","v":0},"ضریب پهنای رکاب پشت شلوار   ",1,0.05,0,0,0.05,0,0.1,2,2,40,1,20]
["ضریب قله رکاب جلو شلوار  t37 ","(از 0 الی 2)",0.60000000000000009,"بهینه=1\nبدون رکاب = 0",{"$f":"'طراحی همه الگوها'!N233","v":12},"ضریب قله رکاب جلو شلوار   ",1,0.05,0,0,0.05,0,0,0,2,40,1,20]
["ضریب قله رکاب پشت شلوار  t38 ","(از 0 الی 2)",0,"بهینه=1\nبدون رکاب = 0",{"$f":"'طراحی همه الگوها'!N234","v":0},"ضریب قله رکاب پشت شلوار   ",1,0.05,0,0,0.05,0,0,0,2,40,1,20]
["ضریب ارتفاع رکاب جلو شلوار  t39 ","(از 0 الی 2)",0,"بهینه=1\nبدون رکاب = 0",{"$f":"'طراحی همه الگوها'!N235","v":0},"ضریب ارتفاع رکاب جلو شلوار   ",1,0.05,0,0,0.05,0,0,0,2,40,1,20]
["ضریب ارتفاع رکاب پشت شلوار  t40 ","(از 0 الی 2)",0,"بهینه=1\nبدون رکاب = 0",{"$f":"'طراحی همه الگوها'!N236","v":0},"ضریب ارتفاع رکاب پشت شلوار   ",1,0.05,0,0,0.05,0,0,0,2,40,1,20]
["کشیدگی تکه روی پا","(از 0 الی 4)",5,"بهینه=5",{"$f":"'طراحی همه الگوها'!N237","v":5},"کشیدگی تکه روی پا",1,1,0,0,1,0,0,0,4,4,0.5]
["جابجایی عمودی تکه روی پا   در جلو شلوار (سانتیمتر)  ","(از -100 الی100)",-5,"بهینه=3",{"$f":"'طراحی همه الگوها'!N239","v":-5},"جابجایی عمودی تکه روی پا   در جلو شلوار (سانتیمتر)  ",1,1,0,0,1,0,-100,-100,100,100]
["جابجایی عمودی تکه زیر پا  در پشت شلوار (سانتیمتر)  ","(از -100 الی100)",2,"بهینه=3",{"$f":"'طراحی همه الگوها'!N240","v":2},"جابجایی عمودی تکه زیر پا  در پشت شلوار (سانتیمتر)  ",1,1,0,0,1,0,-100,-100,100,100]
[]
[" متغیرهای ورودی شلوار - جیب پشت جین",null,null,null,null," متغیرهای ورودی شلوار - جیب پشت جین","x1","y1","x2","y2(بهینه)","a","b",null,"کمترین",null,"بیشترین"]
["ضریب بالا یا پایین شدن جیب پشت شلوار  t22 ","(از 0 الی 4)",{"$f":"K670*E670+L670","v":0.85000000000000009},"بهینه=0.75",{"$f":"'مساله سوم مدل 13'!E520","v":22},"ضریب بالا یا پایین شدن جیب پشت شلوار   ",19,0.7,20,0.75,{"$f":"(J670-H670)/(I670-G670)","v":5.0000000000000044E-2},{"$f":"H670-G670*K670","v":-0.25000000000000089},0,{"$f":"(M670-L670)/K670","v":5.0000000000000133},4,{"$f":"(O670-L670)/K670","v":84.999999999999943},0.75,{"$f":"(Q670-L670)/K670","v":20}]
["زاویه چرخش کل جیب پشت شلوار به درجه t'22 ","(از -90 الی 90)",0,"بهینه=0",{"$f":"'مساله سوم مدل 13'!E518","v":45},"زاویه چرخش کل جیب پشت شلوار به درجه  ",46,2,45,0,2,-90,-90,0,90,90,0,45]
["ضریب پهنای جیب پشت شلوار  t23 ","(از 0 الی 1)",0,"بهینه=0.55",{"$f":"'مساله سوم مدل 13'!E514","v":0},"ضریب پهنای جیب پشت شلوار   ",1,0.05,0,0,0.05,0,0,0,1,20,0.55000000000000004,11]
["ضریب ارتفاع جیب پشت شلوار  t24 ","(از 0 الی 1)",0,"بهینه=0.45",{"$f":"'مساله سوم مدل 13'!E515","v":0},"ضریب ارتفاع جیب پشت شلوار   ",1,0.05,0,0,0.05,0,0,0,1,20,0.45,9]
["زاویه خط پهلو جیب پشت شلوار به درجه t25 ","(از 0 الی 45",5,"بهینه=5",{"$f":"'مساله سوم مدل 13'!E516","v":5},"زاویه خط پهلو جیب پشت شلوار به درجه  ",1,1,0,0,1,0,0,0,45,45,5,5]
["زاویه مثلث پایین جیب پشت شلوار به درجه t26 ","(از 0 الی 45)",20,"بهینه=20",{"$f":"'مساله سوم مدل 13'!E517","v":20},"زاویه مثلث پایین جیب پشت شلوار به درجه  ",1,1,0,0,1,0,0,0,45,45,20,20]
["چپ و راست رفتن جیب پشت شلوار به سانتی متر   t27 ","(از -100 الی100)",0,"بهینه=0",{"$f":"'مساله سوم مدل 13'!E519","v":0},"چپ و راست رفتن جیب پشت شلوار به سانتی متر    ",1,1,0,0,1,0,-100,-100,100,100]
[]
[" متغیرهای ورودی شلوار - جیب جلو مردانه و جین",null,null,null,null," متغیرهای ورودی شلوار - جیب جلو مردانه و جین","x1","y1","x2","y2(بهینه)","a","b",null,"کمترین",null,"بیشترین"]
["ضریب بزرگی عمودی جیب جلو مردانه و جیب جین  t16 ","(از 0.5 الی 1.5)",{"$f":"K679*E679+L679","v":1},"بهینه=1",{"$f":"'طراحی همه الگوها'!N270","v":10},"ضریب بزرگی عمودی جیب جلو مردانه و جیب جین   ",1,0.1,0,0,{"$f":"(J679-H679)/(I679-G679)","v":0.1},{"$f":"H679-G679*K679","v":0},0.5,{"$f":"(M679-L679)/K679","v":5},1.5,{"$f":"(O679-L679)/K679","v":15},1,{"$f":"(Q679-L679)/K679","v":10}]
["ضریب بزرگی افقی جیب جلو مردانه و جیب جین  t17 ","(از 0.5 الی 1.5)",{"$f":"K680*E680+L680","v":1},"بهینه=1",{"$f":"'طراحی همه الگوها'!N271","v":10},"ضریب بزرگی افقی جیب جلو مردانه و جیب جین   ",1,0.1,0,0,{"$f":"(J680-H680)/(I680-G680)","v":0.1},{"$f":"H680-G680*K680","v":0},0.5,{"$f":"(M680-L680)/K680","v":5},1.5,{"$f":"(O680-L680)/K680","v":15},1,{"$f":"(Q680-L680)/K680","v":10}]
["ضریب بزرگی کیسه جیب جلو  t18 ","(از 0.5 الی 1.5)",{"$f":"K681*E681+L681","v":1},"بهینه=1",{"$f":"'طراحی همه الگوها'!N272","v":10},"ضریب بزرگی کیسه جیب جلو   ",1,0.1,0,0,{"$f":"(J681-H681)/(I681-G681)","v":0.1},{"$f":"H681-G681*K681","v":0},0.5,{"$f":"(M681-L681)/K681","v":5},1.5,{"$f":"(O681-L681)/K681","v":15},1,{"$f":"(Q681-L681)/K681","v":10}]
[]
[" متغیرهای ورودی شلوار - جیب جلو درمکان دلخواه",null,null,null,null," متغیرهای ورودی شلوار - جیب جلو درمکان دلخواه","x1","y1","x2","y2(بهینه)","a","b",null,"کمترین",null,"بیشترین"]
["ضریب فاصله افقی وسط جیب از خط مرکزی جلو ","(از 0 الی 1)",{"$f":"K684*E684+L684","v":0.75},"خط مرکزی جلو=0 \nخط پهلو=1  ",{"$f":"'طراحی همه الگوها'!N280","v":15},"ضریب فاصله افقی وسط جیب از خط مرکزی جلو ",20,1,0,0,{"$f":"(J684-H684)/(I684-G684)","v":0.05},{"$f":"H684-G684*K684","v":0},0,{"$f":"(M684-L684)/K684","v":0},1,{"$f":"(O684-L684)/K684","v":20},1,{"$f":"(Q684-L684)/K684","v":20}]
["ضریب فاصله عمودی بالای جیب از زمین ","(از0 الی 5)",2.0500000000000003,"خط زمین=0 \nخط زانو=1 \nخط باسن=2 \nخط کمر=3 \nخط سینه=4  ",{"$f":"'طراحی همه الگوها'!N281","v":51},"ضریب فاصله عمودی بالای جیب از زمین ",10,0,30,1,0.05,-0.5,0,10,5,110,1,30]
["عرض پاکت جیب به سانتیمتر","(از 0 الی 4)",0,"بهینه=2",{"$f":"'طراحی همه الگوها'!N275","v":0},"پهنای بلیطی جیب  (سانتیمتر)",1,1,0,0,1,0,0,0,4,4,2,2]
["ضریب طول پاکت جیب","(از 0.01 الی 2)",-8.8817841970012523E-16,"بهینه=1",{"$f":"'طراحی همه الگوها'!N276","v":0},"ضریب طول پاکت جیب",19,0.95,20,1,5.0000000000000044E-2,-8.8817841970012523E-16,0.01,0.20000000000001758,2,39.999999999999986,1,20]
["زاویه جیب با عمود به درجه","(از 0 الی 180)",150,"بهینه=دلخواه",{"$f":"'طراحی همه الگوها'!N277","v":30},"زاویه جیب با عمود ",1,5,0,0,5,0,0,0,180,36,20,4]
["زاویه چرخش پاکت جیب از مستطیل به متوازی الاضلاع (به درجه)","(از -90 الی 90)",-25,"پاکت مستطیل=0  ",{"$f":"'طراحی همه الگوها'!N278","v":15},"زاویه چرخش پاکت جیب از مستطیل به متوازی الاضلاع ",21,5,20,0,5,-100,-90,2,90,38,0,20]
["انتخاب جیب روکار=1        انتخاب دیگر=0","0 یا 1 ",0,null,{"$f":"'طراحی همه الگوها'!N279","v":1},"انتخاب جیب روکار=2        انتخاب دیگر=1",1,0,2,1,1,-1,0,1,1,2,0,1]
[]
[" متغیرهای ورودی شلوار - جیب پشت درمکان دلخواه",null,null,null,null," متغیرهای ورودی شلوار - جیب پشت درمکان دلخواه","x1","y1","x2","y2(بهینه)","a","b",null,"کمترین",null,"بیشترین"]
["ضریب فاصله افقی وسط جیب از خط مرکزی جلو ","(از 0 الی 1)",{"$f":"K693*E693+L693","v":0.5},"خط مرکزی پشت=0 \nخط پهلو=1  ",{"$f":"'مساله سوم مدل 13'!E528","v":10},"ضریب فاصله افقی وسط جیب از خط مرکزی جلو ",20,1,0,0,{"$f":"(J693-H693)/(I693-G693)","v":0.05},{"$f":"H693-G693*K693","v":0},0,{"$f":"(M693-L693)/K693","v":0},1,{"$f":"(O693-L693)/K693","v":20},1,{"$f":"(Q693-L693)/K693","v":20}]
["ضریب فاصله عمودی بالای جیب از زمین ","(از0 الی 5)",2,"خط زمین=0 \nخط زانو=1 \nخط باسن=2 \nخط کمر=3 \nخط سینه=4  ",{"$f":"'مساله سوم مدل 13'!E529","v":50},"ضریب فاصله عمودی بالای جیب از زمین ",10,0,30,1,0.05,-0.5,0,10,5,110,1,30]
["عرض پاکت جیب به سانتیمتر","(از 0 الی 4)",0,"بهینه=2",{"$f":"'مساله سوم مدل 13'!E523","v":0},"پهنای بلیطی جیب  (سانتیمتر)",1,1,0,0,1,0,0,0,4,4,2,2]
["ضریب طول پاکت جیب","(از 0.01 الی 2)",-8.8817841970012523E-16,"بهینه=1",{"$f":"'مساله سوم مدل 13'!E524","v":0},"ضریب طول پاکت جیب",19,0.95,20,1,5.0000000000000044E-2,-8.8817841970012523E-16,0.01,0.20000000000001758,2,39.999999999999986,1,20]
["زاویه جیب با عمود به درجه","(از 0 الی 180)",100,"بهینه=دلخواه",{"$f":"'مساله سوم مدل 13'!E525","v":20},"زاویه جیب با عمود ",1,5,0,0,5,0,0,0,180,36,20,4]
["زاویه چرخش پاکت جیب از مستطیل به متوازی الاضلاع (به درجه)","(از -90 الی 90)",0,"پاکت مستطیل=0  ",{"$f":"'مساله سوم مدل 13'!E526","v":20},"زاویه چرخش پاکت جیب از مستطیل به متوازی الاضلاع ",21,5,20,0,5,-100,-90,2,90,38,0,20]
["انتخاب جیب روکار=1        انتخاب دیگر=0","0 یا 1 ",1,null,{"$f":"'مساله سوم مدل 13'!E527","v":2},"انتخاب جیب روکار=2        انتخاب دیگر=1",1,0,2,1,1,-1,0,1,1,2,0,1]
[]
["کمر جدا شلوار یا پیراهن و طراحی شلوار"]
["انتخاب گشادی کمر","0 یا 1 یا 2",{"$f":"K702*E702+L702","v":0},null,{"$f":"'طراحی همه الگوها'!N243","v":1},"انتخاب گشادی کمر",1,0,2,1,{"$f":"(J702-H702)/(I702-G702)","v":1},{"$f":"H702-G702*K702","v":-1},0,{"$f":"(M702-L702)/K702","v":1},1,{"$f":"(O702-L702)/K702","v":2},0,{"$f":"(Q702-L702)/K702","v":1}]
["میزان دیده شدن گشادی در پهلو باسن شلوار","(از0.1 الی 1)",0.60000000000000009,null,{"$f":"'طراحی همه الگوها'!N244","v":6},"میزان دیده شدن گشادی در پهلو باسن شلوار",0,0,1,0.1,0.1,0,0.1,1,1,10]
["میزان دیده شدن گشادی در پهلو زانو شلوار","(از0.1 الی 1)",0.8,null,{"$f":"'طراحی همه الگوها'!N245","v":8},"میزان دیده شدن گشادی در پهلو زانو شلوار",0,0,1,0.1,0.1,0,0.1,1,1,10]
["میزان دیده شدن گشادی در پهلو لبه پایین شلوار","(از0.1 الی 1)",0.8,null,{"$f":"'طراحی همه الگوها'!N246","v":8},"میزان دیده شدن گشادی در پهلو لبه پایین شلوار",0,0,1,0.1,0.1,0,0.1,1,1,10]
["جابجایی پاچه به سمت پهلو","(از0.1 الی 1)",1.05,null,{"$f":"'طراحی همه الگوها'!N247","v":2},"جابجایی پاچه به سمت پهلو",0,1,20,1.5,2.5000000000000001E-2,1,0.1,-36,1,0]
["طراحی طبق الگو شلوار متصل به بالاتنه=1   طبق الگو شلوار جدا=2","0 یا 1 ",0,null,{"$f":"'طراحی همه الگوها'!N248","v":1},"طراحی طبق الگو شلوار متصل به بالاتنه=1   طبق الگو شلوار جدا=2",1,0,2,1,1,-1,0,1,1,2,0]
["  کمر یکسره پیراهن طبق کمر شلوار تغییر کند=2    در غیر اینصورت=1 ","0 یا 1 ",0,null,{"$f":"'طراحی همه الگوها'!N249","v":1},"  کمر یکسره پیراهن طبق کمر شلوار تغییر کند=2    در غیر اینصورت=1 ",1,0,2,1,1,-1,0,{"$f":"(M708-L708)/K708","v":1},1,{"$f":"(O708-L708)/K708","v":2},0]
["متغیرهای ورودی یقه",null,null,null,null,"متغیرهای ورودی یقه"]
[null,null,"y",null,"x",null,"x1","y1","x2","y2(بهینه)","a","b",null,"کمترین",null,"بیشترین"]
[" متغیرهای ورودی یقه شکاری با پایه",null,null,null,null," متغیرهای ورودی یقه شکاری با پایه"]
["ضریب قد پایه یقه   c20","(از 0.5 الی 2)",{"$f":"K712*E712+L712","v":0.8},"بهینه =0.8",{"$f":"'طراحی همه الگوها'!H206","v":8},"ضریب قد پایه یقه   ",1,0.1,0,0,{"$f":"(J712-H712)/(I712-G712)","v":0.1},{"$f":"H712-G712*K712","v":0},0.5,{"$f":"(M712-L712)/K712","v":5},2,{"$f":"(O712-L712)/K712","v":20},0.8,{"$f":"(Q712-L712)/K712","v":8}]
["ضریب قد پشت برگردان یقه   c1","(از 0.5 الی 3)",2.2000000000000002,"بهینه =2",{"$f":"'طراحی همه الگوها'!H207","v":22},"ضریب قد پشت برگردان یقه   ",1,0.1,0,0,0.1,0,0.5,5,3,30,2,20]
["ضریب کج شدن یقه به سمت گردن   c2","(از- 2 الی 0)",-1.3,"بهینه = - 1.3",{"$f":"'طراحی همه الگوها'!H208","v":-13},"ضریب کج شدن یقه به سمت گردن   ",1,0.1,0,0,0.1,0,-2,-20,0,0,-1.3,-13]
["ضریب قرار گرفتن لبه یقه نسبت به لباس   c3","(از 0.3 الی 1)\n- 1 و ",1,"لبه یقه روی خط جادکمه= - 1\nلبه یقه روی خط سرشانه=0\nلبه یقه روی خط مرکزی جلو=1\nبین خط مرکزی جلو تا سرشانه= \nبین 0 تا 1",{"$f":"IF('طراحی همه الگوها'!H209='متغیرها '!AM170,58,IF('طراحی همه الگوها'!H209='متغیرها '!AM171,0,'طراحی همه الگوها'!H209))","v":0},"ضریب قرار گرفتن لبه یقه نسبت به لباس   ",58,-1,0,1,-3.4482758620689655E-2,1,0.3,20.3,1,0,0.3,20.3]
["زاویه لبه برگردان یقه نسبت به عمود  (به درجه)   c14","(از- 40 الی 60)",20,"بهینه =17 \nلبه برگردان عمود به پایه=0",{"$f":"'طراحی همه الگوها'!H210","v":60},"زاویه لبه برگردان یقه نسبت به عمود    ",1,-39,57,17,1,-40,-40,0,60,100,17,57]
["ضریب قد لبه برگردان یقه   c15","(از0.5 الی 4)",2.6,"بهینه =2.3",{"$f":"'طراحی همه الگوها'!H211","v":26},"ضریب قد لبه برگردان یقه   ",1,0.1,0,0,0.1,0,0.5,5,4,40,2.2999999999999998,22.999999999999996]
["شیفت افقی پایه یقه  (به سانتیمتر)   c23","(از -100 الی100)",0,"بهینه=دلخواه",{"$f":"'طراحی همه الگوها'!H212","v":0},"شیفت افقی پایه یقه  (سانتیمتر)   ",1,1,0,0,1,0,null,1,null,100,0]
["شیفت عمودی پایه یقه  (به سانتیمتر)  c24","(از -100 الی100)",-5,"بهینه=دلخواه",{"$f":"'طراحی همه الگوها'!H213","v":-5},"شیفت عمودی پایه یقه  (سانتیمتر)  ",1,1,0,0,1,0,null,1,null,100,0]
[]
[" متغیرهای ورودی یقه فرنچی ایستاده و کاسبرگی",null,null,null,null," متغیرهای ورودی یقه فرنچی ایستاده و کاسبرگی","x1","y1","x2","y2(بهینه)","a","b",null,"کمترین",null,"بیشترین"]
["ضریب قد یقه    c1","(از 0.5 الی 2)",{"$f":"K722*E722+L722","v":1.2000000000000002},"بهینه فرنچی=1.2\nبهینه ایستاده=1.4\nبهینه کاسبرگی=1.8",{"$f":"'طراحی همه الگوها'!H188","v":12},"ضریب قد یقه    ",1,0.1,0,0,{"$f":"(J722-H722)/(I722-G722)","v":0.1},{"$f":"H722-G722*K722","v":0},0.5,{"$f":"(M722-L722)/K722","v":5},2,{"$f":"(O722-L722)/K722","v":20},1.4,{"$f":"(Q722-L722)/K722","v":13.999999999999998}]
["ضریب کج شدن یقه به سمت گردن   c2","(از -2 الی 2)",{"$f":"K723*E723+L723","v":1},"بهینه فرنچی=1.5\nبهینه ایستاده=0\nبهینه کاسبرگی= - 1\nیقه فرنچی= + \nیقه کاسبرگی= -   ",{"$f":"'طراحی همه الگوها'!H189","v":10},"ضریب کج شدن یقه به سمت گردن  ",1,0.1,0,0,{"$f":"(J723-H723)/(I723-G723)","v":0.1},{"$f":"H723-G723*K723","v":0},-2,{"$f":"(M723-L723)/K723","v":-20},2,{"$f":"(O723-L723)/K723","v":20},-1,{"$f":"(Q723-L723)/K723","v":-10}]
["ضریب قرار گرفتن لبه یقه نسبت به لباس   c3     یقه هفت","(از 0.2 الی 1)\n- 1 و ",{"$f":"K724*E724+L724","v":0.5862068965517242},"لبه یقه روی خط جادکمه= - 1\nلبه یقه روی خط سرشانه=0\nلبه یقه روی خط مرکزی جلو=1\nبین خط مرکزی جلو تا سرشانه= \nبین 0 تا 1\nبهینه یقه هفت=0.2",{"$f":"IF('طراحی همه الگوها'!H190='متغیرها '!AM170,58,IF('طراحی همه الگوها'!H190='متغیرها '!AM171,0,'طراحی همه الگوها'!H190))","v":12},"ضریب قرار گرفتن لبه یقه نسبت به لباس        ",58,-1,0,1,{"$f":"(J724-H724)/(I724-G724)","v":-3.4482758620689655E-2},{"$f":"H724-G724*K724","v":1},0.2,{"$f":"(M724-L724)/K724","v":23.200000000000003},1,{"$f":"(O724-L724)/K724","v":0},-1,{"$f":"(Q724-L724)/K724","v":58}]
["ضریب انحنا لبه یقه  c4","(از 0.2 الی 1.2)",{"$f":"K725*E725+L725","v":0.89999999999999991},"بهینه انحنا=0.9",{"$f":"'طراحی همه الگوها'!H191","v":20},"ضریب انحنا لبه یقه  ",5,0.2,20,0.9,{"$f":"(J725-H725)/(I725-G725)","v":4.6666666666666662E-2},{"$f":"H725-G725*K725","v":-3.3333333333333298E-2},0.2,{"$f":"(M725-L725)/K725","v":5},1.2,{"$f":"(O725-L725)/K725","v":26.428571428571427},0.01,{"$f":"(Q725-L725)/K725","v":0.92857142857142794}]
[]
[" متغیرهای ورودی شیفت افقی یقه",null,null,null,null," متغیرهای ورودی شیفت افقی یقه"]
["شیفت افقی همه یقه های جدا  (به سانتیمتر)   c5","(از -100 الی100)",{"$f":"K728*E728+L728","v":-3},"بهینه=دلخواه",{"$f":"'طراحی همه الگوها'!H177","v":-3},"شیفت افقی همه یقه های جدا  (سانتیمتر)   ",1,1,0,0,{"$f":"(J728-H728)/(I728-G728)","v":1},{"$f":"H728-G728*K728","v":0},null,1,null,100,0]
["شیفت عمودی همه یقه های جدا  (به سانتیمتر)  c6","(از -100 الی100)",{"$f":"K729*E729+L729","v":20},"بهینه=دلخواه",{"$f":"'طراحی همه الگوها'!H178","v":20},"شیفت عمودی همه یقه های جدا  (سانتیمتر)  ",1,1,0,0,{"$f":"(J729-H729)/(I729-G729)","v":1},{"$f":"H729-G729*K729","v":0},null,1,null,100,0]
[]
[" متغیرهای ورودی کلاه کلی",null,null,null,null," متغیرهای ورودی کلاه کلی","x1","y1","x2","y2(بهینه)","a","b",null,"کمترین",null,"بیشترین"]
["ضریب بزرگ یا کوچک شدن کلاه","(از -0.2 الی 0.2)",{"$f":"K732*E732+L732","v":0},"بدون تغییر = 0\nکلاه بزرگتر = + \nکلاه کوچکتر =  -  ",{"$f":"'طراحی همه الگوها'!H229","v":0},"ضریب بزرگ یا کوچک شدن کلاه",1,0.01,0,0,{"$f":"(J732-H732)/(I732-G732)","v":0.01},{"$f":"H732-G732*K732","v":0},-0.2,{"$f":"(M732-L732)/K732","v":-20},0.2,{"$f":"(O732-L732)/K732","v":20},0,{"$f":"(Q732-L732)/K732","v":0}]
["انتخاب کلاه برای موهای دم اسبی که از پشت بسته شود =1      انتخاب دیگر=0","0 یا 1 ",0,null,{"$f":"'طراحی همه الگوها'!H230","v":1},"انتخاب کلاه ملوانی برای موهای دم اسبی که از پشت بسته شود ",1,0,2,1,1,-1,0,1,1,2,1,2]
["ضریب پهنای بلیطی جلو کلاه","(از 0  الی 0.8)",0.4,"بهینه=0.4",{"$f":"'طراحی همه الگوها'!H231","v":8},"ضریب پهنای بلیطی جلو کلاه",1,0.05,0,0,0.05,0,0,0,0.8,16,0.4,8]
["ضریب بلندی بلیطی جلو کلاه","(از 0 الی 1.6)",0.4,"بهینه=0.7",{"$f":"'طراحی همه الگوها'!H232","v":8},"ضریب بلندی بلیطی جلو کلاه",1,0.05,0,0,0.05,0,0,0,1.6,32,0.7,13.999999999999998]
["ضریب بلندی انحنا جلو کلاه","(از 0  الی 1)",0.2,"بهینه=0.2",{"$f":"'طراحی همه الگوها'!H233","v":4},"ضریب بلندی انحنا جلو کلاه",1,0.05,0,0,0.05,0,0,0,1,20,0.2,4]
["ضریب پهنای انحنا روی صورت","(از 0  الی 1)",0.4,"بهینه=0.4",{"$f":"'طراحی همه الگوها'!H234","v":8},"ضریب پهنای انحنا روی صورت",1,0.05,0,0,0.05,0,0,0,1,20,0.4,8]
["ضریب پهنای انحنا بالای پیشانی","(از 0 الی 1)",-0.5,"بهینه=0.3",{"$f":"'طراحی همه الگوها'!H235","v":-10},"ضریب پهنای انحنا بالای پیشانی",1,0.05,0,0,{"$f":"(J738-H738)/(I738-G738)","v":0.05},{"$f":"H738-G738*K738","v":0},0,0,1,20,0.3,5.9999999999999991]
[]
[" متغیرهای ورودی شیفت افقی کلاه",null,null,null,null," متغیرهای ورودی شیفت افقی کلاه","x1","y1","x2","y2(بهینه)","a","b",null,"کمترین",null,"بیشترین"]
["شیفت افقی کلاه  (به سانتیمتر)","(از -100 الی100)",{"$f":"K741*E741+L741","v":-30},"بهینه=دلخواه",{"$f":"'طراحی همه الگوها'!H224","v":-30},"شیفت افقی کلاه  (سانتیمتر)",1,1,0,0,{"$f":"(J741-H741)/(I741-G741)","v":1},{"$f":"H741-G741*K741","v":0},null,1,null,100,0]
["شیفت عمودی کلاه (به سانتیمتر)","(از -100 الی100)",{"$f":"K742*E742+L742","v":0},"بهینه=دلخواه",{"$f":"'طراحی همه الگوها'!H225","v":0},"شیفت عمودی کلاه (سانتیمتر)",1,1,0,0,{"$f":"(J742-H742)/(I742-G742)","v":1},{"$f":"H742-G742*K742","v":0},null,1,null,100,0]
["جابجایی افقی تکه پشت سر در کلاه سه تکه  (سانتیمتر)","(از -20 الی20)",{"$f":"K743*E743+L743","v":3},"بهینه=دلخواه",{"$f":"'طراحی همه الگوها'!H226","v":3},"جابجایی افقی تکه پشت سر در کلاه سه تکه  (سانتیمتر)",1,1,0,0,{"$f":"(J743-H743)/(I743-G743)","v":1},{"$f":"H743-G743*K743","v":0},null,1,null,100,0]
[]
[" متغیرهای ورودی کلاه متصل به یقه مربعی",null,null,null,null," متغیرهای ورودی کلاه متصل به یقه مربعی","x1","y1","x2","y2(بهینه)","a","b",null,"کمترین",null,"بیشترین"]
["ضریب جلو یقه روی خط مرکزی","(از 0.1 الی 0.45)",{"$f":"K746*E746+L746","v":0.4},"بهینه=0.3",{"$f":"'طراحی همه الگوها'!H238","v":40},"ضریب جلو یقه روی خط مرکزی",1,0.01,0,0,{"$f":"(J746-H746)/(I746-G746)","v":0.01},{"$f":"H746-G746*K746","v":0},0.1,{"$f":"(M746-L746)/K746","v":10},0.45,{"$f":"(O746-L746)/K746","v":45},0.3,{"$f":"(Q746-L746)/K746","v":30}]
["ضریب نصف جلو کارور","(از 0.2 الی 0.55)",{"$f":"K747*E747+L747","v":0.6},"بهینه=0.48",{"$f":"'طراحی همه الگوها'!H239","v":60},"ضریب نصف جلو کارور",1,0.01,0,0,{"$f":"(J747-H747)/(I747-G747)","v":0.01},{"$f":"H747-G747*K747","v":0},0.2,{"$f":"(M747-L747)/K747","v":20},0.55000000000000004,{"$f":"(O747-L747)/K747","v":55},0.48,{"$f":"(Q747-L747)/K747","v":48}]
[]
[" متغیرهای ورودی کلاه ملوانی",null,null,null,null," متغیرهای ورودی کلاه ملوانی","x1","y1","x2","y2(بهینه)","a","b",null,"کمترین",null,"بیشترین"]
["  باز شدن یقه هفت γ1   تعیین شده در یقه انگلیسی لباس","(از 0.6 الی 0.99)",{"$f":"C165","v":0.45000000000000029}]
["ضریب جلو یقه روی خط مرکزی","(از 0.4 الی 0.99)",{"$f":"K751*E751+L751","v":0.60000000000000009},null,{"$f":"'طراحی همه الگوها'!H242","v":12},"ضریب جلو یقه روی خط مرکزی",1,0.05,0,0,{"$f":"(J751-H751)/(I751-G751)","v":0.05},{"$f":"H751-G751*K751","v":0},0.4,{"$f":"(M751-L751)/K751","v":8},0.99,{"$f":"(O751-L751)/K751","v":19.799999999999997},0.5,{"$f":"(Q751-L751)/K751","v":10}]
["ضریب نصف جلو کارور","(از 0.01 الی 0.1)",{"$f":"K752*E752+L752","v":0.1},null,{"$f":"'طراحی همه الگوها'!H243","v":20},"ضریب نصف جلو کارور",1,5.0000000000000001E-3,0,0,{"$f":"(J752-H752)/(I752-G752)","v":5.0000000000000001E-3},{"$f":"H752-G752*K752","v":0},0.01,{"$f":"(M752-L752)/K752","v":2},0.1,{"$f":"(O752-L752)/K752","v":20},0.02,{"$f":"(Q752-L752)/K752","v":4}]
[]
[" متغیرهای ورودی یقه شکاری ",null,null,null,null," متغیرهای ورودی یقه شکاری ","x1","y1","x2","y2(بهینه)","a","b",null,"کمترین",null,"بیشترین"]
["ضریب قد پشت یقه   c1","(از 0.5 الی 3)",{"$f":"K755*E755+L755","v":2.5},"بهینه =2",{"$f":"'طراحی همه الگوها'!H181","v":25},"ضریب قد پشت یقه   ",1,0.1,0,0,{"$f":"(J755-H755)/(I755-G755)","v":0.1},{"$f":"H755-G755*K755","v":0},0.5,{"$f":"(M755-L755)/K755","v":5},3,{"$f":"(O755-L755)/K755","v":30},2,{"$f":"(Q755-L755)/K755","v":20}]
["ضریب کج شدن  یقه به سمت گردن   c2","(از- 2 الی 0)",{"$f":"K756*E756+L756","v":-0.5},"بهینه = - 0.8",{"$f":"'طراحی همه الگوها'!H182","v":-5},"ضریب کج شدن  یقه به سمت گردن   ",1,0.1,0,0,{"$f":"(J756-H756)/(I756-G756)","v":0.1},{"$f":"H756-G756*K756","v":0},-2,{"$f":"(M756-L756)/K756","v":-20},0,{"$f":"(O756-L756)/K756","v":0},-0.8,{"$f":"(Q756-L756)/K756","v":-8}]
["ضریب قرار گرفتن لبه یقه نسبت به لباس   c3","(از 0.3 الی 1)\n- 1 و ",{"$f":"K757*E757+L757","v":1},"لبه یقه روی خط جادکمه= - 1\nلبه یقه روی خط سرشانه=0\nلبه یقه روی خط مرکزی جلو=1\nبین خط مرکزی جلو تا سرشانه= \nبین 0 تا 1",{"$f":"IF('طراحی همه الگوها'!H183='متغیرها '!AM170,58,IF('طراحی همه الگوها'!H183='متغیرها '!AM171,0,'طراحی همه الگوها'!H183))","v":0},"ضریب قرار گرفتن لبه یقه نسبت به لباس   ",58,-1,0,1,{"$f":"(J757-H757)/(I757-G757)","v":-3.4482758620689655E-2},{"$f":"H757-G757*K757","v":1},0.3,{"$f":"(M757-L757)/K757","v":20.3},1,{"$f":"(O757-L757)/K757","v":0},-1,{"$f":"(Q757-L757)/K757","v":58}]
["زاویه لبه برگردان یقه نسبت به عمود  (به درجه)   c14","(از- 40 الی 60)",{"$f":"K758*E758+L758","v":5},"بهینه =17 \nلبه برگردان عمود به پایه=0",{"$f":"'طراحی همه الگوها'!H184","v":45},"زاویه لبه برگردان یقه نسبت به عمود     ",1,-39,57,17,{"$f":"(J758-H758)/(I758-G758)","v":1},{"$f":"H758-G758*K758","v":-40},-40,{"$f":"(M758-L758)/K758","v":0},60,{"$f":"(O758-L758)/K758","v":100},17,{"$f":"(Q758-L758)/K758","v":57}]
["ضریب قد لبه برگردان یقه   c15","(از0.5 الی 4)",{"$f":"K759*E759+L759","v":3.5},"بهینه =2.3",{"$f":"'طراحی همه الگوها'!H185","v":35},"ضریب قد لبه برگردان یقه   ",1,0.1,0,0,{"$f":"(J759-H759)/(I759-G759)","v":0.1},{"$f":"H759-G759*K759","v":0},0.5,{"$f":"(M759-L759)/K759","v":5},4,{"$f":"(O759-L759)/K759","v":40},2.2999999999999998,{"$f":"(Q759-L759)/K759","v":22.999999999999996}]
[]
[" متغیرهای ورودی یقه شومیزیه ",null,null,null,null," متغیرهای ورودی یقه شومیزیه ","x1","y1","x2","y2(بهینه)","a","b",null,"کمترین",null,"بیشترین"]
["ضریب قد پایه یقه   c1","(از 0.5 الی 2)",{"$f":"K762*E762+L762","v":2},"بهینه =1.5",{"$f":"'طراحی همه الگوها'!H194","v":20},"ضریب قد پایه یقه   ",1,0.1,0,0,{"$f":"(J762-H762)/(I762-G762)","v":0.1},{"$f":"H762-G762*K762","v":0},0.5,{"$f":"(M762-L762)/K762","v":5},2,{"$f":"(O762-L762)/K762","v":20},1.5,{"$f":"(Q762-L762)/K762","v":15}]
["ضریب کج شدن پایه یقه به سمت گردن   c2","پایه جدا :\n(از0.1 الی 2)\nپایه سرخود :\n(از 0 الی -1 )",-0.8,"بهینه پایه جدا =0.5 \nبهینه پایه سرخود= - 0.4",{"$f":"'طراحی همه الگوها'!H195","v":-8},"ضریب کج شدن پایه یقه به سمت گردن   ",1,0.1,0,0,{"$f":"(J763-H763)/(I763-G763)","v":0.1},{"$f":"H763-G763*K763","v":0},-1,-10,2,20,-0.4,-4]
["ضریب قرار گرفتن لبه پایه یقه نسبت به لباس   c3","(از 0.3 الی 1)\n- 1 و ",0.89655172413793105,"لبه یقه روی خط جادکمه= - 1\nلبه یقه روی خط سرشانه=0\nلبه یقه روی خط مرکزی جلو=1\nبین خط مرکزی جلو تا سرشانه= \nبین 0 تا 1",{"$f":"IF('طراحی همه الگوها'!H196='متغیرها '!AM170,58,IF('طراحی همه الگوها'!H196='متغیرها '!AM171,0,'طراحی همه الگوها'!H196))","v":3},"ضریب قرار گرفتن لبه پایه یقه نسبت به لباس   ",58,-1,0,1,{"$f":"(J764-H764)/(I764-G764)","v":-3.4482758620689655E-2},{"$f":"H764-G764*K764","v":1},0.3,20.3,1,0,1,0]
["ضریب انحنا لبه پایه یقه  c4","(از 0.2 الی 1.2)",0.89999999999999991,"بهینه انحنا=0.9",{"$f":"'طراحی همه الگوها'!H197","v":20},"ضریب انحنا لبه پایه یقه  ",5,0.2,20,0.9,{"$f":"(J765-H765)/(I765-G765)","v":4.6666666666666662E-2},{"$f":"H765-G765*K765","v":-3.3333333333333298E-2},0.2,5,1.2,26.428571428571427,0.9,20.000000000000004]
["ضریب قد پشت برگردان یقه   c1","(از 0.5 الی 3)",3,"بهینه =2.1",{"$f":"'طراحی همه الگوها'!H198","v":30},"ضریب قد پشت برگردان یقه   ",1,0.1,0,0,{"$f":"(J766-H766)/(I766-G766)","v":0.1},{"$f":"H766-G766*K766","v":0},0.5,5,3,30,2.1,21]
["ضریب کج شدن برگردان یقه به سمت گردن   c2","پایه جدا :\n(از - 0.1 الی -2 )\nپایه سرخود :\n(از 0 الی  -1  )",-0.60000000000000009,"بهینه پایه جدا =  - 0.7 \nبهینه پایه سرخود= - 0.4",{"$f":"'طراحی همه الگوها'!H199","v":-6},"ضریب کج شدن برگردان یقه به سمت گردن   ",1,0.1,0,0,0.1,0,-2,-20,0,0,-0.7,-6.9999999999999991]
["زاویه لبه برگردان یقه نسبت به عمود  (به درجه)   c14","(از- 40 الی 60)",25,"بهینه =5 \nلبه برگردان عمود به پایه=0",{"$f":"'طراحی همه الگوها'!H200","v":65},"زاویه لبه برگردان یقه نسبت به عمود    ",1,-39,57,17,1,-40,-40,0,60,100,5,45]
["ضریب قد لبه برگردان یقه   c15","(از0.5 الی 4)",4,"بهینه =2",{"$f":"'طراحی همه الگوها'!H201","v":40},"ضریب قد لبه برگردان یقه   ",1,0.1,0,0,0.1,0,0.5,5,4,40,2,20]
["شیفت افقی برگردان یقه  (به سانتیمتر)   c16","(از -100 الی100)",0,"بهینه=دلخواه",{"$f":"'طراحی همه الگوها'!H202","v":0},"شیفت افقی برگردان یقه  (سانتیمتر)   ",1,1,0,0,1,0,null,1,null,100,0]
["شیفت عمودی برگردان یقه  (به سانتیمتر)  c17","(از -100 الی100)",45,"بهینه=دلخواه",{"$f":"'طراحی همه الگوها'!H203","v":45},"شیفت عمودی برگردان یقه  (سانتیمتر)  ",1,1,0,0,1,0,null,1,null,100,0]
[]
[" متغیرهای ورودی یقه ب ب مثلثی و گرد",null,null,null,null," متغیرهای ورودی یقه ب ب مثلثی و گرد","x1","y1","x2","y2(بهینه)","a","b",null,"کمترین",null,"بیشترین"]
["زاویه جلو یقه ب ب مثلثی  c1","(از 0 الی 50)",{"$f":"K774*E774+L774","v":20},"بهینه=25",{"$f":"'طراحی همه الگوها'!H216","v":20},"زاویه جلو یقه ب ب مثلثی",19,19,20,20,{"$f":"(J774-H774)/(I774-G774)","v":1},{"$f":"H774-G774*K774","v":0},0,{"$f":"(M774-L774)/K774","v":0},50,{"$f":"(O774-L774)/K774","v":50},25,{"$f":"(Q774-L774)/K774","v":25}]
["ضریب پهنای یقه ب ب مثلثی و گرد c2","(از 0.3 الی 1)",0.5,"بهینه=0.5",{"$f":"'طراحی همه الگوها'!H217","v":20},"ضریب پهنای یقه ب ب مثلثی و گرد ",10,0.3,20,0.5,0.02,9.9999999999999978E-2,0.3,10,1,45,0.5,{"$f":"(Q775-L775)/K775","v":20}]
["انحنا نقطه بالایی یقه ب ب گرد c4","(از 0.2 الی 1.2)",0.66666666666666663,"بهینه انحنا=0.9",{"$f":"'طراحی همه الگوها'!H219","v":15}," ضریب انحنا لبه یقه ب ب گرد ",5,0.2,20,0.9,4.6666666666666662E-2,-3.3333333333333298E-2,0.2,5,1.2,26.428571428571427]
["انحنا نقطه میانی یقه ب ب گرد c21","(از 0.2 الی 1.2)",1.1333333333333333,"بهینه انحنا=0.9",{"$f":"'طراحی همه الگوها'!H220","v":25}," ضریب انحنا لبه یقه ب ب گرد ",5,0.2,20,0.9,4.6666666666666662E-2,-3.3333333333333298E-2,0.2,5,1.2,26.428571428571427]
["انحنا نقطه پایینی یقه ب ب گرد c23","(از 0.2 الی 1.2)",20,"بهینه انحنا=0.9",{"$f":"'طراحی همه الگوها'!H221","v":20}," ضریب انحنا لبه یقه ب ب گرد ",1,1,2,2,1,0,0.2,0.2,1.2,1.2]
["ضریب قرار گرفتن لبه یقه نسبت به جلو لباس   c3","(از 0.3 الی 1)\n- 1 و ",1,"لبه یقه روی خط جادکمه= - 1\nلبه یقه روی خط سرشانه=0\nلبه یقه روی خط مرکزی جلو=1\nبین خط مرکزی جلو تا سرشانه= \nبین 0 تا 1",{"$f":"IF('طراحی همه الگوها'!H218='متغیرها '!AM170,58,IF('طراحی همه الگوها'!H218='متغیرها '!AM171,0,'طراحی همه الگوها'!H218))","v":0},"ضریب قرار گرفتن لبه یقه نسبت به جلو لباس  ",58,-1,0,1,-3.4482758620689655E-2,1,0.3,20.3,1,0]
[]
[" متغیرهای ورودی کلاه مستطیل",null,null,null,null," متغیرهای ورودی کلاه مستطیل","x1","y1","x2","y2(بهینه)","a","b",null,"کمترین",null,"بیشترین"]
["میزان کشیدگی دور سر کلاه","(از 0 الی 10)",{"$f":"K782*E782+L782","v":2},"بهینه=5",{"$f":"'طراحی همه الگوها'!H246","v":2},"میزان کشیدگی دور سر کلاه",1,1,0,0,{"$f":"(J782-H782)/(I782-G782)","v":1},{"$f":"H782-G782*K782","v":0},-10,{"$f":"(M782-L782)/K782","v":-10},100,{"$f":"(O782-L782)/K782","v":100}]
["بلندی کلاه","(از -10 الی 50)",{"$f":"K783*E783+L783","v":0},"بهینه=0",{"$f":"'طراحی همه الگوها'!H247","v":0},"بلندی کلاه",1,1,0,0,{"$f":"(J783-H783)/(I783-G783)","v":1},{"$f":"H783-G783*K783","v":0},-10,{"$f":"(M783-L783)/K783","v":-10},100,{"$f":"(O783-L783)/K783","v":100}]
[]
["شالگردن",null,null,null,null,"شالگردن","x1","y1","x2","y2(بهینه)","a","b",null,"کمترین",null,"بیشترین"]
["پهنای شالگردن ","(از 0 الی 40)",{"$f":"K786*E786+L786","v":20},"بهینه=20",{"$f":"'طراحی همه الگوها'!H250","v":20},"پهنای شالگردن ",1,1,0,0,{"$f":"(J786-H786)/(I786-G786)","v":1},{"$f":"H786-G786*K786","v":0},-10,{"$f":"(M786-L786)/K786","v":-10},100,{"$f":"(O786-L786)/K786","v":100}]
["طول شالگردن  ","(از 0 الی 40)",{"$f":"K787*E787+L787","v":20},"بهینه=20",{"$f":"'طراحی همه الگوها'!H251","v":20},"طول شالگردن  ",1,1,0,0,{"$f":"(J787-H787)/(I787-G787)","v":1},{"$f":"H787-G787*K787","v":0},-10,{"$f":"(M787-L787)/K787","v":-10},100,{"$f":"(O787-L787)/K787","v":100}]
[]
["متغیرهای ورودی دامن",null,null,null,null,"متغیرهای ورودی یقه"]
[null,null,"y",null,"x",null,"x1","y1","x2","y2(بهینه)","a","b",null,"کمترین",null,"بیشترین"]
[" متغیرهای ورودی زیپ و چاک دامن",null,null,null,null," متغیرهای ورودی یقه شکاری با پایه"]
["عرض (پهنا) زیپ در خط پهلو  (سانتیمتر)   ","(از 0 الی 10)",{"$f":"IF(C707=1,0,K792*E792+L792)","v":4},"بهینه =3",{"$f":"'طراحی همه الگوها'!E379","v":4},"ضریب قد پایه یقه   ",1,1,0,0,{"$f":"(J792-H792)/(I792-G792)","v":1},{"$f":"H792-G792*K792","v":0},0,{"$f":"(M792-L792)/K792","v":0},10,{"$f":"(O792-L792)/K792","v":10},3,{"$f":"(Q792-L792)/K792","v":3}]
["ضریب طول (بلندی) زیپ در خط پهلو  ","(از 0 الی 20)",{"$f":"K793*E793+L793","v":16},"بهینه =16",{"$f":"'طراحی همه الگوها'!E380","v":16},"ضریب قد پشت برگردان یقه   ",1,1,0,0,1,0,0,0,20,20,16,16]
["عرض (پهنا) زیپ در خط مرکزی پشت  (سانتیمتر)   ","(از 0 الی 10)",{"$f":"IF(C707=1,0,K794*E794+L794)","v":5},"بهینه =3",{"$f":"'طراحی همه الگوها'!E381","v":5},"ضریب کج شدن یقه به سمت گردن   ",1,1,0,0,1,0,0,0,10,10,3,3]
["ضریب طول (بلندی) زیپ در خط مرکزی پشت  ","(از 0 الی 20)",{"$f":"K795*E795+L795","v":16},"بهینه =16",{"$f":"'طراحی همه الگوها'!E382","v":16},"ضریب قرار گرفتن لبه یقه نسبت به لباس   ",1,1,0,0,1,0,0,0,20,20,16,16]
["عرض (پهنا) چاک در خط مرکزی پشت  (سانتیمتر)   ","(از 0 الی 10)",{"$f":"K796*E796+L796","v":0},"بهینه =4",{"$f":"'طراحی همه الگوها'!E383","v":0},"زاویه لبه برگردان یقه نسبت به عمود    ",1,1,0,0,1,0,0,0,10,10,4,4]
["ضریب طول (بلندی) چاک در خط مرکزی پشت  ","(از 0 الی 20)",{"$f":"K797*E797+L797","v":20},"بهینه =16",{"$f":"'طراحی همه الگوها'!E384","v":20},"ضریب قد لبه برگردان یقه   ",1,1,0,0,1,0,0,0,20,20,16,16]
[]
[" پیلی ها  (متقارن یا نامتقارن در جلو دامن)",null,null,null,null," پیلی ها  (متقارن یا نامتقارن در جلو دامن)"]
[" عرض پیلی 2 (بعد از دوخت) - جلو  (سانتیمتر)     ","(از 0 الی 10)",{"$f":"K800*E800+L800","v":0},"بهینه =3",{"$f":"'طراحی همه الگوها'!E387","v":0}," عرض پیلی 2 (بعد از دوخت) - جلو  (سانتیمتر)     ",1,1,0,0,{"$f":"(J800-H800)/(I800-G800)","v":1},{"$f":"H800-G800*K800","v":0},0,{"$f":"(M800-L800)/K800","v":0},10,{"$f":"(O800-L800)/K800","v":10},3,{"$f":"(Q800-L800)/K800","v":3}]
[" عرض پیلی 3 (بعد از دوخت) - جلو  (سانتیمتر)   ","(از 0 الی 10)",0,"بهینه =3",{"$f":"'طراحی همه الگوها'!E388","v":0}," عرض پیلی 3 (بعد از دوخت) - جلو  (سانتیمتر)   ",1,1,0,0,1,0,0,0,20,20,16,16]
[" عرض پیلی 4 (بعد از دوخت) - جلو   (سانتیمتر)   ","(از 0 الی 10)",0,"بهینه =3",{"$f":"'طراحی همه الگوها'!E389","v":0}," عرض پیلی 4 (بعد از دوخت) - جلو   (سانتیمتر)   ",1,1,0,0,1,0,0,0,10,10,3,3]
[" عرض پیلی 5 (بعد از دوخت) - روی خط مرکزی جلو  (سانتیمتر)    ","(از 0 الی 10)",0,"بهینه =3",{"$f":"'طراحی همه الگوها'!E390","v":0}," عرض پیلی 5 (بعد از دوخت) - روی خط مرکزی جلو  (سانتیمتر)    ",1,1,0,0,1,0,0,0,20,20,16,16]
[" عرض پیلی 6 (بعد از دوخت) -  جلو  (سانتیمتر)     ","(از 0 الی 10)",0,"بهینه =3",{"$f":"'طراحی همه الگوها'!E391","v":0}," عرض پیلی 6 (بعد از دوخت) -  جلو  (سانتیمتر)     ",1,1,0,0,1,0,0,0,10,10,4,4]
[" عرض پیلی 7 (بعد از دوخت) - جلو   (سانتیمتر)   ","(از 0 الی 10)",0,"بهینه =3",{"$f":"'طراحی همه الگوها'!E392","v":0}," عرض پیلی 7 (بعد از دوخت) - جلو   (سانتیمتر)   ",1,1,0,0,1,0,0,0,20,20,16,16]
[" عرض پیلی 8 (بعد از دوخت) - جلو   (سانتیمتر)   ","(از 0 الی 10)",0,"بهینه =3",{"$f":"'طراحی همه الگوها'!E393","v":0}," عرض پیلی 8 (بعد از دوخت) - جلو   (سانتیمتر)   ",1,1,0,0,1,0,0,0,10,10,4,4]
[]
[" پیلی ها  (متقارن یا نامتقارن در پهلو دامن)",null,null,null,null," پیلی ها  (متقارن یا نامتقارن در پهلو دامن)"]
[" عرض پیلی 1 (بعد از دوخت) - روی پهلو چپ  (سانتیمتر)    ","(از 0 الی 10)",{"$f":"K809*E809+L809","v":0},"بهینه =3",{"$f":"'طراحی همه الگوها'!E396","v":0}," عرض پیلی 1 (بعد از دوخت) - روی پهلو چپ  (سانتیمتر)    ",1,1,0,0,{"$f":"(J809-H809)/(I809-G809)","v":1},{"$f":"H809-G809*K809","v":0},0,{"$f":"(M809-L809)/K809","v":0},10,{"$f":"(O809-L809)/K809","v":10},4,{"$f":"(Q809-L809)/K809","v":4}]
[" عرض پیلی 9 (بعد از دوخت) - روی پهلو راست   (سانتیمتر)   ","(از 0 الی 10)",{"$f":"K810*E810+L810","v":0},"بهینه =3",{"$f":"'طراحی همه الگوها'!E397","v":0}," عرض پیلی 9 (بعد از دوخت) - روی پهلو راست   (سانتیمتر)   ",1,1,0,0,{"$f":"(J810-H810)/(I810-G810)","v":1},{"$f":"H810-G810*K810","v":0},0,{"$f":"(M810-L810)/K810","v":0},20,{"$f":"(O810-L810)/K810","v":20},16,{"$f":"(Q810-L810)/K810","v":16}]
[]
[" پیلی ها  (متقارن یا نامتقارن در پشت دامن)",null,null,null,null," پیلی ها  (متقارن یا نامتقارن در پشت دامن)"]
[" عرض پیلی 10 (بعد از دوخت) - پشت  (سانتیمتر)     ","(از 0 الی 10)",{"$f":"K813*E813+L813","v":0},"بهینه =3",{"$f":"'طراحی همه الگوها'!E400","v":0}," عرض پیلی 10 (بعد از دوخت) - پشت  (سانتیمتر)     ",1,1,0,0,{"$f":"(J813-H813)/(I813-G813)","v":1},{"$f":"H813-G813*K813","v":0},0,{"$f":"(M813-L813)/K813","v":0},10,{"$f":"(O813-L813)/K813","v":10},3,{"$f":"(Q813-L813)/K813","v":3}]
[" عرض پیلی 11 (بعد از دوخت) - پشت  (سانتیمتر)   ","(از 0 الی 10)",0,"بهینه =3",{"$f":"'طراحی همه الگوها'!E401","v":0}," عرض پیلی 11 (بعد از دوخت) - پشت  (سانتیمتر)   ",1,1,0,0,1,0,0,0,20,20,16,16]
[" عرض پیلی 12 (بعد از دوخت) - پشت   (سانتیمتر)   ","(از 0 الی 10)",0,"بهینه =3",{"$f":"'طراحی همه الگوها'!E402","v":0}," عرض پیلی 12 (بعد از دوخت) - پشت   (سانتیمتر)   ",1,1,0,0,1,0,0,0,10,10,3,3]
[" عرض پیلی 13 (بعد از دوخت) - روی خط مرکزی پشت  (سانتیمتر)    ","(از 0 الی 10)",0,"بهینه =3",{"$f":"'طراحی همه الگوها'!E403","v":0}," عرض پیلی 13 (بعد از دوخت) - روی خط مرکزی پشت  (سانتیمتر)    ",1,1,0,0,1,0,0,0,20,20,16,16]
[" عرض پیلی 14 (بعد از دوخت) -  پشت  (سانتیمتر)     ","(از 0 الی 10)",0,"بهینه =3",{"$f":"'طراحی همه الگوها'!E404","v":0}," عرض پیلی 14 (بعد از دوخت) -  پشت  (سانتیمتر)     ",1,1,0,0,1,0,0,0,10,10,4,4]
[" عرض پیلی 15 (بعد از دوخت) - پشت   (سانتیمتر)   ","(از 0 الی 10)",0,"بهینه =3",{"$f":"'طراحی همه الگوها'!E405","v":0}," عرض پیلی 15 (بعد از دوخت) - پشت   (سانتیمتر)   ",1,1,0,0,1,0,0,0,20,20,16,16]
[" عرض پیلی 16 (بعد از دوخت) - پشت   (سانتیمتر)   ","(از 0 الی 10)",0,"بهینه =3",{"$f":"'طراحی همه الگوها'!E406","v":0}," عرض پیلی 16 (بعد از دوخت) - پشت   (سانتیمتر)   ",1,1,0,0,1,0,0,0,10,10,4,4]
["جابجایی افقی قرینه پشت دامن (سانتیمتر)","(از -50 الی50)",0,"بهینه=دلخواه",{"$f":"'طراحی همه الگوها'!E407","v":0},"جابجایی افقی قرینه پشت دامن (سانتیمتر)",1,1,0,0,1,0,null,1,null,100,0]
[]
["طراحی دامن چند طبقه چین"]
["j0   اتصال به دامن تنگ = 3    اتصال به بالاتنه با ساسون=2   اتصال به پیراهن راسته=1","1 یا 2 یا 3 ",{"$f":"K823*E823+L823","v":3},null,{"$f":"'طراحی همه الگوها'!E410","v":3},"اتصال به دامن تنگ = 3    اتصال به بالاتنه با ساسون=2   اتصال به پیراهن راسته=1",1,1,2,2,{"$f":"(J823-H823)/(I823-G823)","v":1},{"$f":"H823-G823*K823","v":0},null,1,null,2]
["مکان پایین دامن طبقه اول   j2 ","(از 0 الی 4)",0.75,"خط زمین=0 \nخط زانو=1 \nخط باسن=2 \nخط کمر=3 \nخط سینه=4  ",{"$f":"'طراحی همه الگوها'!E411","v":25},"مکان پایین دامن طبقه اول    ",10,0,30,1,0.05,-0.5,0,{"$f":"(M824-L824)/K824","v":10},4,100,0.25,{"$f":"(Q824-L824)/K824","v":15}]
["چین در دامن طبقه اول   j3","(از 0 الی 3)",{"$f":"K825*E825+L825","v":0.10000000000000009},null,{"$f":"'طراحی همه الگوها'!E412","v":1.1000000000000001},"چین در دامن طبقه اول",2,1,1,0,1,-1,0,1,3,{"$f":"(O825-L825)/K825","v":4},0.9,1.9]
["مکان پایین دامن طبقه دوم    j4","(از 0 الی 4)",0.5,"خط زمین=0 \nخط زانو=1 \nخط باسن=2 \nخط کمر=3 \nخط سینه=4  ",{"$f":"'طراحی همه الگوها'!E413","v":20},"مکان پایین دامن طبقه دوم    ",10,0,30,1,0.05,-0.5,0,10,4,100,0.25,15]
["چین در دامن طبقه دوم    j5","(از 0 الی 3)",{"$f":"K827*E827+L827","v":1},null,{"$f":"'طراحی همه الگوها'!E414","v":2},"چین در دامن طبقه دوم",2,1,1,0,1,-1,0,1,3,{"$f":"(O827-L827)/K827","v":4},0.9,1.9]
["مکان پایین دامن طبقه سوم    j6","(از 0 الی 4)",0.25,"خط زمین=0 \nخط زانو=1 \nخط باسن=2 \nخط کمر=3 \nخط سینه=4  ",{"$f":"'طراحی همه الگوها'!E415","v":15},"مکان پایین دامن طبقه سوم    ",10,0,30,1,0.05,-0.5,0,10,4,100,0.25,15]
["چین در دامن طبقه سوم   j7","(از 0 الی 3)",0.10000000000000009,null,{"$f":"'طراحی همه الگوها'!E416","v":1.1000000000000001},"چین در دامن طبقه سوم",2,1,1,0,1,-1,0,1,3,{"$f":"(O829-L829)/K829","v":4},0.9,1.9]
["مکان پایین دامن طبقه چهارم    j8","(از 0 الی 4)",0,"خط زمین=0 \nخط زانو=1 \nخط باسن=2 \nخط کمر=3 \nخط سینه=4  ",{"$f":"'طراحی همه الگوها'!E417","v":10},"مکان پایین دامن طبقه چهارم    ",10,0,30,1,0.05,-0.5,0,10,4,100,0.25,15]
["چین در دامن طبقه چهارم    j9","(از 0 الی 3)",0.19999999999999996,null,{"$f":"'طراحی همه الگوها'!E418","v":1.2},"چین در دامن طبقه چهارم",2,1,1,0,1,-1,0,1,3,{"$f":"(O831-L831)/K831","v":4},0.9,1.9]
["جابجایی افقی جلو دامن چند طبقه (سانتیمتر)  j10","(از -100 الی100)",0,"بهینه=دلخواه",{"$f":"'طراحی همه الگوها'!E419","v":0},"جابجایی افقی جلو دامن چند طبقه (سانتیمتر)",1,1,0,0,1,0,-100,-100,100,{"$f":"(O832-L832)/K832","v":100}]
["جابجایی عمودی جلو دامن چند طبقه (سانتیمتر)  j11","(از -100 الی100)",0,"بهینه=دلخواه",{"$f":"'طراحی همه الگوها'!E420","v":0},"جابجایی عمودی جلو دامن چند طبقه (سانتیمتر)",1,1,0,0,1,0,-100,-100,100,{"$f":"(O833-L833)/K833","v":100}]
["جابجایی افقی پشت دامن چند طبقه (سانتیمتر)   j12","(از -100 الی100)",0,"بهینه=دلخواه",{"$f":"'طراحی همه الگوها'!E421","v":0},"جابجایی افقی پشت دامن چند طبقه (سانتیمتر)",1,1,0,0,1,0,-100,-100,100,{"$f":"(O834-L834)/K834","v":100}]
["جابجایی عمودی پشت دامن چند طبقه (سانتیمتر)  j13","(از -100 الی100)",0,"بهینه=دلخواه",{"$f":"'طراحی همه الگوها'!E422","v":0},"جابجایی عمودی پشت دامن چند طبقه (سانتیمتر)",1,1,0,0,1,0,-100,-100,100,{"$f":"(O835-L835)/K835","v":100}]
[]
["طراحی دامن لنگی دراپه"]
["پهنای هر دراپه (پیلی) به سانتیمتر   n0","(از 0 الی 20)",{"$f":"K838*E838+L838","v":3},null,{"$f":"'طراحی همه الگوها'!E425","v":3},null,1,1,2,2,{"$f":"(J838-H838)/(I838-G838)","v":1},{"$f":"H838-G838*K838","v":0},null,1,null,2]
["مکان نقطه شروع دراپه روی خط پهلو  n1 ","(از 1 الی 40)",26,null,{"$f":"'طراحی همه الگوها'!E426","v":26},null,1,1,2,2,1,0,null,1,null,2]
["مکان نقطه شروع دراپه در پایین لباس   n2","(از 1 الی 40)",26,null,{"$f":"'طراحی همه الگوها'!E427","v":26},null,1,1,2,2,1,0,null,1,null,2]
["مکان پیلی اول روی خط کمر  n3","(از 1 الی 40)",10,null,{"$f":"'طراحی همه الگوها'!E428","v":10},null,1,1,2,2,1,0,null,1,null,2]
["مکان پیلی دوم روی خط کمر  n4","(از 1 الی 40)",20,null,{"$f":"'طراحی همه الگوها'!E429","v":20},null,1,1,2,2,1,0,null,1,null,2]
["مکان پیلی سوم روی خط کمر  n5","(از 1 الی 40)",30,null,{"$f":"'طراحی همه الگوها'!E430","v":30},null,1,1,2,2,1,0,null,1,null,2]
["پهنای هر دراپه به درجه   n0",{"$f":"ROUND(DEGREES(محاسبات!LU325),1)","v":33.5}]
[]
[" دامن با والان"]
["پهنای هر یک از پیلی ها روی کمر  (سانتیمتر)  w1","(از 0 الی 20)",{"$f":"K847*E847+L847","v":1},null,{"$f":"'طراحی همه الگوها'!E433","v":1},null,1,1,2,2,{"$f":"(J847-H847)/(I847-G847)","v":1},{"$f":"H847-G847*K847","v":0},null,1,null,2]
["فاصله  پیلی اول تا خط مرکزی جلو   w0","(از 0 الی 40)",{"$f":"K848*E848+L848","v":10},null,{"$f":"'طراحی همه الگوها'!E434","v":10},null,1,1,2,2,{"$f":"(J848-H848)/(I848-G848)","v":1},{"$f":"H848-G848*K848","v":0},null,1,null,2]
[" لبه پایینی دامن والان روی خط مرکزی پشت    w2","(از 0 الی 4)",{"$f":"K849*E849+L849","v":0.15000000000000002},"خط زمین=0 \nخط زانو=1 \nخط باسن=2 \nخط کمر=3 \nخط سینه=4  ",{"$f":"'طراحی همه الگوها'!E435","v":13},null,10,0,30,1,{"$f":"(J849-H849)/(I849-G849)","v":0.05},{"$f":"H849-G849*K849","v":-0.5},0,{"$f":"(M849-L849)/K849","v":10},4,100,0.25,{"$f":"(Q849-L849)/K849","v":15}]
[" لبه پایینی دامن والان روی درز پهلو  w3  ","(از 0 الی 4)",{"$f":"K850*E850+L850","v":0.25},"خط زمین=0 \nخط زانو=1 \nخط باسن=2 \nخط کمر=3 \nخط سینه=4  ",{"$f":"'طراحی همه الگوها'!E436","v":15},null,10,0,30,1,{"$f":"(J850-H850)/(I850-G850)","v":0.05},{"$f":"H850-G850*K850","v":-0.5},0,{"$f":"(M850-L850)/K850","v":10},4,100,0.25,{"$f":"(Q850-L850)/K850","v":15}]
[" لبه بالایی دامن والان روی درز پهلو   w5","(از 0 الی 4)",{"$f":"K851*E851+L851","v":1.5},"خط زمین=0 \nخط زانو=1 \nخط باسن=2 \nخط کمر=3 \nخط سینه=4  ",{"$f":"'طراحی همه الگوها'!E437","v":40},null,10,0,30,1,{"$f":"(J851-H851)/(I851-G851)","v":0.05},{"$f":"H851-G851*K851","v":-0.5},0,{"$f":"(M851-L851)/K851","v":10},4,100,0.25,{"$f":"(Q851-L851)/K851","v":15}]
[]
[]
[]
["متغیرهای ورودی بافت ",null,null,null,null,"متغیرهای ورودی بافت ","x1","y1","x2","y2(بهینه)","a","b",null,"کمترین",null,"بیشترین"]
["طراحی بافت جلو پشت ..."]
["انتخاب ضخامت میل و کاموا بافتنی","(2 یا 3 یا 4) ",{"$f":"K857*E857+L857","v":2.5},null,{"$f":"'مساله سوم مدل 13'!K473","v":2.5},"انتخاب ضخامت میل و کاموا بافتنی",3,3,2,2,{"$f":"(J857-H857)/(I857-G857)","v":1},{"$f":"H857-G857*K857","v":0},2,{"$f":"(M857-L857)/K857","v":2},4,{"$f":"(O857-L857)/K857","v":4},3,{"$f":"(Q857-L857)/K857","v":3}]
["شماره بافت انتخابی جادکمه","(1 الی 50) ",13,null,{"$f":"'طراحی همه الگوها'!H294","v":13},"شماره بافت انتخابی جادکمه",3,3,2,2,1,0,2,2,4,4,3,3]
["شماره بافت انتخابی جلو پیراهن","(1 الی 50) ",15,null,{"$f":"'مساله سوم مدل 13'!K474","v":15},"شماره بافت انتخابی جلو پیراهن",3,3,2,2,1,0,2,2,4,4,3,3]
["شماره بافت انتخابی پشت پیراهن","(1 الی 50) ",15,null,{"$f":"'مساله سوم مدل 13'!K475","v":15},"شماره بافت انتخابی پشت پیراهن",3,3,2,2,1,0,2,2,4,4,3,3]
["شماره بافت انتخابی آستین","(1 الی 50) ",11,null,{"$f":"'مساله سوم مدل 13'!K476","v":11},"شماره بافت انتخابی آستین",3,3,2,2,1,0,2,2,4,4,3,3]
["شماره بافت انتخابی کلاه","(1 الی 50) ",11,null,{"$f":"'طراحی همه الگوها'!H295","v":11},"شماره بافت انتخابی کلاه",3,3,2,2,1,0,2,2,4,4,3,3]
["شماره بافت انتخابی جلو شلوار","(1 الی 50) ",11,null,{"$f":"'طراحی همه الگوها'!H296","v":11},"شماره بافت انتخابی جلو شلوار",3,3,2,2,1,0,2,2,4,4,3,3]
["شماره بافت انتخابی پشت شلوار","(1 الی 50) ",{"$f":"K864*E864+L864","v":11},null,{"$f":"'طراحی همه الگوها'!H297","v":11},"شماره بافت انتخابی پشت شلوار",3,3,2,2,{"$f":"(J864-H864)/(I864-G864)","v":1},{"$f":"H864-G864*K864","v":0},2,{"$f":"(M864-L864)/K864","v":2},4,{"$f":"(O864-L864)/K864","v":4},3,{"$f":"(Q864-L864)/K864","v":3}]
[]
["طراحی بافت یقه انگلیسی"]
["شماره بافت انتخابی یقه انگلیسی","(1 الی 50) ",{"$f":"K867*E867+L867","v":13},null,{"$f":"'طراحی همه الگوها'!H300","v":13},"شماره بافت انتخابی یقه انگلیسی",3,3,2,2,{"$f":"(J867-H867)/(I867-G867)","v":1},{"$f":"H867-G867*K867","v":0},2,{"$f":"(M867-L867)/K867","v":2},4,{"$f":"(O867-L867)/K867","v":4},3,{"$f":"(Q867-L867)/K867","v":3}]
[]
["طراحی بافت یقه شکاری"]
["شماره مدل یقه شکاری","(1 الی 50) ",{"$f":"K870*E870+L870","v":14},null,{"$f":"'طراحی همه الگوها'!H303","v":14},"شماره مدل یقه شکاری",3,3,2,2,{"$f":"(J870-H870)/(I870-G870)","v":1},{"$f":"H870-G870*K870","v":0},2,{"$f":"(M870-L870)/K870","v":2},4,{"$f":"(O870-L870)/K870","v":4},3,{"$f":"(Q870-L870)/K870","v":3}]
[]
["طراحی بافت یقه شومیزیه"]
["شماره مدل یقه شومیزیه","(1 الی 50) ",{"$f":"K873*E873+L873","v":12},null,{"$f":"'طراحی همه الگوها'!H306","v":12},"شماره مدل یقه شومیزیه",3,3,2,2,{"$f":"(J873-H873)/(I873-G873)","v":1},{"$f":"H873-G873*K873","v":0},2,{"$f":"(M873-L873)/K873","v":2},4,{"$f":"(O873-L873)/K873","v":4},3,{"$f":"(Q873-L873)/K873","v":3}]
[]
["طراحی بافت یقه ب ب "]
["شماره مدل یقه ب ب","(1 الی 50) ",{"$f":"K876*E876+L876","v":12},null,{"$f":"'طراحی همه الگوها'!H309","v":12},"شماره مدل یقه ب ب",3,3,2,2,{"$f":"(J876-H876)/(I876-G876)","v":1},{"$f":"H876-G876*K876","v":0},2,{"$f":"(M876-L876)/K876","v":2},4,{"$f":"(O876-L876)/K876","v":4},3,{"$f":"(Q876-L876)/K876","v":3}]
[]
["طراحی نقشه بافت"]
["جابجایی افقی کل نقشه  (سانتیمتر)   ","(از -100 الی100)",{"$f":"K879*E879+L879","v":-15},"بهینه=دلخواه",{"$f":"'طراحی همه الگوها'!H256","v":-15},"جابجایی افقی کل نقشه  (سانتیمتر)   ",1,1,0,0,{"$f":"(J879-H879)/(I879-G879)","v":1},{"$f":"H879-G879*K879","v":0},-100,{"$f":"(M879-L879)/K879","v":-100},100,{"$f":"(O879-L879)/K879","v":100}]
["جابجایی عمودی کل نقشه  (سانتیمتر)  ","(از -100 الی100)",0,"بهینه=دلخواه",{"$f":"'طراحی همه الگوها'!H257","v":0},"جابجایی عمودی کل نقشه  (سانتیمتر)  ",1,1,0,0,{"$f":"(J880-H880)/(I880-G880)","v":1},{"$f":"H880-G880*K880","v":0},-100,{"$f":"(M880-L880)/K880","v":-100},100,{"$f":"(O880-L880)/K880","v":100}]
["نسبت نقشه بافت به سایز واقعی","(1 الی 40) ",42,"بهینه=20",{"$f":"'طراحی همه الگوها'!H258","v":42},"نسبت نقشه بافت به سایز واقعی",3,3,2,2,{"$f":"(J881-H881)/(I881-G881)","v":1},{"$f":"H881-G881*K881","v":0},2,{"$f":"(M881-L881)/K881","v":2},4,{"$f":"(O881-L881)/K881","v":4},3,{"$f":"(Q881-L881)/K881","v":3}]
["ارتفاع هر رج","(0.05 الی 3) ",2.5,"بهینه=0.8",{"$f":"'طراحی همه الگوها'!H259","v":50},"ارتفاع هر رج",1,0.05,0,0,{"$f":"(J882-H882)/(I882-G882)","v":0.05},{"$f":"H882-G882*K882","v":0},0,{"$f":"(M882-L882)/K882","v":0},2,{"$f":"(O882-L882)/K882","v":40},1,{"$f":"(Q882-L882)/K882","v":20}]
["پهنای نیم دایره","(0 الی 3) ",0.5,"بهینه=0.5",{"$f":"'طراحی همه الگوها'!H260","v":10},"پهنای نیم دایره",1,0.05,0,0,0.05,0,0,0,2,40,1,20]
["طول باکس نوشته","(2 الی 20) ",4.5,"بهینه=4.5",{"$f":"'طراحی همه الگوها'!H261","v":9},"طول باکس نوشته",1,0.5,0,0,{"$f":"(J884-H884)/(I884-G884)","v":0.5},{"$f":"H884-G884*K884","v":0},0,{"$f":"(M884-L884)/K884","v":0},2,{"$f":"(O884-L884)/K884","v":4},1,{"$f":"(Q884-L884)/K884","v":2}]
["پهنای باکس نوشته","(0.2 الی 2) ",0.5,"بهینه=0.6",{"$f":"'طراحی همه الگوها'!H262","v":10},"پهنای باکس نوشته",1,0.05,0,0,0.05,0,0,0,2,40,1,20]
["بزرگی فلش رج","(0 الی 2) ",0.60000000000000009,"بهینه=0.3",{"$f":"'طراحی همه الگوها'!H263","v":12},"بزرگی فلش",1,0.05,0,0,0.05,0,0,0,2,40,1,20]
["زاویه فلش رج","(0 الی 2) ",0.5,"بهینه=0.5",{"$f":"'طراحی همه الگوها'!H264","v":10},"زاویه فلش",1,0.05,0,0,{"$f":"(J887-H887)/(I887-G887)","v":0.05},{"$f":"H887-G887*K887","v":0},0,{"$f":"(M887-L887)/K887","v":0},2,{"$f":"(O887-L887)/K887","v":40},1,{"$f":"(Q887-L887)/K887","v":20}]
["بزرگی خط عمودی دانه","(0 الی 2) ",{"$f":"K888*E888+L888","v":0.30000000000000004},"بهینه=0.3",{"$f":"'طراحی همه الگوها'!H265","v":6},"بزرگی فلش",1,0.05,0,0,0.05,0,0,0,2,40,1,20]
["بزرگی فلش دانه","(0 الی 2) ",{"$f":"K889*E889+L889","v":0.4},"بهینه=0.3",{"$f":"'طراحی همه الگوها'!H266","v":8},"بزرگی فلش",1,0.05,0,0,0.05,0,0,0,2,40,1,20]
["زاویه فلش دانه","(0 الی 2) ",{"$f":"K890*E890+L890","v":0.75},"بهینه=0.5",{"$f":"'طراحی همه الگوها'!H267","v":15},"زاویه فلش",1,0.05,0,0,{"$f":"(J890-H890)/(I890-G890)","v":0.05},{"$f":"H890-G890*K890","v":0},0,{"$f":"(M890-L890)/K890","v":0},2,{"$f":"(O890-L890)/K890","v":40},1,{"$f":"(Q890-L890)/K890","v":20}]
["جابجایی افقی راهنمای نقشه  (سانتیمتر)   ","(از -100 الی100)",{"$f":"K891*E891+L891","v":-45},"بهینه=دلخواه",{"$f":"'طراحی همه الگوها'!H268","v":-45},"جابجایی افقی راهنمای نقشه  (سانتیمتر)   ",1,1,0,0,{"$f":"(J891-H891)/(I891-G891)","v":1},{"$f":"H891-G891*K891","v":0},-100,{"$f":"(M891-L891)/K891","v":-100},100,{"$f":"(O891-L891)/K891","v":100}]
["جابجایی عمودی راهنمای نقشه  (سانتیمتر)  ","(از -100 الی100)",{"$f":"K892*E892+L892","v":5},"بهینه=دلخواه",{"$f":"'طراحی همه الگوها'!H269","v":5},"جابجایی عمودی راهنمای نقشه  (سانتیمتر)  ",1,1,0,0,{"$f":"(J892-H892)/(I892-G892)","v":1},{"$f":"H892-G892*K892","v":0},-100,{"$f":"(M892-L892)/K892","v":-100},100,{"$f":"(O892-L892)/K892","v":100}]
[]
["توضیح کاربر:"]
["پهنای باکس توضیحات (سانتیمتر)","(1 الی 30) ",{"$f":"K895*E895+L895","v":15},"بهینه=20",{"$f":"'طراحی همه الگوها'!H280","v":15},"پهنای باکس توضیحات (سانتیمتر)",3,3,2,2,{"$f":"(J895-H895)/(I895-G895)","v":1},{"$f":"H895-G895*K895","v":0},2,{"$f":"(M895-L895)/K895","v":2},4,{"$f":"(O895-L895)/K895","v":4},3,{"$f":"(Q895-L895)/K895","v":3}]
["ارتفاع باکس توضیحات (سانتیمتر)","(1 الی 30) ",{"$f":"K896*E896+L896","v":15},"بهینه=20",{"$f":"'طراحی همه الگوها'!H281","v":15},"ارتفاع باکس توضیحات (سانتیمتر)",3,3,2,2,{"$f":"(J896-H896)/(I896-G896)","v":1},{"$f":"H896-G896*K896","v":0},2,{"$f":"(M896-L896)/K896","v":2},4,{"$f":"(O896-L896)/K896","v":4},3,{"$f":"(Q896-L896)/K896","v":3}]
["جابجایی افقی توضیحات کاربر  (سانتیمتر)   ","(از -100 الی100)",{"$f":"K897*E897+L897","v":35},"بهینه=دلخواه",{"$f":"'طراحی همه الگوها'!H282","v":35},"جابجایی افقی توضیحات کاربر  (سانتیمتر)   ",1,1,0,0,{"$f":"(J897-H897)/(I897-G897)","v":1},{"$f":"H897-G897*K897","v":0},-100,{"$f":"(M897-L897)/K897","v":-100},100,{"$f":"(O897-L897)/K897","v":100}]
["جابجایی عمودی توضیحات کاربر  (سانتیمتر)  ","(از -100 الی100)",{"$f":"K898*E898+L898","v":20},"بهینه=دلخواه",{"$f":"'طراحی همه الگوها'!H283","v":20},"جابجایی عمودی توضیحات کاربر  (سانتیمتر)  ",1,1,0,0,{"$f":"(J898-H898)/(I898-G898)","v":1},{"$f":"H898-G898*K898","v":0},-100,{"$f":"(M898-L898)/K898","v":-100},100,{"$f":"(O898-L898)/K898","v":100}]
[]
["طراحی رج دوبل"]
["ارتفاع هر رج دوبل","(1 الی 40) ",{"$f":"K901*E901+L901","v":6},"بهینه=10",{"$f":"'طراحی همه الگوها'!H272","v":6},"ارتفاع هر رج دوبل",3,3,2,2,{"$f":"(J901-H901)/(I901-G901)","v":1},{"$f":"H901-G901*K901","v":0},2,{"$f":"(M901-L901)/K901","v":2},4,{"$f":"(O901-L901)/K901","v":4},3,{"$f":"(Q901-L901)/K901","v":3}]
["شعاع داایره اول","(1 الی 40) ",{"$f":"K902*E902+L902","v":8},"بهینه=10",{"$f":"'طراحی همه الگوها'!H273","v":8},"شعاع داایره اول",3,3,2,2,{"$f":"(J902-H902)/(I902-G902)","v":1},{"$f":"H902-G902*K902","v":0},2,{"$f":"(M902-L902)/K902","v":2},4,{"$f":"(O902-L902)/K902","v":4},3,{"$f":"(Q902-L902)/K902","v":3}]
["جابجایی افقی رج دوبل  (سانتیمتر)   ","(از -100 الی100)",{"$f":"K903*E903+L903","v":2},"بهینه=دلخواه",{"$f":"'طراحی همه الگوها'!H274","v":2},"جابجایی افقی رج دوبل  (سانتیمتر)   ",1,1,0,0,{"$f":"(J903-H903)/(I903-G903)","v":1},{"$f":"H903-G903*K903","v":0},-100,{"$f":"(M903-L903)/K903","v":-100},100,{"$f":"(O903-L903)/K903","v":100}]
["جابجایی عمودی رج دوبل  (سانتیمتر)  ","(از -100 الی100)",{"$f":"K904*E904+L904","v":2},"بهینه=دلخواه",{"$f":"'طراحی همه الگوها'!H275","v":2},"جابجایی عمودی رج دوبل  (سانتیمتر)  ",1,1,0,0,{"$f":"(J904-H904)/(I904-G904)","v":1},{"$f":"H904-G904*K904","v":0},-100,{"$f":"(M904-L904)/K904","v":-100},100,{"$f":"(O904-L904)/K904","v":100}]
[]
["طراحی توری بافت آستین"]
["پهنا افقی توری بافت  (سانتیمتر)   ","(1 الی 40) ",{"$f":"K907*E907+L907","v":10},"بهینه=10",{"$f":"'طراحی همه الگوها'!H352","v":10},"پهنا افقی توری بافت  (سانتیمتر)   ",3,3,2,2,{"$f":"(J907-H907)/(I907-G907)","v":1},{"$f":"H907-G907*K907","v":0},2,{"$f":"(M907-L907)/K907","v":2},4,{"$f":"(O907-L907)/K907","v":4},3,{"$f":"(Q907-L907)/K907","v":3}]
["پهنا عمودی توری بافت  (سانتیمتر)  ","(1 الی 40) ",{"$f":"K908*E908+L908","v":20},"بهینه=10",{"$f":"'طراحی همه الگوها'!H354","v":20},"پهنا عمودی توری بافت  (سانتیمتر)  ",3,3,2,2,{"$f":"(J908-H908)/(I908-G908)","v":1},{"$f":"H908-G908*K908","v":0},2,{"$f":"(M908-L908)/K908","v":2},4,{"$f":"(O908-L908)/K908","v":4},3,{"$f":"(Q908-L908)/K908","v":3}]
["جابجایی افقی توری بافت  (سانتیمتر)   ","(از -100 الی100)",{"$f":"K909*E909+L909","v":0},"بهینه=دلخواه",{"$f":"'طراحی همه الگوها'!H356","v":0},"جابجایی افقی توری بافت  (سانتیمتر)   ",1,1,0,0,{"$f":"(J909-H909)/(I909-G909)","v":1},{"$f":"H909-G909*K909","v":0},-100,{"$f":"(M909-L909)/K909","v":-100},100,{"$f":"(O909-L909)/K909","v":100}]
["جابجایی عمودی توری بافت  (سانتیمتر)  ","(از -100 الی100)",{"$f":"K910*E910+L910","v":-100},"بهینه=دلخواه",{"$f":"'طراحی همه الگوها'!H357","v":-100},"جابجایی عمودی توری بافت  (سانتیمتر)  ",1,1,0,0,{"$f":"(J910-H910)/(I910-G910)","v":1},{"$f":"H910-G910*K910","v":0},-100,{"$f":"(M910-L910)/K910","v":-100},100,{"$f":"(O910-L910)/K910","v":100}]
[]
["طراحی توری بافت یقه و کلاه"]
["پهنا افقی توری بافت  (سانتیمتر)   ","(1 الی 40) ",{"$f":"K913*E913+L913","v":10},"بهینه=10",{"$f":"'طراحی همه الگوها'!H360","v":10},"پهنا افقی توری بافت  (سانتیمتر)   ",3,3,2,2,{"$f":"(J913-H913)/(I913-G913)","v":1},{"$f":"H913-G913*K913","v":0},2,{"$f":"(M913-L913)/K913","v":2},4,{"$f":"(O913-L913)/K913","v":4},3,{"$f":"(Q913-L913)/K913","v":3}]
["پهنا عمودی توری بافت  (سانتیمتر)  ","(1 الی 40) ",{"$f":"K914*E914+L914","v":20},"بهینه=10",{"$f":"'طراحی همه الگوها'!H362","v":20},"پهنا عمودی توری بافت  (سانتیمتر)  ",3,3,2,2,{"$f":"(J914-H914)/(I914-G914)","v":1},{"$f":"H914-G914*K914","v":0},2,{"$f":"(M914-L914)/K914","v":2},4,{"$f":"(O914-L914)/K914","v":4},3,{"$f":"(Q914-L914)/K914","v":3}]
["جابجایی افقی توری بافت  (سانتیمتر)   ","(از -100 الی100)",{"$f":"K915*E915+L915","v":0},"بهینه=دلخواه",{"$f":"'طراحی همه الگوها'!H364","v":0},"جابجایی افقی توری بافت  (سانتیمتر)   ",1,1,0,0,{"$f":"(J915-H915)/(I915-G915)","v":1},{"$f":"H915-G915*K915","v":0},-100,{"$f":"(M915-L915)/K915","v":-100},100,{"$f":"(O915-L915)/K915","v":100}]
["جابجایی عمودی توری بافت  (سانتیمتر)  ","(از -100 الی100)",{"$f":"K916*E916+L916","v":-100},"بهینه=دلخواه",{"$f":"'طراحی همه الگوها'!H365","v":-100},"جابجایی عمودی توری بافت  (سانتیمتر)  ",1,1,0,0,{"$f":"(J916-H916)/(I916-G916)","v":1},{"$f":"H916-G916*K916","v":0},-100,{"$f":"(M916-L916)/K916","v":-100},100,{"$f":"(O916-L916)/K916","v":100}]
[]
["طراحی توری بافت جلو پیراهن"]
["پهنا افقی توری بافت  (سانتیمتر)   ","(1 الی 40) ",{"$f":"K919*E919+L919","v":10},"بهینه=10",{"$f":"'طراحی همه الگوها'!H368","v":10},"پهنا افقی توری بافت  (سانتیمتر)   ",3,3,2,2,{"$f":"(J919-H919)/(I919-G919)","v":1},{"$f":"H919-G919*K919","v":0},2,{"$f":"(M919-L919)/K919","v":2},4,{"$f":"(O919-L919)/K919","v":4},3,{"$f":"(Q919-L919)/K919","v":3}]
["پهنا عمودی توری بافت  (سانتیمتر)  ","(1 الی 40) ",{"$f":"K920*E920+L920","v":20},"بهینه=10",{"$f":"'طراحی همه الگوها'!H370","v":20},"پهنا عمودی توری بافت  (سانتیمتر)  ",3,3,2,2,{"$f":"(J920-H920)/(I920-G920)","v":1},{"$f":"H920-G920*K920","v":0},2,{"$f":"(M920-L920)/K920","v":2},4,{"$f":"(O920-L920)/K920","v":4},3,{"$f":"(Q920-L920)/K920","v":3}]
["جابجایی افقی توری بافت  (سانتیمتر)   ","(از -100 الی100)",{"$f":"K921*E921+L921","v":0},"بهینه=دلخواه",{"$f":"'طراحی همه الگوها'!H372","v":0},"جابجایی افقی توری بافت  (سانتیمتر)   ",1,1,0,0,{"$f":"(J921-H921)/(I921-G921)","v":1},{"$f":"H921-G921*K921","v":0},-100,{"$f":"(M921-L921)/K921","v":-100},100,{"$f":"(O921-L921)/K921","v":100}]
["جابجایی عمودی توری بافت  (سانتیمتر)  ","(از -100 الی100)",{"$f":"K922*E922+L922","v":-100},"بهینه=دلخواه",{"$f":"'طراحی همه الگوها'!H373","v":-100},"جابجایی عمودی توری بافت  (سانتیمتر)  ",1,1,0,0,{"$f":"(J922-H922)/(I922-G922)","v":1},{"$f":"H922-G922*K922","v":0},-100,{"$f":"(M922-L922)/K922","v":-100},100,{"$f":"(O922-L922)/K922","v":100}]
[]
["طراحی توری بافت پشت پیراهن"]
["پهنا افقی توری بافت  (سانتیمتر)   ","(1 الی 40) ",{"$f":"K925*E925+L925","v":10},"بهینه=10",{"$f":"'طراحی همه الگوها'!H376","v":10},"پهنا افقی توری بافت  (سانتیمتر)   ",3,3,2,2,{"$f":"(J925-H925)/(I925-G925)","v":1},{"$f":"H925-G925*K925","v":0},2,{"$f":"(M925-L925)/K925","v":2},4,{"$f":"(O925-L925)/K925","v":4},3,{"$f":"(Q925-L925)/K925","v":3}]
["پهنا عمودی توری بافت  (سانتیمتر)  ","(1 الی 40) ",{"$f":"K926*E926+L926","v":20},"بهینه=10",{"$f":"'طراحی همه الگوها'!H378","v":20},"پهنا عمودی توری بافت  (سانتیمتر)  ",3,3,2,2,{"$f":"(J926-H926)/(I926-G926)","v":1},{"$f":"H926-G926*K926","v":0},2,{"$f":"(M926-L926)/K926","v":2},4,{"$f":"(O926-L926)/K926","v":4},3,{"$f":"(Q926-L926)/K926","v":3}]
["جابجایی افقی توری بافت  (سانتیمتر)   ","(از -100 الی100)",{"$f":"K927*E927+L927","v":0},"بهینه=دلخواه",{"$f":"'طراحی همه الگوها'!H380","v":0},"جابجایی افقی توری بافت  (سانتیمتر)   ",1,1,0,0,{"$f":"(J927-H927)/(I927-G927)","v":1},{"$f":"H927-G927*K927","v":0},-100,{"$f":"(M927-L927)/K927","v":-100},100,{"$f":"(O927-L927)/K927","v":100}]
["جابجایی عمودی توری بافت  (سانتیمتر)  ","(از -100 الی100)",{"$f":"K928*E928+L928","v":-100},"بهینه=دلخواه",{"$f":"'طراحی همه الگوها'!H381","v":-100},"جابجایی عمودی توری بافت  (سانتیمتر)  ",1,1,0,0,{"$f":"(J928-H928)/(I928-G928)","v":1},{"$f":"H928-G928*K928","v":0},-100,{"$f":"(M928-L928)/K928","v":-100},100,{"$f":"(O928-L928)/K928","v":100}]
[]
["طراحی توری بافت جلو شلوار"]
["پهنا افقی توری بافت  (سانتیمتر)   ","(1 الی 40) ",{"$f":"K931*E931+L931","v":10},"بهینه=10",{"$f":"'طراحی همه الگوها'!H384","v":10},"پهنا افقی توری بافت  (سانتیمتر)   ",3,3,2,2,{"$f":"(J931-H931)/(I931-G931)","v":1},{"$f":"H931-G931*K931","v":0},2,{"$f":"(M931-L931)/K931","v":2},4,{"$f":"(O931-L931)/K931","v":4},3,{"$f":"(Q931-L931)/K931","v":3}]
["پهنا عمودی توری بافت  (سانتیمتر)  ","(1 الی 40) ",{"$f":"K932*E932+L932","v":20},"بهینه=10",{"$f":"'طراحی همه الگوها'!H386","v":20},"پهنا عمودی توری بافت  (سانتیمتر)  ",3,3,2,2,{"$f":"(J932-H932)/(I932-G932)","v":1},{"$f":"H932-G932*K932","v":0},2,{"$f":"(M932-L932)/K932","v":2},4,{"$f":"(O932-L932)/K932","v":4},3,{"$f":"(Q932-L932)/K932","v":3}]
["جابجایی افقی توری بافت  (سانتیمتر)   ","(از -100 الی100)",{"$f":"K933*E933+L933","v":0},"بهینه=دلخواه",{"$f":"'طراحی همه الگوها'!H388","v":0},"جابجایی افقی توری بافت  (سانتیمتر)   ",1,1,0,0,{"$f":"(J933-H933)/(I933-G933)","v":1},{"$f":"H933-G933*K933","v":0},-100,{"$f":"(M933-L933)/K933","v":-100},100,{"$f":"(O933-L933)/K933","v":100}]
["جابجایی عمودی توری بافت  (سانتیمتر)  ","(از -100 الی100)",{"$f":"K934*E934+L934","v":-100},"بهینه=دلخواه",{"$f":"'طراحی همه الگوها'!H389","v":-100},"جابجایی عمودی توری بافت  (سانتیمتر)  ",1,1,0,0,{"$f":"(J934-H934)/(I934-G934)","v":1},{"$f":"H934-G934*K934","v":0},-100,{"$f":"(M934-L934)/K934","v":-100},100,{"$f":"(O934-L934)/K934","v":100}]
[]
["طراحی توری بافت پشت شلوار"]
["پهنا افقی توری بافت  (سانتیمتر)   ","(1 الی 40) ",{"$f":"K937*E937+L937","v":10},"بهینه=10",{"$f":"'طراحی همه الگوها'!H392","v":10},"پهنا افقی توری بافت  (سانتیمتر)   ",3,3,2,2,{"$f":"(J937-H937)/(I937-G937)","v":1},{"$f":"H937-G937*K937","v":0},2,{"$f":"(M937-L937)/K937","v":2},4,{"$f":"(O937-L937)/K937","v":4},3,{"$f":"(Q937-L937)/K937","v":3}]
["پهنا عمودی توری بافت  (سانتیمتر)  ","(1 الی 40) ",{"$f":"K938*E938+L938","v":20},"بهینه=10",{"$f":"'طراحی همه الگوها'!H394","v":20},"پهنا عمودی توری بافت  (سانتیمتر)  ",3,3,2,2,{"$f":"(J938-H938)/(I938-G938)","v":1},{"$f":"H938-G938*K938","v":0},2,{"$f":"(M938-L938)/K938","v":2},4,{"$f":"(O938-L938)/K938","v":4},3,{"$f":"(Q938-L938)/K938","v":3}]
["جابجایی افقی توری بافت  (سانتیمتر)   ","(از -100 الی100)",{"$f":"K939*E939+L939","v":0},"بهینه=دلخواه",{"$f":"'طراحی همه الگوها'!H396","v":0},"جابجایی افقی توری بافت  (سانتیمتر)   ",1,1,0,0,{"$f":"(J939-H939)/(I939-G939)","v":1},{"$f":"H939-G939*K939","v":0},-100,{"$f":"(M939-L939)/K939","v":-100},100,{"$f":"(O939-L939)/K939","v":100}]
["جابجایی عمودی توری بافت  (سانتیمتر)  ","(از -100 الی100)",{"$f":"K940*E940+L940","v":-100},"بهینه=دلخواه",{"$f":"'طراحی همه الگوها'!H397","v":-100},"جابجایی عمودی توری بافت  (سانتیمتر)  ",1,1,0,0,{"$f":"(J940-H940)/(I940-G940)","v":1},{"$f":"H940-G940*K940","v":0},-100,{"$f":"(M940-L940)/K940","v":-100},100,{"$f":"(O940-L940)/K940","v":100}]
[]
[]
["متغیرهای ورودی آستین",null,null,null,null,"متغیرهای ورودی آستین"]
[null,null,null,null,"x",null,"x1","y1","x2","y2(بهینه)","a","b",null,"کمترین",null,"بیشترین"]
["آستین رگلان کلوش"]
[" پهنای اوزمان ","(از 1 الی 50)",{"$f":"K946*E946+L946","v":5},null,{"$f":"'طراحی همه الگوها'!K206","v":5},null,1,1,2,2,{"$f":"(J946-H946)/(I946-G946)","v":1},{"$f":"H946-G946*K946","v":0},null,1,null,2]
[" فاصله خط اوزمان اول از قسمت جلو     ","(از 1 الی 30)",{"$f":"K947*E947+L947","v":10},null,{"$f":"'طراحی همه الگوها'!K207","v":10},null,1,1,2,2,{"$f":"(J947-H947)/(I947-G947)","v":1},{"$f":"H947-G947*K947","v":0},null,1,null,2]
[" فاصله خط اوزمان دوم از قسمت جلو     ","(از 1 الی 30)",{"$f":"K948*E948+L948","v":20},null,{"$f":"'طراحی همه الگوها'!K208","v":20},null,1,1,2,2,{"$f":"(J948-H948)/(I948-G948)","v":1},{"$f":"H948-G948*K948","v":0},null,1,null,2]
[]
["حلقه آستین رکابی و حلقه وسط  (پشت)"]
["پهنای افقی حلقه آستین رکابی","(از 0 الی 20)",{"$f":"K951*E951+L951","v":5},null,{"$f":"'طراحی همه الگوها'!K185","v":5},null,1,1,2,2,{"$f":"(J951-H951)/(I951-G951)","v":1},{"$f":"H951-G951*K951","v":0},null,1,null,2]
["تغییر عمودی حلقه آستین رکابی","(از 0 الی 20)",2,null,{"$f":"'طراحی همه الگوها'!K186","v":2},null,1,1,2,2,1,0,null,1,null,2]
["جابجایی مرکز حلقه روی خط مرکزی پشت","(از 0 الی 20)",-13,null,{"$f":"'طراحی همه الگوها'!K187","v":-13},null,1,1,2,2,1,0,null,1,null,2]
["پهنای افقی حلقه وسط","(از 0 الی 20)",7,null,{"$f":"'طراحی همه الگوها'!K188","v":7},null,1,1,2,2,1,0,null,1,null,2]
["پهنای عمودی قسمت بالای حلقه وسط","(از 0 الی 20)",7,null,{"$f":"'طراحی همه الگوها'!K189","v":7},null,1,1,2,2,1,0,null,1,null,2]
["پهنای عمودی قسمت پایین حلقه وسط","(از 0 الی 20)",0,null,{"$f":"'طراحی همه الگوها'!K190","v":0},null,1,1,2,2,1,0,null,1,null,2]
[]
["حلقه در پهلو در امتداد پشت سوتین تا خط کمر (جلو)"]
["جابجایی مرکز حلقه روی خط پهلو","(از 0 الی 20)",{"$f":"K959*E959+L959","v":-2},null,{"$f":"'طراحی همه الگوها'!B415","v":-2},null,1,1,2,2,{"$f":"(J959-H959)/(I959-G959)","v":1},{"$f":"H959-G959*K959","v":0},null,1,null,2]
["پهنای افقی حلقه","(از 0 الی 20)",{"$f":"K960*E960+L960","v":4},null,{"$f":"'طراحی همه الگوها'!B416","v":4},null,1,1,2,2,{"$f":"(J960-H960)/(I960-G960)","v":1},{"$f":"H960-G960*K960","v":0},null,1,null,2]

{"sheet":"رسم دستی دامن نیم کلوش","index":3,"n_rows":33,"n_cols":3,"rows_kept":33,"cut":false,"hidden":true,"merged":[]}
[]
[]
[]
[]
[]
[]
[]
[]
[]
[]
[]
[]
[]
[]
[]
[]
[]
[]
[]
[null,"رسم دستی الگو جلو و پشت "]
[null," دامن نیم کلوش"]
["(1 → 2)",{"$f":"محاسبات!AW280","v":39},"(cm)"]
["(1 → 3)",{"$f":"محاسبات!AW286","v":50.8},"(cm)"]
["(1 → 4)",{"$f":"B22","v":39},"عمود (cm)"]
["(1 → 5)",{"$f":"B23","v":50.8},"(cm)"]
["(2 →4)","هلال دایروی"]
["(3 →5)","هلال دایروی"]
[]
[]
[]
["اندازه های ورودی"]
["دور کمر",{"$f":"محاسبات!BF287","v":122.4},"cm"]
["قد دامن",{"$f":"محاسبات!BF288","v":11.8},"cm"]

{"sheet":"رسم دستی دامن کلوش","index":4,"n_rows":40,"n_cols":9,"rows_kept":40,"cut":false,"hidden":true,"merged":[]}
[]
[]
[]
[]
[]
[]
[]
[]
[]
[]
[]
[]
[]
[]
[]
[]
[]
[]
[null,null,null,null,null,null,null,null,"رسم دستی الگو جلو و پشت "]
[null,null,null,null,null,null,null," دامن کلوش"]
[null,null,null,null,null,null,"(1 → 2)",{"$f":"محاسبات!BF279","v":19.5},"cm"]
[null,null,null,null,null,null,"(1 → 3)",{"$f":"H21","v":19.5},"cm"]
[null,null,null,null,null,null,"(1 → 4)",{"$f":"H21","v":19.5},"cm"]
[null,null,null,null,null,null,"(1 → 5)",{"$f":"محاسبات!BF285","v":31.3},"cm"]
[null,null,null,null,null,null,"(1 →6)",{"$f":"H24","v":31.3},"cm"]
[null,null,null,null,null,null,"(1 →7)",{"$f":"H24","v":31.3},"cm"]
[null,null,null,null,null,null,"(2 →3 →4)","هلال دایروی"]
[null,null,null,null,null,null,"(5 →6 →7)","هلال دایروی"]
[]
[]
[]
[]
[]
[]
[]
[]
[]
[null,null,null,null,null,null,"اندازه های ورودی"]
[null,null,null,null,null,null,"دور کمر",{"$f":"محاسبات!BF287","v":122.4},"cm"]
[null,null,null,null,null,null,"قد دامن",{"$f":"محاسبات!BF288","v":11.8},"cm"]

{"sheet":"راهنما ","index":5,"n_rows":0,"n_cols":0,"rows_kept":0,"cut":false,"hidden":false,"merged":[]}

{"sheet":"نمونه بافت","index":6,"n_rows":343,"n_cols":7,"rows_kept":343,"cut":false,"hidden":false,"merged":[[294,2,294,3],[294,4,294,5],[294,6,294,7],[295,2,295,3],[295,4,295,5],[295,6,295,7],[292,2,292,3],[292,4,292,5],[292,6,292,7],[293,2,293,3],[293,4,293,5],[293,6,293,7],[298,2,298,3],[298,4,298,5],[298,6,298,7],[299,2,299,3],[299,4,299,5],[299,6,299,7],[296,2,296,3],[296,4,296,5],[296,6,296,7],[297,2,297,3],[297,4,297,5],[297,6,297,7],[302,2,302,3],[302,4,302,5],[302,6,302,7],[303,2,303,3],[303,4,303,5],[303,6,303,7],[300,2,300,3],[300,4,300,5],[300,6,300,7],[301,2,301,3],[301,4,301,5],[301,6,301,7],[306,2,306,3],[306,4,306,5],[306,6,306,7],[307,2,307,3],[307,4,307,5],[307,6,307,7],[304,2,304,3],[304,4,304,5],[304,6,304,7],[305,2,305,3],[305,4,305,5],[305,6,305,7],[310,2,310,3],[310,4,310,5],[310,6,310,7],[311,2,311,3],[311,4,311,5],[311,6,311,7],[308,2,308,3],[308,4,308,5],[308,6,308,7],[309,2,309,3],[309,4,309,5],[309,6,309,7],[314,2,314,3],[314,4,314,5],[314,6,314,7],[315,2,315,3],[315,4,315,5],[315,6,315,7],[312,2,312,3],[312,4,312,5],[312,6,312,7],[313,2,313,3],[313,4,313,5],[313,6,313,7],[318,2,318,3],[318,4,318,5],[318,6,318,7],[319,2,319,3],[319,4,319,5],[319,6,319,7],[316,2,316,3],[316,4,316,5],[316,6,316,7],[317,2,317,3],[317,4,317,5],[317,6,317,7],[322,2,322,3],[322,4,322,5],[322,6,322,7],[323,2,323,3],[323,4,323,5],[323,6,323,7],[320,2,320,3],[320,4,320,5],[320,6,320,7],[321,2,321,3],[321,4,321,5],[321,6,321,7],[326,2,326,3],[326,4,326,5],[326,6,326,7],[327,2,327,3],[327,4,327,5],[327,6,327,7],[324,2,324,3],[324,4,324,5],[324,6,324,7],[325,2,325,3],[325,4,325,5],[325,6,325,7],[330,2,330,3],[330,4,330,5],[330,6,330,7],[331,2,331,3],[331,4,331,5],[331,6,331,7],[328,2,328,3],[328,4,328,5],[328,6,328,7],[329,2,329,3],[329,4,329,5],[329,6,329,7],[334,2,334,3],[334,4,334,5],[334,6,334,7],[335,2,335,3],[335,4,335,5],[335,6,335,7],[332,2,332,3],[332,4,332,5],[332,6,332,7],[333,2,333,3],[333,4,333,5],[333,6,333,7],[338,2,338,3],[338,4,338,5],[338,6,338,7],[339,2,339,3],[339,4,339,5],[339,6,339,7],[336,2,336,3],[336,4,336,5],[336,6,336,7],[337,2,337,3],[337,4,337,5],[337,6,337,7],[342,2,342,3],[342,4,342,5],[342,6,342,7],[340,2,340,3],[340,4,340,5],[340,6,340,7],[341,2,341,3],[341,4,341,5],[341,6,341,7]]}
[]
[]
[]
[]
[]
[]
[]
[]
[]
[]
[]
[]
[]
[]
[]
[]
[]
[]
[]
[]
[]
[]
[]
[]
[]
[]
[]
[]
[]
[]
[]
[]
[]
[]
[]
[]
[]
[]
[]
[]
[]
[]
[]
[]
[]
[]
[]
[]
[]
[]
[]
[]
[]
[]
[]
[]
[]
[]
[]
[]
[]
[]
[]
[]
[]
[]
[]
[]
[]
[]
[]
[]
[]
[]
[]
[]
[]
[]
[]
[]
[]
[]
[]
[]
[]
[]
[]
[]
[]
[]
[]
[]
[]
[]
[]
[]
[]
[]
[]
[]
[]
[]
[]
[]
[]
[]
[]
[]
[]
[]
[]
[]
[]
[]
[]
[]
[]
[]
[]
[]
[]
[]
[]
[]
[]
[]
[]
[]
[]
[]
[]
[]
[]
[]
[]
[]
[]
[]
[]
[]
[]
[]
[]
[]
[]
[]
[]
[]
[]
[]
[]
[]
[]
[]
[]
[]
[]
[]
[]
[]
[]
[]
[]
[]
[]
[]
[]
[]
[]
[]
[]
[]
[]
[]
[]
[]
[]
[]
[]
[]
[]
[]
[]
[]
[]
[]
[]
[]
[]
[]
[]
[]
[]
[]
[]
[]
[]
[]
[]
[]
[]
[]
[]
[]
[]
[]
[]
[]
[]
[]
[]
[]
[]
[]
[]
[]
[]
[]
[]
[]
[]
[]
[]
[]
[]
[]
[]
[]
[]
[]
[]
[]
[]
[]
[]
[]
[]
[]
[]
[]
[]
[]
[]
[]
[]
[]
[]
[]
[]
[]
[]
[]
[]
[]
[]
[]
[]
[]
[]
[]
[]
[]
[]
[]
[]
[]
[]
[]
[]
[]
[]
[]
[]
[]
[]
[]
[]
[]
[]
[]
[]
[]
[]
[]
[]
[]
[]
[]
[]
[]
[]
[]
[null,"شماره ","اسم نمونه بافت",null,"میزان جمع شوندگی افقی",null,"میزان جمع شوندگی عمودی"]
[null,{"$f":"محاسبات!AQ17","v":11},{"$f":"محاسبات!AS17","v":"ساده "},null,{"$f":"محاسبات!AT17","v":16},null,{"$f":"محاسبات!AU17","v":35}]
[null,{"$f":"محاسبات!AQ18","v":12},{"$f":"محاسبات!AS18","v":"همه از زیر"},null,{"$f":"محاسبات!AT18","v":29},null,{"$f":"محاسبات!AU18","v":88}]
[null,{"$f":"محاسبات!AQ19","v":13},{"$f":"محاسبات!AS19","v":"جودانه"},null,{"$f":"محاسبات!AT19","v":5},null,{"$f":"محاسبات!AU19","v":22}]
[null,{"$f":"محاسبات!AQ20","v":14},{"$f":"محاسبات!AS20","v":"کشباف (دوتایی)"},null,{"$f":"محاسبات!AT20","v":125},null,{"$f":"محاسبات!AU20","v":22}]
[null,{"$f":"محاسبات!AQ21","v":15},{"$f":"محاسبات!AS21","v":"سبدی (5 تایی)"},null,{"$f":"محاسبات!AT21","v":24},null,{"$f":"محاسبات!AU21","v":40}]
[null,{"$f":"محاسبات!AQ22","v":16},{"$f":"محاسبات!AS22","v":"تمشکی"},null,{"$f":"محاسبات!AT22","v":62},null,{"$f":"محاسبات!AU22","v":31}]
[null,{"$f":"محاسبات!AQ23","v":17},{"$f":"محاسبات!AS23","v":"کج راه"},null,{"$f":"محاسبات!AT23","v":62},null,{"$f":"محاسبات!AU23","v":31}]
[null,{"$f":"محاسبات!AQ24","v":18},{"$f":"محاسبات!AS24","v":"تیغ ماهی"},null,{"$f":"محاسبات!AT24","v":85},null,{"$f":"محاسبات!AU24","v":49}]
[null,{"$f":"محاسبات!AQ25","v":19},{"$f":"محاسبات!AS25","v":"اسموکینگ"},null,{"$f":"محاسبات!AT25","v":125},null,{"$f":"محاسبات!AU25","v":22}]
[null,{"$f":"محاسبات!AQ26","v":20},{"$f":"محاسبات!AS26","v":"زنبوری"},null,{"$f":"محاسبات!AT26","v":77},null,{"$f":"محاسبات!AU26","v":31}]
[null,{"$f":"محاسبات!AQ27","v":21},{"$f":"محاسبات!AS27","v":"پیچ گیسباف"},null,{"$f":"محاسبات!AT27","v":104},null,{"$f":"محاسبات!AU27","v":49}]
[null,{"$f":"محاسبات!AQ28","v":22},{"$f":"محاسبات!AS28","v":"پیچ چپ و راستی"},null,{"$f":"محاسبات!AT28","v":114},null,{"$f":"محاسبات!AU28","v":40}]
[null,{"$f":"محاسبات!AQ29","v":23},{"$f":"محاسبات!AS29","v":"کشباف (یکی)"},null,{"$f":"محاسبات!AT29","v":62},null,{"$f":"محاسبات!AU29","v":9}]
[null,{"$f":"محاسبات!AQ30","v":24},{"$f":"محاسبات!AS30","v":"پیچ با فاصله"},null,{"$f":"محاسبات!AT30","v":62},null,{"$f":"محاسبات!AU30","v":35}]
[null,{"$f":"محاسبات!AQ31","v":25},{"$f":"محاسبات!AS31","v":"پیچ متراکم"},null,{"$f":"محاسبات!AT31","v":83},null,{"$f":"محاسبات!AU31","v":35}]
[null,{"$f":"محاسبات!AQ32","v":26},{"$f":"محاسبات!AS32","v":"کشباف سه تایی"},null,{"$f":"محاسبات!AT32","v":167},null,{"$f":"محاسبات!AU32","v":13}]
[null,{"$f":"محاسبات!AQ33","v":27},{"$f":"محاسبات!AS33","v":"  "},null,{"$f":"محاسبات!AT33","v":"  "},null,{"$f":"محاسبات!AU33","v":"  "}]
[null,{"$f":"محاسبات!AQ34","v":28},{"$f":"محاسبات!AS34","v":"  "},null,{"$f":"محاسبات!AT34","v":"  "},null,{"$f":"محاسبات!AU34","v":"  "}]
[null,{"$f":"محاسبات!AQ35","v":29},{"$f":"محاسبات!AS35","v":"  "},null,{"$f":"محاسبات!AT35","v":"  "},null,{"$f":"محاسبات!AU35","v":"  "}]
[null,{"$f":"محاسبات!AQ36","v":30},{"$f":"محاسبات!AS36","v":"  "},null,{"$f":"محاسبات!AT36","v":"  "},null,{"$f":"محاسبات!AU36","v":"  "}]
[null,{"$f":"محاسبات!AQ37","v":31},{"$f":"محاسبات!AS37","v":"  "},null,{"$f":"محاسبات!AT37","v":"  "},null,{"$f":"محاسبات!AU37","v":"  "}]
[null,{"$f":"محاسبات!AQ38","v":32},{"$f":"محاسبات!AS38","v":"  "},null,{"$f":"محاسبات!AT38","v":"  "},null,{"$f":"محاسبات!AU38","v":"  "}]
[null,{"$f":"محاسبات!AQ39","v":33},{"$f":"محاسبات!AS39","v":"  "},null,{"$f":"محاسبات!AT39","v":"  "},null,{"$f":"محاسبات!AU39","v":"  "}]
[null,{"$f":"محاسبات!AQ40","v":34},{"$f":"محاسبات!AS40","v":"  "},null,{"$f":"محاسبات!AT40","v":"  "},null,{"$f":"محاسبات!AU40","v":"  "}]
[null,{"$f":"محاسبات!AQ41","v":35},{"$f":"محاسبات!AS41","v":"  "},null,{"$f":"محاسبات!AT41","v":"  "},null,{"$f":"محاسبات!AU41","v":"  "}]
[null,{"$f":"محاسبات!AQ42","v":36},{"$f":"محاسبات!AS42","v":"  "},null,{"$f":"محاسبات!AT42","v":"  "},null,{"$f":"محاسبات!AU42","v":"  "}]
[null,{"$f":"محاسبات!AQ43","v":37},{"$f":"محاسبات!AS43","v":"  "},null,{"$f":"محاسبات!AT43","v":"  "},null,{"$f":"محاسبات!AU43","v":"  "}]
[null,{"$f":"محاسبات!AQ44","v":38},{"$f":"محاسبات!AS44","v":"  "},null,{"$f":"محاسبات!AT44","v":"  "},null,{"$f":"محاسبات!AU44","v":"  "}]
[null,{"$f":"محاسبات!AQ45","v":39},{"$f":"محاسبات!AS45","v":"  "},null,{"$f":"محاسبات!AT45","v":"  "},null,{"$f":"محاسبات!AU45","v":"  "}]
[null,{"$f":"محاسبات!AQ46","v":40},{"$f":"محاسبات!AS46","v":"  "},null,{"$f":"محاسبات!AT46","v":"  "},null,{"$f":"محاسبات!AU46","v":"  "}]
[null,{"$f":"محاسبات!AQ47","v":41},{"$f":"محاسبات!AS47","v":"  "},null,{"$f":"محاسبات!AT47","v":"  "},null,{"$f":"محاسبات!AU47","v":"  "}]
[null,{"$f":"محاسبات!AQ48","v":42},{"$f":"محاسبات!AS48","v":"  "},null,{"$f":"محاسبات!AT48","v":"  "},null,{"$f":"محاسبات!AU48","v":"  "}]
[null,{"$f":"محاسبات!AQ49","v":43},{"$f":"محاسبات!AS49","v":"  "},null,{"$f":"محاسبات!AT49","v":"  "},null,{"$f":"محاسبات!AU49","v":"  "}]
[null,{"$f":"محاسبات!AQ50","v":44},{"$f":"محاسبات!AS50","v":"  "},null,{"$f":"محاسبات!AT50","v":"  "},null,{"$f":"محاسبات!AU50","v":"  "}]
[null,{"$f":"محاسبات!AQ51","v":45},{"$f":"محاسبات!AS51","v":"  "},null,{"$f":"محاسبات!AT51","v":"  "},null,{"$f":"محاسبات!AU51","v":"  "}]
[null,{"$f":"محاسبات!AQ52","v":46},{"$f":"محاسبات!AS52","v":"  "},null,{"$f":"محاسبات!AT52","v":"  "},null,{"$f":"محاسبات!AU52","v":"  "}]
[null,{"$f":"محاسبات!AQ53","v":47},{"$f":"محاسبات!AS53","v":"  "},null,{"$f":"محاسبات!AT53","v":"  "},null,{"$f":"محاسبات!AU53","v":"  "}]
[null,{"$f":"محاسبات!AQ54","v":48},{"$f":"محاسبات!AS54","v":"  "},null,{"$f":"محاسبات!AT54","v":"  "},null,{"$f":"محاسبات!AU54","v":"  "}]
[null,{"$f":"محاسبات!AQ55","v":49},{"$f":"محاسبات!AS55","v":"  "},null,{"$f":"محاسبات!AT55","v":"  "},null,{"$f":"محاسبات!AU55","v":"  "}]
[null,{"$f":"محاسبات!AQ56","v":50},{"$f":"محاسبات!AS56","v":"  "},null,{"$f":"محاسبات!AT56","v":"  "},null,{"$f":"محاسبات!AU56","v":"  "}]
[null,{"$f":"محاسبات!AQ57","v":51},{"$f":"محاسبات!AS57","v":"  "},null,{"$f":"محاسبات!AT57","v":"  "},null,{"$f":"محاسبات!AU57","v":"  "}]
[null,{"$f":"محاسبات!AQ58","v":52},{"$f":"محاسبات!AS58","v":"  "},null,{"$f":"محاسبات!AT58","v":"  "},null,{"$f":"محاسبات!AU58","v":"  "}]
[null,{"$f":"محاسبات!AQ59","v":53},{"$f":"محاسبات!AS59","v":"  "},null,{"$f":"محاسبات!AT59","v":"  "},null,{"$f":"محاسبات!AU59","v":"  "}]
[null,{"$f":"محاسبات!AQ60","v":54},{"$f":"محاسبات!AS60","v":"  "},null,{"$f":"محاسبات!AT60","v":"  "},null,{"$f":"محاسبات!AU60","v":"  "}]
[null,{"$f":"محاسبات!AQ61","v":55},{"$f":"محاسبات!AS61","v":"  "},null,{"$f":"محاسبات!AT61","v":"  "},null,{"$f":"محاسبات!AU61","v":"  "}]
[null,{"$f":"محاسبات!AQ62","v":56},{"$f":"محاسبات!AS62","v":"  "},null,{"$f":"محاسبات!AT62","v":"  "},null,{"$f":"محاسبات!AU62","v":"  "}]
[null,{"$f":"محاسبات!AQ63","v":57},{"$f":"محاسبات!AS63","v":"  "},null,{"$f":"محاسبات!AT63","v":"  "},null,{"$f":"محاسبات!AU63","v":"  "}]
[null,{"$f":"محاسبات!AQ64","v":58},{"$f":"محاسبات!AS64","v":"  "},null,{"$f":"محاسبات!AT64","v":"  "},null,{"$f":"محاسبات!AU64","v":"  "}]
[null,{"$f":"محاسبات!AQ65","v":59},{"$f":"محاسبات!AS65","v":"  "},null,{"$f":"محاسبات!AT65","v":"  "},null,{"$f":"محاسبات!AU65","v":"  "}]
[null,{"$f":"محاسبات!AQ66","v":60},{"$f":"محاسبات!AS66","v":"  "},null,{"$f":"محاسبات!AT66","v":"  "},null,{"$f":"محاسبات!AU66","v":"  "}]

{"sheet":"اندازه های شخصی","index":7,"n_rows":35,"n_cols":85,"rows_kept":35,"cut":false,"hidden":false,"merged":[]}
[]
[]
[]
[]
[null,null,null,null,"عنوان مورد نظر خود را در قسمت سبز رنگ وارد کنید",null,"عنوان 1",null,"عنوان 2",null,"عنوان 3",null,"عنوان 4",null,"عنوان 5",null,"عنوان 6",null,"عنوان 7",null,"عنوان 8",null,"عنوان 9",null,"عنوان 10",null,"عنوان 11",null,"عنوان 12",null,"عنوان 13",null,"عنوان 14",null,"عنوان 15",null,"عنوان 16",null,"عنوان 17",null,"عنوان 18",null,"عنوان 19",null,"عنوان 20",null,"عنوان 21",null,"عنوان 22",null,"عنوان 23",null,"عنوان 24",null,"عنوان 25",null,"عنوان 26",null,"عنوان 27",null,"عنوان 28",null,"عنوان 29",null,"عنوان 30",null,"عنوان 31",null,"عنوان 32",null,"عنوان 33",null,"عنوان 34",null,"عنوان 35",null,"عنوان 36",null,"عنوان 37",null,"عنوان 38",null,"عنوان 39",null,"عنوان 40"]
[]
[null,null,null,null,null,null,"اندازه شخصی 1",null,"اندازه شخصی 2",null,"اندازه شخصی 3",null,"اندازه شخصی 3",null,"اندازه شخصی 5",null,"اندازه شخصی 6",null,"اندازه شخصی 7",null,"اندازه شخصی 8",null,"اندازه شخصی 9",null,"اندازه شخصی 10",null,"اندازه شخصی 11",null,"اندازه شخصی 12",null,"اندازه شخصی 13",null,"اندازه شخصی 14",null,"اندازه شخصی 15",null,"اندازه شخصی 16",null,"اندازه شخصی 17",null,"اندازه شخصی 18",null,"اندازه شخصی 19",null,"اندازه شخصی 20",null,"اندازه شخصی 21",null,"اندازه شخصی 22",null,"اندازه شخصی 23",null,"اندازه شخصی 24",null,"اندازه شخصی 25",null,"اندازه شخصی 26",null,"اندازه شخصی 27",null,"اندازه شخصی 28",null,"اندازه شخصی 29",null,"اندازه شخصی 30",null,"اندازه شخصی 31",null,"اندازه شخصی 32",null,"اندازه شخصی 33",null,"اندازه شخصی 34",null,"اندازه شخصی 35",null,"اندازه شخصی 36",null,"اندازه شخصی 37",null,"اندازه شخصی 38",null,"اندازه شخصی 39",null,"اندازه شخصی 40"]
[null,null,null,null,"دور کمر","a"]
[null,null,null,null,"نوار کمر از پشت بین دو خط پهلو","b"]
[null,null,null,null,"دور باسن","c"]
[null,null,null,null,"نوار باسن از پشت بین دو خط پهلو","d"]
[null,null,null,null,"فاصله نوار کمر تا زمین، از قسمت جلو","e"]
[null,null,null,null,"فاصله نوار کمر تا زمین، از قسمت پهلو","f"]
[null,null,null,null,"فاصله نوار کمر تا زمین، از قسمت پشت","g"]
[null,null,null,null,"فاصله نوار زانو تا زمین","h"]
[null,null,null,null,"فاصله نوار باسن تا زمین","j"]
[null,null,null,null,"دور زانو","L"]
[null,null,null,null,"بلندی فاق","m"]
[null,null,null,null,"آنفورشور","q"]
[null,null,null,null,"دور مچ پا","r"]
[null,null,null,null,"شلوار زنانه و بچگانه = 0       مردانه=1      بچه با پوشک=2"]
[null,null,null,null,"دور سینه : از برجسته ترین قسمت سینه","s1"]
[null,null,null,null,"پشت نوار سینه، بین دو خط پهلو","s2"]
[null,null,null,null,"فاصله عمودی از خط سینه جلو تا خط سینه پشت که از کنار حلقه آستین بگذرد","t1"]
[null,null,null,null,"فاصله عمودی از خط سینه جلو تا خط سینه پشت که از کنارگردن بگذرد","t2"]
[null,null,null,null,"فاصله عمودی از خط کمر جلو تا خط کمر پشت که از کنار گردن بگذرد","t3"]
[null,null,null,null,"فاصله عمودی بین خط سینه پشت و سرشانه، نزدیک دست","t4"]
[null,null,null,null,"فاصله عمودی بین خط سینه پشت و سرشانه، نزدیک گردن","t5"]
[null,null,null,null,"فاصله عمودی بین خط کمرپشت و سرشانه، نزدیک گردن","t6"]
[null,null,null,null,"دور گردن (متر به طور عمودی دور گردن قرار می گیرد و از روی استخوان ترقوه می گذرد)","v"]
[null,null,null,null,"کارور پشت (بین دو خط امتداد زیر بغل)","v3"]
[null,null,null,null,"دور بازو از ناحیه زیر بغل","w2"]
[null,null,null,null,"قد آستین (دست به طور خمیده، قد از سرشانه تا مچ)","w10"]
[null,null,null,null,"دور مچ دست","w11"]
[null,null,null,null,"دور سر","w12"]

{"sheet":"اندازه گیری و تحلیل","index":8,"n_rows":487,"n_cols":26,"rows_kept":487,"cut":false,"hidden":false,"merged":[[401,25,402,25],[222,8,222,13]]}
[]
[]
[]
[null,null,null,null,null,"0 الی 30","خیلی کم"]
[null,null,null,"برای اندام شما :",null,"30 الی 50","کم",null,null,null,"قد سرشانه تا زمین",{"$f":"L419","v":139.4634769932216}]
[null,null,null,"برجستگی سینه جلو",null,"50 الی 70","متوسط",null,null,null,"تمام قد (تقریبی)",{"$f":"L420","v":159}]
[null,null,null,{"$f":"L479","v":25},null,"70 الی 90","زیاد"]
[null,null,null,null,null,"90 الی 200","خیلی زیاد"]
[]
[]
[]
[null,null,null,null,null,"0 الی 20","خیلی کم"]
[null,null,null,"برای اندام شما :",null,"20 الی 40","کم"]
[null,null,null,"برجستگی باسن",null,"40 الی 60","متوسط"]
[null,null,null,{"$f":"L476","v":61},null,"60 الی 80","زیاد"]
[null,null,null,null,null,"80 الی 200","خیلی زیاد"]
[]
[]
[]
[null,null,null,null,null,"3 الی - 20","شکم تخت"]
[null,null,null,"برای اندام شما :",null,"3 الی 6"]
[null,null,null,"برجستگی شکم نسبت به سینه",null,"6 الی 10"]
[null,null,null,{"$f":"L484","v":1},null,"10 الی 20","شکم در امتداد سینه"]
[null,null,null,null,null,"20 الی 30","شکم برجسته تراز سینه"]
[null,null,null,null,null,"30 الی 40","شکم حاملگی"]
[null,null,null,null,null,"40 الی 150","شکم حاملگی بزرگ"]
[]
[]
[]
[null,null,null,null,null,"0الی 10","خیلی کم"]
[null,null,null,"برای اندام شما :",null,"10 الی 15","کم"]
[null,null,null,"افتادگی سرشانه",null,"15 الی 20","متوسط"]
[null,null,null,{"$f":"L474","v":17},null,"20 الی 25","زیاد"]
[null,null,null,null,null,"25 الی 50","خیلی زیاد"]
[]
[]
[]
[]
[]
[]
[]
[]
[]
[]
[]
[]
[]
[]
[]
[]
[]
[]
[null,null,null,"خطای درجه 1 "]
[null,null,null,{"$f":"IF(AND(V404>20,V404<200),\" \",\" اندازه  a تکرار شود.\")","v":" "}]
[null,null,null,{"$f":"IF(AND(V405>10,V405<100),\" \",\" اندازه  b تکرار شود.\")","v":" "}]
[null,null,null,{"$f":"IF(AND(V406>20,V406<200),\" \",\" اندازه  c تکرار شود.\")","v":" "}]
[null,null,null,{"$f":"IF(AND(V407>10,V407<100),\" \",\" اندازه  d تکرار شود.\")","v":" "}]
[null,null,null,{"$f":"IF(AND(V408>15,V408<140),\" \",\" اندازه  e تکرار شود.\")","v":" "}]
[]
[null,null,null,{"$f":"IF(AND(V410>15,V410<140),\" \",\" اندازه  g تکرار شود.\")","v":" "}]
[null,null,null,{"$f":"IF(AND(V411>5,V411<70),\" \",\" اندازه  h تکرار شود.\")","v":" "}]
[null,null,null,{"$f":"IF(AND(V412>10,V412<120),\" \",\" اندازه  j تکرار شود.\")","v":" "}]
[null,null,null,{"$f":"IF(AND(V413>15,V413<70),\" \",\" اندازه  L تکرار شود.\")","v":" "}]
[null,null,null,{"$f":"IF(AND(W414>10,W414<50),\" \",\" اندازه  m تکرار شود.\")","v":" "}]
[null,null,null,{"$f":"IF(AND(V415>25,V415<140),\" \",\" اندازه  q تکرار شود.\")","v":" "}]
[null,null,null,{"$f":"IF(AND(V416>10,V416<80),\" \",\" اندازه  r تکرار شود.\")","v":" "}]
[null,null,null,{"$f":"IF(AND(V424>20,V424<200),\" \",\" اندازه  s1 تکرار شود.\")","v":" "}]
[null,null,null,{"$f":"IF(AND(V425>10,V425<100),\" \",\" اندازه  s2 تکرار شود.\")","v":" "}]
[null,null,null,{"$f":"IF(AND(V426>12,V426<75),\" \",\" اندازه  t1 تکرار شود.\")","v":" "}]
[null,null,null,{"$f":"IF(AND(V427>13,V427<80),\" \",\" اندازه  t2 تکرار شود.\")","v":" "}]
[null,null,null,{"$f":"IF(AND(V428>20,V428<120),\" \",\" اندازه  t3 تکرار شود.\")","v":" "}]
[null,null,null,{"$f":"IF(AND(V429>6,V429<40),\" \",\" اندازه  t4 تکرار شود.\")","v":" "}]
[null,null,null,{"$f":"IF(AND(V430>7,V430<50),\" \",\" اندازه  t5 تکرار شود.\")","v":" "}]
[null,null,null,{"$f":"IF(AND(V431>10,V431<70),\" \",\" اندازه  t6 تکرار شود.\")","v":" "}]
[null,null,null,{"$f":"IF(AND(V432>15,V432<55),\" \",\" اندازه  v  تکرار شود.\")","v":" "}]
[null,null,null,{"$f":"IF(AND(V433>10,V433<80),\" \",\" اندازه  v3 تکرار شود.\")","v":" "}]
[null,null,null,{"$f":"IF(AND(V434>10,V434<70),\" \",\" اندازه  w2 تکرار شود.\")","v":" "}]
[null,null,null,{"$f":"IF(AND(V435>10,V435<80),\" \",\" اندازه  w10 تکرار شود.\")","v":" "}]
[null,null,null,{"$f":"IF(AND(V436>8,V436<30),\" \",\" اندازه  w11 تکرار شود.\")","v":" "}]
[null,null,null,{"$f":"IF(AND(V437>20,V437<70),\" \",\" اندازه  w12 تکرار شود.\")","v":" "}]
[]
[null,null,null,"خطای درجه 2 "]
[null,null,null,{"$f":"IF(W412>0.9*W410,\"اندازه  j  را دوباره تکرار کنید - j کم شود.\",\"  \")","v":"  "}]
[null,null,null,{"$f":"IF(W411>0.65*W412,\"اندازه گیری h را دوباره تکرار کنید - h کم شود.\",\"  \")","v":"  "}]
[null,null,null,{"$f":"IF(W414>0.45*W415,\"یا m کم شود یا q زیاد شود.\",\"  \")","v":"  "}]
[null,null,null,{"$f":"IF(V413>0.47*V406,\"اندازه گیری  L را دوباره تکرار کنید - L کم شود.\",\"  \")","v":"  "}]
[null,null,null,{"$f":"IF(V416>1.7*V436,\"دور مچ پا (r)  کم شود\",\"  \")","v":"  "}]
[null,null,null,{"$f":"IF(V416<1.2*V436,\"دور مچ پا (r)  زیاد شود\",\"  \")","v":"  "}]
[null,null,null,{"$f":"IF(V413<0.3*V406,\"اندازه گیری  L را دوباره تکرار کنید - زیاد شود.\",\"  \")","v":"  "}]
[null,null,null,{"$f":"IF(W412<0.65*W410,\"اندازه  j  را دوباره تکرار کنید - j زیاد شود.\",\"  \")","v":"  "}]
[null,null,null,{"$f":"IF(W415<0.5*V406,\"اندازه گیری  q را دوباره تکرار کنید - q زیاد شود.\",\"  \")","v":"  "}]
[null,null,null,{"$f":"IF(W414<0.3*W415,\"یا m زیاد شود یا q کم شود.\",\"  \")","v":"  "}]
[null,null,null,{"$f":"IF(V407>0.7*V406,\"نوار پهلو در قسمت باسن به سمت پشت متمایل شود و اندازه های d و c تکرار شود\",\"  \")","v":"  "}]
[null,null,null,{"$f":"IF(V405>0.7*V404,\"نوار پهلو در قسمت کمر به سمت پشت متمایل شود و اندازه های a و b تکرار شود\",\"  \")","v":"  "}]
[null,null,null,{"$f":"IF(W427>0.8*W428,\"نوار سینه و نوار کمر در جلو از هم دور شود و اندازه های t2 و t3 و t5 و t6 تکرار شود.\",\"  \")","v":"  "}]
[null,null,null,{"$f":"IF(V430>0.75*V431,\"نوار کمر و نوار سینه در پشت از هم دور شود و اندازه های t6  و t5 تکرار شود.\",\"  \")","v":"  "}]
[null,null,null,{"$f":"IF(W426>0.99*W427,\"اندام با سینه تو رفته، نوار سینه و نوار سرشانه افقی و صاف شود و اندازه های t1 و t2 و t4 و t5 تکرار شود.\",\"  \")","v":"  "}]
[null,null,null,{"$f":"IF(V429>V430,\"نوار سینه و نوار سرشانه افقی و صاف شود و اندازه های t5  و t4 تکرار شود.\",\"  \")","v":"  "}]
[null,null,null,{"$f":"IF(V432>0.6*V424,\"اندازه های s1  و v تکرار شود.\",\"  \")","v":"  "}]
[null,null,null,{"$f":"IF(V434>0.6*V424,\"اندازه های s1  و w2 تکرار شود.\",\"  \")","v":"  "}]
[null,null,null,{"$f":"IF(V435<0.5*V428,\"اندازه های t3  و w10 تکرار شود.\",\"  \")","v":"  "}]
[null,null,null,{"$f":"IF(V436>V434,\"اندازه های w2  و w11 تکرار شود.\",\"  \")","v":"  "}]
[null,null,null,{"$f":"IF((V433)>V425,\"اندازه - کارور پشت - باید کوچکتر از اندازه - سینه از پشت - باشد.\",\"  \")","v":"  "}]
[null,null,null,{"$f":"IF(V425>0.6*V424,\"نوار پهلو در قسمت سینه به سمت پشت متمایل شود و اندازه های s2 و s1 تکرار شود\",\"  \")","v":"  "}]
[null,null,null,{"$f":"IF(V425<0.35*V424,\"نوار پهلو در قسمت سینه به سمت جلو متمایل شود و اندازه های s2 و s1 تکرار شود\",\"  \")","v":"  "}]
[]
[null,null,null,"خطای درجه 3 "]
[null,null,null,{"$f":"IF(((V415-2*W414-0.03*V406)/(V406))<0.1,\" یا m کم شود و یا q زیاد شود\",\"  \")","v":"  "}]
[null,null,null,{"$f":"IF(((V415-2*W414-0.03*V406)/(V406))>0.16,\"یا m زیاد شود و یا q کم شود\",\"  \")","v":"  "}]
[null,null,null,{"$f":"IF(V412>(W409-0.5*W414),\"یا اندازه j کم شود یا اندازه m کم شود.\",\"  \")","v":"  "}]
[null,null,null,{"$f":"IF(V412<(W409-0.8*W414),\"یا اندازه j زیاد شود یا اندازه m زیاد شود.\",\"  \")","v":"  "}]
[null,null,null,{"$f":"IF(((V415-2*W414-0.03*V406)/(V406))<0.105,\" بهتر است یا m کم شود و یا q زیاد شود\",\"  \")","v":"  "}]
[null,null,null,{"$f":"IF(((V415-2*W414-0.03*V406)/(V406))>0.14,\"بهتر است یا m زیاد شود و یا q کم شود\",\"  \")","v":"  "}]
[null,null,null,{"$f":"IF((0.5*(V425-V433))<(0.05*V434),\"نوار پهلو در قسمت سینه به سمت جلو متمایل شود تا اندازه   s2  زیاد شود.\",\"  \")","v":"  "}]
[null,null,null,{"$f":"IF((0.5*(V425-V433))>(0.15*V434),\"نوار پهلو در قسمت سینه به سمت پشت متمایل شود تا اندازه  s2  کم شود.\",\"  \")","v":"  "}]
[null,null,null,{"$f":"IF(L470<-0.22,\"برای کاهش اختلاف بین افتادگی سرشانه پشت و جلو،اندازه t5 کم شود.\",\"  \")","v":"  "}]
[null,null,null,{"$f":"IF(AND(L469<30,L468<30,L470>0,L470>0.22),\"برای کاهش اختلاف بین افتادگی سرشانه پشت و جلو اندازه t5 زیاد شود.\",\"  \")","v":"  "}]
[null,null,null,{"$f":"IF(OR(L470>0.22,L470<-0.22,L469>30,L468>30),\" \",IF(L472<-3,\"اندازه t3 زیاد شود.\",\"  \"))","v":"  "}]
[null,null,null,{"$f":"IF(OR(L469>30,L468>30,L470>0.22,L470<-0.22),\" \",IF(L472>30,\"شکم برجسته تر از سینه است (در حد بارداری) برای کم کردن برجستگی t3 کم شود.\",\"  \"))","v":"  "}]
[null,null,null,{"$f":"IF(OR(L468>30,L469>30,L470>0.22,L470<-0.22),\" \",IF(AND(L472>15,L472<30),\"شکم برجسته تر از سینه است - برای کم کردن برجستگی t3 کم شود.\",\"  \"))","v":"  "}]
[null,null,null,{"$f":"IF(L469>30,\"سرشانه جلو بیش از حد افتاده است.  t2 کم شود.\",\"  \")","v":"  "}]
[null,null,null,{"$f":"IF(L468>30,\"سرشانه پشت بیش از حد افتاده است.  t5 کم شود.\",\"  \")","v":"  "}]
[null,null,null,{"$f":"IF(M433>1.14*M432-0.14*M425,\"اندازه کارور پشت کم شود\",\"  \")","v":"  "}]
[null,null,null,{"$f":"IF(L478<1,\"اندازه کارور پشت کم شود\",\"  \")","v":"  "}]
[]
[]
[]
[]
[]
[]
[]
[]
[]
[]
[]
[]
[]
[]
[]
[]
[]
[]
[null,null,null,"انتخاب نوع اندازه گیری"]
[null,null,null,"انتخاب بلندی فاق"]
[null,null,null,"گزینه \" اندازه جدید \" را انتخاب کنید"]
[]
[]
[]
[null,null,null,"a   دور کمر",0]
[]
[]
[null,null,null," c   دور باسن",0]
[]
[]
[null,null,null," s1    دور سینه : از برجسته ترین قسمت سینه",0]
[]
[]
[null,null,null," w10   قد آستین (دست به طور خمیده، قد از سرشانه تا مچ)",0]
[]
[]
[null,null,null," f    فاصله نوار کمر تا زمین، از قسمت پهلو",0]
[]
[]
[null,null,null," m   بلندی فاق",0]
[]
[]
[null,null,null," w2   دور بازو از ناحیه زیر بغل",0]
[]
[]
[null,null,null," w11   دور مچ دست",0]
[]
[]
[null,null,null," V    دور گردن (متر به طور عمودی دور گردن قرار می گیرد و از روی استخوان ترقوه می گذرد)",0]
[]
[]
[null,null,null," w12   دور سر",0]
[]
[]
[null,null,null," t3     فاصله عمودی از خط کمر جلو تا خط کمر پشت که از کنار گردن بگذرد",0]
[]
[]
[null,null,null,{"$f":"IF(OR('متغیرها '!W5=1,'متغیرها '!W5=3,'متغیرها '!W5=4),\" t2    فاصله عمودی از خط سینه جلو تا خط سینه پشت که از کنارگردن بگذرد  \",\"   \")","v":" t2    فاصله عمودی از خط سینه جلو تا خط سینه پشت که از کنارگردن بگذرد  "},0]
[]
[]
[null,null,null,{"$f":"IF(OR('متغیرها '!W5=1,'متغیرها '!W5=3,'متغیرها '!W5=4),\"V3   کارور پشت (بین دو خط امتداد زیر بغل)  \",\"   \")","v":"V3   کارور پشت (بین دو خط امتداد زیر بغل)  "},0]
[]
[]
[null,null,null,{"$f":"IF(OR('متغیرها '!W5=1,'متغیرها '!W5=4),\" g    فاصله نوار کمر تا زمین، از قسمت پشت  \",\"   \")","v":"   "}]
[]
[]
[null,null,null,{"$f":"IF(OR('متغیرها '!W5=1,'متغیرها '!W5=4),\" e   فاصله نوار کمر تا زمین، از قسمت جلو  \",\"   \")","v":"   "}]
[]
[]
[null,null,null,{"$f":"IF(OR('متغیرها '!W5=1,'متغیرها '!W5=4),\" j    فاصله نوار باسن تا زمین  \",\"   \")","v":"   "}]
[]
[]
[null,null,null,{"$f":"IF(OR('متغیرها '!W5=1,'متغیرها '!W5=4),\" h    فاصله نوار زانو تا زمین  \",\"   \")","v":"   "}]
[]
[]
[null,null,null,{"$f":"IF(OR('متغیرها '!W5=1,'متغیرها '!W5=4),\"  L   دور زانو  \",\"   \")","v":"   "}]
[]
[]
[null,null,null,{"$f":"IF(OR('متغیرها '!W5=1,'متغیرها '!W5=4),\" r    دور مچ پا  \",\"   \")","v":"   "}]
[]
[]
[null,null,null,{"$f":"IF(OR('متغیرها '!W5=1,'متغیرها '!W5=4),\"  q    آنفورشور  \",\"   \")","v":"   "}]
[]
[]
[null,null,null,{"$f":"IF(OR('متغیرها '!W5=1,'متغیرها '!W5=4),\" b   نوار کمر از پشت بین دو خط پهلو  \",\"   \")","v":"   "}]
[]
[]
[null,null,null,{"$f":"IF(OR('متغیرها '!W5=1,'متغیرها '!W5=4),\" s2    پشت نوار سینه، بین دو خط پهلو  \",\"   \")","v":"   "}]
[]
[]
[null,null,null,{"$f":"IF(OR('متغیرها '!W5=1,'متغیرها '!W5=4),\"  d   نوار باسن از پشت بین دو خط پهلو  \",\"   \")","v":"   "}]
[]
[]
[null,null,null,{"$f":"IF('متغیرها '!W5=1,\" t1    فاصله عمودی از خط سینه جلو تا خط سینه پشت که از کنار حلقه آستین بگذرد  \",\"   \")","v":"   "}]
[]
[]
[null,null,null,{"$f":"IF('متغیرها '!W5=1,\"t4     فاصله عمودی بین خط سینه پشت و سرشانه، نزدیک دست  \",\"   \")","v":"   "}]
[]
[null,null,null,null,null,null,null,null,"اگر تحلیل اندام با شکل واقعی اندام که مشاهده میکنید متفاوت است، میتوانید تغییرات زیر را در اندازه هایی که وارد کردید اعمال کنید :"]
[null,null,null,{"$f":"IF('متغیرها '!W5=1,\"t5     فاصله عمودی بین خط سینه پشت و سرشانه، نزدیک گردن  \",\"   \")","v":"   "},null,null,null,null,"برای افزایش برجستگی سینه ،  v3 (کارور پشت) کم شود."]
[null,null,null,null,null,null,null,null,"برای افزایش برجستگی باسن ،  d  زیاد شود."]
[null,null,null,null,null,null,null,null,"برای کاهش برجستگی شکم، t3 کم شود."]
[null,null,null,{"$f":"IF('متغیرها '!W5=1,\" t6    فاصله عمودی بین خط کمر و سرشانه، نزدیک گردن  \",\"   \")","v":"   "},null,null,null,null,{"$f":"ROUND(L469,0)","v":14},"زاویه سرشانه جلو",null,"برای کاهش افتادگی سرشانه جلو، t2 کم شود."]
[null,null,null,null,null,null,null,null,{"$f":"ROUND(L468,0)","v":19},"زاویه سرشانه پشت",null,"برای کاهش افتادگی سرشانه پشت، t5 کم شود."]
[]
[]
[]
[]
[]
[]
[]
[]
[]
[]
[]
[]
[]
[]
[]
[]
[]
[]
[]
[]
[]
[]
[]
[]
[]
[]
[]
[]
[]
[]
[]
[]
[]
[]
[]
[]
[]
[null,null,null,"انتخاب نوع سایزبندی"]
[]
[]
[null,null,null,"    دور سینه : از برجسته ترین قسمت سینه",0,null,null,null,null,{"$f":"'متغیرها '!V44","v":" کوچکتر از سایز 34 "}]
[]
[]
[null,null,null,"    دور باسن",0,null,null,null,null,{"$f":"'متغیرها '!V42","v":" کوچکتر از سایز 34 "}]
[]
[]
[null,null,null,"   دور کمر",0,null,null,null,null,{"$f":"'متغیرها '!V43","v":" کوچکتر از سایز 34 "}]
[]
[]
[]
[]
[]
[]
[]
[]
[]
[]
[]
[]
[]
[]
[]
[]
[]
[]
[]
[]
[]
[]
[]
[]
[]
[]
[null,null,null,null,null,"ستون آبی رنگ را کپی کرده بعد به صورت عدد در صفحه اندازه های شخصی ذخیره کنید"]
[]
[null,null,null,"دور کمر","a",{"$f":"V404","v":75}]
[null,null,null,"نوار کمر از پشت بین دو خط پهلو","b",36.799999999999997]
[null,null,null,"دور باسن","c",93]
[null,null,null,"نوار باسن از پشت بین دو خط پهلو","d",49.3]
[null,null,null,"فاصله نوار کمر تا زمین، از قسمت جلو","e",99.9]
[null,null,null,"فاصله نوار کمر تا زمین، از قسمت پهلو","f",100]
[null,null,null,"فاصله نوار کمر تا زمین، از قسمت پشت","g",100.1]
[null,null,null,"فاصله نوار زانو تا زمین","h",45.199999999999989]
[null,null,null,"فاصله نوار باسن تا زمین","j",83]
[null,null,null,"دور زانو","L",38.1]
[null,null,null,"بلندی فاق","m",24.79999999999999]
[null,null,null,"آنفورشور","q",65.700000000000017]
[null,null,null,"دور مچ پا","r",23.509999999999994]
[null,null,null,"شلوار زنانه و بچگانه = 0       مردانه=1      بچه با پوشک=2",null,{"$f":"V418","v":0}]
[null,null,null,"دور سینه : از برجسته ترین قسمت سینه","s1",{"$f":"V424","v":86}]
[null,null,null,"پشت نوار سینه، بین دو خط پهلو","s2",43]
[null,null,null,"فاصله عمودی از خط سینه جلو تا خط سینه پشت که از کنار حلقه آستین بگذرد","t1",39.799999999999997]
[null,null,null,"فاصله عمودی از خط سینه جلو تا خط سینه پشت که از کنارگردن بگذرد","t2",46.9]
[null,null,null,"فاصله عمودی از خط کمر جلو تا خط کمر پشت که از کنار گردن بگذرد","t3",80]
[null,null,null,"فاصله عمودی بین خط سینه پشت و سرشانه، نزدیک دست","t4",20.399999999999999]
[null,null,null,"فاصله عمودی بین خط سینه پشت و سرشانه، نزدیک گردن","t5",24.5]
[null,null,null,"فاصله عمودی بین خط کمرپشت و سرشانه، نزدیک گردن","t6",40.799999999999997]
[null,null,null,"دور گردن (متر به طور عمودی دور گردن قرار می گیرد و از روی استخوان ترقوه می گذرد)","v",39]
[null,null,null,"کارور پشت (بین دو خط امتداد زیر بغل)","v3",35.1]
[null,null,null,"دور بازو از ناحیه زیر بغل","w2",33]
[null,null,null,"قد آستین (دست به طور خمیده، قد از سرشانه تا مچ)","w10",60]
[null,null,null,"دور مچ دست","w11",17.5]
[null,null,null,"دور سر","w12",57]
[]
[]
[]
[]
[]
[]
[]
[]
[]
[]
[]
[]
[]
[]
[]
[]
[]
[]
[]
[]
[null,null,null,"گزینه \" اندازه های موجود \" را انتخاب کنید"]
[null,null,null,"سایز یا اندازه شخصی خود را انتخاب کنید"]
[]
[null,null,null,"دور کمر","a",{"$f":"'متغیرها '!W52","v":75}]
[null,null,null,"نوار کمر از پشت بین دو خط پهلو","b",{"$f":"'متغیرها '!W53","v":36.799999999999997}]
[null,null,null,"دور باسن","c",{"$f":"'متغیرها '!W54","v":93}]
[null,null,null,"نوار باسن از پشت بین دو خط پهلو","d",{"$f":"'متغیرها '!W55","v":49.3}]
[null,null,null,"فاصله نوار کمر تا زمین، از قسمت جلو","e",{"$f":"'متغیرها '!W56","v":99.9}]
[null,null,null,"فاصله نوار کمر تا زمین، از قسمت پهلو","f",{"$f":"'متغیرها '!W57","v":100}]
[null,null,null,"فاصله نوار کمر تا زمین، از قسمت پشت","g",{"$f":"'متغیرها '!W58","v":100.1}]
[null,null,null,"فاصله نوار زانو تا زمین","h",{"$f":"'متغیرها '!W59","v":45.199999999999989}]
[null,null,null,"فاصله نوار باسن تا زمین","j",{"$f":"'متغیرها '!W60","v":83}]
[null,null,null,"دور زانو","L",{"$f":"'متغیرها '!W61","v":38.1}]
[null,null,null,"بلندی فاق","m",{"$f":"'متغیرها '!W62","v":24.79999999999999}]
[null,null,null,"آنفورشور","q",{"$f":"'متغیرها '!W63","v":65.700000000000017}]
[null,null,null,"دور مچ پا","r",{"$f":"'متغیرها '!W64","v":23.509999999999994}]
[null,null,null,"شلوار زنانه و بچگانه = 0       مردانه=1      بچه با پوشک=2",null,{"$f":"'متغیرها '!W66","v":0}]
[null,null,null,"دور سینه : از برجسته ترین قسمت سینه","s1",{"$f":"'متغیرها '!W72","v":86}]
[null,null,null,"پشت نوار سینه، بین دو خط پهلو","s2",{"$f":"'متغیرها '!W73","v":43}]
[null,null,null,"فاصله عمودی از خط سینه جلو تا خط سینه پشت که از کنار حلقه آستین بگذرد","t1",{"$f":"'متغیرها '!W74","v":39.799999999999997}]
[null,null,null,"فاصله عمودی از خط سینه جلو تا خط سینه پشت که از کنارگردن بگذرد","t2",{"$f":"'متغیرها '!W75","v":46.9}]
[null,null,null,"فاصله عمودی از خط کمر جلو تا خط کمر پشت که از کنار گردن بگذرد","t3",{"$f":"'متغیرها '!W76","v":80}]
[null,null,null,"فاصله عمودی بین خط سینه پشت و سرشانه، نزدیک دست","t4",{"$f":"'متغیرها '!W77","v":20.399999999999999}]
[null,null,null,"فاصله عمودی بین خط سینه پشت و سرشانه، نزدیک گردن","t5",{"$f":"'متغیرها '!W78","v":24.5}]
[null,null,null,"فاصله عمودی بین خط کمرپشت و سرشانه، نزدیک گردن","t6",{"$f":"'متغیرها '!W79","v":40.799999999999997}]
[null,null,null,"دور گردن (متر به طور عمودی دور گردن قرار می گیرد و از روی استخوان ترقوه می گذرد)","v",{"$f":"'متغیرها '!W80","v":39}]
[null,null,null,"کارور پشت (بین دو خط امتداد زیر بغل)","v3",{"$f":"'متغیرها '!W81","v":35.1}]
[null,null,null,"دور بازو از ناحیه زیر بغل","w2",{"$f":"'متغیرها '!W82","v":33}]
[null,null,null,"قد آستین (دست به طور خمیده، قد از سرشانه تا مچ)","w10",{"$f":"'متغیرها '!W83","v":60}]
[null,null,null,"دور مچ دست","w11",{"$f":"'متغیرها '!W84","v":17.5}]
[null,null,null,"دور سر","w12",{"$f":"'متغیرها '!W85","v":57}]
[]
[]
[]
[]
[]
[]
[]
[]
[]
[]
[]
[]
[]
[]
[]
[]
[]
[]
[]
[null,null,null,null,null,null,null,null,null,null,null,null,null,"کپی شود",null,"کپی شود",null,"کپی شود",null,"کپی شود",null,"اندازه جدید یا اندازه قبلی",null,null,null,"کپی اندازه های قبلی از فایل دیگر"]
[null,null,null,null,null,null,null,null,null,null,null,"اندازه ها در دامن و شلوار","اندازه جدید","اندازه گیری پیشرفته و با جزییات",null,"اندازه گیری مردان و بچه ها",null,"اندازه گیری زنان",null,"اندازه گیری پیشرفته زنان",null,"اندازه گیری تحلیل شده"," اندازه محاسبه شده برای تحلیل"]
[null,null,null,null,null,null,null,null,null,null,null,"دور کمر",{"$f":"E149","v":0},{"$f":"ROUND(M404,1)","v":0},{"$f":"ROUND(N404-0.02*N404*N418,1)","v":0},{"$f":"ROUND(M404,1)","v":0},{"$f":"ROUND(P404-0.02*P404*P418,1)","v":0},{"$f":"ROUND(M404,1)","v":0},{"$f":"ROUND(R404-0.02*R404*R418,1)","v":0},{"$f":"ROUND(M404,1)","v":0},{"$f":"ROUND(T404-0.02*T404*T418,1)","v":0},{"$f":"IF('متغیرها '!X5=2,'اندازه گیری و تحلیل'!F355,IF('متغیرها '!W5=1,'اندازه گیری و تحلیل'!N404,(IF('متغیرها '!W5=2,'اندازه گیری و تحلیل'!P404,(IF('متغیرها '!W5=3,'اندازه گیری و تحلیل'!R404,'اندازه گیری و تحلیل'!T404))))))","v":75},{"$f":"ROUND(V404-0.02*V404*V418,1)","v":75}]
[null,null,null,null,null,null,null,null,null,null,null,"نوار کمر از پشت بین دو خط پهلو",{"$f":"E209","v":0},0,{"$f":"ROUND(N405-0.02*N405*N418,1)","v":0},{"$f":"ROUND(0.49*P404,1)","v":0},{"$f":"ROUND(P405-0.02*P405*P418,1)","v":0},{"$f":"ROUND(0.46*R404,1)","v":0},{"$f":"ROUND(R405-0.02*R405*R418,1)","v":0},0,{"$f":"ROUND(T405-0.02*T405*T418,1)","v":0},{"$f":"IF('متغیرها '!X5=2,'اندازه گیری و تحلیل'!F356,IF('متغیرها '!W5=1,'اندازه گیری و تحلیل'!N405,(IF('متغیرها '!W5=2,'اندازه گیری و تحلیل'!P405,(IF('متغیرها '!W5=3,'اندازه گیری و تحلیل'!R405,'اندازه گیری و تحلیل'!T405))))))","v":36.799999999999997},{"$f":"ROUND(V405-0.02*V405*V418,1)","v":36.799999999999997}]
[null,null,null,null,null,null,null,null,null,null,null,"دور باسن",{"$f":"E152","v":0},0,{"$f":"ROUND(N406+0.01*N406*N418,1)","v":0},{"$f":"ROUND(M406,1)","v":0},{"$f":"ROUND(P406+0.01*P406*P418,1)","v":0},{"$f":"ROUND(M406,1)","v":0},{"$f":"ROUND(R406+0.01*R406*R418,1)","v":0},0,{"$f":"ROUND(T406+0.01*T406*T418,1)","v":0},{"$f":"IF('متغیرها '!X5=2,'اندازه گیری و تحلیل'!F357,IF('متغیرها '!W5=1,'اندازه گیری و تحلیل'!N406,(IF('متغیرها '!W5=2,'اندازه گیری و تحلیل'!P406,(IF('متغیرها '!W5=3,'اندازه گیری و تحلیل'!R406,'اندازه گیری و تحلیل'!T406))))))","v":93},{"$f":"ROUND(V406+0.01*V406*V418,1)","v":93}]
[null,null,null,null,null,null,null,null,null,null,null,"نوار باسن از پشت بین دو خط پهلو",{"$f":"E215","v":0},0,{"$f":"ROUND(N407+0.01*N406*N418,1)","v":0},{"$f":"ROUND(0.53*P406+0.03*P406*IF(P418=2,1,0),1)","v":0},{"$f":"ROUND(P407+0.01*P406*P418,1)","v":0},{"$f":"ROUND(0.51*R406,1)","v":0},{"$f":"ROUND(R407+0.01*R406*R418,1)","v":0},0,{"$f":"ROUND(T407+0.01*T406*T418,1)","v":0},{"$f":"IF('متغیرها '!X5=2,'اندازه گیری و تحلیل'!F358,IF('متغیرها '!W5=1,'اندازه گیری و تحلیل'!N407,(IF('متغیرها '!W5=2,'اندازه گیری و تحلیل'!P407,(IF('متغیرها '!W5=3,'اندازه گیری و تحلیل'!R407,'اندازه گیری و تحلیل'!T407))))))","v":49.3},{"$f":"ROUND(V407+0.01*V406*V418,1)","v":49.3}]
[null,null,null,null,null,null,null,null,null,null,null,"فاصله نوار کمر تا زمین، از قسمت جلو",{"$f":"E191","v":0},0,{"$f":"ROUND(N408,1)","v":0},{"$f":"ROUND(0.999*P409,1)","v":0},{"$f":"ROUND(P408,1)","v":0},{"$f":"ROUND(0.995*R409,1)","v":0},{"$f":"ROUND(R408,1)","v":0},0,{"$f":"ROUND(T408,1)","v":0},{"$f":"IF('متغیرها '!X5=2,'اندازه گیری و تحلیل'!F359,IF('متغیرها '!W5=1,'اندازه گیری و تحلیل'!N408,(IF('متغیرها '!W5=2,'اندازه گیری و تحلیل'!P408,(IF('متغیرها '!W5=3,'اندازه گیری و تحلیل'!R408,'اندازه گیری و تحلیل'!T408))))))","v":99.9},{"$f":"ROUND(V408,1)","v":99.9}]
[null,null,null,null,null,null,null,null,null,null,null,"فاصله نوار کمر تا زمین، از قسمت پهلو",{"$f":"E161","v":0},0,0,{"$f":"ROUND(M409,1)","v":0},0,{"$f":"ROUND(M409,1)","v":0},0,0,0,{"$f":"IF('متغیرها '!X5=2,'اندازه گیری و تحلیل'!F360,IF('متغیرها '!W5=1,'اندازه گیری و تحلیل'!N409,(IF('متغیرها '!W5=2,'اندازه گیری و تحلیل'!P409,(IF('متغیرها '!W5=3,'اندازه گیری و تحلیل'!R409,'اندازه گیری و تحلیل'!T409))))))","v":100},{"$f":"ROUND(0.5*(V408+V410),1)","v":100}]
[null,null,null,null,null,null,null,null,null,null,null,"فاصله نوار کمر تا زمین، از قسمت پشت",{"$f":"E188","v":0},0,0,{"$f":"ROUND(1.001*P409,1)","v":0},0,{"$f":"ROUND(1.005*R409,1)","v":0},0,0,0,{"$f":"IF('متغیرها '!X5=2,'اندازه گیری و تحلیل'!F361,IF('متغیرها '!W5=1,'اندازه گیری و تحلیل'!N410,(IF('متغیرها '!W5=2,'اندازه گیری و تحلیل'!P410,(IF('متغیرها '!W5=3,'اندازه گیری و تحلیل'!R410,'اندازه گیری و تحلیل'!T410))))))","v":100.1},{"$f":"ROUND(V410,1)","v":100.1}]
[null,null,null,null,null,null,null,null,null,null,null,"فاصله نوار زانو تا زمین",{"$f":"E197","v":0},0,0,{"$f":"ROUND(0.55*P412*(1-0.15*IF(M418=2,1,0)),1)","v":0},0,{"$f":"ROUND(0.53*R412,1)","v":0},0,0,0,{"$f":"IF('متغیرها '!X5=2,'اندازه گیری و تحلیل'!F362,IF('متغیرها '!W5=1,'اندازه گیری و تحلیل'!N411,(IF('متغیرها '!W5=2,'اندازه گیری و تحلیل'!P411,(IF('متغیرها '!W5=3,'اندازه گیری و تحلیل'!R411,'اندازه گیری و تحلیل'!T411))))))","v":45.199999999999989},{"$f":"ROUND(V411,1)","v":45.2}]
[null,null,null,null,null,null,null,null,null,null,null,"فاصله نوار باسن تا زمین",{"$f":"E194","v":0},0,0,{"$f":"ROUND(P409-Q414+L445+0.1*L446,1)","v":0},0,{"$f":"ROUND(R409-S414+L445-0.3*L446,1)","v":0},0,0,0,{"$f":"IF('متغیرها '!X5=2,'اندازه گیری و تحلیل'!F363,IF('متغیرها '!W5=1,'اندازه گیری و تحلیل'!N412,(IF('متغیرها '!W5=2,'اندازه گیری و تحلیل'!P412,(IF('متغیرها '!W5=3,'اندازه گیری و تحلیل'!R412,'اندازه گیری و تحلیل'!T412))))))","v":83},{"$f":"ROUND(V412,1)","v":83}]
[null,null,null,null,null,null,null,null,null,null,null,"دور زانو",{"$f":"E200","v":0},0,0,{"$f":"ROUND(0.41*M406,1)","v":0},0,{"$f":"ROUND(0.39*M406,1)","v":0},0,0,0,{"$f":"IF('متغیرها '!X5=2,'اندازه گیری و تحلیل'!F364,IF('متغیرها '!W5=1,'اندازه گیری و تحلیل'!N413,(IF('متغیرها '!W5=2,'اندازه گیری و تحلیل'!P413,(IF('متغیرها '!W5=3,'اندازه گیری و تحلیل'!R413,'اندازه گیری و تحلیل'!T413))))))","v":38.1},{"$f":"ROUND(V413,1)","v":38.1}]
[null,null,null,null,null,null,null,null,null,null,null,"بلندی فاق",{"$f":"E164","v":0},0,{"$f":"ROUND(1.06*N414+0.022*N408*N418,1)","v":0},{"$f":"ROUND(M414,1)","v":0},{"$f":"ROUND(1.06*P414+0.022*P408*P418,1)","v":0},{"$f":"ROUND(M414,1)","v":0},{"$f":"ROUND(1.06*R414+0.022*R408*R418,1)","v":0},0,{"$f":"ROUND(1.06*T414+0.022*T408*T418,1)","v":0},{"$f":"IF('متغیرها '!X5=2,'اندازه گیری و تحلیل'!F365,IF('متغیرها '!W5=1,'اندازه گیری و تحلیل'!N414,(IF('متغیرها '!W5=2,'اندازه گیری و تحلیل'!P414,(IF('متغیرها '!W5=3,'اندازه گیری و تحلیل'!R414,'اندازه گیری و تحلیل'!T414))))))","v":24.79999999999999},{"$f":"ROUND(1.06*V414+0.022*V408*V418,1)","v":26.3}]
[null,null,null,null,null,null,null,null,null,null,null,"آنفورشور",{"$f":"E206","v":0},0,{"$f":"ROUND(N415,1)","v":0},{"$f":"ROUND(1.02*(SQRT(POWER((Q414+0.5*(Q410-Q408)-L445),2)+2.25*L448*L448)+1.45*L445+L446+1.45*L444+SQRT(POWER((Q414-0.5*(Q410-Q408)-L444),2)+POWER(IF(L447>1,(0.25*L448+(5/4)*L447),IF(L447>0,(0.25*L448+(7/4)*L447),0.2*L444)),2))),1)","v":5.4},{"$f":"ROUND(P415,1)","v":5.4},{"$f":"ROUND(1.02*(SQRT(POWER((S414+0.5*(S410-S408)-L445),2)+2.25*L448*L448)+1.45*L445+L446+1.45*L444+SQRT(POWER((S414-0.5*(S410-S408)-L444),2)+POWER(IF(L447>1,(0.25*L448+(5/4)*L447),IF(L447>0,(0.25*L448+(7/4)*L447),0.2*L444)),2))),1)","v":5.4},{"$f":"ROUND(R415,1)","v":5.4},0,{"$f":"ROUND(T415,1)","v":0},{"$f":"IF('متغیرها '!X5=2,'اندازه گیری و تحلیل'!F366,IF('متغیرها '!W5=1,'اندازه گیری و تحلیل'!N415,(IF('متغیرها '!W5=2,'اندازه گیری و تحلیل'!P415,(IF('متغیرها '!W5=3,'اندازه گیری و تحلیل'!R415,'اندازه گیری و تحلیل'!T415))))))","v":65.700000000000017},{"$f":"ROUND(V415,1)","v":65.7}]
[null,null,null,null,null,null,null,null,null,null,null,"دور مچ پا",{"$f":"E203","v":0},0,{"$f":"ROUND(N416,1)","v":0},{"$f":"ROUND(1.35*P436,1)","v":0},{"$f":"ROUND(P416,1)","v":0},{"$f":"ROUND(1.4*R436,1)","v":0},{"$f":"ROUND(R416,1)","v":0},0,{"$f":"ROUND(T416,1)","v":0},{"$f":"IF('متغیرها '!X5=2,'اندازه گیری و تحلیل'!F367,IF('متغیرها '!W5=1,'اندازه گیری و تحلیل'!N416,(IF('متغیرها '!W5=2,'اندازه گیری و تحلیل'!P416,(IF('متغیرها '!W5=3,'اندازه گیری و تحلیل'!R416,'اندازه گیری و تحلیل'!T416))))))","v":23.509999999999994},{"$f":"ROUND(V416,1)","v":23.5}]
[]
[null,null,null,null,null,null,null,null,null,null,null,"شلوار زنانه و بچگانه = 0       مردانه=1      بچه با پوشک=2",{"$f":"'متغیرها '!V5-1","v":0},{"$f":"ROUND(M418,1)","v":0},null,{"$f":"ROUND(M418,1)","v":0},null,0,null,{"$f":"ROUND(M418,1)","v":0},null,{"$f":"IF('متغیرها '!X5=2,'اندازه گیری و تحلیل'!F368,IF('متغیرها '!W5=1,'اندازه گیری و تحلیل'!N418,(IF('متغیرها '!W5=2,'اندازه گیری و تحلیل'!P418,(IF('متغیرها '!W5=3,'اندازه گیری و تحلیل'!R418,'اندازه گیری و تحلیل'!T418))))))","v":0}]
[null,null,null,null,null,null,null,null,null,null,"قد سرشانه تا زمین",{"$f":"0.5*(SQRT(SQRT(SQRT(2.1*((V428-V431)/V422)-0.2)))*V428+V408+V410)","v":139.4634769932216}]
[null,null,null,null,null,null,null,null,null,null,"تمام قد (تقریبی)",{"$f":"ROUND(L419+IF(V437>51.5,0.35,IF(V437>50.5,0.33,0.31))*V437,0)","v":159}]
[null,null,null,null,null,null,null,null,null,null,null,"اندازه ها در بالاتنه","اندازه شخص","اندازه شخص",null,"اندازه شخص",null,"اندازه شخص",null,"اندازه شخص",null,"اندازه شخص"]
[null,null,null,null,null,null,null,null,null,null,null,"دور کمر",null,{"$f":"ROUND(N404,1)","v":0},{"$f":"N422","v":0},{"$f":"P404","v":0},{"$f":"P422","v":0},{"$f":"R404","v":0},{"$f":"R422","v":0},{"$f":"T404","v":0},{"$f":"T422","v":0},{"$f":"IF('متغیرها '!X5=2,V404,IF('متغیرها '!W5=1,'اندازه گیری و تحلیل'!N422,(IF('متغیرها '!W5=2,'اندازه گیری و تحلیل'!P422,(IF('متغیرها '!W5=3,'اندازه گیری و تحلیل'!R422,'اندازه گیری و تحلیل'!T422))))))","v":75},{"$f":"V422","v":75}]
[null,null,null,null,null,null,null,null,null,null,null,"نوار کمر از پشت بین دو خط پهلو",null,{"$f":"ROUND(N405,1)","v":0},{"$f":"N423","v":0},{"$f":"P405","v":0},{"$f":"P423","v":0},{"$f":"R405","v":0},{"$f":"R423","v":0},{"$f":"T405","v":0},{"$f":"T423","v":0},{"$f":"IF('متغیرها '!X5=2,V405,IF('متغیرها '!W5=1,'اندازه گیری و تحلیل'!N423,(IF('متغیرها '!W5=2,'اندازه گیری و تحلیل'!P423,(IF('متغیرها '!W5=3,'اندازه گیری و تحلیل'!R423,'اندازه گیری و تحلیل'!T423))))))","v":36.799999999999997},{"$f":"V423","v":36.799999999999997}]
[null,null,null,null,null,null,null,null,null,null,null,"دور سینه : از برجسته ترین قسمت سینه",{"$f":"E155","v":0},{"$f":"ROUND(M424,1)","v":0},{"$f":"N424","v":0},{"$f":"ROUND(M424,1)","v":0},{"$f":"P424","v":0},{"$f":"ROUND(M424,1)","v":0},{"$f":"R424","v":0},{"$f":"ROUND(M424,1)","v":0},{"$f":"T424","v":0},{"$f":"IF('متغیرها '!X5=2,'اندازه گیری و تحلیل'!F369,IF('متغیرها '!W5=1,'اندازه گیری و تحلیل'!N424,(IF('متغیرها '!W5=2,'اندازه گیری و تحلیل'!P424,(IF('متغیرها '!W5=3,'اندازه گیری و تحلیل'!R424,'اندازه گیری و تحلیل'!T424))))))","v":86},{"$f":"V424","v":86}]
[null,null,null,null,null,null,null,null,null,null,null,"پشت نوار سینه، بین دو خط پهلو",{"$f":"E212","v":0},0,{"$f":"N425","v":0},{"$f":"ROUND(0.5*P424,1)","v":0},{"$f":"P425","v":0},{"$f":"ROUND(M433+0.24*M434,1)","v":0},{"$f":"R425","v":0},{"$f":"ROUND(M425,1)","v":0},{"$f":"T425","v":0},{"$f":"IF('متغیرها '!X5=2,'اندازه گیری و تحلیل'!F370,IF('متغیرها '!W5=1,'اندازه گیری و تحلیل'!N425,(IF('متغیرها '!W5=2,'اندازه گیری و تحلیل'!P425,(IF('متغیرها '!W5=3,'اندازه گیری و تحلیل'!R425,'اندازه گیری و تحلیل'!T425))))))","v":43},{"$f":"V425","v":43}]
[null,null,null,null,null,null,null,null,null,null,null,"فاصله عمودی از خط سینه جلو تا خط سینه پشت که از کنار حلقه آستین بگذرد",{"$f":"E218","v":0},0,{"$f":"N426-N429","v":0},{"$f":"ROUND(2*P429-0.5*(2*P430-P427),1)","v":{"$error":"#DIV/0!"}},{"$f":"P426-P429","v":{"$error":"#DIV/0!"}},{"$f":"ROUND(M427-R430+R429-(L462+L458)*SIN(RADIANS(L461)),1)","v":-7.4},{"$f":"R426-R429","v":-3.7},{"$f":"ROUND(M427-T430+T429-(L462+L458)*SIN(RADIANS(L461)),1)","v":-7.4},{"$f":"T426-T429","v":-3.7},{"$f":"IF('متغیرها '!X5=2,'اندازه گیری و تحلیل'!F371,IF('متغیرها '!W5=1,'اندازه گیری و تحلیل'!N426,(IF('متغیرها '!W5=2,'اندازه گیری و تحلیل'!P426,(IF('متغیرها '!W5=3,'اندازه گیری و تحلیل'!R426,'اندازه گیری و تحلیل'!T426))))))","v":39.799999999999997},{"$f":"V426-V429","v":19.399999999999999}]
[null,null,null,null,null,null,null,null,null,null,null,"فاصله عمودی از خط سینه جلو تا خط سینه پشت که از کنارگردن بگذرد",{"$f":"E182","v":0},0,{"$f":"N427-N430","v":0},{"$f":"ROUND(P430+(P428-P431)*0.95*P430/P431,1)","v":{"$error":"#DIV/0!"}},{"$f":"P427-P430","v":{"$error":"#DIV/0!"}},{"$f":"ROUND(M427,1)","v":0},{"$f":"R427-R430","v":0.3},{"$f":"ROUND(M427,1)","v":0},{"$f":"T427-T430","v":0.3},{"$f":"IF('متغیرها '!X5=2,'اندازه گیری و تحلیل'!F372,IF('متغیرها '!W5=1,'اندازه گیری و تحلیل'!N427,(IF('متغیرها '!W5=2,'اندازه گیری و تحلیل'!P427,(IF('متغیرها '!W5=3,'اندازه گیری و تحلیل'!R427,'اندازه گیری و تحلیل'!T427))))))","v":46.9},{"$f":"V427-V430","v":22.4}]
[null,null,null,null,null,null,null,null,null,null,null,"فاصله عمودی از خط کمر جلو تا خط کمر پشت که از کنار گردن بگذرد",{"$f":"E179","v":0},0,{"$f":"N428-N431","v":0},{"$f":"ROUND(M428,1)","v":0},{"$f":"P428-P431","v":0},{"$f":"ROUND(M428,1)","v":0},{"$f":"R428-R431","v":0.5},{"$f":"ROUND(M428,1)","v":0},{"$f":"T428-T431","v":0.3},{"$f":"IF('متغیرها '!X5=2,'اندازه گیری و تحلیل'!F373,IF('متغیرها '!W5=1,'اندازه گیری و تحلیل'!N428,(IF('متغیرها '!W5=2,'اندازه گیری و تحلیل'!P428,(IF('متغیرها '!W5=3,'اندازه گیری و تحلیل'!R428,'اندازه گیری و تحلیل'!T428))))))","v":80},{"$f":"V428-V431","v":39.200000000000003}]
[null,null,null,null,null,null,null,null,null,null,null,"فاصله عمودی بین خط سینه پشت و سرشانه، نزدیک دست",{"$f":"E221","v":0},0,{"$f":"N429","v":0},{"$f":"ROUND(P430-(P433-0.036*P434)*SIN(0.12),1)","v":0},{"$f":"P429","v":0},{"$f":"ROUND(R430-0.5*0.01*M428-L462*SIN(RADIANS(L461)),1)","v":-3.7},{"$f":"R429","v":-3.7},{"$f":"ROUND(T430-0.5*0.01*M428-L462*SIN(RADIANS(L461)),1)","v":-3.7},{"$f":"T429","v":-3.7},{"$f":"IF('متغیرها '!X5=2,'اندازه گیری و تحلیل'!F374,IF('متغیرها '!W5=1,'اندازه گیری و تحلیل'!N429,(IF('متغیرها '!W5=2,'اندازه گیری و تحلیل'!P429,(IF('متغیرها '!W5=3,'اندازه گیری و تحلیل'!R429,'اندازه گیری و تحلیل'!T429))))))","v":20.399999999999999},{"$f":"V429","v":20.399999999999999}]
[null,null,null,null,null,null,null,null,null,null,null,"فاصله عمودی بین خط سینه پشت و سرشانه، نزدیک گردن",{"$f":"E224","v":0},0,0,{"$f":"ROUND(0.6*P431,1)","v":0},0,{"$f":"ROUND(0.5*M427+0.01*M428-0.5*(L458-0.05*M434)*SIN(RADIANS(L461)),1)","v":-0.3},-0.3,{"$f":"ROUND(0.5*M427+0.01*M428-0.5*(L458-0.05*M434)*SIN(RADIANS(L461)),1)","v":-0.3},-0.3,{"$f":"IF('متغیرها '!X5=2,'اندازه گیری و تحلیل'!F375,IF('متغیرها '!W5=1,'اندازه گیری و تحلیل'!N430,(IF('متغیرها '!W5=2,'اندازه گیری و تحلیل'!P430,(IF('متغیرها '!W5=3,'اندازه گیری و تحلیل'!R430,'اندازه گیری و تحلیل'!T430))))))","v":24.5},24.5]
[null,null,null,null,null,null,null,null,null,null,null,"فاصله عمودی بین خط کمرپشت و سرشانه، نزدیک گردن",{"$f":"E227","v":0},0,0,{"$f":"ROUND(0.51*P428,1)","v":0},0,{"$f":"ROUND(0.5*R428-0.5*L460-0.9*(L458-0.05*R434)*SIN(RADIANS(L461)),1)","v":-0.5},-0.5,{"$f":"ROUND(0.51*T428-0.5*L460-0.5*(L458-0.05*T434)*SIN(RADIANS(L461)),1)","v":-0.3},-0.3,{"$f":"IF('متغیرها '!X5=2,'اندازه گیری و تحلیل'!F376,IF('متغیرها '!W5=1,'اندازه گیری و تحلیل'!N431,(IF('متغیرها '!W5=2,'اندازه گیری و تحلیل'!P431,(IF('متغیرها '!W5=3,'اندازه گیری و تحلیل'!R431,'اندازه گیری و تحلیل'!T431))))))","v":40.799999999999997},40.799999999999997]
[null,null,null,null,null,null,null,null,null,null,null,"دور گردن (متر به طور عمودی دور گردن قرار می گیرد و از روی استخوان ترقوه می گذرد)",{"$f":"E173","v":0},0,0,{"$f":"ROUND(M432,1)","v":0},0,{"$f":"ROUND(M432,1)","v":0},0,{"$f":"ROUND(M432,1)","v":0},0,{"$f":"IF('متغیرها '!X5=2,'اندازه گیری و تحلیل'!F377,IF('متغیرها '!W5=1,'اندازه گیری و تحلیل'!N432,(IF('متغیرها '!W5=2,'اندازه گیری و تحلیل'!P432,(IF('متغیرها '!W5=3,'اندازه گیری و تحلیل'!R432,'اندازه گیری و تحلیل'!T432))))))","v":39},39]
[null,null,null,null,{"$f":"V425-0.26*V434","v":34.42},":(زنانه)   v3  محاسبه ",null,null,null,null,null,"کارور پشت (بین دو خط امتداد زیر بغل)",{"$f":"E185","v":0},0,0,{"$f":"ROUND(P425-0.24*P434,1)","v":0},0,0,0,0,0,{"$f":"IF('متغیرها '!X5=2,'اندازه گیری و تحلیل'!F378,IF('متغیرها '!W5=1,'اندازه گیری و تحلیل'!N433,(IF('متغیرها '!W5=2,'اندازه گیری و تحلیل'!P433,(IF('متغیرها '!W5=3,'اندازه گیری و تحلیل'!R433,'اندازه گیری و تحلیل'!T433))))))","v":35.1},35.1]
[null,null,null,null,{"$f":"V425-0.23*V434","v":35.409999999999997}," :( بچگانه و مردانه)   v3  محاسبه ",null,null,null,null,null,"دور بازو از ناحیه زیر بغل",{"$f":"E167","v":0},0,0,{"$f":"ROUND(M434,1)","v":0},0,0,0,0,0,{"$f":"IF('متغیرها '!X5=2,'اندازه گیری و تحلیل'!F379,IF('متغیرها '!W5=1,'اندازه گیری و تحلیل'!N434,(IF('متغیرها '!W5=2,'اندازه گیری و تحلیل'!P434,(IF('متغیرها '!W5=3,'اندازه گیری و تحلیل'!R434,'اندازه گیری و تحلیل'!T434))))))","v":33},33]
[null,null,null,null,null,null,null,null,null,null,null,"قد آستین (دست به طور خمیده، قد از سرشانه تا مچ)",{"$f":"E158","v":0},0,0,{"$f":"ROUND(M435,1)","v":0},0,0,0,0,0,{"$f":"IF('متغیرها '!X5=2,'اندازه گیری و تحلیل'!F380,IF('متغیرها '!W5=1,'اندازه گیری و تحلیل'!N435,(IF('متغیرها '!W5=2,'اندازه گیری و تحلیل'!P435,(IF('متغیرها '!W5=3,'اندازه گیری و تحلیل'!R435,'اندازه گیری و تحلیل'!T435))))))","v":60},60]
[null,null,null,null,null,null,null,null,null,null,null,"دور مچ دست",{"$f":"E170","v":0},0,{"$f":"1.2*N436","v":0},{"$f":"ROUND(M436,1)","v":0},{"$f":"1.2*P436","v":0},0,{"$f":"1.2*R436","v":0},0,{"$f":"1.2*T436","v":0},{"$f":"IF('متغیرها '!X5=2,'اندازه گیری و تحلیل'!F381,IF('متغیرها '!W5=1,'اندازه گیری و تحلیل'!N436,(IF('متغیرها '!W5=2,'اندازه گیری و تحلیل'!P436,(IF('متغیرها '!W5=3,'اندازه گیری و تحلیل'!R436,'اندازه گیری و تحلیل'!T436))))))","v":17.5},{"$f":"1.2*V436","v":21}]
[null,null,null,null,null,null,null,null,null,null,null,"دور سر",{"$f":"E176","v":0},0,null,{"$f":"ROUND(M437,1)","v":0},null,0,null,0,null,{"$f":"IF('متغیرها '!X5=2,'اندازه گیری و تحلیل'!F382,IF('متغیرها '!W5=1,'اندازه گیری و تحلیل'!N437,(IF('متغیرها '!W5=2,'اندازه گیری و تحلیل'!P437,(IF('متغیرها '!W5=3,'اندازه گیری و تحلیل'!R437,'اندازه گیری و تحلیل'!T437))))))","v":57}]
[null,null,null,null,null,null,null,null,null,null,"زاویه سرشانه با افق       کم = 1       متوسط=2     زیاد=3","p",2]
[null,null,null,null,null,null,null,null,null,null,"شکم جلوتر از سینه است = 1       شکم در امتداد سینه است=2      شکم عقب تر از سینه است=3","p3",2]
[]
[]
[]
[]
[null,null,null,null,null,null,null,null,null,null,"x1",{"$f":"(2*0.35)*M406/(3.5*3.14)","v":0},null,null,null,null,null,null,null,"اضافه طول عمودی ناشی از برجستگی شکم (ناشی از محاسبه)",null,{"$f":"L485","v":0}]
[null,null,null,null,null,null,null,null,null,null,"x2",{"$f":"1.5*L444","v":0},null,null,null,null,null,null,null,"اضافه طول عمودی ناشی از برجستگی شکم (ناشی از اندازه گیری t3)    s'3 ",null,{"$f":"L487","v":0.3}]
[null,null,null,null,null,null,null,null,null,null,"x'2",{"$f":"1*L444","v":0}]
[null,null,null,null,null,null,null,null,null,null,"y",{"$f":"0.167*(W406-W407-W404+W405)","v":0.91850000000000009}]
[null,null,null,null,null,null,null,null,null,null,"x",{"$f":"0.167*(V407-V405)","v":2.0874999999999999}]
[null,null,null,null,null,null,null,null,null,null,"نسبت برای x1",{"$f":"((V415-2*W414)/(0.28*(V406-V407)))","v":1.0706113108859114}]
[null,null,null,null,null,null,null,null,null,null,"زاویه خام سرشانه پشت",{"$f":"DEGREES(ATAN((V430-V429)/(0.5*V433+0.018*V434-0.16*V432)))","v":19.004836807965319}]
[null,null,null,null,null,null,null,null,null,null,"زاویه خام سرشانه جلو",{"$f":"DEGREES(ATAN((V427-V430-V426+V429-0.15*(V424-2*V425))/(0.5*V433+0.018*V434-0.16*V432)))","v":14.144912431058609}]
[null,null,null,null,null,null,null,null,null,null,"اختلاف نسبی زاویه سرشانه",{"$f":"(L451-L450)/(L451+L450)","v":-0.14660516258704004}]
[null,null,null,null,null,null,null,null,null,null,"α'6",{"$f":"IF(ATAN((0.5*(V424-V425-V404+V405))/(V431-V430))>0,ATAN((0.5*(V424-V425-V404+V405))/(V431-V430)),0)","v":0.14618887374617506}]
[null,null,null,null,null,null,null,null,null,null,"زاویه s'3 با خط افق به درجه",{"$f":"ROUND(DEGREES(ATAN((V428-V427-V431+V430-((V431-V430)/COS(L453)))/(0.25*(V404-V405)))),1)","v":1.9}]
[null,null,null,null,null,null,null,null,null,null," w1 محاسبه",{"$f":"V425-0.23*V434","v":35.409999999999997}]
[null,null,null,null,null,null,null,null,null,null,"زاویه خام متوسط سرشانه ",{"$f":"ROUND(0.5*(L450+L451),0)","v":17}]
[]
[null,null,null,null,null,null,null,null,null,null,"پهنای ساسون سرشانه جلو   p1",{"$f":"(1/COS(RADIANS(L461)))*(0.5*V424+(0.122-0.3)*V434-V433)","v":2.1076466570556018}]
[null,null,null,null,null,null,null,null,null,null,"α'6",{"$f":"ATAN((V424-V425-V404+V405)/(V428-V427))","v":0.14401121635914532}]
[null,null,null,null,null,null,null,null,null,null,"s'3",{"$f":"IF(M439=3,0.5*(V428-V427)*((1/COS(L459))-1),IF(M439=1,0.2*0.5*(V428-V427),0))","v":0}]
[null,null,null,null,null,null,null,null,null,null,"p2",{"$f":"IF(M438=1,10,IF(M438=3,23,16))","v":16}]
[null,null,null,null,null,null,null,null,null,null,"w",{"$f":"(1/COS(RADIANS(L461)))*(0.5*V433+0.018*V434-0.16*V432)","v":12.383724484496511}]
[]
[]
[null,null,null,null,null,null,null,null,null,null,"y",{"$f":"0.167*(W406-W407-W404+W405)","v":0.91850000000000009}]
[null,null,null,null,null,null,null,null,null,null,"x",{"$f":"0.167*(V407-V405)","v":2.0874999999999999}]
[]
[null,null,null,null,null,null,null,null,null,null,"زاویه خام سرشانه پشت",{"$f":"DEGREES(ATAN((V430-V429)/(0.5*V433+0.018*V434-0.16*V432)))","v":19.004836807965319}]
[null,null,null,null,null,null,null,null,null,null,"زاویه خام سرشانه جلو",{"$f":"DEGREES(ATAN((V427-V430-V426+V429-0.15*(V424-2*V425))/(0.5*V433+0.018*V434-0.16*V432)))","v":14.144912431058609}]
[null,null,null,null,null,null,null,null,null,null,"اختلاف نسبی زاویه سرشانه",{"$f":"(L469-L468)/(L469+L468)","v":-0.14660516258704004}]
[null,null,null,null,null,null,null,null,null,null,"α'6",{"$f":"ATAN((0.5*(V424-V425-V404+V405))/(V431-V430))","v":0.14618887374617506},{"$f":"DEGREES(L471)","v":8.3760054774266752}]
[null,null,null,null,null,null,null,null,null,null,"زاویه s'3 با خط افق به درجه",{"$f":"ROUND(DEGREES(ATAN((V428-V427-V431+V430-((V431-V430)/COS(L471)))/(0.25*(V404-V405)))),1)","v":1.9}]
[]
[null,null,null,null,null,null,null,null,null,null,"زاویه خام متوسط سرشانه p2",{"$f":"ROUND(0.5*(L468+L469),0)","v":17}]
[]
[null,null,null,null,null,null,null,null,null,null,"میزان برجستگی باسن",{"$f":"ROUND(500*(L466/(V410-V412)),0)","v":61}]
[]
[null,null,null,null,null,null,null,null,null,null,"پهنای ساسون سرشانه جلو  p1",{"$f":"(1/COS(RADIANS(L474)))*(0.5*V424+(0.122-0.3)*V434-V433)","v":2.1185714986429578}]
[null,null,null,null,null,null,null,null,null,null,"میزان برجستگی سینه",{"$f":"ROUND(500*(L478/V425),0)","v":25}]
[]
[null,null,null,null,null,null,null,null,null,null,"  ناشی از ساسون کمر    α''6",{"$f":"ATAN((0.5*(V424-V425-V405))/(V431-V430))","v":0.18793957692205154},{"$f":"DEGREES(L481)","v":10.768144561107841}]
[null,null,null,null,null,null,null,null,null,null,"  ناشی از ساسون سرشانه    α''6",{"$f":"ATAN((L478)/(V428-V431-V427+V430))","v":0.12544328553060047},{"$f":"DEGREES(L482)","v":7.1873708291579144}]
[null,null,null,null,null,null,null,null,null,null,"متوسط    α''6",{"$f":"0.5*(L481+L482)","v":0.15669143122632601},{"$f":"DEGREES(L483)","v":8.9777576951328779}]
[null,null,null,null,null,null,null,null,null,null,"میزان برجستگی عمودی شکم",{"$f":"ROUND(IF(L471>0,20*(L483-L471)/L483,20+150*(L483-L471)*L483),0)","v":1}]
[null,null,null,null,null,null,null,null,null,null,"اضافه طول عمودی ناشی از برجستگی شکم (ناشی از محاسبه)",{"$f":"ROUND(IF(L471>0,(V431-V430)*(-(1/COS(L483))+(1/COS(L471))),(V431-V430)*((1/COS(L483))+(1/COS(L471))-2)),1)","v":0}]
[null,null,null,null,null,null,null,null,null,null,"اضافه طول عمودی ناشی از برجستگی سینه",{"$f":"ROUND((V431-V430)*((1/COS(L483))-1),1)","v":0.2}]
[null,null,null,null,null,null,null,null,null,null,"اضافه طول عمودی ناشی از برجستگی شکم (ناشی از اندازه گیری t3)    s'3 ",{"$f":"ROUND(V428-V427-V431+V430-((V431-V430)/COS(L483)),1)","v":0.3}]

{"sheet":"طراحی همه الگوها","index":9,"n_rows":519,"n_cols":22,"rows_kept":519,"cut":false,"hidden":true,"merged":[]}
[]
[]
[]
[]
[null,null,null,null,null,null,null,null,null,null,null,null,null,null,null,null,null,null,""]
[]
[]
[]
[]
[]
[]
[]
[]
[]
[]
[]
[]
[]
[]
[]
[]
[]
[]
[]
[]
[]
[]
[]
[]
[]
[]
[]
[]
[]
[]
[]
[]
[]
[]
[]
[]
[]
[]
[]
[]
[]
[]
[]
[]
[]
[]
[]
[]
[]
[]
[]
[]
[]
[]
[]
[]
[]
[]
[]
[]
[]
[]
[]
[]
[]
[]
[]
[]
[]
[]
[]
[]
[]
[]
[]
[]
[]
[]
[]
[]
[]
[]
[]
[]
[]
[]
[]
[]
[]
[]
[]
[]
[]
[]
[]
[]
[]
[]
[]
[]
[]
[]
[]
[]
[]
[]
[]
[]
[]
[]
[]
[]
[]
[]
[]
[]
[]
[]
[]
[]
[]
[]
[]
[]
[]
[]
[]
[]
[]
[]
[]
[]
[]
[]
[]
[]
[]
[]
[]
[]
[]
[]
[]
[]
[]
[{"$f":"'مساله سوم مدل 13'!A478","v":"بچگانه 4 ساله"},null,null,{"$f":"'مساله سوم مدل 13'!A478","v":"بچگانه 4 ساله"},null,null,{"$f":"'مساله سوم مدل 13'!A478","v":"بچگانه 4 ساله"},null,null,{"$f":"'مساله سوم مدل 13'!A478","v":"بچگانه 4 ساله"}]
["محاسبات در بافت بالاتنه و آستین  ",null,null,"یقه شکاری   ",null,null,"یقه شومیزیه تا خط جادکمه ",null,null,"یقه انگلیسی ","تعداد دانه"]
[" b6   تعداد دانه های جادکمه  ",{"$f":"محاسبات!G42","v":0},null,"a1",{"$f":"محاسبات!O33","v":124},null,"e1",{"$f":"محاسبات!U34","v":104},null,"d1",{"$f":"محاسبات!AD33","v":63}]
[" b3  تعداد دانه های جلو بدون جادکمه (بین خط رگلان و خط مرکزی جلو که نیمه جادکمه از آن کم شود) ",{"$f":"محاسبات!G43","v":15},null,"a2",{"$f":"محاسبات!O34","v":4},null,"e2",{"$f":"محاسبات!U35","v":9},null,"d2",{"$f":"محاسبات!AD34","v":5}]
["b4   تعداد دانه های آستین",{"$f":"محاسبات!G44","v":12},null,"a3",{"$f":"محاسبات!O35","v":14},null,"e3",{"$f":"محاسبات!U36","v":12},null,"d3",{"$f":"محاسبات!AD35","v":10}]
["b5  تعداد دانه های پشت",{"$f":"محاسبات!G45","v":20},null,"a4",{"$f":"محاسبات!O36","v":28},null,"e4",{"$f":"محاسبات!U37","v":24},null,"d4",{"$f":"محاسبات!AD36","v":1}]
["تعداد دانه ها  دور گردن + دو تا نیمه جادکمه که از خط مرکزی جلو اضافه شده",{"$f":"محاسبات!G46","v":74},null,"a5",{"$f":"محاسبات!O37","v":43},null,"e5",{"$f":"محاسبات!U38","v":36},null,"d5",{"$f":"محاسبات!AD37","v":70}]
[" b2  تعداد دانه های اضافه شده  از خط مرکزی جلو تا خط جادکمه = نیمه جادکمه",{"$f":"ROUND(B153/2,0)","v":0},null,"a6",{"$f":"محاسبات!O38","v":6},null,"e6",{"$f":"محاسبات!U39","v":9},null,"d6",{"$f":"محاسبات!AD38","v":20}]
["تعداد رج دوبل برای گودی گردن جلو b13",{"$f":"محاسبات!F28","v":1},null,"a10",{"$f":"محاسبات!O39","v":5},null,"e7",{"$f":"محاسبات!U40","v":0},null,"d7",{"$f":"محاسبات!AD39","v":12}]
["فاصله  گردن تا محل جدا شدن آستین در قسمت جلو (cm)     b7",{"$f":"محاسبات!F29","v":16},null,"a11",{"$f":"محاسبات!O40","v":3},null,"e8",{"$f":"محاسبات!U41","v":-4},null,"d8",{"$f":"محاسبات!AD40","v":14}]
["تعداد دانه های اضافه شده زیر بغل   b8",{"$f":"محاسبات!F30","v":9},null,"a25",{"$f":"محاسبات!O41","v":1},null,"e9",{"$f":"محاسبات!U42","v":20},null,"d9",{"$f":"محاسبات!AD41","v":2}]
["تعداد دانه های سرتاسر آستین در قسمت زیر بغل   b20",{"$f":"محاسبات!F31","v":73},null,{"$f":"محاسبات!O42","v":" "},null,null,"e10",{"$f":"محاسبات!U43","v":48},null,"d10",{"$f":"محاسبات!AD42","v":8}]
["فاصله زیر بغل تا پایین لباس (cm)     b9",{"$f":"محاسبات!F32","v":20},null,null,null,null,"e11",{"$f":"محاسبات!U44","v":46},null,"d12",{"$f":"محاسبات!AD43","v":6}]
["فاصله زیر بغل تا لبه پایین آستین (cm)     b10",{"$f":"محاسبات!F33","v":30},null,{"$f":"'مساله سوم مدل 13'!A478","v":"بچگانه 4 ساله"},null,null,{"$f":"محاسبات!U45","v":" "},null,null,"d13",{"$f":"محاسبات!AD44","v":72}]
["گشادی لبه پایین آستین (cm)     b'11",{"$f":"محاسبات!F34","v":18},null,"یقه ب ب گرد تا خط مرکزی جلو ",null,null,{"$f":"محاسبات!U46","v":"خطا : قد پایه یقه شومیزیه زیاد شود یا پهنای جادکمه جلو زیاد شود "},null,null,"d14",{"$f":"محاسبات!AD45","v":1}]
["تعداد دانه ها  لبه پایین آستین      b'12",{"$f":"محاسبات!F35","v":42},null,"c1",{"$f":"محاسبات!AA33","v":101},null,{"$f":"محاسبات!U47","v":" "},null,null,"d15",{"$f":"محاسبات!AD46","v":1}]
["پهنای مچ جدا در پایین آستین (cm)     b14",{"$f":"محاسبات!F36","v":0},null,"c2",{"$f":"محاسبات!AA34","v":2},null,null,null,null,{"$f":"محاسبات!AD47","v":" "}]
["گشادی مچ جدا در پایین آستین (cm)     b15",{"$f":"محاسبات!F37","v":14},null,"c3",{"$f":"محاسبات!AA35","v":4}]
["در بالای مچ جدا هر b12   دانه یکی کم شود",{"$f":"محاسبات!F38","v":4},null,"c4",{"$f":"محاسبات!AA36","v":9}]
["هر b11   رج در بافت آستین یکدانه از ابتدا و یکدانه از انتها کم شود",{"$f":"محاسبات!F39","v":6},null,"c10",{"$f":"محاسبات!AA37","v":51}]
[null,null,null,"c11",{"$f":"محاسبات!AA38","v":49}]
[null,null,null,{"$f":"محاسبات!AA39","v":" "}]
[]
["طراحی الگو جلو و پشت",null,null,"طراحی یقه و جیب و دامن در الگو جلو و پشت",null,null,"طراحی الگو یقه جدا و کلاه و بافت ",null,null,"طراحی الگو آستین ",null,null,"طراحی الگو شلوار",null,null,"طراحی الگو چادر یا مقنعه",null,null,null,null,"رسم الگو چادر یا مقنعه"]
[]
["جابجایی افقی تکه  پهلو جلو   (سانتیمتر)",0,null,null,null,null," جابجایی همه الگوهای یقه",null,null,null,null,null,"طراحی کلی شلوار",null,null,"طراحی چادر شماره 1 یا مقنعه ","عکس راهنما",null,null,"رسم دستی چادر 1 یا مقنعه چانه دار(بر حسب سانتیمتر)"]
["جابجایی افقی تکه پهلو پشت  (سانتیمتر)",0,null,null,null,null,"جابجایی افقی همه یقه های جدا  (سانتیمتر)   ",-3,null,"انتخاب نوع آستین و سرشانه",4,null," گشاد یا تنگ شدن اندازه های عرضی در شلوار    ",0,null,"لبه پایین چادر یا مقنعه",70,null,null,"(j1 → j2)",{"$f":"ROUND(محاسبات!CJ22+0.1*محاسبات!CJ16-محاسبات!CJ23,1)","v":48.6}]
["جابجایی عمودی تکه پهلو پشت  (سانتیمتر)",0,null,null,null,null,"جابجایی عمودی همه یقه های جدا  (سانتیمتر)  ",20,null,null,null,null,null,null,null,"انتخاب چادر تا پایین پیشانی یا بالای پیشانی یا روی سر",2,null,null,"(j1 → j3)",{"$f":"ROUND((0.21+'متغیرها '!C6*0.1)*محاسبات!CJ16,1)","v":10.7}]
[null,null,null,null,null,null,null,null,null,"طول کل حلقه آستین با اپل (سانتیمتر)",{"$f":"'متغیرها '!B536","v":31.3},null,"کوتاهی پایین شلوار  (قد شلوار)   ",20,null,null,null,null,null,"(j1 → j6)",{"$f":"ROUND(0.1*محاسبات!CJ16,1)","v":5.0999999999999996}]
["لبه پایین لباس",50,null,null,null,null,"  یقه شکاری ",null,null,"طول کل حلقه آستین با ساسون (سانتیمتر)",{"$f":"'متغیرها '!B537","v":31.3},null," گشادی پاچه شلوار ",18,null,null,null,null,null,"(j1 → j7)",{"$f":"ROUND(0.28*محاسبات!CJ16,1)","v":14.3}]
[" ارتفاع انحنا لبه پایین لباس نزدیک خط پهلو",0,null," کنترل یقه گرد بدون زیپ ",null,null," قد پشت یقه   ",25,null,"طول حلقه آستین مدل 85 (سانتیمتر)",{"$f":"'متغیرها '!B539","v":31.1},null," گشادی دور زانو ",4,null,null,null,null,null,"(j7 → j8)",{"$f":"ROUND(1+0.2*U179,1)","v":2}]
[" طول انحنا لبه پایین لباس نزدیک خط پهلو",18,null,"دور سر  (سانتیمتر)",{"$f":"'متغیرها '!B260","v":51},null," کج شدن  یقه به سمت گردن   ",-5,null,"طول حلقه آستین مدل 83 کت مردانه (سانتیمتر)",{"$f":"'متغیرها '!B540","v":30.7},null,"ضریب عرض زیپ   ",0,null,null,null,null,null,"(j7 → j9)",{"$f":"ROUND(0.3*محاسبات!CJ16+20,1)","v":35.299999999999997}]
[null,null,null," دور یقه گرد لباس  (سانتیمتر)",{"$f":"'متغیرها '!B261","v":30.2},null,"مکان لبه یقه نسبت به جلو لباس        ","مرکزی جلو",null,null,null,null,"جابجایی افقی کل الگو جلو شلوار (سانتیمتر)  ",5,null,null,null,null,null,"(j3 → j11)",{"$f":"ROUND(0.18*محاسبات!CJ16,1)","v":9.1999999999999993}]
[null,null,null,"آیا یقه گرد با پارچه غیر کش از سر رد میشود؟",{"$f":"'متغیرها '!E262","v":"خیر"},null,"زاویه لبه برگردان یقه (میزان نوک تیز بودن لبه)     ",45,null,"حلقه آستین رکابی و حلقه وسط  (پشت)",null,null,"جابجایی عمودی کل الگو جلو شلوار (سانتیمتر)  ",10,null,null,null,null,null,"(j3 → j12)",{"$f":"ROUND(0.15*محاسبات!CJ16,1)","v":7.7}]
[null,null,null,"آیا یقه گرد با پارچه نیم کش از سر رد میشود؟",{"$f":"'متغیرها '!E263","v":"خیر"},null," قد لبه برگردان یقه   ",35,null,"پهنای افقی حلقه آستین رکابی",5,null,"جابجایی افقی کل الگو پشت شلوار (سانتیمتر)  ",0,null,null,null,null,null,{"$f":"'مساله سوم مدل 13'!A478","v":"بچگانه 4 ساله"}]
[null,null,null,"آیا یقه گرد با پارچه کش زیاد از سر رد میشود؟",{"$f":"'متغیرها '!E264","v":"خیر"},null,null,null,null,"تغییر عمودی حلقه آستین رکابی",2,null,"جابجایی عمودی کل الگو پشت شلوار (سانتیمتر)  ",10]
[null,null,null,null,null,null,"  یقه فرنچی ایستاده و کاسبرگی",null,null,"جابجایی مرکز حلقه روی خط مرکزی پشت",-13,null,null,null,null,"طراحی چادر شماره 2",null,null,null,"رسم دستی چادر 2 (بر حسب سانتیمتر)"]
[null,null,null,"طراحی نوار یقه گرد کش ",null,null," قد یقه    ",12,null,"پهنای افقی حلقه وسط",7,null," کمر شلوار",null,null,"لبه پایین چادر",10,null,null,"(1 →2)",{"$f":"ROUND(محاسبات!DM46+محاسبات!DM47-0.07*'متغیرها '!U85+0.1*'متغیرها '!C14*'متغیرها '!U85,1)","v":116.2}]
[null,null,null,"پهنا نوار یقه گرد کش به سانتیمتر (بعد از دوخت)",1,null," کج شدن یقه به سمت گردن  ",10,null,"پهنای عمودی قسمت بالای حلقه وسط",7,null," پایین آمدن کمر شلوار نسبت به کمر اندام   (سانتیمتر)",-5,null,"مکان نقطه اتصال جلو چادر به پشت چادر  ",20,null,null,"(1 →3)",{"$f":"ROUND('متغیرها '!C11*((محاسبات!DM46+محاسبات!DM47-0.07*'متغیرها '!U85)+محاسبات!DM45),1)","v":52.3}]
[null,null,null,"طول مستطیل (بدون جای دوخت) برای دوخت یقه گرد کش (سانتیمتر)",{"$f":"'متغیرها '!B249","v":26},null,"مکان لبه یقه نسبت به جلو لباس        ",12,null,"پهنای عمودی قسمت پایین حلقه وسط",0,null," پهنای کمر جدا در شلوار  (سانتیمتر) ",3,null,"گشادی عرضی چادر  ",20,null,null,"(1 → 4)",{"$f":"ROUND(0.26*'متغیرها '!U85*'متغیرها '!C10,1)","v":13.3}]
[null,null,null,"عرض مستطیل (بدون جای دوخت) که در موقع دوخت باید دولا شود  (سانتیمتر)",{"$f":"2*'متغیرها '!C248","v":2},null," انحنا لبه یقه  ",20,null,null,null,null,"کوتاهی جلو کمر شلوار نسبت به پشت کمر شلوار (سانتیمتر) ",0,null,"گشادی لبه پایینی مچ  ",7,null,null,"(6→7)",{"$f":"0.93*U201","v":23.994000000000003}]
[null,null,null,null,null,null,null,null,null,"جابجایی افقی کل آستین رگلان بدون درز (سانتیمتر)",0,null,"جابجایی افقی  جلو کمر شلوار (سانتیمتر)  ",0,null,"مکان لبه پایینی آستین چادر ",10,null,null,"(5 →8)",{"$f":"ROUND(0.73*U189-U190,1)","v":24.9}]
[null,null,null,"طراحی یقه هفت",null,null," یقه شومیزیه ",null,null,null,null,null,"جابجایی عمودی  جلو کمر شلوار (سانتیمتر)  ",5,null,"انتخاب چادر تا پایین پیشانی یا بالای پیشانی یا روی سر",2,null,null,"(8 →9)",{"$f":"ROUND(0.5*U191,1)","v":12}]
[null,null,null,"باز شدن یقه هفت روی سرشانه     ",null,null," قد پایه یقه   ",20,null," آستین رگلان درز دار",null,null,"جابجایی افقی  پشت کمر شلوار (سانتیمتر)  ",0,null,null,null,null,null,"(8 →10)",{"$f":"ROUND(U195+(U188-U195-محاسبات!DB38+'متغیرها '!U83)*(1-COS(ASIN(U192/(U188-U195-محاسبات!DB38+'متغیرها '!U83)))),1)","v":29.2}]
[null,null,null,"باز شدن یقه هفت روی خط مرکزی جلو ",null,null," کج شدن پایه یقه به سمت گردن   ",-8,null,"میزان خمیدگی بدن به سمت جلو   ",3,null,"جابجایی عمودی  پشت کمر شلوار (سانتیمتر)  ",5,null,null,null,null,null,"(5 →11)",{"$f":"ROUND('طراحی همه الگوها'!U178+U190+0.1*'متغیرها '!C14*'متغیرها '!U85*1.5,1)","v":24}]
[null,null,null,null,null,null,"مکان لبه پایه یقه نسبت به جلو لباس   ",3,null,"میزان خم شدن سرشانه در آستین  ",3,null,null,null,null,null,null,null,null,"(3 →12)",{"$f":"ROUND(محاسبات!DB38-U189+'متغیرها '!C13*'متغیرها '!U83,1)","v":15.6}]
[null,null,null," کنترل یقه هفت بدون زیپ ",null,null," انحنا لبه پایه یقه  ",20,null,"پهنای ساسون مچ روی درز آستین  ",3,null," برش پشت  شلوار جین",null,null,null,null,null,null,"(12 →13)",{"$f":"ROUND(محاسبات!F425*'متغیرها '!C12,1)","v":10.8}]
[null,null,null,"دور سر  (سانتیمتر)",{"$f":"'متغیرها '!B267","v":51},null," قد پشت برگردان یقه   ",30,null,"میزان روی هم آمدن سرشانه در دو تکه آستین رگلان  ",10,null," بالا یا پایین شدن خط برش در قسمت پهلو پشت شلوار جین   ",20,null,null,null,null,null,"(3 →14)",{"$f":"ROUND(U197+U196*TAN(محاسبات!F423-RADIANS(90)+'متغیرها '!B245),1)","v":13.3}]
[null,null,null," دور یقه هفت لباس  (سانتیمتر)",{"$f":"'متغیرها '!B268","v":41.2},null," کج شدن برگردان یقه به سمت گردن   ",-6,null,"زاویه درز روی آستین نسبت به عمود  ",3,null," بالا یا پایین شدن خط برش در قسمت مرکزی پشت شلوار جین   ",20,null,null,null,null,null,"(5 →15)",{"$f":"ROUND(0.5*(محاسبات!DD19-محاسبات!DD18),1)","v":12.5}]
[null,null,null,"آیا یقه هفت با پارچه غیر کش از سر رد میشود؟",{"$f":"'متغیرها '!E269","v":"خیر"},null,"زاویه لبه برگردان یقه (میزان نوک تیز بودن لبه)     ",65,null,"میزان انحنا لبه جلو آستین  ",1,null,null,null,null,null,null,null,null,"(15 →16)",{"$f":"ROUND(0.35*(محاسبات!DE20-محاسبات!DE19),1)","v":4.2}]
[null,null,null,"آیا یقه هفت با پارچه نیم کش از سر رد میشود؟",{"$f":"'متغیرها '!E270","v":"خیر"},null," قد لبه برگردان یقه   ",40,null,"میزان انحنا لبه پشت آستین  ",1,null," جزئی شلوار",null,null,null,null,null,null,"(15 →17)",{"$f":"ROUND(محاسبات!DE17+0.35*(محاسبات!DE21-محاسبات!DE17),1)","v":25.8}]
[null,null,null,null,null,null,"جابجایی افقی برگردان یقه  (سانتیمتر)   ",0,null,"سهم گشادی مچ آستین بر روی درز  ",4,null,"ضریب گشادی دور ران یا نسبت گشادی پشت پاچه به جلو پاچه  ",1.2,null,null,null,null,null,"(8 →18)",{"$f":"ROUND(0.5*(محاسبات!DD24-محاسبات!DD23),1)","v":7.1}]
[null,null,null,"طراحی یقه انگلیسی و آرشال ","عکس راهنما",null,"جابجایی عمودی برگردان یقه  (سانتیمتر)  ",45,null,"جابجایی افقی تکه جلو آستین رگلان درز دار (سانتیمتر)",5,null," نسبت گشادی جلو زانو به پشت زانو ",1,null,null,null,null,null,"(18 →19)",{"$f":"ROUND(محاسبات!DE20+0.45*(محاسبات!DE25-محاسبات!DE20),1)","v":17.399999999999999}]
[null,null,null,"پهنای جادکمه جلو      مرحله اول در طراحی یقه انگلیسی",null,null,null,null,null,null,null,null,"زاویه خط پهلو جلو   ","روش مولر",null,null,null,null,null,"(18 →20)",{"$f":"ROUND(محاسبات!DE25+0.8*(محاسبات!DE21-محاسبات!DE25),1)","v":28.2}]
[null,null,null,"باز شدن یقه روی سرشانه    مرحله دوم در طراحی یقه انگلیسی    ",null,null," یقه شکاری با پایه",null,null,"آستین رگلان کلوش",null,null," پهنای صافی لبه پایین شلوار   ",0,null,null,null,null,null,"(1 →21)",{"$f":"ROUND(0.1*'متغیرها '!U85,1)","v":5.0999999999999996}]
[null,null,null,"باز شدن یقه روی خط مرکزی پشت   مرحله دوم در طراحی یقه انگلیسی    ",null,null," قد پایه یقه   ",8,null," پهنای اوزمان ",5,null," بالا یا پایین رفتن خط زانو   ",0,null,null,null,null,null,"(4 →22)",{"$f":"ROUND(0.7*U205,1)","v":3.6}]
[null,null,null,"پهنای یقه در پشت گردن (انگلیسی، آرشال)    مرحله سوم در طراحی یقه انگلیسی","منطبق",null," قد پشت برگردان یقه   ",22,null," فاصله خط اوزمان اول از قسمت جلو     ",10,null," پهنای فاق جلو (در روش مولر این ضریب ثابت مساوی 0.06 می باشد)   ",5,null,null,null,null,null,{"$f":"'مساله سوم مدل 13'!A478","v":"بچگانه 4 ساله"}]
[null,null,null,"باز بودن جلو یقه (انگلیسی، آرشال، هفت، پشت گردنی) مرحله چهارم در طراحی یقه انگلیسی ",15,null," کج شدن یقه به سمت گردن   ",-13,null," فاصله خط اوزمان دوم از قسمت جلو     ",20,null," زاویه خط وسط پا در پشت شلوار   ",2]
[null,null,null,"پهنای بالای دال   مرحله پنجم در طراحی یقه انگلیسی ",20,null,"مکان لبه یقه نسبت به جلو لباس   ","مرکزی جلو",null,null,null,null," بلندی ساسون پشت شلوار   ",20,null,"طراحی چادر شماره 3",null,null,null,"رسم دستی چادر 3 (بر حسب سانتیمتر)"]
[null,null,null,"پهنای پایین دال   مرحله پنجم در طراحی یقه انگلیسی      ",28,null,"زاویه لبه برگردان یقه (میزان نوک تیز بودن لبه)     ",60,null,null,null,null,"بلندی ساسون جلو شلوار   ",20,null,"لبه پایین چادر",10,null,null,"(1 →2)",{"$f":"ROUND(محاسبات!CJ22+0.1*'متغیرها '!U85-محاسبات!EC35,1)","v":109.1}]
[null,null,null,"پهنای جلو یقه (انگلیسی، آرشال)   مرحله ششم در طراحی یقه انگلیسی ",22,null," قد لبه برگردان یقه   ",26,null,null,null,null," پهنای ساسون وسط پشت شلوار   ",10,null,"گشادی لبه پایینی مچ  ",5,null,null,"(1 →3)",{"$f":"ROUND('متغیرها '!C21,1)","v":110}]
[null,null,null,"وسط دال پایین یا بالا رود (انگلیسی، آرشال)   مرحله هفتم در طراحی یقه انگلیسی",13,null,"جابجایی افقی پایه یقه  (سانتیمتر)   ",0,null,null,null,null," پهنای ساسون پهلو پشت شلوار   ",10,null,"گشادی پایین چادر (معادل کوتاهی طول مچ چادر)",15,null,null,"(1 → 4)",{"$f":"ROUND(محاسبات!EC36*COS(RADIANS(محاسبات!EC34)),1)","v":52.1}]
[null,null,null," زاویه بالای دال     مرحله هشتم در طراحی یقه انگلیسی",20,null,"جابجایی عمودی پایه یقه  (سانتیمتر)  ",-5,null,null,null,null," پهنای ساسون وسط جلو شلوار   ",10,null,"مکان لبه پایینی آستین چادر ",10,null,null,"(4→5)",{"$f":"ROUND(محاسبات!EC36*SIN(RADIANS(محاسبات!EC34)),1)","v":33.9}]
[null,null,null," زاویه پایین دال      مرحله هشتم در طراحی یقه انگلیسی ",24,null,null,null,null,null,null,null," پهنای ساسون پهلو جلو شلوار   ",10,null,"عرض پارچه  (سانتیمتر)",110,null,null,"(5 →6)",{"$f":"ROUND(U225*COS(RADIANS(محاسبات!EC37)),1)","v":10}]
[null,null,null," دال رو به پایین یا رو به بالا شود    مرحله هشتم در طراحی یقه انگلیسی  ",18,null," یقه ب ب مثلثی و گرد",null,null,null,null,null," ساسون پهلو در کمر جدا شلوار   ",0,null,"انتخاب چادر تا پایین پیشانی یا بالای پیشانی یا روی سر",2,null,null,"(6 →7)",{"$f":"ROUND(U225*SIN(RADIANS(محاسبات!EC37)),1)","v":2.7}]
[null,null,null,"   محاسبه در یقه شکاری متصل به یقه هفت   ",{"$f":"'متغیرها '!B173","v":0.18},null,"زاویه جلو یقه ب ب مثلثی",20,null,null,null,null,null,null,null,null,null,null,null,"(2 →8)",{"$f":"ROUND(U211,1)","v":110}]
[null,null,null,null,null,null," پهنای یقه ب ب ",20,null,null,null,null,"  دامن شلواری",null,null,null,null,null,null,"(8 →9)",{"$f":"ROUND(U219,1)","v":9.8000000000000007}]
[null,null,null," طراحی تکه پشت یقه انگلیسی و آرشال  ","عکس راهنما",null,"مکان لبه یقه نسبت به جلو لباس   ","مرکزی جلو",null,null,null,null," بلند شدن فاق در دامن شلواری    ",10,null,null,null,null,null,"(9→10)",{"$f":"ROUND(2*(U210-U212+U215-U217),1)","v":99.8}]
[null,null,null,"پهنای پشت پایه (انگلیسی، آرشال)    مرحله سوم در طراحی یقه انگلیسی      ",26,null,"گردی لبه یقه و انحنا نقطه بالایی یقه ب ب گرد",15,null,null,null,null," اوزمان در جلو دامن شلواری      ",8,null,null,null,null,null,"(3→11)",{"$f":"ROUND(U210+محاسبات!DM47-U211+0.1*'متغیرها '!C22*'متغیرها '!U85,1)","v":9.8000000000000007}]
[null,null,null,"زاویه کج شدن پایه مستطیل به قسمت گردن    مرحله سوم در طراحی یقه انگلیسی ",40,null,"انحنا نقطه میانی یقه ب ب گرد",25,null,null,null,null," اوزمان در پشت دامن شلواری      ",8,null,null,null,null,null,"(12 →13)",{"$f":"ROUND(1+1.5*(U211+U219-محاسبات!DM47-((U210-U217-U218)/TAN((U210-U217-U218)/(U211+U219-محاسبات!DM47)))),1)","v":1}]
[null,null,null,"پهنای جلو پایه مستطیل      مرحله سوم در طراحی یقه انگلیسی       ",20,null,"انحنا نقطه پایینی یقه ب ب گرد ",20,null,null,null,null,null,null,null,null,null,null,null,"(8 →14)",{"$f":"U220","v":1}]
[null,null,null,"انتخاب یقه انگلیسی پایه سرخود یا پایه جدا    مرحله سوم در طراحی یقه انگلیسی",1,null,null,null,null,null,null,null," شلوار با تکه پهلو جدا",null,null,null,null,null,null,"(2→15)",{"$f":"0.4*(U211+U210-U217-U218)","v":43.8}]
[null,null,null,"تغییر انحنا بالا سمت چپ     مرحله نهم در طراحی یقه انگلیسی          ",20,null," جابجایی کلاه یا شالگردن",null,null,null,null,null," پهنای تکه پهلو جلو شلوار   ",12,null,null,null,null,null,"(15→16)",{"$f":"ROUND((U210-محاسبات!DB38+'متغیرها '!U83)*(1-COS(ASIN((U222)/(U210-محاسبات!DB38+'متغیرها '!U83)))),1)","v":13.2}]
[null,null,null,"تغییر انحنا بالا    مرحله نهم در طراحی یقه انگلیسی ",37,null,"جابجایی افقی کلاه  (سانتیمتر)",-30,null,null,null,null," پهنای تکه پهلو پشت شلوار   ",6,null,null,null,null,null,"(17 →18)",{"$f":"ROUND(('متغیرها '!C20+'متغیرها '!C19)*'متغیرها '!U83,1)","v":5.7}]
[null,null,null,"زاویه تکه پشت یقه روی خط مرکزی پشت",20,null,"جابجایی عمودی کلاه (سانتیمتر)",0,null,null,null,null," باریک شدن پایین تکه پهلو جلو شلوار   ",5,null,null,null,null,null,"(17→19)",{"$f":"ROUND(U226+U224*TAN(محاسبات!EC38-RADIANS(90)+محاسبات!DM17),1)","v":10.4}]
[null,null,null,"زاویه تکه پشت یقه با پایه روی خط مرکزی پشت",20,null,"جابجایی افقی تکه پشت سر در کلاه سه تکه  (سانتیمتر)",3,null,null,null,null," باریک شدن پایین تکه پهلو پشت شلوار   ",5,null,null,null,null,null,"(18→20)",{"$f":"ROUND(محاسبات!EC39*'متغیرها '!C18,1)","v":9.5}]
[null,null,null,"تغییر انحنا پایین روی خط مرکزی پشت",20,null,null,null,null,null,null,null,"جابجایی افقی تکه پهلو شلوار (سانتیمتر)  ",7,null,null,null,null,null,"(2→21)",{"$f":"0.6*U222","v":26.279999999999998}]
[null,null,null,"تغییر انحنا پایین",20,null,"طراحی کلی کلاه ",null,null,null,null,null,"جابجایی عمودی تکه پهلو شلوار (سانتیمتر)  ",0,null,null,null,null,null,"(21→22)",{"$f":"ROUND(0.45*U223,1)","v":5.9}]
[null,null,null,"اعمال ضخیم دوزی در سجاف یقه انگلیسی و آرشال  ",20,null,"ضریب بزرگ یا کوچک شدن کلاه",0,null,null,null,null,null,null,null,null,null,null,null,{"$f":"'مساله سوم مدل 13'!A478","v":"بچگانه 4 ساله"}]
[null,null,null,"جابجایی افقی پایه مستطیل  (سانتیمتر)",0,null,"انتخاب کلاه ملوانی برای موهای دم اسبی که از پشت بسته شود ",1,null,null,null,null,"طراحی رکاب و جوراب"]
[null,null,null,"جابجایی عمودی پایه مستطیل  (سانتیمتر)",-8,null," پهنای بلیطی جلو کلاه",8,null,null,null,null," پهنای رکاب جلو شلوار   ",30,null,"طراحی چادر شماره 4",null,null,null,"رسم دستی چادر  4  (بر حسب سانتیمتر)"]
[null,null,null,"جابجایی افقی پایه لبه گرد یقه انگلیسی (سانتیمتر)",0,null," بلندی بلیطی جلو کلاه",8,null,null,null,null," پهنای رکاب پشت شلوار   ",0,null,"لبه پایین چادر",10,null,null,"(1 →2)",{"$f":"ROUND(U233+محاسبات!DM47+0.1*'متغیرها '!C32*'متغیرها '!U85,1)","v":119.8}]
[null,null,null,"جابجایی عمودی پایه لبه گرد یقه انگلیسی (سانتیمتر)",-5,null," بلندی انحنا جلو کلاه",4,null,null,null,null," قله رکاب جلو شلوار   ",12,null,"گشادی پشت چادر نسبت به جلو چادر  ",3,null,null,"(1 →4)",{"$f":"ROUND(محاسبات!CJ22+0.1*'متغیرها '!U85-محاسبات!ER39,1)","v":109.1}]
[null,null,null,"جابجایی افقی پایه یقه آرشال (سانتیمتر)",0,null," پهنای انحنا روی صورت",8,null,null,null,null," قله رکاب پشت شلوار   ",0,null,"مکان لبه پایینی آستین چادر ",10,null,null,"(2 → 3)",{"$f":"ROUND(U232*TAN(RADIANS('متغیرها '!C26)),1)","v":6.3},"عمود"]
["  نوع پیراهن",null,null,"جابجایی عمودی پایه یقه آرشال (سانتیمتر)",0,null," پهنای انحنا بالای پیشانی",-10,null,null,null,null," ارتفاع رکاب جلو شلوار   ",0,null,"گشادی لبه پایینی آستین چادر ",7,null,null,"(4→5)",{"$f":"ROUND(U233*TAN(RADIANS('متغیرها '!C26)),1)","v":5.7},"عمود"]
["انتخاب الگو جلو ترک (دامن،سوتین)=2    انتخاب الگو جلو با ساسون (مایو)=1",1,null,null,null,null,null,null,null,null,null,null," ارتفاع رکاب پشت شلوار   ",0,null,"مکان لبه بالایی آستین چادر ",30,null,null,"(1 →10)",{"$f":"ROUND(محاسبات!DB38+'متغیرها '!C27*'متغیرها '!U83,1)","v":67.900000000000006},"زاویه 45"]
[null,null,null,"مراحل مختلف در طراحی یقه انگلیسی","عکس راهنما",null," کلاه متصل به یقه مربعی",null,null,null,null,null,"کشیدگی تکه روی پا",5,null,"گشادی پایین چادر  ",20,null,null,"(10 →11)",{"$f":"ROUND('متغیرها '!C28*'متغیرها '!U84*0.5,1)","v":10.6},"عمود"]
[" اوزمان ها در دامن (پایین تنه ترک)",null,null,"پهنای جادکمه جلو - میزان روی هم آمدن یقه انگلیسی","مرحله اول",null,"بالا یا پایین رفتن خط کارور",40,null,null,null,null,{"$f":"محاسبات!FF593","v":"  "},"بررسی خطا :",null," بیشترین مقدار گشادی پایین چادر  برای اندام شما",{"$f":"'متغیرها '!B31","v":54},null,null,"(12 →13)",{"$f":"ROUND(محاسبات!EQ35-محاسبات!EQ37,1)","v":11.4}]
["میزان پایین آمدن نقطه شروع اوزمان از خط کمر  ",30,null,"میزان باز بودن یقه گرد - نشان میدهد یقه چقدر به گردن میچسبد","مرحله دوم",null,"پهنای کارور جلو",60,null,null,null,null,"جابجایی عمودی تکه روی پا   در جلو شلوار (سانتیمتر)  ",-5,null,"انتخاب چادر تا پایین پیشانی یا بالای پیشانی یا روی سر",2,null,null,"(13 →9)",{"$f":"ROUND(محاسبات!EP35-محاسبات!EP29,1)","v":24.8},"عمود"]
["اوزمان در خط پهلو جلو دامن  ",5,null,"پهنای تکه پشت یقه انگلیسی","مرحله سوم",null,null,null,null,null,null,null,"جابجایی عمودی تکه زیر پا  در پشت شلوار (سانتیمتر)  ",2,null,"مکان افقی الگو مرغک",40,null,null,"(12 →14)",{"$f":"ROUND(محاسبات!EQ37-محاسبات!EQ34,1)","v":48.4}]
["اوزمان در خط ترک جلو دامن  ",0,null,"باز بودن یقه انگلیسی","مرحله چهارم",null," کلاه ملوانی",null,null,null,null,null,null,null,null,"مکان عمودی الگو مرغک",35,null,null,"(14 →8)",{"$f":"ROUND(محاسبات!EP34-محاسبات!EP29,1)","v":46.6},"عمود"]
["اوزمان در خط  پهلو پشت دامن   ",8,null,"پهنای بالا و پایین دال","مرحله پنجم",null,"بالا یا پایین رفتن قسمت پایین کلاه روی خط مرکزی جلو",12,null,null,null,null,"کمر جدا شلوار و تنظیمات الگو طراحی شلوار",null,null,null,null,null,null,"(15 →16)",{"$f":"ROUND(0.33*U244,1)","v":4.0999999999999996}]
["اوزمان در خط مرکزی پشت دامن  ",0,null,"پهنای یقه انگلیسی","مرحله ششم",null,"پهنای قسمت پایین کلاه",20,null,null,null,null,"انتخاب گشادی کمر",1,null,null,null,null,null,"(16 →17)",{"$f":"U242","v":4.0999999999999996}]
["اوزمان در خط ترک پشت دامن  ",0,null,"بالا و پایین رفتن نقطه وسط دال","مرحله هفتم",null,null,null,null,null,null,null,"میزان دیده شدن گشادی در پهلو باسن شلوار",6,null,null,null,null,null,"(16 →18)",{"$f":"ROUND(محاسبات!ER40-3-0.2*محاسبات!ER40,1)","v":12.5},"عمود"]
["انتخاب پیراهن ترک گشاد=2            انتخاب دیگر=1",1,null,"تنظیم زاویه های نوک دال","مرحله هشتم",null," کلاه مستطیل",null,null,null,null,null,"میزان دیده شدن گشادی در پهلو زانو شلوار",8,null,null,null,null,null,"(16 →19)",{"$f":"U244","v":12.5}]
[null,null,null,"اصلاح انحنای بالای تکه پشت یقه انگلیسی","مرحله نهم",null,"میزان کشیدگی دور سر کلاه",2,null,null,null,null,"میزان دیده شدن گشادی در پهلو لبه پایین شلوار",8,null,null,null,null,null,{"$f":"'مساله سوم مدل 13'!A478","v":"بچگانه 4 ساله"}]
[" انتقال ساسون سرشانه به زیر بغل، عصایی یا خط مرکزی جلو",null,null,null,null,null,"بلند یا کوتاه کردن کلاه  (سانتیمتر)",0,null,null,null,null,"جابجایی پاچه به سمت پهلو",2]
[" برای حذف کامل ساسون سرشانه مجموع c1 و c2 باید 10 شود.",null,null,"طراحی یقه مربعی یا ملوانی یا برش سرشانه در پیراهن",null,null,null,null,null,null,null,null,"طراحی طبق الگو شلوار متصل به کمر پهن=1   طبق الگو شلوار جدا=2",1,null,"طراحی چادر شماره 5",null,null,null,"رسم دستی چادر 5 (بر حسب سانتیمتر)"]
["انتقال ساسون سرشانه جلو به ساسون زیر بغل یا ساسون عصایی  c1",0,null,"انتخاب یقه مربعی یا برش سرشانه ...",1,null,"شالگردن",null,null,null,null,null,"انتخاب کمر پهن =1         انتخاب کمر یکنواخت=2",1,null,"لبه پایین چادر",10,null,null,"(1 →2)",{"$f":"ROUND(0.5*'متغیرها '!C38*'متغیرها '!U54,1)","v":55.8}]
["انتقال ساسون سرشانه به خط مرکزی جلو یا گردی یقه c2",0,null,"  انتخاب آستین با هر نوع ساسون=1    انتخاب آستین بدون ساسون=2           ",2,null,"پهنای شالگردن ",20,null,null,null,null,null,null,null,"گشادی دامن چادر  ",20,null,null,"(1 →3)",{"$f":"ROUND('متغیرها '!U56-محاسبات!FC42,1)","v":60.4},"عمود"]
["انتقال ساسون به خط مرکزی جلو=1      انتقال ساسون به گردی یقه=2",1,null,"بالا یا پایین آمدن خط کارور پشت",30,null,"طول شالگردن  ",20,null,null,null,null,null,null,null,"بلند شدن دسته چادر ",20,null,null,"(2 → 4)",{"$f":"U250","v":60.4},"عمود"]
["انتخاب (اصلاح سرشانه و حلقه آستین برای c1 >10 ) = 2     انتخاب دیگر=1",1,null,"  حلقه آستین با ساسون سرشانه یا حلقه آستین بدون ساسون ",{"$f":"'متغیرها '!B286","v":"عدم خطا"},null,null,null,null,null,null,null,null,null,null,"انتخاب چادر تا پایین پیشانی یا بالای پیشانی یا روی سر",2,null,null,"(3→5)",{"$f":"ROUND(0.14*'متغیرها '!U56,1)","v":8.5}]
[null,null,null,"  حلقه آستین با ساسون عصایی  ",{"$f":"'متغیرها '!B287","v":"عدم خطا"},null,"طراحی بافت ",null,null,null,null,null,null,null,null,null,null,null,null,"(4 →6)",{"$f":"ROUND(0.33*U249,1)","v":18.399999999999999},"عمود"]
[" انتقال ساسون سرشانه به زیر بغل، عصایی یا خط مرکزی پشت",null,null,"بالا یا پایین آمدن خط کارور جلو",20,null,null,null,null,null,null,null,null,null,null,null,null,null,null,"(6 →7)",{"$f":"U261","v":14.1},"عمود"]
[" برای حذف کامل ساسون سرشانه مجموع c1 و c2 باید 10 شود.",null,null,"  حلقه آستین با ساسون سرشانه یا حلقه آستین بدون ساسون ",{"$f":"'متغیرها '!B290","v":"عدم خطا"},null,"طراحی نقشه بافت",null,null,null,null,null,null,null,null,null,null,null,null,"(4→8)",{"$f":"ROUND(0.2*('متغیرها '!U52-'متغیرها '!U53),1)","v":5.4}]
["انتقال ساسون سرشانه پشت به ساسون زیر بغل یا عصایی  c1",0,null,"  حلقه آستین با ساسون عصایی  ",{"$f":"'متغیرها '!B291","v":"عدم خطا"},null,"جابجایی افقی کل نقشه  (سانتیمتر)   ",-15,null,null,null,null,"اطلاعات شلوار و اندام",null,null,null,null,null,null,"(4 →11)",{"$f":"ROUND(3*U255+'متغیرها '!U52+10,1)","v":79.2}]
["انتقال ساسون سرشانه به خط مرکزی پشت c2",0,null,"پهنا یقه روی خط سرشانه   (فقط موثر در انتخاب یقه مربعی و ملوانی) ",25,null,"جابجایی عمودی کل نقشه  (سانتیمتر)  ",0,null,null,null,null,"گشادی لبه شلوار (سانتیمتر) (محاسبه شده)",{"$f":"'متغیرها '!B615","v":32.700000000000003},null,null,null,null,null,"(4 →9)",{"$f":"ROUND(1+0.03*'متغیرها '!U56,1)","v":2.8},"عمود"]
[null,null,null,"پهنای کارور جلو  (فقط موثر در انتخاب یقه مربعی ) ",22,null,"نسبت افقی نقشه بافت به سایز واقعی الگو",42,null,null,null,null,"دور کمر (سانتیمتر) (اندازه گیری شده)",{"$f":"'متغیرها '!B616","v":53},null,null,null,null,null,"(12 →18)",{"$f":"U252","v":8.5}]
[" ساسون زیر بغل",null,null,"پهنای کارور پشت  (فقط موثر در انتخاب یقه مربعی و ملوانی) ",20,null,"ارتفاع هر رج (نسبت عمودی نقشه بافت به سایز واقعی الگو)",50,null,null,null,null,"طول کش برای کل کمر شلوار (سانتیمتر) (محاسبه شده)",{"$f":"'متغیرها '!B617","v":42.4},null,null,null,null,null,"(18 →14)",{"$f":"ROUND(محاسبات!DM47+محاسبات!CJ22+0.1*'متغیرها '!U85-'متغیرها '!U56+U252+0.1*'متغیرها '!C40*'متغیرها '!U85,1)","v":67.900000000000006}]
["ضریب کوتاه شدن ساسون زیر بغل جلو  ",9,null,"جابجایی افقی   (سانتیمتر)   ",0,null,"پهنای نیم دایره",10,null,null,null,null,"طول کش برای پشت کمر بین دو خط پهلو (سانتیمتر) (محاسبه شده)",{"$f":"'متغیرها '!B618","v":20.8},null,null,null,null,null,"(12 →16)",{"$f":"U249-U253","v":37.4},"عمود"]
["ضریب کوتاه شدن ساسون زیر بغل پشت  ",9,null,"جابجایی عمودی  (سانتیمتر)  ",0,null,"طول باکس نوشته",9,null,null,null,null,"طول کش از ساسون جلو - پشت - تا ساسون دیگر جلو (سانتیمتر) (محاسبه شده)",{"$f":"'متغیرها '!B619","v":27.3},null,null,null,null,null,"(16 →17)",{"$f":"ROUND(U258+0.5*(SQRT(POWER(U259-محاسبات!FC43,2)+U260*U260)-U259+محاسبات!FC43),1)","v":14.1},"عمود"]
[null,null,null,null,null,null,"پهنای باکس نوشته",10,null,null,null,null,null,null,null,null,null,null,null,"(16 →13)",{"$f":"ROUND(1.9*(U253-U255),1)","v":24.7}]
[null,null,null,"بررسی خطای گردی یقه تا خط کارور جلو",null,null,"بزرگی فلش رج",12,null,null,null,null,"  شلوار متصل به بالاتنه",null,null,null,null,null,null,"(14 →15)",{"$f":"ROUND(U260+U262+0.5*'متغیرها '!C39*'متغیرها '!U56,1)","v":77.2},"عمود"]
[null,null,null,"آیا یقه گرد که تا خط کارور جلو باز شده، با پارچه کش از سر رد میشود؟",null,null,"زاویه فلش رج",10,null,null,null,null," بلند شدن فاق در شلوار متصل به بالاتنه    ",10,null,null,null,null,null,"(3→19)",{"$f":"ROUND(0.4*(محاسبات!FJ25-محاسبات!FJ22),1)","v":15}]
[null,null,null,{"$f":"'متغیرها '!E297","v":"خیر- گردی یقه زیاد شود یا کارور جلو پایین بیاید"},null,null,"بزرگی خط عمودی دانه",6,null,null,null,null," بزرگی پهنای جادکمه پهلو",2,null,null,null,null,null,"(19 →20)",{"$f":"ROUND(محاسبات!FG17-(محاسبات!FK25+0.9*(محاسبات!FK22-محاسبات!FK25)),1)","v":9.1},"عمود"]
[null,null,null,"آیا یقه گرد که تا خط کارور جلو باز شده، با پارچه غیر کش از سر رد میشود؟",null,null,"بزرگی فلش دانه",8,null,null,null,null,null,null,null,null,null,null,null,"(3 →21)",{"$f":"ROUND(0.8*(محاسبات!FJ25-محاسبات!FJ22),1)","v":29.9}]
[null,null,null,{"$f":"'متغیرها '!E298","v":"خیر- گردی یقه زیاد شود یا کارور جلو پایین بیاید"},null,null,"زاویه فلش دانه",15,null,null,null,null,null,null,null,null,null,null,null,"(21→22)",{"$f":"ROUND(محاسبات!FG17-(محاسبات!FK25+0.45*(محاسبات!FK22-محاسبات!FK25)),1)","v":11.6},"عمود"]
[null,null,null,null,null,null,"جابجایی افقی راهنمای نقشه  (سانتیمتر)   ",-45,null,null,null,null,null,null,null,null,null,null,null,"(12 →23)",{"$f":"U264","v":15}]
[null,null,null," یقه دراپه ",null,null,"جابجایی عمودی راهنمای نقشه  (سانتیمتر)  ",5,null,null,null,null," جیب جلو شلوار مردانه و جیب جین جلو شلوار",null,null,null,null,null,null,"(23 →24)",{"$f":"U265","v":9.1},"عمود"]
[null,null,null,"نقطه شروع دراپه جلو    ",80,null,null,null,null,null,null,null," بزرگی عمودی دهانه جیب   ",10,null,null,null,null,null,"(12 →25)",{"$f":"U266","v":29.9}]
[null,null,null,"میزان باز بودن یقه جلو به سمت  خط سینه    ",20,null,"طراحی رج دوبل",null,null,null,null,null," بزرگی افقی دهانه جیب   ",10,null,null,null,null,null,"(25 →26)",{"$f":"U267","v":11.6},"عمود"]
[null,null,null,"جابجایی عمودی یقه دراپه جلو (سانتیمتر)",0,null,"ارتفاع هر رج دوبل",6,null,null,null,null," بزرگی کیسه جیب    ",10,null,null,null,null,null,"(15 →27)",{"$f":"ROUND(محاسبات!FJ15-(محاسبات!FJ11+0.75*(محاسبات!FJ15-محاسبات!FJ11)),1)","v":3.8}]
[null,null,null,"نقطه شروع دراپه پشت    ",80,null,"شعاع داایره اول",8,null,null,null,null,null,null,null,null,null,null,null,"(27 →28)",{"$f":"ROUND(محاسبات!FK15-محاسبات!FK13,1)","v":38.200000000000003},"عمود"]
[null,null,null,"میزان باز بودن یقه پشت به سمت  خط سینه    ",20,null,"جابجایی افقی رج دوبل  (سانتیمتر)   ",2,null,null,null,null,"  جیب جلو شلوار با بلیطی",null,null,null,null,null,null,"(4 →29)",{"$f":"ROUND(0.5*('متغیرها '!U52-'متغیرها '!U53),1)","v":13.5},"نقطه انتهای اتصال به کمر-خط پهلو"]
[null,null,null,"جابجایی عمودی یقه دراپه پشت (سانتیمتر)",0,null,"جابجایی عمودی رج دوبل  (سانتیمتر)  ",2,null,null,null,null,"پهنای بلیطی جیب  (سانتیمتر)",0,null,null,null,null,null,{"$f":"'مساله سوم مدل 13'!A478","v":"بچگانه 4 ساله"}]
[null,null,null,null,null,null,null,null,null,null,null,null,"ضریب طول بلیطی جیب",0]
[null,null,null,"یقه دکلته جلو",null,null,null,null,null,null,null,null,"زاویه جیب با عمود ",30]
[null,null,null,"میزان باز بودن یقه در خط مرکزی جلو  ",95,null,"توضیح کاربر:",null,null,null,null,null,"تبدیل بلیطی جیب از مستطیل به متوازی الاضلاع ",15]
[null,null,null,"میزان اضافه شدن ساسون سرشانه  ",10,null,"نقشه بافت مخصوص کاربر",null,null,null,null,null,"انتخاب جیب روکار=2        انتخاب دیگر=1",1]
[null,null,null,"میزان انحنا یقه  ",21,null,"پهنای باکس توضیحات (سانتیمتر)",15,null,null,null,null,"مکان افقی وسط جیب",15]
[null,null,null,null,null,null,"ارتفاع باکس توضیحات (سانتیمتر)",15,null,null,null,null,"مکان عمودی بالای جیب  ",51]
[null,null,null,"یقه دکلته پشت",null,null,"جابجایی افقی توضیحات کاربر  (سانتیمتر)   ",35]
[null,null,null,"میزان باز بودن یقه در خط مرکزی پشت  ",75,null,"جابجایی عمودی توضیحات کاربر  (سانتیمتر)  ",20]
[" ضریب طول ساسون روی خط مرکزی پشت پایین تنه        غیر فعال",18,null,"میزان انحنا یقه  ",16]
[]
["ساسون ها در بالاتنه عصایی ",null,null," طول بند برای لباس دکلته از جلو تا پشت (سانتیمتر)"]
["انتخاب بالاتنه عصایی=2        انتخاب دیگر=1",1,null,"دکلته آبی جلو     به     دکلته آبی پشت",{"$f":"'متغیرها '!B363","v":8}]
["مکان ساسون عصایی جلو در حلقه آستین بالاتنه",4,null,"دکلته آبی جلو     به     دکلته سبز پشت",{"$f":"'متغیرها '!B364","v":12}]
["مکان ساسون عصایی پشت در حلقه آستین بالاتنه",4,null,"دکلته آبی جلو     به     دکلته بنفش پشت",{"$f":"'متغیرها '!B365","v":16}]
[null,null,null,"دکلته آبی جلو     به     دکلته سیاه پشت",{"$f":"'متغیرها '!B366","v":22}]
["طراحی دامن فون",null,null,"دکلته سبز جلو     به     دکلته آبی پشت",{"$f":"'متغیرها '!B367","v":12}]
["اتصال آزاد=4   اتصال به دامن تنگ=3  اتصال به بالاتنه با ساسون=2   اتصال به پیراهن پهلو صاف =1",2,null,"دکلته سبز جلو     به     دکلته سبز پشت",{"$f":"'متغیرها '!B368","v":16}]
["دور تا دور کمر دراتصال آزاد   (سانتیمتر)  ",100,null,"دکلته سبز جلو     به     دکلته بنفش پشت",{"$f":"'متغیرها '!B369","v":20}]
["قد دامن دراتصال آزاد  (سانتیمتر)   ",40,null,"دکلته سبز جلو     به     دکلته سیاه پشت",{"$f":"'متغیرها '!B370","v":26},null,"شماره بافت انتخابی جادکمه",13]
["مکان پایین دامن فون دراتصال پیراهن راسته یا دامن تنگ   ",20,null,"دکلته بنفش جلو     به     دکلته آبی پشت",{"$f":"'متغیرها '!B371","v":15},null,"شماره بافت انتخابی یقه و کلاه و شالگردن",11]
["چین در دامن فون",2,null,"دکلته بنفش جلو     به     دکلته سبز پشت",{"$f":"'متغیرها '!B372","v":19},null,"شماره بافت انتخابی جلو شلوار",11]
[" اوزمان در جلو دامن فون   (اوزمان در اتصال آزاد) ",10,null,"دکلته بنفش جلو     به     دکلته بنفش پشت",{"$f":"'متغیرها '!B373","v":23},null,"شماره بافت انتخابی پشت شلوار",11]
[" اوزمان در پشت دامن فون   ",10,null,"دکلته بنفش جلو     به     دکلته سیاه پشت",{"$f":"'متغیرها '!B374","v":29}]
["میزان ریزش پارچه در طراحی دامن فون",25,null,null,null,null,"طراحی بافت یقه انگلیسی","نمونه بافت"]
["جابجایی افقی جلو دامن فون (سانتیمتر)",0,null," رگلاژ یقه دکلته پشت",null,null,"شماره بافت انتخابی یقه انگلیسی",13]
["جابجایی عمودی جلو دامن فون (سانتیمتر)",5,null,"نقطه بالای رگلاژ روی یقه دکلته    ",2]
["جابجایی افقی پشت دامن فون (سانتیمتر)",5,null,"نقطه وسط رگلاژ روی خط کمر    ",16,null,"طراحی بافت یقه شکاری","نمونه بافت"]
["جابجایی عمودی پشت دامن فون (سانتیمتر)",9,null,"نقطه پایین رگلاژ روی خط مرکزی پشت   ",16,null,"شماره بافت انتخابی یقه شکاری",14]
["رسم دستی دامن کلوش",null,null,"ضریب پهنای جادکمه برای تکه رگلاژ ",16]
["رسم دستی دامن نیم کلوش",null,null,"جابجایی افقی تکه رگلاژ جدا (سانتیمتر)  ",30,null,"طراحی بافت یقه شومیزیه","نمونه بافت"]
[null,null,null,null,null,null,"شماره بافت انتخابی یقه شومیزیه",12]
["  جلو کمر پهن","عکس راهنما",null,"طراحی اختصاصی یقه قایقی بدون جابجایی تکه پهلو"]
["انتخاب کمر برای جلیقه =2         انتخاب دیگر = 1",1,null,"باز شدن یقه قایقی روی سرشانه  ",23,null,"طراحی بافت یقه ب ب","نمونه بافت"]
["بالای کمر پهن یکسره روی خط مرکزی جلو (ضریب فاصله نقطه u4 از خط کمر)",5,null,null,null,null,"شماره بافت انتخابی یقه ب ب ",12]
["پایین کمر روی خط مرکزی جلو (ضریب فاصله نقطه d4 از خط کمر)  (کمر جناقی و حد پایین برش دراپه)",2]
["ضریب فاصله عمودی دال جلو  (جلیقه) - (ضریب فاصله نقطه u5 از خط کمر)",8]
["ضریب فاصله افقی دال جلو  (جلیقه) - (ضریب فاصله نقطه u5 از خط مرکزی جلو)",5]
["بالای کمر پهن یکسره روی خط ترک جلو (ضریب فاصله نقطه u6 از خط کمر)",8]
["پایین کمر روی خط ترک جلو (ضریب فاصله نقطه d5 از خط کمر)  (کمر جناقی و حد پایین برش دراپه)",0,null," طراحی یقه دلبری"]
["جابجایی افقی کمر پهن یکسره (سانتیمتر)",0,null," باز شدن یقه نسبت به وسط گردن       ",14]
["جابجایی عمودی کمر پهن یکسره  (سانتیمتر)",25,null,"  بالا یا پایین رفتن نقطه شکست یقه دلبری   ",20]
[null,null,null," چپ و راست رفتن نقطه شکست یقه دلبری",20]
["  پهلو کمر پهن"]
["بالای کمر پهن یکسره روی خط پهلو (ضریب فاصله نقطه u3 از خط کمر)",8,null," یقه پشت گردنی متصل به حلقه آستین با ساسون بدون جابجایی تکه پهلو "]
["پایین کمر روی خط پهلو (ضریب فاصله نقطه d3 از خط کمر)  (کمر جناقی و حد پایین برش دراپه)",-4,null," پهنای یقه پشت گردن  ",20]
[null,null,null," طول یقه پشت گردن  ",20]
[" پشت کمر پهن","عکس راهنما",null,"  انحنا افقی یقه جلو       ",20]
["بالای کمر پهن یکسره روی خط مرکزی پشت (ضریب فاصله نقطه u1 از خط کمر)",8,null," انحنا عمودی یقه جلو    ",20]
["پایین کمر روی خط مرکزی پشت (ضریب فاصله نقطه d1 از خط کمر) (کمر جناقی)",-4]
["بالای کمر پهن یکسره روی خط ترک پشت (ضریب فاصله نقطه u2 از خط کمر)",8,null,"طراحی جیب و جادکمه"]
["پایین کمر روی خط ترک پشت (ضریب فاصله نقطه d2 از خط کمر) (کمر جناقی)",-4]
["جابجایی افقی کمر پهن یکسره (سانتیمتر)",0,null,"  جیب پهلو با بلیطی  (جلو) (آبی)"]
["جابجایی عمودی کمر پهن یکسره  (سانتیمتر)",25,null,"پهنای بلیطی جیب  (سانتیمتر)",2]
[null,null,null,"ضریب طول بلیطی جیب",20]
[" پیلی ها و گوده ها (متقارن در پیراهن)","عکس راهنما",null,"زاویه جیب با عمود ",4]
[" عرض پیلی 1 (بعد از دوخت) - روی خط مرکزی جلو  (سانتیمتر)    ",5,null,"زاویه چرخش بلیطی جیب از مستطیل به متوازی الاضلاع ",20]
[" عرض پیلی 2 (بعد از دوخت) - روی خط ترک جلو  (سانتیمتر)     ",5,null,"انتخاب طول جیب منطبق با جیب با ساسون=2     انتخاب طول جیب دستی=1",1]
[" عرض پیلی 3 (بعد از دوخت) - روی خط پهلو   (سانتیمتر)   ",5,null,"جیب منطبق با جیب جلو شاوار=2     انتخاب دیگر=1",1]
[" عرض پیلی 4 (بعد از دوخت)  روی خط مرکزی پشت (سانتیمتر) و نصف پهنای لبه برگرد پایین کت",5]
[" عرض پیلی 5 (بعد از دوخت)  روی خط ترک پشت (سانتیمتر) و نصف پهنای لبه برگرد پایین کت",5]
[" عرض پایین گوده 1 - روی خط مرکزی جلو  (سانتیمتر)    ",7]
[" عرض پایین گوده 2 - روی خط ترک جلو  (سانتیمتر)    ",7]
[" عرض پایین گوده 3 - روی خط پهلو  (سانتیمتر)    ",7]
[" عرض پایین گوده 4 - روی خط مرکزی پشت  (سانتیمتر)   ",7]
[" عرض پایین گوده 5 - روی خط ترک پشت   (سانتیمتر)  ",7]
[" نقطه شروع گوده یا پیلی ",50]
[]
["انحنا لبه پیراهن یا دامن روی خط مرکزی جلو "]
["انحنا نقطه بالایی روی خط مرکزی جلو ",3]
["انحنا نقطه میانی روی خط مرکزی جلو ",20]
["انحنا نقطه پایینی روی خط مرکزی جلو ",15]
[]
[" مشخصات کمربند به شکل مستطیل (مناسب برای لباس شما)"]
["طول کمربند (سانتیمتر)",{"$f":"'متغیرها '!B273","v":73}]
["عرض کمربند (سانتیمتر)",{"$f":"'متغیرها '!B274","v":2.7}]
[null,null,null,null,null,null,"طراحی توری بافت آستین"]
[" طراحی کش پایین سویشرت ",null,null,null,null,null,"پهنا افقی توری بافت  (سانتیمتر)   ",10]
["بالا یا پایین رفتن برش پایین سویشرت",18,null,null,null,null,{"$f":"محاسبات!RN32","v":"  "}]
["ضریب کوچک شدن کش",8,null,null,null,null,"پهنا عمودی توری بافت  (سانتیمتر)  ",20]
["طول  کش از ساسون جلو- دور باسن - تا ساسون دیگر جلو (سانتیمتر)",{"$f":"'متغیرها '!B277","v":31},null,null,null,null,{"$f":"محاسبات!RV30","v":"  "}]
[null,null,null,null,null,null,"جابجایی افقی توری بافت  (سانتیمتر)   ",0]
[" دراپه از پهلو",null,null,null,null,null,"جابجایی عمودی توری بافت  (سانتیمتر)  ",-100]
["حد بالا برش دراپه   ",82]
["پهنای دراپه 1 (سانتیمتر)   ",5,null,null,null,null,"طراحی توری بافت یقه و کلاه"]
["پهنای دراپه 2 (سانتیمتر)   ",5,null," جادکمه با بلیطی",null,null,"پهنا افقی توری بافت  (سانتیمتر)   ",10]
["پهنای دراپه 3 (سانتیمتر)   ",5,null,"پهنای جادکمه  (سانتیمتر)",2,null,{"$f":"محاسبات!SH32","v":"  "}]
["پهنای دراپه 4 (سانتیمتر)   ",5,null,"ضریب طول جادکمه ",20,null,"پهنا عمودی توری بافت  (سانتیمتر)  ",20]
["پهنای دراپه 5 (سانتیمتر)   ",5,null,"زاویه جادکمه با عمود ",18,null,{"$f":"محاسبات!SP30","v":"  "}]
["پهنای دراپه 6 (سانتیمتر)   ",5,null,"مکان افقی وسط جادکمه",10,null,"جابجایی افقی توری بافت  (سانتیمتر)   ",0]
["پهنای دراپه 7 (سانتیمتر)   ",5,null,"مکان عمودی بالای جادکمه ",120,null,"جابجایی عمودی توری بافت  (سانتیمتر)  ",-100]
["پهنای دراپه 8 (سانتیمتر)   ",5]
[null,null,null,"جادکمه متصل به یقه  ",null,null,"طراحی توری بافت جلو پیراهن"]
["  کنترل گودی حلقه آستین و اپل",null,null,"ضریب عرض جادکمه ",7,null,"پهنا افقی توری بافت  (سانتیمتر)   ",10]
["انتخاب کنترل گودی حلقه آستین=2        و انتخاب دیگر=1",1,null,"ضریب طول جادکمه ",50,null,{"$f":"محاسبات!TB32","v":"  "}]
["روی هم آمدن سرشانه پشت و جلو ",10,null," طول جادکمه  (سانتیمتر)",{"$f":"'متغیرها '!B239","v":13.8},null,"پهنا عمودی توری بافت  (سانتیمتر)  ",20]
["نسبت اعمال تغییر در حلقه جلو به حلقه پشت  ",20,null," عرض جادکمه  (سانتیمتر)",{"$f":"'متغیرها '!B240","v":5.3},null,{"$f":"محاسبات!TJ30","v":"  "}]
["زاویه اپل    ",15,null,"آیا یقه گرد متصل به جادکمه با پارچه غیر کش از سر رد میشود؟",{"$f":"'متغیرها '!E237","v":"خیر"},null,"جابجایی افقی توری بافت  (سانتیمتر)   ",0]
[null,null,null,"آیا یقه گرد متصل به جادکمه با پارچه نیم کش از سر رد میشود؟",{"$f":"'متغیرها '!E238","v":"بله "},null,"جابجایی عمودی توری بافت  (سانتیمتر)  ",-100]
["طراحی جیب متصل به ساسون (در تکه پهلو جدا یا پهلو معمولی) (انتقال ساسون زیر بغل بر روی درز جیب)",null,null,"آیا یقه گرد متصل به جادکمه با پارچه کش زیاد از سر رد میشود؟",{"$f":"'متغیرها '!E239","v":"بله "}]
[" مکان شروع درز جیب   (ضریب طول ساسون میانی جلو پایین تنه)   ",null,null,null,null,null,"طراحی توری بافت پشت پیراهن"]
[" زاویه درز جیب با افق  ",15,null,"طراحی دامن",null,null,"پهنا افقی توری بافت  (سانتیمتر)   ",10]
[" طول درز جیب ",20,null,null,null,null,{"$f":"محاسبات!TV32","v":"  "}]
[null,null,null,"طراحی زیپ و چاک دامن",null,null,"پهنا عمودی توری بافت  (سانتیمتر)  ",20]
["سرشانه دکمه خور متصل به حلقه آستین بدون ساسون\nبدون شیفت تکه پهلو",null,null,"عرض (پهنا) زیپ در خط پهلو - دامن و بالاتنه  (سانتیمتر)   ",4,null,{"$f":"محاسبات!UD30","v":"  "}]
["پهنای جادکمه سرشانه",5,null,"ضریب طول (بلندی) زیپ در خط پهلو  ",16,null,"جابجایی افقی توری بافت  (سانتیمتر)   ",0]
[null,null,null,"عرض (پهنا) زیپ در خط مرکزی پشت  (سانتیمتر)   ",5,null,"جابجایی عمودی توری بافت  (سانتیمتر)  ",-100]
["  آستین کیمونو و آستین سرخود بدون شیفت تکه پهلو",null,null,"ضریب طول (بلندی) زیپ در خط مرکزی پشت  ",16]
["میزان خمیدگی آستین کیمونو نسبت به خط سرشانه   ",20,null,"عرض (پهنا) چاک در خط مرکزی پشت  (سانتیمتر)   ",0,null,"طراحی توری بافت جلو شلوار"]
["کوتاهی آستین کیمونو   ","منطبق",null,"ضریب طول (بلندی) چاک در خط مرکزی پشت  ",20,null,"پهنا افقی توری بافت  (سانتیمتر)   ",10]
["گشادی دور مچ   (کیمونو و سرخود)","منطبق",null,null,null,null,{"$f":"محاسبات!UP32","v":"  "}]
["انحنا پهلو برای آستین کیمونو   ",8,null," پیلی ها  (متقارن یا نامتقارن در جلو دامن)",null,null,"پهنا عمودی توری بافت  (سانتیمتر)  ",20]
["انحنا پهلو برای آستین سرخود   ",1,null," عرض پیلی 2 (بعد از دوخت) - جلو  (سانتیمتر)     ",0,null,{"$f":"محاسبات!UX30","v":"  "}]
["کوتاهی آستین سرخود   ","منطبق",null," عرض پیلی 3 (بعد از دوخت) - جلو  (سانتیمتر)   ",0,null,"جابجایی افقی توری بافت  (سانتیمتر)   ",0]
["کوتاهی تاج آستین سرخود   ",0,null," عرض پیلی 4 (بعد از دوخت) - جلو   (سانتیمتر)   ",0,null,"جابجایی عمودی توری بافت  (سانتیمتر)  ",-100]
[" : گشادی لبه آستین سرخود",{"$f":"'متغیرها '!E401","v":" صحیح"},null," عرض پیلی 5 (بعد از دوخت) - روی خط مرکزی جلو  (سانتیمتر)    ",0]
[null,null,null," عرض پیلی 6 (بعد از دوخت) -  جلو  (سانتیمتر)     ",0,null,"طراحی توری بافت پشت شلوار"]
[" شورت بدون شیفت تکه پهلو",null,null," عرض پیلی 7 (بعد از دوخت) - جلو   (سانتیمتر)   ",0,null,"پهنا افقی توری بافت  (سانتیمتر)   ",10]
["ضریب فاصله کمر شورت تا زمین ","منطبق",null," عرض پیلی 8 (بعد از دوخت) - جلو   (سانتیمتر)   ",0,null,{"$f":"محاسبات!VJ32","v":"  "}]
["میزان انحنا جلو شورت مردانه ",0,null,null,null,null,"پهنا عمودی توری بافت  (سانتیمتر)  ",20]
[null,null,null," پیلی ها  (متقارن یا نامتقارن در پهلو دامن)",null,null,{"$f":"محاسبات!VR30","v":"  "}]
[null,null,null," عرض پیلی 1 (بعد از دوخت) - درز پهلو چپ  (سانتیمتر)    ",0,null,"جابجایی افقی توری بافت  (سانتیمتر)   ",0]
[null,null,null," عرض پیلی 9 (بعد از دوخت) - درز پهلو راست   (سانتیمتر)   ",0,null,"جابجایی عمودی توری بافت  (سانتیمتر)  ",-100]
[" مایو پادار (لبه پایین پاچه با لبه پایین لباس تغییر میکند)"]
["گشادی پایین پاچه     ",2,null," پیلی ها  (متقارن یا نامتقارن در پشت دامن)"]
[" گشادی پایین تکه وسط پا (برای حالتی که منطبق با الگو شلوار نمیباشد)",-10,null," عرض پیلی 10 (بعد از دوخت) - پشت  (سانتیمتر)     ",0]
["پهنای صافی لبه پایین پاچه",0,null," عرض پیلی 11 (بعد از دوخت) - پشت  (سانتیمتر)   ",0]
["ضریب عرض جادکمه وسط پا  ",3,null," عرض پیلی 12 (بعد از دوخت) - پشت   (سانتیمتر)   ",0]
["زاویه خط پهلو پاچه  ",2,null," عرض پیلی 13 (بعد از دوخت) - روی خط مرکزی پشت  (سانتیمتر)    ",0]
["جابجایی افقی تکه وسط پا (سانتیمتر)",0,null," عرض پیلی 14 (بعد از دوخت) -  پشت  (سانتیمتر)     ",0]
["جابجایی عمودی تکه وسط پا (سانتیمتر)",-10,null," عرض پیلی 15 (بعد از دوخت) - پشت   (سانتیمتر)   ",0]
[null,null,null," عرض پیلی 16 (بعد از دوخت) - پشت   (سانتیمتر)   ",0]
[null,null,null,"جابجایی افقی قرینه پشت دامن (سانتیمتر)",0]
[]
[null,null,null," دامن چند طبقه چین"]
[null,null,null,"اتصال به دامن تنگ = 3    اتصال به بالاتنه با ساسون=2   اتصال به پیراهن راسته=1",3]
[null,null,null,"مکان پایین دامن طبقه اول    ",25]
[null,null,null,"چین در دامن طبقه اول",1.1000000000000001]
[null,null,null,"مکان پایین دامن طبقه دوم    ",20]
["حلقه در پهلو (در امتداد پشت سوتین تا خط کمر) (جلو)",null,null,"چین در دامن طبقه دوم",2]
["جابجایی مرکز حلقه روی خط پهلو",-2,null,"مکان پایین دامن طبقه سوم    ",15]
["پهنای افقی حلقه",4,null,"چین در دامن طبقه سوم",1.1000000000000001]
[null,null,null,"مکان پایین دامن طبقه چهارم    ",10]
["  پیش بند حمام بچه و طراحی اانحنا روی خط پهلو پیراهن",null,null,"چین در دامن طبقه چهارم",1.2]
[" بزرگی کلاه بچه   ",20,null,"جابجایی افقی جلو دامن چند طبقه (سانتیمتر)",0]
["نقطه بالای انحنا روی خط پهلو",20,null,"جابجایی عمودی جلو دامن چند طبقه (سانتیمتر)",0]
["نقطه پایین انحنا روی خط پهلو",20,null,"جابجایی افقی پشت دامن چند طبقه (سانتیمتر)",0]
[null,null,null,"جابجایی عمودی پشت دامن چند طبقه (سانتیمتر)",0]
["  جلو پیش سینه رکابی بدون شیفت تکه پهلو"]
["بالا یا پایین رفتن بند پیش سینه جلو",21,null," دامن لنگی دراپه"]
["پهنای بند پیش سینه جلو  (سانتیمتر)",10,null,"پهنای هر دراپه (پیلی) (سانتیمتر)  ",3]
["گودی بین دو بند در جلو سینه",25,null,"مکان نقطه شروع دراپه روی خط پهلو   ",26]
["فاصله بند تا خط مرکزی جلو",20,null,"مکان نقطه شروع دراپه در پایین لباس   ",26]
["انتخاب خط راست پهلو جلو=2        انتخاب دیگر=1",1,null,"مکان پیلی اول روی کمر دامن",10]
[null,null,null,"مکان پیلی دوم روی کمر دامن",20]
["مکان بند جدا پیش سینه یا پیش بند در الگو پشت",null,null,"مکان پیلی سوم روی کمر دامن",30]
["مکان افقی بند جدا",22]
["مکان عمودی بند جدا",51,null," دامن با والان"]
[null,null,null,"پهنای هر یک از 3 تا پیلی (بعد از دوخت) روی کمر  (سانتیمتر)  ",1]
[" پشت پیش سینه رکابی بدون شیفت تکه پهلو",null,null,"فاصله  تقریبی پیلی اول تا خط مرکزی جلو   ",10]
["بالا یا پایین رفتن بند پیش سینه پشت",10,null," لبه پایینی دامن والان روی خط مرکزی پشت    ",13]
["پهنای بند پیش سینه پشت  (سانتیمتر)",4,null," لبه پایینی دامن والان روی درز پهلو    ",15]
["گودی بین دو بند در پشت سینه",25,null," لبه بالایی دامن والان روی درز پهلو   ",40]
["فاصله بند تا خط مرکزی پشت",20]
["انتخاب خط راست پهلو پشت=2        انتخاب دیگر=1",1]
[]
["  طراحی کلی سوتین یا کرست"]
["بزرگی ساسون وسط سینه      ",14]
[" پایین آمدن در پهلو    ",20]
[" بزرگی کاسه در خط مرکزی جلو      ",20]
[" بزرگی کاسه زیر نوک سینه    ",20]
[" بزرگی کاسه در پهلو      ",20]
[" بالا یا پایین آمدن یقه روی خط مرکزی جلو    ",14]
["بالا یا پایین رفتن بند جلو      ",20]
["چپ و راست رفتن بند جلو    ",20]
[" انحنا یقه جلو   ",21]
["انحنا خطوط افقی کاسه      ",20]
["انحنا خطوط عمودی کاسه    ",20]
[" انحنا یقه در پهلو    ",20]
[" بزرگی ساسون زیر بغل     ",23]
[" پهنای عمودی کاسه     ",20]
[" پهنای افقی کاسه     ",20]
["جابجایی افقی کاسه پایین راست (سانتیمتر)    ",4]
["جابجایی عمودی کاسه پایین (سانتیمتر)    ",25]
["جابجایی عمودی کاسه بالا (سانتیمتر)    ",32]
[]
["  طراحی اختصاصی سوتین 6 تکه و 5 تکه"]
["انتقال ساسون روی خط سینه به زیر سینه    ",9]
["چرخش تکه پهلو     ",20]
["پهنای بند جلو       ",1.5]
["بالا یا پایین رفتن بند جلو",20]
["چپ و راست رفتن بند جلو",20]
["پهنای افقی برش جلو بند    ",20]
["پهنای برش کاسه در پهلو      ",20]
["بالا یا پایین رفتن خط پایین پایه      ",80]
["پهنای بند پشت  (سانتیمتر)   ",1.5]
["بالا یا پایین رفتن مکان بند پشت",25]
["چپ و راست رفتن مکان بند پشت",9]
["انحنا یقه پشت پهلو      ",17]
["پهنای قزن در پشت (سانتیمتر)    ",5]
["انحنا یقه پشت مرکزی      ",15]
["جابجایی افقی تکه جلو مرکزی (سانتیمتر)    ",0]
["جابجایی افقی تکه پهلوجلو (سانتیمتر)    ",5]
["جابجایی عمودی کاسه یک تکه زیرین (سانتیمتر)    ",0]
[]
[" شنل  بدون شیفت تکه پهلو"]
["اوزمان در شنل  ",20]
["انحنا روی بازو",25]
[]
["طراحی کلوش از سرشانه  (با حلقه آستین بدون ساسون سرشانه)"]
[" اوزمان در جلو پیراهن کلوش   ",0]
[" فاصله اوزمان اول از خط مرکزی جلو     ",13]
[" فاصله اوزمان دوم از خط مرکزی جلو     ",18]
[" اوزمان در پشت پیراهن کلوش",0]
[" فاصله اوزمان اول از خط مرکزی پشت     ",13]
[" فاصله اوزمان دوم از خط مرکزی پشت     ",20]
[]
[]
[]
[]
[]
[]
[]
[]
[]
[]
[]
[]
[]
[]
[]
[]
[]
[]
[]
[]
[]
[]
[]
[]
[]
[]
[]
[]
[null,null,null,null,{"$f":"'طراحی همه الگوها'!J349","v":0}]

{"sheet":"مساله سوم مدل 13","index":10,"n_rows":559,"n_cols":11,"rows_kept":559,"cut":false,"hidden":false,"merged":[]}
[]
[]
[]
[null," "]
[]
[]
[]
[]
[]
[]
[]
[]
[]
[]
[]
[]
[]
[]
["in"]
[]
[]
[]
[]
[]
[]
[]
[]
[]
[]
[]
[]
[]
[]
[]
[]
[]
[]
[]
[]
[]
[]
[]
[]
[]
[]
[]
[]
[]
[]
[]
[]
[]
[]
[]
[]
[]
[]
[]
[]
[]
[]
[]
[]
[]
[]
[]
[]
[]
[]
[]
[]
[]
[]
[]
[]
[]
[]
[]
[]
[]
[]
[]
[]
[]
[]
[]
[]
[]
[]
[]
[]
[]
[]
[]
[]
[]
[]
[]
[]
[]
[]
[]
[]
[]
[]
[]
[]
[]
[]
[]
[]
[]
[]
[]
[]
[]
[]
[]
[]
[]
[]
[]
[]
[]
[]
[]
[]
[]
[]
[]
[]
[]
[]
[]
[]
[]
[]
[]
[]
[]
[]
[]
[]
[]
[]
[]
[]
[]
[]
[]
[]
[]
[]
[]
[]
[]
[]
[]
[]
[]
[]
[]
[]
[]
[]
[]
[]
[]
[]
[]
[]
[]
[]
[]
[]
[]
[]
[]
[]
[]
[]
[]
[]
[]
[]
[]
[]
[]
[]
[]
[]
[]
[]
[]
[]
[]
[]
[]
[]
[]
[]
[]
[]
[]
[]
[]
[]
[]
[]
[]
[]
[]
[]
[]
[]
[]
[]
[]
[]
[]
[]
[]
[]
[]
[]
[]
[]
[]
[]
[]
[]
[]
[]
[]
[]
[]
[]
[]
[]
[]
[]
[]
[]
[]
[]
[]
[]
[]
[]
[]
[]
[]
[]
[]
[]
[]
[]
[]
[]
[]
[]
[]
[]
[]
[]
[]
[]
[]
[]
[]
[]
[]
[]
[]
[]
[]
[]
[]
[]
[]
[]
[]
[]
[]
[]
[]
[]
[]
[]
[]
[]
[]
[]
[]
[]
[]
[]
[]
[]
[]
[]
[]
[]
[]
[]
[]
[]
[]
[]
[]
[]
[]
[]
[]
[]
[]
[]
[]
[]
[]
[]
[]
[]
[]
[]
[]
[]
[]
[]
[]
[]
[]
[]
[]
[]
[]
[]
[]
[]
[]
[]
[]
[]
[]
[]
[]
[]
[]
[]
[]
[]
[]
[]
[]
[]
[]
[]
[]
[]
[]
[]
[]
[]
[]
[]
[]
[]
[]
[]
[]
[]
[]
[]
[]
[]
[]
[]
[]
[]
[]
[]
[]
[]
[]
[]
[]
[]
[]
[]
[]
[]
[]
[]
[]
[]
[]
[]
[]
[]
[]
[]
[]
[]
[]
[]
[]
[]
[]
[]
[]
[]
[]
[]
[]
[]
[]
[]
[]
[]
[]
[]
[]
[]
[]
[]
[]
[]
[]
[]
[]
[]
[]
[]
[]
[]
[]
[]
[]
[]
[]
[]
[]
[]
[]
[]
[]
[]
[]
[]
[]
[]
[]
[]
[]
[]
[]
[]
[]
[]
[]
[]
[]
[]
[]
[]
["طراحی کلی",null,null,"طراحی الگو یقه و مایو",null,null,"طراحی الگو آستین",null,null,"طراحی نقشه بافت "]
[]
[null,null,null," طراحی گردی یقه",null,null," طراحی کلی آستین ",null,null,"تشخیص ضخامت میل و کاموا"]
[null,null,null,"باز شدن یقه روی سرشانه ",0,null,"بلندی پایین آستین",10,null,"پهنای 30 دانه بافت ساده  ( سانتیمتر)",19]
[null,null,null,"باز شدن یقه روی خط مرکزی جلو ",0,null,"گشادی لبه پایین آستین",4,null," ضخامت میل و کاموا شما",{"$f":"محاسبات!AH78","v":4.5}]
[null,null,null,"باز شدن یقه روی خط مرکزی پشت  ",2,null,"ضریب بلندی اندازه های طولی در آستین ",0]
["اندازه نوشته ها هنگام چاپ به سایز واقعی",8,null,null,null,null,"ضریب بلندی تاج آستین",0,null,"طراحی بافت جلو پشت ...","نمونه بافت"]
[null,null,null,"طراحی اختصاصی یقه پروانه ای ",null,null,"ضریب گشادی تاج آستین",0,null,"انتخاب ضخامت میل و کاموا بافتنی",2.5]
["انتخاب سایز :","سایز من",null,"پهنای سرشانه به سمت پشت    ",20,null,"مکان لبه بالایی صافی سرآستین ",14,null,"شماره بافت انتخابی جلو پیراهن",15]
["بچگانه 4 ساله",null,null,"پهنای سرشانه به سمت جلو   ",22,null,"جابجایی افقی کل الگو آستین (سانتیمتر)",0,null,"شماره بافت انتخابی پشت پیراهن",15]
[null,null,null,null,null,null,"جابجایی عمودی کل الگو آستین (سانتیمتر)",0,null,"شماره بافت انتخابی آستین",11]
["برچسب الگو : ",null,null," مایو (طراحی زیردکمه)"]
[{"$f":"A475","v":"بچگانه 4 ساله"},null,null," ضریب بالا آمدن خط مایو در پهلو   ",20,null,"  مچ جدا در آستین",null,null," اول مخصوص کاربر","برچسب بافت :"]
[null,null,null,"انتخاب مایو دکمه دار از وسط پا=2            انتخاب مایو بدون دکمه=1",2,null,"انتخاب مچ اندامی=2    انتخاب مچ مستطیل، مچ پفی =1",1,null,"پهنای 30 دانه بافت مخصوص کاربر ( سانتیمتر)",1]
["دور کمر برای سایز انتخاب شده",{"$f":"'متغیرها '!U52-B481","v":53},null,"جابجایی محل دکمه از پشت به جلو برای پوشک بچه در انتخاب مایو دکمه دار (سانتیمتر)",2,null,"گشادی لبه بالایی مچ ",3,null,"ارتفاع 20 رج بافت مخصوص کاربر ( سانتیمتر)",1]
["تغییر دور کمر  (سانتیمتر)",0,null,"اضافه پهنا وسط پا برای پوشک بچه در انتخاب مایو دکمه دار (سانتیمتر) ",1.5,null,"گشادی لبه پایینی مچ یا (گشادی مچ مستطیل، مچ پفی)  ",0]
[null,null,null,"اضافه جادکمه وسط پا در انتخاب مایو دکمه دار  (سانتیمتر)",2,null,"مکان لبه بالایی مچ",10,null," دوم مخصوص کاربر","برچسب بافت :"]
["دور سینه برای سایز انتخاب شده",{"$f":"'متغیرها '!U72-B484","v":58},null,"مکان افقی مرغک",10,null,"مکان لبه پایینی مچ",10,null,"پهنای 30 دانه بافت مخصوص کاربر ( سانتیمتر)",1]
["تغییر دور سینه  (سانتیمتر)",0,null,"مکان عمودی مرغک",-10,null,"جابجایی افقی مچ  (سانتیمتر)   ",0,null,"ارتفاع 20 رج بافت مخصوص کاربر ( سانتیمتر)",1]
[null,null,null,null,null,null,"جابجایی عمودی مچ  (سانتیمتر)  ",0]
["دور باسن برای سایز انتخاب شده",{"$f":"'متغیرها '!U54-B487","v":62},null,"طراحی جیب ",null,null,null,null,null," سوم مخصوص کاربر","برچسب بافت :"]
["تغییر دور باسن  (سانتیمتر)",0,null,null,null,null,"  آستر مچ جدا در آستین",null,null,"پهنای 30 دانه بافت مخصوص کاربر ( سانتیمتر)",1]
[null,null,null," جیب اول با بلیطی  (جلو) (سبز)",null,null,"انتخاب مچ اندامی=2        انتخاب مچ مستطیل یا مچ پفی=1",1,null,"ارتفاع 20 رج بافت مخصوص کاربر ( سانتیمتر)",1]
["دور بازو برای سایز انتخاب شده",{"$f":"'متغیرها '!U82-B490","v":23},null,"پهنای بلیطی جیب  (سانتیمتر)",0,null,"گشادی لبه بالایی مچ ",0]
["تغییر دور بازو  (سانتیمتر)",0,null,"ضریب طول بلیطی جیب",0,null,"گشادی لبه پایینی مچ یا (گشادی مچ مستطیل یا مچ پفی)  ",0,null," چهارم مخصوص کاربر","برچسب بافت :"]
[null,null,null,"زاویه جیب با عمود ",16,null,"مکان لبه بالایی مچ",10,null,"پهنای 30 دانه بافت مخصوص کاربر ( سانتیمتر)",1]
["تمام قد برای سایز انتخاب شده  ( تقریبی)",{"$f":"'متغیرها '!U88","v":104},null,"زاویه چرخش بلیطی جیب از مستطیل به متوازی الاضلاع ",18,null,"مکان لبه پایینی مچ",10,null,"ارتفاع 20 رج بافت مخصوص کاربر ( سانتیمتر)",1]
["تغییر تمام قد  (سانتیمتر)",0,null,"انتخاب جیب روکار=2        انتخاب دیگر=1",1,null,"جابجایی افقی آستر مچ  (سانتیمتر)   ",0]
[null,null,null,"مکان افقی وسط جیب",15,null,"جابجایی عمودی آستر مچ  (سانتیمتر)  ",0,null," پنجم مخصوص کاربر","برچسب بافت :"]
["اندازه های تغییر کرده",null,null,"مکان عمودی بالای جیب  ",60,null,null,null,null,"پهنای 30 دانه بافت مخصوص کاربر ( سانتیمتر)",1]
["دور کمر",{"$f":"B480+B481","v":53},null,null,null,null," آستین کتی",null,null,"ارتفاع 20 رج بافت مخصوص کاربر ( سانتیمتر)",1]
["دور سینه",{"$f":"B483+B484","v":58},null,"جیب دوم با بلیطی (جلو) (سیاه)",null,null,"میزان خمیدگی آستین کتی  ",5]
["دور باسن",{"$f":"B486+B487","v":62},null,"پهنای بلیطی جیب  (سانتیمتر)",0,null,"ضریب طول مستطیل جادکمه کتی",0,null," ششم مخصوص کاربر","برچسب بافت :"]
["دور بازو",{"$f":"B489+B490","v":23},null,"ضریب طول بلیطی جیب",0,null,"ضریب عرض مستطیل جادکمه کتی",0,null,"پهنای 30 دانه بافت مخصوص کاربر ( سانتیمتر)",1]
["تمام قد",{"$f":"B492+B493","v":104},null,"زاویه جیب با عمود ",18,null,"جابجایی افقی تکه جلو آستین کتی (سانتیمتر)",0,null,"ارتفاع 20 رج بافت مخصوص کاربر ( سانتیمتر)",1]
[null,null,null,"زاویه چرخش بلیطی جیب از مستطیل به متوازی الاضلاع ",20]
["اضافه شدن برجستگی سینه  (سانتیمتر)",0,null,"انتخاب جیب روکار=2        انتخاب دیگر=1",2,null," جادکمه آستین بلند یا کوتاه",null,null," هفتم مخصوص کاربر","برچسب بافت :"]
["اضافه شدن برجستگی شکم  (سانتیمتر)",0,null,"مکان افقی وسط جیب",10,null,"ضریب طول مستطیل ",0,null,"پهنای 30 دانه بافت مخصوص کاربر ( سانتیمتر)",1]
["اضافه شدن برجستگی باسن  (سانتیمتر)",0,null,"مکان عمودی بالای جیب  ",96,null,"ضریب عرض مستطیل ",0,null,"ارتفاع 20 رج بافت مخصوص کاربر ( سانتیمتر)",1]
[]
[" جابجایی الگو جلو و پشت پیراهن",null,null,"  جیب مستطیل  (جلو)  (قرمز)",null,null,"  آستین کلوش ",null,null," هشتم مخصوص کاربر","برچسب بافت :"]
["جابجایی افقی کل الگو جلو پیراهن  (سانتیمتر)",0,null,"ضریب عرض جیب مستطیل",0,null,"بلندی پایین آستین کلوش",37,null,"پهنای 30 دانه بافت مخصوص کاربر ( سانتیمتر)",1]
["جابجایی عمودی کل الگو جلو پیراهن  (سانتیمتر)",0,null,"زاویه  جیب با عمود ",18,null," اوزمان آستین کلوش ",15,null,"ارتفاع 20 رج بافت مخصوص کاربر ( سانتیمتر)",1]
["جابجایی افقی کل الگو پشت پیراهن  (سانتیمتر)",0,null,"ضریب ارتفاع جیب مستطیل",0]
["جابجایی عمودی کل الگو پشت پیراهن  (سانتیمتر)",0,null,"مکان افقی وسط جیب",10,null," آستین کلوش معکوس ",null,null," نهم مخصوص کاربر","برچسب بافت :"]
[null,null,null,"مکان عمودی بالای جیب  ",96,null,"بلندی پایین آستین کلوش معکوس",30,null,"پهنای 30 دانه بافت مخصوص کاربر ( سانتیمتر)",1]
[" گشاد یا تنگ شدن پیراهن",null,null,null,null,null," اوزمان آستین کلوش معکوس ",5,null,"ارتفاع 20 رج بافت مخصوص کاربر ( سانتیمتر)",1]
[" اندازه های عرضی در پیراهن   ",10,null," جیب جین پشت "]
[" گشاد یا تنگ شدن از خط پهلو زیر حلقه ",0,null,"ضریب پهنای جیب    ",0,null," آستین لاله ای",null,null," دهم مخصوص کاربر","برچسب بافت :"]
[" گشاد یا تنگ شدن از خط پهلو دور باسن  ",0,null,"ضریب قد جیب    ",0,null,"مکان نقطه بالای انحنا جلو آستین   ",20,null,"پهنای 30 دانه بافت مخصوص کاربر ( سانتیمتر)",1]
[" اندازه های طولی در پیراهن  ",0,null,"زاویه خط پهلو جیب    ",5,null,"مکان نقطه بالای انحنا پشت آستین   ",20,null,"ارتفاع 20 رج بافت مخصوص کاربر ( سانتیمتر)",1]
[" گشاد یا تنگ شدن اندازه های طولی در شلوار    ",0,null,"زاویه مثلث پایین جیب    ",20,null,"مکان نقطه پایین انحنا جلو آستین   ",20]
[null,null,null," چرخش کل جیب    ",45,null,"مکان نقطه پایین انحنا پشت آستین   ",20]
["تعیین ضرایب تنگی در پارچه های کشی برای دوخت مدلهای جذب",null,null,"مکان افقی جیب  (سانتیمتر)    ",0,null,"ضریب انحنا جلو   ",23]
["سی (30) سانت از عرض پارچه را میکشم چند سانت میشود؟",30,null,"مکان عمودی جیب    ",22,null,"ضریب انحنا پشت   ",23]
["سی (30) سانت از طول پارچه (در امتداد ترکی) را میکشم چند سانت میشود؟",30]
["پیشنهاد نرم افزار برای ضرایب تنگی",null,null," جیب پشت با بلیطی",null,null,"اطلاعات طول حلقه آستین و طول تاج آستین"]
[" اندازه های عرضی در پیراهن ",{"$f":"-ROUND(B520-30,0)","v":0},null,"پهنای بلیطی جیب  (سانتیمتر)",0,null,"طول کل حلقه آستین بدون ساسون (سانتیمتر) ",{"$f":"'متغیرها '!B538","v":33}]
["  تنگ شدن از خط پهلو زیر حلقه ",{"$f":"-ROUND((0.4*(B520-30))/0.5,0)*0.5","v":0},null,"ضریب طول بلیطی جیب",0,null,"طول تاج آستین کتی (سانتیمتر)",{"$f":"'متغیرها '!B541","v":33.6}]
["  تنگ شدن از خط پهلو دور باسن  ",{"$f":"-ROUND((0.4*(B520-30))/0.5,0)*0.5","v":0},null,"زاویه جیب با عمود ",20,null,"طول تاج آستین ساده (سانتیمتر)",{"$f":"'متغیرها '!B542","v":33.700000000000003}]
[" اندازه های طولی در پیراهن",{"$f":"-ROUND(B521-30,0)","v":0},null,"تبدیل بلیطی جیب از مستطیل به متوازی الاضلاع ",20]
[" اندازه های عرضی در پایین تنه  (شلوار) ",{"$f":"-ROUND(B520-30,0)","v":0},null,"انتخاب جیب روکار=2        انتخاب دیگر=1",2]
[" اندازه های طولی در پایین تنه  (شلوار)",{"$f":"-ROUND(B521-30,0)","v":0},null,"مکان افقی وسط جیب",10]
[null,null,null,"مکان عمودی بالای جیب  ",50]
[" جادکمه و پایین لباس","عکس راهنما"]
["پهنای جادکمه جلو      ",0]
[]
[" سرشانه و حلقه آستین"]
["ضریب کم شدن سرشانه  ",0]
["ضریب بزرگ شدن زیر حلقه آستین  ",0]
["ضریب زیاد شدن سرشانه  ",4]
["حذف سه گوش زیر بغل=1     سه گوش باقی بماند=2",2]
[]
["  تنظیم ساسون های بالای کمر"]
[null,"مجموع ضرایب پهنای دو ساسون پشت باید کمتر از 20 یا مساوی 20 باشد."]
[null,"اگر مجموع پهنای ساسون ها کمتر از 20 باشد، باقیمانده ساسون ها روی خط پهلو قرار میگیرد."]
[" ضریب پهنای ساسون روی خط مرکزی پشت بالاتنه   ",0]
[" ضریب طول ساسون روی خط مرکزی پشت بالاتنه   ",12]
[" ضریب پهنای ساسون میانی پشت بالاتنه   ",10]
[" ضریب طول ساسون میانی پشت بالاتنه   ",18]
[" ضریب فاصله افقی ساسون وسط بالاتنه از خط مرکزی پشت   ",25]
[" ضریب پهنای ساسون میانی جلو بالاتنه    ",6]
[" ضریب طول ساسون میانی جلو بالاتنه  ",18]
[" ضریب فاصله افقی ساسون میانی بالاتنه از خط مرکزی جلو   ",25]
[" ضریب نوک ساسون سرشانه جلو تا نوک سینه  ",18]
[]
[" تنظیم ساسون های پایین کمر"]
[null,"مجموع ضرایب پهنای دو ساسون پشت باید کمتر از 20 یا مساوی 20 باشد."]
[null,"اگر مجموع پهنای ساسون ها کمتر از 20 باشد، باقیمانده ساسون ها روی خط پهلو قرار میگیرد."]
[" ضریب پهنای ساسون روی خط مرکزی پشت پایین تنه   ",0]
[" ضریب پهنای ساسون میانی پشت پایین تنه   ",10]
[" ضریب طول ساسون میانی پشت پایین تنه       ",18]
[" ضریب پهنای ساسون میانی جلو پایین تنه    ",6]
[" ضریب طول ساسون میانی جلو پایین تنه       ",20]

{"sheet":"temp_print_sheet","index":11,"n_rows":0,"n_cols":0,"rows_kept":0,"cut":false,"hidden":true,"merged":[]}