{"text_format":"1","workbook":"xlsx","n_sheets":9,"sheets":["Chart Index","محاسبات","متغیرها ","راهنما","اندازه های شخصی","اندازه گیری و تحلیل","طراحی همه الگوها","طراحی مدل 16","temp_print_sheet"],"not_rendered":{"charts":22,"images":55,"macros":1,"external_links":0,"defined_names":2,"comments":3,"pivot_tables":0},"unopened":[],"bounds":{"document_bytes":16777216,"sheet_cells":100000,"rows_first":2000,"rows_last":500,"rows_between":2000,"halvings":0,"cell_chars":16384,"cell_head_chars":4096},"cells_cut":0,"cells_raw":0,"read":"whole","date_system":"1900"}

{"sheet":"Chart Index","index":0,"n_rows":22,"n_cols":4,"rows_kept":22,"cut":false,"hidden":true,"merged":[]}
[]
[]
[]
[]
[]
[]
["Preview","Sheet (and graph link)","Chart Title","Chart Series"]
[null,"طراحی همه الگوها","رسم دستی چادر2","انحنا, صاف"]
[null,"طراحی همه الگوها","رسم دستی چادر 3","انحنا, صاف"]
[null,"طراحی همه الگوها","رسم دستی چادر 5","انحنا, صاف"]
[null,"طراحی همه الگوها","طراحی چادرها و رسم چادر 4","شبیه ساز دست خمیده و سر, شبیه ساز دامن, رسم یا طراحی چادر4"]
[null,"طراحی همه الگوها","  چادر1 و مقنعه برای پرینت ","شبیه ساز دست خمیده و سر, شبیه ساز دامن, چادر 1 با نقطه گذاری"]
[null,"طراحی همه الگوها","شلوار پشت","1شبیه ساز, 2کمر شلوار,  3وسط شلوار و خط اتو, 4پهلو, 6فاق, 7لبه پایین, 9کمر جدا, اطلاعات اندام در شلوار"]
[null,"طراحی همه الگوها","طراحی پشت یقه ","شبیه ساز برش, شبیه ساز انحنا, طراحی یقه گرد"]
[null,"طراحی همه الگوها","طراحی جلو یقه","شبیه ساز اندام, طراحی یقه شکاری"]
[null,"طراحی همه الگوها","شلوار جلو","1شبیه ساز جلو, 2کمر شلوار, 3وسط شلوار, 4پهلو, 6فاق, 7لبه پایین شلوار, 8زیپ, 9کمر جدا, 10جیب مردانه, 11جیب جین, اطلاعات اندام در شلوار"]
[null,"طراحی همه الگوها","طراحی جلو دامن ترک با کمر پهن","شبیه ساز دامن تنگ, کمر پهن, خط مرکزی جلو کمر, خطوط اصلی دامن ترک, خطوط فرعی دامن ترک, خط اوزمان, پیلی"]
[null,"طراحی همه الگوها","طراحی پشت دامن ترک با کمر پهن","شبیه ساز دامن تنگ, کمر یکسره, خطوط اصلی دامن ترک, خطوط فرعی دامن ترک, پیلی"]
[null,"طراحی همه الگوها"," آستین ","شبیه ساز آستین, آستین بلند یا کوتاه, مچ آستین بلند یا کوتاه"]
[null,"طراحی همه الگوها","الگو پشت","0 اطلاعات اندام, 72شبیه ساز بالاتنه بدون ساسون, 2شبیه ساز دامن, 5حلقه آستین بدون ساسون, 6سرشانه بدون ساسون, 10پهلو صاف وپایین لباس, 17یقه گرد , 18خط پشت در پیراهن, 24بدون شیفت ساسون کمر"]
[null,"طراحی همه الگوها","یقه و کلاه","شومیزیه"]
[null,"طراحی همه الگوها","الگو جلو","0اطلاعات اندام, 1شبیه ساز بالاتنه, 2شبیه ساز دامن, 6حلقه آستین بدون ساسون  , 7سرشانه بدون ساسون, 11پهلو صاف , 22یقه گرد چرخیده, 23جادکمه یقه گرد در پیراهن, 29پایین پیراهن بدون ترک, 70ساسون کمر, 76جادکمه متصل به یقه"]

{"sheet":"محاسبات","index":1,"n_rows":959,"n_cols":394,"rows_kept":281,"cut":true,"hidden":true,"merged":[[9,73,9,75],[144,5,144,6],[86,31,86,34],[8,48,8,49],[8,59,8,61],[95,16,95,22],[112,25,112,26],[8,9,8,11],[8,17,8,19],[8,24,8,30],[8,21,8,22]],"bounds":{"rows_first":125,"rows_last":31,"rows_between":125,"halvings":4}}
["height_print ",36.57461229435021]
["width_print ",36.748536648061489]
["charts_resized "]
["print_body_chartS"]
["ActiveWindow.Zoom",15]
["per_font_size_chart",{"$f":"0.1*'طراحی مدل 16'!B322","v":0.8}]
["ChartFieldRange( باید خالی باشد )"]
["show_temp_print_sheet ",0]
["per_line_size_chart",null,null,null,null,"نقاط ورودی",null,null,null,"رسم چادر شماره 1 و مقنعه چانه دار",null,null,null,"نقاط ورودی",null,null,null,"رسم مقنعه دراپه",null,null,null,"رسم دستی چادر 2 (بر حسب سانتیمتر)",null,null,"رسم چادر شماره 2",null,null,null,null,null,null,null,"نقاط ورودی",null,null,null," طراحی چادر شماره 2",null,null,null,null,null,null,null," طراحی چادر شماره 3",null,null,null,"رسم دستی چادر 3 (بر حسب سانتیمتر)",null,null,"رسم چادر شماره 3",null,null,null,null,null,null,null,"رسم دستی چادر  4",null,null,null,null,null,"رسم و طراحی چادر شماره 4",null,null,null,null,null,null,null,null,null,null,null,"رسم چادر شماره 5",null,null,null,null,null,null,null,"طراحی چادر شماره 5",null,null,null," طراحی چادر شماره 5",null,null,null,null,null,null,null,null,"پروسیجر یافتن راس سوم مثلث با داشتن دو راس و دو ضلع",null,null,null,null,null,"پروسیجر چرخش یک نقطه حول نقطه دیگر",null,null,null,null,null,"کامل شده",null,null,"رسم باکس زیپ دامن- باکس دوطرفه راست و چپ","مولفه افقی","مولفه عمودی",null,null,"به دست آوردن راس سوم مثلث وقتی دو راس و دو ضلع را داریم",null,null,null,null,null,"جلو(k''5 →k6)",{"$f":"SQRT(POWER((#REF!-#REF!),2)+POWER((#REF!-#REF!),2))","v":{"$error":"#REF!"}},"ضلع راست",null,null,null,null,null,null,null,null,null,null,null,"قرینه"]
[null,null,null,null,null,"مولفه افقی","مولفه عمودی","اسم نقطه",null,"مولفه افقی","مولفه عمودی","اسم نقطه",null,"مولفه افقی","مولفه عمودی","اسم نقطه",null,"مولفه افقی","مولفه عمودی","اسم نقطه",null,null,null,null,null,"صاف",null,null,null,"انحنا",null,null,"اسم نقطه ","مولفه افقی","مولفه عمودی",null,{"$f":"AH21","v":5},171.50798499999996,"s6",null,"طراحی چادر شماره 3",null,null,null,{"$f":"AP12","v":5},171.50798499999996,"s'6",null,null,null,null,null,"صاف",null,null,null,"انحنا",null,null,null,null,null,null,null,null,"رسم دستی چادر4 با نقطه گذاری",null,null,null,null,"خطوط پرینت الگو یا طراحی چادر4",null,null,"رسم دستی چادر 5 (بر حسب سانتیمتر)",null,null,null,null,"صاف",null,null,null,"انحنا",null,null,"اسم نقطه ","مولفه افقی","مولفه عمودی",null,{"$f":"CI14","v":5},{"$f":"CJ14","v":171.50798499999996},"s'6",null,null,null,null,null,null,null,null,"اطلاعات ورودی",null,null,null,"رادیان",{"$f":"-#REF!","v":{"$error":"#REF!"}},"زاویه چرخش","چرخش مخالف عقربه های ساعت",null,null,null,null,"نقطه ورودی بالا","b5",{"$f":"#REF!","v":{"$error":"#REF!"}},{"$f":"#REF!","v":{"$error":"#REF!"}},null,null," درجه α1"," رادیان α1","xdp'6","ydp'6","(dp4→dp'6)","(dp4→dp6)-(dp4→dp'6) ","(k6 →45)جلو",{"$f":"SQRT(POWER((#REF!-#REF!),2)+POWER((#REF!-#REF!),2))","v":{"$error":"#REF!"}},"ضلع چپ",null,null,null,null,null,null,null,null,null,null,null,{"$f":"-EE10+EJ9","v":0},{"$f":"EF10","v":0}]
[null,null,null,null,null,{"$f":"DB406","v":5},{"$f":"DC406","v":170.99499999999998},"شبیه ساز s15",null,{"$f":"F36","v":83.7},{"$f":"G36","v":175.7},"j5",null,{"$f":"DB404","v":5},{"$f":"DC404","v":151.6},"شبیه ساز s5",null,{"$f":"N24","v":5},{"$f":"O24","v":100.30149999999999},"d6",null,null,null,null,{"$f":"W35+'طراحی همه الگوها'!U190","v":14.8},{"$f":"Z12","v":0},5,null,{"$f":"Y15","v":14.8},{"$f":"Z15","v":26.8},11,null,"s2",{"$f":"DB401","v":9.1847120000000011},{"$f":"DC401","v":167.04249999999999},null,12.154226792683154,169.1767909232918,"s7",null,"اسم نقطه ","مولفه افقی","مولفه عمودی",null,11.302819295059582,168.50106427806867,"s'7",null,null,null,null,{"$f":"W35","v":0},{"$f":"'طراحی همه الگوها'!U210+AX33","v":170.7},1,null,{"$f":"AZ30","v":182.7},{"$f":"BA30","v":170.7},11,null,null,null,null,null,null,null,{"$f":"BJ29","v":5},{"$f":"BK30","v":-7},2,null,{"$f":"BJ30","v":-4.5999999999999996},{"$f":"BK30","v":-7},3,null,null,null,null,null,{"$f":"BZ15-'طراحی همه الگوها'!U274","v":66.5},{"$f":"CA15","v":103},"خط پهلو",null,{"$f":"BZ30","v":95.4},{"$f":"CA30","v":114.1},13,null,"s1",{"$f":"DB400","v":5},{"$f":"DC400","v":169},null,12.568811348664767,168.60430186812189,"s''7",null,null,null,null,null,null,"اسم نقطه ","مولفه افقی","مولفه عمودی",null,null,null,"مولفه افقی","مولفه عمودی","اسم نقطه ",null,"نقطه  خروجی چرخیده",null,null,null,"نقطه ورودی پایین","b6",{"$f":"#REF!","v":{"$error":"#REF!"}},{"$f":"#REF!","v":{"$error":"#REF!"}},null,2,-100,{"$f":"RADIANS(DO11)","v":-1.7453292519943295},{"$f":"DV13+DV10*COS(DP11)","v":{"$error":"#REF!"}},{"$f":"DW13-DV10*SIN(DP11)","v":{"$error":"#REF!"}},{"$f":"SQRT(POWER((DV12-DQ11),2)+POWER((DW12-DR11),2))","v":{"$error":"#REF!"}},{"$f":"ABS(DV9-DS11)","v":{"$error":"#REF!"}},"اسم نقطه ","مولفه افقی","مولفه عمودی",null,null,null,null,null,null,null,null,null,null,null,{"$f":"-EE11+EJ9","v":0},0]
[null,null,null,null,null,null,{"$f":"'متغیرها '!C52","v":5},"شیفت عمودی",null,{"$f":"F33","v":5},{"$f":"G33","v":175.7},"j1",null,{"$f":"F34","v":5},{"$f":"G34","v":108.99999999999999},"j2",null,{"$f":"N22","v":5},{"$f":"O22","v":186.2165},"d3",null,null,null,null,{"$f":"W35","v":0},{"$f":"O33","v":0},2,null,{"$f":"'طراحی همه الگوها'!U190+'طراحی همه الگوها'!U199","v":36.799999999999997},{"$f":"Z12+'طراحی همه الگوها'!U201","v":29.8},17,null,"s3",{"$f":"DB402","v":10.978160000000001},{"$f":"DC402","v":161.16999999999999},null,28.847422642277184,152.08136769409867,"s8",null,"s'6",{"$f":"AH14","v":5},{"$f":"1.003*AI14","v":171.50798499999996},null,26.009397650198604,147.45261922454955,"s'8",null,null,null,null,{"$f":"W35","v":0},{"$f":"BA11-'طراحی همه الگوها'!U212","v":98.799999999999983},4,null,{"$f":"BD13+0.7*(BD11-BD13)","v":181.14},{"$f":"BE13+0.4*(BE11-BE13)","v":147.89999999999998},"13'",null,null,null,null,null,null,null,{"$f":"BJ29","v":5},{"$f":"BK29","v":175.7},1,null,{"$f":"BJ32","v":11.178346649122268},{"$f":"BK32","v":-7.8269081086385128},6,null,null,null,null,null,null,null,null,null,{"$f":"CD11+0.45*(CD15-CD11)","v":107.01},{"$f":"CE11+0.25*(CE15-CE11)","v":141.22499999999999},"13'",null,"s3",{"$f":"DB402","v":10.978160000000001},{"$f":"DC402","v":161.16999999999999},null,25.183496929772716,148.27851994497544,"s''8",null,null,null,null,null,"راس پایین","منهای شیفتa50",{"$f":"BL37","v":96.541440038906217},{"$f":"BM37","v":0},"ضلع پایین",{"$f":"BT25","v":8},null,{"$f":"#REF!","v":{"$error":"#REF!"}},{"$f":"#REF!","v":{"$error":"#REF!"}},"a40","نقطه مرکزی چرخش","مولفه افقی","مولفه عمودی","اسم نقطه ",null,"متغیر ورودی پهنا","a20",{"$f":"#REF!","v":{"$error":"#REF!"}},"(سانتیمتر)",null,null,{"$f":"DO11+DN11","v":-98},{"$f":"RADIANS(DO12)","v":-1.7104226669544429},{"$f":"DV13+DV10*COS(DP12)","v":{"$error":"#REF!"}},{"$f":"DW13-DV10*SIN(DP12)","v":{"$error":"#REF!"}},{"$f":"SQRT(POWER((DV12-DQ12),2)+POWER((DW12-DR12),2))","v":{"$error":"#REF!"}},{"$f":"ABS(DV9-DS12)","v":{"$error":"#REF!"}},"پشتk''5",{"$f":"DK33","v":{"$error":"#REF!"}},{"$f":"DL33","v":{"$error":"#REF!"}},"راس راست",null,null,null,null,null,null,null,null,null,null,{"$f":"-EE12+EJ9","v":0},0]
[null,null,null,null,null,"دور سر",{"$f":"'متغیرها '!U85","v":57},"w12",null,null,null,null,null,null,{"$f":"G19","v":165},"تمام قد",null,null,null,null,null,null,null,null,{"$f":"W35","v":0},{"$f":"'طراحی همه الگوها'!U188+O33","v":178.7},1,null,{"$f":"Y19","v":58.7},{"$f":"Z19","v":35.4},10,null,"خط سینه",{"$f":"DT400","v":5},{"$f":"DU400","v":124.1},null,46.73298962398507,140.42539731055788,"s9",null,"s'7",{"$f":"AP12+0.12*(AP16-AP12)","v":11.302819295059582},{"$f":"AQ16+0.95*(AQ12-AQ16)","v":168.50106427806867},null,41.766445887847553,129.41109489296173,"s'9",null,null,null,null,{"$f":"W35","v":0},{"$f":"AX33","v":0},2,null,{"$f":"AZ29-'طراحی همه الگوها'!U220","v":177.5},{"$f":"BA29","v":132.69999999999999},13,null,null,null,null,null,null,null,null,null,null,null,null,null,null,null,null,null,null,null,0,{"$f":"BW42","v":0},1,null,{"$f":"CD11+0.75*(CD15-CD11)","v":114.75},{"$f":"CE11+0.5*(CE15-CE11)","v":168.35},28,null,"s5",{"$f":"DB404","v":5},{"$f":"DC404","v":151.6},null,40.321119627102242,129.69494790095584,"s''9",null,null,null,null,null,"راس بالا "," منهای شیفتe18",{"$f":"BV27-BQ21","v":0},{"$f":"BW27","v":0},"ضلع بالا",{"$f":"BT26","v":0},null,{"$f":"#REF!-#REF!+#REF!","v":{"$error":"#REF!"}},{"$f":"#REF!","v":{"$error":"#REF!"}},"a48-b16+f22","نقطه قبل از چرخش",{"$f":"IF(DB13>DB12,IF(DA13>DA12,DA12+SQRT(POWER(DA13-DA12,2)+POWER(DB13-DB12,2))*COS(ATAN((DB13-DB12)/(DA13-DA12+0.000123))+DB10),DA12-SQRT(POWER(DA13-DA12,2)+POWER(DB13-DB12,2))*COS(ATAN((DB13-DB12)/(DA12-DA13+0.000123))-DB10)),IF(DA13>DA12,DA12+SQRT(POWER(DA13-DA12,2)+POWER(DB13-DB12,2))*COS(ATAN((DB12-DB13)/(DA13-DA12+0.000123))-DB10),DA12-SQRT(POWER(DA13-DA12,2)+POWER(DB13-DB12,2))*COS(ATAN((DB12-DB13)/(DA12-DA13+0.000123))+DB10)))","v":{"$error":"#REF!"}},{"$f":"IF(DB13>DB12,IF(DA13>DA12,DB12+SQRT(POWER(DA13-DA12,2)+POWER(DB13-DB12,2))*SIN(ATAN((DB13-DB12)/(DA13-DA12+0.000123))+DB10),DB12+SQRT(POWER(DA13-DA12,2)+POWER(DB13-DB12,2))*SIN(ATAN((DB13-DB12)/(DA12-DA13+0.000123))-DB10)),IF(DA13>DA12,DB12-SQRT(POWER(DA13-DA12,2)+POWER(DB13-DB12,2))*SIN(ATAN((DB12-DB13)/(DA13-DA12+0.000123))-DB10),DB12-SQRT(POWER(DA13-DA12,2)+POWER(DB13-DB12,2))*SIN(ATAN((DB12-DB13)/(DA12-DA13+0.000123))+DB10)))","v":{"$error":"#REF!"}},"e52",null,"متغیر ورودی طول","a21",{"$f":"#REF!","v":{"$error":"#REF!"}},null,null,null,{"$f":"DO12+DN11","v":-96},-1.6755160819145565,{"$f":"DV13+DV10*COS(DP13)","v":{"$error":"#REF!"}},{"$f":"DW13-DV10*SIN(DP13)","v":{"$error":"#REF!"}},{"$f":"SQRT(POWER((DV12-DQ13),2)+POWER((DW12-DR13),2))","v":{"$error":"#REF!"}},{"$f":"ABS(DV9-DS13)","v":{"$error":"#REF!"}},"42پشت",{"$f":"DK35","v":1},{"$f":"DL35","v":0},"راس چپ",null,null,null,null,null,null,null,null,null,null,{"$f":"-EE13+EJ9","v":0},0]
[null,null,null,null,null,null,{"$f":"'متغیرها '!U76","v":82},"t3",null,{"$f":"F33","v":5},{"$f":"G33","v":175.7},"j1",null,null,{"$f":"'متغیرها '!C52","v":5},"شیفت عمودی",null,{"$f":"N22","v":5},{"$f":"O22","v":186.2165},"d3",null,null,null,null,{"$f":"W35+'طراحی همه الگوها'!U190","v":14.8},{"$f":"Z13","v":178.7},4,null,{"$f":"'طراحی همه الگوها'!U190+'طراحی همه الگوها'!U192+'طراحی همه الگوها'!U202","v":69.600000000000009},{"$f":"Z12+'طراحی همه الگوها'!U204","v":33.9},20,null,"s15",{"$f":"DB406","v":5},{"$f":"DC406","v":170.99499999999998},null,64.618556605692959,132.65475038819736,"s10",null,"s'8",{"$f":"AP12+0.4*(AP16-AP12)","v":26.009397650198604},{"$f":"AQ16+0.6*(AQ12-AQ16)","v":147.45261922454955},null,57.523494125496505,111.36957056137393,"s'10",null,null,null,null,{"$f":"W35+'طراحی همه الگوها'!U216","v":110},{"$f":"BA13","v":0},8,null,null,null,null,null,null,null,null,null,null,null,{"$f":"BJ31","v":13.9},{"$f":"BK31","v":5},5,null,{"$f":"BJ32","v":11.178346649122268},{"$f":"BK32","v":-7.8269081086385128},6,null,null,null,null,null,{"$f":"BZ13+'طراحی همه الگوها'!U249","v":83.7},{"$f":"CA13","v":0},2,null,{"$f":"CD11+0.95*(CD15-CD11)","v":119.91},{"$f":"CE11+0.8*(CE15-CE11)","v":200.9},"13'''",null,"s'6",{"$f":"AP12","v":5},{"$f":"AQ12","v":171.50798499999996},null,55.458742324431782,113.43432236243866,"s''10",null,null,null,null,null,"c19",{"$f":"ATAN((CV13-CV12)/(CW13-CW12))","v":{"$error":"#DIV/0!"}},null,"محاسبات",null,null,null,null,null,null,null,null,null,null,null,null,null,"ماکزیمم متغیر ورودی  ضریب طول",20,null,null,{"$f":"DO13+DN11","v":-94},-1.6406094968746698,{"$f":"DV13+DV10*COS(DP14)","v":{"$error":"#REF!"}},{"$f":"DW13-DV10*SIN(DP14)","v":{"$error":"#REF!"}},{"$f":"SQRT(POWER((DV12-DQ14),2)+POWER((DW12-DR14),2))","v":{"$error":"#REF!"}},{"$f":"ABS(DV9-DS14)","v":{"$error":"#REF!"}},"k6",{"$f":"DV13+DV10*COS(RADIANS(DN24))","v":{"$error":"#REF!"}},{"$f":"DW13-DV10*SIN(RADIANS(DN24))","v":{"$error":"#REF!"}},"راس سوم",null,null,null,null,null,null,null,null,null,null,{"$f":"-EE14+EJ9","v":0},0]
[null,null,null,null,null,null,{"$f":"'متغیرها '!U56","v":103},"e",null,{"$f":"F34","v":5},{"$f":"G34","v":108.99999999999999},"j2",null,"محاسبات",null,null,null,{"$f":"N23","v":78.045000000000002},{"$f":"O23","v":113.17149999999999},"d4",null,null,null,null,{"$f":"W35+'طراحی همه الگوها'!U190","v":14.8},{"$f":"Z12+'طراحی همه الگوها'!U195","v":26.8},11,null,{"$f":"Y23","v":80.400000000000006},{"$f":"Z23","v":27.714000000000002},7,null,"زاویه متوسط سرشانه",{"$f":"'متغیرها '!B245","v":0.31641567605125198},"α2",null,null,null,null,null,"s'9",{"$f":"AP12+0.7*(AP16-AP12)","v":41.766445887847553},{"$f":"AQ16+0.3*(AQ12-AQ16)","v":129.41109489296173},null,null,null,null,null,null,null,null,{"$f":"AZ14","v":110},{"$f":"BA14+'طراحی همه الگوها'!U221","v":5.2},14,null,{"$f":"AZ13","v":0},{"$f":"BA13","v":0},2,null,null,null,null,null,null,null,{"$f":"BJ29","v":5},{"$f":"BK31","v":5},4,null,{"$f":"BR14+0.3*(BR17-BR14)","v":30.174257610566389},{"$f":"BS14+0.05*(BS17-BS14)","v":-6.758427780307926},"6''",null,null,null,null,null,{"$f":"BZ13+'طراحی همه الگوها'!U249","v":83.7},{"$f":"CA13+'طراحی همه الگوها'!U251","v":103},4,null,{"$f":"BZ34","v":121.2},{"$f":"CA34","v":222.6},15,null,"s''7",{"$f":"CI14+0.15*(CI18-CI14)","v":12.568811348664767},{"$f":"CJ18+0.95*(CJ14-CJ18)","v":168.60430186812189},null,63.717749528690661,105.17531515817979,"k4 شبیه ساز",null,null,null,null,null,null," درجه α","x","y","c21","c'17",null,"پروسیجر چرخش چند نقطه حول نقطه دیگر",null,null,null,null,null,"کامل شده",null,"m1",{"$f":"ATAN(IF(DK11>DK10,1,-1)*(DK11-DK10)/(DL10-DL11))","v":{"$error":"#REF!"}},"m2",{"$f":"SQRT(POWER(DK10-DK11,2)+POWER(DL10-DL11,2))","v":{"$error":"#REF!"}},null,null,{"$f":"DO14+DN11","v":-92},-1.6057029118347832,{"$f":"DV13+DV10*COS(DP15)","v":{"$error":"#REF!"}},{"$f":"DW13-DV10*SIN(DP15)","v":{"$error":"#REF!"}},{"$f":"SQRT(POWER((DV12-DQ15),2)+POWER((DW12-DR15),2))","v":{"$error":"#REF!"}},{"$f":"ABS(DV9-DS15)","v":{"$error":"#REF!"}},"رسم مثلث",null,null,null,null,null,null,null,null,null,null,null,null,null,{"$f":"-EE15+EJ9","v":0},0]
[null,null,null,null,null,null,{"$f":"'متغیرها '!U58","v":105},"g",null,null,null,null,null,"(d1 → d2)",{"$f":"0.45*'متغیرها '!U85","v":25.650000000000002},null,null,null,null,null,null,null,null,null,{"$f":"W35+'طراحی همه الگوها'!U190","v":14.8},{"$f":"Z12","v":0},5,null,null,null,null,null,"دست صاف شبیه ساز k4",{"$f":"F406","v":77.923552177227947},{"$f":"J406","v":128.2984798684254},null,{"$f":"AH26","v":59.173218455978002},{"$f":"AI26","v":116.02350592377861},"s12",null,"s'10",{"$f":"AX39-('متغیرها '!C19*'متغیرها '!U83)*COS(AH15+RADIANS(AX38))","v":57.523494125496505},{"$f":"AY39+('متغیرها '!C19*'متغیرها '!U83)*SIN(AH15+RADIANS(AX38))","v":111.36957056137393},null,{"$f":"AP18","v":46.916892407698292},100.76296884357572,"s'12",null,null,null,null,{"$f":"W35+'طراحی همه الگوها'!U216","v":110},{"$f":"BA13+'طراحی همه الگوها'!U217","v":72.7},9,null,{"$f":"BD15+0.3*(BD18-BD15)","v":17.760000000000002},{"$f":"BE15+0.15*(BE18-BE15)","v":2.0549999999999997},"16'",null,null,null,null,null,null,null,{"$f":"BJ29","v":5},{"$f":"BK30","v":-7},2,null,{"$f":"BR14+0.7*(BR17-BR14)","v":55.502138892491885},{"$f":"BS14+0.4*(BS17-BS14)","v":0.72093451800618524},"6'''",null,null,null,null,null,{"$f":"BZ13+'طراحی همه الگوها'!U249-'طراحی همه الگوها'!U255","v":76.8},{"$f":"CA15","v":103},8,null,null,null,null,null,"s''8",{"$f":"CI14+0.4*(CI18-CI14)","v":25.183496929772716},{"$f":"CJ18+0.6*(CJ14-CJ18)","v":148.27851994497544},null,null,null,null,null,null,null,null,null,null,2,{"$f":"CV12+CY12*SIN(RADIANS(CU16)+CU14)","v":{"$error":"#DIV/0!"}},{"$f":"CW12+CY12*COS(RADIANS(CU16)+CU14)","v":{"$error":"#DIV/0!"}},{"$f":"IF(CV13>CV16,ATAN((CW13-CW16)/(CV13-CV16)),ATAN((CW13-CW16)/(CV16-CV13)))","v":{"$error":"#DIV/0!"}},{"$f":"IF(CV13>CV16,(CV13-CV16)/COS(CX16),(CV16-CV13)/COS(CX16))","v":{"$error":"#DIV/0!"}},null,"رادیان",1,"زاویه چرخش","چرخش مخالف عقربه های ساعت",null,null,null,null,"نقطه خروجی بالا","b28",{"$f":"DK10+IF(DK11>DK10,1,-1)*DK12*COS(DJ15)","v":{"$error":"#REF!"}},{"$f":"DL10+DK12*SIN(DJ15)","v":{"$error":"#REF!"}},null,null,{"$f":"DO15+DN11","v":-90},-1.5707963267948966,{"$f":"DV13+DV10*COS(DP16)","v":{"$error":"#REF!"}},{"$f":"DW13-DV10*SIN(DP16)","v":{"$error":"#REF!"}},{"$f":"SQRT(POWER((DV12-DQ16),2)+POWER((DW12-DR16),2))","v":{"$error":"#REF!"}},{"$f":"ABS(DV9-DS16)","v":{"$error":"#REF!"}},{"$f":"DU12","v":"پشتk''5"},{"$error":"#REF!"},{"$error":"#REF!"},null,null,null,null,null,null,null,null,null,null,null,{"$f":"-EE16+EJ9","v":0},0]
[null,null,null,null,null,"محاسبات",null,null,null,{"$f":"F34","v":5},{"$f":"G34","v":108.99999999999999},"j2",null,"(d1 →d4)",{"$f":"'طراحی همه الگوها'!U178+'طراحی همه الگوها'!U177","v":78.7},null,null,{"$f":"N28","v":5},{"$f":"O28","v":106.88310499999999},"j'2",null,null,null,null,{"$f":"Y16+'طراحی همه الگوها'!U192","v":58.7},{"$f":"Z12","v":0},8,null,{"$f":"Y16","v":14.8},{"$f":"Z16","v":0},5,null,"شبیه ساز 26",{"$f":"DX388","v":5},{"$f":"DY388","v":141.82117109605537},null,{"$f":"AK16+0.25*(AK19-AK16)","v":63.879913841983502},{"$f":"AL19+0.5*(AL16-AL19)","v":60.511752961889307},"s12'",null,"s'11",{"$f":"AP27-'طراحی همه الگوها'!U226*SIN(AH15+RADIANS(AX38))","v":53.888965270197652},{"$f":"AQ27-'طراحی همه الگوها'!U226*COS(AH15+RADIANS(AX38))","v":95.346530899686769},null,56.541824685388804,52.88148442178786,"s''13",null,null,null,null,{"$f":"AZ24","v":61.2},{"$f":"BA12+'طراحی همه الگوها'!U215","v":102.69999999999999},7,null,{"$f":"W35+'طراحی همه الگوها'!U227","v":35.520000000000003},{"$f":"BE15+'طراحی همه الگوها'!U228","v":6.2},22,null,null,null,null,null,null,null,{"$f":"BJ30","v":-4.5999999999999996},{"$f":"BK30","v":-7},3,null,{"$f":"BJ34","v":74.49804985393601},{"$f":"BK34","v":13.542698457973231},8,null,null,null,null,null,{"$f":"BZ13","v":0},{"$f":"CA15","v":103},3,null,{"$f":"BZ32","v":0},{"$f":"CA32","v":128.5},18,null,"s''9",{"$f":"CI14+0.7*(CI18-CI14)","v":40.321119627102242},{"$f":"CJ18+0.28*(CJ14-CJ18)","v":129.69494790095584},null,{"$f":"CI19","v":63.717749528690661},105.17531515817979,"k4 شبیه ساز",null,null,null,null,null,null,4,{"$f":"CV12+CY12*SIN(RADIANS(CU17)+CU14)","v":{"$error":"#DIV/0!"}},{"$f":"CW12+CY12*COS(RADIANS(CU17)+CU14)","v":{"$error":"#DIV/0!"}},{"$f":"IF(CV13>CV17,ATAN((CW13-CW17)/(CV13-CV17)),ATAN((CW13-CW17)/(CV17-CV13)))","v":{"$error":"#DIV/0!"}},{"$f":"IF(CV13>CV17,(CV13-CV17)/COS(CX17),(CV17-CV13)/COS(CX17))","v":{"$error":"#DIV/0!"}},null,"مولفه افقی","مولفه عمودی","اسم نقطه ",null,"نقطه  خروجی چرخیده",null,null,null,"نقطه خروجی پایین","b27",{"$f":"DK18+IF(DK11>DK10,1,-1)*DK12*COS(DJ15)","v":{"$error":"#REF!"}},{"$f":"DL18+DK12*SIN(DJ15)","v":{"$error":"#REF!"}},null,null,{"$f":"DO16+DN11","v":-88},-1.5358897417550099,{"$f":"DV13+DV10*COS(DP17)","v":{"$error":"#REF!"}},{"$f":"DW13-DV10*SIN(DP17)","v":{"$error":"#REF!"}},{"$f":"SQRT(POWER((DV12-DQ17),2)+POWER((DW12-DR17),2))","v":{"$error":"#REF!"}},{"$f":"ABS(DV9-DS17)","v":{"$error":"#REF!"}},"42پشت",1,0,null,null,null,null,null,null,null,null,null,null,null,{"$f":"-EE17+EJ9","v":0},0]
[null,null,null,null,null,"قد سرشانه تا زمین",{"$f":"0.5*(G14+G15+G16)","v":145},null,null,{"$f":"F44","v":17},{"$f":"G44","v":108.99999999999999},"j13",null,"(d5 →d6)",{"$f":"5+0.1*O17","v":12.870000000000001},null,null,null,null,null,null,null,null,null,{"$f":"Y16+'طراحی همه الگوها'!U192","v":58.7},{"$f":"Z12+'طراحی همه الگوها'!U193","v":13.9},9,null,{"$f":"'طراحی همه الگوها'!U190+'طراحی همه الگوها'!U199","v":36.799999999999997},{"$f":"Z12+'طراحی همه الگوها'!U200","v":4.9000000000000004},16,null,null,null,null,null,{"$f":"AK16+0.6*(AK19-AK16)","v":70.469287382391201},{"$f":"AL19+0.2*(AL16-AL19)","v":27.204701184755724},"s12''",null,"s'12",{"$f":"AP16-'طراحی همه الگوها'!U225*SIN(AH15+RADIANS(AX38))","v":46.916892407698292},{"$f":"AQ16-'طراحی همه الگوها'!U225*COS(AH15+RADIANS(AX38))","v":100.76296884357572},null,64.562601583464229,28.94074221089393,"s'''13",null,null,null,null,{"$f":"W35+'طراحی همه الگوها'!U216","v":110},{"$f":"BA16+'طراحی همه الگوها'!U218","v":132.69999999999999},10,null,{"$f":"W35+'طراحی همه الگوها'!U222","v":59.2},{"$f":"BA13+'طراحی همه الگوها'!U223","v":13.7},16,null,null,null,null,null,null,null,null,null,null,null,null,null,null,null,null,null,null,null,{"$f":"BZ13","v":0},{"$f":"CA17-'طراحی همه الگوها'!U252","v":88.6},5,null,{"$f":"CD17+'طراحی همه الگوها'!U268","v":22.4},{"$f":"CA31+'طراحی همه الگوها'!U269","v":129.4},24,null,"s''10",{"$f":"AX39-0.2*'متغیرها '!U83*COS(AH15+RADIANS(AX38))","v":55.458742324431782},{"$f":"AY39+0.2*'متغیرها '!U83*SIN(AH15+RADIANS(AX38))","v":113.43432236243866},null,52.733833211765599,81.153817265849653,"s''11",null,null,null,null,null,null,6,{"$f":"CV12+CY12*SIN(RADIANS(CU18)+CU14)","v":{"$error":"#DIV/0!"}},{"$f":"CW12+CY12*COS(RADIANS(CU18)+CU14)","v":{"$error":"#DIV/0!"}},{"$f":"IF(CV13>CV18,ATAN((CW13-CW18)/(CV13-CV18)),ATAN((CW13-CW18)/(CV18-CV13)))","v":{"$error":"#DIV/0!"}},{"$f":"IF(CV13>CV18,(CV13-CV18)/COS(CX18),(CV18-CV13)/COS(CX18))","v":{"$error":"#DIV/0!"}},null,2,1,"a40","نقطه مرکزی چرخش","مولفه افقی","مولفه عمودی","اسم نقطه ",null,"نقطه خروجی میانه","b26",{"$f":"DK10+IF(DK11>DK10,1,-1)*DK13*DL15*SIN(DJ15)/DL14","v":{"$error":"#REF!"}},{"$f":"DL10-DK13*DL15*COS(DJ15)/DL14","v":{"$error":"#REF!"}},null,null,{"$f":"DO17+DN11","v":-86},-1.5009831567151235,{"$f":"DV13+DV10*COS(DP18)","v":{"$error":"#REF!"}},{"$f":"DW13-DV10*SIN(DP18)","v":{"$error":"#REF!"}},{"$f":"SQRT(POWER((DV12-DQ18),2)+POWER((DW12-DR18),2))","v":{"$error":"#REF!"}},{"$f":"ABS(DV9-DS18)","v":{"$error":"#REF!"}},null,null,null,null,null,null,null,null,null,null,null,null,null,null,{"$f":"-EE18+EJ9","v":0},0]
[null,null,null,null,null,"تمام قد",{"$f":"ROUND(G18+IF(G13>51.5,0.35,IF(G13>50.5,0.33,0.31))*G13,0)","v":165},null,null,null,null,null,null,"نقاط خروجی در مقنعه دراپه",null,null,null,{"$f":"N21","v":5},{"$f":"O21","v":150.04999999999998},"d2",null,null,null,null,{"$f":"Y16+'طراحی همه الگوها'!U192","v":58.7},{"$f":"Z12+'طراحی همه الگوها'!U194","v":35.4},10,null,{"$f":"Y18","v":58.7},{"$f":"Z18","v":13.9},9,null,"طراحی چادر شماره 2",null,null,null,{"$f":"AH28","v":78},{"$f":"AI28","v":5},"s13",null,"s''13",{"$f":"AP18+0.3*(AP21-AP18)","v":56.541824685388804},{"$f":"AQ21+0.5*(AQ18-AQ21)","v":52.88148442178786},null,79,5,"s'13",null,null,null,null,{"$f":"W35+'طراحی همه الگوها'!U216","v":110},{"$f":"BA16","v":72.7},9,null,{"$f":"BD18+0.5*(BD20-BD18)","v":84.6},{"$f":"BE20+0.8*(BE18-BE20)","v":12},"14'",null,null,null,null,null,null,null,{"$f":"BJ29","v":5},{"$f":"BK35","v":117.48693683229351},13,null,{"$f":"BJ31","v":13.9},{"$f":"BK31","v":5},5,null,null,null,null,null,{"$f":"BZ13","v":0},{"$f":"CA13","v":0},1,null,{"$f":"CD17+'طراحی همه الگوها'!U270","v":44.9},{"$f":"CA31+'طراحی همه الگوها'!U271","v":133.29999999999998},26,null,"k4 شبیه ساز",{"$f":"K384","v":63.717749528690661},{"$f":"L384","v":105.17531515817979},null,30.76600057791547,61.936618951985551,"s'11",null,null,null,null,null,null,8,{"$f":"CV12+CY12*SIN(RADIANS(CU19)+CU14)","v":{"$error":"#DIV/0!"}},{"$f":"CW12+CY12*COS(RADIANS(CU19)+CU14)","v":{"$error":"#DIV/0!"}},{"$f":"IF(CV13>CV19,ATAN((CW13-CW19)/(CV13-CV19)),ATAN((CW13-CW19)/(CV19-CV13)))","v":{"$error":"#DIV/0!"}},{"$f":"IF(CV13>CV19,(CV13-CV19)/COS(CX19),(CV19-CV13)/COS(CX19))","v":{"$error":"#DIV/0!"}},null,1,2,"نقطه 1","نقطه قبل از چرخش",{"$f":"IF(DB19>DB18,IF(DA19>DA18,DA18+SQRT(POWER(DA19-DA18,2)+POWER(DB19-DB18,2))*COS(ATAN((DB19-DB18)/(DA19-DA18+0.000123))+DB16),DA18-SQRT(POWER(DA19-DA18,2)+POWER(DB19-DB18,2))*COS(ATAN((DB19-DB18)/(DA18-DA19+0.000123))-DB16)),IF(DA19>DA18,DA18+SQRT(POWER(DA19-DA18,2)+POWER(DB19-DB18,2))*COS(ATAN((DB18-DB19)/(DA19-DA18+0.000123))-DB16),DA18-SQRT(POWER(DA19-DA18,2)+POWER(DB19-DB18,2))*COS(ATAN((DB18-DB19)/(DA18-DA19+0.000123))+DB16)))","v":0.61824523267144293},{"$f":"IF(DB19>DB18,IF(DA19>DA18,DB18+SQRT(POWER(DA19-DA18,2)+POWER(DB19-DB18,2))*SIN(ATAN((DB19-DB18)/(DA19-DA18+0.000123))+DB16),DB18+SQRT(POWER(DA19-DA18,2)+POWER(DB19-DB18,2))*SIN(ATAN((DB19-DB18)/(DA18-DA19+0.000123))-DB16)),IF(DA19>DA18,DB18-SQRT(POWER(DA19-DA18,2)+POWER(DB19-DB18,2))*SIN(ATAN((DB18-DB19)/(DA19-DA18+0.000123))-DB16),DB18-SQRT(POWER(DA19-DA18,2)+POWER(DB19-DB18,2))*SIN(ATAN((DB18-DB19)/(DA18-DA19+0.000123))+DB16)))","v":0.69874634779839551},"نقطه چرخیده",null,null,null,null,null,null,null,{"$f":"DO18+DN11","v":-84},-1.4660765716752369,{"$f":"DV13+DV10*COS(DP19)","v":{"$error":"#REF!"}},{"$f":"DW13-DV10*SIN(DP19)","v":{"$error":"#REF!"}},{"$f":"SQRT(POWER((DV12-DQ19),2)+POWER((DW12-DR19),2))","v":{"$error":"#REF!"}},{"$f":"ABS(DV9-DS19)","v":{"$error":"#REF!"}},{"$f":"DU13","v":"42پشت"},{"$f":"DV13","v":1},{"$f":"DW13","v":0},null,null,null,null,null,null,null,null,null,null,null,{"$f":"-EE19+EJ9","v":0},0]
[null,null,null,null,null,"j4",{"$f":"IF('متغیرها '!C5<1,'متغیرها '!C5*'متغیرها '!U59,IF('متغیرها '!C5<2,'متغیرها '!U59+('متغیرها '!C5-1)*('متغیرها '!U60-'متغیرها '!U59),IF('متغیرها '!C5<3,'متغیرها '!U60+('متغیرها '!C5-2)*(I105-'متغیرها '!U60),I105+('متغیرها '!C5-3)*(H127-H126))))","v":104},null,null,{"$f":"F43","v":17},{"$f":"G43","v":167.1},"j12",null,"مولفه افقی","مولفه عمودی","اسم نقطه",null,null,null,null,null,null,null,null,null,null,null,null,{"$f":"'طراحی همه الگوها'!U190+'طراحی همه الگوها'!U192+'طراحی همه الگوها'!U202","v":69.600000000000009},{"$f":"Z12+'طراحی همه الگوها'!U203","v":20.100000000000001},19,null,"اسم نقطه ","مولفه افقی","مولفه عمودی",null,null,null,null,null,"s'''13",{"$f":"AP18+0.55*(AP21-AP18)","v":64.562601583464229},{"$f":"AQ21+0.25*(AQ18-AQ21)","v":28.94074221089393},null,null,null,null,null,null,null,null,null,null,null,null,{"$f":"AZ14","v":110},{"$f":"BA14+'طراحی همه الگوها'!U221","v":5.2},14,null,null,null,null,null,null,null,{"$f":"BJ35","v":36.665441062212679},{"$f":"BK35","v":117.48693683229351},9,null,{"$f":"BJ33","v":25.983417370530344},{"$f":"BK33","v":5.6332650705396201},7,null,null,null,null,null,null,null,null,null,{"$f":"BZ37","v":56.1},{"$f":"CA37","v":137.19999999999999},17,null,"s''11",{"$f":"CI22+0.8*(CI19-CI22)","v":52.733833211765599},{"$f":"CJ22+0.5*(CJ19-CJ22)","v":81.153817265849653},null,8.7981679440653355,57.132319373519529,"s11",null,null,null,null,null,null,10,{"$f":"CV12+CY12*SIN(RADIANS(CU20)+CU14)","v":{"$error":"#DIV/0!"}},{"$f":"CW12+CY12*COS(RADIANS(CU20)+CU14)","v":{"$error":"#DIV/0!"}},{"$f":"IF(CV13>CV20,ATAN((CW13-CW20)/(CV13-CV20)),ATAN((CW13-CW20)/(CV20-CV13)))","v":{"$error":"#DIV/0!"}},{"$f":"IF(CV13>CV20,(CV13-CV20)/COS(CX20),(CV20-CV13)/COS(CX20))","v":{"$error":"#DIV/0!"}},null,1,2,"نقطه2","نقطه قبل از چرخش",{"$f":"IF(DB20>DB18,IF(DA20>DA18,DA18+SQRT(POWER(DA20-DA18,2)+POWER(DB20-DB18,2))*COS(ATAN((DB20-DB18)/(DA20-DA18+0.000123))+DB16),DA18-SQRT(POWER(DA20-DA18,2)+POWER(DB20-DB18,2))*COS(ATAN((DB20-DB18)/(DA18-DA20+0.000123))-DB16)),IF(DA20>DA18,DA18+SQRT(POWER(DA20-DA18,2)+POWER(DB20-DB18,2))*COS(ATAN((DB18-DB20)/(DA20-DA18+0.000123))-DB16),DA18-SQRT(POWER(DA20-DA18,2)+POWER(DB20-DB18,2))*COS(ATAN((DB18-DB20)/(DA18-DA20+0.000123))+DB16)))","v":0.61824523267144293},{"$f":"IF(DB20>DB18,IF(DA20>DA18,DB18+SQRT(POWER(DA20-DA18,2)+POWER(DB20-DB18,2))*SIN(ATAN((DB20-DB18)/(DA20-DA18+0.000123))+DB16),DB18+SQRT(POWER(DA20-DA18,2)+POWER(DB20-DB18,2))*SIN(ATAN((DB20-DB18)/(DA18-DA20+0.000123))-DB16)),IF(DA20>DA18,DB18-SQRT(POWER(DA20-DA18,2)+POWER(DB20-DB18,2))*SIN(ATAN((DB18-DB20)/(DA20-DA18+0.000123))-DB16),DB18-SQRT(POWER(DA20-DA18,2)+POWER(DB20-DB18,2))*SIN(ATAN((DB18-DB20)/(DA18-DA20+0.000123))+DB16)))","v":0.69874634779839551},"نقطه چرخیده",null,null,"رسم باکس زیپ دامن- باکس راست","مولفه افقی","مولفه عمودی",null,null,{"$f":"DO19+DN11","v":-82},-1.4311699866353502,{"$f":"DV13+DV10*COS(DP20)","v":{"$error":"#REF!"}},{"$f":"DW13-DV10*SIN(DP20)","v":{"$error":"#REF!"}},{"$f":"SQRT(POWER((DV12-DQ20),2)+POWER((DW12-DR20),2))","v":{"$error":"#REF!"}},{"$f":"ABS(DV9-DS20)","v":{"$error":"#REF!"}},{"$f":"DU14","v":"k6"},{"$f":"#REF!","v":{"$error":"#REF!"}},{"$f":"#REF!","v":{"$error":"#REF!"}},null,null,null,null,null,null,null,null,null,null,null,{"$f":"-EE20+EJ9","v":0},0]
[null,null,null,null,null,"رسم دستی چادر 1 یا مقنعه چانه دار(بر حسب سانتیمتر)",null,null,null,{"$f":"F35","v":17},{"$f":"G35","v":175.7},"j3",null,{"$f":"N11","v":5},{"$f":"O13+0.1*'متغیرها '!U85-O16+O14","v":150.04999999999998},"d2",null,null,null,"انحنا",null,null,null,null,{"$f":"Y16+'طراحی همه الگوها'!U192","v":58.7},{"$f":"Z12","v":0},8,null,{"$f":"Y23","v":80.400000000000006},{"$f":"Z23","v":27.714000000000002},7,null,"s6",{"$f":"AH14","v":5},{"$f":"1.003*AI14","v":171.50798499999996},null,{"$f":"AH32","v":5},{"$f":"AI32","v":168.9},"s17",null,"s'13",{"$f":"AH17+0.5*('طراحی همه الگوها'!U216+'طراحی همه الگوها'!U210-'طراحی همه الگوها'!U217-'طراحی همه الگوها'!U218)","v":79},{"$f":"AX33+AH42","v":5},null,{"$f":"AP25","v":5},{"$f":"AQ25","v":168.9},"s'17",null,null,null,null,{"$f":"W35","v":0},{"$f":"BA12","v":98.799999999999983},4,null,null,null,null,null,null,null,null,null,null,null,null,null,null,null,null,null,null,null,null,null,null,null,{"$f":"BZ13+'طراحی همه الگوها'!U249-'طراحی همه الگوها'!U253","v":56.1},{"$f":"CA15","v":103},6,null,null,null,null,null,"s'11",{"$f":"CI22+0.4*(CI19-CI22)","v":30.76600057791547},{"$f":"CJ22+0.1*(CJ19-CJ22)","v":61.936618951985551},null,null,null,null,null,null,null,null,null,null,12,{"$f":"CV12+CY12*SIN(RADIANS(CU21)+CU14)","v":{"$error":"#DIV/0!"}},{"$f":"CW12+CY12*COS(RADIANS(CU21)+CU14)","v":{"$error":"#DIV/0!"}},{"$f":"IF(CV13>CV21,ATAN((CW13-CW21)/(CV13-CV21)),ATAN((CW13-CW21)/(CV21-CV13)))","v":{"$error":"#DIV/0!"}},{"$f":"IF(CV13>CV21,(CV13-CV21)/COS(CX21),(CV21-CV13)/COS(CX21))","v":{"$error":"#DIV/0!"}},null,1,2,"نقطه 3","نقطه قبل از چرخش",{"$f":"IF(DB21>DB18,IF(DA21>DA18,DA18+SQRT(POWER(DA21-DA18,2)+POWER(DB21-DB18,2))*COS(ATAN((DB21-DB18)/(DA21-DA18+0.000123))+DB16),DA18-SQRT(POWER(DA21-DA18,2)+POWER(DB21-DB18,2))*COS(ATAN((DB21-DB18)/(DA18-DA21+0.000123))-DB16)),IF(DA21>DA18,DA18+SQRT(POWER(DA21-DA18,2)+POWER(DB21-DB18,2))*COS(ATAN((DB18-DB21)/(DA21-DA18+0.000123))-DB16),DA18-SQRT(POWER(DA21-DA18,2)+POWER(DB21-DB18,2))*COS(ATAN((DB18-DB21)/(DA18-DA21+0.000123))+DB16)))","v":0.61824523267144293},{"$f":"IF(DB21>DB18,IF(DA21>DA18,DB18+SQRT(POWER(DA21-DA18,2)+POWER(DB21-DB18,2))*SIN(ATAN((DB21-DB18)/(DA21-DA18+0.000123))+DB16),DB18+SQRT(POWER(DA21-DA18,2)+POWER(DB21-DB18,2))*SIN(ATAN((DB21-DB18)/(DA18-DA21+0.000123))-DB16)),IF(DA21>DA18,DB18-SQRT(POWER(DA21-DA18,2)+POWER(DB21-DB18,2))*SIN(ATAN((DB18-DB21)/(DA21-DA18+0.000123))-DB16),DB18-SQRT(POWER(DA21-DA18,2)+POWER(DB21-DB18,2))*SIN(ATAN((DB18-DB21)/(DA18-DA21+0.000123))+DB16)))","v":0.69874634779839551},"نقطه چرخیده",null,"نقطه ورودی بالا","su3",{"$f":"#REF!","v":{"$error":"#REF!"}},{"$f":"#REF!","v":{"$error":"#REF!"}},null,null,{"$f":"DO20+DN11","v":-80},-1.3962634015954636,{"$f":"DV13+DV10*COS(DP21)","v":{"$error":"#REF!"}},{"$f":"DW13-DV10*SIN(DP21)","v":{"$error":"#REF!"}},{"$f":"SQRT(POWER((DV12-DQ21),2)+POWER((DW12-DR21),2))","v":{"$error":"#REF!"}},{"$f":"ABS(DV9-DS21)","v":{"$error":"#REF!"}},null,null,null,null,null,null,null,null,null,null,null,null,null,null,{"$f":"-EE21+EJ9","v":0},0]
[null,null,null,null,null,null,null,null,null,null,null,null,null,{"$f":"N21","v":5},{"$f":"O21+1.41*O16","v":186.2165},"d3",null,{"$f":"N24","v":5},{"$f":"O24","v":100.30149999999999},"d6",null,null,null,null,{"$f":"W35+'طراحی همه الگوها'!U189","v":80.400000000000006},{"$f":"Z12","v":0},6,null,null,null,null,null,"s7",{"$f":"AH21+0.12*(AH25-AH21)","v":12.154226792683154},{"$f":"AI25+0.94*(AI21-AI25)","v":169.1767909232918},null,{"$f":"AH33","v":7.9890800000000004},{"$f":"AI33","v":166.58099999999999},"s18",null,"s'14",{"$f":"AH11+AH40*COS(AH38)","v":10.978160000000001},{"$f":"AI11-AH40*SIN(AH38)","v":161.16999999999999},null,{"$f":"AP26","v":8.5868959999999994},{"$f":"AQ26","v":166.58099999999999},"s'18",null,null,null,null,{"$f":"W35+'طراحی همه الگوها'!U213","v":46.7},{"$f":"BA12","v":98.799999999999983},5,null,{"$f":"BD18","v":59.2},{"$f":"BE18","v":13.7},16,null,null,null,null,null,null,null,{"$f":"BJ29","v":5},{"$f":"BK37","v":98.413228816310351},12,null,{"$f":"BJ33","v":25.983417370530344},{"$f":"BK33","v":5.6332650705396201},7,null,null,null,null,null,{"$f":"BZ13+'طراحی همه الگوها'!U249-'طراحی همه الگوها'!U253","v":56.1},{"$f":"CA15-'طراحی همه الگوها'!U254","v":79.900000000000006},7,null,{"$f":"BZ18","v":0},{"$f":"CA18","v":88.6},5,null,"s11",{"$f":"0.7*CI15","v":8.7981679440653355},{"$f":"CJ15-'طراحی همه الگوها'!U263+1.2*SQRT(POWER(CI15-CI14,2)+POWER(CJ15-CJ14,2))","v":57.132319373519529},null,{"$f":"CI28","v":5},{"$f":"CJ28","v":168.9},"s''17",null,null,null,null,null,null,14,{"$f":"CV12+CY12*SIN(RADIANS(CU22)+CU14)","v":{"$error":"#DIV/0!"}},{"$f":"CW12+CY12*COS(RADIANS(CU22)+CU14)","v":{"$error":"#DIV/0!"}},{"$f":"IF(CV13>CV22,ATAN((CW13-CW22)/(CV13-CV22)),ATAN((CW13-CW22)/(CV22-CV13)))","v":{"$error":"#DIV/0!"}},{"$f":"IF(CV13>CV22,(CV13-CV22)/COS(CX22),(CV22-CV13)/COS(CX22))","v":{"$error":"#DIV/0!"}},null,1,2,"نقطه 4","نقطه قبل از چرخش",{"$f":"IF(DB22>DB18,IF(DA22>DA18,DA18+SQRT(POWER(DA22-DA18,2)+POWER(DB22-DB18,2))*COS(ATAN((DB22-DB18)/(DA22-DA18+0.000123))+DB16),DA18-SQRT(POWER(DA22-DA18,2)+POWER(DB22-DB18,2))*COS(ATAN((DB22-DB18)/(DA18-DA22+0.000123))-DB16)),IF(DA22>DA18,DA18+SQRT(POWER(DA22-DA18,2)+POWER(DB22-DB18,2))*COS(ATAN((DB18-DB22)/(DA22-DA18+0.000123))-DB16),DA18-SQRT(POWER(DA22-DA18,2)+POWER(DB22-DB18,2))*COS(ATAN((DB18-DB22)/(DA18-DA22+0.000123))+DB16)))","v":0.61824523267144293},{"$f":"IF(DB22>DB18,IF(DA22>DA18,DB18+SQRT(POWER(DA22-DA18,2)+POWER(DB22-DB18,2))*SIN(ATAN((DB22-DB18)/(DA22-DA18+0.000123))+DB16),DB18+SQRT(POWER(DA22-DA18,2)+POWER(DB22-DB18,2))*SIN(ATAN((DB22-DB18)/(DA18-DA22+0.000123))-DB16)),IF(DA22>DA18,DB18-SQRT(POWER(DA22-DA18,2)+POWER(DB22-DB18,2))*SIN(ATAN((DB18-DB22)/(DA22-DA18+0.000123))-DB16),DB18-SQRT(POWER(DA22-DA18,2)+POWER(DB22-DB18,2))*SIN(ATAN((DB18-DB22)/(DA18-DA22+0.000123))+DB16)))","v":0.69874634779839551},"نقطه چرخیده",null,"نقطه ورودی پایین","sd3",{"$f":"#REF!","v":{"$error":"#REF!"}},{"$f":"#REF!","v":{"$error":"#REF!"}},null,"به روش تخمین",{"$f":"DO21+DN11","v":-78},-1.3613568165555769,{"$f":"DV13+DV10*COS(DP22)","v":{"$error":"#REF!"}},{"$f":"DW13-DV10*SIN(DP22)","v":{"$error":"#REF!"}},{"$f":"SQRT(POWER((DV12-DQ22),2)+POWER((DW12-DR22),2))","v":{"$error":"#REF!"}},{"$f":"ABS(DV9-DS22)","v":{"$error":"#REF!"}},{"$f":"DU14","v":"k6"},{"$f":"#REF!","v":{"$error":"#REF!"}},{"$f":"#REF!","v":{"$error":"#REF!"}},null,null,null,null,null,null,null,null,null,null,null,{"$f":"-EE22+EJ9","v":0},0]
[null,null,null,null,null,null,null,null,null,{"$f":"F42","v":27.3},{"$f":"G42","v":175.7},"j11",null,{"$f":"0.7*(O17+O16)+N21","v":78.045000000000002},{"$f":"O22-0.7*(O16+O17)","v":113.17149999999999},"d4",null,{"$f":"N25","v":19.609000000000002},{"$f":"O25","v":100.30149999999999},"d7",null,null,null,null,{"$f":"W35+'طراحی همه الگوها'!U189","v":80.400000000000006},{"$f":"Z12+'طراحی همه الگوها'!U191","v":27.714000000000002},7,null,{"$f":"Y13","v":0},{"$f":"Z13","v":178.7},1,null,"s8",{"$f":"AH21+0.4*(AH25-AH21)","v":28.847422642277184},{"$f":"AI25+0.5*(AI21-AI25)","v":152.08136769409867},null,{"$f":"AH29","v":10.978160000000001},{"$f":"AI29","v":161.16999999999999},"s14",null,"s'16",{"$f":"AH13","v":5},{"$f":"AI13","v":124.1},null,{"$f":"AP22","v":10.978160000000001},{"$f":"AQ22","v":161.16999999999999},"s'14",null,null,null,null,{"$f":"W35+'طراحی همه الگوها'!U213+'طراحی همه الگوها'!U214","v":61.2},{"$f":"BA12","v":98.799999999999983},6,null,{"$f":"BD18","v":59.2},{"$f":"BA13","v":0},15,null,null,null,null,null,null,null,{"$f":"BJ37","v":61.214989104330542},{"$f":"BK37","v":98.413228816310351},11,null,{"$f":"BR22+0.3*(BR25-BR22)","v":40.537807115552042},{"$f":"MIN(BS22,BS25)+IF(BS25>BS22,0.15,0.9)*ABS(BS25-BS22)","v":6.8196800786546614},"7''",null,null,null,null,null,null,null,null,null,{"$f":"CD22+'طراحی همه الگوها'!U264","v":22.4},{"$f":"CA17-'طراحی همه الگوها'!U265","v":87.7},20,null,"s12",{"$f":"CI24","v":24.407499999999999},{"$f":"CJ24+'طراحی همه الگوها'!U257","v":114.25991329666904},null,{"$f":"CI29","v":7.9890800000000004},{"$f":"CJ29","v":166.58099999999999},"s''18",null,null,null,null,null,null,16,{"$f":"CV12+CY12*SIN(RADIANS(CU23)+CU14)","v":{"$error":"#DIV/0!"}},{"$f":"CW12+CY12*COS(RADIANS(CU23)+CU14)","v":{"$error":"#DIV/0!"}},{"$f":"IF(CV13>CV23,ATAN((CW13-CW23)/(CV13-CV23)),ATAN((CW13-CW23)/(CV23-CV13)))","v":{"$error":"#DIV/0!"}},{"$f":"IF(CV13>CV23,(CV13-CV23)/COS(CX23),(CV23-CV13)/COS(CX23))","v":{"$error":"#DIV/0!"}},null,1,2,"نقطه 5","نقطه قبل از چرخش",{"$f":"IF(DB23>DB18,IF(DA23>DA18,DA18+SQRT(POWER(DA23-DA18,2)+POWER(DB23-DB18,2))*COS(ATAN((DB23-DB18)/(DA23-DA18+0.000123))+DB16),DA18-SQRT(POWER(DA23-DA18,2)+POWER(DB23-DB18,2))*COS(ATAN((DB23-DB18)/(DA18-DA23+0.000123))-DB16)),IF(DA23>DA18,DA18+SQRT(POWER(DA23-DA18,2)+POWER(DB23-DB18,2))*COS(ATAN((DB18-DB23)/(DA23-DA18+0.000123))-DB16),DA18-SQRT(POWER(DA23-DA18,2)+POWER(DB23-DB18,2))*COS(ATAN((DB18-DB23)/(DA18-DA23+0.000123))+DB16)))","v":0.61824523267144293},{"$f":"IF(DB23>DB18,IF(DA23>DA18,DB18+SQRT(POWER(DA23-DA18,2)+POWER(DB23-DB18,2))*SIN(ATAN((DB23-DB18)/(DA23-DA18+0.000123))+DB16),DB18+SQRT(POWER(DA23-DA18,2)+POWER(DB23-DB18,2))*SIN(ATAN((DB23-DB18)/(DA18-DA23+0.000123))-DB16)),IF(DA23>DA18,DB18-SQRT(POWER(DA23-DA18,2)+POWER(DB23-DB18,2))*SIN(ATAN((DB18-DB23)/(DA23-DA18+0.000123))-DB16),DB18-SQRT(POWER(DA23-DA18,2)+POWER(DB23-DB18,2))*SIN(ATAN((DB18-DB23)/(DA18-DA23+0.000123))+DB16)))","v":0.69874634779839551},"نقطه چرخیده",null,"متغیر ورودی پهنا","a20",{"$f":"#REF!","v":{"$error":"#REF!"}},"(سانتیمتر)",null,"بهینه α1",{"$f":"DO22+DN11","v":-76},-1.3264502315156905,{"$f":"DV13+DV10*COS(DP23)","v":{"$error":"#REF!"}},{"$f":"DW13-DV10*SIN(DP23)","v":{"$error":"#REF!"}},{"$f":"SQRT(POWER((DV12-DQ23),2)+POWER((DW12-DR23),2))","v":{"$error":"#REF!"}},{"$f":"ABS(DV9-DS23)","v":{"$error":"#REF!"}},{"$f":"DU12","v":"پشتk''5"},{"$f":"DV12","v":{"$error":"#REF!"}},{"$f":"DW12","v":{"$error":"#REF!"}},null,null,null,null,null,null,null,null,null,null,null,{"$f":"-EE23+EJ9","v":0},0]
[null,null,null,null,null,null,null,null,null,{"$f":"F43","v":17},{"$f":"G43","v":167.1},"j12",null,{"$f":"N21","v":5},{"$f":"O23-O18+'متغیرها '!C6*0.1*'متغیرها '!U85*0.7","v":100.30149999999999},"d6",null,{"$f":"N27","v":56.131499999999996},{"$f":"O27","v":101.5885},"d9",null,null,null,null,{"$f":"W35+'طراحی همه الگوها'!U189","v":80.400000000000006},{"$f":"Z13-'طراحی همه الگوها'!U198","v":161.19999999999999},14,null,null,null,null,null,"s9",{"$f":"AH21+0.7*(AH25-AH21)","v":46.73298962398507},{"$f":"AI25+0.2*(AI21-AI25)","v":140.42539731055788},null,null,null,null,null,"s'15",{"$f":"AP23+0.7*(AP22-AP23)","v":9.1847120000000011},{"$f":"AQ23+0.5*(AQ22-AQ23)","v":142.63499999999999},null,{"$f":"AP24","v":9.1847120000000011},{"$f":"AQ24","v":142.63499999999999},"s'15",null,null,null,null,{"$f":"AZ23","v":61.2},{"$f":"BA17","v":102.69999999999999},7,null,null,null,null,null,null,null,null,null,null,null,null,null,null,null,{"$f":"BR22+0.7*(BR25-BR22)","v":59.943660108914301},{"$f":"MIN(BS22,BS25)+0.5*ABS(BS25-BS22)","v":9.5879817642564262},"7'''",null,null,null,null,null,{"$f":"BZ15","v":83.7},{"$f":"CA15","v":103},4,null,{"$f":"CD22+'طراحی همه الگوها'!U266","v":44.9},{"$f":"CA17-'طراحی همه الگوها'!U267","v":83.8},22,null,"41 شبیه ساز",{"$f":"DT395","v":24.407499999999999},{"$f":"DU395","v":110.15991329666905},null,{"$f":"CI12","v":10.978160000000001},{"$f":"CJ12","v":161.16999999999999},"s3",null,null,null,null,null,null,18,{"$f":"CV12+CY12*SIN(RADIANS(CU24)+CU14)","v":{"$error":"#DIV/0!"}},{"$f":"CW12+CY12*COS(RADIANS(CU24)+CU14)","v":{"$error":"#DIV/0!"}},{"$f":"IF(CV13>CV24,ATAN((CW13-CW24)/(CV13-CV24)),ATAN((CW13-CW24)/(CV24-CV13)))","v":{"$error":"#DIV/0!"}},{"$f":"IF(CV13>CV24,(CV13-CV24)/COS(CX24),(CV24-CV13)/COS(CX24))","v":{"$error":"#DIV/0!"}},null,1,2,"نقطه 6","نقطه قبل از چرخش",{"$f":"IF(DB24>DB18,IF(DA24>DA18,DA18+SQRT(POWER(DA24-DA18,2)+POWER(DB24-DB18,2))*COS(ATAN((DB24-DB18)/(DA24-DA18+0.000123))+DB16),DA18-SQRT(POWER(DA24-DA18,2)+POWER(DB24-DB18,2))*COS(ATAN((DB24-DB18)/(DA18-DA24+0.000123))-DB16)),IF(DA24>DA18,DA18+SQRT(POWER(DA24-DA18,2)+POWER(DB24-DB18,2))*COS(ATAN((DB18-DB24)/(DA24-DA18+0.000123))-DB16),DA18-SQRT(POWER(DA24-DA18,2)+POWER(DB24-DB18,2))*COS(ATAN((DB18-DB24)/(DA18-DA24+0.000123))+DB16)))","v":0.61824523267144293},{"$f":"IF(DB24>DB18,IF(DA24>DA18,DB18+SQRT(POWER(DA24-DA18,2)+POWER(DB24-DB18,2))*SIN(ATAN((DB24-DB18)/(DA24-DA18+0.000123))+DB16),DB18+SQRT(POWER(DA24-DA18,2)+POWER(DB24-DB18,2))*SIN(ATAN((DB24-DB18)/(DA18-DA24+0.000123))-DB16)),IF(DA24>DA18,DB18-SQRT(POWER(DA24-DA18,2)+POWER(DB24-DB18,2))*SIN(ATAN((DB18-DB24)/(DA24-DA18+0.000123))-DB16),DB18-SQRT(POWER(DA24-DA18,2)+POWER(DB24-DB18,2))*SIN(ATAN((DB18-DB24)/(DA18-DA24+0.000123))+DB16)))","v":0.69874634779839551},"نقطه چرخیده",null,"متغیر ورودی طول","a21",1,null,null,{"$f":"IF(DT12>DT11,DO11,IF(DT13>DT12,DO12,IF(DT14>DT13,DO13,IF(DT15>DT14,DO14,IF(DT16>DT15,DO15,IF(DT17>DT16,DO16,IF(DT18>DT17,DO17,IF(DT19>DT18,DO18,IF(DT20>DT19,DO19,IF(DT21>DT20,DO20,IF(DT22>DT21,DO21,IF(DT23>DT22,DO22,IF(DT24>DT23,DO23,IF(DT25>DT24,DO24,IF(DT26>DT25,DO25,IF(DT27>DT26,DO26,IF(DT28>DT27,DO27,IF(DT29>DT28,DO28,IF(DT30>DT29,DO29,IF(DT31>DT30,DO30,IF(DT32>DT31,DO31,IF(DT33>DT32,DO32,IF(DT34>DT33,DO33,IF(DT35>DT34,DO34,IF(DT36>DT35,DO35,IF(DT37>DT36,DO36,IF(DT38>DT37,DO37,IF(DT39>DT38,DO38,IF(DT40>DT39,DO39,IF(DT41>DT40,DO40,IF(DT42>DT41,DO41,IF(DT43>DT42,DO42,IF(DT44>DT43,DO43,IF(DT45>DT44,DO44,IF(DT46>DT45,DO45,IF(DT47>DT46,DO46,IF(DT48>DT47,DO47,IF(DT49>DT48,DO48,IF(DT50>DT49,DO49,IF(DT51>DT50,DO50,IF(DT52>DT51,DO51,DO52)))))))))))))))))))))))))))))))))))))))))","v":{"$error":"#REF!"}},{"$f":"DO23+DN11","v":-74},-1.2915436464758039,{"$f":"DV13+DV10*COS(DP24)","v":{"$error":"#REF!"}},{"$f":"DW13-DV10*SIN(DP24)","v":{"$error":"#REF!"}},{"$f":"SQRT(POWER((DV12-DQ24),2)+POWER((DW12-DR24),2))","v":{"$error":"#REF!"}},{"$f":"ABS(DV9-DS24)","v":{"$error":"#REF!"}},null,null,null,null,null,null,null,null,null,null,null,null,null,null,{"$f":"-EE24+EJ9","v":0},0]
[null,null,null,null,null,null,null,null,null,null,null,null,null,{"$f":"0.2*(N23-N21)+N21","v":19.609000000000002},{"$f":"O24","v":100.30149999999999},"d7",null,{"$f":"N26","v":70.740499999999997},{"$f":"O26","v":106.73649999999999},"d8",null,null,null,null,{"$f":"Y27+'طراحی همه الگوها'!U196","v":94.4},{"$f":"Z13-'طراحی همه الگوها'!U197","v":163},13,null,null,"صاف",null,null,"s10",{"$f":"AH16-('طراحی همه الگوها'!U196-'متغیرها '!C13*'متغیرها '!U83)*COS(AH15)","v":64.618556605692959},{"$f":"AI16+('طراحی همه الگوها'!U196-'متغیرها '!C13*'متغیرها '!U83)*SIN(AH15)","v":132.65475038819736},null,{"$f":"AH29","v":10.978160000000001},{"$f":"AI29","v":161.16999999999999},"s14",null,"s'17",{"$f":"DB400","v":5},{"$f":"IF('متغیرها '!C22=-1,AL10,IF('متغیرها '!C22=0,DC400-0.1,DC400-0.25*(DC400-DC404)))","v":168.9},null,{"$f":"AP23","v":5},{"$f":"AQ23","v":124.1},"s'16",null,null,null,null,{"$f":"AZ22","v":46.7},{"$f":"BA22","v":98.799999999999983},5,null,{"$f":"BD17","v":35.520000000000003},{"$f":"BE15","v":0},21,null,"(3 →6)",{"$f":"ROUND(0.2*(BJ34-BJ30),1)","v":15.8},null,null,null,null,{"$f":"BJ29","v":5},{"$f":"BK34","v":13.542698457973231},14,null,{"$f":"BJ34","v":74.49804985393601},{"$f":"BK34","v":13.542698457973231},8,null,null,null,null,null,{"$f":"BZ15","v":83.7},{"$f":"CA15+'طراحی همه الگوها'!U257","v":107.1},9,null,{"$f":"BZ22","v":56.1},{"$f":"CA22","v":79.900000000000006},7,null,"41'",{"$f":"CI24+0.5*(CI27-CI24)","v":35.628749999999997},{"$f":"CJ27+0.7*(CJ24-CJ27)","v":78.611939307668322},null,null,null,null,null,null,null,null,null,null,20,{"$f":"CV12+CY12*SIN(RADIANS(CU25)+CU14)","v":{"$error":"#DIV/0!"}},{"$f":"CW12+CY12*COS(RADIANS(CU25)+CU14)","v":{"$error":"#DIV/0!"}},{"$f":"IF(CV13>CV25,ATAN((CW13-CW25)/(CV13-CV25)),ATAN((CW13-CW25)/(CV25-CV13)))","v":{"$error":"#DIV/0!"}},{"$f":"IF(CV13>CV25,(CV13-CV25)/COS(CX25),(CV25-CV13)/COS(CX25))","v":{"$error":"#DIV/0!"}},null,1,2,"نقطه 7","نقطه قبل از چرخش",{"$f":"IF(DB25>DB18,IF(DA25>DA18,DA18+SQRT(POWER(DA25-DA18,2)+POWER(DB25-DB18,2))*COS(ATAN((DB25-DB18)/(DA25-DA18+0.000123))+DB16),DA18-SQRT(POWER(DA25-DA18,2)+POWER(DB25-DB18,2))*COS(ATAN((DB25-DB18)/(DA18-DA25+0.000123))-DB16)),IF(DA25>DA18,DA18+SQRT(POWER(DA25-DA18,2)+POWER(DB25-DB18,2))*COS(ATAN((DB18-DB25)/(DA25-DA18+0.000123))-DB16),DA18-SQRT(POWER(DA25-DA18,2)+POWER(DB25-DB18,2))*COS(ATAN((DB18-DB25)/(DA18-DA25+0.000123))+DB16)))","v":0.61824523267144293},{"$f":"IF(DB25>DB18,IF(DA25>DA18,DB18+SQRT(POWER(DA25-DA18,2)+POWER(DB25-DB18,2))*SIN(ATAN((DB25-DB18)/(DA25-DA18+0.000123))+DB16),DB18+SQRT(POWER(DA25-DA18,2)+POWER(DB25-DB18,2))*SIN(ATAN((DB25-DB18)/(DA18-DA25+0.000123))-DB16)),IF(DA25>DA18,DB18-SQRT(POWER(DA25-DA18,2)+POWER(DB25-DB18,2))*SIN(ATAN((DB18-DB25)/(DA25-DA18+0.000123))-DB16),DB18-SQRT(POWER(DA25-DA18,2)+POWER(DB25-DB18,2))*SIN(ATAN((DB18-DB25)/(DA18-DA25+0.000123))+DB16)))","v":0.69874634779839551},"نقطه چرخیده",null,null,null,"ماکزیمم متغیر ورودی  ضریب طول",1,null,null,{"$f":"DO24+DN11","v":-72},-1.2566370614359172,{"$f":"DV13+DV10*COS(DP25)","v":{"$error":"#REF!"}},{"$f":"DW13-DV10*SIN(DP25)","v":{"$error":"#REF!"}},{"$f":"SQRT(POWER((DV12-DQ25),2)+POWER((DW12-DR25),2))","v":{"$error":"#REF!"}},{"$f":"ABS(DV9-DS25)","v":{"$error":"#REF!"}},null,null,null,null,null,null,null,null,null,null,null,null,null,null,{"$f":"-EE25+EJ9","v":0},0]
[null,null,null,null,null,null,null,null,null,{"$f":"F37","v":10.7},{"$f":"G37","v":175.7},"j6",null,{"$f":"0.9*(N23-N21)+N21","v":70.740499999999997},{"$f":"O24+0.5*(O23-O24)","v":106.73649999999999},"d8",null,{"$f":"N23","v":78.045000000000002},{"$f":"O23","v":113.17149999999999},"d4",null,null,null,null,{"$f":"Y27+'طراحی همه الگوها'!U196","v":94.4},{"$f":"Z13","v":178.7},12,null,{"$f":"AC18","v":36.799999999999997},{"$f":"Z12","v":0},15,null,"s12",{"$f":"AH25-'طراحی همه الگوها'!U198*SIN(AH15)","v":59.173218455978002},{"$f":"AI25-'طراحی همه الگوها'!U198*COS(AH15)","v":116.02350592377861},null,{"$f":"AH31","v":9.1847120000000011},{"$f":"AI31","v":142.63499999999999},"s15",null,"s'18",{"$f":"AP25+0.6*(AP22-AP25)","v":8.5868959999999994},{"$f":"AQ25-0.3*(AQ25-AQ22)","v":166.58099999999999},null,null,null,null,null,null,null,null,null,null,null,null,{"$f":"BD17","v":35.520000000000003},{"$f":"BE17","v":6.2},22,null,"(5 →7)",{"$f":"ROUND(0.2*(BJ34-BJ31),1)","v":12.1},null,null,null,null,{"$f":"BJ34","v":74.49804985393601},{"$f":"BK34","v":13.542698457973231},8,null,null,null,null,null,null,null,null,null,{"$f":"BZ13+'طراحی همه الگوها'!U249-'طراحی همه الگوها'!U256","v":-15},{"$f":"CA25","v":107.1},10,null,null,null,null,null,"41''",{"$f":"CI24+0.88*(CI27-CI24)","v":44.1569},{"$f":"CJ27+0.3*(CJ24-CJ27)","v":36.54797398900071},null,{"$f":"CI12","v":10.978160000000001},{"$f":"CJ12","v":161.16999999999999},"s3",null,null,null,null,null,null,22,{"$f":"CV12+CY12*SIN(RADIANS(CU26)+CU14)","v":{"$error":"#DIV/0!"}},{"$f":"CW12+CY12*COS(RADIANS(CU26)+CU14)","v":{"$error":"#DIV/0!"}},{"$f":"IF(CV13>CV26,ATAN((CW13-CW26)/(CV13-CV26)),ATAN((CW13-CW26)/(CV26-CV13)))","v":{"$error":"#DIV/0!"}},{"$f":"IF(CV13>CV26,(CV13-CV26)/COS(CX26),(CV26-CV13)/COS(CX26))","v":{"$error":"#DIV/0!"}},null,1,2,"نقطه 8","نقطه قبل از چرخش",{"$f":"IF(DB26>DB18,IF(DA26>DA18,DA18+SQRT(POWER(DA26-DA18,2)+POWER(DB26-DB18,2))*COS(ATAN((DB26-DB18)/(DA26-DA18+0.000123))+DB16),DA18-SQRT(POWER(DA26-DA18,2)+POWER(DB26-DB18,2))*COS(ATAN((DB26-DB18)/(DA18-DA26+0.000123))-DB16)),IF(DA26>DA18,DA18+SQRT(POWER(DA26-DA18,2)+POWER(DB26-DB18,2))*COS(ATAN((DB18-DB26)/(DA26-DA18+0.000123))-DB16),DA18-SQRT(POWER(DA26-DA18,2)+POWER(DB26-DB18,2))*COS(ATAN((DB18-DB26)/(DA18-DA26+0.000123))+DB16)))","v":0.61824523267144293},{"$f":"IF(DB26>DB18,IF(DA26>DA18,DB18+SQRT(POWER(DA26-DA18,2)+POWER(DB26-DB18,2))*SIN(ATAN((DB26-DB18)/(DA26-DA18+0.000123))+DB16),DB18+SQRT(POWER(DA26-DA18,2)+POWER(DB26-DB18,2))*SIN(ATAN((DB26-DB18)/(DA18-DA26+0.000123))-DB16)),IF(DA26>DA18,DB18-SQRT(POWER(DA26-DA18,2)+POWER(DB26-DB18,2))*SIN(ATAN((DB18-DB26)/(DA26-DA18+0.000123))-DB16),DB18-SQRT(POWER(DA26-DA18,2)+POWER(DB26-DB18,2))*SIN(ATAN((DB18-DB26)/(DA18-DA26+0.000123))+DB16)))","v":0.69874634779839551},"نقطه چرخیده",null,"m1",{"$f":"ATAN((DK22-DK21)/(DL21-DL22))","v":{"$error":"#REF!"}},"m2",{"$f":"SQRT(POWER(DK21-DK22,2)+POWER(DL21-DL22,2))","v":{"$error":"#REF!"}},null,null,{"$f":"DO25+DN11","v":-70},-1.2217304763960306,{"$f":"DV13+DV10*COS(DP26)","v":{"$error":"#REF!"}},{"$f":"DW13-DV10*SIN(DP26)","v":{"$error":"#REF!"}},{"$f":"SQRT(POWER((DV12-DQ26),2)+POWER((DW12-DR26),2))","v":{"$error":"#REF!"}},{"$f":"ABS(DV9-DS26)","v":{"$error":"#REF!"}},null,null,null,null,null,null,null,null,null,null,null,null,null,null,{"$f":"-EE26+EJ9","v":0},0]
[null,null,null,null,null,null,null,null,null,{"$f":"F39","v":7.1},{"$f":"G39","v":159.69999999999999},"j8",null,{"$f":"0.7*(N23-N21)+N21","v":56.131499999999996},{"$f":"O24+0.1*(O23-O24)","v":101.5885},"d9",null,null,null,null,null,null,null,null,{"$f":"W35+'طراحی همه الگوها'!U189","v":80.400000000000006},{"$f":"Z13","v":178.7},3,null,{"$f":"AC18","v":36.799999999999997},{"$f":"AD18","v":4.9000000000000004},16,null,"s11",{"$f":"AH34-'طراحی همه الگوها'!U197*SIN(AH15)","v":73.038305951483679},{"$f":"AI34-'طراحی همه الگوها'!U197*COS(AH15)","v":113.37787769177545},null,{"$f":"AH30","v":5},{"$f":"AI30","v":124.1},"s16",null,"s'19",{"$f":"AX39+('متغیرها '!C20*'متغیرها '!U83)*COS(AH15+RADIANS(AX38))","v":63.717749528690661},{"$f":"AY39-('متغیرها '!C20*'متغیرها '!U83)*SIN(AH15+RADIANS(AX38))","v":105.17531515817979},null,{"$f":"AP16","v":57.523494125496505},{"$f":"AQ16","v":111.36957056137393},"s'10",null,null,null,null,{"$f":"W35+'طراحی همه الگوها'!U216","v":110},{"$f":"BA18","v":132.69999999999999},10,null,null,null,null,null,null,"نقاط در چادر شماره 4",null,null,null,null,null,null,null,null,{"$f":"BJ29","v":5},{"$f":"BK29","v":175.7},1,null,null,null,null,null,{"$f":"BZ26","v":-15},{"$f":"CA17","v":103},11,null,{"$f":"CD23","v":22.4},{"$f":"CA17","v":103},19,null,"s13",{"$f":"CI30+0.5*'طراحی همه الگوها'!U249","v":46.85},{"$f":"CJ30","v":5},null,{"$f":"CI33","v":9.8881639720326682},{"$f":"CJ33","v":119.5549277494078},"s'3",null,null,null,null,null,null,24,{"$f":"CV12+CY12*SIN(RADIANS(CU27)+CU14)","v":{"$error":"#DIV/0!"}},{"$f":"CW12+CY12*COS(RADIANS(CU27)+CU14)","v":{"$error":"#DIV/0!"}},{"$f":"IF(CV13>CV27,ATAN((CW13-CW27)/(CV13-CV27)),ATAN((CW13-CW27)/(CV27-CV13)))","v":{"$error":"#DIV/0!"}},{"$f":"IF(CV13>CV27,(CV13-CV27)/COS(CX27),(CV27-CV13)/COS(CX27))","v":{"$error":"#DIV/0!"}},null,1,2,"نقطه 9","نقطه قبل از چرخش",{"$f":"IF(DB27>DB18,IF(DA27>DA18,DA18+SQRT(POWER(DA27-DA18,2)+POWER(DB27-DB18,2))*COS(ATAN((DB27-DB18)/(DA27-DA18+0.000123))+DB16),DA18-SQRT(POWER(DA27-DA18,2)+POWER(DB27-DB18,2))*COS(ATAN((DB27-DB18)/(DA18-DA27+0.000123))-DB16)),IF(DA27>DA18,DA18+SQRT(POWER(DA27-DA18,2)+POWER(DB27-DB18,2))*COS(ATAN((DB18-DB27)/(DA27-DA18+0.000123))-DB16),DA18-SQRT(POWER(DA27-DA18,2)+POWER(DB27-DB18,2))*COS(ATAN((DB18-DB27)/(DA18-DA27+0.000123))+DB16)))","v":0.61824523267144293},{"$f":"IF(DB27>DB18,IF(DA27>DA18,DB18+SQRT(POWER(DA27-DA18,2)+POWER(DB27-DB18,2))*SIN(ATAN((DB27-DB18)/(DA27-DA18+0.000123))+DB16),DB18+SQRT(POWER(DA27-DA18,2)+POWER(DB27-DB18,2))*SIN(ATAN((DB27-DB18)/(DA18-DA27+0.000123))-DB16)),IF(DA27>DA18,DB18-SQRT(POWER(DA27-DA18,2)+POWER(DB27-DB18,2))*SIN(ATAN((DB18-DB27)/(DA27-DA18+0.000123))-DB16),DB18-SQRT(POWER(DA27-DA18,2)+POWER(DB27-DB18,2))*SIN(ATAN((DB18-DB27)/(DA18-DA27+0.000123))+DB16)))","v":0.69874634779839551},"نقطه چرخیده",null,"نقطه خروجی بالا","su9",{"$f":"DK21+DK23*COS(DJ26)","v":{"$error":"#REF!"}},{"$f":"DL21+DK23*SIN(DJ26)","v":{"$error":"#REF!"}},null,null,{"$f":"DO26+DN11","v":-68},-1.1868238913561442,{"$f":"DV13+DV10*COS(DP27)","v":{"$error":"#REF!"}},{"$f":"DW13-DV10*SIN(DP27)","v":{"$error":"#REF!"}},{"$f":"SQRT(POWER((DV12-DQ27),2)+POWER((DW12-DR27),2))","v":{"$error":"#REF!"}},{"$f":"ABS(DV9-DS27)","v":{"$error":"#REF!"}},null,null,"به دست آوردن نقطه تقاطع دو خط ","مولفه افقی","مولفه عمودی",null,null,null,null,null,null,null,null,null,{"$f":"-EE27+EJ9","v":0},0]
[null,null,null,null,null,null,null,null,null,null,null,null,null,{"$f":"N21","v":5},{"$f":"O12-1-0.013*(O22-O24)","v":106.88310499999999},"j'2",null,null,null,null,null,null,null,null,{"$f":"W35+'طراحی همه الگوها'!U189","v":80.400000000000006},{"$f":"Z13-'طراحی همه الگوها'!U198","v":161.19999999999999},14,null,{"$f":"AC12","v":36.799999999999997},{"$f":"AD12","v":29.8},17,null,"s13",{"$f":"AH17+'طراحی همه الگوها'!U189-0.5*'طراحی همه الگوها'!U190","v":78},{"$f":"AH43+AH42","v":5},null,null,null,null,null,"2'",{"$f":"AH17","v":5},{"$f":"AX33+AH42","v":5},null,{"$f":"AP27","v":63.717749528690661},{"$f":"AQ27","v":105.17531515817979},"s'19",null,null,null,null,{"$f":"BD13","v":177.5},{"$f":"BE13","v":132.69999999999999},13,null,{"$f":"W35","v":0},{"$f":"BA11","v":170.7},1,null,"افقی شبیه ساز","اسم نقطه ","مولفه افقی","مولفه عمودی","عمودی شبیه ساز",null,{"$f":"BL43","v":46.5},{"$f":"BL44","v":76.875},15,null,{"$f":"BJ36","v":71.750880144010097},{"$f":"BK36","v":108.94911985598991},10,null,null,null,null,null,{"$f":"BZ16","v":76.8},{"$f":"CA16","v":103},8,null,{"$f":"CD23","v":22.4},{"$f":"CE23","v":87.7},20,null,"s''17",{"$f":"CI11","v":5},{"$f":"IF('متغیرها '!C40=-1,CJ14,IF('متغیرها '!C40=0,CJ11-0.1,CJ11-0.25*(CJ11-CJ13)))","v":168.9},null,{"$f":"CI22","v":8.7981679440653355},{"$f":"CJ22","v":57.132319373519529},"s11",null,null,null,null,null,null,26,{"$f":"CV12+CY12*SIN(RADIANS(CU28)+CU14)","v":{"$error":"#DIV/0!"}},{"$f":"CW12+CY12*COS(RADIANS(CU28)+CU14)","v":{"$error":"#DIV/0!"}},{"$f":"IF(CV13>CV28,ATAN((CW13-CW28)/(CV13-CV28)),ATAN((CW13-CW28)/(CV28-CV13)))","v":{"$error":"#DIV/0!"}},{"$f":"IF(CV13>CV28,(CV13-CV28)/COS(CX28),(CV28-CV13)/COS(CX28))","v":{"$error":"#DIV/0!"}},null,1,2,"نقطه 10","نقطه قبل از چرخش",{"$f":"IF(DB28>DB18,IF(DA28>DA18,DA18+SQRT(POWER(DA28-DA18,2)+POWER(DB28-DB18,2))*COS(ATAN((DB28-DB18)/(DA28-DA18+0.000123))+DB16),DA18-SQRT(POWER(DA28-DA18,2)+POWER(DB28-DB18,2))*COS(ATAN((DB28-DB18)/(DA18-DA28+0.000123))-DB16)),IF(DA28>DA18,DA18+SQRT(POWER(DA28-DA18,2)+POWER(DB28-DB18,2))*COS(ATAN((DB18-DB28)/(DA28-DA18+0.000123))-DB16),DA18-SQRT(POWER(DA28-DA18,2)+POWER(DB28-DB18,2))*COS(ATAN((DB18-DB28)/(DA18-DA28+0.000123))+DB16)))","v":0.61824523267144293},{"$f":"IF(DB28>DB18,IF(DA28>DA18,DB18+SQRT(POWER(DA28-DA18,2)+POWER(DB28-DB18,2))*SIN(ATAN((DB28-DB18)/(DA28-DA18+0.000123))+DB16),DB18+SQRT(POWER(DA28-DA18,2)+POWER(DB28-DB18,2))*SIN(ATAN((DB28-DB18)/(DA18-DA28+0.000123))-DB16)),IF(DA28>DA18,DB18-SQRT(POWER(DA28-DA18,2)+POWER(DB28-DB18,2))*SIN(ATAN((DB18-DB28)/(DA28-DA18+0.000123))-DB16),DB18-SQRT(POWER(DA28-DA18,2)+POWER(DB28-DB18,2))*SIN(ATAN((DB18-DB28)/(DA18-DA28+0.000123))+DB16)))","v":0.69874634779839551},"نقطه چرخیده",null,"نقطه خروجی پایین","sd8",{"$f":"DK29+DK23*COS(DJ26)","v":{"$error":"#REF!"}},{"$f":"DL29+DK23*SIN(DJ26)","v":{"$error":"#REF!"}},null,null,{"$f":"DO27+DN11","v":-66},-1.1519173063162575,{"$f":"DV13+DV10*COS(DP28)","v":{"$error":"#REF!"}},{"$f":"DW13-DV10*SIN(DP28)","v":{"$error":"#REF!"}},{"$f":"SQRT(POWER((DV12-DQ28),2)+POWER((DW12-DR28),2))","v":{"$error":"#REF!"}},{"$f":"ABS(DV9-DS28)","v":{"$error":"#REF!"}},null,"نقطه اول از خط اول","f5",{"$f":"#REF!","v":{"$error":"#REF!"}},{"$f":"#REF!","v":{"$error":"#REF!"}},null,null,null,null,null,null,null,null,null,{"$f":"-EE28+EJ9","v":0},0]
[null,null,null,null,null,null,null,null,null,{"$f":"F39","v":7.1},{"$f":"G39","v":159.69999999999999},"j8",null,null,null,null,null,null,null,null,null,null,null,null,null,null,null,null,null,null,null,null,"s14",{"$f":"AH11+AH40*COS(AH38)","v":10.978160000000001},{"$f":"AI11-AH40*SIN(AH38)","v":161.16999999999999},null,{"$f":"AK23","v":10.978160000000001},{"$f":"AL23","v":161.16999999999999},"s14",null,null,null,null,null,null,null,null,null,null,null,null,{"$f":"W35+'طراحی همه الگوها'!U211+'طراحی همه الگوها'!U219","v":182.7},{"$f":"BA18","v":132.69999999999999},12,null,{"$f":"W35+'طراحی همه الگوها'!U216","v":110},{"$f":"BA31","v":170.7},3,null,null,1,{"$f":"AH17","v":5},{"$f":"'طراحی همه الگوها'!U233+BL39+AH42","v":175.7},null,null,{"$f":"BN28+'طراحی همه الگوها'!U242","v":53.7},{"$f":"BO28","v":76.875},16,null,null,null,null,null,null,null,null,null,null,null,null,null,null,null,null,null,"s''18",{"$f":"CI28+0.5*(CI12-CI28)","v":7.9890800000000004},{"$f":"CJ28-0.3*(CJ28-CJ12)","v":166.58099999999999},null,null,null,null,null,null,null,null,null,null,28,{"$f":"CV12+CY12*SIN(RADIANS(CU29)+CU14)","v":{"$error":"#DIV/0!"}},{"$f":"CW12+CY12*COS(RADIANS(CU29)+CU14)","v":{"$error":"#DIV/0!"}},{"$f":"IF(CV13>CV29,ATAN((CW13-CW29)/(CV13-CV29)),ATAN((CW13-CW29)/(CV29-CV13)))","v":{"$error":"#DIV/0!"}},{"$f":"IF(CV13>CV29,(CV13-CV29)/COS(CX29),(CV29-CV13)/COS(CX29))","v":{"$error":"#DIV/0!"}},null,1,2,"نقطه 11","نقطه قبل از چرخش",{"$f":"IF(DB29>DB18,IF(DA29>DA18,DA18+SQRT(POWER(DA29-DA18,2)+POWER(DB29-DB18,2))*COS(ATAN((DB29-DB18)/(DA29-DA18+0.000123))+DB16),DA18-SQRT(POWER(DA29-DA18,2)+POWER(DB29-DB18,2))*COS(ATAN((DB29-DB18)/(DA18-DA29+0.000123))-DB16)),IF(DA29>DA18,DA18+SQRT(POWER(DA29-DA18,2)+POWER(DB29-DB18,2))*COS(ATAN((DB18-DB29)/(DA29-DA18+0.000123))-DB16),DA18-SQRT(POWER(DA29-DA18,2)+POWER(DB29-DB18,2))*COS(ATAN((DB18-DB29)/(DA18-DA29+0.000123))+DB16)))","v":0.61824523267144293},{"$f":"IF(DB29>DB18,IF(DA29>DA18,DB18+SQRT(POWER(DA29-DA18,2)+POWER(DB29-DB18,2))*SIN(ATAN((DB29-DB18)/(DA29-DA18+0.000123))+DB16),DB18+SQRT(POWER(DA29-DA18,2)+POWER(DB29-DB18,2))*SIN(ATAN((DB29-DB18)/(DA18-DA29+0.000123))-DB16)),IF(DA29>DA18,DB18-SQRT(POWER(DA29-DA18,2)+POWER(DB29-DB18,2))*SIN(ATAN((DB18-DB29)/(DA29-DA18+0.000123))-DB16),DB18-SQRT(POWER(DA29-DA18,2)+POWER(DB29-DB18,2))*SIN(ATAN((DB18-DB29)/(DA18-DA29+0.000123))+DB16)))","v":0.69874634779839551},"نقطه چرخیده",null,"نقطه خروجی میانه",null,{"$f":"DK21+DK24*DL26*SIN(DJ26)/DL25","v":{"$error":"#REF!"}},{"$f":"DL21-DK24*DL26*COS(DJ26)/DL25","v":{"$error":"#REF!"}},null,null,{"$f":"DO28+DN11","v":-64},-1.1170107212763709,{"$f":"DV13+DV10*COS(DP29)","v":{"$error":"#REF!"}},{"$f":"DW13-DV10*SIN(DP29)","v":{"$error":"#REF!"}},{"$f":"SQRT(POWER((DV12-DQ29),2)+POWER((DW12-DR29),2))","v":{"$error":"#REF!"}},{"$f":"ABS(DV9-DS29)","v":{"$error":"#REF!"}},null,"نقطه دوم از خط اول","f6",{"$f":"#REF!","v":{"$error":"#REF!"}},{"$f":"#REF!","v":{"$error":"#REF!"}},null,null,null,null,null,null,null,null,null,{"$f":"-EE29+EJ9","v":0},0]
[null,null,null,null,null,null,null,null,null,{"$f":"F38","v":5},{"$f":"G38","v":159.69999999999999},"j7",null,null,null,null,null,null,null,null,null,null,null,null,{"$f":"Y27","v":80.400000000000006},{"$f":"Z13","v":178.7},3,null,{"$f":"AC20","v":69.600000000000009},{"$f":"Z12","v":0},18,null,"s16",{"$f":"AH13","v":5},{"$f":"AI13","v":124.1},null,{"$f":"AK29+0.32*(AK32-AK29)","v":27.707459861844548},{"$f":"AL32+0.5*(AL29-AL32)","v":144.83346963604635},null,null,null,null,null,null,{"$f":"AS28","v":63.717749528690661},{"$f":"AT28","v":105.17531515817979},"s'19",null,"شیفت افقی مچ",{"$f":"AZ18+10","v":120},null,{"$f":"AZ29","v":182.7},{"$f":"BA11","v":170.7},11,null,null,null,null,null,null,3,{"$f":"BJ29-'طراحی همه الگوها'!U234","v":-4.5999999999999996},{"$f":"BK29-'طراحی همه الگوها'!U232","v":-7},null,null,{"$f":"BN28+'طراحی همه الگوها'!U242","v":53.7},{"$f":"BO28-'طراحی همه الگوها'!U245","v":54.975000000000001},19,null,{"$f":"BJ36","v":71.750880144010097},{"$f":"BK36","v":108.94911985598991},10,null,null,null,null,null,{"$f":"BZ13+'طراحی همه الگوها'!U260+'طراحی همه الگوها'!U262","v":95.4},{"$f":"CA25+BW44","v":114.1},13,null,{"$f":"CD24","v":44.9},{"$f":"CA17","v":103},21,null,2,{"$f":"CI14","v":5},{"$f":"BW42+AH42","v":5},null,{"$f":"CI24","v":24.407499999999999},110.15991329666905,"41شبیه ساز",null,null,null,null,null,null,30,{"$f":"CV12+CY12*SIN(RADIANS(CU30)+CU14)","v":{"$error":"#DIV/0!"}},{"$f":"CW12+CY12*COS(RADIANS(CU30)+CU14)","v":{"$error":"#DIV/0!"}},{"$f":"IF(CV13>CV30,ATAN((CW13-CW30)/(CV13-CV30)),ATAN((CW13-CW30)/(CV30-CV13)))","v":{"$error":"#DIV/0!"}},{"$f":"IF(CV13>CV30,(CV13-CV30)/COS(CX30),(CV30-CV13)/COS(CX30))","v":{"$error":"#DIV/0!"}},null,1,2,"نقطه 12","نقطه قبل از چرخش",{"$f":"IF(DB30>DB18,IF(DA30>DA18,DA18+SQRT(POWER(DA30-DA18,2)+POWER(DB30-DB18,2))*COS(ATAN((DB30-DB18)/(DA30-DA18+0.000123))+DB16),DA18-SQRT(POWER(DA30-DA18,2)+POWER(DB30-DB18,2))*COS(ATAN((DB30-DB18)/(DA18-DA30+0.000123))-DB16)),IF(DA30>DA18,DA18+SQRT(POWER(DA30-DA18,2)+POWER(DB30-DB18,2))*COS(ATAN((DB18-DB30)/(DA30-DA18+0.000123))-DB16),DA18-SQRT(POWER(DA30-DA18,2)+POWER(DB30-DB18,2))*COS(ATAN((DB18-DB30)/(DA18-DA30+0.000123))+DB16)))","v":0.61824523267144293},{"$f":"IF(DB30>DB18,IF(DA30>DA18,DB18+SQRT(POWER(DA30-DA18,2)+POWER(DB30-DB18,2))*SIN(ATAN((DB30-DB18)/(DA30-DA18+0.000123))+DB16),DB18+SQRT(POWER(DA30-DA18,2)+POWER(DB30-DB18,2))*SIN(ATAN((DB30-DB18)/(DA18-DA30+0.000123))-DB16)),IF(DA30>DA18,DB18-SQRT(POWER(DA30-DA18,2)+POWER(DB30-DB18,2))*SIN(ATAN((DB18-DB30)/(DA30-DA18+0.000123))-DB16),DB18-SQRT(POWER(DA30-DA18,2)+POWER(DB30-DB18,2))*SIN(ATAN((DB18-DB30)/(DA18-DA30+0.000123))+DB16)))","v":0.69874634779839551},"نقطه چرخیده",null,null,null,null,null,null,null,{"$f":"DO29+DN11","v":-62},-1.0821041362364843,{"$f":"DV13+DV10*COS(DP30)","v":{"$error":"#REF!"}},{"$f":"DW13-DV10*SIN(DP30)","v":{"$error":"#REF!"}},{"$f":"SQRT(POWER((DV12-DQ30),2)+POWER((DW12-DR30),2))","v":{"$error":"#REF!"}},{"$f":"ABS(DV9-DS30)","v":{"$error":"#REF!"}},null,"نقطه اول از خط دوم","f7",{"$f":"#REF!","v":{"$error":"#REF!"}},{"$f":"#REF!","v":{"$error":"#REF!"}},null,null,null,null,null,null,null,null,null,{"$f":"-EE30+EJ9","v":0},0]
[null,null,null,null,null,"نقاط خروجی ",null,null,null,null,null,null,null,null,null,null,null,null,null,null,null,null,null,null,{"$f":"Y14","v":14.8},{"$f":"Z13","v":178.7},4,null,{"$f":"AC20","v":69.600000000000009},{"$f":"AD20","v":20.100000000000001},19,null,"s15",{"$f":"AH30+0.7*(AH29-AH30)","v":9.1847120000000011},{"$f":"AI30+0.5*(AI29-AI30)","v":142.63499999999999},null,{"$f":"AK29+0.67*(AK32-AK29)","v":46.005131585737033},{"$f":"AL32+0.2*(AL29-AL32)","v":135.03155141767414},null,null,null,null,null,null,{"$f":"AP17","v":53.888965270197652},{"$f":"AQ17","v":95.346530899686769},"s'11",null,"شیفت عمودی مچ",{"$f":"BA18-10","v":122.69999999999999},null,{"$f":"W35+'طراحی همه الگوها'!U216","v":110},{"$f":"BA11","v":170.7},3,null,{"$f":"AZ19","v":110},{"$f":"BA19","v":72.7},9,null,null,5,{"$f":"BJ29+'طراحی همه الگوها'!U235","v":13.9},{"$f":"BK29-'طراحی همه الگوها'!U233","v":5},null,null,null,null,null,null,{"$f":"BJ37","v":61.214989104330542},{"$f":"BK37","v":98.413228816310351},11,null,null,null,null,null,{"$f":"BZ13","v":0},{"$f":"CA30","v":114.1},12,null,{"$f":"CD24","v":44.9},{"$f":"CE24","v":83.8},22,null,"s''12",{"$f":"CI30","v":5},{"$f":"CJ24","v":110.15991329666905},null,35.628749999999997,78.611939307668322,"41'",null,null,null,null,null,null,32,{"$f":"CV12+CY12*SIN(RADIANS(CU31)+CU14)","v":{"$error":"#DIV/0!"}},{"$f":"CW12+CY12*COS(RADIANS(CU31)+CU14)","v":{"$error":"#DIV/0!"}},{"$f":"IF(CV13>CV31,ATAN((CW13-CW31)/(CV13-CV31)),ATAN((CW13-CW31)/(CV31-CV13)))","v":{"$error":"#DIV/0!"}},{"$f":"IF(CV13>CV31,(CV13-CV31)/COS(CX31),(CV31-CV13)/COS(CX31))","v":{"$error":"#DIV/0!"}},null,1,2,"نقطه 13","نقطه قبل از چرخش",{"$f":"IF(DB31>DB18,IF(DA31>DA18,DA18+SQRT(POWER(DA31-DA18,2)+POWER(DB31-DB18,2))*COS(ATAN((DB31-DB18)/(DA31-DA18+0.000123))+DB16),DA18-SQRT(POWER(DA31-DA18,2)+POWER(DB31-DB18,2))*COS(ATAN((DB31-DB18)/(DA18-DA31+0.000123))-DB16)),IF(DA31>DA18,DA18+SQRT(POWER(DA31-DA18,2)+POWER(DB31-DB18,2))*COS(ATAN((DB18-DB31)/(DA31-DA18+0.000123))-DB16),DA18-SQRT(POWER(DA31-DA18,2)+POWER(DB31-DB18,2))*COS(ATAN((DB18-DB31)/(DA18-DA31+0.000123))+DB16)))","v":0.61824523267144293},{"$f":"IF(DB31>DB18,IF(DA31>DA18,DB18+SQRT(POWER(DA31-DA18,2)+POWER(DB31-DB18,2))*SIN(ATAN((DB31-DB18)/(DA31-DA18+0.000123))+DB16),DB18+SQRT(POWER(DA31-DA18,2)+POWER(DB31-DB18,2))*SIN(ATAN((DB31-DB18)/(DA18-DA31+0.000123))-DB16)),IF(DA31>DA18,DB18-SQRT(POWER(DA31-DA18,2)+POWER(DB31-DB18,2))*SIN(ATAN((DB18-DB31)/(DA31-DA18+0.000123))-DB16),DB18-SQRT(POWER(DA31-DA18,2)+POWER(DB31-DB18,2))*SIN(ATAN((DB18-DB31)/(DA18-DA31+0.000123))+DB16)))","v":0.69874634779839551},"نقطه چرخیده",null,null,"رسم باکس زیپ دامن-باکس چپ","مولفه افقی","مولفه عمودی",null,null,{"$f":"DO30+DN11","v":-60},-1.0471975511965976,{"$f":"DV13+DV10*COS(DP31)","v":{"$error":"#REF!"}},{"$f":"DW13-DV10*SIN(DP31)","v":{"$error":"#REF!"}},{"$f":"SQRT(POWER((DV12-DQ31),2)+POWER((DW12-DR31),2))","v":{"$error":"#REF!"}},{"$f":"ABS(DV9-DS31)","v":{"$error":"#REF!"}},null,"نقطه دوم از خط دوم","f8",{"$f":"#REF!","v":{"$error":"#REF!"}},{"$f":"#REF!","v":{"$error":"#REF!"}},null,null,null,null,null,null,null,null,null,{"$f":"-EE31+EJ9","v":0},0]
[null,null,null,null,null,"مولفه افقی","مولفه عمودی","اسم نقطه",null,{"$f":"F39","v":7.1},{"$f":"G39","v":159.69999999999999},"j8",null,null,null,null,null,null,null,null,null,null,null,null,null,null,"نقاب",null,{"$f":"AC14","v":69.600000000000009},{"$f":"AD14","v":33.9},20,null,"s17",{"$f":"DB400","v":5},{"$f":"IF('متغیرها '!C14=-1,AL10,IF('متغیرها '!C14=0,DC400-0.1,DC400-0.25*(DC400-DC404)))","v":168.9},null,{"$f":"AH35","v":63.25722206826422},{"$f":"AI35","v":128.49693927209267},"s20",null,null,null,null,null,null,null,null,null,"زاویه گشادی نسبی جلو به پشت",33,null,{"$f":"W35+'طراحی همه الگوها'!U216","v":110},{"$f":"BA18","v":132.69999999999999},10,null,{"$f":"BD20","v":110},{"$f":"BE20","v":5.2},14,null,null,6,{"$f":"BJ30+BI25*COS(RADIANS('متغیرها '!C26))","v":11.178346649122268},{"$f":"BK30-BI25*SIN(RADIANS('متغیرها '!C26))","v":-7.8269081086385128},null,null,{"$f":"BN28+'طراحی همه الگوها'!U242","v":53.7},{"$f":"BO28+'طراحی همه الگوها'!U244","v":98.775000000000006},18,null,null,null,null,null,null,null,null,null,{"$f":"BZ13","v":0},{"$f":"CA31+'طراحی همه الگوها'!U258","v":128.5},18,null,null,null,null,null,"s'12",{"$f":"CI30","v":5},{"$f":"CJ23","v":114.25991329666904},null,44.1569,36.54797398900071,"41''",null,null,null,null,null,null,34,{"$f":"CV12+CY12*SIN(RADIANS(CU32)+CU14)","v":{"$error":"#DIV/0!"}},{"$f":"CW12+CY12*COS(RADIANS(CU32)+CU14)","v":{"$error":"#DIV/0!"}},{"$f":"IF(CV13>CV32,ATAN((CW13-CW32)/(CV13-CV32)),ATAN((CW13-CW32)/(CV32-CV13)))","v":{"$error":"#DIV/0!"}},{"$f":"IF(CV13>CV32,(CV13-CV32)/COS(CX32),(CV32-CV13)/COS(CX32))","v":{"$error":"#DIV/0!"}},null,1,2,"نقطه 14","نقطه قبل از چرخش",{"$f":"IF(DB32>DB18,IF(DA32>DA18,DA18+SQRT(POWER(DA32-DA18,2)+POWER(DB32-DB18,2))*COS(ATAN((DB32-DB18)/(DA32-DA18+0.000123))+DB16),DA18-SQRT(POWER(DA32-DA18,2)+POWER(DB32-DB18,2))*COS(ATAN((DB32-DB18)/(DA18-DA32+0.000123))-DB16)),IF(DA32>DA18,DA18+SQRT(POWER(DA32-DA18,2)+POWER(DB32-DB18,2))*COS(ATAN((DB18-DB32)/(DA32-DA18+0.000123))-DB16),DA18-SQRT(POWER(DA32-DA18,2)+POWER(DB32-DB18,2))*COS(ATAN((DB18-DB32)/(DA18-DA32+0.000123))+DB16)))","v":0.61824523267144293},{"$f":"IF(DB32>DB18,IF(DA32>DA18,DB18+SQRT(POWER(DA32-DA18,2)+POWER(DB32-DB18,2))*SIN(ATAN((DB32-DB18)/(DA32-DA18+0.000123))+DB16),DB18+SQRT(POWER(DA32-DA18,2)+POWER(DB32-DB18,2))*SIN(ATAN((DB32-DB18)/(DA18-DA32+0.000123))-DB16)),IF(DA32>DA18,DB18-SQRT(POWER(DA32-DA18,2)+POWER(DB32-DB18,2))*SIN(ATAN((DB18-DB32)/(DA32-DA18+0.000123))-DB16),DB18-SQRT(POWER(DA32-DA18,2)+POWER(DB32-DB18,2))*SIN(ATAN((DB18-DB32)/(DA18-DA32+0.000123))+DB16)))","v":0.69874634779839551},"نقطه چرخیده",null,"نقطه ورودی بالا","s'u3",{"$f":"#REF!","v":{"$error":"#REF!"}},{"$f":"#REF!","v":{"$error":"#REF!"}},null,null,{"$f":"DO31+DN11","v":-58},-1.0122909661567112,{"$f":"DV13+DV10*COS(DP32)","v":{"$error":"#REF!"}},{"$f":"DW13-DV10*SIN(DP32)","v":{"$error":"#REF!"}},{"$f":"SQRT(POWER((DV12-DQ32),2)+POWER((DW12-DR32),2))","v":{"$error":"#REF!"}},{"$f":"ABS(DV9-DS32)","v":{"$error":"#REF!"}},null,"نقطه تقاطع","f10",{"$f":"(DY30-DY28+DX28*((DY29-DY28)/(DX29-DX28+0.0001))-DX30*((DY31-DY30)/(DX31-DX30+0.0001)))/(((DY29-DY28)/(DX29-DX28+0.0001))-((DY31-DY30)/(DX31-DX30+0.0001)))","v":{"$error":"#REF!"}},{"$f":"DY28+(DX32-DX28)*((DY29-DY28)/(DX29-DX28+0.0001))","v":{"$error":"#REF!"}},null,null,null,null,null,null,null,null,null,{"$f":"-EE32+EJ9","v":0},0]
[null,null,null,null,null,{"$f":"F11","v":5},{"$f":"G20+'طراحی همه الگوها'!U177+G12","v":175.7},"j1",null,{"$f":"F41","v":7.1},{"$f":"G41","v":122.6},"j10",null,null,null,null,null,null,null,null,null,null,null,null,{"$f":"Y13","v":0},{"$f":"Z13","v":178.7},1,null,null,null,null,null,"s18",{"$f":"AH32+0.5*(AH29-AH32)","v":7.9890800000000004},{"$f":"AI32-0.3*(AI32-AI29)","v":166.58099999999999},null,null,null,null,null,null,null,null,null,{"$f":"AS31","v":53.888965270197652},{"$f":"AT31","v":95.346530899686769},"s'11",null,"j4",{"$f":"IF('متغیرها '!C17<1,'متغیرها '!C17*'متغیرها '!U59,IF('متغیرها '!C17<2,'متغیرها '!U59+('متغیرها '!C17-1)*('متغیرها '!U60-'متغیرها '!U59),IF('متغیرها '!C17<3,'متغیرها '!U60+('متغیرها '!C17-2)*(I105-'متغیرها '!U60),I105+('متغیرها '!C17-3)*(H127-H126))))","v":0},"چادر 3",null,null,null,null,null,null,null,null,null,7,{"$f":"BJ31+BI26*COS(RADIANS('متغیرها '!C26))","v":25.983417370530344},{"$f":"BK31+BI26*SIN(RADIANS('متغیرها '!C26))","v":5.6332650705396201},null,null,{"$f":"BN28+'طراحی همه الگوها'!U242","v":53.7},{"$f":"BO28","v":76.875},16,null,{"$f":"BJ37","v":61.214989104330542},{"$f":"BK37","v":98.413228816310351},11,null,null,null,null,null,{"$f":"BZ13","v":0},{"$f":"CA32+'طراحی همه الگوها'!U259","v":222.6},14,null,{"$f":"CD18","v":22.4},{"$f":"CA31","v":114.1},23,null,"s'3",{"$f":"CI22+0.5*(CI12-CI22)","v":9.8881639720326682},{"$f":"CJ22+0.6*(CJ12-CJ22)","v":119.5549277494078},null,46.85,5,"s13",null,null,null,null,null,null,36,{"$f":"CV12+CY12*SIN(RADIANS(CU33)+CU14)","v":{"$error":"#DIV/0!"}},{"$f":"CW12+CY12*COS(RADIANS(CU33)+CU14)","v":{"$error":"#DIV/0!"}},{"$f":"IF(CV13>CV33,ATAN((CW13-CW33)/(CV13-CV33)),ATAN((CW13-CW33)/(CV33-CV13)))","v":{"$error":"#DIV/0!"}},{"$f":"IF(CV13>CV33,(CV13-CV33)/COS(CX33),(CV33-CV13)/COS(CX33))","v":{"$error":"#DIV/0!"}},null,1,2,"نقطه 15","نقطه قبل از چرخش",{"$f":"IF(DB33>DB18,IF(DA33>DA18,DA18+SQRT(POWER(DA33-DA18,2)+POWER(DB33-DB18,2))*COS(ATAN((DB33-DB18)/(DA33-DA18+0.000123))+DB16),DA18-SQRT(POWER(DA33-DA18,2)+POWER(DB33-DB18,2))*COS(ATAN((DB33-DB18)/(DA18-DA33+0.000123))-DB16)),IF(DA33>DA18,DA18+SQRT(POWER(DA33-DA18,2)+POWER(DB33-DB18,2))*COS(ATAN((DB18-DB33)/(DA33-DA18+0.000123))-DB16),DA18-SQRT(POWER(DA33-DA18,2)+POWER(DB33-DB18,2))*COS(ATAN((DB18-DB33)/(DA18-DA33+0.000123))+DB16)))","v":0.61824523267144293},{"$f":"IF(DB33>DB18,IF(DA33>DA18,DB18+SQRT(POWER(DA33-DA18,2)+POWER(DB33-DB18,2))*SIN(ATAN((DB33-DB18)/(DA33-DA18+0.000123))+DB16),DB18+SQRT(POWER(DA33-DA18,2)+POWER(DB33-DB18,2))*SIN(ATAN((DB33-DB18)/(DA18-DA33+0.000123))-DB16)),IF(DA33>DA18,DB18-SQRT(POWER(DA33-DA18,2)+POWER(DB33-DB18,2))*SIN(ATAN((DB18-DB33)/(DA33-DA18+0.000123))-DB16),DB18-SQRT(POWER(DA33-DA18,2)+POWER(DB33-DB18,2))*SIN(ATAN((DB18-DB33)/(DA18-DA33+0.000123))+DB16)))","v":0.69874634779839551},"نقطه چرخیده",null,"نقطه ورودی پایین","s'd3",{"$f":"#REF!","v":{"$error":"#REF!"}},{"$f":"#REF!","v":{"$error":"#REF!"}},null,null,{"$f":"DO32+DN11","v":-56},-0.97738438111682457,{"$f":"DV13+DV10*COS(DP33)","v":{"$error":"#REF!"}},{"$f":"DW13-DV10*SIN(DP33)","v":{"$error":"#REF!"}},{"$f":"SQRT(POWER((DV12-DQ33),2)+POWER((DW12-DR33),2))","v":{"$error":"#REF!"}},{"$f":"ABS(DV9-DS33)","v":{"$error":"#REF!"}},null,null,null,null,null,null,null,null,null,null,null,null,null,null,{"$f":"-EE33+EJ9","v":0},0]
[null,null,null,null,null,{"$f":"F33","v":5},{"$f":"G33-'طراحی همه الگوها'!U177","v":108.99999999999999},"j2",null,null,null,null,null,null,null,null,null,null,null,null,null,"محاسبات",null,null,{"$f":"Y13","v":0},{"$f":"Z13-'طراحی همه الگوها'!U205","v":173},21,null,null,null,null,null,"s19",{"$f":"AH16+'متغیرها '!C13*'متغیرها '!U83*COS(AH15)","v":77.923552177227947},{"$f":"AI16-'متغیرها '!C13*'متغیرها '!U83*SIN(AH15)","v":128.2984798684254},null,{"$f":"AH25","v":64.618556605692959},{"$f":"AI25","v":132.65475038819736},"s10",null,null,null,null,null,{"$f":"AP18","v":46.916892407698292},{"$f":"AQ18","v":100.76296884357572},"s'12",null,"(1 → 5)",{"$f":"W36-'متغیرها '!C19*'متغیرها '!U83","v":85.687109074902665},null,{"$f":"AX30","v":120},{"$f":"AX31","v":122.69999999999999},17,null,{"$f":"AZ18","v":110},{"$f":"BA18","v":132.69999999999999},10,null,null,8,{"$f":"BJ35+BL41*SIN(RADIANS('متغیرها '!C30))","v":74.49804985393601},{"$f":"BK35-BL41*COS(RADIANS('متغیرها '!C30))","v":13.542698457973231},null,null,{"$f":"BN28+'طراحی همه الگوها'!U242+'طراحی همه الگوها'!U243","v":60.900000000000006},{"$f":"BO28","v":76.875},17,null,{"$f":"BJ35","v":36.665441062212679},{"$f":"BK35","v":117.48693683229351},9,null,null,null,null,null,{"$f":"BZ13+'طراحی همه الگوها'!U263","v":121.2},{"$f":"CA33","v":222.6},15,null,{"$f":"CD18","v":22.4},{"$f":"CE18","v":129.4},24,null,null,null,null,null,null,null,null,null,null,null,null,null,null,38,{"$f":"CV12+CY12*SIN(RADIANS(CU34)+CU14)","v":{"$error":"#DIV/0!"}},{"$f":"CW12+CY12*COS(RADIANS(CU34)+CU14)","v":{"$error":"#DIV/0!"}},{"$f":"IF(CV13>CV34,ATAN((CW13-CW34)/(CV13-CV34)),ATAN((CW13-CW34)/(CV34-CV13)))","v":{"$error":"#DIV/0!"}},{"$f":"IF(CV13>CV34,(CV13-CV34)/COS(CX34),(CV34-CV13)/COS(CX34))","v":{"$error":"#DIV/0!"}},null,1,2,"نقطه 16","نقطه قبل از چرخش",{"$f":"IF(DB34>DB18,IF(DA34>DA18,DA18+SQRT(POWER(DA34-DA18,2)+POWER(DB34-DB18,2))*COS(ATAN((DB34-DB18)/(DA34-DA18+0.000123))+DB16),DA18-SQRT(POWER(DA34-DA18,2)+POWER(DB34-DB18,2))*COS(ATAN((DB34-DB18)/(DA18-DA34+0.000123))-DB16)),IF(DA34>DA18,DA18+SQRT(POWER(DA34-DA18,2)+POWER(DB34-DB18,2))*COS(ATAN((DB18-DB34)/(DA34-DA18+0.000123))-DB16),DA18-SQRT(POWER(DA34-DA18,2)+POWER(DB34-DB18,2))*COS(ATAN((DB18-DB34)/(DA18-DA34+0.000123))+DB16)))","v":0.61824523267144293},{"$f":"IF(DB34>DB18,IF(DA34>DA18,DB18+SQRT(POWER(DA34-DA18,2)+POWER(DB34-DB18,2))*SIN(ATAN((DB34-DB18)/(DA34-DA18+0.000123))+DB16),DB18+SQRT(POWER(DA34-DA18,2)+POWER(DB34-DB18,2))*SIN(ATAN((DB34-DB18)/(DA18-DA34+0.000123))-DB16)),IF(DA34>DA18,DB18-SQRT(POWER(DA34-DA18,2)+POWER(DB34-DB18,2))*SIN(ATAN((DB18-DB34)/(DA34-DA18+0.000123))-DB16),DB18-SQRT(POWER(DA34-DA18,2)+POWER(DB34-DB18,2))*SIN(ATAN((DB18-DB34)/(DA18-DA34+0.000123))+DB16)))","v":0.69874634779839551},"نقطه چرخیده",null,"متغیر ورودی پهنا","a20",{"$f":"#REF!","v":{"$error":"#REF!"}},"(سانتیمتر)",null,null,{"$f":"DO33+DN11","v":-54},-0.94247779607693793,{"$f":"DV13+DV10*COS(DP34)","v":{"$error":"#REF!"}},{"$f":"DW13-DV10*SIN(DP34)","v":{"$error":"#REF!"}},{"$f":"SQRT(POWER((DV12-DQ34),2)+POWER((DW12-DR34),2))","v":{"$error":"#REF!"}},{"$f":"ABS(DV9-DS34)","v":{"$error":"#REF!"}},null,null,null,null,"قرینه نقطه نسبت به خط با داشتن دو نقطه از یک خط",null,null,null,null,null,null,null,null,null,{"$f":"-EE34+EJ9","v":0},0]
[null,null,null,null,null,{"$f":"F33+'طراحی همه الگوها'!U178","v":17},{"$f":"G33","v":175.7},"j3",null,{"$f":"F41","v":7.1},{"$f":"G41","v":122.6},"j10",null,null,null,null,null,null,null,null,null,"مولفه افقی نقطه 1",{"$f":"0","v":0},null,{"$f":"Y14","v":14.8},{"$f":"Z14-'طراحی همه الگوها'!U206","v":174.7},22,null,null,null,null,null,"s20",{"$f":"AH25-0.25*'متغیرها '!U84*SIN(AH15)","v":63.25722206826422},{"$f":"AI25-0.25*'متغیرها '!U84*COS(AH15)","v":128.49693927209267},null,{"$f":"AH34","v":77.923552177227947},{"$f":"AI34","v":128.2984798684254},"s19",null,null,null,null,null,null,null,null,null,"زاویه مچ",15,null,{"$f":"AX30+'طراحی همه الگوها'!U224","v":128.80000000000001},{"$f":"AX31","v":122.69999999999999},18,null,{"$f":"BD13","v":177.5},{"$f":"BE13","v":132.69999999999999},13,null,{"$f":"BH37-BL45*SIN(BL46-RADIANS(45)+BL42)","v":24.339039702253373},9,{"$f":"BJ37-BL40*SIN(BL46-RADIANS(45)+BL42)","v":36.665441062212679},{"$f":"BK37+BL40*COS(BL46-RADIANS(45)+BL42)","v":117.48693683229351},{"$f":"BL37+BL45*COS(BL46-RADIANS(45)+BL42)","v":123.78959434745359},null,null,null,null,null,null,null,null,null,null,null,null,null,null,null,null,null,null,null,null,null,null,null,null,null,{"$f":"CI18","v":55.458742324431782},{"$f":"CJ18","v":113.43432236243866},"s''10",null,null,null,null,null,null,40,{"$f":"CV12+CY12*SIN(RADIANS(CU35)+CU14)","v":{"$error":"#DIV/0!"}},{"$f":"CW12+CY12*COS(RADIANS(CU35)+CU14)","v":{"$error":"#DIV/0!"}},{"$f":"IF(CV13>CV35,ATAN((CW13-CW35)/(CV13-CV35)),ATAN((CW13-CW35)/(CV35-CV13)))","v":{"$error":"#DIV/0!"}},{"$f":"IF(CV13>CV35,(CV13-CV35)/COS(CX35),(CV35-CV13)/COS(CX35))","v":{"$error":"#DIV/0!"}},null,null,null,null,null,null,null,null,null,"متغیر ورودی طول","a21",1,null,null,null,{"$f":"DO34+DN11","v":-52},-0.90757121103705141,{"$f":"DV13+DV10*COS(DP35)","v":{"$error":"#REF!"}},{"$f":"DW13-DV10*SIN(DP35)","v":{"$error":"#REF!"}},{"$f":"SQRT(POWER((DV12-DQ35),2)+POWER((DW12-DR35),2))","v":{"$error":"#REF!"}},{"$f":"ABS(DV9-DS35)","v":{"$error":"#REF!"}},null,"مولفه افقی","مولفه عمودی","اسم نقطه ورودی",null,null,null,null,null,null,null,null,null,null,{"$f":"-EE35+EJ9","v":0},0]
[null,null,null,null,null,{"$f":"'طراحی همه الگوها'!U178+'طراحی همه الگوها'!U177+F33","v":83.7},{"$f":"G33","v":175.7},"j5",null,{"$f":"F40","v":5},{"$f":"G40","v":122.6},"j9",null,null,null,null,null,null,null,null,null,"نوک سر تا مچ دست شبیه ساز  a3",{"$f":"1.03*(SQRT(POWER(0.5*H168,2)+POWER((0.47*'متغیرها '!U85+H167*SIN('متغیرها '!B245)),2)))+'متغیرها '!U83","v":94.44710907490267},null,null,null,null,null,null,null,null,null,null,null,null,null,null,null,null,null,null,null,null,null,{"$f":"AS34","v":46.916892407698292},{"$f":"AT34","v":100.76296884357572},"s'12",null," شبیه سازαk1",{"$f":"F423","v":1.3792532302284501},null,{"$f":"AX30+'طراحی همه الگوها'!U224","v":128.80000000000001},{"$f":"AX31-'طراحی همه الگوها'!U226","v":108.79999999999998},20,null,null,null,null,null,{"$f":"BJ29+W36*COS(RADIANS(45))","v":71.78419129032919},10,{"$f":"BJ29+'طراحی همه الگوها'!U236*COS(RADIANS(45))","v":71.750880144010097},{"$f":"BK29-'طراحی همه الگوها'!U236*SIN(RADIANS(45))","v":108.94911985598991},{"$f":"BK29-W36*SIN(RADIANS(45))","v":108.9158087096708},null,{"$f":"BJ36","v":71.750880144010097},{"$f":"BK36","v":108.94911985598991},10,null,{"$f":"BJ35","v":36.665441062212679},{"$f":"BK35","v":117.48693683229351},9,null,null,null,null,null,{"$f":"BZ31+'طراحی همه الگوها'!U260","v":56.1},{"$f":"CA31","v":114.1},16,null,{"$f":"CD19","v":44.9},{"$f":"CA31","v":114.1},25,null,null,null,null,null,{"$f":"CI19","v":63.717749528690661},{"$f":"CJ19","v":105.17531515817979},"k4 شبیه ساز",null,null,null,null,null,null,42,{"$f":"CV12+CY12*SIN(RADIANS(CU36)+CU14)","v":{"$error":"#DIV/0!"}},{"$f":"CW12+CY12*COS(RADIANS(CU36)+CU14)","v":{"$error":"#DIV/0!"}},{"$f":"IF(CV13>CV36,ATAN((CW13-CW36)/(CV13-CV36)),ATAN((CW13-CW36)/(CV36-CV13)))","v":{"$error":"#DIV/0!"}},{"$f":"IF(CV13>CV36,(CV13-CV36)/COS(CX36),(CV36-CV13)/COS(CX36))","v":{"$error":"#DIV/0!"}},null,null,null,null,null,null,null,null,null,null,null,"ماکزیمم متغیر ورودی  ضریب طول",1,null,null,{"$f":"DO35+DN11","v":-50},-0.87266462599716477,{"$f":"DV13+DV10*COS(DP36)","v":{"$error":"#REF!"}},{"$f":"DW13-DV10*SIN(DP36)","v":{"$error":"#REF!"}},{"$f":"SQRT(POWER((DV12-DQ36),2)+POWER((DW12-DR36),2))","v":{"$error":"#REF!"}},{"$f":"ABS(DV9-DS36)","v":{"$error":"#REF!"}},null,0,0,1,"نقطه اول خط تقارن","نقاط قرینه شده نسبت به خط تقارن",null,null,null,null,null,null,null,null,{"$f":"-EE36+EJ9","v":0},0]
[null,null,null,null,null,{"$f":"'طراحی همه الگوها'!U179+F33","v":10.7},{"$f":"G33","v":175.7},"j6",null,null,null,null,null,null,null,null,null,null,null,null,null,null,null,null,null,null,null,null,null,null,null,null,"محاسبات طراحی چادر 2",null,null,null,{"$f":"AK35","v":77.923552177227947},{"$f":"AL35","v":128.2984798684254},"s19",null,null,null,null,null,{"$f":"AP16","v":57.523494125496505},{"$f":"AQ16","v":111.36957056137393},"s'10",null,"(k4 →k5)شبیه ساز",{"$f":"F425","v":9.236486543201794},null,{"$f":"AX30","v":120},{"$f":"AX31-'طراحی همه الگوها'!U225","v":107.69999999999999},19,null,{"$f":"AZ35","v":128.80000000000001},{"$f":"BA35","v":122.69999999999999},18,null,{"$f":"BH36-'متغیرها '!U84*COS(RADIANS(45))","v":59.409822619564608},11,{"$f":"BJ36-'طراحی همه الگوها'!U237*COS(RADIANS(45))","v":61.214989104330542},{"$f":"BK36-'طراحی همه الگوها'!U237*SIN(RADIANS(45))","v":98.413228816310351},{"$f":"BL36-'متغیرها '!U84*SIN(RADIANS(45))","v":96.541440038906217},null,null,null,null,null,{"$f":"BJ34","v":74.49804985393601},{"$f":"BK34","v":13.542698457973231},8,null,null,null,null,null,{"$f":"BZ36","v":56.1},{"$f":"CA31+'طراحی همه الگوها'!U261","v":137.19999999999999},17,null,{"$f":"CD19","v":44.9},{"$f":"CE19","v":133.29999999999998},26,null,null,null,null,null,null,null,null,null,null,null,null,null,null,44,{"$f":"CV12+CY12*SIN(RADIANS(CU37)+CU14)","v":{"$error":"#DIV/0!"}},{"$f":"CW12+CY12*COS(RADIANS(CU37)+CU14)","v":{"$error":"#DIV/0!"}},{"$f":"IF(CV13>CV37,ATAN((CW13-CW37)/(CV13-CV37)),ATAN((CW13-CW37)/(CV37-CV13)))","v":{"$error":"#DIV/0!"}},{"$f":"IF(CV13>CV37,(CV13-CV37)/COS(CX37),(CV37-CV13)/COS(CX37))","v":{"$error":"#DIV/0!"}},null,null,null,null,null,null,null,null,null,"m1",{"$f":"ATAN((-DK33+DK32)/(DL32-DL33))","v":{"$error":"#REF!"}},"m2",{"$f":"SQRT(POWER(DK32-DK33,2)+POWER(DL32-DL33,2))","v":{"$error":"#REF!"}},null,null,{"$f":"DO36+DN11","v":-48},-0.83775804095727824,{"$f":"DV13+DV10*COS(DP37)","v":{"$error":"#REF!"}},{"$f":"DW13-DV10*SIN(DP37)","v":{"$error":"#REF!"}},{"$f":"SQRT(POWER((DV12-DQ37),2)+POWER((DW12-DR37),2))","v":{"$error":"#REF!"}},{"$f":"ABS(DV9-DS37)","v":{"$error":"#REF!"}},null,{"$f":"DZ29","v":0},{"$f":"EA29","v":0},2,"نقطه دوم خط تقارن","مولفه افقی","مولفه عمودی","اسم نقطه ",null,null,null,null,null,null,{"$f":"-EE37+EJ9","v":0},0]
[null,null,null,null,null,{"$f":"F33","v":5},{"$f":"G39","v":159.69999999999999},"j7",null,{"$f":"F40","v":5},{"$f":"G40","v":122.6},"j9",null,null,null,null,null,null,null,null,null,null,null,null,null,null,null,null,null,null,null,null,"αs2",{"$f":"ATAN((AI11-AI12)/(AH12-AH11))","v":1.2743948990478848},null,null,{"$f":"AH27","v":73.038305951483679},{"$f":"AI27","v":113.37787769177545},"s11",null,null,null,null,null,null,null,null,null,"زاویه خم بودن دست",{"$f":"K390","v":26.870717190484584},null,{"$f":"AX30","v":120},{"$f":"AX31","v":122.69999999999999},17,null,null,null,null,null,null,null,null,null,null,null,null,null,null,null,null,null,null,null,null,null,null,null,null,null,null,null,null,null,null,null,null,null,null,null,{"$f":"CI27","v":46.85},{"$f":"CJ27","v":5},"s13",null,null,null,null,null,null,46,{"$f":"CV12+CY12*SIN(RADIANS(CU38)+CU14)","v":{"$error":"#DIV/0!"}},{"$f":"CW12+CY12*COS(RADIANS(CU38)+CU14)","v":{"$error":"#DIV/0!"}},{"$f":"IF(CV13>CV38,ATAN((CW13-CW38)/(CV13-CV38)),ATAN((CW13-CW38)/(CV38-CV13)))","v":{"$error":"#DIV/0!"}},{"$f":"IF(CV13>CV38,(CV13-CV38)/COS(CX38),(CV38-CV13)/COS(CX38))","v":{"$error":"#DIV/0!"}},null,null,null,null,null,null,null,null,null,"نقطه خروجی بالا","s'u9",{"$f":"DK32-DK34*COS(DJ37)","v":{"$error":"#REF!"}},{"$f":"DL32+DK34*SIN(DJ37)","v":{"$error":"#REF!"}},null,null,{"$f":"DO37+DN11","v":-46},-0.8028514559173916,{"$f":"DV13+DV10*COS(DP38)","v":{"$error":"#REF!"}},{"$f":"DW13-DV10*SIN(DP38)","v":{"$error":"#REF!"}},{"$f":"SQRT(POWER((DV12-DQ38),2)+POWER((DW12-DR38),2))","v":{"$error":"#REF!"}},{"$f":"ABS(DV9-DS38)","v":{"$error":"#REF!"}},null,0,0,3,null,{"$f":"DV38+2*(SIN(ATAN((DV37-DV36)/(DW37-DW36)))*(DW38-DW36)+COS(ATAN((DV37-DV36)/(DW37-DW36)))*(DV36-DV38))*COS(ATAN((DV37-DV36)/(DW37-DW36)))","v":{"$error":"#DIV/0!"}},{"$f":"DW38-2*(SIN(ATAN((DV37-DV36)/(DW37-DW36)))*(DW38-DW36)+COS(ATAN((DV37-DV36)/(DW37-DW36)))*(DV36-DV38))*SIN(ATAN((DV37-DV36)/(DW37-DW36)))","v":{"$error":"#DIV/0!"}},{"$f":"DX38","v":3},null,null,null,null,null,null,{"$f":"-EE38+EJ9","v":0},0]
[null,null,null,null,null,{"$f":"'طراحی همه الگوها'!U181+F33","v":7.1},{"$f":"G33-'طراحی همه الگوها'!U180","v":159.69999999999999},"j8",null,{"$f":"F38","v":5},{"$f":"G38","v":159.69999999999999},"j7",null,null,null,null,null,null,null,null,null,null,null,null,null,null,null,null,null,null,null,null,"(s2 →s3)",{"$f":"SQRT(POWER((AH12-AH11),2)+POWER((AI11-AI12),2))","v":6.140253413231739},null,null,null,null,null,null,null,null,null,null,{"$f":"AP21","v":79},{"$f":"AQ21","v":5},"s'13",null,"دست خمیده شبیه ساز k4",{"$f":"K384","v":63.717749528690661},{"$f":"L384","v":105.17531515817979},null,null,null,null,null,null,null,null,null,null,null,"j4",{"$f":"IF('متغیرها '!C25<1,'متغیرها '!C25*'متغیرها '!U59,IF('متغیرها '!C25<2,'متغیرها '!U59+('متغیرها '!C25-1)*('متغیرها '!U60-'متغیرها '!U59),IF('متغیرها '!C25<3,'متغیرها '!U60+('متغیرها '!C25-2)*(I105-'متغیرها '!U60),I105+('متغیرها '!C25-3)*(H127-H126))))","v":0},null,null,null,null,null,{"$f":"BJ29","v":5},{"$f":"BK29","v":175.7},1,null,null,null,null,null,{"$f":"BZ13","v":0},{"$f":"CA33-BW43","v":210.63},"19'",null,{"$f":"CD13","v":114.75},{"$f":"CA33","v":222.6},27,null,null,null,null,null,{"$f":"CI30","v":5},{"$f":"CJ30","v":5},2,null,null,null,null,null,null,48,{"$f":"CV12+CY12*SIN(RADIANS(CU39)+CU14)","v":{"$error":"#DIV/0!"}},{"$f":"CW12+CY12*COS(RADIANS(CU39)+CU14)","v":{"$error":"#DIV/0!"}},{"$f":"IF(CV13>CV39,ATAN((CW13-CW39)/(CV13-CV39)),ATAN((CW13-CW39)/(CV39-CV13)))","v":{"$error":"#DIV/0!"}},{"$f":"IF(CV13>CV39,(CV13-CV39)/COS(CX39),(CV39-CV13)/COS(CX39))","v":{"$error":"#DIV/0!"}},null,null,null,null,null,null,null,null,null,"نقطه خروجی پایین","s'd8",{"$f":"DK40-DK34*COS(DJ37)","v":{"$error":"#REF!"}},{"$f":"DL40+DK34*SIN(DJ37)","v":{"$error":"#REF!"}},null,null,{"$f":"DO38+DN11","v":-44},{"$f":"RADIANS(DO39)","v":-0.76794487087750496},{"$f":"DV13+DV10*COS(DP39)","v":{"$error":"#REF!"}},{"$f":"DW13-DV10*SIN(DP39)","v":{"$error":"#REF!"}},{"$f":"SQRT(POWER((DV12-DQ39),2)+POWER((DW12-DR39),2))","v":{"$error":"#REF!"}},{"$f":"ABS(DV9-DS39)","v":{"$error":"#REF!"}},null,0,0,4,null,{"$f":"DV39+2*(SIN(ATAN((DV37-DV36)/(DW37-DW36)))*(DW39-DW36)+COS(ATAN((DV37-DV36)/(DW37-DW36)))*(DV36-DV39))*COS(ATAN((DV37-DV36)/(DW37-DW36)))","v":{"$error":"#DIV/0!"}},{"$f":"DW39-2*(SIN(ATAN((DV37-DV36)/(DW37-DW36)))*(DW39-DW36)+COS(ATAN((DV37-DV36)/(DW37-DW36)))*(DV36-DV39))*SIN(ATAN((DV37-DV36)/(DW37-DW36)))","v":{"$error":"#DIV/0!"}},{"$f":"DX39","v":4},null,null,null,null,null,null,{"$f":"-EE39+EJ9","v":0},0]
[null,null,null,null,null,{"$f":"F33","v":5},{"$f":"G41","v":122.6},"j9",null,null,null,"انحنا",null,null,null,null,null,null,null,null,null,null,null,null,null,null,null,null,null,null,null,null,"(s2 →s14)",{"$f":"AH39*2*('متغیرها '!C10-0.5)","v":6.140253413231739},null,null,{"$f":"AK38","v":73.038305951483679},{"$f":"AL38","v":113.37787769177545},"s11",null,null,null,null,null,{"$f":"AP28","v":5},{"$f":"AQ28","v":5},"2'",null,null,null,null,null,null,null,null,null,null,null,null,null,null,null,"(9→11)",{"$f":"'متغیرها '!C29*BL45+'متغیرها '!C27*'متغیرها '!U83","v":31.088368348165737},null,null,null,null,null,{"$f":"BJ30","v":-4.5999999999999996},{"$f":"BK30","v":-7},3,null,null,null,null,null,null,null,null,null,{"$f":"CD13","v":114.75},{"$f":"CE13","v":168.35},28,null,null,null,null,null,null,null,null,null,null,null,null,null,null,50,{"$f":"CV12+CY12*SIN(RADIANS(CU40)+CU14)","v":{"$error":"#DIV/0!"}},{"$f":"CW12+CY12*COS(RADIANS(CU40)+CU14)","v":{"$error":"#DIV/0!"}},{"$f":"IF(CV13>CV40,ATAN((CW13-CW40)/(CV13-CV40)),ATAN((CW13-CW40)/(CV40-CV13)))","v":{"$error":"#DIV/0!"}},{"$f":"IF(CV13>CV40,(CV13-CV40)/COS(CX40),(CV40-CV13)/COS(CX40))","v":{"$error":"#DIV/0!"}},null,null,null,null,null,null,null,null,null,"نقطه خروجی میانه",null,{"$f":"DK32-DK35*DL37*SIN(DJ37)/DL36","v":{"$error":"#REF!"}},{"$f":"DL32-DK35*DL37*COS(DJ37)/DL36","v":{"$error":"#REF!"}},null,null,{"$f":"DO39+DN11","v":-42},-0.73303828583761843,{"$f":"DV13+DV10*COS(DP40)","v":{"$error":"#REF!"}},{"$f":"DW13-DV10*SIN(DP40)","v":{"$error":"#REF!"}},{"$f":"SQRT(POWER((DV12-DQ40),2)+POWER((DW12-DR40),2))","v":{"$error":"#REF!"}},{"$f":"ABS(DV9-DS40)","v":{"$error":"#REF!"}},null,{"$f":"DZ30","v":0},{"$f":"EA30","v":0},5,null,{"$f":"DV40+2*(SIN(ATAN((DV37-DV36)/(DW37-DW36)))*(DW40-DW36)+COS(ATAN((DV37-DV36)/(DW37-DW36)))*(DV36-DV40))*COS(ATAN((DV37-DV36)/(DW37-DW36)))","v":{"$error":"#DIV/0!"}},{"$f":"DW40-2*(SIN(ATAN((DV37-DV36)/(DW37-DW36)))*(DW40-DW36)+COS(ATAN((DV37-DV36)/(DW37-DW36)))*(DV36-DV40))*SIN(ATAN((DV37-DV36)/(DW37-DW36)))","v":{"$error":"#DIV/0!"}},{"$f":"DX40","v":5},null,null,null,null,null,null,{"$f":"-EE40+EJ9","v":0},0]
[null,null,null,null,null,{"$f":"F39","v":7.1},{"$f":"G38-'طراحی همه الگوها'!U182","v":122.6},"j10",null,{"$f":"F36","v":83.7},{"$f":"G36","v":175.7},"j5",null,null,null,null,null,null,null,null,null,null,null,null,null,null,null,null,null,null,null,null,"شیفت افقی کل ",{"$f":"'متغیرها '!C51","v":5},null,null,{"$f":"AH26","v":59.173218455978002},{"$f":"AI26","v":116.02350592377861},"s12",null,null,null,null,null,null,null,null,null,null,null,null,null,null,null,null,null,null,null,null,null,null,null,"(8→9)",{"$f":"BL37+'متغیرها '!C29*BL45*COS(BL46-RADIANS(45)+BL42)-BK31","v":110.61514805488937},null,null,null,null,null,null,null,null,null,null,null,null,null,null,null,null,null,null,null,null,null,null,null,null,null,{"$f":"CL39","v":5},{"$f":"CM39","v":5},2,null,null,null,null,null,null,52,{"$f":"CV12+CY12*SIN(RADIANS(CU41)+CU14)","v":{"$error":"#DIV/0!"}},{"$f":"CW12+CY12*COS(RADIANS(CU41)+CU14)","v":{"$error":"#DIV/0!"}},{"$f":"IF(CV13>CV41,ATAN((CW13-CW41)/(CV13-CV41)),ATAN((CW13-CW41)/(CV41-CV13)))","v":{"$error":"#DIV/0!"}},{"$f":"IF(CV13>CV41,(CV13-CV41)/COS(CX41),(CV41-CV13)/COS(CX41))","v":{"$error":"#DIV/0!"}},null,null,null,null,null,null,null,null,null,null,null,null,null,null,null,{"$f":"DO40+DN11","v":-40},-0.69813170079773179,{"$f":"DV13+DV10*COS(DP41)","v":{"$error":"#REF!"}},{"$f":"DW13-DV10*SIN(DP41)","v":{"$error":"#REF!"}},{"$f":"SQRT(POWER((DV12-DQ41),2)+POWER((DW12-DR41),2))","v":{"$error":"#REF!"}},{"$f":"ABS(DV9-DS41)","v":{"$error":"#REF!"}},null,null,null,null,null,null,null,null,null,null,null,null,null,null,{"$f":"-EE41+EJ9","v":0},0]
[null,null,null,null,null,{"$f":"F35+'طراحی همه الگوها'!U183","v":27.3},{"$f":"G33","v":175.7},"j11",null,{"$f":"F45","v":81.698999999999998},161.02599999999998,"j5'",null,null,null,null,null,null,null,null,null,null,null,null,null,null,null,null,null,null,null,null,"شیفت عمودی کل",{"$f":"'متغیرها '!C52","v":5},null,null,null,null,null,null,null,null,null,null,{"$f":"AS40","v":5},{"$f":"AT40","v":5},"2'",null,null,null,null,null,null,null,null,null,null,null,null,null,null,null,"α2",{"$f":"'متغیرها '!B245","v":0.31641567605125198},null,null,null,null,null,{"$f":"BN28","v":46.5},{"$f":"BO28","v":76.875},15,null,"j4",{"$f":"IF('متغیرها '!C37<1,'متغیرها '!C37*'متغیرها '!U59,IF('متغیرها '!C37<2,'متغیرها '!U59+('متغیرها '!C37-1)*('متغیرها '!U60-'متغیرها '!U59),IF('متغیرها '!C37<3,'متغیرها '!U60+('متغیرها '!C37-2)*(I105-'متغیرها '!U60),I105+('متغیرها '!C37-3)*(H127-H126))))","v":0},null,null,null,null,null,null,null,null,null,null,null,null,null,null,{"$f":"CI31","v":5},{"$f":"CJ31","v":110.15991329666905},"s''12",null,null,null,null,null,null,54,{"$f":"CV12+CY12*SIN(RADIANS(CU42)+CU14)","v":{"$error":"#DIV/0!"}},{"$f":"CW12+CY12*COS(RADIANS(CU42)+CU14)","v":{"$error":"#DIV/0!"}},{"$f":"IF(CV13>CV42,ATAN((CW13-CW42)/(CV13-CV42)),ATAN((CW13-CW42)/(CV42-CV13)))","v":{"$error":"#DIV/0!"}},{"$f":"IF(CV13>CV42,(CV13-CV42)/COS(CX42),(CV42-CV13)/COS(CX42))","v":{"$error":"#DIV/0!"}},null,null,null,null,null,null,null,null,null,null,null,null,null,null,null,{"$f":"DO41+DN11","v":-38},-0.66322511575784526,{"$f":"DV13+DV10*COS(DP42)","v":{"$error":"#REF!"}},{"$f":"DW13-DV10*SIN(DP42)","v":{"$error":"#REF!"}},{"$f":"SQRT(POWER((DV12-DQ42),2)+POWER((DW12-DR42),2))","v":{"$error":"#REF!"}},{"$f":"ABS(DV9-DS42)","v":{"$error":"#REF!"}},null,null,null,null,"یافتن راس سوم مثلث با داشتن دو راس و یک ضلع و یک زاویه",null,null,null,null,null,null,null,null,null,{"$f":"-EE42+EJ9","v":0},{"$f":"EF42","v":0}]
[null,null,null,null,null,{"$f":"F35","v":17},{"$f":"G33-'طراحی همه الگوها'!U184","v":167.1},"j12",null,73.694999999999993,142.35,"j5''",null,null,null,null,null,null,null,null,null,null,null,null,null,null,null,null,null,null,null,null,"j4",{"$f":"IF('متغیرها '!C9<1,'متغیرها '!C9*'متغیرها '!U59,IF('متغیرها '!C9<2,'متغیرها '!U59+('متغیرها '!C9-1)*('متغیرها '!U60-'متغیرها '!U59),IF('متغیرها '!C9<3,'متغیرها '!U60+('متغیرها '!C9-2)*(I105-'متغیرها '!U60),I105+('متغیرها '!C9-3)*(H127-H126))))","v":0},"چادر 2",null,{"$f":"AK41","v":59.173218455978002},{"$f":"AL41","v":116.02350592377861},"s12",null,null,null,null,null,{"$f":"AH13","v":5},{"$f":"AI13","v":124.1},"خط سینه",null,null,null,null,null,null,null,null,null,null,null,null,null,null,null,"شیفت افقی مرغک",{"$f":"'متغیرها '!C33*0.5*('متغیرها '!U72-'متغیرها '!U73)","v":46.5},null,null,null,null,null,{"$f":"BN32","v":53.7},{"$f":"BO32","v":98.775000000000006},18,null,"(14 →19')",{"$f":"AH45+0.1*'متغیرها '!C40","v":11.969999999999999},null,null,"رسم چادر شماره 5   برای پرینت",null,null,null,null,null,null,null,null,null,null,null,null,null,null,null,null,null,null,null,null,56,{"$f":"CV12+CY12*SIN(RADIANS(CU43)+CU14)","v":{"$error":"#DIV/0!"}},{"$f":"CW12+CY12*COS(RADIANS(CU43)+CU14)","v":{"$error":"#DIV/0!"}},{"$f":"IF(CV13>CV43,ATAN((CW13-CW43)/(CV13-CV43)),ATAN((CW13-CW43)/(CV43-CV13)))","v":{"$error":"#DIV/0!"}},{"$f":"IF(CV13>CV43,(CV13-CV43)/COS(CX43),(CV43-CV13)/COS(CX43))","v":{"$error":"#DIV/0!"}},null,null,null,null,null,null,null,null,null,null,null,null,null,null,null,{"$f":"DO42+DN11","v":-36},-0.62831853071795862,{"$f":"DV13+DV10*COS(DP43)","v":{"$error":"#REF!"}},{"$f":"DW13-DV10*SIN(DP43)","v":{"$error":"#REF!"}},{"$f":"SQRT(POWER((DV12-DQ43),2)+POWER((DW12-DR43),2))","v":{"$error":"#REF!"}},{"$f":"ABS(DV9-DS43)","v":{"$error":"#REF!"}},null,"اطلاعات  ورودی",null,null,null,null,null,null,null,null,null,null,null,null,{"$f":"-EE43+EJ9","v":0},0]
[null,null,null,null,null,{"$f":"F35","v":17},{"$f":"G34","v":108.99999999999999},"j13",null,57.02,124.34099999999998,"j5'''",null,null,null,null,null,null,null,null,null,null,null,null,null,null,null,null,null,null,null,null,"(j1 → j2)",{"$f":"ROUND(G19+0.1*'متغیرها '!U85-AH43,1)","v":170.7},null,null,{"$f":"AH25","v":64.618556605692959},{"$f":"AI25","v":132.65475038819736},"s10",null,null,null,null,null,null,null,null,null,null,null,null,null,null,null,null,null,null,null,null,null,null,null,"شیفت عمودی مرغک",{"$f":"IF('متغیرها '!C34<1,'متغیرها '!C34*'متغیرها '!U59,IF('متغیرها '!C34<2,'متغیرها '!U59+('متغیرها '!C34-1)*('متغیرها '!U60-'متغیرها '!U59),IF('متغیرها '!C34<3,'متغیرها '!U60+('متغیرها '!C34-2)*(I105-'متغیرها '!U60),I105+('متغیرها '!C34-3)*(H127-H126))))+'طراحی همه الگوها'!U245","v":76.875},null,null,null,null,null,null,null,null,null,"شیفت عمودی الگو دسته",7,null,null,null,"صاف","برای پرینت",null,null,"انحنا","برای پرینت",null,null,null,null,null,{"$f":"CL42","v":5},{"$f":"CM42","v":110.15991329666905},"s''12",null,null,null,null,null,null,58,{"$f":"CV12+CY12*SIN(RADIANS(CU44)+CU14)","v":{"$error":"#DIV/0!"}},{"$f":"CW12+CY12*COS(RADIANS(CU44)+CU14)","v":{"$error":"#DIV/0!"}},{"$f":"IF(CV13>CV44,ATAN((CW13-CW44)/(CV13-CV44)),ATAN((CW13-CW44)/(CV44-CV13)))","v":{"$error":"#DIV/0!"}},{"$f":"IF(CV13>CV44,(CV13-CV44)/COS(CX44),(CV44-CV13)/COS(CX44))","v":{"$error":"#DIV/0!"}},null,null,null,null,null,null,null,null,null,null,null,null,null,null,null,{"$f":"DO43+DN11","v":-34},-0.59341194567807209,{"$f":"DV13+DV10*COS(DP44)","v":{"$error":"#REF!"}},{"$f":"DW13-DV10*SIN(DP44)","v":{"$error":"#REF!"}},{"$f":"SQRT(POWER((DV12-DQ44),2)+POWER((DW12-DR44),2))","v":{"$error":"#REF!"}},{"$f":"ABS(DV9-DS44)","v":{"$error":"#REF!"}},null,"مولفه افقی","مولفه عمودی","اسم نقطه ",null,"محاسبات ",null,null,null,null,null,null,null,null,{"$f":"-EE44+EJ9","v":0},0]
[null,null,null,null,null,{"$f":"F44+0.97*(F36-F44)","v":81.698999999999998},{"$f":"G44+0.78*(G36-G44)","v":161.02599999999998},"j5'",null,33.674999999999997,111.66799999999999,"j5''''",null,null,null,null,null,null,null,null,null,null,null,null,null,null,null,null,null,null,null,null,"(j1 → j3)",{"$f":"0.21*G13","v":11.969999999999999},"بدون انتخاب",null,null,null,null,null,null,null,null,null,null,null,null,null,null,null,null,null,null,null,null,null,null,null,null,null,null,null,"شبیه ساز آستین(3→19)",{"$f":"BL516","v":44.411954783093911},null,null,null,null,null,{"$f":"BN34","v":60.900000000000006},{"$f":"BO34","v":76.875},17,null,"شیفت عمودی الگو دسته برای پرینت",{"$f":"-'متغیرها '!U56","v":-103},null,null,{"$f":"BZ13+'طراحی همه الگوها'!U260+'طراحی همه الگوها'!U262","v":95.4},{"$f":"CA25+BW45","v":4.0999999999999943},13,null,{"$f":"BZ45","v":95.4},{"$f":"CA45","v":4.0999999999999943},13,null,null,null,null,null,{"$f":"CI32","v":5},{"$f":"CJ32","v":114.25991329666904},"s'12",null,null,null,null,null,null,60,{"$f":"CV12+CY12*SIN(RADIANS(CU45)+CU14)","v":{"$error":"#DIV/0!"}},{"$f":"CW12+CY12*COS(RADIANS(CU45)+CU14)","v":{"$error":"#DIV/0!"}},{"$f":"IF(CV13>CV45,ATAN((CW13-CW45)/(CV13-CV45)),ATAN((CW13-CW45)/(CV45-CV13)))","v":{"$error":"#DIV/0!"}},{"$f":"IF(CV13>CV45,(CV13-CV45)/COS(CX45),(CV45-CV13)/COS(CX45))","v":{"$error":"#DIV/0!"}},null,null,null,null,null,null,null,null,null,null,null,null,null,null,null,{"$f":"DO44+DN11","v":-32},-0.55850536063818546,{"$f":"DV13+DV10*COS(DP45)","v":{"$error":"#REF!"}},{"$f":"DW13-DV10*SIN(DP45)","v":{"$error":"#REF!"}},{"$f":"SQRT(POWER((DV12-DQ45),2)+POWER((DW12-DR45),2))","v":{"$error":"#REF!"}},{"$f":"ABS(DV9-DS45)","v":{"$error":"#REF!"}},null,5,50,1,"راس بالا",{"$f":"SQRT(POWER(DV46-DV45,2)+POWER(DW45-DW46,2))","v":10.198039027185569},"m2",null,null,null,null,null,null,null,{"$f":"-EE45+EJ9","v":0},0]
[null,null,null,null,null,{"$f":"F44+0.85*(F36-F44)","v":73.694999999999993},{"$f":"G44+0.5*(G36-G44)","v":142.35},"j5''",null,{"$f":"F44","v":17},{"$f":"G44","v":108.99999999999999},"j13",null,null,null,null,null,null,null,null,null,null,null,null,null,null,null,null,null,null,null,null,null,null,null,null,{"$f":"AH28","v":78},{"$f":"AI28","v":5},"s13",null,null,null,null,null,null,null,null,null,null,null,null,null,null,null,null,null,null,null,null,null,null,null," شبیه سازαk1",{"$f":"F423","v":1.3792532302284501},null,null,null,null,null,{"$f":"BN30","v":53.7},{"$f":"BO30","v":54.975000000000001},19,null,null,null,null,null,{"$f":"BZ13","v":0},{"$f":"CA45","v":4.0999999999999943},12,null,{"$f":"CD45+0.45*(CD49-CD45)","v":107.01},{"$f":"CE45+0.25*(CE49-CE45)","v":31.224999999999994},"13'",null,null,null,null,null,null,null,null,null,null,null,null,null,null,62,{"$f":"CV12+CY12*SIN(RADIANS(CU46)+CU14)","v":{"$error":"#DIV/0!"}},{"$f":"CW12+CY12*COS(RADIANS(CU46)+CU14)","v":{"$error":"#DIV/0!"}},{"$f":"IF(CV13>CV46,ATAN((CW13-CW46)/(CV13-CV46)),ATAN((CW13-CW46)/(CV46-CV13)))","v":{"$error":"#DIV/0!"}},{"$f":"IF(CV13>CV46,(CV13-CV46)/COS(CX46),(CV46-CV13)/COS(CX46))","v":{"$error":"#DIV/0!"}},null,null,null,null,null,null,null,null,null,null,null,null,null,null,null,{"$f":"DO45+DN11","v":-30},-0.52359877559829882,{"$f":"DV13+DV10*COS(DP46)","v":{"$error":"#REF!"}},{"$f":"DW13-DV10*SIN(DP46)","v":{"$error":"#REF!"}},{"$f":"SQRT(POWER((DV12-DQ46),2)+POWER((DW12-DR46),2))","v":{"$error":"#REF!"}},{"$f":"ABS(DV9-DS46)","v":{"$error":"#REF!"}},null,7,40,2,"راس پایین",{"$f":"ATAN((DV46-DV45)/(DW45-DW46))","v":0.19739555984988078},"γ18",null,null,null,null,null,null,null,{"$f":"-EE46+EJ9","v":0},0]
[null,null,null,null,null,{"$f":"F44+0.6*(F36-F44)","v":57.02},{"$f":"G44+0.23*(G36-G44)","v":124.34099999999998},"j5'''",null,{"$f":"F34","v":5},{"$f":"G34","v":108.99999999999999},"j2",null,null,null,null,null,null,null,null,null,null,null,null,null,null,null,null,null,null,null,null,null,null,null,null,{"$f":"AH17","v":5},{"$f":"AI28","v":5},2,null,null,null,null,null,null,null,null,null,null,null,null,null,null,null,null,null,null,null,null,null,null,null,null,null,null,null,null,null,null,null,null,null,null,null,null,null,null,{"$f":"BZ13","v":0},{"$f":"CA46+'طراحی همه الگوها'!U258","v":18.499999999999993},18,null,{"$f":"CD45+0.75*(CD49-CD45)","v":114.75},{"$f":"CE45+0.5*(CE49-CE45)","v":58.349999999999994},"13''",null,null,null,null,null,{"$f":"CL45","v":5},{"$f":"CM45","v":114.25991329666904},"s'12",null,null,null,null,null,null,64,{"$f":"CV12+CY12*SIN(RADIANS(CU47)+CU14)","v":{"$error":"#DIV/0!"}},{"$f":"CW12+CY12*COS(RADIANS(CU47)+CU14)","v":{"$error":"#DIV/0!"}},{"$f":"IF(CV13>CV47,ATAN((CW13-CW47)/(CV13-CV47)),ATAN((CW13-CW47)/(CV47-CV13)))","v":{"$error":"#DIV/0!"}},{"$f":"IF(CV13>CV47,(CV13-CV47)/COS(CX47),(CV47-CV13)/COS(CX47))","v":{"$error":"#DIV/0!"}},null,null,null,null,null,null,null,null,null,null,null,null,null,null,null,{"$f":"DO46+DN11","v":-28},-0.48869219055841229,{"$f":"DV13+DV10*COS(DP47)","v":{"$error":"#REF!"}},{"$f":"DW13-DV10*SIN(DP47)","v":{"$error":"#REF!"}},{"$f":"SQRT(POWER((DV12-DQ47),2)+POWER((DW12-DR47),2))","v":{"$error":"#REF!"}},{"$f":"ABS(DV9-DS47)","v":{"$error":"#REF!"}},null,10,"m4","ضلع بالا",null,{"$f":"RADIANS(90)-RADIANS(DZ46)-DV48","v":1.829150512145848},"m5",null,null,null,null,null,null,null,{"$f":"-EE47+EJ9","v":0},0]
[null,null,null,null,null,{"$f":"F44+0.25*(F36-F44)","v":33.674999999999997},{"$f":"G44+0.04*(G36-G44)","v":111.66799999999999},"j5''''",null,null,null,null,null,null,null,null,null,null,null,null,null,null,null,null,null,null,null,null,null,null,null,null,null,null,null,null,null,null,null,null,null,null,null,null,null,null,null,null,null,null,null,null,null,null,null,null,null,null,null,null,null,null,null,null,null,null,null,null,null,{"$f":"BN28","v":46.5},{"$f":"BO28","v":76.875},15,null,null,null,null,null,{"$f":"BZ13","v":0},{"$f":"CA47+'طراحی همه الگوها'!U259","v":112.6},14,null,{"$f":"CD45+0.95*(CD49-CD45)","v":119.91},{"$f":"CE45+0.8*(CE49-CE45)","v":90.9},"13'''",null,null,null,null,null,{"$f":"CI23","v":24.407499999999999},{"$f":"CJ23","v":114.25991329666904},"s12",null,null,null,null,null,null,"بهینه α",{"$f":"IF(CY13<CY16,CU16,IF(CY13<CY17,CU17,IF(CY13<CY18,CU18,IF(CY13<CY19,CU19,IF(CY13<CY20,CU20,IF(CY13<CY21,CU21,IF(CY13<CY22,CU22,IF(CY13<CY23,CU23,IF(CY13<CY24,CU24,IF(CY13<CY25,CU25,IF(CY13<CY26,CU26,IF(CY13<CY27,CU27,IF(CY13<CY28,CU28,IF(CY13<CY29,CU29,IF(CY13<CY30,CU30,IF(CY13<CY31,CU31,IF(CY13<CY32,CU32,IF(CY13<CY33,CU33,IF(CY13<CY34,CU34,IF(CY13<CY35,CU35,IF(CY13<CY36,CU36,IF(CY13<CY37,CU37,IF(CY13<CY38,CU38,IF(CY13<CY39,CU39,IF(CY13<CY40,CU40,IF(CY13<CY41,CU41,IF(CY13<CY42,CU42,IF(CY13<CY43,CU43,IF(CY13<CY44,CU44,IF(CY13<CY45,CU45,IF(CY13<CY46,CU46,CU47)))))))))))))))))))))))))))))))","v":{"$error":"#DIV/0!"}},{"$f":"RADIANS(CV48)","v":{"$error":"#DIV/0!"}},"c21",{"$f":"IF(CV13>CV50,ATAN((CW13-CW50)/(CV13-CV50)),ATAN((CW13-CW50)/(CV50-CV13)))","v":{"$error":"#DIV/0!"}},null,null,null,null,null,null,null,null,null,null,null,null,null,null,null,{"$f":"DO47+DN11","v":-26},-0.4537856055185257,{"$f":"DV13+DV10*COS(DP48)","v":{"$error":"#REF!"}},{"$f":"DW13-DV10*SIN(DP48)","v":{"$error":"#REF!"}},{"$f":"SQRT(POWER((DV12-DQ48),2)+POWER((DW12-DR48),2))","v":{"$error":"#REF!"}},{"$f":"ABS(DV9-DS48)","v":{"$error":"#REF!"}},null,{"$f":"RADIANS(-15)","v":-0.26179938779914941},"m1","زاویه ضلع پایین با افق به رادیان ساعتگرزیر افق عدد مثبت",null,{"$f":"DV47*COS(DZ49)-DZ45*COS(DZ47)","v":4.2754038455317325},"m7",null,null,null,null,null,null,null,{"$f":"-EE48+EJ9","v":0},0]
[null,null,null,null,null,null,null,null,null,null,null,null,null,null,null,null,null,null,null,null,null,null,null,null,null,null,null,null,null,null,null,null,null,null,null,null,{"$f":"AK47","v":5},{"$f":"AL47","v":5},2,null,null,null,null,null,null,null,null,null,null,null,null,null,null,null,null,null,null,null,null,null,null,null,null,null,null,null,null,null,null,{"$f":"BN30","v":53.7},{"$f":"BO30","v":54.975000000000001},19,null,null,null,null,null,{"$f":"BZ13+'طراحی همه الگوها'!U263","v":121.2},{"$f":"CA48","v":112.6},15,null,{"$f":"BZ49","v":121.2},{"$f":"CA49","v":112.6},15,null,null,null,null,null,null,null,null,null,null,null,null,null,null,null,"مولفه افقی","مولفه عمودی",null,null,null,null,null,null,"پروسیجرها",null,null,null,null,null,null,null,null,null,null,{"$f":"DO48+DN11","v":-24},-0.41887902047863912,{"$f":"DV13+DV10*COS(DP49)","v":{"$error":"#REF!"}},{"$f":"DW13-DV10*SIN(DP49)","v":{"$error":"#REF!"}},{"$f":"SQRT(POWER((DV12-DQ49),2)+POWER((DW12-DR49),2))","v":{"$error":"#REF!"}},{"$f":"ABS(DV9-DS49)","v":{"$error":"#REF!"}},null,"راس سوم",null,null,null,{"$f":"ASIN(DZ50/DV47)","v":1.4030193189660189},"m8",null,null,null,null,null,null,null,{"$f":"-EE49+EJ9","v":0},0]
[null,null,null,null,null,null,null,null,null,null,null,null,null,null,null,null,null,null,null,null,null,null,null,null,null,null,null,null,null,null,null,null,null,null,null,null,{"$f":"AH13","v":5},{"$f":"AI13","v":124.1},"خط سینه",null,null,null,null,null,null,null,null,null,null,null,null,null,null,null,null,null,null,null,null,null,null,null,null,null,null,null,null,null,null,null,null,null,null,null,null,null,null,null,null,null,null,null,null,null,null,null,null,null,null,{"$f":"CL48","v":24.407499999999999},{"$f":"CM48","v":114.25991329666904},"s12",null,null,null,null,null,null,"e23",{"$f":"CV12+CY12*SIN(CW48+CU14)","v":{"$error":"#DIV/0!"}},{"$f":"CW12+CY12*COS(CW48+CU14)","v":{"$error":"#DIV/0!"}},"راس سوم ",null,null,null,null,null,null,null,null,null,null,null,null,null,null,null,null,{"$f":"DO49+DN11","v":-22},-0.38397243543875248,{"$f":"DV13+DV10*COS(DP50)","v":{"$error":"#REF!"}},{"$f":"DW13-DV10*SIN(DP50)","v":{"$error":"#REF!"}},{"$f":"SQRT(POWER((DV12-DQ50),2)+POWER((DW12-DR50),2))","v":{"$error":"#REF!"}},{"$f":"ABS(DV9-DS50)","v":{"$error":"#REF!"}},null,{"$f":"DV46+DZ48*COS(DV48)","v":11.129722992214699},{"$f":"DW46-DZ48*SIN(DV48)","v":41.106555940728171},3,null,{"$f":"DZ45*SIN(DZ47)","v":9.8595842240901757},"m9",null,null,null,null,null,null,null,{"$f":"-EE50+EJ9","v":0},0]
[null,null,null,null,null,null,null,null,null,null,"محاسبات بافت",null,null,null,null,null,null,null,null,null,null,null,null,null,null,null,null,null,null,null,null,null,null,null,null,null,null,null,null,null,null,null,null,null,null,null,null,null,null,null,null,null,null,null,null,null,null,null,null,null,null,null,null,null,null,null,null,null,null,{"$f":"BN34","v":60.900000000000006},{"$f":"BO34","v":76.875},17,null,null,null,null,null,{"$f":"CD54","v":56.1},{"$f":"CA46","v":4.0999999999999943},16,null,{"$f":"BZ47","v":0},{"$f":"CA47","v":18.499999999999993},18,null,null,null,null,null,{"$f":"CI24","v":24.407499999999999},{"$f":"CJ24","v":110.15991329666905},"41 شبیه ساز",null,null,null,null,null,null,null,null,null,null,null,null,null,null,null,null,null,null,null,null,null,null,null,null,null,null,{"$f":"DO50+DN11","v":-20},-0.3490658503988659,{"$f":"DV13+DV10*COS(DP51)","v":{"$error":"#REF!"}},{"$f":"DW13-DV10*SIN(DP51)","v":{"$error":"#REF!"}},{"$f":"SQRT(POWER((DV12-DQ51),2)+POWER((DW12-DR51),2))","v":{"$error":"#REF!"}},{"$f":"ABS(DV9-DS51)","v":{"$error":"#REF!"}},null,null,null,null,null,null,null,null,null,null,null,null,null,null,{"$f":"-EE51+EJ9","v":0},0]
[null,null,null,null,null,null,null,null,null,null,null,null,null,null,null,null,null,null,null,null,null,null,null,null,null,null,null,null,null,null,null,null,null,null,null,null,null,null,null,null,null,null,null,null,null,null,null,null,null,null,null,null,null,null,null,null,null,null,null,null,null,null,null,null,null,null,null,null,null,{"$f":"BN32","v":53.7},{"$f":"BO32","v":98.775000000000006},18,null,null,null,null,null,null,null,null,null,{"$f":"CD18","v":22.4},{"$f":"CA46+'طراحی همه الگوها'!U269","v":19.399999999999995},24,null,null,null,null,null,null,null,null,null,null,null,null,null,null,null,null,null,null,null,null,null,null,null,null,null,null,null,null,null,null,null,null,null,null,{"$f":"DO51+DN11","v":-18},-0.31415926535897931,{"$f":"DV13+DV10*COS(DP52)","v":{"$error":"#REF!"}},{"$f":"DW13-DV10*SIN(DP52)","v":{"$error":"#REF!"}},{"$f":"SQRT(POWER((DV12-DQ52),2)+POWER((DW12-DR52),2))","v":{"$error":"#REF!"}},{"$f":"ABS(DV9-DS52)","v":{"$error":"#REF!"}},null,null,null,null,null,null,null,null,null,null,null,null,null,null,{"$f":"-EE52+EJ9","v":0},0]
[null,null,null,null,"متغیرهای ورودی مربوط به ضخامت میل (متناسب با ضخامت نخ)",null,null,"متغیرهای ورودی  یقه ب ب گرد بافت همه از زیر",null,null,"متغیرهای ورودی  یقه شکاری کشباف",null,null,"  متغیر محاسبه ای یقه انگلیسی ",null,null,"متغیرهای ورودی یقه شومیزیه بافت همه از زیر",null,null,null,null,null,null,null,null,null,null,null,null,null,null,null,null,null,null,null,null,null,null,null,null,null,null,null,null,null,null,null,null,null,null,null,null,null,null,null,null,null,null,null,null,null,null,null,null,null,null,null,null,null,null,null,null,null,null,null,null,null,null,null,null,{"$f":"CD19","v":44.9},{"$f":"CA46+'طراحی همه الگوها'!U271","v":23.299999999999994},26,null,null,null,null,null,{"$f":"CL51","v":24.407499999999999},{"$f":"CM51","v":110.15991329666905},"41 شبیه ساز",null,null,null,null,null,null,null,null,null,null,null,null,null,null,null,null,null,null,null,null,null,null,null,null,null,null,null,null,null,null,null,null,null,null,null,null,null,null,null,null,null,null,null,null,null,null,{"$f":"-EE53+EJ9","v":0},0]
[null,null,null,null,"  (بدون احتساب بافت انتخابی)      a'0 ضریب تعداد رج",{"$f":"IF(F56=2,N68,IF(F56=3,O68,P68))","v":2.8},null,{"$f":"ROUND(I60*G167,1)","v":12.9},"پهنا (cm)=",null,{"$f":"ROUND(L59*(0.4*G166+0.037*H131),1)","v":6.5},"پهنا (cm)=",null,"d'3",{"$f":"'متغیرها '!C167*H124","v":4.1999999999999993},null,{"$f":"ROUND(R61*R57,1)","v":2.6},"پهنا (cm)=",null,null,null,null,null,null,null,null,null,null,null,null,null,null,null,null,null,null,null,null,null,null,null,null,null,null,null,null,null,null,null,null,null,null,null,null,null,null,null,null,null,null,null,null,null,null,null,null,null,null,null,{"$f":"BJ29","v":5},{"$f":"BK29","v":175.7},1,null,null,null,null,null,null,null,null,null,{"$f":"BZ46+'طراحی همه الگوها'!U260","v":56.1},{"$f":"CA46+'طراحی همه الگوها'!U261","v":27.199999999999996},17,null,null,null,null,null,{"$f":"CI31","v":5},{"$f":"CJ31","v":110.15991329666905},"s''12",null,null,null,null,null,null,null,null,null,null,null,null,null,null,null,null,null,null,null,null,null,null,null,null,null,null,null,null,null,null,null,null,null,null,null,null,null,null,null,null,null,null,null,null,null,null,{"$f":"-EE54+EJ9","v":0},0]
[null,null,null,null,"  (بدون احتساب بافت انتخابی)      b'0 ضریب تعداد دانه",{"$f":"IF(F56=2,N69,IF(F56=3,O69,P69))","v":1.8},null,"متغیر محاسبه ای یقه ب ب گرد",null,null,"  متغیر محاسبه ای یقه شکاری  ",null,null,"d11",{"$f":"(0.95+1.45*'متغیرها '!C164)*(0.4*G166+0.037*H131)","v":7.0663074231615131},null,{"$f":"ROUND(R62*R57,1)","v":6.2},"پهنا (cm)=",null,null,null,null,null,null,null,null,null,null,null,null,null,null,null,null,null,null,null,null,null,null,null,null,null,null,null,null,null,null,null,null,null,null,null,null,null,null,null,null,null,null,null,null,null,null,null,null,null,null,null,{"$f":"BJ31","v":13.9},{"$f":"BK31","v":5},5,null,null,null,null,null,null,null,null,null,null,null,null,null,null,null,null,null,null,null,null,null,null,null,null,null,null,null,null,null,null,null,null,null,null,null,null,null,null,null,null,null,null,null,null,null,null,null,null,null,null,null,null,null,null,null,null,null,null,null,null,null,null,null,null,null,null,{"$f":"-EE55+EJ9","v":0},0]
[null,null,null,null,"انتخاب ضخامت میل بافتنی   f1",{"$f":"'متغیرها '!C832","v":3},null,"c6",{"$f":"ROUNDUP(1.3*F54*I57,0)","v":48},null,"   a7",{"$f":"L62*L59*(0.4*G166+0.037*H131)","v":18.136855719447883},null,"d'12",{"$f":"G263-G258","v":26.528111477966462},null,"متغیر محاسبه ای شومیزیه",null,null,null,null,null,null,null,null,null,null,null,null,null,null,null,null,null,null,null,null,null,null,null,null,null,null,null,null,null,null,null,null,null,null,null,null,null,null,null,null,null,null,null,null,null,null,null,null,null,null,null,null,null,null,null,null,null,null,null,null,null,null,null,null,null,null,null,null,null,null,null,null,null,null,null,null,null,null,null,null,null,null,null,null,null,null,null,null,null,null,null,null,null,null,null,null,null,null,null,null,null,null,null,null,null,null,null,null,null,null,null,null,null,null,null,null,null,null,null,null,null,{"$f":"-EE56+EJ9","v":0},0]
[null,null,null,null,"جمع شوندگی عمودی بافت   f2",{"$f":"'متغیرها '!C833","v":0},null,"c'6",{"$f":"I60*G167","v":12.931519041324632},null,null,null,null,"d12",{"$f":"ROUND(F54*O56,0)","v":74},null,"e'1",{"$f":"(0.4*G166+0.037*H131)","v":2.9442947596506306},null,null,null,null,null,null,null,null,null,null,null,null,null,null,null,null,null,null,null,null,null,null,null,null,null,null,null,null,null,null,null,null,null,null,null,null,null,null,null,null,null,null,null,null,null,null,null,null,null,null,null,null,null,null,null,null,null,null,null,null,null,null,null,null,null,null,null,null,null,null,null,null,null,null,null,null,null,null,null,null,null,null,null,null,null,null,null,null,null,null,null,null,null,null,null,null,null,null,null,null,null,null,null,null,null,null,null,null,null,null,null,null,null,null,null,null,null,null,null,null,{"$f":"-EE57+EJ9","v":0},0]
[null,null,null,null,"جمع شوندگی افقی بافت   f3",{"$f":"'متغیرها '!C834","v":0},null,null,null,null,"متغیرهای ورودی  یقه شکاری کشباف",null,null,"d''12",{"$f":"G264+AX147","v":6.7145987812373633},null,"e''1",{"$f":"R62*R57","v":6.1830189952663241},null,null,null,null,null,null,null,null,null,null,null,null,null,null,null,null,null,null,null,null,null,null,null,null,null,null,null,null,null,null,null,null,null,null,null,null,null,null,null,null,null,null,null,null,null,null,null,null,null,null,null,null,null,null,null,null,null,null,null,null,null,null,null,null,null,null,null,null,null,null,null,null,null,null,null,null,null,null,null,null,null,null,null,null,null,null,null,null,null,null,null,null,null,null,null,null,null,null,null,null,null,null,null,null,null,null,null,null,null,null,null,null,null,null,null,null,null,null,null,null,{"$f":"-EE58+EJ9","v":0},0]
[null,null,null,null," از آستین رگلان   γ9",{"$f":"DE542","v":0.62443756389715466},null,"متغیرهای ورودی  یقه ب ب گرد بافت همه از زیر",null,null,"    ضریب پهنای یقه  (1.5 الی 3)",{"$f":"'متغیرها '!C741","v":2.2000000000000002},null,null,null,null,null,null,null,null,null,null,null,null,null,null,null,null,null,null,null,null,null,null,null,null,null,null,null,null,null,null,null,null,null,null,null,null,null,null,null,null,null,null,null,null,null,null,null,null,null,null,null,null,null,null,null,null,null,null,null,null,null,null,null,null,null,null,null,null,null,null,null,null,null,null,null,null,null,null,null,null,null,null,null,null,null,null,null,null,null,null,null,null,null,null,null,null,null,null,null,null,null,null,null,null,null,null,null,null,null,null,null,null,null,null,null,null,null,null,null,null,null,null,null,null,null,null,{"$f":"-EE59+EJ9","v":0},0]
[null,null,null,null,"γ10 از آستین رگلان",{"$f":"DE543","v":0.59244950786442807},null," ضریب پهنای یقه    (0.6 الی 1.2)",{"$f":"1.9*'متغیرها '!C761","v":1.1399999999999999},null,"یقه شکاری تا خط مرکزی جلو",null,null,"یقه انگلیسی \n بافت جودانه",null,null,"متغیرهای ورودی یقه شومیزیه بافت همه از زیر",null,null,null,null,null,null,null,null,null,null,null,null,null,null,null,null,null,null,null,null,null,null,null,null,null,null,null,null,null,null,null,null,null,null,null,null,null,null,null,null,null,null,null,null,null,null,null,null,null,null,null,null,null,null,null,null,null,null,null,null,null,null,null,null,null,null,null,null,null,null,null,null,null,null,null,null,null,null,null,null,null,null,null,null,null,null,null,null,null,null,null,null,null,null,null,null,null,null,null,null,null,null,null,null,null,null,null,null,null,null,null,null,null,null,null,null,null,null,null,null,null,{"$f":"-EE60+EJ9","v":0},0]
[null,null,null,null,null,null,null,"یقه ب ب گرد",null,null,"بافت انتخابی یقه شکاری",null,null,null,null,null,"    ضریب پهنای پایه یقه    (1 الی 2)",{"$f":"'متغیرها '!C748","v":0.9},null,null,null,null,null,null,null,null,null,null,null,null,null,null,null,null,null,null,null,null,null,null,null,null,null,null,null,null,null,null,null,null,null,null,null,null,null,null,null,null,null,null,null,null,null,null,null,null,null,null,null,null,null,null,null,null,null,null,null,null,null,null,null,null,null,null,null,null,null,null,null,null,null,null,null,null,null,null,null,null,null,null,null,null,null,null,null,null,null,null,null,null,null,null,null,null,null,null,null,null,null,null,null,null,null,null,null,null,null,null,null,null,null,null,null,null,null,null,null,null,{"$f":"-EE61+EJ9","v":0},0]
[null,null,null,null,"گشادی بالای مچ آستین (cm)     b'11",{"$f":"ROUND(DY522-DY523,0)","v":30},null,null,null,null," aa0 تعداد رج در یک سانت",{"$f":"F54+0.3*L65*F54","v":2.8},null," b'1    نوار باز شده گردن - دور تا دور گردن",{"$f":"DP680+DP681","v":20.450994112872337},null,"ضریب پهنای برگرد یقه  (1.5 الی 3)",{"$f":"'متغیرها '!C752","v":2.1},null,null,null,null,null,null,null,null,null,null,null,null,null,null,null,null,null,null,null,null,null,null,null,null,null,null,null,null,null,null,null,null,null,null,null,null,null,null,null,null,null,null,null,null,null,null,null,null,null,null,null,null,null,null,null,null,null,null,null,null,null,null,null,null,null,null,null,null,null,null,null,null,null,null,null,null,null,null,null,null,null,null,null,null,null,null,null,null,null,null,null,null,null,null,null,null,null,null,null,null,null,null,null,null,null,null,null,null,null,null,null,null,null,null,null,null,null,null,null,null,{"$f":"-EE62+EJ9","v":0},0]
[null,null,null,null,"تعداد دانه ها  در بالای مچ آستین      b'12",{"$f":"ROUND(O65*F62,0)","v":54},null,null,null,null,"تعداد دانه در یک سانت ab0 ",{"$f":"F55+0.68*L66*F55","v":3.024},null,"محاسبه شده (با احتساب بافت انتخابی) ",null,null,"یقه شومیزیه",null,null,null,null,null,null,null,null,null,null,null,null,null,null,null,null,null,null,null,null,null,null,null,null,null,null,null,null,null,null,null,null,null,null,null,null,null,null,null,null,null,null,null,null,null,null,null,null,null,null,null,null,null,null,null,null,null,null,null,null,null,null,null,null,null,null,null,null,null,null,null,null,null,null,null,null,null,null,null,null,null,null,null,null,null,null,null,null,null,null,null,null,null,null,null,null,null,null,null,null,null,null,null,null,null,null,null,null,null,null,null,null,null,null,null,null,null,null,null,null,null,{"$f":"-EE63+EJ9","v":0},0]
[null,null,null,null,"تعداد دانه های اضافه شده زیر بغل   b8",{"$f":"ROUNDUP(O65*(AX119+AX114+BI116),0)","v":11},null," b22",{"$f":"SQRT(POWER(F84,2)-POWER(F67,2))","v":39.486479949033594},null,"متغیر ورودی بافت یقه شکاری ",null,null," a0 تعداد رج در یک سانت",{"$f":"F54+0.3*F57*F54","v":2.8},null,null,null,null,null,null,null,null,null,null,null,null,null,null,null,null,null,null,null,null,null,null,null,null,null,null,null,null,null,null,null,null,null,null,null,null,null,null,null,null,null,null,null,null,null,null,null,null,null,null,null,null,null,null,null,null,null,null,null,null,null,null,null,null,null,null,null,null,null,null,null,null,null,null,null,null,null,null,null,null,null,null,null,null,null,null,null,null,null,null,null,null,null,null,null,null,null,null,null,null,null,null,null,null,null,null,null,null,null,null,null,null,null,null,null,null,null,null,null,null,null,null,null,{"$f":"-EE64+EJ9","v":0},0]
[null,null,null,null,"تعداد دانه های سرتاسر آستین در قسمت زیر بغل   b20",{"$f":"ROUNDUP(F64+O64*F80*COS(0.4*(F59+F60))+J86+0.5*F78,0)","v":77},null," b'22",{"$f":"I64*O64","v":110.56214385729406},null,"جمع شوندگی عمودی  a9  ",{"$f":"'متغیرها '!C837","v":0},null,"تعداد دانه در یک سانتb0 ",{"$f":"F55+0.68*F58*F55","v":1.8},null,null,null,null,null,null,null,null,null,null,null,null,null,null,null,null,null,null,null,null,null,null,null,null,null,null,null,null,null,null,null,null,null,null,null,null,null,null,null,null,null,null,null,null,null,null,null,null,null,null,null,null,null,null,null,null,null,null,null,null,null,null,null,null,null,null,null,null,null,null,null,null,null,null,null,null,null,null,null,null,null,null,null,null,null,null,null,null,null,null,null,null,null,null,null,null,null,null,null,null,null,null,null,null,null,null,null,null,null,null,null,null,null,null,null,null,null,null,null,null,null,null,null,{"$f":"-EE65+EJ9","v":0},0]
[null,null,null,null,"تعداد دانه های اضافه شده در کنار آستین در هر طرف b21",{"$f":"0.5*(F65-F63)","v":11.5},null," b12",{"$f":"ROUND(F63/((F62-F88)*O65),0)","v":3},null,"جمع شوندگی افقی a8",{"$f":"'متغیرها '!C838","v":1},null,null,null,null,null,null,null,null,null,null,null,null,null,null,null,null,null,null,null,null,null,null,null,null,null,null,null,null,null,null,null,null,null,null,null,null,null,null,null,null,null,null,null,null,null,null,null,null,null,null,null,null,null,null,null,null,null,null,null,null,null,null,null,null,null,null,null,null,null,null,null,null,null,null,null,null,null,null,null,null,null,null,null,null,null,null,null,null,null,null,null,null,null,null,null,null,null,null,null,null,null,null,null,null,null,null,null,null,null,null,null,null,null,null,null,null,null,null,null,null,null,null,null,null,null,null,{"$f":"-EE66+EJ9","v":0},0]
[null,null,null,null,"طول اضافه شده در کنار آستین در هر طرف b'21",{"$f":"F66/O65","v":6.3888888888888884},null,null,null,null,"جمع شوندگی عمودی  a'9  ",{"$f":"20*L65","v":0},null,"میل 2 و 2.5","میل  3 و 3.5","میل 4 و 4.5",null,null,null,null,null,null,null,null,null,null,null,null,null,null,null,null,null,null,null,null,null,null,null,null,null,null,null,null,null,null,null,null,null,null,null,null,null,null,null,null,null,null,null,null,null,null,null,null,null,null,null,null,null,null,null,null,null,null,null,null,null,null,null,null,null,null,null,null,null,null,null,null,null,null,null,null,null,null,null,null,null,null,null,null,null,null,null,null,null,null,null,null,null,null,null,null,null,null,null,null,null,null,null,null,null,null,null,null,null,null,null,null,null,null,null,null,null,null,null,null,null,null,{"$f":"-EE67+EJ9","v":0},0]
[null,null,null,null,"هر b11   رج در بافت آستین یکدانه از ابتدا و یکدانه از انتها کم شود",{"$f":"ROUND(I65/F66,0)","v":10},null,null,null,null,"جمع شوندگی افقی a'8",{"$f":"20*L66","v":20},null,3.5,2.8,2.6,"a''0",null,null,null,null,null,null,null,null,null,null,null,null,null,null,null,null,null,null,null,null,null,null,null,null,null,null,null,null,null,null,null,null,null,null,null,null,null,null,null,null,null,null,null,null,null,null,null,null,null,null,null,null,null,null,null,null,null,null,null,null,null,null,null,null,null,null,null,null,null,null,null,null,null,null,null,null,null,null,null,null,null,null,null,null,null,null,null,null,null,null,null,null,null,null,null,null,null,null,null,null,null,null,null,null,null,null,null,null,null,null,null,null,null,null,null,null,null,null,null,null,null,{"$f":"-EE68+EJ9","v":0},0]
[null,null,null,null,null,null,null,null,null,null,null,null,null,2.2999999999999998,1.8,1.7,"b''0",null,null,null,null,null,null,null,null,null,null,null,null,null,null,null,null,null,null,null,null,null,null,null,null,null,null,null,null,null,null,null,null,null,null,null,null,null,null,null,null,null,null,null,null,null,null,null,null,null,null,null,null,null,null,null,null,null,null,null,null,null,null,null,null,null,null,null,null,null,null,null,null,null,null,null,null,null,null,null,null,null,null,null,null,null,null,null,null,null,null,null,null,null,null,null,null,null,null,null,null,null,null,null,null,null,null,null,null,null,null,null,null,null,null,null,null,null,null,null,null,null,{"$f":"-EE69+EJ9","v":0},0]
[null,null,null,null,null,null,null,null,null,null,null,null,null,null,null,null,null,null,null,null,null,null,null,null,null,null,null,null,null,null,null,null,null,null,null,null,null,null,null,null,null,null,null,null,null,null,null,null,null,null,null,null,null,null,null,null,null,null,null,null,null,null,null,null,null,null,null,null,null,null,null,null,null,null,null,null,null,null,null,null,null,null,null,null,null,null,null,null,null,null,null,null,null,null,null,null,null,null,null,null,null,null,null,null,null,null,null,null,null,null,null,null,null,null,null,null,null,null,null,null,null,null,null,null,null,null,null,null,null,null,null,null,null,null,null,null,null,null,{"$f":"-EE70+EJ9","v":0},0]
[null,null,null,null,null,null,null,null,null,null,null,null,null,null,null,null,null,null,null,null,null,null,null,null,null,null,null,null,null,null,null,null,null,null,null,null,null,null,null,null,null,null,null,null,null,null,null,null,null,null,null,null,null,null,null,null,null,null,null,null,null,null,null,null,null,null,null,null,null,null,null,null,null,null,null,null,null,null,null,null,null,null,null,null,null,null,null,null,null,null,null,null,null,null,null,null,null,null,null,null,null,null,null,null,null,null,null,null,null,null,null,null,null,null,null,null,null,null,null,null,null,null,null,null,null,null,null,null,null,null,null,null,null,null,null,null,null,null,{"$f":"-EE71+EJ9","v":0},0]
[null,null,null,null,null,null,null,null,null,null,null,null,null,null,null,null,null,null,null,null,null,null,null,null,null,null,null,null,null,null,null,null,null,null,null,null,null,null,null,null,null,null,null,null,null,null,null,null,null,null,null,null,null,null,null,null,null,null,null,null,null,null,null,null,null,null,null,null,null,null,null,null,null,null,null,null,null,null,null,null,null,null,null,null,null,null,null,null,null,null,null,null,null,null,null,null,null,null,null,null,null,null,null,null,null,null,null,null,null,null,null,null,null,null,null,null,null,null,null,null,null,null,null,null,null,null,null,null,null,null,null,null,null,null,null,null,null,null,{"$f":"-EE72+EJ9","v":0},0]
[null,null,null,null,null,null,null,null,null,"محاسبات بافت",null,null,null,null,null,null,null,null,null,null,null,null,null,null,null,null,null,null,null,null,null,null,null,null,null,null,null,null,null,null,null,null,null,null,null,null,null,null,null,null,null,null,null,null,null,null,null,null,null,null,null,null,null,null,null,null,null,null,null,null,null,null,null,null,null,null,null,null,null,null,null,null,null,null,null,null,null,null,null,null,null,null,null,null,null,null,null,null,null,null,null,null,null,null,null,null,null,null,null,null,null,null,null,null,null,null,null,null,null,null,null,null,null,null,null,null,null,null,null,null,null,null,null,null,null,null,null,null,{"$f":"-EE73+EJ9","v":0},0]
[null,null,null,null,"محاسبات در بافت بالاتنه و آستین (بافت انتخابی) ",null,null,null,null,null,null,null,null,null,null,null,null,null,null,null,null,null,null,null,null,null,null,null,null,null,null,null,null,null,null,null,null,null,null,null,null,null,null,null,null,null,null,null,null,null,null,null,null,null,null,null,null,null,null,null,null,null,null,null,null,null,null,null,null,null,null,null,null,null,null,null,null,null,null,null,null,null,null,null,null,null,null,null,null,null,null,null,null,null,null,null,null,null,null,null,null,null,null,null,null,null,null,null,null,null,null,null,null,null,null,null,null,null,null,null,null,null,null,null,null,null,null,null,null,null,null,null,null,null,null,null,null,null,{"$f":"-EE74+EJ9","v":0},{"$f":"EF74","v":0}]
[null,null,null,null,"تعداد دانه ها  دور گردن + دو تا نیمه جادکمه که از خط مرکزی اضافه شده",{"$f":"F77+2*F76","v":116},null,"یقه ب ب گرد",null,null,"یقه شکاری تا خط مرکزی جلو",null,null,"یقه شومیزیه",null,null,"یقه انگلیسی ",null,null,null,null,null,null,null,null,null,null,null,null,null,null,null,null,null,null,null,null,null,null,null,null,null,null,null,null,null,null,null,null,null,null,null,null,null,null,null,null,null,null,null,null,null,null,null,null,null,null,null,null,null,null,null,null,null,null,null,null,null,null,null,null,null,null,null,null,null,null,null,null,null,null,null,null,null,null,null,null,null,null,null,null,null,null,null,null,null,null,null,null,null,null,null,null,null,null,null,null,null,null,null,null,null,null,null,null,null,null,null,null,null,null,null,null,null,null,null,null,null,{"$f":"-EE75+EJ9","v":0},0]
[null,null,null,null," b2  تعداد دانه های اضافه شده  از خط مرکزی تا خط جادکمه = نیمه جادکمه",{"$f":"ROUNDUP(F55*(-AX147),0)","v":22},null,"بافت همه از زیر",null,null,"بافت انتخابی",null,null,"بافت همه از زیر",null,null," بافت جودانه",null,null,null,null,null,null,null,null,null,null,null,null,null,null,null,null,null,null,null,null,null,null,null,null,null,null,null,null,null,null,null,null,null,null,null,null,null,null,null,null,null,null,null,null,null,null,null,null,null,null,null,null,null,null,null,null,null,null,null,null,null,null,null,null,null,null,null,null,null,null,null,null,null,null,null,null,null,null,null,null,null,null,null,null,null,null,null,null,null,null,null,null,null,null,null,null,null,null,null,null,null,null,null,null,null,null,null,null,null,null,null,null,null,null,null,null,null,null,null,null,null,{"$f":"-EE76+EJ9","v":0},0]
[null,null,null,null,"(بدون اعمال بافت اننتخابی)  b1 تعداد دانه ها  دور تا دور گردن ",{"$f":"I87+2*I86+2*I85+I84","v":72},null,"c1",{"$f":"F77+2*(I80+1)+1*(I79+1)-3","v":116},null,"a1",{"$f":"F77+(L68/20)*F77","v":144},null,"e1",{"$f":"F77-I84+O82+2*O78+15","v":61},null,"d1",{"$f":"I87+2*I86+2*ROUND(F55*O238,0)-2*R79","v":104},null,null,null,null,null,null,null,null,null,null,null,null,null,null,null,null,null,null,null,null,null,null,null,null,null,null,null,null,null,null,null,null,null,null,null,null,null,null,null,null,null,null,null,null,null,null,null,null,null,null,null,null,null,null,null,null,null,null,null,null,null,null,null,null,null,null,null,null,null,null,null,null,null,null,null,null,null,null,null,null,null,null,null,null,null,null,null,null,null,null,null,null,null,null,null,null,null,null,null,null,null,null,null,null,null,null,null,null,null,null,null,null,null,null,null,null,null,null,null,null,{"$f":"-EE77+EJ9","v":0},0]
[null,null,null,null,"تعداد رج دوبل برای ایجاد گودی گردن جلو b13",{"$f":"ROUNDDOWN(0.25*O64*((AX129-BI128)),0)","v":4},null,"c2",{"$f":"ROUND(0.25*1.3*F54*I57,0)-1","v":11},null,"a2",{"$f":"IF((ROUND(0.6*L56,0)-6)<0,\" خطا - قد پشت یقه زیاد شود \",(ROUND(0.6*L56,0)-6))","v":5},null,"e2",{"$f":"ROUNDDOWN(0.5*(1.3*F54*R58-9),0)","v":6},null,"d2",{"$f":"ROUND(F54*O54,0)","v":12},null,null,null,null,null,null,null,null,null,null,null,null,null,null,null,null,null,null,null,null,null,null,null,null,null,null,null,null,null,null,null,null,null,null,null,null,null,null,null,null,null,null,null,null,null,null,null,null,null,null,null,null,null,null,null,null,null,null,null,null,null,null,null,null,null,null,null,null,null,null,null,null,null,null,null,null,null,null,null,null,null,null,null,null,null,null,null,null,null,null,null,null,null,null,null,null,null,null,null,null,null,null,null,null,null,null,null,null,null,null,null,null,null,null,null,null,null,null,null,null,{"$f":"-EE78+EJ9","v":0},0]
[null,null,null,null,"تعداد رج سوبل برای ایجاد گودی گردن جلو b'''13",{"$f":"ROUND((1/8)*O64*((AX129-BI128)),0)","v":2},null,"c3",{"$f":"ROUND(0.45*1.3*F54*I57,0)-1","v":20},null,"a3",{"$f":"ROUND(0.33*L81,0)","v":17},null,"e3",{"$f":"ROUND(0.15*(F77-I84+O82+13),0)","v":7},null,"d3",{"$f":"ROUND(F55*O54,0)","v":8},null,null,null,null,null,null,null,null,null,null,null,null,null,null,null,null,null,null,null,null,null,null,null,null,null,null,null,null,null,null,null,null,null,null,null,null,null,null,null,null,null,null,null,null,null,null,null,null,null,null,null,null,null,null,null,null,null,null,null,null,null,null,null,null,null,null,null,null,null,null,null,null,null,null,null,null,null,null,null,null,null,null,null,null,null,null,null,null,null,null,null,null,null,null,null,null,null,null,null,null,null,null,null,null,null,null,null,null,null,null,null,null,null,null,null,null,null,null,null,null,{"$f":"-EE79+EJ9","v":0},0]
[null,null,null,null,"فاصله  گردن تا محل جدا شدن آستین در قسمت جلو (cm)     b7",{"$f":"ROUNDUP(SQRT(POWER(CI103-CI121,2)+POWER(CJ103-CJ121,2)),0)","v":21},null,"c4",{"$f":"I56-I78-I79-5","v":12},null,"a4",{"$f":"ROUND(0.66*L81,0)","v":33},null,"e4",{"$f":"ROUND(0.24*(F77-I84+O82+9),0)","v":10},null,"d4",{"$f":"IF((ROUND(F54*O55,0)-R78-4)<0,\"خطا - بزرگی پشت یقه زیاد شود\",(ROUND(F54*O55,0)-R78-4))","v":4},null,null,null,null,null,null,null,null,null,null,null,null,null,null,null,null,null,null,null,null,null,null,null,null,null,null,null,null,null,null,null,null,null,null,null,null,null,null,null,null,null,null,null,null,null,null,null,null,null,null,null,null,null,null,null,null,null,null,null,null,null,null,null,null,null,null,null,null,null,null,null,null,null,null,null,null,null,null,null,null,null,null,null,null,null,null,null,null,null,null,null,null,null,null,null,null,null,null,null,null,null,null,null,null,null,null,null,null,null,null,null,null,null,null,null,null,null,null,null,null,{"$f":"-EE80+EJ9","v":0},0]
[null,null,null,null,"تعداد دانه های اضافه شده زیر بغل   b8",{"$f":"F64","v":11},null,null,null,null,"a5",{"$f":"ROUND(0.35*L77,0)","v":50},null,"e5",{"$f":"ROUND(0.35*(F77-I84+O82+3),0)","v":13},null,"d5",{"$f":"R77+2*R79","v":120},null,null,null,null,null,null,null,null,null,null,null,null,null,null,null,null,null,null,null,null,null,null,null,null,null,null,null,null,null,null,null,null,null,null,null,null,null,null,null,null,null,null,null,null,null,null,null,null,null,null,null,null,null,null,null,null,null,null,null,null,null,null,null,null,null,null,null,null,null,null,null,null,null,null,null,null,null,null,null,null,null,null,null,null,null,null,null,null,null,null,null,null,null,null,null,null,null,null,null,null,null,null,null,null,null,null,null,null,null,null,null,null,null,null,null,null,null,null,null,null,{"$f":"-EE81+EJ9","v":0},0]
[null,null,null,null,"تعداد دانه های سرتاسر آستین در قسمت زیر بغل   b20",{"$f":"F65","v":77},null,null,null,null,"a6",{"$f":"ROUND(0.4*L56,0)","v":7},null,"e6",{"$f":"O78","v":6},null,"d6",{"$f":"I87","v":20},null,null,null,null,null,null,null,null,null,null,null,null,null,null,null,null,null,null,null,null,null,null,null,null,null,null,null,null,null,null,null,null,null,null,null,null,null,null,null,null,null,null,null,null,null,null,null,null,null,null,null,null,null,null,null,null,null,null,null,null,null,null,null,null,null,null,null,null,null,null,null,null,null,null,null,null,null,null,null,null,null,null,null,null,null,null,null,null,null,null,null,null,null,null,null,null,null,null,null,null,null,null,null,null,null,null,null,null,null,null,null,null,null,null,null,null,null,null,null,null,{"$f":"-EE82+EJ9","v":0},0]
[null,null,null,null,"فاصله زیر بغل تا پایین لباس (cm)     b9",{"$f":"ROUND(AX113,0)","v":78},null,"تقسیم بندی بالاتنه\n ","تعداد دانه ها\n(بافت جودانه یا ساده)","تعداد دانه ها\n(بافت انتخابی)","a10",{"$f":"IF(L68=0,1,IF(L68=5,5,IF(L68=8,7,IF(L68=10,3,IF(L68=12,8,IF(L68=15,7,2))))))","v":2},null,"e7",{"$f":"F76","v":22},null,"d7",{"$f":"I86","v":12},null,null,null,null,null,null,null,null,null,null,null,null,null,null,null,null,null,null,null,null,null,null,null,null,null,null,null,null,null,null,null,null,null,null,null,null,null,null,null,null,null,null,null,null,null,null,null,null,null,null,null,null,null,null,null,null,null,null,null,null,null,null,null,null,null,null,null,null,null,null,null,null,null,null,null,null,null,null,null,null,null,null,null,null,null,null,null,null,null,null,null,null,null,null,null,null,null,null,null,null,null,null,null,null,null,null,null,null,null,null,null,null,null,null,null,null,null,null,null,null,{"$f":"-EE83+EJ9","v":0},0]
[null,null,null,null,"فاصله زیر بغل تا بالای مچ آستین (cm)     b10",{"$f":"ROUNDUP(SQRT(POWER(DY513-DY520,2)+POWER(DZ513-DZ520,2)),0)","v":40},null," b6  کل پهنای جادکمه ",{"$f":"2*F76","v":44},null,"a11",{"$f":"IF(L68=0,1,IF(L68=5,4,IF(L68=8,5,IF(L68=10,2,IF(L68=12,5,IF(L68=15,4,1))))))","v":1},null,"e8",{"$f":"2*(F76-2)","v":40},null,"d8",{"$f":"ROUND(F55*O238,0)","v":38}]
[null,null,null,null,"گشادی لبه پایین آستین (cm)     b'11",{"$f":"F62","v":30},null,"b3  جلو بدون جادکمه\nبین خط رگلان و خط مرکزی جلو که نیمه جادکمه از آن کم شود",{"$f":"ROUNDUP(F55*(SQRT(POWER(AX129-AX131,2)+POWER(AX130,2))+SQRT(POWER(AX131-AX133,2)+POWER(AX132-AX130,2))),0)-F76","v":-8},{"$f":"ROUNDUP(O65*(SQRT(POWER(AX129-AX131,2)+POWER(AX130,2))+SQRT(POWER(AX131-AX133,2)+POWER(AX132-AX130,2))),0)-F76","v":-8},null,null,null,"e9",{"$f":"ROUNDUP(R61*1.3*F54*R57,0)-O83-O84-3","v":-55},null,"d9",{"$f":"ROUND((F54*O56)/(F55*O58),0)","v":6}]
[null,null,null,null,"تعداد دانه ها  در بالای مچ آستین      b'12",{"$f":"F63","v":54},null,"b4  آستین",{"$f":"ROUNDDOWN(F55*(DE534+DE535),0)","v":12},{"$f":"ROUNDDOWN(O65*(DE534+DE535),0)","v":12},null,null,null,null,null,null,"d10",{"$f":"IF(ROUND((F54*(G259-G258))/(F55*G260),0)>40,\"----\",ROUND((F54*(G259-G258))/(F55*G260),0))","v":11}]
[null,null,null,null,"پهنای مچ آستین (cm)     b14",{"$f":"ROUNDUP(CA513-CA511,0)","v":7},null,"b5  پشت",{"$f":"ROUNDDOWN(F55*2*(SQRT(POWER(BI128-BI130,2)+POWER(BI129,2))+SQRT(POWER(BI130-BI132,2)+POWER(BI131-BI129,2))),0)","v":20},{"$f":"ROUNDDOWN(O65*2*(SQRT(POWER(BI128-BI130,2)+POWER(BI129,2))+SQRT(POWER(BI130-BI132,2)+POWER(BI131-BI129,2))),0)","v":20},null,null,null,null,null,null,"d12",{"$f":"O57","v":74},null,null,null,null,null,null,null,null,null,null,null,null,null,"شبیه ساز بالاتنه پشت"]
[null,null,null,null,"گشادی مچ جدار در پایین آستین (cm)     b15",{"$f":"ROUND(BZ520-BZ519,0)","v":21},null,null,null,null,null,null,null,null,null,null,null,null,null,null,null,null,null,null,null,null,null,null,null,null,null,"انحنا",null,null,null,"خطوط برش"]
[null,null,null,null,"در بالای مچ هر b12   دانه یکی کم شود",{"$f":"I66","v":3},null,null,null,null,null,null,null,null,null,null,null,null,null,null,null,null,null,null,null,null,null,null,null,null,null,{"$f":"Y146","v":6.6424000000000003},{"$f":"Y114","v":40},27,null,{"$f":"Y146","v":6.6424000000000003},{"$f":"Y114","v":40},27]
[null,null,null,null,"هر b11   رج در بافت آستین یکدانه از ابتدا و یکدانه از انتها کم شود",{"$f":"F68","v":10},null,null,null,null,null,null,null,null,null,null,null,null,null,null,null,null,null,null,null,null,null,null,null,null,null,{"$f":"Y150","v":4.9817999999999998},{"$f":"Y114-Y151","v":38.824757860524052},32,null,{"$f":"Y146+Y153","v":12.156701634819289},{"$f":"Y114-Y154","v":38.673021285503467},34]
[null,null,null,null,null,null,null,null,null,null,null,null,null,null,null,null,null,null,null,null,null,null,null,null,null,null,null,null,null,null,null,{"$f":"Y148","v":2.6569600000000002},{"$f":"Y114-Y149","v":38.237136790786082},30]
[null,null,null,null,null,null,null,null,null,null,null,null,null,null,null,null,null,null,null,null,null,null,null,null,null,null,null,null,null,null,null,0,{"$f":"Y114-Y147","v":38.041263100873422},28,null,{"$f":"Y115-Y135+Y141-Y156","v":13.68698095838557},{"$f":"Y130+Y136+Y142+Y157","v":38.385732860860308},36]
[null,null,null,null,null,null,null,null,null,null,null,null,null,null,null,null,null,null,null,null,null,null,null,null,null,null,null,null,null,null,null,null,null,null,null,{"$f":"Y115-Y135+Y141","v":18.713999999999999},{"$f":"Y130+Y136+Y142","v":35.759428502309405},24,null,null,null,null,null,null,null,null,null,null,null,null,null,"انحنای حلقه آستین جلو"]
[null,null,null,null,null,null,null,null,null,null,null,null,null,null,null,null,null,null,null,null,null,null,null,null,null,null,null,null,null,null,null,{"$f":"Y115-Y135+Y141","v":18.713999999999999},{"$f":"Y130+Y136+Y142","v":35.759428502309405},24,null,null,null,null,null,null,null,null,null,null,null,null,null,null,null,null,null,{"$f":"AZ125+'متغیرها '!C55","v":24.851556283657448},{"$f":"BA125","v":146.02097910518748},"شیفت22"]
[null,null,null,null,null,null,null,null,null,null,null,null,null,null,null,null,null,null,null,null,null,null,null,null,null,null,null,null,null,null,null,{"$f":"Y115-Y135+Y143","v":17.479199999999999},{"$f":"Y130+Y136+Y144","v":31.318337618796097},26,null,{"$f":"Y115","v":22.492535621967953},{"$f":"Y130","v":18.540337650057609},14,null,null,null,null,null,null,null,null,null,null,null,null,null,{"$f":"AZ128+'متغیرها '!C55","v":22.843411584377343},{"$f":"BA128","v":140.24844199924758},"شیفت24",null,null,null,"جادکمه در پیراهن"]
[null,null,null,null,null,null,null,null,null,null,null,"به دست آوردن نقطه تقاطع دو خط (نمونه کپی)","مولفه افقی","مولفه عمودی",null,null,"شبیه ساز بالاتنه جلو",null,null,null,null,null,null,null,null,null,null,null,null,null,null,{"$f":"Y115-Y135","v":16.95},{"$f":"Y130+Y136","v":25.89033765005761},18,null,{"$f":"Y115","v":22.492535621967953},{"$f":"Y130-Y132","v":18.540337650057609},16,null,null,null,null,null,null,null,null,null,null,null,null,null,{"$f":"AZ115+'متغیرها '!C55","v":21.982778141828724},{"$f":"BA115","v":134.4759048933077},"شیفت16",null,{"$f":"AZ106","v":5},{"$f":"BA106","v":50.5},1]
[null,null,null,null,null,null,null,null,null,null,"نقطه اول از خط اول","اسم نقطه",1,1,null,null,"انحنا",null,null,null,"خطوط برش",null,null,null,null,null,null,null,null,null,null,{"$f":"Y115-Y139","v":18.612760686590384},{"$f":"Y130+Y140","v":21.48033765005761},22,null,{"$f":"Y121+Y123+Y124+Y127","v":20.724218229732401},{"$f":"Y128","v":0.10434605341895423},13,null,null,null,null,null,null,null,null,null,null,null,null,null,{"$f":"AZ121+'متغیرها '!C55","v":23.23622251346298},{"$f":"BA121","v":130.94790489330771},"شیفت20",null,{"$f":"AX147+AX99","v":-7.1499999999999986},{"$f":"0+AX98","v":50.5},"1'",null,"شیفت عمودی پشت پیراهن",{"$f":"BG148+'متغیرها '!U59-BI148+'متغیرها '!C54","v":50.5}]
[null,null,null,null,null,null,null,null,null,null,"نقطه دوم از خط اول","اسم نقطه",2,2,null,null,{"$f":"L143","v":6.6424000000000003},{"$f":"L114","v":42},25,null,0,{"$f":"L114-L144","v":33.82117109605538},26,null,null,null,null,null,null,null,null,{"$f":"Y115-Y137","v":21.384028497574363},{"$f":"Y130+Y138","v":19.275337650057608},20,null,{"$f":"Y121+Y123+Y124","v":11.35},0,11,null,null,null,null,null,null,null,null,null,null,"شیفت عمودی جلو پیراهن",{"$f":"H114+'متغیرها '!C52+(I104-H104)","v":50.5},null,{"$f":"AZ118+'متغیرها '!C55","v":25.116389070914362},{"$f":"BA118","v":129.47790489330771},"شیفت18",null,{"$f":"AX148+AX99","v":-7.1499999999999986},{"$f":"AX103-AX129+AX98","v":140.97041326438926},"26'",null,"شیفت افقی پشت پیراهن",{"$f":"'متغیرها '!C53","v":5}]
[null,null,null,null,"اندازه ها در دامن و شلوار",null,null,"اندازه محاسبه","شبیه ساز",null,"نقطه اول از خط دوم","اسم نقطه",3,2,null,null,{"$f":"L147","v":5.3139200000000004},{"$f":"L114-L148","v":37.91058554802769},30,null,0,0,1,null,null,null,null,null,null,null,null,{"$f":"Y115","v":22.492535621967953},{"$f":"Y130","v":18.540337650057609},14,null,null,null,null,null,null,null,null,null,null,null,null,null,null,"شیفت افقی جلو پیراهن",{"$f":"'متغیرها '!C51","v":5},null,{"$f":"AZ113+'متغیرها '!C55","v":28.25},{"$f":"BA113","v":128.5959048933077},"شیفت12",null,{"$f":"AZ102","v":5},{"$f":"BA102","v":140.97041326438926},26,{"$f":"BG149+BG150+BG151+1*(IF('متغیرها '!U55>'متغیرها '!U53,0.5*'متغیرها '!U55,0.5*'متغیرها '!U53)-BG149-BG151+BG163)-1*BG142-IF('متغیرها '!C125=1,2*BG143,BG150)","v":24.158749999999998},"(1 → 41)   با شرط  x5=1",{"$f":"BI149+BI150+BI151+1*(IF(H103>H101,0.5*H103,0.5*H101)+'متغیرها '!C62*H120-BI149-BI151+BI163)-1*BI142-IF('متغیرها '!C125=1,2*BI143,BI150)","v":23.254999999999999},null,null,null,null,null,null,null,null,null,null,null,null,null,null,null,null,null,null,null,null,null,null,null,null,null,null,null,null,null,null,null,null,null,null,null,null,null,null,null,null,null,null,null,null,null,null,null,null,null,null,null,null,null,null,null,null,null,null,null,null,null,null,null,null,null,null,null,null,null,null,null,null,null,null,null,null,null,null,null,null,null,null,null,null,null,null,null,null,null,null,null,null,null,null,null,null,null,null,null,null,null,null,null,null,"قرینه",{"$f":"2*C102","v":10},null,null,null,null,null,null,"قرینه",{"$f":"2*C102","v":10},null,null,null,null,null,null,"قرینه",{"$f":"2*C102","v":10},null,null,null,null,null,null,"قرینه",{"$f":"2*C102","v":10}]
[null,"شیفت افقی جلو",{"$f":"GM359","v":5},null,"دور کمر","a",null,{"$f":"'متغیرها '!U52+0.3*'متغیرها '!C60*('متغیرها '!U52+'متغیرها '!U54+'متغیرها '!U72)","v":68},{"$f":"'متغیرها '!U52","v":68},null,"نقطه دوم از خط دوم","اسم نقطه",4,4,null,null,{"$f":"L145","v":2.6569600000000002},{"$f":"L114-L146","v":34.639053986449838},28,null,{"$f":"L120","v":8.7439199999999992},0,8,null,null,null,null,null,null,null,null,null,null,null,null,{"$f":"Y121+Y123","v":9.4},0,10,null,null,null,null,null,null,null,null,null,{"$f":"AV156+AV157+AV158+1*(IF(('متغیرها '!U54-'متغیرها '!U55)>('متغیرها '!U52-'متغیرها '!U53),0.5*('متغیرها '!U54-'متغیرها '!U55),0.5*('متغیرها '!U52-'متغیرها '!U53))-AV156-AV158)-IF('متغیرها '!C125=1,2*AV150,AV157)","v":21.482500000000002},"(1 → 44)   با شرط  x5=1",{"$f":"AX156+AX157+AX158+1*(IF((H102-H103)>(H100-H101),0.5*(H102-H103),0.5*(H100-H101))+'متغیرها '!C62*H120-AX156-AX158)-IF('متغیرها '!C125=1,2*AX150,AX157)","v":21.664999999999999},null,{"$f":"BD156","v":29.72},{"$f":"BE156","v":128.5959048933077},"شیفت13",null,{"$f":"AZ106","v":5},{"$f":"BA106","v":50.5},1,null,"زاویه خط پهلو پشت",{"$f":"ATAN((BI106-BI108)/(BI110-BI112-BI107))","v":-1.1678571348917793E-2},null,null,null,null,null,"انحنای حلقه آستین   پشت",null,null,null," انتقال قسمتی از ساسون سرشانه به خط مرکزی جلو و حلقه آستین با ساسون زیر بغل و خط رگلان",null,null,null,null,null,null,null," انتقال قسمتی از ساسون سرشانه به خط مرکزی پشت و حلقه آستین با ساسون زیر بغل",null,null,null,null,null,null,null," حلقه آستین و سرشانه و رگلان بدون ساسون ",null,null,null,null,null,null,null,"حلقه آستین و سرشانه و رگلان بدون ساسون ",null,null,null,null,null,null,null,null,null,null,null,"جیب با ساسون",null,null,null,null,null,null,null,"تکه پهلو جدا  ",null,null,null,null,null,null,null,null,null,null,null,null,"سرشانه حلقه آستین پهلو ترک و پایین کنترل گشادی",null,null,null,null,null,null,null,null,null,null,null,null,null,null,null,null,null,null,null,"کنترل گودی حلقه آستین ",null,null,null,null,null,null,null,null,null,null,null,"حلقه آستین با ساسون متغیر",null,null,null,"انگلیسی و آرشال چرخیده",null,null,null,"پهلو ترک ",null,null,null,"پهلو برای جیب با ساسون",null,null,null,"اطلاعات اندام",null,null,null,"پهلو جدا در پیراهن",null,null,null,"رسم انحنا جلو آستر کت ",null,null,null,"3حلقه آستین با ساسون متغیر",null,null,null,"حلقه آستین با ساسون متغیر",null,null,null,"17یقه گرد ",null,null,null,"یقه گرد ",null,null,null,"11پهلو جدا و ترک وسط و نیمی از حلقه آستین عصایی",null,null,null,"پهلو جدا و ترک وسط و نیمی از حلقه آستین عصایی",null,null,null,"12پهلو جدا و ترک وسط و حلقه آستین عصایی در آستر کت",null,null,null,"پهلو جدا و ترک وسط و حلقه آستین عصایی در آستر کت",null,null,null,null,null,null,"رسم قرینه جلو پیراهن "]
[null,"شیفت عمودی جلو",{"$f":"GM360","v":5},null,"نوار کمر از پشت بین دو خط پهلو","b",null,{"$f":"'متغیرها '!U53+0.3*'متغیرها '!C60*('متغیرها '!U53+'متغیرها '!U55+'متغیرها '!U73)","v":33.700000000000003},{"$f":"'متغیرها '!U53","v":33.700000000000003},null,"نقطه تقاطع","اسم نقطه",{"$f":"(N99-N97+M97*((N98-N97)/(M98-M97))-M99*((N100-N99)/(M100-M99)))/(((N98-N97)/(M98-M97))-((N100-N99)/(M100-M99)))","v":4},{"$f":"N97+(M101-M97)*((N98-N97)/(M98-M97))","v":4},null,null,{"$f":"0","v":0},{"$f":"L114-L144","v":33.82117109605538},26,null,null,null,null,null,null,null,null,null,null,null,null,null,null,null,null,{"$f":"Y121","v":1.9499999999999993},0,9,null,null,null,null,null,null,null,null,null,null,"زاویه خط پهلو جلو در پیراهن راسته با ساسون",{"$f":"ATAN((AX110-AX104)/(AX113-AX115-AX111))","v":-1.1678571348917789E-2},null,"رسم جلو پیراهن",null,null,null,"انحنای حلقه یقه جلو",null,null,null,"زاویه  متوسط سرشانه پشت و جلو مانتو راسته",{"$f":"0.5*(P139+0.3*(P140-P139)+AE139+0.3*(AE140-AE139))","v":0.31641567605125198},null,{"$f":"BI126+BI98","v":17.220071134028601},{"$f":"BI125+BI97","v":142.48021932151983},22,null,{"$f":"BK140","v":21.209249959840783},{"$f":"BL140","v":147.08921269286319},"شیفت18",null,"نقاط  ورودی",null,null,null,"انتخاب c1 >1 ",{"$f":"'متغیرها '!C108","v":0},null,null,"نقاط  ورودی",null,null,null,null,null,null,null,"نقاط  ورودی",null,null,null,null,null,"حلقه بدون ساسون",null,"نقاط  ورودی",null,null,null,null,"انحنا",null,null,"قرینه",{"$f":"2*C102","v":10},null,null,"نقاط  ورودی",null,null,null,"نقاط  خروجی",null,null,null,"نقاط  ورودی",null,null,null,"نقاط  ورودی",null,null,null,"نقاط  خروجی",null,null,null,null,null,null,"کنترل گشادی جلو",null,null,null,"قرینه کنترل گشادی جلو",null,null,null,"کنترل گشادی پشت",null,null,null,"قرینه کنترل گشادی پشت",null,null,null,null,null,"نقاط  ورودی",null,null,null,"نقاط  ورودی",null,null,null,null,null,{"$f":"BW139+BT130","v":28.379848414360417},{"$f":"BX139","v":131.71366682728006},"شیفت b14",null,null,null,null,null,{"$f":"BS140+BT130","v":28.25},{"$f":"BT140","v":124.7739048933077},"شیفت 14",null,"مولفه افقی","مولفه عمودی","اسم نقطه ",null,null,null,"کمر",null,{"$f":"DK103","v":25.116389070914362},{"$f":"DL103","v":129.47790489330771},{"$f":"DM103","v":"18شیفت"},null,{"$f":"BW114","v":10.645343712110673},{"$f":"BX114","v":145.32071179965874},"e5",null,{"$f":"CE122+CB112","v":28.96284988906315},{"$f":"CF122+CB113","v":128.54153680565952},"شیفت b14",null,{"$f":"-GD101+FK99","v":-18.96284988906315},{"$f":"GE101","v":128.54153680565952},"شیفت b14",null,{"$f":"CE105","v":12.467615275126056},149.79309751611007,23,null,{"$f":"-GL101+FS99","v":-2.4676152751260556},{"$f":"GM101","v":149.79309751611007},23,null,{"$f":"EA167","v":20.697624979920391},{"$f":"EB167","v":135.8903376500576},"شیفت12p یا 12",null,{"$f":"-GT101+GA99","v":-10.697624979920391},{"$f":"GU101","v":135.8903376500576},"شیفت12p یا 12",null,{"$f":"DO103","v":20.697624979920391},135.8903376500576,"شیفت12p",null,{"$f":"-HB101+GI99","v":-10.697624979920391},{"$f":"HC101","v":135.8903376500576},{"$f":"DU103","v":"شیفت10m"},null,null,null,"مولفه افقی","مولفه عمودی","اسم نقطه ",null,null,{"$f":"AZ106","v":5},"مرجع",null,null,null,"12'",null,null,{"$f":"-2*'متغیرها '!C51","v":-10},"شیفت افقی",null,null,{"$f":"'متغیرها '!C52","v":5},"شیفت عمودی",null,null,null,"14'",null,null,null,"19'",null,null,null,"48'",null,null,null,"81'",null,null,null,"64'",null,null,null,"77'"]
[null,"شیفت افقی پشت",{"$f":"HW320","v":5},null,"دور باسن","c",null,{"$f":"'متغیرها '!U54+0.3*'متغیرها '!C60*('متغیرها '!U52+'متغیرها '!U54+'متغیرها '!U72)","v":93},{"$f":"'متغیرها '!U54","v":93},null,null,null,null,null,null,null,null,null,null,null,{"$f":"L120+L121","v":11.183920000000001},0,9,null,null,null,null,null,null,null,null,null,null,null,null,0,{"$f":"Y117","v":30},5,null,null,null,null,null,null,null,null,null,"شبیه ساز","متغیرهای خروجی جلو پیراهن با ساسون کمر",null,null,{"$f":"AX99","v":5},{"$f":"AX103-AX129+AX98","v":140.97041326438926},26,null,{"$f":"AZ140","v":12.460665312485961},{"$f":"BA140","v":149.76712499807095},25,"شبیه ساز","متغیرهای خروجی پشت پیراهن با ساسون کمر (رسم کاربر)",null,null,{"$f":"0+BI98","v":5},{"$f":"BI125+BI97","v":142.48021932151983},21,null,{"$f":"BK110","v":20.851112473896507},{"$f":"BL110","v":142.04971892360066},"شیفت20",null,"مولفه افقی","مولفه عمودی","اسم نقطه ",null,"انتخاب عصایی ",{"$f":"'متغیرها '!C101","v":0},null,null,"مولفه افقی","مولفه عمودی","اسم نقطه ",null,null,null,null,null,"مولفه افقی","مولفه عمودی","اسم نقطه ",null,{"$f":"CI117+CJ105","v":19.737376929978453},{"$f":"CJ117","v":147.38461204421603},"شیفت 22f",null,"مولفه افقی","مولفه عمودی","اسم نقطه ",null,{"$f":"CQ120+CR105","v":19.744326892618545},{"$f":"CR120+CR106","v":147.41058456225514}," شیفت 18f",null,{"$f":"-CU102+CZ101","v":-9.7443268926185453},{"$f":"CV102","v":147.41058456225514}," شیفت 18f",null,"مولفه افقی","مولفه عمودی","اسم نقطه ",null,"مولفه افقی","مولفه عمودی","اسم نقطه ",null,"مولفه افقی","مولفه عمودی","اسم نقطه ",null,"مولفه افقی","مولفه عمودی","اسم نقطه ",null,{"$f":"DO106+DL109","v":30.626146551053591},{"$f":"DP106+DL110","v":129.42233765005761},"شیفت8m","پیراهن",null,{"$f":"CI117","v":19.737376929978453},147.38461204421603,"22f",null,{"$f":"-DX102+ED137","v":-9.7373769299784527},{"$f":"DY102","v":147.38461204421603},"22f",null,{"$f":"CQ120","v":19.744326892618545},147.41058456225514," 18f",null,{"$f":"-EF102+ED138","v":-9.7443268926185453},{"$f":"EG102","v":147.41058456225514}," 18f",null,null,null,null,null,"مولفه افقی","مولفه عمودی","اسم نقطه ",null,"مولفه افقی","مولفه عمودی","اسم نقطه ",null,null,null,{"$f":"BW140+BT130","v":27.781137309228399},{"$f":"BX140","v":127.66272508336525},"شیفت b2",null,{"$f":"BW105","v":12.460665312485961},{"$f":"BX105","v":149.76712499807095},"چرخیده 25",null,{"$f":"AZ168+BT130","v":24.59},{"$f":"BA168","v":110.15991329666905},"شیفت 41",null,{"$f":"DC109","v":14.781420000000001},{"$f":"DD109","v":50.5},52,null,{"$f":"AZ165","v":5},{"$f":"BA165","v":108},38,null,{"$f":"DK121","v":25.116389070914362},124.7739048933077,"14شیفتm",null,{"$f":"EO168","v":11.972702354213762},{"$f":"EP168","v":134.61495361548671},"a4",null,{"$f":"CE116+CB112","v":26.133798687040645},{"$f":"CF116+CB113","v":129.27627089306489},"شیفت b8",null,{"$f":"-GD102+FK99","v":-16.133798687040645},129.27627089306489,"شیفت b8",null,10.600711456344541,148.23154216796843,28,null,{"$f":"-GL102+FS99","v":-0.60071145634454126},{"$f":"GM102","v":148.23154216796843},28,null,{"$f":"EA168","v":22.73609817253466},{"$f":"EB168","v":131.48033765005761},"شیفت16p یا 16",null,{"$f":"-GT102+GA99","v":-12.73609817253466},{"$f":"GU102","v":131.48033765005761},"شیفت16p یا 16",null,22.73609817253466,131.48033765005761,"شیفت16p",null,{"$f":"-HB102+GI99","v":-12.73609817253466},{"$f":"HC102","v":131.48033765005761},{"$f":"DU104","v":"شیفت36m"},null,null,null,null,null,"6'",null,"مولفه افقی","مولفه عمودی","اسم نقطه ",null,{"$f":"-FV101-HY101","v":-15.116389070914362},{"$f":"FW101","v":129.47790489330771},"شیفت 18",null,null,null,"3'",null,null,null,"10'",null,{"$f":"-FN102-HY101","v":-4.7814200000000007},{"$f":"FO102","v":50.5},52,null,{"$f":"-CR154-HY101","v":-4.9639199999999999},{"$f":"CS154","v":120.88},43,null,{"$f":"-FD248-HY101","v":17.149999999999999},{"$f":"FE248","v":103.58445930171638},"p10",null,{"$f":"-AF265-HY101","v":-9.8190567584343889},{"$f":"AG265","v":147.65254388096676},"c22",null,{"$f":"-DI230-HY101","v":0.34999999999999964},{"$f":"DJ230","v":80.855896622129563},"m2",null,{"$f":"-ES231-HY101","v":-18.25},{"$f":"ET231","v":124.7739048933077},14]
[null,"شیفت عمودی پشت",{"$f":"HW321","v":5},null,"نوار باسن از پشت بین دو خط پهلو","d",null,{"$f":"'متغیرها '!U55+0.3*'متغیرها '!C60*('متغیرها '!U53+'متغیرها '!U55+'متغیرها '!U73)","v":50.4},{"$f":"'متغیرها '!U55","v":50.4},null,"به دست آوردن مختصات قرینه یک نقطه نسبت به خط تقارن با داشتن دونقطه از خط تقارن (نمونه کپی)",null,null,null,null,null,{"$f":"L115-L132+L138","v":22.346000000000004},{"$f":"L127+L133+L139","v":36.671961201998826},22,null,{"$f":"L120+L121+L124","v":19.59},{"$f":"L125","v":2.1599132966690484},11,null,null,null,null,null,null,null,null,null,null,null,null,0,{"$f":"Y114-Y147","v":38.041263100873422},28,null,null,null,null,null,null,null,null,null,{"$f":"L114+'متغیرها '!U56-H114","v":99.5},"(1 → 2)",{"$f":"K114+H104-H114","v":99.267124998070955},null,{"$f":"AX99","v":5},{"$f":"AX105+AX98","v":124.1},4,null,{"$f":"AZ148","v":10.968532249988769},{"$f":"BA148","v":145.36876913123012},30,{"$f":"'متغیرها '!U58-'متغیرها '!U59+Y114","v":99.5},"(1 → 2)",{"$f":"H106-H114+AA114","v":99.293097516110066},null,{"$f":"0+BI98","v":5},{"$f":"BI103+BI97","v":149.79309751611007},2,null,{"$f":"BK112","v":20.697624979920391},{"$f":"BL112","v":135.8903376500576},"شیفت12",null,null,{"$f":"('متغیرها '!C107/('متغیرها '!C106+0.001))*(BU143-BU142)","v":0},"زاویه چرخش به خط مرکزی جلو",null,"نقاط  خروجی چرخیده",null,null,null,null,{"$f":"('متغیرها '!C112/('متغیرها '!C111+0.001))*(CC126-CC125)","v":0},"زاویه چرخش به خط مرکزی پشت",null,"نقاط  خروجی چرخیده",null,null,null,{"$f":"BW106","v":10.968532249988769},{"$f":"BX106","v":145.36876913123012},30,null,{"$f":"CI118+CJ105","v":19.60211103464302},{"$f":"CJ118","v":141.5720864060948},"شیفت 24f",null,{"$f":"BK135","v":10.600711456344541},{"$f":"BL135","v":148.23154216796843},28,null,{"$f":"CQ121+CR105","v":19.86406690396926},{"$f":"CR121+CR106","v":141.18340308122995},"شیفت 20f",null,{"$f":"-CU103+CZ101","v":-9.8640669039692597},141.18340308122995,"شیفت 20f",null,{"$f":"AZ161","v":14.96392},{"$f":"BA161","v":120.88},43,null,{"$f":"DC110-(DC106-DC109)","v":15.829940597037968},{"$f":"DD110","v":50.5},"50s",null,{"$f":"AZ98","v":25.116389070914362},{"$f":"BA98","v":129.47790489330771},"18شیفت","پیراهن",{"$f":"EA167","v":20.697624979920391},{"$f":"EB167","v":135.8903376500576},"شیفت12p","پیراهن",{"$f":"DO107+DL109","v":30.626146551053591},{"$f":"DP107","v":124.71833765005761},"شیفت10m",null,null,19.60211103464302,141.5720864060948," 24f",null,{"$f":"-DX103+ED137","v":-9.6021110346430198},141.5720864060948," 24f",null,19.86406690396926,141.18340308122995," 20f",null,{"$f":"-EF103+ED138","v":-9.8640669039692597},141.18340308122995," 20f",null,null,null,null,null,{"$f":"ER151","v":19.920460184778864},{"$f":"ES151","v":148.06540974243791},"22b","راس حلقه آستین",{"$f":"EW152","v":21.394495082070108},{"$f":"EX152","v":147.46585451004972},"18b","راس حلقه آستین",null,null,null,null,null,null,{"$f":"BW113","v":11.714598781237363},{"$f":"BX113","v":147.12811147796646},"e7",null,null,null,null,null,{"$f":"DG103","v":15.829940597037968},50.5,"50s",null,{"$f":"AZ166","v":13.743919999999999},{"$f":"BA166","v":108},39,null,21.456389070914362,110.15991329666905,"41شیفتm",null,{"$f":"EO167","v":15.954778280523026},{"$f":"EP167","v":129.26207452340068},"a3",null,{"$f":"IF('متغیرها '!C119=1,EV123,CE117)+CB112","v":22.736136122695036},{"$f":"IF('متغیرها '!C119=1,EW123,CF117)+CB113","v":131.48095154050506},"شیفت b10 یا b'10p",null,{"$f":"-GD103+FK99","v":-12.736136122695036},131.48095154050506,"شیفت b10 یا b'10p",null,7.9870461100504198,147.45076449389759,26,null,{"$f":"-GL103+FS99","v":2.0129538899495802},{"$f":"GM103","v":147.45076449389759},26,null,{"$f":"DS109","v":24.638673152307977},{"$f":"DT109","v":129.85598765005761},{"$f":"DU109","v":"شیفت8''m"},null,{"$f":"-GT103+GA99","v":-14.638673152307977},{"$f":"GU103","v":129.85598765005761},{"$f":"ES109","v":0.15},null,{"$f":"DS109","v":24.638673152307977},{"$f":"DT109","v":129.85598765005761},{"$f":"DU109","v":"شیفت8''m"},null,{"$f":"-HB103+GI99","v":-14.638673152307977},{"$f":"HC103","v":129.85598765005761},{"$f":"ES109","v":0.15},null,null,null,{"$f":"-CM102-HY101","v":-9.7373769299784527},{"$f":"CN102","v":147.38461204421603},"شیفت 22f",null,null,null,"7'",null,{"$f":"-FV102-HY101","v":-15.116389070914362},{"$f":"FW102","v":124.7739048933077},"شیفت 14m",null,{"$f":"-FB101-HY101","v":-18.379848414360417},{"$f":"FC101","v":131.71366682728006},"شیفت b14",null,{"$f":"-FJ101-HY101","v":-18.25},{"$f":"FK101","v":124.7739048933077},"شیفت 14",null,{"$f":"-FN103-HY101","v":-5.8299405970379681},50.5,"50s",null,{"$f":"-CR155-HY101","v":-3.7439199999999992},{"$f":"CS155","v":108},"39 یا d5",null,{"$f":"-FD249-HY101","v":17.149999999999999},{"$f":"FE249","v":50.5},"1'",null,{"$f":"-AF266-HY101","v":-17.253681850497333},{"$f":"AG266","v":141.63623045845947},"c4",null,{"$f":"-DI231-HY101","v":-0.8063592233009711},{"$f":"DJ231","v":84.86833280438421},"m10",null,{"$f":"-ES232-HY101","v":-14.59},{"$f":"ET232","v":110.15991329666905},41]
[null,"شیفت افقی تکه جلو",{"$f":"GM361","v":0},null,"فاصله نوار کمر تا زمین، از قسمت جلو","e",null,{"$f":"'متغیرها '!U56+'متغیرها '!C63*'متغیرها '!U56","v":103},{"$f":"'متغیرها '!U56","v":103},null,"مولفه افقی","مولفه عمودی","اسم نقطه ",null,null,null,{"$f":"L115-L132+L140","v":19.464800000000004},{"$f":"L127+L133+L141","v":31.573933047653263},24,null,{"$f":"L115","v":23.25},{"$f":"L127-L129","v":20.595904893307704},14,null,null,null,null,null,null,null,null,null,null,null,null,null,null,null,null,null,null,null,null,null,null,null,null,{"$f":"L115","v":23.25},"(1 → 3)",{"$f":"K115","v":23.25},null,{"$f":"AX106+AX99","v":14.963920000000002},{"$f":"AX105+AX98","v":124.1},5,null,{"$f":"AZ145","v":7.9842661249943845},{"$f":"BA145","v":141.85008443775746},28,null,"(1 → 3)",{"$f":"BI106+(BI107-BI105)*TAN(BI100)","v":21.638629833022378},null,{"$f":"BI127+BI98","v":12.467615275126056},{"$f":"BI103+BI97","v":149.79309751611007},23,null,{"$f":"BK117","v":22.73609817253466},{"$f":"BL117","v":131.48033765005761},"شیفت16",null,{"$f":"AZ165+AN119","v":14.96392},{"$f":"BA165+AO119","v":124.1},"5 بالاتنه","نقطه مرکزی چرخش","مولفه افقی","مولفه عمودی","اسم نقطه ",null,{"$f":"BO164","v":16.204999999999998},{"$f":"BP164","v":131.88439243697479},40,"نقطه مرکزی چرخش","مولفه افقی","مولفه عمودی","اسم نقطه ",null,{"$f":"AZ104","v":14.963920000000002},{"$f":"BA104","v":124.1},"5پیراهن",null,{"$f":"CI119+CJ105","v":19.544139936642118},{"$f":"CJ119","v":135.75956076797357},"شیفت 16f",null,{"$f":"BK154","v":16.204999999999998},{"$f":"BL154","v":131.88439243697479},40,null,{"$f":"CQ122+CR105","v":20.248484336667811},{"$f":"CR122+CR106","v":137.0319487605465},"شیفت 12f",null,{"$f":"-CU104+CZ101","v":-10.248484336667811},137.0319487605465,"شیفت 12f",null,{"$f":"BD168-DD122","v":16.183920000000001},{"$f":"BE168","v":108},40,null,{"$f":"DC111-(DC106-DC109)","v":18.660946209040475},{"$f":"DD111","v":50.731982659333809},"50's",null,{"$f":"BD177","v":28.25},124.7739048933077,"14شیفت",null,{"$f":"EA168","v":22.73609817253466},{"$f":"EB168","v":131.48033765005761},"شیفت16p",null,{"$f":"DO108+DL109","v":28.883610929085638},{"$f":"DP108","v":110.10434605341895},"شیفت36m",null,null,19.544139936642118,135.75956076797357," 16f",null,{"$f":"-DX104+ED137","v":-9.544139936642118},135.75956076797357," 16f",null,20.248484336667811,137.0319487605465," 12f",null,{"$f":"-EF104+ED138","v":-10.248484336667811},137.0319487605465," 12f",null,null,null,null,null,{"$f":"BW105","v":12.460665312485961},{"$f":"BX105","v":149.76712499807095},25,"راس یقه",{"$f":"CE105","v":12.467615275126056},{"$f":"CF105","v":149.79309751611007},23,"راس یقه",null,null,{"$f":"BW139+BT130","v":28.379848414360417},{"$f":"BX139","v":131.71366682728006},"شیفتb14",null,{"$f":"BW114","v":10.645343712110673},{"$f":"BX114","v":145.32071179965874},"e5",null,{"$f":"AZ168+BT130","v":24.59},{"$f":"BA168","v":110.15991329666905},"شیفت 41",null,18.660946209040475,50.731982659333809,"50's",null,null,null,null,null,23.531389070914361,89.559913296669052,"45شیفتm",null,{"$f":"EO165","v":23.918930133141554},{"$f":"EP165","v":127.47778149270535},"a1",null,{"$f":"IF('متغیرها '!C119=1,EV122,CE118)+CB112","v":20.697248422425545},{"$f":"IF('متغیرها '!C119=1,EW122,CF118)+CB113","v":135.89075991533232},"شیفت b6 یا b'6p",null,{"$f":"-GD104+FK99","v":-10.697248422425545},135.89075991533232,"شیفت b6 یا b'6p",null,5,147.19050526920734,24,null,{"$f":"-GL104+FS99","v":5},{"$f":"GM104","v":147.19050526920734},24,null,{"$f":"DS107","v":27.492535621967953},{"$f":"DT107","v":128.98133765005761},{"$f":"DU107","v":"شیفت8'm"},null,{"$f":"-GT104+GA99","v":-17.492535621967953},{"$f":"GU104","v":128.98133765005761},{"$f":"ES107","v":132.59101161939529},null,{"$f":"DS107","v":27.492535621967953},{"$f":"DT107","v":128.98133765005761},{"$f":"DU107","v":"شیفت8'm"},null,{"$f":"-HB104+GI99","v":-17.492535621967953},{"$f":"HC104","v":128.98133765005761},{"$f":"ES107","v":132.59101161939529},null,null,null,{"$f":"-CM103-HY101","v":-9.6021110346430198},141.5720864060948,"شیفت 24f",null,{"$f":"-CM113-HY101","v":-9.7373769299784527},{"$f":"CN113","v":147.38461204421603},"شیفت22f",null,{"$f":"-FV103-HY101","v":-11.456389070914362},{"$f":"FW103","v":110.15991329666905},"شیفت 41m",null,{"$f":"-FB102-HY101","v":-17.781137309228399},{"$f":"FC102","v":127.66272508336525},"شیفت b2",null,{"$f":"-FJ104-HY101","v":-14.59},{"$f":"FK104","v":110.15991329666905},"شیفت 41",null,{"$f":"-FN104-HY101","v":-8.6609462090404747},50.731982659333809,"50's",null,null,null,null,null,null,null,null,null,{"$f":"-AF267-HY101","v":-23.336556925821561},{"$f":"AG267","v":131.39223733364972},"c12",null,{"$f":"-DI232-HY101","v":-4.2754368932038851},{"$f":"DJ232","v":89.453974155532393},"m8",null,{"$f":"-ES233-HY101","v":-16.664999999999999},{"$f":"ET233","v":89.559913296669052},45]
[null,"شیفت افقی تکه پشت",{"$f":"HW322","v":0},null,"فاصله نوار کمر تا زمین، از قسمت پهلو","f",null,{"$f":"ROUND(0.5*('متغیرها '!U56+'متغیرها '!U58),1)+'متغیرها '!C63*ROUND(0.5*('متغیرها '!U56+'متغیرها '!U58),1)","v":104},{"$f":"ROUND(0.5*('متغیرها '!U56+'متغیرها '!U58),1)","v":104},null,1,1,"e1","نقطه اول خط تقارن",null,null,{"$f":"L115-L132","v":18.230000000000004},{"$f":"L127+L133","v":26.475904893307703},16,null,{"$f":"L115","v":23.25},{"$f":"L127","v":20.595904893307704},12,null,null,null,null,null,null,null,null,null,null,null,null,"انحنای حلقه آستین و ساسون سرشانه پشت",null,null,null,null,null,null,null,null,null,null,null,null,"(1→ 4)",{"$f":"H104-H114+V142","v":73.599999999999994},null,{"$f":"AZ103","v":5},{"$f":"BA103","v":124.1},4,null,{"$f":"AZ102","v":5},{"$f":"BA102","v":140.97041326438926},26,null,"(3→ 4)",{"$f":"BI159","v":1.1043460534189542},null,{"$f":"BI127+BI134+BI98","v":17.143835167507035},{"$f":"BI103+BI97","v":149.79309751611007},29,null,{"$f":"BK120","v":26.133553493558441},{"$f":"BL120","v":129.27533765005762},"شیفت14",null,{"$f":"BD102","v":12.460665312485961},149.76712499807095,25,"نقطه یقه",{"$f":"BS104+SQRT(POWER(BS105-BS104,2)+POWER(BT105-BT104,2))*SIN(BT103-ATAN((BS104-BS105)/(BT105-BT104)))","v":12.460665312485961},{"$f":"BT104+SQRT(POWER(BS105-BS104,2)+POWER(BT105-BT104,2))*COS(BT103-ATAN((BS104-BS105)/(BT105-BT104)))","v":149.76712499807095},{"$f":"BU105","v":25},null,{"$f":"BK104","v":12.467615275126056},{"$f":"BL104","v":149.79309751611007},23,"نقطه یقه",{"$f":"CA104+SQRT(POWER(CA105-CA104,2)+POWER(CB105-CB104,2))*SIN(CB103-ATAN((CA104-CA105)/(CB105-CB104)))","v":12.467615275126056},{"$f":"CB104+SQRT(POWER(CA105-CA104,2)+POWER(CB105-CB104,2))*COS(CB103-ATAN((CA104-CA105)/(CB105-CB104)))","v":149.79309751611007},{"$f":"CC105","v":23},null,null,{"$f":"'متغیرها '!C55","v":0},"شیفت افقی تکه پهلو",null,{"$f":"CI120+CJ105","v":21.24703926758998},{"$f":"CJ120","v":132.17773283064065},"شیفت 20f",null,null,{"$f":"'متغیرها '!C56","v":0},"شیفت افقی تکه پهلو",null,{"$f":"CQ123+CR105","v":21.516909786642003},{"$f":"CR123+CR106","v":133.257899378107},"شیفت 16f",null,{"$f":"-CU105+CZ101","v":-11.516909786642003},133.257899378107,"شیفت 16f",null,{"$f":"AZ180-DD122","v":15.146419999999999},{"$f":"BA180","v":101.14},"47''",null,{"$f":"DC112-(DC106-DC109)","v":21.020117552375901},{"$f":"DD112","v":51.137952313167972},"50''s",null,24.59,110.15991329666905,"41شیفت",null,{"$f":"BO126","v":16.204999999999998},{"$f":"BP126","v":131.88439243697479},"شیفت40",null,{"$f":"DO109+DL109","v":31.388610929085637},{"$f":"DP109","v":89.504346053418971},"شیفت42m",null,null,21.24703926758998,132.17773283064065,"20f",null,{"$f":"-DX105+ED137","v":-11.24703926758998},132.17773283064065,"20f",null,21.516909786642003,133.257899378107," 16f",null,{"$f":"-EF105+ED138","v":-11.516909786642003},133.257899378107," 16f",null,null,null,null,null,{"$f":"BW136","v":19.121726907281925},{"$f":"BX136","v":141.5805951944748},"b12","نقطه حلقه آستین",{"$f":"CE119","v":20.850156966482285},{"$f":"CF119","v":142.05015558867842},"b12","نقطه حلقه آستین",null,null,{"$f":"BW132+BT130","v":26.945420625789474},{"$f":"BX132","v":131.39223733364972},"شیفتb4",null,null,null,null,null,{"$f":"AZ172","v":26.664999999999999},{"$f":"BA172","v":89.559913296669052},"شیفت 45",null,21.020117552375901,51.137952313167972,"50''s",null,{"$f":"AZ179","v":16.183920000000001},{"$f":"BA179","v":108},"شیفت 40",null,22.498015041294021,51.659913296669046,"49'شیفتm",null,null,null,null,null,{"$f":"IF('متغیرها '!C119=1,EV121,CE119)+CB112","v":20.850156966482285},{"$f":"IF('متغیرها '!C119=1,EW121,CF119)+CB113","v":142.05015558867842},"شیفت b12 یا b'12p",null,{"$f":"-GD105+FK99","v":-10.850156966482285},142.05015558867842,"شیفت b12 یا b'12p",null,null,null,null,null,null,null,null,null,{"$f":"DS102","v":30.626146551053591},{"$f":"DT102","v":129.42233765005761},{"$f":"DU102","v":"شیفت8m"},null,{"$f":"-GT105+GA99","v":-20.626146551053591},{"$f":"GU105","v":129.42233765005761},{"$f":"ES102","v":"مولفه عمودی"},null,{"$f":"DS102","v":30.626146551053591},{"$f":"DT102","v":129.42233765005761},{"$f":"DU102","v":"شیفت8m"},null,{"$f":"-HB105+GI99","v":-20.626146551053591},{"$f":"HC105","v":129.42233765005761},{"$f":"ES102","v":"مولفه عمودی"},null,null,null,{"$f":"-CM104-HY101","v":-9.544139936642118},135.75956076797357,"شیفت 16f",null,{"$f":"-CM114-HY101","v":-6.0990211212322052},{"$f":"CN114","v":148.57586852114349},"شیفت وسط 22f",null,{"$f":"-FV104-HY101","v":-13.531389070914361},{"$f":"FW104","v":89.559913296669052},"شیفت 45m",null,null,null,null,null,null,null,null,null,{"$f":"-FN105-HY101","v":-11.020117552375901},51.137952313167972,"50''s",null,{"$f":"-CR155-HY101","v":-3.7439199999999992},{"$f":"CS155","v":108},"39 یا d5",null,{"$f":"-FD251-HY101","v":17.149999999999999},{"$f":"FE251","v":50.5},"1'",null,{"$f":"-AF268-HY101","v":-40.514113516868775},{"$f":"AG268","v":56.289651271909747},"c2",null,{"$f":"-DI233-HY101","v":-10.387621359223303},{"$f":"DJ233","v":92.090717932442601},"m6",null,{"$f":"-ES234-HY101","v":-13.247700388235955},{"$f":"ET234","v":56.403199999999998},"p7"]
[null,"شیفت عمودی تکه پشت",{"$f":"HW323","v":0},null,"فاصله نوار کمر تا زمین، از قسمت پشت","g",null,{"$f":"'متغیرها '!U58+'متغیرها '!C63*'متغیرها '!U58","v":105},{"$f":"'متغیرها '!U58","v":105},null,2,2,"e10","نقطه دوم خط تقارن",null,null,{"$f":"L115-L136","v":19.234000000000002},{"$f":"L127+L137","v":22.947904893307705},20,null,null,null,null,null,null,null,null,null,null,null,null,"انحنا ساسون کمر ",null,null,null,{"$f":"AR152","v":13.704499919681567},38.410044990437356,36,null,null,null,null,null,null,null,null,null,null,"(4 → 5)",{"$f":"U142","v":9.9639200000000017},null,{"$f":"AX99","v":5},{"$f":"0+AX98","v":50.5},1,null,null,null,null,{"$f":"BG108+0.5*(AV100-AV104+BG99-BG108)","v":22.441892810983976},"(1 → 5)",{"$f":"BI108+0.5*(AX100-AX104+BI99-BI108)","v":22.081267810983974},null,{"$f":"BI127+BI134+BI98","v":17.143835167507035},{"$f":"BI103-BI135+BI97","v":148.62065010740045},30,null,{"$f":"BK114","v":28.962535621967952},{"$f":"BL114","v":128.54033765005761},"شیفت9",null,10.968532249988769,145.36876913123012,30,"نقطه یقه",{"$f":"BS104+SQRT(POWER(BS106-BS104,2)+POWER(BT106-BT104,2))*SIN(BT103-ATAN((BS104-BS106)/(BT106-BT104)))","v":10.968532249988769},{"$f":"BT104+SQRT(POWER(BS106-BS104,2)+POWER(BT106-BT104,2))*COS(BT103-ATAN((BS104-BS106)/(BT106-BT104)))","v":145.36876913123012},30,null,{"$f":"BK135","v":10.600711456344541},{"$f":"BL135","v":148.23154216796843},28,"نقطه یقه",{"$f":"CA104+SQRT(POWER(CA106-CA104,2)+POWER(CB106-CB104,2))*SIN(CB103-ATAN((CA104-CA106)/(CB106-CB104)))","v":10.600711456344541},{"$f":"CB104+SQRT(POWER(CA106-CA104,2)+POWER(CB106-CB104,2))*COS(CB103-ATAN((CA104-CA106)/(CB106-CB104)))","v":148.23154216796843},28,null,"نقاط  ورودی",null,null,null,{"$f":"CI121+CJ105","v":24.294090289765236},{"$f":"CJ121","v":129.67045327450759},"شیفت 18f",null,null,{"$f":"'متغیرها '!C57","v":0},"شیفت عمودی تکه پهلو",null,{"$f":"CQ124+CR105","v":24.56682773649705},{"$f":"CR124+CR106","v":130.23865987215538},"شیفت 14f",null,{"$f":"-CU106+CZ101","v":-14.56682773649705},130.23865987215538,"شیفت 14f",null,{"$f":"AZ181-DD122","v":15.146419999999999},{"$f":"BA181","v":50.5},53,null,{"$f":"DC113-(DC106-DC109)","v":23.379288895711323},{"$f":"DD113","v":51.543921967002142},"50'''s",null,26.664999999999999,89.559913296669052,"45شیفت",null,{"$f":"BK122","v":27.492535621967953},{"$f":"BL122","v":128.54033765005761},"شیفت8",null,{"$f":"DO110+DL109","v":30.164285826067683},{"$f":"DP110","v":51.604346053418951},"شیفت43''m",null,null,24.294090289765236,129.67045327450759," 18f",null,{"$f":"-DX106+ED137","v":-14.294090289765236},129.67045327450759," 18f",null,24.56682773649705,130.23865987215538," 14f",null,{"$f":"-EF106+ED138","v":-14.56682773649705},130.23865987215538," 14f",null,null,null,null,null,{"$f":"BW135","v":19.544139936642118},{"$f":"BX135","v":135.75956076797357},"b6","نقطه حلقه آستین",{"$f":"CE118","v":20.697248422425545},{"$f":"CF118","v":135.89075991533232},"b6","نقطه حلقه آستین",null,null,{"$f":"BW133+BT130","v":23.694781572298297},{"$f":"BX133","v":131.56770014681231},"شیفتb8",null,{"$f":"BW114","v":10.645343712110673},{"$f":"BX114","v":145.32071179965874},"e5",null,null,null,null,null,23.379288895711323,51.543921967002142,"50'''s",null,{"$f":"BD178","v":24.59},{"$f":"BE178","v":110.15991329666905},"شیفت 41",null,null,null,null,null,{"$f":"EO166","v":24.079610787798135},{"$f":"EP166","v":121.35237891788319},"a2",null,{"$f":"EW152+CB112","v":21.394495082070108},{"$f":"EX152+CB113","v":147.46585451004972},"شیفت 18b",null,{"$f":"-GD106+FK99","v":-11.394495082070108},147.46585451004972,"شیفت 18b",null,null,null,"9پهلو ترک",null,null,null,"پهلو ترک",null,null,null,null,null,null,null,null,null,null,null,null,null,null,null,null,null,null,null,{"$f":"-CM105-HY101","v":-11.24703926758998},132.17773283064065,"شیفت 20f",null,null,null,null,null,{"$f":"-FV105-HY101","v":-12.498015041294021},{"$f":"FW105","v":51.659913296669046},"شیفت 49'm",null,{"$f":"-FB104-HY101","v":-18.379848414360417},{"$f":"FC104","v":131.71366682728006},"شیفتb14",null,{"$f":"-FJ104-HY101","v":-14.59},{"$f":"FK104","v":110.15991329666905},"شیفت 41",null,{"$f":"-FN106-HY101","v":-13.379288895711323},51.543921967002142,"50'''s",null,{"$f":"-CR158-HY101","v":-3.9012084004542267},{"$f":"CS158","v":106.96},"d5",null,{"$f":"-FD252-HY101","v":-4.7814200000000007},{"$f":"FE252","v":50.5},52,null,null,null,null,null,{"$f":"-DI234-HY101","v":-16.169417475728153},{"$f":"DJ234","v":92.320000000000007},"m4"]
[null,null,null,null,"فاصله نوار زانو تا زمین","h",null,{"$f":"'متغیرها '!U59+'متغیرها '!C63*'متغیرها '!U59","v":45.5},{"$f":"'متغیرها '!U59","v":45.5},null,1,2,"e3","نقطه قرینه خواسته",null,null,{"$f":"L115-L134","v":20.740000000000002},{"$f":"L127+L135","v":21.477904893307706},18,null,{"$f":"L143","v":6.6424000000000003},{"$f":"L114","v":42},25,null,null,null,null,null,null,null,null,{"$f":"AR130","v":22.492535621967953},{"$f":"AS130","v":14.709385757077992},16,null,13.11072840542038,36.334606006316221,"36-",null,null,null,null,null,null,null,null,null,null,"(1 → 6)",{"$f":"AX110+(AX111-AX108)*TAN(AX101)","v":22.396094211054425},null,{"$f":"AX107+AX99","v":27.396094211054425},{"$f":"0+AX98","v":50.5},6,null,{"$f":"J236","v":-7.1499999999999986},{"$f":"K236","v":120.6},"e1",null,"(5 → 6)",{"$f":"H108-H114+Y128+0.5*(H106-H104)","v":39.004346053418963},null,null,null,null,null,null,null,null,null,7.9842661249943845,141.85008443775746,28,"نقطه یقه",{"$f":"BS104+SQRT(POWER(BS107-BS104,2)+POWER(BT107-BT104,2))*SIN(BT103-ATAN((BS104-BS107)/(BT107-BT104)))","v":7.9842661249943845},{"$f":"BT104+SQRT(POWER(BS107-BS104,2)+POWER(BT107-BT104,2))*COS(BT103-ATAN((BS104-BS107)/(BT107-BT104)))","v":141.85008443775746},28,null,{"$f":"BK132","v":7.9870461100504224},{"$f":"BL132","v":147.45076449389759},26,"نقطه یقه",{"$f":"CA104+SQRT(POWER(CA107-CA104,2)+POWER(CB107-CB104,2))*SIN(CB103-ATAN((CA104-CA107)/(CB107-CB104)))","v":7.9870461100504198},{"$f":"CB104+SQRT(POWER(CA107-CA104,2)+POWER(CB107-CB104,2))*COS(CB103-ATAN((CA104-CA107)/(CB107-CB104)))","v":147.45076449389759},26,null,"مولفه افقی","مولفه عمودی","اسم نقطه ",null,{"$f":"CI110+CJ105","v":28.25},{"$f":"CJ110","v":128.5959048933077},"شیفت 12",null,null,{"$f":"'متغیرها '!C71","v":0.15000000000000002},"x6",null,{"$f":"CQ113+CR105","v":28.962535621967952},{"$f":"CR113+CR106","v":128.54033765005761},"شیفت 9",null,{"$f":"-CU107+CZ101","v":-18.962535621967952},128.54033765005761,"شیفت 9",null,{"$f":"AZ166","v":13.743919999999999},{"$f":"BA166","v":108},39,null,{"$f":"DC114-(DC106-DC109)","v":25.266625970379661},{"$f":"DD114","v":51.659913296669046},"49's",null,25.631625970379659,51.659913296669046,"49'شیفت",null,{"$f":"BO170","v":27.492535621967953},{"$f":"BP170","v":124.71833765005761},"شیفت10",null,{"$f":"DO106","v":27.492535621967953},{"$f":"DP106+0.5*(DT102-DP106)","v":128.98133765005761},"شیفت8'm",null,null,{"$f":"CI110","v":28.25},{"$f":"CJ110","v":128.5959048933077},12,null,{"$f":"-DX107+ED137","v":-18.25},128.5959048933077,12,null,{"$f":"CQ113","v":28.962535621967952},{"$f":"CR113","v":128.54033765005761},9,null,{"$f":"-EF107+ED138","v":-18.962535621967952},128.54033765005761,9,null,null,null,null,null,{"$f":"BW134","v":21.538683264280159},{"$f":"BX134","v":132.59101161939529},"b10","نقطه حلقه آستین",{"$f":"CE117","v":22.736136122695036},{"$f":"CF117","v":131.48095154050506},"b10","نقطه حلقه آستین",null,null,{"$f":"IF('متغیرها '!C119=1,ER123,BW134)+BT130","v":21.538683264280159},{"$f":"IF('متغیرها '!C119=1,ES123,BX134)","v":132.59101161939529},"شیفت b10 یا b'10g",null,{"$f":"BW117","v":-5.9030139150376559},{"$f":"BX117","v":141.83588586398446},"e9",null,{"$f":"AZ172","v":26.664999999999999},{"$f":"BA172","v":89.559913296669052},"شیفت 45",null,25.266625970379661,51.659913296669046,"49's",null,null,null,"باسن",null,{"$f":"DK124","v":22.498015041294021},{"$f":"DL124","v":51.659913296669046},{"$f":"DM124","v":"49'شیفتm"},null,{"$f":"EO170","v":15.118820990675312},{"$f":"EP170","v":114.26714102609486},"a6",null,null,null,null,null,null,null,null,null,{"$f":"BO170","v":27.492535621967953},{"$f":"BP170","v":124.71833765005761},"شیفت 10",null,{"$f":"-GL107+FS99","v":-17.492535621967953},{"$f":"GM107","v":124.71833765005761},"شیفت 10",null,{"$f":"DS102","v":30.626146551053591},129.42233765005761,"شیفت8m",null,{"$f":"-GT107+GA99","v":-20.626146551053591},{"$f":"GU107","v":129.42233765005761},{"$f":"ES102","v":"مولفه عمودی"},null,{"$f":"DS102","v":30.626146551053591},129.42233765005761,"شیفت8m",null,{"$f":"-HB107+GI99","v":-20.626146551053591},{"$f":"HC107","v":129.42233765005761},{"$f":"ES102","v":"مولفه عمودی"},null,null,null,{"$f":"-CM106-HY101","v":-14.294090289765236},129.67045327450759,"شیفت 18f",null,{"$f":"-CM116-HY101","v":-6.0990211212322052},{"$f":"CN116","v":148.57586852114349},"شیفت وسط 22f",null,null,null,null,null,{"$f":"-FB105-HY101","v":-16.945420625789474},131.39223733364972,"شیفتb4",null,{"$f":"-FJ107-HY101","v":-16.664999999999999},{"$f":"FK107","v":89.559913296669052},"شیفت 45",null,{"$f":"-FN107-HY101","v":-15.266625970379661},51.659913296669046,"49's",null,null,null,null,null,null,null,null,null,{"$f":"-AF270-HY101","v":-4.7649999999999988},{"$f":"AG270","v":50.5},"3'",null,null,null,null,null,{"$f":"-ES236-HY101","v":-13.247700388235955},{"$f":"ET236","v":56.403199999999998},"p7"]
[null,null,null,null,"فاصله نوار باسن تا زمین","j",null,{"$f":"'متغیرها '!U60+'متغیرها '!C63*'متغیرها '!U60","v":83.4},{"$f":"'متغیرها '!U60","v":83.4},null,{"$f":"K107+2*(SIN(ATAN((K106-K105)/(L106-L105)))*(L107-L105)+COS(ATAN((K106-K105)/(L106-L105)))*(K105-K107))*COS(ATAN((K106-K105)/(L106-L105)))","v":2},{"$f":"L107-2*(SIN(ATAN((K106-K105)/(L106-L105)))*(L107-L105)+COS(ATAN((K106-K105)/(L106-L105)))*(K105-K107))*SIN(ATAN((K106-K105)/(L106-L105)))","v":1.0000000000000002},"e11","نقطه قرینه شده نسبت به خط تقارن",null,null,{"$f":"L115","v":23.25},{"$f":"L127","v":20.595904893307704},12,null,{"$f":"L143+L150","v":12.141550341093438},{"$f":"L114-L151","v":40.611569031406511},32,null,null,null,null,null,null,null,null,{"$f":"AR126+0.5*(AR130-AR126)","v":21.621267810983976},{"$f":"IF(G151>0,AS126+0.65*(AS130-AS126),AS126)","v":9.5611007421006953},null,null,12.665399769724489,34.555658305640961,"36--",null,null,null,null,null,null,null,null,null,null,"(6 → 7)",{"$f":"AX166","v":1.1599132966690484},null,{"$f":"AX107+AX99","v":27.396094211054425},{"$f":"AX108+AX98","v":51.659913296669046},7,null,{"$f":"J232","v":11.714598781237363},{"$f":"K232","v":147.12811147796646},"e7",{"$f":"0.5*'متغیرها '!U73+AE127","v":22.492535621967953},"(1 → 7)",{"$f":"0.5*H121+'متغیرها '!C61*H120+AD127","v":22.492535621967953},null,null,null,null,null,{"$f":"BK150","v":5},{"$f":"BL150","v":124},"سینه",null,{"$f":"BD105","v":5},{"$f":"BE105","v":140.97041326438926},26,"نقطه یقه",{"$f":"BS104+SQRT(POWER(BS108-BS104,2)+POWER(BT108-BT104,2))*SIN(BT103-ATAN((BS104-BS108)/(BT108-BT104)))","v":5},{"$f":"BT104+SQRT(POWER(BS108-BS104,2)+POWER(BT108-BT104,2))*COS(BT103-ATAN((BS104-BS108)/(BT108-BT104)))","v":140.97041326438926},26,null,{"$f":"BK138","v":5},{"$f":"BL138","v":147.19050526920734},24,"نقطه یقه",{"$f":"CA104+SQRT(POWER(CA108-CA104,2)+POWER(CB108-CB104,2))*SIN(CB103-ATAN((CA104-CA108)/(CB108-CB104)))","v":5},{"$f":"CB104+SQRT(POWER(CA108-CA104,2)+POWER(CB108-CB104,2))*COS(CB103-ATAN((CA104-CA108)/(CB108-CB104)))","v":147.19050526920734},24,null,{"$f":"BW163","v":19.544139936642118},{"$f":"BX163","v":135.75956076797357},"b6","با چرخش کامل",{"$f":"CI111+CJ105","v":29.72},{"$f":"CJ111","v":128.5959048933077},"شیفت 13",null,null,{"$f":"'متغیرها '!C76","v":0.5},"x8",null,null,null,null,null,null,null,null,null,{"$f":"AZ176","v":14.781420000000001},{"$f":"BA176","v":101.14},"47'",null,{"$f":"DC115-(DC106-DC109)","v":26.3},89.559913296669052,"45s",null,{"$f":"AZ181","v":15.146419999999999},{"$f":"BA181","v":50.5},"53شیفت",null,{"$f":"BK162","v":25.75},{"$f":"BL162","v":110.10434605341895},"شیفت36",null,{"$f":"DO103+0.35*(DO104-DO103)","v":21.411090597335384},{"$f":"DP104+0.45*(DP103-DP104)","v":133.4648376500576},"شیفت12m",null,null,{"$f":"CI111","v":29.72},{"$f":"CJ111","v":128.5959048933077},13,null,{"$f":"-DX108+ED137","v":-19.72},128.5959048933077,13,null,null,null,null,null,null,null,null,null,null,null,null,null,{"$f":"BW133","v":23.694781572298297},{"$f":"BX133","v":131.56770014681231},"b8","نقطه حلقه آستین",{"$f":"CE116","v":26.133798687040645},{"$f":"CF116","v":129.27627089306489},"b8","نقطه حلقه آستین",null,null,{"$f":"IF('متغیرها '!C119=1,ER122,BW135)+BT130","v":19.544139936642118},{"$f":"IF('متغیرها '!C119=1,ES122,BX135)","v":135.75956076797357},"شیفت b6 یا b'6g",null,null,null,null,null,{"$f":"BD180","v":25.631625970379659},{"$f":"BE180","v":51.659913296669046},"شیفت49'  …",null,null,null,null,null,{"$f":"FR102","v":5},{"$f":"FS102-(H104-H108)","v":88.4},"g46",null,{"$f":"DG139","v":21.385117552375899},{"$f":"DH139","v":51.137952313167972},"50''شیفت",null,{"$f":"EO171","v":10.51041480929786},{"$f":"EP171","v":93.011427350729917},"a7",null,{"$f":"CE122+CB112","v":28.96284988906315},{"$f":"CF122+CB113","v":128.54153680565952},"شیفت b14",null,{"$f":"-GD108+FK99","v":-18.96284988906315},{"$f":"GE108","v":128.54153680565952},"شیفت b14",null,{"$f":"BK162","v":25.75},{"$f":"BL162","v":110.10434605341895},"شیفت 36",null,{"$f":"-GL108+FS99","v":-15.75},{"$f":"GM108","v":110.10434605341895},"شیفت 36",null,30.626146551053591,124.71833765005761,"شیفت10m",null,{"$f":"-GT108+GA99","v":-20.626146551053591},{"$f":"GU108","v":124.71833765005761},{"$f":"ES103","v":148.06540974243791},null,30.626146551053591,124.71833765005761,"شیفت10m",null,{"$f":"-HB108+GI99","v":-20.626146551053591},{"$f":"HC108","v":124.71833765005761},{"$f":"ES103","v":148.06540974243791},null,null,null,{"$f":"-CM107-HY101","v":-18.25},128.5959048933077,"شیفت 12",null,{"$f":"-CM117-HY101","v":-4.9639200000000017},{"$f":"CN117","v":124.1},"شیفت5 پیراهن",null,{"$f":"-FV107-HY101","v":-12.498015041294021},{"$f":"FW107","v":51.659913296669046},"شیفت 49'm",null,{"$f":"-FB106-HY101","v":-13.694781572298297},131.56770014681231,"شیفتb8",null,null,null,null,null,null,null,null,null,{"$f":"-CR158-HY101","v":-3.9012084004542267},{"$f":"CS158","v":106.96},"d5",null,{"$f":"-FD254-HY101","v":5},{"$f":"FE254","v":103.58445930171638},"p26",null,{"$f":"-AF271-HY101","v":-22.639556758434388},{"$f":"AG271","v":52.236895381572921},"c5",null,{"$f":"-DI236-HY101","v":5},{"$f":"DJ236","v":80.855896622129563},"m1",null,{"$f":"-ES237-HY101","v":-13.247700388235955},{"$f":"ET237","v":50.5},"p8"]
[null,null,null,null,"دور زانو","L",null,{"$f":"'متغیرها '!U61","v":38.1},{"$f":"'متغیرها '!U61","v":38.1},null,null,null,null,null,null,null,null,null,null,null,null,null,null,null,null,null,null,null,null,null,null,{"$f":"AR126+0.15*(AR130-AR126)","v":21.011380343295194},{"$f":"IF(G151>0,AS126+0.3*(AS130-AS126),AS126)","v":4.4128157271233972},null,null,{"$f":"AR156","v":12.220071134028599},{"$f":"AS156","v":32.480219321519826},38,null,null,null,null,null,null,null,null,null,null,"(3 → 7)","هلال وصل",null,null,null,null,null,null,null,null,null,"(4 → 7)","هلال وصل",null,{"$f":"BI108-BI114+BI122+BI98+'متغیرها '!C56","v":20.851112473896507},{"$f":"BI110+BI115+BI97+'متغیرها '!C57","v":135.8903376500576},"شیفت19",null,{"$f":"BK151","v":10.602499999999999},{"$f":"BL151","v":124},null,null,{"$f":"AZ138","v":17.097502083239732},{"$f":"BA138","v":148.44749998713974},32,"نقطه ساسون سرشانه",{"$f":"BS104+SQRT(POWER(BS109-BS104,2)+POWER(BT109-BT104,2))*SIN(BT103-ATAN((BS104-BS109)/(BT109-BT104)))","v":17.097502083239732},{"$f":"BT104+SQRT(POWER(BS109-BS104,2)+POWER(BT109-BT104,2))*COS(BT103-ATAN((BS104-BS109)/(BT109-BT104)))","v":148.44749998713974},32,null,{"$f":"BK106","v":17.143835167507035},{"$f":"BL106","v":148.62065010740045},30,"نقطه ساسون سرشانه",{"$f":"CA104+SQRT(POWER(CA109-CA104,2)+POWER(CB109-CB104,2))*SIN(CB103-ATAN((CA104-CA109)/(CB109-CB104)))","v":17.143835167507035},{"$f":"CB104+SQRT(POWER(CA109-CA104,2)+POWER(CB109-CB104,2))*COS(CB103-ATAN((CA104-CA109)/(CB109-CB104)))","v":148.62065010740045},30,null,{"$f":"BW105","v":12.460665312485961},{"$f":"BX105","v":149.76712499807095},25,"نقطه اتصال سرشانه به گردن",null,null,null,null,null,{"$f":"'متغیرها '!C78","v":0},"x10",null,{"$f":"CQ113+CR105","v":28.962535621967952},{"$f":"CR113+CR106","v":128.54033765005761},"شیفت 9",null,{"$f":"-CU109+CZ101","v":-18.962535621967952},{"$f":"CV109","v":128.54033765005761},"شیفت 9",null,{"$f":"AZ177","v":14.781420000000001},{"$f":"BA177","v":50.5},52,null,{"$f":"DC118+DD122","v":23.694781572298297},{"$f":"DD118","v":131.56770014681231},"b8s",null,null,{"$f":"AX119","v":3.1336109290856378},"(12 →17)",null,{"$f":"BK165","v":28.254999999999999},{"$f":"BL165","v":89.504346053418971},"شیفت42",null,{"$f":"DO104+0.4*(DS107-DO104)","v":24.638673152307977},{"$f":"DT107+0.35*(DP104-DT107)","v":129.85598765005761},"شیفت8''m",null,null,null,null,null,null,null,null,null,null,{"$f":"CQ113","v":28.962535621967952},{"$f":"CR113","v":128.54033765005761},9,null,{"$f":"-EF109+ED138","v":-18.962535621967952},{"$f":"EG109","v":128.54033765005761},9,null,null,null,null,null,null,{"$f":"'متغیرها '!C120*F137","v":0.15},"g0",null,null,null,null,null,null,null,{"$f":"IF('متغیرها '!C119=1,ER121,BW136)+BT130","v":19.121726907281925},{"$f":"IF('متغیرها '!C119=1,ES121,BX136)","v":141.5805951944748},"شیفت b12 یا b'12g",null,{"$f":"BW117","v":-5.9030139150376559},{"$f":"BX117","v":141.83588586398446},"e9",null,null,null,"چیب",null,{"$f":"DG107","v":25.266625970379661},{"$f":"DH107","v":51.659913296669046},"49's",null,{"$f":"AZ176","v":14.781420000000001},{"$f":"FS108","v":88.4},"g47'",null,{"$f":"DG138","v":19.025946209040473},{"$f":"DH138","v":50.731982659333809},"50'شیفت",null,{"$f":"EO169","v":11.278482506194102},{"$f":"EP169","v":50.5},"a5",null,{"$f":"CE123+CB112","v":27.49320914332904},{"$f":"CF123+CB113","v":124.71939865032314},"شیفت b2",null,{"$f":"-GD109+FK99","v":-17.49320914332904},{"$f":"GE109","v":124.71939865032314},"شیفت b2",null,null,null,null,null,null,null,null,null,28.883610929085638,110.10434605341895,"شیفت36m",null,{"$f":"-GT109+GA99","v":-18.883610929085638},{"$f":"GU109","v":110.10434605341895},{"$f":"ES104","v":149.76712499807095},null,{"$f":"DS105","v":31.388610929085637},89.504346053418971,"شیفت42m",null,{"$f":"-HB109+GI99","v":-21.388610929085637},{"$f":"HC109","v":89.504346053418971},{"$f":"ES105","v":141.5805951944748},null,null,null,{"$f":"-CM108-HY101","v":-19.72},128.5959048933077,"شیفت 13",null,null,null,null,null,{"$f":"-FV108-HY101","v":-11.385117552375899},{"$f":"FW108","v":51.137952313167972},"50''شیفت",null,{"$f":"-FB107-HY101","v":-11.538683264280159},132.59101161939529,"شیفت b10 یا b'10g",null,{"$f":"-FJ107-HY101","v":-16.664999999999999},{"$f":"FK107","v":89.559913296669052},"شیفت 45",null,{"$f":"-FN109-HY101","v":-15.266625970379661},{"$f":"FO109","v":51.659913296669046},"49's",null,{"$f":"-CR161-HY101","v":5},{"$f":"CS161","v":106.96},"_u5",null,{"$f":"-FD255-HY101","v":5},{"$f":"FE255","v":50.5},1,null,{"$f":"-AF272-HY101","v":-40.514113516868775},{"$f":"AG272","v":56.289651271909747},"c2",null,{"$f":"-DI237-HY101","v":0.34999999999999964},{"$f":"DJ237","v":80.855896622129563},"m2"]
[null,null,null,null,"بلندی فاق","m",null,{"$f":"1.06*'متغیرها '!U62+0.03*'متغیرها '!U56*'متغیرها '!U66*IF('متغیرها '!U66=1,0.2,0.6)+'متغیرها '!C63*'متغیرها '!U62","v":27.983999999999998},{"$f":"1.06*'متغیرها '!U62+0.03*'متغیرها '!U56*'متغیرها '!U66*IF('متغیرها '!U66=1,0.2,0.6)","v":27.983999999999998},null,null,null,null,null,null,null,null,null,null,null,{"$f":"L115-L132+L138-L153","v":17.368369552128954},{"$f":"L127+L133+L139+L154","v":39.390709103685296},34,null,null,null,null,null,null,null,null,{"$f":"AR126","v":20.75},{"$f":"AS126","v":0},12,null,{"$f":"AR150","v":12.17432955411566},{"$f":"AS150","v":35.550434714460138},"34--",null,null,null,null,null,null,null,null,null,{"$f":"AV104+0.5*(AV100-AV104+BG99-BG108)","v":23.199357189016023},"(1 → 8)",{"$f":"AX104+0.5*(AX100-AX104+BI99-BI108)","v":22.838732189016021},null,{"$f":"0+AX99","v":5},{"$f":"H104-H114+AX98","v":108},"کمر",null,{"$f":"AZ131","v":22.922861420554415},{"$f":"BA131","v":98.7},"35شیفت",{"$f":"'متغیرها '!U58-'متغیرها '!U59+H153*(I127-I126)+Y128","v":78.040337650057609},"(7→ 8)",{"$f":"H106-H114+G153*(H127-H126)-AX118*'متغیرها '!C77/(1+'متغیرها '!C77)+Y128","v":78.040337650057609},null,{"$f":"BI108-BI114+BI122+BI98+'متغیرها '!C56","v":20.851112473896507},{"$f":"BI110+BI115+BI123+BI97+'متغیرها '!C57","v":142.04971892360066},"شیفت20",null,"انحنای حلقه یقه پشت",null,null,null,{"$f":"BD98","v":-7.1499999999999986},{"$f":"BE98","v":140.97041326438926},"26'","نقطه جادکمه",{"$f":"BS104+SQRT(POWER(BS110-BS104,2)+POWER(BT110-BT104,2))*SIN(BT103-ATAN((BS104-BS110)/(BT110-BT104)))","v":-7.15},{"$f":"BT104+SQRT(POWER(BS110-BS104,2)+POWER(BT110-BT104,2))*COS(BT103-ATAN((BS104-BS110)/(BT110-BT104)))","v":140.97041326438926},"26'",null,{"$f":"BK153","v":5},{"$f":"BL153","v":131.88439243697479},39,"امتداد نقطه مرکزی چرخش",{"$f":"CA104+SQRT(POWER(CA110-CA104,2)+POWER(CB110-CB104,2))*SIN(CB103-ATAN((CA104-CA110)/(CB110-CB104+0.001)))","v":5.0000000446229365},{"$f":"CB104+SQRT(POWER(CA110-CA104,2)+POWER(CB110-CB104,2))*COS(CB103-ATAN((CA104-CA110)/(CB110-CB104+0.001)))","v":131.88539243697082},39,null,{"$f":"AZ113","v":28.25},{"$f":"BA113","v":128.5959048933077},12,null,{"$f":"CM108","v":29.72},{"$f":"CN108","v":128.5959048933077},"شیفت13",null,{"$f":"BK103","v":5},{"$f":"BL103","v":149.79309751611007},2,null,{"$f":"CQ115","v":27.492535621967953},{"$f":"CR115","v":124.71833765005761},"شیفت 10",null,{"$f":"-CU110+CZ101","v":-17.492535621967953},{"$f":"CV110","v":124.71833765005761},"شیفت 10",null,{"$f":"BD186-DD122","v":16.194940597037967},{"$f":"BE186","v":50.5},50,null,{"$f":"DC119+DD122","v":26.945420625789474},{"$f":"DD119","v":131.39223733364972},"b4s",null,null,{"$f":"AX120","v":0.88200000000000001},"(17 →18)",null,{"$f":"BK172","v":27.030674896982045},{"$f":"BL172","v":51.604346053418951},"شیفت43''",null,{"$f":"CE108","v":5},{"$f":"CF108","v":147.19050526920734},"24m",null,null,{"$f":"CI111","v":29.72},{"$f":"DY108","v":128.5959048933077},13,null,{"$f":"-DX110+ED137","v":-19.72},{"$f":"DY110","v":128.5959048933077},13,null,{"$f":"CQ115-CR105","v":27.492535621967953},{"$f":"CR115-CR106","v":124.71833765005761},10,null,{"$f":"-EF110+ED138","v":-17.492535621967953},{"$f":"EG110","v":124.71833765005761},10,null,null,null,null,null,null,{"$f":"'متغیرها '!C121","v":2},"g1",null,null,null,null,null,null,null,{"$f":"ER151+BT130","v":19.920460184778864},{"$f":"ES151","v":148.06540974243791},"شیفت22b ",null,{"$f":"BW127","v":-10.220964569242115},{"$f":"BX127","v":142.45104831450004},"e10",null,{"$f":"FN178","v":20.359420446328528},{"$f":"FO178","v":105.74299619279039},"37شیفت ",null,{"$f":"IF(DH108>DH120,DG120,DG108)","v":26.3},{"$f":"IF(DH108>DH120,DH120,DH108)","v":89.559913296669052},"45s یا s2",null,null,null,null,null,{"$f":"DG137","v":16.194940597037967},{"$f":"DH137","v":50.5},"50شیفت",null,null,null,null,null,null,null,null,null,null,null,null,null,{"$f":"BK162","v":25.75},{"$f":"BL162","v":110.10434605341895},"شیفت 36",null,{"$f":"-GL110+FS99","v":-15.75},{"$f":"GM110","v":110.10434605341895},"شیفت 36",null,31.388610929085637,89.504346053418971,"شیفت42m",null,{"$f":"-GT110+GA99","v":-21.388610929085637},{"$f":"GU110","v":89.504346053418971},{"$f":"ES105","v":141.5805951944748},null,30.164285826067683,51.604346053418951,"شیفت43''m",null,{"$f":"-HB110+GI99","v":-20.164285826067683},{"$f":"HC110","v":51.604346053418951},{"$f":"ES106","v":135.75956076797357},null,null,null,null,null,null,null,{"$f":"-CM119-HY101","v":-4.9639200000000017},{"$f":"CN119","v":124.1},"شیفت 5 پیراهن",null,{"$f":"-FV109-HY101","v":-9.0259462090404732},{"$f":"FW109","v":50.731982659333809},"50'شیفت",null,{"$f":"-FB108-HY101","v":-9.544139936642118},135.75956076797357,"شیفت b6 یا b'6g",null,{"$f":"-FJ108-HY101","v":-15.631625970379659},{"$f":"FK108","v":51.659913296669046},"شیفت49'  …",null,{"$f":"-FN110-HY101","v":-16.3},{"$f":"FO110","v":89.559913296669052},"45s یا s2",null,null,null,null,null,null,null,null,null,null,null,null,null,null,null,null,null,{"$f":"-ES239-HY101","v":-13.247700388235955},{"$f":"ET239","v":50.5},"p8"]
[null,null,null,null,"آنفورشور","q",null,{"$f":"1*'متغیرها '!U63+0.6*'متغیرها '!C63*'متغیرها '!U63+0.3*'متغیرها '!C60*'متغیرها '!U63","v":69.2},{"$f":"1*'متغیرها '!U63","v":69.2},"s3",{"$f":"((I124-I123-I127+I126)-0.5*(1-H154)*('متغیرها '!U70-'متغیرها '!U71)*TAN(0.5*IF(L121=0,0,H162))+(0.5-G148)*'متغیرها '!U71*TAN(0.5*H157))","v":2.0009524914941261},{"$f":"(I124-I123-I127+I126-0.5*(1-H154)*('متغیرها '!U70-'متغیرها '!U71)*TAN(0.5*IF(L121=0,0,H162))+(0.5-G148)*'متغیرها '!U71*TAN(0.5*H157))","v":2.0009524914941261},null,null,null,null,null,null,null,null,{"$f":"L115-L132+L138","v":22.346000000000004},{"$f":"L127+L133+L139","v":36.671961201998826},22,null,null,null,null,null,null,null,null,null,null,null,null,{"$f":"AR149","v":12.159082360811349},{"$f":"AS149","v":36.77852087163626},"34-",null,null,"شیفت عمودی جلو بالاتنه به سانتیمتر",{"$f":"0","v":0},null,null,"شیفت عمودی پشت بالاتنه به سانتیمتر",{"$f":"0","v":0},null,null,"(8 → 9)",{"$f":"H108-H114+L125-0.5*(H106-H104)","v":39.059913296669052},null,null,null,null,null,{"$f":"AZ155","v":20.359420446328528},{"$f":"BA155","v":105.74299619279039},"37شیفت",null,"(8 →9)",{"$f":"AA131","v":1.47},null,null,null,null,null,{"$f":"BK104","v":12.467615275126056},{"$f":"BL104","v":149.79309751611007},23,null,{"$f":"AZ103","v":5},{"$f":"BT104","v":124.1},4,"امتداد نقطه مرکزی چرخش",{"$f":"BS104+SQRT(POWER(BS111-BS104,2)+POWER(BT111-BT104,2))*SIN(BT103-ATAN((BS104-BS111)/(BT111-BT104+0.001)))","v":5.0000000501810522},{"$f":"BT104+SQRT(POWER(BS111-BS104,2)+POWER(BT111-BT104,2))*COS(BT103-ATAN((BS104-BS111)/(BT111-BT104+0.001)))","v":124.10099999999495},4,null," انتقال قسمتی از ساسون سرشانه به ساسون زیر بغل به روش چرخش",null,null,null,null,null,null,null,{"$f":"BD156-CJ105","v":29.72},{"$f":"BE156","v":128.5959048933077},13,"نقطه انتهایی\n زیر حلقه",{"$f":"CI112","v":28.25},{"$f":"CJ112","v":124.7739048933077},"شیفت14",null,"کارور پشت",{"$f":"H129","v":33.9},"v3",null,null,null,null,null,null,null,null,null,{"$f":"BD185-DD122","v":19.025946209040473},{"$f":"BE185","v":50.731982659333809},"50'",null,{"$f":"DC120+DD122","v":28.379848414360417},{"$f":"DD120","v":131.71366682728006},"b14s",null,{"$f":"O168","v":0},{"$f":"P168","v":0},25,null,{"$f":"BK177","v":15.301249999999996},{"$f":"BL177","v":50.5},"شیفت50",null,{"$f":"CE105","v":12.467615275126056},{"$f":"CF105","v":149.79309751611007},"23m",null,null,{"$f":"CI112-EA137","v":28.25},{"$f":"CJ112","v":124.7739048933077},14,null,{"$f":"-DX111+ED137","v":-18.25},{"$f":"DY111","v":124.7739048933077},14,null,null,null,null,null,null,null,null,null,null,null,null,null,{"$f":"BS135","v":21.982778141828724},{"$f":"BT135","v":134.4759048933077},16,"نقطه حلقه آستین بدون چرخش",{"$f":"CA118","v":20.697624979920391},{"$f":"CB118","v":135.8903376500576},12,"نقطه حلقه آستین بدون چرخش",null,null,null,null,null,null,null,null,null,null,{"$f":"FN179","v":25.486302394780303},{"$f":"FO179","v":91.65700380720962},"شیفت37'",null,null,null,null,null,{"$f":"AZ180","v":15.146419999999999},{"$f":"FS109","v":88.4},"g47''",null,{"$f":"DK108","v":15.146419999999999},{"$f":"DL108","v":50.5},"53شیفت",null,{"$f":"DG126-ES170","v":23.811809696703836},{"$f":"DH126","v":131.56138320925345},"بدون شیفتb'8s",null,{"$f":"CE123+CB112","v":27.49320914332904},{"$f":"CF123+CB113","v":124.71939865032314},"شیفت b2",null,{"$f":"-GD111+FK99","v":-17.49320914332904},{"$f":"GE111","v":124.71939865032314},"شیفت b2",null,{"$f":"BK165","v":28.254999999999999},{"$f":"BL165","v":89.504346053418971},"شیفت 42",null,{"$f":"-GL111+FS99","v":-18.254999999999999},{"$f":"GM111","v":89.504346053418971},"شیفت 42",null,30.164285826067683,51.604346053418951,"شیفت43''m",null,{"$f":"-GT111+GA99","v":-20.164285826067683},{"$f":"GU111","v":51.604346053418951},{"$f":"ES106","v":135.75956076797357},null,null,null,null,null,null,null,null,null,null,null,{"$f":"-CM110-HY101","v":-19.72},{"$f":"CN110","v":128.5959048933077},"شیفت13",null,{"$f":"-CM120-HY101","v":-4.9639199999999999},{"$f":"CN120","v":124.1},"شیفت 5 بالاتنه",null,{"$f":"-FV110-HY101","v":-6.1949405970379665},{"$f":"FW110","v":50.5},"شیفت 50",null,{"$f":"-FB109-HY101","v":-9.1217269072819249},141.5805951944748,"شیفت b12 یا b'12g",null,null,null,"چیب",null,null,null,null,null,{"$f":"-CR161-HY101","v":5},{"$f":"CS161","v":106.96},"_u5",null,null,null,"49'",null,null,null,null,null,{"$f":"-DI239-HY101","v":0.34999999999999964},{"$f":"DJ239","v":80.855896622129563},"m2",null,{"$f":"-ES240-HY101","v":5.4620867584063317},{"$f":"ET240","v":50.5},"p6"]
[null,null,null,null,"دور مچ پا","r",null,{"$f":"'متغیرها '!U64","v":24},{"$f":"0.8*'متغیرها '!U61","v":30.480000000000004},"فاصله لبه دامن یا پیراهن تا زمین  (به سانتیمتر)    k",{"$f":"IF('متغیرها '!C67<1,'متغیرها '!C67*I107,IF('متغیرها '!C67<2,I107+('متغیرها '!C67-1)*(I108-I107),IF('متغیرها '!C67<3,I108+('متغیرها '!C67-2)*(I105-I108),I105+('متغیرها '!C67-3)*(H127-H126))))","v":45.5},null,null,null,null,null,null,null,null,null,null,null,null,null,null,null,null,null,null,null,null,null,null,null,null,{"$f":"AR148","v":12.143835167507035},{"$f":"AS148","v":38.620650107400451},34,null,null,null,null,null,null,null,null,null,null,"(1 → 10)",{"$f":"AX104-0.85*AX117","v":17.922861420554415},null,{"$f":"AX104+AX99","v":28.25},{"$f":"0+AX98","v":50.5},3,null,null,null,null,null,"(8 → 10)",{"$f":"AA132","v":3.8220000000000001},null,{"$f":"BI108-BI114+BI98+'متغیرها '!C56","v":20.697624979920391},{"$f":"BI110+BI115+BI97+'متغیرها '!C57","v":135.8903376500576},"شیفت12",null,{"$f":"BK135","v":10.600711456344541},{"$f":"BL135","v":148.23154216796843},28,null,{"$f":"BD98","v":-7.1499999999999986},{"$f":"BT104","v":124.1},"4'",null,{"$f":"BS104+SQRT(POWER(BS112-BS104,2)+POWER(BT112-BT104,2))*SIN(BT103-ATAN((BS104-BS112)/(BT112-BT104+0.001)))","v":-7.1499999773898057},{"$f":"BT104+SQRT(POWER(BS112-BS104,2)+POWER(BT112-BT104,2))*COS(BT103-ATAN((BS104-BS112)/(BT112-BT104+0.001)))","v":124.10099999999898},"4'",null,null,{"$f":"'متغیرها '!C56","v":0},"شیفت افقی",null,null,null,null,null,{"$f":"BD155","v":28.25},{"$f":"BE155","v":124.7739048933077},"شیفت14",null,null,null,"سرشانه بدون ساسون",null,{"$f":"BK104","v":12.467615275126056},{"$f":"BL104","v":149.79309751611007},23,"نقطه اتصال سرشانه به گردن",{"$f":"CU102","v":19.744326892618545},{"$f":"CV102","v":147.41058456225514}," شیفت 18f",null,{"$f":"-CU112+CZ101","v":-9.7443268926185453},{"$f":"CV112","v":147.41058456225514}," شیفت 18f",null,{"$f":"BD184-DD122","v":21.385117552375899},{"$f":"BE184","v":51.137952313167972},"50''",null,{"$f":"DC121+DD122","v":27.781137309228399},{"$f":"DD121","v":127.66272508336525},"b2s",null,{"$f":"BW144","v":19.819056758434389},{"$f":"BX144","v":147.65254388096676},"b16",null,{"$f":"BK161","v":17.18},{"$f":"BL161","v":110},"شیفت35",null,{"$f":"CE107","v":7.9870461100504198},{"$f":"CF107","v":147.45076449389759},"26m",null,null,null,null,null,null,null,null,null,null,{"$f":"CQ120","v":19.744326892618545},{"$f":"CR120","v":147.41058456225514},"  18f",null,{"$f":"-EF112+ED138","v":-9.7443268926185453},{"$f":"EG112","v":147.41058456225514},"  18f",null,null,null,null,null,{"$f":"BS134","v":23.23622251346298},{"$f":"BT134","v":130.94790489330771},20,"نقطه حلقه آستین بدون چرخش",{"$f":"CA117","v":22.73609817253466},{"$f":"CB117","v":131.48033765005761},16,"نقطه حلقه آستین بدون چرخش",null,null,null,null,"سرشانه با ساسون متغیر",null,{"$f":"BW118","v":18.776498717657017},{"$f":"BX118","v":154.93398992568586},"a2",null,null,null,null,null,{"$f":"FN110","v":26.3},{"$f":"FO110","v":89.559913296669052},{"$f":"FP110","v":"45s یا s2"},null,{"$f":"AZ172","v":26.664999999999999},{"$f":"BE178-(H105-H108)","v":89.559913296669052},"g45",null,null,null,"کمر ",null,{"$f":"EO172","v":23.89801504129402},{"$f":"EP172","v":51.659913296669046},"a8",null,{"$f":"CE125+CB112","v":17.333753562196794},{"$f":"CF125+CB113","v":131.16786138581332},"شیفت b",null,{"$f":"-GD112+FK99","v":-7.3337535621967938},{"$f":"GE112","v":131.16786138581332},"شیفت b",null,null,null,null,null,null,null,null,null,null,null,null,null,null,null,null,null,{"$f":"DS106","v":30.164285826067683},{"$f":"DT106","v":51.604346053418951},{"$f":"DU106","v":"شیفت43''m"},null,{"$f":"-HB112+GI99","v":-20.164285826067683},{"$f":"HC112","v":51.604346053418951},{"$f":"ES106","v":135.75956076797357},null,null,null,{"$f":"-CM111-HY101","v":-18.25},{"$f":"CN111","v":124.7739048933077},"شیفت14",null,null,null,null,null,{"$f":"-FV111-HY101","v":-5.1464199999999991},{"$f":"FW111","v":50.5},"53شیفت",null,{"$f":"-FB110-HY101","v":-9.9204601847788645},148.06540974243791,"شیفت22b ",null,{"$f":"-FN178-HY101","v":-10.359420446328528},{"$f":"FO178","v":105.74299619279039},"37شیفت ",null,{"$f":"-FN112-HY101","v":-16.3},{"$f":"FO112","v":89.559913296669052},{"$f":"IH110","v":"45s یا s2"},null,{"$f":"-CR164-HY101","v":5},{"$f":"CS164","v":106.96},"d4",null,{"$f":"-FD258-HY101","v":17.149999999999999},{"$f":"FE258","v":103.58445930171638},"p10",null,null,null,"92'",null,{"$f":"-DI240-HY101","v":0.34999999999999964},{"$f":"DJ240","v":78.855896622129563},"m12"]
[null,null,null,null,null,null,null,null,null,"متغیرهای خروجی جلو (رسم کاربر)",null,"شبیه ساز",null,null,null,null,{"$f":"AN120","v":9.9639199999999999},{"$f":"AO120","v":16.100000000000001},6,null,null,null,null,null,"شبیه ساز","متغیرهای خروجی پشت بالاتنه (رسم کاربر)",null,null,null,null,null,{"$f":"AR121","v":11.205},{"$f":"AS121","v":24.315991596638654},7,null,null,null,null,null,"نقاط جلو بالاتنه",null,null,null,"نقاط پشت بالاتنه",null,null,null,{"$f":"'متغیرها '!U56-H114+H153*(I127-I126)+L125","v":78.095904893307704},"(3 → 12)",{"$f":"H104-H114+G153*(H127-H126)-AX118*'متغیرها '!C77/(1+'متغیرها '!C77)+L125","v":78.095904893307704},null,{"$f":"AX104+AX99","v":28.25},{"$f":"AX113+AX98","v":128.5959048933077},12,null,{"$f":"AZ131","v":22.922861420554415},{"$f":"BA131","v":98.7},"35شیفت",null,"(9 → 10→ 6→ 4)","وصل",null,{"$f":"BI108-BI114+BI98+'متغیرها '!C56","v":20.697624979920391},{"$f":"BI110+BI97+'متغیرها '!C57","v":128.54033765005761},"شیفت11",null,{"$f":"BK132","v":7.9870461100504224},{"$f":"BL132","v":147.45076449389759},26,null,{"$f":"J232","v":11.714598781237363},{"$f":"K232","v":147.12811147796646},"e7",null,{"$f":"BS104+SQRT(POWER(BS113-BS104,2)+POWER(BT113-BT104,2))*SIN(BT103-ATAN((BS104-BS113)/(BT113-BT104)))","v":11.714598781237363},{"$f":"BT104+SQRT(POWER(BS113-BS104,2)+POWER(BT113-BT104,2))*COS(BT103-ATAN((BS104-BS113)/(BT113-BT104)))","v":147.12811147796646},"e7",null,null,{"$f":"'متغیرها '!C57","v":0},"شیفت عمودی",null,null,null,null,null,"α2",{"$f":"0.5*(P139+0.3*(P140-P139)+AE139+0.3*(AE140-AE139))","v":0.31641567605125198},"زاویه سرشانه با افق",null,{"$f":"CM102","v":19.737376929978453},{"$f":"CN102","v":147.38461204421603},"شیفت22f",null,{"$f":"BK114-CR105","v":28.962535621967952},{"$f":"BL114-CR106","v":128.54033765005761},9,"نقطه انتهایی\n زیر حلقه",{"$f":"CU119+CR105","v":16.105971083872301},{"$f":"CV119+CR106","v":148.6018410391826},"شیفت وسط 18f",null,{"$f":"-CU113+CZ101","v":-6.1059710838723014},{"$f":"CV113","v":148.6018410391826},"شیفت وسط 18f",null,{"$f":"BD183-DD122","v":23.744288895711321},{"$f":"BE183","v":51.543921967002142},"50'''",null,{"$f":"DC103+DD122","v":14.96392},{"$f":"DD103","v":120.88},"43s",null,{"$f":"DD572","v":25.435081900702979},89.629855932771093,"10r","شلوار",{"$f":"BO191","v":15.301249999999996},{"$f":"BP191","v":91.64},"شیفت38''",null,{"$f":"CE106","v":10.600711456344541},{"$f":"CF106","v":148.23154216796843},"28m",null,null,{"$f":"CI117","v":19.737376929978453},{"$f":"CJ117","v":147.38461204421603},"22f",null,{"$f":"-DX113+ED137","v":-9.7373769299784527},{"$f":"DY113","v":147.38461204421603},"22f",null,{"$f":"EF115","v":16.105971083872301},{"$f":"EG115","v":148.6018410391826}," وسط 18f",null,{"$f":"-EF113+ED138","v":-6.1059710838723014},{"$f":"EG113","v":148.6018410391826}," وسط 18f",null,null,null,null,null,null,null,"محاسبات",null,null,null,"محاسبات",null,null,null,{"$f":"ER150+BT130","v":17.154795589232798},{"$f":"ES150","v":148.69246484533343},"شیفت 34b",null,{"$f":"BW119","v":14.986998674554382},{"$f":"BX119","v":152.35055746187842},"a13",null,null,null," ترک وسط با ساسون",null,{"$f":"DG120","v":-6.0185722715427836},{"$f":"DH120","v":410.39488452397444},"s2",null,null,null,"زانو",null,{"$f":"DK122","v":21.456389070914362},{"$f":"DL122","v":110.15991329666905},{"$f":"DM122","v":"41شیفتm"},null,null,null,null,null,null,null,null,null,null,null,null,null,{"$f":"BK165","v":28.254999999999999},{"$f":"BL165","v":89.504346053418971},"شیفت 42",null,{"$f":"-GL113+FS99","v":-18.254999999999999},{"$f":"GM113","v":89.504346053418971},"شیفت 42",null,{"$f":"DS106","v":30.164285826067683},{"$f":"DT106","v":51.604346053418951},{"$f":"DU106","v":"شیفت43''m"},null,{"$f":"-GT113+GA99","v":-20.164285826067683},{"$f":"GU113","v":51.604346053418951},{"$f":"ES106","v":135.75956076797357},null,{"$f":"HB115+0.6*(HB112-HB115)","v":24.688248491519889},{"$f":"HC115+0.8*(HC112-HC115)","v":51.383476842735163},null,null,{"$f":"-HB113+GI99","v":-14.688248491519889},{"$f":"HC113","v":51.383476842735163},null,null,null,null,null,null,null,null,{"$f":"-CM122-HY101","v":-4.9639199999999999},{"$f":"CN122","v":124.1},"شیفت 5 بالاتنه",null,null,null,"کمر ",null,null,null,null,null,{"$f":"-FN179-HY101","v":-15.486302394780303},{"$f":"FO179","v":91.65700380720962},"شیفت37'",null,{"$f":"-FN113-HY101","v":16.018572271542784},{"$f":"FO113","v":410.39488452397444},"s2",null,null,null,null,null,{"$f":"-FD259-HY101","v":17.149999999999999},{"$f":"FE259","v":106.96},"26''",null,{"$f":"-FN151-HY101","v":17.149999999999999},{"$f":"FO151","v":120.6},"e1",null,null,null,null,null,{"$f":"-ES242-HY101","v":5.4620867584063317},{"$f":"ET242","v":50.5},"p6"]
[null,null,null,null,"شلوار زنانه و بچگانه = 0       مردانه=1      بچه با پوشک=2",null,null,{"$f":"K112","v":45.5},"K","(1 → 2)",{"$f":"H124-('متغیرها '!C71)*0.5*G167*SIN(O139)","v":41.767124998070962},{"$f":"I124","v":42},null,null,null,null,{"$f":"AN121","v":9.9639199999999999},{"$f":"AO121","v":12.880000000000003},7,null,"انحنای حلقه آستین جلو",null,null,null,{"$f":"I127","v":40},"(1 → 2)",{"$f":"H127-('متغیرها '!C71)*0.5*G167*SIN(AD139)","v":39.793097516110066},null,null,null,null,{"$f":"AR122","v":11.205},{"$f":"AS122","v":21.884392436974789},8,null,null,null,null,null,"مولفه افقی","مولفه عمودی","اسم نقطه ",null,"مولفه افقی","مولفه عمودی","اسم نقطه ",null,null,"(12 → 13)",{"$f":"K128","v":1.47},null,{"$f":"AX104-AX117+AX99","v":21.982778141828724},{"$f":"AX113+AX98","v":128.5959048933077},15,null,{"$f":"AX112+AX144+AX99+'متغیرها '!C55","v":25.486302394780303},{"$f":"AX143-AX145+AX98","v":91.65700380720962}," شیفت 37'",{"$f":"Y135","v":5.5425356219679527},"(8 → 11)",{"$f":"AA135","v":6.7949106420475607},null,{"$f":"BI108+BI111+BI98+'متغیرها '!C56","v":28.962535621967952},{"$f":"BI110+BI97+'متغیرها '!C57","v":128.54033765005761},"شیفت9",null,{"$f":"BK138","v":5},{"$f":"BL138","v":147.19050526920734},24,null,{"$f":"J233","v":10.645343712110673},{"$f":"K233","v":145.32071179965874},"e5",null,{"$f":"BS104+SQRT(POWER(BS114-BS104,2)+POWER(BT114-BT104,2))*SIN(BT103-ATAN((BS104-BS114)/(BT114-BT104)))","v":10.645343712110673},{"$f":"BT104+SQRT(POWER(BS114-BS104,2)+POWER(BT114-BT104,2))*COS(BT103-ATAN((BS104-BS114)/(BT114-BT104)))","v":145.32071179965874},"e5",null,null,{"$f":"(CC126-CC125)","v":9.3994707663442312E-5},"زاویه چرخش به ساسون زیر بغل",null,null,null,null,null,{"$f":"H167","v":11.343437755547924},{"$f":"G167","v":11.343437755547924},"W",null,{"$f":"CM132+CJ105","v":16.099021121232205},{"$f":"CN132","v":148.57586852114349},"شیفت وسط 22f",null,{"$f":"BK122-CR105","v":27.492535621967953},{"$f":"BL122-CR106","v":128.54033765005761},8,null,null,null,null,null,null,null,null,null,{"$f":"BD180-DD122","v":25.631625970379659},{"$f":"BE180","v":51.659913296669046},"49'",null,{"$f":"DC117+DD122","v":28.25},{"$f":"DD117","v":124.7739048933077},"14s",null,21.773104627975712,50.5,"7r",null,{"$f":"BO114","v":5},{"$f":"BP114","v":147.19050526920734},24,null,{"$f":"EV103","v":21.394495082070108},{"$f":"EW103","v":147.46585451004972},"18m",null,null,{"$f":"CM114-EA137","v":16.099021121232205},{"$f":"DY116","v":148.57586852114349}," وسط 22f",null,{"$f":"-DX114+ED137","v":-6.0990211212322052},{"$f":"DY114","v":148.57586852114349}," وسط 22f",null,null,null,null,null,null,null,null,null,null,null,null,null,"(b12→22g)",{"$f":"SQRT(POWER(ER105-ER103,2)+POWER(ES105-ES103,2))","v":6.5338192942608249},null,null,"(b12→18p)",{"$f":"SQRT(POWER(EV105-EV103,2)+POWER(EW105-EW103,2))","v":5.4429862016198411},null,null,null,null,{"$f":"ER151+BT130","v":19.920460184778864},{"$f":"ES151","v":148.06540974243791},"شیفت22b ",null,{"$f":"BW105","v":12.460665312485961},{"$f":"BX105","v":149.76712499807095},"چرخیده 25",null,{"$f":"AZ181","v":15.146419999999999},{"$f":"BA181","v":50.5},"شیفت 53",null,null,null,null,null,{"$f":"FR108","v":5},{"$f":"BA165-(H104-H107)","v":50.5},"g1",null,{"$f":"AZ167+BT130","v":16.183920000000001},{"$f":"BA167","v":108},"شیفت 40",null,{"$f":"EO172","v":23.89801504129402},{"$f":"EP172","v":51.659913296669046},"a8",null,{"$f":"CE125+CB112","v":17.333753562196794},{"$f":"CF125+CB113","v":131.16786138581332},"شیفت b",null,{"$f":"-GD114+FK99","v":-7.3337535621967938},{"$f":"GE114","v":131.16786138581332},"شیفت b",null,{"$f":"BK172","v":27.030674896982045},{"$f":"BL172","v":51.604346053418951},"شیفت 43''",null,{"$f":"-GL114+FS99","v":-17.030674896982045},{"$f":"GM114","v":51.604346053418951},"شیفت 43''",null,{"$f":"GT116+0.6*(GT113-GT116)","v":24.688248491519889},{"$f":"GU116+0.8*(GU113-GU116)","v":51.383476842735163},null,null,{"$f":"-GT114+GA99","v":-14.688248491519889},{"$f":"GU114","v":51.383476842735163},null,null,{"$f":"HB115+0.3*(HB112-HB115)","v":20.581220490609045},{"$f":"HC115+0.2*(HC112-HC115)","v":50.720869210683787},null,null,{"$f":"-HB114+GI99","v":-10.581220490609045},{"$f":"HC114","v":50.720869210683787},null,null,null,null,null,null,"8'",null,{"$f":"-CM123-HY101","v":-4.9639199999999999},{"$f":"CN123","v":120.88},"شیفت 43",null,{"$f":"-FV113-HY101","v":-11.456389070914362},{"$f":"FW113","v":110.15991329666905},"شیفت 41m",null,null,null,"5'",null,null,null,null,null,null,null,null,null,{"$f":"-CR166-HY101","v":-4.9639199999999999},{"$f":"CS166","v":120.88},"شیفت 43",null,null,null,null,null,{"$f":"-FN152-HY101","v":17.149999999999999},125.66572729541409,"8n",null,{"$f":"-DI242-HY101","v":0.34999999999999964},{"$f":"DJ242","v":78.855896622129563},"m12",null,{"$f":"-ES243-HY101","v":5.4620867584063317},{"$f":"ET243","v":56.403199999999998},"p5"]
[null,null,null,null,null,null,null,null,null,"(1 → 3)",{"$f":"0.5*(H120-H121)+'متغیرها '!C61*H120-'متغیرها '!C77*O128*H130*((L115-L120-L121-L124)/(L127-L125))","v":23.25},{"$f":"0.5*('متغیرها '!U72-'متغیرها '!U73)","v":23.25},null,null,null,null,{"$f":"AN119","v":9.9639199999999999},{"$f":"AO119","v":16.100000000000001},5,null,{"$f":"AN136","v":19.851556283657448},{"$f":"AO136","v":38.020979105187479},22,null,{"$f":"0.5*'متغیرها '!U73+AE127","v":22.492535621967953},"(1 → 3)",{"$f":"0.5*H121+'متغیرها '!C61*H120+AD127-'متغیرها '!C77*O128*H130*((Y115-Y121-Y123-Y124-Y127)/(Y130))","v":22.492535621967953},null,null,null,null,{"$f":"AR120","v":11.205},{"$f":"AS120","v":14},6,null,{"$f":"AR138","v":16.209249959840783},{"$f":"AS138","v":37.080260799883568},24,null,0,{"$f":"0+AP111","v":0},1,null,0,{"$f":"AT111","v":0},1,null,{"$f":"L129","v":0},"(12 → 14)",{"$f":"K129","v":3.8220000000000001},null,{"$f":"AX104-AX117+AX99","v":21.982778141828724},{"$f":"AX113+AX118+AX98","v":134.4759048933077},16,null,null,null,null,7.35,"(11 →12)",7.35,null,null,null,null,null,null,null,null,null,{"$f":"J250","v":-10.012874883409935},{"$f":"K250","v":140.97041326438926},"e3",null,{"$f":"BS104+SQRT(POWER(BS115-BS104,2)+POWER(BT115-BT104,2))*SIN(BT103-ATAN((BS104-BS115)/(BT115-BT104)))","v":-10.012874883409937},{"$f":"BT104+SQRT(POWER(BS115-BS104,2)+POWER(BT115-BT104,2))*COS(BT103-ATAN((BS104-BS115)/(BT115-BT104)))","v":140.97041326438926},"e3",null,{"$f":"BK122-CB112","v":27.492535621967953},{"$f":"BL122-CB113","v":128.54033765005761},8,"نقطه حلقه آستین",{"$f":"CA104+SQRT(POWER(CA115-CA104,2)+POWER(CB115-CB104,2))*SIN(IF(CB115=CB104,RADIANS(90)-CB114,ATAN((CA115-CA104)/ABS(CB115-CB104))+IF(CB115>CB104,-1,1)*CB114))","v":27.49284989555688},{"$f":"CB104+IF(CB115<CB104,-1,1)*SQRT(POWER(CA115-CA104,2)+POWER(CB115-CB104,2))*COS(IF(CB115=CB104,RADIANS(90)-CB114,ATAN((CA115-CA104)/ABS(CB115-CB104))+IF(CB115>CB104,-1,1)*CB114))","v":128.54139863343946},"b4",null,"نقاط حلقه آستین جلو بدون ساسون سرشانه",null,null,null,null,null,null,null,{"$f":"BO170","v":27.492535621967953},{"$f":"BP170","v":124.71833765005761},"شیفت10",null,{"$f":"CU113","v":16.105971083872301},{"$f":"CV113","v":148.6018410391826},"شیفت وسط 18f",null,{"$f":"-CU115+CZ101","v":-6.1059710838723014},{"$f":"CV115","v":148.6018410391826},"شیفت وسط 18f",null,{"$f":"AZ172-DD122","v":26.664999999999999},{"$f":"BA172","v":89.559913296669052},45,null,{"$f":"DG113+DD127*SIN(DD123+DD131)","v":18.970732095248671},{"$f":"DH113-DD127*COS(DD123+DD131)","v":108.57844494247297},"40s",null,21.773104627975712,50.5,"5r",null,{"$f":"BO113","v":7.9870461100504224},{"$f":"BP113","v":147.45076449389759},26,null,{"$f":"EV121","v":20.65814390894144},{"$f":"EW121","v":142.07290673162132},"20m",null,null,null,null,null,null,null,null,null,null,{"$f":"CU119","v":16.105971083872301},{"$f":"CV119","v":148.6018410391826}," وسط 18f",null,{"$f":"-EF115+ED138","v":-6.1059710838723014},{"$f":"EG115","v":148.6018410391826}," وسط 18f",null,null,null,null,null,"α22g1",{"$f":"ATAN((ES104-ES103)/(ER103-ER104))","v":0.22428043595825606},null,null,"α18p1",{"$f":"ATAN((EW104-EW103)/(EV103-EV104))","v":0.25502419363949191},null,null,null,null,null,null,null,null,null,null,null,null,{"$f":"AZ180","v":15.146419999999999},{"$f":"BA180","v":101.14},"شیفت 47''",null,{"$f":"DG120","v":-6.0185722715427836},{"$f":"DH120","v":410.39488452397444},"s2",null,{"$f":"FR109","v":14.781420000000001},{"$f":"FS114","v":50.5},"g52",null,null,null,"چیب",null,{"$f":"FV105-'متغیرها '!C55","v":22.498015041294021},{"$f":"FW105","v":51.659913296669046},"49'm",null,{"$f":"BO170","v":27.492535621967953},{"$f":"BP170","v":124.71833765005761},"شیفت 10",null,{"$f":"-GD115+FK99","v":-17.492535621967953},{"$f":"GE115","v":124.71833765005761},"شیفت 10",null,null,null,"22پایین لباس پهلو",null,null,null,"پایین لباس پهلو",null,{"$f":"GT116+0.3*(GT113-GT116)","v":20.581220490609045},{"$f":"GU116+0.2*(GU113-GU116)","v":50.720869210683787},null,null,{"$f":"-GT115+GA99","v":-10.581220490609045},{"$f":"GU115","v":50.720869210683787},null,null,{"$f":"BK176","v":16.474192489698201},{"$f":"BL176","v":50.5},"شیفت41'",null,{"$f":"-HB115+GI99","v":-6.4741924896982006},{"$f":"HC115","v":50.5},"شیفت41'",null,null,null,{"$f":"-DS153-HY101","v":-9.9204601847788645},{"$f":"DT153","v":148.06540974243791},39,null,null,null,null,null,{"$f":"-FV114-HY101","v":-6.1839200000000005},{"$f":"FW114","v":108},"شیفت 40",null,{"$f":"-FB113-HY101","v":-7.1547955892327977},{"$f":"FC113","v":148.69246484533343},"شیفت 34b",null,null,null,"17'",null,{"$f":"-FN115-HY101","v":16.018572271542784},{"$f":"FO115","v":410.39488452397444},"s2",null,{"$f":"-CR167-HY101","v":-6.1839200000000005},{"$f":"CS167","v":108}," شیفت40 یا dd5",null,{"$f":"-FD261-HY101","v":17.149999999999999},{"$f":"FE261","v":106.96},"26''",null,{"$f":"-FN153-HY101","v":13.479195535170794},115.65816319236754,"7n",null,{"$f":"-DI243-HY101","v":5},{"$f":"DJ243","v":78.855896622129563},"m11"]
[null,null,null,null,null,null,null,null,null,"(1→ 4)",{"$f":"H124-H123","v":16.100000000000001},{"$f":"I124-I123","v":16.100000000000001},null,null,null,null,{"$f":"AN118","v":0},{"$f":"AO118","v":16.100000000000001},4,null,{"$f":"AN138","v":17.843411584377343},{"$f":"AO138","v":32.248441999247589},24,null,{"$f":"I127-I126","v":14},"(1→ 4)",{"$f":"H127-H126","v":14},null,null,null,null,{"$f":"AR118","v":0},{"$f":"AS118","v":14},4,null,{"$f":"AR140","v":15.851112473896508},{"$f":"AS140","v":32.040767030621062},26,null,0,{"$f":"K114+AP111","v":41.767124998070962},2,null,0,{"$f":"AA114+AT111","v":39.793097516110066},2,null,null,"(13 → 14→ 9→ 7)","وصل",null,null,null,null,null,{"$f":"BD155","v":28.25},{"$f":"BE155","v":124.7739048933077},"14شیفت",1.1085071243935907,"(8 → 13)",1.3589821284095123,null,{"$f":"BI108-BI118+BI98+'متغیرها '!C56","v":22.73609817253466},{"$f":"BI110+BI97+'متغیرها '!C57","v":128.54033765005761},"شیفت15",null,{"$f":"BK101","v":17.220071134028601},{"$f":"BL101","v":142.48021932151983},22,null,{"$f":"J236","v":-7.1499999999999986},{"$f":"K236","v":120.6},"e1",null,null,null,null,null,{"$f":"BO105-CB112","v":26.133553493558441},{"$f":"BP105-CB113","v":129.27533765005762},14,"نقطه حلقه آستین",{"$f":"CA104+SQRT(POWER(CA116-CA104,2)+POWER(CB116-CB104,2))*SIN(IF(CB116=CB104,RADIANS(90)-CB114,ATAN((CA116-CA104)/ABS(CB116-CB104))+IF(CB116>CB104,-1,1)*CB114))","v":26.133798687040645},{"$f":"CB104+IF(CB116<CB104,-1,1)*SQRT(POWER(CA116-CA104,2)+POWER(CB116-CB104,2))*COS(IF(CB116=CB104,RADIANS(90)-CB114,ATAN((CA116-CA104)/ABS(CB116-CB104))+IF(CB116>CB104,-1,1)*CB114))","v":129.27627089306489},"b8",null,"مولفه افقی","مولفه عمودی","اسم نقطه ",null,{"$f":"CM114","v":16.099021121232205},{"$f":"CN114","v":148.57586852114349},"شیفت وسط 22f",null,"α4",{"$f":"0.5*(P139+0.3*(P140-P139)+AE139+0.3*(AE140-AE139))","v":0.31641567605125198},"زاویه سرشانه با افق",null,{"$f":"CQ104+CR105","v":16.204999999999998},{"$f":"CR104+CR106","v":131.88439243697479},"شیفت40",null,{"$f":"-CU116+CZ101","v":-6.2049999999999983},{"$f":"CV116","v":131.88439243697479},"شیفت40",null,{"$f":"AZ168","v":24.59},{"$f":"BA168","v":110.15991329666905},41,null,{"$f":"DG115+DD128*SIN(DD123-DD132)","v":19.458342636515262},{"$f":"DH115-DD128*COS(DD123-DD132)","v":101.65758934435176},"47''s",null,21.773104627975712,50.5,"1r",null,{"$f":"BO112","v":10.600711456344541},{"$f":"BP112","v":148.23154216796843},28,null,{"$f":"DO122","v":5},{"$f":"DP122+0.5*DP121","v":143.20588219699121},"21m",null,null,{"$f":"CM114-EA137","v":16.099021121232205},{"$f":"CN114","v":148.57586852114349}," وسط 22f",null,{"$f":"-DX116+ED137","v":-6.0990211212322052},{"$f":"DY116","v":148.57586852114349}," وسط 22f",null,{"$f":"CQ112","v":12.467615275126056},{"$f":"CR112","v":149.79309751611007},23,null,{"$f":"-EF116+ED138","v":-2.4676152751260556},{"$f":"EG116","v":149.79309751611007},23,null,null,null,null,null,"α22g2",{"$f":"ATAN((ES103-ES105)/(ER103-ER105))","v":1.448243784459943},null,null,"α18p2",{"$f":"ATAN((EW103-EW105)/(EV103-EV105))","v":1.4706216128698473},null,null,null,null,{"$f":"ER150+BT130","v":17.154795589232798},{"$f":"ES150","v":148.69246484533343},"شیفت 34b",null,{"$f":"BW118","v":18.776498717657017},{"$f":"BX118","v":154.93398992568586},"a2",null,null,null,null,null,{"$f":"DC108","v":14.781420000000001},{"$f":"DD108","v":101.14},"47'",null,null,null,null,null,{"$f":"FN178","v":20.359420446328528},{"$f":"FO178","v":105.74299619279039},"37شیفت ",null,null,null,null,null,null,null,null,null,null,null,null,null,{"$f":"BK172","v":27.030674896982045},51.604346053418951,"شیفت43''",null,{"$f":"-GL116+FS99","v":-17.030674896982045},{"$f":"GM116","v":51.604346053418951},"شیفت43''",null,{"$f":"BK176","v":16.474192489698201},{"$f":"BL176","v":50.5},"شیفت41'",null,{"$f":"-GT116+GA99","v":-6.4741924896982006},{"$f":"GU116","v":50.5},"شیفت41'",null,{"$f":"DO111","v":15.301249999999996},{"$f":"DP111","v":50.5},{"$f":"DQ111","v":"شیفت50"},null,{"$f":"-HB116+GI99","v":-5.301249999999996},{"$f":"HC116","v":50.5},{"$f":"DU111","v":"23m"},null,null,null,{"$f":"-DS154-HY101","v":-9.1217269072819249},{"$f":"DT154","v":141.5805951944748},37,null,{"$f":"-CM125-HY101","v":-4.9639199999999999},{"$f":"CN125","v":120.88},43,null,null,null,"چیب",null,{"$f":"-FB114-HY101","v":-9.9204601847788645},{"$f":"FC114","v":148.06540974243791},"شیفت22b ",null,{"$f":"-FJ114-HY101","v":-5.1464199999999991},{"$f":"FK114","v":50.5},"شیفت 53",null,{"$f":"-FN116-HY101","v":-4.7814200000000007},{"$f":"FO116","v":101.14},"47'",null,null,null,null,null,{"$f":"-FD262-HY101","v":5},{"$f":"FE262","v":106.96},"d4",null,{"$f":"-FN154-HY101","v":7.3611880937887832},109.85938773078918,"6n",null,null,null,null,null,{"$f":"-ES245-HY101","v":5.4620867584063317},{"$f":"ET245","v":56.403199999999998},"p5"]
[null,null,null,null,"اندازه ها در بالاتنه",null,null,"اندازه محاسبه ",null,"(4 → 5)",{"$f":"0.5*G154*(H120-H121)","v":9.9639199999999999},{"$f":"0.5*H154*('متغیرها '!U72-'متغیرها '!U73)","v":9.9639199999999999},null,null,null,null,{"$f":"AN115","v":0},{"$f":"AO115","v":0},1,null,{"$f":"AN130","v":16.982778141828724},{"$f":"AO130","v":26.475904893307703},16,null,{"$f":"0.75*I127","v":30},"(1 → 5)",{"$f":"'متغیرها '!C83*H127","v":30},null,null,null,null,{"$f":"AR115","v":0},{"$f":"AS115","v":0},1,null,{"$f":"AR132","v":15.697624979920391},{"$f":"AS132","v":25.881385757077993},18,null,{"$f":"K115","v":23.25},{"$f":"0+AP111","v":0},3,null,{"$f":"AA115","v":22.492535621967953},{"$f":"AT111","v":0},3,null,{"$f":"L132","v":5.0199999999999978},"(12 → 15)",{"$f":"K132","v":6.2672218581712755},null,{"$f":"AX104-AX119+AX99","v":25.116389070914362},{"$f":"AX113+AX98","v":128.5959048933077},17,null,{"$f":"BW148+'متغیرها '!C55","v":16.292528000000001},{"$f":"BX148","v":124.31563637778655}," شیفت b",0.73499999999999999,"(13 → 14)",0.73499999999999999,null,{"$f":"BI108-BI118+BI98+'متغیرها '!C56","v":22.73609817253466},{"$f":"BI110+BI119+BI97+'متغیرها '!C57","v":131.48033765005761},"شیفت16",null,{"$f":"BK154","v":16.204999999999998},{"$f":"BL154","v":131.88439243697479},40,null,{"$f":"J234","v":-5.9030139150376559},{"$f":"K234","v":141.83588586398446},"e9",null,{"$f":"BS104+SQRT(POWER(BS117-BS104,2)+POWER(BT117-BT104,2))*SIN(BT103-ATAN((BS104-BS117)/(BT117-BT104)))","v":-5.9030139150376559},{"$f":"BT104+SQRT(POWER(BS117-BS104,2)+POWER(BT117-BT104,2))*COS(BT103-ATAN((BS104-BS117)/(BT117-BT104)))","v":141.83588586398446},{"$f":"BU117","v":"e9"},null,{"$f":"BO104-CB112","v":22.73609817253466},{"$f":"BP104-CB113","v":131.48033765005761},16,"نقطه حلقه آستین",{"$f":"CA104+SQRT(POWER(CA117-CA104,2)+POWER(CB117-CB104,2))*SIN(IF(CB117=CB104,RADIANS(90)-CB114,ATAN((CA117-CA104)/ABS(CB117-CB104))+IF(CB117>CB104,-1,1)*CB114))","v":22.736136122695036},{"$f":"CB104+IF(CB117<CB104,-1,1)*SQRT(POWER(CA117-CA104,2)+POWER(CB117-CB104,2))*COS(IF(CB117=CB104,RADIANS(90)-CB114,ATAN((CA117-CA104)/ABS(CB117-CB104))+IF(CB117>CB104,-1,1)*CB114))","v":131.48095154050506},"b10",null,{"$f":"CI109+CJ114*(1-0.5*'متغیرها '!C76+0.5*'متغیرها '!C78-0.5*'متغیرها '!C71)*COS(CJ113)","v":19.737376929978453},{"$f":"CJ109-CJ114*(1-0.5*'متغیرها '!C76+0.5*'متغیرها '!C78-0.5*'متغیرها '!C71)*SIN(CJ113)","v":147.38461204421603},"22f",null,{"$f":"CI104+CJ105","v":14.963920000000002},{"$f":"CJ104","v":124.1},"شیفت5 پیراهن",null,null,{"$f":"G167","v":11.343437755547924},"w",null,null,null,null,null,null,null,null,null,{"$f":"BD177-DD122","v":28.25},{"$f":"BE177","v":124.7739048933077},14,null,{"$f":"DG112+DD129*SIN(DD123-DD134)","v":27.405193236205399},{"$f":"DH112-DD129*COS(DD123-DD134)","v":112.60208046101975},"41s",null,{"$f":"DD569","v":15.146419999999999},{"$f":"DE569","v":50.5},"53r",null,{"$f":"BO111","v":12.467615275126056},{"$f":"BP111","v":149.79309751611007},23,null,{"$f":"DS118-DD146*COS(DD140)","v":-13.004939408077998},{"$f":"DT118+DD146*SIN(DD140)","v":454.57705541292808},"s''2m","امتداد جیب",null,{"$f":"CI109","v":12.460665312485961},{"$f":"CJ109","v":149.76712499807095},25,null,{"$f":"-DX117+ED137","v":-2.4606653124859612},{"$f":"DY117","v":149.76712499807095},25,null,null,null,"پهلو ترک ",null,null,null,"پهلو ترک ",null,null,null,null,null,"α22g",{"$f":"ES115+ES116","v":1.6725242204181989},null,null,"α18p",{"$f":"EW115+EW116","v":1.7256458065093392},null,null,null,null,{"$f":"BS128+BT130","v":14.963920000000002},{"$f":"BT128","v":124.1},"شیفت 5 پیراهن",null,{"$f":"BW120","v":15.870190509419885},{"$f":"BX120","v":161.37495826882815},"a4",null,{"$f":"AZ180","v":15.146419999999999},{"$f":"BA180","v":101.14},"شیفت 47''",null,null,null,null,null,{"$f":"FR111","v":15.146419999999999},{"$f":"FS114","v":50.5},"g53",null,{"$f":"FN179","v":25.486302394780303},{"$f":"FO179","v":91.65700380720962},"شیفت37'",null,{"$f":"FZ109","v":11.278482506194102},{"$f":"GA109","v":50.5},"a5",null,null,null,"4سرشانه با ساسون ",null,null,null,"سرشانه با ساسون ",null,24.919378415525276,51.493911448077057,"41''''",null,{"$f":"-GL117+FS99","v":-14.919378415525276},51.493911448077057,"41''''",null,{"$f":"DO111","v":15.301249999999996},{"$f":"DP111","v":50.5},{"$f":"DQ111","v":"شیفت50"},null,{"$f":"-GT117+GA99","v":-5.301249999999996},{"$f":"GU117","v":50.5},{"$f":"DU111","v":"23m"},null,null,null,null,null,null,null,null,null,null,null,{"$f":"-DS155-HY101","v":-9.544139936642118},{"$f":"DT155","v":135.75956076797357},35,null,{"$f":"-CM126-HY101","v":-4.9639199999999999},{"$f":"CN126","v":124.1}," 5 بالاتنه",null,{"$f":"-FV116-HY101","v":-10.359420446328528},{"$f":"FW116","v":105.74299619279039},"37شیفت ",null,null,null,null,null,{"$f":"-FJ115-HY101","v":-5.1464199999999991},{"$f":"FK115","v":101.14},"شیفت 47''",null,null,null,null,null,{"$f":"-CR167-HY101","v":-6.1839200000000005},{"$f":"CS167","v":108}," شیفت40 یا dd5",null,null,null,null,null,{"$f":"-FN155-HY101","v":1.3615936996593305},106.96,"5n",null,{"$f":"-DI245-HY101","v":5},{"$f":"DJ245","v":78.855896622129563},"m11",null,{"$f":"-ES246-HY101","v":3.25},{"$f":"ET246","v":79.141000000000005},"p4"]
[null,null,null,null,"دور کمر","a",null,{"$f":"'متغیرها '!U70+0.3*'متغیرها '!C60*('متغیرها '!U52+'متغیرها '!U54+'متغیرها '!U72)","v":68},null,"(5 → 6)",{"$f":"'متغیرها '!C90*(H124-H123)","v":0},{"$f":"0.2*(H124-H123)","v":3.2200000000000006},null,null,null,null,{"$f":"AN122","v":8.7439199999999992},0,8,null,{"$f":"AN134","v":18.23622251346298},{"$f":"AO134","v":22.947904893307705},20,null,{"$f":"H148*'متغیرها '!U73","v":10.375},"(4 → 6)",{"$f":"G148*H121","v":11.205},null,null,null,null,{"$f":"AR123","v":1.9499999999999993},0,9,null,{"$f":"AR136","v":17.73609817253466},{"$f":"AS136","v":21.471385757077993},22,null,0,{"$f":"K116+AP111","v":16.100000000000001},4,null,0,{"$f":"AA116+AT111","v":14},4,null,5.88,"(15 → 16)",5.88,null,{"$f":"AX104-AX119+AX99","v":25.116389070914362},{"$f":"AX113+AX120+AX98","v":129.47790489330771},18,null,null,null,"کش سویشرت",3.8797749353775668,"(8 → 15)",4.7564374494332924,null,null,null,null,null,null,null,null,null,{"$f":"J239","v":18.776498717657017},{"$f":"K239","v":154.93398992568586},"a2",null,{"$f":"BS104+SQRT(POWER(BS118-BS104,2)+POWER(BT118-BT104,2))*SIN(BT103-ATAN((BS104-BS118)/(BT118-BT104)))","v":18.776498717657017},{"$f":"BT104+SQRT(POWER(BS118-BS104,2)+POWER(BT118-BT104,2))*COS(BT103-ATAN((BS104-BS118)/(BT118-BT104)))","v":154.93398992568586},"a2",null,{"$f":"BO103-CB112","v":20.697624979920391},{"$f":"BP103-CB113","v":135.8903376500576},12,"نقطه حلقه آستین",{"$f":"CA104+SQRT(POWER(CA118-CA104,2)+POWER(CB118-CB104,2))*SIN(ATAN((CA118-CA104)/(CB118-CB104))-CB114)","v":20.697248422425545},{"$f":"CB104+SQRT(POWER(CA118-CA104,2)+POWER(CB118-CB104,2))*COS(ATAN((CA118-CA104)/(CB118-CB104))-CB114)","v":135.89075991533232},"b6",null,{"$f":"CI119+IF(CI117>CI119,0.3,0.7)*(CI117-CI119)","v":19.60211103464302},{"$f":"CJ119+0.5*(CJ117-CJ119)","v":141.5720864060948},"24f",null,null,null,null,null,"نقاط حلقه آستین پشت بدون ساسون سرشانه",null,null,null,{"$f":"CQ104","v":16.204999999999998},{"$f":"CR104","v":131.88439243697479},40,null,{"$f":"-CU118+CZ101","v":-6.2049999999999983},{"$f":"CV118","v":131.88439243697479},40,null,{"$f":"BW133","v":23.694781572298297},{"$f":"BX133","v":131.56770014681231},"b8",null,{"$f":"DC105+(DC115-DC105+3)*COS(DD136-RADIANS('متغیرها '!C187))","v":16.120615857369835},{"$f":"DD105-(DC115-DC105+3)*SIN(DD136-RADIANS('متغیرها '!C187))","v":86.654141114594438},"s''2",null,null,{"$f":"'متغیرها '!C55","v":0},"شیفت افقی تکه پهلو",null,{"$f":"BO101-DP120","v":21.209249959840783},{"$f":"BP101","v":147.08921269286319},18,null,{"$f":"DS104+DD148*SIN(DD143)","v":-13.004939408077998},{"$f":"DT104-DD148*COS(DD143)","v":454.57705541292808},"s'2m",null,null,null,null,"پهلو ترک ",null,null,null,"پهلو ترک ",null,{"$f":"BO170-EA138","v":27.492535621967953},{"$f":"BP170-EA139","v":124.71833765005761},10,null,{"$f":"-EF118+ED138","v":-17.492535621967953},{"$f":"EG118","v":124.71833765005761},10,null,null,null,null,null,"αb12g",{"$f":"ES110*EW118","v":-7.1051582225163334E-2},null,null,"αb12p",{"$f":"(RADIANS(180)-ES117-EW117+ES109)*(1/(1+ES110))","v":-3.5525791112581667E-2},null,null,null,null,null,null,null,null,null,null,null,null,{"$f":"AZ167+BT130","v":16.183920000000001},{"$f":"BA167","v":108},"شیفت 40",null,{"$f":"DG112","v":27.781137309228399},{"$f":"DH112","v":127.66272508336525},"b2s",null,{"$f":"FR112","v":26.664999999999999},{"$f":"BE178-(H105-H107)","v":51.659913296669046},"g49",null,null,null,null,null,{"$f":"FZ115","v":22.498015041294021},{"$f":"GA115","v":51.659913296669046},"49'm",null,{"$f":"CE105","v":12.467615275126056},{"$f":"CF105","v":149.79309751611007},23,null,{"$f":"-GD118+FK99","v":-2.4676152751260556},{"$f":"GE118","v":149.79309751611007},23,null,22.280257813704317,51.107390329380422,"41'''",null,{"$f":"-GL118+FS99","v":-12.280257813704317},51.107390329380422,"41'''",null,null,null,null,null,null,null,null,null,{"$f":"DO103","v":20.697624979920391},{"$f":"DP103","v":135.8903376500576},{"$f":"DQ103","v":"شیفت12p"},null,{"$f":"-HB118+GI99","v":-10.697624979920391},{"$f":"HC118","v":135.8903376500576},{"$f":"DU103","v":"شیفت10m"},null,null,null,null,null,null,null,null,null,null,null,{"$f":"-FV117-HY101","v":-15.486302394780303},{"$f":"FW117","v":91.65700380720962},"شیفت37'",null,{"$f":"-FB116-HY101","v":-7.1547955892327977},{"$f":"FC116","v":148.69246484533343},"شیفت 34b",null,null,null,null,null,{"$f":"-FN118-HY101","v":-17.781137309228399},{"$f":"FO118","v":127.66272508336525},"b2s",null,{"$f":"-CR170-HY101","v":-6.0266315995457731},{"$f":"CS170","v":106.96}," dd5",null,{"$f":"-FD264-HY101","v":5},{"$f":"FE264","v":103.58445930171638},"p26",null,{"$f":"-FN156-HY101","v":-3.9012084004542267},106.96,"d5",null,{"$f":"-DI246-HY101","v":5},{"$f":"DJ246","v":84.86833280438421},"m9",null,{"$f":"-ES247-HY101","v":5},{"$f":"ET247","v":80.016000000000005},"p3"]
[null,null,null,null,"نوار کمر از پشت بین دو خط پهلو","b",null,{"$f":"'متغیرها '!U71+0.3*'متغیرها '!C60*('متغیرها '!U53+'متغیرها '!U55+'متغیرها '!U73)","v":33.700000000000003},null,"(5 → 7)",{"$f":"'متغیرها '!C88*(H124-H123)","v":3.2199999999999998},{"$f":"0*(I124-I123)","v":0},null,null,null,null,11.183920000000001,0,9,null,{"$f":"AN132","v":20.116389070914362},{"$f":"AO132","v":21.477904893307706},18,null,{"$f":"(H153-1)*(I127-I126)+0.2*'متغیرها '!U82","v":10.315991596638654},"(6 → 7)",{"$f":"(G153-1)*(H127-H126)+0.2*H130","v":10.315991596638654},null,null,null,null,10.23,0,10,null,{"$f":"AR134","v":21.133553493558441},{"$f":"AS134","v":19.266385757077991},20,null,{"$f":"K117","v":9.9639199999999999},{"$f":"K116+AP111","v":16.100000000000001},5,null,0,{"$f":"AA117+AT111","v":30},5,null,2.5099999999999989,"(12 → 17)",3.1336109290856378,null,null,null,null,null,{"$f":"AZ106","v":5},{"$f":"BA151+'متغیرها '!C278*('متغیرها '!U60-'متغیرها '!U59)","v":78.189913296669062},null,2.94,"(15 →16)",2.94,null,{"$f":"BI108-BI116+BI98+'متغیرها '!C56","v":26.133553493558441},{"$f":"BI110+BI97+'متغیرها '!C57","v":128.54033765005761},"شیفت13",null,{"$f":"BK155","v":16.204999999999998},{"$f":"BL155","v":91.64},38,null,{"$f":"J245","v":14.986998674554382},{"$f":"K245","v":152.35055746187842},"a13",null,{"$f":"BS104+SQRT(POWER(BS119-BS104,2)+POWER(BT119-BT104,2))*SIN(BT103-ATAN((BS104-BS119)/(BT119-BT104)))","v":14.986998674554382},{"$f":"BT104+SQRT(POWER(BS119-BS104,2)+POWER(BT119-BT104,2))*COS(BT103-ATAN((BS104-BS119)/(BT119-BT104)))","v":152.35055746187842},"a13",null,{"$f":"BO102-CB112","v":20.851112473896507},{"$f":"BP102-CB113","v":142.04971892360066},20,"نقطه حلقه آستین",{"$f":"CA104+SQRT(POWER(CA119-CA104,2)+POWER(CB119-CB104,2))*SIN(ATAN((CA119-CA104)/(CB119-CB104))-CB114)","v":20.850156966482285},{"$f":"CB104+SQRT(POWER(CA119-CA104,2)+POWER(CB119-CB104,2))*COS(ATAN((CA119-CA104)/(CB119-CB104))-CB114)","v":142.05015558867842},"b12",null,{"$f":"CI108","v":19.544139936642118},{"$f":"CJ108","v":135.75956076797357},"16f",null,{"$f":"BS128+BT130","v":14.963920000000002},{"$f":"BT128","v":124.1},"شیفت 5 پیراهن",null,"مولفه افقی","مولفه عمودی","اسم نقطه ",null,{"$f":"CU122+0.5*(CQ120-CU122)","v":16.105971083872301},{"$f":"CR120+0.5*(CV122-CR120)","v":148.6018410391826}," وسط 18f",null,{"$f":"-CU119+CZ101","v":-6.1059710838723014},{"$f":"CV119","v":148.6018410391826}," وسط 18f",null,{"$f":"BW132","v":26.945420625789474},{"$f":"BX132","v":131.39223733364972},"b4",null,{"$f":"DH134","v":-5.653572271542787},{"$f":"DI134","v":410.39488452397444},"s'2",null,"نقاط  خروجی",null,null,null,{"$f":"BO102-DP120","v":20.851112473896507},{"$f":"BP102","v":142.04971892360066},20,null,{"$f":"CE109","v":17.143835167507035},{"$f":"CF109","v":148.62065010740045},"30m",null,null,{"$f":"CI112-EA137","v":28.25},{"$f":"CJ112","v":124.7739048933077},14,null,{"$f":"-DX119+ED137","v":-18.25},{"$f":"DY119","v":124.7739048933077},14,null,{"$f":"BK162-EA138","v":25.75},{"$f":"BL162-EA139","v":110.10434605341895},36,null,{"$f":"-EF119+ED138","v":-15.75},{"$f":"EG119","v":110.10434605341895},36,null,null,null,null,null,"نقاط  خروجی ",null,null,null,"نقاط  خروجی ",null,null,null,null,null,{"$f":"BS104+BT130","v":14.96392},{"$f":"BT104","v":124.1},"شیفت 5 بالاتنه",null,{"$f":"BW120","v":15.870190509419885},161.37495826882815,"a4",null,null,null,null,null,{"$f":"DG117","v":27.405193236205399},{"$f":"DH117","v":112.60208046101975},"41s",null,null,null,"سینه",null,null,null,"پهلو جدا روی جیب با ساسون",null,null,null,"انگلیسی",null,{"$f":"EW150","v":17.198787726943937},{"$f":"EX150","v":148.86699134549622},"30b",null,{"$f":"-GD119+FK99","v":-7.1987877269439373},{"$f":"GE119","v":148.86699134549622},"30b",null,19.641137211883354,50.720869210683787,"41''",null,{"$f":"-GL119+FS99","v":-9.641137211883354},50.720869210683787,"41''",null,{"$f":"DO105","v":16.204999999999998},{"$f":"DP105","v":131.88439243697479},{"$f":"DQ105","v":"شیفت40"},null,{"$f":"-GT119+GA99","v":-6.2049999999999983},{"$f":"GU119","v":131.88439243697479},{"$f":"DU105","v":"شیفت42m"},null,{"$f":"EJ337","v":11.301249999999996},{"$f":"EK337-0.3*EY167","v":68.25},"e215",null,{"$f":"-HB119+GI99","v":-1.301249999999996},{"$f":"HC119","v":68.25},"e215",null,null,null,{"$f":"-DS157-HY101","v":-9.544139936642118},{"$f":"DT157","v":135.75956076797357},35,null,{"$f":"-CM128-HY101","v":-4.9639199999999999},{"$f":"CN128","v":124.1}," 5 بالاتنه",null,null,null,null,null,{"$f":"-FB117-HY101","v":-4.9639200000000017},{"$f":"FC117","v":124.1},"شیفت 5 پیراهن",null,{"$f":"-FJ115-HY101","v":-5.1464199999999991},{"$f":"FK115","v":101.14},"شیفت 47''",null,{"$f":"-FN119-HY101","v":-17.405193236205399},{"$f":"FO119","v":112.60208046101975},"41s",null,null,null,null,null,{"$f":"-FD265-HY101","v":5},{"$f":"FE265","v":106.96},"d4"]
[null,null,null,null,"دور سینه : از برجسته ترین قسمت سینه","s1",null,{"$f":"'متغیرها '!U72+0.3*'متغیرها '!C60*('متغیرها '!U52+'متغیرها '!U54+'متغیرها '!U72)","v":88},null,"(1 → 8)",{"$f":"0.5*G154*(H120-H121)-IF(G152>0,G152,0)","v":8.7439199999999992},{"$f":"0.5*H154*('متغیرها '!U72-'متغیرها '!U73)-IF(H152>0,H152,0)","v":8.7439199999999992},null,null,null,null,19.59,0,10,null,{"$f":"AN126","v":23.25},{"$f":"AO126","v":20.595904893307704},12,null,{"$f":"(H153*(I127-I126)+0.2*'متغیرها '!U82)*0.9-(I127-I126)","v":7.8843924369747889},"(6 → 8)",{"$f":"(G153*(H127-H126)+0.2*H130)*'متغیرها '!C85-(H127-H126)","v":7.8843924369747889},null,null,null,null,12.18,0,11,null,{"$f":"AR129","v":23.962535621967952},{"$f":"AS129","v":18.531385757077992},15,null,{"$f":"K117","v":9.9639199999999999},{"$f":"K116+K118+AP111","v":16.100000000000001},6,null,{"$f":"AA118","v":11.205},{"$f":"AA116+AT111","v":14},6,null,0.88200000000000001,"(17 → 18)",0.88200000000000001,null,{"$f":"AX104-AX121+AX99","v":23.23622251346298},{"$f":"AX113+AX98","v":128.5959048933077},19,null,{"$f":"BD154","v":27.838732189016021},{"$f":"BE119","v":78.189913296669062},null,1.7639999999999998,"(12 → 17)",0.51162497992039135,null,{"$f":"BI108-BI116+BI98+'متغیرها '!C56","v":26.133553493558441},{"$f":"BI110+BI117+BI97+'متغیرها '!C57","v":129.27533765005762},"شیفت14",null,{"$f":"BO119","v":16.204999999999998},{"$f":"BL168","v":50.5},"38'''",null,{"$f":"J240","v":15.870190509419885},{"$f":"K240","v":161.37495826882815},"a4",null,{"$f":"BS104+SQRT(POWER(BS120-BS104,2)+POWER(BT120-BT104,2))*SIN(BT103-ATAN((BS104-BS120)/(BT120-BT104)))","v":15.870190509419885},{"$f":"BT104+SQRT(POWER(BS120-BS104,2)+POWER(BT120-BT104,2))*COS(BT103-ATAN((BS104-BS120)/(BT120-BT104)))","v":161.37495826882815},"a4",null,{"$f":"BO101-CB112","v":21.209249959840783},{"$f":"BP101-CB113","v":147.08921269286319},18,"نقطه حلقه آستین",{"$f":"CA104+SQRT(POWER(CA120-CA104,2)+POWER(CB120-CB104,2))*SIN(ATAN((CA120-CA104)/(CB120-CB104))-CB114)","v":21.207820765101573},{"$f":"CB104+SQRT(POWER(CA120-CA104,2)+POWER(CB120-CB104,2))*COS(ATAN((CA120-CA104)/(CB120-CB104))-CB114)","v":147.08968299870722},"b16",null,{"$f":"CI110-0.85*(CI110-CI119)+CJ114*0.07*'متغیرها '!C76","v":21.24703926758998},{"$f":"CJ110+0.5*(CJ119-CJ110)","v":132.17773283064065},"20f",null,{"$f":"BS104+BT130","v":14.96392},{"$f":"BT104","v":124.1},"شیفت 5 بالاتنه",null,{"$f":"CQ112+CR117*(1-0.5*CR108+0.5*CR109-0.5*CR107)*COS(CR116)","v":19.744326892618545},{"$f":"CR112-CR117*(1-0.5*CR108+0.5*CR109-0.5*CR107)*SIN(CR116)","v":147.41058456225514},"18f",null,null,null,null,null,null,null,null,null,{"$f":"BW139","v":28.379848414360417},{"$f":"BX139","v":131.71366682728006},"b14",null,{"$f":"DG119-DC106+DC109","v":-6.0185722715427836},{"$f":"DH119","v":410.39488452397444},"s2",null,"مولفه افقی","مولفه عمودی","اسم نقطه ",null,null,{"$f":"'متغیرها '!C56","v":0},"شیفت افقی",null,{"$f":"CE121","v":18.702945743331036},{"$f":"CF121","v":148.41923175013923},"32m",null,null,{"$f":"AZ168","v":24.59},{"$f":"BA168","v":110.15991329666905},41,null,{"$f":"-DX120+ED137","v":-14.59},{"$f":"DY120","v":110.15991329666905},41,null,null,null,null,null,null,null,null,null,null,null,null,null,"مولفه افقی","مولفه عمودی","اسم نقطه ",null,"مولفه افقی","مولفه عمودی","اسم نقطه ",null,null,null,{"$f":"BS128+BT130","v":14.963920000000002},{"$f":"BT128","v":124.1},"شیفت 5 پیراهن",null,10.176511802957918,158.18164972624723,"a6",null,{"$f":"AZ167+BT130","v":16.183920000000001},{"$f":"BA167","v":108},"شیفت 40",null,null,null,null,null,{"$f":"FR108","v":5},{"$f":"BA165+(H124-H123)","v":124.1},"g4",null,{"$f":"DG126","v":23.811809696703836},{"$f":"DH126","v":131.56138320925345},"b'8s",null,{"$f":"ET175","v":-7.1499999999999986},112.42999999999999,"e''1",null,null,null,null,null,null,null,null,null,16.474192489698201,50.5,"شیفت41'",null,{"$f":"-GL120+FS99","v":-6.4741924896982006},50.5,"شیفت41'",null,{"$f":"DO112","v":17.18},110,"شیفت35",null,{"$f":"-GT120+GA99","v":-7.18},{"$f":"GU120","v":110},{"$f":"DU112","v":"26m"},null,null,null,null,null,null,null,null,null,null,null,{"$f":"-DS158-HY101","v":-7.4830409651531653},{"$f":"DT158","v":132.03967057598018},33,null,{"$f":"-CM129-HY101","v":-4.9639200000000017},{"$f":"CN129","v":124.1}," 5 پیراهن",null,null,null,"13'",null,null,null,null,null,{"$f":"-FJ118-HY101","v":-6.1839200000000005},{"$f":"FK118","v":108},"شیفت 40",null,null,null,null,null,{"$f":"-CR170-HY101","v":-6.0266315995457731},{"$f":"CS170","v":106.96}," dd5",null,null,null,null,null,null,null,"69'",null,{"$f":"-DI248-HY101","v":5},{"$f":"DJ248","v":78.855896622129563},"m11",null,{"$f":"-ES249-HY101","v":5},{"$f":"ET249","v":80.016000000000005},"p3"]
[null,null,null,null,"پشت نوار سینه، بین دو خط پهلو","s2",null,{"$f":"'متغیرها '!U73+0.3*'متغیرها '!C60*('متغیرها '!U53+'متغیرها '!U55+'متغیرها '!U73)","v":41.5},null,"(8 → 9)",{"$f":"IF(G152>0,2*G152,0)","v":2.4400000000000008},{"$f":"2*IF(H152>0,H152,0)","v":2.4400000000000008},null,null,null,null,19.59,2.1994542671720723,11,null,{"$f":"AN127","v":24.72},{"$f":"AO127","v":20.595904893307704},13,null,{"$f":"H147","v":1.9499999999999993},"(1→ 9)",{"$f":"G147","v":1.9499999999999993},null,null,null,null,20.75,0,12,null,null,null,null,null,{"$f":"K117","v":9.9639199999999999},{"$f":"K116-K119+AP111","v":12.880000000000003},7,null,{"$f":"AA118","v":11.205},{"$f":"AA116+AA119+AT111","v":24.315991596638654},7,null,4.0159999999999982,"(12 → 19)",5.0137774865370206,null,{"$f":"AX104-AX121+AX99","v":23.23622251346298},{"$f":"AX113+AX122+AX98","v":130.94790489330771},20,null,null,null,null,9.8690908522517926,"(17 → 18)",11.198875042805577,null,null,null,null,null,null,null,null,null,{"$f":"J241","v":10.176511802957918},{"$f":"K241","v":158.18164972624723},"a6",null,{"$f":"BS104+SQRT(POWER(BS121-BS104,2)+POWER(BT121-BT104,2))*SIN(BT103-ATAN((BS104-BS121)/(BT121-BT104)))","v":10.176511802957918},{"$f":"BT104+SQRT(POWER(BS121-BS104,2)+POWER(BT121-BT104,2))*COS(BT103-ATAN((BS104-BS121)/(BT121-BT104)))","v":158.18164972624723},"a6",null,{"$f":"BK146-CB112","v":18.704499919681567},{"$f":"BL146-CB113","v":148.41899688341698},32,"نقطه ساسون سرشانه",{"$f":"CA104+SQRT(POWER(CA121-CA104,2)+POWER(CB121-CB104,2))*SIN(ATAN((CA121-CA104)/(CB121-CB104))-CB114)","v":18.702945743331036},{"$f":"CB104+SQRT(POWER(CA121-CA104,2)+POWER(CB121-CB104,2))*COS(ATAN((CA121-CA104)/(CB121-CB104))-CB114)","v":148.41923175013923},32,null,{"$f":"CI110-0.5*(CI110-CI119)+CJ114*0.07*'متغیرها '!C76","v":24.294090289765236},{"$f":"CJ110+0.15*(CJ119-CJ110)","v":129.67045327450759},"18f",null,null,null,null,null,{"$f":"CQ122+0.2*(CQ120-CQ122)-CR117*0.05*CR108","v":19.86406690396926},{"$f":"CR122+0.4*(CR120-CR122)","v":141.18340308122995},"20f",null,{"$f":"CU119","v":16.105971083872301},{"$f":"CV119","v":148.6018410391826}," وسط 18f",null,{"$f":"-CU121+CZ101","v":-6.1059710838723014},{"$f":"CV121","v":148.6018410391826}," وسط 18f",null,{"$f":"BW140","v":27.781137309228399},{"$f":"BX140","v":127.66272508336525},"b2",null,{"$f":"DG117+DD130*SIN(DD123+DD133)","v":33.934366862103396},{"$f":"DH117-DD130*COS(DD123+DD133)","v":92.95429389960583},"45ss",null,{"$f":"DK104-DL109","v":25.116389070914362},{"$f":"DL104","v":124.7739048933077},"14شیفتm",null,null,{"$f":"H170","v":1.4513257509427628},"m'",null,{"$f":"EV122","v":20.466832753376533},{"$f":"EW122","v":135.89075991533232},{"$f":"EX122","v":"b'6p"},"چرخیده",null,null,null,null,null,null,null,null,null,{"$f":"BK162-EA138","v":25.75},{"$f":"BL162-EA139","v":110.10434605341895},36,null,{"$f":"-EF121+ED138","v":-15.75},{"$f":"EG121","v":110.10434605341895},36,null,null,null,null,null,{"$f":"ER103-ES114*COS(ES116+ES118)","v":18.663373435655469},{"$f":"ES103-ES114*SIN(ES116+ES118)","v":141.65366056805237},"b'12g",null,{"$f":"EV103-EW114*COS(EW116+EW118)","v":20.65814390894144},{"$f":"EW103-EW114*SIN(EW116+EW118)","v":142.07290673162132},"b'12p",null,null,null,null,null,null,null,-3.9560588774995811,149.57603149531826,"a8",null,{"$f":"AZ161+BT130","v":14.96392},{"$f":"BA161","v":120.88},"شیفت 43",null,{"$f":"DG117","v":27.405193236205399},{"$f":"DH117","v":112.60208046101975},"41s",null,{"$f":"AZ104","v":14.963920000000002},{"$f":"FS120","v":124.1},"g5",null,{"$f":"DG124","v":24.347411878892434},{"$f":"DH124","v":111.14337462651294},"41m",null,-7.5499999999999989,120.6,"e'1",null,{"$f":"EW150","v":17.198787726943937},{"$f":"EX150","v":148.86699134549622},"30b",null,{"$f":"-GD121+FK99","v":-7.1987877269439373},{"$f":"GE121","v":148.86699134549622},"30b",null,15.301249999999996,50.5," شیفت50",null,{"$f":"-GL121+FS99","v":-5.301249999999996},50.5," شیفت50",null,15.301249999999996,91.64,"شیفت38''",null,{"$f":"-GT121+GA99","v":-5.301249999999996},{"$f":"GU121","v":91.64},{"$f":"DU113","v":"28m"},null,{"$f":"EJ337","v":11.301249999999996},{"$f":"EK337-0.3*EY167","v":68.25},"e215",null,{"$f":"-HB121+GI99","v":-1.301249999999996},{"$f":"HC121","v":68.25},"e215",null,null,null,{"$f":"-DS159-HY101","v":-5.7425573892291606},{"$f":"DT159","v":126.83182430718942},23,null,null,null,null,null,{"$f":"-FV120-HY101","v":-13.811809696703836},{"$f":"FW120","v":131.56138320925345},"b'8s",null,{"$f":"-FB119-HY101","v":-4.9639199999999999},{"$f":"FC119","v":124.1},"شیفت 5 بالاتنه",null,null,null,null,null,{"$f":"-FN121-HY101","v":-17.405193236205399},{"$f":"FO121","v":112.60208046101975},"41s",null,{"$f":"-CR173-HY101","v":-14.694757230700372},{"$f":"CS173","v":109.11991329666904},"d3",null,null,null,"52'",null,{"$f":"-DE278-HY101","v":5},{"$f":"DF278","v":103.1},"s1",null,{"$f":"-DI249-HY101","v":17.149999999999999},{"$f":"DJ249","v":78.855896622129563},"m'11",null,{"$f":"-ES250-HY101","v":17.149999999999999},{"$f":"ET250","v":80.016000000000005},"p'3"]
[null,null,null,null,"فاصله عمودی از خط سینه جلو تا خط سینه پشت که از کنار حلقه آستین بگذرد","t1",null,{"$f":"('متغیرها '!U74-'متغیرها '!U77)-0.5*'متغیرها '!C60*('متغیرها '!U74-'متغیرها '!U77)+'متغیرها '!C63*('متغیرها '!U75-'متغیرها '!U78)","v":21.8},{"$f":"('متغیرها '!U74-'متغیرها '!U77)","v":21.8},"(7 → 8)","وصل",null,null,null,null,null,{"$f":"AN124","v":19.59},{"$f":"AO124","v":0},10,null,null,null,null,null,null,"(9 →5)","وصل",null,null,null,null,20.75,9.5394160439335671E-2,13,null,null,null,null,null,{"$f":"K120","v":8.7439199999999992},{"$f":"0+AP111","v":0},8,null,{"$f":"AA118","v":11.205},{"$f":"AA116+AA120+AT111","v":21.884392436974789},8,null,2.3519999999999999,"(19 → 20)",2.3519999999999999,null,null,null,null,null,{"$f":"AZ162","v":14.96392},{"$f":"BE119","v":78.189913296669062},null,0.52919999999999989,"(12 → 19)",0.15348749397611741,null,{"$f":"BI108+BI98+'متغیرها '!C56","v":27.492535621967953},{"$f":"BI110+BI97+'متغیرها '!C57","v":128.54033765005761},"شیفت8",null,{"$f":"BO153","v":27.492535621967953},{"$f":"BP153","v":124.71833765005761},"10 شیفت",null,{"$f":"J249","v":-3.9560588774995793},{"$f":"K249","v":149.57603149531826},"a8",null,{"$f":"BS104+SQRT(POWER(BS122-BS104,2)+POWER(BT122-BT104,2))*SIN(BT103-ATAN((BS104-BS122)/(BT122-BT104)))","v":-3.9560588774995811},{"$f":"BT104+SQRT(POWER(BS122-BS104,2)+POWER(BT122-BT104,2))*COS(BT103-ATAN((BS104-BS122)/(BT122-BT104)))","v":149.57603149531826},"a8",null,{"$f":"BO106-CB112","v":28.962535621967952},{"$f":"BP106-CB113","v":128.54033765005761},9,"نقطه حلقه آستین",{"$f":"CA104+SQRT(POWER(CA122-CA104,2)+POWER(CB122-CB104,2))*SIN(IF(CB122=CB104,RADIANS(90)-CB114,ATAN((CA122-CA104)/ABS(CB122-CB104))+IF(CB122>CB104,-1,1)*CB114))","v":28.96284988906315},{"$f":"CB104+IF(CB122<CB104,-1,1)*SQRT(POWER(CA122-CA104,2)+POWER(CB122-CB104,2))*COS(IF(CB122=CB104,RADIANS(90)-CB114,ATAN((CA122-CA104)/ABS(CB122-CB104))+IF(CB122>CB104,-1,1)*CB114))","v":128.54153680565952},"b14",null,null,null,null,null,{"$f":"BS104+BT130","v":14.96392},{"$f":"BT104","v":124.1},"شیفت 5 بالاتنه",null,{"$f":"CQ110+0.5*CR111+CR117*(0.2*CR109-0.3*CR108)","v":20.248484336667811},{"$f":"CR113+0.45*(CR120-CR113)","v":137.0319487605465},"12f",null,{"$f":"CQ112","v":12.467615275126056},{"$f":"CR112","v":149.79309751611007},23,null,{"$f":"-CU122+CZ101","v":-2.4676152751260556},{"$f":"CV122","v":149.79309751611007},23,null,null,{"$f":"'متغیرها '!C55","v":0},"شیفت افقی تکه پهلو",null,{"$f":"DG121-DD135*SIN(DD123+DD133)","v":135.62311352816897},{"$f":"DH121+DD135*COS(DD123+DD133)","v":-213.05055520834799},"ss2",null,{"$f":"DK105-DL109","v":21.456389070914362},{"$f":"DL105","v":110.15991329666905},"41شیفتm",null,{"$f":"BK102","v":5},{"$f":"BL102","v":142.48021932151983},21,null,{"$f":"DO129+DL109","v":29.873000856464298},{"$f":"DP129","v":89.496832393783336},"p10rm","شلوار",null,{"$f":"AZ168","v":24.59},{"$f":"BA168","v":110.15991329666905},41,null,{"$f":"-DX122+ED137","v":-14.59},{"$f":"DY122","v":110.15991329666905},41,null,{"$f":"BK165-EA138","v":28.254999999999999},{"$f":"BL165-EA139","v":89.504346053418971},42,null,{"$f":"-EF122+ED138","v":-18.254999999999999},{"$f":"EG122","v":89.504346053418971},42,null,null,null,null,null,{"$f":"ER106+1.2*(ER121-ER105)","v":18.994115770690371},{"$f":"ES106","v":135.75956076797357},"b'6g",null,{"$f":"EV106+1.2*(EV121-EV105)","v":20.466832753376533},{"$f":"EW106","v":135.89075991533232},"b'6p",null,null,null,{"$f":"BS104+BT130","v":14.96392},{"$f":"BT104","v":124.1},"شیفت 5 بالاتنه",null,{"$f":"BW115","v":-10.012874883409937},{"$f":"BX115","v":140.97041326438926},"e3",null,null,null,null,null,{"$f":"DG122","v":135.62311352816897},{"$f":"DH122","v":-213.05055520834799},"ss2",null,null,null,null,null,null,null,null,null,-8.6712893707726337,127.15531449435001,"e''10",null,{"$f":"BK101","v":17.220071134028601},{"$f":"BL101","v":142.48021932151983},22,null,{"$f":"-GD122+FK99","v":-7.2200711340286006},{"$f":"GE122","v":142.48021932151983},22,null,{"$f":"BO176","v":4.8624999999999998},{"$f":"BP176","v":50.5},47,null,{"$f":"-GL122+FS99","v":5.1375000000000002},50.5,47,null,{"$f":"DO111","v":15.301249999999996},{"$f":"DP111","v":50.5},{"$f":"DQ111","v":"شیفت50"},null,{"$f":"-GT122+GA99","v":-5.301249999999996},{"$f":"GU122","v":50.5},{"$f":"DU111","v":"23m"},null,{"$f":"EJ341","v":11.301249999999996},{"$f":"EK341","v":50.5},"e216",null,{"$f":"-HB122+GI99","v":-1.301249999999996},{"$f":"HC122","v":50.5},"e216",null,null,null,{"$f":"-DS160-HY101","v":-4.9639199999999999},{"$f":"DT160","v":120.88},43,null,{"$f":"-CM131-HY101","v":-4.9639200000000017},{"$f":"CN131","v":124.1},"5پیراهن",null,{"$f":"-FV121-HY101","v":-14.347411878892434},{"$f":"FW121","v":111.14337462651294},"41m",null,{"$f":"-FB120-HY101","v":-4.9639200000000017},{"$f":"FC120","v":124.1},"شیفت 5 پیراهن",null,{"$f":"-FJ118-HY101","v":-6.1839200000000005},{"$f":"FK118","v":108},"شیفت 40",null,{"$f":"-FN122-HY101","v":-125.62311352816897},{"$f":"FO122","v":-213.05055520834799},"ss2",null,null,null,null,null,{"$f":"-AR266-HY101","v":-2.4606653124859612},{"$f":"AS266","v":149.76712499807095},25,null,{"$f":"-DE279-HY101","v":5},{"$f":"DF279","v":103.58445930171638},"p26"]
[null,null,null,null,"فاصله عمودی از خط سینه جلو تا خط سینه پشت که از کنارگردن بگذرد","t2",null,{"$f":"'متغیرها '!U75-'متغیرها '!U78+'متغیرها '!C63*('متغیرها '!U75-'متغیرها '!U78)","v":25.9},{"$f":"'متغیرها '!U75-'متغیرها '!U78","v":25.9},"(7 → 9)","وصل",null,null,null,null,null,{"$f":"AN117","v":23.25},{"$f":"AO117","v":0},3,null,null,null,null,null,{"$f":"Y118-H151-H147","v":7.4500000000000011},"(9 → 10)",{"$f":"AA118-AA121-G151","v":8.2800000000000011},null,null,null,null,{"$f":"AR126","v":20.75},{"$f":"AS126","v":0},12,null,null,null,null,null,{"$f":"K120+K121","v":11.183920000000001},{"$f":"0+AP111","v":0},9,null,{"$f":"AA121","v":1.9499999999999993},{"$f":"AT111","v":0},9,null,4.1160000000000005,"(16 → 21)",2.8687781418287228,null,{"$f":"AZ115","v":21.982778141828724},{"$f":"BA115","v":134.4759048933077},16,null,{"$f":"BD122","v":14.96392},{"$f":"BA106","v":50.5},null,5.4279999687384866,"(19 → 20)",6.159381273543068,null,{"$f":"BI108+BI98+'متغیرها '!C56","v":27.492535621967953},{"$f":"0+BI97+'متغیرها '!C57","v":50.5},"شیفت7",null,{"$f":"#REF!+'متغیرها '!C56","v":{"$error":"#REF!"}},{"$f":"#REF!+'متغیرها '!C57","v":{"$error":"#REF!"}},"b شیفت",null,{"$f":"J251","v":-9.1540124183869551},{"$f":"K251","v":130.78520663219464},"a11",null,{"$f":"IF(BS116>BW115,BS116-0.7*(BS116-BW115),BW115-0.7*(BW115-BS116))","v":-9.1540124183869551},{"$f":"BT123","v":130.78520663219464},"a11",null,{"$f":"BO122-CB112","v":27.492535621967953},{"$f":"BP122-CB113","v":124.71833765005761},10,"نقطه زیر حلقه آستین",{"$f":"CA104+SQRT(POWER(CA123-CA104,2)+POWER(CB123-CB104,2))*SIN(IF(CB123=CB104,RADIANS(90)-CB114,ATAN((CA123-CA104)/ABS(CB123-CB104))+IF(CB123>CB104,-1,1)*CB114))","v":27.49320914332904},{"$f":"CB104+IF(CB123<CB104,-1,1)*SQRT(POWER(CA123-CA104,2)+POWER(CB123-CB104,2))*COS(IF(CB123=CB104,RADIANS(90)-CB114,ATAN((CA123-CA104)/ABS(CB123-CB104))+IF(CB123>CB104,-1,1)*CB114))","v":124.71939865032314},"b2",null,null,"به دست آوردن نقطه تقاطع دو خط (وسط 20f)","مولفه افقی","مولفه عمودی",{"$f":"AZ161+BT130","v":14.96392},{"$f":"BA161","v":120.88},"شیفت 43",null,{"$f":"CQ113-0.9*(CQ113-CQ122)+CR117*0.07*CR108","v":21.516909786642003},{"$f":"CR113+0.25*(CR120-CR113)","v":133.257899378107},"16f",null,null,null,"رگلان",null,null,null,"رگلان",null,null,{"$f":"BU143-BU142","v":0.22044053561760357},"ζ'2-ζ'1",null,{"$f":"DG112-DD125*COS(DD123)","v":24.723355951915433},{"$f":"DH112-DD125*COS(DD123)*TAN(DD138)","v":126.04458209559203},"b2m",null,{"$f":"DK106-DL109","v":23.531389070914361},{"$f":"DL106","v":89.559913296669052},"45شیفتm",null,{"$f":"BK159","v":15.23},{"$f":"BL159","v":110},34,null,{"$f":"DO130+DL109","v":26.197035425467782},{"$f":"DP130","v":52.060215685235761},"p7rm",null,null,{"$f":"AZ172-EA137","v":26.664999999999999},{"$f":"BA172","v":89.559913296669052},45,null,{"$f":"-DX123+ED137","v":-16.664999999999999},{"$f":"DY123","v":89.559913296669052},45,null,null,null,null,null,null,null,null,null,null,null,null,null,{"$f":"ER107+0.5*(ER121-ER105)","v":21.309506528466933},{"$f":"ES107","v":132.59101161939529},"b'10g",null,{"$f":"EV107+0.5*(EV121-EV105)","v":22.640129593924613},{"$f":"EW107","v":131.48095154050506},"b'10p",null,null,null,{"$f":"AZ161+BT130","v":14.96392},{"$f":"BA161","v":120.88},"شیفت 43",null,{"$f":"BW123","v":-9.1540124183869551},{"$f":"BX123","v":130.78520663219464},"a11",null,{"$f":"AZ161","v":14.96392},{"$f":"BA161","v":120.88},43,null,null,null,null,null,{"$f":"BD166","v":14.963920000000002},{"$f":"FS120","v":124.1},"g'5",null,{"$f":"DG124","v":24.347411878892434},{"$f":"DH124","v":111.14337462651294},"41m",null,-9.4925787415452678,133.71062898870002,"e'10",null,null,null,null,null,null,null,null,null,null,null,"14ترک وسط",null,null,null,"ترک وسط",null,null,null,null,null,null,null,null,null,null,null,null,null,null,null,null,null,null,null,null,null,null,null,{"$f":"-CM132-HY101","v":-6.0990211212322052},{"$f":"CN132","v":148.57586852114349}," وسط 22f",null,null,null,null,null,null,null,null,null,{"$f":"-FJ121-HY101","v":-4.9639199999999999},{"$f":"FK121","v":120.88},"شیفت 43",null,null,null,null,null,{"$f":"-CR173-HY101","v":-14.694757230700372},{"$f":"CS173","v":109.11991329666904},"d3",null,{"$f":"-AR267-HY101","v":-2.4606653124859612},{"$f":"AS267","v":157.92716450668192},"1n",null,null,null,null,null,{"$f":"-DI251-HY101","v":17.149999999999999},{"$f":"DJ251","v":78.855896622129563},"m'11",null,{"$f":"-ES252-HY101","v":17.149999999999999},{"$f":"ET252","v":80.016000000000005},"p'3"]
[null,null,null,null,"فاصله عمودی از خط کمر جلو تا خط کمر پشت که از کنار گردن بگذرد","t3",null,{"$f":"'متغیرها '!U76-'متغیرها '!U79+'متغیرها '!C63*('متغیرها '!U76-'متغیرها '!U79)","v":42},{"$f":"'متغیرها '!U76-'متغیرها '!U79","v":42},"(9 → 10)",{"$f":"K115-K120-2*G152-0.5*(H120-H121-H118+H119)*(1-2*'متغیرها '!C87)+'متغیرها '!C77*O128*H130*((L115-L120-L121-L124)/(L127-L125))","v":8.4060799999999993},{"$f":"L115-L120-2*H152-0.5*('متغیرها '!U72-'متغیرها '!U73-'متغیرها '!U70+'متغیرها '!U71)*(1-2*'متغیرها '!C87)","v":8.4060799999999993},null,"متغیرهای محاسبه ای بالاتنه جلو",null,"شبیه ساز",{"$f":"AN126","v":23.25},{"$f":"AO126","v":20.595904893307704},12,null,null,null,"انحنای حلقه یقه جلو",null,{"$f":"2*H151","v":1.9499999999999993},"(10 → 11)",{"$f":"2*G151","v":1.9499999999999993},null,null,null,null,{"$f":"AR117","v":22.492535621967953},{"$f":"AS117","v":0},3,null,null,null,"انحنای حلقه یقه پشت",null,{"$f":"K120+K121+K124","v":19.59},{"$f":"0+AP111","v":0},10,null,{"$f":"AA121+AA123","v":10.23},{"$f":"AT111","v":0},10,null,10.196056308691121,"(21 → 22)",11.545074211879779,null,{"$f":"AX104-AX117+AX123+AX99","v":24.851556283657448},{"$f":"AX113+AX118+AX98","v":134.4759048933077},21,null,null,null,null,null,"(18 → 20→ 12→ 16→ 14→ 8→ 9)","هلال وصل",null,null,null,null,null,null,null,null,null,{"$f":"N255","v":18.098360135735021},{"$f":"O255","v":156.43688253908573},"a14",null,{"$f":"BS104+SQRT(POWER(BS124-BS104,2)+POWER(BT124-BT104,2))*SIN(BT103-ATAN((BS104-BS124)/(BT124-BT104)))","v":18.098360135735021},{"$f":"BT104+SQRT(POWER(BS124-BS104,2)+POWER(BT124-BT104,2))*COS(BT103-ATAN((BS104-BS124)/(BT124-BT104)))","v":156.43688253908573},"a14",null,null,"متغیرهای محاسبه ای ساسون زیر بغل",null,null,null,null,null,null,"نقطه اول از خط اول",30,{"$f":"CM137","v":10.968532249988769},{"$f":"CN137","v":145.36876913123012},null,null,null,null,{"$f":"CQ113-0.55*(CQ113-CQ122)+CR117*0.07*CR108","v":24.56682773649705},{"$f":"CR113+0.09*(CR120-CR113)","v":130.23865987215538},"14f",null,{"$f":"CQ103","v":10.600711456344541},{"$f":"CR103","v":148.23154216796843},28,null,{"$f":"-CU124+CZ101","v":-0.60071145634454126},{"$f":"CV124","v":148.23154216796843},28,null,{"$f":"BD160","v":14.963920000000002},{"$f":"BE160","v":124.1},"شیفت 5",null,{"$f":"DG117-DD125*COS(DD123)","v":24.347411878892434},{"$f":"DH117-DD125*COS(DD123)*TAN(DD137)","v":111.14337462651294},"41m",null,{"$f":"DK107-DL109","v":22.498015041294021},{"$f":"DD114","v":51.659913296669046},"49'شیفتm","پیراهن",{"$f":"BO187","v":17.108750000000001},{"$f":"BP187","v":91.64},"38'",null,{"$f":"DO131+DL109","v":26.197035425467782},{"$f":"DP131","v":52.060215685235761},"p5rm",null,null,null,null,null,null,null,null,null,null,{"$f":"BK165-EA138","v":28.254999999999999},{"$f":"BL165-EA139","v":89.504346053418971},42,null,{"$f":"-EF124+ED138","v":-18.254999999999999},{"$f":"EG124","v":89.504346053418971},42,null,null,null,null,null,{"$f":"ER111+ER122-ER106","v":21.432753975876977},{"$f":"ES111","v":134.4759048933077},"16g","در مدل عصایی",{"$f":"EV111+EV122-EV106","v":20.467209310871382},{"$f":"EW111","v":135.8903376500576},"12p","در مدل عصایی",null,null,null,null,null,null,{"$f":"BS116","v":-7.1499999999999986},{"$f":"BT116","v":120.6},"e1",null,{"$f":"AZ166","v":13.743919999999999},{"$f":"BA166","v":108},39,null,{"$f":"DG122","v":135.62311352816897},{"$f":"DH122","v":-213.05055520834799},"ss2",null,{"$f":"CM105","v":21.24703926758998},{"$f":"FS120","v":124.1},"g''5",null,{"$f":"DG125","v":132.56533217085601},{"$f":"DH125","v":-204.76655748665198},"ss2m",null,{"$f":"EO177","v":-10.220964569242115},{"$f":"EP177","v":142.45104831450004},"e10",null,{"$f":"BK101","v":17.220071134028601},{"$f":"BL101","v":142.48021932151983},22,null,{"$f":"-GD124+FK99","v":-7.2200711340286006},{"$f":"GE124","v":142.48021932151983},22,null,{"$f":"BK179","v":16.204999999999998},{"$f":"BL179","v":131.88439243697479},"شیفت 40",null,{"$f":"-GL124+FS99","v":-6.2049999999999983},{"$f":"GM124","v":131.88439243697479},"شیفت 40",null,{"$f":"DO105-DP120","v":16.204999999999998},{"$f":"DP105-DP128","v":131.88439243697479},"بدون شیفت40",null,{"$f":"-GT124+GA99","v":-6.2049999999999983},{"$f":"GU124","v":131.88439243697479},"بدون شیفت40",null,{"$f":"DS121","v":20.466832753376533},{"$f":"DT121","v":135.89075991533232},{"$f":"DU121","v":"b'6p"},null,{"$f":"-HB124+GI99","v":-10.466832753376533},{"$f":"HC124","v":135.89075991533232},{"$f":"ES121","v":141.65366056805237},null,null,null,{"$f":"-DS162-HY101","v":-4.9639199999999999},{"$f":"DT162","v":120.88},43,null,null,null,null,null,{"$f":"-FV123-HY101","v":-14.347411878892434},{"$f":"FW123","v":111.14337462651294},"41m",null,{"$f":"-FB122-HY101","v":-4.9639199999999999},{"$f":"FC122","v":124.1},"شیفت 5 پیراهن",null,null,null,null,null,{"$f":"-FN124-HY101","v":-125.62311352816897},{"$f":"FO124","v":-213.05055520834799},"ss2",null,{"$f":"-CR176-HY101","v":-14.59},{"$f":"CS176","v":110.15991329666905}," شیفت41 یا d3",null,null,null,null,null,{"$f":"-DE279-HY101","v":5},{"$f":"DF279","v":103.58445930171638},"p26",null,{"$f":"-DI252-HY101","v":17.149999999999999},{"$f":"DJ252","v":103.1},"s'1",null,{"$f":"-ES253-HY101","v":17.149999999999999},{"$f":"ET253","v":103.1},"s'1"]
[null,null,null,null,"فاصله عمودی بین خط سینه پشت و سرشانه، نزدیک دست","t4",null,{"$f":"'متغیرها '!U77-0.5*'متغیرها '!C60*'متغیرها '!U77+'متغیرها '!C63*('متغیرها '!U78)","v":22.3},{"$f":"'متغیرها '!U77","v":22.3},"(10 → 11)",{"$f":"K124*TAN(0.5*IF(K121=0,0,G162))+K111","v":2.1994542671720723},{"$f":"L124*TAN(0.5*IF(L121=0,0,H162))+L111","v":2.1599132966690484},null,"γ5",1.3,null,{"$f":"AN129","v":16.982778141828724},{"$f":"AO129","v":20.595904893307704},15,null,{"$f":"AN139","v":7.4606653124859603},{"$f":"AO139","v":41.767124998070962},25,null,null,"(10 → 8)","وصل",null,null,null,null,{"$f":"AR128","v":22.492535621967953},{"$f":"AS128","v":18.531385757077992},14,null,{"$f":"AR141","v":7.4676152751260556},{"$f":"AS141","v":39.793097516110066},27,null,{"$f":"K120+K121+K124","v":19.59},{"$f":"K125+AP111","v":2.1994542671720723},11,null,{"$f":"AA121+AA123+AA124","v":12.18},{"$f":"AT111","v":0},11,null,1.2348000000000001,"(16 → 23)",0.86063344254861684,null,{"$f":"AX104-AX117+AX123+AX99","v":24.851556283657448},{"$f":"AX113+AX118+AX124+AX98","v":146.02097910518748},22,null,{"$f":"AZ106","v":5},{"$f":"BA106-2","v":48.5},null,null,"(1 → 21)",{"$f":"H106-H114+AG147","v":91.980219321519826},null,{"$f":"BI106+BI98+'متغیرها '!C56","v":27.081267810983974},{"$f":"0+BI97+'متغیرها '!C57","v":50.5},"شیفت5",null,{"$f":"BO123","v":{"$error":"#REF!"}},{"$f":"BP123","v":{"$error":"#REF!"}},"b شیفت",null,{"$f":"N257","v":13.564926656433329},{"$f":"O257","v":153.26447045394957},"a16",null,{"$f":"BS104+SQRT(POWER(BS125-BS104,2)+POWER(BT125-BT104,2))*SIN(BT103-ATAN((BS104-BS125)/(BT125-BT104)))","v":13.564926656433329},{"$f":"BT104+SQRT(POWER(BS125-BS104,2)+POWER(BT125-BT104,2))*COS(BT103-ATAN((BS104-BS125)/(BT125-BT104)))","v":153.26447045394957},"a16",null,null,"ζ'1",{"$f":"('متغیرها '!C111+0.001)*ATAN((CA109-CA104)/(CB109-CB104))","v":5.6037154887997101E-5},null,{"$f":"CA104+(1-'متغیرها '!C116)*(CA123-CA104)","v":17.333753562196794},{"$f":"CB104+(1-'متغیرها '!C116)*(CA123-CA104)*TAN(0.5*CB114-CC127)","v":131.16786138581332},"b",null,"نقطه دوم از خط اول","20f",{"$f":"CI120","v":21.24703926758998},{"$f":"CJ120","v":132.17773283064065},{"$f":"AZ161","v":14.96392},{"$f":"BA161","v":120.88},43,null,null,"به دست آوردن نقطه تقاطع دو خط (وسط 16f)","مولفه افقی","مولفه عمودی",{"$f":"CS130","v":16.1532818192969},{"$f":"CT130","v":140.61513555233722}," وسط 16f",null,{"$f":"-CU125+CZ101","v":-6.1532818192969003},{"$f":"CV125","v":140.61513555233722}," وسط 16f",null,null,{"$f":"AX119","v":3.1336109290856378},"(12→17)",null,{"$f":"DG122-DD125*COS(DD123)","v":132.56533217085601},{"$f":"DH122-DD125*COS(DD123)*TAN(DD139)","v":-204.76655748665198},"ss2m",null,{"$f":"DK113-DL109","v":22.301470971617341},{"$f":"DL113","v":89.629855932771093},"10rm","شلوار",{"$f":"BO188","v":17.108750000000001},{"$f":"BP188","v":50.5},49,null,{"$f":"DO132+DL109","v":26.197035425467782},{"$f":"DP132","v":52.060215685235761},"p1rm",null,null,{"$f":"AZ172-EA137","v":26.664999999999999},{"$f":"BA172","v":89.559913296669052},45,null,{"$f":"-DX125+ED137","v":-16.664999999999999},{"$f":"DY125","v":89.559913296669052},45,null,{"$f":"BK172-EA138","v":27.030674896982045},{"$f":"BL172-EA139","v":51.604346053418951}," 43''",null,{"$f":"-EF125+ED138","v":-17.030674896982045},{"$f":"EG125","v":51.604346053418951}," 43''",null,null,null,null,null,{"$f":"ER112+ER123-ER107","v":23.007045777649758},{"$f":"ES112","v":130.94790489330771},"20g","در مدل عصایی",{"$f":"EV112+EV123-EV107","v":22.640091643764237},{"$f":"EW112","v":131.48033765005761},"16p","در مدل عصایی",null,null,{"$f":"AZ161","v":14.96392},{"$f":"BA161","v":120.88},43,null,null,null,null,null,null,null,null,null,{"$f":"DG116","v":19.458342636515262},{"$f":"DH116","v":101.65758934435176},"47''s",null,null,null,"باسن",null,null,null,null,null,null,null,null,null,{"$f":"BK154","v":16.204999999999998},{"$f":"BL154","v":131.88439243697479},40,null,{"$f":"-GD125+FK99","v":-6.2049999999999983},{"$f":"GE125","v":131.88439243697479},40,null,{"$f":"BK180","v":17.18},{"$f":"BL180","v":110},"شیفت 35",null,{"$f":"-GL125+FS99","v":-7.18},{"$f":"GM125","v":110},"شیفت 35",null,{"$f":"DO123","v":15.23},110,34,null,{"$f":"-GT125+GA99","v":-5.23},{"$f":"GU125","v":110},{"$f":"DU123","v":"p7rm"},null,{"$f":"CE163","v":13.108750000000001},{"$f":"CF163-0.3*EY167","v":68.25},"e'215",null,{"$f":"-HB125+GI99","v":-3.1087500000000006},{"$f":"HC125","v":68.25},"e'215",null,null,null,{"$f":"-DS163-HY101","v":-6.1571258841108829},{"$f":"DT163","v":126.31836195732308},21,null,{"$f":"-CM134-HY101","v":-6.0990211212322052},{"$f":"CN134","v":148.57586852114349}," وسط 22f",null,{"$f":"-FV124-HY101","v":-122.56533217085601},{"$f":"FW124","v":-204.76655748665198},"ss2m",null,{"$f":"-FB123-HY101","v":-4.9639199999999999},{"$f":"FC123","v":120.88},"شیفت 43",null,{"$f":"-FJ123-HY101","v":-4.9639199999999999},{"$f":"FK123","v":120.88},43,null,{"$f":"-FN125-HY101","v":-9.4583426365152619},{"$f":"FO125","v":101.65758934435176},"47''s",null,null,null,null,null,{"$f":"-AR267-HY101","v":-2.4606653124859612},{"$f":"AS267","v":157.92716450668192},"1n",null,{"$f":"-DE282-HY101","v":17.149999999999999},{"$f":"DF282","v":103.58445930171638},"p10",null,null,null,"خط مرغک در جلو"]
[null,null,null,null,"کارور پشت (بین دو خط امتداد زیر بغل)","v3",null,{"$f":"'متغیرها '!U81+1*'متغیرها '!C60*'متغیرها '!U81","v":33.9},{"$f":"'متغیرها '!U81","v":33.9},"(12 → 14)",{"$f":"'متغیرها '!C79*0.13*H130","v":3.8220000000000001},{"$f":"0","v":0},null,"فاصله افقی بین 36 و 32'",{"$f":"O152-0.5*G169*COS(G160)","v":2.0494736772504187},{"$f":"P152-0.5*H169*COS(H160)","v":2.0494736772504205},{"$f":"AN132","v":20.116389070914362},{"$f":"AO132","v":21.477904893307706},18,null,null,null,null,null,null,"(11 → 13)","وصل",null,"فاصله افقی بین 38 و 34'",{"$f":"AD152-0.5*G170*COS(G158)","v":-5.7556096118335454E-2},{"$f":"AE152-0.5*H170*COS(H158)","v":0.28721463612423537},{"$f":"AR133","v":21.133553493558441},{"$f":"AS133","v":18.531385757077992},19,null,null,null,null,null,{"$f":"K115-K132","v":16.982778141828724},{"$f":"K127+AP111","v":20.595904893307704},15,null,{"$f":"AA115+AA131","v":23.962535621967952},{"$f":"AA130+AT111","v":18.531385757077992},15,null,8.1788289039446234,"(2 → 26)",8.7967117336816809,null,null,null,null,null,{"$f":"BD126","v":19.845175922860406},{"$f":"BE126-BE122+BE123","v":20.810086703330938},null,2.6569600000000002,"(2 → 25)",2.9870461100504224,null,{"$f":"BI104+BI98+'متغیرها '!C56","v":26.638629833022378},{"$f":"BI105+BI97+'متغیرها '!C57","v":51.604346053418951},"شیفت4",null,{"$f":"BK154+'متغیرها '!C56","v":16.204999999999998},{"$f":"BL179","v":131.88439243697479},"40شیفت",null," انتقال قسمتی از ساسون سرشانه به ساسون زیر بغل به روش چرخش",null,null,null,null,null,null,null,"حلقه آستین با ساسون زیر بغل",null,null,null,null,null,null,null,null,null,null,null,{"$f":"BS128","v":14.963920000000002},{"$f":"BT128","v":124.1}," 5 پیراهن",null,"نقطه دوم از خط دوم","وسط 18f",{"$f":"CU119","v":16.105971083872301},{"$f":"CV119","v":148.6018410391826},null,null,"رگلان با درز",null,null,null,"رگلان با درز",null,"(14→41)",{"$f":"SQRT(POWER((DC117-DC116),2)+POWER((DD117-DD116),2))","v":15.065336052893915},null,null,"به دست آوردن نقطه تقاطع دو خط ","مولفه افقی","مولفه عمودی",null,{"$f":"DG103","v":15.829940597037968},{"$f":"DH103","v":50.5},"50sm",null,{"$f":"DH608","v":26.73938992737866},89.496832393783336,"p10r","شلوار",30.626146551053591,124.71833765005761,"شیفت 10m",null,null,{"$f":"BD183-EA137","v":23.744288895711321},{"$f":"BE183","v":51.543921967002142},"50'''",null,{"$f":"-DX129+ED137","v":-13.744288895711321},51.543921967002142,"50'''",null,{"$f":"BK174-EA138","v":22.280257813704317},{"$f":"BL174-EA139","v":51.107390329380422},"41'''",null,{"$f":"-EF129+ED138","v":-12.280257813704317},51.107390329380422,"41'''",null,null,null,null,null,"مولفه افقی","مولفه عمودی","اسم نقطه ",null,null,"مولفه افقی","مولفه عمودی","اسم نقطه ",null,null,{"$f":"BS104","v":14.96392},{"$f":"BT104","v":124.1}," 5 بالاتنه",null,{"$f":"BW113","v":11.714598781237363},{"$f":"BX113","v":147.12811147796646},"e7",null,{"$f":"AZ176","v":14.781420000000001},{"$f":"BA176","v":101.14},"47'",null,{"$f":"DG117","v":27.405193236205399},{"$f":"DH117","v":112.60208046101975},"41s",null,null,null,"زمین",null,{"$f":"DG127","v":-9.0763536288557471},{"$f":"DH127","v":455.85806586607225},"s2m",null,null,null,null,null,null,null,null,null,null,null,null,null,null,null,null,null,null,null,null,null,{"$f":"BO188","v":17.108750000000001},{"$f":"BP188","v":50.5},49,null,{"$f":"-GT129+GA99","v":-7.1087500000000006},{"$f":"GU129","v":50.5},49,null,null,null,null,null,null,null,null,null,null,null,{"$f":"-DS167-HY101","v":-19.72},{"$f":"DT167","v":128.5959048933077},13,null,{"$f":"-CM137-HY101","v":-0.96853224998876897},{"$f":"CN137","v":145.36876913123012},30,null,null,null,null,null,null,null,null,null,{"$f":"-FJ127-HY101","v":-4.7814200000000007},{"$f":"FK127","v":101.14},"47'",null,{"$f":"-FN129-HY101","v":-17.405193236205399},{"$f":"FO129","v":112.60208046101975},"41s",null,null,null,"26'",null,{"$f":"-AR273-HY101","v":-9.7373769299784527},{"$f":"AS273","v":147.38461204421603},"22f",null,null,null,null,null,{"$f":"-DI275-HY101","v":7.3225436893203888},{"$f":"DJ275","v":84.86833280438421},"m9'",null,null,null,"72'"]
[null,null,null,null,"زاویه خام سرشانه جلو",{"$f":"ATAN((I123-I122-0.3*(0.5*('متغیرها '!U72-2*'متغیرها '!U73)))/(0.52*H168-H163))","v":0.28262274610598409},{"$f":"ROUND(DEGREES(F136),0)","v":16},{"$f":"ROUND((محاسبات!H111-2*محاسبات!H110-0.03*محاسبات!H102)/محاسبات!H102,2)","v":0.11},null,"(12 → 19)",{"$f":"0.8*K132","v":5.0137774865370206},{"$f":"0.8*L132","v":4.0159999999999982},null,"(36 → 34')",{"$f":"O132/COS(O134)","v":23.466120578448983},{"$f":"P132/COS(P134)","v":20.415878476130167},{"$f":"AN136","v":19.851556283657448},{"$f":"AO136","v":38.020979105187479},22,null,{"$f":"AN125","v":19.59},{"$f":"AO125","v":2.1994542671720723},11,null,{"$f":"(AD128)*'متغیرها '!U82","v":7.35},"(17 → 18)",{"$f":"(AD128+O128*'متغیرها '!C77)*H130","v":7.35},null,"(38 → 36')",{"$f":"AD132/COS(AD134)","v":5.6954003712894048},{"$f":"AE132/COS(AE134)","v":5.7276416252751075},{"$f":"AR137","v":16.209249959840783},{"$f":"AS137","v":25.881385757077993},23,null,{"$f":"AR125","v":12.18},{"$f":"AS125","v":0},11,null,{"$f":"K115-K132+K138","v":19.851556283657448},{"$f":"K127+K133+K139+AP111","v":38.020979105187479},22,null,{"$f":"AA115-AA139","v":17.73609817253466},{"$f":"AA130+AA140+AT111","v":21.471385757077993},22,null,{"$f":"L151","v":1.3884309685934868},"(31 → 32)",{"$f":"K151","v":1.3196250109312024},null,{"$f":"AX104-AX117+AX123-AX138+AX99","v":22.357112567314893},{"$f":"AX113+AX118+AX124+AX139+AX98","v":147.36999700837612},34,null,null,null,null,{"$f":"Y156","v":5.0270190416144285},"(18 → 31)",{"$f":"AA156","v":2.5047500401592169},null,null,null,null,null,null,null,null,null,{"$f":"AZ95-BT130","v":22.843411584377343},{"$f":"BA95","v":140.24844199924758},24,"نقطه حلقه آستین",{"$f":"BS104+SQRT(POWER(BS136-BS104,2)+POWER(BT136-BT104,2))*SIN(ATAN((BS136-BS104)/(BT136-BT104))-IF(BX101=1,(ATAN((BS138-BS104)/(BT138-BT104))-ATAN((BS109-BS104)/(BT109-BT104))),BT131))","v":19.121726907281925},{"$f":"BT104+SQRT(POWER(BS136-BS104,2)+POWER(BT136-BT104,2))*COS(ATAN((BS136-BS104)/(BT136-BT104))-IF(BX101=1,(ATAN((BS138-BS104)/(BT138-BT104))-ATAN((BS109-BS104)/(BT109-BT104))),BT131))","v":141.5805951944748},"b12",null,{"$f":"BO101-CB112","v":21.209249959840783},{"$f":"BP101-CB113","v":147.08921269286319},18,"نقطه حلقه آستین",{"$f":"CA104+SQRT(POWER(CA136-CA104,2)+POWER(CB136-CB104,2))*SIN(ATAN((CA136-CA104)/(CB136-CB104))-CB130)","v":19.758623810256829},{"$f":"CB104+SQRT(POWER(CA136-CA104,2)+POWER(CB136-CB104,2))*COS(ATAN((CA136-CA104)/(CB136-CB104))-CB130)","v":147.49210958233644},"b16",null,null,null,null,null,null,null,"رگلان",null,"نقطه دوم از خط دوم","وسط 18f",{"$f":"CU119","v":16.105971083872301},{"$f":"CV119","v":148.6018410391826},null,null,null,null,null,null,null,null,"α45",{"$f":"ATAN((DD105-DD115)/(DC115-DC105))","v":0.78806093864557725},null,null,{"$f":"DK124-DD122","v":22.498015041294021},{"$f":"DL124","v":51.659913296669046},"49'm",null,{"$f":"DK122","v":21.456389070914362},{"$f":"DL122","v":110.15991329666905},"شیفت 41m",null,null,{"$f":"ATAN((DT111-DP118)/(DO118-DS111))","v":0.29997706571677668},"αm",null,{"$f":"DS125","v":26.197035425467782},{"$f":"DT125","v":52.060215685235761},"p1 rm",null,null,null,null,null,null,null,null,null,null,null,null,null,null,null,null,null,null,null,null,null,null,{"$f":"BW135","v":19.544139936642118},{"$f":"BX135","v":135.75956076797357},16,"نقطه حلقه آستین",null,{"$f":"CE118","v":20.697248422425545},{"$f":"CF118","v":135.89075991533232},12,"نقطه حلقه آستین",null,null,null,null,null,9.2671123050308193,162.44668156134099,"p7",null,{"$f":"BD150","v":5},{"$f":"BE150","v":50.5},1,null,{"$f":"DC103","v":14.96392},{"$f":"DD103","v":120.88},43,null,null,null,null,null,{"$f":"DG109","v":23.694781572298297},{"$f":"DH109","v":131.56770014681231},{"$f":"DI109","v":"b8s"},null,null,null,"آرشال",null,null,null,"42رگلان با درز",null,null,null,"رگلان با درز",null,{"$f":"BK159","v":15.23},{"$f":"BL159","v":110},34,null,{"$f":"-GL136+FS99","v":-5.23},{"$f":"GM136","v":110},34,null,{"$f":"BK159","v":15.23},{"$f":"BL159","v":110},34,null,{"$f":"-GT136+GA99","v":-5.23},{"$f":"GU136","v":110},34,null,{"$f":"DS114","v":21.394495082070108},{"$f":"DT114","v":147.46585451004972},"18m",null,{"$f":"-HB136+GI99","v":-11.394495082070108},{"$f":"HC136","v":147.46585451004972},"18m",null,null,null,{"$f":"-DS174-HY101","v":-18.25},{"$f":"DT174","v":124.7739048933077},14,null,{"$f":"-CM144-HY101","v":-5.7041942680243007},{"$f":"CN144","v":140.06232733351513},"وسط 16f",null,{"$f":"-FV135-HY101","v":-13.811809696703836},{"$f":"FW135","v":131.56138320925345},"b'8s",null,{"$f":"-FB134-HY101","v":-7.1602112964258922},{"$f":"FC134","v":148.69198177369407},"چرخیده32b",null,{"$f":"-FJ134-HY101","v":5},{"$f":"FK134","v":50.5},1,null,{"$f":"-FR138-HY101","v":17.149999999999999},{"$f":"FS138","v":120.6},"e1",null,{"$f":"-CR186-HY101","v":17.149999999999999},{"$f":"CS186","v":124.1},"4'",null,null,null,null,null,null,null,null,null,{"$f":"-DM268-HY101","v":-15.083567961165048},{"$f":"DN268","v":103.1},"s2",null,{"$f":"-DP466-HY101","v":-16.425995015566212},{"$f":"DQ466","v":91.999023950535289},"β5"]
[null,null,null,null,null,null,null,null,null,"(23 → 24)",{"$f":"0.5*K139","v":5.7725371059398896},{"$f":"0.5*L139","v":5.0980281543455606},null,"β9",{"$f":"ATAN(K138/K139)","v":0.24355230397260061},{"$f":"ATAN(L138/L139)","v":0.38367948152808207},{"$f":"AN136","v":19.851556283657448},{"$f":"AO136","v":38.020979105187479},22,null,{"$f":"AN148","v":17.357112567314893},{"$f":"AO148","v":39.369997008376139},34,null,{"$f":"H173","v":1.7639999999999998},"(18 → 23)",{"$f":"G173-0.25*'متغیرها '!C76*G167*COS(AD140)+(1-1.2)*0.5*'متغیرها '!C78*G167*COS(AD140)","v":0.51162497992039135},null,"β10",{"$f":"ATAN(AA141/AA142)","v":4.5653646119784966E-2},{"$f":"ATAN(Y141/Y142)","v":0.17687208593724155},null,null,null,null,{"$f":"AR138","v":16.209249959840783},{"$f":"AS138","v":37.080260799883568},24,null,{"$f":"K145","v":2.9842661249943845},{"$f":"K114+AP111","v":41.767124998070962},27,null,{"$f":"AA146","v":7.4676152751260556},{"$f":"AA114+AT111","v":39.793097516110066},27,null,null,"(32 → 5)","وصل",null,{"$f":"0+AX99","v":5},{"$f":"AX103+AX98","v":149.76712499807095},2,null,{"$f":"AS708+'متغیرها '!C51","v":9.2442852987386441},{"$f":"AT708+'متغیرها '!C52","v":143.33574623681847},"m9",{"$f":"IF('متغیرها '!C125=1,H147,IF(H147>0,H147,0))","v":1.9499999999999993},"x''11",{"$f":"IF('متغیرها '!C125=1,G147,IF(G147>0,G147,0))","v":1.9499999999999993},null,{"$f":"BI108-BI114+BI120+BI98+'متغیرها '!C56","v":21.209249959840783},{"$f":"BI110+BI115+BI97+'متغیرها '!C57","v":135.8903376500576},"شیفت17",null,null,null,null,null,null,"متغیرهای محاسبه ای کمی چرخش به ساسون زیر بغل",null,null,null,null,null,null,null,"ζ'1",{"$f":"(1+0.001)*ATAN((CA109-CA104)/(CB109-CB104))","v":5.6093192042885091E-2},null,{"$f":"CA104+(1-'متغیرها '!C116)*(CA139-CA104)","v":17.333753562196794},{"$f":"CB104+(1-'متغیرها '!C116)*(CA139-CA104)*TAN(0.5*CB130-CC143)","v":131.24018233737937},"b",null,null,null,null,null,{"$f":"CM105","v":21.24703926758998},{"$f":"CN105","v":132.17773283064065}," 20f",null,null,null,null,null,null,null,null,null,null,null,null,null,"αb4s",{"$f":"ATAN((DH109-DH110)/(DG110-DG109))","v":5.3925611857544846E-2},null,null,null,null,null,null,null,null,null,null,null,null,null,null,null,null,null,null,null,null,null,null,null,null,null,null,null,null,null,null,null,null,null,null,null,null,null,null,null,"(34→22)",{"$f":"SQRT(POWER(ER131-ER130,2)+POWER(ES131-ES130,2))","v":2.8358594388869696},null,null,null,"(23→30)",{"$f":"SQRT(POWER(EW134-EW133,2)+POWER(EX134-EX133,2))","v":4.8209610461078682},null,null,null,null,null,null,null,null,null,null,null,null,null,null,null,{"$f":"DG116","v":19.458342636515262},{"$f":"DH116","v":101.65758934435176},"47''s",null,{"$f":"BD150","v":5},{"$f":"BT116","v":120.6},"e'1",null,{"$f":"DC109","v":14.781420000000001},{"$f":"DD109","v":50.5},52,null,-4.5060588774995809,149.57603149531826,"a'8",null,{"$f":"CE106","v":10.600711456344541},{"$f":"CF106","v":148.23154216796843},28,null,{"$f":"-GD141+FK99","v":-0.60071145634454126},{"$f":"GE141","v":148.23154216796843},28,null,null,null,null,null,null,null,null,null,null,null,"23لبه برگرد پایین کت در پهلو جدا",null,null,null,"لبه برگرد پایین کت در پهلو جدا",null,null,null,"کمر",null,null,null,"کمر",null,null,null,null,null,null,null,null,null,null,null,null,null,null,null,{"$f":"-FB139-HY101","v":-9.4792663207522345},{"$f":"FC139","v":135.12585093825791},"شیفتb'6",null,{"$f":"-FJ137-HY101","v":5},{"$f":"FK137","v":124.1},4,null,{"$f":"-FR141-HY101","v":5},{"$f":"FS141","v":120.6},"e'1",null,null,null,null,null,{"$f":"-AR285-HY101","v":-18.25},{"$f":"AS285","v":124.7739048933077},14,null,{"$f":"-DI288-HY101","v":17.149999999999999},{"$f":"DJ288","v":103.1},"s'1",null,null,null,"66'"]
[null,null,null,null,"نصف پهنای ساسون روی خط مرکزی پشت بالاتنه","x''11",{"$f":"('متغیرها '!C82*1/2)*(H121-H119)","v":1.9499999999999993},{"$f":"('متغیرها '!C82*1/2)*('متغیرها '!U73-'متغیرها '!U71)","v":1.9499999999999993},null,"(2 → 29)",{"$f":"0.8*K143","v":5.968532249988769},{"$f":"0.8*L143","v":5.3139200000000004},null,"(6 →16'')",{"$f":"O142*COS(O144-O143+O145)","v":4.5827874977065459},{"$f":"P142*COS(P144-P143+P145)","v":6.2251816097173354},{"$f":"AN120","v":9.9639199999999999},{"$f":"AO120","v":16.100000000000001},6,null,{"$f":"AN151","v":-12.149999999999999},{"$f":"AO151","v":0},37,null,{"$f":"H166","v":1.9587368991265768},"(2 → 28)",{"$f":"G166+'متغیرها '!C73*0.5*G167-('متغیرها '!C71)*0.5*G167*SIN(AD139)","v":2.6025922469027387},null,"β'6",{"$f":"ATAN((AF144-AF113)/(AG144-AG113))","v":0.1755193888078613},{"$f":"ATAN((AC162-AC160)/(AD162-AD160))","v":0.23118855924711054},{"$f":"AR156","v":12.220071134028599},{"$f":"AS156","v":32.480219321519826},38,null,null,null,null,null,{"$f":"K115-K132+K138-K153","v":17.357112567314893},{"$f":"K127+K133+K139+AP111","v":38.020979105187479},33,null,{"$f":"AA146+AA153","v":12.143835167507035},{"$f":"AA114+AT111","v":39.793097516110066},33,null,null,"(1 → 1')",{"$f":"-'متغیرها '!C66*(2*H129+H130)","v":-12.149999999999999},null,{"$f":"AX132+AX99","v":10.968532249988769},{"$f":"AX103+AX98","v":149.76712499807095},29,"3'",{"$f":"BD152","v":14.764999999999999},{"$f":"BE152","v":50.5},"خطوط برش",null,"متغیرهای خروجی ساسون کمر در پیراهن راسته پشت",null,null,null,null,null,null,{"$f":"BK138","v":5},{"$f":"BL138","v":147.19050526920734},24,null,"نقطه دوم از خط اول","b6",{"$f":"BW163","v":19.544139936642118},{"$f":"BX163","v":135.75956076797357},{"$f":"BW140","v":27.781137309228399},{"$f":"BX140","v":127.66272508336525},"b2",null,"نقطه دوم از خط اول","b6",{"$f":"CE118","v":20.697248422425545},{"$f":"CF118","v":135.89075991533232},null,null,null,null,null,null,null,null,{"$f":"CI119-0.05*(CI119-CI103)+CJ105","v":19.115359552309449},{"$f":"CJ119-0.15*(CJ119-CJ120)","v":135.22228657737364},"شیفت 16f",null,null,null,null,null,null,null,null,null,null,null,null,null,"(41m→45m)",{"$f":"SQRT(POWER((DK122-DK123),2)+POWER((DL122-DL123),2))","v":20.704241715165512},null,null,null,null,null,null,null,null,null,null,null,null,null,null,null,null,null,null,null,null,null,null,null,null,null,null,null,null,null,null,null,null,null,null,null,null,null,null,null,"نقاط  خروجی ",null,null,null,null,"α32b",{"$f":"ATAN((EX131-EX130)/(EW130-EW131))","v":0.48797081433720674},null,null,null,null,null,null,null,{"$f":"BS116","v":-7.1499999999999986},{"$f":"BT116","v":120.6},"e1",null,null,null,null,null,{"$f":"AZ165","v":5},{"$f":"BA165","v":108},38,null,{"$f":"BD174+'متغیرها '!C55","v":16.183920000000001},{"$f":"BE174","v":108},"40شیفت",null,{"$f":"DG124","v":24.347411878892434},{"$f":"DH124","v":111.14337462651294},"41m",null,null,null,null,null,{"$f":"CE106","v":10.600711456344541},{"$f":"CF106","v":148.23154216796843},28,null,{"$f":"-GD147+FK99","v":-0.60071145634454126},{"$f":"GE147","v":148.23154216796843},28,null,{"$f":"BK126","v":27.081267810983974},{"$f":"BL126","v":89.504346053418971},"6شیفت",null,{"$f":"-GL147+FS99","v":-17.081267810983974},{"$f":"GM147","v":89.504346053418971},"6شیفت",null,null,null,null,null,null,null,null,null,null,null,"باسن",null,null,null,"باسن",null,null,null,null,null,null,null,{"$f":"-(AC293)+2*HQ101","v":5},{"$f":"AD293","v":140.97041326438926},{"$f":"AE293","v":26},null,null,null,"کمر",null,{"$f":"-FB145-HY101","v":-0.96853224998876897},{"$f":"FC145","v":145.36876913123012},30,null,{"$f":"-FJ143-HY101","v":17.149999999999999},{"$f":"FK143","v":50.5},"1'",null,{"$f":"-FR103-HY101","v":-3.7439199999999992},{"$f":"FS103","v":108},39,null,null,null,null,null,null,null,null,null,{"$f":"-AL474-HY101","v":-0.96853224998876897},{"$f":"AM474","v":145.36876913123012},30,null,{"$f":"-DU262-HY101","v":5},{"$f":"DV262","v":140.97041326438926},"26 چرخیده"]
[null,null,null,null,"ضریب بالا آمدن کف حلقه آستین از خط سینه ","z1",{"$f":"(H127-H126+H122-O128*H130-O127-(0.5-G148)*H119*((G151)/(I127-I126+0.05*H130)))/(H127-H126)","v":1.3168565426170467},{"$f":"(I127-I126+I122-O128*'متغیرها '!U82-P127-(0.5-G148)*'متغیرها '!U71*((H151)/(I127-I126+0.05*'متغیرها '!U82)))/(I127-I126)","v":1.3168565426170467},null,"(22 → 33)",{"$f":"(1-'متغیرها '!C76+'متغیرها '!C78)*0.5*G167*COS(O140)","v":2.4944437163425555},{"$f":"0.5*H167*COS(P140)","v":4.9776304478710491},null,"(36 → 32)","وصل",null,{"$f":"AN140","v":0},{"$f":"AO140","v":32.970413264389279},26,null,{"$f":"AN148","v":17.357112567314893},{"$f":"AO148","v":39.369997008376139},34,null,{"$f":"0.5*H167*COS(AE139)","v":5.5143016348192875},"(27 → 33)",{"$f":"(1-'متغیرها '!C71)*0.5*G167*COS(AD139)","v":4.6762198923809786},null,"(38 → 36)","وصل",null,{"$f":"AR116","v":0},{"$f":"AS116","v":39.793097516110066},2,null,null,null,null,null,null,null,null,null,{"$f":"AR156+0.6*(AR152-AR156)","v":13.11072840542038},{"$f":"AS156+0.65*(AS152-AS156)","v":36.334606006316221},"36-",null,null,null,null,null,{"$f":"AZ131","v":22.922861420554415},{"$f":"BA131","v":98.7},35,null,{"$f":"AZ108+'متغیرها '!C55","v":27.396094211054425},{"$f":"BA108","v":51.659913296669046},"7شیفت ",{"$f":"BG155","v":10.375},"(37 → 38)",{"$f":"BI155","v":11.205},null,{"$f":"0+BI98","v":5},{"$f":"BI154+BI97","v":131.88439243697479},39,null,{"$f":"BO170","v":27.492535621967953},{"$f":"BP170","v":124.71833765005761},"10شیفت",null,"نقطه اول از خط اول",30,{"$f":"BW106","v":10.968532249988769},{"$f":"BX106","v":145.36876913123012},{"$f":"BW135","v":19.544139936642118},{"$f":"BX135","v":135.75956076797357},"b6",null,"نقطه اول از خط اول",28,{"$f":"CE106","v":10.600711456344541},{"$f":"CF106","v":148.23154216796843},null,null,null,null,"مولفه افقی","مولفه عمودی","اسم نقطه ",null,null,"مولفه افقی","مولفه عمودی","اسم نقطه ",null,"مولفه افقی","مولفه عمودی","اسم نقطه ",null,"مولفه افقی","مولفه عمودی","اسم نقطه ",null,"قرینه",{"$f":"2*C102","v":10},null,null,null,null,null,null,null,null,null,null,null,null,null,"مولفه افقی","مولفه عمودی","اسم نقطه ",null,{"$f":"DO157","v":19.920460184778864},{"$f":"DP157","v":148.06540974243791},{"$f":"DQ157","v":39},null,"مولفه افقی","مولفه عمودی","اسم نقطه ",null,{"$f":"DW158+DX161","v":20.697624979920391},{"$f":"DX158+DX162","v":135.8903376500576},"شیفت12p یا 12",null,{"$f":"-EA153+EF152","v":-10.697624979920391},{"$f":"EB153","v":135.8903376500576},"شیفت12p یا 12",null,null,null,null,null,null,null,null,null,null,null,null,null,null,null,null,null,null,null,null,{"$f":"BW142+BT130","v":16.292528000000001},{"$f":"BX142","v":124.31563637778655},"شیفت b",null,5,140.97041326438926,26,null,null,null,null,null,{"$f":"CE183","v":-3.4791955351707937},{"$f":"CF183","v":115.65816319236754},"7n",null,{"$f":"FR152-(FR149-FR150)","v":14.71992},{"$f":"FS149","v":118.94799999999999},"39aa",null,null,null,null,null,{"$f":"FF117","v":15.870190509419885},{"$f":"FG117","v":161.37495826882815},"a4",null,null,null,null,null,null,null,null,null,{"$f":"BK182","v":24.809031111224026},{"$f":"BL182","v":51.471824527008678},"4'شیفت",null,{"$f":"-GL153+FS99","v":-14.809031111224026},{"$f":"GM153","v":51.471824527008678},"4'شیفت",null,null,null,null,null,null,null,null,null,null,null,null,null,null,null,null,null,null,null,{"$f":"-(EZ232)+2*HQ101","v":-4.2993600000000001},{"$f":"FA232","v":120.76000000000008},"p25",null,{"$f":"-FN135-HY101","v":-3.7439199999999992},{"$f":"FO135","v":108},39,null,{"$f":"-FR148-HY101","v":-6.1229200000000006},{"$f":"FS148","v":115.72799999999999},"40a",null,null,null,"4'",null,{"$f":"-FJ149-HY101","v":17.149999999999999},{"$f":"FK149","v":140.97041326438926},"چرخیده26'",null,{"$f":"-FR109-HY101","v":-4.7814200000000007},{"$f":"FS109","v":88.4},"g47'",null,null,null,null,null,{"$f":"-AU231-HY101","v":-8.7764987176570166},{"$f":"AV231","v":154.93398992568586},"a2",null,null,null,"42'",null,{"$f":"-DU266-HY101","v":17.149999977389804},{"$f":"DV266","v":124.10099999999898},"چرخیده 4'"]
[null,null,null,null,"زاویه سرشانه جلو با افق","α4",{"$f":"ATAN(G180/G179)","v":0.32709990470107603},{"$f":"ATAN(H180/H179)","v":0.32709990470107603},null,"(32 → 36)","وصل",null,null,"شبیه ساز بعضی نقاط",null,null,{"$f":"AN144","v":5.968532249988769},{"$f":"AO144","v":37.368769131230124},30,null,null,null,null,null,null,"(24 → 37)",{"$f":"0.5*(G170+G167*(1-'متغیرها '!C76+'متغیرها '!C78))","v":3.5630071718467748},null,{"$f":"Y118","v":10.375},{"$f":"Y116+Y119","v":24.315991596638654},7,null,null,null,null,null,null,null,null,null,null,null,null,null,null,null,null,{"$f":"L117","v":9.9639199999999999},"(42 → 43)",{"$f":"K117","v":9.9639199999999999},null,{"$f":"0+AX99","v":5},{"$f":"AX159+AX98","v":120.88},42,null,{"$f":"AZ104+'متغیرها '!C55","v":14.963920000000002},{"$f":"BA104","v":124.1},"شیفت5",null,"(1 → 41')",{"$f":"0.5*BI158","v":10.997499999999999},null,null,null,null,null,{"$f":"BK101","v":17.220071134028601},{"$f":"BL101","v":142.48021932151983},22,null,{"$f":"AZ99-BT130","v":28.25},{"$f":"BA99","v":128.5959048933077},12,"نقطه حلقه آستین",{"$f":"BS104+SQRT(POWER(BS160-BS104,2)+POWER(BT160-BT104,2))*SIN(IF(BT160=BT104,RADIANS(90)-BS159,ATAN((BS160-BS104)/ABS(BT160-BT104))+IF(BT160>BT104,-1,1)*BS159))","v":26.945420625789474},{"$f":"BT104+IF(BT160<BT104,-1,1)*SQRT(POWER(BS160-BS104,2)+POWER(BT160-BT104,2))*COS(IF(BT160=BT104,RADIANS(90)-BS159,ATAN((BS160-BS104)/ABS(BT160-BT104))+IF(BT160>BT104,-1,1)*BS159))","v":131.39223733364972},"b4",null,"مولفه افقی","مولفه عمودی","اسم نقطه ",null,null,null,null,null,null,"نقاط شبیه ساز حلقه آستین جلو بدون ساسون سرشانه",null,null,null,{"$f":"J354","v":24.694757230700372},{"$f":"K354","v":109.11991329666904},"d3",null,{"$f":"CN158","v":13.901208400454227},{"$f":"CO158","v":106.96},"d5",null,{"$f":"CN171","v":15.336421510663666},{"$f":"CO171","v":108.96},"d2",null,{"$f":"-CV160+DA153","v":-5.3364215106636657},{"$f":"CW160","v":108.96},"d2",null,null,null,null,null,null,null,null,null,null,null,null,null,{"$f":"'متغیرها '!C55","v":0},"شیفت افقی",null,{"$f":"DO154","v":14.96392},{"$f":"DP154","v":120.88},{"$f":"DQ154","v":43},null,{"$f":"BO170","v":27.492535621967953},{"$f":"BP170","v":124.71833765005761},"شیفت 10",null,{"$f":"DW176","v":17.058527200260851},{"$f":"DX176","v":133.48693942831781},33,null,{"$f":"-EA160+EF152","v":-7.0585272002608512},{"$f":"EB160","v":133.48693942831781},33,null,null,null,null,null,null,null,{"$f":"FV105-'متغیرها '!C55","v":22.498015041294021},{"$f":"FW105","v":51.659913296669046},"49'm","لبه پایین پیراهن","مولفه افقی","مولفه عمودی","اسم نقطه ",null,null,{"$f":"BO176","v":4.8624999999999998},{"$f":"BP176","v":50.5},47,"وسط",{"$f":"CA184","v":-7.1499999999999986},{"$f":"CB184","v":100.2587272954141},"8n",null,{"$f":"AZ181","v":15.146419999999999},{"$f":"BA181","v":50.5},"شیفت53",null,{"$f":"BW108","v":5},{"$f":"BX108","v":140.97041326438926},"چرخیده 26",null,{"$f":"AZ167","v":16.183920000000001},{"$f":"BA167","v":108},40,null,{"$f":"BD178","v":24.59},{"$f":"BE178","v":110.15991329666905},41,null,null,null,"105 لبه برگرد پایین ترک در پهلو جدا",null,null,null,null,null,{"$f":"BO165","v":17.18},{"$f":"BP165","v":110},35,null,{"$f":"-GD160+FK99","v":-7.18},{"$f":"GE160","v":110},35,null,{"$f":"BK167","v":5},{"$f":"BL167","v":140},45,null,{"$f":"-GL160+FS99","v":5},{"$f":"GM160","v":140},45,null,{"$f":"EX184","v":11.301249999999996},{"$f":"EY184","v":54.5},"a''26",null,{"$f":"-GT160+GA99","v":-1.301249999999996},{"$f":"GU160","v":54.5},"a''26",null,null,null,null,null,null,null,null,null,null,null,{"$f":"-(AK228+AC232)+2*HQ101","v":-13.516873242502161},{"$f":"AK227+AD232","v":152.33512055259786},"b2",null,{"$f":"-FN142-HY101","v":-8.9707320952486711},{"$f":"FO142","v":108.57844494247297},"40s",null,{"$f":"-FR155-HY101","v":-3.7439199999999992},{"$f":"FS155","v":108},39,null,null,null,"27'",null,{"$f":"-FJ158-HY101","v":17.149999999999999},{"$f":"FK158","v":124.1},"4'",null,null,null,null,null,null,null,null,null,{"$f":"-AU238-HY101","v":17.149999999999999},{"$f":"AV238","v":120.6},"e1",null,null,null,"43'",null,{"$f":"-DU275-HY101","v":5},{"$f":"DV275","v":124.1},4,null,{"$f":"-DP490-HY101","v":-9.0039165948199305},{"$f":"DQ490","v":83.704979520925136},"β'15"]
[null,null,null,null,"اندازه سرشانه","W",{"$f":"(1/COS(F137))*(0.5*G168-G163)","v":11.343437755547924},{"$f":"(1/COS(F137))*(0.5*H168-H163)","v":11.343437755547924},null,null,null,null,null,null,null,null,null,null,null,null,null,null,null,null,null,null,null,null,null,null,null,null,null,null,null,null,null,null,null,null,null,null,null,null,null,null,null,null,"(1 → 50)",{"$f":"0.5*AX165","v":10.299999999999999},null,{"$f":"AX156+AX157+AX99","v":16.183920000000001},{"$f":"AX155+AX98","v":108},40,null,{"$f":"AZ161+'متغیرها '!C55","v":14.96392},{"$f":"BA161","v":120.88},"شیفت43",{"$f":"BG157","v":39.004346053418963},"(46 → 48)",{"$f":"BI148-'متغیرها '!C128*(H106-H108)","v":37.900000000000006},null,{"$f":"0+BI98","v":5},{"$f":"BI148+BI164+BI97","v":140},45,null,{"$f":"BK159","v":15.23},{"$f":"BL159","v":110},34,null,{"$f":"AZ100-BT130","v":29.72},{"$f":"BA100","v":128.5959048933077},13,"نقطه حلقه آستین",{"$f":"BS104+SQRT(POWER(BS167-BS104,2)+POWER(BT167-BT104,2))*SIN(IF(BT167=BT104,RADIANS(90)-BS159,ATAN((BS167-BS104)/ABS(BT167-BT104))+IF(BT167>BT104,-1,1)*BS159))","v":28.379848414360417},{"$f":"BT104+IF(BT167<BT104,-1,1)*SQRT(POWER(BS167-BS104,2)+POWER(BT167-BT104,2))*COS(IF(BT167=BT104,RADIANS(90)-BS159,ATAN((BS167-BS104)/ABS(BT167-BT104))+IF(BT167>BT104,-1,1)*BS159))","v":131.71366682728006},"b14",null,{"$f":"DX328","v":17.108750000000001},{"$f":"DY328","v":69.45},"e25","نقطه اول خط تقارن","نقاط قرینه شده نسبت به خط تقارن",null,null,null,null,null,null,null,null,{"$f":"BK180","v":17.18},{"$f":"BL180","v":110},"شیفت35",null,{"$f":"IF(CO159>CO155,CN159,CN155)","v":16.183920000000001},{"$f":"IF(CO159>CO155,CO159,CO155)","v":108}," شیفت40 یا dd5",null,{"$f":"CN172","v":17.073578489336334},{"$f":"CO172","v":108.96}," dd2",null,{"$f":"-CV167+DA153","v":-7.0735784893363345},{"$f":"CW167","v":108.96}," dd2",null,null,null,null,null,null,null,null,null,null,null,null,"(24 → 31)",{"$f":"DO154+0.55*(DO158-DO154)","v":18.8242919780058},null,"شیفت",{"$f":"BD156","v":29.72},{"$f":"BE156","v":128.5959048933077},13,null,"(24 → 25)",{"$f":"DW154+0.65*(DW158-DW154)","v":19.125206236948255},null,"شیفت",{"$f":"DW158+DX161","v":20.697624979920391},{"$f":"DX158+DX162","v":135.8903376500576},"12p یا 12 ",null,{"$f":"-EA167+EF152","v":-10.697624979920391},{"$f":"EB167","v":135.8903376500576},"12p یا 12 ",null,null,null,null,null,null,null,{"$f":"EO157+0.4*(EO165-EO157)","v":15.954778280523026},{"$f":"EP165+0.1*(EP157-EP165)","v":129.26207452340068},"a3",null,{"$f":"ES162+ES170","v":22.498015041294021},{"$f":"ET162","v":47.659913296669046},"شیفتa''5",null,null,"(a13→a23)",{"$f":"SQRT(POWER(EX159-EX158,2)+POWER(EY159-EY158,2))","v":4},null,null,{"$f":"BS116","v":-7.1499999999999986},{"$f":"BT116","v":120.6},"e1",null,19.025946209040473,50.731982659333809,"شیفت50'",null,null,null,null,null,null,null,null,null,null,null,null,null,{"$f":"ES167","v":22.498015041294021},{"$f":"ET167","v":47.659913296669046},{"$f":"EU167","v":"شیفتa''5"},null,null,null,null,null,null,null,null,null,null,null,null,null,null,null,null,null,null,null,null,null,null,null,null,null,null,null,null,null,{"$f":"BK154+'متغیرها '!C56","v":16.204999999999998},{"$f":"HC164+'متغیرها '!C57","v":124},"b35",null,{"$f":"-HB167+GI99","v":-6.2049999999999983},{"$f":"HC167","v":124},"b35",null,null,null,{"$f":"HP147","v":5},{"$f":"AD231","v":140.97041326438926},{"$f":"AE231","v":26},null,null,null,null,null,null,null,"111'",null,null,null,null,null,{"$f":"-CD479-HY101","v":-0.96853224998876897},{"$f":"CE479","v":145.36876913123012},30,null,{"$f":"-FR123-HY101","v":-4.9639200000000017},{"$f":"FS123","v":124.1},"g'5",null,null,null,null,null,null,null,null,null,null,null,null,null,null,null,null,null,null,null,null,null,null,null,null,null,null,null,null,null,null,null,null,null,null,null,null,null,null,null,null,null,null,null,null,null,null,null,null,null,null,null,null,null,null,null,null,null,null,null,null,null,null,null,null,null,null,null,null,null,null,null,null,null,null,{"$f":"LOG10(1+3*KK262)","v":0},"j99"]
[null,null,null,null,"بلندی سینه پشت",null,{"$f":"SQRT(G177*G177+G178*G178)","v":13.639042837718502},{"$f":"SQRT(H177*H177+H178*H178)","v":13.757881468039759},null,null,null,null,null,null,null,null,null,null,null,null,null,null,null,null,null,null,null,null,null,null,null,null,null,null,null,null,null,null,null,null,null,null,null,null,null,null,null,null,null,null,null,{"$f":"AX161+AX99+'متغیرها '!C55","v":26.664999999999999},{"$f":"AX162+AX98","v":89.559913296669052},"45شیفت",null,{"$f":"AZ166","v":13.743919999999999},{"$f":"BA166","v":108},39,null,null,null,null,{"$f":"BI158-BI161+BI98+'متغیرها '!C56","v":27.030674896982045},{"$f":"0+BI97+BI159+'متغیرها '!C57","v":51.604346053418951},"شیفت43''",null,{"$f":"BK165","v":28.254999999999999},{"$f":"BL165","v":89.504346053418971},"شیفت42",null,"ζ'2",{"$f":"(1+0.001)*ATAN((BS166-BS104)/(BT166-BT104))","v":0.30793510098317023},null,null,null,null,null,null,"نقاط  ورودی",null,null,null,"نقاط  ورودی",null,null,null,{"$f":"ER415","v":11.6424},{"$f":"ES415","v":150},23,"نقطه اتصال سرشانه به گردن",null,{"$f":"J321","v":17.073578489336334},{"$f":"K321","v":108.96},"dd2",null,{"$f":"CN159","v":16.026631599545773},{"$f":"CO159","v":106.96}," dd5",null,{"$f":"CN173","v":25.876465958026234},{"$f":"CO173","v":109.06434605341894},"d3",null,{"$f":"-CV172+DA153","v":-15.876465958026234},{"$f":"CW172","v":109.06434605341894},"d3",null,null,null,null,null,null,null,null,null,null,null,null,{"$f":"DP163","v":16.157125884110883},{"$f":"DP162","v":126.31836195732308},21,null,null,null,null,null,"نقاط  خروجی ",null,null,"شیفت",{"$f":"DW159","v":28.962535621967952},{"$f":"DX159","v":128.54033765005761},9,null,{"$f":"-EA172+EF152","v":-18.962535621967952},{"$f":"EB172","v":128.54033765005761},9,null,null,null,null,null,null,null,{"$f":"EO160+0.08*'متغیرها '!U84","v":23.89801504129402},{"$f":"EP160","v":51.659913296669046},"a8",null,null,null,null,null,null,"αa6",{"$f":"ATAN((EY160-EY159)/(EX160-EX159))","v":0},null,null,{"$f":"BD153","v":27.396094211054425},{"$f":"BE153","v":51.659913296669046},"7شیفت",null,null,null,null,null,null,null,null,null,{"$f":"BS140+BT130","v":28.25},{"$f":"BT140","v":124.7739048933077},"شیفت14",null,null,null,null,null,null,null,null,null,null,null,null,null,null,null,null,null,null,null,null,null,null,null,null,null,null,null,null,null,null,null,null,null,null,null,null,null,null,null,null,null,null,null,null,null,null,null,{"$f":"-BD119+HM191","v":5},{"$f":"BE119","v":78.189913296669062},null,null,null,null,null,null,{"$f":"-CA193-HY101","v":-8.7595706582908193},{"$f":"CB193","v":51.659913296669046},"5n'",null,{"$f":"-FN175-HY101","v":-17.838732189016021},{"$f":"FO175","v":89.559913296669052},"شیفت9",null,{"$f":"-AZ184-HY101","v":-10.675402042644549},{"$f":"BA184","v":50.847973989000714},"شیفت7''",null,{"$f":"-FN160-HY101","v":-6.1839200000000005},{"$f":"FO160","v":108},40,null,null,null,null,null,null,null,null,null,{"$f":"-BD488-HY101","v":5},{"$f":"BE488","v":136.64117109605536},"g1",null,null,null,null,null,null,null,null,null,null,null,null,null,null,null,null,null,null,null,null,null,null,null,null,null,null,null,null,null,null,null,null,null,null,null,null,null,null,null,null,null,null,null,null,null,null,null,null,null,null,null,null,null,null,null,null,null,null,null,null,null,null,"نقاط  خروجی طراحی جلو",null,null,null,-16.985789075792766,39.125,"j44"]
[null,null,null,null,"فاصله عمودی بین دو نقطه 7 و 37 در بالاتنه پشت",null,{"$f":"(H127-AA116-AA119-SIN(G158)*0.5*(G170+G167))","v":13.559246708026238},{"$f":"Y114-Y116-Y119-SIN(H158)*0.5*(H170+H167)","v":13.563722654516047},null,null,null,null,null,null,null,null,null,null,null,null,null,null,null,null,null,null,null,null,null,null,null,null,null,null,null,null,null,null,null,null,null,null,null,null,null,null,null,null,null,null,null,null,null,null,null,{"$f":"AZ168+'متغیرها '!C55","v":24.59},{"$f":"BA168","v":110.15991329666905},"شیفت41",null,null,null,null,null,null,null,null,{"$f":"BI163+BI98","v":6.9499999999999993},{"$f":"BI148+BI97","v":110},44,null,{"$f":"BW135-0.02*(BW135-BW175)","v":19.479266320752235},{"$f":"BX135-0.2*(BX135-BX134)","v":135.12585093825791},"b'6",null,"ζ'2",{"$f":"(('متغیرها '!C106-1+'متغیرها '!C107)+0.001)*ATAN((BS138-BS104)/(BT138-BT104))","v":3.0762747350966056E-4},null,null,null,{"$f":"'متغیرها '!C193","v":0.75},"n12",null,null,{"$f":"'متغیرها '!C193","v":0.75},"n12",null,null,"مولفه افقی","مولفه عمودی","اسم نقطه ",null,null,null,null,null,{"$f":"IF(CO160>CO156,CN160,CN156)","v":24.59},{"$f":"IF(CO160>CO156,CO160,CO156)","v":110.15991329666905}," شیفت41 یا d3",null,null,null,"21خط پشت در بالاتنه جناقی",null,null,null,"خط پشت در بالاتنه جناقی",null,null,null,null,null,null,null,null,null,null,null,null,null,null,null,null,{"$f":"ER134","v":12.460665312485961},{"$f":"ES134","v":149.76712499807095},{"$f":"ET134","v":25},null,null,null,null,null,null,null,null,null,null,null,null,null,null,null,null,null,null,null,{"$f":"BW120","v":15.870190509419885},{"$f":"BX120","v":161.37495826882815},"a4"," یقه چرخیده",null,{"$f":"EO176+0.6*(EO177-EO176)-EP184","v":-9.4925787415452678},{"$f":"EP176+0.6*(EP177-EP176)","v":133.71062898870002},"e'10",null,{"$f":"EX160+EY167*SIN(EY173)","v":4.8624999999999998},{"$f":"EY160-EY167*COS(EY173)","v":46.5},"a'6",null,null,null,null,null,null,null,null,null,null,null,null,null,{"$f":"AZ155","v":20.359420446328528},{"$f":"BA155","v":105.74299619279039},"37شیفت ",null,null,null,null,null,null,null,null,null,null,null,null,null,null,null,null,null,null,null,null,null,null,null,null,null,null,null,null,null,null,null,null,null,null,null,null,null,null,null,null,null,null,null,null,null,null,null,{"$f":"-BD125+HM191","v":5},{"$f":"BE125","v":48.5},null,null,null,null,null,null,null,null,null,null,null,null,"22'",null,null,null,"29'",null,{"$f":"-FN166-HY101","v":-3.7439199999999992},{"$f":"FO166","v":108},39,null,null,null,null,null,null,null,null,null,null,null,null,null,null,null,null,null,null,null,null,null,null,null,null,null,null,null,null,null,null,null,null,null,null,null,null,null,null,null,null,null,null,null,null,null,null,null,null,null,null,null,null,null,null,null,null,null,null,null,null,null,null,null,null,null,null,null,null,null,null,null,null,null,null,{"$f":"-LE177+2*LE174","v":-16.985789075792766},{"$f":"LF177","v":39.125},"j44",null,15.13331298518983,45.02125407891554,"j47"]
[null,null,null,null,null,null,null,null,null,null,null,null,null,null,null,null,null,null,null,null,null,null,null,null,null,null,null,null,null,null,null,null,null,null,null,null,null,null,null,null,null,null,null,null,null,null,null,null,null,null,null,{"$f":"BD186+0.4*(BD153-BD186)","v":20.675402042644549},{"$f":"BE186+0.3*(BE153-BE186)","v":50.847973989000714},"7''شیفت ",null,{"$f":"BD186+0.55*(BD182-BD186)","v":21.385117552375899},{"$f":"BE186+0.55*(BE182-BE186)","v":51.137952313167972},"شیفت50''",null,null,null,null,null,null,null,null,{"$f":"BK162","v":25.75},{"$f":"BL162","v":110.10434605341895},"شیفت36",null,null,null,null,null,null,null,null,null,{"$f":"CA176","v":-7.1499999999999986},{"$f":"CB176+CB177*(CB174-CB176)","v":100.2587272954141},"8n",null,{"$f":"CE176","v":-7.1499999999999986},{"$f":"CF176+CF177*(CF174-CF176)","v":125.66572729541409},"8n",null,null,null,null,null,null,null,null,null,null,null,null,null,null,null,null,null,null,null,null,null,null,null,null,null,null,null,null,null,null,null,null,null,null,null,null,null,null,null,null,null,null,null,null,null,null,null,null,null,null,null,null,null,null,null,null,null,null,null,null,{"$f":"'متغیرها '!C176","v":0.5},"a'0",null,null,null,null,null,null,{"$f":"EX162+EY167*SIN(EY174)","v":11.301249999999996},{"$f":"EY162+EY167*COS(EY174)","v":54.5},"a''26",null,null,null,null,null,null,null,null,null,null,null,null,null,null,null,null,null,null,null,null,null,null,null,null,null,null,null,null,null,null,null,null,null,null,null,null,null,null,null,null,null,null,null,null,null,null,null,null,null,null,null,null,null,null,null,null,null,null,null,null,null,null,null,{"$f":"-BD131+HM191","v":-9.8451759228604061},{"$f":"BE131","v":20.810086703330938},null,null,null,null,null,null,null,null,null,null,null,null,null,null,{"$f":"-FF169-HY101","v":-5.1464199999999991},50.5,"شیفت53",null,null,null,null,null,null,null,null,null,null,null,null,null,null,null,null,null,null,null,null,null,null,null,null,null,null,null,null,null,null,null,null,null,null,null,null,null,null,null,null,null,null,null,null,null,null,null,null,null,null,null,null,null,null,null,null,null,null,null,null,null,null,null,null,null,null,null,null,null,null,null,null,null,null,null,null,null,null,{"$f":"LE180+0.5*(LE175-LE180)","v":20.199969477784744},{"$f":"LF174","v":50.5},"j50",null,20.199969477784744,46.39094055918666,"j51"]
[null,null,null,null,null,null,null,null,null,null,null,null,null,null,null,null,null,null,null,null,null,null,null,null,null,null,null,null,null,null,null,null,null,null,null,null,null,null,null,null,null,null,null,null,null,null,null,null,null,null,null,null,null,null,null,{"$f":"AZ179","v":16.183920000000001},{"$f":"BA179","v":108},"40شیفت",null,null,null,null,null,null,null,null,{"$f":"BK155+BI155-BI168+'متغیرها '!C56","v":15.301249999999996},{"$f":"BP187+'متغیرها '!C57","v":91.64},"38'' شیفت",null,{"$f":"BS189","v":19.352824077139577},{"$f":"BT189","v":20.810086703330938},null,null,{"$f":"-BS191+BX181","v":-9.3528240771395765},{"$f":"BT191","v":20.810086703330938},null,null,{"$f":"CA190+CB179*0.15*(CA193-CA190)","v":-1.1260248219473841},{"$f":"CB193+0.3*CB179*(CB190-CB193)","v":74.258361806085503},"7n'",null,null,null,null,null,null,null,null,null,null,null,null,null,null,{"$f":"BS104","v":14.96392},{"$f":"BT104","v":124.1},{"$f":"BU106","v":30},null,null,null,null,null,null,null,null,null,null,null,null,null,null,null,null,null,null,null,null,null,null,null,null,null,null,null,null,null,null,null,null,null,null,null,null,null,null,null,null,null,null,null,null,null,null,null,null,null,null,null,null,null,null,null,null,null,null,null,null,null,null,null,null,null,null,null,null,null,null,null,null,null,null,null,null,null,null,null,null,null,null,null,null,null,null,null,null,null,null,null,null,null,null,null,null,null,null,null,null,null,null,null,null,null,null,null,null,null,null,null,null,null,null,null,null,null,null,null,null,null,"قرینه ",{"$f":"2*C100","v":10},null,null,null,null,null,null,null,null,null,null,null,null,null,null,null,null,null,null,null,null,null,null,null,null,null,null,null,null,null,null,null,null,null,null,null,null,null,null,null,null,null,null,null,null,null,null,null,null,null,null,null,null,null,null,null,null,null,null,null,null,null,null,null,null,null,null,null,null,null,null,null,null,null,null,null,null,null,null,null,null,null,null,null,null,null,null,null,null,null,null,null,null,null,null,null,{"$f":"LE190","v":-6.6656492594916017E-2},{"$f":"LF189","v":48.44547027959333},"j57"]
[null,null,null,null,null,null,null,null,null,null,null,null,null,null,null,null,null,null,null,null,null,null,null,null,null,null,null,null,null,null,null,null,null,null,null,null,null,null,null,null,null,null,null,null,null,null,null,null,null,null,null,null,null,null,null,null,null,null,null,null,null,null,null,null,null,null,null,null,null,null,null,null,null,null,null,null,null,null,null,null,null,null,null,null,null,null,null,null,null,null,null,null,null,null,null,null,null,null,null,{"$f":"BD150","v":5},{"$f":"BT116","v":120.6},"e'1",null,null,null,null,null,null,null,null,null,null,null,null,null,null,null,null,null,null,null,null,null,null,null,null,null,null,null,null,null,null,null,null,null,null,null,null,null,null,null,null,null,null,null,null,null,null,null,null,null,null,null,null,null,null,null,null,null,null,null,null,null,null,null,null,null,null,null,null,null,null,null,null,null,null,null,null,null,null,null,null,null,null,null,null,null,null,null,null,null,null,null,null,null,null,null,null,null,null,null,null,null,null,null,null,null,null,null,null,null,null,null,null,null,null,null,null,null,null,null,null,null,null,null,null,null,null,null,null,null,null,null,null,null,null,null,null,null,null,null,null,null,null,null,null,null,null,null,null,null,null,null,null,null,null,null,null,null,null,null,null,null,null,null,null,null,null,"رسم تکه پشت سوتین",null,null,null,null,null,null,null,null,null,null,null,"رسم تکه جلو مرکزی",null,null,null,"قرینه",null,null,null,null,null,null,null,null,null,null,null,null,null,null,null,null,null,null,null,null,null,null,null,null,null,null,null,null,null,null,null,{"$f":"LE194+(KL286-KL287)*TAN(LE164)","v":45.533251940759321},{"$f":"KL288-KK266","v":27.75},"j63",null,{"$f":"LE195","v":-35.533251940759321},{"$f":"LF195","v":39.125},{"$f":"LG195","v":"j62"}]
[null,null,null,null,null,null,null,null,null,null,null,null,null,null,null,null,null,null,null,null,null,null,null,null,null,null,null,null,null,null,null,null,null,null,null,null,null,null,null,null,null,null,null,null,null,null,null,null,null,null,null,null,null,null,null,null,null,null,null,null,null,null,null,null,null,null,null,null,null,null,null,null,null,null,null,null,null,null,null,null,null,null,null,null,null,null,null,null,null,null,null,null,null,null,null,null,null,null,null,null,null,null,null,null,null,null,null,null,null,null,null,null,null,null,null,null,null,null,null,null,null,null,null,null,null,null,null,null,null,null,null,null,null,null,null,null,null,null,null,null,null,null,null,null,null,null,null,null,null,null,null,null,null,null,null,null,null,null,null,null,null,null,null,null,null,null,null,null,null,null,null,null,null,null,null,null,null,null,null,null,null,null,null,null,null,null,null,null,null,null,null,null,null,null,null,null,null,null,null,null,null,null,null,null,null,null,null,null,null,null,null,null,null,null,null,null,null,null,null,null,null,null,null,null,null,null,null,null,null,null,null,null,null,null,null,null,null,null,null,null,null,null,null,null,null,null,null,null,null,null,null,null,null,null,null,null,null,null,null,null,null,null,null,null,null,null,null,null,{"$f":"JE274","v":6.9499999999999993},115.49709421589954,"e42",null,{"$f":"-JI208+JN198","v":3.0500000000000007},{"$f":"JJ208","v":115.49709421589954},"e42",null,null,null,null,null,null,null,null,null,null,null,null,null,null,null,null,null,null,null,null,null,null,null,null,null,null,null,null,null,null,null,null,null,null,null,null,null,null,null,null,null,{"$f":"LE207","v":15.13331298518983},{"$f":"LF193-0.3*LE165*(KL286-KL287)","v":39.125},"j75",null,{"$f":"LE198","v":5},{"$f":"LF198","v":39.125},{"$f":"LG198","v":"j65"}]
[null,null,null,null,null,null,null,null,null,null,null,null,null,null,null,null,null,null,null,null,null,null,null,null,null,null,null,null,null,null,null,null,null,null,null,null,null,null,null,null,null,null,null,null,null,null,null,null,null,null,null,null,null,null,null,null,null,null,null,null,null,null,null,null,null,null,null,null,null,null,null,null,null,null,null,null,null,null,null,null,null,null,null,null,null,null,null,null,null,null,null,null,null,null,null,null,null,null,null,null,null,null,null,null,null,null,null,null,null,null,null,null,null,null,null,null,null,null,null,null,null,null,null,null,null,null,null,null,null,null,null,null,null,null,null,null,null,null,null,null,null,null,null,null,null,null,null,null,null,null,null,null,null,null,null,null,null,null,null,null,null,null,null,null,null,null,null,null,null,null,null,null,null,null,null,null,null,null,null,null,null,null,null,null,null,null,null,null,null,null,null,null,null,null,null,null,null,null,null,null,null,null,null,null,null,null,null,null,null,null,null,null,null,null,null,null,null,null,null,null,null,null,null,null,null,null,null,null,null,null,null,null,null,null,null,null,null,null,null,null,null,null,null,null,null,null,null,null,null,null,null,null,null,null,null,null,null,null,null,null,null,null,null,null,null,null,null,null,null,null,null,null,null,null,null,null,null,null,null,null,null,null,null,null,null,null,null,null,null,null,null,null,null,null,null,null,null,null,null,null,null,null,null,null,null,null,null,null,null,null,null,null,null,null,null,null,null,null,"طبقه سوم",null,25.266625970379661,39.125,"j67",null,null,"نقاط ورودی",null,null,null,null,"به دست آوردن نقطه تقاطع دو خط (d''4b16)","مولفه افقی","مولفه عمودی",null,"نقاط ورودی",null,null,null,"مولفه افقی","مولفه عمودی","اسم نقطه",null,null,null,null,null,"مولفه افقی","مولفه عمودی","اسم نقطه",null,null,null,null,null,"مولفه افقی","مولفه عمودی","اسم نقطه",null,null,null,null,null,"مولفه افقی","مولفه عمودی","اسم نقطه",null,null,null,null,null,"مولفه افقی","مولفه عمودی","اسم نقطه",null,null,null,null,null,null,null,null,null,null,null,"a1",{"$f":"L77","v":144},null,null,null,null,null,{"$f":"NV235","v":-25},{"$f":"NV236","v":5},"w1"]
[null,null,null,null,null,null,null,null,null,null,null,null,null,null,null,null,null,null,null,null,null,null,null,null,null,null,null,null,null,null,null,null,null,null,null,null,null,null,null,null,null,null,null,null,null,null,null,null,null,null,null,null,null,null,null,null,null,null,null,null,null,null,null,null,null,null,null,null,null,null,null,null,null,null,null,null,null,null,null,null,null,null,null,null,null,null,null,null,null,null,null,null,null,null,null,null,null,null,null,null,null,null,null,null,null,null,null,null,null,null,null,null,null,null,null,null,null,null,null,null,null,null,null,null,null,null,null,null,null,null,null,null,null,null,null,null,null,null,null,null,null,null,null,null,null,null,null,null,null,null,null,null,null,null,null,null,null,null,null,null,null,null,null,null,null,null,null,null,null,null,null,null,null,null,null,null,null,null,null,null,null,null,null,null,null,null,null,null,null,null,null,null,null,null,null,null,null,null,null,null,null,null,null,null,null,null,null,null,null,null,null,null,null,null,null,null,null,null,null,null,null,null,null,null,null,null,null,null,null,null,null,null,null,null,null,null,null,null,null,null,null,null,null,null,null,null,null,null,null,null,null,null,null,null,null,null,null,null,null,null,null,null,null,null,null,null,null,null,{"$f":"JE277","v":15.902433894328109},{"$f":"JF277","v":125.2},"e45",null,{"$f":"-JI215+JN198","v":-5.9024338943281087},{"$f":"JJ215","v":125.2},"e45",null,null,null,null,null,{"$f":"JE234","v":5.4444332000000006},{"$f":"JF234","v":116.3466291172349},"e2",null,{"$f":"-JE234+IY263","v":4.5555667999999994},{"$f":"JF234","v":116.3466291172349},"e2",null,null,null,null,null,null,null,null,null,null,null,null,null,null,null,null,null,null,null,null,null,null,null,null,null,null,null,null,null,{"$f":"LE213+(KL289-KL290)*TAN(LE164)","v":45.533251940759321},{"$f":"KL291-KK266","v":16.375},"j83",null,null,null,null,null,null,"b6",{"$f":"CE118","v":20.697248422425545},{"$f":"CF118","v":135.89075991533232},null,"نقطه دوم از خط دوم",40,{"$f":"BO164","v":16.204999999999998},{"$f":"BP164","v":131.88439243697479},null,"d5  b16",10.614249999999998,130.07468373351273,null,null,null,null,null,null,null,null,null,null,null,null,null,null,null,null,null,null,null,null,null,null,null,null,null,null,null,null,null,null,null,null,null,null,null,null,null,null,null,null,null,null,null,null,null,null,null,"a5",{"$f":"L81","v":50},null,null,"پهنای باکس نوشته",{"$f":"NV241","v":0.60000000000000009},"h4"]
[null,null,null,null,null,null,null,null,null,null,null,null,null,null,null,null,null,null,null,null,null,null,null,null,null,null,null,null,null,null,null,null,null,null,null,null,null,null,null,null,null,null,null,null,null,null,null,null,null,null,null,null,null,null,null,null,null,null,null,null,null,null,null,null,null,null,null,null,null,null,null,null,null,null,null,null,null,null,null,null,null,null,null,null,null,null,null,null,null,null,null,null,null,null,null,null,null,null,null,null,null,null,null,null,null,null,null,null,null,null,null,null,null,null,null,null,null,null,null,null,null,null,null,null,null,null,null,null,null,null,null,null,null,null,null,null,null,null,null,null,null,null,null,null,null,null,null,null,null,null,null,null,null,null,null,null,null,null,null,null,null,null,null,null,null,null,null,null,null,null,null,null,null,null,null,null,null,null,null,null,null,null,null,null,null,null,null,null,null,null,null,null,null,null,null,null,null,null,null,null,null,null,null,null,null,null,null,null,null,null,null,null,null,null,null,null,null,null,null,null,null,null,null,null,null,null,null,null,null,null,null,null,null,null,null,null,null,null,null,null,null,null,null,null,null,null,null,null,null,null,null,null,null,null,null,null,null,null,null,null,null,null,null,null,null,null,null,null,null,null,null,null,null,null,null,null,null,null,null,null,{"$f":"JI263","v":21.150129490799145},{"$f":"JJ263","v":127.22494105619816},"e65",null,{"$f":"-JI263+IY263","v":-11.150129490799145},{"$f":"JJ263","v":127.22494105619816},"e65",null,null,null,null,null,null,null,null,null,null,null,null,null,null,null,null,null,null,null,null,null,null,null,null,null,null,null,null,null,{"$f":"LE218+0.5*(LE213-LE218)","v":35.399938955569489},{"$f":"LF212","v":27.75},"j90",null,{"$f":"LE207","v":15.13331298518983},39.125,"j74",null,null,40,{"$f":"BO164","v":16.204999999999998},{"$f":"BP164","v":131.88439243697479},null,"نقطه دوم از خط دوم",40,{"$f":"BO164","v":16.204999999999998},{"$f":"BP164","v":131.88439243697479},null,"d4  b12ʻ",17.134031393296457,136.41029632351368,null,{"$f":"LX278","v":8.195999999999998},{"$f":"LY278","v":93.603476842735176},"m12",null,{"$f":"-MA222+MF212","v":1.804000000000002},{"$f":"MB222","v":93.603476842735176},"m12",null,{"$f":"LX278","v":8.195999999999998},{"$f":"LY278","v":93.603476842735176},"m12",null,{"$f":"-MI222+MN212","v":1.804000000000002},{"$f":"MJ222","v":93.603476842735176},"m12",null,{"$f":"LX278","v":8.195999999999998},{"$f":"LY278","v":93.603476842735176},"m12",null,{"$f":"-MQ222+MV212","v":1.804000000000002},{"$f":"MR222","v":93.603476842735176},"m12",null,{"$f":"LX278","v":8.195999999999998},{"$f":"LY278","v":93.603476842735176},"m12",null,{"$f":"-MY222+ND212","v":1.804000000000002},{"$f":"MZ222","v":93.603476842735176},"m12",null,{"$f":"LX278","v":8.195999999999998},{"$f":"LY278","v":93.603476842735176},"m12",null,{"$f":"-NG222+NL212","v":1.804000000000002},{"$f":"NH222","v":93.603476842735176},"m12",null,null,null,null,null,null,null,null,null,null,null,"نقاط خروجی","مولفه افقی","مولفه عمودی",{"$f":"NZ227","v":-3.4404761904761898},{"$f":"OA227","v":4.7},{"$f":"NY227","v":"h11"}]
[null,null,null,null,null,"γ4","(0º - 40º)",{"$f":"IF('متغیرها '!C168=0,0.001,'متغیرها '!C168)","v":8},null,{"$f":"G266+AX147+AX99","v":-5.9030139150376559},{"$f":"G265+AX98","v":141.83588586398446},"e9",null,"قد یقه انگلیسی",{"$f":"0.8*G242","v":2.3554358077205046},null,null,null,null,null,null,null,"جادکمه دلبری در پیراهن",null,null,null,"جادکمه دلبری در پیراهن",null,{"$f":"AZ140","v":12.460665312485961},{"$f":"BA140","v":149.76712499807095},25,null,null,null,null,"مولفه عمودی نقطه اتصال به سرشانه پشت",{"$f":"AD228-'متغیرها '!C386*AH229*COS(AH227)","v":142.73459153371905},null,5,{"$f":"AD231","v":140.97041326438926},26,null,{"$f":"AZ106","v":5},{"$f":"BA106","v":50.5},1,null,{"$f":"AQ246","v":15.980046571657146},158.35229602176204,{"$f":"AS246","v":"d4"},null,null,null,null,null,null,{"$f":"BD152","v":14.764999999999999},{"$f":"BE152","v":50.5},"3'",null,"(7 → 8)",{"$f":"BE245*SIN(BE244+BE240)","v":0.43744692996487111},null,{"$f":"BI230+BI231+BI235+BI237+BI241+BI243+BI247+BK290","v":27.643425752049193},{"$f":"BI232+BI236+BI238+BI242+BI244+BI248+BE248","v":57.2027512119462},22,null,{"$f":"-BK234-BN226","v":-17.643425752049193},{"$f":"BL234","v":57.2027512119462},22,null,{"$f":"BO192-'متغیرها '!C56","v":15.301249999999996},{"$f":"BP192-'متغیرها '!C57","v":50.5},50,null,"(7 → 8)",{"$f":"BT246*SIN(BT245+BT241)","v":1.0738308713421199},null,{"$f":"BX230+BX231+BX235+BX237+BX241+BX243+BX247+BS253","v":81.017868387324029},{"$f":"BX232+BX236+BX238+BX242+BX244+BX248+BT249","v":87.843927332078124},22,null,{"$f":"-BZ234+CE227","v":-71.017868387324029},87.843927332078124,22,null,null,null,null,null,null,null,null,null,null,null,null,null,null,null,null,null,"(1 → m3)",{"$f":"H108-H114+'متغیرها '!C416*(H104-H108)","v":41.820000000000007},null,{"$f":"AZ172-'متغیرها '!C55","v":26.664999999999999},{"$f":"BA172","v":89.559913296669052},45,null,{"$f":"0+AX99","v":5},{"$f":"CY236+AX98","v":92.090717932442601},"m5",null,{"$f":"DE233","v":26.169417475728153},{"$f":"DF233","v":92.320000000000007},"m4",null,{"$f":"DE262","v":27.906679414773858},{"$f":"DF262","v":92.264432756749912},"m4",null,{"$f":"-DM234+DR229","v":-17.906679414773858},{"$f":"DN234","v":92.264432756749912},"m4",null,null,"خط مرکزی پشت مایو متصل به یقه گرد",null,null,null,null,null,null,{"$f":"BK165-ED276","v":28.254999999999999},{"$f":"BL165-ED277","v":89.504346053418971},42,null,{"$f":"EG235","v":4.9741613420526605},{"$f":"EH235+ED268*(EH268-EH271)","v":56.403199999999998},"p11",null,{"$f":"EG236","v":24.842561892083726},{"$f":"EH236","v":56.403199999999998},"p13",null,{"$f":"-EK234+EP230","v":-14.842561892083726},{"$f":"EL234","v":56.403199999999998},"p13",null,{"$f":"EG272","v":23.247700388235955},{"$f":"EH272","v":56.403199999999998},"p7",null,"(12 →p15)",{"$f":"'متغیرها '!C429*(G156+'متغیرها '!C61*H120)","v":9.035999999999996},null,{"$f":"EX240+AX99","v":8.7197440000000004},{"$f":"EX231-EX241+AX98","v":105.30201337154475},"p28",null,{"$f":"EZ232","v":14.29936},{"$f":"FA232","v":120.76000000000008},"p25",null,"(8→p10)",{"$f":"'متغیرها '!C440*(G155+'متغیرها '!C61*H120)","v":9.8800000000000026},null,{"$f":"FG255","v":12.970880000000001},{"$f":"FH255","v":137},"p20",null,{"$f":"-FK234+FP230","v":-2.9708800000000011},{"$f":"FL234","v":137},"p20",null,{"$f":"AZ138-'متغیرها '!C51","v":12.097502083239732},{"$f":"BA138-'متغیرها '!C52","v":143.44749998713974},32,null,"yd9",{"$f":"FX236-FX231*COS(FX232)","v":123.52504255694929},"شیفت",{"$f":"FS246+'متغیرها '!C51","v":23.23622251346298},{"$f":"FT246+FT242+'متغیرها '!C52","v":130.94790489330771},20,null,{"$f":"BO161-'متغیرها '!C53","v":12.143835167507035},{"$f":"BP161-'متغیرها '!C54","v":143.62065010740045},30,"شیفت",{"$f":"GD245+'متغیرها '!C53","v":20.697624979920391},{"$f":"GE245+GE242+'متغیرها '!C54","v":135.8903376500576},{"$f":"GF245","v":12},null,{"$f":"DT395","v":24.407499999999999},{"$f":"DU395","v":110.15991329666905},{"$f":"AZ168","v":24.59},{"$f":"BA168","v":110.15991329666905},41,null,"αdp3",{"$f":"IF('متغیرها '!C125=0,ATAN((GN238-GN237)/(GO237-GO238)),ATAN((GN240-GN237)/(GO237-GO240)))","v":0.15010152830841891},null,null,null,null,null,null,null,"انحنا",null,null,null,null,null,{"$f":"BS104","v":14.96392},{"$f":"BT104","v":124.1},5,"بدون شیفت","c3",{"$f":"(HN234-HN233)*HI246/COS(HL233)","v":8.9724326279986943},null,{"$f":"HG234","v":14.96392},{"$f":"HH234","v":124.1},"a2",null,{"$f":"HN249+(HN266-HN249)*(0.5+HI255)","v":22.837362724256657},{"$f":"HO266+(HO249-HO266)*(0.5+HI255)","v":128.71501314303026},"a37",null,{"$f":"HN249","v":18.949487999999999},{"$f":"HO249+HI260","v":130.57499999999999},"a17",null,{"$f":"HN249","v":18.949487999999999},{"$f":"HO249+HI260","v":130.57499999999999},"a17",null,null,null,null,null,{"$f":"-HN249+HH242","v":-8.9494879999999988},{"$f":"HO249+HI260","v":130.57499999999999},"a17",null,null,2,{"$f":"RADIANS(IM234)","v":3.4906585039886591E-2},{"$f":"HN240+HL247*SIN(HL250+IN234)","v":15.632344483366902},{"$f":"HO240+HL247*COS(HL250+IN234)","v":125.96743872292117},{"$f":"ATAN((IP234-HO235)/(IO234-HN235))","v":0.16159410064923138},{"$f":"(IO234-HN235)/COS(IQ234)","v":9.7631461670417004},null,null,11.848594617430871,122.8160218044715,"a12",null,"d3",{"$f":"'متغیرها '!C479","v":1.5},null,"f3",{"$f":"ATAN((JE240-JE239)/(JF240-JF239))","v":0.58800260354756828},null,{"$f":"JE236-0.05*(JF236-JF234)-0.15*(JE236-JE235)","v":5.4444332000000006},{"$f":"JF233","v":116.3466291172349},"e2",null,null,null,null,null,10.270797943125476,125.75881506849771,"e49",null,{"$f":"-JE281+IY263","v":-0.27079794312547634},{"$f":"JF281","v":125.75881506849771},"e49",null,null,null,"کاسه زیرین مرکزی",null,null,null,"کاسه زیرین مرکزی",null,null,"اسم نقطه ","مولفه افقی","مولفه عمودی",null,null,null,null,{"$f":"IU315","v":25.266625970379661},{"$f":"IV315","v":50.5},"a9",null,null,null,null,null,null,null,null,null,{"$f":"KM315","v":28.83817489698205},{"$f":"KN315","v":50.499999999999993},"b9",null,null,null,null,null,{"$f":"LE232+(KL292-KL293)*TAN(LE164)","v":45.533251940759321},{"$f":"KL294-KK266","v":5},"j103",null,{"$f":"LE213","v":45.533251940759321},{"$f":"LF213","v":27.75},{"$f":"LG213","v":"j81"},null,null,"d4  b12ʻ",{"$f":"0.2*(LO214-LO222)+LO222","v":17.134031393296457},{"$f":"LP227+((LO234-LO227)/(LO214-LO227))*(LP214-LP227)+0.75*'متغیرها '!C358*(LO214-LO227)","v":136.41029632351368},null,"نقطه دوم از خط اول","d'4b10",{"$f":"LO242","v":17.511227224539006},{"$f":"LP242","v":128.02909180478849},null,"d4  b10ʻ",17.511227224539006,128.02909180478849,null,null,null,null,null,null,null,null,null,null,null,null,null,null,null,null,null,null,null,null,null,null,null,null,null,null,null,null,null,null,null,null,null,null,null,null,null,null,null,null,null,null,null,null,null,null,null,"متغیرهای  ورودی ",null,null,null,"بزرگی فلش",{"$f":"NV250","v":0.24000000000000005},{"$f":"NV243","v":0.5},{"$f":"NZ236","v":-20.238095238095237},{"$f":"OA236","v":5},{"$f":"NY236","v":"w6"}]
[null,null,null,null,null,"(a2 → a4)",{"$f":"2.4*G242*'متغیرها '!C164","v":7.0663074231615131},null,null,{"$f":"G245+AX99","v":18.776498717657017},{"$f":"AX103+G244+AX98","v":154.93398992568586},"a2",null,"(e → e4)",{"$f":"O236*G262/G260","v":3.7474217502082947},null,null,null,null,null,{"$f":"U249","v":-7.1499999999999986},{"$f":"V249","v":123.86712499807096},"49''",null,{"$f":"-U239+S257","v":17.149999999999999},{"$f":"V239","v":123.86712499807096},"49''",null,"نقاط  ورودی",null,null,null,"محاسبات",null,null,"پشت یقه پروانه ای ",null,null,"قرینه",{"$f":"2*C102","v":10},null,null,"d2",{"$f":"'متغیرها '!C453","v":0.9},null,null,null,null,null,null,null,null,null,null,null,"متغیر ورودی جلو",null,null,null,"(8 → 13)",{"$f":"BE245*(1+'متغیرها '!C320)*COS(2*BE240+BE244)","v":3.5136633674868225},null,null,null," انحنا لبه دامن فون روی خط مرکزی جلو",null,null,null,"قرینه انحنا لبه دامن فون روی خط مرکزی جلو",null,null,{"$f":"'متغیرها '!C56","v":0},"شیفت افقی تکه پهلو پیراهن",null,"(8 → 13)",{"$f":"BT246*(1+'متغیرها '!C320)*COS(2*BT241+BT245)","v":2.6320426993021449},null,null,null,"انحنا بالا",null,null,null,"انحنا بالا",null,null,null,null,null,null,null,null,null,null,null,null,null,null,null,null,null,"(m7→ m8)",{"$f":"0.28*(CY235-CY233)+CY233","v":9.2754368932038851},null,null,{"$f":"CY234","v":41.820000000000007},"(1 → m3)",null,{"$f":"CY241+AX99","v":10.806359223300971},{"$f":"CY240+AX98","v":84.86833280438421},"m10",null,{"$f":"DE231","v":9.65},{"$f":"DF231","v":80.855896622129563},"m2",null,{"$f":"DE260","v":9.5124999999999993},{"$f":"DF260","v":69.512448946462314},"m2",null,{"$f":"-DM239+DR229","v":0.48750000000000071},{"$f":"DN239","v":69.512448946462314},"m2",null,{"$f":"BO178","v":6.9499999999999993},{"$f":"BP178","v":110},44,null,{"$f":"-DU239+DZ229","v":3.0500000000000007},{"$f":"DV239","v":110},44,null,null,null,null,null,"نقاط تکه وسط پا ",null,null,null,{"$f":"EG237","v":24.842561892083726},{"$f":"EH237","v":50.5},"p14",null,{"$f":"-EK239+EP230","v":-14.842561892083726},{"$f":"EL239","v":50.5},"p14",null,{"$f":"EG273","v":23.247700388235955},{"$f":"EH273","v":50.5},"p8",null,"(p19 → p20)",{"$f":"IF('متغیرها '!C432=1,0.85,0.5)*EX235","v":-4.7225187177278185},null,{"$f":"AZ99","v":28.25},{"$f":"BA99","v":128.5959048933077},12,null,{"$f":"AZ99-'متغیرها '!C55","v":28.25},{"$f":"BA99","v":128.5959048933077},12,null,"(p14 → p15)",{"$f":"IF('متغیرها '!C443=1,0.75,0.45)*FI235","v":3.1229591867045396},null,{"$f":"BK122-'متغیرها '!C56","v":27.492535621967953},{"$f":"BL122-'متغیرها '!C57","v":128.54033765005761},8,null,{"$f":"-FK239+FP230","v":-17.492535621967953},{"$f":"FL239","v":128.54033765005761},8,null,null,{"$f":"O140","v":0.49575949689739424},"β4",null,"yd3",{"$f":"IF(FT240<3,'متغیرها '!U60+(FT240-2)*('متغیرها '!U56-'متغیرها '!U60),'متغیرها '!U56+(FT240-3)*(I124-I123))","v":111.05},"شیفت",{"$f":"FS249+'متغیرها '!C51","v":29.72},{"$f":"FT249+FT242+'متغیرها '!C52","v":128.5959048933077},13,null,null,{"$f":"AD140","v":0.48806480904486904},"β8","شیفت",{"$f":"GD248+'متغیرها '!C53","v":28.962535621967952},{"$f":"GE248+GE242+'متغیرها '!C54","v":128.54033765005761},{"$f":"GF248","v":9},null,null,null,{"$f":"AZ165","v":5},{"$f":"BA165","v":108},38,null,"(dp'5 →dp5)",{"$f":"2*(GV253-GN239)-4*GS237","v":35.138668980351184},null,null,null,null,null,null,null,"انحنا یقه",null,{"$f":"CR170","v":16.026631599545773},{"$f":"CS170","v":106.96},{"$f":"CT170","v":" dd5"},null,null,{"$f":"H123","v":25.9},"t2",null,"c8",{"$f":"IF(HO245>HO254,ATAN((HN254-HN235)/(HO235-HO254)),ATAN((HN255-HN235)/(HO235-HO255)))","v":0.73554471140940447},null,{"$f":"HN234+HL236*COS(HL232)","v":25.86368182621905},{"$f":"HO234-HL236*SIN(HL232)","v":122.89373660509669},"a7",null,{"$f":"HR238+(0.5-HI254)*(HR240-HR238)","v":15.045671282152091},{"$f":"HS240+0.5*(HS238-HS240)","v":122.05878953630189},"a44",null,{"$f":"HN243","v":11.848594617430871},{"$f":"HO243+HI260","v":122.8160218044715},"a11",null,{"$f":"HN243","v":11.848594617430871},{"$f":"HO243+HI260","v":122.8160218044715},"a11",null,null,null,null,null,{"$f":"-HN243+HH242","v":-1.8485946174308712},{"$f":"HO243+HI260","v":122.8160218044715},"a11",null,null,7,0.12217304763960307,{"$f":"HN240+HL247*SIN(HL250+IN239)","v":16.309249153639719},{"$f":"HO240+HL247*COS(HL250+IN239)","v":125.77298363964725},{"$f":"ATAN((IP239-HO235)/(IO239-HN235))","v":0.13267604217814694},{"$f":"(IO239-HN235)/COS(IQ239)","v":10.404295960935697},null,null,{"$f":"HN234","v":14.96392},{"$f":"HO234","v":124.1},"a2",null,"d8",{"$f":"'متغیرها '!C480","v":1.2},null,"yf6",{"$f":"IV240+5","v":128.98690699414806},null,{"$f":"JE237+IU237-IU234","v":12.100893382569128},{"$f":"JF237+IV237-IV234","v":132.15560731276338},"e7",null,null,null,null,null,{"$f":"JE288","v":22.105391199176172},{"$f":"JF288","v":124.28775078749635},"e56",null,{"$f":"-JE288+IY263","v":-12.105391199176172},{"$f":"JF288","v":124.28775078749635},"e56",null,null,null,null,null,null,null,null,null,null,2,{"$f":"KE235+KH235*SIN(RADIANS(KD239)+KD237)","v":14.571040318316269},{"$f":"KF235+KH235*COS(RADIANS(KD239)+KD237)","v":128.96626652808266},{"$f":"IF(KE236>KE239,ATAN((KF236-KF239)/(KE236-KE239)),ATAN((KF236-KF239)/(KE239-KE236)))","v":1.1558791565809994},{"$f":"IF(KE236>KE239,(KE236-KE239)/COS(KG239),(KE239-KE236)/COS(KG239))","v":0.98534421455116361},null,null,{"$f":"BD228","v":5},106.96,"d4",null,{"$f":"KK284","v":45.533251940759321},{"$f":"KL284","v":39.125},"j22",null,{"$f":"-KO239+KR231","v":-35.533251940759321},{"$f":"KP239","v":39.125},"j''22",null,null,null,null,null,{"$f":"KW262","v":52.951349793964098},{"$f":"KX262","v":39.125},"j'22",null,{"$f":"-LE237+2*LE231","v":-15.266625970379661},{"$f":"LF231","v":16.375},"j108",null,null,null,null,null,null,"d6  b6",{"$f":"0.6*(LO215-LO222)+LO222","v":18.900349053455326},{"$f":"LP227+((LO239-LO227)/(LO215-LO227))*(LP215-LP227)+0.5*'متغیرها '!C358*(LO214-LO227)","v":133.69250922383264},null,null,"به دست آوردن نقطه تقاطع دو خط (d''4b14)","مولفه افقی","مولفه عمودی",null,"d5  b14",10.614249999999998,124.01765332132254,null,{"$f":"LX278+LX263","v":38.195999999999998},{"$f":"LY278","v":93.603476842735176},"جدا m12",null,{"$f":"-MA239+MF212","v":-28.195999999999998},{"$f":"MB239","v":93.603476842735176},"جدا m12",null,{"$f":"LX278+LX263","v":38.195999999999998},{"$f":"LY278","v":93.603476842735176},"جدا m12",null,{"$f":"-MI239+MN212","v":-28.195999999999998},{"$f":"MJ239","v":93.603476842735176},"جدا m12",null,{"$f":"LX278+LX263","v":38.195999999999998},{"$f":"LY278","v":93.603476842735176},"جدا m12",null,{"$f":"-MQ239+MV212","v":-28.195999999999998},{"$f":"MR239","v":93.603476842735176},"جدا m12",null,{"$f":"LX278+LX263","v":38.195999999999998},{"$f":"LY278","v":93.603476842735176},"جدا m12",null,{"$f":"-MY239+ND212","v":-28.195999999999998},{"$f":"MZ239","v":93.603476842735176},"جدا m12",null,{"$f":"LX278+LX263","v":38.195999999999998},{"$f":"LY278","v":93.603476842735176},"جدا m12",null,{"$f":"-NG239+NL212","v":-28.195999999999998},{"$f":"NH239","v":93.603476842735176},"جدا m12",null,null,null,null,null,null,null,"g9",{"$f":"'متغیرها '!C845","v":0.5},"پهنای نیم دایره"]
[null,null,null,null,null,"قد یقه فرنچی پایه",{"$f":"(0.4*G166+0.037*H131)","v":2.9442947596506306},null,null,null,null,null,null,"(e1 → e10)",{"$f":"G260/SIN(RADIANS(H234))+(H232*H124*SIN(RADIANS(H229)))/(IF(SIN(RADIANS(H229)-RADIANS(H234)+O233-RADIANS(90))=0,0.001,SIN(RADIANS(H229)-RADIANS(H234)+O233-RADIANS(90))))","v":22.065791076418616},null,null,null,null,null,{"$f":"BD97","v":-7.1499999999999986},{"$f":"BE97","v":50.5},"1'",null,{"$f":"-U242+S257","v":17.149999999999999},{"$f":"V242","v":50.5},"1'",null,{"$f":"CQ121","v":19.86406690396926},{"$f":"CR121","v":141.18340308122995},"20f",null,"(18f→ 20f)",{"$f":"SQRT(POWER((AC241-AC242),2)+POWER((AD241-AD242),2))","v":6.2283325913073453},null,null,"انحنا",null,null,null,"انحنا",null,"d11",{"$f":"ATAN((AR230-AR228)/(AQ230-AQ228))","v":0.68566927046282977},null,null,{"$f":"AQ250","v":21.151518500468068},{"$f":"AR250","v":133.59722385338026},{"$f":"AS250","v":"d8"},null,null,null,null,null,null,"متغیرهای محاسبه ای جلو دامن فون",null,null,null,"(15 → 16)",{"$f":"BE246*SIN(2*BE240)","v":0.35514638165322482},null,0.20062903517793806,70.656091496911699,"7n'",null,{"$f":"-BK242-BN226","v":9.7993709648220619},70.656091496911699,"7n'",null,null,null,null,null,"(15 → 16)",{"$f":"BT247*SIN(2*BT241)","v":2.4253004394183892},null,{"$f":"BX230+BX233+BS253","v":23.685693612280033},{"$f":"BX227+BX234+BX229+BT249","v":105.0338308713421},8,null,{"$f":"-BZ242+CE227","v":-13.685693612280033},105.0338308713421,8,null,null,null,null,null,null,null,null,null,null,null,null,null,null,null,null,null,"(1 → m11)",{"$f":"CY232-('متغیرها '!C420)*'متغیرها '!C417","v":28.35589662212956},null,{"$f":"DE238","v":5},{"$f":"DF238","v":84.86833280438421},"m9",null,{"$f":"BD97","v":-7.1499999999999986},{"$f":"DF240","v":78.855896622129563},"m'11",null,{"$f":"DE241","v":9.65},{"$f":"DF241","v":78.855896622129563},"m12",null,{"$f":"DE270","v":9.5124999999999993},{"$f":"DF270","v":67.512448946462314},"m12",null,{"$f":"-DM242+DR229","v":0.48750000000000071},{"$f":"DN242","v":67.512448946462314},"m12",null,{"$f":"DA265","v":6.2754045353035908},{"$f":"DB265","v":103.01975471260243},"s5",null,{"$f":"-DU242+DZ229","v":3.7245954646964092},{"$f":"DV242","v":103.01975471260243},"s5",null,null,null,null,null,{"$f":"EG241+I111-ED253+EH268-ED232+EH232-SQRT(POWER(EC237-EC232,2)+POWER(ED237-ED232,2))","v":42.226449471903862},{"$f":"EH241","v":79.504346053418971},"p16",null,{"$f":"EG235","v":4.9741613420526605},{"$f":"EH235","v":50.5},"p12",null,{"$f":"-EK242+EP230","v":5.0258386579473395},{"$f":"EL242","v":50.5},"p12",null,{"$f":"EG271","v":4.5379132415936683},{"$f":"EH271","v":50.5},"p6",null,"(p2 → p29)",{"$f":"0.8*EX233","v":7.4394880000000008},null,{"$f":"AX104-EX236+AX99","v":23.732000000000003},{"$f":"AX113+EX237+AX98","v":127.17914927798935},"p18",null,{"$f":"EZ237","v":19.214000000000006},{"$f":"FA237","v":119.15086745785207},"p16",null,"(p2 → p24)",{"$f":"0.75*FI232","v":5.9781599999999999},null,{"$f":"FG260","v":17.61253562196795},{"$f":"FH260","v":135.48024695384549},"p11",null,{"$f":"-FK242+FP230","v":-7.6125356219679503},{"$f":"FL242","v":135.48024695384549},"p11",null,null,{"$f":"'متغیرها '!C311","v":0},"شیفت عمودی دراپه",null,"(22 → 34)",{"$f":"SQRT(POWER((FS232-FS233),2)+POWER((FT233-FT232),2))","v":2.8358594388869718},"شیفت",{"$f":"FZ240","v":28.25},{"$f":"GA240","v":124.7739048933077},14,null,null,{"$f":"'متغیرها '!C314","v":0},"شیفت عمودی دراپه","شیفت",{"$f":"GH240","v":27.492535621967953},{"$f":"GI240","v":124.71833765005761},10,null,null,null,null,null,null,null,null,null,null,null,null,null,null,{"$f":"GV252","v":26.42},{"$f":"GW252","v":119.37790909498838},"dp4",null,{"$f":"CR167","v":16.183920000000001},{"$f":"CS167","v":108},{"$f":"CT167","v":" شیفت40 یا dd5"},null,null,{"$f":"-HY101","v":10},"شیفت قرینه",null,"c11",{"$f":"ATAN((HN239-HN261)/(HO239-HO261))","v":0.90259243988493854},null,{"$f":"HN235","v":5.9963920000000002},{"$f":"HO234+HO234-HO235","v":123.80337088276509},"a10",null,{"$f":"HN261+HI261","v":23.443741369664288},{"$f":"HO261+HI259+0.03*(HO239-HO258)","v":121.12685401297124},"a47",null,{"$f":"HN248","v":11.848594617430871},{"$f":"HO248+HI260","v":122.8160218044715},"a16",null,{"$f":"HN248","v":11.848594617430871},{"$f":"HO248+HI260","v":122.8160218044715},"a16",null,null,null,null,null,{"$f":"-HN248+HH242","v":-1.8485946174308712},{"$f":"HO248+HI260","v":122.8160218044715},"a16",null,null,10,0.17453292519943295,{"$f":"HN240+HL247*SIN(HL250+IN242)","v":16.706344552025783},{"$f":"HO240+HL247*COS(HL250+IN242)","v":125.62823431465691},{"$f":"ATAN((IP242-HO235)/(IO242-HN235))","v":0.11449340093277649},{"$f":"(IO242-HN235)/COS(IQ242)","v":10.780535006620056},null,null,{"$f":"HR244","v":18.433587921328758},{"$f":"HS244","v":125.92156421911525},"a49",null,"d11",{"$f":"'متغیرها '!C489","v":3},null,"xf8",{"$f":"IU243-IY253","v":22.434407716269682},null,{"$f":"JE241+JC235*SIN(0.5*JC234-JC233)","v":15.513014594936884},{"$f":"JF241-JC235*COS(0.5*JC234-JC233)","v":131.1525573010957},"e10",null,null,null,null,null,{"$f":"JE279","v":21.977870687575262},{"$f":"JF279","v":121.35089950964385},"e47",null,{"$f":"-JE279+IY263","v":-11.977870687575262},{"$f":"JF279","v":121.35089950964385},"e47",null,{"$f":"IU252","v":10.6449088},{"$f":"IV252","v":119.87628849138639},"a23",null,{"$f":"-IU252+IY263","v":-0.64490879999999962},{"$f":"IV252","v":119.87628849138639},"a23",null,null,8,{"$f":"KE235+KH235*SIN(RADIANS(KD242)+KD237)","v":15.283286165522901},{"$f":"KF235+KH235*COS(RADIANS(KD242)+KD237)","v":129.02579218852802},{"$f":"IF(KE236>KE242,ATAN((KF236-KF242)/(KE236-KE242)),ATAN((KF236-KF242)/(KE242-KE236)))","v":0.64931503132214285},{"$f":"IF(KE236>KE242,(KE236-KE242)/COS(KG242),(KE242-KE236)/COS(KG242))","v":1.3929122489403074},null,null,24.694757230700372,109.11991329666904,"d3",null,{"$f":"KK285","v":5},{"$f":"KL285","v":39.125},"j23",null,{"$f":"-KO242+KR231","v":5},{"$f":"KP242","v":39.125},"j''23",null,{"$f":"BS228","v":6.8494907872727833},108.96,"d1",null,{"$f":"KW263","v":5},{"$f":"KX263","v":39.125},"j'23",null,{"$f":"LE241","v":35.399938955569489},{"$f":"LF231-0.6*LE165*(KL292-KL293)","v":16.375},"j111",null,null,null,null,null,null,"d4  b10ʻ",{"$f":"0.2*(LO216-LO222)+LO222","v":17.511227224539006},{"$f":"LP227+((LO242-LO227)/(LO216-LO227))*(LP216-LP227)+0.75*'متغیرها '!C358*(LO214-LO227)","v":128.02909180478849},null,"نقطه اول از خط دوم"," یا  22",{"$f":"IF(LU240>LU243,LO221,LO219)","v":15.23},{"$f":"IF(LU240>LU243,LP221,LP219)","v":110},null,"d'ʻ4  b14",{"$f":"LT244","v":15.889118140993647},{"$f":"LU244","v":124.79425647162485},null,{"$f":"MA244","v":46.49},{"$f":"MB244","v":110},"جدا m13",null,{"$f":"-MA242+MF212","v":-36.49},{"$f":"MB242","v":110},"جدا m13",null,{"$f":"MI244","v":46.49},{"$f":"MJ244","v":110},"جدا m13",null,{"$f":"-MI242+MN212","v":-36.49},{"$f":"MJ242","v":110},"جدا m13",null,{"$f":"MQ244","v":46.49},{"$f":"MR244","v":110},"جدا m13",null,{"$f":"-MQ242+MV212","v":-36.49},{"$f":"MR242","v":110},"جدا m13",null,{"$f":"MY244","v":46.49},{"$f":"MZ244","v":110},"جدا m13",null,{"$f":"-MY242+ND212","v":-36.49},{"$f":"MZ242","v":110},"جدا m13",null,{"$f":"NG244","v":46.49},{"$f":"NH244","v":110},"جدا m13",null,{"$f":"-NG242+NL212","v":-36.49},{"$f":"NH242","v":110},"جدا m13",null,null,null,null,null,null,null,"f4",{"$f":"'متغیرها '!C848","v":0.30000000000000004},"بزرگی فلش",null,"پهنای نیم دایره",{"$f":"NV239","v":0.5},{"$f":"NV250","v":0.24000000000000005},{"$f":"NZ248","v":22.899047619047618},{"$f":"OA248","v":5.1120000000000001},{"$f":"NY248","v":"g5"}]
[null,null,null,null,null,"(1 →a7)",{"$f":"G259+0.5*(AX103+G248-G259)","v":99.076031495318261},null,null,{"$f":"-G260+AX147+AX99","v":-10.012874883409935},{"$f":"G259+AX98","v":140.97041326438926},"e3",null,null,{"$f":"G238","v":8.1600395086109625},"نصف نوار گردن از پشت",null,null,null,null,null,null,null,null,null,null,null,null,null,null,null,null,"مولفه عمودی نقطه اتصال به سرشانه جلو",{"$f":"AD241-'متغیرها '!C385*AH242*COS(AH240)","v":141.18340308122995},null,null,null,null,null,null,null,null,{"$f":"AQ228+0.6*(AQ232-AQ228)","v":21.151518500468068},{"$f":"AR232+0.12*(AR228-AR232)","v":133.59722385338026},"d8",null,null,null,null,null,null,null,null,null,null,"شیفت افقی",{"$f":"'متغیرها '!C323","v":0},null,null,"(23 → 24)",{"$f":"(BE243+3*BE245*SIN(BE244)+BE246*SIN(BE247))*(COS(3*BE240)-COS(4*BE240))","v":0.49824497029828491},null,null,null,null,null,null,null,null,null,"پایین دامن فون تا زمین درانتخاب دامن فون متصل به پیراهن راسته  k1",{"$f":"IF('متغیرها '!C319<1,'متغیرها '!C319*'متغیرها '!U59,IF('متغیرها '!C319<2,'متغیرها '!U59+('متغیرها '!C319-1)*('متغیرها '!U60-'متغیرها '!U59),IF('متغیرها '!C319<3,'متغیرها '!U60+('متغیرها '!C319-2)*(I105-'متغیرها '!U60),I105+('متغیرها '!C319-3)*(H127-H126))))","v":34.125},null,null,"(23 → 24)",{"$f":"(BT244+3*BT246*SIN(BT245)+BT247*SIN(BT248))*(COS(3*BT241)-COS(4*BT241))","v":21.88517289817031},null,{"$f":"BZ247","v":28.193152551454389},{"$f":"CA247","v":113.79752075252195},26,null,{"$f":"-BZ250+CE227","v":-18.193152551454389},{"$f":"CA250","v":113.79752075252195},26,null,null,null,null,null,null,null,null,null,null,null,null,null,null,null,null,null,"(1 → m3)",{"$f":"BI110-AX113+CY234","v":41.764432756749912},null,{"$f":"BK122-'متغیرها '!C56","v":27.492535621967953},{"$f":"BL122-'متغیرها '!C57","v":128.54033765005761},8,null,{"$f":"DE256","v":35.581432038834954},{"$f":"DF256-0.1*DB253","v":79.760850342612486},"s10",null,null,null,null,null,{"$f":"DM248+0.7*DB253","v":12.527823956619594},{"$f":"DN248+0.5*(DN251-DN248)","v":79.203318521333188},"m8'",null,{"$f":"-DM250+DR229","v":-2.5278239566195939},{"$f":"DN250","v":79.203318521333188},"m8'",null,null,null,null,null,null,null,null,null,{"$f":"BD150","v":5},{"$f":"(BA165-I104)","v":5},"زمین 1'",null,null,null,null,null,{"$f":"EC232","v":4.8624999999999998},{"$f":"ED232","v":88.4},48,null,{"$f":"-EK250+EP230","v":5.1375000000000002},{"$f":"EL250","v":88.4},48,null,{"$f":"EG274","v":-7.1499999999999986},{"$f":"EH274","v":80.016000000000005},"p'3",null,"مولفه عمودی مرجع بندینک",{"$f":"IF('متغیرها '!C436<1,'متغیرها '!C436*'متغیرها '!U59,IF('متغیرها '!C436<2,'متغیرها '!U59+('متغیرها '!C436-1)*('متغیرها '!U60-'متغیرها '!U59),IF('متغیرها '!C436<3,'متغیرها '!U60+('متغیرها '!C436-2)*(I105-'متغیرها '!U60),I105+('متغیرها '!C436-3)*(H127-H126))))","v":83.4},null,{"$f":"EX249+EX248","v":33.164640000000006},{"$f":"EX250","v":83.4},"p5",null,null,null,null,null,"مولفه افقی مرجع بندینک",{"$f":"FK264+'متغیرها '!C435*(FK239-FK264)","v":27.492535621967953},null,{"$f":"FK248","v":32.134191243935902},{"$f":"FL248","v":146.98199999999989},"p3",null,{"$f":"-FK250+FP230","v":-22.134191243935902},{"$f":"FL250","v":146.98199999999989},"p3",null,null,{"$f":"H167","v":11.343437755547924},"شبیه ساز w",null,"yd'3",{"$f":"FX239-(FX247-FX238)*SIN(RADIANS(FT241))","v":103.84529700767723},null,null,null,null,null,{"$f":"BK104-'متغیرها '!C53","v":7.4676152751260556},{"$f":"BL104-'متغیرها '!C54","v":144.79309751611007},23,null,null,null,null,null,null,30,0.52359877559829882,{"$f":"GV255+GS241*COS(GN250)","v":15.736222761455995},{"$f":"GW255-GS241*SIN(GN250)","v":91.550578806493448},{"$f":"SQRT(POWER((GV252-GO250),2)+POWER((GW252-GP250),2))","v":29.807774272290416},{"$f":"ABS(GS238-GQ250)","v":1.5497784739710738},null,null,null,null,null,"قرینه",{"$f":"GY248","v":-14.59},{"$f":"GZ248","v":110.15991329666905},{"$f":"HA248","v":" شیفت41 یا d3"},null,{"$f":"HC248","v":13.743919999999999},{"$f":"HD248","v":108},{"$f":"HE248","v":"39 یا d5"},null,null,"b7",{"$f":"'متغیرها '!C463","v":0.25},null,"c19",{"$f":"ATAN((HN234-HN240)/(HO234-HO240))","v":0.20119847888499931},null,{"$f":"IF(HI249>0,HN244+(HN249-HN244)*(0.5-0.1*HI252),HR250+(HN249-HR250)*(0.5-0.1*HI252))","v":12.998724990372967},{"$f":"IF(HI249>0,HO244+(HO249-HO244)*(0.5+HI252),HS250+(HO249-HS250)*(0.5+HI252))","v":124.07275974978037},"a18",null,{"$f":"HL283","v":7.0479619807459351},{"$f":"HM283-2*(HS235-HO234)","v":117.57051949956077},"a56",null,{"$f":"HN266","v":26.725237448513319},{"$f":"HO266+HI260","v":126.85502628606051},"a34",null,null,null,null,null,27.043040588817842,124.21663516787457,"a66",null,{"$f":"-HN266+HH242","v":-16.725237448513319},{"$f":"HO266+HI260","v":126.85502628606051},"a34",null,null,18,0.31415926535897931,{"$f":"HN240+HL247*SIN(HL250+IN250)","v":17.722684396487466},{"$f":"HO240+HL247*COS(HL250+IN250)","v":125.14285910038986},{"$f":"ATAN((IP250-HO235)/(IO250-HN235))","v":6.3551637649218215E-2},{"$f":"(IO250-HN235)/COS(IQ250)","v":11.750012449171244},null,null,{"$f":"HR236","v":14.882168717847909},{"$f":"HS236+IY254","v":122.05878953630189},"a41",null,null,null,null,"f14",{"$f":"IU246-IU251","v":2.4400000000000013},null,{"$f":"JE251-IZ240*(IU240-IU239)*0.5*COS(JC246)","v":14.173834142405077},{"$f":"JF251-IZ240*(IU240-IU239)*0.5*SIN(JC246)","v":129.86800400371925},"e18",null,null,null,null,null,"مولفه افقی","مولفه عمودی","اسم نقطه ",null,"مولفه افقی","مولفه عمودی","اسم نقطه ",null,{"$f":"JE247","v":24.895},{"$f":"JF247","v":116.3466291172349},"e15",null,{"$f":"-JE247+IY263","v":-14.895},{"$f":"JF247","v":116.3466291172349},"e15",null,null,24,{"$f":"KE235+KH235*SIN(RADIANS(KD250)+KD237)","v":17.172713412287688},{"$f":"KF235+KH235*COS(RADIANS(KD250)+KD237)","v":128.81977958654406},{"$f":"IF(KE236>KE250,ATAN((KF236-KF250)/(KE236-KE250)),ATAN((KF236-KF250)/(KE250-KE236)))","v":0.33626381916582632},{"$f":"IF(KE236>KE250,(KE236-KE250)/COS(KG250),(KE250-KE236)/COS(KG250))","v":3.1767989083500283},null,null,null,5,"شیفت عمودی کل پشت",null,{"$f":"KK287","v":45.533251940759321},{"$f":"KL287","v":27.75},"j25",null,{"$f":"-KO250+KR231","v":-35.533251940759321},{"$f":"KP250","v":27.75},"j''25",null,null,null,null,null,{"$f":"KW265","v":52.951349793964098},{"$f":"KX265","v":27.75},"j'25",null,null,null,null,null,35.399938955569489,27.75,"j91",null,null,null,null,null,null,"نقطه دوم از خط دوم",40,{"$f":"BO164","v":16.204999999999998},{"$f":"BP164","v":131.88439243697479},null,"شیفت افقی",{"$f":"'متغیرها '!C56","v":0},null,null,{"$f":"MA238","v":35.28},{"$f":"MB238","v":93.603476842735176},"جدا m11",null,{"$f":"-MA250+MF212","v":-25.28},{"$f":"MB250","v":93.603476842735176},"جدا m11",null,{"$f":"MI238","v":35.28},{"$f":"MJ238","v":93.603476842735176},"جدا m11",null,{"$f":"-MI250+MN212","v":-25.28},{"$f":"MJ250","v":93.603476842735176},"جدا m11",null,{"$f":"MQ238","v":35.28},{"$f":"MR238","v":93.603476842735176},"جدا m11",null,{"$f":"-MQ250+MV212","v":-25.28},{"$f":"MR250","v":93.603476842735176},"جدا m11",null,{"$f":"MY238","v":35.28},{"$f":"MZ238","v":93.603476842735176},"جدا m11",null,{"$f":"-MY250+ND212","v":-25.28},{"$f":"MZ250","v":93.603476842735176},"جدا m11",null,{"$f":"NG238","v":35.28},{"$f":"NH238","v":93.603476842735176},"جدا m11",null,{"$f":"-NG250+NL212","v":-25.28},{"$f":"NH250","v":93.603476842735176},"جدا m11",null,null,null,null,null,null,null,"f4",{"$f":"NV242*NV238","v":0.24000000000000005},"بزرگی فلش",null,"g7",{"$f":"NZ247+OA242*SIN(RADIANS(40)-ATAN((NZ247-NZ248)/(OA247-OA248)))","v":23.090738002444116},{"$f":"OA247-OA242*COS(RADIANS(40)-ATAN((NZ247-NZ248)/(OA247-OA248)))","v":5.1709574517071921},{"$f":"NZ247","v":23.019047619047619},{"$f":"OA247","v":5.4},{"$f":"NY247","v":"g4"}]
[null,null,null,null,null,"(1' →e2)",{"$f":"AX103-AX129-H233*H124","v":90.470413264389279},null,null,null,null,"رسم انحنا پایه",null,"(p1 → p3)",{"$f":"O268","v":1.6488050654043531},null,null,null,null,null,null,null,null,null,null,null,null,null,null,null,null,null,null,null,{"$f":"AI257","v":13.039594884347331},{"$f":"AJ257","v":151.60507121883091},"b8",null,{"$f":"-AI259+AN252","v":-3.0395948843473306},{"$f":"AJ259","v":151.60507121883091},"b8",null,null,null,null,null,null,null,{"$f":"BI100","v":-1.1678571348917793E-2},"زاویه پهلو با عمود",null,null,null,null,null,"نقاط  ورودی",null,null,null,null,null,null,{"$f":"BI230+BI233+BI239+BI245+BK290","v":19.089597609728386},{"$f":"BI227+BI234+BI240+BI246+BI229+BE248","v":113.79993783870229},20,null,{"$f":"-BK259-BN226","v":-9.0895976097283864},113.79993783870229,20,null,null,null,null,null,null,null,null,{"$f":"IF(BE241=1,KM313+BX256,BZ240)","v":14.862500000000001},{"$f":"IF(BE241=1,KN313+BX257,CA260)","v":45.5},"b7",null,{"$f":"-BZ259+CE227","v":-4.8625000000000007},{"$f":"CA259","v":45.5},"b7",null,null,null,null,null,null,null,null,null,null,null,null,null,null,null,null,null,"(m11→ m12)",{"$f":"CY249","v":4.5125000000000002},null,{"$f":"DE265","v":5},{"$f":"DF265","v":79.750841661091727},"m7",null,{"$f":"0+BI98","v":5},{"$f":"CY248+BI97","v":69.512448946462314},"m1",null,{"$f":"DE250","v":35.581432038834954},79.760850342612486,"s10",null,null,"رسم کمر و پهلو شورت پشت",null,null,null,null,null,null,{"$f":"DA265","v":6.2754045353035908},{"$f":"DB265","v":103.01975471260243},"s5",null,{"$f":"-DU259+DZ229","v":3.7245954646964092},{"$f":"DV259","v":103.01975471260243},"s5",null,null,"a'",{"$f":"EG273-EG255+EG261-EG262+EG237-EG258","v":41.512784611844339},null,{"$f":"EG241+0.5*(EG242-EG241)","v":37.240724735951929},{"$f":"EH241","v":79.504346053418971},"p'16",null,null,null,null,null,null,null,null,null,null,null,null,null,null,null,null,null,null,null,null,{"$f":"CR183","v":-7.1499999999999986},{"$f":"CS183","v":106.96},"26''",{"$f":"FI242+BI98","v":10.978159999999999},{"$f":"FI231-FI243+BI97","v":136.29485471631443},"p25",null,null,null,null,null,null,null,null,null,{"$f":"FS258-(FS257-FS258)","v":-4.4763991874915767},{"$f":"FT257","v":129.89766728928578},null,null,"(18 → 32)",{"$f":"SQRT(POWER((GD232-GD233),2)+POWER((GE233-GE232),2))","v":2.8358594388869851},null,null,null,null,null,"y30d",{"$f":"GE250","v":144.79309751611007},null,null,null,null,null,null,null,null,null,null,null,null,null,null,null,null,null,null,null,null,null,null,null,{"$f":"HC257","v":-3.9012084004542267},{"$f":"HD257","v":106.96},{"$f":"HE257","v":"d5"},null,null,"b13",{"$f":"'متغیرها '!C472","v":0},null,null,null,null,{"$f":"HN234+(0.5-HI254)*(HN258-HN234)","v":15.390919999999999},{"$f":"HO258+0.5*(HO234-HO258)","v":121.10918912400044},"a27",null,{"$f":"HN239+HH241","v":25.86368182621905},{"$f":"HO239","v":122.89373660509669},"a65",null,{"$f":"HN247","v":11.848594617430871},{"$f":"HO247+HI259","v":125.38397819552848},"a15",null,{"$f":"HN247","v":11.848594617430871},{"$f":"HO247+HI259","v":125.38397819552848},"a15",null,{"$f":"-HN246+HH242","v":4.0036079999999998},{"$f":"HO246","v":124.39662911723489},"a14",null,{"$f":"-HN247+HH242","v":-1.8485946174308712},{"$f":"HO247+HI259","v":125.38397819552848},"a15",null,"c19",{"$f":"ATAN((IN258-IN257)/(IO258-IO257))","v":1.1779041899232356},null,"محاسبات",null,null,null,null,null,{"$f":"HR246","v":13.671833245521519},{"$f":"HS246","v":122.35460483266569},"a51",null,{"$f":"H121","v":41.5},"شبیه سازs2",null,"f23",{"$f":"IU246-IU251-IY253","v":2.4400000000000013},null,{"$f":"IU266","v":5.9963920000000002},{"$f":"IV266+IY256","v":123.80337088276509},"e27",null,{"$f":"IU245","v":15.045671282152091},{"$f":"IV245","v":122.05878953630189},"e61",null,null,null,null,null,null,null,null,null,{"$f":"JE253","v":16.831808726285153},{"$f":"JF253","v":133.18014613307699},"e21",null,{"$f":"-JE253+IY263","v":-6.8318087262851535},{"$f":"JF253","v":133.18014613307699},"e21",null,null,42,{"$f":"KE235+KH235*SIN(RADIANS(KD259)+KD237)","v":19.135981223456241},{"$f":"KF235+KH235*COS(RADIANS(KD259)+KD237)","v":127.97740388072832},{"$f":"IF(KE236>KE259,ATAN((KF236-KF259)/(KE236-KE259)),ATAN((KF236-KF259)/(KE259-KE236)))","v":0.36402442654578343},{"$f":"IF(KE236>KE259,(KE236-KE259)/COS(KG259),(KE259-KE236)/COS(KG259))","v":5.3101104017748924},null,null,{"$f":"'متغیرها '!C801","v":0.5},"j4",null,null,{"$f":"KK289","v":45.533251940759321},{"$f":"KL289","v":27.75},"j27",null,{"$f":"-KO259+KR231","v":-35.533251940759321},{"$f":"KP259","v":27.75},"j''27",null,"مولفه افقی","مولفه عمودی","اسم نقطه ",null,{"$f":"KW267","v":52.951349793964098},{"$f":"KX267","v":27.75},"j'27",null,null,null,null,null,-5.1333129851898303,27.75,"j97",null,null,null,null,null,null,null,null,null,null,null,"m1",{"$f":"'متغیرها '!C375","v":2},null,null,{"$f":"IF(LX259=4,LX240,LX275)+LX263","v":44.171999999999997},{"$f":"IF(LX259=4,LY240,LY275)","v":124.42632120145737},"جدا m9 یا d'4b14",null,{"$f":"-MA259+MF212","v":-34.171999999999997},{"$f":"MB259","v":124.42632120145737},"جدا m9 یا d'4b14",null,{"$f":"IF(LX259=4,LX234,LX274)+LX263","v":44.171999999999997},{"$f":"IF(LX259=4,LY234,LY274)","v":126.45885071185506},"جدا m8 یا d'4b10",null,{"$f":"-MI259+MN212","v":-34.171999999999997},{"$f":"MJ259","v":126.45885071185506},"جدا m8 یا d'4b10",null,{"$f":"IF(LX259=4,LX228,LX273)+LX263","v":44.171999999999997},{"$f":"IF(LX259=4,LY228,LY273)","v":129.41230968859617},"جدا m7 یا d'4b6",null,{"$f":"-MQ259+MV212","v":-34.171999999999997},{"$f":"MR259","v":129.41230968859617},"جدا m7 یا d'4b6",null,{"$f":"IF(LX259=4,LX222,LX272)+LX263","v":44.171999999999997},{"$f":"IF(LX259=4,LY222,LY272)","v":132.72621442094558},"جدا m6 یا d'4b12",null,{"$f":"-MY259+ND212","v":-34.171999999999997},{"$f":"MZ259","v":132.72621442094558},"جدا m6 یا d'4b12",null,{"$f":"IF(LX259=4,LX216,LX271)+LX263","v":44.171999999999997},{"$f":"IF(LX259=4,LY216,LY271)","v":135.19437526757326},"جدا m5 یا d'4b16",null,{"$f":"-NG259+NL212","v":-34.171999999999997},{"$f":"NH259","v":135.19437526757326},"جدا m5 یا d'4b16",null,null,null,null,null,null,null,{"$f":"NV235+0.1*(NU255-NV235)","v":-20.238095238095237},{"$f":"NV236","v":5},"w6",null,"نقطه شروع رج(چپ)","مولفه افقی","مولفه عمودی"]
[null,null,null,null,null,"(1' →e8)",{"$f":"G259+H232*H124*SIN(O233)","v":91.335885863984473},null,null,{"$f":"J268","v":0},{"$f":"K268","v":161.37495826882815},"p1",null,"محاسبه ای",null,null,null,"مولفه افقی","مولفه عمودی","اسم نقطه ",null,"(1 → b1)",{"$f":"S266-S269+'متغیرها '!C382*H167*SIN(S270)","v":97.465840600862037},null,null,null,null,"زاویه c3",{"$f":"ATAN(('متغیرها '!C496*(AC269+0.27*H130))/(AD270-BE151))","v":0.33054705785421878},null,null,{"$f":"AC269","v":19.819056758434389},{"$f":"AD269","v":147.65254388096676},"c22",null,"مرجع قرینه",{"$f":"HY101","v":-10},null,null,"نقاط  ورودی",null,null,null,null,null,"پیش بند حمام بچه",null,"مولفه افقی","مولفه عمودی","اسم نقطه ",null,null,null,null,null,null,{"$f":"'متغیرها '!C192","v":1.55},"n13",null,null,null,null,{"$f":"BK262","v":22.524427145990664},{"$f":"BL262","v":114.76147632060615},26,null,{"$f":"-BK265-BN226","v":-12.524427145990664},{"$f":"BL265","v":114.76147632060615},26,null,null,"متغیر ورودی پهنا","a20",{"$f":"'متغیرها '!C767","v":0},"(سانتیمتر)",null,null,null,null,null,null,null,null,null,null,null,null,null,null,null,null,null,null,null,null,null,null,null,null,null,null,null,null,null,{"$f":"BO178-(BP178-DB265)*(BO178-BK170)/(BP178-BL170)","v":6.2754045353035908},{"$f":"DB248+CY264*COS(CY268)","v":103.01975471260243},"s5",null,{"$f":"0+BI98","v":5},{"$f":"CY254+BI97","v":79.750841661091727},"m7",null,{"$f":"DE256+DB241","v":41.387791262135927},{"$f":"DJ268+DB240-DB238","v":95.106725519013622},"جلوm10",null,null,null,null,null,null,null,null,null,{"$f":"BW110","v":-7.15},{"$f":"BX110","v":140.97041326438926},"چرخیده 26'",null,null,null,null,null,null,null,null,null,null,null,null,null,null,null,null,null,null,null,null,null,null,null,null,null,null,null,null,null,null,null,null,{"$f":"CR204","v":5},{"$f":"CS204","v":106.96},"d4",{"$f":"BI108-FI236+BI98","v":23.046535621967951},{"$f":"BI110+FI237+BI97","v":129.72012223170157},"p13",null,null,null,null,null,null,null,null,null,{"$f":"FS257+FS270","v":9.4763991874915767},{"$f":"FT257+FS271","v":134.89766728928578},null,null,"yd8",{"$f":"FX256","v":112},null,null,null,null,null,{"$f":"GE258","v":7.4676152751260556},{"$f":"GE259","v":144.79309751611007},"30d",null,null,null,null,null,null,null,null,null,null,null,null,null,null,null,null,null,null,null,null,null,"قرینه",{"$f":"IJ114","v":-4.9639199999999999},120.88,"شیفت 43",null,null,"نقطه اول از خط دوم","a18",{"$f":"HN250","v":12.998724990372967},{"$f":"HO250","v":124.07275974978037},null,null,{"$f":"HJ274","v":27.043040588817842},{"$f":"HK274","v":124.21663516787457},"a33",null,null,null,null,null,{"$f":"HN254","v":8.5530762399999993},{"$f":"HO254+HI259","v":121.57141622607958},"a22",null,{"$f":"HN240","v":13.743919999999999},{"$f":"HO240+HI259","v":118.11837824800087},"a8",null,null,null,null,null,{"$f":"-HR253+HH242","v":1.6793496000000001},{"$f":"HS253+HI259","v":121.25750368261788},"a22",null,null,10,{"$f":"IN257+IQ257*SIN(RADIANS(IM265)+IM259)","v":27.059036619937835},{"$f":"IO257+IQ257*COS(RADIANS(IM265)+IM259)","v":124.76681074539431},{"$f":"IF(IN258>IN265,ATAN((IO258-IO265)/(IN258-IN265)),ATAN((IO258-IO265)/(IN265-IN258)))","v":1.4122882964133985},{"$f":"IF(IN258>IN265,(IN258-IN265)/COS(IP265),(IN265-IN258)/COS(IP265))","v":2.1147259943367391},null,null,null,{"$f":"ER415","v":11.6424},{"$f":"ES415","v":150},"23پشت شبیه ساز",null,null,null,null,null,null,null,{"$f":"JE245-JC255-JC250","v":21.05381167660228},{"$f":"JF233","v":116.3466291172349},"e33",null,{"$f":"JI258+SQRT(POWER((JI263-JI258),2)+POWER((JJ263-JJ258),2))*0.5*COS(JC261)","v":17.791448808593486},{"$f":"JJ258+IF(JJ258>JJ263,-1,1)*SQRT(POWER((JI263-JI258),2)+POWER((JJ263-JJ258),2))*0.5*SIN(JC261)","v":126.61207094040054},"e67",null,null,null,null,null,null,null,null,null,null,null,"کاسه رویی",null,null,null,"کاسه رویی",null,null,54,{"$f":"KE235+KH235*SIN(RADIANS(KD265)+KD237)","v":20.257442270122674},{"$f":"KF235+KH235*COS(RADIANS(KD265)+KD237)","v":127.09418358926418},{"$f":"IF(KE236>KE265,ATAN((KF236-KF265)/(KE236-KE265)),ATAN((KF236-KF265)/(KE265-KE236)))","v":0.42779082131018259},{"$f":"IF(KE236>KE265,(KE236-KE265)/COS(KG265),(KE265-KE236)/COS(KG265))","v":6.6861324802369353},null,null,{"$f":"'متغیرها '!C807","v":0},"j10",null,null,{"$f":"KK291","v":5},{"$f":"KL291","v":16.375},"j29",null,{"$f":"-KO265+KR231","v":5},{"$f":"KP265","v":16.375},"j''29",null,{"$f":"KW264","v":52.951349793964098},{"$f":"KK272+KL250+KK268","v":27.75},"j'25",null,{"$f":"KW269","v":5},{"$f":"KX269","v":16.375},"j'29",null,null,null,null,null,{"$f":"LE232","v":45.533251940759321},{"$f":"LF232","v":16.375},{"$f":"LG232","v":"j101"},null,null,null,null,null,null,"نقطه تقاطع"," شیفتd''4b6",{"$f":"(LU263-LU261+LT261*((LU262-LU261)/(LT262-LT261))-LT263*((LU264-LU263)/(LT264-LT263)))/(((LU262-LU261)/(LT262-LT261))-((LU264-LU263)/(LT264-LT263)))","v":16.238134844040008},{"$f":"LU261+(LT265-LT261)*((LU262-LU261)/(LT262-LT261))","v":131.14066327768299},null,"m19",{"$f":"ATAN((LX244-LX246)/(LY244-LY246))","v":0.10150085026858111},null,null,{"$f":"LX256","v":28.96284988906315},{"$f":"LY256","v":128.54153680565952},"شیفتb14",null,{"$f":"-MA265+MF212","v":-18.96284988906315},{"$f":"MB265","v":128.54153680565952},"شیفتb14",null,{"$f":"LX255","v":22.736136122695036},{"$f":"LY255","v":131.48095154050506},"شیفتb10",null,{"$f":"-MI265+MN212","v":-12.736136122695036},{"$f":"MJ265","v":131.48095154050506},"شیفتb10",null,{"$f":"LX254","v":20.697248422425545},{"$f":"LY254","v":135.89075991533232},"شیفتb6",null,{"$f":"-MQ265+MV212","v":-10.697248422425545},{"$f":"MR265","v":135.89075991533232},"شیفتb6",null,{"$f":"LX253","v":20.850156966482285},{"$f":"LY253","v":142.05015558867842},"شیفتb12",null,{"$f":"-MY265+ND212","v":-10.850156966482285},{"$f":"MZ265","v":142.05015558867842},"شیفتb12",null,{"$f":"LX252","v":21.207820765101573},{"$f":"LY252","v":147.08968299870722}," شیفت b16",null,{"$f":"-NG265+NL212","v":-11.207820765101573},{"$f":"NH265","v":147.08968299870722}," شیفت b16",null,null,null,null,null,null,null,{"$f":"NU264","v":16.9973544973545},{"$f":"NV264+NV238","v":8.1999999999999993},"w14",null,"h8",{"$f":"NZ264-0.5*NZ255","v":-2.9904761904761896},{"$f":"OA260","v":5.8}]
[null,null,null,null,null,{"$f":"J236","v":-7.1499999999999986},{"$f":"K236","v":120.6},"e1",null,null,null,null,null,null,null,null,null,null,{"$f":"ATAN((S268-S266)/(R266-R268))","v":0.27982976433148365},"زاویه سرشانه با افق",null,"(b5 →b6)",{"$f":"0.4*W266","v":5.4915344615799162},null,null,null,null,"c12",{"$f":"AC269+0.27*H130+TAN(AC265)*(AD269-AD270)","v":33.336556925821561},{"$f":"BX132","v":131.39223733364972},null,{"$f":"BD152","v":14.764999999999999},{"$f":"BE152","v":50.5},"3'",null,{"$f":"AJ267","v":-8.6593455792388241},{"$f":"AK267","v":147.73757692626862},"b2  ..",null,{"$f":"BD150-AO274","v":0},{"$f":"BE150-AO275","v":45.5},1,null,{"$f":"AN280+AO274","v":19.737376929978453},{"$f":"AO280+AO275","v":157.92716450668192},"2n",null,null,null,"رسم انحنا پهلو با شیفت",null,"قرینه",{"$f":"2*C102","v":10},null,null,{"$f":"BD269+BE265*0.15*(BD272-BD269)","v":0.20062903517793806},{"$f":"BE272+0.3*BE265*(BE269-BE272)","v":70.656091496911699},"7n'",null,null,null,null,null,null,null,null,null,null,null,null,null,"نقطه خروجی پایین","c2",{"$f":"BV271+BV265*COS(BU268)","v":22.524427145990664},{"$f":"BW271+BV265*SIN(BU268)","v":114.76147632060615},null,null,{"$f":"IF(BE241=1,KM320,BZ260)+BX256","v":14.862500000000001},{"$f":"IF(BE241=1,KN320,CA260)+BX257","v":83.4},"b14",null,{"$f":"-BZ270+CE227","v":-4.8625000000000007},{"$f":"CA270","v":83.4},"b14",null,null,null,null,null,null,null,null,null,null,null,null,null,null,null,null,null,null,null,null,null,null,null,null,{"$f":"DE260","v":9.5124999999999993},{"$f":"CY258+BI97","v":67.512448946462314},"m12",null,{"$f":"DI262","v":46.531894834005804},{"$f":"DJ262","v":80.855896622129563},"پشتm8",null,{"$f":"DE246","v":25.083567961165048},{"$f":"DF246","v":103.1},"s2",null,null,null,null,null,null,null,null,null,null,null,null,null,null,{"$f":"'متغیرها '!C411","v":5},"p23",null,{"$f":"EG271","v":4.5379132415936683},{"$f":"EH271+ED268*(EH268-EH271)","v":56.403199999999998},"p5",null,{"$f":"EG247","v":31.201967432478106},{"$f":"EH247","v":49.988346053418965},"p22",null,{"$f":"-EK270+EP230","v":-21.201967432478106},{"$f":"EL270","v":49.988346053418965},"p22",null,null,null,null,null,null,null,null,null,null,null,null,null,null,null,null,null,null,null,{"$f":"CV180","v":6.9499999999999993},{"$f":"CW180","v":110},{"$f":"CX180","v":"44 یا d1"},null,{"$f":"-FK270+FP230","v":3.0500000000000007},{"$f":"FL270","v":110},{"$f":"DB180","v":"44 یا d1"},null,{"$f":"C100","v":5},"شیفت افقی کل جلو",null,null,null,null,null,null,null,null,null,null,null,null,null,null,null,null,null,null,null,null,null,null,null,null,null,null,null,null,null,null,null,null,null,null,null,null,null,null,null,"نقطه اول از خط اول","a7",{"$f":"HN239","v":25.86368182621905},{"$f":"HO239","v":122.89373660509669},null,null,null,null,null,null,null,null,null,null,{"$f":"HR236","v":14.882168717847909},{"$f":"HS236+HI259","v":122.05878953630189},"a41",null,null,null,"کاسه پایین راست",null,{"$f":"-HN258+HH242-HH241","v":-6.1839200000000005},{"$f":"HO258","v":118.11837824800087},"a26",null,{"$f":"-HR236+HH242","v":-4.8821687178479092},{"$f":"HS236+HI259","v":122.05878953630189},"a41",null,null,20,{"$f":"IN257+IQ257*SIN(RADIANS(IM270)+IM259)","v":27.328937244355814},{"$f":"IO257+IQ257*COS(RADIANS(IM270)+IM259)","v":122.7197658590453},{"$f":"IF(IN258>IN270,ATAN((IO258-IO270)/(IN258-IN270)),ATAN((IO258-IO270)/(IN270-IN258)))","v":1.425832055400494},{"$f":"IF(IN258>IN270,(IN258-IN270)/COS(IP270),(IN270-IN258)/COS(IP270))","v":4.1790946678363605},null,null,null,{"$f":"HR256","v":16.183920000000001},{"$f":"HS256","v":118.11837824800087},"a62",null,null,null,null,null,null,null,{"$f":"IU267","v":8.3206503999999999},{"$f":"IV267","v":121.25750368261788},"e38",null,"مولفه افقی","مولفه عمودی","اسم نقطه ",null,"نقطه  خروجی چرخیده",null,null,null,null,null,null,null,5.9963920000000002,123.80337088276509,"e27",null,{"$f":"-JE259+IY263","v":4.0036079999999998},{"$f":"JF259","v":123.80337088276509},"e27",null,null,64,{"$f":"KE235+KH235*SIN(RADIANS(KD270)+KD237)","v":21.034818448903316},{"$f":"KF235+KH235*COS(RADIANS(KD270)+KD237)","v":126.19286514391351},{"$f":"IF(KE236>KE270,ATAN((KF236-KF270)/(KE236-KE270)),ATAN((KF236-KF270)/(KE270-KE236)))","v":0.49176518327492369},{"$f":"IF(KE236>KE270,(KE236-KE270)/COS(KG270),(KE270-KE236)/COS(KG270))","v":7.7832995119595232},null,null,"متغیرهای محاسبه ای جلو ",null,null,null,null,null,null,null,null,null,null,null,{"$f":"KW260+(1+KK264)*(KW267-KW266)","v":52.951349793964098},{"$f":"KX268","v":16.375},"j'30",null,null,null,null,null,null,null,null,null,{"$f":"LE234","v":45.533251940759321},5,"j103",null,null,null,null,null,null,"نقطه اول از خط دوم"," یا  22",{"$f":"IF(LU268>LU271,LO221,LO220)","v":17.18},{"$f":"IF(LU268>LU271,LP221,LP220)","v":110},null,"اسم نقطه","مولفه افقی","مولفه عمودی",null,{"$f":"LX243","v":16.514907796719623},{"$f":"LY243","v":124.92834747011277},"شیفتd4  b14''",null,{"$f":"-MA270+MF212","v":-6.5149077967196227},{"$f":"MB270","v":124.92834747011277},"شیفتd4  b14''",null,{"$f":"LX236+LX250","v":16.001610552932412},{"$f":"LY236+LX251","v":127.31920835782979},"شیفتd4  b10''",null,{"$f":"-MI270+MN212","v":-6.0016105529324122},{"$f":"MJ270","v":127.31920835782979},"شیفتd4  b10''",null,{"$f":"LX231","v":16.238134844040008},{"$f":"LY231","v":131.14066327768299},"شیفتd4  b6''",null,{"$f":"-MQ270+MV212","v":-6.2381348440400082},{"$f":"MR270","v":131.14066327768299},"شیفتd4  b6''",null,{"$f":"LX225","v":16.571557884091213},{"$f":"LY225","v":135.71070938441954},"شیفتd4  b12''",null,{"$f":"-MY270+ND212","v":-6.571557884091213},{"$f":"MZ270","v":135.71070938441954},"شیفتd4  b12''",null,{"$f":"LX219","v":16.93088172477928},{"$f":"LY219","v":139.46151372096895},"شیفتd4  b16''",null,{"$f":"-NG270+NL212","v":-6.9308817247792796},{"$f":"NH270","v":139.46151372096895},"شیفتd4  b16''",null,null,null,null,null,null,null,{"$f":"NU256","v":-25},{"$f":"NV268","v":9},"w19",null,"h13",{"$f":"NZ266","v":0.60952380952381024},{"$f":"OA267","v":6.1},{"$f":"NZ262","v":22.61904761904762},{"$f":"OA262","v":5.8},{"$f":"NY262","v":"w5"}]
[null,null,null,null,null," یقه قایقی در  جلو پیراهن بدون ساسون سرشانه",null,null,null,null,null,null,null,null,null,null,null,null,{"$f":"W266+AX99","v":18.728836153949789},{"$f":"AX98+W265","v":147.96584060086204},"b2  ..",null,{"$f":"-S273+Y264","v":-8.7288361539497892},{"$f":"T273","v":147.96584060086204},"b2  ..",null,null,"c5",{"$f":"BD152+0.5*(AC271-BD152)","v":32.639556758434388},{"$f":"BE152+0.3*(AD271-BE152)","v":52.236895381572921},null,null,null,null,null,{"$f":"-M281-AK265","v":5},{"$f":"N281","v":140.97041326438926},26,null,null,{"$f":"1*(SQRT(POWER(AR141-AR146,2)+POWER(AS141-AS146,2))+SQRT(POWER(AR146-AR144,2)+POWER(AS146-AS144,2))+SQRT(POWER(AR144-AR142,2)+POWER(AS144-AS142,2)))","v":8.1600395086109643},"نصف نوار گرد پشت گردن",null,{"$f":"AN267+AO274","v":19.737376929978453},{"$f":"AO267+AO275","v":147.38461204421603},"22f",null,{"$f":"AV268+AW260+AW262","v":26.124760274958625},{"$f":"AW268+AW261+AW263","v":65.714759218261804},"7n",null,{"$f":"-AV273+BA270","v":-16.124760274958625},65.714759218261804,"7n",null,null,null,null,null,null,null,null,null,null,null,null,null,null,null,null,null,null,null,null,null,null,null,{"$f":"IF(BE241=1,KM313,BZ260)+BX256","v":14.862500000000001},{"$f":"IF(BE241=1,KN313,CA260)+BX257","v":45.5},"b7",null,{"$f":"-BZ273+CE227","v":-4.8625000000000007},{"$f":"CA273","v":45.5},"b7",null,null,null,null,null,null,null,null,null,null,null,null,null,null,null,null,null,null,"فاق پشت","s'14",{"$f":"O580-0.33*DA274+0.4*'متغیرها '!C417*'متغیرها '!C418*DA274","v":40.487551053537686},null,null,null,{"$f":"BS140+BT130","v":28.25},{"$f":"BT140","v":124.7739048933077},"شیفت 14",null,{"$f":"DI275","v":2.6774563106796117},{"$f":"DJ275","v":84.86833280438421},"m9'",null,null,"خط جلو مایو متصل به دکلته",null,null,null,null,null,null,null,null,null,null,null,null,null,null,null,null,null,null,{"$f":"EC252-(ED252-EH273)*TAN(RADIANS(ED270))","v":23.247700388235955},{"$f":"ED249","v":50.5},"p8",null,{"$f":"EG246","v":30.796999999999997},{"$f":"EH246","v":79.504346053418971},"p21",null,{"$f":"-EK273+EP230","v":-20.796999999999997},{"$f":"EL273","v":79.504346053418971},"p21",null,null,null,null,null,null,null,null,null,null,null,null,null,null,null,null,null,null,null,null,null,null,null,null,null,null,null,{"$f":"C103","v":5},"شیفت عمودی پشت",null,null,null,null,null,null,null,null,null,{"$f":"GD265+FS272","v":12.467615275126056},{"$f":"GE265+FS273","v":149.79309751611007},"30d",null,null,null,null,null,null,null,null,null,null,null,null,null,null,null,null,null,null,null,null,null,null,null,null,null,null,null,"نقطه دوم از خط دوم","a35",{"$f":"HN267","v":20.268937529462356},{"$f":"HO267","v":129.54675741104018},null,null,null,null,null,null,null,null,null,null,{"$f":"HR238","v":14.432768126387831},125.99920082460291,"a43",null,{"$f":"HN258","v":16.183920000000001},{"$f":"HO258+HI259","v":118.11837824800087},"a26",null,{"$f":"-HN260+HH242-HH241","v":-10.055824730487622},{"$f":"HS257","v":118.35714616585565},"a28",null,{"$f":"-HR238+HH242","v":-4.4327681263878311},{"$f":"HS238","v":125.99920082460291},"a43",null,null,26,{"$f":"IN257+IQ257*SIN(RADIANS(IM273)+IM259)","v":27.31835688158597},{"$f":"IO257+IQ257*COS(RADIANS(IM273)+IM259)","v":121.47994714353176},{"$f":"IF(IN258>IN273,ATAN((IO258-IO273)/(IN258-IN273)),ATAN((IO258-IO273)/(IN273-IN258)))","v":1.4608947748198506},{"$f":"IF(IN258>IN273,(IN258-IN273)/COS(IP273),(IN273-IN258)/COS(IP273))","v":5.4077043604783031},null,null,null,null,null,null,null,null,null,null,null,null,null,{"$f":"IU264","v":6.9499999999999993},{"$f":"JF272","v":112.49709421589954},"e41",null,null,null,null,null,null,null,null,null,null,null,null,null,9.2673688569620314,126.83568744324216,"e28",null,{"$f":"-JE260+IY263","v":0.73263114303796861},{"$f":"JF260","v":126.83568744324216},"e28",null,null,"e23",{"$f":"KE235+KH235*SIN(KF271+KD237)","v":21.034818448903316},{"$f":"KF235+KH235*COS(KF271+KD237)","v":126.19286514391351},"راس سوم ",null,null,null,{"$f":"IF(KK261<1,KK261*I107,IF(KK261<2,I107+(KK261-1)*(I108-I107),IF(KK261<3,I108+(KK261-2)*(I105-I108),I105+(KK261-3)*(I127-I126))))","v":11.375},"j06",null,null,null,null,null,null,null,null,null,null,null,null,null,null,null,null,null,null,null,null,null,null,{"$f":"LE231","v":5},{"$f":"LF231","v":16.375},{"$f":"LG231","v":"j100"},null,null,null,null,null,null,null,null,null,null,null,"m7",{"$f":"IF(LX259=1,LX227,IF(LX259=2,LX226,IF(LX259=3,LX228,IF(LX259=4,LX229,LX213))))","v":14.171999999999999},{"$f":"IF(LX259=1,LY227,IF(LX259=2,LY226,IF(LX259=3,LY228,IF(LX259=4,LY229,LY213))))","v":129.41230968859617},null,{"$f":"LX247","v":16.204999999999998},{"$f":"LY247","v":131.88439243697479},40,null,{"$f":"-MA273+MF212","v":-6.2049999999999983},{"$f":"MB273","v":131.88439243697479},40,null,{"$f":"LX247","v":16.204999999999998},{"$f":"LY247","v":131.88439243697479},40,null,{"$f":"-MI273+MN212","v":-6.2049999999999983},{"$f":"MJ273","v":131.88439243697479},40,null,{"$f":"LX247","v":16.204999999999998},{"$f":"LY247","v":131.88439243697479},40,null,{"$f":"-MQ273+MV212","v":-6.2049999999999983},{"$f":"MR273","v":131.88439243697479},40,null,{"$f":"LX247","v":16.204999999999998},{"$f":"LY247","v":131.88439243697479},40,null,{"$f":"-MY273+ND212","v":-6.2049999999999983},{"$f":"MZ273","v":131.88439243697479},40,null,{"$f":"LX247","v":16.204999999999998},{"$f":"LY247","v":131.88439243697479},40,null,{"$f":"-NG273+NL212","v":-6.2049999999999983},{"$f":"NH273","v":131.88439243697479},40,null,null,null,null,null,null,null,{"$f":"NU272","v":-19.37830687830688},{"$f":"NV272+NV238","v":10.600000000000001},"w22"]
[null,null,null,null,null,null,null,null,null,null,null,null,{"$f":"F277","v":5},{"$f":"G277","v":140.97041326438926},{"$f":"H277","v":26},null,null,null,null,null,null,null,null,null,null,null,null,"c8",{"$f":"AC280+(AC270-AC269)","v":34.725320932488742},{"$f":"AD280-(AD269-AD270)","v":130.82937645139017},null,{"$f":"BO176","v":4.8624999999999998},{"$f":"BP176","v":50.5},47,null,{"$f":"-AF281+AK275","v":5.1375000000000002},{"$f":"AG281","v":50.5},47,null,{"$f":"AN270","v":0},{"$f":"AO270+'متغیرها '!C423*25*COS(RADIANS(55))","v":59.839410908776152},"3n",null,{"$f":"AR266","v":12.460665312485961},{"$f":"AS266","v":149.76712499807095},{"$f":"AT266","v":25},null,null,null,null,null,null,null,null,null,null,null,null,null,null,null,null,null,null,null,null,null,null,null,null,null,"متغیر ورودی طول","a21",{"$f":"'متغیرها '!C768","v":0},null,null,null,{"$f":"IF(BE241=1,KM326,BZ260)+BX256","v":16.849490787272785},{"$f":"IF(BE241=1,KN326,CA260)+BX257","v":103.96},"b21",null,{"$f":"-BZ281+CE227","v":-6.849490787272785},{"$f":"CA281","v":103.96},"b21",null,null,null,null,null,null,null,null,null,null,null,null,null,null,null,null,null,null,null,null,null,null,null,null,{"$f":"FD231","v":5},{"$f":"FE231","v":103.58445930171638},"p26",null,{"$f":"DE245","v":5},{"$f":"DF245","v":103.1},"s1",null,{"$f":"DE247","v":-7.1499999999999986},{"$f":"DF247","v":103.1},"s'1",null,null,null,null,null,{"$f":"-DM274+DN289","v":5},{"$f":"DN274","v":103.1},"s1",null,null,null,null,null,null,null,null,null,null,null,null,null,null,null,null,null,null,null,null,null,null,null,null,null,null,null,null,null,null,null,null,null,null,null,null,null,null,null,null,null,null,null,null,null,null,null,null,null,null,null,null,null,null,null,null,null,null,null,null,null,null,null,null,null,null,null,null,null,null,null,null,null,null,null,null,null,null,null,null,null,null,null,{"$f":"GN232","v":12.460665312485961},{"$f":"GO232","v":149.76712499807095},25,null,null,"مولفه افقی","مولفه عمودی","اسم نقطه ",null,"نقطه  خروجی چرخیده",null,null,null,null,null,null,null,null,null,null,null,null,null,{"$f":"HN262","v":20.413800913109526},{"$f":"HO262+HI259","v":123.79843415127417},"a30",null,null,null,null,null,null,null,null,null,null,42,{"$f":"IN257+IQ257*SIN(RADIANS(IM281)+IM259)","v":26.661649123940499},{"$f":"IO257+IQ257*COS(RADIANS(IM281)+IM259)","v":118.24893271205697},{"$f":"IF(IN258>IN281,ATAN((IO258-IO281)/(IN258-IN281)),ATAN((IO258-IO281)/(IN281-IN258)))","v":1.5634077053617599},{"$f":"IF(IN258>IN281,(IN258-IN281)/COS(IP281),(IN281-IN258)/COS(IP281))","v":8.6063284901011841},null,null,null,null,"رادیان",{"$f":"JC260","v":0.39044464612606955},"زاویه چرخش","چرخش مخالف عقربه های ساعت",null,null,null,null,null,{"$f":"JE280+0.45*(JE282-JE280)","v":10.270797943125476},{"$f":"JF280+0.85*(JF282-JF280)","v":125.75881506849771},"e49",null,"رادیان",{"$f":"-JC257","v":-0.43382738458452169},"زاویه چرخش","چرخش مخالف عقربه های ساعت",null,null,null,null,null,null,null,null,{"$f":"JE264","v":6.7448375526203606},{"$f":"JF264","v":116.3466291172349},"e32",null,{"$f":"-JE264+IY263","v":3.2551624473796394},{"$f":"JF264","v":116.3466291172349},"e32",null,null,null,null,null,null,null,null,null,"مولفه افقی","مولفه عمودی","اسم نقطه ",null,null,null,null,null,null,null,null,null,null,null,null,null,null,null,null,null,null,null,null,null,null,null,null,null,null,null,null,null,null,null,null,null,null,null,"m15",{"$f":"LX272+LX278-LX277","v":17.087999999999994},{"$f":"LY272","v":132.72621442094558},null,{"$f":"LX256","v":28.96284988906315},{"$f":"LY256","v":128.54153680565952},"شیفتb8 تغییر به b14",null,{"$f":"-MA281+MF212","v":-18.96284988906315},{"$f":"MB281","v":128.54153680565952},"شیفتb8 تغییر به b14",null,{"$f":"LX255","v":22.736136122695036},{"$f":"LY255","v":131.48095154050506},"شیفتb10",null,{"$f":"-MI281+MN212","v":-12.736136122695036},{"$f":"MJ281","v":131.48095154050506},"شیفتb10",null,{"$f":"LX254","v":20.697248422425545},135.89075991533232,"شیفتb6",null,{"$f":"-MQ281+MV212","v":-10.697248422425545},{"$f":"MR281","v":135.89075991533232},"شیفتb6",null,{"$f":"LX253","v":20.850156966482285},142.05015558867842,"شیفتb12",null,{"$f":"-MY281+ND212","v":-10.850156966482285},{"$f":"MZ281","v":142.05015558867842},"شیفتb12",null,{"$f":"LX252","v":21.207820765101573},147.08968299870722,"شیفتb16",null,{"$f":"-NG281+NL212","v":-11.207820765101573},{"$f":"NH281","v":147.08968299870722},"شیفتb16",null,null,null,null,null,null,null,{"$f":"NU280","v":11.706349206349207},{"$f":"NV279+NV238","v":13.000000000000004},"w30",null,null,null,"انحنا راستگرد ",null,null,{"$f":"OA281","v":"انحنا راستگرد "}]
[null,null,null,null,null,null,null,null,null,null,null,null,null,null,null,null,null,null,null,null,null,null,null,null,null,null,null,"نقطه بالا یقه",{"$f":"BW105","v":12.460665312485961},{"$f":"BX105","v":149.76712499807095},25,{"$f":"AC293","v":5},{"$f":"AD293","v":140.97041326438926},{"$f":"AE293","v":26},null,null,null,null,null,null,null,null,null,null,null,null,null,null,null,null,null,null,null,null,null,null,null,null,null,null,null,null,{"$f":"BK290","v":5},{"$f":"0+BE248","v":55.5},1,null,{"$f":"-BK292-BN226","v":5},{"$f":"BL292","v":55.5},1,null,null,null,null,null,null,null,null,null,null,null,null,null,null,null,null,null,null,null,null,null,null,null,null,null,null,null,null,null,null,null,null,null,null,null,null,null,null,null,null,null,null,null,null,null,null,null,null,null,null,null,null,null,null,null,null,null,null,null,null,null,null,null,null,null,null,null,null,null,null,null,null,null,null,null,null,null,null,null,null,null,null,null,null,null,null,null,null,null,null,null,null,null,null,null,null,null,null,null,null,null,null,null,null,null,null,null,null,null,null,null,null,null,null,null,null,null,null,null,null,null,null,null,null,null,null,null,null,null,null,null,null,null,null,null,null,null,null,null,null,null,null,null,null,null,null,"رادیان",{"$f":"2*HL232","v":0.22044053561760357},"زاویه چرخش","چرخش مخالف عقربه های ساعت",null,null,null,null,null,null,null,null,null,null,null,null,null,null,null,null,null,null,null,null,null,null,null,null,null,null,null,64,{"$f":"IN257+IQ257*SIN(RADIANS(IM292)+IM259)","v":24.368146777422961},{"$f":"IO257+IQ257*COS(RADIANS(IM292)+IM259)","v":114.35361893132307},{"$f":"IF(IN258>IN292,ATAN((IO258-IO292)/(IN258-IN292)),ATAN((IO258-IO292)/(IN292-IN258)))","v":1.3844380683666826},{"$f":"IF(IN258>IN292,(IN258-IN292)/COS(IP292),(IN292-IN258)/COS(IP292))","v":12.721676865917654},null,null,null,null,"پروسیجر چرخش یک نقطه حول نقطه دیگر",null,null,null,null,null,"کامل شده",null,null,{"$f":"IZ278","v":17.687315411368214},{"$f":"JA278+IZ247","v":119.04171112885081},"e59",null,"پروسیجر چرخش یک نقطه حول نقطه دیگر",null,null,null,null,null,"کامل شده","نقطه اول از خط دوم","f7",{"$f":"JC240","v":25.86368182621905},{"$f":"JC241","v":122.89373660509669},null,10.6449088,119.37402842184767,"e37",null,{"$f":"-JE269+IY263","v":-0.64490879999999962},{"$f":"JF269","v":119.37402842184767},"e37",null,"رادیان",{"$f":"-JC257","v":-0.43382738458452169},"زاویه چرخش","چرخش مخالف عقربه های ساعت",null,null,null,null,{"$f":"KK282+(1+KK264)*(KK289-KK288)","v":45.533251940759321},{"$f":"KL290","v":16.375},"j30",null,null,null,null,null,null,null,null,null,null,null,null,null,null,null,null,null,null,null,null,null,-5.1333129851898303,16.375,"j117",null,null,{"$f":"BK170","v":4.8624999999999998},{"$f":"BL170","v":88.4},48,null,{"$f":"-LN292+LS282","v":5.1375000000000002},{"$f":"LO292","v":88.4},48,null,null,null,null,null,null,null,null,null,null,null,null,null,null,null,null,null,null,null,null,null,null,null,null,null,null,null,null,null,null,null,null,null,null,null,null,null,null,null,null,null,null,null,null,null,null,null,null,null,null,null,null,{"$f":"NU290","v":-25},{"$f":"NV290+NV238","v":16.200000000000006},"w41",null,"g8",{"$f":"NZ288-OA283*SIN(RADIANS(40)+ATAN((NZ288-NZ289)/(OA288-OA289)))","v":-25.471690383396496},{"$f":"OA288-OA283*COS(RADIANS(40)+ATAN((NZ288-NZ289)/(OA288-OA289)))","v":5.9709574517071919},{"$f":"NZ291","v":-25.186886027104613},{"$f":"OA291","v":6.0896259334954772},{"$f":"NY291","v":"g7"}]
[null,null,null,null,null,"نقاط  ورودی",null,null,null,"محاسبات",null,null,"رسم",null,null,null,"قرینه",{"$f":"2*C102","v":10},null,null,null,null,null,null,null,null,null,"sq2",{"$f":"AC292-(AD292-AD293)*TAN(RADIANS(AC288))","v":10.590866512372243},{"$f":"AD293","v":140.97041326438926},null,null,null,null,null,null,null,null,null,null,null,null,null,null,null,null,null,null,null,null,null,null,null,null,null,null,null,null,null,null,null,null,null,null,null,null,null,null,null,null,null,null,null,null,null,null,null,null,null,null,null,null,null,null,null,null,null,null,null,null,null,null,null,null,null,null,null,null,null,null,null,null,null,null,null,null,null,null,null,null,null,null,null,null,null,null,null,null,null,null,null,null,null,null,null,null,null,null,null,null,null,null,null,null,null,null,null,null,null,null,null,null,null,null,null,null,null,null,null,null,null,null,null,null,null,null,null,null,null,null,null,null,null,null,null,null,null,null,null,null,null,null,null,null,null,null,null,null,null,null,null,null,null,null,null,null,null,null,null,null,null,null,null,null,null,null,null,null,null,null,null,null,null,null,null,null,null,null,null,null,null,null,null,null,null,{"$f":"HN234","v":14.96392},{"$f":"HO234","v":124.1},"a2","نقطه مرکزی چرخش","مولفه افقی","مولفه عمودی","اسم نقطه ",null,null,null,null,null,null,null,null,null,null,null,null,null,null,null,null,null,null,null,null,null,null,null,null,null,"مولفه افقی","مولفه عمودی",null,null,null,null,null,null,"مولفه افقی","مولفه عمودی","اسم نقطه ",null,"نقطه  خروجی چرخیده",null,null,null,null,null,null,null,null,"مولفه افقی","مولفه عمودی","اسم نقطه ",null,"نقطه  خروجی چرخیده",null,null,"نقطه تقاطع","f11",{"$f":"(JS292-JS290+JR290*((JS291-JS290)/(JR291-JR290+0.0001))-JR292*((JS293-JS292)/(JR293-JR292+0.0001)))/(((JS291-JS290)/(JR291-JR290+0.0001))-((JS293-JS292)/(JR293-JR292+0.0001)))","v":24.242257229222641},{"$f":"JS290+(JR294-JR290)*((JS291-JS290)/(JR291-JR290+0.0001))","v":121.70982925834583},null,{"$f":"JE263","v":5.9963920000000002},{"$f":"JF263","v":124.39662911723489},"e31",null,{"$f":"-JE263+IY263","v":4.0036079999999998},{"$f":"JF263","v":124.39662911723489},"e31",null,{"$f":"IU249","v":15.495071873612169},{"$f":"IV249","v":125.99920082460291},"a40","نقطه مرکزی چرخش","مولفه افقی","مولفه عمودی","اسم نقطه ",null,{"$f":"KK282","v":5},{"$f":"KL293","v":5},"j32",null,null,null,null,null,null,null,null,null,null,null,null,null,null,null,null,null,null,null,null,null,null,null,null,null,null,null,null,null,null,null,null,null,null,null,{"$f":"CN170","v":6.8494907872727833},{"$f":"CO170","v":108.96},"d1",null,{"$f":"-LW294+MB286","v":3.1505092127272167},{"$f":"LX294","v":108.96},"d1",null,null,null,null,null,null,null,null,null,null,null,null,null,null,null,null,null,null,null,null,null,null,null,null,null,null,null,null,null,null,null,null,null,null,null,null,null,null,null,null,null,null,null,{"$f":"NU286","v":-20.238095238095237},{"$f":"NV292","v":16.200000000000006},"w43",null,null,null,null,{"$f":"NU256","v":-25},{"$f":"NV256","v":6.6},"w3"]
[null,null,null,null,null,null,null,null,null,null,null,null,{"$f":"F297","v":5},{"$f":"G297","v":147.19050526920734},{"$f":"H297","v":24},null,{"$f":"-M301+R294","v":5},{"$f":"N301","v":147.19050526920734},24,null,null,null,null,null,null,null,null,null,null,null,null,null,null,null,null,null,null,null,null,null,null,null,null,null,null,null,null,null,null,null,null,null,null,null,null,null,null,null,null,null,null,null,null,null,null,null,null,null,null,null,null,null,null,null,null,null,null,null,null,null,null,null,null,null,null,null,null,null,null,null,null,null,null,null,null,null,null,null,null,null,null,null,null,null,null,null,null,null,null,null,null,null,null,null,null,null,null,null,null,null,null,null,null,null,null,null,null,null,null,null,null,null,null,null,null,null,null,null,null,null,null,null,null,null,null,null,null,null,null,null,null,null,null,null,null,null,null,null,null,null,null,null,null,null,null,null,null,null,null,null,null,null,null,null,null,null,null,null,null,null,null,null,null,null,null,null,null,null,null,null,null,null,null,null,null,null,null,null,null,null,null,null,null,null,null,null,null,null,null,null,null,null,null,null,null,null,null,null,null,null,null,null,null,null,null,null,null,null,null,null,null,null,null,null,null,null,null,null,null,null,null,null,null,null,null,null,null,null,null,null,null,null,null,null,null,null,null,null,null,null,null,null,null,null,null,null,null,null,null,null,null,null,null,null,null,null,null,null,null,null,null,null,null,null,null,null,null,null,null,null,null,null,null,null,null,null,null,null,null,null,null,null,null,null,null,null,null,null,null,null,null,null,null,null,null,null,null,null,null,null,null,null,null,null,null,null,null,null,null,null,null,null,null,null,null,null,null,null,null,null,null,null,null,null,null,null,null,null,null,null,null,null,null,null,null,null,null,null,null,null,null,null,null,null,null,null,null,null,null,null,null,null,null,null,null,null,null,null,null,null,null,null,null,null,{"$f":"NU292","v":-25},{"$f":"NV300","v":18.600000000000009},"w50",null,"f3",{"$f":"NZ300","v":-20.478095238095236},{"$f":"OA299+OA297*NZ297","v":6.72},{"$f":"NZ300","v":-20.478095238095236},{"$f":"OA300","v":6.4799999999999995},{"$f":"NY300","v":"f2"}]
[null,null,null,null,null,{"$f":"BO164","v":16.204999999999998},{"$f":"BP164","v":131.88439243697479},40,null,{"$f":"F312+IF(G319>0,I317*TAN(K317),-I317*TAN(K316))","v":15.336421510663666},{"$f":"G312-I317","v":108.96},"d2",null,{"$f":"J309","v":6.8494907872727833},{"$f":"K309","v":108.96},{"$f":"L309","v":"d1"},null,{"$f":"CB323","v":14.781420000000001},{"$f":"CC323","v":50.5},"جلو وسطe21",null,"sf2",null,{"$f":"X310","v":14.781420000000001},{"$f":"Y308","v":50.5},null,{"$f":"X317","v":5},{"$f":"Y317","v":109.04},"su4",null,{"$f":"X312","v":14.781420000000001},{"$f":"Y312","v":50.5},"sf9",null,{"$f":"AA351","v":13.842429240287856},{"$f":"AB351","v":113.04},"su6",null,{"$f":"AA347","v":4.4800000000000004},{"$f":"AB347","v":113.04},"s'u5",null,{"$f":"DX324","v":17.108750000000001},{"$f":"DY324","v":50.5},"پشت وسطe21",null,"sf2",null,{"$f":"AW310","v":17.108750000000001},{"$f":"AX308","v":50.5},null,{"$f":"AW317","v":5},{"$f":"AX317","v":111.04},"su4",null,{"$f":"AW312","v":17.108750000000001},{"$f":"AX312","v":50.5},"sf9",null,{"$f":"BD355","v":15.276334370011712},{"$f":"BE355","v":115.04},"su2",null,{"$f":"-AW330+2*AW308","v":4},{"$f":"AX330","v":50.5},"s'p13",null,null,0,"e20",null,{"$f":"BP310+0.3*(BT310-BP310)","v":-4.7814200000000007},{"$f":"BQ310+0.12*(BU310-BQ310)","v":50.5},"e23",null,{"$f":"BT310","v":-4.7814200000000007},{"$f":"BU310","v":50.5},{"$f":"BV310","v":"e21"},null,null,0,"e20",null,{"$f":"CB323","v":14.781420000000001},{"$f":"CC323","v":50.5},{"$f":"CD323","v":"e21"},null,null,0,"e20",null,"(47'→e22)",{"$f":"SQRT(POWER((CO309),2)-POWER((CO310),2))","v":50.64},null,{"$f":"CJ323","v":15.146419999999999},{"$f":"CK323","v":50.5},{"$f":"CL323","v":"e21"},null,null,null,0,"e10",null,{"$f":"CV310+0.3*(CZ310-CV310)","v":5},{"$f":"CW310+0.12*(DA310-CW310)","v":50.5},"e23",null,{"$f":"CZ310","v":5},{"$f":"DA310","v":50.5},{"$f":"DB310","v":"e21"},null,null,0,"e30",null,{"$f":"DH310+0.3*(DL310-DH310)","v":27.030674896982045},{"$f":"DI310+0.12*(DM310-DI310)","v":51.604346053418951},"e23",null,{"$f":"DL315","v":32.030674896982049},{"$f":"DM315","v":52.151669406373543},{"$f":"DN315","v":"e26"},null,{"$f":"-DP311+DU307","v":-22.030674896982049},52.151669406373543,"e26",null,null,0,"e50",null,{"$f":"DX324","v":17.108750000000001},{"$f":"DY324","v":50.5},{"$f":"DZ324","v":"e21"},null,{"$f":"-EB311+EG307","v":-7.1087500000000006},50.5,"e21",null,null,0,"e50",null,{"$f":"EJ325","v":15.301249999999996},{"$f":"EK325","v":50.5},{"$f":"EL325","v":"e21"},null,{"$f":"-EN311+ES307","v":-5.301249999999996},50.5,"e21",null,{"$f":"-CQ311-HY101","v":-5.1464199999999991},{"$f":"CR311","v":50.5},"e21",null,"خط اول","نقطه اول","d3",{"$f":"FA372","v":0},{"$f":"FB372","v":119.1},null,null,null,null,null,null,{"$f":"FD367+FA376","v":15.786493236104054},{"$f":"FE367+FA377","v":142.54673828795876},"g7",null,{"$f":"FD351+FA376","v":15.348067003823028},{"$f":"FE351+FA377","v":132.71474569387823},"g7",null,{"$f":"-FG312-GA306","v":5},{"$f":"FH312","v":50.5},1,null,{"$f":"-FK311-GA306","v":-5.7864932361040538},{"$f":"FL311","v":142.54673828795876},"g7",null,{"$f":"-FO311-GA306","v":-5.3480670038230276},{"$f":"FP311","v":132.71474569387823},"g7",null,"خط اول","نقطه اول","d3",{"$f":"GM355","v":0},{"$f":"GN355","v":119.1},null,null,{"$f":"GM355","v":0},{"$f":"GN355","v":119.1},"d3",null,{"$f":"GL311+GP354","v":5},{"$f":"GM311+GP355","v":124.1},"d3",null,null,null,null,null,null,null,null,null,null,null,null,null,null,null,null,null,null,null,null,null,null,null,null,null,null,null,null,null,"b6",{"$f":"CE134-HW320","v":15.301395435494697},{"$f":"CF134-HW321","v":131.29470089517633},null,"نقطه دوم از خط دوم",40,{"$f":"HW317","v":11.204999999999998},{"$f":"HX317","v":126.88439243697479},null,{"$f":"IB361-HW341+HW319","v":11.138100474806508},{"$f":"IC361","v":137.04210831191742},"شیفتd4  b16''",null,{"$f":"IB368-HW341+HW319","v":10.672502016574823},{"$f":"IC368","v":132.18195566275836},"شیفتd4  b12''",null,{"$f":"IB312-HW341+HW319","v":10.340284994720308},{"$f":"IC312","v":122.95002770592627},"شیفتd4  b10''",null,{"$f":"J354","v":24.694757230700372},{"$f":"K354","v":109.11991329666904},"d3",null,{"$f":"IF((IQ310-IQ309)>(IQ313-IQ312),0,(IQ313-IQ312-IQ310+IQ309))+IQ311-IR347","v":24.329757230700373},{"$f":"IR311-IR348+IQ316-IQ317","v":107.95999999999998},"a5",null,{"$f":"-IU311+IR325","v":-14.329757230700373},107.95999999999998,"a'5",null,{"$f":"IU320","v":-7.1499999999999986},{"$f":"IV320","v":50.5},"a14",null,{"$f":"JG309-(JG308-JG310)","v":-15.266625970379661},{"$f":"JH309","v":50.5},"c'60",null,null,null,null,null,null,null,null,null,{"$f":"IU320","v":-7.1499999999999986},{"$f":"IV320","v":50.5},"a14",null,{"$f":"IY320","v":17.149999999999999},{"$f":"IZ320","v":50.5},"a'14",null,17.162469477784743,50.782299999999999,"5n'",null,{"$f":"-KA311+IR325","v":-7.1624694777847431},50.782299999999999,"5n'",null,{"$f":"J323","v":25.876465958026234},{"$f":"K323","v":109.06434605341894},"d3",null,{"$f":"IF((KI310-KI309)>(KI313-KI312),0,(KI313-KI312-KI310+KI309))+KI311-KJ327","v":27.683965958026238},{"$f":"KJ311-KJ328+IQ316-IQ318-KJ322","v":107.95999999999998},"b5",null,{"$f":"-KM311+KJ323+KJ324+KJ334","v":-17.683965958026238},107.95999999999998,"b'5",null,{"$f":"KM312","v":30.062500000000004},{"$f":"KN312","v":89.40000000000002},"b6",null,{"$f":"KY310","v":-13.282522223681289},{"$f":"KZ309","v":50.5},"c'53",null,null,null,null,null,null,null,null,null,{"$f":"KM357","v":30.062500000000004},{"$f":"KN357","v":89.40000000000002},"b62",null,{"$f":"KQ357","v":-20.062500000000004},{"$f":"KR357","v":89.40000000000002},"b'6",null,null,15.661631599545775,106.96,"a4",null,{"$f":"LT313+(LU313-LY311)*((LT314-LT313)/(LU313-LU314))","v":25.637580750243373},{"$f":"LU313-(LU329-1)*(LU313-LU314)/39","v":63.746153846153845},"an11",null,{"$f":"LT310","v":14.781420000000001},{"$f":"LU310","v":101.14},"a3",null,null,null,null,null,null,{"$f":"CI117","v":19.737376929978453},147.38461204421603,"22f",null,null,null,null,null,{"$f":"MO352","v":19.876605829047477},{"$f":"MP352","v":147.93644320395154},"c22",null,{"$f":"-MS311+ML327","v":-9.8766058290474774},{"$f":"MT311","v":147.93644320395154},"c22",null,null,{"$f":"CQ120","v":19.744326892618545},147.41058456225514,"18f",null,null,null,null,null,{"$f":"NF352","v":19.843725671578355},{"$f":"NG352","v":147.75108411824334},"c22",null,{"$f":"-NJ311+NG326","v":-9.8437256715783548},{"$f":"NK311","v":147.75108411824334},"c22",null,null,null,null,{"$f":"NU309","v":22.61904761904762},{"$f":"NV309+NV238","v":21.800000000000011},"w60",null,"g5",{"$f":"NZ307+0.7*(NZ310-NZ307)","v":22.899047619047618},{"$f":"OA307+0.28*(OA310-OA307)","v":6.7119999999999997},{"$f":"NZ310","v":23.019047619047619},{"$f":"OA310","v":7},{"$f":"NY310","v":"g4"}]
[null,null,null,null,null,{"$f":"BO167","v":15.23},{"$f":"BP167","v":110},34,null,null,null,null,null,{"$f":"J311","v":15.336421510663666},{"$f":"K311","v":108.96},{"$f":"L311","v":"d2"},null,{"$f":"AZ166","v":13.743919999999999},108,39,null,"sf9",null,{"$f":"R311","v":14.781420000000001},{"$f":"S311","v":50.5},null,{"$f":"-X319+2*X308","v":4.4800000000000004},{"$f":"Y319","v":109.04},"s'u5",null,{"$f":"X311","v":14.781420000000001},{"$f":"Y311","v":50.5},"sf2",null,null,null,null,null,null,null,null,null,{"$f":"BO186","v":15.23},{"$f":"BP186","v":110},34,null,"sf9",null,{"$f":"AQ311","v":17.108750000000001},{"$f":"AR311","v":50.5},null,{"$f":"-AW319+2*AW308","v":5},{"$f":"AX319","v":111.04},"s'u5",null,{"$f":"AW311","v":17.108750000000001},{"$f":"AX311","v":50.5},"sf2",null,null,null,null,null,null,null,null,null,null,{"$f":"'متغیرها '!U54-'متغیرها '!U55","v":42.6},"(c-d)",null,{"$f":"BP310+0.6*(BT310-BP310)","v":-4.7814200000000007},{"$f":"BQ310+0.4*(BU310-BQ310)","v":50.5},"e24",null,{"$f":"BT312","v":-4.7814200000000007},{"$f":"BU312","v":50.5},{"$f":"BV312","v":"e24"},null,null,{"$f":"'متغیرها '!U54-'متغیرها '!U55","v":42.6},"(c-d)",null,{"$f":"CB325","v":14.781420000000001},{"$f":"CC325","v":50.5},{"$f":"CD325","v":"e24"},null,null,{"$f":"'متغیرها '!U54-'متغیرها '!U55","v":42.6},"(c-d)",null,null,"گوده",null,{"$f":"CJ325","v":15.146419999999999},{"$f":"CK325","v":50.5},{"$f":"CL325","v":"e24"},null,null,null,{"$f":"'متغیرها '!U54-'متغیرها '!U55","v":42.6},"(c-d)",null,{"$f":"CV310+0.6*(CZ310-CV310)","v":5},{"$f":"CW310+0.4*(DA310-CW310)","v":50.5},"e24",null,{"$f":"CZ312","v":5},{"$f":"DA312","v":50.5},{"$f":"DB312","v":"e24"},null,null,{"$f":"'متغیرها '!U54-'متغیرها '!U55","v":42.6},"(c-d)",null,{"$f":"DH310+0.6*(DL310-DH310)","v":27.030674896982045},{"$f":"DI310+0.4*(DM310-DI310)","v":51.604346053418951},"e24",null,{"$f":"DL317","v":30.530674896982049},{"$f":"DM317","v":51.878007729896247},{"$f":"DN317","v":"e28"},null,{"$f":"-DP312+DU307","v":-20.530674896982049},51.878007729896247,"e28",null,null,{"$f":"'متغیرها '!U54-'متغیرها '!U55","v":42.6},"(c-d)",null,{"$f":"DX326","v":17.108750000000001},{"$f":"DY326","v":50.5},{"$f":"DZ326","v":"e24"},null,{"$f":"-EB312+EG307","v":-7.1087500000000006},50.5,"e24",null,null,{"$f":"'متغیرها '!U54-'متغیرها '!U55","v":42.6},"(c-d)",null,{"$f":"EJ327","v":15.301249999999996},{"$f":"EK327","v":50.5},{"$f":"EL327","v":"e24"},null,{"$f":"-EN312+ES307","v":-5.301249999999996},50.5,"e24",null,{"$f":"-CQ312-HY101","v":-5.1464199999999991},{"$f":"CR312","v":50.5},"e24",null,null,"نقطه دوم",{"$f":"EZ308","v":"b10"},{"$f":"FA308","v":16.538683264280159},{"$f":"FB308","v":127.59101161939529},null,null,{"$f":"AZ106","v":5},{"$f":"BA106","v":50.5},1,null,{"$f":"FD368+FA376","v":10.393246618052027},{"$f":"FE368+FA377","v":133.32336914397939},"g8",null,{"$f":"FD352+FA376","v":10.174033501911513},{"$f":"FE352+FA377","v":128.4073728469391},"g8",null,{"$f":"-FG313-GA306","v":17.149999999999999},{"$f":"FH313","v":50.5},"1'",null,{"$f":"-FK312-GA306","v":-0.39324661805202688},{"$f":"FL312","v":133.32336914397939},"g8",null,{"$f":"-FO312-GA306","v":-0.1740335019115129},{"$f":"FP312","v":128.4073728469391},"g8",null,null,"نقطه دوم",{"$f":"GE308","v":"b10"},{"$f":"GF308","v":16.538683264280159},{"$f":"GG308","v":127.59101161939529},null,null,null,null,"قرینه",null,null,null,"قرینه",null,null,null,null,null,null,null,null,null,null,null,null,null,null,null,null,null,null,null,null,null,null,null,null,null,null,null,null,null,"b10",{"$f":"CE133-HW320","v":17.745171542480662},{"$f":"CF133-HW321","v":127.09572110290159},null,"نقطه تقاطع"," شیفتd''4b10",{"$f":"(IC310-IC308+IB308*((IC309-IC308)/(IB309-IB308))-IB310*((IC311-IC310)/(IB311-IB310)))/(((IC309-IC308)/(IB309-IB308))-((IC311-IC310)/(IB311-IB310)))","v":11.380284994720308},{"$f":"IC308+(IB312-IB308)*((IC309-IC308)/(IB309-IB308))","v":122.95002770592627},null,null,null,null,null,null,null,null,null,null,null,null,null,{"$f":"AZ176","v":14.781420000000001},{"$f":"BA176","v":101.14},"47'",null,{"$f":"IF((IQ314-IQ313+IQ312-IQ319)>(IU311-IU310+IU308-IU307),IQ314-IR347,IU311)","v":26.3},{"$f":"IR314-IR348","v":87.4},"a6",null,{"$f":"-IU312+IR325","v":-16.3},87.4,"a'6",null,null,null,null,null,{"$f":"JG308+JG308-JG310","v":-16.3},{"$f":"JH308","v":87.4},"c'67",null,{"$f":"IU326","v":5},{"$f":"IV326","v":106.96},"a40",null,{"$f":"IY326","v":5},{"$f":"IZ326","v":106.96},"a'40",null,null,null,null,null,null,null,null,null,{"$f":"IU315","v":25.266625970379661},{"$f":"IV315","v":50.5},"a9",null,{"$f":"-KA312+IR325","v":-15.266625970379661},50.5,"a9",null,{"$f":"BO187","v":17.108750000000001},{"$f":"BP187","v":91.64},"38'",null,{"$f":"IF((KI314-KI313+KI312-KI318)>(KM311-KM310+KM308-KM307),KI314-KJ327,KM311)","v":30.062500000000004},{"$f":"KJ314-KJ328-KJ322","v":89.40000000000002},"b6",null,{"$f":"-KM312+KJ323+KJ324+KJ334","v":-20.062500000000004},89.40000000000002,"b'6",null,{"$f":"KM315","v":28.83817489698205},{"$f":"KN315","v":50.499999999999993},"b9",null,{"$f":"KY308+KY308-KY310","v":-13.282522223681289},{"$f":"KZ308","v":108.45999999999998},"c'54",null,{"$f":"KM362","v":4.8624999999999998},{"$f":"KN362","v":88.4},"b67",null,{"$f":"KQ339","v":-1.0929561489682245},{"$f":"KR339","v":108.96},"b'44",null,{"$f":"KM355","v":28.83817489698205},{"$f":"KN355","v":50.499999999999993},"b60",null,{"$f":"KQ355","v":-18.83817489698205},{"$f":"KR355","v":50.499999999999993},"b'9",null,null,24.329757230700373,107.95999999999998,"a5",null,null,null,null,null,{"$f":"LT311","v":15.661631599545775},{"$f":"LU311","v":106.96},"a4",null,{"$f":"LT310","v":14.781420000000001},{"$f":"LU310","v":101.14},"a3",null,null,19.60211103464302,141.5720864060948,"24f",null,null,{"$f":"ATAN((ML308-ML309)/(MK309-MK308))","v":0.3164156760512522},"a5",null,null,null,null,null,null,null,null,null,null,19.86406690396926,141.18340308122995,"20f",null,null,{"$f":"ATAN((NC308-NC309)/(NB309-NB308))","v":0.3103704178206238},"a5",null,null,null,null,null,null,null,null,null,null,null,null,{"$f":"NU308","v":-25},{"$f":"NV311","v":21.800000000000011},"w61",null,"g6",{"$f":"NZ311","v":22.899047619047618},{"$f":"OA309-OA311+OA307","v":7.2879999999999994}]
[null,null,null,null,null,{"$f":"BO181","v":27.492535621967953},{"$f":"BP181","v":124.71833765005761},10,null,{"$f":"F324+IF(G331>0,I329*TAN(K329),-I329*TAN(K328))","v":25.876465958026234},{"$f":"G324-I329","v":109.06434605341894},"d3",null,null,null,null,null,{"$f":"J339","v":13.842429240287856},{"$f":"K339","v":109.04},"جلو وسطu6 ",null,"su3",null,{"$f":"X320+R320-R324","v":22.60748102225735},{"$f":"Y314+S320-S314","v":109.04},null,{"$f":"X314","v":22.423056271284587},{"$f":"Y314","v":108},"sfp16",null,null,null,null,null,{"$f":"AA356","v":5},{"$f":"AB356","v":110.96},"sd4",null,{"$f":"AA343","v":-12.569334031608825},{"$f":"AB343","v":110.96},"s'd3",null,{"$f":"AQ322","v":6.8824000225333251},{"$f":"AR322","v":111.04},"u5 ",null,"su3",null,{"$f":"AW320+AQ321-AQ325","v":24.016675640861834},{"$f":"AX314+AR321-AR314-AR320","v":111.04},null,{"$f":"AW314","v":23.800635221432781},{"$f":"AX314","v":110},"sfp16",null,null,null,null,null,{"$f":"BD360","v":23.800635221432781},{"$f":"BE360","v":114},"sfp16",null,{"$f":"-AW334+2*AW308","v":-8.1087500000000006},{"$f":"AX334","v":50.5},"s'p23",null,"(47'→52)",{"$f":"SQRT(POWER((BQ309-BQ310),2)+POWER((BP310-BP309),2))","v":50.64},null,null,{"$f":"BT310-0.5*BQ318*COS(BQ328)","v":-4.7814200000000007},{"$f":"BU310-0.5*BQ318*SIN(BQ328)","v":50.5},"e220",null,null,null,"پیلی",null,{"$f":"CB309+CC344","v":14.781420000000001},{"$f":"CC309-CC345","v":50.5},"e21",null,null,null,"پیلی",null,{"$f":"CJ309+CO310","v":15.146419999999999},{"$f":"CK309-CO311","v":50.5},"e21",null,null,null,null,null,null,null,null,null,"(47'→52)",{"$f":"SQRT(POWER((CW309-CW310),2)+POWER((CV310-CV309),2))","v":50.64},null,null,{"$f":"CZ310-0.5*CW318*COS(CW328)","v":5},{"$f":"DA310-0.5*CW318*SIN(CW328)","v":50.5},"e220",null,null,null,"پیلی",null,null,"اوزمان",null,null,{"$f":"DL310+0.5*DI319*COS(DI329)","v":27.030674896982045},{"$f":"DM310+0.5*DI319*SIN(DI329)","v":51.604346053418951},"e220",null,{"$f":"DL323","v":27.030674896982045},{"$f":"DM323","v":51.604346053418951},{"$f":"DN323","v":"e220"},null,{"$f":"-DP323+DU307","v":-17.030674896982045},51.604346053418951,"e220",null,null,null,"اوزمان",null,null,null,"پیلی",null,null,null,"پیلی",null,"مولفه افقی","مولفه عمودی","اسم نقطه ",null,null,null,"پیلی",null,null,null,"پیلی",null,null,null,"ترک گشاد",null,"اسم نقطه","مولفه افقی","مولفه عمودی",null,"آبی",null,null,null,null,null,null,19.121726907281925,141.5805951944748,"شیفت b12 یا b'12g",null,null,null,"ساسون سرشانه",null,null,null,"جادکمه دکلته در بالاتنه جناقی",null,{"$f":"-FK323-HY101","v":-9.1217269072819249},141.5805951944748,"شیفت b12 یا b'12g",null,null,null,"قرینه ساسون سرشانه",null,"اسم نقطه","مولفه افقی","مولفه عمودی",null,"آبی طراحی",null,null,null,null,"قرینه",null,null,null,"قرینه",null,null,null,null,null,null,null,null,null,null,null,null,null,null,null,null,null,null,null,null,null,null,null,null,null,null,null,null,null,null,{"$f":"'متغیرها '!C57","v":0},"شیفت عمودی",null,"نقطه دوم از خط اول","d'4b16",{"$f":"HW344","v":11.915724762051365},{"$f":"HX344","v":136.58619438338229},null,null,null,"قرینه",null,null,null,"قرینه",null,null,null,"قرینه",null,null,null,null,null,{"$f":"IX367","v":24.329757230700373},{"$f":"IY367","v":107.95999999999998},"a27",null,{"$f":"-IU323+IR325","v":-14.329757230700373},107.95999999999998,"a'27",null,{"$f":"IU311","v":24.329757230700373},{"$f":"IV311","v":107.95999999999998},"a5",null,{"$f":"JG322","v":-4.7814200000000007},{"$f":"IV313","v":50.5},"d'48",null,null,null,null,null,null,null,null,null,{"$f":"IU347","v":24.329757230700373},{"$f":"IV347","v":107.95999999999998},"a61",null,{"$f":"IY347","v":-14.329757230700373},{"$f":"IZ347","v":107.95999999999998},"a'5",null,null,null,null,null,null,null,null,null,"قرینه",{"$f":"2*'متغیرها '!C53","v":10},null,null,{"$f":"KL375","v":27.683965958026238},{"$f":"KM375","v":107.95999999999998},"b27",null,{"$f":"-KM323+KJ323+KJ324+KJ334","v":-17.683965958026238},107.95999999999998,"b'27",null,{"$f":"KM307","v":6.8494907872727833},{"$f":"KN307","v":108.96},"b1",null,{"$f":"KY322","v":-1.0929561489682245},{"$f":"KN314","v":50.5},"d'43",null,null,null,null,null,null,null,null,null,{"$f":"KM307","v":6.8494907872727833},{"$f":"KN307","v":108.96},"b1",null,{"$f":"KQ307","v":3.1505092127272167},{"$f":"KR307","v":108.96},"b'1",null,null,17.162469477784743,50.782299999999999,"5n'",null,null,null,null,null,null,null,null,null,null,null,null,null,null,{"$f":"BD186-ML326","v":16.194940597037967},{"$f":"BE186","v":50.5},50,null,{"$f":"'طراحی همه الگوها'!B187","v":0},null,null,null,null,null,null,null,null,null,null,null,null,{"$f":"BO192-NG324","v":15.301249999999996},{"$f":"BP192-NG325","v":50.5},50,null,null,null,null,null,null,null,null,null,null,null,null,null,null,null,null,{"$f":"NU316","v":-20.238095238095237},{"$f":"NV322","v":24.200000000000014},"w72",null,"w13",{"$f":"NU264","v":16.9973544973545},{"$f":"NV264","v":7.3999999999999995},{"$f":"NZ330","v":19.13320105820106},{"$f":"OA330","v":7.6999999999999993},{"$f":"NY330","v":"h10"}]
[null,null,null,null,null,{"$f":"BK165","v":28.254999999999999},{"$f":"BL165","v":89.504346053418971},42,"محاسبات",null,"محاسبات",null,null,{"$f":"-N312+O320","v":-5.3364215106636657},{"$f":"O312","v":108.96},"d2",null,{"$f":"J354","v":24.694757230700372},{"$f":"K354","v":109.11991329666904},"d3",null,null,null,null,null,null,null,null,null,null,{"$f":"X308","v":5},{"$f":"Y308","v":50.5},"sf1",null,{"$f":"AA350","v":22.60748102225735},{"$f":"AB350","v":113.04},"su3",null,{"$f":"AA345","v":-12.60748102225735},{"$f":"AB345","v":113.04},"s'u3",null,{"$f":"J320","v":17.133665629988286},{"$f":"K320","v":111.04}," پشت پهلوu2 ",null,null,null,null,null,null,null,null,null,null,{"$f":"AW308","v":5},{"$f":"AX308","v":50.5},"sf1",null,{"$f":"BD360","v":23.800635221432781},{"$f":"BE360","v":114},"sfp16",null,{"$f":"AW338","v":28.838174896982053},{"$f":"AX338","v":51.604346053418951},"sp33",null,"(47'→e22)",{"$f":"SQRT(POWER((BQ323),2)-POWER((BQ324),2))","v":50.64},null,null,{"$f":"BT310-1.5*BQ318*COS(BQ328)","v":-4.7814200000000007},{"$f":"BU310-1.5*BQ318*SIN(BQ328)","v":50.5},"e217",null,{"$f":"BT322","v":-4.7814200000000007},{"$f":"BU322","v":69.45},{"$f":"BV322","v":"e215"},null,{"$f":"CB310+0.6*(CB323-CB310)","v":14.781420000000001},{"$f":"CC310+0.4*(CC323-CC310)","v":50.5},"e24",null,{"$f":"CB335","v":14.781420000000001},{"$f":"CC335","v":69.45},{"$f":"CD335","v":"e215"},null,{"$f":"CJ310+0.6*(CJ323-CJ310)","v":15.146419999999999},{"$f":"CK310+0.4*(CK323-CK310)","v":50.5},"e24",null,null,null,null,null,null,null,null,null,"(47'→e22)",{"$f":"SQRT(POWER((CW323),2)-POWER((CW324),2))","v":50.64},null,null,{"$f":"CZ310-1.5*CW318*COS(CW328)","v":5},{"$f":"DA310-1.5*CW318*SIN(CW328)","v":50.5},"e217",null,{"$f":"CZ322","v":5},{"$f":"DA322","v":69.45},{"$f":"DB322","v":"e215"},null,"(e22→e21)",{"$f":"DI311*0.25*DI312+DH310-DH309","v":-1.2243251030179536},null,null,{"$f":"DL310+1.5*DI319*COS(DI329)","v":27.030674896982045},{"$f":"DM310+1.5*DI319*SIN(DI329)","v":51.604346053418951},"e217",null,{"$f":"DL320","v":27.607162551508974},{"$f":"DM320","v":69.45},{"$f":"DN320","v":"e213"},null,{"$f":"-DP325+DU307","v":-17.607162551508974},69.45,"e213",null,{"$f":"DX310+0.3*(DX324-DX310)","v":17.108750000000001},{"$f":"DY310+0.12*(DY324-DY310)","v":50.5},"e23",null,{"$f":"DX336","v":21.108750000000001},{"$f":"DY336","v":69.45},{"$f":"DZ336","v":"e215"},null,{"$f":"-EB325+EG307","v":-11.108750000000001},69.45,"e215",null,{"$f":"EJ309+EL345","v":15.301249999999996},{"$f":"EK309-EL346","v":50.5},"e21",null,{"$f":"EJ337","v":11.301249999999996},{"$f":"EK337","v":69.45},{"$f":"EL337","v":"e215"},null,{"$f":"-EN325+ES307","v":-1.301249999999996},69.45,"e215",null,{"$f":"-CQ330-HY101","v":-5.1464199999999991},{"$f":"CR330","v":50.5},"e21",null,"به دست آوردن مختصات نقطه تقاطع دو خط با داشتن دونقطه از یک خط",null,null,null,null,null,null,{"$f":"FA372+FA376","v":5},{"$f":"FB372+FA377","v":124.1},"d3",null,null,null,"ساسون سرشانه",null,{"$f":"FA373+FA376+FA378","v":14.96392},{"$f":"FB373+FA377","v":124.1},"شیفت بالاتنه 5",null,{"$f":"-FG326-GA306","v":5},{"$f":"FH326","v":106.96},"d4",null,null,null,"قرینه ساسون سرشانه",null,{"$f":"-FK327-GA306","v":-4.9639199999999999},{"$f":"FL327","v":124.1},"شیفت بالاتنه 5",null,"به دست آوردن مختصات نقطه تقاطع دو خط با داشتن دونقطه از یک خط",null,null,null,null,null,null,{"$f":"-GL320","v":-10.582474622844362},132.97148857220247,"g7",null,{"$f":"GL325+GP354","v":-5.5824746228443622},{"$f":"GM325+GP355","v":137.97148857220247},"g7",null,null,null,null,null,null,null,null,null,null,null,null,null,null,null,null,null,null,null,null,null,null,null,null,null,null,null,null,null,"m5",{"$f":"LX271-HW320-HW341","v":8.1319999999999997},{"$f":"LY271-HW321","v":130.19437526757326},null,"نقطه دوم از خط دوم",40,{"$f":"HW317","v":11.204999999999998},{"$f":"HX317","v":126.88439243697479},null,{"$f":"-IE309","v":-12.817174286154097},{"$f":"IF309","v":139.36620785116099},"شیفتd6  b16",null,{"$f":"-II309","v":-12.887318321521075},{"$f":"IJ309","v":134.79251501071448},"شیفتd6  b12",null,{"$f":"-IM309","v":-14.089102925488397},{"$f":"IN309","v":125.13613587056058},"شیفتd6  b10",null,"قرینه",{"$f":"-HY101","v":10},null,null,null,null,null,null,null,null,null,null,null,null,null,null,{"$f":"JG324","v":-4.7814200000000007},{"$f":"JH323","v":50.5},"c'48",null,{"$f":"IU331","v":9.4506042002271133},{"$f":"IV331","v":50.5},"a45",null,{"$f":"IY331","v":0.54939579977288666},{"$f":"IZ331","v":50.5},"a'45",null,null,null,null,null,null,null,null,null,{"$f":"IU351","v":24.329757230700373},{"$f":"IV351","v":107.95999999999998},"a65",null,{"$f":"IY351","v":-14.329757230700373},{"$f":"IZ351","v":107.95999999999998},"a'27",null,"شیفت افقی قرینه طراحی دامن",{"$f":"-KJ334","v":0},null,null,{"$f":"KQ374","v":6.8494907872727833},{"$f":"KR374","v":108.96},"b20",null,{"$f":"-KM325+KJ323+KJ324+KJ334","v":3.1505092127272167},{"$f":"KN325","v":108.96},"b'20",null,null,null,null,null,{"$f":"KY324","v":-1.0929561489682245},{"$f":"KZ323","v":50.5},"c'43",null,{"$f":"KM340","v":11.092956148968224},{"$f":"KN340","v":50.5},"b45",null,{"$f":"KQ345","v":-7.1087500000000006},{"$f":"KR345","v":50.5},"b'50",null,null,null,null,null,null,null,null,null,null,"n6",{"$f":"9*LU328/(SQRT(POWER(LX308-LX307,2)+POWER(LY308-LY307,2))+SQRT(POWER(LX309-LT314,2)+POWER(LY309-LU314,2))+SQRT(POWER(LX310-LX311,2)+POWER(LY310-LY311,2)))","v":0.16154793847270668},null,null,null,null,null,null,{"$f":"LT318","v":24.329757230700373},{"$f":"LU318","v":107.95999999999998},"a27",null,{"$f":"LX371","v":1.775677381763149},{"$f":"LY371","v":103.64131733602365},"g10",null,null,{"$f":"BD150","v":5},{"$f":"BE150","v":50.5},1,null,null,null,null,null,{"$f":"MO360","v":37.896249217317205},{"$f":"MP360","v":92.397032050884917},"c9",null,{"$f":"-MS325+ML327","v":-27.896249217317205},{"$f":"MT325","v":92.397032050884917},"c9",null,null,{"$f":"BK168","v":5},{"$f":"BL168","v":50.5},1,null,"شیفت عمودی تکه پشت",{"$f":"C106","v":0},null,null,{"$f":"NF360","v":37.124738317317238},{"$f":"NG360","v":91.998695062846821},"c9",null,{"$f":"-NJ325+NG326","v":-27.124738317317238},{"$f":"NK325","v":91.998695062846821},"c9",null,null,null,null,{"$f":"NU315","v":22.61904761904762},{"$f":"NV322","v":24.200000000000014},"w74",null,"w10",{"$f":"NU263","v":22.61904761904762},{"$f":"NV263","v":7.3999999999999995}]
[null,null,null,null,null,null,null,null,null,null,null,null,null,null,null,null,null,"طول پیلی",{"$f":"CE345","v":18.950000000000003},"(e25→e21)",null,"sp22",null,{"$f":"X331+S330*COS(W331)","v":14.781420000000001},{"$f":"Y331+S330*SIN(W331)","v":69.45},null,null,null,null,null,{"$f":"X310","v":14.781420000000001},{"$f":"Y310","v":101.14},"sf11",null,{"$f":"AA356","v":5},{"$f":"AB356","v":110.96},"sd4",null,{"$f":"AA349","v":-12.423056271284587},{"$f":"AB349","v":112},"s'fp16",null,"نصف عرض پیلی3",{"$f":"'متغیرها '!C139*0.5","v":0},"0.5*e319",null,"sp22",null,{"$f":"AW331+AR331*COS(AV331)","v":18.108750000000001},{"$f":"AX331+AR331*SIN(AV331)","v":69.45},null,null,null,null,null,{"$f":"AW310","v":17.108750000000001},{"$f":"AX310","v":91.64},"sf11",null,{"$f":"BD367","v":5},{"$f":"BE367","v":114},"s''fp16",null,null,null,null,null,null,null,null,null,null,null,null,null,null,null,null,null,{"$f":"CB327+0.5*CC318*COS(CE343)","v":14.781420000000001},{"$f":"CC327+0.5*CC318*SIN(CE343)","v":69.45},"e212",null,null,null,null,null,null,null,null,null,null,null,null,null,null,null,null,null,null,null,null,null,null,null,null,null,null,null,null,null,"(e25→e29)",{"$f":"SQRT(POWER((DI331),2)-POWER((DI330),2))","v":17.29833059362646},null,null,null,null,null,null,{"$f":"DL326","v":27.030674896982045},{"$f":"DM326","v":51.604346053418951},{"$f":"DN326","v":"e216"},null,{"$f":"-DP332+DU307","v":-17.030674896982045},51.604346053418951,"e216",null,null,null,"پیلی",null,null,null,null,null,null,null,null,null,{"$f":"EJ325+0.7*(EJ330-EJ325)","v":11.801249999999996},{"$f":"EK325+0.5*(EK330-EK325)","v":50.835764528692785},"e28",null,null,null,null,null,null,null,null,null,null,null,null,null,"متغیرهای محاسبه ای",null,null,"اسم نقطه","مولفه افقی","مولفه عمودی",null,{"$f":"FG316","v":-7.1499999999999986},{"$f":"FH316","v":124.1},"d3'",null,{"$f":"BS104+BT130","v":14.96392},{"$f":"BT104","v":124.1},"شیفت 5 بالاتنه",null,null,null,null,null,null,null,null,null,{"$f":"-FK332-GA306","v":-4.9639199999999999},{"$f":"FL332","v":124.1},"شیفت 5 بالاتنه",null,null,null,null,null,"متغیرهای محاسبه ای",null,null,"اسم نقطه","مولفه افقی","مولفه عمودی",null,{"$f":"GI352","v":5.1740335019115138},{"$f":"GJ352","v":123.40737284693911},"g8",null,{"$f":"GL332+GP354","v":10.174033501911513},{"$f":"GM332+GP355","v":128.4073728469391},"g8",null,null,null,null,null,null,null,null,null,null,null,null,null,null,null,null,null,null,null,null,null,null,null,null,null,null,null,null,null,null,null,null,null,"نقطه دوم از خط دوم",40,{"$f":"HW317","v":11.204999999999998},{"$f":"HX317","v":126.88439243697479},null,{"$f":"-IE316","v":0},{"$f":"IF316","v":119},"d3",null,{"$f":"-II316","v":0},{"$f":"IJ316","v":119},"d3",null,{"$f":"-IM316","v":0},{"$f":"IN316","v":119},"d3",null,"a24",{"$f":"'متغیرها '!C771","v":0},"عرض (پهنا) چاک در خط مرکزی پشت  (سانتیمتر)   ",null,{"$f":"IU308+IR334+IR335","v":13.901208400454227},{"$f":"IV308","v":106.96},"a46",null,{"$f":"IY308+IR340+IR341","v":-3.9012084004542267},{"$f":"IZ308","v":106.96},"a'46",null,{"$f":"IU307","v":5},{"$f":"IV307","v":106.96},"a1",null,{"$f":"JG331","v":0.54939579977288666},{"$f":"JH330","v":50.5},"c'43",null,null,null,"پیلی 7",null,null,null,"پیلی 7",null,{"$f":"IU321","v":-7.1499999999999986},{"$f":"IV321","v":106.96},"a15",null,{"$f":"IY321","v":17.149999999999999},{"$f":"IZ321","v":106.96},"a'15",null,null,null,null,null,null,null,null,null,null,null,null,null,null,null,null,null,null,null,null,null,{"$f":"KM310","v":18.881078489336339},{"$f":"KN310","v":108.96},"b4",null,{"$f":"KY330-0.25*(KM362-KM320)","v":4.8624999999999998},{"$f":"KZ330","v":50.5},"c41",null,null,null,"پیلی 15",null,null,null,"پیلی 10",null,{"$f":"KM344","v":17.108750000000001},{"$f":"KN344","v":91.64},"b49",null,{"$f":"KQ344","v":-7.1087500000000006},{"$f":"KR344","v":91.64},"b'49",null,null,"n4",{"$f":"'متغیرها '!C817","v":20},null,null,null,null,null,null,null,null,null,null,null,null,null,null,null,{"$f":"MK311","v":19.737376929978453},147.38461204421603,"22f","نقطه قبل از چرخش",{"$f":"IF(ML332>ML331,IF(MK332>MK331,MK331+SQRT(POWER(MK332-MK331,2)+POWER(ML332-ML331,2))*COS(ATAN((ML332-ML331)/(MK332-MK331+0.000123))+ML329),MK331-SQRT(POWER(MK332-MK331,2)+POWER(ML332-ML331,2))*COS(ATAN((ML332-ML331)/(MK331-MK332+0.000123))-ML329)),IF(MK332>MK331,MK331+SQRT(POWER(MK332-MK331,2)+POWER(ML332-ML331,2))*COS(ATAN((ML331-ML332)/(MK332-MK331+0.000123))-ML329),MK331-SQRT(POWER(MK332-MK331,2)+POWER(ML332-ML331,2))*COS(ATAN((ML331-ML332)/(MK331-MK332+0.000123))+ML329)))","v":19.761733563721073},{"$f":"IF(ML332>ML331,IF(MK332>MK331,ML331+SQRT(POWER(MK332-MK331,2)+POWER(ML332-ML331,2))*SIN(ATAN((ML332-ML331)/(MK332-MK331+0.000123))+ML329),ML331+SQRT(POWER(MK332-MK331,2)+POWER(ML332-ML331,2))*SIN(ATAN((ML332-ML331)/(MK331-MK332+0.000123))-ML329)),IF(MK332>MK331,ML331-SQRT(POWER(MK332-MK331,2)+POWER(ML332-ML331,2))*SIN(ATAN((ML331-ML332)/(MK332-MK331+0.000123))-ML329),ML331-SQRT(POWER(MK332-MK331,2)+POWER(ML332-ML331,2))*SIN(ATAN((ML331-ML332)/(MK331-MK332+0.000123))+ML329)))","v":147.4824678259786},"b22",null,37.564019367164292,53.02928286542631,"c5",null,{"$f":"-MS332+ML327","v":-27.564019367164292},53.02928286542631,"c5",null,null,{"$f":"NB311","v":19.744326892618545},147.41058456225514,"22f","نقطه قبل از چرخش",{"$f":"IF(NC332>NC331,IF(NB332>NB331,NB331+SQRT(POWER(NB332-NB331,2)+POWER(NC332-NC331,2))*COS(ATAN((NC332-NC331)/(NB332-NB331+0.000123))+NC329),NB331-SQRT(POWER(NB332-NB331,2)+POWER(NC332-NC331,2))*COS(ATAN((NC332-NC331)/(NB331-NB332+0.000123))-NC329)),IF(NB332>NB331,NB331+SQRT(POWER(NB332-NB331,2)+POWER(NC332-NC331,2))*COS(ATAN((NC331-NC332)/(NB332-NB331+0.000123))-NC329),NB331-SQRT(POWER(NB332-NB331,2)+POWER(NC332-NC331,2))*COS(ATAN((NC331-NC332)/(NB331-NB332+0.000123))+NC329)))","v":19.720450935637},{"$f":"IF(NC332>NC331,IF(NB332>NB331,NC331+SQRT(POWER(NB332-NB331,2)+POWER(NC332-NC331,2))*SIN(ATAN((NC332-NC331)/(NB332-NB331+0.000123))+NC329),NC331+SQRT(POWER(NB332-NB331,2)+POWER(NC332-NC331,2))*SIN(ATAN((NC332-NC331)/(NB331-NB332+0.000123))-NC329)),IF(NB332>NB331,NC331-SQRT(POWER(NB332-NB331,2)+POWER(NC332-NC331,2))*SIN(ATAN((NC331-NC332)/(NB332-NB331+0.000123))-NC329),NC331-SQRT(POWER(NB332-NB331,2)+POWER(NC332-NC331,2))*SIN(ATAN((NC331-NC332)/(NB331-NB332+0.000123))+NC329)))","v":147.3260893808789},"b22",null,37.40384140713951,52.744600592186728,"c5",null,{"$f":"-NJ332+NG326","v":-27.40384140713951},52.744600592186728,"c5",null,null,null,null,null,null,null,null,"h12",{"$f":"NZ329","v":20.483201058201061},{"$f":"OA331","v":7.1},{"$f":"NZ329","v":20.483201058201061},{"$f":"OA329","v":7.3999999999999995},{"$f":"NY329","v":"h9"}]
[null,null,null,null,null,{"$f":"AZ176","v":14.781420000000001},{"$f":"BA176","v":101.14},"47'",null,null,null,null,null,null,null,null,null,"ys2",{"$f":"'متغیرها '!U60","v":83.4},null,{"$f":"0+'متغیرها '!C51","v":5},{"$f":"S343+'متغیرها '!C52","v":109},"s3",null,null,null,null,"نقاط خروجی",null,null,"رسم پیلی در طراحی دامن ترک",null,null,null,null,null,null,null,null,null,null,null,"ys9",{"$f":"I105","v":104},null,{"$f":"AR344+'متغیرها '!C53","v":30.2},{"$f":"AR341+'متغیرها '!C54","v":88.4},"s11",null,null,null,"به دست آوردن مختصات نقطه تقاطع دو خط با داشتن دونقطه از یک خط",null,null,null,null,null,null,null,null,null,null,null,{"$f":"BD364","v":-5.3364215106636657},{"$f":"BE364","v":112.96},"s'd2",null,null,null,null,null,null,null,null,null,{"$f":"IF(BQ320=1,BP319,BT310)","v":-4.7814200000000007},{"$f":"IF(BQ320=1,BQ319,BU310)","v":50.5},{"$f":"IF(BQ320=1,BR319,BV310)","v":"e21"},null,null,"اوزمان","e01",{"$f":"IF(CC314<1,CC314*CC316,CC316+(CC314-1)*(CC317-CC316))+CC313","v":69.45},{"$f":"IF(CC320=1,CB319,CB323)","v":14.781420000000001},{"$f":"IF(CC320=1,CC319,CC323)","v":50.5},{"$f":"IF(CC320=1,CD319,CD323)","v":"e21"},null,null,{"$f":"'متغیرها '!C147","v":1.5},"e0",null,{"$f":"CN341+CK356","v":-5.1464199999999991},{"$f":"CO341-CK358","v":50.5},"e26",null,null,null,"گوده",null,null,null,null,null,null,null,null,null,{"$f":"IF(CW320=1,CV319,CZ310)","v":5},{"$f":"IF(CW320=1,CW319,DA310)","v":50.5},{"$f":"IF(CW320=1,CX319,DB310)","v":"e21"},null,{"$f":"BK170","v":4.8624999999999998},{"$f":"BL170","v":88.4},48,null,null,null,"اوزمان",null,-0.13750000000000018,51.17152905738557,"e26",null,{"$f":"-DP342+DU340","v":10.137499999999999},51.17152905738557,"e26",null,null,null,"اوزمان",null,{"$f":"IF(DY320=1,DX319,DX324)","v":17.108750000000001},{"$f":"IF(DY320=1,DY319,DY324)","v":50.5},{"$f":"IF(DY320=1,DZ319,DZ324)","v":"e21"},null,{"$f":"-EB342+EG307","v":-7.1087500000000006},50.5,"e21",null,null,"محاسبات",null,null,{"$f":"IF(EK321=1,EJ320,EJ325)","v":15.301249999999996},{"$f":"IF(EK321=1,EK320,EK325)","v":50.5},{"$f":"IF(EK321=1,EL320,EL325)","v":"e21"},null,{"$f":"-EN342+ES307","v":-5.301249999999996},50.5,"e21",null,{"$f":"-CF320-HY101","v":-4.7814200000000007},{"$f":"CG320","v":50.5},"e28",null,null,null,null,"مولفه افقی","مولفه عمودی",null,null,null,null,null,null,null,null,null,null,{"$f":"FD319+FA376","v":15.203436470234493},{"$f":"FE319+FA377","v":129.47131218005305},"g7",null,null,null,null,null,null,null,null,null,null,null,null,null,null,null,null,"مولفه افقی","مولفه عمودی",null,null,{"$f":"GI319","v":10.203436470234493},{"$f":"GJ319","v":124.47131218005305},"g7",null,{"$f":"GL342+GP354","v":15.203436470234493},{"$f":"GM342+GP355","v":129.47131218005305},"g7",null,null,null,null,null,null,null,null,null,null,null,null,null,null,null,null,null,null,null,null,null,null,null,null,null,null,null,null,null,"d4  b16",{"$f":"0.8*(HW317-HW341)+HW341","v":9.1719999999999988},{"$f":"HX341+((HW342-HW341)/(HW309-HW341))*(HX309-HX341)+0.8*'متغیرها '!C358*(HW310-HW341)","v":131.81859481423567},null,null,"به دست آوردن نقطه تقاطع دو خط (d''4b10)","مولفه افقی","مولفه عمودی",null,null,null,null,null,{"$f":"HW353-HW341+HW319","v":12.622837261296819},{"$f":"HX353","v":129.19032889396183},"شیفتd6  b6",null,{"$f":"HW361-HW341+HW319","v":17.974169081620126},{"$f":"HX361","v":122.76968552210424},"شیفتd6  b14",null,"a35",{"$f":"-2*'متغیرها '!C776","v":0},"پیلی 3",null,{"$f":"IU314+IR334+IR335+IR336+IR337","v":15.829940597037968},{"$f":"IV314","v":50.5},"a56",null,{"$f":"IY314+IR340+IR341+IR342+IR343","v":-5.8299405970379681},{"$f":"IZ314","v":50.5},"a'56",null,{"$f":"IU311","v":24.329757230700373},{"$f":"IV311","v":107.95999999999998},"a5",null,null,null,"پیلی 6",null,{"$f":"IU334","v":14.781420000000001},{"$f":"IV334","v":50.5},"a48",null,{"$f":"IY334","v":-4.7814200000000007},{"$f":"IZ334","v":50.5},"a'48",null,{"$f":"IU333","v":14.781420000000001},{"$f":"IV333","v":101.14},"a47",null,{"$f":"IY333","v":-4.7814200000000007},{"$f":"IZ333","v":101.14},"a'47",null,{"$f":"IU335","v":14.781420000000001},{"$f":"IV335","v":101.14},"a49",null,{"$f":"IY335","v":-4.7814200000000007},{"$f":"IZ335","v":101.14},"a'49",null,"b35",{"$f":"-2*'متغیرها '!C789","v":0},"پیلی 11",null,{"$f":"KM309+KJ333+KJ335","v":17.108750000000001},{"$f":"KN309","v":91.64},"b47",null,{"$f":"KQ309+KJ340+KJ341","v":-7.1087500000000006},{"$f":"KR309","v":91.64},"b'47",null,{"$f":"KM315","v":28.83817489698205},{"$f":"KN315","v":50.499999999999993},"b9",null,null,null,"پیلی 15",null,{"$f":"KM343","v":17.108750000000001},{"$f":"KN343","v":50.5},"b48",null,{"$f":"KQ348","v":-13.282522223681289},{"$f":"KR348","v":50.5},"b'53",null,{"$f":"KM338","v":11.092956148968224},{"$f":"KN338","v":50.5},"b43",null,{"$f":"KQ338","v":-1.0929561489682245},{"$f":"KR338","v":50.5},"b'43",null,null,-1.4973508464150465,65.090675500000003,"7n'","نقطه قبل از چرخش",{"$f":"IF(LU342>LU338,IF(LT342>LT338,LT338+SQRT(POWER(LT342-LT338,2)+POWER(LU342-LU338,2))*COS(ATAN((LU342-LU338)/(LT342-LT338+0.000123))+LU336),LT338-SQRT(POWER(LT342-LT338,2)+POWER(LU342-LU338,2))*COS(ATAN((LU342-LU338)/(LT338-LT342+0.000123))-LU336)),IF(LT342>LT338,LT338+SQRT(POWER(LT342-LT338,2)+POWER(LU342-LU338,2))*COS(ATAN((LU338-LU342)/(LT342-LT338+0.000123))-LU336),LT338-SQRT(POWER(LT342-LT338,2)+POWER(LU342-LU338,2))*COS(ATAN((LU338-LU342)/(LT338-LT342+0.000123))+LU336)))","v":-3.5904855043273436},{"$f":"IF(LU342>LU338,IF(LT342>LT338,LU338+SQRT(POWER(LT342-LT338,2)+POWER(LU342-LU338,2))*SIN(ATAN((LU342-LU338)/(LT342-LT338+0.000123))+LU336),LU338+SQRT(POWER(LT342-LT338,2)+POWER(LU342-LU338,2))*SIN(ATAN((LU342-LU338)/(LT338-LT342+0.000123))-LU336)),IF(LT342>LT338,LU338-SQRT(POWER(LT342-LT338,2)+POWER(LU342-LU338,2))*SIN(ATAN((LU338-LU342)/(LT342-LT338+0.000123))-LU336),LU338-SQRT(POWER(LT342-LT338,2)+POWER(LU342-LU338,2))*SIN(ATAN((LU338-LU342)/(LT338-LT342+0.000123))+LU336)))","v":61.765936558949925},"e7",null,null,null,null,null,{"$f":"MF340","v":-16.657032791100271},{"$f":"MG340","v":95.401270854395108},{"$f":"MH340","v":"fg3"},null,null,25.37988656053146,51.520723701068761,"7'","نقطه قبل از چرخش",{"$f":"IF(ML342>ML331,IF(MK342>MK331,MK331+SQRT(POWER(MK342-MK331,2)+POWER(ML342-ML331,2))*COS(ATAN((ML342-ML331)/(MK342-MK331+0.000123))+ML329),MK331-SQRT(POWER(MK342-MK331,2)+POWER(ML342-ML331,2))*COS(ATAN((ML342-ML331)/(MK331-MK342+0.000123))-ML329)),IF(MK342>MK331,MK331+SQRT(POWER(MK342-MK331,2)+POWER(ML342-ML331,2))*COS(ATAN((ML331-ML342)/(MK342-MK331+0.000123))-ML329),MK331-SQRT(POWER(MK342-MK331,2)+POWER(ML342-ML331,2))*COS(ATAN((ML331-ML342)/(MK331-MK342+0.000123))+ML329)))","v":33.737974374337881},{"$f":"IF(ML342>ML331,IF(MK342>MK331,ML331+SQRT(POWER(MK342-MK331,2)+POWER(ML342-ML331,2))*SIN(ATAN((ML342-ML331)/(MK342-MK331+0.000123))+ML329),ML331+SQRT(POWER(MK342-MK331,2)+POWER(ML342-ML331,2))*SIN(ATAN((ML342-ML331)/(MK331-MK342+0.000123))-ML329)),IF(MK342>MK331,ML331-SQRT(POWER(MK342-MK331,2)+POWER(ML342-ML331,2))*SIN(ATAN((ML331-ML342)/(MK342-MK331+0.000123))-ML329),ML331-SQRT(POWER(MK342-MK331,2)+POWER(ML342-ML331,2))*SIN(ATAN((ML331-ML342)/(MK331-MK342+0.000123))+ML329)))","v":52.475132675131164},"b6",null,{"$f":"MO308","v":14.620689655172415},{"$f":"MP308","v":149.02485984648303},"a4",null,{"$f":"-MS342+ML327","v":-4.6206896551724146},{"$f":"MT342","v":149.02485984648303},"a4",null,null,24.809031111224026,51.471824527008678,"7'","نقطه قبل از چرخش",{"$f":"IF(NC342>NC331,IF(NB342>NB331,NB331+SQRT(POWER(NB342-NB331,2)+POWER(NC342-NC331,2))*COS(ATAN((NC342-NC331)/(NB342-NB331+0.000123))+NC329),NB331-SQRT(POWER(NB342-NB331,2)+POWER(NC342-NC331,2))*COS(ATAN((NC342-NC331)/(NB331-NB342+0.000123))-NC329)),IF(NB342>NB331,NB331+SQRT(POWER(NB342-NB331,2)+POWER(NC342-NC331,2))*COS(ATAN((NC331-NC342)/(NB342-NB331+0.000123))-NC329),NB331-SQRT(POWER(NB342-NB331,2)+POWER(NC342-NC331,2))*COS(ATAN((NC331-NC342)/(NB331-NB342+0.000123))+NC329)))","v":33.127627021385848},{"$f":"IF(NC342>NC331,IF(NB342>NB331,NC331+SQRT(POWER(NB342-NB331,2)+POWER(NC342-NC331,2))*SIN(ATAN((NC342-NC331)/(NB342-NB331+0.000123))+NC329),NC331+SQRT(POWER(NB342-NB331,2)+POWER(NC342-NC331,2))*SIN(ATAN((NC342-NC331)/(NB331-NB342+0.000123))-NC329)),IF(NB342>NB331,NC331-SQRT(POWER(NB342-NB331,2)+POWER(NC342-NC331,2))*SIN(ATAN((NC331-NC342)/(NB342-NB331+0.000123))-NC329),NC331-SQRT(POWER(NB342-NB331,2)+POWER(NC342-NC331,2))*SIN(ATAN((NC331-NC342)/(NB331-NB342+0.000123))+NC329)))","v":52.19387685110847},"b6",null,{"$f":"NF308","v":14.915531981503978},{"$f":"NG308","v":148.95018880673345},"a4",null,{"$f":"-NJ342+NG326","v":-4.9155319815039782},{"$f":"NK342","v":148.95018880673345},"a4",null,null,null,null,null,null,null,null,"نقاط خروجی","مولفه افقی","مولفه عمودی",{"$f":"NZ343","v":16.9973544973545},{"$f":"OA343","v":8.1999999999999993},{"$f":"NY343","v":"g2"}]
[null,null,null,null,null,"u40",{"$f":"'متغیرها '!C330","v":1},null,{"$f":"G346*G343*0.01","v":1.04},"u'5",{"$f":"ATAN((F338-F339)/(G338-G339+0.00001))","v":0},"αd4",null,null,null,null,null,"xs5",{"$f":"0.5*('متغیرها '!U54-'متغیرها '!U55)","v":21.3},null,{"$f":"-S345+'متغیرها '!C51","v":-16.3},{"$f":"S342+'متغیرها '!C52","v":88.4},"s'5",null,null,null,{"$f":"-X323+R336+2*X308","v":-12.60748102225735},{"$f":"Y323-S333+R337","v":113.04},"s'u3",null,{"$f":"X328","v":5},{"$f":"Y328","v":69.45},"sp11",null,null,null,null,null,null,null,null,null,null,null,null,{"$f":"-AR344+'متغیرها '!C53","v":-20.2},{"$f":"AR341+'متغیرها '!C54","v":88.4},"s'11",null,null,null,null,"نقطه دوم",45,{"$f":"AQ316","v":28.254999999999999},{"$f":"AR316","v":89.504346053418971},null,null,null,null,null,null,null,{"$f":"BD366","v":-13.800635221432781},{"$f":"BE366","v":114},"s'fp16",null,null,null,null,null,null,null,null,null,null,null,null,null,"(47'→e22)",{"$f":"SQRT(POWER((CC343),2)-POWER((CC344),2))","v":50.64},"(e25→e21)",{"$f":"SQRT(POWER((CC327-CC323),2)+POWER((CB327-CB323),2))","v":18.950000000000003},null,null,null,null,null,{"$f":"'متغیرها '!U60","v":83.4},"j",null,null,null,null,null,null,null,null,null,null,null,null,null,null,null,null,null,null,null,null,null,null,{"$f":"'متغیرها '!U54-'متغیرها '!U55","v":42.6},"(c-d)",null,{"$f":"DH343+0.6*(DL343-DH343)","v":4.8624999999999998},{"$f":"DI343+0.4*(DM343-DI343)","v":50.5},"e24",null,{"$f":"DL350","v":1.3624999999999998},{"$f":"DM350","v":50.835764528692785},{"$f":"DN350","v":"e28"},null,{"$f":"-DP345+DU340","v":8.6374999999999993},50.835764528692785,"e28",null,null,"(47'→e22)",{"$f":"SQRT(POWER((DZ343),2)-POWER((DZ344),2))","v":41.14},null,null,null,null,null,null,null,null,null,null,"(e22→e21)",{"$f":"EK311*0.25*EK312+EJ310-EJ309","v":0},null,null,null,null,null,null,null,null,null,null,null,"پیلی",null,"خط دوم","نقطه اول",{"$f":"EZ373","v":" بالاتنه 5"},{"$f":"FA373","v":9.9639199999999999},{"$f":"FB373","v":119.1},null,null,null,null,null,null,{"$f":"FA372+FA376","v":5},{"$f":"FB372+FA377","v":124.1},"d3",null,null,null,"حلقه آستین با ساسون متغیر",null,null,null,null,null,{"$f":"-FK345-GA306","v":5},{"$f":"FL345","v":124.1},"d3",null,{"$f":"-FO344-GA306","v":5},{"$f":"FP344","v":124.1},"d3",null,"خط دوم","نقطه اول",{"$f":"GL356","v":" بالاتنه 5"},{"$f":"GM356","v":9.9639199999999999},{"$f":"GN356","v":119.1},null,null,null,null,"قرینه",null,null,null,"قرینه",null,null,null,null,null,null,null,null,null,null,null,null,null,null,null,null,null,null,null,null,null,null,null,null,null,null,null,null,null,"d6  b16",{"$f":"0.6*(HW309-HW317)+HW317","v":13.337174286154097},{"$f":"HX341+((HW345-HW341)/(HW309-HW341))*(HX309-HX341)+0.5*'متغیرها '!C358*(HW310-HW341)","v":139.36620785116099},null,"نقطه اول از خط دوم"," یا  22",{"$f":"IF(IC343>IC346,HW316,HW314)","v":10.23},{"$f":"IF(IC343>IC346,HX316,HX314)","v":105},null,null,null,null,null,null,null,null,null,null,null,null,null,null,null,null,null,{"$f":"IU316+IR334+IR335+IR336+IR337","v":23.851123164378407},{"$f":"IV316","v":50.5},"a59",null,{"$f":"IY316+IR340+IR341+IR342+IR343","v":-13.851123164378407},{"$f":"IZ316","v":50.5},"a'59",null,{"$f":"IU314","v":15.829940597037968},{"$f":"IV314","v":50.5},"a8",null,{"$f":"JG343-0.25*(IU330-IU328)","v":9.4506042002271133},{"$f":"JH343","v":106.96},"c42",null,{"$f":"IU338","v":19.995694415123076},{"$f":"IV338","v":107.45999999999998},"a52",null,{"$f":"IY338","v":-9.995694415123074},{"$f":"IZ338","v":107.45999999999998},"a'52",null,{"$f":"IU337","v":15.661631599545775},{"$f":"IV337","v":106.96},"a51",null,{"$f":"IY337","v":-5.6616315995457747},{"$f":"IZ337","v":106.96},"a'51",null,{"$f":"IU337","v":15.661631599545775},{"$f":"IV337","v":106.96},"a51",null,{"$f":"IY337","v":-5.6616315995457747},{"$f":"IZ337","v":106.96},"a'51",null,null,null,null,null,{"$f":"KM343+KJ336","v":17.108750000000001},{"$f":"KN343","v":50.5},"b50",null,{"$f":"KQ343+KJ342","v":-7.1087500000000006},{"$f":"KR343","v":50.5},"b'50",null,{"$f":"KM320","v":4.8624999999999998},{"$f":"KN320","v":88.4},"b14",null,{"$f":"KY343-0.25*(KM344-KM342)","v":17.108750000000001},{"$f":"KZ343","v":91.64},"c47",null,{"$f":"KM347","v":23.282522223681291},{"$f":"KN347","v":108.45999999999998},"b52",null,null,null,null,null,{"$f":"KM343","v":17.108750000000001},{"$f":"KN343","v":50.5},"b48",null,{"$f":"KQ343","v":-7.1087500000000006},{"$f":"KR343","v":50.5},"b'48",null,null,{"$f":"LT308","v":5},{"$f":"LU308","v":106.96},"a1","نقطه قبل از چرخش",{"$f":"IF(LU345>LU338,IF(LT345>LT338,LT338+SQRT(POWER(LT345-LT338,2)+POWER(LU345-LU338,2))*COS(ATAN((LU345-LU338)/(LT345-LT338+0.000123))+LU336),LT338-SQRT(POWER(LT345-LT338,2)+POWER(LU345-LU338,2))*COS(ATAN((LU345-LU338)/(LT338-LT345+0.000123))-LU336)),IF(LT345>LT338,LT338+SQRT(POWER(LT345-LT338,2)+POWER(LU345-LU338,2))*COS(ATAN((LU338-LU345)/(LT345-LT338+0.000123))-LU336),LT338-SQRT(POWER(LT345-LT338,2)+POWER(LU345-LU338,2))*COS(ATAN((LU338-LU345)/(LT338-LT345+0.000123))+LU336)))","v":-3.9123313623679756},{"$f":"IF(LU345>LU338,IF(LT345>LT338,LU338+SQRT(POWER(LT345-LT338,2)+POWER(LU345-LU338,2))*SIN(ATAN((LU345-LU338)/(LT345-LT338+0.000123))+LU336),LU338+SQRT(POWER(LT345-LT338,2)+POWER(LU345-LU338,2))*SIN(ATAN((LU345-LU338)/(LT338-LT345+0.000123))-LU336)),IF(LT345>LT338,LU338-SQRT(POWER(LT345-LT338,2)+POWER(LU345-LU338,2))*SIN(ATAN((LU338-LU345)/(LT345-LT338+0.000123))-LU336),LU338-SQRT(POWER(LT345-LT338,2)+POWER(LU345-LU338,2))*SIN(ATAN((LU338-LU345)/(LT338-LT345+0.000123))+LU336)))","v":104.13519503841573},"e1",null,null,null,"خطوط دراپه",null,{"$f":"MF343","v":-23.748844302951049},{"$f":"MG343","v":88.810866324711725},{"$f":"MH343","v":"efg3"},null,null,{"$f":"MO310","v":18.629310344827587},{"$f":"MP310","v":50.5},"a11","نقطه قبل از چرخش",{"$f":"IF(ML345>ML331,IF(MK345>MK331,MK331+SQRT(POWER(MK345-MK331,2)+POWER(ML345-ML331,2))*COS(ATAN((ML345-ML331)/(MK345-MK331+0.000123))+ML329),MK331-SQRT(POWER(MK345-MK331,2)+POWER(ML345-ML331,2))*COS(ATAN((ML345-ML331)/(MK331-MK345+0.000123))-ML329)),IF(MK345>MK331,MK331+SQRT(POWER(MK345-MK331,2)+POWER(ML345-ML331,2))*COS(ATAN((ML331-ML345)/(MK345-MK331+0.000123))-ML329),MK331-SQRT(POWER(MK345-MK331,2)+POWER(ML345-ML331,2))*COS(ATAN((ML331-ML345)/(MK331-MK345+0.000123))+ML329)))","v":27.101804356766486},{"$f":"IF(ML345>ML331,IF(MK345>MK331,ML331+SQRT(POWER(MK345-MK331,2)+POWER(ML345-ML331,2))*SIN(ATAN((ML345-ML331)/(MK345-MK331+0.000123))+ML329),ML331+SQRT(POWER(MK345-MK331,2)+POWER(ML345-ML331,2))*SIN(ATAN((ML345-ML331)/(MK331-MK345+0.000123))-ML329)),IF(MK345>MK331,ML331-SQRT(POWER(MK345-MK331,2)+POWER(ML345-ML331,2))*SIN(ATAN((ML331-ML345)/(MK345-MK331+0.000123))-ML329),ML331-SQRT(POWER(MK345-MK331,2)+POWER(ML345-ML331,2))*SIN(ATAN((ML331-ML345)/(MK331-MK345+0.000123))+ML329)))","v":50.869911707129816},"b11",null,{"$f":"MO366","v":18.728455821257512},{"$f":"MP366","v":148.06677866022909},"c3",null,{"$f":"-MS345+ML327","v":-8.7284558212575121},{"$f":"MT345","v":148.06677866022909},"c3",null,null,{"$f":"NF310","v":20.699592304047968},{"$f":"NG310","v":50.5},"a11","نقطه قبل از چرخش",{"$f":"IF(NC345>NC331,IF(NB345>NB331,NB331+SQRT(POWER(NB345-NB331,2)+POWER(NC345-NC331,2))*COS(ATAN((NC345-NC331)/(NB345-NB331+0.000123))+NC329),NB331-SQRT(POWER(NB345-NB331,2)+POWER(NC345-NC331,2))*COS(ATAN((NC345-NC331)/(NB331-NB345+0.000123))-NC329)),IF(NB345>NB331,NB331+SQRT(POWER(NB345-NB331,2)+POWER(NC345-NC331,2))*COS(ATAN((NC331-NC345)/(NB345-NB331+0.000123))-NC329),NB331-SQRT(POWER(NB345-NB331,2)+POWER(NC345-NC331,2))*COS(ATAN((NC331-NC345)/(NB331-NB345+0.000123))+NC329)))","v":29.118281579868277},{"$f":"IF(NC345>NC331,IF(NB345>NB331,NC331+SQRT(POWER(NB345-NB331,2)+POWER(NC345-NC331,2))*SIN(ATAN((NC345-NC331)/(NB345-NB331+0.000123))+NC329),NC331+SQRT(POWER(NB345-NB331,2)+POWER(NC345-NC331,2))*SIN(ATAN((NC345-NC331)/(NB331-NB345+0.000123))-NC329)),IF(NB345>NB331,NC331-SQRT(POWER(NB345-NB331,2)+POWER(NC345-NC331,2))*SIN(ATAN((NC331-NC345)/(NB345-NB331+0.000123))-NC329),NC331-SQRT(POWER(NB345-NB331,2)+POWER(NC345-NC331,2))*SIN(ATAN((NC331-NC345)/(NB331-NB345+0.000123))+NC329)))","v":50.867562541618426},"b11",null,{"$f":"NF366","v":20.839278040993069},{"$f":"NG366","v":147.60624268868534},"c3",null,{"$f":"-NJ345+NG326","v":-10.839278040993069},{"$f":"NK345","v":147.60624268868534},"c3",null,null,null,null,null,null,null,null,"g5",{"$f":"NZ341+0.7*(NZ344-NZ341)","v":16.717354497354503},{"$f":"OA341+0.28*(OA344-OA341)","v":7.5119999999999996},{"$f":"NZ344","v":16.597354497354502},{"$f":"OA344","v":7.8},{"$f":"NY344","v":"g4"}]
[null,null,null,null,null,{"$f":"BD155","v":28.25},{"$f":"BE155","v":124.7739048933077},"شیفت14",null,{"$f":"F355+IF(G362>0,I360*TAN(K360),-I360*TAN(K359))","v":24.694757230700372},{"$f":"G355-I360","v":109.11991329666904},"d3",null,{"$f":"J352","v":16.026631599545773},{"$f":"K352","v":106.96},{"$f":"L352","v":"dd5"},null,null,null,null,{"$f":"0+'متغیرها '!C51","v":5},{"$f":"0+'متغیرها '!C52","v":5},"زمین",null,null,null,{"$f":"X322+R336","v":22.569334031608825},{"$f":"Y322-S333+R337","v":110.96},"sd3",null,null,null,null,null,null,null,null,null,null,null,null,null,null,null,null,{"$f":"0+'متغیرها '!C53","v":5},{"$f":"0+'متغیرها '!C54","v":5},"زمین",null,null,null,null,{"$f":"I104","v":103},"شبیه ساز e",null,{"$f":"AW323+BA353","v":24.016675640861834},{"$f":"AX323-BA354+BA352","v":115.04},"su3",null,null,null,null,null,{"$f":"BD362","v":-5.2763343700117122},{"$f":"BE362","v":115.04},"s'u2",null,null,{"$f":"'متغیرها '!C147","v":1.5},"e0",null,{"$f":"BP349+(BQ349-BQ367)*TAN(BQ368)","v":26.116687014810168},{"$f":"BQ367","v":69.45},"e25",null,{"$f":"BT350","v":25.631625970379659},{"$f":"BU350","v":51.659913296669046},{"$f":"BV350","v":"e21"},null,{"$f":"-BX352-HY101","v":-19.131625970379659},{"$f":"BY352","v":51.947724291816868},"e28",null,null,null,null,null,"e01",{"$f":"IF(CK342<1,CK342*CK344,CK344+(CK342-1)*(CK345-CK344))+CK341","v":69.45},null,null,null,null,null,null,null,null,null,null,null,{"$f":"'متغیرها '!C147","v":1.5},"e0",null,{"$f":"CV349+(CW349-CW367)*TAN(CW368)","v":-16.116687014810168},{"$f":"CW367","v":69.45},"e25",null,{"$f":"CZ350","v":-15.631625970379659},{"$f":"DA350","v":51.659913296669046},{"$f":"DB350","v":"e21"},null,"محاسبات",null,null,null,{"$f":"DL347-1.5*DI351*COS(DI361)","v":1.8624999999999998},{"$f":"DM347-1.5*DI351*SIN(DI361)","v":69.45},"e214",null,null,null,null,null,null,null,null,null,null,null,null,null,null,null,null,null,null,null,null,null,null,null,null,null,null,null,null,null,null,null,null,null,null,null,null,null,null,"نقطه اتصال به آستین",null,null,null,null,null,null,null,null,null,19.544139936642118,135.75956076797357,"شیفت b6 یا b'6g",null,{"$f":"FO340","v":15.65961920417765},{"$f":"FP340","v":129.43145058050868},{"$f":"FM309","v":"g6"},null,null,null,null,null,{"$f":"-FK322-HY101","v":-9.544139936642118},135.75956076797357,"شیفت b6 یا b'6g",null,null,null,"قرینه ساسون سرشانه",null,null,"نقطه اتصال به آستین",null,null,null,null,null,"اسم نقطه","مولفه افقی","مولفه عمودی",null,{"$f":"C100","v":5},"شیفت افقی کل جلو",null,null,null,null,null,null,null,null,null,null,null,null,null,null,null,null,null,null,null,null,null,null,null,null,null,null,null,null,null,null,"d4  b10",{"$f":"0.8*(HW317-HW341)+HW341","v":9.1719999999999988},{"$f":"HX341+((HW354-HW341)/(HW312-HW341))*(HX312-HX341)+0.8*'متغیرها '!C358*(HW310-HW341)","v":121.83411702835662},null,"نقطه تقاطع","d''4b14",{"$f":"(IC352-IC350+IB350*((IC351-IC350)/(IB351-IB350))-IB352*((IC353-IC352)/(IB353-IB352)))/(((IC351-IC350)/(IB351-IB350))-((IC353-IC352)/(IB353-IB352)))","v":10.914779222105741},{"$f":"IC350+(IB354-IB350)*((IC351-IC350)/(IB351-IB350))","v":120.37023305563936},null,null,null,null,null,{"$f":"HW334","v":6.6240000000000023},{"$f":"HX334","v":105},"m'10",null,{"$f":"HW334","v":6.6240000000000023},{"$f":"HX334","v":105},"m'10",null,null,{"$f":"IU320","v":-7.1499999999999986},{"$f":"IV320","v":50.5},"a14",{"$f":"IU346+IR338*COS(ATAN((IU346-IU348)/(IV348-IV346)))","v":25.266625970379661},{"$f":"IV346+IR338*SIN(ATAN((IU346-IU348)/(IV348-IV346)))","v":50.5},"a68",null,{"$f":"IY346+IR344*COS(ATAN((IY348-IY346)/(IZ348-IZ346)))","v":-15.266625970379661},{"$f":"IZ346-IR344*SIN(ATAN((IY348-IY346)/(IZ348-IZ346)))","v":50.5},"a'68",null,{"$f":"IY313","v":5},{"$f":"IZ313","v":50.5},"a'7",null,{"$f":"JG350+JG350-JG352","v":14.781420000000001},{"$f":"JH350","v":101.14},"c49",null,{"$f":"IU339","v":19.995694415123076},{"$f":"IV339","v":50.5},"a53",null,{"$f":"IY339","v":-9.995694415123074},{"$f":"IZ339","v":50.5},"a'53",null,{"$f":"IU329","v":9.4506042002271133},{"$f":"IV329","v":50.5},"a43",null,{"$f":"IY329","v":0.54939579977288666},{"$f":"IZ329","v":50.5},"a'43",null,null,null,null,null,null,null,null,null,null,null,null,null,{"$f":"KM316+KJ333+KJ335+KJ336+KJ337","v":27.254702535889471},{"$f":"KN316","v":50.499999999999993},"b59",null,{"$f":"KQ316+KJ340+KJ341+KJ342+KJ343","v":-17.254702535889471},{"$f":"KR316","v":50.499999999999993},"b'59",null,{"$f":"KM326","v":6.8494907872727833},{"$f":"KN326","v":108.96},"b21",null,{"$f":"KY350+KY350-KY352","v":23.282522223681291},{"$f":"KZ350","v":108.45999999999998},"c54",null,{"$f":"KM348","v":23.282522223681291},{"$f":"KN348","v":50.5},"b53",null,null,null,null,null,27.254702535889471,50.499999999999993,"b59",null,-17.254702535889471,50.499999999999993,"b'59",null,null,{"$f":"LX344","v":17.127849475541826},{"$f":"LY344","v":50.645250574968891},"e5","نقطه قبل از چرخش",{"$f":"IF(LU354>LU352,IF(LT354>LT352,LT352+SQRT(POWER(LT354-LT352,2)+POWER(LU354-LU352,2))*COS(ATAN((LU354-LU352)/(LT354-LT352+0.000123))+LU350),LT352-SQRT(POWER(LT354-LT352,2)+POWER(LU354-LU352,2))*COS(ATAN((LU354-LU352)/(LT352-LT354+0.000123))-LU350)),IF(LT354>LT352,LT352+SQRT(POWER(LT354-LT352,2)+POWER(LU354-LU352,2))*COS(ATAN((LU352-LU354)/(LT354-LT352+0.000123))-LU350),LT352-SQRT(POWER(LT354-LT352,2)+POWER(LU354-LU352,2))*COS(ATAN((LU352-LU354)/(LT352-LT354+0.000123))+LU350)))","v":17.210457843196153},{"$f":"IF(LU354>LU352,IF(LT354>LT352,LU352+SQRT(POWER(LT354-LT352,2)+POWER(LU354-LU352,2))*SIN(ATAN((LU354-LU352)/(LT354-LT352+0.000123))+LU350),LU352+SQRT(POWER(LT354-LT352,2)+POWER(LU354-LU352,2))*SIN(ATAN((LU354-LU352)/(LT352-LT354+0.000123))-LU350)),IF(LT354>LT352,LU352-SQRT(POWER(LT354-LT352,2)+POWER(LU354-LU352,2))*SIN(ATAN((LU352-LU354)/(LT354-LT352+0.000123))-LU350),LU352-SQRT(POWER(LT354-LT352,2)+POWER(LU354-LU352,2))*SIN(ATAN((LU352-LU354)/(LT352-LT354+0.000123))+LU350)))","v":49.334266038494988},"ef5",null,null,null,null,null,null,null,null,null,null,20.582535935118571,135.88479746036796,"b16","نقطه قبل از چرخش",{"$f":"IF(ML354>ML351,IF(MK354>MK351,MK351+SQRT(POWER(MK354-MK351,2)+POWER(ML354-ML351,2))*COS(ATAN((ML354-ML351)/(MK354-MK351+0.000123))+ML349),MK351-SQRT(POWER(MK354-MK351,2)+POWER(ML354-ML351,2))*COS(ATAN((ML354-ML351)/(MK351-MK354+0.000123))-ML349)),IF(MK354>MK351,MK351+SQRT(POWER(MK354-MK351,2)+POWER(ML354-ML351,2))*COS(ATAN((ML351-ML354)/(MK354-MK351+0.000123))-ML349),MK351-SQRT(POWER(MK354-MK351,2)+POWER(ML354-ML351,2))*COS(ATAN((ML351-ML354)/(MK351-MK354+0.000123))+ML349)))","v":21.705178786941936},{"$f":"IF(ML354>ML351,IF(MK354>MK351,ML351+SQRT(POWER(MK354-MK351,2)+POWER(ML354-ML351,2))*SIN(ATAN((ML354-ML351)/(MK354-MK351+0.000123))+ML349),ML351+SQRT(POWER(MK354-MK351,2)+POWER(ML354-ML351,2))*SIN(ATAN((ML354-ML351)/(MK351-MK354+0.000123))-ML349)),IF(MK354>MK351,ML351-SQRT(POWER(MK354-MK351,2)+POWER(ML354-ML351,2))*SIN(ATAN((ML351-ML354)/(MK354-MK351+0.000123))-ML349),ML351-SQRT(POWER(MK354-MK351,2)+POWER(ML354-ML351,2))*SIN(ATAN((ML351-ML354)/(MK351-MK354+0.000123))+ML349)))","v":136.45446349956765},"c16",null,null,null,null,null,null,null,null,null,null,21.127133715052459,137.03091996648482,"b16","نقطه قبل از چرخش",{"$f":"IF(NC354>NC351,IF(NB354>NB351,NB351+SQRT(POWER(NB354-NB351,2)+POWER(NC354-NC351,2))*COS(ATAN((NC354-NC351)/(NB354-NB351+0.000123))+NC349),NB351-SQRT(POWER(NB354-NB351,2)+POWER(NC354-NC351,2))*COS(ATAN((NC354-NC351)/(NB351-NB354+0.000123))-NC349)),IF(NB354>NB351,NB351+SQRT(POWER(NB354-NB351,2)+POWER(NC354-NC351,2))*COS(ATAN((NC351-NC354)/(NB354-NB351+0.000123))-NC349),NB351-SQRT(POWER(NB354-NB351,2)+POWER(NC354-NC351,2))*COS(ATAN((NC351-NC354)/(NB351-NB354+0.000123))+NC349)))","v":22.142421391272897},{"$f":"IF(NC354>NC351,IF(NB354>NB351,NC351+SQRT(POWER(NB354-NB351,2)+POWER(NC354-NC351,2))*SIN(ATAN((NC354-NC351)/(NB354-NB351+0.000123))+NC349),NC351+SQRT(POWER(NB354-NB351,2)+POWER(NC354-NC351,2))*SIN(ATAN((NC354-NC351)/(NB351-NB354+0.000123))-NC349)),IF(NB354>NB351,NC351-SQRT(POWER(NB354-NB351,2)+POWER(NC354-NC351,2))*SIN(ATAN((NC351-NC354)/(NB354-NB351+0.000123))-NC349),NC351-SQRT(POWER(NB354-NB351,2)+POWER(NC354-NC351,2))*SIN(ATAN((NC351-NC354)/(NB351-NB354+0.000123))+NC349)))","v":137.61771179412432},"c16",null,null,null,null,null,null,null,null,null,null,null,null,null,null,null,null,"نقطه ورودی سر فلش","مولفه افقی","مولفه عمودی",{"$f":"NZ357","v":19.568201058201062},{"$f":"OA357","v":8.3199999999999985},{"$f":"NY357","v":"f3"}]
[null,null,null,null,null,"d30",{"$f":"'متغیرها '!C341","v":1},null,null,null,null,null,null,{"$f":"-J338+G364","v":5},{"$f":"K338","v":106.96},"d4",null,null,null,"نقطه دوم","47''امتداد",{"$f":"R315+2*(R314-R313)","v":31.958579999999998},{"$f":"S315","v":101.14},null,null,null,{"$f":"U373","v":22.60748102225735},{"$f":"V373","v":113.04},"su9",null,{"$f":"X337","v":25.215680709613526},{"$f":"Y337","v":70.609844815817226},"sp32",null,null,null,null,null,null,null,null,null,null,"m1",{"$f":"ATAN((AT358-AT357)/(AU357-AU358+0.00001))","v":5.8889880734914211E-2},"m2",{"$f":"SQRT(POWER(AT357-AT358,2)+POWER(AU357-AU358,2))","v":2.083611992600753},null,null,null,null,null,null,null,null,{"$f":"-AW320+BA353+2*AW308","v":-5.2763343700117122},{"$f":"AX320-BA354+BA352","v":115.04},"s'u2",null,null,null,null,null,{"$f":"BD359","v":5},{"$f":"BE359","v":112.96},"sd1",null,null,"اوزمان",null,null,{"$f":"BT354+2*BQ358*COS(BQ368)","v":26.116687014810168},{"$f":"BU354+2*BQ358*SIN(BQ368)","v":69.45},"e215",null,{"$f":"BT359","v":26.116687014810168},{"$f":"BU359","v":69.45},{"$f":"BV359","v":"e212"},null,{"$f":"-BX360-HY101","v":-15.631625970379659},{"$f":"BY360","v":51.659913296669046},"e216",null,null,null,null,null,null,null,null,null,null,null,null,null,null,null,null,null,null,"اوزمان",null,null,{"$f":"CZ354-2*CW358*COS(CW368)","v":-16.116687014810168},{"$f":"DA354-2*CW358*SIN(CW368)","v":69.45},"e215",null,{"$f":"CZ359","v":-16.116687014810168},{"$f":"DA359","v":69.45},{"$f":"DB359","v":"e212"},null,"(e29→e26)",{"$f":"DI348-(DL343-DL347)","v":5},null,null,null,null,null,null,{"$f":"DL358","v":1.8624999999999998},{"$f":"DM358","v":50.5},{"$f":"DN358","v":"e217"},null,{"$f":"-DP362+DU340","v":8.1374999999999993},50.5,"e217",null,null,null,null,null,null,null,null,null,null,null,null,null,null,null,null,null,null,null,null,null,null,null,null,null,{"$f":"-CF340-HY101","v":-4.7814200000000007},{"$f":"CG340","v":50.5},"e216",null,null,"نقطه دوم",35,{"$f":"FD378","v":12.093751010881906},{"$f":"FE378","v":143.43549165751585},null,null,null,null,null,null,null,null,null,null,null,null,null,null,null,null,null,null,null,null,null,null,{"$f":"-FK333-GA306","v":-4.9639199999999999},{"$f":"FL333","v":120.88},"شیفت 43",null,null,"نقطه دوم",35,{"$f":"GM367","v":12.093751010881906},{"$f":"GN367","v":143.43549165751585},null,null,"متغیرهای محاسبه ای",null,null,null,null,null,null,null,null,null,null,null,null,null,null,null,null,null,null,null,null,null,null,null,null,null,null,null,null,null,null,null,null,null,null,null,null,null,null,null,null,null,null,null,null,null,null,null,null,{"$f":"-II346","v":-10.156710474604857},{"$f":"IJ346","v":126.69832964019166},"d4  b6''",null,{"$f":"-IM346","v":-9.874779222105742},{"$f":"IN346","v":120.37023305563936},"d4  b14''",null,null,{"$f":"IR360+IS357*0.4*(IR363-IR360)","v":7.9237310762265434},{"$f":"IS363+0.08*IS357*(IS360-IS363)","v":54.597866799999998},"6n'",null,"متغیر ورودی پهنا","a20",{"$f":"IR328","v":0},"(سانتیمتر)",null,null,null,{"$f":"IY311","v":-14.329757230700373},{"$f":"IZ311","v":107.95999999999998},"a'5",null,{"$f":"JG361","v":19.995694415123076},{"$f":"JH358","v":50.5},"c55",null,null,null,null,null,null,null,null,null,{"$f":"IU341","v":19.995694415123076},50.5,"a55",null,{"$f":"IY341","v":-9.995694415123074},50.5,"a'55",null,null,null,null,null,null,null,null,null,null,null,null,null,{"$f":"KM320+KJ334*COS(KJ329)","v":4.8624999999999998},{"$f":"KN320-KJ334*SIN(KJ329)","v":88.4},"b67",null,{"$f":"KQ357+KJ344","v":-20.062500000000004},{"$f":"KR357","v":89.40000000000002},"b'67",null,{"$f":"KM330","v":4.8624999999999998},{"$f":"KN330","v":50.5},"b25",null,null,null,null,null,null,null,null,null,null,null,null,null,null,null,"زیپ پشت",null,null,null,"زیپ پشت",null,null,{"$f":"LX345","v":-3.9123313623679756},{"$f":"LY345","v":104.13519503841573},"e1","نقطه قبل از چرخش",{"$f":"IF(LU362>LU352,IF(LT362>LT352,LT352+SQRT(POWER(LT362-LT352,2)+POWER(LU362-LU352,2))*COS(ATAN((LU362-LU352)/(LT362-LT352+0.000123))+LU350),LT352-SQRT(POWER(LT362-LT352,2)+POWER(LU362-LU352,2))*COS(ATAN((LU362-LU352)/(LT352-LT362+0.000123))-LU350)),IF(LT362>LT352,LT352+SQRT(POWER(LT362-LT352,2)+POWER(LU362-LU352,2))*COS(ATAN((LU352-LU362)/(LT362-LT352+0.000123))-LU350),LT352-SQRT(POWER(LT362-LT352,2)+POWER(LU362-LU352,2))*COS(ATAN((LU352-LU362)/(LT352-LT362+0.000123))+LU350)))","v":-12.159508061965386},{"$f":"IF(LU362>LU352,IF(LT362>LT352,LU352+SQRT(POWER(LT362-LT352,2)+POWER(LU362-LU352,2))*SIN(ATAN((LU362-LU352)/(LT362-LT352+0.000123))+LU350),LU352+SQRT(POWER(LT362-LT352,2)+POWER(LU362-LU352,2))*SIN(ATAN((LU362-LU352)/(LT352-LT362+0.000123))-LU350)),IF(LT362>LT352,LU352-SQRT(POWER(LT362-LT352,2)+POWER(LU362-LU352,2))*SIN(ATAN((LU352-LU362)/(LT362-LT352+0.000123))-LU350),LU352-SQRT(POWER(LT362-LT352,2)+POWER(LU362-LU352,2))*SIN(ATAN((LU352-LU362)/(LT352-LT362+0.000123))+LU350)))","v":98.743447111790701},"ef1",null,null,null,null,null,{"$f":"LX374","v":27.401927410625238},{"$f":"LY374","v":50.612788701352628},"g9",null,null,33.737974374337881,52.475132675131164,"b6","نقطه قبل از چرخش",{"$f":"IF(ML362>ML351,IF(MK362>MK351,MK351+SQRT(POWER(MK362-MK351,2)+POWER(ML362-ML351,2))*COS(ATAN((ML362-ML351)/(MK362-MK351+0.000123))+ML349),MK351-SQRT(POWER(MK362-MK351,2)+POWER(ML362-ML351,2))*COS(ATAN((ML362-ML351)/(MK351-MK362+0.000123))-ML349)),IF(MK362>MK351,MK351+SQRT(POWER(MK362-MK351,2)+POWER(ML362-ML351,2))*COS(ATAN((ML351-ML362)/(MK362-MK351+0.000123))-ML349),MK351-SQRT(POWER(MK362-MK351,2)+POWER(ML362-ML351,2))*COS(ATAN((ML351-ML362)/(MK351-MK362+0.000123))+ML349)))","v":42.080206384632582},{"$f":"IF(ML362>ML351,IF(MK362>MK351,ML351+SQRT(POWER(MK362-MK351,2)+POWER(ML362-ML351,2))*SIN(ATAN((ML362-ML351)/(MK362-MK351+0.000123))+ML349),ML351+SQRT(POWER(MK362-MK351,2)+POWER(ML362-ML351,2))*SIN(ATAN((ML362-ML351)/(MK351-MK362+0.000123))-ML349)),IF(MK362>MK351,ML351-SQRT(POWER(MK362-MK351,2)+POWER(ML362-ML351,2))*SIN(ATAN((ML351-ML362)/(MK362-MK351+0.000123))-ML349),ML351-SQRT(POWER(MK362-MK351,2)+POWER(ML362-ML351,2))*SIN(ATAN((ML351-ML362)/(MK351-MK362+0.000123))+ML349)))","v":54.508748347540092},"c6",null,null,null,null,null,null,null,null,null,null,33.127627021385848,52.19387685110847,"b6","نقطه قبل از چرخش",{"$f":"IF(NC362>NC351,IF(NB362>NB351,NB351+SQRT(POWER(NB362-NB351,2)+POWER(NC362-NC351,2))*COS(ATAN((NC362-NC351)/(NB362-NB351+0.000123))+NC349),NB351-SQRT(POWER(NB362-NB351,2)+POWER(NC362-NC351,2))*COS(ATAN((NC362-NC351)/(NB351-NB362+0.000123))-NC349)),IF(NB362>NB351,NB351+SQRT(POWER(NB362-NB351,2)+POWER(NC362-NC351,2))*COS(ATAN((NC351-NC362)/(NB362-NB351+0.000123))-NC349),NB351-SQRT(POWER(NB362-NB351,2)+POWER(NC362-NC351,2))*COS(ATAN((NC351-NC362)/(NB351-NB362+0.000123))+NC349)))","v":41.491309125856773},{"$f":"IF(NC362>NC351,IF(NB362>NB351,NC351+SQRT(POWER(NB362-NB351,2)+POWER(NC362-NC351,2))*SIN(ATAN((NC362-NC351)/(NB362-NB351+0.000123))+NC349),NC351+SQRT(POWER(NB362-NB351,2)+POWER(NC362-NC351,2))*SIN(ATAN((NC362-NC351)/(NB351-NB362+0.000123))-NC349)),IF(NB362>NB351,NC351-SQRT(POWER(NB362-NB351,2)+POWER(NC362-NC351,2))*SIN(ATAN((NC351-NC362)/(NB362-NB351+0.000123))-NC349),NC351-SQRT(POWER(NB362-NB351,2)+POWER(NC362-NC351,2))*SIN(ATAN((NC351-NC362)/(NB351-NB362+0.000123))+NC349)))","v":54.149385127810973},"c6",null,null,null,null,null,null,null,null,null,null,null,null,null,null,null,null,"نقطه شروع انحنا","مولفه افقی","مولفه عمودی",{"$f":"NZ366","v":23.019047619047619},{"$f":"OA366","v":8.6},{"$f":"NY366","v":"g4"}]
[null,null,null,null,null,null,null,null,null,null,null,null,null,{"$f":"-J339+G364","v":-3.8424292402878564},{"$f":"K339","v":109.04},"u6",null,null,null," باکس جادکمه در پهلو راست کمر جلو","مولفه افقی","مولفه عمودی",null,null,null,null,null,null,null,null,{"$f":"-X337+2*X308","v":-15.215680709613526},{"$f":"Y337","v":70.609844815817226},"s'p32",null,null,null,null,null,null,null,null,null,null,null,null,null,null,null,null,null,null,null,null,null,null,{"$f":"-AW314+BA353+2*AW308","v":-13.800635221432781},{"$f":"AX314-BA354+BA352","v":114},"s'fp16",null,null,null,null,null,{"$f":"BD371","v":5},{"$f":"BE371","v":115.04},"s'u8",null,null,"گوده",null,null,{"$f":"BT350+2*BQ358*COS(BQ368)","v":25.631625970379659},{"$f":"BU350+2*BQ358*SIN(BQ368)","v":51.659913296669046},"e216",null,{"$f":"BT364","v":25.631625970379659},{"$f":"BU364","v":51.659913296669046},{"$f":"BV364","v":"e218"},null,null,null,null,null,null,null,null,null,null,null,null,null,null,null,null,null,null,null,null,null,null,"گوده",null,null,{"$f":"CZ350-2*CW358*COS(CW368)","v":-15.631625970379659},{"$f":"DA350-2*CW358*SIN(CW368)","v":51.659913296669046},"e216",null,{"$f":"CZ364","v":-15.631625970379659},{"$f":"DA364","v":51.659913296669046},{"$f":"DB364","v":"e218"},null,null,null,null,null,null,null,null,null,null,null,"ترک گشاد",null,null,null,"ترک گشاد",null,null,null,null,null,null,null,null,null,null,null,null,null,null,null,null,null,null,null,null,null,null,null,null,null,null,null,null,null,"(5→ g5)",{"$f":"SQRT(POWER((FD365-FA373),2)+POWER((FE365-FB373),2))","v":18.46506919004635},null,"g6",{"$f":"FA373+FA366*SIN(FA367)","v":12.353165070183126},{"$f":"FB373+FA366*COS(FA367)","v":137.40984129335382},null,null,null,null,null,{"$f":"AZ161","v":14.96392},{"$f":"BA161","v":120.88},43,null,null,null,null,null,null,null,null,null,{"$f":"-FK335-GA306","v":-4.9639199999999999},{"$f":"FL335","v":120.88},43,null,null,null,null,null,"(5→ g5)",{"$f":"SQRT(POWER((GI365-GM356),2)+POWER((GJ365-GN356),2))","v":18.46506919004635},null,"g6",{"$f":"GM356+GF366*SIN(GF367)","v":12.353165070183126},{"$f":"GN356+GF366*COS(GF367)","v":137.40984129335382},null,"اسم نقطه","مولفه افقی","مولفه عمودی",null,null,null,null,null,null,null,null,null,null,null,null,null,null,null,null,null,null,null,null,null,null,null,null,null,null,null,null,null,null,null,null,null,null,null,null,null,"نقطه اول از خط دوم","یا  22",{"$f":"IF(IC364>IC367,HW316,HW315)","v":12.220071134028601},{"$f":"IF(IC364>IC367,HX316,HX315)","v":137.48021932151983},null,null,null,null,null,null,null,null,null,null,null,null,null,null,null,null,null,null,"نقطه خروجی بالا","a28",{"$f":"IX360+IF(IX361>IX360,1,-1)*IX362*COS(IW365)","v":24.329757230700373},{"$f":"IY360+IX362*SIN(IW365)","v":107.95999999999998},null,null,null,{"$f":"IY312","v":-16.3},{"$f":"IZ312","v":87.4},"a'6",null,{"$f":"JG364-0.25*(IU353-IU348)","v":26.3},{"$f":"JH364","v":87.4},"c62",null,{"$f":"IU346","v":25.266625970379661},{"$f":"IV346","v":50.5},"a60",null,{"$f":"IY346","v":-15.266625970379661},{"$f":"IZ346","v":50.5},"a'60",null,23.851123164378407,50.5,"a59",null,-13.851123164378407,50.5,"a'59",null,null,null,null,null,null,null,null,null,null,null,null,null,null,null,null,null,null,null,null,null,{"$f":"KM313","v":4.8624999999999998},{"$f":"KN313","v":50.5},"b7",null,null,null,null,null,null,null,null,null,null,null,null,null,{"$f":"KM325","v":6.8494907872727833},{"$f":"KN325","v":108.96},"b20",null,{"$f":"KQ325","v":3.1505092127272167},{"$f":"KR325","v":108.96},"b'20",null,null,null,null,null,null,null,null,null,null,null,null,null,null,null,null,null,null,null,{"$f":"MO307","v":18.629310344827587},{"$f":"MP307","v":147.71237266515297},"a3","نقطه قبل از چرخش",{"$f":"IF(ML366>ML351,IF(MK366>MK351,MK351+SQRT(POWER(MK366-MK351,2)+POWER(ML366-ML351,2))*COS(ATAN((ML366-ML351)/(MK366-MK351+0.000123))+ML349),MK351-SQRT(POWER(MK366-MK351,2)+POWER(ML366-ML351,2))*COS(ATAN((ML366-ML351)/(MK351-MK366+0.000123))-ML349)),IF(MK366>MK351,MK351+SQRT(POWER(MK366-MK351,2)+POWER(ML366-ML351,2))*COS(ATAN((ML351-ML366)/(MK366-MK351+0.000123))-ML349),MK351-SQRT(POWER(MK366-MK351,2)+POWER(ML366-ML351,2))*COS(ATAN((ML351-ML366)/(MK351-MK366+0.000123))+ML349)))","v":18.728455821257512},{"$f":"IF(ML366>ML351,IF(MK366>MK351,ML351+SQRT(POWER(MK366-MK351,2)+POWER(ML366-ML351,2))*SIN(ATAN((ML366-ML351)/(MK366-MK351+0.000123))+ML349),ML351+SQRT(POWER(MK366-MK351,2)+POWER(ML366-ML351,2))*SIN(ATAN((ML366-ML351)/(MK351-MK366+0.000123))-ML349)),IF(MK366>MK351,ML351-SQRT(POWER(MK366-MK351,2)+POWER(ML366-ML351,2))*SIN(ATAN((ML351-ML366)/(MK366-MK351+0.000123))-ML349),ML351-SQRT(POWER(MK366-MK351,2)+POWER(ML366-ML351,2))*SIN(ATAN((ML351-ML366)/(MK351-MK366+0.000123))+ML349)))","v":148.06677866022909},"c3",null,null,null,null,null,null,null,null,null,null,{"$f":"NF307","v":20.699592304047968},{"$f":"NG307","v":147.0950325516699},"a3","نقطه قبل از چرخش",{"$f":"IF(NC366>NC351,IF(NB366>NB351,NB351+SQRT(POWER(NB366-NB351,2)+POWER(NC366-NC351,2))*COS(ATAN((NC366-NC351)/(NB366-NB351+0.000123))+NC349),NB351-SQRT(POWER(NB366-NB351,2)+POWER(NC366-NC351,2))*COS(ATAN((NC366-NC351)/(NB351-NB366+0.000123))-NC349)),IF(NB366>NB351,NB351+SQRT(POWER(NB366-NB351,2)+POWER(NC366-NC351,2))*COS(ATAN((NC351-NC366)/(NB366-NB351+0.000123))-NC349),NB351-SQRT(POWER(NB366-NB351,2)+POWER(NC366-NC351,2))*COS(ATAN((NC351-NC366)/(NB351-NB366+0.000123))+NC349)))","v":20.839278040993069},{"$f":"IF(NC366>NC351,IF(NB366>NB351,NC351+SQRT(POWER(NB366-NB351,2)+POWER(NC366-NC351,2))*SIN(ATAN((NC366-NC351)/(NB366-NB351+0.000123))+NC349),NC351+SQRT(POWER(NB366-NB351,2)+POWER(NC366-NC351,2))*SIN(ATAN((NC366-NC351)/(NB351-NB366+0.000123))-NC349)),IF(NB366>NB351,NC351-SQRT(POWER(NB366-NB351,2)+POWER(NC366-NC351,2))*SIN(ATAN((NC351-NC366)/(NB366-NB351+0.000123))-NC349),NC351-SQRT(POWER(NB366-NB351,2)+POWER(NC366-NC351,2))*SIN(ATAN((NC351-NC366)/(NB351-NB366+0.000123))+NC349)))","v":147.60624268868534},"c3",null,null,null,null,null,null,null,null,null,null,null,null,null,null,null,null,"g4",{"$f":"NZ363+NZ361*NZ360","v":23.019047619047619},{"$f":"OA363+0.5*NZ360","v":8.6},{"$f":"NZ370","v":22.805933646152234},{"$f":"OA370","v":8.4896259334954767},{"$f":"NY370","v":"g8"}]
[null,null,null,null,null,null,null,null,null,null,null,null,null,null,null,null,null,null,"نقطه خروجی بالا","su9",{"$f":"U367+U369*COS(T372)","v":22.60748102225735},{"$f":"V367+U369*SIN(T372)","v":113.04},null,"متغیر ورودی طول","a21",1,null,null,null,null,null,null,null,null,null,null,null,null,null,null,null,null,null,"m1",{"$f":"ATAN((-AT369+AT368)/(AU368-AU369+0.00001))","v":5.8889880734914211E-2},"m2",{"$f":"SQRT(POWER(AT368-AT369,2)+POWER(AU368-AU369,2))","v":2.083611992600753},null,null,null,null,null,null,null,null,{"$f":"AT364","v":24.139308391815359},{"$f":"AU364","v":112.9599999653598},"sd8",null,null,null,null,null,null,null,null,null,null,null,null,null,null,null,null,null,null,null,"ترک گشاد",null,{"$f":"-BX371-HY101","v":-16.116687014810168},{"$f":"BY371","v":69.45},"e215",null,null,null,null,null,null,null,null,null,null,null,null,null,null,null,null,null,null,null,null,null,null,null,null,null,null,null,"ترک گشاد",null,null,null,null,null,null,null,null,null,null,null,null,null,null,null,null,null,null,null,null,null,null,null,null,null,null,null,null,null,null,null,null,null,null,null,null,null,null,null,null,null,null,null,null,null," بالاتنه 5",{"$f":"BS104-FA376","v":9.9639199999999999},{"$f":"BT104-FA377","v":119.1},null,"متغیرهای محاسبه ای",null,null,null,null,null,null,null,null,null,null,null,null,null,null,null,null,null,null,null,null,null,null,null,null,null,null,null,null,null,null,null,null,null,null,null,null,null,null,null,null,null,null,null,null,null,null,null,null,null,null,null,null,null,null,null,null,null,null,null,null,null,null,null,null,null,null,null,null,null,null,null,null,null,"نقطه اول از خط دوم"," یا  22",{"$f":"IF(IC371>IC374,HW316,HW315)","v":12.18},{"$f":"IF(IC371>IC374,HX316,HX315)","v":105},null,null,null,null,null,null,null,null,null,null,null,null,null,null,null,null,null,null,null,null,null,null,null,null,null,{"$f":"IY323","v":-14.329757230700373},{"$f":"IZ323","v":107.95999999999998},"a'27",null,null,null,null,null,null,null,null,null,null,null,null,null,null,null,null,null,null,null,null,null,null,null,null,null,null,null,null,null,null,"m1",{"$f":"ATAN(IF(KL369>KL368,1,-1)*(KL369-KL368)/(KM368-KM369))","v":0.12745903393584104},"m2",{"$f":"SQRT(POWER(KL368-KL369,2)+POWER(KM368-KM369,2))","v":18.711788374947663},null,"m1",{"$f":"ATAN(IF(KQ369>KQ368,1,-1)*(KQ369-KQ368)/(KR368-KR369))","v":9.6344313222451183E-2},"m2",{"$f":"SQRT(POWER(KQ368-KQ369,2)+POWER(KR368-KR369,2))","v":20.655791739575282},null,null,{"$f":"KQ312+KJ325","v":-20.062500000000004},{"$f":"KR312","v":89.40000000000002},"b'6",null,null,null,null,null,null,null,null,null,null,null,null,null,{"$f":"KM330","v":4.8624999999999998},{"$f":"KN330","v":50.5},"b25",null,{"$f":"KQ330","v":5.1375000000000002},{"$f":"KR330","v":50.5},"b'25",null,null,{"$f":"LX309","v":3.1057169130418032},{"$f":"LY309","v":106.96},"an4","نقطه قبل از چرخش",{"$f":"IF(LU373>LU370,IF(LT373>LT370,LT370+SQRT(POWER(LT373-LT370,2)+POWER(LU373-LU370,2))*COS(ATAN((LU373-LU370)/(LT373-LT370+0.000123))+LU368),LT370-SQRT(POWER(LT373-LT370,2)+POWER(LU373-LU370,2))*COS(ATAN((LU373-LU370)/(LT370-LT373+0.000123))-LU368)),IF(LT373>LT370,LT370+SQRT(POWER(LT373-LT370,2)+POWER(LU373-LU370,2))*COS(ATAN((LU370-LU373)/(LT373-LT370+0.000123))-LU368),LT370-SQRT(POWER(LT373-LT370,2)+POWER(LU373-LU370,2))*COS(ATAN((LU370-LU373)/(LT370-LT373+0.000123))+LU368)))","v":-3.5517761488347546},{"$f":"IF(LU373>LU370,IF(LT373>LT370,LU370+SQRT(POWER(LT373-LT370,2)+POWER(LU373-LU370,2))*SIN(ATAN((LU373-LU370)/(LT373-LT370+0.000123))+LU368),LU370+SQRT(POWER(LT373-LT370,2)+POWER(LU373-LU370,2))*SIN(ATAN((LU373-LU370)/(LT370-LT373+0.000123))-LU368)),IF(LT373>LT370,LU370-SQRT(POWER(LT373-LT370,2)+POWER(LU373-LU370,2))*SIN(ATAN((LU370-LU373)/(LT373-LT370+0.000123))-LU368),LU370-SQRT(POWER(LT373-LT370,2)+POWER(LU373-LU370,2))*SIN(ATAN((LU370-LU373)/(LT370-LT373+0.000123))+LU368)))","v":102.77310390895936},"g4",null,null,null,null,null,9.6857675876912293,47.238379795363862,"efg6",null,null,null,null,null,null,null,null,null,null,null,null,null,null,null,null,null,null,null,null,null,null,null,null,null,null,null,null,null,null,null,null,null,null,null,null,null,null,null,null,null,null,null,null,null,{"$f":"NU270","v":-25},{"$f":"NV270","v":9},"w19"]
[null,null,null,null,null,null,null,null,null,null,null,null,null,null,null,null,null,null,null,null,null,null,null,"نقطه خروجی بالا","s'u9",{"$f":"Z370-Z372*COS(Y375)","v":-12.60748102225735},{"$f":"AA370+Z372*SIN(Y375)","v":113.04},null,null,null,null,null,null,null,null,null,null,null,null,null,null,null,null,"نقطه خروجی میانه",null,{"$f":"AT368-AT371*AU373*SIN(AS373)/AU372","v":-14.13930839181536},{"$f":"AU368-AT371*AU373*COS(AS373)/AU372","v":112.9599999653598},null,null,null,null,null,null,null,null,null,null,null,null,null,null,null,null,null,null,null,null,null,null,null,null,null,null,null,null,null,null,null,null,{"$f":"-BX374-HY101","v":-15.631625970379659},{"$f":"BY374","v":51.659913296669046},"e21",null,null,null,null,null,null,null,null,null,null,null,null,null,null,null,null,null,null,null,null,null,null,null,null,null,null,null,null,null,null,null,null,null,null,null,null,null,null,null,null,null,null,null,null,null,null,null,null,null,null,null,null,null,null,null,null,null,null,null,null,null,null,null,null,null,null,null,null,null,null,null,null,null,"شیفت افقی کل",{"$f":"'متغیرها '!C51","v":5},null,null,"ضریب افقی g8",0.5,null,null,null,null,null,null,null,null,null,null,null,null,null,null,null,null,null,null,null,null,null,null,null,null,null,null,null,null,null,null,null,null,null,null,null,null,null,null,null,null,null,null,null,null,null,null,null,null,null,null,null,null,null,null,null,null,null,null,null,null,null,null,null,null,null,null,null,null,null,null,null,null,null,null,null,null,null,null,null,null,null,null,null,null,null,null,null,null,null,null,null,null,null,null,null,null,null,null,null,null,null,{"$f":"IY322","v":-14.329757230700373},{"$f":"IZ322","v":107.95999999999998},"a'26",null,null,null,null,null,null,null,null,null,null,null,null,null,null,null,null,null,null,null,null,null,null,null,null,null,null,null,null,null,null,"نقطه خروجی میانه","b26",{"$f":"KL368+IF(KL369>KL368,1,-1)*KL371*KM373*SIN(KK373)/KM372","v":27.683965958026238},{"$f":"KM368-KL371*KM373*COS(KK373)/KM372","v":107.95999999999998},null,"نقطه خروجی میانه","b15",{"$f":"KQ368+IF(KQ369>KQ368,1,-1)*KQ371*KR373*SIN(KP373)/KR372","v":6.8494907872727833},{"$f":"KR368-KQ371*KR373*COS(KP373)/KR372","v":108.96},null,null,{"$f":"KQ311+KJ325","v":-17.683965958026238},{"$f":"KR311","v":107.95999999999998},"b'5",null,null,null,null,null,null,null,null,null,null,null,null,null,{"$f":"KM329","v":4.8624999999999998},{"$f":"KN329","v":50.5},"b24",null,{"$f":"KQ329","v":5.1375000000000002},{"$f":"KR329","v":50.5},"b'24",null,null,{"$f":"LX361","v":-3.8175948106794593},{"$f":"LY361","v":102.96499623350672},"f1","نقطه قبل از چرخش",{"$f":"IF(LU376>LU370,IF(LT376>LT370,LT370+SQRT(POWER(LT376-LT370,2)+POWER(LU376-LU370,2))*COS(ATAN((LU376-LU370)/(LT376-LT370+0.000123))+LU368),LT370-SQRT(POWER(LT376-LT370,2)+POWER(LU376-LU370,2))*COS(ATAN((LU376-LU370)/(LT370-LT376+0.000123))-LU368)),IF(LT376>LT370,LT370+SQRT(POWER(LT376-LT370,2)+POWER(LU376-LU370,2))*COS(ATAN((LU370-LU376)/(LT376-LT370+0.000123))-LU368),LT370-SQRT(POWER(LT376-LT370,2)+POWER(LU376-LU370,2))*COS(ATAN((LU370-LU376)/(LT370-LT376+0.000123))+LU368)))","v":-9.742342469156327},{"$f":"IF(LU376>LU370,IF(LT376>LT370,LU370+SQRT(POWER(LT376-LT370,2)+POWER(LU376-LU370,2))*SIN(ATAN((LU376-LU370)/(LT376-LT370+0.000123))+LU368),LU370+SQRT(POWER(LT376-LT370,2)+POWER(LU376-LU370,2))*SIN(ATAN((LU376-LU370)/(LT370-LT376+0.000123))-LU368)),IF(LT376>LT370,LU370-SQRT(POWER(LT376-LT370,2)+POWER(LU376-LU370,2))*SIN(ATAN((LU370-LU376)/(LT376-LT370+0.000123))-LU368),LU370-SQRT(POWER(LT376-LT370,2)+POWER(LU376-LU370,2))*SIN(ATAN((LU370-LU376)/(LT370-LT376+0.000123))+LU368)))","v":97.716523265961371},"fg1",null,null,null,null,null,null,null,null,null,null,null,null,null,null,null,null,null,null,null,null,null,null,null,null,null,null,null,null,null,null,null,null,null,null,null,null,null,null,null,null,null,null,null,null,null,null,null,null,null,null,"نقطه ورودی سر فلش","مولفه افقی","مولفه عمودی",{"$f":"NZ379","v":-19.998095238095239},{"$f":"OA379","v":9.1199999999999992},{"$f":"NY379","v":"f3"}]
[null,null,null,null,null,"(10 → 11)",{"$f":"BK508","v":16.097354138975604},{"$f":"BL508","v":13.988045216906086},null,"k5",{"$f":"K384-F425*SIN(RADIANS(K390)+I398)","v":57.186567259654382},{"$f":"L384-F425*COS(RADIANS(K390)+I398)","v":98.644132889143506},null,"αk1",{"$f":"IF(M426=N399,RADIANS(90),IF(M426<N399,RADIANS(180)-ATAN((M399-L426)/(N399-M426)),ATAN((M399-L426)/(M426-N399))))","v":0.93593125343595518},null,{"$f":"M398","v":67.34213307159753},{"$f":"N398","v":110.0498389436946},"k''4",null,{"$f":"-Q385+V382","v":-57.34213307159753},{"$f":"R385","v":110.0498389436946},"k''4",null,67.34213307159753,110.0498389436946,"k''4",null,{"$f":"-Y385+AD382","v":-57.34213307159753},{"$f":"Z385","v":110.0498389436946},"k''4",null,null,{"$f":"H407","v":67.335183108957438},{"$f":"I407","v":110.02386642565548},"k''4",null,{"$f":"-AH385-HY101","v":-57.335183108957438},{"$f":"AI385","v":110.02386642565548},"k4",null,{"$f":"H419","v":39.824022134736332},{"$f":"I419","v":131.61808618789061},"k13",null,{"$f":"-AP385-HY101","v":-29.824022134736332},{"$f":"AQ385","v":131.61808618789061},"k13",null,null,{"$f":"BF392","v":61.939550725409596},103.16691776205533,1,"نقطه اول خط تقارن","نقاط قرینه شده نسبت به خط تقارن",null,null,null,null,null,null,{"$f":"BR392","v":61.939550725409596},103.16691776205533,{"$f":"BQ392","v":"پشتk''5"},"نقطه اول خط تقارن","نقاط قرینه شده نسبت به خط تقارن",null,null,null,null,null,null,null,null,{"$f":"CD392","v":61.939550725409596},103.16691776205533,{"$f":"CC392","v":"پشتk''5"},"نقطه اول خط تقارن","نقاط قرینه شده نسبت به خط تقارن",null,null,null,null,null,null,null,{"$f":"CP392","v":34.056537569917268},124.28739569290191,{"$f":"CO392","v":"پشتk11"},"نقطه اول خط تقارن","نقاط قرینه شده نسبت به خط تقارن",null,null,null,null,null,null,{"$f":"K397","v":68.361296022565796},{"$f":"O397","v":110.41197300605984},"k4",null,{"$f":"F393","v":11.6424},{"$f":"G393","v":150},{"$f":"J393","v":25},null,{"$f":"F394","v":22.422713507396281},{"$f":"G394","v":146.47035117947416},{"$f":"J394","v":"22f"},null,{"$f":"F408","v":68.361296022565796},{"$f":"J408","v":110.41197300605984},"k4'",null,null,{"$f":"AV128","v":6.6424000000000003},{"$f":"AV103+H114","v":145},"25 شبیه ساز",null,"قرینه",{"$f":"-DK400","v":-17.422713507396281},{"$f":"DL400","v":141.47035117947416},"سرشانه ",null,{"$f":"DT386","v":5},{"$f":"DU386+AV155","v":108},38,null,{"$f":"AV128+DV382","v":11.6424},{"$f":"AV103+DZ382","v":150},25,null,{"$f":"-DT385+EC383","v":5},{"$f":"EC386+AV155","v":108},38,null,{"$f":"-DX385+EC383","v":-1.6424000000000003},{"$f":"AV103+DZ382","v":150},25,null,{"$f":"-BG165+EL382","v":4.8624999999999998},{"$f":"0+ET382","v":50.5},46,null,{"$f":"-EJ385+EK402","v":5.1375000000000002},{"$f":"EK385","v":50.5},46,null,{"$f":"ER415","v":11.6424},{"$f":"ES415","v":150},23,null,{"$f":"-ER385+EK402","v":-1.6424000000000003},{"$f":"ES385","v":150},23,null,null,null,null,null,{"$f":"H230","v":130},"γ9",null,null,{"$f":"SQRT(POWER(FC389-FC390,2)+POWER(FD389-FD390,2))","v":11.370873989459218},"(26 →21)",null,{"$f":"FG401","v":5.8617667702760503},{"$f":"FH401","v":126.91786554688844},{"$f":"FJ401","v":"e13"},null,{"$f":"FK385+FG406","v":10.86176677027605},{"$f":"FL385+FG407","v":131.91786554688844},"e13",null,null,null,null,null,null,null,null,null,null,null,null,null,null,null,null,null,null,null,null,null,null,null,null,null,null,null,null,null,null,null,null,null,null,null,null,null,null,null,null,null,null,null,null,null,null,null,null,null,null,null,null,null,null,null,null,null,null,null,null,null,null,null,null,null,null,null,null,null,null,null,null,null,null,null,null,null,null,null,null,null,null,null,null,null,null,null,null,null,{"$f":"IY310","v":-5.6616315995457747},{"$f":"IZ310","v":106.96},"a'4",null,null,null,null,null,null,null,null,null,null,null,null,null,null,null,null,null,null,null,null,null,null,null,null,null,null,null,null,null,null,null,null,null,null,null,null,null,null,null,null,null,{"$f":"KQ307+KJ325","v":3.1505092127272167},{"$f":"KR307","v":108.96},"b'1",null,null,null,null,null,null,null,null,null,null,null,null,null,null,null,null,null,null,null,null,null,null,{"$f":"LX353","v":18.086153735831566},{"$f":"LY353","v":49.329812005260379},"f2","نقطه قبل از چرخش",{"$f":"IF(LU385>LU370,IF(LT385>LT370,LT370+SQRT(POWER(LT385-LT370,2)+POWER(LU385-LU370,2))*COS(ATAN((LU385-LU370)/(LT385-LT370+0.000123))+LU368),LT370-SQRT(POWER(LT385-LT370,2)+POWER(LU385-LU370,2))*COS(ATAN((LU385-LU370)/(LT370-LT385+0.000123))-LU368)),IF(LT385>LT370,LT370+SQRT(POWER(LT385-LT370,2)+POWER(LU385-LU370,2))*COS(ATAN((LU370-LU385)/(LT385-LT370+0.000123))-LU368),LT370-SQRT(POWER(LT385-LT370,2)+POWER(LU385-LU370,2))*COS(ATAN((LU370-LU385)/(LT370-LT385+0.000123))+LU368)))","v":20.503187351766623},{"$f":"IF(LU385>LU370,IF(LT385>LT370,LU370+SQRT(POWER(LT385-LT370,2)+POWER(LU385-LU370,2))*SIN(ATAN((LU385-LU370)/(LT385-LT370+0.000123))+LU368),LU370+SQRT(POWER(LT385-LT370,2)+POWER(LU385-LU370,2))*SIN(ATAN((LU385-LU370)/(LT370-LT385+0.000123))-LU368)),IF(LT385>LT370,LU370-SQRT(POWER(LT385-LT370,2)+POWER(LU385-LU370,2))*SIN(ATAN((LU370-LU385)/(LT385-LT370+0.000123))-LU368),LU370-SQRT(POWER(LT385-LT370,2)+POWER(LU385-LU370,2))*SIN(ATAN((LU370-LU385)/(LT370-LT385+0.000123))+LU368)))","v":48.302936355709619},"fg2",null,null,null,null,null,{"$f":"LT318","v":24.329757230700373},{"$f":"LU318","v":107.95999999999998},"a27",null,null,null,null,null,null,null,null,null,null,null,null,null,null,null,null,null,null,null,null,null,null,null,null,null,null,null,null,null,null,null,null,null,null,null,null,null,null,null,null,null,null,"w19",{"$f":"NU270","v":-25},{"$f":"NV270","v":9},{"$f":"NZ390","v":-25.279999999999998},{"$f":"OA390","v":9.6880000000000006},{"$f":"NY390","v":"g6"}]
[null,null,null,null,null,{"$f":"DX385","v":11.6424},{"$f":"DY385","v":150},{"$f":"AZ140","v":12.460665312485961},{"$f":"BA140","v":149.76712499807095},25,null,null,null,"(k10 →k11)''",{"$f":"0.5*(H386-2*H389+2*(H385+H387-'متغیرها '!C397*(H385+H388))*((H389)/(H387)))","v":13.228060418831857},null,null,null,"پهلو لباس",null,null,null,"پهلو لباس",null,{"$f":"L430","v":15.301249999999996},{"$f":"M430","v":50.5},{"$f":"N430","v":50},null,{"$f":"-Y393+AD382","v":-5.301249999999996},{"$f":"Z393","v":50.5},50,null,null,null,null,"پهلو و پایین لباس",null,null,null,"پهلو و پایین لباس",null,null,null,"پهلو و پایین لباس",null,null,null,"پهلو و پایین لباس",null,null,{"$f":"AY392+AX391","v":-96},-1.6755160819145565,{"$f":"BF393+BF390*COS(AZ393)","v":25.510969942442848},{"$f":"BG393-BF390*SIN(AZ393)","v":115.61204809435904},{"$f":"SQRT(POWER((BF392-BA393),2)+POWER((BG392-BB393),2))","v":38.495749984240597},{"$f":"ABS(BF389-BC393)","v":9.2023631421433727},"42پشت",{"$f":"Q410","v":28.254999999999999},{"$f":"R410","v":89.504346053418971},"راس چپ",null,null,{"$f":"BK392+BJ391","v":-96},-1.6755160819145565,{"$f":"BR393+BR390*COS(BL393)","v":24.37608543204918},{"$f":"BS393-BR390*SIN(BL393)","v":123.1762699818688},{"$f":"SQRT(POWER((BR392-BM393),2)+POWER((BS392-BN393),2))","v":42.560405321167309},{"$f":"ABS(BR389-BO393)","v":6.3772863134929167},"پشت36",{"$f":"Q392","v":25.75},{"$f":"R392","v":110.10434605341895},"راس چپ",null,null,{"$f":"BW392+BV391","v":-88},-1.5358897417550099,{"$f":"CD393+CD390*COS(BX393)","v":28.83328463328343},{"$f":"CE393-CD390*SIN(BX393)","v":103.22433503239498},{"$f":"SQRT(POWER((CD392-BY393),2)+POWER((CE392-BZ393),2))","v":33.106315882405219},{"$f":"ABS(CD389-CA393)","v":12.533703482495643},"پشت43''",{"$f":"Q425","v":27.030674896982045},{"$f":"R425","v":51.604346053418951},"راس چپ",null,null,{"$f":"CI392+CH391","v":-94},-1.6406094968746698,{"$f":"CP393+CP390*COS(CJ393)","v":25.053916827789411},{"$f":"CQ393-CP390*SIN(CJ393)","v":120.05879918611592},{"$f":"SQRT(POWER((CP392-CK393),2)+POWER((CQ392-CL393),2))","v":9.9462660654033073},{"$f":"ABS(CP389-CM393)","v":2.0655792417191492},"36پشت",{"$f":"Q437","v":25.75},{"$f":"R437","v":110.10434605341895},"راس چپ",null,{"$f":"J426","v":27.492535621967953},{"$f":"K426","v":128.54033765005761},8,null,{"$f":"K386","v":29.781395992267946},{"$f":"L386","v":126.29324197762277},"k6",null,{"$f":"DB394+0.2*(DB392-DB394)","v":25.48227919845359},{"$f":"DC394+0.85*(DC392-DC394)","v":123.87324267547972},"k6'",null,{"$f":"F395","v":28.25},{"$f":"G395","v":128.5959048933077},12,null,null,{"$f":"I106","v":105},"g","کمر تا زمین",null,null,{"$f":"DK389","v":0},{"$f":"DL389","v":103},{"$f":"DM389","v":"کمر"},null,null,null,null,null,{"$f":"AV104-AV121+DV382","v":24.234000000000002},{"$f":"AV113+AV122+DZ382","v":130.94790489330771},20,null,null,null,null,null,{"$f":"-DX393+EC383","v":-14.234000000000002},{"$f":"AV113+AV122+DZ382","v":130.94790489330771},20,null,null,null,null,null,null,null,null,null,{"$f":"BG108-BG118+EL382","v":23.612760686590384},{"$f":"BG110+BG119+ET382","v":131.48033765005761},16,null,{"$f":"-ER393+EK402","v":-13.612760686590384},131.48033765005761,16,null,null,null,null,{"$f":"DP410","v":17.422713507396281},{"$f":"DQ410","v":141.47035117947416},"g3","پایین شبیه ساز سرشانه",{"$f":"FC401+FD386*COS(RADIANS(FD385)+FD387)","v":-14.207772098633313},{"$f":"FD401+FD386*SIN(RADIANS(FD385)+FD387)","v":139.42790695725463},"ee15",null,{"$f":"FK391","v":-12.149999999999999},{"$f":"FL391","v":115.6},"e1",null,{"$f":"FK397+FG406","v":11.754034570169811},{"$f":"FL397+FG407","v":149.76712499807095},"e'25",null,null,"مولفه افقی","مولفه عمودی","اسم نقطه ",null,"مولفه افقی","مولفه عمودی","اسم نقطه ",null,{"$f":"FT400","v":-12.149999999999999},{"$f":"FU400","v":115.6},{"$f":"FV400","v":"e1"},null,{"$f":"GB393+FX407","v":-7.1499999999999986},{"$f":"GC393+FX408","v":120.6},"e1",null,"شبیه ساز نقاط حلقه آستین جلو بدون ساسون سرشانه",null,null,null,{"$f":"DX385","v":11.6424},150,25,null,"شبیه ساز حلقه آستین پشت بدون ساسون سرشانه",null,null,null,"بالاتنه",null,null,null,"بالاتنه",null,null,null,"مولفه افقی","مولفه عمودی","اسم نقطه ",null,"نقاط  ورودی از شبیه ساز دامن",null,null,null,{"$f":"HH412","v":24.407499999999999},110.15991329666905,"q1",null,"نقاط  ورودی از شبیه ساز دامن",null,null,null,{"$f":"HP416","v":26.653749999999999},110,"r1",null,{"$f":"-HT393+HQ412","v":-16.653749999999999},{"$f":"HU393","v":110},"r1",null,null,null,null,null,null,null,{"$f":"IF(CO158<CO154,CN158,CN154)","v":13.901208400454227},{"$f":"IF(CO158<CO154,CO158,CO154)","v":106.96},"39 یا d5",null,{"$f":"-IF(CO158<CO154,CN158,CN154)+IR325","v":-3.9012084004542267},{"$f":"IF(CO158<CO154,CO158,CO154)","v":106.96},"39 یا d5",null,{"$f":"IF(CO158<CO154,CN158,CN154)","v":13.901208400454227},{"$f":"IF(CO158<CO154,CO158,CO154)","v":106.96},"39 یا d5",null,{"$f":"-IF(CO158<CO154,CN158,CN154)+IR325","v":-3.9012084004542267},{"$f":"IF(CO158<CO154,CO158,CO154)","v":106.96},"39 یا d5",null,{"$f":"CN170","v":6.8494907872727833},{"$f":"CO170","v":108.96},"d1",null,null,{"$f":"IY314","v":-5.8299405970379681},{"$f":"IZ314","v":50.5},"a'8",null,13.901208400454227,106.96,"a2",null,{"$f":"JG416+JG435+(JH416+JG436-JL393)*TAN(JG437)","v":51.500000000000007},{"$f":"JG441+JG438","v":5},"w16",null,{"$f":"JG394","v":14.781420000000001},{"$f":"JH394","v":101.14},"a3",null,{"$f":"JK419","v":28.989597666254408},{"$f":"JL419","v":69.45},"w44",null,null,null,null,null,null,null,null,null,null,null,null,null,null,null,null,null,null,null,null,null,null,null,null,null,null,null,null,null,null,null,null,null,null,null,null,null,null,null,null,null,null,null,null,null,null,null,null,null,null,null,null,null,null,null,null,null,null,null,null,null,null,{"$f":"LX311","v":25.637580750243373},{"$f":"LY311","v":63.746153846153845},"an11"]
[null,null,null,null,null,{"$f":"DT392","v":26.3},{"$f":"DU392","v":89.559913296669052},{"$f":"AZ172-'متغیرها '!C55","v":26.664999999999999},{"$f":"BA172","v":89.559913296669052},45,{"$f":"J425+(H385+H387)*COS(RADIANS('متغیرها '!C392)+M431)","v":68.361296022565796},"k4",{"$f":"L425+(G385+G387)*COS(RADIANS('متغیرها '!C392)+M431)","v":67.34213307159753},{"$f":"M425-(G385+G387)*SIN(RADIANS('متغیرها '!C392)+M431)","v":110.0498389436946},{"$f":"K425-(H385+H387)*SIN(RADIANS('متغیرها '!C392)+M431)","v":110.41197300605984},null,{"$f":"Q442","v":28.254999999999999},{"$f":"R442","v":89.504346053418971},42,null,{"$f":"-Q397+V382","v":-18.254999999999999},{"$f":"R397","v":89.504346053418971},42,null,null,null,null,null,null,null,null,null,null,{"$f":"AP397","v":26.664999999999999},{"$f":"AQ397","v":89.559913296669052},45,null,{"$f":"AT397","v":-16.664999999999999},{"$f":"AU397","v":89.559913296669052},45,null,{"$f":"AZ172-'متغیرها '!C55","v":26.664999999999999},{"$f":"BA172","v":89.559913296669052},45,null,{"$f":"-AP397-HY101","v":-16.664999999999999},{"$f":"AQ397","v":89.559913296669052},45,null,null,{"$f":"AY396+AX391","v":-88},-1.5358897417550099,{"$f":"BF393+BF390*COS(AZ397)","v":29.171164506313126},{"$f":"BG393-BF390*SIN(AZ397)","v":115.73986490501891},{"$f":"SQRT(POWER((BF392-BA397),2)+POWER((BG392-BB397),2))","v":35.097665666873446},{"$f":"ABS(BF389-BC397)","v":5.8042788247762225},"42پشت",28.254999999999999,89.504346053418971,null,null,null,{"$f":"BK396+BJ391","v":-88},-1.5358897417550099,{"$f":"BR393+BR390*COS(BL397)","v":26.208716462815882},{"$f":"BS393-BR390*SIN(BL397)","v":123.24026686765762},{"$f":"SQRT(POWER((BR392-BM397),2)+POWER((BS392-BN397),2))","v":40.983311986909079},{"$f":"ABS(BR389-BO397)","v":4.8001929792346871},"پشت36",25.75,110.10434605341895,null,null,null,{"$f":"BW396+BV391","v":-84},-1.4660765716752369,{"$f":"CD393+CD390*COS(BX397)","v":32.429721972448618},{"$f":"CE393-CD390*SIN(BX397)","v":102.97284763491254},{"$f":"SQRT(POWER((CD392-BY397),2)+POWER((CE392-BZ397),2))","v":29.510466893008175},{"$f":"ABS(CD389-CA397)","v":8.9378544930985981},"پشت43''",27.030674896982045,51.604346053418951,null,null,null,{"$f":"CI396+CH391","v":-82},-1.4311699866353502,{"$f":"CP393+CP390*COS(CJ397)","v":27.138775097176204},{"$f":"CQ393-CP390*SIN(CJ397)","v":119.9859943310677},{"$f":"SQRT(POWER((CP392-CK397),2)+POWER((CQ392-CL397),2))","v":8.146010760172965},{"$f":"ABS(CP389-CM397)","v":0.26532393648880692},"36پشت",25.75,110.10434605341895,null,null,{"$f":"M417","v":37.446931991298669},{"$f":"N417","v":117.94238691258228},"k8",null,{"$f":"K387","v":45.134983319108194},{"$f":"L387","v":123.75808136776226},"k7",null,{"$f":"F413","v":52.948174775803707},{"$f":"J413","v":136.47582195839735},"k7",null,{"$f":"F416","v":41.415680513252099},{"$f":"J416","v":118.64608206874284},"k8'",null,null,null,null,null,null,null,{"$f":"DK421","v":15.773345853042894},{"$f":"DL421","v":131.02635955266163},"شبیه سازb6",null,null,null,null,null,null,null,"ساسون کمر",null,null,null,null,null,null,null,"ساسون کمر",null,{"$f":"EJ395","v":30.0625},{"$f":"EK395","v":89.504346053418971},42,null,{"$f":"-EJ397+EK402","v":-20.0625},{"$f":"EK397","v":89.504346053418971},42,null,{"$f":"ER406","v":13.948125000000001},{"$f":"ES406","v":110},34,null,{"$f":"-ER397+EK402","v":-3.948125000000001},{"$f":"ES397","v":110},34,null,null,null,null,null,{"$f":"O234","v":2.3554358077205046},"قد یقه انگلیسی",null,{"$f":"FG395+IF(FH432>0,FH432*COS(FH426),0)","v":10.37893977120978},{"$f":"FH395+IF(FH432>0,-FH432*SIN(FH426),FH427-FH429)","v":143.58027246742884},"e'9",null,{"$f":"FG395","v":6.7540345701698099},{"$f":"FH395","v":144.76712499807095},{"$f":"FI395","v":"e'25"},null,null,null,null,null,null,{"$f":"BD97-'متغیرها '!C51","v":-12.149999999999999},{"$f":"BE97-'متغیرها '!C52","v":45.5},"1'","پایین لباس روی خط جادکمه",null,null,null,null,{"$f":"FT397","v":-12.149999999999999},{"$f":"FU397","v":45.5},{"$f":"FV397","v":"1'"},null,{"$f":"GB403+FX407","v":17.893541698123489},{"$f":"GC403+FX408","v":138.24113797854284},"e15",null,{"$f":"DK421+DV382","v":20.773345853042894},{"$f":"DL421+DZ382-H114","v":136.02635955266163},"16f",null,null,null,"حلقه آستین",null,{"$f":"GR405+0.5*GS400","v":21.95},{"$f":"GS404+0.45*(GS395-GS404)","v":136.6381989832112},"12f",null,{"$f":"GV423","v":5},{"$f":"GW423","v":148.04126310087344},24,null,{"$f":"-GV397+GS413","v":5},{"$f":"GW397","v":148.04126310087344},24,null,{"$f":"HD424","v":-6.6424000000000003},{"$f":"HE424","v":145},"23قرینه",null,"نقاط  ورودی از شبیه ساز شلوار متصل به بالاتنه",null,null,null,23.171413509148788,41.4,"q5",null,{"$f":"EJ389","v":6.9499999999999993},{"$f":"EK389","v":110},44,null,25.522074043668386,40.923436875181949,"r5",null,{"$f":"-HT397+HQ412","v":-15.522074043668386},40.923436875181949,"r5",null,null,"نقطه ورودی پایین","شیفت 45",{"$f":"AZ172","v":26.664999999999999},{"$f":"BA172","v":89.559913296669052},null,{"$f":"AZ176","v":14.781420000000001},{"$f":"BA176","v":101.14},"47'",null,{"$f":"-AZ176+IR325","v":-4.7814200000000007},{"$f":"BA176","v":101.14},"47'",null,{"$f":"AZ176","v":14.781420000000001},{"$f":"BA176","v":101.14},"47'",null,{"$f":"-AZ176+IR325","v":-4.7814200000000007},{"$f":"BA176","v":101.14},"47'",null,{"$f":"BK170","v":4.8624999999999998},{"$f":"BL170","v":88.4},48,null,null,{"$f":"IY315","v":-15.266625970379661},{"$f":"IZ315","v":50.5},"a'9",null,26.3,87.4,"a6",null,{"$f":"JK398+0.05*(JK395-JK398)","v":-63.78314358525256},{"$f":"JL395+0.75*(JL398-JL395)","v":108.0924432669628},"w20",null,null,null,null,null,{"$f":"JK414","v":17.354280488771337},{"$f":"JL414","v":57.706839404060666},"w39",null,null,null,null,null,null,null,null,null,null,null,null,null,null,null,null,null,null,null,null,null,null,null,null,null,{"$f":"KQ313+KJ325","v":5.1375000000000002},{"$f":"KR313","v":50.5},"b'7",null,null,null,null,null,null,null,null,null,null,null,null,null,null,null,null,null,null,null,null,null,null,null,null,null,null,null,null,null,null,null,null,null,null,null,null,null,null,null,null,null,null,null,null,null,null,null,null,null,null,null,null,null,null,null,null,null,null,null,null,null,null,null,null,null,null,null,null,null,null,null,null,null,null,null,null,null,null,null,"پهنای باکس نوشته",{"$f":"NV241","v":0.60000000000000009},"h4"]
[null,null,null,null,null,"افقی شبیه ساز","آستین کیمونو و سرخود",null,null,"عمودی شبیه ساز",null,"k10",{"$f":"L425+'متغیرها '!C397*(G385+G388)*COS(RADIANS('متغیرها '!C392)+M431)","v":39.830972097376424},{"$f":"M425-'متغیرها '!C397*(G385+G388)*SIN(RADIANS('متغیرها '!C392)+M431)","v":131.64405870592972},null,null,null,null,null,null,null,null,null,null,null,null,null,null,null,null,null,null,null,{"$f":"AP404","v":25.486302394780303},{"$f":"AQ404","v":91.65700380720962},"37'",null,{"$f":"AT404","v":-15.486302394780303},{"$f":"AU404","v":91.65700380720962},"37'",null,{"$f":"FN179-'متغیرها '!C55","v":25.486302394780303},{"$f":"FO179","v":91.65700380720962},"37'",null,{"$f":"-AP404-HY101","v":-15.486302394780303},{"$f":"AQ404","v":91.65700380720962},"37'",null,{"$f":"IF(BD392>BD391,AY391,IF(BD393>BD392,AY392,IF(BD394>BD393,AY393,IF(BD395>BD394,AY394,IF(BD396>BD395,AY395,IF(BD397>BD396,AY396,IF(BD398>BD397,AY397,IF(BD399>BD398,AY398,IF(BD400>BD399,AY399,IF(BD401>BD400,AY400,IF(BD402>BD401,AY401,IF(BD403>BD402,AY402,IF(BD404>BD403,AY403,IF(BD405>BD404,AY404,IF(BD406>BD405,AY405,IF(BD407>BD406,AY406,IF(BD408>BD407,AY407,IF(BD409>BD408,AY408,IF(BD410>BD409,AY409,IF(BD411>BD410,AY410,IF(BD412>BD411,AY411,IF(BD413>BD412,AY412,IF(BD414>BD413,AY413,IF(BD415>BD414,AY414,IF(BD416>BD415,AY415,IF(BD417>BD416,AY416,IF(BD418>BD417,AY417,IF(BD419>BD418,AY418,IF(BD420>BD419,AY419,IF(BD421>BD420,AY420,IF(BD422>BD421,AY421,IF(BD423>BD422,AY422,IF(BD424>BD423,AY423,IF(BD425>BD424,AY424,IF(BD426>BD425,AY425,IF(BD427>BD426,AY426,IF(BD428>BD427,AY427,IF(BD429>BD428,AY428,IF(BD430>BD429,AY429,IF(BD431>BD430,AY430,IF(BD432>BD431,AY431,AY432)))))))))))))))))))))))))))))))))))))))))","v":-74},{"$f":"AY403+AX391","v":-74},-1.2915436464758039,{"$f":"BF393+BF390*COS(AZ404)","v":35.490896957661256},{"$f":"BG393-BF390*SIN(AZ404)","v":114.73891761771132},{"$f":"SQRT(POWER((BF392-BA404),2)+POWER((BG392-BB404),2))","v":28.869403644438702},{"$f":"ABS(BF389-BC404)","v":0.42398319765852222},null,null,null,null,null,{"$f":"IF(BP392>BP391,BK391,IF(BP393>BP392,BK392,IF(BP394>BP393,BK393,IF(BP395>BP394,BK394,IF(BP396>BP395,BK395,IF(BP397>BP396,BK396,IF(BP398>BP397,BK397,IF(BP399>BP398,BK398,IF(BP400>BP399,BK399,IF(BP401>BP400,BK400,IF(BP402>BP401,BK401,IF(BP403>BP402,BK402,IF(BP404>BP403,BK403,IF(BP405>BP404,BK404,IF(BP406>BP405,BK405,IF(BP407>BP406,BK406,IF(BP408>BP407,BK407,IF(BP409>BP408,BK408,IF(BP410>BP409,BK409,IF(BP411>BP410,BK410,IF(BP412>BP411,BK411,IF(BP413>BP412,BK412,IF(BP414>BP413,BK413,IF(BP415>BP414,BK414,IF(BP416>BP415,BK415,IF(BP417>BP416,BK416,IF(BP418>BP417,BK417,IF(BP419>BP418,BK418,IF(BP420>BP419,BK419,IF(BP421>BP420,BK420,IF(BP422>BP421,BK421,IF(BP423>BP422,BK422,IF(BP424>BP423,BK423,IF(BP425>BP424,BK424,IF(BP426>BP425,BK425,IF(BP427>BP426,BK426,IF(BP428>BP427,BK427,IF(BP429>BP428,BK428,IF(BP430>BP429,BK429,IF(BP431>BP430,BK430,IF(BP432>BP431,BK431,BK432)))))))))))))))))))))))))))))))))))))))))","v":-66},{"$f":"BK403+BJ391","v":-74},-1.2915436464758039,{"$f":"BR393+BR390*COS(BL404)","v":29.37295748727044},{"$f":"BS393-BR390*SIN(BL404)","v":122.73910032394745},{"$f":"SQRT(POWER((BR392-BM404),2)+POWER((BS392-BN404),2))","v":37.995438217955126},{"$f":"ABS(BR389-BO404)","v":1.8123192102807337},null,null,null,null,null,{"$f":"IF(CB392>CB391,BW391,IF(CB393>CB392,BW392,IF(CB394>CB393,BW393,IF(CB395>CB394,BW394,IF(CB396>CB395,BW395,IF(CB397>CB396,BW396,IF(CB398>CB397,BW397,IF(CB399>CB398,BW398,IF(CB400>CB399,BW399,IF(CB401>CB400,BW400,IF(CB402>CB401,BW401,IF(CB403>CB402,BW402,IF(CB404>CB403,BW403,IF(CB405>CB404,BW404,IF(CB406>CB405,BW405,IF(CB407>CB406,BW406,IF(CB408>CB407,BW407,IF(CB409>CB408,BW408,IF(CB410>CB409,BW409,IF(CB411>CB410,BW410,IF(CB412>CB411,BW411,IF(CB413>CB412,BW412,IF(CB414>CB413,BW413,IF(CB415>CB414,BW414,IF(CB416>CB415,BW415,IF(CB417>CB416,BW416,IF(CB418>CB417,BW417,IF(CB419>CB418,BW418,IF(CB420>CB419,BW419,IF(CB421>CB420,BW420,IF(CB422>CB421,BW421,IF(CB423>CB422,BW422,IF(CB424>CB423,BW423,IF(CB425>CB424,BW424,IF(CB426>CB425,BW425,IF(CB427>CB426,BW426,IF(CB428>CB427,BW427,IF(CB429>CB428,BW428,IF(CB430>CB429,BW429,IF(CB431>CB430,BW430,IF(CB432>CB431,BW431,BW432)))))))))))))))))))))))))))))))))))))))))","v":-74},{"$f":"BW403+BV391","v":-77},-1.3439035240356338,{"$f":"CD393+CD390*COS(BX404)","v":38.649723853709631},{"$f":"CE393-CD390*SIN(BX404)","v":101.93197629161099},{"$f":"SQRT(POWER((CD392-BY404),2)+POWER((CE392-BZ404),2))","v":23.322545233082536},{"$f":"ABS(CD389-CA404)","v":2.7499328331729593},null,null,null,null,null,{"$f":"IF(CN392>CN391,CI391,IF(CN393>CN392,CI392,IF(CN394>CN393,CI393,IF(CN395>CN394,CI394,IF(CN396>CN395,CI395,IF(CN397>CN396,CI396,IF(CN398>CN397,CI397,IF(CN399>CN398,CI398,IF(CN400>CN399,CI399,IF(CN401>CN400,CI400,IF(CN402>CN401,CI401,IF(CN403>CN402,CI402,IF(CN404>CN403,CI403,IF(CN405>CN404,CI404,IF(CN406>CN405,CI405,IF(CN407>CN406,CI406,IF(CN408>CN407,CI407,IF(CN409>CN408,CI408,IF(CN410>CN409,CI409,IF(CN411>CN410,CI410,IF(CN412>CN411,CI411,IF(CN413>CN412,CI412,IF(CN414>CN413,CI413,IF(CN415>CN414,CI414,IF(CN416>CN415,CI415,IF(CN417>CN416,CI416,IF(CN418>CN417,CI417,IF(CN419>CN418,CI418,IF(CN420>CN419,CI419,IF(CN421>CN420,CI420,IF(CN422>CN421,CI421,IF(CN423>CN422,CI422,IF(CN424>CN423,CI423,IF(CN425>CN424,CI424,IF(CN426>CN425,CI425,IF(CN427>CN426,CI426,IF(CN428>CN427,CI427,IF(CN429>CN428,CI428,IF(CN430>CN429,CI429,IF(CN431>CN430,CI430,IF(CN432>CN431,CI431,CI432)))))))))))))))))))))))))))))))))))))))))","v":-79},{"$f":"CI403+CH391","v":-61},-1.064650843716541,{"$f":"CP393+CP390*COS(CJ404)","v":30.587799278919288},{"$f":"CQ393-CP390*SIN(CJ404)","v":118.83196698300701},{"$f":"SQRT(POWER((CP392-CK404),2)+POWER((CQ392-CL404),2))","v":6.4648161412511298},{"$f":"ABS(CP389-CM404)","v":1.4158706824330283},null,null,null,null,null,{"$f":"HD430+CT434","v":-0.60248702610944171},{"$f":"HE430+CT435","v":168.47559999999999},"قرینهs16",null,5,151.6,"s5","سر",{"$f":"DK407+I403","v":5},{"$f":"DL407+I402","v":151.6},"s5","سر",{"$f":"DB401","v":9.1847120000000011},167.04249999999999,"s2",null,null,{"$f":"DK403+0.7*(DK405-DK403)","v":4.1847120000000002},{"$f":"DL405+0.75*(DL403-DL405)","v":162.04249999999999},"s2","سر",null,2.6569600000000002,137.63905398644982,{"$f":"DM387","v":" شبیه ساز28"},null,null,null,null,null,{"$f":"DX401","v":13.83517},{"$f":"DY401","v":108},39,null,null,null,null,null,{"$f":"-DX401+EC383","v":-3.8351699999999997},{"$f":"EC385","v":108},39,null,null,null,null,null,null,null,null,null,{"$f":"ER406+BG150","v":16.801874999999999},{"$f":"ES406","v":110},35,null,{"$f":"-ER404+EK402","v":-6.801874999999999},{"$f":"ES404","v":110},35,null,null,null,null,null,null,null,null,null,null,null,null,null,null,"قرینه",null,null,null,"رسم پایه",null,null,null,null,null,null,{"$f":"FX403+0.5*FY434*SIN(FY433)+(FY435-FY433)*0.2*FY434","v":12.893541698123489},{"$f":"FY403+0.5*FY434*COS(FY433)","v":133.24113797854284},"e15",null,{"$f":"FX403","v":7.0820958387989847},{"$f":"FY403","v":122.89906013177837},{"$f":"GA403","v":"e20"},null,{"$f":"GB425+FX407","v":15.369950117477204},{"$f":"GC425+FX408","v":148.58321582530729},"e'9",null,null,null,null,null,null,null,null,null,{"$f":"ER425","v":27.492535621967953},{"$f":"ES425","v":128.54033765005761},8,null,{"$f":"GV425","v":27.492535621967953},{"$f":"GW425","v":128.54033765005761},8,null,{"$f":"-GV404+GS413","v":-17.492535621967953},128.54033765005761,8,null,{"$f":"BK150-'متغیرها '!C53","v":0},{"$f":"BL150-'متغیرها '!C54","v":119},"سینه",null,null,null,null,null,null,null,null,null,"نقاط  ورودی از شبیه ساز مایو پادار",null,null,null,null,null,null,null,null,null,null,null,null,"نقطه خروجی میانه","c3",{"$f":"IE396+IF(IE397>IE396,1,-1)*IE399*IF401*SIN(ID401)/IF400","v":24.694757230700372},{"$f":"IF396-IE399*IF401*COS(ID401)/IF400","v":109.11991329666904},null,null,null,null,null,null,null,null,null,null,null,null,null,null,null,null,null,null,null,null,null,null,null,null,null,null,{"$f":"IY310","v":-5.6616315995457747},{"$f":"IZ310","v":106.96},"a'4",null,{"$f":"JL449","v":5.0000800882764205},{"$f":"JM449","v":25.301993361682904},"w27",null,null,null,null,null,{"$f":"-JS402+JG432","v":-16.3},{"$f":"JT402","v":16.375},"w'17",null,null,null,null,null,null,null,null,null,null,null,null,null,null,null,null,null,null,null,null,null,null,null,null,null,{"$f":"KQ315+KJ325","v":-18.83817489698205},{"$f":"KR315","v":50.499999999999993},"b'9",null,null,null,null,null,null,null,null,null,null,null,null,null,null,null,null,null,null,null,null,null,null,null,null,null,null,null,null,null,null,null,null,null,null,null,null,null,null,null,null,null,null,null,null,null,null,null,null,null,null,null,null,null,null,null,null,null,null,null,null,null,null,null,null,null,null,null,null,null,null,null,null,null,null,null,null,null,null,null,"نقاط خروجی","مولفه افقی","مولفه عمودی",{"$f":"NZ409","v":-22.864153439153441},{"$f":"OA409","v":9.5},{"$f":"NY409","v":"h11"}]
[null,null,null,null,null,{"$f":"F395+0.15*(G395-G396)*SIN(0.5*(F423-F424))","v":29.781395992267946},"k6",{"$f":"H395+'متغیرها '!C395*(I395-I396)*SIN(0.5*(H423-H424))","v":30.874228798995492},{"$f":"I395-'متغیرها '!C395*(I395-I396)*COS(0.5*(H423-H424))","v":121.7042324551592},{"$f":"G395-0.15*(G395-G396)*COS(0.5*(F423-F424))","v":126.29324197762277},null,"k15",{"$f":"L430+0.4*(M400-L430)","v":33.956570290163839},{"$f":"M430+0.13*(N400-M430)","v":57.346699309067191},null,null,{"$f":"Q442","v":28.254999999999999},{"$f":"R442","v":89.504346053418971},42,null,{"$f":"-Q412+V382","v":-18.254999999999999},{"$f":"R412","v":89.504346053418971},42,null,null,null,null,null,null,null,null,null,null,{"$f":"AH388","v":61.932600762769503},{"$f":"AI388","v":103.14094524401622},"k''5",null,{"$f":"AL388","v":-51.932600762769503},{"$f":"AM388","v":103.14094524401622},"k5",null,null,null,null,null,null,null,null,null,null,{"$f":"AY411+AX391","v":-58},-1.0122909661567112,{"$f":"BF393+BF390*COS(AZ412)","v":42.16618116231276},{"$f":"BG393-BF390*SIN(AZ412)","v":111.7668896072135},{"$f":"SQRT(POWER((BF392-BA412),2)+POWER((BG392-BB412),2))","v":21.562598628558607},{"$f":"ABS(BF389-BC412)","v":7.7307882135386166},null,null,null,null,null,null,{"$f":"BK411+BJ391","v":-58},-1.0122909661567112,{"$f":"BR393+BR390*COS(BL412)","v":32.715220517052032},{"$f":"BS393-BR390*SIN(BL412)","v":121.25102894924247},{"$f":"SQRT(POWER((BR392-BM412),2)+POWER((BS392-BN412),2))","v":34.367085322407945},{"$f":"ABS(BR389-BO412)","v":1.8160336852664472},null,null,null,null,null,null,{"$f":"BW411+BV391","v":-69},-1.2042771838760873,{"$f":"CD393+CD390*COS(BX412)","v":45.540900432195187},{"$f":"CE393-CD390*SIN(BX412)","v":99.825132180218645},{"$f":"SQRT(POWER((CD392-BY412),2)+POWER((CE392-BZ412),2))","v":16.735688283250038},{"$f":"ABS(CD389-CA412)","v":3.8369241166595387},null,null,null,null,null,null,{"$f":"CI411+CH391","v":-37},-0.64577182323790194,{"$f":"CP393+CP390*COS(CJ412)","v":33.719392795182102},{"$f":"CQ393-CP390*SIN(CJ412)","v":116.10971427108845},{"$f":"SQRT(POWER((CP392-CK412),2)+POWER((CQ392-CL412),2))","v":8.1846282771915941},{"$f":"ABS(CP389-CM412)","v":0.30394145350743607},null,null,null,null,null,{"$f":"-CT383+2*CT434","v":-1.6424000000000003},{"$f":"CU383","v":150},23,null,{"$f":"DB412","v":10.025352973890559},{"$f":"DC412","v":152.9},"g2","گردن",{"$f":"DK402+I403","v":10.025352973890559},{"$f":"DL402+I402","v":152.9},"g2","گردن",{"$f":"DB406","v":5},{"$f":"DC406","v":170.99499999999998},"s15",null,null,null,null,null,null,null,null,null,"گردن",null,null,null,null,null,{"$f":"DX398","v":14.96392},{"$f":"DY398","v":124.1},43,null,null,null,null,null,{"$f":"-DX412+EC383","v":-4.9639199999999999},{"$f":"EG398","v":124.1},43,null,null,null,null,null,null,null,null,null,{"$f":"ER410","v":16.706337151105245},{"$f":"ES410","v":142.15633888616847},22,null,{"$f":"-ER412+EK402","v":-6.7063371511052452},{"$f":"ES412","v":142.15633888616847},22,null,null,null,null,null,null,null,null,null,null,null,null,{"$f":"-FC399","v":12.149999999999999},{"$f":"FD399","v":115.6},"e1",null,null,null,"قرینه",null,null,null,null,null,null,null,null,null,null,{"$f":"-FT397","v":12.149999999999999},{"$f":"FU397","v":45.5},{"$f":"FV397","v":"1'"},null,{"$f":"-GF404+FX409","v":-5.3699501174772042},{"$f":"GG404","v":148.58321582530729},"e'9",null,{"$f":"-GJ395+EC383","v":-12.422713507396281},{"$f":"GK395","v":146.47035117947416},"22f",null,{"$f":"DX404","v":13.83517},{"$f":"DY404","v":108},39,null,null,null,null,null,{"$f":"GV423+BG155","v":15.375},{"$f":"EK385+BG154","v":131.88439243697479},40,null,{"$f":"-GV412+GS413","v":-5.375},{"$f":"GW412","v":131.88439243697479},40,null,null,null,null,null,{"$f":"HH395","v":24.407499999999999},{"$f":"HI395","v":110.15991329666905},"q1",null,5,80.016000000000005,"q16",null,"قرینه",{"$f":"2*C102","v":10},null,null,4.8624999999999998,79.960432756749924,"r16",null,{"$f":"-HT412+HQ412","v":5.1375000000000002},79.960432756749924,"r16",null,null,null,null,"ماکزیمم متغیر ورودی  ضریب طول",20,null,{"$f":"IF(CO160<CO156,CN160,CN156)","v":24.694757230700372},{"$f":"IF(CO160<CO156,CO160,CO156)","v":109.11991329666904}," شیفت41 یا d3",null,{"$f":"-IF(CO160<CO156,CN160,CN156)+IR325","v":-14.694757230700372},{"$f":"IF(CO160<CO156,CO160,CO156)","v":109.11991329666904}," شیفت41 یا d3",null,{"$f":"IF(CO160<CO156,CN160,CN156)","v":24.694757230700372},{"$f":"IF(CO160<CO156,CO160,CO156)","v":109.11991329666904}," شیفت41 یا d3",null,{"$f":"-IF(CO160<CO156,CN160,CN156)+IR325","v":-14.694757230700372},{"$f":"IF(CO160<CO156,CO160,CO156)","v":109.11991329666904}," شیفت41 یا d3",null,{"$f":"KM330","v":4.8624999999999998},{"$f":"KN330","v":50.5},"b25",null,null,{"$f":"JG310","v":-16.3},{"$f":"JH310","v":87.4},{"$f":"JI310","v":"c'62"},null,-17.683965958026238,107.95999999999998,"b'5",null,{"$f":"JK409","v":22.482039725780439},{"$f":"JL404+(JK412-JK404)*TAN(JG446)","v":61.536574211093516},"w37",null,{"$f":"JG400","v":24.329757230700373},{"$f":"JH400","v":107.95999999999998},"a26",null,{"$f":"-JS394+JG432","v":-16.3},{"$f":"JT394","v":69.45},"w'29",null,null,null,null,null,null,null,null,null,null,null,null,null,null,null,null,null,null,null,null,null,null,null,null,null,{"$f":"KQ307+KJ325","v":3.1505092127272167},{"$f":"KR307","v":108.96},"b'1"]
[null,null,null,null,null,{"$f":"F413-(1.4/1)*F425*SIN(RADIANS(0)+I398)","v":48.924511372361664},"k8",{"$f":"H413-(1.4/'متغیرها '!C394)*H425*SIN(RADIANS('متغیرها '!C392)+I398)","v":37.439982028658576},{"$f":"I413-(1.4/'متغیرها '!C394)*H425*COS(RADIANS('متغیرها '!C392)+I398)","v":117.91641439454317},{"$f":"J413-(1.4/1)*F425*COS(RADIANS(0)+I398)","v":124.18668070301311},null,null,null,null,"شببیه ساز آرنچ",null,null,null,"رسم آستین کیمونو تا پایین لباس",null,null,null,"رسم آستین کیمونو تا پایین لباس",null,null,null,null,null,null,null,null,null,null,{"$f":"AU427","v":34.922371090274993},{"$f":"AV427","v":114.47893473597871},"k6",null,{"$f":"-AH415-HY101","v":-24.922371090274993},{"$f":"AI415","v":114.47893473597871},"k6",null,67.335183108957438,110.02386642565548,"k''4",null,-57.335183108957438,110.02386642565548,"k''4",null,null,{"$f":"AY414+AX391","v":-52},-0.90757121103705141,{"$f":"BF393+BF390*COS(AZ415)","v":44.417043722462054},{"$f":"BG393-BF390*SIN(AZ415)","v":110.19081867512296},{"$f":"SQRT(POWER((BF392-BA415),2)+POWER((BG392-BB415),2))","v":18.877855696687},{"$f":"ABS(BF389-BC415)","v":10.415531145410224},null,null,null,null,null,null,{"$f":"BK414+BJ391","v":-52},-0.90757121103705141,{"$f":"BR393+BR390*COS(BL415)","v":33.842209943908841},{"$f":"BS393-BR390*SIN(BL415)","v":120.4619024570747},{"$f":"SQRT(POWER((BR392-BM415),2)+POWER((BS392-BN415),2))","v":32.99359111392301},{"$f":"ABS(BR389-BO415)","v":3.1895278937513822},null,null,null,null,null,null,{"$f":"BW414+BV391","v":-66},-1.1519173063162575,{"$f":"CD393+CD390*COS(BX415)","v":48.039213764146709},{"$f":"CE393-CD390*SIN(BX415)","v":98.790296915066818},{"$f":"SQRT(POWER((CD392-BY415),2)+POWER((CE392-BZ415),2))","v":14.573063427946288},{"$f":"ABS(CD389-CA415)","v":5.9995489719632893},null,null,null,null,null,null,{"$f":"CI414+CH391","v":-28},-0.48869219055841229,{"$f":"CP393+CP390*COS(CJ415)","v":34.560722909924991},{"$f":"CQ393-CP390*SIN(CJ415)","v":114.78909052438193},{"$f":"SQRT(POWER((CP392-CK415),2)+POWER((CQ392-CL415),2))","v":9.5116772407084973},{"$f":"ABS(CP389-CM415)","v":1.6309904170243392},null,null,null,null,null,null,null,null,null,{"$f":"DK390+I403","v":5},{"$f":"DL390+I402","v":124.1},{"$f":"DM390","v":"خط سینه"},null,null,null,"خط سینه",null,{"$f":"DB409","v":14.33747837684907},150,"s18",null,null,{"$f":"U110","v":17.368369552128954},{"$f":"V110","v":39.390709103685296},"34 شبیه ساز","نقطه ساسون سرشانه",null,{"$f":"DK401","v":5.0253529738905582},{"$f":"DL401","v":150.80000000000001},{"$f":"DM401","v":"g1"},null,null,null,null,null,{"$f":"DX421","v":22.368369552128954},{"$f":"DY421","v":147.39070910368531},34,null,null,null,null,null,{"$f":"-DX415+EC383","v":-12.368369552128954},{"$f":"EG421","v":147.39070910368531},34,null,null,null,null,null,null,null,null,null,{"$f":"BG127+EL382","v":11.6424},{"$f":"BG103+ET382","v":150},23,null,{"$f":"-ER415+EK402","v":-1.6424000000000003},{"$f":"ES415","v":150},23,null,null,null,null,null,"به دست آوردن مختصات نقطه تقاطع دو خط با داشتن دونقطه از یک خط ",null,null,null,null,null,null,{"$f":"-FC395","v":12.149999999999999},{"$f":"FD395","v":45.5},{"$f":"FE395","v":"1'"},null,null,null,null,null,null,null,null,null,null,null,null,null,null,null,null,null,null,{"$f":"-GF407+FX409","v":-1.7540345701698108},{"$f":"GG407","v":151.91593006347532},"e''9",null,{"$f":"-GJ398+EC383","v":-11.894843975086459},132.31113222298467,"20f",null,{"$f":"DX407","v":14.96392},{"$f":"DY407","v":88.4},47,null,null,null,null,null,{"$f":"EJ389+BG149-BG163","v":13.948125000000001},{"$f":"EK389","v":110},34,null,{"$f":"-GV415+GS413","v":-3.948125000000001},{"$f":"GW415","v":110},34,null,null,null,null,null,{"$f":"HH428+0.45*(HH402-HH401)","v":23.702292124606828},{"$f":"HI401","v":50.5},"q4",null,{"$f":"HH394","v":5},{"$f":"HI394","v":108},38,null,"مولفه افقی","مولفه عمودی","اسم نقطه ",null,{"$f":"HP394","v":4.8624999999999998},{"$f":"HQ394","v":89.504346053418971},48,null,{"$f":"-HT415+HQ412","v":5.1375000000000002},{"$f":"HU415","v":89.504346053418971},48,null,null,"نقطه خروجی پایین","c2",{"$f":"IE416+IF(IE409>IE408,1,-1)*IE410*COS(ID413)","v":25.876465958026234},{"$f":"IF416+IE410*SIN(ID413)","v":109.06434605341894},null,{"$f":"AZ172","v":26.664999999999999},{"$f":"BA172","v":89.559913296669052},"شیفت 45",null,{"$f":"-AZ172+IR325","v":-16.664999999999999},{"$f":"BA172","v":89.559913296669052},"شیفت 45",null,{"$f":"AZ172","v":26.664999999999999},{"$f":"BA172","v":89.559913296669052},"شیفت 45",null,{"$f":"-AZ172+IR325","v":-16.664999999999999},{"$f":"BA172","v":89.559913296669052},"شیفت 45",null,{"$f":"KM329","v":4.8624999999999998},{"$f":"KN329","v":50.5},"b24",null,null,-9.995694415123074,50.5,"d'53",null,{"$f":"KQ319","v":-19.111086383210498},98.68,"b'13",null,{"$f":"JK412-JH425+(JH393-JL415)*JG448","v":19.068260707280352},{"$f":"JL412","v":61.536574211093516},"w40",null,{"$f":"JG393","v":13.901208400454227},{"$f":"JH393","v":106.96},"a2",null,null,null,null,null,null,null,null,null,null,null,null,null,null,null,null,null,null,null,null,null,null,null,null,null,null,null,null,null,{"$f":"KQ325+KJ325","v":3.1505092127272167},{"$f":"KR325","v":108.96},"b'20",null,null,null,null,null,null,null,null,null,null,null,null,null,null,null,null,null,null,null,null,null,null,null,null,null,null,null,null,null,null,null,null,null,null,null,null,null,null,null,null,null,null,null,null,null,null,null,null,null,null,null,null,null,null,null,null,null,null,null,null,null,null,null,null,null,null,null,null,null,null,null,null,null,null,null,null,null,null,null,null,null,"انحنا چپگرد ",null,null,{"$f":"OA415","v":"انحنا چپگرد "}]
[null,null,null,null,null,{"$f":"ATAN((F395-F396)/(G395-G396))","v":0.20548212099049465},"αk2",{"$f":"ATAN((H395-H396)/(I395-I396))","v":0.19597661614172571},null,{"$f":"ER415","v":11.6424},{"$f":"ES415","v":150},{"$f":"BK104","v":12.467615275126056},{"$f":"BL104","v":149.79309751611007},23,null,null,{"$f":"IF(CE394>R425,CD394,CA387)","v":41.267745004886613},{"$f":"IF(CE394>R425,CE394,CB387)","v":101.25490998570098},"k6",null,{"$f":"-Q424+V382","v":-31.267745004886613},{"$f":"R424","v":101.25490998570098},"k6",null,null,null,null,null,null,null,null,null,null,{"$f":"AH403","v":20.359420446328528},{"$f":"AI403","v":105.74299619279039},37,null,{"$f":"AL403","v":-10.359420446328528},{"$f":"AM403","v":105.74299619279039},37,null,{"$f":"AP404","v":25.486302394780303},{"$f":"AQ404","v":91.65700380720962},"37'",null,{"$f":"AT404","v":-15.486302394780303},{"$f":"AU404","v":91.65700380720962},"37'",null,null,{"$f":"AY423+AX391","v":-34},-0.59341194567807209,{"$f":"BF393+BF390*COS(AZ424)","v":50.018488592673322},{"$f":"BG393-BF390*SIN(AZ424)","v":104.18400446538013},{"$f":"SQRT(POWER((BF392-BA424),2)+POWER((BG392-BB424),2))","v":11.964371597983691},{"$f":"ABS(BF389-BC424)","v":17.329015244113535},null,null,null,null,null,null,{"$f":"BK423+BJ391","v":-34},-0.59341194567807209,{"$f":"BR393+BR390*COS(BL424)","v":36.646809947309627},{"$f":"BS393-BR390*SIN(BL424)","v":117.45433716929257},{"$f":"SQRT(POWER((BR392-BM424),2)+POWER((BS392-BN424),2))","v":29.049149546698615},{"$f":"ABS(BR389-BO424)","v":7.1339694609757771},null,null,null,null,null,null,{"$f":"BW423+BV391","v":-57},-0.99483767363676789,{"$f":"CD393+CD390*COS(BX424)","v":55.162072769476872},{"$f":"CE393-CD390*SIN(BX424)","v":94.92290002040184},{"$f":"SQRT(POWER((CD392-BY424),2)+POWER((CE392-BZ424),2))","v":10.672302280569625},{"$f":"ABS(CD389-CA424)","v":9.9003101193399523},null,null,null,null,null,null,{"$f":"CI423+CH391","v":-1},-1.7453292519943295E-2,{"$f":"CP393+CP390*COS(CJ424)","v":35.727241079083655},{"$f":"CQ393-CP390*SIN(CJ424)","v":110.27849944425884},{"$f":"SQRT(POWER((CP392-CK424),2)+POWER((CQ392-CL424),2))","v":14.10816870897094},{"$f":"ABS(CP389-CM424)","v":6.2274818852867817},null,null,null,null,null,null,null,"آرنج",null,null,null,null,null,null,null,null,null,null,null,null,null,null,null,null,null,null,null,4.1847120000000002,148.99250000000001,"s4",null,null,null,null,null,{"$f":"DX388","v":5},{"$f":"DY388","v":141.82117109605537},26,null,null,null,null,null,{"$f":"-DX424+EC383","v":5},{"$f":"EG388","v":141.82117109605537},26,null,null,null,null,null,null,null,null,null,null,null,null,null,null,null,null,null,null,null,null,null,null,null,null,null,null,null,null,{"$f":"-FG401","v":-5.8617667702760503},{"$f":"FH401","v":126.91786554688844},{"$f":"FJ401","v":"e13"},null,{"$f":"-FO395+FG408","v":-1.7540345701698108},{"$f":"FP395","v":149.76712499807095},"e'25",null,null,{"$f":"DK402","v":5.0253529738905582},{"$f":"DL402","v":147.9},"g2","گردن شبیه ساز",null,{"$f":"0.5+FU425","v":2.1488050654043533},"m2",null,{"$f":"FT435","v":7.8388092343620279},{"$f":"FU435","v":145.2495729443913},"e99",null,{"$f":"-GF399+FX409","v":7.2582608394985488},{"$f":"GG399","v":123.74769698258156},"e13",null,{"$f":"-DX402+EC383","v":-4.9639199999999999},{"$f":"DY402","v":124.1},43,null,null,null,null,null,null,null,null,null,null,null,null,null,null,null,null,null,{"$f":"-HD418","v":-6.6424000000000003},{"$f":"HE418","v":145},"23قرینه",null,{"$f":"HH428-HH415+HH428","v":7.5977078753931728},{"$f":"HI415","v":50.5},"q13",null,{"$f":"-HH418+EC383","v":-11.392445795017686},12.280000000000001,"q7",null,{"$f":"HP432-(HP423-HP432)","v":11.985191668849509},{"$f":"HQ423","v":5},"r9",null,null,null,null,null,null,null,null,null,null,null,null,null,null,null,{"$f":"CN157","v":5},{"$f":"CO157","v":106.96},"d4",null,{"$f":"-CN157+IR325","v":5},{"$f":"CO157","v":106.96},"d4",null,{"$f":"CN157","v":5},{"$f":"CO157","v":106.96},"d4",null,{"$f":"-CN157+IR325","v":5},{"$f":"CO157","v":106.96},"d4",null,{"$f":"CN170","v":6.8494907872727833},{"$f":"CO170","v":108.96},"d1",null,null,{"$f":"JG318","v":-9.995694415123074},{"$f":"JH318","v":50.5},{"$f":"JI318","v":"c'53"},null,"متغیرهای ورودی",null,null,null,{"$f":"JK412+(JH393-JL415)*JG448","v":24.068260707280352},{"$f":"JL412","v":61.536574211093516},"w51",null,{"$f":"JG419+JG435","v":49.513009212727219},{"$f":"JH419+JG436","v":108.96},"b'21",null,null,null,null,null,null,null,null,null,null,null,null,null,null,null,null,null,null,null,null,null,null,null,null,null,null,null,null,null,{"$f":"KQ330+KJ325","v":5.1375000000000002},{"$f":"KR330","v":50.5},"b'25",null,null,null,null,null,null,null,null,null,null,null,null,null,null,null,null,null,null,null,null,null,null,null,null,null,null,null,null,null,null,null,null,null,null,null,null,null,null,null,null,null,null,null,null,null,null,null,null,null,null,null,null,null,null,null,null,null,null,null,null,null,null,null,null,null,null,null,null,null,null,null,null,null,null,null,null,null,null,null,"g6",{"$f":"NZ423","v":-19.098306878306882},{"$f":"OA421-OA423+OA419","v":10.488000000000001}]
[null,null,null,null,null,"k14",{"$f":"H400+0.8*(H410-H400)","v":52.575364610215601},{"$f":"I400+0.6*(I410-I400)","v":82.084567146409739},null,null,null,"α4",{"$f":"'متغیرها '!B315","v":0.31641567605125198},"زاویه سرشانه با افق",null,null,null,null,null,null,null,null,null,null,null,null,null,null,null,null,null,null,null,null,null,null,null,null,null,null,null,"αk2",{"$f":"ATAN((L426-L429)/(M426-M429))","v":6.0031094330896791E-3},{"$f":"N429","v":"43''"},"مربوط به نقطه ","k6",{"$f":"L426+'متغیرها '!C395*(M426-M429)*SIN(0.5*(O385-AQ431))","v":41.291488501599112},{"$f":"M426-'متغیرها '!C395*(M426-M429)*COS(0.5*(O385-AQ430))","v":101.21142339640186},null,null,{"$f":"AY430+AX391","v":-20},-0.3490658503988659,{"$f":"BF393+BF390*COS(AZ431)","v":52.923350760104576},{"$f":"BG393-BF390*SIN(AZ431)","v":98.482891458535079},{"$f":"SQRT(POWER((BF392-BA431),2)+POWER((BG392-BB431),2))","v":10.160313195292549},{"$f":"ABS(BF389-BC431)","v":19.133073646804675},null,null,null,null,null,null,{"$f":"BK430+BJ391","v":-20},-0.3490658503988659,{"$f":"BR393+BR390*COS(BL431)","v":38.101251905309162},{"$f":"BS393-BR390*SIN(BL431)","v":114.59983410287521},{"$f":"SQRT(POWER((BR392-BM431),2)+POWER((BS392-BN431),2))","v":26.438155508518136},{"$f":"ABS(BR389-BO431)","v":9.7449634991562561},null,null,null,null,null,null,{"$f":"BW430+BV391","v":-50},-0.87266462599716477,{"$f":"CD393+CD390*COS(BX431)","v":60.231589324834317},{"$f":"CE393-CD390*SIN(BX431)","v":91.171655100224825},{"$f":"SQRT(POWER((CD392-BY431),2)+POWER((CE392-BZ431),2))","v":12.116247705959145},{"$f":"ABS(CD389-CA431)","v":8.456364693950432},null,null,null,null,null,null,{"$f":"CI430+CH391","v":20},0.3490658503988659,{"$f":"CP393+CP390*COS(CJ431)","v":35.126967975457973},{"$f":"CQ393-CP390*SIN(CJ431)","v":106.69140882268483},{"$f":"SQRT(POWER((CP392-CK431),2)+POWER((CQ392-CL431),2))","v":17.628515966749944},{"$f":"ABS(CP389-CM431)","v":9.7478291430657862},null,null,null,null,null,null,null,null,null,null,null,null,null,null,null,null,null,{"$f":"-DF391-HY101","v":-18.25},{"$f":"DG391","v":128.5959048933077},12,null,null,null,null,null,null,null,{"$f":"DK411","v":9.3374783768490701},{"$f":"DL411","v":145},"s18",null,null,null,null,null,null,null,null,null,null,null,null,null,null,null,null,null,null,null,null,null,null,null,null,null,null,null,null,null,null,null,null,null,null,null,null,"با شرط پایه دار",{"$f":"IF(FC434=1,FS741,0)","v":0},"γ18","تکه پشت یقه",null,{"$f":"FH427*COS(FH430)","v":0.66862686851126119},"m6",null,{"$f":"-FG394","v":-9.3351784725411484},{"$f":"FH394","v":133.21952547104223},{"$f":"FI394","v":"e21"},null,{"$f":"-FO402+FG408","v":-4.3351784725411484},{"$f":"FP402","v":138.21952547104223},"e21",null,null,"نقاط  خروجی ",null,null,null,null,{"$f":"FY424*SIN(FY427)","v":2.0421315628069197},"m9",null,{"$f":"-FT433","v":-6.7540345701698099},{"$f":"FU433","v":146.91593006347532},"e''9",null,null,null,null,null,null,null,"سرشانه",null,null,null,null,null,null,null,null,null,null,null,null,null,null,null,null,null,{"$f":"-DK410","v":-8.8706044580066159},{"$f":"DL410","v":153.398},"قرینهs17",null,null,null,null,null,{"$f":"-HH421+EC383","v":9.2445795017685128E-2},12.280000000000001,"q10",null,{"$f":"HP406","v":4.8624999999999998},{"$f":"HQ406","v":79.960432756749924},"r16",null,null,null,null,null,null,null,null,null,null,null,null,null,null,null,21.385117552375899,51.137952313167972,"شیفت50''",null,{"$f":"-BD184+IR325","v":-11.385117552375899},{"$f":"BE184","v":51.137952313167972},"شیفت50''",null,21.385117552375899,51.137952313167972,"شیفت50''",null,{"$f":"-BD184+IR325","v":-11.385117552375899},{"$f":"BE184","v":51.137952313167972},"شیفت50''",null,null,null,null,null,null,null,null,null,null,null,null,null,null,null,null,null,null,null,null,null,null,{"$f":"-JS416+JG432","v":-5.6403002702623226},{"$f":"JT416","v":53.877104597027824},"w'38",null,null,null,null,null,null,null,null,null,null,null,null,null,null,null,null,null,null,null,null,null,null,null,null,null,{"$f":"KY309+KJ325","v":-13.282522223681289},50.5,"d'53",null,null,null,null,null,null,null,null,null,null,null,null,null,null,null,null,null,null,null,null,null,null,null,null,null,null,null,null,null,null,null,null,null,null,null,null,null,null,null,null,null,null,null,null,null,null,null,null,null,null,null,null,null,null,null,null,null,null,null,null,null,null,null,null,null,null,null,null,null,null,null,null,null,null,null,null,null,null,null,"بزرگی فلش",{"$f":"NV250","v":0.24000000000000005},{"$f":"NV243","v":0.5},{"$f":"NZ433","v":-22.18915343915344},{"$f":"OA433","v":10.600000000000001},{"$f":"NY433","v":"w24"}]
[null,null,null,null,null,null,null,null,"مقایسه خط پهلو جلو و پشت",null,null,null,null,null,null,null,{"$f":"M405","v":34.056537569917268},{"$f":"N405","v":124.28739569290191},"k11",null,{"$f":"-Q435+V382","v":-24.056537569917268},{"$f":"R435","v":124.28739569290191},"k11",null,null,null,null,null,null,null,null,null,null,{"$f":"H410","v":61.932600762769503},{"$f":"I410","v":103.14094524401622},"k''5",null,{"$f":"-AH435-HY101","v":-51.932600762769503},{"$f":"AI435","v":103.14094524401622},"k''5",null,null,null,null,null,null,null,null,null,null,null,null,null,null,null,null,null,null,null,null,null,null,null,null,null,null,null,null,null,null,null,null,null,null,null,null,null,null,null,null,null,null,null,null,null,null,null,null,null,null,null,null,null,null,null,null,null,{"$f":"C103","v":5},"شیفت عمودی شبیه ساز پشت",null,null,null,null,null,null,null,null,null,null,{"$f":"-DF397-HY101","v":-31.415680513252099},{"$f":"DG397","v":118.64608206874284},"k8'",null,null,null,null,null,null,"قرینه",{"$f":"-DK409","v":-5.6024870261094417},{"$f":"DL409","v":163.47559999999999},"s16",null,null,null,null,null,null,null,null,null,null,null,null,null,null,null,null,null,null,null,null,null,null,null,null,null,null,null,null,null,null,null,null,null,null,null,null,"نقاط  خروجی ",null,null,null,null,{"$f":"FH429*COS(FH433)","v":4.4828838926272594},"m10",null,{"$f":"FC439","v":7.8415061304818003},{"$f":"FD439","v":145.24810126545208},"e99",null,{"$f":"-FO406+FG408","v":-2.8415061304818003},{"$f":"FP406","v":150.24810126545208},"e99",null,null,{"$f":"FT433+0.3*(FX396-FT433)","v":7.8388092343620279},{"$f":"FY396+0.5*(FU433-FY396)","v":145.2495729443913},"e99",null,null,{"$f":"ATAN((FX403-FX402)/(FY403-FY402))","v":1.1525636368226857},"m13",null,{"$f":"-FX395","v":-6.7540345701698099},{"$f":"FY395","v":144.76712499807095},"e'25",null,null,null,null,null,null,null,"خط مرکزی جلو",null,null,null,null,null,null,null,null,null,null,null,null,null,null,null,null,null,{"$f":"DK402","v":5.0253529738905582},{"$f":"DL402-(DL385-HE418)","v":147.9},"g2",null,null,null,null,null,{"$f":"-HH425+EC383","v":2.9264556450866621},65.25800000000001,"q14",null,null,null,null,null,null,null,null,null,null,null,null,null,null,null,null,null,null,null,null,null,null,null,null,null,null,null,null,"زیپ",null,null,null,"زیپ",null,null,{"$f":"IF(CO172<CO167,CN172,CN167)","v":17.073578489336334},{"$f":"IF(CO172<CO167,CO172,CO167)","v":108.96}," شیفت35 یا dd2",null,null,{"$f":"JG326","v":-4.7814200000000007},101.14,"c'49",null,{"$f":"JG397-JG413","v":46.362500000000004},"w6","انطباق افقی پشت به جلو",null,null,null,null,null,{"$f":"JG409+JG435","v":41.026078489336342},{"$f":"JH409+JG436","v":108.96},"b'2",null,{"$f":"-JS420+JG432","v":-5.6343222208605077},{"$f":"JT420","v":106.96},"w'42",null,null,null,null,null,null,null,null,null,null,null,null,null,null,null,null,null,null,null,null,null,null,null,null,null,null,null,null,null,null,null,null,null,null,null,null,null,null,null,null,null,null,null,null,null,null,null,null,null,null,null,null,null,null,null,null,null,null,null,null,null,null,null,null,null,null,null,null,null,null,null,null,null,null,null,null,null,null,null,null,null,null,null,null,null,null,null,null,null,null,null,null,null,null,null,null,null,null,null,null,null,null,null,null,null,null,null,"f3",{"$f":"NZ434","v":-21.949153439153442},{"$f":"OA433+OA431*NZ431","v":10.72},{"$f":"NZ434","v":-21.949153439153442},{"$f":"OA434","v":10.480000000000002},{"$f":"NY434","v":"f2"}]
[null,null,null,null,null,null,{"$f":"SQRT(POWER((AH437-AH436),2)+POWER((AI437-AI436),2))","v":51.651453648963404},"(49' →k6)","(43'' →k6)",{"$f":"SQRT(POWER((Q424-Q425),2)+POWER((R424-R425),2))","v":51.651453648963397},null,null,null,null,null,null,{"$f":"BK172-'متغیرها '!C56","v":27.030674896982045},{"$f":"BL172-'متغیرها '!C57","v":51.604346053418951},"43''",null,{"$f":"-Q443+V382","v":-17.030674896982045},{"$f":"R443","v":51.604346053418951},"43''",null,null,null,null,null,null,null,null,null,null,{"$f":"AH404","v":25.486302394780303},{"$f":"AI404","v":91.65700380720962},"37'",null,{"$f":"AL404","v":-15.486302394780303},{"$f":"AM404","v":91.65700380720962},"37'",null,null,null,null,null,null,null,null,null,null,null,null,null,null,null,null,null,null,null,null,null,null,null,null,null,null,null,null,null,null,null,null,null,null,null,null,null,null,null,null,null,null,null,null,null,null,null,null,null,null,null,null,null,null,null,null,null,null,null,null,null,null,null,null,null,null,null,null,null,null,null,null,null,null,null,null,null,null,null,null,null,null,null,null,null,null,null,null,null,null,null,null,null,null,null,null,null,null,null,null,null,null,null,null,null,null,null,null,null,null,null,null,null,null,null,null,null,null,null,null,null,null,null,null,null,null,{"$f":"-FC439","v":-7.8415061304818003},{"$f":"FD439","v":145.24810126545208},"e99",null,null,null,null,null,null,null,null,null,null,null,null,null,null,null,null,null,null,null,null,null,null,null,null,null,null,null,null,null,null,null,null,null,null,null,null,null,null,null,null,null,null,null,null,null,null,null,null,null,null,null,null,null,null,null,null,null,null,null,null,null,null,null,null,null,null,null,null,null,null,null,null,{"$f":"IE403","v":24.694757230700372},{"$f":"IF403","v":109.11991329666904},"c2",null,{"$f":"-IE403+IR325","v":-14.694757230700372},{"$f":"IF403","v":109.11991329666904},"c2",null,{"$f":"IE404","v":24.694757230700372},{"$f":"IF404","v":109.11991329666904},"c3",null,{"$f":"-IE404+IR325","v":-14.694757230700372},{"$f":"IF404","v":109.11991329666904},"c3",null,null,null,null,null,null,null,null,"پیلی 4",null,null,"w14",null,null,null,null,null,null,null,null,null,null,{"$f":"-JS428+JG432","v":-14.329757230700373},{"$f":"JT428","v":107.95999999999998},"a'5",null,null,null,null,null,null,null,null,null,null,null,null,null,null,null,null,null,null,null,null,null,null,null,null,null,{"$f":"KY310+KJ325","v":-13.282522223681289},{"$f":"KZ310","v":108.45999999999998},{"$f":"LA310","v":"c'52"},null,null,null,null,null,null,null,null,null,null,null,null,null,null,null,null,null,null,null,null,null,null,null,null,null,null,null,null,null,null,null,null,null,null,null,null,null,null,null,null,null,null,null,null,null,null,null,null,null,null,null,null,null,null,null,null,null,null,null,null,null,null,null,null,null,null,null,null,null,null,null,null,null,null,null,null,null,null,null,"g2",{"$f":"NZ441","v":-25},{"$f":"OA441+NZ438","v":11.400000000000002}]
[null,null,null,null,null,null,null,null,null,null,null,null,null,null,null,null,null,null,null,null,null,null,null,null,null,null,null,null,null,null,null,null,null,null,null,null,null,null,null,null,null,null,null,null,null,null,null,null,null,null,null,null,null,null,null,null,null,null,null,null,null,null,null,null,null,null,null,null,null,null,null,null,null,null,null,null,null,null,null,null,null,null,null,null,null,null,null,null,null,null,null,null,null,null,null,null,null,null,null,null,null,null,null,null,null,null,null,null,null,null,null,null,null,null,null,null,null,null,null,null,null,null,null,null,null,null,null,null,null,null,null,null,null,null,null,null,null,null,null,null,null,null,null,null,null,null,null,null,null,null,null,null,null,null,null,null,null,null,null,null,null,null,null,null,null,null,null,null,null,null,null,null,null,null,null,null,null,null,null,null,null,null,null,null,null,null,null,null,null,null,null,null,null,null,null,null,null,null,null,null,null,null,null,null,null,null,null,null,null,null,null,null,null,null,null,null,null,null,null,null,null,null,null,null,null,null,null,null,null,null,null,null,null,null,null,null,null,null,null,null,null,{"$f":"IU320","v":-7.1499999999999986},{"$f":"IV320","v":50.5},"a14",null,{"$f":"-IU320+IR325","v":17.149999999999999},{"$f":"IV320","v":50.5},"a14",null,null,null,null,null,null,null,null,null,null,null,"پایین لباس پهلو",null,null,null,null,null,null,null,null,null,null,null,null,null,null,{"$f":"JG421+JG435","v":28.678534041973766},{"$f":"JH421+JG436","v":107.95999999999998},"b'27",null,{"$f":"JG392","v":5},{"$f":"JH392","v":106.96},"a1",null,null,null,null,null,null,null,null,null,null,null,null,null,null,null,null,null,null,null,null,null,null,null,null,null,{"$f":"KY320+KJ325","v":-7.1087500000000006},50.5,"c'50",null,null,null,null,null,null,null,null,null,null,null,null,null,null,null,null,null,null,null,null,null,null,null,null,null,null,null,null,null,null,null,null,null,null,null,null,null,null,null,null,null,null,null,null,null,null,null,null,null,null,null,null,null,null,null,null,null,null,null,null,null,null,null,null,null,null,null,null,null,null,null,null,null,null,null,null,null,null,null,null,null,"فلش به سمت راست",null,null,{"$f":"OA452","v":"فلش به سمت راست"}]
[null,null,null,null,null,null,null,null,null,null,null,null,null,null,null,null,null,null,null,null,null,null,null,null,null,null,null,null,null,null,null,null,null,null,null,null,null,null,null,null,null,null,null,null,null,null,null,null,null,null,null,null,null,null,null,null,null,null,null,null,null,null,null,null,null,null,null,null,null,null,null,null,null,null,null,null,null,null,null,null,null,null,null,null,null,null,null,null,null,null,null,null,null,null,null,null,null,null,null,null,null,null,null,null,null,null,null,null,null,null,null,null,null,null,null,null,null,null,null,null,null,null,null,null,null,null,null,null,null,null,null,null,null,null,null,null,null,null,null,null,null,null,null,null,null,null,null,null,null,null,null,null,null,null,null,null,null,null,null,null,null,null,null,null,null,null,null,null,null,null,null,null,null,null,null,null,null,null,null,null,null,null,null,null,null,null,null,null,null,null,null,null,null,null,null,null,null,null,null,null,null,null,null,null,null,null,null,null,null,null,null,null,null,null,null,null,null,null,null,null,null,null,null,null,null,null,null,null,null,null,null,null,null,null,null,null,null,null,null,null,null,{"$f":"IU321","v":-7.1499999999999986},{"$f":"IV321","v":106.96},"a15",null,{"$f":"-IU321+IR325","v":17.149999999999999},{"$f":"IV321","v":106.96},"a15",null,null,null,null,null,null,null,null,null,22.280257813704317,51.107390329380422,"41'''",null,null,null,null,null,null,null,null,null,null,null,null,null,null,{"$f":"JG420+JG435","v":28.678534041973766},{"$f":"JH420+JG436","v":107.95999999999998},"b'26",null,{"$f":"JG395","v":15.661631599545775},{"$f":"JH395","v":106.96},"a4",null,null,null,null,null,null,null,null,null,null,null,null,null,null,null,null,null,null,null,null,null,null,null,null,null,{"$f":"KY318+KJ325","v":-7.1087500000000006},{"$f":"KZ318","v":50.5},{"$f":"LA318","v":"c'48"},null,null,null,null,null,null,null,null,null,null,null,null,null,null,null,null,null,null,null,null,null,null,null,null,null,null,null,null,null,null,null,null,null,null,null,null,null,null,null,null,null,null,null,null,null,null,null,null,null,null,null,null,null,null,null,null,null,null,null,null,null,null,null,null,null,null,null,null,null,null,null,null,null,null,null,null,null,null,null,"w27",{"$f":"NU278","v":-20.238095238095237},{"$f":"NV278","v":11.400000000000002}]
[null,null,null,null,null,null,{"$f":"BW133","v":23.694781572298297},{"$f":"BX133","v":131.56770014681231},"b8",{"$f":"SQRT(POWER(G464-G465,2)+POWER(H464-H465,2))","v":2.3866139787905816},"نقطه تقاطع","g3",{"$f":"(N463-N461+M461*((N462-N461)/(M462-M461))-M463*((N464-N463)/(M464-M463)))/(((N462-N461)/(M462-M461))-((N464-N463)/(M464-M463)))","v":16.062908313688101},{"$f":"N461+(M465-M461)*((N462-N461)/(M462-M461))","v":136.64117109605536},null,{"$f":"P464+0.3*H472","v":26.230146466408577},{"$f":"Q464","v":136.64141281150185},"g6",null,{"$f":"CE116","v":26.133798687040645},{"$f":"CF116","v":129.27627089306489},"b8",{"$f":"SQRT(POWER(T464-T465,2)+POWER(U464-U465,2))","v":4.0502750102126139},"نقطه تقاطع","g3",{"$f":"(AA463-AA461+Z461*((AA462-AA461)/(Z462-Z461))-Z463*((AA464-AA463)/(Z464-Z463)))/(((AA462-AA461)/(Z462-Z461))-((AA464-AA463)/(Z464-Z463)))","v":17.246513526903712},{"$f":"AA461+(Z465-Z461)*((AA462-AA461)/(Z462-Z461))","v":140.35041510087345},null,{"$f":"AC464+0.3*U472","v":27.906049129916184},{"$f":"AD464","v":144.54674585805012},"g6",null,null,{"$f":"'متغیرها '!C55","v":0},"شیفت افقی حلقه آستین بدون ساسون",null,null,null,null,null,null,null,{"$f":"'متغیرها '!C55","v":0},"شیفت افقی حلقه آستین بدون ساسون",null,"نقطه تقاطع","g2",{"$f":"(AW463-AW461+AV461*((AW462-AW461)/(AV462-AV461))-AV463*((AW464-AW463)/(AV464-AV463)))/(((AW462-AW461)/(AV462-AV461))-((AW464-AW463)/(AV464-AV463)))","v":15.875774260940389},{"$f":"AW461+(AV465-AV461)*((AW462-AW461)/(AV462-AV461))","v":143.76205881022628},null,{"$f":"AZ113","v":28.25},{"$f":"BA113","v":128.5959048933077},12,null,"نقطه تقاطع","g3",{"$f":"(BF463-BF461+BE461*((BF462-BF461)/(BE462-BE461))-BE463*((BF464-BF463)/(BE464-BE463)))/(((BF462-BF461)/(BE462-BE461))-((BF464-BF463)/(BE464-BE463)))","v":15.545533574219036},{"$f":"BF461+(BE465-BE461)*((BF462-BF461)/(BE462-BE461))","v":136.64117109605536},null,24.56682773649705,130.23865987215538,"14f",null,"نقطه تقاطع","g3",{"$f":"(BO463-BO461+BN461*((BO462-BO461)/(BN462-BN461))-BN463*((BO464-BO463)/(BN464-BN463)))/(((BO462-BO461)/(BN462-BN461))-((BO464-BO463)/(BN464-BN463)))","v":16.154849940127363},{"$f":"BO461+(BN465-BN461)*((BO462-BO461)/(BN462-BN461))","v":140.35041510087345},null,{"$f":"DX388","v":5},{"$f":"DY388","v":141.82117109605537},"26شبیه ساز",null,null,{"$f":"ER423","v":5},{"$f":"ES423","v":148.04126310087344},"24شبیه ساز",null,null,null,{"$f":"'متغیرها '!C55","v":0},"شیفت افقی حلقه آستین بدون ساسون",null,null,null,null,"(1 → 7)",{"$f":"CI470-AA147","v":6.7768038380923938},null,"پشت یقه روی خط مرکزی",{"$f":"IF('متغیرها '!C282=1,CP462,IF('متغیرها '!C282=2,CO462,CN462))","v":7.6908479999999999},null,{"$f":"IF('متغیرها '!C283=2,IF(AD460>U469,(Z465-AC460)+SQRT(POWER(AC471-AC464,2)+POWER(AD464-AD471,2)),(Z486-AC460)+SQRT(POWER(AC476-Z486,2)+POWER(AA486-AD476,2))),(BN465-BH480)+SQRT(POWER(BH491-BH484,2)+POWER(BI484-BI491,2)))","v":14.941200138768931},{"$f":"CN465","v":14.941200138768931},{"$f":"'متغیرها '!C294*G168","v":17.479199999999999},"نصف پشت کارور",null,"طول خط متصل به برش سرشانه",{"$f":"IF('متغیرها '!C283=2,SQRT(POWER(AL477-AL478,2)+POWER(AM477-AM478,2))+SQRT(POWER(AL474-AL475,2)+POWER(AM474-AM475,2)),SQRT(POWER(AU477-AU478,2)+POWER(AV477-AV478,2))+SQRT(POWER(AU474-AU475,2)+POWER(AV474-AV475,2)))","v":9.108136085204336},"g19",null,{"$f":"CI461+'متغیرها '!C301","v":14.941200138768931},{"$f":"0+'متغیرها '!C302","v":0},3,null,{"$f":"DE488","v":8.7273296870610526},{"$f":"DF488","v":11.728209648137357},15,null,"رسم یقه مربعی دور گردن",null,null,null,null,null,null,"عمودی بالای جیب",{"$f":"DM478+'متغیرها '!C197*0.5*COS(RADIANS('متغیرها '!C198))*(0.5*'متغیرها '!U84+0.06*H105)","v":105.74299619279039},null,null,null,null,null,null,"عمودی بالای جیب",{"$f":"DU478+0.5*COS(RADIANS('متغیرها '!C206))*IF('متغیرها '!C209=0,'متغیرها '!C205*(0.5*'متغیرها '!U84+0.06*H105),DU479)","v":98.7},null,null,null,null,null,null,"افقی پایین جیب",{"$f":"2*EC476-EC463","v":18.95},null,null,null,null,null,null,"عمودی پایین جیب",{"$f":"EK469-(EK463-EK469)","v":98.7},null,null,null,null,null,null,"زاویه جادکمه یا جیب با عمود (به درجه)",{"$f":"'متغیرها '!C224","v":90},null,"عمودی پایین جیب",{"$f":"EV469-(EV463-EV469)","v":109},null,null,{"$f":"EY482-EV472*COS(RADIANS(FD465))","v":18.8735},{"$f":"EZ482-EV472*SIN(RADIANS(FD465))","v":108},"β'3",null,"زاویه جادکمه یا جیب با عمود (به درجه)",{"$f":"'متغیرها '!C232","v":90},null,"حداقل طول جادکمه پارچه بدون کش",null,{"$f":"0.5*('متغیرها '!U85-(2.12*SQRT(K144*K144+K143*K143)+2.08*SQRT(AA147*AA147+AA146*AA146)))","v":8.0490058871276631},null,null,null,null,null,null,null,null,null,null,null,null,null,null,null,null,null,null,null,null,null,null,null,null,null,null,null,null,null,null,null,null,null,null,null,null,null,null,null,null,null,null,null,null,null,null,null,null,null,null,null,null,null,null,null,null,null,null,null,null,null,null,null,null,null,null,null,null,null,null,null,null,null,null,null,null,null,null,null,null,null,null,null,null,null,null,null,null,null,null,null,null,null,null,null,null,null,null,{"$f":"JG340","v":5},106.96,"c40",null,null,null,null,null,null,null,null,null,-66.330481835735284,132.84159462471467,"w21",null,null,null,null,null,null,null,null,null,null,null,null,null,null,null,null,null,null,null,null,null,null,null,null,null,null,null,null,null,null,null,null,null,null,null,null,null,null,null,null,null,null,null,null,null,null,null,null,null,null,null,null,null,null,null,null,null,null,null,null,null,null,null,null,null,null,null,null,null,null,null,null,null,null,null,null,null,null,null,null,null,null,null,null,null,null,null,null,null,null,null,null,null,null,null,null,null,null,null,null,null,null,null,null,null,null,null,null,null,null,null,"g2",{"$f":"NZ463","v":22.61904761904762},{"$f":"OA463+NZ460","v":12.200000000000003}]
[null,null,null,null,null,null,{"$f":"BW132","v":26.945420625789474},{"$f":"BX132","v":131.39223733364972},"b4",{"$f":"SQRT(POWER(G465-G466,2)+POWER(H465-H466,2))","v":3.2553711700641679},null,null,null,null,null,null,{"$f":"(Q465-H469)/(H468-H469)+Q473*(H478-H477)/(Q467-Q463)","v":-149.30974152410306},"g11",null,{"$f":"CE122","v":28.96284988906315},{"$f":"CF122","v":128.54153680565952},"b14",{"$f":"SQRT(POWER(T465-T466,2)+POWER(U465-U466,2))","v":2.9229035021465188},null,null,null,null,null,null,0.5,"g11",null,null,{"$f":"H167","v":11.343437755547924},"w",null,null,"به دست آوردن نقطه تقاطع دو خط ","مولفه افقی","مولفه عمودی",null,null,{"$f":"H167","v":11.343437755547924},"w",null,null,null,null,null,null,{"$f":"CM132","v":16.099021121232205},{"$f":"CN132","v":148.57586852114349}," وسط 22f",null,null,null,null,null,null,{"$f":"BK114-BI473","v":28.962535621967952},{"$f":"BL114-BI475","v":128.54033765005761},9,null,null,null,null,null,null,null,{"$f":"CN463","v":5.1799999999999971},"جلو یقه روی خط مرکزی",null,null,null,{"$f":"CN462","v":7.6908479999999999},"پشت یقه روی خط مرکزی",null,null,null,{"$f":"H167","v":11.343437755547924},"w",null,null,null,null,"(1 → 8)",{"$f":"CI465+0.1*(CI470-CI465)","v":7.0370630627826678},null,"جلو یقه روی خط مرکزی",{"$f":"IF('متغیرها '!C282=1,CP463,IF('متغیرها '!C282=2,CO463,CN463))","v":5.1799999999999971},null,null,null,null,null,null,null,{"$f":"RADIANS(90)+ATAN((CS462-CS463)/(CT462-CT463))-CL463","v":1.5814448512139356},"g20",null,{"$f":"0+'متغیرها '!C301","v":0},{"$f":"0+'متغیرها '!C302","v":0},1,null,{"$f":"DA463","v":8.8991483395174189},{"$f":"DB463","v":44.500938232536278},33,null,{"$f":"CP471","v":0},{"$f":"CQ471","v":6.7768038380923938},{"$f":"CR471","v":7},null,null,null,null,"افقی پایین جیب",{"$f":"2*DM477-DM464","v":25.486302394780303},null,null,{"$f":"DP464","v":26.425995015566212},{"$f":"DQ464","v":91.999023950535289},"β5",null,"افقی پایین جیب",{"$f":"2*DU477-DU464","v":25.282500000000002},null,null,{"$f":"DX464","v":25.282500000000002},{"$f":"DY464","v":99.7},"β5",null,"عمودی پایین جیب",{"$f":"EC477-(EC464-EC477)","v":92.52000000000001},null,null,{"$f":"EF464","v":18.95},{"$f":"EG464","v":92.52000000000001},"β5",null,null,null,null,null,{"$f":"EN480","v":28.25},{"$f":"EO480","v":98.7},"β3",null,"ضریب ارتفاع جیب مستطیل",{"$f":"'متغیرها '!C225","v":0},null,null,null,null,null,{"$f":"EY485-EV472*COS(RADIANS(FD465))","v":14.3765},{"$f":"EZ485-EV472*SIN(RADIANS(FD465))","v":108},"β''3",null,"ضریب ارتفاع جیب مستطیل",{"$f":"0","v":0},null,null,null,null,null,{"$f":"FG469+FG467","v":6.4580000000000002},{"$f":"FG470+FG468","v":128.47041326438926},"β5",null,null,null,null,null,null,null,null,null,null,null,null,null,null,null,null,null,null,null,null,null,null,null,null,null,null,null,null,null,null,null,null,null,null,null,null,null,null,null,null,null,null,null,null,null,null,null,null,null,null,null,null,null,null,null,null,null,null,null,null,null,null,null,null,null,null,null,null,null,null,null,null,null,null,null,null,null,null,null,null,null,null,null,null,null,null,null,null,null,{"$f":"IE414","v":25.876465958026234},{"$f":"IF414","v":109.06434605341894},"c1",null,null,5,50.5,"c41",null,null,null,null,null,null,null,null,null,null,null,null,null,null,null,null,null,null,null,null,null,null,null,null,null,null,null,null,null,null,null,null,null,null,null,null,null,null,null,null,null,{"$f":"KY326+KJ325","v":-1.0929561489682245},{"$f":"KZ326","v":108.96},"c'44",null,null,null,null,null,null,null,null,null,null,null,null,null,null,null,null,null,null,null,null,null,null,null,null,null,null,null,null,null,null,null,null,null,null,null,null,null,null,null,null,null,null,null,null,null,null,null,null,null,null,null,null,null,null,null,null,null,null,null,null,null,null,null,null,null,null,null,null,null,null,null,null,null,null,null,null,null,null,null,"g4",{"$f":"NZ463+NZ461*NZ460","v":23.019047619047619},{"$f":"OA463+0.5*NZ460","v":11.800000000000002},{"$f":"NZ470","v":22.805933646152234},{"$f":"OA470","v":11.68962593349548},{"$f":"NY470","v":"g8"}]
[null,null,null,null,null,null,null,{"$f":"0.5*'متغیرها '!U85","v":28.5},"نصف دور سر",null,null,"به دست آوردن نقطه تقاطع دو خط ","مولفه افقی","مولفه عمودی",null,null,{"$f":"IF(M477=M478,RADIANS(90),IF(M477>M478,ATAN((N477-N478)/(M477-M478)),RADIANS(180)-ATAN((N477-N478)/(M478-M477))))","v":1.6432360115564097},"g18",null,{"$f":"BK162-U473","v":25.75},{"$f":"BL162-U475","v":110.10434605341895},36,null,null,"به دست آوردن نقطه تقاطع دو خط ","مولفه افقی","مولفه عمودی",null,null,{"$f":"IF(Z477=Z478,RADIANS(90),IF(Z477>Z478,ATAN((AA477-AA478)/(Z477-Z478)),RADIANS(180)-ATAN((AA477-AA478)/(Z478-Z477))))","v":1.5459761737125264},"g18",null,{"$f":"AG463+(0.6*AH466)*COS(AH464)","v":17.514654749876449},{"$f":"AH463-(0.6*AH466)*SIN(AH464)","v":143.50576911579785},"g1",null,null,{"$f":"AG463","v":10.968532249988769},{"$f":"AH463","v":145.36876913123012},{"$f":"AI463","v":30},null,{"$f":"AP463+(0.6*AQ466)*COS(AQ464)","v":17.436720354426537},{"$f":"AQ463-(0.6*AQ466)*SIN(AQ464)","v":143.25097983891462},"g1",null,null,{"$f":"AP463","v":10.968532249988769},{"$f":"AQ463","v":145.36876913123012},{"$f":"AR463","v":30},null,{"$f":"AZ161","v":14.96392},{"$f":"BA161","v":120.88},43,null,null,"به دست آوردن نقطه تقاطع دو خط ","مولفه افقی","مولفه عمودی",null,{"$f":"BK162-BI473","v":25.75},{"$f":"BL162-BI475","v":110.10434605341895},36,null,null,"به دست آوردن نقطه تقاطع دو خط ","مولفه افقی","مولفه عمودی",null,"نقطه اول از خط دوم","نقطه بالایی",{"$f":"IF(BR470>BR462,BQ461,IF(BR470>BR463,BQ462,BQ463))","v":19.121726907281925},{"$f":"IF(BR470>BR462,BR461,IF(BR470>BR463,BR462,BR463))","v":141.5805951944748},null,"نقطه اول از خط دوم","نقطه بالایی",{"$f":"IF(BW470>BW462,BV461,IF(BW470>BW463,BV462,BV463))","v":20.850156966482285},{"$f":"IF(BW470>BW462,BW461,IF(BW470>BW463,BW462,BW463))","v":142.05015558867842},null,null,null,null,null,null,null,null,"(1 → 16)",{"$f":"CI470+0.65*K144*COS(CL463+CL462)+(1-0.75)*AA146*SIN(CL463+CL462)","v":15.094173345229885},null,{"$f":"CA108","v":5},{"$f":"CB108","v":147.19050526920734},24,null,null,null,null,null,7.4676152751260556,9.3793960849951326,13,null,{"$f":"CI485+'متغیرها '!C301","v":9.1870745084441463},{"$f":"CI484+'متغیرها '!C302","v":24.350075336215426},27,null,null,null,null,null,{"$f":"DF462","v":11.162532441886709},{"$f":"DG462","v":17.578534576884209},"sq2",null,null,null,null,"(زاویهβ3  β15)",{"$f":"ATAN((DP491-DP489)/(DQ491-DQ489+0.00001))","v":0.98577629775992337},null,null,null,null,null,null,"(زاویهβ3  β15)",{"$f":"IF(DY489<DY473,ATAN((DX473-DX489)/(DY473-DY489+0.00001)),ATAN((DX473-DX489)/-(DY473-DY489+0.00001)))","v":0.5040002903098123},{"$f":"DEGREES(DU474)","v":28.877089508120488},null,null,null,null,null,null,null,null,null,null,null,null,null,null,null,null,null,null,null,null,null,"شیفت عمودی کل الگو جلو پیراهن   برحسب سانتیمتر",{"$f":"'متغیرها '!C52","v":5},null,null,null,null,null,null,null,null,null,"شیفت عمودی کل الگو جلو پیراهن   برحسب سانتیمتر",{"$f":"ES474","v":5},null,null,null,null,null,null,null,null,null,null,null,null,null,null,null,null,null,null,null,null,null,null,null,null,null,null,null,null,null,null,null,null,null,null,null,null,null,null,null,null,null,null,null,null,null,null,null,null,null,null,null,null,null,null,null,null,null,null,null,null,null,null,null,null,null,null,null,null,null,null,null,null,null,null,null,null,null,null,null,null,null,null,null,null,null,null,null,null,null,null,null,null,null,null,null,null,null,null,null,null,null,null,{"$f":"JG343","v":9.4506042002271133},106.96,"d42",null,null,null,null,null,null,null,null,null,{"$f":"JK392","v":-1.9388872110206465},{"$f":"JL392","v":106.96},"w'0",null,null,null,null,null,null,null,null,null,null,null,null,null,null,null,null,null,null,null,null,null,null,null,null,null,null,null,null,null,null,null,"پیلی 13",null,null,null,null,null,null,null,null,null,null,null,null,null,null,null,null,null,null,null,null,null,null,null,null,null,null,null,null,null,null,null,null,null,null,null,null,null,null,null,null,null,null,null,null,null,null,null,null,null,null,null,null,null,null,null,null,null,null,null,null,null,null,null,null,null,null,null,null,null,null,null,null,null,null,null,null,null,null,null,"طول باکس نوشته",{"$f":"NZ318","v":1.3499999999999999},"h3",{"$f":"NZ484","v":16.487698412698414},{"$f":"OA484","v":12.200000000000003},{"$f":"NY484","v":"h8"}]
[null,null,null,null,null,null,null,null,null,null,"نقطه دوم از خط اول",{"$f":"I479","v":43},{"$f":"G479","v":14.96392},{"$f":"H479","v":120.88},"شیفت",{"$f":"IF(Q460>H469+1,P471+H473,P476+H473)","v":19.488329703336085},{"$f":"IF(Q460>H469+1,Q471,Q476)","v":136.52864994573295},{"$f":"IF(Q460>H469+1,R471,R476)","v":"g10"},null,null,null,null,null,"نقطه دوم از خط اول",{"$f":"V476","v":40},{"$f":"T476","v":16.204999999999998},{"$f":"U476","v":131.88439243697479},null,null,null,null,null,null,null,null,null,null,null,null,null,null,null,null,null,null,null,null,null,null,null,null,{"$f":"(AZ482-AZ468)/(AZ467-AZ468)","v":0.51238921655514147},"g11",null,"نقطه دوم از خط اول",{"$f":"BA474","v":43},{"$f":"AY474","v":14.96392},{"$f":"AZ474","v":120.88},null,null,{"$f":"IF(BH468=BH469,RADIANS(90),IF(BH468>BH469,ATAN((BI468-BI469)/(BH468-BH469)),RADIANS(180)-ATAN((BI468-BI469)/(BH469-BH468))))","v":1.57671994350211},"g5",null,"نقطه دوم از خط اول",{"$f":"BJ477","v":34},{"$f":"BH477","v":15.23},{"$f":"BI477","v":110},null,null,null,null,null,null,{"$f":"BV469","v":5},{"$f":"BW469","v":140.35041510087345},{"$f":"BX469","v":"g1"},null,null,null,null,null,null,null,null,null,"(24 → 25)",{"$f":"CI485+CL467*COS(CL462+CL463)","v":20.921921919908606},"نقطه اول از خط دوم","b6",{"$f":"CK475","v":20.301395435494697},{"$f":"CL475","v":136.29470089517633},null,{"$f":"IF(CI460>0.2*CI465,CI462,CI461)+'متغیرها '!C301","v":14.872831158311421},{"$f":"IF(CI460>0.2*CI465,CI460,0)+'متغیرها '!C302","v":2.0665178904048958},4,null,{"$f":"CW463","v":14.941200138768931},{"$f":"CX463","v":0},3,null,{"$f":"CI489+'متغیرها '!C301","v":-0.61015326682700888},{"$f":"CI488+'متغیرها '!C302","v":31.535952312580619},31,null,null,null,"یقه گرد دور گردن",null,null,null,"یقه گرد دور گردن",null,null,null,null,null,null,null,null,null,null,null,null,null,null,null,null,null,null,null,null,null,null,null,null,null,null,null,null,null,null,null,null,{"$f":"EK462+EK460","v":28.25},{"$f":"EK463+EK461","v":98.7},"β11",null,null,null,null,null,null,null,null,null,null,null,null,null,null,null,null,null,null,null,null,null,null,null,null,null,null,null,null,null,null,null,null,null,null,null,null,null,null,null,null,null,null,null,null,null,null,null,null,null,null,null,null,null,null,null,null,null,null,null,null,null,null,null,null,null,null,null,null,null,null,null,null,null,null,null,null,null,null,null,null,null,null,null,null,null,null,null,null,null,null,null,null,null,null,null,null,null,null,null,null,null,null,null,null,null,null,null,null,null,null,null,null,null,null,null,null,{"$f":"JG348","v":9.4506042002271133},{"$f":"JH348","v":50.5},{"$f":"JI348","v":"c45"},null,null,null,null,null,null,null,null,null,null,null,null,null,null,null,null,null,null,null,null,null,null,null,null,null,null,null,null,null,null,null,null,null,null,null,null,null,null,null,null,null,null,null,null,null,null,null,null,null,null,null,null,null,null,null,null,null,null,null,null,null,null,null,null,null,null,null,null,null,null,null,null,null,null,null,null,null,null,null,null,null,null,null,null,null,null,null,null,null,null,null,null,null,null,null,null,null,null,null,null,null,null,null,null,null,null,null,null,null,null,null,null,null,null,null,null,null,null,null,null,null,null,null,"h5",{"$f":"NZ479+0.5*(NZ481-NZ479)","v":17.162698412698415},{"$f":"OA479","v":12.200000000000003},{"$f":"NZ488","v":17.837698412698415},{"$f":"OA488","v":11.900000000000002},{"$f":"NY488","v":"h12"}]
[null,null,null,null,null,null,null,null,null,null,"نقطه تقاطع","g15",{"$f":"(N484-N482+M482*((N483-N482)/(M483-M482+0.001))-M484*((N485-N484)/(M485-M484)))/(((N483-N482)/(M483-M482+0.001))-((N485-N484)/(M485-M484)))","v":14.960025226367694},{"$f":"N482+(M486-M482)*((N483-N482)/(M483-M482+0.0001))","v":249.51171096252568},null,null,null,null,null,null,null,null,null,"نقطه تقاطع","g15",{"$f":"(AA484-AA482+Z482*((AA483-AA482)/(Z483-Z482))-Z484*((AA485-AA484)/(Z485-Z484)))/(((AA483-AA482)/(Z483-Z482))-((AA485-AA484)/(Z485-Z484)))","v":17.016037715111221},{"$f":"AA482+(Z486-Z482)*((AA483-AA482)/(Z483-Z482))","v":140.35041510087345},null,{"$f":"-AC479+AD484","v":-7.0160377151112208},{"$f":"AD479","v":140.35041510087345},"g15",null,null,null,null,null,null,null,null,null,null,null,null,null,null,null,null,null,null,null,null,{"$f":"IF(BE470=BE471,RADIANS(90),IF(BE470>BE471,ATAN((BF470-BF471)/(BE470-BE471)),RADIANS(180)-ATAN((BF470-BF471)/(BE471-BE470))))","v":1.5608231792182452},"g9",null,"نقطه تقاطع","g15",{"$f":"(BF484-BF482+BE482*((BF483-BF482)/(BE483-BE482+0.0001))-BE484*((BF485-BF484)/(BE485-BE484+0.0001)))/(((BF483-BF482)/(BE483-BE482+0.0001))-((BF485-BF484)/(BE485-BE484+0.0001)))","v":14.963530522636777},{"$f":"BF482+(BE486-BE482)*((BF483-BF482)/(BE483-BE482+0.0001))","v":136.64117109605809},null,null,{"$f":"(BI485-BI469)/(BI468-BI469)","v":0.50641834560691157},"g11",null,"نقطه تقاطع","g15",{"$f":"(BO484-BO482+BN482*((BO483-BO482)/(BN483-BN482))-BN484*((BO485-BO484)/(BN485-BN484)))/(((BO483-BO482)/(BN483-BN482))-((BO485-BO484)/(BN485-BN484)))","v":16.582180774886627},{"$f":"BO482+(BN486-BN482)*((BO483-BO482)/(BN483-BN482))","v":140.35041510087351},null,null,null,null,null,null,null,null,null,null,null,null,null,null,null,null,null,null,"(1 → 28)",{"$f":"CI478+CL461*SIN(CL463+CL462)","v":28.075129291990876},null,null,null,null,null,null,null,null,null,{"$f":"CW466","v":0},{"$f":"CX466","v":0},1,null,null,null,null,null,5.6007114563445413,7.8178407368534897,11,null,{"$f":"CI469+'متغیرها '!C301","v":5.6007114563445413},{"$f":"CI468+'متغیرها '!C302","v":7.8178407368534897},11,null,null,null,null,null,null,null,null,null,null,"کیسه جیب",null,null,null,null,null,null,null,"رسم کیسه جیب اول",null,null,null,null,null,null,null,"کیسه جیب دوم",null,null,null,null,null,null,null,null,null,null,null,null,null,null,null,null,null,null,null,null,null,null,null,null,null,null,null,null,null,null,null,null,null,null,null,null,null,null,null,null,null,null,null,null,null,null,null,null,null,null,null,null,null,null,null,null,null,null,null,null,null,null,null,null,null,null,null,null,null,null,null,null,null,null,null,null,null,null,null,null,null,null,null,null,null,null,null,null,null,null,null,null,null,null,null,null,null,null,null,null,null,null,null,null,null,null,null,null,null,null,null,null,null,null,null,null,null,null,null,null,null,null,null,null,{"$f":"JG346","v":9.4506042002271133},{"$f":"JH346","v":50.5},{"$f":"JI346","v":"c43"},null,null,null,null,null,null,null,null,null,null,null,null,null,null,null,null,null,null,null,null,null,null,null,null,null,null,null,null,null,null,null,null,null,null,null,null,null,null,null,null,null,null,null,null,null,null,null,null,null,null,null,null,null,null,null,null,null,null,null,null,null,null,null,null,null,null,null,null,null,null,null,null,null,null,null,null,null,null,null,null,null,null,null,null,null,null,null,null,null,null,null,null,null,null,null,null,null,null,null,null,null,null,null,null,null,null,null,null,null,null,null,null,null,null,null,null,null,null,null,null,null,null,null,"h10",{"$f":"NZ484","v":16.487698412698414},{"$f":"OA484+0.5*NZ475","v":12.500000000000004},{"$f":"NZ489","v":17.837698412698415},{"$f":"OA489","v":12.500000000000004},{"$f":"NY489","v":"h13"}]
[null,null,null,null,null,null,null,null,null,null,null,null,null,null,null,null,null,null,null,null,null,null,null,null,null,null,null,null,null,null,null,null,null,null,null,null,null,null,null,null,null,null,null,null,null,null,null,null,null,null,null,null,null,null,null,null,null,null,null,null,null,null,null,null,null,null,null,null,null,null,null,null,null,null,null,null,null,null,null,null,null,null,null,null,null,null,null,null,null,null,null,null,null,null,null,null,null,null,null,null,null,null,null,null,null,null,null,null,null,null,null,null,null,null,null,null,null,null,null,null,null,null,null,null,null,null,null,null,null,null,null,null,null,null,null,null,null,null,null,null,null,null,null,null,null,null,null,null,null,null,null,null,null,null,null,null,null,null,null,null,null,null,null,null,null,null,null,null,null,null,null,null,null,null,null,null,null,null,null,null,null,null,null,null,null,null,null,null,null,null,null,null,null,null,null,null,null,null,null,null,null,null,null,null,null,null,null,null,null,null,null,null,null,null,null,null,null,null,null,null,null,null,null,null,null,null,null,null,null,null,null,null,null,null,null,null,null,null,null,null,null,null,null,null,null,null,null,null,null,null,null,null,null,null,null,null,null,null,null,null,null,null,14.781420000000001,50.5,"c50",null,null,null,null,null,null,null,null,null,null,null,null,null,null,null,null,null,null,null,null,null,null,null,null,null,null,null,null,null,null,null,null,null,null,null,null,null,null,null,null,null,{"$f":"KY340","v":11.092956148968224},108.96,"c44",null,null,null,null,null,null,null,null,null,null,null,null,null,null,null,null,null,null,null,null,null,null,null,null,null,null,null,null,null,null,null,null,null,null,null,null,null,null,null,null,null,null,null,null,null,null,null,null,null,null,null,null,null,null,null,null,null,null,null,null,null,null,null,null,null,null,null,null,null,null,null,null,null,null,null,null,null,null,null,"نقطه شروع انحنا","مولفه افقی","مولفه عمودی",{"$f":"NZ500","v":11.306349206349207},{"$f":"OA500","v":12.600000000000003},{"$f":"NY500","v":"g4"}]
[null,null,null,null,null,null,null,null,null,null,null,null,null,null,null,null,null,null,null,null,null,null,null,null,null,null,null,null,null,null,"نقاط  ورودی از جلو",null,null,null,null,null," حلقه آستین بدون ساسون سرشانه",null,null,null," حلقه آستین پیراهن با ساسون سرشانه",null,null,null," حلقه آستین با ساسون و اپل و کنترل گودی",null,null,null," حلقه آستین با ساسون عصایی",null,null,null," شبیه ساز حلقه آستین بدون ساسون سرشانه",null,null,null," شبیه ساز حلقه آستین پیراهن با ساسون سرشانه",null,null,null,null,"متغیرهای خروجی آستین ",null,"شبیه ساز",null,"رسم آستین بلند یا کوتاه",null,null,null,null,null,"نقاط آستین ساده",null,null,null,{"$f":"AH522-AI522","v":0.53042556130568386},null,null,null,"نقاط  خروجی مچ",null,"جادکمه آستین بلند",null,null,"هلال پایین آستین بلند یا کوتاه",null,null,null,null,null,null,null,null,null,null,"آستین کتی با آستر",null,null,null,null,null,null,null,null,null,null,null,"نقاط  ورودی رگلان بدون درز  و  با درز",null,null,null,null,null,null,"متغیرهای خروجی آستین رگلان",null,null,"متغیرهای خروجی آستین رگلان با درز ",null,null,"متغیرهای محاسبه ای آستین رگلان با درز",null,null,null,"رسم الگو آستین رگلان با درز",null,null,null,"رسم الگو آستین رگلان بدون درز",null,null,null,"آستین لاله ای",null,null,null,null,null,null,null,null,null,null,null,null,null,null,null,null,null,null,null,null,null,null,null,null,null,null,null,null,null,null,null,null,null,null,null,null,null,null,null,null,null,null,null,null,null,null,null,null,null,null,null,null,null,null,null,null,null,null,null,null,null,null,null,null,null,null,null,null,null,null,null,null,null,null,null,null,null,null,null,null,null,null,null,null,null,null,null,null,null,null,null,null,null,null,null,null,null,null,null,null,null,null,null,null,null,null,null,null,null,null,null,null,null,null,null,null,null,null,null,null,null,null,null,null,null,null,null,null,null,{"$f":"JG355","v":14.781420000000001},{"$f":"JH355","v":50.5},{"$f":"JI355","v":"c50"},null,null,null,null,null,null,null,null,null,null,null,null,null,null,null,null,null,null,null,null,null,null,null,null,null,null,null,null,null,null,null,null,null,null,null,null,null,null,null,null,null,null,null,null,null,null,null,null,null,null,null,null,null,null,null,null,null,null,null,null,null,null,null,null,null,null,null,null,null,null,null,null,null,null,null,null,null,null,null,null,null,null,null,null,null,null,null,null,null,null,null,null,null,null,null,null,null,null,null,null,null,null,null,null,null,null,null,null,null,null,null,null,null,null,null,null,null,null,null,null,null,null,null,"نقاط خروجی","مولفه افقی","مولفه عمودی",{"$f":"NZ499","v":11.706349206349207},{"$f":"OA499","v":13.000000000000004},{"$f":"NY499","v":"g2"}]
[null,null,null,null,null,"k'''9",{"$f":"SQRT(POWER((BO505-BO504),2)+POWER((BN504-BN505),2))","v":9.7392284467138559},null,"k''2",{"$f":"J506-G512*COS(G506+5*RADIANS('متغیرها '!C580))","v":-1.9883532593637487},{"$f":"K506+G512*SIN(G506+5*RADIANS('متغیرها '!C580))","v":70.530306487547762},null,5.5545980881833952,67.257788975894115,"k''15",null,null,null,null,null,"e5",{"$f":"BK500+SQRT(POWER((Q515-Q516),2)+POWER((R515-R516),2))","v":4.7563413067422093},null,null,null,null,null,null,null,null,"نقاط  ورودی از پشت",null,null,null,null,null,{"$f":"BD156-'متغیرها '!C55","v":29.72},{"$f":"BE156","v":128.5959048933077},13,"نقطه انتهایی\n زیر حلقه",{"$f":"BD156-'متغیرها '!C55","v":29.72},{"$f":"BE156","v":128.5959048933077},13,"نقطه انتهایی\n زیر حلقه",{"$f":"BW139","v":28.379848414360417},{"$f":"BX139","v":131.71366682728006},"b14","نقطه انتهایی\n زیر حلقه",{"$f":"DS168-DP160","v":28.25},{"$f":"DT168","v":128.5959048933077},12,null,{"$f":"CI157","v":29.72},{"$f":"CJ157","v":128.5959048933077},13,null,{"$f":"DX395+AX114","v":29.72},{"$f":"DY395","v":128.5959048933077},13,null,null,"(3 →10)",{"$f":"AH521","v":15.657590112170213},{"$f":"AI521","v":15.624417829530405},null,{"$f":"BK499-BK500-BK509-BX498+'متغیرها '!C530","v":9.8559013769307882},{"$f":"BK517+BK510+'متغیرها '!C531","v":57.450811635664152},13,null,{"$f":"BK499-BK500-BK503-BX498+'متغیرها '!C530","v":26.408852037577269},{"$f":"BK517+'متغیرها '!C531","v":44.411954783093911},6,null,{"$f":"BL499-BL500-BL509+'متغیرها '!C530","v":10.041550323387774},{"$f":"BL517+BL510+'متغیرها '!C531","v":55.742271408787843},13,null,{"$f":"BZ505-BV501+BV502","v":44.375388398625127},{"$f":"CA505","v":44.411954783093911},"3'",null,"(b2 →c3)",{"$f":"0.5*(BK515-2*CE515)","v":15.631643542505101},null,{"$f":"BK499-BK500-CE515-BX498-CE508+CE503-CE500+'متغیرها '!C530","v":6.6757799837087752},{"$f":"BK517-CE514+'متغیرها '!C531","v":7.8840000000000003},"c10",null,"(10 → a15)",{"$f":"CL505-BK508","v":16.022645861024401},null,{"$f":"CV506","v":10.20429164653611},{"$f":"CW506","v":8.3557862180741242},"a26",null,null,null,null,null,{"$f":"CV500+CL529*COS(CS548)","v":10.902119075833326},{"$f":"CW500-CL529*SIN(CS548)","v":19.711529885159919},"a25",null,{"$f":"CN507","v":10.20429164653611},{"$f":"CO507","v":8.3557862180741242},"a26",null,{"$f":"IF('متغیرها '!C509=3,CI119,BW163)","v":19.544139936642118},{"$f":"IF('متغیرها '!C509=3,CJ119,BX163)","v":135.75956076797357},"16f","نقطه تقاطع","b6","رگلان با درز",null,"(7→ 8)",{"$f":"DL502+DE541*SIN(DE543)","v":13.982211646952898},null,null,null,null,null,null,null,null,{"$f":"IF((DB558-DB556)>(DB554-DB556),DA558,DA554)","v":16.229182384445657},{"$f":"IF((DB558-DB556)>(DB554-DB556),DB558,DB554)","v":26.279999999999994},"r'a15 یا z2",null,null,null,null,null,9.8559013769307882,57.450811635664152,13,null,{"$f":"EO518","v":-4.4517102171594374},{"$f":"EP518","v":8.2648770464047345},"q44",null,{"$f":"EC502-EL501","v":-2.0004255613056827},44.411954783093911,3,null,{"$f":"EK505+SQRT(POWER(EK507-EK505,2)+POWER(EL507-EL505,2))*SIN(EL502-ATAN((EK505-EK507)/(EL507-EL505+0.0001)))","v":-1.9984537402182121},{"$f":"EL505+SQRT(POWER(EK507-EK505,2)+POWER(EL507-EL505,2))*COS(EL502-ATAN((EK505-EK507)/(EL507-EL505+0.0001)))","v":44.335841276284917},"q3",null,{"$f":"IF(ED530>(ED533),EC507,EC551)","v":9.8559013769307882},{"$f":"IF(ED530>(ED533),ED507,ED551)","v":57.450811635664152},"q31 یا 13",null,null,null,null,null,null,null,null,null,null,null,null,null,null,null,null,null,null,null,null,null,null,null,null,null,null,null,null,null,null,null,null,null,null,null,null,null,null,null,null,null,null,null,null,null,null,null,null,null,null,null,null,null,null,null,null,null,null,null,null,null,null,null,null,null,null,null,null,null,null,null,null,null,null,null,null,null,null,null,null,null,null,null,null,null,null,null,null,null,null,null,null,null,null,null,null,null,null,null,null,null,null,null,null,null,null,null,null,null,null,null,{"$f":"JG359","v":19.995694415123076},{"$f":"JH359","v":107.45999999999998},{"$f":"JI359","v":"c52"},null,null,null,null,null,null,null,null,null,null,null,null,null,null,null,null,null,null,null,null,null,null,null,null,null,null,null,null,null,null,null,null,null,null,null,null,null,null,null,null,null,null,null,null,null,null,null,null,null,null,null,null,null,null,null,null,null,null,null,null,null,null,null,null,null,null,null,null,null,null,null,null,null,null,null,null,null,null,null,null,null,null,null,null,null,null,null,null,null,null,null,null,null,null,null,null,null,null,null,null,null,null,null,null,null,null,null,null,null,null,null,null,null,null,null,null,null,null,null,null,null,null,null,null,null,null,{"$f":"NU282","v":22.61904761904762},{"$f":"NV282","v":13.000000000000004},"w31"]
[null,null,null,null,null,"m'13",{"$f":"G500+BK510","v":30.803638765807797},null,"k13",{"$f":"J511-G521*COS(3*RADIANS('متغیرها '!C580))","v":-7.8746403990724243},{"$f":"K511+G521*SIN(3*RADIANS('متغیرها '!C580))","v":44.209682281594851},null,{"$f":"J515","v":3.0930295618433599},{"$f":"K515","v":34.873766302913779},"k11",null,{"$f":"BN503","v":28.287762851037691},{"$f":"BO503","v":46.102176967686347},5,null,"(7→n'9)",{"$f":"SQRT(POWER((Q517-Q518),2)+POWER((R517-R518),2))","v":11.047559450899781},null,null,"e17,15",{"$f":"ATAN((R540-R541)/(Q540-Q541))","v":-0.33194950346801172},null,"e17,15",{"$f":"ATAN((BO508-BO509)/(BN508-BN509))","v":0.97704743552773499},null,"α4",{"$f":"'متغیرها '!B315","v":0.31641567605125198},"زاویه سرشانه با افق",null,null,null,"گشادترین قسمت آستین","w3",{"$f":"AQ516+IF(0.5*0.5*('متغیرها '!U72-2*'متغیرها '!U73)>0,0.5*0.5*('متغیرها '!U72-2*'متغیرها '!U73),0)","v":31.636554632534018},null,null,"w3",{"$f":"(AQ517+AQ518)","v":30.386554632534018},null,null,"w3",{"$f":"(AU517+AU518)","v":32.564176923507901},null,{"$f":"BK122-'متغیرها '!C56","v":27.492535621967953},{"$f":"BL122-'متغیرها '!C57","v":128.54033765005761},8,null,"گشادترین قسمت آستین","w3",{"$f":"BG516+IF(0.5*0.5*('متغیرها '!U72-2*'متغیرها '!U73)>0,0.5*0.5*('متغیرها '!U72-2*'متغیرها '!U73),0)","v":31.07295678858852},null,null,"w3",{"$f":"(BG517+BG518)","v":29.82295678858852},null,null,"(3 → 19)",{"$f":"H131-BL508-0.75*0.25*'متغیرها '!C77*H130","v":44.411954783093911},{"$f":"'متغیرها '!U83-BL508","v":44.411954783093911},null,{"$f":"IF((BS540-BS533)>(BS531-BS533),BR540,BR531)","v":31.346664789620807},{"$f":"IF((BS540-BS533)>(BS531-BS533),BS540,BS531)","v":28.38930892206951},"25 یا z1",null,{"$f":"BK499-BK500-BK509-BX498+'متغیرها '!C530","v":9.8559013769307882},{"$f":"BK517+'متغیرها '!C531","v":44.411954783093911},12,null,{"$f":"BL499-BL500-BL524+'متغیرها '!C530","v":25.737649762921301},{"$f":"BL525+'متغیرها '!C531","v":5.2559999999999993},28,null,{"$f":"BZ513","v":5.9409838323281292},{"$f":"CA513","v":6.5699999999999985},"z15",null,"(18 → b3)",{"$f":"CE514","v":36.527954783093911},null,{"$f":"BK499-BK500-CE515-BX498-CE508+'متغیرها '!C530","v":8.2070299837087752},{"$f":"BK517-CE514-CE510+CE502-CE503+'متغیرها '!C531","v":14.819750000000001},"c6",null,"(a18 → a3)",null,null,{"$f":"CV528","v":10.091438658652747},{"$f":"CW528","v":5.7332132061017589},"a'26",null,{"$f":"BK499-BK500-CL500-BX498+CS546+CK554","v":25.93912433421216},{"$f":"BK517+CL501+CS547","v":50.207002273125127},"7'",null,"(a6→a13)",{"$f":"SQRT(POWER(CV504-CV503,2)+POWER(CW504-CW503,2))","v":15.394493715612512},null,null,-4.7539245687897891,45.570964281100153,"5'",null,{"$f":"IF('متغیرها '!C509=3,BK122-DE524,CE131)","v":27.492535621967953},{"$f":"IF('متغیرها '!C509=3,BL122-DE525,CF131)","v":128.54033765005761},8,null,"b4",null,null,"(7→ 18)",{"$f":"0.7*DL508","v":3.7734942702361103},null,"(r20 →r24)",{"$f":"DO515","v":-1.3639651239940225},null,"(41→ 43)",{"$f":"DR504","v":7.65619866334597},null,null,{"$f":"DQ555","v":8.6846797608446877},{"$f":"DR555","v":7.3571999999999997},"r4",null,{"$f":"IF((DO540-DJ542)>(DJ540-DJ542),DN540,DI540)","v":32.595683964369925},{"$f":"IF((DO540-DJ542)>(DJ540-DJ542),DO540,DJ540)","v":26.28},"27 یا z1",null,null,{"$f":"'متغیرها '!C568","v":0.7},"q'21",null,{"$f":"IF(ED530>(ED533),EO512,EO516)","v":-23.89571507944213},{"$f":"IF(ED530>(ED533),EP512,EP516)","v":56.256100182243912},"q46 یا q13",null,{"$f":"EC551-EL501","v":-23.59368763092634},{"$f":"ED551","v":57.021459699552132},"q31",null,{"$f":"EK505+SQRT(POWER(EK516-EK505,2)+POWER(EL516-EL505,2))*SIN(EL502-ATAN((EK505-EK516)/(EL516-EL505+0.0001)))","v":-24.216382086438003},{"$f":"EL505+SQRT(POWER(EK516-EK505,2)+POWER(EL516-EL505,2))*COS(EL502-ATAN((EK505-EK516)/(EL516-EL505+0.0001)))","v":55.808846246108232},"q46",null,{"$f":"EC549","v":26.786058653468857},{"$f":"ED549","v":8.5167926766208542},"q30",null,null,null,null,null,null,null,null,null,null,null,null,null,null,null,null,null,null,null,null,null,null,null,null,null,null,null,null,null,null,null,null,null,null,null,null,null,null,null,null,null,null,null,null,null,null,null,null,null,null,null,null,null,null,null,null,null,null,null,null,null,null,null,null,null,null,null,null,null,null,null,null,null,null,null,null,null,null,null,null,null,null,null,null,null,null,null,null,null,null,null,null,null,null,null,null,null,null,null,null,null,null,null,null,null,null,null,null,null,null,null,{"$f":"JG360","v":19.995694415123076},{"$f":"JH360","v":50.5},{"$f":"JI360","v":"c53"},null,null,null,null,null,null,null,null,null,null,null,null,null,null,null,null,null,null,null,null,null,null,null,null,null,null,null,null,null,null,null,null,null,null,null,null,null,null,null,null,null,null,null,null,null,null,null,null,null,null,null,null,null,null,null,null,null,null,null,null,null,null,null,null,null,null,null,null,null,null,null,null,null,null,null,null,null,null,null,null,null,null,null,null,null,null,null,null,null,null,null,null,null,null,null,null,null,null,null,null,null,null,null,null,null,null,null,null,null,null,null,null,null,null,null,null,null,null,null,null,null,null,null,"ارتفاع نیم دایره",{"$f":"NV248","v":0.8},"بزرگی فلش",{"$f":"NZ519","v":22.61904761904762},{"$f":"OA519","v":13.000000000000004},{"$f":"NY519","v":"w31"}]
[null,null,null,null,null,"m'15",{"$f":"G500+BK512","v":24.203723568827801},null,"k15",{"$f":"J512-G522*COS(4*RADIANS('متغیرها '!C580))","v":-15.406441388597631},{"$f":"K512+G522*SIN(4*RADIANS('متغیرها '!C580))","v":55.155927191480195},null,{"$f":"J511","v":-3.9200484400314526},{"$f":"K511","v":40.255090322553883},"m11",null,{"$f":"0.5*(BN504+J527)","v":25.424254127939903},{"$f":"0.5*(BO504+K527)","v":49.198172551666076},"(7,n'7)",null,"(n''15→n''13)",{"$f":"SQRT(POWER((Q520-Q521),2)+POWER((R520-R521),2))","v":10.110621618316594},null,null,"e15,13",{"$f":"ATAN((R539-R540)/(Q539-Q540))","v":-0.15050677791791547},null,"e15,13",{"$f":"ATAN((BO507-BO508)/(BN507-BN508))","v":0.8966907732786823},null,null,{"$f":"G167","v":11.343437755547924},"w",null,null,null,"گشادترین قسمت جلو آستین","w4",{"$f":"(1+'متغیرها '!C528)*SQRT(AM524*AM524-AM520*AM520)","v":15.657590112170213},null,null,"w4",{"$f":"(1+'متغیرها '!C528)*SQRT(AQ524*AQ524-AQ520*AQ520)","v":13.730231406826739},null,null,"w4",{"$f":"(1+'متغیرها '!C528)*SQRT(AU524*AU524-AU520*AU520)","v":15.073931709416222},null,"متغیر های محاسبه ای برای رسم آستین ",null,null,null,"گشادترین قسمت جلو آستین","w4",{"$f":"SQRT(BC524*BC524-BC520*BC520)","v":15.624417829530405},null,null,"w4",{"$f":"SQRT(BG524*BG524-BG520*BG520)","v":13.729288000991327},null,null,"(18 →20)",{"$f":"BK516","v":44.411954783093911},{"$f":"BL516","v":44.411954783093911},null,null,null,null,null,{"$f":"BK499-BK500-BK509-BX498+'متغیرها '!C530","v":9.8559013769307882},{"$f":"BK517+BK510+'متغیرها '!C531","v":57.450811635664152},13,null,null,null,null,null,{"$f":"IF('متغیرها '!C547=1,IF(CA511<CA509,IF(CA513<CA509,BZ513,BZ509),BZ511),BZ511)","v":5.9409838323281292},{"$f":"CA522","v":6.5699999999999985},"z15 یا 26' یا z13",null,"(b3→ b4)",{"$f":"CE515","v":-0.54836622623809117},null,{"$f":"BK499-BK500-CE515-BX498-CE508+CE503+'متغیرها '!C530","v":8.8632799837087752},{"$f":"BK517-CE514-CE510+CE502+'متغیرها '!C531","v":15.476000000000001},"c8",null,"(a3 → a4)",{"$f":"(BK515-BK509-CL515)*TAN(CL503+RADIANS('متغیرها '!C573))","v":0.43196376557013483},null,{"$f":"CV529","v":-8.8493215269292502},{"$f":"CW529","v":6.5482606308892173},"a''8",null,null,null,null,null,"(a'8→a26)",{"$f":"SQRT(POWER(CV508-CV506,2)+POWER(CW508-CW506,2))","v":18.958288390895969},null,null,-1.4354222002817045,44.411954783093911,2,null,{"$f":"BK135","v":10.600711456344541},{"$f":"BL135","v":148.23154216796843},28,"نقطه در یقه پشت",null,null,null,"(18→19)",{"$f":"DL507+0.6*(DL509-DL507)","v":18.454560399761267},null,"(r21 →r25)",{"$f":"DR517*BL522-(DE552-1)*0.5*H132*(1-DE560)*BL522/BL520","v":-0.55686254015981906},null,"r0",{"$f":"DE555","v":0.70000000000000007},null,null,{"$f":"DU560","v":0.34816565115623743},{"$f":"DV560","v":7.8839999999999995},"چپ z1",null,{"$f":"IF((DO540-DJ542)>(DJ541-DJ542),DN540,DI541)","v":30.68995639723439},{"$f":"IF((DO540-DJ542)>(DJ541-DJ542),DO540,DJ541)","v":7.8840000000000012},"30 یا z1",null,null,{"$f":"'متغیرها '!C569","v":0.15000000000000013},"q22",null,{"$f":"EO511","v":-18.469561498362371},{"$f":"EP511","v":59.599665445267689},"q11",null,null,null,null,null,null,null,null,null,{"$f":"EC511","v":31.644995665359172},{"$f":"ED511","v":8.5167926766208542},"z1",null,null,null,null,null,null,null,null,null,null,null,null,null,null,null,null,null,null,null,null,null,null,null,null,null,null,null,null,null,null,null,null,null,null,null,null,null,null,null,null,null,null,null,null,null,null,null,null,null,null,null,null,null,null,null,null,null,null,null,null,null,null,null,null,null,null,null,null,null,null,null,null,null,null,null,null,null,null,null,null,null,null,null,null,null,null,null,null,null,null,null,null,null,null,null,null,null,null,null,null,null,null,null,null,null,null,null,null,null,null,null,{"$f":"JG359","v":19.995694415123076},{"$f":"JH359","v":107.45999999999998},{"$f":"JI359","v":"c52"},null,null,null,null,null,null,null,null,null,null,null,null,null,null,null,null,null,null,null,null,null,null,null,null,null,null,null,null,null,null,null,null,null,null,null,null,null,null,null,null,null,{"$f":"KY346","v":17.108750000000001},{"$f":"KZ346","v":50.5},{"$f":"LA346","v":"c48"},null,null,null,null,null,null,null,null,null,null,null,null,null,null,null,null,null,null,null,null,null,null,null,null,null,null,null,null,null,null,null,null,null,null,null,null,null,null,null,null,null,null,null,null,null,null,null,null,null,null,null,null,null,null,null,null,null,null,null,null,null,null,null,null,null,null,null,null,null,null,null,null,null,null,null,null,null,null,null,"پهنای نیم دایره",{"$f":"NV239","v":0.5},{"$f":"NV250","v":0.24000000000000005},{"$f":"NZ523","v":22.899047619047618},{"$f":"OA523","v":13.112000000000004},{"$f":"NY523","v":"g5"}]
[null,null,null,null,null,"m'2",{"$f":"SQRT(POWER((M500-J538),2)+POWER((N500-K538),2))","v":17.805488861885905},null,"n'7",{"$f":"J539-G530*SIN(RADIANS('متغیرها '!C584))","v":24.439656218302535},{"$f":"K539+G530*COS(RADIANS('متغیرها '!C584))","v":49.15518407854556},null,{"$f":"BR530","v":32.57612907122833},{"$f":"BS530","v":44.411954783093911},1,null,{"$f":"V522","v":-6.9374803804732288},{"$f":"V523","v":35.838639609705019},"f3",null,null,null,null,null,"yf4",{"$f":"IF(OR('متغیرها '!C509=0,'متغیرها '!C509=1),R540+IF(Z505<Z512,-(Z512-Z505)*SIN(Z516),(Z519-Z513+Z505)*SIN(Z517)),Z523)","v":42.021080736343187},null,"yf4",{"$f":"IF(OR('متغیرها '!C509=0,'متغیرها '!C509=1),BO508+IF(AC505<AC512,-(AC512-AC505)*SIN(AC516),(AC519-AC513+AC505)*SIN(AC517)),AC523)","v":42.021080736343187},null,null,"زاویه حلقه پشت آستین با افق","α9",{"$f":"IF('متغیرها '!C509=0,AQ523,IF('متغیرها '!C509=1,AU523,IF('متغیرها '!C509=2,AY525,IF('متغیرها '!C509=3,AM523,0))))","v":0.78908901964202782},{"$f":"IF('متغیرها '!C509=3,BC523,BG523)","v":0.73582389564349182},null,null,"طول حلقه جلو",{"$f":"SQRT(POWER(AK501-AK502,2)+POWER(AL501-AL502,2))+SQRT(POWER(AK502-AK503,2)+POWER(AL502-AL503,2))+SQRT(POWER(AK504-AK503,2)+POWER(AL503-AL504,2))+SQRT(POWER(AK505-AK504,2)+POWER(AL504-AL505,2))+SQRT(POWER(AK506-AK505,2)+POWER(AL505-AL506,2))","v":23.638199480446243},null,null,"طول حلقه جلو",{"$f":"SQRT(POWER(AO501-AO502,2)+POWER(AP501-AP502,2))+SQRT(POWER(AO502-AO503,2)+POWER(AP502-AP503,2))+SQRT(POWER(AO504-AO503,2)+POWER(AP503-AP504,2))+SQRT(POWER(AO505-AO504,2)+POWER(AP504-AP505,2))+SQRT(POWER(AO506-AO505,2)+POWER(AP505-AP506,2))","v":21.334235284434985},null,null,"طول حلقه جلو",{"$f":"SQRT(POWER(AS501-AS502,2)+POWER(AT501-AT502,2))+SQRT(POWER(AS502-AS503,2)+POWER(AT502-AT503,2))+SQRT(POWER(AS504-AS503,2)+POWER(AT503-AT504,2))+SQRT(POWER(AS505-AS504,2)+POWER(AT504-AT505,2))+SQRT(POWER(AS506-AS505,2)+POWER(AT505-AT506,2))","v":22.212456062096791},null,null,"h2",{"$f":"0.97*AY530","v":22.732724687952359},null,null,"طول حلقه جلو",{"$f":"SQRT(POWER(BA501-BA502,2)+POWER(BB501-BB502,2))+SQRT(POWER(BA502-BA503,2)+POWER(BB502-BB503,2))+SQRT(POWER(BA504-BA503,2)+POWER(BB503-BB504,2))+SQRT(POWER(BA505-BA504,2)+POWER(BB504-BB505,2))+SQRT(POWER(BA506-BA505,2)+POWER(BB505-BB506,2))","v":22.074862340920482},null,null,"طول حلقه جلو",{"$f":"SQRT(POWER(BE501-BE502,2)+POWER(BF501-BF502,2))+SQRT(POWER(BE502-BE503,2)+POWER(BF502-BF503,2))+SQRT(POWER(BE504-BE503,2)+POWER(BF503-BF504,2))+SQRT(POWER(BE505-BE504,2)+POWER(BF504-BF505,2))+SQRT(POWER(BE506-BE505,2)+POWER(BF505-BF506,2))","v":19.534345311902548},null,null,"(29→30) ",{"$f":"BK525","v":0},{"$f":"BL525","v":5.2559999999999993},null,{"$f":"BN525","v":0.40070784456347397},{"$f":"BO525","v":8.5167926766208542},"z2",null,{"$f":"BK499-BK500-BK522-BX498+'متغیرها '!C530","v":31.346664789620807},{"$f":"BK516-BK518+'متغیرها '!C531","v":28.38930892206951},25,null,{"$f":"BV525","v":6.8053070256672186},{"$f":"BW525","v":5.2559999999999993},30,null,null,null,"رسم آستر مچ آستین",null,null,null,null,null,"نقاط  خروجی آستر مچ",null,null,"جادکمه آستین کتی",null,null,"نقطه بالای مچ","a6",26.97231571806126,0.93434423748675566,null,null,null,null,{"$f":"CV526-(CW516-CW515)*COS(CW520)","v":13.950718939243606},{"$f":"CW526-(CW516-CW515)*SIN(CW520)","v":6.0054383958937256},"a''23",null,{"$f":"CR504","v":26.603165935960174},{"$f":"CS504","v":9.1708336428615826},"a6",null,null,{"$f":"'متغیرها '!C521","v":-4.5},"شیفت افقی رگلان بدون درز",null,null,null,null,"(24→ 29)",{"$f":"DL529*TAN(DE548)","v":0},null,"(r1 →r2)",{"$f":"0.004*('متغیرها '!U82+'متغیرها '!U83)*DE558","v":0.35120000000000001},null,{"$f":"DE521-SQRT(POWER((DQ539-BV510),2)+POWER((DR539-BW510),2))","v":2.5216461595999853},null,"شیفت حلقه پشت",null,{"$f":"DU539","v":39.967427554441855},{"$f":"DV539","v":44.411954783093911},1,null,null,null,null,null,null,{"$f":"ATAN((ED504-ED503)/(EC503-EC504))","v":1.031426819980293},"q16",null,{"$f":"IF(ED529>(ED524),EC505,EC546)","v":21.711575003926203},{"$f":"IF(ED529>(ED524),ED505,ED546)","v":57.772758718443662},"q24 یا 9",null,null,null,null,null,null,null,null,null,{"$f":"EG527","v":21.711575003926203},57.772758718443662,{"$f":"EI527","v":"q24 یا 9"},null,null,null,null,null,null,null,null,null,null,null,null,null,null,null,null,null,null,null,null,null,null,null,null,null,null,null,null,null,null,null,null,null,null,null,null,null,null,null,null,null,null,null,null,null,null,null,null,null,null,null,null,null,null,null,null,null,null,null,null,null,null,null,null,null,null,null,null,null,null,null,null,null,null,null,null,null,null,null,null,null,null,null,null,null,null,null,null,null,null,null,null,null,null,null,null,null,null,null,null,null,null,null,null,null,null,null,null,null,null,null,null,null,null,null,null,null,null,null,null,null,null,null,null,null,null,null,null,null,null,null,null,null,null,null,null,null,null,null,null,null,null,null,null,null,null,null,null,null,null,null,null,null,null,null,23.282522223681291,50.5,"c55"]
[null,null,null,null,null,null,null,null,"n'17",{"$f":"J525-G535*SIN(5*RADIANS('متغیرها '!C584))","v":-5.7856567581607656},{"$f":"K525+G535*COS(5*RADIANS('متغیرها '!C584))","v":39.039963552232926},null,null,null,null,null,26.408852037577269,49.241161024786592,7,null,"f3",{"$f":"IF(OR('متغیرها '!C509=0,'متغیرها '!C509=1),AQ532,0)","v":0},null,null,null,{"$f":"AC524","v":30.730596487767549},{"$f":"AC525","v":42.021080736343187},"f3",null,null,null,null,null,null,null,null,null,null,null,null,null,null,null,null,null,null,null,null,null,"طول حلقه پشت تا نقطه 22",{"$f":"SQRT(POWER(AW514-AW513,2)+POWER(AX513-AX514,2))+SQRT(POWER(AW515-AW514,2)+POWER(AX514-AX515,2))","v":6.9731785123591328},null,null,null,null,null,null,null,null,null,null,null,"طول تاج آستین کتی",{"$f":"SQRT(POWER(CR513-CR514,2)+POWER(CS513-CS514,2))+SQRT(POWER(CR514-CR515,2)+POWER(CS514-CS515,2))+SQRT(POWER(CR515-CR516,2)+POWER(CS515-CS516,2))+SQRT(POWER(CR532-CR533,2)+POWER(CS532-CS533,2))+SQRT(POWER(CR533-CR534,2)+POWER(CS533-CS534,2))+SQRT(POWER(CR534-CR535,2)+POWER(CS534-CS535,2))+SQRT(POWER(CR535-CR536,2)+POWER(CS535-CS536,2))+SQRT(POWER(CR536-CR537,2)+POWER(CS536-CS537,2))","v":47.912875145349673},null,null,null,null,null,{"$f":"BK500+BK523-BX498+'متغیرها '!C530","v":0.69903872030184044},{"$f":"BK517-BK519+'متغیرها '!C531","v":28.38930892206951},26,null,null,null,null,"  z3",{"$f":"'متغیرها '!C557","v":1.5000000000000004},null,{"$f":"CF542","v":-2.7638237806194503},{"$f":"CG542","v":26.279999999999994},"z15",null,{"$f":"CF534-BV501+BV502","v":39.309246825363957},{"$f":"CG534","v":44.411954783093911},"3'",null,null,"(a'21→a24)",{"$f":"CL531","v":1.1921321063409951},null,"نقطه بالای مچ","a13",{"$f":"CK544","v":11.746187894564443},{"$f":"CL544","v":0},{"$f":"1.33*(BK499-BK500-BK511-BX498+BX498)-BX498-0.03*BK515+CS546","v":5.3652250995851309},{"$f":"BS521+1.3*(BS520-BS521)","v":52.782578935361229},"15'",null,{"$f":"CV513+0.2*CW515","v":10.380901376930789},{"$f":"CW513","v":44.411954783093911},"تکه رو 12'",null,null,null,null,null,"γ5",{"$f":"ATAN((DD518-DD517)/(DE517-DE518))","v":0.62994308684649003},{"$f":"DEGREES(DE536)","v":36.093080209746965},null,null,{"$f":"DY550+0.6*(DY501-DY550)","v":5.044668439585033},{"$f":"DZ550+0.45*(DZ501-DZ550)","v":55.713870423442913},"8'","نقطه آرنج",27,{"$f":"DI540","v":32.595683964369925},26.28,null,{"$f":"DQ537+DO506","v":18.329056237780158},{"$f":"DR537+DO505","v":65.49365901207581},30,null,{"$f":"DQ554+DR529","v":29.949686584440983},{"$f":"DR554","v":8.235199999999999},"r2",null,{"$f":"DL500+DE528+'متغیرها '!C530","v":18.470645320856796},{"$f":"DL499+DL501+'متغیرها '!C531","v":67.547670266111169},3,null,null,{"$f":"SQRT(POWER((EC509-EC510),2)+POWER((ED509-ED510),2))","v":3.4022305392079799},"q35"]
[null,null,null,null,null,null,null,null,"k3",{"$f":"BN502-G528*TAN(AH533)","v":31.372818144721531},{"$f":"BO502-G528","v":26.647172869856352},null,{"$f":"Z522","v":30.730596487767549},{"$f":"Z523","v":42.021080736343187},"f2",null,20.024097587949939,64.199236350535287,"k''11",null,"f5",{"$f":"IF(OR('متغیرها '!C509=0,'متغیرها '!C509=1),AQ531,0)","v":0},null,null,null,{"$f":"AC526","v":30.730596487767549},{"$f":"AC527","v":42.021080736343187},"f4",null,null,null,null,null,null,null,null,null,null,null,null,null,null,null,null,null,null,null,null,null,null,null,null,null,null,null,null,null,null,null,null,null,null,"طول کل حلقه آستین با اپل",{"$f":"ROUND(AU526,1)","v":46},null,null,null,null,null,null,null,null,null,null,null,null,"    z5",{"$f":"'متغیرها '!C559","v":1},null,null,null,null,null,{"$f":"CF533-CF537+CF532","v":-3.2693129294835899},{"$f":"CG537","v":26.279999999999994},"26'",null,null,"(a'23→a26)",{"$f":"CL535","v":-0.72976646293479641},null,"ضریب کوتاهی آستین","z0",{"$f":"BZ542","v":0.30000000000000004},null,null,null,null,null,{"$f":"CV536+0.3*(CV530-CV536)","v":10.994125321303461},{"$f":"CW530+0.5*(CW536-CW530)","v":31.657267272264285},"a''11",null,15.448538959058117,60.509308922069515,11,null,"γ7",{"$f":"ATAN((DD505-DD503)/(DE503-DE505))","v":0.66193114287921639},{"$f":"DEGREES(DE538)","v":37.925860815250175},null,null,{"$f":"DY499+0.5*(DY542-DY499)","v":27.343751452400394},{"$f":"DZ542+0.45*(DZ499-DZ542)","v":56.271362364532493},"10'","نقطه پایین مچ",29,29.873216011319162,0,null,"پشت",null,null,null,null,null,"صاف مچ",null,null,null,null,null,null,{"$f":"ATAN((ED507-ED508)/(EC507-EC508))","v":0.8966907732786823},"q37",null,null,null,null,null,null,null,null,null,null,null,null,null,{"$f":"EC512","v":0.40070784456347397},{"$f":"ED512","v":8.5167926766208542},"z2",null,null,null,null,null,null,null,null,null,null,null,null,null,null,null,null,null,null,null,null,null,null,null,null,null,null,null,null,null,null,null,null,null,null,null,null,null,null,null,null,null,null,null,null,null,null,null,null,null,null,null,null,null,null,null,null,null,null,null,null,null,null,null,null,null,null,null,null,null,null,null,null,null,null,null,null,null,null,null,null,null,null,null,null,null,null,null,null,null,null,null,null,null,null,null,null,null,null,null,null,null,null,null,null,null,null,null,null,null,null,null,null,null,null,null,null,null,null,null,null,null,null,null,null,null,null,null,null,null,null,null,null,null,null,null,null,null,null,null,null,null,null,null,null,null,null,null,null,null,null,null,null,null,null,null,null,null,null,null,null,null,null,null,null,null,null,null,null,null,null,null,null,null,null,null,null,null,null,null,null,null,null,null,null,null,null,null,null,null,null,null,null,null,null,null,null,null,null,null,null,null,null,null,null,null,null,null,null,null,null,null,null,null,null,null,null,null,null,null,null,null,null,null,null,null,null,null,null,null,null,null,null,null,null,null,null,null,"ارتفاع نیم دایره",{"$f":"NV248","v":0.8},"بزرگی فلش",{"$f":"NZ541","v":-25},{"$f":"OA541","v":13.800000000000004},{"$f":"NY541","v":"w34"}]
[null,null,null,null,null,null,null,null,null,null,null,null,null,null,null,null,null,null,null,null,null,null,null,null,null,null,null,null,null,null,null,null,null,null,null,null,null,null,null,null,null,null,null,null,null,null,null,null,null,null,null,null,null,null,null,null,null,null,null,null,null,null,null,null,null,null,null,null,null,null,null,null,null,null,null,null,null,null,null,null,null,null,null,null,null,null,null,null,{"$f":"BK499-BK500-BK509-BX498-0.03*BK515+'متغیرها '!C530","v":8.950904737954767},{"$f":"BK517+'متغیرها '!C531","v":44.411954783093911},"زیر12","ضریب کوتاهی آستین","z0",{"$f":"BZ542","v":0.30000000000000004},null,null,{"$f":"CL541-(BK517+CL501)","v":0},"شیفت عمودی آستین",null,null,null,null,null,null,null,null,null,"γ12",{"$f":"IF(DL504+DE544>DL506+DE545,0.5*ACOS((DL504-DL506)/(DE545)),0.5*(RADIANS(90)+ACOS((DE544-DL506+DL504)/DE545)))","v":0.94466589916419375},{"$f":"DEGREES(DE547)","v":54.125369072039305},null,null,{"$f":"DY542-DE550","v":36.051999057808615},{"$f":"DZ542-DE550","v":46.880433737105477},"11'","نقطه پایین مچ",31,{"$f":"DI543","v":1.3132160113191418},{"$f":"DJ543","v":0},null,{"$f":"DQ550+DO526","v":18.191514401147185},{"$f":"DR546","v":0},"35''",null,null,null,null,null,{"$f":"-DL507+DE528+'متغیرها '!C530","v":2.423489026708264},{"$f":"DL499-DL506+'متغیرها '!C531","v":52.435998363578157},8,null,{"$f":"EC545+0.5*(EC546-EC545)","v":14.075525387977459},{"$f":"ED545+0.5*(ED546-ED545)","v":31.760385756292763},"q26",null,null,null,null,null,null,null,null,null,null,null,null,null,null,null,null,null,null,null,null,null,null,null,null,null,null,null,null,null,null,null,null,null,null,null,null,null,null,null,null,null,null,null,null,null,null,null,null,null,null,null,null,null,null,null,null,null,null,null,null,null,null,null,null,null,null,null,null,null,null,null,null,null,null,null,null,null,null,null,null,null,null,null,null,null,null,null,null,null,null,null,null,null,null,null,null,null,null,null,null,null,null,null,null,null,null,null,null,null,null,null,null,null,null,null,null,null,null,null,null,null,null,null,null,null,null,null,null,null,null,null,null,null,null,null,null,null,null,null,null,null,null,null,null,null,null,null,null,null,null,null,null,null,null,null,null,null,null,null,null,null,null,null,null,null,null,null,null,null,null,null,null,null,null,null,null,null,null,null,null,null,null,null,null,null,null,null,null,null,null,null,null,null,null,null,null,null,null,null,null,null,null,null,null,null,null,null,null,null,null,null,null,null,null,null,null,null,null,null,null,null,null,null,null,null,null,null,null,null,null,null,null,null,null,null,null,null,null,null,null,null,null,null,null,null,null,null,null,null,null,null,null,null,"g7",{"$f":"NZ544+OA539*SIN(RADIANS(40)-ATAN((NZ544-NZ545)/(OA544-OA545)))","v":-25.186886027104613},{"$f":"OA544-OA539*COS(RADIANS(40)-ATAN((NZ544-NZ545)/(OA544-OA545)))","v":14.089625933495482},{"$f":"NZ544","v":-25.4},{"$f":"OA544","v":14.200000000000005},{"$f":"NY544","v":"g4"}]
[null,null,null,null,null,null,null,null,null,null,null,null,null,null,null,null,null,null,null,null,null,null,null,null,null,null,null,null,null,null,null,null,null,null,null,null,null,null,null,null,null,null,null,null,null,null,null,null,null,null,null,null,null,null,null,null,null,null,null,null,null,null,null,null,null,null,null,null,null,null,null,null,null,null,null,null,null,null,null,null,null,null,null,null,null,null,null,null,null,null,null,"نقطه پایین مچ","a'8",{"$f":"CK550","v":-9.1056183211469754},{"$f":"CL550","v":0.93434423748675566},null,null,"نقطه بالای مچ","r30",{"$f":"DQ552","v":0.10603487600597639},{"$f":"DR552","v":0},null,"نقطه بالای مچ","35'",{"$f":"DQ550","v":17.360627364570632},{"$f":"DR550","v":0},null,"α3",{"$f":"'متغیرها '!C514","v":0.70000000000000007},null,"نقطه بالای مچ","r28",32.436921912582541,0,null,"نقطه بالای مچ","35''",{"$f":"DQ547","v":18.191514401147185},{"$f":"DR547","v":0},null,{"$f":"DA558-DO530","v":8.6846797608446877},{"$f":"DB558-DO529","v":7.3571999999999997},"r4",null,{"$f":"IF((CW558-CW556)>(CW555-CW556),CV558,CV555)","v":0.34816565115623743},{"$f":"IF((CW558-CW556)>(CW555-CW556),CW558,CW555)","v":7.8839999999999995},"r30 یا z1",null,null,null,null,null,null,null,null,null,null,null,null,null,null,null,null,null,null,null,null,null,null,null,null,null,null,null,null,null,null,null,null,null,null,null,null,null,null,null,null,null,null,null,null,null,null,null,null,null,null,null,null,null,null,null,null,null,null,null,null,null,null,null,null,null,null,null,null,null,null,null,null,null,null,null,null,null,null,null,null,null,null,null,null,null,null,null,null,null,null,null,null,null,null,null,null,null,null,null,null,null,null,null,null,null,null,null,null,null,null,null,null,null,null,null,null,null,null,null,null,null,null,null,null,null,null,null,null,null,null,null,null,null,null,null,null,null,null,null,null,null,null,null,null,null,null,null,null,null,null,null,null,null,null,null,null,null,null,null,null,null,null,null,null,null,null,null,null,null,null,null,null,null,null,null,null,null,null,null,null,null,null,null,null,null,null,null,null,null,null,null,null,null,null,null,null,null,null,null,null,null,null,null,null,null,null,null,null,null,null,null,null,null,null,null,null,null,null,null,null,null,null,null,null,null,null,null,null,null,null,null,null,null,null,null,null,null,null,null,null,null,null,null,null,null,null,null,null,null,null,null,null,null,null,null,null,null,null,null,null,null,null,null,null,{"$f":"NZ565","v":-20.218650793650795},{"$f":"OA565","v":14.300000000000004},{"$f":"NY565","v":"h11"}]
[null,null,null,null,null,null,null,null,null,null,null,null,null,null,null,null,null,null,null,null,null,null,null,null,null,null,null,null,null,null,null,null,null,null,null,null,null,null,null,null,null,null,null,null,null,null,null,null,null,null,null,null,null,null,null,null,null,null,null,null,null,null,null,null,null,null,null,null,null,null,null,null,null,null,null,null,null,null,null,null,null,null,null,null,null,null,null,null,null,null,null,null,null,null,null,null,null,null,"z1",{"$f":"IF((CW558-CW556)<(CW555-CW556),CV556,IF((CW558-CW556)<(CW554-CW556),(CW558-CW555)*(CV554-CV555)/(CW554-CW555)+CV555,CV554+(CW558-CW554)*(CV553-CV554)/(CW553-CW554)))","v":0.34816565115623743},{"$f":"CW556+CV557*(CW554-CW556)","v":7.8839999999999995},null,null,"z2",{"$f":"IF((DB558-DB556)<(DB555-DB556),DA556,IF((DB558-DB556)<(DB554-DB556),(DB558-DB555)*(DA554-DA555)/(DB554-DB555)+DA555,DA554+(DB558-DB554)*(DA553-DA554)/(DB553-DB554)))","v":17.021193870533139},{"$f":"DB556+DA557*(DB554-DB556)","v":7.8839999999999995},null,"α6",{"$f":"'متغیرها '!C517","v":1},null,null,"z1",{"$f":"IF((DJ558-DJ556)<(DJ555-DJ556),DI556,IF((DJ558-DJ556)<(DJ554-DJ556),(DJ558-DJ555)*(DI554-DI555)/(DJ554-DJ555)+DI555,DI554+(DJ558-DJ554)*(DI553-DI554)/(DJ553-DJ554)))","v":32.194791137432283},{"$f":"DJ556+DI557*(DJ554-DJ556)","v":7.8839999999999995},null,null,"z2",{"$f":"IF((DO558-DO556)<(DO555-DO556),DN556,IF((DO558-DO556)<(DO554-DO556),(DO558-DO555)*(DN554-DN555)/(DO554-DO555)+DN555,DN554+(DO558-DO554)*(DN553-DN554)/(DO553-DO554)))","v":17.704582031449682},{"$f":"DO556+DN557*(DO554-DO556)","v":7.8839999999999995},null,{"$f":"DQ537-DE556*0.1*(DQ536-DQ537)","v":15.160487231185911},{"$f":"DR537-DE556*0.15*(DR536-DR537)","v":57.335951148188627},"32'",null,{"$f":"DU560","v":0.34816565115623743},{"$f":"DV560","v":7.8839999999999995},"چپ z1",null,null,null,null,null,null,null,null,null,null,null,null,null,null,null,null,null,null,null,null,null,null,null,null,null,null,null,null,null,null,null,null,null,null,null,null,null,null,null,null,null,null,null,null,null,null,null,null,null,null,null,null,null,null,null,null,null,null,null,null,null,null,null,null,null,null,null,null,null,null,null,null,null,null,null,null,null,null,null,null,null,null,null,null,null,null,null,null,null,null,null,null,null,null,null,null,null,null,null,null,null,null,null,null,null,null,null,null,null,null,null,null,null,null,null,null,null,null,null,null,null,null,null,null,null,null,null,null,null,null,null,null,null,null,null,null,null,null,null,null,null,null,null,null,null,null,null,null,null,null,null,null,null,null,null,null,null,null,null,null,null,null,null,null,null,null,null,null,null,null,null,null,null,null,null,null,null,null,null,null,null,null,null,null,null,null,null,null,null,null,null,null,null,null,null,null,null,null,null,null,null,null,null,null,null,null,null,null,null,null,null,null,null,null,null,null,null,null,null,null,null,null,null,null,null,null,null,null,null,null,null,null,null,null,null,null,null,null,null,null,null,null,null,null,null,null,null,null,null,null,null,null,null,null,null,null,null,null,null,null,null,"نقطه پایان رج(راست)","مولفه افقی","مولفه عمودی",{"$f":"NZ567","v":-18.868650793650794},{"$f":"OA567","v":14.900000000000006},{"$f":"NY567","v":"h13"}]
[null,null,null,null,null,null,null,null,null,null,null,null,null,null,null,null,null,null,null,null,null,null,null,null,null,null,null,null,null,null,null,null,null,null,null,null,null,null,null,null,null,null,null,null,null,null,null,null,null,null,null,null,null,null,null,null,null,null,null,null,null,null,null,null,null,null,null,null,null,null,null,null,null,null,null,null,null,null,null,null,null,null,null,null,null,null,null,null,null,null,null,null,null,null,null,null,null,null,null,null,null,null,null,null,null,null,null,null,null,null,null,null,null,null,null,null,null,null,null,null,null,null,null,null,null,null,null,null,null,null,null,null,null,null,null,null,null,null,null,null,null,null,null,null,null,null,null,null,null,null,null,null,null,null,null,null,null,null,null,null,null,null,null,null,null,null,null,null,null,null,null,null,null,null,null,null,null,null,null,null,null,null,null,null,null,null,null,null,null,null,null,null,null,null,null,null,null,null,null,null,null,null,null,null,null,null,null,null,null,null,null,null,null,null,null,null,null,null,null,null,null,null,null,null,null,null,null,null,null,null,null,null,null,null,null,null,null,null,null,null,null,null,null,null,null,null,null,null,null,null,null,null,null,null,null,null,null,null,null,null,null,null,null,null,null,null,null,null,null,null,null,null,null,null,null,null,null,null,null,null,null,null,null,null,null,null,null,null,null,null,null,null,null,null,null,null,null,null,null,null,null,null,null,null,null,null,null,null,null,null,null,null,null,null,null,null,null,null,null,null,null,null,null,null,null,null,null,null,null,null,null,null,null,null,null,null,null,null,null,null,null,null,null,null,null,null,null,null,null,null,null,null,null,null,null,null,null,null,null,null,null,null,null,null,null,null,null,null,null,null,null,null,null,null,null,null,null,null,null,null,null,null,null,null,null,null,null,null,"h9",{"$f":"NZ561+0.5*NZ552","v":-18.868650793650794},{"$f":"OA557","v":14.600000000000005},{"$f":"NZ566","v":-18.868650793650794},{"$f":"OA566","v":14.300000000000004},{"$f":"NY566","v":"h12"}]
[null,null,null,null,null,"t3",{"$f":"'متغیرها '!C592","v":1.2000000000000002},null,null,"x1",{"$f":"'متغیرها '!C594","v":15},10,null,"s3",{"$f":"G569*L588/(G571+1)","v":19.767272727272729},{"$f":"1*K588/(H571+1)","v":17.318181818181817},null,"s34",{"$f":"ATAN((AG579-AG596)/(AH596-AH579))","v":0.22983032251254751},null,{"$f":"U567+0.5*(U568-U567)","v":15.454545454545453},3,{"$f":"W567+0.5*(W568-W567)","v":24.057272727272732},{"$f":"X567","v":45.5},{"$f":"Y567","v":0},null,43,{"$f":"W594+S573*COS(O582)","v":15.399051148530825},{"$f":"X594-S573*SIN(O582)","v":98.663891709393084},null,{"$f":"AE567+0.5*(AE568-AE567)","v":16.545454545454543},"p3",{"$f":"AG567+0.5*(AG568-AG567)","v":20.868727272727277},{"$f":"AH567","v":45.5},{"$f":"AI567","v":0},null,"p38",{"$f":"AL567+0.5*SQRT(POWER((AL567-AL568),2)+POWER((AM567-AM568),2))*COS(RADIANS(G593)-O572+O581-RADIANS(G589))/COS(RADIANS(G593))","v":17.021770033930547},{"$f":"AM567-0.5*SQRT(POWER((AL567-AL568),2)+POWER((AM567-AM568),2))*SIN(RADIANS(G593)-O572+O581-RADIANS(G589))/COS(RADIANS(G593))","v":94.637845222347792},null,2,{"$f":"RADIANS(2)+O581","v":0.13122966736129074},{"$f":"AG574-O576*SIN(AP569)","v":5.0175625798591774},{"$f":"AH574+O576*COS(AP569)","v":83.249111180269551},{"$f":"AG573+O575*SIN(O573+(AP569-O581)*G579)","v":36.437060860398837},{"$f":"AH573+O575*COS(O573+(AP569-O581)*G579)","v":75.149888015574476},{"$f":"AQ569+0.5*L582*COS(AP569-O581)","v":29.040419584330689},{"$f":"AR569+0.5*L582*SIN(AP569-O581)","v":84.088007832255911},11.601736422802771,null,"افقی بالای جیب",{"$f":"AZ582-'متغیرها '!C691*0.5*SIN(RADIANS('متغیرها '!C692))*(0.5*'متغیرها '!U84+0.06*H105)","v":11.18741006162071},null,null,"افقی بالای جیب",{"$f":"BD582-'متغیرها '!C682*0.5*SIN(RADIANS('متغیرها '!C683))*(0.5*'متغیرها '!U84+0.06*H105)","v":14.661272727272738},null,null,{"$f":"AE568","v":23.090909090909086},{"$f":"AI568","v":0},{"$f":"AF568","v":"p2"},null,{"$f":"U568","v":20.909090909090907},{"$f":"Y568","v":0},{"$f":"V568","v":2},null,{"$f":"W592","v":17.403106998434097},{"$f":"X592","v":98.480931763324818},{"$f":"V592","v":17},null,29.852572780462008,107.44703373188389,{"$f":"V602","v":25},null,null,null,"کیسه جیب",null,null,null,null,null,null,null,null,null,null,null,null,null,null,null,null,null,{"$f":"AL575","v":5.0219102818864432},{"$f":"AM575","v":91.0073062072629},{"$f":"AK575","v":"p44"},null,null,null,null,null,null,{"$f":"AZ176","v":14.781420000000001},{"$f":"BA176","v":101.14},"47'",null,{"$f":"CZ572","v":15.146419999999999},{"$f":"DE583","v":50.5},"53r",null,0.74341401607168578,82.321879999999993,{"$f":"DF578","v":"13r"},null,21.773104627975712,50.5,{"$f":"DF574","v":"5r"},null,2.2735994947170539,84.1435177912158,{"$f":"DJ613","v":"p14r"},null,{"$f":"AZ179","v":16.183920000000001},{"$f":"BA179","v":108},40,null,{"$f":"DX568+DT582-DT583","v":18.096222337915677},{"$f":"DY577","v":14.1},"5r",null,null,null,null,null,3.2758762024257635,86.723200000000006,{"$f":"DZ572","v":"14r"},null,null,null,null,null,null,null,null,null,null,null,null,null,null,null,null,null,null,null,null,null,null,null,null,null,null,null,null,null,null,null,null,null,null,null,null,null,null,null,null,null,null,null,null,null,null,null,null,null,null,null,null,null,null,null,null,null,null,null,null,null,null,null,null,null,null,null,null,null,null,null,null,null,null,null,null,null,null,null,null,null,null,null,null,null,null,null,null,null,null,null,null,null,null,null,null,null,null,null,null,null,null,null,null,null,null,null,null,null,null,null,null,null,null,null,null,null,null,null,null,null,null,null,null,null,null,null,null,null,null,null,null,null,null,null,null,null,null,null,null,null,null,null,null,null,null,null,null,null,null,null,null,null,null,null,null,null,null,null,null,null,null,null,null,null,null,null,null,null,null,null,null,null,null,null,null,null,null,null,null,null,null,null,null,null,null,null,null,null,null,null,null,null,null,null,null,null,null,null,null,null,null,null,null,null,null,null,null,null,null,null,null,null,null,null,null,null,null,null,null,null,null,null,null,null,null,null,null,null,null,null,null,null,null,null,null,null,null,null,null,null,null,null,null,null,null,null,null,null,null,null,null,null,{"$f":"NZ561","v":-19.543650793650794},{"$f":"OA561","v":14.600000000000005},{"$f":"NY561","v":"h5"}]
[null,null,null,null,null,"t9",{"$f":"'متغیرها '!C606","v":0},null,null,"t51",{"$f":"'متغیرها '!C609","v":0},null,null,"s9",{"$f":"SQRT(POWER((W579-W573),2)+POWER((X579-X573),2))","v":30.020029294648779},{"$f":"SQRT(POWER((U579-U573),2)+POWER((Y579-Y573),2))","v":29.900691425710168},null,"s40",{"$f":"SQRT(POWER((AB568-AB569),2)+POWER((AC568-AC569),2))+SQRT(POWER((AB567-AB568),2)+POWER((AC567-AC568),2))+SQRT(POWER((AB567-W616),2)+POWER((X616-AC567),2))-SQRT(POWER((AB571-AB577),2)+POWER((AC571-AC577),2))-SQRT(POWER((AB576-AB577),2)+POWER((AC576-AC577),2))","v":15.287876867516474},null,{"$f":"U573+0.5*(Y575-Y573)*(U579-U573)/(Y579-Y573)","v":24.830772727272723},8,{"$f":"W573+0.5*(X575-X573)*(W579-W573)/(X579-X573)","v":33.663842045454558},{"$f":"X573+0.3*(X579-X573)","v":54.438752000000001},{"$f":"Y573+0.3*(Y579-Y573)","v":54.354799999999997},null,49,{"$f":"W618-SQRT(POWER((AL573-AG577),2)+POWER((AM573-AH577),2))","v":1.3448391772060817},{"$f":"X578","v":83.4},null,{"$f":"AE573+0.5*(AI575-AI573)*(AE578-AE573)/(AI578-AI573)","v":28.112360770235991},"p8",{"$f":"AG573+0.5*(AH575-AH573)*(AG578-AG573)/(AH578-AH573)","v":32.674192681896614},{"$f":"AH573+0.3*(AH578-AH573)","v":54.308988645218108},{"$f":"AI573+0.3*(AI578-AI573)","v":54.156370155018465},null,"p44",{"$f":"AG607+S574*COS(O572-O581)","v":5.0219102818864432},{"$f":"AH607+S574*SIN(O572-O581)","v":91.0073062072629},null,8,{"$f":"RADIANS(8)+O581","v":0.23594942248095052},{"$f":"AG574-O576*SIN(AP575)","v":1.0990003119743648},{"$f":"AH574+O576*COS(AP575)","v":82.521511072614786},{"$f":"AG573+O575*SIN(O573+(AP575-O581)*G579)","v":39.510573155603666},{"$f":"AH573+O575*COS(O573+(AP575-O581)*G579)","v":74.496220200642085},{"$f":"AQ575+0.5*L582*COS(AP575-O581)","v":24.902569014349861},{"$f":"AR575+0.5*L582*SIN(AP575-O581)","v":85.866884486942354},18.511774396384389,null,"(وسط جیب→β16)",{"$f":"'متغیرها '!C691*(0.5*'متغیرها '!U84+(0.18-'متغیرها '!C694*0.08)*'متغیرها '!U83)*COS((0.5*'متغیرها '!C694+0.5)*(RADIANS(90)-RADIANS('متغیرها '!C692)))","v":13.130999999999998},null,null,"(وسط جیب→β16)",{"$f":"'متغیرها '!C682*(0.5*'متغیرها '!U84+(0.18-'متغیرها '!C685*0.08)*'متغیرها '!U83)*COS((0.5*'متغیرها '!C685+0.5)*(RADIANS(90)-RADIANS('متغیرها '!C683)))","v":13.130999999999998},null,null,{"$f":"AE578","v":34.776344528846018},{"$f":"AI578","v":74.354567183394877},{"$f":"AF578","v":"p11"},null,{"$f":"U579","v":28.894545454545455},{"$f":"Y579","v":75.016000000000005},{"$f":"V579","v":11},null,{"$f":"W593","v":16.530615341098404},{"$f":"X593","v":98.553142949530965},{"$f":"V593","v":18},null,{"$f":"W604","v":34.47689192608734},{"$f":"X604","v":103.94703373188389},{"$f":"V604","v":27},null,null,null,"جیب جین",null,null,null,null,null,null,null,null,null,null,null,null,null,null,null,null,null,{"$f":"AL571","v":11.496591775033325},{"$f":"AM571","v":45.5},{"$f":"AK571","v":"p40"},null,{"$f":"AL599","v":-8.3319666126775971},{"$f":"AM599","v":50.614075570600527},"p84",null,null,{"$f":"BD98","v":-7.1499999999999986},{"$f":"BE98","v":140.97041326438926},"26'",null,{"$f":"DD574","v":21.773104627975712},{"$f":"DE583","v":50.5},"1r",null,1.7548912887989516,50.5,{"$f":"DF582","v":"4r"},null,{"$f":"DD570","v":25.024641323910402},{"$f":"DE570","v":102.68495053021259},{"$f":"DF570","v":"32r"},null,2.6977295863611594,50.204474981302624,{"$f":"DJ617","v":"p6r"},null,{"$f":"U581","v":26.169745454545449},{"$f":"Y581","v":77.112000000000009},13,null,{"$f":"DX574+DT574-DT584","v":2.6896489296984889},{"$f":"DY574-DU574+DU584","v":59.354799999999997},"8r",null,null,null,null,null,3.4067852933348526,50.5,{"$f":"DZ576","v":"6r"},null,null,null,null,null,null,null,null,null,null,null,null,null,null,null,null,null,null,null,null,null,null,null,null,null,null,null,null,null,null,null,null,null,null,null,null,null,null,null,null,null,null,null,null,null,null,null,null,null,null,null,null,null,null,null,null,null,null,null,null,null,null,null,null,null,null,null,null,null,null,null,null,null,null,null,null,null,null,null,null,null,null,null,null,null,null,null,null,null,null,null,null,null,null,null,null,null,null,null,null,null,null,null,null,null,null,null,null,null,null,null,null,null,null,null,null,null,null,null,null,null,null,null,null,null,null,null,null,null,null,null,null,null,null,null,null,null,null,null,null,null,null,null,null,null,null,null,null,null,null,null,null,null,null,null,null,null,null,null,null,null,null,null,null,null,null,null,null,null,null,null,null,null,null,null,null,null,null,null,null,null,null,null,null,null,null,null,null,null,null,null,null,null,null,null,null,null,null,null,null,null,null,null,null,null,null,null,null,null,null,null,null,null,null,null,null,null,null,null,null,null,null,null,null,null,null,null,null,null,null,null,null,null,null,null,null,null,null,null,null,null,null,null,null,null,null,null,null,null,null,"w37",{"$f":"NU288","v":-14.087301587301587},{"$f":"NV288","v":14.600000000000005},{"$f":"NZ580","v":-13.807301587301588},{"$f":"OA580","v":15.288000000000006},{"$f":"NY580","v":"g6"}]
[null,null,null,null,null,"t20",{"$f":"'متغیرها '!C626","v":1},1,null,{"$f":"'متغیرها '!T59","v":"h"},45.5,{"$f":"K586+G606*K586","v":45.5},null,"s20",{"$f":"(G610*2*O583)*SQRT(POWER((W578-W587),2)+POWER((X578-X587),2))/SQRT(POWER((W578-W586),2)+POWER((X578-X586),2))+IF(O584<0.3,O584,0)","v":0.64215305260061872},{"$f":"(H610*2*P583)*SQRT(POWER((U578-U587),2)+POWER((Y578-Y587),2))/SQRT(POWER((U578-U586),2)+POWER((Y578-Y586),2))+IF(P584<0.3,P584,0)","v":1.6779381012128827},null,"s51",{"$f":"ATAN((X592-AC600)/(AB600-W592))","v":5.8342998580420323E-2},null,{"$f":"U578","v":2.014545454545452},"20a",{"$f":"W578","v":11.338022727272733},{"$f":"X567-O566+L584","v":104},{"$f":"Y567+K584","v":104},null,60,{"$f":"W610+S573","v":20.181373125692261},{"$f":"X610","v":91.804536706843862},null,{"$f":"AE585-P588*COS(P572-P581)","v":18.270798889412617},"p15e",{"$f":"AG585-O588*COS(O572-O581)","v":23.404489363711008},{"$f":"AH585-O588*SIN(O572-O581)","v":100.37710216824763},{"$f":"AI585-P588*SIN(P572-P581)","v":105.59570390602256},null,"p48",{"$f":"AL579+(AL578-AL584)","v":27.335620000000006},{"$f":"AM583","v":45.5},null,"درجه اضافه شده به زاویه خط پهلو پشت","s'6","xp10","yp10","xp11","yp11","xp12","yp12","s11",null,null,null,null,null,null,"اطلاعات ورودی",null,null,{"$f":"AE579","v":22.500149689307548},{"$f":"AI579","v":85.326756028507361},{"$f":"AF579","v":"p12"},null,{"$f":"U580","v":23.314545454545449},{"$f":"Y580","v":93.2},{"$f":"V580","v":12},null,null,null,"خط اتو",null,{"$f":"W568","v":33.114545454545464},{"$f":"X568","v":45.5},{"$f":"V568","v":2},null,{"$f":"BD571+BD567","v":28.152272727272738},{"$f":"BD572+BD568","v":84.4},"β5",null,null,null,null,null,{"$f":"AG569","v":20.868727272727277},{"$f":"AH569","v":45.5},{"$f":"AF569","v":"p3"},null,{"$f":"AG577","v":3.0487550062403814},{"$f":"AH577","v":82.936616708547575},{"$f":"AF577","v":"p10"},null,{"$f":"AZ569+BA568","v":11.18741006162071},{"$f":"AZ570-BA567","v":90.61},"β13",null,{"$f":"AG610","v":14.49686655367748},{"$f":"AH610","v":91.442671853463921},{"$f":"AF610","v":"p30"},null,null,null,null,null,null,{"$f":"W606","v":11.442178082803283},{"$f":"X606","v":82.336005361980654},29,null,{"$f":"DD585+0.2*(DD570-DD585)","v":16.696215294837},{"$f":"DE570+0.35*(DE585-DE570)","v":105.01221072012756},"31'r",null,null,null,null,null,{"$f":"DL567","v":25.435081900702979},{"$f":"DM567","v":89.629855932771093},"10r",null,{"$f":"DD613","v":15.23},{"$f":"DE613","v":110},"34b",null,{"$f":"U570","v":20.909090909090907},{"$f":"Y570","v":9.1},4,null,{"$f":"DT611-DT596+DT597+(DU597-DU596)*TAN(DU607-DU608)","v":4.8510014664111605},{"$f":"DU611-DU597+DU596","v":89.731052122484797},"p12r",null,null,null,null,null,18.096222337915677,5,{"$f":"DZ570","v":"1r"},null,null,null,null,null,null,null,null,null,null,null,null,null,null,null,null,null,null,null,null,null,null,null,null,null,null,null,null,null,null,null,null,null,null,null,null,null,null,null,null,null,null,null,null,null,null,null,null,null,null,null,null,null,null,null,null,null,null,null,null,null,null,null,null,null,null,null,null,null,null,null,null,null,null,null,null,null,null,null,null,null,null,null,null,null,null,null,null,null,null,null,null,null,null,null,null,null,null,null,null,null,null,null,null,null,null,null,null,null,null,null,null,null,null,null,null,null,null,null,null,null,null,null,null,null,null,null,null,null,null,null,null,null,null,null,null,null,null,null,null,null,null,null,null,null,null,null,null,null,null,null,null,null,null,null,null,null,null,null,null,null,null,null,null,null,null,null,null,null,null,null,null,null,null,null,null,null,null,null,null,null,null,null,null,null,null,null,null,null,null,null,null,null,null,null,null,null,null,null,null,null,null,null,null,null,null,null,null,null,null,null,null,null,null,null,null,null,null,null,null,null,null,null,null,null,null,null,null,null,null,null,null,null,null,null,null,null,null,null,null,null,null,null,null,null,null,null,null,null,null,null,null,"فلش به سمت چپ",null,null,{"$f":"OA586","v":"فلش به سمت چپ"}]
[null,null,null,null,null,"t'22",{"$f":"'متغیرها '!C666","v":-6},null,null,{"$f":"'متغیرها '!T62","v":"m"},27.983999999999998,{"$f":"K589+0.2*G570*K589+G606*K589+G611*0.22*K589+G614*0.1*K589","v":27.704159999999998},null,"s23",{"$f":"(G608*O585)*SQRT(POWER((AG577-AG582),2)+POWER((AH577-AH582),2))/SQRT(POWER((AG577-AG580),2)+POWER((AH577-AH580),2))","v":0.74639563106796114},{"$f":"(H608*P585)*SQRT(POWER((AE577-AE582),2)+POWER((AI577-AI582),2))/SQRT(POWER((AE577-AE580),2)+POWER((AI577-AI580),2))","v":2.0874999999999995},null,"s54",{"$f":"S587-S588-2*O584","v":0.98066575501450548},null,{"$f":"U588-0.5*(U588-U586)","v":9.4695454545454503},"19a",{"$f":"W588-0.5*(W588-W586)","v":17.379272727272735},{"$f":"X588+0.5*(W588-W586)*TAN(O582)","v":103.5},{"$f":"Y588+0.5*(U588-U586)*TAN(P582)","v":103.5},null,63,{"$f":"W614+0.5*S573","v":27.553402987095797},{"$f":"X614","v":74.747330358695507},null,{"$f":"AE588+P590*SIN(P572-P581)","v":9.3231879046732082},"p19",{"$f":"AG588+O590*SIN(O572-O581)","v":14.429002038568036},{"$f":"AH588-O590*COS(O572-O581)","v":90.759488982092478},{"$f":"AI588-P590*COS(P572-P581)","v":90.155842704710849},null,"p75",{"$f":"AL588","v":19.255949453708709},{"$f":"AH568","v":45.5},null,3,{"$f":"RADIANS(3)+P581","v":0.17784245037473734},{"$f":"AE574-P576*SIN(AP589)","v":-0.60334430822058049},{"$f":"AI574+P576*COS(AP589)","v":83.097845918215043},{"$f":"AE573+P575*SIN(P573+(AP589-P581)*H579)","v":33.255468741988828},{"$f":"AI573+P575*COS(P573+(AP589-P581)*H579)","v":74.725335898832697},{"$f":"AQ589+0.5*K582*COS(AP589-P581)","v":24.562119967594679},{"$f":"AR589+0.5*K582*SIN(AP589-P581)","v":84.416712015537229},13.019104575534037,null,null,null,"راس بالا ",47,{"$f":"AB573","v":1.3448391772060817},{"$f":"AC573","v":99.180018610343353},"ضلع بالا",{"$f":"S573+S574","v":6.4259440697127719},{"$f":"AE596","v":18.097299187600356},{"$f":"AI596","v":106.42719237297227},{"$f":"AF596","v":"p15"},null,{"$f":"U569","v":15.454545454545453},{"$f":"Y569","v":0},{"$f":"V569","v":3},null,null,null,null,null,{"$f":"AB601","v":25.636930577174411},{"$f":"AC601","v":45.5},{"$f":"AA601","v":75},null,{"$f":"BD571-BE568","v":27.152272727272738},{"$f":"BD572+BE567","v":83.4},"β7",null,{"$f":"AB576","v":7.770783246918854},{"$f":"AC576","v":83.4},{"$f":"AA576","v":50},null,{"$f":"AG572","v":20.868727272727277},{"$f":"AH572","v":45.5},{"$f":"AF572","v":"p6a"},null,{"$f":"AL583","v":10},{"$f":"AM583","v":45.5},{"$f":"AK583","v":"p52"},null,{"$f":"AZ569+AZ567","v":11.18741006162071},{"$f":"AZ570+AZ568","v":90.61},"β11",null,{"$f":"AL576","v":8.0031143987871651},{"$f":"AM576","v":101.87793229756709},{"$f":"AK576","v":"p45"},null,null,null,null,null,null,{"$f":"W571","v":15},{"$f":"X571","v":45.5},5,null,{"$f":"DD577-CZ574+CZ575","v":-9.6395859839283169},{"$f":"DE577","v":86.779167999999999},"14'r",null,null,null,null,null,{"$f":"DL581","v":28.25},{"$f":"DM581","v":124.7739048933077},"شیفت 14",null,{"$f":"BK154","v":16.204999999999998},{"$f":"BL154","v":131.88439243697479},40,null,null,null,null,null,{"$f":"DX588-DT593+DT594+(DU594-DU593)*TAN(DU607-DU608)","v":-6.2719698553711716},{"$f":"DY588-DU594+DU593","v":78.758863277372313},"p11r",null,null,null,null,null,null,null,null,null,null,null,null,null,null,null,null,null,null,null,null,null,null,null,null,null,null,null,null,null,null,null,null,null,null,null,null,null,null,null,null,null,null,null,null,null,null,null,null,null,null,null,null,null,null,null,null,null,null,null,null,null,null,null,null,null,null,null,null,null,null,null,null,null,null,null,null,null,null,null,null,null,null,null,null,null,null,null,null,null,null,null,null,null,null,null,null,null,null,null,null,null,null,null,null,null,null,null,null,null,null,null,null,null,null,null,null,null,null,null,null,null,null,null,null,null,null,null,null,null,null,null,null,null,null,null,null,null,null,null,null,null,null,null,null,null,null,null,null,null,null,null,null,null,null,null,null,null,null,null,null,null,null,null,null,null,null,null,null,null,null,null,null,null,null,null,null,null,null,null,null,null,null,null,null,null,null,null,null,null,null,null,null,null,null,null,null,null,null,null,null,null,null,null,null,null,null,null,null,null,null,null,null,null,null,null,null,null,null,null,null,null,null,null,null,null,null,null,null,null,null,null,null,null,null,null,null,null,null,null,null,null,null,null,null,null,null,null,null,null,null,null,null,null,null,null,null,null,null,"w40",{"$f":"NU291","v":-19.543650793650794},{"$f":"NV291","v":15.400000000000006}]
[null,null,null,null,null,"t27",{"$f":"'متغیرها '!C671","v":2},null,null,{"$f":"'متغیرها '!T79","v":"t6"},{"$f":"'متغیرها '!U79","v":40},{"$f":"H127","v":40},null,"s28",{"$f":"ATAN((K581-K579)/(5*(K584-K587)))","v":0.23811378241001138},null,null,"s59",{"$f":"0.22*(SQRT(POWER((AG587-AG596),2)+POWER((AH587-AH596),2))-2*O587)","v":4.0613164579058436},null,{"$f":"U587+P586*COS(P582)","v":3.6887223379156797},20,{"$f":"W587+O586*COS(O582)","v":11.977987661785669},{"$f":"X587-O586*SIN(O582)","v":98.947033731883892},{"$f":"Y587-P586*SIN(P582)","v":103.88771449474378},null,68,{"$f":"AB591-(AB593-AB590)","v":27.317890909090913},{"$f":"AC593","v":45.5},null,{"$f":"AE588+P585*COS(P572-P581)","v":9.8919519209349147},"p17a",{"$f":"AG588+O585*COS(O572-O581)","v":15.190110531942141},{"$f":"AH588+O585*SIN(O572-O581)","v":104.67753633027726},{"$f":"AI588+P585*SIN(P572-P581)","v":104.71505160299257},null,"p80",{"$f":"AL591-S595*COS(2*RADIANS(G613)-S593)","v":14.862583682102738},{"$f":"AM591+S595*SIN(2*RADIANS(G613)-S593)","v":100.29199017439345},null,8,{"$f":"RADIANS(8)+P581","v":0.26510891297445383},{"$f":"AE574-P576*SIN(AP594)","v":-3.8544966841245927},{"$f":"AI574+P576*COS(AP594)","v":82.365785861715537},{"$f":"AE573+P575*SIN(P573+(AP594-P581)*H579)","v":35.778578496584494},{"$f":"AI573+P575*COS(P573+(AP594-P581)*H579)","v":74.0633783733862},{"$f":"AQ594+0.5*K582*COS(AP594-P581)","v":21.100258648162978},{"$f":"AR594+0.5*K582*SIN(AP594-P581)","v":85.87294800590918},18.839294266982879,null,null,null,null,6,{"$f":"BC588+BF588*SIN(RADIANS(BB594)+BB590)","v":3.5165818412716678},{"$f":"BD588+BF588*COS(RADIANS(BB594)+BB590)","v":98.084037234920615},{"$f":"IF(BC589>BC594,ATAN((BD589-BD594)/(BC589-BC594)),ATAN((BD589-BD594)/(BC594-BC589)))","v":0.46736488401086806},{"$f":"IF(BC589>BC594,(BC589-BC594)/COS(BE594),(BC594-BC589)/COS(BE594))","v":2.4326202692151124},null,null,null,null,{"$f":"U592","v":10.306633896230565},{"$f":"Y592","v":103.44385724737189},{"$f":"V592","v":17},null,{"$f":"W578","v":11.338022727272733},{"$f":"X578","v":83.4},{"$f":"V578","v":10},null,{"$f":"AB612","v":-5.6764126516106161},{"$f":"AC612","v":52.167551450546569},{"$f":"AA612","v":85},null,{"$f":"BD571+BD567","v":28.152272727272738},{"$f":"BD572+BD568","v":84.4},"β5",null,null,null,null,null,{"$f":"AG571","v":10},{"$f":"AH571","v":45.5},{"$f":"AF571","v":"p5"},null,{"$f":"AG609","v":23.266560056762337},{"$f":"AH609","v":101.96663336618396},{"$f":"AF609","v":"p29"},null,{"$f":"AZ569-AZ567","v":11.18741006162071},{"$f":"AZ570-AZ568","v":90.61},"β9",null,{"$f":"AG584","v":29.19230314031023},{"$f":"AH584","v":79.439042809913175},{"$f":"AF584","v":"p14"},null,{"$f":"AL601","v":2.6962191650599241},{"$f":"AM601","v":103.1419634520864},"p86",null,null,{"$f":"W607","v":15.814868897336188},{"$f":"X607","v":98.629476832603899},30,null,{"$f":"CZ567","v":5},{"$f":"DA567","v":108},"38b",null,{"$f":"CZ572","v":15.146419999999999},{"$f":"DA572","v":101.14},"47''b",null,null,null,null,null,{"$f":"DD618","v":15.301249999999996},{"$f":"DE618","v":91.64},"38''b",null,{"$f":"AE583","v":29.252056851053709},{"$f":"AI583","v":75.451786067906127},"p13",null,null,null,null,null,null,null,null,null,"شبیه ساز پشت شلوار متصل به بالاتنه",null,null,null,null,null,null,null,null,null,null,null,null,null,null,null,null,null,null,null,null,null,null,null,null,null,null,null,null,null,null,null,null,null,null,null,null,null,null,null,null,null,null,null,null,null,null,null,null,null,null,null,null,null,null,null,null,null,null,null,null,null,null,null,null,null,null,null,null,null,null,null,null,null,null,null,null,null,null,null,null,null,null,null,null,null,null,null,null,null,null,null,null,null,null,null,null,null,null,null,null,null,null,null,null,null,null,null,null,null,null,null,null,null,null,null,null,null,null,null,null,null,null,null,null,null,null,null,null,null,null,null,null,null,null,null,null,null,null,null,null,null,null,null,null,null,null,null,null,null,null,null,null,null,null,null,null,null,null,null,null,null,null,null,null,null,null,null,null,null,null,null,null,null,null,null,null,null,null,null,null,null,null,null,null,null,null,null,null,null,null,null,null,null,null,null,null,null,null,null,null,null,null,null,null,null,null,null,null,null,null,null,null,null,null,null,null,null,null,null,null,null,null,null,null,null,null,null,null,null,null,null,null,null,null,null,null,null,null,null,null,null,null,null,null,null,null,null,null,null,null,null,null,"ارتفاع نیم دایره",{"$f":"NV248","v":0.8},"بزرگی فلش",{"$f":"NZ597","v":-25},{"$f":"OA597","v":15.400000000000006},{"$f":"NY597","v":"w39"}]
[null,null,null,null,null,"t41",{"$f":"'متغیرها '!C589","v":0},null,null,"خط دوم","نقطه اول","p12",{"$f":"AG579","v":26.994785061620711},{"$f":"AH579","v":85.031622874844402},null,null,null,null,null,null,null,29,{"$f":"IF(X606>X578,W594-O596*SIN(S566)-IF(X606>0.5*(X594-X578)+X578,(X594-X606),(X606-X578))*0.03*(W594-W578),W578+(O596-X594+X578)*TAN(O581))","v":11.442178082803283},{"$f":"X594-O596*COS(S566)","v":82.336005361980654},null,null,80,{"$f":"AB603-S588*COS(S586+2*RADIANS(G612))","v":17.668260847593068},{"$f":"AC603+S588*SIN(S586+2*RADIANS(G612))","v":100.05211893984654},null,null,"p26a",{"$f":"AG587-SQRT(POWER((AG577-AG587),2)+POWER((AH577-AH587),2))*G585*SIN(S571)-IF(AH606>0.5*(AH587-AH577)+AH577,0.1*(AH587-AH606),0.1*(AH606-AH577))","v":1.9604334001909935},{"$f":"AH587-SQRT(POWER((AG577-AG587),2)+POWER((AH577-AH587),2))*G585*COS(S571)","v":90.739461686467848},null,null,null,null,null,null,"خط اول","نقطه اول","p17a",{"$f":"AE594","v":9.8919519209349147},{"$f":"AI594","v":104.71505160299257},null,"خط اول","نقطه اول",{"$f":"V596","v":21},36.934831475251919,82.250309488214768,null,null,30,{"$f":"BC588+BF588*SIN(RADIANS(BB606)+BB590)","v":9.8569128886247608},{"$f":"BD588+BF588*COS(RADIANS(BB606)+BB590)","v":98.544875114517836},{"$f":"IF(BC589>BC606,ATAN((BD589-BD606)/(BC589-BC606)),ATAN((BD589-BD606)/(BC606-BC589)))","v":7.4478756228278237E-2},{"$f":"IF(BC589>BC606,(BC589-BC606)/COS(BE606),(BC606-BC589)/COS(BE606))","v":8.5357369997507799},{"$f":"AL573","v":6.0305485892322084},{"$f":"AM573","v":83.197489844033711},"p42",null,null,null,"اطلاعات اندام در شلوار",null,null,null,null,null,{"$f":"AB606","v":17.668260847593068},{"$f":"AC606","v":100.05211893984654},{"$f":"AA606","v":80},null,{"$f":"BD569+BD567","v":14.661272727272738},{"$f":"BD570+BD568","v":84.4},"β11",null,{"$f":"AB582","v":14.874938602449404},{"$f":"AC582","v":82.336005361980654},{"$f":"AA582","v":56},null,{"$f":"AL582","v":25.650967272727279},{"$f":"AM582","v":45.5},{"$f":"AK582","v":"p51"},null,{"$f":"AG583","v":33.037959778016891},{"$f":"AH583","v":75.880128223138769},{"$f":"AF583","v":"p13"},null,null,null,null,null,null,null,null,null,null,null,null,null,null,{"$f":"AG579","v":26.994785061620711},{"$f":"AH579","v":85.031622874844402},"p12",null,{"$f":"DD589","v":-9.6395859839283169},{"$f":"DE589","v":86.779167999999999},"14'r",null,{"$f":"DD615","v":17.108750000000001},{"$f":"DN620","v":51.435270057464756},"49r",null,{"$f":"DD588","v":-7.1499999999999986},{"$f":"DE588","v":108},"38'",null,23.063424496382144,52.060215685235761,{"$f":"DJ611","v":"p1 r"},null,{"$f":"AE575","v":28.112360770235991},{"$f":"AI575","v":54.156370155018465},"p8",null,{"$f":"DD589","v":-9.6395859839283169},{"$f":"DE589","v":86.779167999999999},"14'r",null,{"$f":"DD589","v":-9.6395859839283169},{"$f":"DE589","v":86.779167999999999},"14'r",null,13.228445504886841,4.404296093977436,{"$f":"DZ593","v":"p2r"},null,null,null,null,null,null,null,null,null,null,null,null,null,null,null,null,null,null,null,null,null,null,null,null,null,null,null,null,null,null,null,null,null,null,null,null,null,null,null,null,null,null,null,null,null,null,null,null,null,null,null,null,null,null,null,null,null,null,null,null,null,null,null,null,null,null,null,null,null,null,null,null,null,null,null,null,null,null,null,null,null,null,null,null,null,null,null,null,null,null,null,null,null,null,null,null,null,null,null,null,null,null,null,null,null,null,null,null,null,null,null,null,null,null,null,null,null,null,null,null,null,null,null,null,null,null,null,null,null,null,null,null,null,null,null,null,null,null,null,null,null,null,null,null,null,null,null,null,null,null,null,null,null,null,null,null,null,null,null,null,null,null,null,null,null,null,null,null,null,null,null,null,null,null,null,null,null,null,null,null,null,null,null,null,null,null,null,null,null,null,null,null,null,null,null,null,null,null,null,null,null,null,null,null,null,null,null,null,null,null,null,null,null,null,null,null,null,null,null,null,null,null,null,null,null,null,null,null,null,null,null,null,null,null,null,null,null,null,null,null,null,null,null,null,null,null,null,null,null,null,null,null,null,{"$f":"NU292","v":-25},{"$f":"NV292","v":16.200000000000006},"w41"]
[null,null,null,null,null,"t48",{"$f":"'متغیرها '!C646","v":8},null,null,"خط اول","نقطه اول","p17",{"$f":"AG591","v":14.914321604186329},{"$f":"AH591","v":99.634308737855932},null,null,null,null,null,null,null,36,{"$f":"W578+0.3*(W580-W578)","v":17.379272727272735},{"$f":"X594-S568","v":72.697033731883892},null,null,86,{"$f":"AB610-S590*COS(3*RADIANS(G612)+S586)","v":12.724265132727954},{"$f":"AC610+S590*SIN(3*RADIANS(G612)+S586)","v":102.31776855687131},null,null,"p33",{"$f":"AG612-(SQRT(POWER((AG577-AG587),2)+POWER((AH577-AH587),2))-SQRT(POWER((AG577-AG606),2)+POWER((AH577-AH606),2)))*SIN(S571+S572)","v":3.3241284714725592},{"$f":"AH612-(SQRT(POWER((AG577-AG587),2)+POWER((AH577-AH587),2))-SQRT(POWER((AG577-AG606),2)+POWER((AH577-AH606),2)))*COS(S571+S572)","v":94.865098750901154},null,null,null,null,null,null,null,null,null,null,null,null,null,null,null,null,null,null,null,44,{"$f":"BC588+BF588*SIN(RADIANS(BB613)+BB590)","v":13.458822819048159},{"$f":"BD588+BF588*COS(RADIANS(BB613)+BB590)","v":97.590327161212201},{"$f":"IF(BC589>BC613,ATAN((BD589-BD613)/(BC589-BC613)),ATAN((BD589-BD613)/(BC613-BC589)))","v":0.13048221115789008},{"$f":"IF(BC589>BC613,(BC589-BC613)/COS(BE613),(BC613-BC589)/COS(BE613))","v":12.217844268865852},null,null,null,null,{"$f":"W579","v":36.776522727272734},{"$f":"X579","v":75.295839999999998},11,null,{"$f":"W579","v":36.776522727272734},{"$f":"X579","v":75.295839999999998},{"$f":"V579","v":11},null,{"$f":"IF(W578>AB614,AB614,W578)","v":-8.9542825873836804},{"$f":"IF(W578>AB614,AC614,X578)","v":53.626953172663185},{"$f":"V578","v":10},null,{"$f":"BD571-BD567","v":28.152272727272738},{"$f":"BD572-BD568","v":82.4},"β3",null,{"$f":"AB587","v":15.297660253324914},77.947033731883892,{"$f":"AA587","v":61},null,{"$f":"AG578","v":37.982375455068308},{"$f":"AH578","v":74.863295484060359},{"$f":"AF578","v":"p11"},null,null,null,null,null,{"$f":"AL567","v":17.021770033930547},{"$f":"AM567","v":94.637845222347792},{"$f":"AK567","v":"p36"},null,null,null,null,null,{"$f":"AL571","v":11.496591775033325},{"$f":"AM571","v":45.5},{"$f":"AK571","v":"p40"},null,null,{"$f":"AG567","v":10},{"$f":"AH567","v":45.5},"p1",null,{"$f":"BK159","v":15.23},{"$f":"BL159","v":110},34,null,{"$f":"DH612-CZ605+CZ606+(DA606-DA605)*TAN(DA617-DA618)","v":2.2735994947170539},{"$f":"DI612-DA606+DA605","v":84.1435177912158},"p14r",null,null,null,null,null,{"$f":"BK167","v":5},{"$f":"BL167","v":140},45,null,{"$f":"ER398","v":15.375},{"$f":"ES398","v":88.4},38,null,null,null,null,null,null,null,null,null,23.945504858839257,52.102007034179863,{"$f":"DZ583","v":"p7r"},null,null,null,null,null,null,null,null,null,null,null,null,null,null,null,null,null,null,null,null,null,null,null,null,null,null,null,null,null,null,null,null,null,null,null,null,null,null,null,null,null,null,null,null,null,null,null,null,null,null,null,null,null,null,null,null,null,null,null,null,null,null,null,null,null,null,null,null,null,null,null,null,null,null,null,null,null,null,null,null,null,null,null,null,null,null,null,null,null,null,null,null,null,null,null,null,null,null,null,null,null,null,null,null,null,null,null,null,null,null,null,null,null,null,null,null,null,null,null,null,null,null,null,null,null,null,null,null,null,null,null,null,null,null,null,null,null,null,null,null,null,null,null,null,null,null,null,null,null,null,null,null,null,null,null,null,null,null,null,null,null,null,null,null,null,null,null,null,null,null,null,null,null,null,null,null,null,null,null,null,null,null,null,null,null,null,null,null,null,null,null,null,null,null,null,null,null,null,null,null,null,null,null,null,null,null,null,null,null,null,null,null,null,null,null,null,null,null,null,null,null,null,null,null,null,null,null,null,null,null,null,null,null,null,null,null,null,null,null,null,null,null,null,null,null,null,null,null,null,null,"f3",{"$f":"NZ612","v":-20.478095238095236},{"$f":"OA611+OA609*NZ609","v":16.320000000000007},{"$f":"NZ612","v":-20.478095238095236},{"$f":"OA612","v":16.080000000000005},{"$f":"NY612","v":"f2"}]
[null,null,null,null,null,null,null,null,null,null,"نقطه دوم","p15b",{"$f":"AG593","v":22.253753563098925},{"$f":"AH593","v":105.29552501869738},null,null,null,null,null,null,null,40,{"$f":"W571+S573*G598","v":16.716380259823062},{"$f":"X571","v":45.5},null,null,null,null,null,null,null,null,null,null,null,null,null,null,null,null,null,"نقطه دوم",null,{"$f":"AR616+5","v":14.891951920934915},{"$f":"AS616+5*(AR619-AR620)/(AS620-AS619)","v":105.75835953033365},null,null,"نقطه دوم","p25b",23.511105663493872,91.2313155858849,null,null,52,{"$f":"BC588+BF588*SIN(RADIANS(BB617)+BB590)","v":15.378379043600713},{"$f":"BD588+BF588*COS(RADIANS(BB617)+BB590)","v":96.660605767107853},{"$f":"IF(BC589>BC617,ATAN((BD589-BD617)/(BC589-BC617)),ATAN((BD589-BD617)/(BC617-BC589)))","v":0.17763567885206066},{"$f":"IF(BC589>BC617,(BC589-BC617)/COS(BE617),(BC617-BC589)/COS(BE617))","v":14.257898942563292},null,null,null,null,{"$f":"U573","v":24.11363636363636},{"$f":"Y573","v":45.5},6,null,{"$f":"W583","v":30.688868367797642},{"$f":"X583","v":98},{"$f":"V583","v":15},null,null,null,null,null,null,null,null,null,{"$f":"W580","v":31.475522727272736},{"$f":"X580","v":93.2},{"$f":"V580","v":12},null,{"$f":"AG586","v":23.404489363711008},{"$f":"AH586","v":100.37710216824763},{"$f":"AF586","v":"p15e"},null,null,null,null,null,null,null,null,null,null,null,null,null,{"$f":"AG568","v":31.73745454545455},{"$f":"AH568","v":45.5},{"$f":"AF568","v":"p2"},null,null,null,{"$f":"O572","v":0.18358954492112062},"s6",null,{"$f":"BO184","v":25.75},{"$f":"BP171","v":110.10434605341895},"36 شیفت",null,{"$f":"DH616-CZ615+CZ616+(DA616-DA615)*TAN(DA617-DA618)","v":2.6977295863611594},{"$f":"DI616-DA616+DA615","v":50.204474981302624},"p6r","نقطه دوم از خط اول","p2r",{"$f":"DH619","v":2.6977295863611594},{"$f":"DI619","v":50.204474981302624},null,null,null,null,null,{"$f":"DD612","v":6.9499999999999993},{"$f":"DE612","v":110},44,null,null,null,null,null,null,null,null,null,null,null,null,null,null,null,null,null,null,null,null,null,null,null,null,null,null,null,null,null,null,null,null,null,null,null,null,null,null,null,null,null,null,null,null,null,null,null,null,null,null,null,null,null,null,null,null,null,null,null,null,null,null,null,null,null,null,null,null,null,null,null,null,null,null,null,null,null,null,null,null,null,null,null,null,null,null,null,null,null,null,null,null,null,null,null,null,null,null,null,null,null,null,null,null,null,null,null,null,null,null,null,null,null,null,null,null,null,null,null,null,null,null,null,null,null,null,null,null,null,null,null,null,null,null,null,null,null,null,null,null,null,null,null,null,null,null,null,null,null,null,null,null,null,null,null,null,null,null,null,null,null,null,null,null,null,null,null,null,null,null,null,null,null,null,null,null,null,null,null,null,null,null,null,null,null,null,null,null,null,null,null,null,null,null,null,null,null,null,null,null,null,null,null,null,null,null,null,null,null,null,null,null,null,null,null,null,null,null,null,null,null,null,null,null,null,null,null,null,null,null,null,null,null,null,null,null,null,null,null,null,null,null,null,null,null,null,null,null,null,null,null,null,null,null,null,null,null,null,null,null,null,null,"پهنای نیم دایره",{"$f":"NV239","v":0.5},{"$f":"NV250","v":0.24000000000000005},{"$f":"NZ623","v":22.899047619047618},{"$f":"OA623","v":16.312000000000005},{"$f":"NY623","v":"g5"}]
[null,null,null,null,null,null,null,null,null,null,null,null,null,null,null,null,null,null,null,null,null,null,null,null,null,null,null,null,null,null,null,null,null,null,null,null,null,null,null,null,null,null,null,null,null,null,null,null,null,null,null,null,null,null,"مولفه افقی","مولفه عمودی",null,null,null,null,null,null,null,null,null,null,null,null,null,null,null,null,null,null,null,null,null,null,null,null,null,null,null,null,null,null,null,null,null,null,null,null,null,null,null,null,null,null,null,null,null,null,null,null,null,null,null,null,null,null,null,null,null,null,null,null,null,null,null,null,null,null,null,null,null,null,null,null,null,null,null,null,null,null,null,null,null,null,null,null,null,null,null,null,null,null,null,null,null,null,null,null,null,null,null,null,null,null,null,null,null,null,null,null,null,null,null,null,null,null,null,null,null,null,null,null,null,null,null,null,null,null,null,null,null,null,null,null,null,null,null,null,null,null,null,null,null,null,null,null,null,null,null,null,null,null,null,null,null,null,null,null,null,null,null,null,null,null,null,null,null,null,null,null,null,null,null,null,null,null,null,null,null,null,null,null,null,null,null,null,null,null,null,null,null,null,null,null,null,null,null,null,null,null,null,null,null,null,null,null,null,null,null,null,null,null,null,null,null,null,null,null,null,null,null,null,null,null,null,null,null,null,null,null,null,null,null,null,null,null,null,null,null,null,null,null,null,null,null,null,null,null,null,null,null,null,null,null,null,null,null,null,null,null,null,null,null,null,null,null,null,null,null,null,null,null,null,null,null,null,null,null,null,null,null,null,null,null,null,null,null,null,null,null,null,null,null,null,null,null,null,null,null,null,null,null,null,null,null,null,null,null,null,null,null,null,null,null,null,null,null,null,null,null,null,null,null,null,null,null,null,null,null,null,null,null,null,null,"g7",{"$f":"NZ622+OA617*SIN(RADIANS(40)-ATAN((NZ622-NZ623)/(OA622-OA623)))","v":23.090738002444116},{"$f":"OA622-OA617*COS(RADIANS(40)-ATAN((NZ622-NZ623)/(OA622-OA623)))","v":16.370957451707199},{"$f":"NZ622","v":23.019047619047619},{"$f":"OA622","v":16.600000000000005},{"$f":"NY622","v":"g4"}]
[null,null,null,null,null,null,null,null,null,null,null,null,null,null,null,null,null,null,null,null,null,null,null,null,null,null,null,null,null,null,null,null,null,null,null,null,null,null,null,null,null,null,null,null,null,null,null,null,null,null,null,null,null,null,null,null,null,null,null,null,null,null,null,null,null,null,null,null,null,null,null,null,null,null,null,null,null,null,null,null,null,null,null,null,null,null,null,null,null,null,null,null,null,null,null,null,null,null,null,null,null,null,null,null,null,null,null,null,null,null,null,null,null,null,null,null,null,null,null,null,null,null,null,null,null,null,null,null,null,null,null,null,null,null,null,null,null,null,null,null,null,null,null,null,null,null,null,null,null,null,null,null,null,null,null,null,null,null,null,null,null,null,null,null,null,null,null,null,null,null,null,null,null,null,null,null,null,null,null,null,null,null,null,null,null,null,null,null,null,null,null,null,null,null,null,null,null,null,null,null,null,null,null,null,null,null,null,null,null,null,null,null,null,null,null,null,null,null,null,null,null,null,null,null,null,null,null,null,null,null,null,null,null,null,null,null,null,null,null,null,null,null,null,null,null,null,null,null,null,null,null,null,null,null,null,null,null,null,null,null,null,null,null,null,null,null,null,null,null,null,null,null,null,null,null,null,null,null,null,null,null,null,null,null,null,null,null,null,null,null,null,null,null,null,null,null,null,null,null,null,null,null,null,null,null,null,null,null,null,null,null,null,null,null,null,null,null,null,null,null,null,null,null,null,null,null,null,null,null,null,null,null,null,null,null,null,null,null,null,null,null,null,null,null,null,null,null,null,null,null,null,null,null,null,null,null,null,null,null,null,null,null,null,null,null,null,null,null,null,null,null,null,null,null,null,null,null,null,null,null,null,null,null,null,null,null,null,null,"طول باکس نوشته",{"$f":"NZ318","v":1.3499999999999999},"h3",{"$f":"NZ640","v":13.676851851851852},{"$f":"OA640","v":17.000000000000007},{"$f":"NY640","v":"h8"}]
[null,null,null,null,null,null,null,null,null,null,null,null,null,null,null,null,null,null,null,null,null,null,null,null,null,null,null,null,null,null,null,null,null,null,null,null,null,null,null,null,null,null,null,null,null,null,null,null,null,null,null,null,null,null,null,null,null,null,null,null,null,null,null,null,null,null,null,null,null,null,null,null,null,null,null,null,null,null,null,null,null,null,null,null,null,null,null,null,null,null,null,null,null,null,null,null,null,null,null,null,null,null,null,null,null,null,null,null,null,null,null,null,null,null,null,null,null,null,null,null,null,null,null,null,null,null,null,null,null,null,null,null,null,null,null,null,null,null,null,null,null,null,null,null,null,null,null,null,null,null,null,null,null,null,null,null,null,null,null,null,null,null,null,null,null,null,null,null,null,null,null,null,null,null,null,null,null,null,null,null,null,null,null,null,null,null,null,null,null,null,null,null,null,null,null,null,null,null,null,null,null,null,null,null,null,null,null,null,null,null,null,null,null,null,null,null,null,null,null,null,null,null,null,null,null,null,null,null,null,null,null,null,null,null,null,null,null,null,null,null,null,null,null,null,null,null,null,null,null,null,null,null,null,null,null,null,null,null,null,null,null,null,null,null,null,null,null,null,null,null,null,null,null,null,null,null,null,null,null,null,null,null,null,null,null,null,null,null,null,null,null,null,null,null,null,null,null,null,null,null,null,null,null,null,null,null,null,null,null,null,null,null,null,null,null,null,null,null,null,null,null,null,null,null,null,null,null,null,null,null,null,null,null,null,null,null,null,null,null,null,null,null,null,null,null,null,null,null,null,null,null,null,null,null,null,null,null,null,null,null,null,null,null,null,null,null,null,null,null,null,null,null,null,null,null,null,null,null,null,null,null,null,null,null,null,null,null,null,"w44",{"$f":"NU295","v":22.61904761904762},{"$f":"NV295","v":17.000000000000007}]
[null,null,null,null,null,null,null,null,null,null,null,null,null,null,null,null,null,null,null,null,null,null,null,null,null,null,null,null,null,null,null,null,null,null,null,null,null,null,null,null,null,null,null,null,null,null,null,null,null,null,null,null,null,null,null,null,null,null,null,null,null,null,null,null,null,null,null,null,null,null,null,null,null,null,null,null,null,null,null,null,null,null,null,null,null,null,null,null,null,null,null,null,null,null,null,null,null,null,null,null,null,null,null,null,null,null,null,null,null,null,null,null,null,null,null,null,null,null,null,null,null,null,null,null,null,null,null,null,null,null,null,null,null,null,null,null,null,null,null,null,null,null,null,null,null,null,null,null,null,null,null,null,null,null,null,null,null,null,null,null,null,null,null,null,null,null,null,null,null,null,null,null,null,null,null,null,null,null,null,null,null,null,null,null,null,null,null,null,null,null,null,null,null,null,null,null,null,null,null,null,null,null,null,null,null,null,null,null,null,null,null,null,null,null,null,null,null,null,null,null,null,null,null,null,null,null,null,null,null,null,null,null,null,null,null,null,null,null,null,null,null,null,null,null,null,null,null,null,null,null,null,null,null,null,null,null,null,null,null,null,null,null,null,null,null,null,null,null,null,null,null,null,null,null,null,null,null,null,null,null,null,null,null,null,null,null,null,null,null,null,null,null,null,null,null,null,null,null,null,null,null,null,null,null,null,null,null,null,null,null,null,null,null,null,null,null,null,null,null,null,null,null,null,null,null,null,null,null,null,null,null,null,null,null,null,null,null,null,null,null,null,null,null,null,null,null,null,null,null,null,null,null,null,null,null,null,null,null,null,null,null,null,null,null,null,null,null,null,null,null,null,null,null,null,null,null,null,null,null,null,null,null,null,null,null,null,null,null,"h12",{"$f":"NZ641","v":15.026851851851854},{"$f":"OA643","v":16.700000000000006},{"$f":"NZ641","v":15.026851851851854},{"$f":"OA641","v":17.000000000000007},{"$f":"NY641","v":"h9"}]
[null,null,null,null,null,null,null,null,null,null,null,null,null,null,null,null,null,null,null,null,null,null,null,null,null,null,null,null,null,null,null,null,null,null,null,null,null,null,null,null,null,null,null,null,null,null,null,null,null,null,null,null,null,null,null,null,null,null,null,null,null,null,null,null,null,null,null,null,null,null,null,null,null,null,null,null,null,null,null,null,null,null,null,null,null,null,null,null,null,null,null,null,null,null,null,null,null,null,null,null,null,null,null,null,null,null,null,null,null,null,null,null,null,null,null,null,null,null,null,null,null,null,null,null,null,null,null,null,null,null,null,null,null,null,null,null,null,null,null,null,null,null,null,null,null,null,null,null,null,null,null,null,null,null,null,null,null,null,null,null,null,null,null,null,null,null,null,null,null,null,null,null,null,null,null,null,null,null,null,null,null,null,null,null,null,null,null,null,null,null,null,null,null,null,null,null,null,null,null,null,null,null,null,null,null,null,null,null,null,null,null,null,null,null,null,null,null,null,null,null,null,null,null,null,null,null,null,null,null,null,null,null,null,null,null,null,null,null,null,null,null,null,null,null,null,null,null,null,null,null,null,null,null,null,null,null,null,null,null,null,null,null,null,null,null,null,null,null,null,null,null,null,null,null,null,null,null,null,null,null,null,null,null,null,null,null,null,null,null,null,null,null,null,null,null,null,null,null,null,null,null,null,null,null,null,null,null,null,null,null,null,null,null,null,null,null,null,null,null,null,null,null,null,null,null,null,null,null,null,null,null,null,null,null,null,null,null,null,null,null,null,null,null,null,null,null,null,null,null,null,null,null,null,null,null,null,null,null,null,null,null,null,null,null,null,null,null,null,null,null,null,null,null,null,null,null,null,null,null,null,null,null,null,null,null,null,null,null,"ارتفاع نیم دایره",{"$f":"NV248","v":0.8},"بزرگی فلش",{"$f":"NZ653","v":6.0846560846560855},{"$f":"OA653","v":17.000000000000007},{"$f":"NY653","v":"w45"}]
[null,null,null,null,null,null,null,null,null,null,null,null,null,null,null,null,null,null,null,null,null,null,null,null,null,null,null,null,null,null,null,null,null,null,null,null,null,null,null,null,null,null,null,null,null,null,null,null,null,null,null,null,null,null,null,null,null,null,null,null,null,null,null,null,null,null,null,null,null,null,null,null,null,null,null,null,null,null,null,null,null,null,null,null,null,null,null,null,null,null,null,null,null,null,null,null,null,null,null,null,null,null,null,null,null,null,null,null,null,null,null,null,null,null,null,null,null,null,null,null,null,null,null,null,null,null,null,null,null,null,null,null,null,null,null,null,null,null,null,null,null,null,null,null,null,null,null,null,null,null,null,null,null,null,null,null,null,null,null,null,null,null,null,null,null,null,null,null,null,null,null,null,null,null,null,null,null,null,null,null,null,null,null,null,null,null,null,null,null,null,null,null,null,null,null,null,null,null,null,null,null,null,null,null,null,null,null,null,null,null,null,null,null,null,null,null,null,null,null,null,null,null,null,null,null,null,null,null,null,null,null,null,null,null,null,null,null,null,null,null,null,null,null,null,null,null,null,null,null,null,null,null,null,null,null,null,null,null,null,null,null,null,null,null,null,null,null,null,null,null,null,null,null,null,null,null,null,null,null,null,null,null,null,null,null,null,null,null,null,null,null,null,null,null,null,null,null,null,null,null,null,null,null,null,null,null,null,null,null,null,null,null,null,null,null,null,null,null,null,null,null,null,null,null,null,null,null,null,null,null,null,null,null,null,null,null,null,null,null,null,null,null,null,null,null,null,null,null,null,null,null,null,null,null,null,null,null,null,null,null,null,null,null,null,null,null,null,null,null,null,null,null,null,null,null,null,null,null,null,null,null,null,null,null,null,null,null,null,"g4",{"$f":"NZ653-NZ651*NZ650","v":5.6846560846560852},{"$f":"OA653+0.5*NZ650","v":17.400000000000006},{"$f":"NZ660","v":5.6129657012595882},{"$f":"OA660","v":17.170957451707199},{"$f":"NY660","v":"g8"}]
[]
[null,null,null,null,null,null,null,null,null,null,null,null,null,null,null,null,null,null,null,null,null,null,null,null,null,null,null,null,null,null,null,null,null,null,null,null,null,null,null,null,null,null,null,null,null,null,null,null,null,null,null,null,null,null,null,null,null,null,null,null,null,null,null,null,null,null,null,null,null,null,null,null,null,null,null,null,null,null,null,null,null,null,null,null,null,null,null,null,null,null,null,null,null,null,null,null,null,null,null,null,null,null,null,null,null,null,null,null,null,null,null,null,null,null,null,null,null,null,null,null,null,null,null,null,null,null,null,null,null,null,null,null,null,null,null,null,null,null,null,null,null,null,null,null,null,null,null,null,null,null,null,null,null,null,null,null,null,null,null,null,null,null,null,null,null,null,null,null,null,null,null,null,null,null,null,null,null,null,null,null,null,null,null,null,null,null,null,null,null,null,null,null,null,null,null,null,null,null,null,null,null,null,null,null,null,null,null,null,null,null,null,null,null,null,null,null,null,null,null,null,null,null,null,null,null,null,null,null,null,null,null,null,null,null,null,null,null,null,null,null,null,null,null,null,null,null,null,null,null,null,null,null,null,null,null,null,null,null,null,null,null,null,null,null,null,null,null,null,null,null,null,null,null,null,null,null,null,null,null,null,null,null,null,null,null,null,null,null,null,null,null,null,null,null,null,null,null,null,null,null,null,null,null,null,null,null,null,null,null,null,null,null,null,null,null,null,null,null,null,null,null,null,null,null,null,null,null,null,null,null,null,null,null,null,null,null,null,null,null,null,null,null,null,null,null,null,null,null,null,null,null,null,null,null,null,null,null,null,null,null,null,null,null,null,null,null,null,null,null,null,null,null,null,null,null,null,null,null,null,null,null,null,null,null,null,null,null,null,"f2",{"$f":"NZ667-1*NZ665","v":14.111851851851853},{"$f":"OA667-OA665*NZ665","v":17.680000000000007},{"$f":"NZ667","v":14.351851851851853},{"$f":"OA667","v":17.800000000000008},{"$f":"NY667","v":"w48"}]
[null,null,null,null,null,null,null,null,null,null,null,null,null,null,null,null,null,null,null,null,null,null,null,null,null,null,null,null,null,null,null,null,null,null,null,null,null,null,null,null,null,null,null,null,null,null,null,null,null,null,null,null,null,null,null,null,null,null,null,null,null,null,null,null,null,null,null,null,null,null,null,null,null,null,null,null,null,null,null,null,null,null,null,null,null,null,null,null,null,null,null,null,null,null,null,null,null,null,null,null,null,null,null,null,null,null,null,null,null,null,null,null,null,null,null,null,null,null,null,null,null,null,null,null,null,null,null,null,null,null,null,null,null,null,null,null,null,null,null,null,null,null,null,null,null,null,null,null,null,null,null,null,null,null,null,null,null,null,null,null,null,null,null,null,null,null,null,null,null,null,null,null,null,null,null,null,null,null,null,null,null,null,null,null,null,null,null,null,null,null,null,null,null,null,null,null,null,null,null,null,null,null,null,null,null,null,null,null,null,null,null,null,null,null,null,null,null,null,null,null,null,null,null,null,null,null,null,null,null,null,null,null,null,null,null,null,null,null,null,null,null,null,null,null,null,null,null,null,null,null,null,null,null,null,null,null,null,null,null,null,null,null,null,null,null,null,null,null,null,null,null,null,null,null,null,null,null,null,null,null,null,null,null,null,null,null,null,null,null,null,null,null,null,null,null,null,null,null,null,null,null,null,null,null,null,null,null,null,null,null,null,null,null,null,null,null,null,null,null,null,null,null,null,null,null,null,null,null,null,null,null,null,null,null,null,null,null,null,null,null,null,null,null,null,null,null,null,null,null,null,null,null,null,null,null,null,null,null,null,null,null,null,null,null,null,null,null,null,null,null,null,null,null,null,null,null,null,null,null,null,null,null,null,null,null,null,null,null,"ارتفاع نیم دایره",{"$f":"NV248","v":0.8},"بزرگی فلش",{"$f":"NZ675","v":22.61904761904762},{"$f":"OA675","v":17.800000000000008},{"$f":"NY675","v":"w47"}]
[null,null,null,null,null,null,{"$f":"AZ145-'متغیرها '!C51","v":2.9842661249943845},{"$f":"BA145-'متغیرها '!C52","v":136.85008443775746},28,null,{"$f":"G705","v":6.5653854749876457},{"$f":"H705","v":142.60942793446227},"m5",null,{"$f":"K681+H733","v":11.565385474987647},{"$f":"L681+H734","v":147.60942793446227},"m5",null,null,{"$f":"AZ145-'متغیرها '!C51","v":2.9842661249943845},{"$f":"BA145-'متغیرها '!C52","v":136.85008443775746},28,null,{"$f":"T705","v":4.803013868657132},{"$f":"U705","v":143.70922277400146},"m5",null,{"$f":"X681+U733","v":9.803013868657132},{"$f":"Y681+U734","v":148.70922277400146},"m5",null,{"$f":"AZ145-'متغیرها '!C51","v":2.9842661249943845},{"$f":"BA145-'متغیرها '!C52","v":136.85008443775746},28,null,{"$f":"AF705","v":6.5653854749876457},{"$f":"AG705","v":142.57527411525032},"m5",null,{"$f":"AJ681+AG710","v":11.565385474987647},{"$f":"AK681+AG711","v":147.57527411525032},"m5",null,null,{"$f":"AZ145-'متغیرها '!C51","v":2.9842661249943845},{"$f":"BA145-'متغیرها '!C52","v":136.85008443775746},28,null,null,null,null,null,null,null,null,null,{"$f":"DK400","v":17.422713507396281},{"$f":"DL400","v":141.47035117947416},"سرشانه",null,{"$f":"BE690","v":8.9552342448396924},{"$f":"BF690","v":133.01385318840244},{"$f":"BG690","v":"m5"},null,{"$f":"BI681+BF702","v":13.955234244839692},{"$f":"BJ681+BF703","v":138.01385318840244},"m5",null,{"$f":"S232","v":7.4606653124859603},{"$f":"AX103-S231+AX98-'متغیرها '!C52","v":131.81712499807094},51,null,{"$f":"AZ145-'متغیرها '!C51","v":2.9842661249943845},{"$f":"BA145-'متغیرها '!C52","v":136.85008443775746},28,null,{"$f":"HD395","v":17.422713507396281},{"$f":"HE395","v":141.47035117947416},"سرشانه",null,null,null,null,null,{"$f":"DK402","v":5.0253529738905582},{"$f":"DL402","v":147.9},"g2","از شبیه ساز اندام",null,null,null,null,null,{"$f":"CL684+CH700","v":8.7772622983263364},{"$f":"CM684+CH701","v":137.00549991609046},"d6",null,null,null,"یقه ب ب مثلثی و گرد ",null,null,0,{"$f":"CW712","v":23.277214564547482},31,null,null,null,"مثلثی",null,"c7",{"$f":"DP681","v":12.226522855223584},"نصف نوار گردن از جلو برای یقه باز شده",null,null,null,null,null,"c7",{"$f":"1.06*SQRT(K143*K143+K144*K144)","v":12.226522855223584},"نصف نوار گردن از جلو برای یقه باز شده",null,null,null,null,null,"c7",{"$f":"DP681","v":12.226522855223584},"نصف نوار گردن از جلو برای یقه باز شده",null,null,null,null,null,"c7",{"$f":"DP681","v":12.226522855223584},"نصف نوار گردن از جلو برای یقه باز شده",null,null,null,null,null,"(4 → 5)",{"$f":"EN679+0.0075*FG679","v":29.765198213577172},"عمود",null,{"$f":"EN682+'متغیرها '!C727","v":-13.640999999999998},{"$f":"EN683+'متغیرها '!C728","v":47.787872537571943},7,null,"کلاه متصل به یقه مربعی ",null,null,"نقاط خروجی کلاه متصل به یقه مربعی یا کلاه ملوانی",null,null,null,{"$f":"EX684+EY728","v":-26.639573126193277},{"$f":"EY684+EY729","v":48.760259224690273},9,null,"(1 → 2)",{"$f":"0.45*FG679","v":25.650000000000002},null,null,{"$f":"FG685+'متغیرها '!C727","v":-9.5939999999999976},{"$f":"FG686+'متغیرها '!C728","v":53.526137672772997},7,null,{"$f":"FN679-(FO691-FO693)*SIN(RADIANS(FS735))*COS(RADIANS(FS735))","v":0.67464625506551079},{"$f":"FO697-(FO691-FO693)*SIN(RADIANS(FS735))*SIN(RADIANS(FS735))","v":30.195870235937008},29,{"$f":"FQ683","v":0.67464625506551079},{"$f":"FR683","v":30.995870235937009},"29'",null,{"$f":"FQ681+FO729","v":0.67464625506551079},{"$f":"FR681+FO730","v":60.995870235937005},"29'",null,{"$f":"FQ691+FO729","v":3.2897885030595013},{"$f":"FR691+FO730","v":60.222231616206045},9,null,"پشت یقه انگلیسی ",null,null,{"$f":"GD686","v":3.2897885030595013},{"$f":"GD689","v":30.222231616206045},9,null,{"$f":"GF680+GD719","v":0},{"$f":"GG680+GD720","v":60.213625031340314},3,null,{"$f":"GF711+GD719","v":0},{"$f":"GG711+GD720","v":53.14731760817881},4,null,null,null,null,null,null,null,null,null,null,null,null,null,null,null,null,null,null,null,null,null,null,null,null,null,null,null,null,null,null,null,null,null,null,null,null,null,null,null,null,null,null,null,null,null,null,null,null,null,null,null,null,null,null,null,null,null,null,null,null,null,null,null,null,null,null,null,null,null,null,null,null,null,null,null,null,null,null,null,null,null,null,null,null,null,null,null,null,null,null,null,null,null,null,null,null,null,null,null,null,null,null,null,null,null,null,null,null,null,null,null,null,null,null,null,null,null,null,null,null,null,null,null,null,null,null,null,null,null,null,null,null,null,null,null,null,null,null,null,null,null,null,null,null,null,null,null,null,null,null,null,null,null,null,null,null,null,null,null,null,null,null,null,null,null,null,null,null,null,null,null,null,null,null,null,null,null,null,null,null,null,null,null,null,null,null,null,null,null,null,"g7",{"$f":"NZ678+OA673*SIN(RADIANS(40)-ATAN((NZ678-NZ679)/(OA678-OA679)))","v":23.090738002444116},{"$f":"OA678-OA673*COS(RADIANS(40)-ATAN((NZ678-NZ679)/(OA678-OA679)))","v":17.9709574517072},{"$f":"NZ678","v":23.019047619047619},{"$f":"OA678","v":18.200000000000006},{"$f":"NY678","v":"g4"}]
[null,null,null,null,null,null,"پایه",{"$f":"0","v":0},"c2",null,{"$f":"G683","v":-12.149999999999999},{"$f":"H683","v":135.97041326438926},"26'",null,null,null,null,null,null,"پایه",{"$f":"'متغیرها '!C749","v":0.5},"c2",null,{"$f":"T683","v":-12.149999999999999},{"$f":"U683","v":135.97041326438926},"26'",null,null,null,null,null,"پایه",{"$f":"0","v":0},"c2",null,{"$f":"AF683","v":-12.149999999999999},{"$f":"AG683","v":135.97041326438926},"26'",null,null,null,null,null,null,null,{"$f":"'متغیرها '!C709","v":1},"c2",null,{"$f":"AS703","v":4.390896785800428},{"$f":"AT703","v":139.12189839648349},"m3",null,{"$f":"AW687+AS725","v":9.3908967858004289},{"$f":"AX687+AS726","v":144.12189839648349},"m3",null,"نقاط  خروجی",null,null,null,{"$f":"BE682","v":0},{"$f":"BF682","v":135.97041326438926},{"$f":"BG682","v":26},null,{"$f":"BI687+BF702","v":5},{"$f":"BJ687+BF703","v":140.97041326438926},26,null,{"$f":"-BQ679","v":-7.4606653124859612},{"$f":"BR679","v":144.76712499807095},"25قرینه",null,null,null,null,null,{"$f":"BY682+0.4*(BY685-BY682)","v":6.5378728626626614},{"$f":"BZ682+0.17*(BZ685-BZ682)","v":142.12808310390164},"bs6",null,{"$f":"-BY686","v":-13.075745725325323},{"$f":"BZ686","v":141.91511336344689},"قرینهbs4",null,{"$f":"AQ248-CH691","v":3.7772622983263364},{"$f":"AR248-CH692","v":132.00549991609046},"d6","از پشت گردنی",null,{"$f":"CG680","v":6.6424000000000003},{"$f":"CH680","v":145},{"$f":"CI680","v":"25 شبیه ساز"},null,{"$f":"CL690+CH700","v":26.945420625789474},{"$f":"CM690+CH701","v":131.39223733364972},"b4",null,null,null,"(6 → 7)",{"$f":"CW694+CW680*COS(EY678)","v":13.935803379563826},null,null,null,null,null,{"$f":"CW706+CW677","v":16.350306125865128},{"$f":"CW705+CW678","v":42.967559789280962},26,null,null,null,null,null,{"$f":"DG690","v":0},{"$f":"DH690","v":30},{"$f":"DI690","v":1},null,null,null,null,null,{"$f":"DO690","v":0},{"$f":"DP690","v":30},{"$f":"DQ690","v":1},null,"c3",{"$f":"'متغیرها '!C701","v":1},null,null,null,null,null,null,null,null,null,null,null,null,null,null,"(9 → 10)",{"$f":"EN698","v":4.3983558668408405},"عمود",null,{"$f":"EN690+'متغیرها '!C727","v":-27.954900588712768},{"$f":"0+'متغیرها '!C728","v":20},13,null,"(1 → 7)",{"$f":"0.5*H133","v":28.5},null,{"$f":"EV695","v":8.7273296870610526},{"$f":"EV694","v":33.45140581004496},15,null,{"$f":"EX690+EY728","v":-23.351301553986655},{"$f":"EY690+EY729","v":62.612448477533292},21,null,"(2 → 8)",{"$f":"0.7*(FG682-FG690)+FG690","v":25.579895509556277},"عمود",null,{"$f":"FG693+'متغیرها '!C727","v":-25.909801177425532},{"$f":"0+'متغیرها '!C728","v":20},13,null,null,null,null,{"$f":"FO712","v":29.076392148826077},{"$f":"FO713","v":26.571995391634101},26,null,{"$f":"FQ687+FO729","v":29.076392148826077},{"$f":"FR687+FO730","v":56.571995391634104},26,null,{"$f":"FQ697+FO729","v":3.2897885030595013},{"$f":"FR697+FO730","v":54.796122673583156},8,null,"(6 → 7)",{"$f":"GD684","v":23.147317608178806},null,{"$f":"GD686","v":3.2897885030595013},{"$f":"GD687","v":23.147317608178806},7,null,{"$f":"GF686+GD719","v":0},{"$f":"GG686+GD720","v":53.14731760817881},4,null,{"$f":"GF717+GD719","v":6.3643232803996268},{"$f":"GG717+GD720","v":60.125687924960026},"13'",null,null,null,null,null,null,null,null,null,null,null,null,null,null,null,null,null,null,null,null,null,null,null,null,null,null,null,null,null,null,null,null,null,null,null,null,null,null,null,null,null,null,null,null,null,null,null,null,null,null,null,null,null,null,null,null,null,null,null,null,null,null,null,null,null,null,null,null,null,null,null,null,null,null,null,null,null,null,null,null,null,null,null,null,null,null,null,null,null,null,null,null,null,null,null,null,null,null,null,null,null,null,null,null,null,null,null,null,null,null,null,null,null,null,null,null,null,null,null,null,null,null,null,null,null,null,null,null,null,null,null,null,null,null,null,null,null,null,null,null,null,null,null,null,null,null,null,null,null,null,null,null,null,null,null,null,null,null,null,null,null,null,null,null,null,null,null,null,null,null,null,null,null,null,null,null,null,null,null,null,null,null,null,null,null,null,null,null,null,null,"بزرگی فلش",{"$f":"NV250","v":0.24000000000000005},{"$f":"NV243","v":0.5},{"$f":"NZ689","v":-20.238095238095237},{"$f":"OA689","v":18.600000000000009},{"$f":"NY689","v":"w51"}]
[null,null,null,null,null,null,"پایه",{"$f":"ATAN((H680-H684)/(G680-G684))","v":0.86739483433544518},"m7",null,null,null,null,null,null,null,null,null,null,"پایه",{"$f":"ATAN((U680-U684)/(T680-T684))","v":0.86739483433544518},"m7",null,null,null,null,null,null,null,null,null,"پایه",{"$f":"ATAN((AG680-AG684)/(AF680-AF684))","v":0.86739483433544518},"m7",null,null,null,null,null,null,null,null,null,null,null,{"$f":"ATAN((AT680-AT684)/(AS680-AS684))","v":0.86739483433544518},"m7",null,null,null,null,null,null,null,null,null,{"$f":"-BE688","v":-2.8763663678480911},{"$f":"BF688","v":129.80202568261808},"قرینه m1",null,-12.270980359562383,137.12499239580637,"قرینهm6",null,{"$f":"BI692+BF702","v":-7.2709803595623832},{"$f":"BJ692+BF703","v":142.12499239580637},"قرینهm6",null,{"$f":"-BQ684","v":-2.9842661249943845},{"$f":"BR684","v":126.63712499807096},"قرینه49'",null,null,null,null,null,null,null,null,null,{"$f":"CC689","v":-17.422713507396281},{"$f":"BZ681","v":141.47035117947416},"قرینه سرشانه",null,null,{"$f":"'متغیرها '!C52","v":5},"شیفت عمودی",null,null,{"$f":"CG680","v":6.6424000000000003},{"$f":"CH680","v":145},{"$f":"CI680","v":"25 شبیه ساز"},null,null,null,"قرینه",null,null,null,"(11 → 12)",{"$f":"0.75*CW694","v":5.6007114563445413},null,{"$f":"CW685","v":10.173136467081592},{"$f":"CW684","v":2.6782650073235224},5,null,{"$f":"0+CW677","v":0},{"$f":"CW688+CW678","v":35.892018491421148},8,null,{"$f":"DG690+0.4*DH680","v":3.2897885030595013},{"$f":"DH690","v":30},3,null,{"$f":"DG696","v":32.553588580738868},{"$f":"DH696","v":31.595514448690047},{"$f":"DI696","v":7},null,{"$f":"DO690+0.4*DP680","v":3.2897885030595013},{"$f":"DP690","v":30},3,null,{"$f":"DO696","v":15.150152504992025},{"$f":"DP696","v":31.972700031317764},{"$f":"DQ696","v":7},null,"c20",{"$f":"'متغیرها '!C698","v":0.8},null,null,{"$f":"EA690","v":-11.654299961568213},{"$f":"EB690","v":26.770909990237385},"قرینه8",null,"c19",0.3,null,null,{"$f":"-(EE699-EE697)+EE697","v":-3.2897885030595013},{"$f":"EF699","v":30},"قرینه 3",null,"(14 → 15)",{"$f":"0.35*EN694","v":0.76971227669714704},"عمود",null,{"$f":"EN686+'متغیرها '!C727","v":-14.454583879515692},{"$f":"EN687+'متغیرها '!C728","v":24.398355866840841},10,null,"(1 → 12)",{"$f":"EV687+AA147","v":31.102592246902738},null,{"$f":"EV684","v":28.5},{"$f":"EV683","v":1.2374720530054504},4,null,{"$f":"EX695+EY728","v":-4.1432150923841142},{"$f":"EY695+EY729","v":60.646673811268073},25,null,"(11 → 12)",{"$f":"FG690+0.4*(FG687-FG690)","v":12.870971723927013},"عمود",null,{"$f":"FG689+'متغیرها '!C727","v":-10.364385056941224},{"$f":"FG690+'متغیرها '!C728","v":24.398355866840841},10,null,"(1 → 4)",{"$f":"GD695+SIN(O232)*(GC678+O235)-FS738*AA147","v":23.147317608178806},null,{"$f":"FO698","v":6.3643232803996268},{"$f":"FO701","v":29.475687924960027},13,null,{"$f":"FQ699+FO729","v":8.2090441468037021},{"$f":"FR699+FO730","v":51.395660598178893},28,null,{"$f":"FQ702+FO729","v":9.4388580577397523},{"$f":"FR702+FO730","v":48.864598781237362},15,null,"(10 → 12)",{"$f":"GD691+(GD685-GD684)","v":23.083035142806583},null,{"$f":"GD686","v":3.2897885030595013},{"$f":"GD688","v":24.796122673583159},8,null,{"$f":"GF691+GD719","v":0},{"$f":"GG691+GD720","v":54.796122673583156},5,null,{"$f":"GJ688","v":3.2897885030595013},53.14731760817881,7]
[null,null,null,null,null,null,{"$f":"G708","v":0},{"$f":"H708","v":135.97041326438926},"m2",null,{"$f":"-G708","v":0},{"$f":"H708","v":135.97041326438926},"قرینهm9",null,{"$f":"K702+H733","v":5},{"$f":"L702+H734","v":140.97041326438926},"قرینهm9",null,null,{"$f":"IF(U688=-1,T683,T708)","v":-12.149999999999999},{"$f":"IF(U688=-1,U683+U691,U708+U691*U688)","v":138.62027854807482},"m2",null,{"$f":"-T708","v":12.149999999999999},{"$f":"U708","v":135.97041326438926},"قرینهm9",null,{"$f":"X702+U733","v":17.149999999999999},{"$f":"Y702+U734","v":140.97041326438926},"قرینهm9",null,{"$f":"AF708","v":0},{"$f":"AG708","v":135.97041326438926},"m2",null,{"$f":"-AF708","v":0},{"$f":"AG708","v":135.97041326438926},"قرینهm9",null,{"$f":"AJ702+AG710","v":5},{"$f":"AK702+AG711","v":140.97041326438926},"قرینهm9",null,null,{"$f":"IF(AT688=-1,AS683,AS708)","v":4.2442852987386441},{"$f":"IF(AT688=-1,AT683+AT691,AT708+AT691*AT688)","v":140.40690530912443},"m2",null,{"$f":"-AS707","v":-5.0253529738905582},{"$f":"AT707","v":148.95718782705706},"قرینهm8",null,{"$f":"AW702+AS725","v":-2.5352973890558239E-2},{"$f":"AX702+AS726","v":153.95718782705706},"قرینهm8",null,null,{"$f":"C100","v":5},"شیفت افقی کل جلو",null,5.968532249988769,140.36876913123012,30,null,{"$f":"BI702+BF702","v":10.968532249988769},{"$f":"BJ702+BF703","v":145.36876913123012},30,null,{"$f":"BW108-'متغیرها '!C51","v":0},{"$f":"BX108-'متغیرها '!C52","v":135.97041326438926},26,null,{"$f":"BQ705","v":16.344682156656653},141.82331606152675,"bs2",null,null,{"$f":"'متغیرها '!B245","v":0.31641567605125198},"زاویه سرشانه با افق",null,6.9679016897819128,136.47807245706599,{"$f":"CA708","v":"m10"},null,null,{"$f":"2*CH700","v":10},"قرینه",null,"قرینه",{"$f":"-CG681","v":-5.0253529738905582},{"$f":"CH681","v":147.9},{"$f":"CI681","v":"g2"},null,null,null,null,null,null,null,"(21 → 22)",{"$f":"CW694+K144*SIN(EY679+EY678)-AA146*COS(EY679+EY678)","v":6.6486984460133449},null,null,null,null,null,null,null,"مشترک",null,{"$f":"DG696-DH682*SIN(DH684)","v":32.37889997098263},{"$f":"DH696+DH682*COS(DH684)","v":34.239615413347678},14,null,{"$f":"DG695","v":8.156682296169171},{"$f":"DH695","v":32.772404140220743},{"$f":"DI695","v":6},null,{"$f":"DO696-DP682*SIN(DP684)","v":13.959902205942397},{"$f":"DP696+DP682*COS(DP684)","v":35.29933186776573},14,null,{"$f":"DO695","v":8.0416413585790067},{"$f":"DP695","v":33.775468643438657},{"$f":"DQ695","v":6},null,{"$f":"DW700+0.4*DX680","v":3.2897885030595013},{"$f":"DX700","v":30},3,null,{"$f":"DW706","v":19.304675897756773},{"$f":"DX706","v":25.423989928008144},{"$f":"DY706","v":7},null,{"$f":"EE701-EF682*SIN(EF685)","v":8.8074928174889493},{"$f":"EF701+EF682*COS(EF685)","v":35.988603483653357},6,null,{"$f":"EE698","v":0},{"$f":"EF698","v":36.477448471231391},{"$f":"EG698","v":2},null,"(2 → 22)",{"$f":"EN684+1.15*(SQRT((EN682-EN680)*(EN682-EN680)+(EN681-EN683)*(EN681-EN683))+SQRT((EN678-EN682)*(EN678-EN682)+(EN683-EN684)*(EN683-EN684)))","v":37.829621064610706},null,null,{"$f":"EN686+'متغیرها '!C727","v":-14.454583879515692},{"$f":"EN687+'متغیرها '!C728","v":24.398355866840841},10,null,"(1 → 22)",{"$f":"EV685+0.55*(EV704-EV685)","v":33.881479764341705},null,null,null,"کلاه ملوانی",null,{"$f":"EX705+EY728","v":-20.704711091851863},{"$f":"EY705+EY729","v":85.799936188075378},25,null,"(13→15→17→19→21)","هلال وصل",null,null,-30,20,35,null,"(1 → 14)",{"$f":"COS(O232)*(GC678+O235)","v":9.4388580577397523},null,{"$f":"FO702","v":9.4388580577397523},{"$f":"FO703","v":18.864598781237362},15,null,{"$f":"FQ709+FO729","v":27.427980123970713},{"$f":"FR709+FO730","v":52.70899943042572},23,null,{"$f":"FQ712+FO729","v":0.67464625506551079},{"$f":"FR712+FO730","v":60.195870235937008},29,null,"(1 →22)",{"$f":"GD699+(O238-H232*H124)*COS(RADIANS(90)-O233-2*O232)","v":27.427980123970713},null,0,{"$f":"GD684","v":23.147317608178806},4,null,{"$f":"GF699+GD719","v":27.427980123970713},{"$f":"GG699+GD720","v":52.70899943042572},23,null,{"$f":"GJ698","v":9.4388580577397523},{"$f":"GK698","v":48.864598781237362},15,null,null,null,null,null,null,null,null,null,null,null,null,null,null,null,null,null,null,null,null,null,null,null,null,null,null,null,null,null,null,null,null,null,null,null,null,null,null,null,null,null,null,null,null,null,null,null,null,null,null,null,null,null,null,null,null,null,null,null,null,null,null,null,null,null,null,null,null,null,null,null,null,null,null,null,null,null,null,null,null,null,null,null,null,null,null,null,null,null,null,null,null,null,null,null,null,null,null,null,null,null,null,null,null,null,null,null,null,null,null,null,null,null,null,null,null,null,null,null,null,null,null,null,null,null,null,null,null,null,null,null,null,null,null,null,null,null,null,null,null,null,null,null,null,null,null,null,null,null,null,null,null,null,null,null,null,null,null,null,null,null,null,null,null,null,null,null,null,null,null,null,null,null,null,null,null,null,null,null,null,null,null,null,null,null,null,null,null,null,null,"g6",{"$f":"NZ701","v":-25.279999999999998},{"$f":"OA699-OA701+OA697","v":19.288000000000011}]
[null,null,null,null,null,null,null,null,null,null,null,null,null,null,null,null,null,null,null,null,null,null,null,null,null,null,null,null,null,null,null,null,null,null,null,null,null,null,null,null,null,null,null,null,null,null,null,null,null,null,null,null,null,null,null,null,null,null,null,null,{"$f":"BE689","v":13.928853416923729},{"$f":"BF689","v":142.64933570575545},{"$f":"BG689","v":"m2"},null,{"$f":"BI709+BF702","v":18.928853416923729},{"$f":"BJ709+BF703","v":147.64933570575545},"m2",null,null,null,null,null,{"$f":"-BQ701","v":-17.422713507396281},{"$f":"BR701","v":141.47035117947416},"قرینه سرشانه",null,{"$f":"-BY699","v":-7.4676152751260556},{"$f":"BZ699","v":144.79309751611007},"قرینه 23",null,{"$f":"BY709","v":-7.4676152751260556},{"$f":"BZ709","v":144.79309751611007},{"$f":"CA709","v":"قرینه 23"},null,null,null,null,null,"قرینه",{"$f":"-CG680","v":-6.6424000000000003},{"$f":"CH680","v":145},{"$f":"CI680","v":"25 شبیه ساز"},null,null,null,null,null,null,null,"مثلثی",null,null,0,{"$f":"CW697","v":14.20938799855864},17,null,{"$f":"CV725+CW677","v":0},{"$f":"CW725+CW678","v":29.085955838092392},35,null,"c7",{"$f":"DP681","v":12.226522855223584},"نصف نوار گردن از جلو برای یقه باز شده",null,8.156682296169171,32.772404140220743,6,null,null,null,null,null,8.0416413585790067,33.775468643438657,6,null,{"$f":"DW706-DX682*SIN(DX684)","v":18.943426737850604},{"$f":"DX706+DX682*COS(DX684)","v":31.891357069428594},14,null,null,null,null,null,null,null,null,null,{"$f":"-(EE703-EE697)+EE697","v":-20.113406784516886},{"$f":"EF703","v":27.183993801851166},"قرینه7",null,"(27→29)",{"$f":"EN702+EN680","v":47.519621064610703},null,null,null,null,null,null,"(1 → 29)",{"$f":"0.12*EV685","v":3.0735491115051361},null,null,null,null,null,null,null,null,null,{"$f":"FJ686","v":-30},{"$f":"FK686","v":20},1,null,{"$f":"EQ728","v":-30},{"$f":"ER728","v":20},31,null,"(18 → 20)",{"$f":"FO708+(FO693-FO692)","v":19.444148777515025},null,{"$f":"FQ705","v":27.427980123970713},{"$f":"FR705","v":22.708999430425724},23,null,{"$f":"FQ716+FO729","v":8.653065679791899},{"$f":"FR716+FO730","v":30.989283039242611},"p7",null,{"$f":"FQ719+FO729","v":0},{"$f":"FR719+FO730","v":30},"p1",null,"γ13      ",{"$f":"'متغیرها '!C152","v":0},null,{"$f":"GF699","v":27.427980123970713},{"$f":"GG699","v":22.708999430425724},23,null,null,null,null,null,{"$f":"GJ705","v":29.076392148826077},{"$f":"GK705","v":56.571995391634104},26,null,null,null,null,null,null,null,null,null,null,null,null,null,null,null,null,null,null,null,null,null,null,null,null,null,null,null,null,null,null,null,null,null,null,null,null,null,null,null,null,null,null,null,null,null,null,null,null,null,null,null,null,null,null,null,null,null,null,null,null,null,null,null,null,null,null,null,null,null,null,null,null,null,null,null,null,null,null,null,null,null,null,null,null,null,null,null,null,null,null,null,null,null,null,null,null,null,null,null,null,null,null,null,null,null,null,null,null,null,null,null,null,null,null,null,null,null,null,null,null,null,null,null,null,null,null,null,null,null,null,null,null,null,null,null,null,null,null,null,null,null,null,null,null,null,null,null,null,null,null,null,null,null,null,null,null,null,null,null,null,null,null,null,null,null,null,null,null,null,null,null,null,null,null,null,null,null,null,null,null,null,null,null,null,null,null,null,null,null,null,"پهنای باکس نوشته",{"$f":"NV241","v":0.60000000000000009},"h4"]
[null,null,null,null,null,null,null,null,null,null,{"$f":"-G701","v":-7.4606653124859612},{"$f":"H701","v":147.41699028175651},"قرینهm1",null,{"$f":"K714+H733","v":-2.4606653124859612},{"$f":"L714+H734","v":152.41699028175651},"قرینهm1",null,null,null,null,null,null,{"$f":"-T701","v":-7.1147884871103777},{"$f":"U701","v":147.39432031691388},"قرینهm1",null,{"$f":"X714+U733","v":-2.1147884871103777},{"$f":"Y714+U734","v":152.39432031691388},"قرینهm1",null,null,null,null,null,{"$f":"-AF701","v":-7.4606653124859612},{"$f":"AG701","v":147.3581043865635},"قرینهm1",null,{"$f":"AJ714+AG710","v":-2.4606653124859612},{"$f":"AK714+AG711","v":152.3581043865635},"قرینهm1",null,null,{"$f":"AS685","v":-12.149999999999999},{"$f":"AT685","v":45.5},"1'",null,{"$f":"AS683","v":-12.149999999999999},{"$f":"AT683","v":135.97041326438926},"26'",null,{"$f":"AW714+AS725","v":-7.1499999999999986},{"$f":"AX714+AS726","v":140.97041326438926},"26'",null,null,null,null,null,{"$f":"BE682","v":0},{"$f":"BF682","v":135.97041326438926},{"$f":"BG682","v":26},null,{"$f":"BI714+BF702","v":5},{"$f":"BJ714+BF703","v":140.97041326438926},26,null,null,null,null,null,null,null,null,null,"شیفت افقی",{"$f":"C102","v":5},null,null,{"$f":"CG720","v":0},142.19050526920734,24,null,null,null,null,null,null,null,null,null,null,null,null,null,null,null,null,"(1 → 33)",{"$f":"CW680+G166+G163*SIN(EY678+EY679)+G165*COS(EY678+EY679)+CW680*COS(EY678+EY679)","v":24.776475684319792},null,null,null,null,null,{"$f":"CV726+CW677","v":5.5743213518255308},{"$f":"CW726+CW678","v":29.815042398883993},36,null,null,{"$f":"-AX147","v":12.149999999999999},"ضریب جادکمه*(v3*2+w2)",null,{"$f":"DG718","v":0},40,1,null,null,null,null,null,{"$f":"DO702","v":13.959902205942397},{"$f":"DP702","v":35.29933186776573},{"$f":"DQ702","v":14},null,{"$f":"DW700+'متغیرها '!C704","v":0},{"$f":"DX700+'متغیرها '!C705","v":25},19,null,{"$f":"EA704","v":-21.51763832217971},{"$f":"EB704","v":32.752316444916751},"قرینه15",null,null,null,null,null,null,null,null,null,"(31→ 32)",{"$f":"'متغیرها '!C721*FG677","v":0},"عمود",null,{"$f":"EN678+'متغیرها '!C727+EN745","v":-7.0500000000000007},{"$f":"EN702+'متغیرها '!C728","v":57.829621064610706},22,null,"(21 → 27→ 25)","وصل",null,{"$f":"EX712","v":6.6486984460133449},{"$f":"EY712","v":42.612448477533292},21,null,{"$f":"EX715+EY728","v":-33.148529329257812},{"$f":"EY715+EY729","v":69.798325453898485},29,null,"b",{"$f":"EN734","v":0.4},null,null,-30,20,"32''",null,"(3 → 24')",{"$f":"(FO691-FO692)*SIN(RADIANS(FS734))*SIN(RADIANS(FS734))","v":8.6065848657261353E-3},null,{"$f":"FO724","v":0},{"$f":"FO717+FO725","v":1.6488050654043531},"p3",null,null,null,"برش",null,null,null," یفه دوبل",null,{"$f":"-GD707","v":-0.24646034411584183},{"$f":"GD683-GD706+1.6*'متغیرها '!C176","v":31.00501844647459},"24''",{"$f":"GC714","v":-0.24646034411584183},31.00501844647459,"24''",null,null,null,null,null,{"$f":"GJ713","v":22.492230353324054},{"$f":"GK713","v":41.142242368448954},"19'",null,null,null,null,null,null,null,null,null,null,null,null,null,null,null,null,null,null,null,null,null,null,null,null,null,null,null,null,null,null,null,null,null,null,null,null,null,null,null,null,null,null,null,null,null,null,null,null,null,null,null,null,null,null,null,null,null,null,null,null,null,null,null,null,null,null,null,null,null,null,null,null,null,null,null,null,null,null,null,null,null,null,null,null,null,null,null,null,null,null,null,null,null,null,null,null,null,null,null,null,null,null,null,null,null,null,null,null,null,null,null,null,null,null,null,null,null,null,null,null,null,null,null,null,null,null,null,null,null,null,null,null,null,null,null,null,null,null,null,null,null,null,null,null,null,null,null,null,null,null,null,null,null,null,null,null,null,null,null,null,null,null,null,null,null,null,null,null,null,null,null,null,null,null,null,null,null,null,null,null,null,null,null,null,null,null,null,null,null,null,"نقطه پایان رج(راست)","مولفه افقی","مولفه عمودی",{"$f":"NZ723","v":-16.057804232804234},{"$f":"OA723","v":19.70000000000001},{"$f":"NY723","v":"h13"}]
[null,null,null,null,null,null,"برگردان",{"$f":"H699*'متغیرها '!C703","v":7.6551663750916399},"c9*c15",null,{"$f":"-G730","v":-8.3216841861132451},{"$f":"H730","v":143.68750780333662},"قرینهm14",null,{"$f":"K720+H733","v":-3.3216841861132451},{"$f":"L720+H734","v":148.68750780333662},"قرینهm14",null,null,"برگردان",{"$f":"DH679*'متغیرها '!C755","v":5.8885895193012612},"c9*c15",null,{"$f":"-T730","v":-9.1787226385029754},{"$f":"U730","v":141.56595007176477},"قرینهm14",null,{"$f":"X720+U733","v":-4.1787226385029754},{"$f":"Y720+U734","v":146.56595007176477},"قرینهm14",null,"برگردان",{"$f":"AG699*'متغیرها '!C745","v":7.6551663750916399},"c9*c15",null,{"$f":"-AF730","v":-8.0015572665161461},{"$f":"AG730","v":143.50945815377588},"قرینهm14",null,{"$f":"AJ720+AG710","v":-3.0015572665161461},{"$f":"AK720+AG711","v":148.50945815377588},"قرینهm14",null,null,null,null,null,null,5.968532249988769,140.36876913123012,30,null,{"$f":"AW720+AS725","v":10.968532249988769},{"$f":"AX720+AS726","v":145.36876913123012},30,null,null,null,null,null,{"$f":"BE698","v":-2.123165407457893},{"$f":"BF698","v":133.00150950957885},{"$f":"BG698","v":"قرینه m7"},null,{"$f":"BI720+BF702","v":2.876834592542107},{"$f":"BJ720+BF703","v":138.00150950957885},"قرینه m7",null,null,null,null,null,null,null,null,null,null,null,null,null,{"$f":"BY699+BZ714","v":12.467615275126056},{"$f":"BZ699+BZ715","v":149.79309751611007},{"$f":"CA699","v":23},null,{"$f":"BK138-'متغیرها '!C53","v":0},{"$f":"BL138-'متغیرها '!C54","v":142.19050526920734},24,null,null,null,null,null,null,null,null,null,null,null,null,"(31 →32)",{"$f":"CW702+0.6*(CW713-CW702)","v":10.229226385573027},null,null,null,null,null,{"$f":"CW718+CW677","v":14.278671409294192},{"$f":"CW717+CW678","v":50.385899178079789},30,null,{"$f":"DG718+0.4*DH708","v":3.2897885030595013},{"$f":"DH718","v":40},3,null,{"$f":"-(DG722-DG718)+DG718","v":-8.2214478382556404},{"$f":"DH722","v":39.82728610358938},"قرینه5",null,null,null,null,null,{"$f":"DS718","v":-13.959902205942397},{"$f":"DT718","v":35.29933186776573},{"$f":"DU718","v":"قرینه14"},null,null,null,null,null,{"$f":"-(DW717-DW714)+DW714","v":-6.6711352379859274},{"$f":"DX717","v":26.884348646176402},"قرینه22",null,null,null,null,null,null,null,null,null,"(1 →31→32→37)","وصل",null,null,{"$f":"-EN713+'متغیرها '!C727","v":-30},{"$f":"EN714+'متغیرها '!C728","v":20},32,null,null,null,null,{"$f":"EV725","v":8.8991483395174171},{"$f":"EV724","v":66.224134394443894},17,null,{"$f":"EX717+EY728","v":-17.67389785619801},{"$f":"EY717+EY729","v":70.570891557068165},27,null,{"$f":"FF709+FG714*(FF711-FF709)","v":-24.984000000000002},{"$f":"FG718+0.3*(FG710-FG718)","v":35.249387213973961},40,null,{"$f":"FF718","v":-30},26.931539642715435,38,null,"(p1 → p5)",{"$f":"0.8*FO718","v":8.653065679791899},null,{"$f":"FO718+FO724","v":10.816332099739874},{"$f":"0+FO725","v":0},"p2",null,null,null,null,null,null,null,"پایه مستطیل",null,"شیفت عمودی یقه ",{"$f":"'متغیرها '!C715","v":30},null,null,null,null,null,null,null,null,null,null,null,null,null,null,null,null,null,null,null,null,null,null,null,null,null,null,null,null,null,null,null,null,null,null,null,null,null,null,null,null,null,null,null,null,null,null,null,null,null,null,null,null,null,null,null,null,null,null,null,null,null,null,null,null,null,null,null,null,null,null,null,null,null,null,null,null,null,null,null,null,null,null,null,null,null,null,null,null,null,null,null,null,null,null,null,null,null,null,null,null,null,null,null,null,null,null,null,null,null,null,null,null,null,null,null,null,null,null,null,null,null,null,null,null,null,null,null,null,null,null,null,null,null,null,null,null,null,null,null,null,null,null,null,null,null,null,null,null,null,null,null,null,null,null,null,null,null,null,null,null,null,null,null,null,null,null,null,null,null,null,null,null,null,null,null,null,null,null,null,null,null,null,null,null,null,null,null,null,null,null,null,null,null,null,null,null,null,null,null,null,null,null,"h10",{"$f":"NZ718","v":-17.407804232804235},{"$f":"OA718+0.5*NZ709","v":19.70000000000001},{"$f":"NZ723","v":-16.057804232804234},{"$f":"OA723","v":19.70000000000001},{"$f":"NY723","v":"h13"}]
[null,null,null,null,null,null,null,{"$f":"ATAN((H705-H704)/(G705-G704))","v":0.79097421616569175},"m11",null,null,null,null,null,null,null,null,null,null,null,{"$f":"ATAN((U705-U704)/(T705-T704))","v":0.35266850434258873},"m11",null,null,null,null,null,null,null,null,null,null,{"$f":"ATAN((AG705-AG704)/(AF705-AF704))","v":0.78839546934626259},"m11",null,null,null,null,null,null,null,null,null,null,{"$f":"BW113-'متغیرها '!C51","v":6.7145987812373633},{"$f":"BX113-'متغیرها '!C52","v":142.12811147796646},"e7",null,-2.9842661249943845,136.85008443775746,"قرینه 28",null,{"$f":"AW723+AS725","v":2.0157338750056155},{"$f":"AX723+AS726","v":141.85008443775746},"قرینه 28",null,null,null,null,null,null,null,null,null,null,null,null,null,null,null,null,null,null,null,null,null,null,null,null,null,{"$f":"BY706+BZ714","v":18.935803379563826},{"$f":"BZ706+BZ715","v":147.67530822379456},{"$f":"CA706","v":"m4"},null,{"$f":"-CG717","v":-7.4676152751260556},{"$f":"BL104-'متغیرها '!C54","v":144.79309751611007},"23قرینه",null,null,null,null,null,null,null,null,null,null,null,null,"خروجی",null,null,null,null,null,null,null,null,null,null,{"$f":"DG722-DH710*SIN(DH713)","v":8.4378535030899613},{"$f":"DH722+DH710*COS(DH713)","v":46.006516839211073},6,null,{"$f":"DG720","v":3.2897885030595013},{"$f":"DH720","v":40},{"$f":"DI720","v":3},null,null,null,null,null,{"$f":"DS685","v":-8.2182990441580444},{"$f":"DT685","v":30.246734137729462},{"$f":"DU685","v":"قرینه5"},null,null,null,null,null,{"$f":"DW716","v":13.342270475971855},{"$f":"DX716","v":25},21,null,null,null,null,null,null,null,null,null,null,null,null,null,{"$f":"0+'متغیرها '!C727","v":-30},{"$f":"EN679+'متغیرها '!C728","v":49.33769821357717},3,null,"محاسبات کلاه ملوانی ",null,null,null,null,null,null,{"$f":"EX720+EY728","v":-21.100851660482583},{"$f":"EY720+EY729","v":86.224134394443894},17,null,null,null,null,null,-26.238,54.91419821357718,41,null,"(p3 → p2)",{"$f":"SQRT(POWER((FO717-FO722),2)+POWER((FO719),2))+SQRT(POWER((FO722-FO721),2)+POWER((FO720-FO719),2))+SQRT(POWER((FO721),2)+POWER((FO718-FO720),2))","v":11.07180240912205},null,{"$f":"0+FO724","v":0},{"$f":"FO717+FO725","v":1.6488050654043531},"p3",null,null,null,"پایه مستطیل",null,{"$f":"FQ698+FO729","v":6.3643232803996268},{"$f":"FR698+FO730","v":53.08303514280658},12,null,null,null,null,null,null,null,null,null,null,null,null,null,null,null,null,null,null,null,null,null,null,null,null,null,null,null,null,null,null,null,null,null,null,null,null,null,null,null,null,null,null,null,null,null,null,null,null,null,null,null,null,null,null,null,null,null,null,null,null,null,null,null,null,null,null,null,null,null,null,null,null,null,null,null,null,null,null,null,null,null,null,null,null,null,null,null,null,null,null,null,null,null,null,null,null,null,null,null,null,null,null,null,null,null,null,null,null,null,null,null,null,null,null,null,null,null,null,null,null,null,null,null,null,null,null,null,null,null,null,null,null,null,null,null,null,null,null,null,null,null,null,null,null,null,null,null,null,null,null,null,null,null,null,null,null,null,null,null,null,null,null,null,null,null,null,null,null,null,null,null,null,null,null,null,null,null,null,null,null,null,null,null,null,null,null,null,null,null,null,null,null,null,null,null,null,null,null,null,null,null,null,null,null,null,"h13",{"$f":"NZ719","v":-16.057804232804234},{"$f":"OA720","v":19.70000000000001},{"$f":"NZ715","v":-8.4656084656084651},{"$f":"OA715","v":19.400000000000009},{"$f":"NY715","v":"w53"}]
[null,null,null,null,null,null,null,{"$f":"C100","v":5},"شیفت افقی کل جلو",null,5.968532249988769,140.36876913123012,30,null,{"$f":"K733+H733","v":10.968532249988769},{"$f":"L733+H734","v":145.36876913123012},30,null,null,null,{"$f":"C100","v":5},"شیفت افقی کل جلو",null,5.968532249988769,140.36876913123012,30,null,{"$f":"X733+U733","v":10.968532249988769},{"$f":"Y733+U734","v":145.36876913123012},30,null,null,null,null,null,5.968532249988769,140.36876913123012,30,null,{"$f":"AJ733+AG710","v":10.968532249988769},{"$f":"AK733+AG711","v":145.36876913123012},30,null,null,null,null,null,null,null,null,null,null,null,null,null,null,null,null,null,null,null,null,null,null,null,null,null,null,null,null,null,null,null,null,null,null,null,null,null,null,null,null,null,null,null,null,null,null,null,null,null,null,null,null,null,null,null,null,null,null,null,null,0,{"$f":"CW719","v":21.804478146530613},31,null,null,null,null,null,null,null,null,null,{"$f":"DG721","v":3.2897885030595013},{"$f":"DH721","v":46.183018995266323},{"$f":"DI721","v":4},null,null,null,null,null,null,null,null,null,null,null,null,null,null,null,null,null,null,null,null,null,null,null,null,null,"a",{"$f":"'متغیرها '!$C$722","v":0.2},null,null,{"$f":"EQ734-0.15*(ER734-ER731)","v":-30},{"$f":"ER731+0.7*(ER734-ER731)","v":20},"32''",null,null,null,null,null,null,null,null,null,null,null,null,null,null,null,null,null,null,null,null,"(p8→p10)",{"$f":"FO717","v":1.6488050654043531},null,null,null,null,null,{"$f":"FN744+FO729","v":17.014938124662564},{"$f":"FO744+FO730","v":30.212854771749555},"p13",null,{"$f":"FN742+FO729","v":3.3572354200503387},{"$f":"FO742+FO730","v":30},"p11",null,null,null,null,null,null,null,null,null,null,null,null,null,null,null,null,null,null,null,null,null,null,null,null,null,null,null,null,null,null,null,null,null,null,null,null,null,null,null,null,null,null,null,null,null,null,null,null,null,null,null,null,null,null,null,null,null,null,null,null,null,null,null,null,null,null,null,null,null,null,null,null,null,null,null,null,null,null,null,null,null,null,null,null,null,null,null,null,null,null,null,null,null,null,null,null,null,null,null,null,null,null,null,null,null,null,null,null,null,null,null,null,null,null,null,null,null,null,null,null,null,null,null,null,null,null,null,null,null,null,null,null,null,null,null,null,null,null,null,null,null,null,null,null,null,null,null,null,null,null,null,null,null,null,null,null,null,null,null,null,null,null,null,null,null,null,null,null,null,null,null,null,null,null,null,null,null,null,null,null,null,null,null,null,null,null,null,null,null,null,null,null,null,null,null,null,null,null,null,null,null,null,null,null,null,"g2",{"$f":"NZ731","v":-8.4656084656084651},{"$f":"OA731+NZ728","v":20.20000000000001}]
[null,null,null,null,null,null,null,null,null,null,null,null,null,null,null,null,null,null,null,null,null,null,null,null,null,null,null,null,null,null,null,null,null,null,null,null,null,null,null,null,null,null,null,null,null,null,null,null,null,null,null,null,null,null,null,null,null,null,null,null,null,null,null,null,null,null,null,null,null,null,null,null,null,null,null,null,null,null,null,null,{"$f":"CG723+BZ714","v":-2.4676152751260556},{"$f":"CH723+BZ715","v":149.79309751611007},"23قرینه",null,null,null,null,null,null,null,null,null,null,null,null,null,null,null,null,null,null,null,null,null,null,null,null,null,null,null,null,null,null,null,{"$f":"-(DG724-DG718)+DG718","v":-30.180320656484557},{"$f":"DH724","v":37.766279771833936},"قرینه7",null,null,null,null,null,null,null,null,null,null,null,null,null,null,null,null,null,null,null,null,null,null,null,null,null,{"$f":"EM727+EN734*(EM729-EM727)","v":-26.123999999999999},{"$f":"EN738+0.3*(EN728-EN738)","v":32.908587213973959},40,null,-27.286799999999999,28.214555499801609,39,null,null,null,null,null,null,null,null,null,null,null,null,null,null,null,null,null,null,null,null,{"$f":"FN742+FO735*COS(RADIANS(FS741))","v":12.736067443292193},{"$f":"FO742+FO735*SIN(RADIANS(FS741))","v":-2.5130504665748075},"p9",null,"γ17",{"$f":"'متغیرها '!C156","v":0.7},null,{"$f":"FN743+FO729","v":3.3572354200503387},{"$f":"FO743+FO730","v":31.648805065404353},"p12",null,null,null,null,null,null,null,null,null,null,null,null,null,null,null,null,null,null,null,null,null,null,null,null,null,null,null,null,null,null,null,null,null,null,null,null,null,null,null,null,null,null,null,null,null,null,null,null,null,null,null,null,null,null,null,null,null,null,null,null,null,null,null,null,null,null,null,null,null,null,null,null,null,null,null,null,null,null,null,null,null,null,null,null,null,null,null,null,null,null,null,null,null,null,null,null,null,null,null,null,null,null,null,null,null,null,null,null,null,null,null,null,null,null,null,null,null,null,null,null,null,null,null,null,null,null,null,null,null,null,null,null,null,null,null,null,null,null,null,null,null,null,null,null,null,null,null,null,null,null,null,null,null,null,null,null,null,null,null,null,null,null,null,null,null,null,null,null,null,null,null,null,null,null,null,null,null,null,null,null,null,null,null,null,null,null,null,null,null,null,null,null,null,null,null,null,null,null,null,null,null,null,null,null,null,null,null,null,null,null,null,null,{"$f":"NU305","v":-8.4656084656084651},{"$f":"NV305","v":20.20000000000001},"w54"]
[null,null,null,null,null,null,null,null,null,null,null,null,null,null,null,null,null,null,null,null,null,null,null,null,null,null,null,null,null,null,null,null,null,null,null,null,null,null,null,null,null,null,null,null,null,null,null,null,null,null,null,null,null,null,null,null,null,null,null,null,null,null,null,null,null,null,null,null,null,null,null,null,null,null,null,null,null,null,null,null,null,null,null,null,null,null,null,null,null,null,null,null,null,null,null,null,null,null,null,null,null,null,null,null,null,null,null,null,null,null,null,null,null,null,null,null,null,null,null,null,null,null,null,null,null,null,null,null,null,null,null,null,null,null,null,null,null,null,null,null,null,null,"شیفت",{"$f":"'متغیرها '!C729","v":3},null,null,{"$f":"EM743","v":-6.6225000000000023},{"$f":"EN743","v":64.612621064610707},43,null,null,null,null,null,null,null,null,null,null,null,null,null,null,null,null,null,null,null,null,{"$f":"FQ725+FO736*COS(RADIANS(90)-O233-2*O232)","v":16.100774452424453},{"$f":"FR725+FO736*SIN(RADIANS(90)-O233-2*O232)","v":19.269440427605186},30,null,null,null,null,null,null,null,null,null,null,null,null,null,null,null,null,null,null,null,null,null,null,null,null,null,null,null,null,null,null,null,null,null,null,null,null,null,null,null,null,null,null,null,null,null,null,null,null,null,null,null,null,null,null,null,null,null,null,null,null,null,null,null,null,null,null,null,null,null,null,null,null,null,null,null,null,null,null,null,null,null,null,null,null,null,null,null,null,null,null,null,null,null,null,null,null,null,null,null,null,null,null,null,null,null,null,null,null,null,null,null,null,null,null,null,null,null,null,null,null,null,null,null,null,null,null,null,null,null,null,null,null,null,null,null,null,null,null,null,null,null,null,null,null,null,null,null,null,null,null,null,null,null,null,null,null,null,null,null,null,null,null,null,null,null,null,null,null,null,null,null,null,null,null,null,null,null,null,null,null,null,null,null,null,null,null,null,null,null,null,null,null,null,null,null,null,null,null,null,null,null,null,null,null,null,null,null,null,null,null,null,null,null,null,null,null,"w56",{"$f":"NU307","v":-16.732804232804234},{"$f":"NV307","v":20.20000000000001}]
[null,null,null,null,null,null,null,null,null,null,null,null,null,null,null,null,null,null,null,null,null,null,null,null,null,null,null,null,null,null,null,null,null,null,null,null,null,null,null,null,null,null,null,null,null,null,null,null,null,null,null,null,null,null,null,null,null,null,null,null,null,null,null,null,null,null,null,null,null,null,null,null,null,null,null,null,null,null,null,null,null,null,null,null,null,null,null,null,null,null,null,null,null,null,null,null,null,null,null,null,null,null,null,null,null,null,null,null,null,null,null,null,null,null,null,null,null,null,null,null,null,null,null,null,null,null,null,null,null,null,null,null,null,null,null,null,null,null,null,null,null,null,null,null,null,null,null,null,null,null,null,null,null,null,null,null,null,null,null,null,null,null,null,null,null,null,null,null,null,null,null,null,null,null,null,null,null,null,null,null,null,null,null,null,null,null,null,null,null,null,null,null,null,null,null,null,null,null,null,null,null,null,null,null,null,null,null,null,null,null,null,null,null,null,null,null,null,null,null,null,null,null,null,null,null,null,null,null,null,null,null,null,null,null,null,null,null,null,null,null,null,null,null,null,null,null,null,null,null,null,null,null,null,null,null,null,null,null,null,null,null,null,null,null,null,null,null,null,null,null,null,null,null,null,null,null,null,null,null,null,null,null,null,null,null,null,null,null,null,null,null,null,null,null,null,null,null,null,null,null,null,null,null,null,null,null,null,null,null,null,null,null,null,null,null,null,null,null,null,null,null,null,null,null,null,null,null,null,null,null,null,null,null,null,null,null,null,null,null,null,null,null,null,null,null,null,null,null,null,null,null,null,null,null,null,null,null,null,null,null,null,null,null,null,null,null,null,null,null,null,null,null,null,null,null,null,null,null,null,null,null,null,null,null,null,null,null,null,"پهنای نیم دایره",{"$f":"NV239","v":0.5},{"$f":"NV250","v":0.24000000000000005},{"$f":"NZ757","v":-25.279999999999998},{"$f":"OA757","v":20.312000000000008},{"$f":"NY757","v":"g5"}]
[null,null,null,null,null,null,null,null,null,null,null,null,null,null,null,null,null,null,null,null,null,null,null,null,null,null,null,null,null,null,null,null,null,null,null,null,null,null,null,null,null,null,null,null,null,null,null,null,null,null,null,null,null,null,null,null,null,null,null,null,null,null,null,null,null,null,null,null,null,null,null,null,null,null,null,null,null,null,null,null,null,null,null,null,null,null,null,null,null,null,null,null,null,null,null,null,null,null,null,null,null,null,null,null,null,null,null,null,null,null,null,null,null,null,null,null,null,null,null,null,null,null,null,null,null,null,null,null,null,null,null,null,null,null,null,null,null,null,null,null,null,null,null,null,null,null,null,null,null,null,null,null,null,null,null,null,null,null,null,null,null,null,null,null,null,null,null,null,null,null,null,null,null,null,null,null,null,null,null,null,null,null,null,null,null,null,null,null,null,null,null,null,null,null,null,null,null,null,null,null,null,null,null,null,null,null,null,null,null,null,null,null,null,null,null,null,null,null,null,null,null,null,null,null,null,null,null,null,null,null,null,null,null,null,null,null,null,null,null,null,null,null,null,null,null,null,null,null,null,null,null,null,null,null,null,null,null,null,null,null,null,null,null,null,null,null,null,null,null,null,null,null,null,null,null,null,null,null,null,null,null,null,null,null,null,null,null,null,null,null,null,null,null,null,null,null,null,null,null,null,null,null,null,null,null,null,null,null,null,null,null,null,null,null,null,null,null,null,null,null,null,null,null,null,null,null,null,null,null,null,null,null,null,null,null,null,null,null,null,null,null,null,null,null,null,null,null,null,null,null,null,null,null,null,null,null,null,null,null,null,null,null,null,null,null,null,null,null,null,null,null,null,null,null,null,null,null,null,null,null,null,null,null,null,null,null,null,null,"g8",{"$f":"NZ756-OA751*SIN(RADIANS(40)+ATAN((NZ756-NZ757)/(OA756-OA757)))","v":-25.471690383396496},{"$f":"OA756-OA751*COS(RADIANS(40)+ATAN((NZ756-NZ757)/(OA756-OA757)))","v":20.370957451707199},{"$f":"NZ759","v":-25.186886027104613},{"$f":"OA759","v":20.489625933495486},{"$f":"NY759","v":"g7"}]
[null,null,null,null,null,null,null,null,null,null,null,null,null,null,null,null,null,null,null,null,null,null,null,null,null,null,null,null,null,null,null,null,null,null,null,null,null,null,null,null,null,null,null,null,null,null,null,null,null,null,null,null,null,null,null,null,null,null,null,null,null,null,null,null,null,null,null,null,null,null,null,null,null,null,null,null,null,null,null,null,null,null,null,null,null,null,null,null,null,null,null,null,null,null,null,null,null,null,null,null,null,null,null,null,null,null,null,null,null,null,null,null,null,null,null,null,null,null,null,null,null,null,null,null,null,null,null,null,null,null,null,null,null,null,null,null,null,null,null,null,null,null,null,null,null,null,null,null,null,null,null,null,null,null,null,null,null,null,null,null,null,null,null,null,null,null,null,null,null,null,null,null,null,null,null,null,null,null,null,null,null,null,null,null,null,null,null,null,null,null,null,null,null,null,null,null,null,null,null,null,null,null,null,null,null,null,null,null,null,null,null,null,null,null,null,null,null,null,null,null,null,null,null,null,null,null,null,null,null,null,null,null,null,null,null,null,null,null,null,null,null,null,null,null,null,null,null,null,null,null,null,null,null,null,null,null,null,null,null,null,null,null,null,null,null,null,null,null,null,null,null,null,null,null,null,null,null,null,null,null,null,null,null,null,null,null,null,null,null,null,null,null,null,null,null,null,null,null,null,null,null,null,null,null,null,null,null,null,null,null,null,null,null,null,null,null,null,null,null,null,null,null,null,null,null,null,null,null,null,null,null,null,null,null,null,null,null,null,null,null,null,null,null,null,null,null,null,null,null,null,null,null,null,null,null,null,null,null,null,null,null,null,null,null,null,null,null,null,null,null,null,null,null,null,null,null,null,null,null,null,null,null,null,null,null,null,null,null,null,null,"فلش به سمت راست",null,null,{"$f":"OA764","v":"فلش به سمت راست"}]
[null,null,null,null,null,null,null,null,null,null,null,null,null,null,null,null,null,null,null,null,null,null,null,null,null,null,null,null,null,null,null,null,null,null,null,null,null,null,null,null,null,null,null,null,null,null,null,null,null,null,null,null,null,null,null,null,null,null,null,null,null,null,null,null,null,null,null,null,null,null,null,null,null,null,null,null,null,null,null,null,null,null,null,null,null,null,null,null,null,null,null,null,null,null,null,null,null,null,null,null,null,null,null,null,null,null,null,null,null,null,null,null,null,null,null,null,null,null,null,null,null,null,null,null,null,null,null,null,null,null,null,null,null,null,null,null,null,null,null,null,null,null,null,null,null,null,null,null,null,null,null,null,null,null,null,null,null,null,null,null,null,null,null,null,null,null,null,null,null,null,null,null,null,null,null,null,null,null,null,null,null,null,null,null,null,null,null,null,null,null,null,null,null,null,null,null,null,null,null,null,null,null,null,null,null,null,null,null,null,null,null,null,null,null,null,null,null,null,null,null,null,null,null,null,null,null,null,null,null,null,null,null,null,null,null,null,null,null,null,null,null,null,null,null,null,null,null,null,null,null,null,null,null,null,null,null,null,null,null,null,null,null,null,null,null,null,null,null,null,null,null,null,null,null,null,null,null,null,null,null,null,null,null,null,null,null,null,null,null,null,null,null,null,null,null,null,null,null,null,null,null,null,null,null,null,null,null,null,null,null,null,null,null,null,null,null,null,null,null,null,null,null,null,null,null,null,null,null,null,null,null,null,null,null,null,null,null,null,null,null,null,null,null,null,null,null,null,null,null,null,null,null,null,null,null,null,null,null,null,null,null,null,null,null,null,null,null,null,null,null,null,null,null,null,null,null,null,null,null,null,null,null,null,null,null,null,null,null,null,null,"انحنا چپگرد ",null,null,{"$f":"OA771","v":"انحنا چپگرد "}]
[null,null,null,null,null,null,null,null,null,null,null,null,null,null,null,null,null,null,null,null,null,null,null,null,null,null,null,null,null,null,null,null,null,null,null,null,null,null,null,null,null,null,null,null,null,null,null,null,null,null,null,null,null,null,null,null,null,null,null,null,null,null,null,null,null,null,null,null,null,null,null,null,null,null,null,null,null,null,null,null,null,null,null,null,null,null,null,null,null,null,null,null,null,null,null,null,null,null,null,null,null,null,null,null,null,null,null,null,null,null,null,null,null,null,null,null,null,null,null,null,null,null,null,null,null,null,null,null,null,null,null,null,null,null,null,null,null,null,null,null,null,null,null,null,null,null,null,null,null,null,null,null,null,null,null,null,null,null,null,null,null,null,null,null,null,null,null,null,null,null,null,null,null,null,null,null,null,null,null,null,null,null,null,null,null,null,null,null,null,null,null,null,null,null,null,null,null,null,null,null,null,null,null,null,null,null,null,null,null,null,null,null,null,null,null,null,null,null,null,null,null,null,null,null,null,null,null,null,null,null,null,null,null,null,null,null,null,null,null,null,null,null,null,null,null,null,null,null,null,null,null,null,null,null,null,null,null,null,null,null,null,null,null,null,null,null,null,null,null,null,null,null,null,null,null,null,null,null,null,null,null,null,null,null,null,null,null,null,null,null,null,null,null,null,null,null,null,null,null,null,null,null,null,null,null,null,null,null,null,null,null,null,null,null,null,null,null,null,null,null,null,null,null,null,null,null,null,null,null,null,null,null,null,null,null,null,null,null,null,null,null,null,null,null,null,null,null,null,null,null,null,null,null,null,null,null,null,null,null,null,null,null,null,null,null,null,null,null,null,null,null,null,null,null,null,null,null,null,null,null,null,null,null,null,null,null,null,null,"نقاط خروجی","مولفه افقی","مولفه عمودی",{"$f":"NZ777","v":22.61904761904762},{"$f":"OA777","v":21.800000000000011},{"$f":"NY777","v":"g2"}]
[null,null,null,null,null,null,null,null,null,null,null,null,null,null,null,null,null,null,null,null,null,null,null,null,null,null,null,null,null,null,null,null,null,null,null,null,null,null,null,null,null,null,null,null,null,null,null,null,null,null,null,null,null,null,null,null,null,null,null,null,null,null,null,null,null,null,null,null,null,null,null,null,null,null,null,null,null,null,null,null,null,null,null,null,null,null,null,null,null,null,null,null,null,null,null,null,null,null,null,null,null,null,null,null,null,null,null,null,null,null,null,null,null,null,null,null,null,null,null,null,null,null,null,null,null,null,null,null,null,null,null,null,null,null,null,null,null,null,null,null,null,null,null,null,null,null,null,null,null,null,null,null,null,null,null,null,null,null,null,null,null,null,null,null,null,null,null,null,null,null,null,null,null,null,null,null,null,null,null,null,null,null,null,null,null,null,null,null,null,null,null,null,null,null,null,null,null,null,null,null,null,null,null,null,null,null,null,null,null,null,null,null,null,null,null,null,null,null,null,null,null,null,null,null,null,null,null,null,null,null,null,null,null,null,null,null,null,null,null,null,null,null,null,null,null,null,null,null,null,null,null,null,null,null,null,null,null,null,null,null,null,null,null,null,null,null,null,null,null,null,null,null,null,null,null,null,null,null,null,null,null,null,null,null,null,null,null,null,null,null,null,null,null,null,null,null,null,null,null,null,null,null,null,null,null,null,null,null,null,null,null,null,null,null,null,null,null,null,null,null,null,null,null,null,null,null,null,null,null,null,null,null,null,null,null,null,null,null,null,null,null,null,null,null,null,null,null,null,null,null,null,null,null,null,null,null,null,null,null,null,null,null,null,null,null,null,null,null,null,null,null,null,null,null,null,null,null,null,null,null,null,null,null,null,null,null,null,null,null,null,"فلش به سمت چپ",null,null,{"$f":"OA784","v":"فلش به سمت چپ"}]
[null,null,null,null,null,null,null,null,null,null,null,null,null,null,null,null,null,null,null,null,null,null,null,null,null,null,null,null,null,null,null,null,null,null,null,null,null,null,null,null,null,null,null,null,null,null,null,null,null,null,null,null,null,null,null,null,null,null,null,null,null,null,null,null,null,null,null,null,null,null,null,null,null,null,null,null,null,null,null,null,null,null,null,null,null,null,null,null,null,null,null,null,null,null,null,null,null,null,null,null,null,null,null,null,null,null,null,null,null,null,null,null,null,null,null,null,null,null,null,null,null,null,null,null,null,null,null,null,null,null,null,null,null,null,null,null,null,null,null,null,null,null,null,null,null,null,null,null,null,null,null,null,null,null,null,null,null,null,null,null,null,null,null,null,null,null,null,null,null,null,null,null,null,null,null,null,null,null,null,null,null,null,null,null,null,null,null,null,null,null,null,null,null,null,null,null,null,null,null,null,null,null,null,null,null,null,null,null,null,null,null,null,null,null,null,null,null,null,null,null,null,null,null,null,null,null,null,null,null,null,null,null,null,null,null,null,null,null,null,null,null,null,null,null,null,null,null,null,null,null,null,null,null,null,null,null,null,null,null,null,null,null,null,null,null,null,null,null,null,null,null,null,null,null,null,null,null,null,null,null,null,null,null,null,null,null,null,null,null,null,null,null,null,null,null,null,null,null,null,null,null,null,null,null,null,null,null,null,null,null,null,null,null,null,null,null,null,null,null,null,null,null,null,null,null,null,null,null,null,null,null,null,null,null,null,null,null,null,null,null,null,null,null,null,null,null,null,null,null,null,null,null,null,null,null,null,null,null,null,null,null,null,null,null,null,null,null,null,null,null,null,null,null,null,null,null,null,null,null,null,null,null,null,null,null,null,null,null,"f2",{"$f":"NZ787+1*NZ785","v":-19.998095238095239},{"$f":"OA787-OA785*NZ785","v":21.68000000000001},{"$f":"NZ787","v":-20.238095238095237},{"$f":"OA787","v":21.800000000000011},{"$f":"NY787","v":"w62"}]
[null,null,null,null,null,null,null,null,null,null,null,null,null,null,null,null,null,null,null,null,null,null,null,null,null,null,null,null,null,null,null,null,null,null,null,null,null,null,null,null,null,null,null,null,null,null,null,null,null,null,null,null,null,null,null,null,null,null,null,null,null,null,null,null,null,null,null,null,null,null,null,null,null,null,null,null,null,null,null,null,null,null,null,null,null,null,null,null,null,null,null,null,null,null,null,null,null,null,null,null,null,null,null,null,null,null,null,null,null,null,null,null,null,null,null,null,null,null,null,null,null,null,null,null,null,null,null,null,null,null,null,null,null,null,null,null,null,null,null,null,null,null,null,null,null,null,null,null,null,null,null,null,null,null,null,null,null,null,null,null,null,null,null,null,null,null,null,null,null,null,null,null,null,null,null,null,null,null,null,null,null,null,null,null,null,null,null,null,null,null,null,null,null,null,null,null,null,null,null,null,null,null,null,null,null,null,null,null,null,null,null,null,null,null,null,null,null,null,null,null,null,null,null,null,null,null,null,null,null,null,null,null,null,null,null,null,null,null,null,null,null,null,null,null,null,null,null,null,null,null,null,null,null,null,null,null,null,null,null,null,null,null,null,null,null,null,null,null,null,null,null,null,null,null,null,null,null,null,null,null,null,null,null,null,null,null,null,null,null,null,null,null,null,null,null,null,null,null,null,null,null,null,null,null,null,null,null,null,null,null,null,null,null,null,null,null,null,null,null,null,null,null,null,null,null,null,null,null,null,null,null,null,null,null,null,null,null,null,null,null,null,null,null,null,null,null,null,null,null,null,null,null,null,null,null,null,null,null,null,null,null,null,null,null,null,null,null,null,null,null,null,null,null,null,null,null,null,null,null,null,null,null,null,null,null,null,null,null,"w61",{"$f":"NU312","v":-25},{"$f":"NV312","v":21.800000000000011},{"$f":"NZ800","v":-25.279999999999998},{"$f":"OA800","v":22.488000000000014},{"$f":"NY800","v":"g6"}]
[null,null,null,null,null,null,null,null,null,null,null,null,null,null,null,null,null,null,null,null,null,null,null,null,null,null,null,null,null,null,null,null,null,null,null,null,null,null,null,null,null,null,null,null,null,null,null,null,null,null,null,null,null,null,null,null,null,null,null,null,null,null,null,null,null,null,null,null,null,null,null,null,null,null,null,null,null,null,null,null,null,null,null,null,null,null,null,null,null,null,null,null,null,null,null,null,null,null,null,null,null,null,null,null,null,null,null,null,null,null,null,null,null,null,null,null,null,null,null,null,null,null,null,null,null,null,null,null,null,null,null,null,null,null,null,null,null,null,null,null,null,null,null,null,null,null,null,null,null,null,null,null,null,null,null,null,null,null,null,null,null,null,null,null,null,null,null,null,null,null,null,null,null,null,null,null,null,null,null,null,null,null,null,null,null,null,null,null,null,null,null,null,null,null,null,null,null,null,null,null,null,null,null,null,null,null,null,null,null,null,null,null,null,null,null,null,null,null,null,null,null,null,null,null,null,null,null,null,null,null,null,null,null,null,null,null,null,null,null,null,null,null,null,null,null,null,null,null,null,null,null,null,null,null,null,null,null,null,null,null,null,null,null,null,null,null,null,null,null,null,null,null,null,null,null,null,null,null,null,null,null,null,null,null,null,null,null,null,null,null,null,null,null,null,null,null,null,null,null,null,null,null,null,null,null,null,null,null,null,null,null,null,null,null,null,null,null,null,null,null,null,null,null,null,null,null,null,null,null,null,null,null,null,null,null,null,null,null,null,null,null,null,null,null,null,null,null,null,null,null,null,null,null,null,null,null,null,null,null,null,null,null,null,null,null,null,null,null,null,null,null,null,null,null,null,null,null,null,null,null,null,null,null,null,null,null,null,null,"g8",{"$f":"NZ798-OA793*SIN(RADIANS(40)+ATAN((NZ798-NZ799)/(OA798-OA799)))","v":-25.471690383396496},{"$f":"OA798-OA793*COS(RADIANS(40)+ATAN((NZ798-NZ799)/(OA798-OA799)))","v":21.9709574517072},{"$f":"NZ801","v":-25.186886027104613},{"$f":"OA801","v":22.089625933495487},{"$f":"NY801","v":"g7"}]
[null,null,null,null,null,null,null,null,null,null,null,null,null,null,null,null,null,null,null,null,null,null,null,null,null,null,null,null,null,null,null,null,null,null,null,null,null,null,null,null,null,null,null,null,null,null,null,null,null,null,null,null,null,null,null,null,null,null,null,null,null,null,null,null,null,null,null,null,null,null,null,null,null,null,null,null,null,null,null,null,null,null,null,null,null,null,null,null,null,null,null,null,null,null,null,null,null,null,null,null,null,null,null,null,null,null,null,null,null,null,null,null,null,null,null,null,null,null,null,null,null,null,null,null,null,null,null,null,null,null,null,null,null,null,null,null,null,null,null,null,null,null,null,null,null,null,null,null,null,null,null,null,null,null,null,null,null,null,null,null,null,null,null,null,null,null,null,null,null,null,null,null,null,null,null,null,null,null,null,null,null,null,null,null,null,null,null,null,null,null,null,null,null,null,null,null,null,null,null,null,null,null,null,null,null,null,null,null,null,null,null,null,null,null,null,null,null,null,null,null,null,null,null,null,null,null,null,null,null,null,null,null,null,null,null,null,null,null,null,null,null,null,null,null,null,null,null,null,null,null,null,null,null,null,null,null,null,null,null,null,null,null,null,null,null,null,null,null,null,null,null,null,null,null,null,null,null,null,null,null,null,null,null,null,null,null,null,null,null,null,null,null,null,null,null,null,null,null,null,null,null,null,null,null,null,null,null,null,null,null,null,null,null,null,null,null,null,null,null,null,null,null,null,null,null,null,null,null,null,null,null,null,null,null,null,null,null,null,null,null,null,null,null,null,null,null,null,null,null,null,null,null,null,null,null,null,null,null,null,null,null,null,null,null,null,null,null,null,null,null,null,null,null,null,null,null,null,null,null,null,null,null,null,null,null,null,null,null,"پهنای باکس نوشته",{"$f":"NV241","v":0.60000000000000009},"h4"]
[null,null,null,null,null,null,null,null,null,null,null,null,null,null,null,null,null,null,null,null,null,null,null,null,null,null,null,null,null,null,null,null,null,null,null,null,null,null,null,null,null,null,null,null,null,null,null,null,null,null,null,null,null,null,null,null,null,null,null,null,null,null,null,null,null,null,null,null,null,null,null,null,null,null,null,null,null,null,null,null,null,null,null,null,null,null,null,null,null,null,null,null,null,null,null,null,null,null,null,null,null,null,null,null,null,null,null,null,null,null,null,null,null,null,null,null,null,null,null,null,null,null,null,null,null,null,null,null,null,null,null,null,null,null,null,null,null,null,null,null,null,null,null,null,null,null,null,null,null,null,null,null,null,null,null,null,null,null,null,null,null,null,null,null,null,null,null,null,null,null,null,null,null,null,null,null,null,null,null,null,null,null,null,null,null,null,null,null,null,null,null,null,null,null,null,null,null,null,null,null,null,null,null,null,null,null,null,null,null,null,null,null,null,null,null,null,null,null,null,null,null,null,null,null,null,null,null,null,null,null,null,null,null,null,null,null,null,null,null,null,null,null,null,null,null,null,null,null,null,null,null,null,null,null,null,null,null,null,null,null,null,null,null,null,null,null,null,null,null,null,null,null,null,null,null,null,null,null,null,null,null,null,null,null,null,null,null,null,null,null,null,null,null,null,null,null,null,null,null,null,null,null,null,null,null,null,null,null,null,null,null,null,null,null,null,null,null,null,null,null,null,null,null,null,null,null,null,null,null,null,null,null,null,null,null,null,null,null,null,null,null,null,null,null,null,null,null,null,null,null,null,null,null,null,null,null,null,null,null,null,null,null,null,null,null,null,null,null,null,null,null,null,null,null,null,null,null,null,null,null,null,null,null,null,null,null,null,null,"h5",{"$f":"NZ811+0.5*(NZ813-NZ811)","v":-1.1904761904761898},{"$f":"OA811","v":21.800000000000011},{"$f":"NZ820","v":0.83452380952381011},{"$f":"OA820","v":21.500000000000011},{"$f":"NY820","v":"h12"}]
[null,null,null,null,null,null,null,null,null,null,null,null,null,null,null,null,null,null,null,null,null,null,null,null,null,null,null,null,null,null,null,null,null,null,null,null,null,null,null,null,null,null,null,null,null,null,null,null,null,null,null,null,null,null,null,null,null,null,null,null,null,null,null,null,null,null,null,null,null,null,null,null,null,null,null,null,null,null,null,null,null,null,null,null,null,null,null,null,null,null,null,null,null,null,null,null,null,null,null,null,null,null,null,null,null,null,null,null,null,null,null,null,null,null,null,null,null,null,null,null,null,null,null,null,null,null,null,null,null,null,null,null,null,null,null,null,null,null,null,null,null,null,null,null,null,null,null,null,null,null,null,null,null,null,null,null,null,null,null,null,null,null,null,null,null,null,null,null,null,null,null,null,null,null,null,null,null,null,null,null,null,null,null,null,null,null,null,null,null,null,null,null,null,null,null,null,null,null,null,null,null,null,null,null,null,null,null,null,null,null,null,null,null,null,null,null,null,null,null,null,null,null,null,null,null,null,null,null,null,null,null,null,null,null,null,null,null,null,null,null,null,null,null,null,null,null,null,null,null,null,null,null,null,null,null,null,null,null,null,null,null,null,null,null,null,null,null,null,null,null,null,null,null,null,null,null,null,null,null,null,null,null,null,null,null,null,null,null,null,null,null,null,null,null,null,null,null,null,null,null,null,null,null,null,null,null,null,null,null,null,null,null,null,null,null,null,null,null,null,null,null,null,null,null,null,null,null,null,null,null,null,null,null,null,null,null,null,null,null,null,null,null,null,null,null,null,null,null,null,null,null,null,null,null,null,null,null,null,null,null,null,null,null,null,null,null,null,null,null,null,null,null,null,null,null,null,null,null,null,null,null,null,null,null,null,null,null,null,"h11",{"$f":"NZ816","v":-3.2154761904761897},{"$f":"OA816-0.5*NZ807","v":21.500000000000011}]
[null,null,null,null,null,null,null,null,null,null,null,null,null,null,null,null,null,null,null,null,null,null,null,null,null,null,null,null,null,null,null,null,null,null,null,null,null,null,null,null,null,null,null,null,null,null,null,null,null,null,null,null,null,null,null,null,null,null,null,null,null,null,null,null,null,null,null,null,null,null,null,null,null,null,null,null,null,null,null,null,null,null,null,null,null,null,null,null,null,null,null,null,null,null,null,null,null,null,null,null,null,null,null,null,null,null,null,null,null,null,null,null,null,null,null,null,null,null,null,null,null,null,null,null,null,null,null,null,null,null,null,null,null,null,null,null,null,null,null,null,null,null,null,null,null,null,null,null,null,null,null,null,null,null,null,null,null,null,null,null,null,null,null,null,null,null,null,null,null,null,null,null,null,null,null,null,null,null,null,null,null,null,null,null,null,null,null,null,null,null,null,null,null,null,null,null,null,null,null,null,null,null,null,null,null,null,null,null,null,null,null,null,null,null,null,null,null,null,null,null,null,null,null,null,null,null,null,null,null,null,null,null,null,null,null,null,null,null,null,null,null,null,null,null,null,null,null,null,null,null,null,null,null,null,null,null,null,null,null,null,null,null,null,null,null,null,null,null,null,null,null,null,null,null,null,null,null,null,null,null,null,null,null,null,null,null,null,null,null,null,null,null,null,null,null,null,null,null,null,null,null,null,null,null,null,null,null,null,null,null,null,null,null,null,null,null,null,null,null,null,null,null,null,null,null,null,null,null,null,null,null,null,null,null,null,null,null,null,null,null,null,null,null,null,null,null,null,null,null,null,null,null,null,null,null,null,null,null,null,null,null,null,null,null,null,null,null,null,null,null,null,null,null,null,null,null,null,null,null,null,null,null,null,null,null,null,null,null,"بزرگی فلش",{"$f":"NV250","v":0.24000000000000005},{"$f":"NV243","v":0.5},{"$f":"NZ828","v":-20.238095238095237},{"$f":"OA828","v":22.600000000000012},{"$f":"NY828","v":"w65"}]
[null,null,null,null,null,null,null,null,null,null,null,null,null,null,null,null,null,null,null,null,null,null,null,null,null,null,null,null,null,null,null,null,null,null,null,null,null,null,null,null,null,null,null,null,null,null,null,null,null,null,null,null,null,null,null,null,null,null,null,null,null,null,null,null,null,null,null,null,null,null,null,null,null,null,null,null,null,null,null,null,null,null,null,null,null,null,null,null,null,null,null,null,null,null,null,null,null,null,null,null,null,null,null,null,null,null,null,null,null,null,null,null,null,null,null,null,null,null,null,null,null,null,null,null,null,null,null,null,null,null,null,null,null,null,null,null,null,null,null,null,null,null,null,null,null,null,null,null,null,null,null,null,null,null,null,null,null,null,null,null,null,null,null,null,null,null,null,null,null,null,null,null,null,null,null,null,null,null,null,null,null,null,null,null,null,null,null,null,null,null,null,null,null,null,null,null,null,null,null,null,null,null,null,null,null,null,null,null,null,null,null,null,null,null,null,null,null,null,null,null,null,null,null,null,null,null,null,null,null,null,null,null,null,null,null,null,null,null,null,null,null,null,null,null,null,null,null,null,null,null,null,null,null,null,null,null,null,null,null,null,null,null,null,null,null,null,null,null,null,null,null,null,null,null,null,null,null,null,null,null,null,null,null,null,null,null,null,null,null,null,null,null,null,null,null,null,null,null,null,null,null,null,null,null,null,null,null,null,null,null,null,null,null,null,null,null,null,null,null,null,null,null,null,null,null,null,null,null,null,null,null,null,null,null,null,null,null,null,null,null,null,null,null,null,null,null,null,null,null,null,null,null,null,null,null,null,null,null,null,null,null,null,null,null,null,null,null,null,null,null,null,null,null,null,null,null,null,null,null,null,null,null,null,null,null,null,null,null,"نقطه شروع رج(چپ)","مولفه افقی","مولفه عمودی"]
[null,null,null,null,null,null,null,null,null,null,null,null,null,null,null,null,null,null,null,null,null,null,null,null,null,null,null,null,null,null,null,null,null,null,null,null,null,null,null,null,null,null,null,null,null,null,null,null,null,null,null,null,null,null,null,null,null,null,null,null,null,null,null,null,null,null,null,null,null,null,null,null,null,null,null,null,null,null,null,null,null,null,null,null,null,null,null,null,null,null,null,null,null,null,null,null,null,null,null,null,null,null,null,null,null,null,null,null,null,null,null,null,null,null,null,null,null,null,null,null,null,null,null,null,null,null,null,null,null,null,null,null,null,null,null,null,null,null,null,null,null,null,null,null,null,null,null,null,null,null,null,null,null,null,null,null,null,null,null,null,null,null,null,null,null,null,null,null,null,null,null,null,null,null,null,null,null,null,null,null,null,null,null,null,null,null,null,null,null,null,null,null,null,null,null,null,null,null,null,null,null,null,null,null,null,null,null,null,null,null,null,null,null,null,null,null,null,null,null,null,null,null,null,null,null,null,null,null,null,null,null,null,null,null,null,null,null,null,null,null,null,null,null,null,null,null,null,null,null,null,null,null,null,null,null,null,null,null,null,null,null,null,null,null,null,null,null,null,null,null,null,null,null,null,null,null,null,null,null,null,null,null,null,null,null,null,null,null,null,null,null,null,null,null,null,null,null,null,null,null,null,null,null,null,null,null,null,null,null,null,null,null,null,null,null,null,null,null,null,null,null,null,null,null,null,null,null,null,null,null,null,null,null,null,null,null,null,null,null,null,null,null,null,null,null,null,null,null,null,null,null,null,null,null,null,null,null,null,null,null,null,null,null,null,null,null,null,null,null,null,null,null,null,null,null,null,null,null,null,null,null,null,null,null,null,null,null,null,"h5",{"$f":"NZ839+0.5*(NZ841-NZ839)","v":-1.1904761904761898},{"$f":"OA839","v":22.600000000000012},{"$f":"NZ848","v":2.85952380952381},{"$f":"OA848","v":22.300000000000011},{"$f":"NY848","v":"h12"}]
[null,null,null,null,null,null,null,null,null,null,null,null,null,null,null,null,null,null,null,null,null,null,null,null,null,null,null,null,null,null,null,null,null,null,null,null,null,null,null,null,null,null,null,null,null,null,null,null,null,null,null,null,null,null,null,null,null,null,null,null,null,null,null,null,null,null,null,null,null,null,null,null,null,null,null,null,null,null,null,null,null,null,null,null,null,null,null,null,null,null,null,null,null,null,null,null,null,null,null,null,null,null,null,null,null,null,null,null,null,null,null,null,null,null,null,null,null,null,null,null,null,null,null,null,null,null,null,null,null,null,null,null,null,null,null,null,null,null,null,null,null,null,null,null,null,null,null,null,null,null,null,null,null,null,null,null,null,null,null,null,null,null,null,null,null,null,null,null,null,null,null,null,null,null,null,null,null,null,null,null,null,null,null,null,null,null,null,null,null,null,null,null,null,null,null,null,null,null,null,null,null,null,null,null,null,null,null,null,null,null,null,null,null,null,null,null,null,null,null,null,null,null,null,null,null,null,null,null,null,null,null,null,null,null,null,null,null,null,null,null,null,null,null,null,null,null,null,null,null,null,null,null,null,null,null,null,null,null,null,null,null,null,null,null,null,null,null,null,null,null,null,null,null,null,null,null,null,null,null,null,null,null,null,null,null,null,null,null,null,null,null,null,null,null,null,null,null,null,null,null,null,null,null,null,null,null,null,null,null,null,null,null,null,null,null,null,null,null,null,null,null,null,null,null,null,null,null,null,null,null,null,null,null,null,null,null,null,null,null,null,null,null,null,null,null,null,null,null,null,null,null,null,null,null,null,null,null,null,null,null,null,null,null,null,null,null,null,null,null,null,null,null,null,null,null,null,null,null,null,null,null,null,null,null,null,null,null,null,"h10",{"$f":"NZ844","v":-5.2404761904761896},{"$f":"OA844+0.5*NZ835","v":22.900000000000013},{"$f":"NZ849","v":2.85952380952381},{"$f":"OA849","v":22.900000000000013},{"$f":"NY849","v":"h13"}]
[null,null,null,null,null,null,null,null,null,null,null,null,null,null,null,null,null,null,null,null,null,null,null,null,null,null,null,null,null,null,null,null,null,null,null,null,null,null,null,null,null,null,null,null,null,null,null,null,null,null,null,null,null,null,null,null,null,null,null,null,null,null,null,null,null,null,null,null,null,null,null,null,null,null,null,null,null,null,null,null,null,null,null,null,null,null,null,null,null,null,null,null,null,null,null,null,null,null,null,null,null,null,null,null,null,null,null,null,null,null,null,null,null,null,null,null,null,null,null,null,null,null,null,null,null,null,null,null,null,null,null,null,null,null,null,null,null,null,null,null,null,null,null,null,null,null,null,null,null,null,null,null,null,null,null,null,null,null,null,null,null,null,null,null,null,null,null,null,null,null,null,null,null,null,null,null,null,null,null,null,null,null,null,null,null,null,null,null,null,null,null,null,null,null,null,null,null,null,null,null,null,null,null,null,null,null,null,null,null,null,null,null,null,null,null,null,null,null,null,null,null,null,null,null,null,null,null,null,null,null,null,null,null,null,null,null,null,null,null,null,null,null,null,null,null,null,null,null,null,null,null,null,null,null,null,null,null,null,null,null,null,null,null,null,null,null,null,null,null,null,null,null,null,null,null,null,null,null,null,null,null,null,null,null,null,null,null,null,null,null,null,null,null,null,null,null,null,null,null,null,null,null,null,null,null,null,null,null,null,null,null,null,null,null,null,null,null,null,null,null,null,null,null,null,null,null,null,null,null,null,null,null,null,null,null,null,null,null,null,null,null,null,null,null,null,null,null,null,null,null,null,null,null,null,null,null,null,null,null,null,null,null,null,null,null,null,null,null,null,null,null,null,null,null,null,null,null,null,null,null,null,null,null,null,null,null,null,null,null,null,null,{"$f":"NZ867","v":25.581613756613759},{"$f":"OA867","v":22.900000000000013},{"$f":"NY867","v":"h10"}]
[null,null,null,null,null,null,null,null,null,null,null,null,null,null,null,null,null,null,null,null,null,null,null,null,null,null,null,null,null,null,null,null,null,null,null,null,null,null,null,null,null,null,null,null,null,null,null,null,null,null,null,null,null,null,null,null,null,null,null,null,null,null,null,null,null,null,null,null,null,null,null,null,null,null,null,null,null,null,null,null,null,null,null,null,null,null,null,null,null,null,null,null,null,null,null,null,null,null,null,null,null,null,null,null,null,null,null,null,null,null,null,null,null,null,null,null,null,null,null,null,null,null,null,null,null,null,null,null,null,null,null,null,null,null,null,null,null,null,null,null,null,null,null,null,null,null,null,null,null,null,null,null,null,null,null,null,null,null,null,null,null,null,null,null,null,null,null,null,null,null,null,null,null,null,null,null,null,null,null,null,null,null,null,null,null,null,null,null,null,null,null,null,null,null,null,null,null,null,null,null,null,null,null,null,null,null,null,null,null,null,null,null,null,null,null,null,null,null,null,null,null,null,null,null,null,null,null,null,null,null,null,null,null,null,null,null,null,null,null,null,null,null,null,null,null,null,null,null,null,null,null,null,null,null,null,null,null,null,null,null,null,null,null,null,null,null,null,null,null,null,null,null,null,null,null,null,null,null,null,null,null,null,null,null,null,null,null,null,null,null,null,null,null,null,null,null,null,null,null,null,null,null,null,null,null,null,null,null,null,null,null,null,null,null,null,null,null,null,null,null,null,null,null,null,null,null,null,null,null,null,null,null,null,null,null,null,null,null,null,null,null,null,null,null,null,null,null,null,null,null,null,null,null,null,null,null,null,null,null,null,null,null,null,null,null,null,null,null,null,null,null,null,null,null,null,null,null,null,null,null,null,null,null,null,null,null,null,null,"نقاط خروجی","مولفه افقی","مولفه عمودی",{"$f":"NZ868","v":25.581613756613759},{"$f":"OA868","v":22.300000000000011},{"$f":"NY868","v":"h11"}]
[null,null,null,null,null,null,null,null,null,null,null,null,null,null,null,null,null,null,null,null,null,null,null,null,null,null,null,null,null,null,null,null,null,null,null,null,null,null,null,null,null,null,null,null,null,null,null,null,null,null,null,null,null,null,null,null,null,null,null,null,null,null,null,null,null,null,null,null,null,null,null,null,null,null,null,null,null,null,null,null,null,null,null,null,null,null,null,null,null,null,null,null,null,null,null,null,null,null,null,null,null,null,null,null,null,null,null,null,null,null,null,null,null,null,null,null,null,null,null,null,null,null,null,null,null,null,null,null,null,null,null,null,null,null,null,null,null,null,null,null,null,null,null,null,null,null,null,null,null,null,null,null,null,null,null,null,null,null,null,null,null,null,null,null,null,null,null,null,null,null,null,null,null,null,null,null,null,null,null,null,null,null,null,null,null,null,null,null,null,null,null,null,null,null,null,null,null,null,null,null,null,null,null,null,null,null,null,null,null,null,null,null,null,null,null,null,null,null,null,null,null,null,null,null,null,null,null,null,null,null,null,null,null,null,null,null,null,null,null,null,null,null,null,null,null,null,null,null,null,null,null,null,null,null,null,null,null,null,null,null,null,null,null,null,null,null,null,null,null,null,null,null,null,null,null,null,null,null,null,null,null,null,null,null,null,null,null,null,null,null,null,null,null,null,null,null,null,null,null,null,null,null,null,null,null,null,null,null,null,null,null,null,null,null,null,null,null,null,null,null,null,null,null,null,null,null,null,null,null,null,null,null,null,null,null,null,null,null,null,null,null,null,null,null,null,null,null,null,null,null,null,null,null,null,null,null,null,null,null,null,null,null,null,null,null,null,null,null,null,null,null,null,null,null,null,null,null,null,null,null,null,null,null,null,null,null,null,null,"h8",{"$f":"NZ864-0.5*NZ855","v":25.581613756613759},{"$f":"OA860","v":22.600000000000012}]
[null,null,null,null,null,null,null,null,null,null,null,null,null,null,null,null,null,null,null,null,null,null,null,null,null,null,null,null,null,null,null,null,null,null,null,null,null,null,null,null,null,null,null,null,null,null,null,null,null,null,null,null,null,null,null,null,null,null,null,null,null,null,null,null,null,null,null,null,null,null,null,null,null,null,null,null,null,null,null,null,null,null,null,null,null,null,null,null,null,null,null,null,null,null,null,null,null,null,null,null,null,null,null,null,null,null,null,null,null,null,null,null,null,null,null,null,null,null,null,null,null,null,null,null,null,null,null,null,null,null,null,null,null,null,null,null,null,null,null,null,null,null,null,null,null,null,null,null,null,null,null,null,null,null,null,null,null,null,null,null,null,null,null,null,null,null,null,null,null,null,null,null,null,null,null,null,null,null,null,null,null,null,null,null,null,null,null,null,null,null,null,null,null,null,null,null,null,null,null,null,null,null,null,null,null,null,null,null,null,null,null,null,null,null,null,null,null,null,null,null,null,null,null,null,null,null,null,null,null,null,null,null,null,null,null,null,null,null,null,null,null,null,null,null,null,null,null,null,null,null,null,null,null,null,null,null,null,null,null,null,null,null,null,null,null,null,null,null,null,null,null,null,null,null,null,null,null,null,null,null,null,null,null,null,null,null,null,null,null,null,null,null,null,null,null,null,null,null,null,null,null,null,null,null,null,null,null,null,null,null,null,null,null,null,null,null,null,null,null,null,null,null,null,null,null,null,null,null,null,null,null,null,null,null,null,null,null,null,null,null,null,null,null,null,null,null,null,null,null,null,null,null,null,null,null,null,null,null,null,null,null,null,null,null,null,null,null,null,null,null,null,null,null,null,null,null,null,null,null,null,null,null,null,null,null,null,null,null,null,null,"انحنا چپگرد ",null,null,{"$f":"OA874","v":"انحنا چپگرد "}]
[null,null,null,null,null,null,null,null,null,null,null,null,null,null,null,null,null,null,null,null,null,null,null,null,null,null,null,null,null,null,null,null,null,null,null,null,null,null,null,null,null,null,null,null,null,null,null,null,null,null,null,null,null,null,null,null,null,null,null,null,null,null,null,null,null,null,null,null,null,null,null,null,null,null,null,null,null,null,null,null,null,null,null,null,null,null,null,null,null,null,null,null,null,null,null,null,null,null,null,null,null,null,null,null,null,null,null,null,null,null,null,null,null,null,null,null,null,null,null,null,null,null,null,null,null,null,null,null,null,null,null,null,null,null,null,null,null,null,null,null,null,null,null,null,null,null,null,null,null,null,null,null,null,null,null,null,null,null,null,null,null,null,null,null,null,null,null,null,null,null,null,null,null,null,null,null,null,null,null,null,null,null,null,null,null,null,null,null,null,null,null,null,null,null,null,null,null,null,null,null,null,null,null,null,null,null,null,null,null,null,null,null,null,null,null,null,null,null,null,null,null,null,null,null,null,null,null,null,null,null,null,null,null,null,null,null,null,null,null,null,null,null,null,null,null,null,null,null,null,null,null,null,null,null,null,null,null,null,null,null,null,null,null,null,null,null,null,null,null,null,null,null,null,null,null,null,null,null,null,null,null,null,null,null,null,null,null,null,null,null,null,null,null,null,null,null,null,null,null,null,null,null,null,null,null,null,null,null,null,null,null,null,null,null,null,null,null,null,null,null,null,null,null,null,null,null,null,null,null,null,null,null,null,null,null,null,null,null,null,null,null,null,null,null,null,null,null,null,null,null,null,null,null,null,null,null,null,null,null,null,null,null,null,null,null,null,null,null,null,null,null,null,null,null,null,null,null,null,null,null,null,null,null,null,null,null,null,null,"نقطه شروع انحنا","مولفه افقی","مولفه عمودی",{"$f":"NZ881","v":30.294179894179894},{"$f":"OA881","v":23.000000000000011},{"$f":"NY881","v":"g4"}]
[null,null,null,null,null,null,null,null,null,null,null,null,null,null,null,null,null,null,null,null,null,null,null,null,null,null,null,null,null,null,null,null,null,null,null,null,null,null,null,null,null,null,null,null,null,null,null,null,null,null,null,null,null,null,null,null,null,null,null,null,null,null,null,null,null,null,null,null,null,null,null,null,null,null,null,null,null,null,null,null,null,null,null,null,null,null,null,null,null,null,null,null,null,null,null,null,null,null,null,null,null,null,null,null,null,null,null,null,null,null,null,null,null,null,null,null,null,null,null,null,null,null,null,null,null,null,null,null,null,null,null,null,null,null,null,null,null,null,null,null,null,null,null,null,null,null,null,null,null,null,null,null,null,null,null,null,null,null,null,null,null,null,null,null,null,null,null,null,null,null,null,null,null,null,null,null,null,null,null,null,null,null,null,null,null,null,null,null,null,null,null,null,null,null,null,null,null,null,null,null,null,null,null,null,null,null,null,null,null,null,null,null,null,null,null,null,null,null,null,null,null,null,null,null,null,null,null,null,null,null,null,null,null,null,null,null,null,null,null,null,null,null,null,null,null,null,null,null,null,null,null,null,null,null,null,null,null,null,null,null,null,null,null,null,null,null,null,null,null,null,null,null,null,null,null,null,null,null,null,null,null,null,null,null,null,null,null,null,null,null,null,null,null,null,null,null,null,null,null,null,null,null,null,null,null,null,null,null,null,null,null,null,null,null,null,null,null,null,null,null,null,null,null,null,null,null,null,null,null,null,null,null,null,null,null,null,null,null,null,null,null,null,null,null,null,null,null,null,null,null,null,null,null,null,null,null,null,null,null,null,null,null,null,null,null,null,null,null,null,null,null,null,null,null,null,null,null,null,null,null,null,null,null,null,null,null,null,null,"g8",{"$f":"NZ881-OA876*SIN(RADIANS(40)+ATAN((NZ881-NZ882)/(OA881-OA882)))","v":30.081065921284509},{"$f":"OA881-OA876*COS(RADIANS(40)+ATAN((NZ881-NZ882)/(OA881-OA882)))","v":22.889625933495488},{"$f":"NZ884","v":30.365870277576391},{"$f":"OA884","v":22.770957451707204},{"$f":"NY884","v":"g7"}]
[null,null,null,null,null,null,null,null,null,null,null,null,null,null,null,null,null,null,null,null,null,null,null,null,null,null,null,null,null,null,null,null,null,null,null,null,null,null,null,null,null,null,null,null,null,null,null,null,null,null,null,null,null,null,null,null,null,null,null,null,null,null,null,null,null,null,null,null,null,null,null,null,null,null,null,null,null,null,null,null,null,null,null,null,null,null,null,null,null,null,null,null,null,null,null,null,null,null,null,null,null,null,null,null,null,null,null,null,null,null,null,null,null,null,null,null,null,null,null,null,null,null,null,null,null,null,null,null,null,null,null,null,null,null,null,null,null,null,null,null,null,null,null,null,null,null,null,null,null,null,null,null,null,null,null,null,null,null,null,null,null,null,null,null,null,null,null,null,null,null,null,null,null,null,null,null,null,null,null,null,null,null,null,null,null,null,null,null,null,null,null,null,null,null,null,null,null,null,null,null,null,null,null,null,null,null,null,null,null,null,null,null,null,null,null,null,null,null,null,null,null,null,null,null,null,null,null,null,null,null,null,null,null,null,null,null,null,null,null,null,null,null,null,null,null,null,null,null,null,null,null,null,null,null,null,null,null,null,null,null,null,null,null,null,null,null,null,null,null,null,null,null,null,null,null,null,null,null,null,null,null,null,null,null,null,null,null,null,null,null,null,null,null,null,null,null,null,null,null,null,null,null,null,null,null,null,null,null,null,null,null,null,null,null,null,null,null,null,null,null,null,null,null,null,null,null,null,null,null,null,null,null,null,null,null,null,null,null,null,null,null,null,null,null,null,null,null,null,null,null,null,null,null,null,null,null,null,null,null,null,null,null,null,null,null,null,null,null,null,null,null,null,null,null,null,null,null,null,null,null,null,null,null,null,null,null,null,null,null,null,null,{"$f":"NU318","v":29.894179894179896},{"$f":"NV318","v":23.400000000000013},"w67"]
[null,null,null,null,null,null,null,null,null,null,null,null,null,null,null,null,null,null,null,null,null,null,null,null,null,null,null,null,null,null,null,null,null,null,null,null,null,null,null,null,null,null,null,null,null,null,null,null,null,null,null,null,null,null,null,null,null,null,null,null,null,null,null,null,null,null,null,null,null,null,null,null,null,null,null,null,null,null,null,null,null,null,null,null,null,null,null,null,null,null,null,null,null,null,null,null,null,null,null,null,null,null,null,null,null,null,null,null,null,null,null,null,null,null,null,null,null,null,null,null,null,null,null,null,null,null,null,null,null,null,null,null,null,null,null,null,null,null,null,null,null,null,null,null,null,null,null,null,null,null,null,null,null,null,null,null,null,null,null,null,null,null,null,null,null,null,null,null,null,null,null,null,null,null,null,null,null,null,null,null,null,null,null,null,null,null,null,null,null,null,null,null,null,null,null,null,null,null,null,null,null,null,null,null,null,null,null,null,null,null,null,null,null,null,null,null,null,null,null,null,null,null,null,null,null,null,null,null,null,null,null,null,null,null,null,null,null,null,null,null,null,null,null,null,null,null,null,null,null,null,null,null,null,null,null,null,null,null,null,null,null,null,null,null,null,null,null,null,null,null,null,null,null,null,null,null,null,null,null,null,null,null,null,null,null,null,null,null,null,null,null,null,null,null,null,null,null,null,null,null,null,null,null,null,null,null,null,null,null,null,null,null,null,null,null,null,null,null,null,null,null,null,null,null,null,null,null,null,null,null,null,null,null,null,null,null,null,null,null,null,null,null,null,null,null,null,null,null,null,null,null,null,null,null,null,null,null,null,null,null,null,null,null,null,null,null,null,null,null,null,null,null,null,null,null,null,null,null,null,null,null,null,null,null,null,null,null,null,null,null,"باکس نوشته جادکمه",null,null,{"$f":"OA896","v":"باکس نوشته جادکمه"}]
[null,null,null,null,null,null,null,null,null,null,null,null,null,null,null,null,null,null,null,null,null,null,null,null,null,null,null,null,null,null,null,null,null,null,null,null,null,null,null,null,null,null,null,null,null,null,null,null,null,null,null,null,null,null,null,null,null,null,null,null,null,null,null,null,null,null,null,null,null,null,null,null,null,null,null,null,null,null,null,null,null,null,null,null,null,null,null,null,null,null,null,null,null,null,null,null,null,null,null,null,null,null,null,null,null,null,null,null,null,null,null,null,null,null,null,null,null,null,null,null,null,null,null,null,null,null,null,null,null,null,null,null,null,null,null,null,null,null,null,null,null,null,null,null,null,null,null,null,null,null,null,null,null,null,null,null,null,null,null,null,null,null,null,null,null,null,null,null,null,null,null,null,null,null,null,null,null,null,null,null,null,null,null,null,null,null,null,null,null,null,null,null,null,null,null,null,null,null,null,null,null,null,null,null,null,null,null,null,null,null,null,null,null,null,null,null,null,null,null,null,null,null,null,null,null,null,null,null,null,null,null,null,null,null,null,null,null,null,null,null,null,null,null,null,null,null,null,null,null,null,null,null,null,null,null,null,null,null,null,null,null,null,null,null,null,null,null,null,null,null,null,null,null,null,null,null,null,null,null,null,null,null,null,null,null,null,null,null,null,null,null,null,null,null,null,null,null,null,null,null,null,null,null,null,null,null,null,null,null,null,null,null,null,null,null,null,null,null,null,null,null,null,null,null,null,null,null,null,null,null,null,null,null,null,null,null,null,null,null,null,null,null,null,null,null,null,null,null,null,null,null,null,null,null,null,null,null,null,null,null,null,null,null,null,null,null,null,null,null,null,null,null,null,null,null,null,null,null,null,null,null,null,null,null,null,null,null,null,"w68",{"$f":"NU319","v":-25},{"$f":"NV319","v":23.400000000000013}]
[null,null,null,null,null,null,null,null,null,null,null,null,null,null,null,null,null,null,null,null,null,null,null,null,null,null,null,null,null,null,null,null,null,null,null,null,null,null,null,null,null,null,null,null,null,null,null,null,null,null,null,null,null,null,null,null,null,null,null,null,null,null,null,null,null,null,null,null,null,null,null,null,null,null,null,null,null,null,null,null,null,null,null,null,null,null,null,null,null,null,null,null,null,null,null,null,null,null,null,null,null,null,null,null,null,null,null,null,null,null,null,null,null,null,null,null,null,null,null,null,null,null,null,null,null,null,null,null,null,null,null,null,null,null,null,null,null,null,null,null,null,null,null,null,null,null,null,null,null,null,null,null,null,null,null,null,null,null,null,null,null,null,null,null,null,null,null,null,null,null,null,null,null,null,null,null,null,null,null,null,null,null,null,null,null,null,null,null,null,null,null,null,null,null,null,null,null,null,null,null,null,null,null,null,null,null,null,null,null,null,null,null,null,null,null,null,null,null,null,null,null,null,null,null,null,null,null,null,null,null,null,null,null,null,null,null,null,null,null,null,null,null,null,null,null,null,null,null,null,null,null,null,null,null,null,null,null,null,null,null,null,null,null,null,null,null,null,null,null,null,null,null,null,null,null,null,null,null,null,null,null,null,null,null,null,null,null,null,null,null,null,null,null,null,null,null,null,null,null,null,null,null,null,null,null,null,null,null,null,null,null,null,null,null,null,null,null,null,null,null,null,null,null,null,null,null,null,null,null,null,null,null,null,null,null,null,null,null,null,null,null,null,null,null,null,null,null,null,null,null,null,null,null,null,null,null,null,null,null,null,null,null,null,null,null,null,null,null,null,null,null,null,null,null,null,null,null,null,null,null,null,null,null,null,null,null,null,null,null,null,null,{"$f":"NZ907","v":-28.637566137566139},{"$f":"OA907","v":23.400000000000013},{"$f":"NY907","v":"h5"}]
[null,null,null,null,null,null,null,null,null,null,null,null,null,null,null,null,null,null,null,null,null,null,null,null,null,null,null,null,null,null,null,null,null,null,null,null,null,null,null,null,null,null,null,null,null,null,null,null,null,null,null,null,null,null,null,null,null,null,null,null,null,null,null,null,null,null,null,null,null,null,null,null,null,null,null,null,null,null,null,null,null,null,null,null,null,null,null,null,null,null,null,null,null,null,null,null,null,null,null,null,null,null,null,null,null,null,null,null,null,null,null,null,null,null,null,null,null,null,null,null,null,null,null,null,null,null,null,null,null,null,null,null,null,null,null,null,null,null,null,null,null,null,null,null,null,null,null,null,null,null,null,null,null,null,null,null,null,null,null,null,null,null,null,null,null,null,null,null,null,null,null,null,null,null,null,null,null,null,null,null,null,null,null,null,null,null,null,null,null,null,null,null,null,null,null,null,null,null,null,null,null,null,null,null,null,null,null,null,null,null,null,null,null,null,null,null,null,null,null,null,null,null,null,null,null,null,null,null,null,null,null,null,null,null,null,null,null,null,null,null,null,null,null,null,null,null,null,null,null,null,null,null,null,null,null,null,null,null,null,null,null,null,null,null,null,null,null,null,null,null,null,null,null,null,null,null,null,null,null,null,null,null,null,null,null,null,null,null,null,null,null,null,null,null,null,null,null,null,null,null,null,null,null,null,null,null,null,null,null,null,null,null,null,null,null,null,null,null,null,null,null,null,null,null,null,null,null,null,null,null,null,null,null,null,null,null,null,null,null,null,null,null,null,null,null,null,null,null,null,null,null,null,null,null,null,null,null,null,null,null,null,null,null,null,null,null,null,null,null,null,null,null,null,null,null,null,null,null,null,null,null,null,null,null,null,null,null,null,"ارتفاع نیم دایره",{"$f":"NV248","v":0.8},"بزرگی فلش",{"$f":"NZ921","v":-32.275132275132279},{"$f":"OA921","v":23.400000000000013},{"$f":"NY921","v":"w70"}]
[null,null,null,null,null,null,null,null,null,null,null,null,null,null,null,null,null,null,null,null,null,null,null,null,null,null,null,null,null,null,null,null,null,null,null,null,null,null,null,null,null,null,null,null,null,null,null,null,null,null,null,null,null,null,null,null,null,null,null,null,null,null,null,null,null,null,null,null,null,null,null,null,null,null,null,null,null,null,null,null,null,null,null,null,null,null,null,null,null,null,null,null,null,null,null,null,null,null,null,null,null,null,null,null,null,null,null,null,null,null,null,null,null,null,null,null,null,null,null,null,null,null,null,null,null,null,null,null,null,null,null,null,null,null,null,null,null,null,null,null,null,null,null,null,null,null,null,null,null,null,null,null,null,null,null,null,null,null,null,null,null,null,null,null,null,null,null,null,null,null,null,null,null,null,null,null,null,null,null,null,null,null,null,null,null,null,null,null,null,null,null,null,null,null,null,null,null,null,null,null,null,null,null,null,null,null,null,null,null,null,null,null,null,null,null,null,null,null,null,null,null,null,null,null,null,null,null,null,null,null,null,null,null,null,null,null,null,null,null,null,null,null,null,null,null,null,null,null,null,null,null,null,null,null,null,null,null,null,null,null,null,null,null,null,null,null,null,null,null,null,null,null,null,null,null,null,null,null,null,null,null,null,null,null,null,null,null,null,null,null,null,null,null,null,null,null,null,null,null,null,null,null,null,null,null,null,null,null,null,null,null,null,null,null,null,null,null,null,null,null,null,null,null,null,null,null,null,null,null,null,null,null,null,null,null,null,null,null,null,null,null,null,null,null,null,null,null,null,null,null,null,null,null,null,null,null,null,null,null,null,null,null,null,null,null,null,null,null,null,null,null,null,null,null,null,null,null,null,null,null,null,null,null,null,null,null,null,null,"g7",{"$f":"NZ924+OA919*SIN(RADIANS(40)-ATAN((NZ924-NZ925)/(OA924-OA925)))","v":-32.462018302236892},{"$f":"OA924-OA919*COS(RADIANS(40)-ATAN((NZ924-NZ925)/(OA924-OA925)))","v":23.689625933495485},{"$f":"NZ924","v":-32.675132275132277},{"$f":"OA924","v":23.800000000000011},{"$f":"NY924","v":"g4"}]
[]
[null,null,null,null,null,null,null,null,null,null,null,null,null,null,null,null,null,null,null,null,null,null,null,null,null,null,null,null,null,null,null,null,null,null,null,null,null,null,null,null,null,null,null,null,null,null,null,null,null,null,null,null,null,null,null,null,null,null,null,null,null,null,null,null,null,null,null,null,null,null,null,null,null,null,null,null,null,null,null,null,null,null,null,null,null,null,null,null,null,null,null,null,null,null,null,null,null,null,null,null,null,null,null,null,null,null,null,null,null,null,null,null,null,null,null,null,null,null,null,null,null,null,null,null,null,null,null,null,null,null,null,null,null,null,null,null,null,null,null,null,null,null,null,null,null,null,null,null,null,null,null,null,null,null,null,null,null,null,null,null,null,null,null,null,null,null,null,null,null,null,null,null,null,null,null,null,null,null,null,null,null,null,null,null,null,null,null,null,null,null,null,null,null,null,null,null,null,null,null,null,null,null,null,null,null,null,null,null,null,null,null,null,null,null,null,null,null,null,null,null,null,null,null,null,null,null,null,null,null,null,null,null,null,null,null,null,null,null,null,null,null,null,null,null,null,null,null,null,null,null,null,null,null,null,null,null,null,null,null,null,null,null,null,null,null,null,null,null,null,null,null,null,null,null,null,null,null,null,null,null,null,null,null,null,null,null,null,null,null,null,null,null,null,null,null,null,null,null,null,null,null,null,null,null,null,null,null,null,null,null,null,null,null,null,null,null,null,null,null,null,null,null,null,null,null,null,null,null,null,null,null,null,null,null,null,null,null,null,null,null,null,null,null,null,null,null,null,null,null,null,null,null,null,null,null,null,null,null,null,null,null,null,null,null,null,null,null,null,null,null,null,null,null,null,null,null,null,null,null,null,null,null,null,null,null,null,null,null,null,null,null,{"$f":"NU322","v":-32.275132275132279},{"$f":"NV322","v":24.200000000000014},"w71"]
[null,null,null,null,null,null,null,null,null,null,null,null,null,null,null,null,null,null,null,null,null,null,null,null,null,null,null,null,null,null,null,null,null,null,null,null,null,null,null,null,null,null,null,null,null,null,null,null,null,null,null,null,null,null,null,null,null,null,null,null,null,null,null,null,null,null,null,null,null,null,null,null,null,null,null,null,null,null,null,null,null,null,null,null,null,null,null,null,null,null,null,null,null,null,null,null,null,null,null,null,null,null,null,null,null,null,null,null,null,null,null,null,null,null,null,null,null,null,null,null,null,null,null,null,null,null,null,null,null,null,null,null,null,null,null,null,null,null,null,null,null,null,null,null,null,null,null,null,null,null,null,null,null,null,null,null,null,null,null,null,null,null,null,null,null,null,null,null,null,null,null,null,null,null,null,null,null,null,null,null,null,null,null,null,null,null,null,null,null,null,null,null,null,null,null,null,null,null,null,null,null,null,null,null,null,null,null,null,null,null,null,null,null,null,null,null,null,null,null,null,null,null,null,null,null,null,null,null,null,null,null,null,null,null,null,null,null,null,null,null,null,null,null,null,null,null,null,null,null,null,null,null,null,null,null,null,null,null,null,null,null,null,null,null,null,null,null,null,null,null,null,null,null,null,null,null,null,null,null,null,null,null,null,null,null,null,null,null,null,null,null,null,null,null,null,null,null,null,null,null,null,null,null,null,null,null,null,null,null,null,null,null,null,null,null,null,null,null,null,null,null,null,null,null,null,null,null,null,null,null,null,null,null,null,null,null,null,null,null,null,null,null,null,null,null,null,null,null,null,null,null,null,null,null,null,null,null,null,null,null,null,null,null,null,null,null,null,null,null,null,null,null,null,null,null,null,null,null,null,null,null,null,null,null,null,null,null,null,null,null,null,{"$f":"NU323","v":-20.238095238095237},{"$f":"NV323","v":24.200000000000014},"w72"]
[null,null,null,null,null,null,null,null,null,null,null,null,null,null,null,null,null,null,null,null,null,null,null,null,null,null,null,null,null,null,null,null,null,null,null,null,null,null,null,null,null,null,null,null,null,null,null,null,null,null,null,null,null,null,null,null,null,null,null,null,null,null,null,null,null,null,null,null,null,null,null,null,null,null,null,null,null,null,null,null,null,null,null,null,null,null,null,null,null,null,null,null,null,null,null,null,null,null,null,null,null,null,null,null,null,null,null,null,null,null,null,null,null,null,null,null,null,null,null,null,null,null,null,null,null,null,null,null,null,null,null,null,null,null,null,null,null,null,null,null,null,null,null,null,null,null,null,null,null,null,null,null,null,null,null,null,null,null,null,null,null,null,null,null,null,null,null,null,null,null,null,null,null,null,null,null,null,null,null,null,null,null,null,null,null,null,null,null,null,null,null,null,null,null,null,null,null,null,null,null,null,null,null,null,null,null,null,null,null,null,null,null,null,null,null,null,null,null,null,null,null,null,null,null,null,null,null,null,null,null,null,null,null,null,null,null,null,null,null,null,null,null,null,null,null,null,null,null,null,null,null,null,null,null,null,null,null,null,null,null,null,null,null,null,null,null,null,null,null,null,null,null,null,null,null,null,null,null,null,null,null,null,null,null,null,null,null,null,null,null,null,null,null,null,null,null,null,null,null,null,null,null,null,null,null,null,null,null,null,null,null,null,null,null,null,null,null,null,null,null,null,null,null,null,null,null,null,null,null,null,null,null,null,null,null,null,null,null,null,null,null,null,null,null,null,null,null,null,null,null,null,null,null,null,null,null,null,null,null,null,null,null,null,null,null,null,null,null,null,null,null,null,null,null,null,null,null,null,null,null,null,null,null,null,null,null,null,null,null,null,"فلش به سمت راست",null,null,{"$f":"OA932","v":"فلش به سمت راست"}]
[null,null,null,null,null,null,null,null,null,null,null,null,null,null,null,null,null,null,null,null,null,null,null,null,null,null,null,null,null,null,null,null,null,null,null,null,null,null,null,null,null,null,null,null,null,null,null,null,null,null,null,null,null,null,null,null,null,null,null,null,null,null,null,null,null,null,null,null,null,null,null,null,null,null,null,null,null,null,null,null,null,null,null,null,null,null,null,null,null,null,null,null,null,null,null,null,null,null,null,null,null,null,null,null,null,null,null,null,null,null,null,null,null,null,null,null,null,null,null,null,null,null,null,null,null,null,null,null,null,null,null,null,null,null,null,null,null,null,null,null,null,null,null,null,null,null,null,null,null,null,null,null,null,null,null,null,null,null,null,null,null,null,null,null,null,null,null,null,null,null,null,null,null,null,null,null,null,null,null,null,null,null,null,null,null,null,null,null,null,null,null,null,null,null,null,null,null,null,null,null,null,null,null,null,null,null,null,null,null,null,null,null,null,null,null,null,null,null,null,null,null,null,null,null,null,null,null,null,null,null,null,null,null,null,null,null,null,null,null,null,null,null,null,null,null,null,null,null,null,null,null,null,null,null,null,null,null,null,null,null,null,null,null,null,null,null,null,null,null,null,null,null,null,null,null,null,null,null,null,null,null,null,null,null,null,null,null,null,null,null,null,null,null,null,null,null,null,null,null,null,null,null,null,null,null,null,null,null,null,null,null,null,null,null,null,null,null,null,null,null,null,null,null,null,null,null,null,null,null,null,null,null,null,null,null,null,null,null,null,null,null,null,null,null,null,null,null,null,null,null,null,null,null,null,null,null,null,null,null,null,null,null,null,null,null,null,null,null,null,null,null,null,null,null,null,null,null,null,null,null,null,null,null,null,null,null,null,null,"بزرگی فلش",{"$f":"NV250","v":0.24000000000000005},{"$f":"NV243","v":0.5},{"$f":"NZ935","v":-20.238095238095237},{"$f":"OA935","v":24.200000000000014},{"$f":"NY935","v":"w72"}]
[null,null,null,null,null,null,null,null,null,null,null,null,null,null,null,null,null,null,null,null,null,null,null,null,null,null,null,null,null,null,null,null,null,null,null,null,null,null,null,null,null,null,null,null,null,null,null,null,null,null,null,null,null,null,null,null,null,null,null,null,null,null,null,null,null,null,null,null,null,null,null,null,null,null,null,null,null,null,null,null,null,null,null,null,null,null,null,null,null,null,null,null,null,null,null,null,null,null,null,null,null,null,null,null,null,null,null,null,null,null,null,null,null,null,null,null,null,null,null,null,null,null,null,null,null,null,null,null,null,null,null,null,null,null,null,null,null,null,null,null,null,null,null,null,null,null,null,null,null,null,null,null,null,null,null,null,null,null,null,null,null,null,null,null,null,null,null,null,null,null,null,null,null,null,null,null,null,null,null,null,null,null,null,null,null,null,null,null,null,null,null,null,null,null,null,null,null,null,null,null,null,null,null,null,null,null,null,null,null,null,null,null,null,null,null,null,null,null,null,null,null,null,null,null,null,null,null,null,null,null,null,null,null,null,null,null,null,null,null,null,null,null,null,null,null,null,null,null,null,null,null,null,null,null,null,null,null,null,null,null,null,null,null,null,null,null,null,null,null,null,null,null,null,null,null,null,null,null,null,null,null,null,null,null,null,null,null,null,null,null,null,null,null,null,null,null,null,null,null,null,null,null,null,null,null,null,null,null,null,null,null,null,null,null,null,null,null,null,null,null,null,null,null,null,null,null,null,null,null,null,null,null,null,null,null,null,null,null,null,null,null,null,null,null,null,null,null,null,null,null,null,null,null,null,null,null,null,null,null,null,null,null,null,null,null,null,null,null,null,null,null,null,null,null,null,null,null,null,null,null,null,null,null,null,null,null,null,null,"نقطه ورودی سر فلش","مولفه افقی","مولفه عمودی",{"$f":"NZ937","v":-20.478095238095236},{"$f":"OA937","v":24.320000000000014},{"$f":"NY937","v":"f3"}]
[null,null,null,null,null,null,null,null,null,null,null,null,null,null,null,null,null,null,null,null,null,null,null,null,null,null,null,null,null,null,null,null,null,null,null,null,null,null,null,null,null,null,null,null,null,null,null,null,null,null,null,null,null,null,null,null,null,null,null,null,null,null,null,null,null,null,null,null,null,null,null,null,null,null,null,null,null,null,null,null,null,null,null,null,null,null,null,null,null,null,null,null,null,null,null,null,null,null,null,null,null,null,null,null,null,null,null,null,null,null,null,null,null,null,null,null,null,null,null,null,null,null,null,null,null,null,null,null,null,null,null,null,null,null,null,null,null,null,null,null,null,null,null,null,null,null,null,null,null,null,null,null,null,null,null,null,null,null,null,null,null,null,null,null,null,null,null,null,null,null,null,null,null,null,null,null,null,null,null,null,null,null,null,null,null,null,null,null,null,null,null,null,null,null,null,null,null,null,null,null,null,null,null,null,null,null,null,null,null,null,null,null,null,null,null,null,null,null,null,null,null,null,null,null,null,null,null,null,null,null,null,null,null,null,null,null,null,null,null,null,null,null,null,null,null,null,null,null,null,null,null,null,null,null,null,null,null,null,null,null,null,null,null,null,null,null,null,null,null,null,null,null,null,null,null,null,null,null,null,null,null,null,null,null,null,null,null,null,null,null,null,null,null,null,null,null,null,null,null,null,null,null,null,null,null,null,null,null,null,null,null,null,null,null,null,null,null,null,null,null,null,null,null,null,null,null,null,null,null,null,null,null,null,null,null,null,null,null,null,null,null,null,null,null,null,null,null,null,null,null,null,null,null,null,null,null,null,null,null,null,null,null,null,null,null,null,null,null,null,null,null,null,null,null,null,null,null,null,null,null,null,null,null,null,null,null,null,null,"w72",{"$f":"NU323","v":-20.238095238095237},{"$f":"NV323","v":24.200000000000014}]
[null,null,null,null,null,null,null,null,null,null,null,null,null,null,null,null,null,null,null,null,null,null,null,null,null,null,null,null,null,null,null,null,null,null,null,null,null,null,null,null,null,null,null,null,null,null,null,null,null,null,null,null,null,null,null,null,null,null,null,null,null,null,null,null,null,null,null,null,null,null,null,null,null,null,null,null,null,null,null,null,null,null,null,null,null,null,null,null,null,null,null,null,null,null,null,null,null,null,null,null,null,null,null,null,null,null,null,null,null,null,null,null,null,null,null,null,null,null,null,null,null,null,null,null,null,null,null,null,null,null,null,null,null,null,null,null,null,null,null,null,null,null,null,null,null,null,null,null,null,null,null,null,null,null,null,null,null,null,null,null,null,null,null,null,null,null,null,null,null,null,null,null,null,null,null,null,null,null,null,null,null,null,null,null,null,null,null,null,null,null,null,null,null,null,null,null,null,null,null,null,null,null,null,null,null,null,null,null,null,null,null,null,null,null,null,null,null,null,null,null,null,null,null,null,null,null,null,null,null,null,null,null,null,null,null,null,null,null,null,null,null,null,null,null,null,null,null,null,null,null,null,null,null,null,null,null,null,null,null,null,null,null,null,null,null,null,null,null,null,null,null,null,null,null,null,null,null,null,null,null,null,null,null,null,null,null,null,null,null,null,null,null,null,null,null,null,null,null,null,null,null,null,null,null,null,null,null,null,null,null,null,null,null,null,null,null,null,null,null,null,null,null,null,null,null,null,null,null,null,null,null,null,null,null,null,null,null,null,null,null,null,null,null,null,null,null,null,null,null,null,null,null,null,null,null,null,null,null,null,null,null,null,null,null,null,null,null,null,null,null,null,null,null,null,null,null,null,null,null,null,null,null,null,null,null,null,null,null,"f2",{"$f":"NZ935-1*NZ933","v":-20.478095238095236},{"$f":"OA935-OA933*NZ933","v":24.080000000000013},{"$f":"NZ935","v":-20.238095238095237},{"$f":"OA935","v":24.200000000000014},{"$f":"NY935","v":"w72"}]
[null,null,null,null,null,null,null,null,null,null,null,null,null,null,null,null,null,null,null,null,null,null,null,null,null,null,null,null,null,null,null,null,null,null,null,null,null,null,null,null,null,null,null,null,null,null,null,null,null,null,null,null,null,null,null,null,null,null,null,null,null,null,null,null,null,null,null,null,null,null,null,null,null,null,null,null,null,null,null,null,null,null,null,null,null,null,null,null,null,null,null,null,null,null,null,null,null,null,null,null,null,null,null,null,null,null,null,null,null,null,null,null,null,null,null,null,null,null,null,null,null,null,null,null,null,null,null,null,null,null,null,null,null,null,null,null,null,null,null,null,null,null,null,null,null,null,null,null,null,null,null,null,null,null,null,null,null,null,null,null,null,null,null,null,null,null,null,null,null,null,null,null,null,null,null,null,null,null,null,null,null,null,null,null,null,null,null,null,null,null,null,null,null,null,null,null,null,null,null,null,null,null,null,null,null,null,null,null,null,null,null,null,null,null,null,null,null,null,null,null,null,null,null,null,null,null,null,null,null,null,null,null,null,null,null,null,null,null,null,null,null,null,null,null,null,null,null,null,null,null,null,null,null,null,null,null,null,null,null,null,null,null,null,null,null,null,null,null,null,null,null,null,null,null,null,null,null,null,null,null,null,null,null,null,null,null,null,null,null,null,null,null,null,null,null,null,null,null,null,null,null,null,null,null,null,null,null,null,null,null,null,null,null,null,null,null,null,null,null,null,null,null,null,null,null,null,null,null,null,null,null,null,null,null,null,null,null,null,null,null,null,null,null,null,null,null,null,null,null,null,null,null,null,null,null,null,null,null,null,null,null,null,null,null,null,null,null,null,null,null,null,null,null,null,null,null,null,null,null,null,null,null,null,null,null,null,null,null,"f3",{"$f":"NZ936","v":-20.478095238095236},{"$f":"OA935+OA933*NZ933","v":24.320000000000014},{"$f":"NZ936","v":-20.478095238095236},{"$f":"OA936","v":24.080000000000013},{"$f":"NY936","v":"f2"}]
[]
[null,null,null,null,null,null,null,null,null,null,null,null,null,null,null,null,null,null,null,null,null,null,null,null,null,null,null,null,null,null,null,null,null,null,null,null,null,null,null,null,null,null,null,null,null,null,null,null,null,null,null,null,null,null,null,null,null,null,null,null,null,null,null,null,null,null,null,null,null,null,null,null,null,null,null,null,null,null,null,null,null,null,null,null,null,null,null,null,null,null,null,null,null,null,null,null,null,null,null,null,null,null,null,null,null,null,null,null,null,null,null,null,null,null,null,null,null,null,null,null,null,null,null,null,null,null,null,null,null,null,null,null,null,null,null,null,null,null,null,null,null,null,null,null,null,null,null,null,null,null,null,null,null,null,null,null,null,null,null,null,null,null,null,null,null,null,null,null,null,null,null,null,null,null,null,null,null,null,null,null,null,null,null,null,null,null,null,null,null,null,null,null,null,null,null,null,null,null,null,null,null,null,null,null,null,null,null,null,null,null,null,null,null,null,null,null,null,null,null,null,null,null,null,null,null,null,null,null,null,null,null,null,null,null,null,null,null,null,null,null,null,null,null,null,null,null,null,null,null,null,null,null,null,null,null,null,null,null,null,null,null,null,null,null,null,null,null,null,null,null,null,null,null,null,null,null,null,null,null,null,null,null,null,null,null,null,null,null,null,null,null,null,null,null,null,null,null,null,null,null,null,null,null,null,null,null,null,null,null,null,null,null,null,null,null,null,null,null,null,null,null,null,null,null,null,null,null,null,null,null,null,null,null,null,null,null,null,null,null,null,null,null,null,null,null,null,null,null,null,null,null,null,null,null,null,null,null,null,null,null,null,null,null,null,null,null,null,null,null,null,null,null,null,null,null,null,null,null,null,null,null,null,null,null,null,null,null,null,null,null,null,{"$f":"NU324","v":-25},{"$f":"NV324","v":24.200000000000014},"w73"]
[null,null,null,null,null,null,null,null,null,null,null,null,null,null,null,null,null,null,null,null,null,null,null,null,null,null,null,null,null,null,null,null,null,null,null,null,null,null,null,null,null,null,null,null,null,null,null,null,null,null,null,null,null,null,null,null,null,null,null,null,null,null,null,null,null,null,null,null,null,null,null,null,null,null,null,null,null,null,null,null,null,null,null,null,null,null,null,null,null,null,null,null,null,null,null,null,null,null,null,null,null,null,null,null,null,null,null,null,null,null,null,null,null,null,null,null,null,null,null,null,null,null,null,null,null,null,null,null,null,null,null,null,null,null,null,null,null,null,null,null,null,null,null,null,null,null,null,null,null,null,null,null,null,null,null,null,null,null,null,null,null,null,null,null,null,null,null,null,null,null,null,null,null,null,null,null,null,null,null,null,null,null,null,null,null,null,null,null,null,null,null,null,null,null,null,null,null,null,null,null,null,null,null,null,null,null,null,null,null,null,null,null,null,null,null,null,null,null,null,null,null,null,null,null,null,null,null,null,null,null,null,null,null,null,null,null,null,null,null,null,null,null,null,null,null,null,null,null,null,null,null,null,null,null,null,null,null,null,null,null,null,null,null,null,null,null,null,null,null,null,null,null,null,null,null,null,null,null,null,null,null,null,null,null,null,null,null,null,null,null,null,null,null,null,null,null,null,null,null,null,null,null,null,null,null,null,null,null,null,null,null,null,null,null,null,null,null,null,null,null,null,null,null,null,null,null,null,null,null,null,null,null,null,null,null,null,null,null,null,null,null,null,null,null,null,null,null,null,null,null,null,null,null,null,null,null,null,null,null,null,null,null,null,null,null,null,null,null,null,null,null,null,null,null,null,null,null,null,null,null,null,null,null,null,null,null,null,null,null,null,"باکس نوشته آخر",null,null,{"$f":"OA940","v":"باکس نوشته آخر"}]
[null,null,null,null,null,null,null,null,null,null,null,null,null,null,null,null,null,null,null,null,null,null,null,null,null,null,null,null,null,null,null,null,null,null,null,null,null,null,null,null,null,null,null,null,null,null,null,null,null,null,null,null,null,null,null,null,null,null,null,null,null,null,null,null,null,null,null,null,null,null,null,null,null,null,null,null,null,null,null,null,null,null,null,null,null,null,null,null,null,null,null,null,null,null,null,null,null,null,null,null,null,null,null,null,null,null,null,null,null,null,null,null,null,null,null,null,null,null,null,null,null,null,null,null,null,null,null,null,null,null,null,null,null,null,null,null,null,null,null,null,null,null,null,null,null,null,null,null,null,null,null,null,null,null,null,null,null,null,null,null,null,null,null,null,null,null,null,null,null,null,null,null,null,null,null,null,null,null,null,null,null,null,null,null,null,null,null,null,null,null,null,null,null,null,null,null,null,null,null,null,null,null,null,null,null,null,null,null,null,null,null,null,null,null,null,null,null,null,null,null,null,null,null,null,null,null,null,null,null,null,null,null,null,null,null,null,null,null,null,null,null,null,null,null,null,null,null,null,null,null,null,null,null,null,null,null,null,null,null,null,null,null,null,null,null,null,null,null,null,null,null,null,null,null,null,null,null,null,null,null,null,null,null,null,null,null,null,null,null,null,null,null,null,null,null,null,null,null,null,null,null,null,null,null,null,null,null,null,null,null,null,null,null,null,null,null,null,null,null,null,null,null,null,null,null,null,null,null,null,null,null,null,null,null,null,null,null,null,null,null,null,null,null,null,null,null,null,null,null,null,null,null,null,null,null,null,null,null,null,null,null,null,null,null,null,null,null,null,null,null,null,null,null,null,null,null,null,null,null,null,null,null,null,null,null,null,null,null,null,"متغیرهای ورودی",null,{"$f":"NZ947","v":-25},{"$f":"OA947","v":24.200000000000014},{"$f":"NY947","v":"w73"}]
[null,null,null,null,null,null,null,null,null,null,null,null,null,null,null,null,null,null,null,null,null,null,null,null,null,null,null,null,null,null,null,null,null,null,null,null,null,null,null,null,null,null,null,null,null,null,null,null,null,null,null,null,null,null,null,null,null,null,null,null,null,null,null,null,null,null,null,null,null,null,null,null,null,null,null,null,null,null,null,null,null,null,null,null,null,null,null,null,null,null,null,null,null,null,null,null,null,null,null,null,null,null,null,null,null,null,null,null,null,null,null,null,null,null,null,null,null,null,null,null,null,null,null,null,null,null,null,null,null,null,null,null,null,null,null,null,null,null,null,null,null,null,null,null,null,null,null,null,null,null,null,null,null,null,null,null,null,null,null,null,null,null,null,null,null,null,null,null,null,null,null,null,null,null,null,null,null,null,null,null,null,null,null,null,null,null,null,null,null,null,null,null,null,null,null,null,null,null,null,null,null,null,null,null,null,null,null,null,null,null,null,null,null,null,null,null,null,null,null,null,null,null,null,null,null,null,null,null,null,null,null,null,null,null,null,null,null,null,null,null,null,null,null,null,null,null,null,null,null,null,null,null,null,null,null,null,null,null,null,null,null,null,null,null,null,null,null,null,null,null,null,null,null,null,null,null,null,null,null,null,null,null,null,null,null,null,null,null,null,null,null,null,null,null,null,null,null,null,null,null,null,null,null,null,null,null,null,null,null,null,null,null,null,null,null,null,null,null,null,null,null,null,null,null,null,null,null,null,null,null,null,null,null,null,null,null,null,null,null,null,null,null,null,null,null,null,null,null,null,null,null,null,null,null,null,null,null,null,null,null,null,null,null,null,null,null,null,null,null,null,null,null,null,null,null,null,null,null,null,null,null,null,null,null,null,null,null,null,"طول باکس نوشته",{"$f":"2.1*NV240","v":9.4500000000000011},"h3",{"$f":"NZ952","v":-5.9154761904761903},{"$f":"OA952","v":24.200000000000014},{"$f":"NY952","v":"h8"}]
[null,null,null,null,null,null,null,null,null,null,null,null,null,null,null,null,null,null,null,null,null,null,null,null,null,null,null,null,null,null,null,null,null,null,null,null,null,null,null,null,null,null,null,null,null,null,null,null,null,null,null,null,null,null,null,null,null,null,null,null,null,null,null,null,null,null,null,null,null,null,null,null,null,null,null,null,null,null,null,null,null,null,null,null,null,null,null,null,null,null,null,null,null,null,null,null,null,null,null,null,null,null,null,null,null,null,null,null,null,null,null,null,null,null,null,null,null,null,null,null,null,null,null,null,null,null,null,null,null,null,null,null,null,null,null,null,null,null,null,null,null,null,null,null,null,null,null,null,null,null,null,null,null,null,null,null,null,null,null,null,null,null,null,null,null,null,null,null,null,null,null,null,null,null,null,null,null,null,null,null,null,null,null,null,null,null,null,null,null,null,null,null,null,null,null,null,null,null,null,null,null,null,null,null,null,null,null,null,null,null,null,null,null,null,null,null,null,null,null,null,null,null,null,null,null,null,null,null,null,null,null,null,null,null,null,null,null,null,null,null,null,null,null,null,null,null,null,null,null,null,null,null,null,null,null,null,null,null,null,null,null,null,null,null,null,null,null,null,null,null,null,null,null,null,null,null,null,null,null,null,null,null,null,null,null,null,null,null,null,null,null,null,null,null,null,null,null,null,null,null,null,null,null,null,null,null,null,null,null,null,null,null,null,null,null,null,null,null,null,null,null,null,null,null,null,null,null,null,null,null,null,null,null,null,null,null,null,null,null,null,null,null,null,null,null,null,null,null,null,null,null,null,null,null,null,null,null,null,null,null,null,null,null,null,null,null,null,null,null,null,null,null,null,null,null,null,null,null,null,null,null,null,null,null,null,null,null,null,"پهنای باکس نوشته",{"$f":"NV241","v":0.60000000000000009},"h4"]
[null,null,null,null,null,null,null,null,null,null,null,null,null,null,null,null,null,null,null,null,null,null,null,null,null,null,null,null,null,null,null,null,null,null,null,null,null,null,null,null,null,null,null,null,null,null,null,null,null,null,null,null,null,null,null,null,null,null,null,null,null,null,null,null,null,null,null,null,null,null,null,null,null,null,null,null,null,null,null,null,null,null,null,null,null,null,null,null,null,null,null,null,null,null,null,null,null,null,null,null,null,null,null,null,null,null,null,null,null,null,null,null,null,null,null,null,null,null,null,null,null,null,null,null,null,null,null,null,null,null,null,null,null,null,null,null,null,null,null,null,null,null,null,null,null,null,null,null,null,null,null,null,null,null,null,null,null,null,null,null,null,null,null,null,null,null,null,null,null,null,null,null,null,null,null,null,null,null,null,null,null,null,null,null,null,null,null,null,null,null,null,null,null,null,null,null,null,null,null,null,null,null,null,null,null,null,null,null,null,null,null,null,null,null,null,null,null,null,null,null,null,null,null,null,null,null,null,null,null,null,null,null,null,null,null,null,null,null,null,null,null,null,null,null,null,null,null,null,null,null,null,null,null,null,null,null,null,null,null,null,null,null,null,null,null,null,null,null,null,null,null,null,null,null,null,null,null,null,null,null,null,null,null,null,null,null,null,null,null,null,null,null,null,null,null,null,null,null,null,null,null,null,null,null,null,null,null,null,null,null,null,null,null,null,null,null,null,null,null,null,null,null,null,null,null,null,null,null,null,null,null,null,null,null,null,null,null,null,null,null,null,null,null,null,null,null,null,null,null,null,null,null,null,null,null,null,null,null,null,null,null,null,null,null,null,null,null,null,null,null,null,null,null,null,null,null,null,null,null,null,null,null,null,null,null,null,null,null,null,null,null,{"$f":"NZ954","v":-5.9154761904761903},{"$f":"OA954","v":24.500000000000014},{"$f":"NY954","v":"h10"}]
[null,null,null,null,null,null,null,null,null,null,null,null,null,null,null,null,null,null,null,null,null,null,null,null,null,null,null,null,null,null,null,null,null,null,null,null,null,null,null,null,null,null,null,null,null,null,null,null,null,null,null,null,null,null,null,null,null,null,null,null,null,null,null,null,null,null,null,null,null,null,null,null,null,null,null,null,null,null,null,null,null,null,null,null,null,null,null,null,null,null,null,null,null,null,null,null,null,null,null,null,null,null,null,null,null,null,null,null,null,null,null,null,null,null,null,null,null,null,null,null,null,null,null,null,null,null,null,null,null,null,null,null,null,null,null,null,null,null,null,null,null,null,null,null,null,null,null,null,null,null,null,null,null,null,null,null,null,null,null,null,null,null,null,null,null,null,null,null,null,null,null,null,null,null,null,null,null,null,null,null,null,null,null,null,null,null,null,null,null,null,null,null,null,null,null,null,null,null,null,null,null,null,null,null,null,null,null,null,null,null,null,null,null,null,null,null,null,null,null,null,null,null,null,null,null,null,null,null,null,null,null,null,null,null,null,null,null,null,null,null,null,null,null,null,null,null,null,null,null,null,null,null,null,null,null,null,null,null,null,null,null,null,null,null,null,null,null,null,null,null,null,null,null,null,null,null,null,null,null,null,null,null,null,null,null,null,null,null,null,null,null,null,null,null,null,null,null,null,null,null,null,null,null,null,null,null,null,null,null,null,null,null,null,null,null,null,null,null,null,null,null,null,null,null,null,null,null,null,null,null,null,null,null,null,null,null,null,null,null,null,null,null,null,null,null,null,null,null,null,null,null,null,null,null,null,null,null,null,null,null,null,null,null,null,null,null,null,null,null,null,null,null,null,null,null,null,null,null,null,null,null,null,null,null,null,null,null,null,null,null,null,{"$f":"NZ955","v":-5.9154761904761903},{"$f":"OA955","v":23.900000000000013},{"$f":"NY955","v":"h11"}]
[null,null,null,null,null,null,null,null,null,null,null,null,null,null,null,null,null,null,null,null,null,null,null,null,null,null,null,null,null,null,null,null,null,null,null,null,null,null,null,null,null,null,null,null,null,null,null,null,null,null,null,null,null,null,null,null,null,null,null,null,null,null,null,null,null,null,null,null,null,null,null,null,null,null,null,null,null,null,null,null,null,null,null,null,null,null,null,null,null,null,null,null,null,null,null,null,null,null,null,null,null,null,null,null,null,null,null,null,null,null,null,null,null,null,null,null,null,null,null,null,null,null,null,null,null,null,null,null,null,null,null,null,null,null,null,null,null,null,null,null,null,null,null,null,null,null,null,null,null,null,null,null,null,null,null,null,null,null,null,null,null,null,null,null,null,null,null,null,null,null,null,null,null,null,null,null,null,null,null,null,null,null,null,null,null,null,null,null,null,null,null,null,null,null,null,null,null,null,null,null,null,null,null,null,null,null,null,null,null,null,null,null,null,null,null,null,null,null,null,null,null,null,null,null,null,null,null,null,null,null,null,null,null,null,null,null,null,null,null,null,null,null,null,null,null,null,null,null,null,null,null,null,null,null,null,null,null,null,null,null,null,null,null,null,null,null,null,null,null,null,null,null,null,null,null,null,null,null,null,null,null,null,null,null,null,null,null,null,null,null,null,null,null,null,null,null,null,null,null,null,null,null,null,null,null,null,null,null,null,null,null,null,null,null,null,null,null,null,null,null,null,null,null,null,null,null,null,null,null,null,null,null,null,null,null,null,null,null,null,null,null,null,null,null,null,null,null,null,null,null,null,null,null,null,null,null,null,null,null,null,null,null,null,null,null,null,null,null,null,null,null,null,null,null,null,null,null,null,null,null,null,null,null,null,null,null,null,null,"نقطه شروع رج(چپ)","مولفه افقی","مولفه عمودی"]
[null,null,null,null,null,null,null,null,null,null,null,null,null,null,null,null,null,null,null,null,null,null,null,null,null,null,null,null,null,null,null,null,null,null,null,null,null,null,null,null,null,null,null,null,null,null,null,null,null,null,null,null,null,null,null,null,null,null,null,null,null,null,null,null,null,null,null,null,null,null,null,null,null,null,null,null,null,null,null,null,null,null,null,null,null,null,null,null,null,null,null,null,null,null,null,null,null,null,null,null,null,null,null,null,null,null,null,null,null,null,null,null,null,null,null,null,null,null,null,null,null,null,null,null,null,null,null,null,null,null,null,null,null,null,null,null,null,null,null,null,null,null,null,null,null,null,null,null,null,null,null,null,null,null,null,null,null,null,null,null,null,null,null,null,null,null,null,null,null,null,null,null,null,null,null,null,null,null,null,null,null,null,null,null,null,null,null,null,null,null,null,null,null,null,null,null,null,null,null,null,null,null,null,null,null,null,null,null,null,null,null,null,null,null,null,null,null,null,null,null,null,null,null,null,null,null,null,null,null,null,null,null,null,null,null,null,null,null,null,null,null,null,null,null,null,null,null,null,null,null,null,null,null,null,null,null,null,null,null,null,null,null,null,null,null,null,null,null,null,null,null,null,null,null,null,null,null,null,null,null,null,null,null,null,null,null,null,null,null,null,null,null,null,null,null,null,null,null,null,null,null,null,null,null,null,null,null,null,null,null,null,null,null,null,null,null,null,null,null,null,null,null,null,null,null,null,null,null,null,null,null,null,null,null,null,null,null,null,null,null,null,null,null,null,null,null,null,null,null,null,null,null,null,null,null,null,null,null,null,null,null,null,null,null,null,null,null,null,null,null,null,null,null,null,null,null,null,null,null,null,null,null,null,null,null,null,null,null,"w73",{"$f":"NU324","v":-25},{"$f":"NV324","v":24.200000000000014},{"$f":"NZ954","v":-5.9154761904761903},{"$f":"OA954","v":24.500000000000014},{"$f":"NY954","v":"h10"}]
[null,null,null,null,null,null,null,null,null,null,null,null,null,null,null,null,null,null,null,null,null,null,null,null,null,null,null,null,null,null,null,null,null,null,null,null,null,null,null,null,null,null,null,null,null,null,null,null,null,null,null,null,null,null,null,null,null,null,null,null,null,null,null,null,null,null,null,null,null,null,null,null,null,null,null,null,null,null,null,null,null,null,null,null,null,null,null,null,null,null,null,null,null,null,null,null,null,null,null,null,null,null,null,null,null,null,null,null,null,null,null,null,null,null,null,null,null,null,null,null,null,null,null,null,null,null,null,null,null,null,null,null,null,null,null,null,null,null,null,null,null,null,null,null,null,null,null,null,null,null,null,null,null,null,null,null,null,null,null,null,null,null,null,null,null,null,null,null,null,null,null,null,null,null,null,null,null,null,null,null,null,null,null,null,null,null,null,null,null,null,null,null,null,null,null,null,null,null,null,null,null,null,null,null,null,null,null,null,null,null,null,null,null,null,null,null,null,null,null,null,null,null,null,null,null,null,null,null,null,null,null,null,null,null,null,null,null,null,null,null,null,null,null,null,null,null,null,null,null,null,null,null,null,null,null,null,null,null,null,null,null,null,null,null,null,null,null,null,null,null,null,null,null,null,null,null,null,null,null,null,null,null,null,null,null,null,null,null,null,null,null,null,null,null,null,null,null,null,null,null,null,null,null,null,null,null,null,null,null,null,null,null,null,null,null,null,null,null,null,null,null,null,null,null,null,null,null,null,null,null,null,null,null,null,null,null,null,null,null,null,null,null,null,null,null,null,null,null,null,null,null,null,null,null,null,null,null,null,null,null,null,null,null,null,null,null,null,null,null,null,null,null,null,null,null,null,null,null,null,null,null,null,null,null,null,null,null,null,"نقطه پایان رج(راست)","مولفه افقی","مولفه عمودی",{"$f":"NZ957","v":3.5345238095238107},{"$f":"OA957","v":24.500000000000014},{"$f":"NY957","v":"h13"}]
[null,null,null,null,null,null,null,null,null,null,null,null,null,null,null,null,null,null,null,null,null,null,null,null,null,null,null,null,null,null,null,null,null,null,null,null,null,null,null,null,null,null,null,null,null,null,null,null,null,null,null,null,null,null,null,null,null,null,null,null,null,null,null,null,null,null,null,null,null,null,null,null,null,null,null,null,null,null,null,null,null,null,null,null,null,null,null,null,null,null,null,null,null,null,null,null,null,null,null,null,null,null,null,null,null,null,null,null,null,null,null,null,null,null,null,null,null,null,null,null,null,null,null,null,null,null,null,null,null,null,null,null,null,null,null,null,null,null,null,null,null,null,null,null,null,null,null,null,null,null,null,null,null,null,null,null,null,null,null,null,null,null,null,null,null,null,null,null,null,null,null,null,null,null,null,null,null,null,null,null,null,null,null,null,null,null,null,null,null,null,null,null,null,null,null,null,null,null,null,null,null,null,null,null,null,null,null,null,null,null,null,null,null,null,null,null,null,null,null,null,null,null,null,null,null,null,null,null,null,null,null,null,null,null,null,null,null,null,null,null,null,null,null,null,null,null,null,null,null,null,null,null,null,null,null,null,null,null,null,null,null,null,null,null,null,null,null,null,null,null,null,null,null,null,null,null,null,null,null,null,null,null,null,null,null,null,null,null,null,null,null,null,null,null,null,null,null,null,null,null,null,null,null,null,null,null,null,null,null,null,null,null,null,null,null,null,null,null,null,null,null,null,null,null,null,null,null,null,null,null,null,null,null,null,null,null,null,null,null,null,null,null,null,null,null,null,null,null,null,null,null,null,null,null,null,null,null,null,null,null,null,null,null,null,null,null,null,null,null,null,null,null,null,null,null,null,null,null,null,null,null,null,null,null,null,null,null,null,"w74",{"$f":"NU325","v":22.61904761904762},{"$f":"NV325","v":24.200000000000014}]
[null,null,null,null,null,null,null,null,null,null,null,null,null,null,null,null,null,null,null,null,null,null,null,null,null,null,null,null,null,null,null,null,null,null,null,null,null,null,null,null,null,null,null,null,null,null,null,null,null,null,null,null,null,null,null,null,null,null,null,null,null,null,null,null,null,null,null,null,null,null,null,null,null,null,null,null,null,null,null,null,null,null,null,null,null,null,null,null,null,null,null,null,null,null,null,null,null,null,null,null,null,null,null,null,null,null,null,null,null,null,null,null,null,null,null,null,null,null,null,null,null,null,null,null,null,null,null,null,null,null,null,null,null,null,null,null,null,null,null,null,null,null,null,null,null,null,null,null,null,null,null,null,null,null,null,null,null,null,null,null,null,null,null,null,null,null,null,null,null,null,null,null,null,null,null,null,null,null,null,null,null,null,null,null,null,null,null,null,null,null,null,null,null,null,null,null,null,null,null,null,null,null,null,null,null,null,null,null,null,null,null,null,null,null,null,null,null,null,null,null,null,null,null,null,null,null,null,null,null,null,null,null,null,null,null,null,null,null,null,null,null,null,null,null,null,null,null,null,null,null,null,null,null,null,null,null,null,null,null,null,null,null,null,null,null,null,null,null,null,null,null,null,null,null,null,null,null,null,null,null,null,null,null,null,null,null,null,null,null,null,null,null,null,null,null,null,null,null,null,null,null,null,null,null,null,null,null,null,null,null,null,null,null,null,null,null,null,null,null,null,null,null,null,null,null,null,null,null,null,null,null,null,null,null,null,null,null,null,null,null,null,null,null,null,null,null,null,null,null,null,null,null,null,null,null,null,null,null,null,null,null,null,null,null,null,null,null,null,null,null,null,null,null,null,null,null,null,null,null,null,null,null,null,null,null,null,null,null,"نقاط خروجی","مولفه افقی","مولفه عمودی",{"$f":"NZ955","v":-5.9154761904761903},{"$f":"OA955","v":23.900000000000013},{"$f":"NY955","v":"h11"}]
[null,null,null,null,null,null,null,null,null,null,null,null,null,null,null,null,null,null,null,null,null,null,null,null,null,null,null,null,null,null,null,null,null,null,null,null,null,null,null,null,null,null,null,null,null,null,null,null,null,null,null,null,null,null,null,null,null,null,null,null,null,null,null,null,null,null,null,null,null,null,null,null,null,null,null,null,null,null,null,null,null,null,null,null,null,null,null,null,null,null,null,null,null,null,null,null,null,null,null,null,null,null,null,null,null,null,null,null,null,null,null,null,null,null,null,null,null,null,null,null,null,null,null,null,null,null,null,null,null,null,null,null,null,null,null,null,null,null,null,null,null,null,null,null,null,null,null,null,null,null,null,null,null,null,null,null,null,null,null,null,null,null,null,null,null,null,null,null,null,null,null,null,null,null,null,null,null,null,null,null,null,null,null,null,null,null,null,null,null,null,null,null,null,null,null,null,null,null,null,null,null,null,null,null,null,null,null,null,null,null,null,null,null,null,null,null,null,null,null,null,null,null,null,null,null,null,null,null,null,null,null,null,null,null,null,null,null,null,null,null,null,null,null,null,null,null,null,null,null,null,null,null,null,null,null,null,null,null,null,null,null,null,null,null,null,null,null,null,null,null,null,null,null,null,null,null,null,null,null,null,null,null,null,null,null,null,null,null,null,null,null,null,null,null,null,null,null,null,null,null,null,null,null,null,null,null,null,null,null,null,null,null,null,null,null,null,null,null,null,null,null,null,null,null,null,null,null,null,null,null,null,null,null,null,null,null,null,null,null,null,null,null,null,null,null,null,null,null,null,null,null,null,null,null,null,null,null,null,null,null,null,null,null,null,null,null,null,null,null,null,null,null,null,null,null,null,null,null,null,null,null,null,null,null,null,null,null,null,"h5",{"$f":"NZ947+0.5*(NZ949-NZ947)","v":-1.1904761904761898},{"$f":"OA947","v":24.200000000000014},{"$f":"NZ956","v":3.5345238095238107},{"$f":"OA956","v":23.900000000000013},{"$f":"NY956","v":"h12"}]
[null,null,null,null,null,null,null,null,null,null,null,null,null,null,null,null,null,null,null,null,null,null,null,null,null,null,null,null,null,null,null,null,null,null,null,null,null,null,null,null,null,null,null,null,null,null,null,null,null,null,null,null,null,null,null,null,null,null,null,null,null,null,null,null,null,null,null,null,null,null,null,null,null,null,null,null,null,null,null,null,null,null,null,null,null,null,null,null,null,null,null,null,null,null,null,null,null,null,null,null,null,null,null,null,null,null,null,null,null,null,null,null,null,null,null,null,null,null,null,null,null,null,null,null,null,null,null,null,null,null,null,null,null,null,null,null,null,null,null,null,null,null,null,null,null,null,null,null,null,null,null,null,null,null,null,null,null,null,null,null,null,null,null,null,null,null,null,null,null,null,null,null,null,null,null,null,null,null,null,null,null,null,null,null,null,null,null,null,null,null,null,null,null,null,null,null,null,null,null,null,null,null,null,null,null,null,null,null,null,null,null,null,null,null,null,null,null,null,null,null,null,null,null,null,null,null,null,null,null,null,null,null,null,null,null,null,null,null,null,null,null,null,null,null,null,null,null,null,null,null,null,null,null,null,null,null,null,null,null,null,null,null,null,null,null,null,null,null,null,null,null,null,null,null,null,null,null,null,null,null,null,null,null,null,null,null,null,null,null,null,null,null,null,null,null,null,null,null,null,null,null,null,null,null,null,null,null,null,null,null,null,null,null,null,null,null,null,null,null,null,null,null,null,null,null,null,null,null,null,null,null,null,null,null,null,null,null,null,null,null,null,null,null,null,null,null,null,null,null,null,null,null,null,null,null,null,null,null,null,null,null,null,null,null,null,null,null,null,null,null,null,null,null,null,null,null,null,null,null,null,null,null,null,null,null,null,null,null,"h8",{"$f":"NZ951-0.5*NZ942","v":-5.9154761904761903},{"$f":"OA947","v":24.200000000000014}]
[null,null,null,null,null,null,null,null,null,null,null,null,null,null,null,null,null,null,null,null,null,null,null,null,null,null,null,null,null,null,null,null,null,null,null,null,null,null,null,null,null,null,null,null,null,null,null,null,null,null,null,null,null,null,null,null,null,null,null,null,null,null,null,null,null,null,null,null,null,null,null,null,null,null,null,null,null,null,null,null,null,null,null,null,null,null,null,null,null,null,null,null,null,null,null,null,null,null,null,null,null,null,null,null,null,null,null,null,null,null,null,null,null,null,null,null,null,null,null,null,null,null,null,null,null,null,null,null,null,null,null,null,null,null,null,null,null,null,null,null,null,null,null,null,null,null,null,null,null,null,null,null,null,null,null,null,null,null,null,null,null,null,null,null,null,null,null,null,null,null,null,null,null,null,null,null,null,null,null,null,null,null,null,null,null,null,null,null,null,null,null,null,null,null,null,null,null,null,null,null,null,null,null,null,null,null,null,null,null,null,null,null,null,null,null,null,null,null,null,null,null,null,null,null,null,null,null,null,null,null,null,null,null,null,null,null,null,null,null,null,null,null,null,null,null,null,null,null,null,null,null,null,null,null,null,null,null,null,null,null,null,null,null,null,null,null,null,null,null,null,null,null,null,null,null,null,null,null,null,null,null,null,null,null,null,null,null,null,null,null,null,null,null,null,null,null,null,null,null,null,null,null,null,null,null,null,null,null,null,null,null,null,null,null,null,null,null,null,null,null,null,null,null,null,null,null,null,null,null,null,null,null,null,null,null,null,null,null,null,null,null,null,null,null,null,null,null,null,null,null,null,null,null,null,null,null,null,null,null,null,null,null,null,null,null,null,null,null,null,null,null,null,null,null,null,null,null,null,null,null,null,null,null,null,null,null,null,null,"h9",{"$f":"NZ951+0.5*NZ942","v":3.5345238095238107},{"$f":"OA947","v":24.200000000000014},{"$f":"NZ956","v":3.5345238095238107},{"$f":"OA956","v":23.900000000000013},{"$f":"NY956","v":"h12"}]
[null,null,null,null,null,null,null,null,null,null,null,null,null,null,null,null,null,null,null,null,null,null,null,null,null,null,null,null,null,null,null,null,null,null,null,null,null,null,null,null,null,null,null,null,null,null,null,null,null,null,null,null,null,null,null,null,null,null,null,null,null,null,null,null,null,null,null,null,null,null,null,null,null,null,null,null,null,null,null,null,null,null,null,null,null,null,null,null,null,null,null,null,null,null,null,null,null,null,null,null,null,null,null,null,null,null,null,null,null,null,null,null,null,null,null,null,null,null,null,null,null,null,null,null,null,null,null,null,null,null,null,null,null,null,null,null,null,null,null,null,null,null,null,null,null,null,null,null,null,null,null,null,null,null,null,null,null,null,null,null,null,null,null,null,null,null,null,null,null,null,null,null,null,null,null,null,null,null,null,null,null,null,null,null,null,null,null,null,null,null,null,null,null,null,null,null,null,null,null,null,null,null,null,null,null,null,null,null,null,null,null,null,null,null,null,null,null,null,null,null,null,null,null,null,null,null,null,null,null,null,null,null,null,null,null,null,null,null,null,null,null,null,null,null,null,null,null,null,null,null,null,null,null,null,null,null,null,null,null,null,null,null,null,null,null,null,null,null,null,null,null,null,null,null,null,null,null,null,null,null,null,null,null,null,null,null,null,null,null,null,null,null,null,null,null,null,null,null,null,null,null,null,null,null,null,null,null,null,null,null,null,null,null,null,null,null,null,null,null,null,null,null,null,null,null,null,null,null,null,null,null,null,null,null,null,null,null,null,null,null,null,null,null,null,null,null,null,null,null,null,null,null,null,null,null,null,null,null,null,null,null,null,null,null,null,null,null,null,null,null,null,null,null,null,null,null,null,null,null,null,null,null,null,null,null,null,null,null,"h10",{"$f":"NZ952","v":-5.9154761904761903},{"$f":"OA952+0.5*NZ943","v":24.500000000000014},{"$f":"NZ957","v":3.5345238095238107},{"$f":"OA957","v":24.500000000000014},{"$f":"NY957","v":"h13"}]
[null,null,null,null,null,null,null,null,null,null,null,null,null,null,null,null,null,null,null,null,null,null,null,null,null,null,null,null,null,null,null,null,null,null,null,null,null,null,null,null,null,null,null,null,null,null,null,null,null,null,null,null,null,null,null,null,null,null,null,null,null,null,null,null,null,null,null,null,null,null,null,null,null,null,null,null,null,null,null,null,null,null,null,null,null,null,null,null,null,null,null,null,null,null,null,null,null,null,null,null,null,null,null,null,null,null,null,null,null,null,null,null,null,null,null,null,null,null,null,null,null,null,null,null,null,null,null,null,null,null,null,null,null,null,null,null,null,null,null,null,null,null,null,null,null,null,null,null,null,null,null,null,null,null,null,null,null,null,null,null,null,null,null,null,null,null,null,null,null,null,null,null,null,null,null,null,null,null,null,null,null,null,null,null,null,null,null,null,null,null,null,null,null,null,null,null,null,null,null,null,null,null,null,null,null,null,null,null,null,null,null,null,null,null,null,null,null,null,null,null,null,null,null,null,null,null,null,null,null,null,null,null,null,null,null,null,null,null,null,null,null,null,null,null,null,null,null,null,null,null,null,null,null,null,null,null,null,null,null,null,null,null,null,null,null,null,null,null,null,null,null,null,null,null,null,null,null,null,null,null,null,null,null,null,null,null,null,null,null,null,null,null,null,null,null,null,null,null,null,null,null,null,null,null,null,null,null,null,null,null,null,null,null,null,null,null,null,null,null,null,null,null,null,null,null,null,null,null,null,null,null,null,null,null,null,null,null,null,null,null,null,null,null,null,null,null,null,null,null,null,null,null,null,null,null,null,null,null,null,null,null,null,null,null,null,null,null,null,null,null,null,null,null,null,null,null,null,null,null,null,null,null,null,null,null,null,null,null,"h11",{"$f":"NZ952","v":-5.9154761904761903},{"$f":"OA952-0.5*NZ943","v":23.900000000000013}]
[null,null,null,null,null,null,null,null,null,null,null,null,null,null,null,null,null,null,null,null,null,null,null,null,null,null,null,null,null,null,null,null,null,null,null,null,null,null,null,null,null,null,null,null,null,null,null,null,null,null,null,null,null,null,null,null,null,null,null,null,null,null,null,null,null,null,null,null,null,null,null,null,null,null,null,null,null,null,null,null,null,null,null,null,null,null,null,null,null,null,null,null,null,null,null,null,null,null,null,null,null,null,null,null,null,null,null,null,null,null,null,null,null,null,null,null,null,null,null,null,null,null,null,null,null,null,null,null,null,null,null,null,null,null,null,null,null,null,null,null,null,null,null,null,null,null,null,null,null,null,null,null,null,null,null,null,null,null,null,null,null,null,null,null,null,null,null,null,null,null,null,null,null,null,null,null,null,null,null,null,null,null,null,null,null,null,null,null,null,null,null,null,null,null,null,null,null,null,null,null,null,null,null,null,null,null,null,null,null,null,null,null,null,null,null,null,null,null,null,null,null,null,null,null,null,null,null,null,null,null,null,null,null,null,null,null,null,null,null,null,null,null,null,null,null,null,null,null,null,null,null,null,null,null,null,null,null,null,null,null,null,null,null,null,null,null,null,null,null,null,null,null,null,null,null,null,null,null,null,null,null,null,null,null,null,null,null,null,null,null,null,null,null,null,null,null,null,null,null,null,null,null,null,null,null,null,null,null,null,null,null,null,null,null,null,null,null,null,null,null,null,null,null,null,null,null,null,null,null,null,null,null,null,null,null,null,null,null,null,null,null,null,null,null,null,null,null,null,null,null,null,null,null,null,null,null,null,null,null,null,null,null,null,null,null,null,null,null,null,null,null,null,null,null,null,null,null,null,null,null,null,null,null,null,null,null,null,null,"h12",{"$f":"NZ953","v":3.5345238095238107},{"$f":"OA955","v":23.900000000000013},{"$f":"NZ953","v":3.5345238095238107},{"$f":"OA953","v":24.200000000000014},{"$f":"NY953","v":"h9"}]
[null,null,null,null,null,null,null,null,null,null,null,null,null,null,null,null,null,null,null,null,null,null,null,null,null,null,null,null,null,null,null,null,null,null,null,null,null,null,null,null,null,null,null,null,null,null,null,null,null,null,null,null,null,null,null,null,null,null,null,null,null,null,null,null,null,null,null,null,null,null,null,null,null,null,null,null,null,null,null,null,null,null,null,null,null,null,null,null,null,null,null,null,null,null,null,null,null,null,null,null,null,null,null,null,null,null,null,null,null,null,null,null,null,null,null,null,null,null,null,null,null,null,null,null,null,null,null,null,null,null,null,null,null,null,null,null,null,null,null,null,null,null,null,null,null,null,null,null,null,null,null,null,null,null,null,null,null,null,null,null,null,null,null,null,null,null,null,null,null,null,null,null,null,null,null,null,null,null,null,null,null,null,null,null,null,null,null,null,null,null,null,null,null,null,null,null,null,null,null,null,null,null,null,null,null,null,null,null,null,null,null,null,null,null,null,null,null,null,null,null,null,null,null,null,null,null,null,null,null,null,null,null,null,null,null,null,null,null,null,null,null,null,null,null,null,null,null,null,null,null,null,null,null,null,null,null,null,null,null,null,null,null,null,null,null,null,null,null,null,null,null,null,null,null,null,null,null,null,null,null,null,null,null,null,null,null,null,null,null,null,null,null,null,null,null,null,null,null,null,null,null,null,null,null,null,null,null,null,null,null,null,null,null,null,null,null,null,null,null,null,null,null,null,null,null,null,null,null,null,null,null,null,null,null,null,null,null,null,null,null,null,null,null,null,null,null,null,null,null,null,null,null,null,null,null,null,null,null,null,null,null,null,null,null,null,null,null,null,null,null,null,null,null,null,null,null,null,null,null,null,null,null,null,null,null,null,null,null,"h13",{"$f":"NZ953","v":3.5345238095238107},{"$f":"OA954","v":24.500000000000014},{"$f":"NZ949","v":22.61904761904762},{"$f":"OA949","v":24.200000000000014},{"$f":"NY949","v":"w74"}]
[]
[null,null,null,null,null,null,null,null,null,null,null,null,null,null,null,null,null,null,null,null,null,null,null,null,null,null,null,null,null,null,null,null,null,null,null,null,null,null,null,null,null,null,null,null,null,null,null,null,null,null,null,null,null,null,null,null,null,null,null,null,null,null,null,null,null,null,null,null,null,null,null,null,null,null,null,null,null,null,null,null,null,null,null,null,null,null,null,null,null,null,null,null,null,null,null,null,null,null,null,null,null,null,null,null,null,null,null,null,null,null,null,null,null,null,null,null,null,null,null,null,null,null,null,null,null,null,null,null,null,null,null,null,null,null,null,null,null,null,null,null,null,null,null,null,null,null,null,null,null,null,null,null,null,null,null,null,null,null,null,null,null,null,null,null,null,null,null,null,null,null,null,null,null,null,null,null,null,null,null,null,null,null,null,null,null,null,null,null,null,null,null,null,null,null,null,null,null,null,null,null,null,null,null,null,null,null,null,null,null,null,null,null,null,null,null,null,null,null,null,null,null,null,null,null,null,null,null,null,null,null,null,null,null,null,null,null,null,null,null,null,null,null,null,null,null,null,null,null,null,null,null,null,null,null,null,null,null,null,null,null,null,null,null,null,null,null,null,null,null,null,null,null,null,null,null,null,null,null,null,null,null,null,null,null,null,null,null,null,null,null,null,null,null,null,null,null,null,null,null,null,null,null,null,null,null,null,null,null,null,null,null,null,null,null,null,null,null,null,null,null,null,null,null,null,null,null,null,null,null,null,null,null,null,null,null,null,null,null,null,null,null,null,null,null,null,null,null,null,null,null,null,null,null,null,null,null,null,null,null,null,null,null,null,null,null,null,null,null,null,null,null,null,null,null,null,null,null,null,null,null,null,null,null,null,null,null,null,null,null,null,null,{"$f":"NZ951","v":-1.1904761904761898},{"$f":"OA951","v":24.200000000000014},{"$f":"NY951","v":"h5"}]

{"sheet":"متغیرها ","index":2,"n_rows":849,"n_cols":149,"rows_kept":849,"cut":false,"hidden":true,"merged":[]}
[]
[]
["متغیرهای ورودی چادر",null,null,null,"تبدیل رنج متغیر ورودی","توضیح متغیر ورودی برای صفحه نمایش"]
[" متغیر ورودی چادر شماره 1 یا مقنعه ",null,null,null,null," متغیر ورودی چادر شماره 1 یا مقنعه ","x1","y1","x2","y2(بهینه)","a","b",null,"کمترین",null,"بیشترین",null,null,null,null,"انتخاب ستون سلول مرجع برای انتخاب سایز در رسم الگو","انتخاب نوع الگو","انتخاب نوع اندازه گیری","اندازه جدید یا اندازه موجود","انتخاب ستون سلول مرجع برای انتخاب سایز در بررسی اندازه ها"]
["ضریب فاصله لبه چادر یا مقنعه تا زمین   j0","(از -0.1 الی 4.5)",{"$f":"K5*E5+L5","v":3},"خط زمین=0 \nخط زانو=1 \nخط باسن=2 \nخط کمر=3 \nخط سینه=4  ",{"$f":"'طراحی همه الگوها'!Q177","v":70},"ضریب فاصله لبه چادر یا مقنعه تا زمین   ",10,0,30,1,{"$f":"(J5-H5)/(I5-G5)","v":0.05},{"$f":"H5-G5*K5","v":-0.5},2,{"$f":"(M5-L5)/K5","v":50},4,{"$f":"(O5-L5)/K5","v":90},3,{"$f":"(Q5-L5)/K5","v":70},null,"سلول مرجع",{"$f":"MATCH('طراحی مدل 16'!A325,'متغیرها '!AJ51:AJ179,0)","v":21},1,3,2,32]
["انتخاب چادر تا پایین پیشانی=1    انتخاب چادر تا بالای پیشانی=0\nانتخاب چادر روی سر = -1"," -1 یا 0 یا 1",{"$f":"K6*E6+L6","v":0},null,{"$f":"'طراحی همه الگوها'!Q178","v":2},"انتخاب چادر تا پایین پیشانی=3    انتخاب چادر تا بالای پیشانی=2\nانتخاب چادر روی سر = 1",2,0,1,-1,{"$f":"(J6-H6)/(I6-G6)","v":1},{"$f":"H6-G6*K6","v":-2},0,{"$f":"(M6-L6)/K6","v":2},2,{"$f":"(O6-L6)/K6","v":4},1,{"$f":"(Q6-L6)/K6","v":3},null,null," 1ماهه","1 تا 3 ماهه"," 3 تا 6 ماهه","6ماهه تا یکساله","بچگانه 1 ساله","بچگانه 2 ساله","بچگانه 3 ساله","بچگانه 4 ساله","بچگانه 5 ساله","بچگانه 6 ساله","بچگانه 7 ساله","بچگانه 8 ساله","بچگانه 9 ساله","بچگانه 10 ساله","بچگانه 11 ساله","بچگانه 12 ساله","بچگانه 13 ساله","بچگانه 14 ساله","34زنانه","36زنانه","38زنانه","40زنانه","42زنانه","44زنانه","46زنانه","48زنانه","50زنانه","52زنانه","54زنانه","56زنانه","58زنانه","60زنانه","37 مردانه","38 مردانه","39 مردانه","40 مردانه","41 مردانه","42 مردانه","43 مردانه","44 مردانه","45 مردانه","46 مردانه","47 مردانه","48 مردانه","49 مردانه","50 مردانه","6ماهه تا یکساله کت","1ساله کت","2ساله کت","3ساله کت","4ساله کت","5ساله کت","6ساله کت","7ساله کت","8ساله کت","9ساله کت","10ساله کت","11ساله کت","12ساله کت","13ساله کت","14ساله کت","34زنانه کمر پهن","36زنانه کمر پهن","38زنانه کمر پهن","40زنانه کمر پهن","42زنانه کمر پهن","44زنانه کمر پهن","46زنانه کمر پهن","48زنانه کمر پهن","50زنانه کمر پهن","52زنانه کمر پهن","54زنانه کمر پهن","56زنانه کمر پهن","58زنانه کمر پهن","60زنانه کمر پهن","37مردانه کت","38مردانه کت","39مردانه کت","40مردانه کت","41مردانه کت","42مردانه کت","43مردانه کت","44مردانه کت","45مردانه کت","46 مردانه کت","47 مردانه کت","48 مردانه کت","49 مردانه کت","50 مردانه کت",{"$f":"'اندازه های شخصی'!G5","v":"عنوان 1"},{"$f":"'اندازه های شخصی'!I5","v":"عنوان 2"},{"$f":"'اندازه های شخصی'!K5","v":"عنوان 3"},{"$f":"'اندازه های شخصی'!M5","v":"عنوان 4"},{"$f":"'اندازه های شخصی'!O5","v":"عنوان 5"},{"$f":"'اندازه های شخصی'!Q5","v":"عنوان 6"},{"$f":"'اندازه های شخصی'!S5","v":"عنوان 7"},{"$f":"'اندازه های شخصی'!U5","v":"عنوان 8"},{"$f":"'اندازه های شخصی'!W5","v":"عنوان 9"},{"$f":"'اندازه های شخصی'!Y5","v":"عنوان 10"},{"$f":"'اندازه های شخصی'!AA5","v":"عنوان 11"},{"$f":"'اندازه های شخصی'!AC5","v":"عنوان 12"},{"$f":"'اندازه های شخصی'!AE5","v":"عنوان 13"},{"$f":"'اندازه های شخصی'!AG5","v":"عنوان 14"},{"$f":"'اندازه های شخصی'!AI5","v":"عنوان 15"},{"$f":"'اندازه های شخصی'!AK5","v":"عنوان 16"},{"$f":"'اندازه های شخصی'!AM5","v":"عنوان 17"},{"$f":"'اندازه های شخصی'!AO5","v":"عنوان 18"},{"$f":"'اندازه های شخصی'!AQ5","v":"عنوان 19"},{"$f":"'اندازه های شخصی'!AS5","v":"عنوان 20"},{"$f":"'اندازه های شخصی'!AU5","v":"عنوان 21"},{"$f":"'اندازه های شخصی'!AW5","v":"عنوان 22"},{"$f":"'اندازه های شخصی'!AY5","v":"عنوان 23"},{"$f":"'اندازه های شخصی'!BA5","v":"عنوان 24"},{"$f":"'اندازه های شخصی'!BC5","v":"عنوان 25"},{"$f":"'اندازه های شخصی'!BE5","v":"عنوان 26"},{"$f":"'اندازه های شخصی'!BG5","v":"عنوان 27"},{"$f":"'اندازه های شخصی'!BI5","v":"عنوان 28"},{"$f":"'اندازه های شخصی'!BK5","v":"عنوان 29"},{"$f":"'اندازه های شخصی'!BM5","v":"عنوان 30"},{"$f":"'اندازه های شخصی'!BO5","v":"عنوان 31"},{"$f":"'اندازه های شخصی'!BQ5","v":"عنوان 32"},{"$f":"'اندازه های شخصی'!BS5","v":"عنوان 33"},{"$f":"'اندازه های شخصی'!BU5","v":"عنوان 34"},{"$f":"'اندازه های شخصی'!BW5","v":"عنوان 35"},{"$f":"'اندازه های شخصی'!BY5","v":"عنوان 36"},{"$f":"'اندازه های شخصی'!CA5","v":"عنوان 37"},{"$f":"'اندازه های شخصی'!CC5","v":"عنوان 38"},{"$f":"'اندازه های شخصی'!CE5","v":"عنوان 39"},{"$f":"'اندازه های شخصی'!CG5","v":"عنوان 40"}]
[null,null,null,null,null,null,null,null,null,null,null,null,null,null,null,null,null,null,null,"a",41,42,45,47,48,49,51,53,55,57,59,61,63,65.5,68,71,73,75,63,65,68,72,77,82,87,92,97,103,110,117,124,131,74,78,82,86,90,94,98,102,106,111,116,121,126,131,47,48,49,51,53,55,57,59,61,63,65.5,68,71,73,75,67,69,72,76,81,86,91,96,101,107,114,121,127,135,75.5,79.599999999999994,83.6,87.7,91.8,95.9,100,104,108.1,113.2,118.3,123.4,128.5,133.6,{"$f":"'اندازه های شخصی'!G8","v":0},{"$f":"'اندازه های شخصی'!I8","v":0},{"$f":"'اندازه های شخصی'!K8","v":0},{"$f":"'اندازه های شخصی'!M8","v":0},{"$f":"'اندازه های شخصی'!O8","v":0},{"$f":"'اندازه های شخصی'!Q8","v":0},{"$f":"'اندازه های شخصی'!S8","v":0},{"$f":"'اندازه های شخصی'!U8","v":0},{"$f":"'اندازه های شخصی'!W8","v":0},{"$f":"'اندازه های شخصی'!Y8","v":0},{"$f":"'اندازه های شخصی'!AA8","v":0},{"$f":"'اندازه های شخصی'!AC8","v":0},{"$f":"'اندازه های شخصی'!AE8","v":0},{"$f":"'اندازه های شخصی'!AG8","v":0},{"$f":"'اندازه های شخصی'!AI8","v":0},{"$f":"'اندازه های شخصی'!AK8","v":0},{"$f":"'اندازه های شخصی'!AM8","v":0},{"$f":"'اندازه های شخصی'!AO8","v":0},{"$f":"'اندازه های شخصی'!AQ8","v":0},{"$f":"'اندازه های شخصی'!AS8","v":0},{"$f":"'اندازه های شخصی'!AU8","v":0},{"$f":"'اندازه های شخصی'!AW8","v":0},{"$f":"'اندازه های شخصی'!AY8","v":0},{"$f":"'اندازه های شخصی'!BA8","v":0},{"$f":"'اندازه های شخصی'!BC8","v":0},{"$f":"'اندازه های شخصی'!BE8","v":0},{"$f":"'اندازه های شخصی'!BG8","v":0},{"$f":"'اندازه های شخصی'!BI8","v":0},{"$f":"'اندازه های شخصی'!BK8","v":0},{"$f":"'اندازه های شخصی'!BM8","v":0},{"$f":"'اندازه های شخصی'!BO8","v":0},{"$f":"'اندازه های شخصی'!BQ8","v":0},{"$f":"'اندازه های شخصی'!BS8","v":0},{"$f":"'اندازه های شخصی'!BU8","v":0},{"$f":"'اندازه های شخصی'!BW8","v":0},{"$f":"'اندازه های شخصی'!BY8","v":0},{"$f":"'اندازه های شخصی'!CA8","v":0},{"$f":"'اندازه های شخصی'!CC8","v":0},{"$f":"'اندازه های شخصی'!CE8","v":0},{"$f":"'اندازه های شخصی'!CG8","v":0}]
[" متغیرهای ورودی چادر شماره 2",null,null,null,null," متغیرهای ورودی چادر شماره 2","x1","y1","x2","y2(بهینه)","a","b",null,"کمترین",null,"بیشترین",null,null,null,"b",20.100000000000001,20.6,22.1,23,23.5,24,25,26,27,27.9,28.9,29.9,30.9,32.1,33.299999999999997,34.799999999999997,35.799999999999997,36.799999999999997,32.200000000000003,32.700000000000003,33.700000000000003,35.200000000000003,36.9,38.700000000000003,40.6,42.3,44.3,47.5,51,54.8,59.2,63.6,37,39,41,43,45,47,49,51,53,55.5,58,60.5,63,65.5,23,23.5,24,25,26,27,27.9,28.9,29.9,30.9,32.1,33.299999999999997,34.799999999999997,35.799999999999997,36.799999999999997,34.200000000000003,34.700000000000003,35.700000000000003,37.1,38.799999999999997,40.6,42.4,44.2,46.1,49.4,52.8,56.7,60.7,64.5,37.799999999999997,39.799999999999997,41.8,43.9,45.9,48,50,52,54.1,56.6,59.2,61.7,64.3,66.8,{"$f":"'اندازه های شخصی'!G9","v":0},{"$f":"'اندازه های شخصی'!I9","v":0},{"$f":"'اندازه های شخصی'!K9","v":0},{"$f":"'اندازه های شخصی'!M9","v":0},{"$f":"'اندازه های شخصی'!O9","v":0},{"$f":"'اندازه های شخصی'!Q9","v":0},{"$f":"'اندازه های شخصی'!S9","v":0},{"$f":"'اندازه های شخصی'!U9","v":0},{"$f":"'اندازه های شخصی'!W9","v":0},{"$f":"'اندازه های شخصی'!Y9","v":0},{"$f":"'اندازه های شخصی'!AA9","v":0},{"$f":"'اندازه های شخصی'!AC9","v":0},{"$f":"'اندازه های شخصی'!AE9","v":0},{"$f":"'اندازه های شخصی'!AG9","v":0},{"$f":"'اندازه های شخصی'!AI9","v":0},{"$f":"'اندازه های شخصی'!AK9","v":0},{"$f":"'اندازه های شخصی'!AM9","v":0},{"$f":"'اندازه های شخصی'!AO9","v":0},{"$f":"'اندازه های شخصی'!AQ9","v":0},{"$f":"'اندازه های شخصی'!AS9","v":0},{"$f":"'اندازه های شخصی'!AU9","v":0},{"$f":"'اندازه های شخصی'!AW9","v":0},{"$f":"'اندازه های شخصی'!AY9","v":0},{"$f":"'اندازه های شخصی'!BA9","v":0},{"$f":"'اندازه های شخصی'!BC9","v":0},{"$f":"'اندازه های شخصی'!BE9","v":0},{"$f":"'اندازه های شخصی'!BG9","v":0},{"$f":"'اندازه های شخصی'!BI9","v":0},{"$f":"'اندازه های شخصی'!BK9","v":0},{"$f":"'اندازه های شخصی'!BM9","v":0},{"$f":"'اندازه های شخصی'!BO9","v":0},{"$f":"'اندازه های شخصی'!BQ9","v":0},{"$f":"'اندازه های شخصی'!BS9","v":0},{"$f":"'اندازه های شخصی'!BU9","v":0},{"$f":"'اندازه های شخصی'!BW9","v":0},{"$f":"'اندازه های شخصی'!BY9","v":0},{"$f":"'اندازه های شخصی'!CA9","v":0},{"$f":"'اندازه های شخصی'!CC9","v":0},{"$f":"'اندازه های شخصی'!CE9","v":0},{"$f":"'اندازه های شخصی'!CG9","v":0}]
["ضریب فاصله لبه چادر تا زمین   j0","(از -0.1 الی 0.5)",{"$f":"K9*E9+L9","v":0},"خط زمین=0 \nخط زانو=1  ",{"$f":"'طراحی همه الگوها'!Q188","v":10},"ضریب فاصله لبه چادر تا زمین   ",10,0,30,1,{"$f":"(J9-H9)/(I9-G9)","v":0.05},{"$f":"H9-G9*K9","v":-0.5},-0.1,{"$f":"(M9-L9)/K9","v":8},0.5,{"$f":"(O9-L9)/K9","v":20},0,{"$f":"(Q9-L9)/K9","v":10},null,"c",43,45,48,50,53,56,59,62,65,68,71,74,77,80,83,85,89,93,85,89,93,97,102,107,112,117,122,126,132,138,144,150,92,96,100,104,108,112,116,120,124,128,132,136,140,144,50,53,56,59,62,65,68,71,74,77,80,83,85,89,93,85,89,93,97,102,107,112,117,122,126,132,138,144,150,92,96,100,104,108,112,116,120,124,128,132,136,140,144,{"$f":"'اندازه های شخصی'!G10","v":0},{"$f":"'اندازه های شخصی'!I10","v":0},{"$f":"'اندازه های شخصی'!K10","v":0},{"$f":"'اندازه های شخصی'!M10","v":0},{"$f":"'اندازه های شخصی'!O10","v":0},{"$f":"'اندازه های شخصی'!Q10","v":0},{"$f":"'اندازه های شخصی'!S10","v":0},{"$f":"'اندازه های شخصی'!U10","v":0},{"$f":"'اندازه های شخصی'!W10","v":0},{"$f":"'اندازه های شخصی'!Y10","v":0},{"$f":"'اندازه های شخصی'!AA10","v":0},{"$f":"'اندازه های شخصی'!AC10","v":0},{"$f":"'اندازه های شخصی'!AE10","v":0},{"$f":"'اندازه های شخصی'!AG10","v":0},{"$f":"'اندازه های شخصی'!AI10","v":0},{"$f":"'اندازه های شخصی'!AK10","v":0},{"$f":"'اندازه های شخصی'!AM10","v":0},{"$f":"'اندازه های شخصی'!AO10","v":0},{"$f":"'اندازه های شخصی'!AQ10","v":0},{"$f":"'اندازه های شخصی'!AS10","v":0},{"$f":"'اندازه های شخصی'!AU10","v":0},{"$f":"'اندازه های شخصی'!AW10","v":0},{"$f":"'اندازه های شخصی'!AY10","v":0},{"$f":"'اندازه های شخصی'!BA10","v":0},{"$f":"'اندازه های شخصی'!BC10","v":0},{"$f":"'اندازه های شخصی'!BE10","v":0},{"$f":"'اندازه های شخصی'!BG10","v":0},{"$f":"'اندازه های شخصی'!BI10","v":0},{"$f":"'اندازه های شخصی'!BK10","v":0},{"$f":"'اندازه های شخصی'!BM10","v":0},{"$f":"'اندازه های شخصی'!BO10","v":0},{"$f":"'اندازه های شخصی'!BQ10","v":0},{"$f":"'اندازه های شخصی'!BS10","v":0},{"$f":"'اندازه های شخصی'!BU10","v":0},{"$f":"'اندازه های شخصی'!BW10","v":0},{"$f":"'اندازه های شخصی'!BY10","v":0},{"$f":"'اندازه های شخصی'!CA10","v":0},{"$f":"'اندازه های شخصی'!CC10","v":0},{"$f":"'اندازه های شخصی'!CE10","v":0},{"$f":"'اندازه های شخصی'!CG10","v":0}]
["ضریب قرارگیری نقطه اتصال جلو چادر به پشت چادر  a0","(از 0.5 الی 1.2)",1,"روی پیشانی=0.5 \nبالای گوش=1  ",{"$f":"'طراحی همه الگوها'!Q189","v":20},"مکان نقطه اتصال جلو چادر به پشت چادر  ",10,0.5,20,1,0.05,0,0.5,10,1.2,23.999999999999996,0.5,10,null,"d",24.1,25.2,26.9,28,29.7,31.4,31.3,32.9,34.5,36,37.6,39.200000000000003,40.799999999999997,42.4,44,45.1,47.2,49.3,47.5,49,50.4,51.9,53.6,55.4,57.2,59,61,63.7,67,70.8,75.3,79.8,50.6,52.8,55,57.2,59.4,61.6,63.8,66,68.2,70.400000000000006,72.599999999999994,74.8,77,79.2,28,29.7,31.4,31.3,33.5,35.1,36.700000000000003,38.299999999999997,40,41.6,43.2,44,45.1,47.2,49.3,47.5,49,50.4,51.9,53.6,55.4,57.2,59,61,63.7,67,70.8,75.3,79.8,48.3,50.4,52.5,54.6,56.7,58.8,60.9,63,65.099999999999994,67.2,69.3,71.400000000000006,73.5,75.599999999999994,{"$f":"'اندازه های شخصی'!G11","v":0},{"$f":"'اندازه های شخصی'!I11","v":0},{"$f":"'اندازه های شخصی'!K11","v":0},{"$f":"'اندازه های شخصی'!M11","v":0},{"$f":"'اندازه های شخصی'!O11","v":0},{"$f":"'اندازه های شخصی'!Q11","v":0},{"$f":"'اندازه های شخصی'!S11","v":0},{"$f":"'اندازه های شخصی'!U11","v":0},{"$f":"'اندازه های شخصی'!W11","v":0},{"$f":"'اندازه های شخصی'!Y11","v":0},{"$f":"'اندازه های شخصی'!AA11","v":0},{"$f":"'اندازه های شخصی'!AC11","v":0},{"$f":"'اندازه های شخصی'!AE11","v":0},{"$f":"'اندازه های شخصی'!AG11","v":0},{"$f":"'اندازه های شخصی'!AI11","v":0},{"$f":"'اندازه های شخصی'!AK11","v":0},{"$f":"'اندازه های شخصی'!AM11","v":0},{"$f":"'اندازه های شخصی'!AO11","v":0},{"$f":"'اندازه های شخصی'!AQ11","v":0},{"$f":"'اندازه های شخصی'!AS11","v":0},{"$f":"'اندازه های شخصی'!AU11","v":0},{"$f":"'اندازه های شخصی'!AW11","v":0},{"$f":"'اندازه های شخصی'!AY11","v":0},{"$f":"'اندازه های شخصی'!BA11","v":0},{"$f":"'اندازه های شخصی'!BC11","v":0},{"$f":"'اندازه های شخصی'!BE11","v":0},{"$f":"'اندازه های شخصی'!BG11","v":0},{"$f":"'اندازه های شخصی'!BI11","v":0},{"$f":"'اندازه های شخصی'!BK11","v":0},{"$f":"'اندازه های شخصی'!BM11","v":0},{"$f":"'اندازه های شخصی'!BO11","v":0},{"$f":"'اندازه های شخصی'!BQ11","v":0},{"$f":"'اندازه های شخصی'!BS11","v":0},{"$f":"'اندازه های شخصی'!BU11","v":0},{"$f":"'اندازه های شخصی'!BW11","v":0},{"$f":"'اندازه های شخصی'!BY11","v":0},{"$f":"'اندازه های شخصی'!CA11","v":0},{"$f":"'اندازه های شخصی'!CC11","v":0},{"$f":"'اندازه های شخصی'!CE11","v":0},{"$f":"'اندازه های شخصی'!CG11","v":0}]
["ضریب گشادی عرضی چادر  a1","(از 0.35 الی 0.53)",0.45,"بهینه=0.45",{"$f":"'طراحی همه الگوها'!Q190","v":20},"ضریب گشادی عرضی چادر  ",21,0.46,20,0.45,1.0000000000000009E-2,0.24999999999999983,0.35,10.000000000000005,0.53,27.999999999999993,0.45,20,null,"e",23,25,32,38,42,48,53.9,60.4,66.400000000000006,70.400000000000006,74.400000000000006,77.900000000000006,80.900000000000006,84.4,87.9,91.9,95.9,99.9,101,102,103,104,104.4,104.9,105.4,105.9,106.4,106.9,107.4,107.9,108.4,108.9,103.8,105.1,106.5,107.2,107.8,108.4,109,109.6,110.2,110.7,111.2,111.7,112.2,112.7,38,42,48,53.9,60.4,66.400000000000006,70.400000000000006,74.400000000000006,77.900000000000006,80.900000000000006,84.4,87.9,91.9,95.9,99.9,101,102,103,104,104.4,104.9,105.4,105.9,106.4,106.9,107.4,107.9,108.4,108.9,104.7,106.1,107.5,108.2,108.8,109.4,110,110.6,111.2,111.7,112.2,112.7,113.2,113.7,{"$f":"'اندازه های شخصی'!G12","v":0},{"$f":"'اندازه های شخصی'!I12","v":0},{"$f":"'اندازه های شخصی'!K12","v":0},{"$f":"'اندازه های شخصی'!M12","v":0},{"$f":"'اندازه های شخصی'!O12","v":0},{"$f":"'اندازه های شخصی'!Q12","v":0},{"$f":"'اندازه های شخصی'!S12","v":0},{"$f":"'اندازه های شخصی'!U12","v":0},{"$f":"'اندازه های شخصی'!W12","v":0},{"$f":"'اندازه های شخصی'!Y12","v":0},{"$f":"'اندازه های شخصی'!AA12","v":0},{"$f":"'اندازه های شخصی'!AC12","v":0},{"$f":"'اندازه های شخصی'!AE12","v":0},{"$f":"'اندازه های شخصی'!AG12","v":0},{"$f":"'اندازه های شخصی'!AI12","v":0},{"$f":"'اندازه های شخصی'!AK12","v":0},{"$f":"'اندازه های شخصی'!AM12","v":0},{"$f":"'اندازه های شخصی'!AO12","v":0},{"$f":"'اندازه های شخصی'!AQ12","v":0},{"$f":"'اندازه های شخصی'!AS12","v":0},{"$f":"'اندازه های شخصی'!AU12","v":0},{"$f":"'اندازه های شخصی'!AW12","v":0},{"$f":"'اندازه های شخصی'!AY12","v":0},{"$f":"'اندازه های شخصی'!BA12","v":0},{"$f":"'اندازه های شخصی'!BC12","v":0},{"$f":"'اندازه های شخصی'!BE12","v":0},{"$f":"'اندازه های شخصی'!BG12","v":0},{"$f":"'اندازه های شخصی'!BI12","v":0},{"$f":"'اندازه های شخصی'!BK12","v":0},{"$f":"'اندازه های شخصی'!BM12","v":0},{"$f":"'اندازه های شخصی'!BO12","v":0},{"$f":"'اندازه های شخصی'!BQ12","v":0},{"$f":"'اندازه های شخصی'!BS12","v":0},{"$f":"'اندازه های شخصی'!BU12","v":0},{"$f":"'اندازه های شخصی'!BW12","v":0},{"$f":"'اندازه های شخصی'!BY12","v":0},{"$f":"'اندازه های شخصی'!CA12","v":0},{"$f":"'اندازه های شخصی'!CC12","v":0},{"$f":"'اندازه های شخصی'!CE12","v":0},{"$f":"'اندازه های شخصی'!CG12","v":0}]
["ضریب گشادی دور مچ  a2","(از 1.1 الی 2)",1.7000000000000006,"بهینه=1.7",{"$f":"'طراحی همه الگوها'!Q191","v":7},"ضریب گشادی دور مچ  ",1,1.1000000000000001,0,1,0.10000000000000009,1,1.1000000000000001,1,2,9.9999999999999911,1.7,6.9999999999999938,null,"f",23,25,32,38,42,48,54,60.5,66.5,70.5,74.5,78,81,84.5,88,92,96,100,102,103,104,105,105.5,106,106.5,107,107.5,108,108.5,109,109.5,110,104.8,106.2,107.6,108.3,108.9,109.5,110.1,110.7,111.3,111.8,112.3,112.8,113.3,113.8,38,42,48,54,60.5,66.5,70.5,74.5,78,81,84.5,88,92,96,100,102,103,104,105,105.5,106,106.5,107,107.5,108,108.5,109,109.5,110,104.8,106.2,107.6,108.3,108.9,109.5,110.1,110.7,111.3,111.8,112.3,112.8,113.3,113.8,{"$f":"'اندازه های شخصی'!G13","v":0},{"$f":"'اندازه های شخصی'!I13","v":0},{"$f":"'اندازه های شخصی'!K13","v":0},{"$f":"'اندازه های شخصی'!M13","v":0},{"$f":"'اندازه های شخصی'!O13","v":0},{"$f":"'اندازه های شخصی'!Q13","v":0},{"$f":"'اندازه های شخصی'!S13","v":0},{"$f":"'اندازه های شخصی'!U13","v":0},{"$f":"'اندازه های شخصی'!W13","v":0},{"$f":"'اندازه های شخصی'!Y13","v":0},{"$f":"'اندازه های شخصی'!AA13","v":0},{"$f":"'اندازه های شخصی'!AC13","v":0},{"$f":"'اندازه های شخصی'!AE13","v":0},{"$f":"'اندازه های شخصی'!AG13","v":0},{"$f":"'اندازه های شخصی'!AI13","v":0},{"$f":"'اندازه های شخصی'!AK13","v":0},{"$f":"'اندازه های شخصی'!AM13","v":0},{"$f":"'اندازه های شخصی'!AO13","v":0},{"$f":"'اندازه های شخصی'!AQ13","v":0},{"$f":"'اندازه های شخصی'!AS13","v":0},{"$f":"'اندازه های شخصی'!AU13","v":0},{"$f":"'اندازه های شخصی'!AW13","v":0},{"$f":"'اندازه های شخصی'!AY13","v":0},{"$f":"'اندازه های شخصی'!BA13","v":0},{"$f":"'اندازه های شخصی'!BC13","v":0},{"$f":"'اندازه های شخصی'!BE13","v":0},{"$f":"'اندازه های شخصی'!BG13","v":0},{"$f":"'اندازه های شخصی'!BI13","v":0},{"$f":"'اندازه های شخصی'!BK13","v":0},{"$f":"'اندازه های شخصی'!BM13","v":0},{"$f":"'اندازه های شخصی'!BO13","v":0},{"$f":"'اندازه های شخصی'!BQ13","v":0},{"$f":"'اندازه های شخصی'!BS13","v":0},{"$f":"'اندازه های شخصی'!BU13","v":0},{"$f":"'اندازه های شخصی'!BW13","v":0},{"$f":"'اندازه های شخصی'!BY13","v":0},{"$f":"'اندازه های شخصی'!CA13","v":0},{"$f":"'اندازه های شخصی'!CC13","v":0},{"$f":"'اندازه های شخصی'!CE13","v":0},{"$f":"'اندازه های شخصی'!CG13","v":0}]
["ضریب بلند شدن آستین نسبت به مچ  a4","(از -0.4 الی 0.4)",0,"آستین تا مچ=0 \nآستین کوتاه تر از مچ = منفی \nآستین بلند تر از مچ = مثبت   ",{"$f":"'طراحی همه الگوها'!Q192","v":10},"بلند شدن آستین چادر نسبت به مچ اندام ",30,-0.45,10,0,-2.2499999999999999E-2,0.22499999999999992,-0.4,27.777777777777779,0.4,-7.7777777777777821,0,9.9999999999999964,null,"g",23,25,32,38,42,48,54.1,60.6,66.599999999999994,70.599999999999994,74.599999999999994,78.099999999999994,81.099999999999994,84.6,88.1,92.1,96.1,100.1,103,104,105,106.1,106.6,107.1,107.6,108.1,108.6,109.1,109.6,110.1,110.6,111.1,105.8,107.3,108.7,109.4,110,110.6,111.2,111.8,112.4,112.9,113.4,113.9,114.4,114.9,38,42,48,54.1,60.6,66.599999999999994,70.599999999999994,74.599999999999994,78.099999999999994,81.099999999999994,84.6,88.1,92.1,96.1,100.1,103,104,105,106.1,106.6,107.1,107.6,108.1,108.6,109.1,109.6,110.1,110.6,111.1,104.9,106.3,107.7,108.4,109,109.6,110.2,110.8,111.4,111.9,112.4,112.9,113.4,113.9,{"$f":"'اندازه های شخصی'!G14","v":0},{"$f":"'اندازه های شخصی'!I14","v":0},{"$f":"'اندازه های شخصی'!K14","v":0},{"$f":"'اندازه های شخصی'!M14","v":0},{"$f":"'اندازه های شخصی'!O14","v":0},{"$f":"'اندازه های شخصی'!Q14","v":0},{"$f":"'اندازه های شخصی'!S14","v":0},{"$f":"'اندازه های شخصی'!U14","v":0},{"$f":"'اندازه های شخصی'!W14","v":0},{"$f":"'اندازه های شخصی'!Y14","v":0},{"$f":"'اندازه های شخصی'!AA14","v":0},{"$f":"'اندازه های شخصی'!AC14","v":0},{"$f":"'اندازه های شخصی'!AE14","v":0},{"$f":"'اندازه های شخصی'!AG14","v":0},{"$f":"'اندازه های شخصی'!AI14","v":0},{"$f":"'اندازه های شخصی'!AK14","v":0},{"$f":"'اندازه های شخصی'!AM14","v":0},{"$f":"'اندازه های شخصی'!AO14","v":0},{"$f":"'اندازه های شخصی'!AQ14","v":0},{"$f":"'اندازه های شخصی'!AS14","v":0},{"$f":"'اندازه های شخصی'!AU14","v":0},{"$f":"'اندازه های شخصی'!AW14","v":0},{"$f":"'اندازه های شخصی'!AY14","v":0},{"$f":"'اندازه های شخصی'!BA14","v":0},{"$f":"'اندازه های شخصی'!BC14","v":0},{"$f":"'اندازه های شخصی'!BE14","v":0},{"$f":"'اندازه های شخصی'!BG14","v":0},{"$f":"'اندازه های شخصی'!BI14","v":0},{"$f":"'اندازه های شخصی'!BK14","v":0},{"$f":"'اندازه های شخصی'!BM14","v":0},{"$f":"'اندازه های شخصی'!BO14","v":0},{"$f":"'اندازه های شخصی'!BQ14","v":0},{"$f":"'اندازه های شخصی'!BS14","v":0},{"$f":"'اندازه های شخصی'!BU14","v":0},{"$f":"'اندازه های شخصی'!BW14","v":0},{"$f":"'اندازه های شخصی'!BY14","v":0},{"$f":"'اندازه های شخصی'!CA14","v":0},{"$f":"'اندازه های شخصی'!CC14","v":0},{"$f":"'اندازه های شخصی'!CE14","v":0},{"$f":"'اندازه های شخصی'!CG14","v":0}]
["انتخاب چادر تا پایین پیشانی=1    انتخاب چادر تا بالای پیشانی=0\nانتخاب چادر روی سر = -1"," -1 یا 0 یا 1",0,null,{"$f":"'طراحی همه الگوها'!Q193","v":2},"انتخاب چادر تا پایین پیشانی=3    انتخاب چادر تا بالای پیشانی=2\nانتخاب چادر روی سر = 1",2,0,1,-1,1,-2,0,2,1,3,1,3,null,"h",7.4,8.4,11.1,13.4,14.9,17.2,24.9,27.4,30.3,32.1,33.9,35.4,36.6,38.200000000000003,39.700000000000003,41.4,43.5,45.7,44.5,45,45.5,46,46,46,46,46,46.3,46.3,46.4,46.5,46.6,46.7,48.1,48.8,49.6,50,50.4,50.8,51.2,51.5,51.9,52.3,52.6,53,53.2,53.6,13.4,14.9,17.2,24.9,27.4,30.3,32.1,33.9,35.4,36.6,38.200000000000003,39.700000000000003,41.4,43.5,45.7,44.5,45,45.5,46,46,46,46,46,46.3,46.3,46.4,46.5,46.6,46.7,48.1,48.8,49.6,50,50.3,50.8,51.2,51.5,51.9,52.3,52.6,52.9,53.3,53.6,{"$f":"'اندازه های شخصی'!G15","v":0},{"$f":"'اندازه های شخصی'!I15","v":0},{"$f":"'اندازه های شخصی'!K15","v":0},{"$f":"'اندازه های شخصی'!M15","v":0},{"$f":"'اندازه های شخصی'!O15","v":0},{"$f":"'اندازه های شخصی'!Q15","v":0},{"$f":"'اندازه های شخصی'!S15","v":0},{"$f":"'اندازه های شخصی'!U15","v":0},{"$f":"'اندازه های شخصی'!W15","v":0},{"$f":"'اندازه های شخصی'!Y15","v":0},{"$f":"'اندازه های شخصی'!AA15","v":0},{"$f":"'اندازه های شخصی'!AC15","v":0},{"$f":"'اندازه های شخصی'!AE15","v":0},{"$f":"'اندازه های شخصی'!AG15","v":0},{"$f":"'اندازه های شخصی'!AI15","v":0},{"$f":"'اندازه های شخصی'!AK15","v":0},{"$f":"'اندازه های شخصی'!AM15","v":0},{"$f":"'اندازه های شخصی'!AO15","v":0},{"$f":"'اندازه های شخصی'!AQ15","v":0},{"$f":"'اندازه های شخصی'!AS15","v":0},{"$f":"'اندازه های شخصی'!AU15","v":0},{"$f":"'اندازه های شخصی'!AW15","v":0},{"$f":"'اندازه های شخصی'!AY15","v":0},{"$f":"'اندازه های شخصی'!BA15","v":0},{"$f":"'اندازه های شخصی'!BC15","v":0},{"$f":"'اندازه های شخصی'!BE15","v":0},{"$f":"'اندازه های شخصی'!BG15","v":0},{"$f":"'اندازه های شخصی'!BI15","v":0},{"$f":"'اندازه های شخصی'!BK15","v":0},{"$f":"'اندازه های شخصی'!BM15","v":0},{"$f":"'اندازه های شخصی'!BO15","v":0},{"$f":"'اندازه های شخصی'!BQ15","v":0},{"$f":"'اندازه های شخصی'!BS15","v":0},{"$f":"'اندازه های شخصی'!BU15","v":0},{"$f":"'اندازه های شخصی'!BW15","v":0},{"$f":"'اندازه های شخصی'!BY15","v":0},{"$f":"'اندازه های شخصی'!CA15","v":0},{"$f":"'اندازه های شخصی'!CC15","v":0},{"$f":"'اندازه های شخصی'!CE15","v":0},{"$f":"'اندازه های شخصی'!CG15","v":0}]
[null,null,null,null,null,null,null,null,null,null,null,null,null,null,null,null,null,null,null,"j",15.8,17.899999999999999,23.8,28.7,31.8,36.700000000000003,45.2,49.8,55.1,58.3,61.6,64.3,66.5,69.400000000000006,72.099999999999994,75.3,79.099999999999994,83,82.5,82.7,83.4,84.1,84.3,84.5,84.7,85,85.3,85.7,86.1,86.5,86.9,87.3,87.4,88.8,90.2,90.9,91.6,92.3,93,93.7,94.3,95,95.7,96.3,96.8,97.5,28.7,31.8,36.700000000000003,45.2,49.8,55.1,58.3,61.6,64.3,66.5,69.400000000000006,72.099999999999994,75.3,79.099999999999994,83,82.5,82.7,83.4,84.1,84.3,84.5,84.7,85,85.3,85.7,86.1,86.5,86.9,87.3,87.4,88.8,90.2,90.9,91.5,92.3,93,93.6,94.4,95,95.7,96.2,96.9,97.5,{"$f":"'اندازه های شخصی'!G16","v":0},{"$f":"'اندازه های شخصی'!I16","v":0},{"$f":"'اندازه های شخصی'!K16","v":0},{"$f":"'اندازه های شخصی'!M16","v":0},{"$f":"'اندازه های شخصی'!O16","v":0},{"$f":"'اندازه های شخصی'!Q16","v":0},{"$f":"'اندازه های شخصی'!S16","v":0},{"$f":"'اندازه های شخصی'!U16","v":0},{"$f":"'اندازه های شخصی'!W16","v":0},{"$f":"'اندازه های شخصی'!Y16","v":0},{"$f":"'اندازه های شخصی'!AA16","v":0},{"$f":"'اندازه های شخصی'!AC16","v":0},{"$f":"'اندازه های شخصی'!AE16","v":0},{"$f":"'اندازه های شخصی'!AG16","v":0},{"$f":"'اندازه های شخصی'!AI16","v":0},{"$f":"'اندازه های شخصی'!AK16","v":0},{"$f":"'اندازه های شخصی'!AM16","v":0},{"$f":"'اندازه های شخصی'!AO16","v":0},{"$f":"'اندازه های شخصی'!AQ16","v":0},{"$f":"'اندازه های شخصی'!AS16","v":0},{"$f":"'اندازه های شخصی'!AU16","v":0},{"$f":"'اندازه های شخصی'!AW16","v":0},{"$f":"'اندازه های شخصی'!AY16","v":0},{"$f":"'اندازه های شخصی'!BA16","v":0},{"$f":"'اندازه های شخصی'!BC16","v":0},{"$f":"'اندازه های شخصی'!BE16","v":0},{"$f":"'اندازه های شخصی'!BG16","v":0},{"$f":"'اندازه های شخصی'!BI16","v":0},{"$f":"'اندازه های شخصی'!BK16","v":0},{"$f":"'اندازه های شخصی'!BM16","v":0},{"$f":"'اندازه های شخصی'!BO16","v":0},{"$f":"'اندازه های شخصی'!BQ16","v":0},{"$f":"'اندازه های شخصی'!BS16","v":0},{"$f":"'اندازه های شخصی'!BU16","v":0},{"$f":"'اندازه های شخصی'!BW16","v":0},{"$f":"'اندازه های شخصی'!BY16","v":0},{"$f":"'اندازه های شخصی'!CA16","v":0},{"$f":"'اندازه های شخصی'!CC16","v":0},{"$f":"'اندازه های شخصی'!CE16","v":0},{"$f":"'اندازه های شخصی'!CG16","v":0}]
[" متغیرهای ورودی چادر شماره 3",null,null,null,null," متغیرهای ورودی چادر شماره 3","x1","y1","x2","y2(بهینه)","a","b",null,"کمترین",null,"بیشترین",null,null,null,"L",17.600000000000001,18.5,19.7,20.5,21.7,23,24.2,25.4,26.7,27.9,29.1,30.3,31.6,32.799999999999997,34,34.9,36.5,38.1,34.9,36.5,38.1,39.799999999999997,41.8,43.9,45.9,48,50,51.7,54.1,56.6,59,61.5,37.700000000000003,39.4,41,42.6,44.3,45.9,47.6,49.2,50.8,52.5,54.1,55.8,57.4,59,20.5,21.7,23,24.2,25.4,26.7,27.9,29.1,30.3,31.6,32.799999999999997,34,34.9,36.5,38.1,34.9,36.5,38.1,39.799999999999997,41.8,43.9,45.9,48,50,51.7,54.1,56.6,59,61.5,37.700000000000003,39.4,41,42.6,44.3,45.9,47.6,49.2,50.8,52.5,54.1,55.8,57.4,59,{"$f":"'اندازه های شخصی'!G17","v":0},{"$f":"'اندازه های شخصی'!I17","v":0},{"$f":"'اندازه های شخصی'!K17","v":0},{"$f":"'اندازه های شخصی'!M17","v":0},{"$f":"'اندازه های شخصی'!O17","v":0},{"$f":"'اندازه های شخصی'!Q17","v":0},{"$f":"'اندازه های شخصی'!S17","v":0},{"$f":"'اندازه های شخصی'!U17","v":0},{"$f":"'اندازه های شخصی'!W17","v":0},{"$f":"'اندازه های شخصی'!Y17","v":0},{"$f":"'اندازه های شخصی'!AA17","v":0},{"$f":"'اندازه های شخصی'!AC17","v":0},{"$f":"'اندازه های شخصی'!AE17","v":0},{"$f":"'اندازه های شخصی'!AG17","v":0},{"$f":"'اندازه های شخصی'!AI17","v":0},{"$f":"'اندازه های شخصی'!AK17","v":0},{"$f":"'اندازه های شخصی'!AM17","v":0},{"$f":"'اندازه های شخصی'!AO17","v":0},{"$f":"'اندازه های شخصی'!AQ17","v":0},{"$f":"'اندازه های شخصی'!AS17","v":0},{"$f":"'اندازه های شخصی'!AU17","v":0},{"$f":"'اندازه های شخصی'!AW17","v":0},{"$f":"'اندازه های شخصی'!AY17","v":0},{"$f":"'اندازه های شخصی'!BA17","v":0},{"$f":"'اندازه های شخصی'!BC17","v":0},{"$f":"'اندازه های شخصی'!BE17","v":0},{"$f":"'اندازه های شخصی'!BG17","v":0},{"$f":"'اندازه های شخصی'!BI17","v":0},{"$f":"'اندازه های شخصی'!BK17","v":0},{"$f":"'اندازه های شخصی'!BM17","v":0},{"$f":"'اندازه های شخصی'!BO17","v":0},{"$f":"'اندازه های شخصی'!BQ17","v":0},{"$f":"'اندازه های شخصی'!BS17","v":0},{"$f":"'اندازه های شخصی'!BU17","v":0},{"$f":"'اندازه های شخصی'!BW17","v":0},{"$f":"'اندازه های شخصی'!BY17","v":0},{"$f":"'اندازه های شخصی'!CA17","v":0},{"$f":"'اندازه های شخصی'!CC17","v":0},{"$f":"'اندازه های شخصی'!CE17","v":0},{"$f":"'اندازه های شخصی'!CG17","v":0}]
["ضریب فاصله لبه چادر تا زمین   j0","(از -0.1 الی 0.5)",{"$f":"K17*E17+L17","v":0},"خط زمین=0 \nخط زانو=1  ",{"$f":"'طراحی همه الگوها'!Q210","v":10},"ضریب فاصله لبه چادر تا زمین   ",10,0,30,1,{"$f":"(J17-H17)/(I17-G17)","v":0.05},{"$f":"H17-G17*K17","v":-0.5},-0.1,{"$f":"(M17-L17)/K17","v":8},0.5,{"$f":"(O17-L17)/K17","v":20},0,{"$f":"(Q17-L17)/K17","v":10},null,"m",10,10,11,12,13,14,14,16,17,18,19,20,21,22,23,24,24.5,25,25.1,25.8,26.4,27.1,27.8,28.4,29.1,29.7,30.3,31,31.6,32.299999999999997,32.9,33.5,23.1,23.5,23.8,24.2,24.5,24.7,25,25.3,25.6,25.8,26.1,26.4,26.7,26.9,12,13,14,14,16,17,18,19,20,21,22,23,24,24.5,25,25.1,25.8,26.4,27.1,27.8,28.4,29.1,29.7,30.3,31,31.6,32.299999999999997,32.9,33.5,23.1,23.5,23.8,24.2,24.5,24.7,25,25.3,25.5,25.8,26.1,26.4,26.6,26.9,{"$f":"'اندازه های شخصی'!G18","v":0},{"$f":"'اندازه های شخصی'!I18","v":0},{"$f":"'اندازه های شخصی'!K18","v":0},{"$f":"'اندازه های شخصی'!M18","v":0},{"$f":"'اندازه های شخصی'!O18","v":0},{"$f":"'اندازه های شخصی'!Q18","v":0},{"$f":"'اندازه های شخصی'!S18","v":0},{"$f":"'اندازه های شخصی'!U18","v":0},{"$f":"'اندازه های شخصی'!W18","v":0},{"$f":"'اندازه های شخصی'!Y18","v":0},{"$f":"'اندازه های شخصی'!AA18","v":0},{"$f":"'اندازه های شخصی'!AC18","v":0},{"$f":"'اندازه های شخصی'!AE18","v":0},{"$f":"'اندازه های شخصی'!AG18","v":0},{"$f":"'اندازه های شخصی'!AI18","v":0},{"$f":"'اندازه های شخصی'!AK18","v":0},{"$f":"'اندازه های شخصی'!AM18","v":0},{"$f":"'اندازه های شخصی'!AO18","v":0},{"$f":"'اندازه های شخصی'!AQ18","v":0},{"$f":"'اندازه های شخصی'!AS18","v":0},{"$f":"'اندازه های شخصی'!AU18","v":0},{"$f":"'اندازه های شخصی'!AW18","v":0},{"$f":"'اندازه های شخصی'!AY18","v":0},{"$f":"'اندازه های شخصی'!BA18","v":0},{"$f":"'اندازه های شخصی'!BC18","v":0},{"$f":"'اندازه های شخصی'!BE18","v":0},{"$f":"'اندازه های شخصی'!BG18","v":0},{"$f":"'اندازه های شخصی'!BI18","v":0},{"$f":"'اندازه های شخصی'!BK18","v":0},{"$f":"'اندازه های شخصی'!BM18","v":0},{"$f":"'اندازه های شخصی'!BO18","v":0},{"$f":"'اندازه های شخصی'!BQ18","v":0},{"$f":"'اندازه های شخصی'!BS18","v":0},{"$f":"'اندازه های شخصی'!BU18","v":0},{"$f":"'اندازه های شخصی'!BW18","v":0},{"$f":"'اندازه های شخصی'!BY18","v":0},{"$f":"'اندازه های شخصی'!CA18","v":0},{"$f":"'اندازه های شخصی'!CC18","v":0},{"$f":"'اندازه های شخصی'!CE18","v":0},{"$f":"'اندازه های شخصی'!CG18","v":0}]
["ضریب گشادی دور مچ  b2","(از 1.1 الی 2)",1.5000000000000004,"بهینه=1.5",{"$f":"'طراحی همه الگوها'!Q211","v":5},"ضریب گشادی دور مچ  ",1,1.1000000000000001,0,1,0.10000000000000009,1,1.1000000000000001,1,2,9.9999999999999911,1.5,4.9999999999999956,null,"q",29.1,29.6,32.799999999999997,35.700000000000003,38.5,41.7,37.700000000000003,42.6,45,47.6,50,52.7,55.3,57.7,60.3,62.6,64.400000000000006,66,65.2,67.2,69.2,71.099999999999994,73.400000000000006,75.2,77.3,79.400000000000006,81.2,83.3,85.3,87.5,89.7,91.7,66.5,67.8,69.2,70.5,71.599999999999994,72.8,73.900000000000006,75.099999999999994,76.400000000000006,77.400000000000006,78.5,79.599999999999994,80.900000000000006,81.8,35.700000000000003,38.5,41.7,37.700000000000003,42.6,45,47.6,50.1,52.7,55.3,57.7,60.3,62.6,64.400000000000006,66,65.2,67.2,69.2,71.099999999999994,73.400000000000006,75.2,77.3,79.400000000000006,81.2,83.3,85.3,87.5,89.7,91.7,66.3,67.7,69,70.3,71.7,72.599999999999994,73.8,75.099999999999994,76.099999999999994,77.2,78.3,79.599999999999994,80.5,81.7,{"$f":"'اندازه های شخصی'!G19","v":0},{"$f":"'اندازه های شخصی'!I19","v":0},{"$f":"'اندازه های شخصی'!K19","v":0},{"$f":"'اندازه های شخصی'!M19","v":0},{"$f":"'اندازه های شخصی'!O19","v":0},{"$f":"'اندازه های شخصی'!Q19","v":0},{"$f":"'اندازه های شخصی'!S19","v":0},{"$f":"'اندازه های شخصی'!U19","v":0},{"$f":"'اندازه های شخصی'!W19","v":0},{"$f":"'اندازه های شخصی'!Y19","v":0},{"$f":"'اندازه های شخصی'!AA19","v":0},{"$f":"'اندازه های شخصی'!AC19","v":0},{"$f":"'اندازه های شخصی'!AE19","v":0},{"$f":"'اندازه های شخصی'!AG19","v":0},{"$f":"'اندازه های شخصی'!AI19","v":0},{"$f":"'اندازه های شخصی'!AK19","v":0},{"$f":"'اندازه های شخصی'!AM19","v":0},{"$f":"'اندازه های شخصی'!AO19","v":0},{"$f":"'اندازه های شخصی'!AQ19","v":0},{"$f":"'اندازه های شخصی'!AS19","v":0},{"$f":"'اندازه های شخصی'!AU19","v":0},{"$f":"'اندازه های شخصی'!AW19","v":0},{"$f":"'اندازه های شخصی'!AY19","v":0},{"$f":"'اندازه های شخصی'!BA19","v":0},{"$f":"'اندازه های شخصی'!BC19","v":0},{"$f":"'اندازه های شخصی'!BE19","v":0},{"$f":"'اندازه های شخصی'!BG19","v":0},{"$f":"'اندازه های شخصی'!BI19","v":0},{"$f":"'اندازه های شخصی'!BK19","v":0},{"$f":"'اندازه های شخصی'!BM19","v":0},{"$f":"'اندازه های شخصی'!BO19","v":0},{"$f":"'اندازه های شخصی'!BQ19","v":0},{"$f":"'اندازه های شخصی'!BS19","v":0},{"$f":"'اندازه های شخصی'!BU19","v":0},{"$f":"'اندازه های شخصی'!BW19","v":0},{"$f":"'اندازه های شخصی'!BY19","v":0},{"$f":"'اندازه های شخصی'!CA19","v":0},{"$f":"'اندازه های شخصی'!CC19","v":0},{"$f":"'اندازه های شخصی'!CE19","v":0},{"$f":"'اندازه های شخصی'!CG19","v":0}]
["ضریب بلندی طول مچ  b3  معادل ضریب تنگی پایین چادر","(از0 الی 0.4)",0.15,"بهینه=0.15",{"$f":"'طراحی همه الگوها'!Q212","v":15},"گشادی پایین چادر (معادل بلندی طول مچ)",1,0.01,0,0,0.01,0,0,0,0.4,40,0.15,15,null,"r",13.5,13.5,14.2,14.9,16.2,16.2,17.600000000000001,17.600000000000001,17.600000000000001,18.899999999999999,18.899999999999999,20.3,21.6,20.3,21.6,22.3,23,23.6,23,23.5,24,24.5,25.1,25.7,26.3,26.9,27.5,28,28.5,29,29.5,30,24,25,26,27,28,29,29,29,29,29.4,29.8,30.2,32.6,31,14.9,16.2,16.2,17.600000000000001,17.600000000000001,17.600000000000001,18.899999999999999,18.899999999999999,20.3,21.6,20.3,21.6,22.3,23,23.6,23,23.5,24,24.5,25.1,25.7,26.3,26.9,27.5,28,28.5,29,29.5,30,24,25,26,27,28,29,29,29,29,29.4,29.8,30.2,32.6,31,{"$f":"'اندازه های شخصی'!G20","v":0},{"$f":"'اندازه های شخصی'!I20","v":0},{"$f":"'اندازه های شخصی'!K20","v":0},{"$f":"'اندازه های شخصی'!M20","v":0},{"$f":"'اندازه های شخصی'!O20","v":0},{"$f":"'اندازه های شخصی'!Q20","v":0},{"$f":"'اندازه های شخصی'!S20","v":0},{"$f":"'اندازه های شخصی'!U20","v":0},{"$f":"'اندازه های شخصی'!W20","v":0},{"$f":"'اندازه های شخصی'!Y20","v":0},{"$f":"'اندازه های شخصی'!AA20","v":0},{"$f":"'اندازه های شخصی'!AC20","v":0},{"$f":"'اندازه های شخصی'!AE20","v":0},{"$f":"'اندازه های شخصی'!AG20","v":0},{"$f":"'اندازه های شخصی'!AI20","v":0},{"$f":"'اندازه های شخصی'!AK20","v":0},{"$f":"'اندازه های شخصی'!AM20","v":0},{"$f":"'اندازه های شخصی'!AO20","v":0},{"$f":"'اندازه های شخصی'!AQ20","v":0},{"$f":"'اندازه های شخصی'!AS20","v":0},{"$f":"'اندازه های شخصی'!AU20","v":0},{"$f":"'اندازه های شخصی'!AW20","v":0},{"$f":"'اندازه های شخصی'!AY20","v":0},{"$f":"'اندازه های شخصی'!BA20","v":0},{"$f":"'اندازه های شخصی'!BC20","v":0},{"$f":"'اندازه های شخصی'!BE20","v":0},{"$f":"'اندازه های شخصی'!BG20","v":0},{"$f":"'اندازه های شخصی'!BI20","v":0},{"$f":"'اندازه های شخصی'!BK20","v":0},{"$f":"'اندازه های شخصی'!BM20","v":0},{"$f":"'اندازه های شخصی'!BO20","v":0},{"$f":"'اندازه های شخصی'!BQ20","v":0},{"$f":"'اندازه های شخصی'!BS20","v":0},{"$f":"'اندازه های شخصی'!BU20","v":0},{"$f":"'اندازه های شخصی'!BW20","v":0},{"$f":"'اندازه های شخصی'!BY20","v":0},{"$f":"'اندازه های شخصی'!CA20","v":0},{"$f":"'اندازه های شخصی'!CC20","v":0},{"$f":"'اندازه های شخصی'!CE20","v":0},{"$f":"'اندازه های شخصی'!CG20","v":0}]
["ضریب بلند شدن آستین نسبت به مچ  b5","(از -0.4 الی 0.4)",0,"آستین تا مچ=0 \nآستین کوتاه تر از مچ = منفی \nآستین بلند تر از مچ = مثبت   ",{"$f":"'طراحی همه الگوها'!Q213","v":10},"بلند شدن آستین چادر نسبت به مچ اندام ",30,-0.45,10,0,-2.2499999999999999E-2,0.22499999999999992,-0.4,27.777777777777779,0.4,-7.7777777777777821,0,9.9999999999999964]
["عرض پارچه به سانتیمتر b1","(از 90 الی 200)",110," 90 یا 100 یا 110 \n115 یا 120 یا ...",{"$f":"'طراحی همه الگوها'!Q214","v":110},"عرض پارچه ",2,2,1,1,1,0,90,90,200,200,100,100,null,null,2,2,2,2,2,2,0,0,0,0,0,0,0,0,0,0,0,0,0,0,0,0,0,0,0,0,0,0,0,0,0,0,1,1,1,1,1,1,1,1,1,1,1,1,1,1,2,2,2,0,0,0,0,0,0,0,0,0,0,0,0,0,0,0,0,0,0,0,0,0,0,0,0,0,0,1,1,1,1,1,1,1,1,1,1,1,1,1,1,{"$f":"'اندازه های شخصی'!G21","v":0},{"$f":"'اندازه های شخصی'!I21","v":0},{"$f":"'اندازه های شخصی'!K21","v":0},{"$f":"'اندازه های شخصی'!M21","v":0},{"$f":"'اندازه های شخصی'!O21","v":0},{"$f":"'اندازه های شخصی'!Q21","v":0},{"$f":"'اندازه های شخصی'!S21","v":0},{"$f":"'اندازه های شخصی'!U21","v":0},{"$f":"'اندازه های شخصی'!W21","v":0},{"$f":"'اندازه های شخصی'!Y21","v":0},{"$f":"'اندازه های شخصی'!AA21","v":0},{"$f":"'اندازه های شخصی'!AC21","v":0},{"$f":"'اندازه های شخصی'!AE21","v":0},{"$f":"'اندازه های شخصی'!AG21","v":0},{"$f":"'اندازه های شخصی'!AI21","v":0},{"$f":"'اندازه های شخصی'!AK21","v":0},{"$f":"'اندازه های شخصی'!AM21","v":0},{"$f":"'اندازه های شخصی'!AO21","v":0},{"$f":"'اندازه های شخصی'!AQ21","v":0},{"$f":"'اندازه های شخصی'!AS21","v":0},{"$f":"'اندازه های شخصی'!AU21","v":0},{"$f":"'اندازه های شخصی'!AW21","v":0},{"$f":"'اندازه های شخصی'!AY21","v":0},{"$f":"'اندازه های شخصی'!BA21","v":0},{"$f":"'اندازه های شخصی'!BC21","v":0},{"$f":"'اندازه های شخصی'!BE21","v":0},{"$f":"'اندازه های شخصی'!BG21","v":0},{"$f":"'اندازه های شخصی'!BI21","v":0},{"$f":"'اندازه های شخصی'!BK21","v":0},{"$f":"'اندازه های شخصی'!BM21","v":0},{"$f":"'اندازه های شخصی'!BO21","v":0},{"$f":"'اندازه های شخصی'!BQ21","v":0},{"$f":"'اندازه های شخصی'!BS21","v":0},{"$f":"'اندازه های شخصی'!BU21","v":0},{"$f":"'اندازه های شخصی'!BW21","v":0},{"$f":"'اندازه های شخصی'!BY21","v":0},{"$f":"'اندازه های شخصی'!CA21","v":0},{"$f":"'اندازه های شخصی'!CC21","v":0},{"$f":"'اندازه های شخصی'!CE21","v":0},{"$f":"'اندازه های شخصی'!CG21","v":0}]
["انتخاب چادر تا پایین پیشانی=1    انتخاب چادر تا بالای پیشانی=0\nانتخاب چادر روی سر = -1"," -1 یا 0 یا 1",0,null,{"$f":"'طراحی همه الگوها'!Q215","v":2},"انتخاب چادر تا پایین پیشانی=3    انتخاب چادر تا بالای پیشانی=2\nانتخاب چادر روی سر = 1",2,0,1,-1,1,-2,0,2,2,4,1,3]
[]
[" متغیرهای ورودی چادر شماره 4",null,null,null,null," متغیرهای ورودی چادر شماره 4","x1","y1","x2","y2(بهینه)","a","b",null,"کمترین",null,"بیشترین",null,null,null,null,"اندازه شخص","اندازه شخص","اندازه شخص","اندازه شخص","اندازه شخص","اندازه شخص","اندازه شخص","اندازه شخص","اندازه شخص","اندازه شخص","اندازه شخص","اندازه شخص","اندازه شخص","اندازه شخص","اندازه شخص","اندازه شخص","اندازه شخص","اندازه شخص","اندازه شخص","اندازه شخص","اندازه شخص","اندازه شخص","اندازه شخص","اندازه شخص","اندازه شخص","اندازه شخص","اندازه شخص","اندازه شخص","اندازه شخص","اندازه شخص","اندازه شخص","اندازه شخص","اندازه شخص","اندازه شخص","اندازه شخص","اندازه شخص","اندازه شخص","اندازه شخص","اندازه شخص","اندازه شخص","اندازه شخص","اندازه شخص","اندازه شخص","اندازه شخص","اندازه شخص","اندازه شخص","اندازه شخص","اندازه شخص","اندازه شخص","اندازه شخص","اندازه شخص","اندازه شخص","اندازه شخص","اندازه شخص","اندازه شخص","اندازه شخص","اندازه شخص","اندازه شخص","اندازه شخص","اندازه شخص","اندازه شخص","اندازه شخص","اندازه شخص","اندازه شخص","اندازه شخص","اندازه شخص","اندازه شخص","اندازه شخص","اندازه شخص","اندازه شخص","اندازه شخص","اندازه شخص","اندازه شخص","اندازه شخص","اندازه شخص","اندازه شخص","اندازه شخص","اندازه شخص","اندازه شخص","اندازه شخص","اندازه شخص","اندازه شخص","اندازه شخص","اندازه شخص","اندازه شخص","اندازه شخص","اندازه شخص","اندازه شخص","اندازه شخص"]
["ضریب فاصله لبه چادر تا زمین   j0","(از -0.1 الی 0.5)",{"$f":"K25*E25+L25","v":0},"خط زمین=0 \nخط زانو=1  ",{"$f":"'طراحی همه الگوها'!Q232","v":10},"ضریب فاصله لبه چادر تا زمین   ",10,0,30,1,{"$f":"(J25-H25)/(I25-G25)","v":0.05},{"$f":"H25-G25*K25","v":-0.5},-0.1,{"$f":"(M25-L25)/K25","v":8},0.5,{"$f":"(O25-L25)/K25","v":20},0,{"$f":"(Q25-L25)/K25","v":10},null,"a",41,42,45,47,48,49,51,53,55,57,59,61,63,65.5,68,71,73,75,63,65,68,72,77,82,87,92,97,103,110,117,124,131,74,78,82,86,90,94,98,102,106,111,116,121,126,131,47,48,49,51,53,55,57,59,61,63,65.5,68,71,73,75,67,69,72,76,81,86,91,96,101,107,114,121,127,135,75.5,79.599999999999994,83.6,87.7,91.8,95.9,100,104,108.1,113.2,118.3,123.4,128.5,133.6,{"$f":"DF7","v":0},0,0,0,0,0,0,0,0,0,0,0,0,0,0,0,0,0,0,0,{"$f":"DZ7","v":0},0,0,{"$f":"EC7","v":0},{"$f":"ED7","v":0},0,0,{"$f":"EG7","v":0},{"$f":"EH7","v":0},0,0,{"$f":"EK7","v":0},{"$f":"EL7","v":0},0,0,{"$f":"EO7","v":0},{"$f":"EP7","v":0},0,0,0]
["ضریب گشادی پشت چادر نسبت به جلو چادر (به درجه)  c1","(از -5 الی 5)",3,"بهینه=3",{"$f":"'طراحی همه الگوها'!Q233","v":3},"ضریب گشادی پشت چادر نسبت به جلو چادر (درجه)  ",1,1,0,0,1,0,-5,-5,5,5,3,3,null,"b",20.100000000000001,20.6,22.1,23,23.5,24,25,26,27,27.9,28.9,29.9,30.9,32.1,33.299999999999997,34.799999999999997,35.799999999999997,36.799999999999997,32.200000000000003,32.700000000000003,33.700000000000003,35.200000000000003,36.9,38.700000000000003,40.6,42.3,44.3,47.5,51,54.8,59.2,63.6,37,39,41,43,45,47,49,51,53,55.5,58,60.5,63,65.5,23,23.5,24,25,26,27,27.9,28.9,29.9,30.9,32.1,33.299999999999997,34.799999999999997,35.799999999999997,36.799999999999997,34.200000000000003,34.700000000000003,35.700000000000003,37.1,38.799999999999997,40.6,42.4,44.2,46.1,49.4,52.8,56.7,60.7,64.5,37.799999999999997,39.799999999999997,41.8,43.9,45.9,48,50,52,54.1,56.6,59.2,61.7,64.3,66.8,{"$f":"DF8","v":0},0,0,0,0,0,0,0,0,0,0,0,0,0,0,0,0,0,0,0,0,0,0,{"$f":"EC8","v":0},0,0,0,{"$f":"EG8","v":0},0,0,0,{"$f":"EK8","v":0},0,0,0,{"$f":"EO8","v":0},0,0,0,0]
["ضریب بلند شدن آستین نسبت به مچ  c2","(از -0.4 الی 0.4)",0,"آستین تا مچ=0 \nآستین کوتاه تر از مچ = منفی \nآستین بلند تر از مچ = مثبت   ",{"$f":"'طراحی همه الگوها'!Q234","v":10},"بلند شدن آستین چادر نسبت به مچ اندام ",30,-0.45,10,0,-2.2499999999999999E-2,0.22499999999999992,-0.4,27.777777777777779,0.4,-7.7777777777777821,0,9.9999999999999964,null,"s1",43,45,47,50,52,54,56,58,60,62,64,66,68,71,75,78,82,86,80,84,88,92,97,102,107,112,117,122,128,134,140,146,88,92,96,100,104,108,112,116,120,124,128,132,136,140,50,52,54,56,58,60,62,64,66,68,71,75,78,82,86,80,84,88,92,97,102,107,112,117,122,128,134,140,146,88,92,96,100,104,108,112,116,120,124,128,132,136,140,{"$f":"'اندازه های شخصی'!G22","v":0},{"$f":"'اندازه های شخصی'!I22","v":0},{"$f":"'اندازه های شخصی'!K22","v":0},{"$f":"'اندازه های شخصی'!M22","v":0},{"$f":"'اندازه های شخصی'!O22","v":0},{"$f":"'اندازه های شخصی'!Q22","v":0},{"$f":"'اندازه های شخصی'!S22","v":0},{"$f":"'اندازه های شخصی'!U22","v":0},{"$f":"'اندازه های شخصی'!W22","v":0},{"$f":"'اندازه های شخصی'!Y22","v":0},{"$f":"'اندازه های شخصی'!AA22","v":0},{"$f":"'اندازه های شخصی'!AC22","v":0},{"$f":"'اندازه های شخصی'!AE22","v":0},{"$f":"'اندازه های شخصی'!AG22","v":0},{"$f":"'اندازه های شخصی'!AI22","v":0},{"$f":"'اندازه های شخصی'!AK22","v":0},{"$f":"'اندازه های شخصی'!AM22","v":0},{"$f":"'اندازه های شخصی'!AO22","v":0},{"$f":"'اندازه های شخصی'!AQ22","v":0},{"$f":"'اندازه های شخصی'!AS22","v":0},{"$f":"'اندازه های شخصی'!AU22","v":0},{"$f":"'اندازه های شخصی'!AW22","v":0},{"$f":"'اندازه های شخصی'!AY22","v":0},{"$f":"'اندازه های شخصی'!BA22","v":0},{"$f":"'اندازه های شخصی'!BC22","v":0},{"$f":"'اندازه های شخصی'!BE22","v":0},{"$f":"'اندازه های شخصی'!BG22","v":0},{"$f":"'اندازه های شخصی'!BI22","v":0},{"$f":"'اندازه های شخصی'!BK22","v":0},{"$f":"'اندازه های شخصی'!BM22","v":0},{"$f":"'اندازه های شخصی'!BO22","v":0},{"$f":"'اندازه های شخصی'!BQ22","v":0},{"$f":"'اندازه های شخصی'!BS22","v":0},{"$f":"'اندازه های شخصی'!BU22","v":0},{"$f":"'اندازه های شخصی'!BW22","v":0},{"$f":"'اندازه های شخصی'!BY22","v":0},{"$f":"'اندازه های شخصی'!CA22","v":0},{"$f":"'اندازه های شخصی'!CC22","v":0},{"$f":"'اندازه های شخصی'!CE22","v":0},{"$f":"'اندازه های شخصی'!CG22","v":0}]
["ضریب گشادی دور مچ  c3","(از 1.1 الی 3)",1.7000000000000006,"بدون گشادی=1",{"$f":"'طراحی همه الگوها'!Q235","v":7},"ضریب گشادی دور مچ  ",1,1.1000000000000001,0,1,0.10000000000000009,1,1.1000000000000001,1,3,19.999999999999982,1,0,null,"s2",21.5,22.5,23.5,25,26,27,28,29,30,31,32,33,34,35.5,37.5,39,41,43,38.9,40.200000000000003,41.5,42.8,44.3,45.9,47.5,49.1,50.9,53.6,56.5,59.8,63.7,67.5,44,46,48,50,52,54,56,58,60,62,64,66,68,70,25,26,27,28,29,30,31,32,33,34,35.5,37.5,39,41,43,38.9,40.200000000000003,41.5,42.8,44.3,45.9,47.5,49.1,50.9,53.6,56.5,59.8,63.7,67.5,44,46,48,50,52,54,56,58,60,62,64,66,68,70,{"$f":"'اندازه های شخصی'!G23","v":0},{"$f":"'اندازه های شخصی'!I23","v":0},{"$f":"'اندازه های شخصی'!K23","v":0},{"$f":"'اندازه های شخصی'!M23","v":0},{"$f":"'اندازه های شخصی'!O23","v":0},{"$f":"'اندازه های شخصی'!Q23","v":0},{"$f":"'اندازه های شخصی'!S23","v":0},{"$f":"'اندازه های شخصی'!U23","v":0},{"$f":"'اندازه های شخصی'!W23","v":0},{"$f":"'اندازه های شخصی'!Y23","v":0},{"$f":"'اندازه های شخصی'!AA23","v":0},{"$f":"'اندازه های شخصی'!AC23","v":0},{"$f":"'اندازه های شخصی'!AE23","v":0},{"$f":"'اندازه های شخصی'!AG23","v":0},{"$f":"'اندازه های شخصی'!AI23","v":0},{"$f":"'اندازه های شخصی'!AK23","v":0},{"$f":"'اندازه های شخصی'!AM23","v":0},{"$f":"'اندازه های شخصی'!AO23","v":0},{"$f":"'اندازه های شخصی'!AQ23","v":0},{"$f":"'اندازه های شخصی'!AS23","v":0},{"$f":"'اندازه های شخصی'!AU23","v":0},{"$f":"'اندازه های شخصی'!AW23","v":0},{"$f":"'اندازه های شخصی'!AY23","v":0},{"$f":"'اندازه های شخصی'!BA23","v":0},{"$f":"'اندازه های شخصی'!BC23","v":0},{"$f":"'اندازه های شخصی'!BE23","v":0},{"$f":"'اندازه های شخصی'!BG23","v":0},{"$f":"'اندازه های شخصی'!BI23","v":0},{"$f":"'اندازه های شخصی'!BK23","v":0},{"$f":"'اندازه های شخصی'!BM23","v":0},{"$f":"'اندازه های شخصی'!BO23","v":0},{"$f":"'اندازه های شخصی'!BQ23","v":0},{"$f":"'اندازه های شخصی'!BS23","v":0},{"$f":"'اندازه های شخصی'!BU23","v":0},{"$f":"'اندازه های شخصی'!BW23","v":0},{"$f":"'اندازه های شخصی'!BY23","v":0},{"$f":"'اندازه های شخصی'!CA23","v":0},{"$f":"'اندازه های شخصی'!CC23","v":0},{"$f":"'اندازه های شخصی'!CE23","v":0},{"$f":"'اندازه های شخصی'!CG23","v":0}]
["ضریب بلند شدن آستین به سمت زیر بغل c4","(از 0 الی 1)",0.7,"آستین تا زیر بغل=0 \nبدون آستین= 1  ",{"$f":"'طراحی همه الگوها'!Q236","v":30}," بلند شدن آستین به سمت زیر بغل ",30,0.7,10,0.1,0.03,-0.19999999999999996,0,6.6666666666666652,1,40,0,6.6666666666666652,null,"t1",15.8,16.2,18.3,20.3,21.3,24.4,26.5,26.9,28.6,30.2,31.8,33.299999999999997,35.5,36.5,37.299999999999997,38.200000000000003,39,39.799999999999997,43.6,43.8,44.1,44.4,44.8,45,45,45.6,45.9,46.3,46.3,46.6,46.3,46.5,46.9,47.2,47.3,47.5,47.7,48,48.1,48.1,48.3,48.2,48.6,48.7,48.8,48.9,21.8,22.8,25.8,28.2,28.4,30.2,31.7,33.299999999999997,34.9,37.200000000000003,38.200000000000003,39.1,39.700000000000003,40.5,40.9,43.6,43.8,44.1,44.4,44.8,45,45,45.6,45.9,46.3,46.3,46.6,46.3,46.5,46.3,46.3,46,46,45.6,45.6,45.4,45,44.8,44.4,44.4,44.2,44,43.6,{"$f":"'اندازه های شخصی'!G24","v":0},{"$f":"'اندازه های شخصی'!I24","v":0},{"$f":"'اندازه های شخصی'!K24","v":0},{"$f":"'اندازه های شخصی'!M24","v":0},{"$f":"'اندازه های شخصی'!O24","v":0},{"$f":"'اندازه های شخصی'!Q24","v":0},{"$f":"'اندازه های شخصی'!S24","v":0},{"$f":"'اندازه های شخصی'!U24","v":0},{"$f":"'اندازه های شخصی'!W24","v":0},{"$f":"'اندازه های شخصی'!Y24","v":0},{"$f":"'اندازه های شخصی'!AA24","v":0},{"$f":"'اندازه های شخصی'!AC24","v":0},{"$f":"'اندازه های شخصی'!AE24","v":0},{"$f":"'اندازه های شخصی'!AG24","v":0},{"$f":"'اندازه های شخصی'!AI24","v":0},{"$f":"'اندازه های شخصی'!AK24","v":0},{"$f":"'اندازه های شخصی'!AM24","v":0},{"$f":"'اندازه های شخصی'!AO24","v":0},{"$f":"'اندازه های شخصی'!AQ24","v":0},{"$f":"'اندازه های شخصی'!AS24","v":0},{"$f":"'اندازه های شخصی'!AU24","v":0},{"$f":"'اندازه های شخصی'!AW24","v":0},{"$f":"'اندازه های شخصی'!AY24","v":0},{"$f":"'اندازه های شخصی'!BA24","v":0},{"$f":"'اندازه های شخصی'!BC24","v":0},{"$f":"'اندازه های شخصی'!BE24","v":0},{"$f":"'اندازه های شخصی'!BG24","v":0},{"$f":"'اندازه های شخصی'!BI24","v":0},{"$f":"'اندازه های شخصی'!BK24","v":0},{"$f":"'اندازه های شخصی'!BM24","v":0},{"$f":"'اندازه های شخصی'!BO24","v":0},{"$f":"'اندازه های شخصی'!BQ24","v":0},{"$f":"'اندازه های شخصی'!BS24","v":0},{"$f":"'اندازه های شخصی'!BU24","v":0},{"$f":"'اندازه های شخصی'!BW24","v":0},{"$f":"'اندازه های شخصی'!BY24","v":0},{"$f":"'اندازه های شخصی'!CA24","v":0},{"$f":"'اندازه های شخصی'!CC24","v":0},{"$f":"'اندازه های شخصی'!CE24","v":0},{"$f":"'اندازه های شخصی'!CG24","v":0}]
["ضریب گشادی پایین چادر (به درجه) c5","(از 0 الی حداکثر)",20,"چادر راسته بدون گشادی=0  ",{"$f":"'طراحی همه الگوها'!Q237","v":20},"ضریب گشادی پایین چادر (درجه) ",21,21,20,20,1,0,0,0,2,2,0,0,null,"t2",19.399999999999999,19.899999999999999,22.2,24.5,25.7,28.7,31,31.6,33.4,35.200000000000003,36.9,38.6,40.9,42.1,43.3,44.5,45.7,46.9,50.8,51.4,51.9,52.5,53.5,54.3,55.1,56.4,57.5,58.7,59.8,61,62.1,63.3,53.7,54.3,54.7,55.3,55.6,56.2,56.8,57.2,57.7,58.1,58.7,59.1,59.7,60.1,26.6,27.9,31.1,33.6,34.200000000000003,36.1,37.9,39.799999999999997,41.8,44.3,45.5,46.9,48,49.4,50.6,50.8,51.4,51.9,52.5,53.5,54.3,55.1,56.4,57.5,58.7,59.8,61,62.1,63.3,55.9,56.4,56.7,57.3,57.7,58.3,58.9,59.3,59.9,60.2,60.8,61.4,62,62.4,{"$f":"'اندازه های شخصی'!G25","v":0},{"$f":"'اندازه های شخصی'!I25","v":0},{"$f":"'اندازه های شخصی'!K25","v":0},{"$f":"'اندازه های شخصی'!M25","v":0},{"$f":"'اندازه های شخصی'!O25","v":0},{"$f":"'اندازه های شخصی'!Q25","v":0},{"$f":"'اندازه های شخصی'!S25","v":0},{"$f":"'اندازه های شخصی'!U25","v":0},{"$f":"'اندازه های شخصی'!W25","v":0},{"$f":"'اندازه های شخصی'!Y25","v":0},{"$f":"'اندازه های شخصی'!AA25","v":0},{"$f":"'اندازه های شخصی'!AC25","v":0},{"$f":"'اندازه های شخصی'!AE25","v":0},{"$f":"'اندازه های شخصی'!AG25","v":0},{"$f":"'اندازه های شخصی'!AI25","v":0},{"$f":"'اندازه های شخصی'!AK25","v":0},{"$f":"'اندازه های شخصی'!AM25","v":0},{"$f":"'اندازه های شخصی'!AO25","v":0},{"$f":"'اندازه های شخصی'!AQ25","v":0},{"$f":"'اندازه های شخصی'!AS25","v":0},{"$f":"'اندازه های شخصی'!AU25","v":0},{"$f":"'اندازه های شخصی'!AW25","v":0},{"$f":"'اندازه های شخصی'!AY25","v":0},{"$f":"'اندازه های شخصی'!BA25","v":0},{"$f":"'اندازه های شخصی'!BC25","v":0},{"$f":"'اندازه های شخصی'!BE25","v":0},{"$f":"'اندازه های شخصی'!BG25","v":0},{"$f":"'اندازه های شخصی'!BI25","v":0},{"$f":"'اندازه های شخصی'!BK25","v":0},{"$f":"'اندازه های شخصی'!BM25","v":0},{"$f":"'اندازه های شخصی'!BO25","v":0},{"$f":"'اندازه های شخصی'!BQ25","v":0},{"$f":"'اندازه های شخصی'!BS25","v":0},{"$f":"'اندازه های شخصی'!BU25","v":0},{"$f":"'اندازه های شخصی'!BW25","v":0},{"$f":"'اندازه های شخصی'!BY25","v":0},{"$f":"'اندازه های شخصی'!CA25","v":0},{"$f":"'اندازه های شخصی'!CC25","v":0},{"$f":"'اندازه های شخصی'!CE25","v":0},{"$f":"'اندازه های شخصی'!CG25","v":0}]
["حداکثر مقدار  c5  برای اندام شما",{"$f":"ROUND(DEGREES(محاسبات!BL46-RADIANS(45)+محاسبات!BL42),0)","v":52},null,null,null,"حداکثر مقدار ضریب گشادی پایین چادر  برای اندام شما",null,null,null,null,null,null,null,null,null,null,null,null,null,"t3",33,34,38,42,44,49,53,54,57,60,63,66,70,72,74,76,78,80,80,81,82,83,84.4,85.7,87,88.9,90.8,92.6,94.5,96.3,98.2,100,86.8,87.6,88.4,89.2,90,90.8,91.6,92.4,93.2,94,94.8,95.6,96.4,97.2,42,44,49,53,54,57,60,63,66,70,72,74,76,78,80,80,81,82,83,84.4,85.7,87,88.9,90.8,92.6,94.5,96.3,98.2,100,88.2,89,89.7,90.5,91.3,92.1,92.9,93.7,94.5,95.3,96.1,97.1,97.9,98.7,{"$f":"'اندازه های شخصی'!G26","v":0},{"$f":"'اندازه های شخصی'!I26","v":0},{"$f":"'اندازه های شخصی'!K26","v":0},{"$f":"'اندازه های شخصی'!M26","v":0},{"$f":"'اندازه های شخصی'!O26","v":0},{"$f":"'اندازه های شخصی'!Q26","v":0},{"$f":"'اندازه های شخصی'!S26","v":0},{"$f":"'اندازه های شخصی'!U26","v":0},{"$f":"'اندازه های شخصی'!W26","v":0},{"$f":"'اندازه های شخصی'!Y26","v":0},{"$f":"'اندازه های شخصی'!AA26","v":0},{"$f":"'اندازه های شخصی'!AC26","v":0},{"$f":"'اندازه های شخصی'!AE26","v":0},{"$f":"'اندازه های شخصی'!AG26","v":0},{"$f":"'اندازه های شخصی'!AI26","v":0},{"$f":"'اندازه های شخصی'!AK26","v":0},{"$f":"'اندازه های شخصی'!AM26","v":0},{"$f":"'اندازه های شخصی'!AO26","v":0},{"$f":"'اندازه های شخصی'!AQ26","v":0},{"$f":"'اندازه های شخصی'!AS26","v":0},{"$f":"'اندازه های شخصی'!AU26","v":0},{"$f":"'اندازه های شخصی'!AW26","v":0},{"$f":"'اندازه های شخصی'!AY26","v":0},{"$f":"'اندازه های شخصی'!BA26","v":0},{"$f":"'اندازه های شخصی'!BC26","v":0},{"$f":"'اندازه های شخصی'!BE26","v":0},{"$f":"'اندازه های شخصی'!BG26","v":0},{"$f":"'اندازه های شخصی'!BI26","v":0},{"$f":"'اندازه های شخصی'!BK26","v":0},{"$f":"'اندازه های شخصی'!BM26","v":0},{"$f":"'اندازه های شخصی'!BO26","v":0},{"$f":"'اندازه های شخصی'!BQ26","v":0},{"$f":"'اندازه های شخصی'!BS26","v":0},{"$f":"'اندازه های شخصی'!BU26","v":0},{"$f":"'اندازه های شخصی'!BW26","v":0},{"$f":"'اندازه های شخصی'!BY26","v":0},{"$f":"'اندازه های شخصی'!CA26","v":0},{"$f":"'اندازه های شخصی'!CC26","v":0},{"$f":"'اندازه های شخصی'!CE26","v":0},{"$f":"'اندازه های شخصی'!CG26","v":0}]
["انتخاب چادر تا پایین پیشانی=1    انتخاب چادر تا بالای پیشانی=0\nانتخاب چادر روی سر = -1"," -1 یا 0 یا 1",{"$f":"K32*E32+L32","v":0},null,{"$f":"'طراحی همه الگوها'!Q239","v":2},"انتخاب چادر تا پایین پیشانی=3    انتخاب چادر تا بالای پیشانی=2\nانتخاب چادر روی سر = 1",2,0,1,-1,{"$f":"(J32-H32)/(I32-G32)","v":1},{"$f":"H32-G32*K32","v":-2},0,{"$f":"(M32-L32)/K32","v":2},1,{"$f":"(O32-L32)/K32","v":3},0,{"$f":"(Q32-L32)/K32","v":2},null,"t4",8.1,8.3000000000000007,9.4,10.4,10.9,12.5,13.6,13.8,14.7,15.5,16.3,17.100000000000001,18.2,18.7,19.100000000000001,19.600000000000001,20,20.399999999999999,21.9,22.1,22.3,22.5,22.8,23,23.1,23.5,23.7,23.9,23.9,24,23.8,23.8,24.7,24.8,24.8,24.9,25,25.1,25.1,25.1,25.2,25.1,25.3,25.4,25.4,25.4,10.8,11.3,12.8,14,14.1,15,15.8,16.600000000000001,17.399999999999999,18.600000000000001,19,19.399999999999999,19.7,20.100000000000001,20.3,21.9,22.1,22.3,22.5,22.8,23,23.1,23.5,23.7,23.9,23.9,24,23.8,23.8,22.9,22.9,22.7,22.7,22.5,22.5,22.4,22.2,22.1,21.9,21.9,21.8,21.7,21.5,{"$f":"'اندازه های شخصی'!G27","v":0},{"$f":"'اندازه های شخصی'!I27","v":0},{"$f":"'اندازه های شخصی'!K27","v":0},{"$f":"'اندازه های شخصی'!M27","v":0},{"$f":"'اندازه های شخصی'!O27","v":0},{"$f":"'اندازه های شخصی'!Q27","v":0},{"$f":"'اندازه های شخصی'!S27","v":0},{"$f":"'اندازه های شخصی'!U27","v":0},{"$f":"'اندازه های شخصی'!W27","v":0},{"$f":"'اندازه های شخصی'!Y27","v":0},{"$f":"'اندازه های شخصی'!AA27","v":0},{"$f":"'اندازه های شخصی'!AC27","v":0},{"$f":"'اندازه های شخصی'!AE27","v":0},{"$f":"'اندازه های شخصی'!AG27","v":0},{"$f":"'اندازه های شخصی'!AI27","v":0},{"$f":"'اندازه های شخصی'!AK27","v":0},{"$f":"'اندازه های شخصی'!AM27","v":0},{"$f":"'اندازه های شخصی'!AO27","v":0},{"$f":"'اندازه های شخصی'!AQ27","v":0},{"$f":"'اندازه های شخصی'!AS27","v":0},{"$f":"'اندازه های شخصی'!AU27","v":0},{"$f":"'اندازه های شخصی'!AW27","v":0},{"$f":"'اندازه های شخصی'!AY27","v":0},{"$f":"'اندازه های شخصی'!BA27","v":0},{"$f":"'اندازه های شخصی'!BC27","v":0},{"$f":"'اندازه های شخصی'!BE27","v":0},{"$f":"'اندازه های شخصی'!BG27","v":0},{"$f":"'اندازه های شخصی'!BI27","v":0},{"$f":"'اندازه های شخصی'!BK27","v":0},{"$f":"'اندازه های شخصی'!BM27","v":0},{"$f":"'اندازه های شخصی'!BO27","v":0},{"$f":"'اندازه های شخصی'!BQ27","v":0},{"$f":"'اندازه های شخصی'!BS27","v":0},{"$f":"'اندازه های شخصی'!BU27","v":0},{"$f":"'اندازه های شخصی'!BW27","v":0},{"$f":"'اندازه های شخصی'!BY27","v":0},{"$f":"'اندازه های شخصی'!CA27","v":0},{"$f":"'اندازه های شخصی'!CC27","v":0},{"$f":"'اندازه های شخصی'!CE27","v":0},{"$f":"'اندازه های شخصی'!CG27","v":0}]
["ضریب فاصله افقی مرغک از خط مرکزی جلو","(از -1 الی 4)",{"$f":"K33*E33+L33","v":2},"خط مرکزی جلو=0 \nخط پهلو=1  ",{"$f":"'طراحی همه الگوها'!Q240","v":40},"ضریب فاصله افقی مرغک از خط مرکزی جلو",20,1,0,0,{"$f":"(J33-H33)/(I33-G33)","v":0.05},{"$f":"H33-G33*K33","v":0},-1,{"$f":"(M33-L33)/K33","v":-20},4,{"$f":"(O33-L33)/K33","v":80},0,{"$f":"(Q33-L33)/K33","v":0},null,"t5",10.1,10.4,11.6,12.8,13.4,15,16.2,16.5,17.5,18.399999999999999,19.3,20.2,21.4,22,22.6,23.3,23.9,24.5,25.4,25.7,26,26.3,26.7,27,27.3,27.8,28.2,28.7,29.1,29.6,30,30.5,28.8,29.1,29.3,29.6,29.8,30.1,30.4,30.6,30.9,31.1,31.4,31.7,32,32.200000000000003,13.7,14.4,16,17.3,17.600000000000001,18.600000000000001,19.600000000000001,20.6,21.6,22.9,23.5,24.2,24.8,25.5,26.1,25.4,25.7,26,26.3,26.7,27,27.3,27.8,28.2,28.7,29.1,29.6,30,30.5,28.8,29.1,29.3,29.6,29.8,30.1,30.4,30.6,30.9,31.1,31.4,31.7,32,32.200000000000003,{"$f":"'اندازه های شخصی'!G28","v":0},{"$f":"'اندازه های شخصی'!I28","v":0},{"$f":"'اندازه های شخصی'!K28","v":0},{"$f":"'اندازه های شخصی'!M28","v":0},{"$f":"'اندازه های شخصی'!O28","v":0},{"$f":"'اندازه های شخصی'!Q28","v":0},{"$f":"'اندازه های شخصی'!S28","v":0},{"$f":"'اندازه های شخصی'!U28","v":0},{"$f":"'اندازه های شخصی'!W28","v":0},{"$f":"'اندازه های شخصی'!Y28","v":0},{"$f":"'اندازه های شخصی'!AA28","v":0},{"$f":"'اندازه های شخصی'!AC28","v":0},{"$f":"'اندازه های شخصی'!AE28","v":0},{"$f":"'اندازه های شخصی'!AG28","v":0},{"$f":"'اندازه های شخصی'!AI28","v":0},{"$f":"'اندازه های شخصی'!AK28","v":0},{"$f":"'اندازه های شخصی'!AM28","v":0},{"$f":"'اندازه های شخصی'!AO28","v":0},{"$f":"'اندازه های شخصی'!AQ28","v":0},{"$f":"'اندازه های شخصی'!AS28","v":0},{"$f":"'اندازه های شخصی'!AU28","v":0},{"$f":"'اندازه های شخصی'!AW28","v":0},{"$f":"'اندازه های شخصی'!AY28","v":0},{"$f":"'اندازه های شخصی'!BA28","v":0},{"$f":"'اندازه های شخصی'!BC28","v":0},{"$f":"'اندازه های شخصی'!BE28","v":0},{"$f":"'اندازه های شخصی'!BG28","v":0},{"$f":"'اندازه های شخصی'!BI28","v":0},{"$f":"'اندازه های شخصی'!BK28","v":0},{"$f":"'اندازه های شخصی'!BM28","v":0},{"$f":"'اندازه های شخصی'!BO28","v":0},{"$f":"'اندازه های شخصی'!BQ28","v":0},{"$f":"'اندازه های شخصی'!BS28","v":0},{"$f":"'اندازه های شخصی'!BU28","v":0},{"$f":"'اندازه های شخصی'!BW28","v":0},{"$f":"'اندازه های شخصی'!BY28","v":0},{"$f":"'اندازه های شخصی'!CA28","v":0},{"$f":"'اندازه های شخصی'!CC28","v":0},{"$f":"'اندازه های شخصی'!CE28","v":0},{"$f":"'اندازه های شخصی'!CG28","v":0}]
["ضریب فاصله عمودی مرغک از زمین","(از 0 الی 5)",{"$f":"K34*E34+L34","v":1.25},"خط زمین=0 \nخط زانو=1 \nخط باسن=2 \nخط کمر=3 \nخط سینه=4  ",{"$f":"'طراحی همه الگوها'!Q241","v":35},"ضریب فاصله عمودی مرغک از زمین",10,0,30,1,{"$f":"(J34-H34)/(I34-G34)","v":0.05},{"$f":"H34-G34*K34","v":-0.5},0,{"$f":"(M34-L34)/K34","v":10},5,{"$f":"(O34-L34)/K34","v":110},0,{"$f":"(Q34-L34)/K34","v":10},null,"t6",16.8,17.3,19.399999999999999,21.4,22.4,25,27,27.5,29.1,30.6,32.1,33.700000000000003,35.700000000000003,36.700000000000003,37.700000000000003,38.799999999999997,39.799999999999997,40.799999999999997,39,39.5,40,40.5,41,41.5,42,42.7,43.4,44.1,44.8,45.5,46.2,46.9,44.3,44.7,45.1,45.5,45.9,46.3,46.7,47.1,47.5,47.9,48.3,48.8,49.2,49.6,21.1,22.1,24.6,26.6,27.1,28.6,30.2,31.7,33.200000000000003,35.200000000000003,36.200000000000003,37.200000000000003,38.200000000000003,39.200000000000003,40.200000000000003,39,39.5,40,40.5,41,41.5,42,42.7,43.4,44.1,44.8,45.5,46.2,46.9,44.3,44.7,45.1,45.5,45.9,46.3,46.7,47.1,47.5,47.9,48.3,48.8,49.2,49.6,{"$f":"'اندازه های شخصی'!G29","v":0},{"$f":"'اندازه های شخصی'!I29","v":0},{"$f":"'اندازه های شخصی'!K29","v":0},{"$f":"'اندازه های شخصی'!M29","v":0},{"$f":"'اندازه های شخصی'!O29","v":0},{"$f":"'اندازه های شخصی'!Q29","v":0},{"$f":"'اندازه های شخصی'!S29","v":0},{"$f":"'اندازه های شخصی'!U29","v":0},{"$f":"'اندازه های شخصی'!W29","v":0},{"$f":"'اندازه های شخصی'!Y29","v":0},{"$f":"'اندازه های شخصی'!AA29","v":0},{"$f":"'اندازه های شخصی'!AC29","v":0},{"$f":"'اندازه های شخصی'!AE29","v":0},{"$f":"'اندازه های شخصی'!AG29","v":0},{"$f":"'اندازه های شخصی'!AI29","v":0},{"$f":"'اندازه های شخصی'!AK29","v":0},{"$f":"'اندازه های شخصی'!AM29","v":0},{"$f":"'اندازه های شخصی'!AO29","v":0},{"$f":"'اندازه های شخصی'!AQ29","v":0},{"$f":"'اندازه های شخصی'!AS29","v":0},{"$f":"'اندازه های شخصی'!AU29","v":0},{"$f":"'اندازه های شخصی'!AW29","v":0},{"$f":"'اندازه های شخصی'!AY29","v":0},{"$f":"'اندازه های شخصی'!BA29","v":0},{"$f":"'اندازه های شخصی'!BC29","v":0},{"$f":"'اندازه های شخصی'!BE29","v":0},{"$f":"'اندازه های شخصی'!BG29","v":0},{"$f":"'اندازه های شخصی'!BI29","v":0},{"$f":"'اندازه های شخصی'!BK29","v":0},{"$f":"'اندازه های شخصی'!BM29","v":0},{"$f":"'اندازه های شخصی'!BO29","v":0},{"$f":"'اندازه های شخصی'!BQ29","v":0},{"$f":"'اندازه های شخصی'!BS29","v":0},{"$f":"'اندازه های شخصی'!BU29","v":0},{"$f":"'اندازه های شخصی'!BW29","v":0},{"$f":"'اندازه های شخصی'!BY29","v":0},{"$f":"'اندازه های شخصی'!CA29","v":0},{"$f":"'اندازه های شخصی'!CC29","v":0},{"$f":"'اندازه های شخصی'!CE29","v":0},{"$f":"'اندازه های شخصی'!CG29","v":0}]
[null,null,null,null,null,null,null,null,null,null,null,null,null,null,null,null,null,null,null,"v",25,27,27,28,28,30,30,31,31,32,32,33,34,35,36,37,38,39,36,37,38,39,40.200000000000003,41.4,42.6,43.8,45,46,47,48,49,50,39,40,41,42,43,44,45,46,47,48,49,50,51,52,28,28,30,30,31,31,32,32,33,34,35,36,37,38,39,36,37,38,39,40.200000000000003,41.4,42.6,43.8,45,46,47,48,49,50,39,40,41,42,43,44,45,46,47,48,49,50,51,52,{"$f":"'اندازه های شخصی'!G30","v":0},{"$f":"'اندازه های شخصی'!I30","v":0},{"$f":"'اندازه های شخصی'!K30","v":0},{"$f":"'اندازه های شخصی'!M30","v":0},{"$f":"'اندازه های شخصی'!O30","v":0},{"$f":"'اندازه های شخصی'!Q30","v":0},{"$f":"'اندازه های شخصی'!S30","v":0},{"$f":"'اندازه های شخصی'!U30","v":0},{"$f":"'اندازه های شخصی'!W30","v":0},{"$f":"'اندازه های شخصی'!Y30","v":0},{"$f":"'اندازه های شخصی'!AA30","v":0},{"$f":"'اندازه های شخصی'!AC30","v":0},{"$f":"'اندازه های شخصی'!AE30","v":0},{"$f":"'اندازه های شخصی'!AG30","v":0},{"$f":"'اندازه های شخصی'!AI30","v":0},{"$f":"'اندازه های شخصی'!AK30","v":0},{"$f":"'اندازه های شخصی'!AM30","v":0},{"$f":"'اندازه های شخصی'!AO30","v":0},{"$f":"'اندازه های شخصی'!AQ30","v":0},{"$f":"'اندازه های شخصی'!AS30","v":0},{"$f":"'اندازه های شخصی'!AU30","v":0},{"$f":"'اندازه های شخصی'!AW30","v":0},{"$f":"'اندازه های شخصی'!AY30","v":0},{"$f":"'اندازه های شخصی'!BA30","v":0},{"$f":"'اندازه های شخصی'!BC30","v":0},{"$f":"'اندازه های شخصی'!BE30","v":0},{"$f":"'اندازه های شخصی'!BG30","v":0},{"$f":"'اندازه های شخصی'!BI30","v":0},{"$f":"'اندازه های شخصی'!BK30","v":0},{"$f":"'اندازه های شخصی'!BM30","v":0},{"$f":"'اندازه های شخصی'!BO30","v":0},{"$f":"'اندازه های شخصی'!BQ30","v":0},{"$f":"'اندازه های شخصی'!BS30","v":0},{"$f":"'اندازه های شخصی'!BU30","v":0},{"$f":"'اندازه های شخصی'!BW30","v":0},{"$f":"'اندازه های شخصی'!BY30","v":0},{"$f":"'اندازه های شخصی'!CA30","v":0},{"$f":"'اندازه های شخصی'!CC30","v":0},{"$f":"'اندازه های شخصی'!CE30","v":0},{"$f":"'اندازه های شخصی'!CG30","v":0}]
[" متغیرهای ورودی چادر شماره 5",null,null,null,null," متغیرهای ورودی چادر شماره 5","x1","y1","x2","y2(بهینه)","a","b",null,"کمترین",null,"بیشترین",null,null,null,"v3",17.7,18.399999999999999,19.2,20.399999999999999,21.2,22,22.7,23.5,24.2,25.2,26,27,27.8,28.9,30.5,31.8,33.4,35.1,31.9,32.9,33.9,34.799999999999997,36,37.1,38.299999999999997,39.5,40.9,43.2,45.7,48.6,52.1,55.5,35.200000000000003,36.9,38.6,40.200000000000003,41.9,43.6,45.4,47.3,49.1,51.8,52.8,54.6,56.5,58.3,20.399999999999999,21.2,22,22.7,23.5,24.2,25.2,26,27,27.8,28.9,30.5,31.8,33.4,35.1,31.9,32.9,33.9,34.799999999999997,36,37.1,38.299999999999997,39.5,40.9,43.2,45.7,48.6,52.1,55.5,35.5,37.200000000000003,38.9,40.6,42.3,44,45.8,47.7,49.5,51.4,53.2,55.1,56.9,58.8,{"$f":"'اندازه های شخصی'!G31","v":0},{"$f":"'اندازه های شخصی'!I31","v":0},{"$f":"'اندازه های شخصی'!K31","v":0},{"$f":"'اندازه های شخصی'!M31","v":0},{"$f":"'اندازه های شخصی'!O31","v":0},{"$f":"'اندازه های شخصی'!Q31","v":0},{"$f":"'اندازه های شخصی'!S31","v":0},{"$f":"'اندازه های شخصی'!U31","v":0},{"$f":"'اندازه های شخصی'!W31","v":0},{"$f":"'اندازه های شخصی'!Y31","v":0},{"$f":"'اندازه های شخصی'!AA31","v":0},{"$f":"'اندازه های شخصی'!AC31","v":0},{"$f":"'اندازه های شخصی'!AE31","v":0},{"$f":"'اندازه های شخصی'!AG31","v":0},{"$f":"'اندازه های شخصی'!AI31","v":0},{"$f":"'اندازه های شخصی'!AK31","v":0},{"$f":"'اندازه های شخصی'!AM31","v":0},{"$f":"'اندازه های شخصی'!AO31","v":0},{"$f":"'اندازه های شخصی'!AQ31","v":0},{"$f":"'اندازه های شخصی'!AS31","v":0},{"$f":"'اندازه های شخصی'!AU31","v":0},{"$f":"'اندازه های شخصی'!AW31","v":0},{"$f":"'اندازه های شخصی'!AY31","v":0},{"$f":"'اندازه های شخصی'!BA31","v":0},{"$f":"'اندازه های شخصی'!BC31","v":0},{"$f":"'اندازه های شخصی'!BE31","v":0},{"$f":"'اندازه های شخصی'!BG31","v":0},{"$f":"'اندازه های شخصی'!BI31","v":0},{"$f":"'اندازه های شخصی'!BK31","v":0},{"$f":"'اندازه های شخصی'!BM31","v":0},{"$f":"'اندازه های شخصی'!BO31","v":0},{"$f":"'اندازه های شخصی'!BQ31","v":0},{"$f":"'اندازه های شخصی'!BS31","v":0},{"$f":"'اندازه های شخصی'!BU31","v":0},{"$f":"'اندازه های شخصی'!BW31","v":0},{"$f":"'اندازه های شخصی'!BY31","v":0},{"$f":"'اندازه های شخصی'!CA31","v":0},{"$f":"'اندازه های شخصی'!CC31","v":0},{"$f":"'اندازه های شخصی'!CE31","v":0},{"$f":"'اندازه های شخصی'!CG31","v":0}]
["ضریب فاصله لبه چادر تا زمین   j0","(از -0.1 الی 0.5)",{"$f":"K37*E37+L37","v":0},"خط زمین=0 \nخط زانو=1  ",{"$f":"'طراحی همه الگوها'!Q249","v":10},"ضریب فاصله لبه چادر تا زمین   ",10,0,30,1,{"$f":"(J37-H37)/(I37-G37)","v":0.05},{"$f":"H37-G37*K37","v":-0.5},-0.1,{"$f":"(M37-L37)/K37","v":8},0.5,{"$f":"(O37-L37)/K37","v":20},0,{"$f":"(Q37-L37)/K37","v":10},null,"w2",16,17,18,19,20,21,22,23,24,24,25,25,26,27.5,29,30,31.5,33,27,28.2,29.4,30.6,32,33.799999999999997,35.4,37,38.5,40,41.5,43,44.5,46,33.9,35.1,36.299999999999997,37.6,38.799999999999997,40,40.700000000000003,41.3,41.9,42.5,43.1,43.7,44.4,45,19,20,21,22,23,24,24,25,25,26,27.5,29,30,31.5,33,27,28.2,29.4,30.6,32,33.799999999999997,35.4,37,38.5,40,41.5,43,44.5,46,33.9,35.1,36.299999999999997,37.6,38.799999999999997,40,40.700000000000003,41.3,41.9,42.5,43.1,43.7,44.4,45,{"$f":"'اندازه های شخصی'!G32","v":0},{"$f":"'اندازه های شخصی'!I32","v":0},{"$f":"'اندازه های شخصی'!K32","v":0},{"$f":"'اندازه های شخصی'!M32","v":0},{"$f":"'اندازه های شخصی'!O32","v":0},{"$f":"'اندازه های شخصی'!Q32","v":0},{"$f":"'اندازه های شخصی'!S32","v":0},{"$f":"'اندازه های شخصی'!U32","v":0},{"$f":"'اندازه های شخصی'!W32","v":0},{"$f":"'اندازه های شخصی'!Y32","v":0},{"$f":"'اندازه های شخصی'!AA32","v":0},{"$f":"'اندازه های شخصی'!AC32","v":0},{"$f":"'اندازه های شخصی'!AE32","v":0},{"$f":"'اندازه های شخصی'!AG32","v":0},{"$f":"'اندازه های شخصی'!AI32","v":0},{"$f":"'اندازه های شخصی'!AK32","v":0},{"$f":"'اندازه های شخصی'!AM32","v":0},{"$f":"'اندازه های شخصی'!AO32","v":0},{"$f":"'اندازه های شخصی'!AQ32","v":0},{"$f":"'اندازه های شخصی'!AS32","v":0},{"$f":"'اندازه های شخصی'!AU32","v":0},{"$f":"'اندازه های شخصی'!AW32","v":0},{"$f":"'اندازه های شخصی'!AY32","v":0},{"$f":"'اندازه های شخصی'!BA32","v":0},{"$f":"'اندازه های شخصی'!BC32","v":0},{"$f":"'اندازه های شخصی'!BE32","v":0},{"$f":"'اندازه های شخصی'!BG32","v":0},{"$f":"'اندازه های شخصی'!BI32","v":0},{"$f":"'اندازه های شخصی'!BK32","v":0},{"$f":"'اندازه های شخصی'!BM32","v":0},{"$f":"'اندازه های شخصی'!BO32","v":0},{"$f":"'اندازه های شخصی'!BQ32","v":0},{"$f":"'اندازه های شخصی'!BS32","v":0},{"$f":"'اندازه های شخصی'!BU32","v":0},{"$f":"'اندازه های شخصی'!BW32","v":0},{"$f":"'اندازه های شخصی'!BY32","v":0},{"$f":"'اندازه های شخصی'!CA32","v":0},{"$f":"'اندازه های شخصی'!CC32","v":0},{"$f":"'اندازه های شخصی'!CE32","v":0},{"$f":"'اندازه های شخصی'!CG32","v":0}]
["ضریب گشادی دامن چادر  d1","(از 1.5 الی 2.3)",{"$f":"K38*E38+L38","v":1.8},"بهینه=1.8",{"$f":"'طراحی همه الگوها'!Q250","v":20},"ضریب گشادی دامن چادر  ",21,1.85,20,1.8,{"$f":"(J38-H38)/(I38-G38)","v":5.0000000000000044E-2},{"$f":"H38-G38*K38","v":0.79999999999999916},1.5,{"$f":"(M38-L38)/K38","v":14.000000000000004},2.2999999999999998,{"$f":"(O38-L38)/K38","v":29.999999999999986},1.8,{"$f":"(Q38-L38)/K38","v":20},null,"w10",17,18,21,23,27,31,35,38,41,44,46,48,50,52,54,56,58,60,57.2,57.8,58.4,59,59.5,60,60.5,61,61.2,62,62.5,63,63.5,64,60,60.3,60.8,61.4,62,62.5,63,63.5,64,64.400000000000006,64.8,65.2,65.599999999999994,66,23,27,31,35,38,41,44,46,48,50,52,54,56,58,60,57.2,57.8,58.4,59,59.5,60,60.5,61,61.2,62,62.5,63,63.5,64,60,60.3,60.8,61.4,62,62.5,63,63.5,64,64.400000000000006,64.8,65.2,65.599999999999994,66,{"$f":"'اندازه های شخصی'!G33","v":0},{"$f":"'اندازه های شخصی'!I33","v":0},{"$f":"'اندازه های شخصی'!K33","v":0},{"$f":"'اندازه های شخصی'!M33","v":0},{"$f":"'اندازه های شخصی'!O33","v":0},{"$f":"'اندازه های شخصی'!Q33","v":0},{"$f":"'اندازه های شخصی'!S33","v":0},{"$f":"'اندازه های شخصی'!U33","v":0},{"$f":"'اندازه های شخصی'!W33","v":0},{"$f":"'اندازه های شخصی'!Y33","v":0},{"$f":"'اندازه های شخصی'!AA33","v":0},{"$f":"'اندازه های شخصی'!AC33","v":0},{"$f":"'اندازه های شخصی'!AE33","v":0},{"$f":"'اندازه های شخصی'!AG33","v":0},{"$f":"'اندازه های شخصی'!AI33","v":0},{"$f":"'اندازه های شخصی'!AK33","v":0},{"$f":"'اندازه های شخصی'!AM33","v":0},{"$f":"'اندازه های شخصی'!AO33","v":0},{"$f":"'اندازه های شخصی'!AQ33","v":0},{"$f":"'اندازه های شخصی'!AS33","v":0},{"$f":"'اندازه های شخصی'!AU33","v":0},{"$f":"'اندازه های شخصی'!AW33","v":0},{"$f":"'اندازه های شخصی'!AY33","v":0},{"$f":"'اندازه های شخصی'!BA33","v":0},{"$f":"'اندازه های شخصی'!BC33","v":0},{"$f":"'اندازه های شخصی'!BE33","v":0},{"$f":"'اندازه های شخصی'!BG33","v":0},{"$f":"'اندازه های شخصی'!BI33","v":0},{"$f":"'اندازه های شخصی'!BK33","v":0},{"$f":"'اندازه های شخصی'!BM33","v":0},{"$f":"'اندازه های شخصی'!BO33","v":0},{"$f":"'اندازه های شخصی'!BQ33","v":0},{"$f":"'اندازه های شخصی'!BS33","v":0},{"$f":"'اندازه های شخصی'!BU33","v":0},{"$f":"'اندازه های شخصی'!BW33","v":0},{"$f":"'اندازه های شخصی'!BY33","v":0},{"$f":"'اندازه های شخصی'!CA33","v":0},{"$f":"'اندازه های شخصی'!CC33","v":0},{"$f":"'اندازه های شخصی'!CE33","v":0},{"$f":"'اندازه های شخصی'!CG33","v":0}]
["ضریب بلند شدن دسته چادر d2","(از 0.1 الی 1)",{"$f":"K39*E39+L39","v":0.5},"بهینه=0.5",{"$f":"'طراحی همه الگوها'!Q251","v":20},"ضریب بلند شدن دسته چادر ",21,0.55000000000000004,20,0.5,{"$f":"(J39-H39)/(I39-G39)","v":5.0000000000000044E-2},{"$f":"H39-G39*K39","v":-0.50000000000000089},0.1,{"$f":"(M39-L39)/K39","v":12.000000000000007},1,{"$f":"(O39-L39)/K39","v":29.999999999999993},0.5,{"$f":"(Q39-L39)/K39","v":20},null,"w11",10,10,10.5,11,12,12,13,13,13,14,14,15,16,15,16,16.5,17,17.5,16.5,17,17.5,18,18.5,19,19.5,20,20.5,21,21.5,22,22.5,23,17.899999999999999,18.3,18.7,19.100000000000001,19.5,19.899999999999999,20.3,20.7,21.1,21.5,21.9,22.3,22.7,23.1,11,12,12,13,13,13,14,14,15,16,15,16,16.5,17,17.5,16.5,17,17.5,18,18.5,19,19.5,20,20.5,21,21.5,22,22.5,23,17.899999999999999,18.3,18.7,19.100000000000001,19.5,19.899999999999999,20.3,20.7,21.1,21.5,21.9,22.3,22.7,23.1,{"$f":"'اندازه های شخصی'!G34","v":0},{"$f":"'اندازه های شخصی'!I34","v":0},{"$f":"'اندازه های شخصی'!K34","v":0},{"$f":"'اندازه های شخصی'!M34","v":0},{"$f":"'اندازه های شخصی'!O34","v":0},{"$f":"'اندازه های شخصی'!Q34","v":0},{"$f":"'اندازه های شخصی'!S34","v":0},{"$f":"'اندازه های شخصی'!U34","v":0},{"$f":"'اندازه های شخصی'!W34","v":0},{"$f":"'اندازه های شخصی'!Y34","v":0},{"$f":"'اندازه های شخصی'!AA34","v":0},{"$f":"'اندازه های شخصی'!AC34","v":0},{"$f":"'اندازه های شخصی'!AE34","v":0},{"$f":"'اندازه های شخصی'!AG34","v":0},{"$f":"'اندازه های شخصی'!AI34","v":0},{"$f":"'اندازه های شخصی'!AK34","v":0},{"$f":"'اندازه های شخصی'!AM34","v":0},{"$f":"'اندازه های شخصی'!AO34","v":0},{"$f":"'اندازه های شخصی'!AQ34","v":0},{"$f":"'اندازه های شخصی'!AS34","v":0},{"$f":"'اندازه های شخصی'!AU34","v":0},{"$f":"'اندازه های شخصی'!AW34","v":0},{"$f":"'اندازه های شخصی'!AY34","v":0},{"$f":"'اندازه های شخصی'!BA34","v":0},{"$f":"'اندازه های شخصی'!BC34","v":0},{"$f":"'اندازه های شخصی'!BE34","v":0},{"$f":"'اندازه های شخصی'!BG34","v":0},{"$f":"'اندازه های شخصی'!BI34","v":0},{"$f":"'اندازه های شخصی'!BK34","v":0},{"$f":"'اندازه های شخصی'!BM34","v":0},{"$f":"'اندازه های شخصی'!BO34","v":0},{"$f":"'اندازه های شخصی'!BQ34","v":0},{"$f":"'اندازه های شخصی'!BS34","v":0},{"$f":"'اندازه های شخصی'!BU34","v":0},{"$f":"'اندازه های شخصی'!BW34","v":0},{"$f":"'اندازه های شخصی'!BY34","v":0},{"$f":"'اندازه های شخصی'!CA34","v":0},{"$f":"'اندازه های شخصی'!CC34","v":0},{"$f":"'اندازه های شخصی'!CE34","v":0},{"$f":"'اندازه های شخصی'!CG34","v":0}]
["انتخاب چادر تا پایین پیشانی=1    انتخاب چادر تا بالای پیشانی=0\nانتخاب چادر روی سر = -1"," -1 یا 0 یا 1",{"$f":"K40*E40+L40","v":0},null,{"$f":"'طراحی همه الگوها'!Q252","v":2},"انتخاب چادر تا پایین پیشانی=3    انتخاب چادر تا بالای پیشانی=2\nانتخاب چادر روی سر = 1",2,0,1,-1,{"$f":"(J40-H40)/(I40-G40)","v":1},{"$f":"H40-G40*K40","v":-2},0,{"$f":"(M40-L40)/K40","v":2},1,{"$f":"(O40-L40)/K40","v":3},0,{"$f":"(Q40-L40)/K40","v":2},null,"w12",37,38,42,45,47,49,50,51,52,53,53.5,54,54.5,55,55.5,56,56.5,57,57,57,57,57,57,57,57,57,57,57,57,57,57,57,59,59,59,59,59,59,59,59,59,59,59,59,59,59,45,47,49,50,51,52,53,53.5,54,54.5,55,55.5,56,56.5,57,57,57,57,57,57,57,57,57,57,57,57,57,57,57,59,59,59,59,59,59,59,59,59,59,59,59,59,59,{"$f":"'اندازه های شخصی'!G35","v":0},{"$f":"'اندازه های شخصی'!I35","v":0},{"$f":"'اندازه های شخصی'!K35","v":0},{"$f":"'اندازه های شخصی'!M35","v":0},{"$f":"'اندازه های شخصی'!O35","v":0},{"$f":"'اندازه های شخصی'!Q35","v":0},{"$f":"'اندازه های شخصی'!S35","v":0},{"$f":"'اندازه های شخصی'!U35","v":0},{"$f":"'اندازه های شخصی'!W35","v":0},{"$f":"'اندازه های شخصی'!Y35","v":0},{"$f":"'اندازه های شخصی'!AA35","v":0},{"$f":"'اندازه های شخصی'!AC35","v":0},{"$f":"'اندازه های شخصی'!AE35","v":0},{"$f":"'اندازه های شخصی'!AG35","v":0},{"$f":"'اندازه های شخصی'!AI35","v":0},{"$f":"'اندازه های شخصی'!AK35","v":0},{"$f":"'اندازه های شخصی'!AM35","v":0},{"$f":"'اندازه های شخصی'!AO35","v":0},{"$f":"'اندازه های شخصی'!AQ35","v":0},{"$f":"'اندازه های شخصی'!AS35","v":0},{"$f":"'اندازه های شخصی'!AU35","v":0},{"$f":"'اندازه های شخصی'!AW35","v":0},{"$f":"'اندازه های شخصی'!AY35","v":0},{"$f":"'اندازه های شخصی'!BA35","v":0},{"$f":"'اندازه های شخصی'!BC35","v":0},{"$f":"'اندازه های شخصی'!BE35","v":0},{"$f":"'اندازه های شخصی'!BG35","v":0},{"$f":"'اندازه های شخصی'!BI35","v":0},{"$f":"'اندازه های شخصی'!BK35","v":0},{"$f":"'اندازه های شخصی'!BM35","v":0},{"$f":"'اندازه های شخصی'!BO35","v":0},{"$f":"'اندازه های شخصی'!BQ35","v":0},{"$f":"'اندازه های شخصی'!BS35","v":0},{"$f":"'اندازه های شخصی'!BU35","v":0},{"$f":"'اندازه های شخصی'!BW35","v":0},{"$f":"'اندازه های شخصی'!BY35","v":0},{"$f":"'اندازه های شخصی'!CA35","v":0},{"$f":"'اندازه های شخصی'!CC35","v":0},{"$f":"'اندازه های شخصی'!CE35","v":0},{"$f":"'اندازه های شخصی'!CG35","v":0}]
[]
[null,null,null,null,null,null,null,null,null,null,null,null,null,null,null,null,null,null,null,null,"سایز مناسب برای الگوهای شلوار",{"$f":"IF(W43=1,(IF(Y43<U9-1,\" کوچکتر از یک ماهه \",IF(Y43<V9-1,U6,IF(Y43<W9-1,V6,IF(Y43<X9-1,W6,IF(Y43<Y9-1,X6,IF(Y43<Z9-1,Y6,IF(Y43<AA9-1,Z6,IF(Y43<AB9-1,AA6,IF(Y43<AC9-1,AB6,IF(Y43<AD9-1,AC6,IF(Y43<AE9-1,AD6,IF(Y43<AF9-1,AE6,IF(Y43<AG9-1,AF6,IF(Y43<AH9-1,AG6,IF(Y43<AI9-1,AH6,IF(Y43<AJ9-1,AI6,IF(Y43<AK9-1,AJ6,IF(Y43<AL9-1,AK6,IF(Y43<AL9+3,AL6,\" بزرگتر از 14 ساله \")))))))))))))))))))),IF(W43=2,(IF(Y43<AM9-1,\" کوچکتر از سایز 34 \",IF(Y43<AN9-1,AM6,IF(Y43<AO9-1,AN6,IF(Y43<AP9-1,AO6,IF(Y43<AQ9-1,AP6,IF(Y43<AR9-1,AQ6,IF(Y43<AS9-1,AR6,IF(Y43<AT9-1,AS6,IF(Y43<AU9-1,AT6,IF(Y43<AV9-1,AU6,IF(Y43<AW9-1,AV6,IF(Y43<AX9-1,AW6,IF(Y43<AY9-1,AX6,IF(Y43<AZ9-1,AY6,IF(Y43<AZ9+3,AZ6,\" بزرگتر از سایز 60 \")))))))))))))))),IF(Y43<BA9-1,\"  کوچکتراز سایز 37  \",IF(Y43<BB9-1,BA6,IF(Y43<BC9-1,BB6,IF(Y43<BD9-1,BC6,IF(Y43<BE9-1,BD6,IF(Y43<BF9-1,BE6,IF(Y43<BG9-1,BF6,IF(Y43<BH9-1,BG6,IF(Y43<BI9-1,BH6,IF(Y43<BJ9-1,BI6,IF(Y43<BK9-1,BJ6,IF(Y43<BL9-1,BK6,IF(Y43<BM9-1,BL6,IF(Y43<BN9-1,BM6,IF(Y43<BN9+3,BN6,\" بزرگتر از سایز 50 \")))))))))))))))))","v":" کوچکتر از سایز 34 "},"انتخاب نوع اندازه گیری","کمر اندام","باسن اندام","دور سینه اندام"]
[null,null,null,null,null,null,null,null,null,null,null,null,null,null,null,null,null,null,null,null,"سایز مناسب برای الگوهای دامن",{"$f":"IF(W43=1,(IF(X43<U7-1,\" کوچکتر از یک ماهه \",IF(X43<V7-1,U6,IF(X43<W7-1,V6,IF(X43<X7-1,W6,IF(X43<Y7-1,X6,IF(X43<Z7-1,Y6,IF(X43<AA7-1,Z6,IF(X43<AB7-1,AA6,IF(X43<AC7-1,AB6,IF(X43<AD7-1,AC6,IF(X43<AE7-1,AD6,IF(X43<AF7-1,AE6,IF(X43<AG7-1,AF6,IF(X43<AH7-1,AG6,IF(X43<AI7-1,AH6,IF(X43<AJ7-1,AI6,IF(X43<AK7-1,AJ6,IF(X43<AL7-1,AK6,IF(X43<AL7+3,AL6,\" بزرگتر از 14 ساله \")))))))))))))))))))),IF(W43=2,(IF(X43<AM7-1,\" کوچکتر از سایز 34 \",IF(X43<AN7-1,AM6,IF(X43<AO7-1,AN6,IF(X43<AP7-1,AO6,IF(X43<AQ7-1,AP6,IF(X43<AR7-1,AQ6,IF(X43<AS7-1,AR6,IF(X43<AT7-1,AS6,IF(X43<AU7-1,AT6,IF(X43<AV7-1,AU6,IF(X43<AW7-1,AV6,IF(X43<AX7-1,AW6,IF(X43<AY7-1,AX6,IF(X43<AZ7-1,AY6,IF(X43<AZ7+3,AZ6,\" بزرگتر از سایز 60 \")))))))))))))))),IF(X43<BA7-1,\" کوچکتر از سایز 37 \",IF(X43<BB7-1,BA6,IF(X43<BC7-1,BB6,IF(X43<BD7-1,BC6,IF(X43<BE7-1,BD6,IF(X43<BF7-1,BE6,IF(X43<BG7-1,BF6,IF(X43<BH7-1,BG6,IF(X43<BI7-1,BH6,IF(X43<BJ7-1,BI6,IF(X43<BK7-1,BJ6,IF(X43<BL7-1,BK6,IF(X43<BM7-1,BL6,IF(X43<BN7-1,BM6,IF(X43<BN7+3,BN6,\" بزرگتر از سایز 50 \")))))))))))))))))","v":" کوچکتر از سایز 34 "},2,{"$f":"'اندازه گیری و تحلیل'!E275","v":0},{"$f":"'اندازه گیری و تحلیل'!E272","v":0},{"$f":"'اندازه گیری و تحلیل'!E269","v":0}]
[null,null,null,null,null,null,null,null,null,null,null,null,null,null,null,null,null,null,null,null,"سایز مناسب برای الگوهای پیراهن",{"$f":"IF(W43=1,(IF(Z43<U27-1,\" کوچکتر از یک ماهه \",IF(Z43<V27-1,U6,IF(Z43<W27-1,V6,IF(Z43<X27-1,W6,IF(Z43<Y27-1,X6,IF(Z43<Z27-1,Y6,IF(Z43<AA27-1,Z6,IF(Z43<AB27-1,AA6,IF(Z43<AC27-1,AB6,IF(Z43<AD27-1,AC6,IF(Z43<AE27-1,AD6,IF(Z43<AF27-1,AE6,IF(Z43<AG27-1,AF6,IF(Z43<AH27-1,AG6,IF(Z43<AI27-1,AH6,IF(Z43<AJ27-1,AI6,IF(Z43<AK27-1,AJ6,IF(Z43<AL27-1,AK6,IF(Z43<AL27+3,AL6,\" بزرگتر از 14 ساله \")))))))))))))))))))),IF(W43=2,(IF(Z43<AM27-1,\" کوچکتر از سایز 34 \",IF(Z43<AN27-1,AM6,IF(Z43<AO27-1,AN6,IF(Z43<AP27-1,AO6,IF(Z43<AQ27-1,AP6,IF(Z43<AR27-1,AQ6,IF(Z43<AS27-1,AR6,IF(Z43<AT27-1,AS6,IF(Z43<AU27-1,AT6,IF(Z43<AV27-1,AU6,IF(Z43<AW27-1,AV6,IF(Z43<AX27-1,AW6,IF(Z43<AY27-1,AX6,IF(Z43<AZ27-1,AY6,IF(Z43<AZ27+3,AZ6,\" بزرگتر از سایز 60 \")))))))))))))))),IF(Z43<BA27-1,\" کوچکتر از سایز 37 \",IF(Z43<BB27-1,BA6,IF(Z43<BC27-1,BB6,IF(Z43<BD27-1,BC6,IF(Z43<BE27-1,BD6,IF(Z43<BF27-1,BE6,IF(Z43<BG27-1,BF6,IF(Z43<BH27-1,BG6,IF(Z43<BI27-1,BH6,IF(Z43<BJ27-1,BI6,IF(Z43<BK27-1,BJ6,IF(Z43<BL27-1,BK6,IF(Z43<BM27-1,BL6,IF(Z43<BN27-1,BM6,IF(Z43<BN27+3,BN6,\" بزرگتر از سایز 50 \")))))))))))))))))","v":" کوچکتر از سایز 34 "}]
[]
["متغیرهای ورودی پیراهن ",null,null,null,null,"متغیرهای ورودی پیراهن "]
[]
[null,"برچسب الگو :",null,null,null," پنج ساله میل سه"]
[]
[" متغیرهای ورودی - شیفت الگو پیراهن",null,null,null,null," متغیرهای ورودی - شیفت الگو پیراهن","x1","y1","x2","y2(بهینه)","a","b","کمترین قبلی","کمترین جدید","بیشترین قبلی","بیشترین جدید",null,null,"اندازه های خوانده شده در محاسبه الگوها",null,null,null,"اندازه های خوانده شده برای بررسی اندازه ها",null,null,null,null,null,null,null,null,null,null,null,null,"رنج تغییرات اندزه ها","رنج تغییرات متغیرها مثبت و منفی","رنج تغییرات متغیرها مثبت",null,null,"انتخاب نوع سایزبندی","رنج تغییرات  کوچک متغیرها مثبت و منفی"]
["شیفت افقی کل الگو جلو پیراهن  برحسب سانتیمتر","(از -100 الی100)",{"$f":"K51*E51+L51","v":5},"بدون شیفت=0 ",{"$f":"'طراحی مدل 16'!B331","v":5},"شیفت افقی کل الگو جلو پیراهن  (سانتیمتر)",1,1,0,0,{"$f":"(J51-H51)/(I51-G51)","v":1},{"$f":"H51-G51*K51","v":0},-100,{"$f":"(M51-L51)/K51","v":-100},100,{"$f":"(O51-L51)/K51","v":100},null,null,"اندازه ها در دامن و شلوار",null,"اندازه شخص",null,"اندازه شخص",null,null,null,null,null,null,null,null,null,null,null,null,{"$f":"U6","v":" 1ماهه"},-100,1,"اندازه جدید",null,"سایزبندی بچگانه",-50]
["شیفت عمودی کل الگو جلو پیراهن   برحسب سانتیمتر","(از -100 الی100)",5,"بدون شیفت =0  ",{"$f":"'طراحی مدل 16'!B332","v":5},"شیفت عمودی کل الگو جلو پیراهن   (سانتیمتر)",1,1,0,0,1,0,-100,-100,100,100,null,null,"دور کمر","a",{"$f":"OFFSET('متغیرها '!T5,2,'متغیرها '!U5)","v":68},null,{"$f":"OFFSET('متغیرها '!T5,2,'متغیرها '!Y5)","v":131},null,null,null,null,null,null,null,null,null,null,null,null,{"$f":"V6","v":"1 تا 3 ماهه"},-99,2,"اندازه های موجود",null,"سایزبندی زنانه",-49.5]
["شیفت افقی کل الگو پشت پیراهن  برحسب سانتیمتر","(از -100 الی100)",5,"بدون شیفت=0 ",{"$f":"'طراحی مدل 16'!B333","v":5},"شیفت افقی کل الگو پشت پیراهن  (سانتیمتر)",1,1,0,0,1,0,-100,-100,100,100,null,null,"نوار کمر از پشت بین دو خط پهلو","b",{"$f":"OFFSET('متغیرها '!T5,3,'متغیرها '!U5)","v":33.700000000000003},null,{"$f":"OFFSET('متغیرها '!T5,3,'متغیرها '!Y5)","v":63.6},null,null,null,null,null,null,null,null,null,null,null,null,{"$f":"W6","v":" 3 تا 6 ماهه"},-98,3,"انتخاب نوع اندازه گیری",null,"سایزبندی مردانه",-49]
["شیفت عمودی کل الگو پشت پیراهن  برحسب سانتیمتر","(از -100 الی100)",5,"بدون شیفت =0  ",{"$f":"'طراحی مدل 16'!B334","v":5},"شیفت عمودی کل الگو پشت پیراهن  (سانتیمتر)",1,1,0,0,1,0,-100,-100,100,100,null,null,"دور باسن","c",{"$f":"OFFSET('متغیرها '!T5,4,'متغیرها '!U5)","v":93},null,{"$f":"OFFSET('متغیرها '!T5,4,'متغیرها '!Y5)","v":150},null,null,null,null,null,null,null,null,null,null,null,null,{"$f":"X6","v":"6ماهه تا یکساله"},-97,4,"اندازه گیری پیشرفته و با جزئیات",null,null,-48.5]
["شیفت افقی تکه  پهلو جلو   برحسب سانتیمتر","(از -100 الی100)",0,"بدون شیفت=0 ",{"$f":"'طراحی همه الگوها'!B187","v":0},"شیفت افقی تکه  پهلو جلو   (سانتیمتر)",1,1,0,0,1,0,-100,-100,100,100,null,null,"نوار باسن از پشت بین دو خط پهلو","d",{"$f":"OFFSET('متغیرها '!T5,5,'متغیرها '!U5)","v":50.4},null,{"$f":"OFFSET('متغیرها '!T5,5,'متغیرها '!Y5)","v":79.8},null,null,null,null,null,null,null,null,null,null,null,null,{"$f":"Y6","v":"بچگانه 1 ساله"},-96,5,"اندازه گیری مردان و بچه ها",null,null,-48]
["شیفت افقی تکه پهلو پشت  برحسب سانتیمتر","(از -100 الی100)",0,"بدون شیفت=0 ",{"$f":"'طراحی همه الگوها'!B188","v":0},"شیفت افقی تکه پهلو پشت  (سانتیمتر)",1,1,0,0,1,0,-100,-100,100,100,null,null,"فاصله نوار کمر تا زمین، از قسمت جلو","e",{"$f":"OFFSET('متغیرها '!T5,6,'متغیرها '!U5)","v":103},null,{"$f":"OFFSET('متغیرها '!T5,6,'متغیرها '!Y5)","v":108.9},null,null,null,null,null,null,null,null,null,null,null,null,{"$f":"Z6","v":"بچگانه 2 ساله"},-95,6,"اندازه گیری زنان",null,null,-47.5]
["شیفت عمودی تکه پهلو پشت  برحسب سانتیمتر","(از -100 الی100)",0,"بدون شیفت=0 ",{"$f":"'طراحی همه الگوها'!B189","v":0},"شیفت عمودی تکه پهلو پشت  (سانتیمتر)",1,1,0,0,1,0,-100,-100,100,100,null,null,"فاصله نوار کمر تا زمین، از قسمت پهلو","f",{"$f":"OFFSET('متغیرها '!T5,7,'متغیرها '!U5)","v":104},null,{"$f":"OFFSET('متغیرها '!T5,7,'متغیرها '!Y5)","v":110},null,null,null,null,null,null,null,null,null,null,null,null,{"$f":"AA6","v":"بچگانه 3 ساله"},-94,7,"اندازه گیری پیشرفته زنان",null,null,-47]
[null,null,null,null,null,null,null,null,null,null,null,null,null,null,null,null,null,null,"فاصله نوار کمر تا زمین، از قسمت پشت","g",{"$f":"OFFSET('متغیرها '!T5,8,'متغیرها '!U5)","v":105},null,{"$f":"OFFSET('متغیرها '!T5,8,'متغیرها '!Y5)","v":111.1},null,null,null,null,null,null,null,null,null,null,null,null,{"$f":"AB6","v":"بچگانه 4 ساله"},-93,8,null,null,null,-46.5]
[" متغیرهای ورودی - گشاد یا تنگ شدن پیراهن",null,null,null,null," متغیرهای ورودی - گشاد یا تنگ شدن پیراهن","x1","y1","x2","y2(بهینه)","a","b","کمترین قبلی","کمترین جدید","بیشترین قبلی","بیشترین جدید",null,null,"فاصله نوار زانو تا زمین","h",{"$f":"OFFSET('متغیرها '!T5,9,'متغیرها '!U5)","v":45.5},null,{"$f":"OFFSET('متغیرها '!T5,9,'متغیرها '!Y5)","v":46.7},null,null,null,null,null,null,null,null,null,null,null,null,{"$f":"AC6","v":"بچگانه 5 ساله"},-92,9,null,null,null,-46]
["ضریب تغییر اندازه های عرضی در پیراهن f2  ","(از -0.2 الی 0.2)",{"$f":"K60*E60+L60","v":0},"اندامی =0",{"$f":"'طراحی مدل 16'!B337","v":0}," اندازه های عرضی در پیراهن   ",1,0.01,0,0,{"$f":"(J60-H60)/(I60-G60)","v":0.01},{"$f":"H60-G60*K60","v":0},-0.2,{"$f":"(M60-L60)/K60","v":-20},0.2,{"$f":"(O60-L60)/K60","v":20},null,null,"فاصله نوار باسن تا زمین","j",{"$f":"OFFSET('متغیرها '!T5,10,'متغیرها '!U5)","v":83.4},null,{"$f":"OFFSET('متغیرها '!T5,10,'متغیرها '!Y5)","v":87.3},null,null,null,null,null,null,null,null,null,null,null,null,{"$f":"AD6","v":"بچگانه 6 ساله"},-91,10,"انتخاب نوع الگو",null,null,-45.5]
["ضریب گشاد یا تنگ شدن از خط پهلو زیر حلقهf3 ","(از -0.03 الی 0.03)",{"$f":"K61*E61+L61","v":0},"اندامی =0",{"$f":"'طراحی همه الگوها'!B190","v":0}," گشاد یا تنگ شدن از خط پهلو زیر حلقه ",1,5.0000000000000001E-3,0,0,{"$f":"(J61-H61)/(I61-G61)","v":5.0000000000000001E-3},{"$f":"H61-G61*K61","v":0},-0.03,{"$f":"(M61-L61)/K61","v":-6},0.03,{"$f":"(O61-L61)/K61","v":6},null,null,"دور زانو","L",{"$f":"OFFSET('متغیرها '!T5,11,'متغیرها '!U5)","v":38.1},null,{"$f":"OFFSET('متغیرها '!T5,11,'متغیرها '!Y5)","v":61.5},null,null,null,null,null,null,null,null,null,null,null,null,{"$f":"AE6","v":"بچگانه 7 ساله"},-90,11,"فاق معمولی مناسب زنان و بچه ها",null,null,-45]
["ضریب گشاد یا تنگ شدن از خط پهلو دور باسن f4 ","(از -0.03 الی 0.08)",{"$f":"K62*E62+L62","v":0},"اندامی =0",{"$f":"'طراحی مدل 16'!B338","v":0}," گشاد یا تنگ شدن از خط پهلو دور باسن  ",1,5.0000000000000001E-3,0,0,{"$f":"(J62-H62)/(I62-G62)","v":5.0000000000000001E-3},{"$f":"H62-G62*K62","v":0},-0.03,{"$f":"(M62-L62)/K62","v":-6},0.08,{"$f":"(O62-L62)/K62","v":16},null,null,"بلندی فاق","m",{"$f":"OFFSET('متغیرها '!T5,12,'متغیرها '!U5)","v":26.4},null,{"$f":"OFFSET('متغیرها '!T5,12,'متغیرها '!Y5)","v":33.5},null,null,null,null,null,null,null,null,null,null,null,null,{"$f":"AF6","v":"بچگانه 8 ساله"},-89,12,"فاق کمی بلند مناسب مردان",null,null,-44.5]
["ضریب تغییر اندازه های طولی در پیراهن f5 ","(از -0.2 الی 0.2)",{"$f":"K63*E63+L63","v":0},"اندامی =0",{"$f":"'طراحی مدل 16'!B339","v":0}," اندازه های طولی در پیراهن  ",1,0.01,0,0,{"$f":"(J63-H63)/(I63-G63)","v":0.01},{"$f":"H63-G63*K63","v":0},-0.2,{"$f":"(M63-L63)/K63","v":-20},0.2,{"$f":"(O63-L63)/K63","v":20},null,null,"آنفورشور","q",{"$f":"OFFSET('متغیرها '!T5,13,'متغیرها '!U5)","v":69.2},null,{"$f":"OFFSET('متغیرها '!T5,13,'متغیرها '!Y5)","v":91.7},null,null,null,null,null,null,null,null,null,null,null,null,{"$f":"AG6","v":"بچگانه 9 ساله"},-88,13,"فاق کاملا بلند مناسب بچه با پوشک",null,null,-44]
[null,null,null,null,null,null,null,null,null,null,null,null,null,null,null,null,null,null,"دور مچ پا","r",{"$f":"OFFSET('متغیرها '!T5,14,'متغیرها '!U5)","v":24},null,{"$f":"OFFSET('متغیرها '!T5,14,'متغیرها '!Y5)","v":30},null,null,null,null,null,null,null,null,null,null,null,null,{"$f":"AH6","v":"بچگانه 10 ساله"},-87,14,null,null,null,-43.5]
[" متغیرهای ورودی - جادکمه و پایین لباس",null,null,null,null," متغیرهای ورودی - جادکمه و پایین لباس","x1","y1","x2","y2(بهینه)","a","b","کمترین قبلی","کمترین جدید","بیشترین قبلی","بیشترین جدید",null,null,null,null,null,null,null,null,null,null,null,null,null,null,null,null,null,null,null,{"$f":"AI6","v":"بچگانه 11 ساله"},-86,15,"ارتفاع یقه گرد کش",null,null,-43]
["ضریب بزرگی پهنای جادکمه جلو    مرحله اول","(از 0 الی 0.1)",{"$f":"K66*E66+L66","v":0.125},"بهینه=0.015",{"$f":"'طراحی مدل 16'!B342","v":25},"پهنای جادکمه جلو      مرحله اول در طراحی یقه انگلیسی",0,0,1,5.0000000000000001E-3,{"$f":"(J66-H66)/(I66-G66)","v":5.0000000000000001E-3},{"$f":"H66-G66*K66","v":0},0,{"$f":"(M66-L66)/K66","v":0},0.1,{"$f":"(O66-L66)/K66","v":20},null,null,"شلوار زنانه و بچگانه = 0       مردانه=1      بچه با پوشک=2",null,{"$f":"OFFSET('متغیرها '!T5,16,'متغیرها '!U5)","v":0},null,{"$f":"OFFSET('متغیرها '!T5,16,'متغیرها '!Y5)","v":0},null,null,null,null,null,null,null,null,null,null,null,null,{"$f":"AJ6","v":"بچگانه 12 ساله"},-85,16,0.5,"نوع آستین",null,-42.5]
["ضریب فاصله لبه دامن یا پیراهن تا زمین   k0","(از 0 الی 4)",{"$f":"K67*E67+L67","v":1},"خط زمین=0 \nخط زانو=1 \nخط باسن=2 \nخط کمر=3 \nخط سینه=4  ",{"$f":"'طراحی مدل 16'!B343","v":30},"لبه پایین لباس",10,0,30,1,{"$f":"(J67-H67)/(I67-G67)","v":0.05},{"$f":"H67-G67*K67","v":-0.5},0,{"$f":"(M67-L67)/K67","v":10},4,{"$f":"(O67-L67)/K67","v":90},null,null,null,null,null,null,null,null,null,null,null,null,null,null,null,null,null,null,null,{"$f":"AK6","v":"بچگانه 13 ساله"},-84,17,1,1,null,-42]
["ضریب انحنا لبه پایین لباس ","(از 0 الی 0.9)",{"$f":"K68*E68+L68","v":0},"بهینه =0.1",{"$f":"'طراحی مدل 16'!B344","v":0}," انحنا لبه پایین لباس نزدیک خط پهلو",0,0,1,0.05,{"$f":"(J68-H68)/(I68-G68)","v":0.05},{"$f":"H68-G68*K68","v":0},0,{"$f":"(M68-L68)/K68","v":0},0.9,{"$f":"(O68-L68)/K68","v":18},null,null,null,null,null,null,null,null,null,null,null,null,null,null,null,null,null,null,null,{"$f":"AL6","v":"بچگانه 14 ساله"},-83,18,1.5,2,null,-41.5]
[" ضریب طول انحنا لبه پایین لباس نزدیک خط پهلو","(از 0 الی 1)",{"$f":"K69*E69+L69","v":0.9},"بهینه =0.9",{"$f":"'طراحی مدل 16'!B345","v":18}," طول انحنا لبه پایین لباس نزدیک خط پهلو",0,0,1,0.05,{"$f":"(J69-H69)/(I69-G69)","v":0.05},{"$f":"H69-G69*K69","v":0},0,{"$f":"(M69-L69)/K69","v":0},1,{"$f":"(O69-L69)/K69","v":20},null,null,"اندازه ها در بالاتنه",null,"اندازه شخص",null,"اندازه شخص",null,null,null,null,null,null,null,null,null,null,null,null,{"$f":"AM6","v":"34زنانه"},-82,19,2,4,null,-41]
[" متغیرهای ورودی - یقه",null,null,null,null," متغیرهای ورودی - یقه","x1","y1","x2","y2(بهینه)","a","b","کمترین قبلی","کمترین جدید","بیشترین قبلی","بیشترین جدید",null,null,"دور کمر","a",{"$f":"OFFSET('متغیرها '!T5,20,'متغیرها '!U5)","v":68},null,{"$f":"OFFSET('متغیرها '!T5,20,'متغیرها '!Y5)","v":131},null,null,null,null,null,null,null,null,null,null,null,null,{"$f":"AN6","v":"36زنانه"},-81,20,2.5,null,null,-40.5]
["ضریب باز شدن یقه روی سرشانه (گرد یا مربعی یا دلبری)   مرحله دوم   x6 ","(از 0 الی 0.99)",{"$f":"K71*E71+L71","v":0.15000000000000002},"یقه کیپ=0",{"$f":"'طراحی همه الگوها'!E177","v":3},"باز شدن یقه روی سرشانه (گرد یا مربعی یا دلبری)   مرحله دوم در طراحی یقه انگلیسی    ",0,0,1,0.05,{"$f":"(J71-H71)/(I71-G71)","v":0.05},{"$f":"H71-G71*K71","v":0},0,{"$f":"(M71-L71)/K71","v":0},0.95,{"$f":"(O71-L71)/K71","v":18.999999999999996},null,null,"نوار کمر از پشت بین دو خط پهلو","b",{"$f":"OFFSET('متغیرها '!T5,21,'متغیرها '!U5)","v":33.700000000000003},null,{"$f":"OFFSET('متغیرها '!T5,21,'متغیرها '!Y5)","v":63.6},null,null,null,null,null,null,null,null,null,null,null,null,{"$f":"AO6","v":"38زنانه"},-80,21,3,null,null,-40]
["ضریب باز شدن یقه روی خط مرکزی جلو (گرد یا مربعی یا قایقی یا پروانه ای)  x'6","(از 0 الی 3)",{"$f":"K72*E72+L72","v":0.15000000000000002},"یقه کیپ=0",{"$f":"'طراحی همه الگوها'!E178","v":3},"باز شدن یقه روی خط مرکزی جلو (گرد یا مربعی یا قایقی یا پروانه ای)  ",0,0,1,0.05,{"$f":"(J72-H72)/(I72-G72)","v":0.05},{"$f":"H72-G72*K72","v":0},0,{"$f":"(M72-L72)/K72","v":0},3,{"$f":"(O72-L72)/K72","v":60},null,null,"دور سینه : از برجسته ترین قسمت سینه","s1",{"$f":"OFFSET('متغیرها '!T5,22,'متغیرها '!U5)","v":88},null,{"$f":"OFFSET('متغیرها '!T5,22,'متغیرها '!Y5)","v":146},null,null,null,null,null,null,null,null,null,null,null,null,{"$f":"AP6","v":"40زنانه"},-79,22,3.5,null,null,-39.5]
["ضریب باز شدن یقه روی خط مرکزی پشت  (گرد یا مربعی یا قایقی یا پروانه ای) مرحله دوم    x7","(از 0 الی 3)",{"$f":"K73*E73+L73","v":0.15000000000000002},"یقه کیپ=0",{"$f":"'طراحی همه الگوها'!E179","v":3},"باز شدن یقه روی خط مرکزی پشت(گرد؛ مربعی؛ قایقی؛ پروانه ای)مرحله دوم در طراحی یقه انگلیسی    ",0,0,1,0.05,{"$f":"(J73-H73)/(I73-G73)","v":0.05},{"$f":"H73-G73*K73","v":0},0,{"$f":"(M73-L73)/K73","v":0},3,{"$f":"(O73-L73)/K73","v":60},null,null,"پشت نوار سینه، بین دو خط پهلو","s2",{"$f":"OFFSET('متغیرها '!T5,23,'متغیرها '!U5)","v":41.5},null,{"$f":"OFFSET('متغیرها '!T5,23,'متغیرها '!Y5)","v":67.5},null,null,null,null,null,null,null,null,null,null,null,null,{"$f":"AQ6","v":"42زنانه"},-78,23,4,null,null,-39]
[null,null,null,null,null,null,null,null,null,null,null,null,null,null,null,null,null,null,"فاصله عمودی از خط سینه جلو تا خط سینه پشت که از کنار حلقه آستین بگذرد","t1",{"$f":"OFFSET('متغیرها '!T5,24,'متغیرها '!U5)","v":44.1},null,{"$f":"OFFSET('متغیرها '!T5,24,'متغیرها '!Y5)","v":46.5},null,null,null,null,null,null,null,null,null,null,null,null,{"$f":"AR6","v":"44زنانه"},-77,24,4.5,null,null,-38.5]
[" متغیرهای ورودی - سرشانه و حلقه آستین",null,null,null,null," متغیرهای ورودی - سرشانه و حلقه آستین","x1","y1","x2","y2(بهینه)","a","b","کمترین قبلی","کمترین جدید","بیشترین قبلی","بیشترین جدید",null,null,"فاصله عمودی از خط سینه جلو تا خط سینه پشت که از کنارگردن بگذرد","t2",{"$f":"OFFSET('متغیرها '!T5,25,'متغیرها '!U5)","v":51.9},null,{"$f":"OFFSET('متغیرها '!T5,25,'متغیرها '!Y5)","v":63.3},null,null,null,null,null,null,null,null,null,null,null,null,{"$f":"AS6","v":"46زنانه"},-76,25,5,null,null,-38]
["میزان کم شدن سرشانه x8 ","(از -0.5 الی 0.9)",{"$f":"K76*E76+L76","v":0.5},"اندامی =0",{"$f":"'طراحی همه الگوها'!B204","v":10},"ضریب کم شدن سرشانه  ",0,0,1,0.05,{"$f":"(J76-H76)/(I76-G76)","v":0.05},{"$f":"H76-G76*K76","v":0},-0.5,{"$f":"(M76-L76)/K76","v":-10},0.9,{"$f":"(O76-L76)/K76","v":18},null,null,"فاصله عمودی از خط کمر جلو تا خط کمر پشت که از کنار گردن بگذرد","t3",{"$f":"OFFSET('متغیرها '!T5,26,'متغیرها '!U5)","v":82},null,{"$f":"OFFSET('متغیرها '!T5,26,'متغیرها '!Y5)","v":100},null,null,null,null,null,null,null,null,null,null,null,null,{"$f":"AT6","v":"48زنانه"},-75,26,null,null,null,-37.5]
["میزان بزرگ شدن زیر حلقه آستین x9 ","(از -0.5 الی 1.5)",{"$f":"K77*E77+L77","v":0},"اندامی =0",{"$f":"'طراحی همه الگوها'!B205","v":0},"ضریب بزرگ شدن زیر حلقه آستین  ",0,0,1,0.05,{"$f":"(J77-H77)/(I77-G77)","v":0.05},{"$f":"H77-G77*K77","v":0},-0.5,{"$f":"(M77-L77)/K77","v":-10},1.5,{"$f":"(O77-L77)/K77","v":30},null,null,"فاصله عمودی بین خط سینه پشت و سرشانه، نزدیک دست","t4",{"$f":"OFFSET('متغیرها '!T5,27,'متغیرها '!U5)","v":22.3},null,{"$f":"OFFSET('متغیرها '!T5,27,'متغیرها '!Y5)","v":23.8},null,null,null,null,null,null,null,null,null,null,null,null,{"$f":"AU6","v":"50زنانه"},-74,27,"متغیر ورودی به سانتیمتر","متغیر ورودی به سانتیمتر",null,-37]
["میزان زیاد شدن سرشانه x10 ","(از -0.5 الی 0.5)",{"$f":"K78*E78+L78","v":0},"اندامی =0",{"$f":"'طراحی همه الگوها'!B206","v":0},"ضریب زیاد شدن سرشانه  ",0,0,1,0.05,{"$f":"(J78-H78)/(I78-G78)","v":0.05},{"$f":"H78-G78*K78","v":0},-0.5,{"$f":"(M78-L78)/K78","v":-10},0.5,{"$f":"(O78-L78)/K78","v":10},null,null,"فاصله عمودی بین خط سینه پشت و سرشانه، نزدیک گردن","t5",{"$f":"OFFSET('متغیرها '!T5,28,'متغیرها '!U5)","v":26},null,{"$f":"OFFSET('متغیرها '!T5,28,'متغیرها '!Y5)","v":30.5},null,null,null,null,null,null,null,null,null,null,null,null,{"$f":"AV6","v":"52زنانه"},-73,28,-10,0,null,-36.5]
["انتخاب آستین حلقه ای یا پیش سینه رکابی یا تکه پهلو جدا=0        و انتخاب آستین دیگر=1","0 یا 1 ",{"$f":"K79*E79+L79","v":1},null,{"$f":"'طراحی همه الگوها'!B207","v":2},"انتخاب آستین حلقه ای یا پیش سینه رکابی یا تکه پهلو جدا=1        و انتخاب آستین دیگر=2",1,0,2,1,{"$f":"(J79-H79)/(I79-G79)","v":1},{"$f":"H79-G79*K79","v":-1},null,1,null,2,null,null,"فاصله عمودی بین خط کمرپشت و سرشانه، نزدیک گردن","t6",{"$f":"OFFSET('متغیرها '!T5,29,'متغیرها '!U5)","v":40},null,{"$f":"OFFSET('متغیرها '!T5,29,'متغیرها '!Y5)","v":46.9},null,null,null,null,null,null,null,null,null,null,null,null,{"$f":"AW6","v":"54زنانه"},-72,29,-9.5,0.1,null,-36]
[null,null,null,null,null,null,null,null,null,null,null,null,null,null,null,null,null,null,"دور گردن (متر به طور عمودی دور گردن قرار می گیرد و از روی استخوان ترقوه می گذرد)","v",{"$f":"OFFSET('متغیرها '!T5,30,'متغیرها '!U5)","v":38},null,{"$f":"OFFSET('متغیرها '!T5,30,'متغیرها '!Y5)","v":50},null,null,null,null,null,null,null,null,null,null,null,null,{"$f":"AX6","v":"56زنانه"},-71,30,-9,0.2,null,-35.5]
[" متغیرهای ورودی - تنظیم ساسون های بالای کمر\nمجموع ضرایب پهنای دو ساسون پشت باید کمتر از یک یا مساوی یک باشد.\nبا تغییر ضرایب پهنای ساسون، باقیمانده ساسون ها روی خط پهلو قرار میگیرد.",null,null,null,null," متغیرهای ورودی - تنظیم ساسون های بالای کمر\nمجموع ضرایب پهنای دو ساسون پشت باید کمتر از یک یا مساوی یک باشد.\nبا تغییر ضرایب پهنای ساسون، باقیمانده ساسون ها روی خط پهلو قرار میگیرد.","x1","y1","x2","y2","a","b",null,"کمترین",null,"بیشترین",null,"تست جدید","کارور پشت (بین دو خط امتداد زیر بغل)","v3",{"$f":"OFFSET('متغیرها '!T5,31,'متغیرها '!U5)","v":33.9},null,{"$f":"OFFSET('متغیرها '!T5,31,'متغیرها '!Y5)","v":55.5},null,null,null,null,null,null,null,null,null,null,null,null,{"$f":"AY6","v":"58زنانه"},-70,31,-8.5,0.3,null,-35]
[" ضریب پهنای ساسون روی خط مرکزی پشت بالاتنه   y'1","(از 0 الی 1)",{"$f":"K82*E82+L82","v":0.5},"بدون ساسون=0 \nبهینه=0.5  ",{"$f":"'طراحی مدل 16'!B390","v":10}," ضریب پهنای ساسون روی خط مرکزی پشت بالاتنه   ",0,0,1,0.05,{"$f":"(J82-H82)/(I82-G82)","v":0.05},{"$f":"H82-G82*K82","v":0},0,{"$f":"(M82-L82)/K82","v":0},1,{"$f":"(O82-L82)/K82","v":20},0.5,{"$f":"(Q82-L82)/K82","v":10},"دور بازو از ناحیه زیر بغل","w2",{"$f":"OFFSET('متغیرها '!T5,32,'متغیرها '!U5)","v":29.4},null,{"$f":"OFFSET('متغیرها '!T5,32,'متغیرها '!Y5)","v":46},null,null,null,null,null,null,null,null,null,null,null,null,{"$f":"AZ6","v":"60زنانه"},-69,32,-8,0.4,"متغیر ورودی خاص شلوار",-34.5]
[" ضریب طول ساسون روی خط مرکزی پشت بالاتنه   y'3","(از0.1 الی 0.9)",0.75,"بهینه=0.75 ",{"$f":"'طراحی مدل 16'!B391","v":15}," ضریب طول ساسون روی خط مرکزی پشت بالاتنه   ",0,0,1,0.05,{"$f":"(J83-H83)/(I83-G83)","v":0.05},{"$f":"H83-G83*K83","v":0},0.1,2,0.9,18,0.75,15,"قد آستین (دست به طور خمیده، قد از سرشانه تا مچ)","w10",{"$f":"OFFSET('متغیرها '!T5,33,'متغیرها '!U5)","v":58.4},null,{"$f":"OFFSET('متغیرها '!T5,33,'متغیرها '!Y5)","v":64},null,null,null,null,null,null,null,null,null,null,null,null,{"$f":"BA6","v":"37 مردانه"},-68,33,-7.5,0.5,0.5,-34]
[" ضریب پهنای ساسون میانی پشت بالاتنه   y'2","(از 0 الی 1)",0.5,"بدون ساسون=0\nبهینه=0.5",{"$f":"'طراحی مدل 16'!B392","v":10}," ضریب پهنای ساسون میانی پشت بالاتنه   ",0,0,1,0.05,{"$f":"(J84-H84)/(I84-G84)","v":0.05},{"$f":"H84-G84*K84","v":0},0,0,1,20,0.5,10,"دور مچ دست","w11",{"$f":"OFFSET('متغیرها '!T5,34,'متغیرها '!U5)","v":17.5},null,{"$f":"OFFSET('متغیرها '!T5,34,'متغیرها '!Y5)","v":23},null,null,null,null,null,null,null,null,null,null,null,null,{"$f":"BB6","v":"38 مردانه"},-67,34,-7,0.6,0.55000000000000004,-33.5]
[" ضریب طول ساسون میانی پشت بالاتنه   y'4","(از 0.3 الی 1)",0.9,"بهینه =0.9",{"$f":"'طراحی مدل 16'!B393","v":18}," ضریب طول ساسون میانی پشت بالاتنه   ",0,0,1,0.05,0.05,0,0.3,5.9999999999999991,1,20,0.9,18,"دور سر","w12",{"$f":"OFFSET('متغیرها '!T5,35,'متغیرها '!U5)","v":57},null,{"$f":"OFFSET('متغیرها '!T5,35,'متغیرها '!Y5)","v":57},null,null,null,null,null,null,null,null,null,null,null,null,{"$f":"BC6","v":"39 مردانه"},-66,35,-6.5,0.7,0.6,-33]
[" ضریب فاصله افقی ساسون وسط بالاتنه از خط مرکزی پشت   y'5","(از0.2 الی 0.8)",0.54,"بهینه=0.5",{"$f":"'طراحی مدل 16'!B394","v":27}," ضریب فاصله افقی ساسون وسط بالاتنه از خط مرکزی پشت   ",0,0,1,0.02,0.02,0,0.2,10,0.8,40,0.5,25,null,null,null,null,null,null,null,null,null,null,null,null,null,null,null,null,null,{"$f":"BD6","v":"40 مردانه"},-65,36,-6,0.8,0.65,-32.5]
[" ضریب پهنای ساسون میانی جلو بالاتنه    y'6","(از 0 الی 0.5)",0.2,"بدون ساسون=0\nبهینه=0.333",{"$f":"'طراحی مدل 16'!B395","v":4}," ضریب پهنای ساسون میانی جلو بالاتنه    ",0,0,1,0.05,0.05,0,0,0,0.5,10,0.35,6.9999999999999991,null,null,null,null,null,null,null,null,null,null,null,null,null,null,null,null,null,{"$f":"BE6","v":"41 مردانه"},-64,37,-5.5,0.9,0.7,-32]
[" ضریب طول ساسون میانی جلو بالاتنه  y'7","(از 0 الی 0.5)",0.19999999999999996,"بهینه =0.2\nتا خط سینه=0",{"$f":"'طراحی مدل 16'!B396","v":16}," ضریب طول ساسون میانی جلو بالاتنه  ",20,0,0,1,-0.05,1,0,20,0.5,10,0.2,16,null,null,null,null,null,null,null,null,null,null,null,null,null,null,null,null,null,{"$f":"BF6","v":"42 مردانه"},-63,38,-5,1,0.75,-31.5]
[" ضریب فاصله افقی ساسون میانی بالاتنه از خط مرکزی جلو   y'8","(از0.2 الی 0.8)",0.5,"بهینه=0.5",{"$f":"'طراحی مدل 16'!B397","v":25}," ضریب فاصله افقی ساسون میانی بالاتنه از خط مرکزی جلو   ",0,0,1,0.02,0.02,0,0.2,10,0.8,40,0.5,25,null,null,null,null,null,null,null,null,null,null,null,null,null,null,null,null,null,{"$f":"BG6","v":"43 مردانه"},-62,39,-4.5,1.1000000000000001,0.8,-31]
[" ضریب نوک ساسون سرشانه جلو تا نوک سینه  y'15","(از 0 الی 0.5)",0,"بهینه =0.2\nتا خط سینه=0",{"$f":"'طراحی مدل 16'!B398","v":20}," ضریب نوک ساسون سرشانه جلو تا نوک سینه  ",20,0,0,1,{"$f":"(J90-H90)/(I90-G90)","v":-0.05},{"$f":"H90-G90*K90","v":1},0,20,0.5,10,0.2,16,null,null,null,null,null,null,null,null,null,null,null,null,null,null,null,null,null,{"$f":"BH6","v":"44 مردانه"},-61,40,-4,1.2,0.85,-30.5]
[null,null,null,null,null,null,null,null,null,null,null,null,null,null,null,null,null,null,null,null,null,null,null,null,null,null,null,null,null,null,null,null,null,null,null,{"$f":"BI6","v":"45 مردانه"},-60,41,-3.5,1.3,0.9,-30]
[" متغیرهای ورودی - تنظیم ساسون های پایین کمر\nمجموع پهنای دو ساسون پشت باید کمتر از یک یا مساوی یک باشد.\nبا تغییر ضرایب پهنای ساسون، باقیمانده ساسون ها روی خط پهلو قرار میگیرد.",null,null,null,null," متغیرهای ورودی - تنظیم ساسون های پایین کمر\nمجموع پهنای دو ساسون پشت باید کمتر از یک یا مساوی یک باشد.\nبا تغییر ضرایب پهنای ساسون، باقیمانده ساسون ها روی خط پهلو قرار میگیرد.","x1","y1","x2","y2(بهینه)","a","b",null,"کمترین",null,"بیشترین",null,null,null,null,null,null,null,null,null,null,null,null,null,null,null,null,null,null,null,{"$f":"BJ6","v":"46 مردانه"},-59,42,-3,1.4,0.95,-29.5]
[" ضریب پهنای ساسون روی خط مرکزی پشت دامن   y'9","(از 0 الی 1)",{"$f":"K93*E93+L93","v":0.5},"بدون ساسون=0 \nبهینه=025  ",{"$f":"'طراحی مدل 16'!B381","v":10}," ضریب پهنای ساسون روی خط مرکزی پشت دامن   ",0,0,1,0.05,{"$f":"(J93-H93)/(I93-G93)","v":0.05},{"$f":"H93-G93*K93","v":0},0,{"$f":"(M93-L93)/K93","v":0},1,{"$f":"(O93-L93)/K93","v":20},0.25,{"$f":"(Q93-L93)/K93","v":5},null,null,null,null,null,null,null,null,null,null,null,null,null,null,null,null,null,{"$f":"BK6","v":"47 مردانه"},-58,43,-2.5,1.5,1,-29]
[" ضریب طول ساسون روی خط مرکزی پشت دامن   y'10     غیر فعال","(از0.1 الی 0.9)",1,"بهینه=0.9 ",{"$f":"'طراحی همه الگوها'!B248","v":20}," ضریب طول ساسون روی خط مرکزی پشت دامن        غیر فعال",0,0,1,0.05,0.05,0,0.1,2,0.9,18,0.9,18,null,null,null,null,null,null,null,null,null,null,null,null,null,null,null,null,null,{"$f":"BL6","v":"48 مردانه"},-57,44,-2,1.6,1.05,-28.5]
[" ضریب پهنای ساسون میانی پشت دامن   y'11","(از 0 الی 1)",0.45,"بدون ساسون=0\nبهینه=0.5",{"$f":"'طراحی مدل 16'!B382","v":9}," ضریب پهنای ساسون میانی پشت دامن   ",0,0,1,0.05,0.05,0,0,0,1,20,0.5,10,null,null,null,null,null,null,null,null,null,null,null,null,null,null,null,null,null,{"$f":"BM6","v":"49 مردانه"},-56,45,-1.5,1.7,1.1000000000000001,-28]
[" ضریب طول ساسون میانی پشت دامن   y'12    ","(از 0.3 الی 1)",0.85000000000000009,"بلندی ساسون تا خط باسن=1\nبهینه =0.9",{"$f":"'طراحی مدل 16'!B383","v":17}," ضریب طول ساسون میانی پشت دامن       ",0,0,1,0.05,0.05,0,0.3,5.9999999999999991,1,20,0.9,18,null,null,null,null,null,null,null,null,null,null,null,null,null,null,null,null,null,{"$f":"BN6","v":"50 مردانه"},-55,46,-1,1.8,1.1499999999999999,-27.5]
[" ضریب پهنای ساسون میانی جلو دامن    y'13","(از 0 الی 0.5)",0.25,"بدون ساسون=0\nبهینه=0.25",{"$f":"'طراحی مدل 16'!B384","v":5}," ضریب پهنای ساسون میانی جلو دامن    ",0,0,1,0.05,0.05,0,0,0,0.5,10,0.25,5,null,null,null,null,null,null,null,null,null,null,null,null,null,null,null,null,null,{"$f":"BO6","v":"6ماهه تا یکساله کت"},-54,47,-0.5,1.9,1.2,-27]
[" ضریب طول ساسون میانی جلو دامن  y'14     ","(از 0.3 الی 0.99)",0.35000000000000003,"بلندی ساسون تا خط باسن=1\nبهینه =0.9",{"$f":"'طراحی مدل 16'!B385","v":7}," ضریب طول ساسون میانی جلو دامن       ",0,0,1,0.05,0.05,0,0.3,5.9999999999999991,0.95,18.999999999999996,0.9,18,null,null,null,null,null,null,null,null,null,null,null,null,null,null,null,null,null,{"$f":"BP6","v":"1ساله کت"},-53,48,0,2,1.25,-26.5]
[null,null,null,null,null,null,null,null,null,null,null,null,null,null,null,null,null,null,null,null,null,null,null,null,null,null,null,null,null,null,null,null,null,null,null,{"$f":"BQ6","v":"2ساله کت"},-52,49,0.5,2.1,1.3,-26]
[" متغیرهای ورودی-بالاتنه عصایی ساسون ها",null,null,null,null," متغیرهای ورودی-بالاتنه عصایی ساسون ها","x1","y1","x2","y2(بهینه)","a","b",null,"کمترین",null,"بیشترین",null,null,null,null,null,null,null,null,null,null,null,null,null,null,null,null,null,null,null,{"$f":"BR6","v":"3ساله کت"},-51,50,1,2.2000000000000002,1.35,-25.5]
["انتخاب بالاتنه عصایی=1        انتخاب دیگر=0","0 یا 1 ",{"$f":"K101*E101+L101","v":0},null,{"$f":"'طراحی همه الگوها'!B260","v":1},"انتخاب بالاتنه عصایی=2        انتخاب دیگر=1",1,0,2,1,{"$f":"(J101-H101)/(I101-G101)","v":1},{"$f":"H101-G101*K101","v":-1},0,{"$f":"(M101-L101)/K101","v":1},1,{"$f":"(O101-L101)/K101","v":2},1,{"$f":"(Q101-L101)/K101","v":2},null,null,null,null,null,null,null,null,null,null,null,null,null,null,null,null,null,{"$f":"BS6","v":"4ساله کت"},-50,51,1.5,2.2999999999999998,1.4,-25]
["ضریب مکان ساسون جلو عصایی در بالاتنه","(از 0.1 الی 0.3)",{"$f":"K102*E102+L102","v":0.2},"بهینه عصایی=0.2",{"$f":"'طراحی همه الگوها'!B261","v":4},"مکان ساسون عصایی جلو در حلقه آستین بالاتنه",0,0,1,0.05,{"$f":"(J102-H102)/(I102-G102)","v":0.05},{"$f":"H102-G102*K102","v":0},0.1,{"$f":"(M102-L102)/K102","v":2},0.3,{"$f":"(O102-L102)/K102","v":5.9999999999999991},0.2,{"$f":"(Q102-L102)/K102","v":4},null,null,null,null,null,null,null,null,null,null,null,null,null,null,null,null,null,{"$f":"BT6","v":"5ساله کت"},-49,52,2,2.4,1.45,-24.5]
["ضریب مکان ساسون پشت عصایی در بالاتنه","(از 0.1 الی 0.4)",{"$f":"K103*E103+L103","v":0.30000000000000004},"بهینه عصایی=0.3",{"$f":"'طراحی همه الگوها'!B262","v":6},"مکان ساسون عصایی پشت در حلقه آستین بالاتنه",0,0,1,0.05,{"$f":"(J103-H103)/(I103-G103)","v":0.05},{"$f":"H103-G103*K103","v":0},0.1,{"$f":"(M103-L103)/K103","v":2},0.4,{"$f":"(O103-L103)/K103","v":8},0.3,{"$f":"(Q103-L103)/K103","v":5.9999999999999991},null,null,null,null,null,null,null,null,null,null,null,null,null,null,null,null,null,{"$f":"BU6","v":"6ساله کت"},-48,53,2.5,2.5,1.5,-24]
[null,null,null,null,null,null,null,null,null,null,null,null,null,null,null,null,null,null,null,null,null,null,null,null,null,null,null,null,null,null,null,null,null,null,null,{"$f":"BV6","v":"7ساله کت"},-47,54,3,2.6,1.55,-23.5]
[" متغیرهای ورودی- انتقال ساسون سرشانه به زیر بغل، عصایی یا خط مرکزی جلو\nبرای حذف کامل ساسون سرشانه مجموع c1 و c2 باید 1 شود.",null,null,null,null," متغیرهای ورودی- انتقال ساسون سرشانه به زیر بغل، عصایی یا خط مرکزی جلو\nبرای حذف کامل ساسون سرشانه مجموع c1 و c2 باید 30 شود.","x1","y1","x2","y2(بهینه)","a","b",null,"کمترین",null,"بیشترین",null,null,null,null,null,null,null,null,null,null,null,null,null,null,null,null,null,null,null,{"$f":"BW6","v":"8ساله کت"},-46,55,3.5,2.7,1.6,-23]
["ضریب انتقال ساسون سرشانه جلو به ساسون زیر بغل یا ساسون عصایی  c1","(از 0 الی 1)",{"$f":"K106*E106+L106","v":1},"بدون انتقال=0 \nبهیه برای کت جلو باز=0.8 ",{"$f":"'طراحی همه الگوها'!B223","v":10},"انتقال ساسون سرشانه جلو به ساسون زیر بغل یا ساسون عصایی  c1",0,0,10,1,{"$f":"(J106-H106)/(I106-G106)","v":0.1},{"$f":"H106-G106*K106","v":0},0,{"$f":"(M106-L106)/K106","v":0},1,{"$f":"(O106-L106)/K106","v":10},null,null,null,null,null,null,null,null,null,null,null,null,null,null,null,null,null,null,null,{"$f":"BX6","v":"9ساله کت"},-45,56,4,2.8,1.65,-22.5]
["ضریب انتقال ساسون سرشانه به خط مرکزی جلو c2","(از 0 الی 1)",{"$f":"K107*E107+L107","v":0},"بدون انتقال=0 \nبهیه برای کت جلو باز=0.2 ",{"$f":"'طراحی همه الگوها'!B224","v":0},"انتقال ساسون سرشانه به خط مرکزی جلو c2",0,0,10,1,{"$f":"(J107-H107)/(I107-G107)","v":0.1},{"$f":"H107-G107*K107","v":0},0,{"$f":"(M107-L107)/K107","v":0},1,{"$f":"(O107-L107)/K107","v":10},null,null,null,null,null,null,null,null,null,null,null,null,null,null,null,null,null,null,null,{"$f":"BY6","v":"10ساله کت"},-44,57,4.5,2.9,1.7,-22]
["انتخاب (اصلاح سرشانه و حلقه آستین برای c1 >1 ) = 1         و انتخاب دیگر=0","0 یا 1 ",{"$f":"K108*E108+L108","v":0},null,{"$f":"'طراحی همه الگوها'!B225","v":1},"انتخاب (اصلاح سرشانه و حلقه آستین برای c1 >30 ) = 2        انتخاب دیگر=1",1,0,2,1,{"$f":"(J108-H108)/(I108-G108)","v":1},{"$f":"H108-G108*K108","v":-1},0,{"$f":"(M108-L108)/K108","v":1},1,{"$f":"(O108-L108)/K108","v":2},null,null,null,null,null,null,null,null,null,null,null,null,null,null,null,null,null,null,null,{"$f":"BZ6","v":"11ساله کت"},-43,58,5,3,1.75,-21.5]
[null,null,null,null,null,null,null,null,null,null,null,null,null,null,null,null,null,null,null,null,null,null,null,null,null,null,null,null,null,null,null,null,null,null,null,{"$f":"CA6","v":"12ساله کت"},-42,59,5.5,3.1,1.8,-21]
[" متغیرهای ورودی- انتقال ساسون سرشانه به زیر بغل، عصایی یا خط مرکزی پشت\nبرای حذف کامل ساسون سرشانه مجموع c1 و c2 باید 1 شود.",null,null,null,null," متغیرهای ورودی- انتقال ساسون سرشانه به زیر بغل، عصایی یا خط مرکزی پشت\nبرای حذف کامل ساسون سرشانه مجموع c1 و c2 باید 30 شود.","x1","y1","x2","y2(بهینه)","a","b",null,"کمترین",null,"بیشترین",null,null,null,null,null,null,null,null,null,null,null,null,null,null,null,null,null,null,null,{"$f":"CB6","v":"13ساله کت"},-41,60,6,3.2,null,-20.5]
["ضریب انتقال ساسون سرشانه پشت به ساسون زیر بغل یا عصایی  c1","(از 0 الی 1)",{"$f":"K111*E111+L111","v":0},"بدون انتقال=0 \nبهیه برای کت پشت باز=0.8 ",{"$f":"'طراحی همه الگوها'!B229","v":0},"انتقال ساسون سرشانه پشت به ساسون زیر بغل یا عصایی  c1",0,0,10,1,{"$f":"(J111-H111)/(I111-G111)","v":0.1},{"$f":"H111-G111*K111","v":0},0,{"$f":"(M111-L111)/K111","v":0},1,{"$f":"(O111-L111)/K111","v":10},null,null,null,null,null,null,null,null,null,null,null,null,null,null,null,null,null,null,null,{"$f":"CC6","v":"14ساله کت"},-40,61,6.5,3.3,null,-20]
["ضریب انتقال ساسون سرشانه به خط مرکزی پشت c2","(از 0 الی 1)",{"$f":"K112*E112+L112","v":0},"بدون انتقال=0 \nبهیه برای کت پشت باز=0.2 ",{"$f":"'طراحی همه الگوها'!B230","v":0},"انتقال ساسون سرشانه به خط مرکزی پشت c2",0,0,10,1,{"$f":"(J112-H112)/(I112-G112)","v":0.1},{"$f":"H112-G112*K112","v":0},0,{"$f":"(M112-L112)/K112","v":0},1,{"$f":"(O112-L112)/K112","v":10},null,null,null,null,null,null,null,null,null,null,null,null,null,null,null,null,null,null,null,{"$f":"CD6","v":"34زنانه کمر پهن"},-39,62,7,3.4,null,-19.5]
[null,null,null,null,null,null,null,null,null,null,null,null,null,null,null,null,null,null,null,null,null,null,null,null,null,null,null,null,null,null,null,null,null,null,null,{"$f":"CE6","v":"36زنانه کمر پهن"},-38,63,7.5,3.5,null,-19]
[" متغیرهای ورودی-ساسون زیر بغل",null,null,null,null," متغیرهای ورودی-ساسون زیر بغل","x1","y1","x2","y2(بهینه)","a","b",null,"کمترین",null,"بیشترین",null,null,null,null,null,null,null,null,null,null,null,null,null,null,null,null,null,null,null,{"$f":"CF6","v":"38زنانه کمر پهن"},-37,64,8,3.6,null,-18.5]
["ضریب کوتاه شدن ساسون زیر بغل جلو  c3","(از0.1 الی 1)",{"$f":"K115*E115+L115","v":0.9},"بلندی ساسون تا نوک سینه=1\nبهینه =0.9",{"$f":"'طراحی همه الگوها'!B233","v":9},"ضریب کوتاه شدن ساسون زیر بغل جلو  ",0,0,1,0.1,{"$f":"(J115-H115)/(I115-G115)","v":0.1},{"$f":"H115-G115*K115","v":0},0.1,{"$f":"(M115-L115)/K115","v":1},1,{"$f":"(O115-L115)/K115","v":10},null,null,null,null,null,null,null,null,null,null,null,null,null,null,null,null,null,null,null,{"$f":"CG6","v":"40زنانه کمر پهن"},-36,65,8.5,3.7,null,-18]
["ضریب کوتاه شدن ساسون زیر بغل پشت  c3","(از 0.1 الی 1)",{"$f":"K116*E116+L116","v":0.9},"بلندی ساسون تا نوک سینه=1\nبهینه =0.9",{"$f":"'طراحی همه الگوها'!B234","v":9},"ضریب کوتاه شدن ساسون زیر بغل پشت  ",0,0,1,0.1,{"$f":"(J116-H116)/(I116-G116)","v":0.1},{"$f":"H116-G116*K116","v":0},0.1,{"$f":"(M116-L116)/K116","v":1},1,{"$f":"(O116-L116)/K116","v":10},null,null,null,null,null,null,null,null,null,null,null,null,null,null,null,null,null,null,null,{"$f":"CH6","v":"42زنانه کمر پهن"},-35,66,9,3.8,null,-17.5]
[null,null,null,null,null,null,null,null,null,null,null,null,null,null,null,null,null,null,null,null,null,null,null,null,null,null,null,null,null,null,null,null,null,null,null,{"$f":"CI6","v":"44زنانه کمر پهن"},-34,67,9.5,3.9,null,-17]
[" متغیرهای ورودی - کنترل گودی حلقه آستین و اپل",null,null,null,null," متغیرهای ورودی - کنترل گودی حلقه آستین و اپل","x1","y1","x2","y2(بهینه)","a","b",null,"کمترین",null,"بیشترین",null,null,null,null,null,null,null,null,null,null,null,null,null,null,null,null,null,null,null,{"$f":"CJ6","v":"46زنانه کمر پهن"},-33,68,10,4,null,-16.5]
["انتخاب کنترل گودی حلقه آستین=1        و انتخاب دیگر=0","0 یا 1 ",{"$f":"K119*E119+L119","v":0},null,{"$f":"'طراحی همه الگوها'!B331","v":1},"انتخاب کنترل گودی حلقه آستین=2        و انتخاب دیگر=1",1,0,2,1,{"$f":"(J119-H119)/(I119-G119)","v":1},{"$f":"H119-G119*K119","v":-1},0,{"$f":"(M119-L119)/K119","v":1},1,{"$f":"(O119-L119)/K119","v":2},4,{"$f":"(Q119-L119)/K119","v":5},null,null,null,null,null,null,null,null,null,null,null,null,null,null,null,null,null,{"$f":"CK6","v":"48زنانه کمر پهن"},-32,69,10.5,4.0999999999999996,null,-16]
[" ضریب میزان روی هم آمدن سرشانه پشت و جلو g2","(از 0 الی 1)",{"$f":"K120*E120+L120","v":0.5},"بهینه=0.5",{"$f":"'طراحی همه الگوها'!B332","v":10},"روی هم آمدن سرشانه پشت و جلو ",1,0.05,0,0,{"$f":"(J120-H120)/(I120-G120)","v":0.05},{"$f":"H120-G120*K120","v":0},0,{"$f":"(M120-L120)/K120","v":0},1,{"$f":"(O120-L120)/K120","v":20},0.5,{"$f":"(Q120-L120)/K120","v":10},null,null,null,null,null,null,null,null,null,null,null,null,null,null,null,null,null,{"$f":"CL6","v":"50زنانه کمر پهن"},-31,70,11,4.2,null,-15.5]
[" نسبت اعمال تغییر در حلقه جلو به حلقه پشت  g1","(از 0.5 الی 5)",{"$f":"K121*E121+L121","v":2},"بهینه=2",{"$f":"'طراحی همه الگوها'!B333","v":20},"نسبت اعمال تغییر در حلقه جلو به حلقه پشت  ",1,0.1,0,0,{"$f":"(J121-H121)/(I121-G121)","v":0.1},{"$f":"H121-G121*K121","v":0},0.5,{"$f":"(M121-L121)/K121","v":5},5,{"$f":"(O121-L121)/K121","v":50},2,{"$f":"(Q121-L121)/K121","v":20},null,null,null,null,null,null,null,null,null,null,null,null,null,null,null,null,null,{"$f":"CM6","v":"52زنانه کمر پهن"},-30,71,11.5,4.3,null,-15]
["زاویه اپل  (به درجه)  b","(از 0 الی 10)",{"$f":"K122*E122+L122","v":3},"بهینه =3",{"$f":"'طراحی همه الگوها'!B334","v":15},"زاویه اپل    ",1,0.2,0,0,{"$f":"(J122-H122)/(I122-G122)","v":0.2},{"$f":"H122-G122*K122","v":0},0,{"$f":"(M122-L122)/K122","v":0},10,{"$f":"(O122-L122)/K122","v":50},3,{"$f":"(Q122-L122)/K122","v":15},null,null,null,null,null,null,null,null,null,null,null,null,null,null,null,null,null,{"$f":"CN6","v":"54زنانه کمر پهن"},-29,72,12,4.4000000000000004,null,-14.5]
[null,null,null,null,null,null,null,null,null,null,null,null,null,null,null,null,null,null,null,null,null,null,null,null,null,null,null,null,null,null,null,null,null,null,null,{"$f":"CO6","v":"56زنانه کمر پهن"},-28,73,12.5,4.5,null,-14]
[" متغیرهای ورودی - نوع پیراهن",null,null,null,null," متغیرهای ورودی - نوع پیراهن","x1","y1","x2","y2(بهینه)","a","b",null,"کمترین",null,"بیشترین",null,null,null,null,null,null,null,null,null,null,null,null,null,null,null,null,null,null,null,{"$f":"CP6","v":"58زنانه کمر پهن"},-27,74,13,4.5999999999999996,null,-13.5]
["انتخاب جلو ترک ( سوتین) =1         انتخاب جلو با ساسون  (مایو) = 0","0 یا 1 ",{"$f":"K125*E125+L125","v":1},null,{"$f":"'طراحی همه الگوها'!B210","v":2},"انتخاب الگو جلو ترک ( سوتین) =2         انتخاب الگو جلو با ساسون  (مایو) = 1",1,0,2,1,{"$f":"(J125-H125)/(I125-G125)","v":1},{"$f":"H125-G125*K125","v":-1},null,1,null,2,null,null,null,null,null,null,null,null,null,null,null,null,null,null,null,null,null,null,null,{"$f":"CQ6","v":"60زنانه کمر پهن"},-26,75,13.5,4.7,null,-13]
[null,null,null,null,null,null,null,null,null,null,null,null,null,null,null,null,null,null,null,null,null,null,null,null,null,null,null,null,null,null,null,null,null,null,null,{"$f":"CR6","v":"37مردانه کت"},-25,76,14,4.8,null,-12.5]
[" متغیر ورودی اوزمان ها",null,null,null,null," متغیر ورودی اوزمان ها","x1","y1","x2","y2(بهینه)","a","b",null,"کمترین",null,"بیشترین",null,null,null,null,null,null,null,null,null,null,null,null,null,null,null,null,null,null,null,{"$f":"CS6","v":"38مردانه کت"},-24,77,14.5,4.9000000000000004,null,-12]
["میزان پایین آمدن نقطه شروع اوزمان از خط کمر x5 ","(از 0 الی 1)",{"$f":"K128*E128+L128","v":1},"روی خط باسن=1",{"$f":"'طراحی مدل 16'!B368","v":30},"میزان پایین آمدن نقطه شروع اوزمان از خط کمر  ",10,0,30,1,{"$f":"(J128-H128)/(I128-G128)","v":0.05},{"$f":"H128-G128*K128","v":-0.5},0,{"$f":"(M128-L128)/K128","v":10},1,{"$f":"(O128-L128)/K128","v":30},null,null,null,null,null,null,null,null,null,null,null,null,null,null,null,null,null,null,null,{"$f":"CT6","v":"39مردانه کت"},-23,78,15,5,"متغیر ورودی خاص چادر",-11.5]
["ضریب بزرگ شدن اوزمان در خط پهلو جلو دامن f0 ","(از -0.5 الی 2)",-0.1,"بهینه=0.5",{"$f":"'طراحی مدل 16'!B369","v":-2},"اوزمان در خط پهلو جلو دامن  ",0,0,1,0.05,0.05,0,-0.5,-10,2,40,null,null,null,null,null,null,null,null,null,null,null,null,null,null,null,null,null,null,null,{"$f":"CU6","v":"40مردانه کت"},-22,79,15.5,null,70,-11]
["ضریب بزرگ شدن اوزمان در خط ترک جلو دامن e20 ","(از -0.5 الی 2)",0,"بهینه=0.5",{"$f":"'طراحی همه الگوها'!B310","v":0},"اوزمان در خط ترک جلو دامن  ",0,0,1,0.05,0.05,0,-0.5,-10,2,40,null,null,null,null,null,null,null,null,null,null,null,null,null,null,null,null,null,null,null,{"$f":"CV6","v":"41مردانه کت"},-21,80,16,null,75,-10.5]
["ضریب بزرگ شدن اوزمان در خط  پهلو پشت دامن f1  ","(از -0.5 الی 2)",-0.1,"بهینه=0.5",{"$f":"'طراحی مدل 16'!B370","v":-2},"اوزمان در خط  پهلو پشت دامن   ",0,0,1,0.05,0.05,0,-0.5,-10,2,40,null,null,null,null,null,null,null,null,null,null,null,null,null,null,null,null,null,null,null,{"$f":"CW6","v":"42مردانه کت"},-20,81,16.5,null,80,-10]
["ضریب بزرگ شدن اوزمان در خط مرکزی پشت دامن e40 ","(از -0.5 الی 2)",0,"بهینه=0.5",{"$f":"'طراحی مدل 16'!B371","v":0},"اوزمان در خط مرکزی پشت دامن  ",0,0,1,0.05,0.05,0,-0.5,-10,2,40,null,null,null,null,null,null,null,null,null,null,null,null,null,null,null,null,null,null,null,{"$f":"CX6","v":"43مردانه کت"},-19,82,17,null,85,-9.5]
["ضریب بزرگ شدن اوزمان در خط ترک پشت دامن e50 ","(از -0.5 الی 2)",0,"بهینه=0.5",{"$f":"'طراحی همه الگوها'!B311","v":0},"اوزمان در خط ترک پشت دامن  ",0,0,1,0.05,0.05,0,-0.5,-10,2,40,null,null,null,null,null,null,null,null,null,null,null,null,null,null,null,null,null,null,null,{"$f":"CY6","v":"44مردانه کت"},-18,83,17.5,null,90,-9]
["انتخاب پیراهن ترک گشاد=1            انتخاب دیگر=0","0 یا 1 ",0,null,{"$f":"'طراحی همه الگوها'!B312","v":1},"انتخاب پیراهن ترک گشاد=2            انتخاب دیگر=1",1,0,2,1,1,-1,null,1,null,2,null,null,null,null,null,null,null,null,null,null,null,null,null,null,null,null,null,null,null,{"$f":"CZ6","v":"45مردانه کت"},-17,84,18,null,95,-8.5]
[null,null,null,null,null,null,null,null,null,null,null,null,null,null,null,null,null,null,null,null,null,null,null,null,null,null,null,null,null,null,null,null,null,null,null,{"$f":"DA6","v":"46 مردانه کت"},-16,85,18.5,null,100,-8]
[" متغیرهای ورودی - پیلی ها و گوده ها",null,null,null,null," متغیرهای ورودی - پیلی ها و گوده ها","x1","y1","x2","y2(بهینه)","a","b",null,"کمترین",null,"بیشترین",null,null,null,null,null,null,null,null,null,null,null,null,null,null,null,null,null,null,null,{"$f":"DB6","v":"47 مردانه کت"},-15,86,19,null,105,-7.5]
[" عرض پیلی 1 - روی خط مرکزی جلو  (سانتیمتر)    e119","(از 0 الی 10)",{"$f":"K137*E137+L137","v":0},"بهینه=4",{"$f":"'طراحی همه الگوها'!B299","v":0}," عرض پیلی 1 - روی خط مرکزی جلو  (سانتیمتر)    ",1,1,0,0,{"$f":"(J137-H137)/(I137-G137)","v":1},{"$f":"H137-G137*K137","v":0},0,{"$f":"(M137-L137)/K137","v":0},10,{"$f":"(O137-L137)/K137","v":10},4,{"$f":"(Q137-L137)/K137","v":4},null,null,null,null,null,null,null,null,null,null,null,null,null,null,null,null,null,{"$f":"DC6","v":"48 مردانه کت"},-14,87,19.5,null,110,-7]
[" عرض پیلی 2 - روی خط ترک جلو   (سانتیمتر)    e219","(از 0 الی 10)",0,"بهینه=4",{"$f":"'طراحی همه الگوها'!B300","v":0}," عرض پیلی 2 - روی خط ترک جلو   (سانتیمتر)    ",1,1,0,0,1,0,0,0,10,10,4,4,null,null,null,null,null,null,null,null,null,null,null,null,null,null,null,null,null,{"$f":"DD6","v":"49 مردانه کت"},-13,88,20,null,115,-6.5]
[" عرض پیلی 3 - روی خط پهلو  (سانتیمتر)    e319","(از 0 الی 10",0,"بهینه=4",{"$f":"'طراحی همه الگوها'!B301","v":0}," عرض پیلی 3 - روی خط پهلو  (سانتیمتر)    ",1,1,0,0,1,0,0,0,10,10,4,4,null,null,null,null,null,null,null,null,null,null,null,null,null,null,null,null,null,{"$f":"DE6","v":"50 مردانه کت"},-12,89,null,null,120,-6]
[" عرض پیلی 4 - روی خط مرکزی پشت  (سانتیمتر)    e419","(از 0 الی 10",2,"بهینه=4",{"$f":"'طراحی همه الگوها'!B302","v":2}," عرض پیلی 4 - روی خط مرکزی پشت  (سانتیمتر)    ",1,1,0,0,1,0,0,0,10,10,4,4,null,null,null,null,null,null,null,null,null,null,null,null,null,null,null,null,null,{"$f":"DF6","v":"عنوان 1"},-11,90,null,null,125,-5.5]
[" عرض پیلی 5 و لبه برگردان پایین کت یا پیراهن- روی خط ترک پشت  (سانتیمتر) e519","(از 0 الی 10)",2,"بهینه=4",{"$f":"'طراحی همه الگوها'!B303","v":2}," عرض پیلی 5 و لبه برگردان پایین کت یا پیراهن- روی خط ترک پشت  (سانتیمتر) ",1,1,0,0,1,0,0,0,10,10,4,4,null,null,null,null,null,null,null,null,null,null,null,null,null,null,null,null,null,{"$f":"DG6","v":"عنوان 2"},-10,91,null,null,130,-5]
[" عرض گوده 1 - روی خط مرکزی جلو  (سانتیمتر)    e111","(از 0 الی 15)",0,"بهینه=7",{"$f":"'طراحی همه الگوها'!B304","v":0}," عرض گوده 1 - روی خط مرکزی جلو  (سانتیمتر)    ",1,1,0,0,1,0,0,0,15,15,7,7,null,null,null,null,null,null,null,null,null,null,null,null,null,null,null,null,null,{"$f":"DH6","v":"عنوان 3"},-9,92,null,null,135,-4.5]
[" عرض گوده 2 - روی خط ترک جلو  (سانتیمتر)    e211","(از 0 الی 15)",0,"بهینه=7",{"$f":"'طراحی همه الگوها'!B305","v":0}," عرض گوده 2 - روی خط ترک جلو  (سانتیمتر)    ",1,1,0,0,1,0,0,0,15,15,7,7,null,null,null,null,null,null,null,null,null,null,null,null,null,null,null,null,null,{"$f":"DI6","v":"عنوان 4"},-8,93,null,null,140,-4]
[" عرض گوده 3 - روی خط پهلو   (سانتیمتر)    e311","(از 0 الی 15)",5,"بهینه=7",{"$f":"'طراحی همه الگوها'!B306","v":5}," عرض گوده 3 - روی خط پهلو   (سانتیمتر)    ",1,1,0,0,1,0,0,0,15,15,7,7,null,null,null,null,null,null,null,null,null,null,null,null,null,null,null,null,null,{"$f":"DJ6","v":"عنوان 5"},-7,94,null,null,145,-3.5]
[" عرض گوده 4 - روی خط مرکزی پشت  (سانتیمتر)    e411","(از 0 الی 15)",5,"بهینه=7",{"$f":"'طراحی همه الگوها'!B307","v":5}," عرض گوده 4 - روی خط مرکزی پشت  (سانتیمتر)    ",1,1,0,0,1,0,0,0,15,15,7,7,null,null,null,null,null,null,null,null,null,null,null,null,null,null,null,null,null,{"$f":"DK6","v":"عنوان 6"},-6,95,null,null,150,-3]
[" عرض گوده 5 - روی خط ترک پشت  (سانتیمتر)    e511","(از 0 الی 15)",5,"بهینه=7",{"$f":"'طراحی همه الگوها'!B308","v":5}," عرض گوده 5 - روی خط ترک پشت  (سانتیمتر)    ",1,1,0,0,1,0,0,0,15,15,7,7,null,null,null,null,null,null,null,null,null,null,null,null,null,null,null,null,null,{"$f":"DL6","v":"عنوان 7"},-5,96,null,null,155,-2.5]
["ضریب نقطه شروع گوده و پیلی از زمین    e0","(از 0 الی 2)",1.5,"خط زمین=0 \nخط زانو=1 \nخط باسن=2  ",{"$f":"'طراحی همه الگوها'!B309","v":40},"ضریب نقطه شروع گوده و پیلی از زمین    ",10,0,30,1,0.05,-0.5,null,1,null,50,0,10,null,null,null,null,null,null,null,null,null,null,null,null,null,null,null,null,null,{"$f":"DM6","v":"عنوان 8"},-4,97,null,null,160,-2]
[null,null,null,null,null,null,null,null,null,null,null,null,null,null,null,null,null,null,null,null,null,null,null,null,null,null,null,null,null,null,null,null,null,null,null,{"$f":"DN6","v":"عنوان 9"},-3,98,null,null,165,-1.5]
[" متغیرهای ورودی جزئی - طراحی تکه پشت یقه انگلیسی  ",null,null,null,null," متغیرهای ورودی جزئی - طراحی تکه پشت یقه انگلیسی  ","x1","y1","x2","y2(بهینه)","a","b",null,"کمترین",null,"بیشترین",null,null,null,null,null,null,null,null,null,null,null,null,null,null,null,null,null,null,null,{"$f":"DO6","v":"عنوان 10"},-2,99,null,null,170,-1]
["γ11      زاویه تکه پشت یقه روی خط مرکزی ","(از -10 الی 20)",{"$f":"K150*E150+L150","v":2},"بهینه=2",{"$f":"'طراحی همه الگوها'!E225","v":20},"زاویه تکه پشت یقه روی خط مرکزی ",19,1,20,2,{"$f":"(J150-H150)/(I150-G150)","v":1},{"$f":"H150-G150*K150","v":-18},-10,{"$f":"(M150-L150)/K150","v":8},20,{"$f":"(O150-L150)/K150","v":38},2,{"$f":"(Q150-L150)/K150","v":20},null,null,null,null,null,null,null,null,null,null,null,null,null,null,null,null,null,{"$f":"DP6","v":"عنوان 11"},-1,100,null,null,175,-0.5]
["γ12       زاویه تکه پشت یقه با پایه روی خط مرکزی ","(از -10 الی 20)",4,"بهینه=4",{"$f":"'طراحی همه الگوها'!E226","v":20},"زاویه تکه پشت یقه با پایه روی خط مرکزی ",19,3,20,4,1,-16,-10,6,20,36,4,20,null,null,null,null,null,null,null,null,null,null,null,null,null,null,null,null,null,{"$f":"DQ6","v":"عنوان 12"},0,101,null,null,180,0]
[" ضریب تغییر انحنا بالا سمت چپ     مرحله نهم          γ13","(از -1 الی 1)",0,"بهینه=0",{"$f":"'طراحی همه الگوها'!E223","v":20},"ضریب تغییر انحنا بالا سمت چپ     مرحله نهم در طراحی یقه انگلیسی          ",19,-0.1,20,0,0.1,-2,-1,10,1,30,0,20,null,null,null,null,null,null,null,null,null,null,null,null,null,null,null,null,null,{"$f":"DR6","v":"عنوان 13"},1,102,null,null,185,0.5]
["γ14        ضریب تغییر انحنا بالا    مرحله نهم ","(از 0.5 الی 2)",1.18,"بهینه=1.18",{"$f":"'طراحی همه الگوها'!E224","v":40},"ضریب تغییر انحنا بالا    مرحله نهم در طراحی یقه انگلیسی ",39,1.1599999999999999,40,1.18,2.0000000000000018E-2,0.37999999999999923,0.5,6.0000000000000329,2,80.999999999999972,1.18,40,null,null,null,null,null,null,null,null,null,null,null,null,null,null,null,null,null,{"$f":"DS6","v":"عنوان 14"},2,103,null,null,190,1]
["γ15        ضریب تغییر انحنا پایین روی خط مرکزی پشت","(از 0 الی 2)",0.5,"بهینه=0.5",{"$f":"'طراحی همه الگوها'!E227","v":20},"ضریب تغییر انحنا پایین روی خط مرکزی پشت",19,0.45,20,0.5,4.9999999999999989E-2,-0.49999999999999972,0,9.9999999999999964,2,50,0.5,20,null,null,null,null,null,null,null,null,null,null,null,null,null,null,null,null,null,{"$f":"DT6","v":"عنوان 15"},3,104,null,null,195,1.5]
["γ16        ضریب تغییر انحنا پایین","(از 0 الی 2)",0.6,"بهینه=0.6",{"$f":"'طراحی همه الگوها'!E228","v":20},"ضریب تغییر انحنا پایین",19,0.55000000000000004,20,0.6,4.9999999999999933E-2,-0.39999999999999869,0,7.999999999999984,2,48.000000000000036,0.6,20,null,null,null,null,null,null,null,null,null,null,null,null,null,null,null,null,null,{"$f":"DU6","v":"عنوان 16"},4,105,null,null,200,2]
["γ17      ضریب پهنای پشت پایه (انگلیسی و آرشال) مرحله سوم","(از 0.2 الی 2)",0.7,"بهینه=1\nبهینه پایه مستطیل=0.7",{"$f":"'طراحی همه الگوها'!E219","v":20},"پهنای پشت پایه (انگلیسی و آرشال)    مرحله سوم در طراحی یقه انگلیسی      ",19,0.65,20,0.7,4.9999999999999933E-2,-0.29999999999999871,0.2,9.9999999999999876,2,46.000000000000043,1,26.000000000000011,null,null,null,null,null,null,null,null,null,null,null,null,null,null,null,null,null,{"$f":"DV6","v":"عنوان 17"},5,106,null,null,null,2.5]
["γ18        زاویه کج شدن پایه مستطیل به قسمت گردن بر حسب درجه  مرحله سوم ","(از -30 الی 30)",-15,"بهینه=5",{"$f":"'طراحی همه الگوها'!E220","v":20},"زاویه کج شدن پایه مستطیل به قسمت گردن    مرحله سوم در طراحی یقه انگلیسی ",39,4,40,5,1,-35,-30,5,30,65,5,40,null,null,null,null,null,null,null,null,null,null,null,null,null,null,null,null,null,{"$f":"DW6","v":"عنوان 18"},6,107,null,null,null,3]
[" ضریب پهنای جلو پایه مستطیل  مرحله سوم       γ19","(از 0 الی 1)",0.7,"بهینه=0.7",{"$f":"'طراحی همه الگوها'!E221","v":20},"پهنای جلو پایه مستطیل      مرحله سوم در طراحی یقه انگلیسی       ",19,0.65,20,0.7,4.9999999999999933E-2,-0.29999999999999871,0,5.9999999999999822,1,26.000000000000011,0.7,20,null,null,null,null,null,null,null,null,null,null,null,null,null,null,null,null,null,{"$f":"DX6","v":"عنوان 19"},7,108,null,null,null,3.5]
["انتخاب یقه انگلیسی با پایه جدا=1            انتخاب دیگر=0  مرحله سوم","0 یا 1 ",0,null,{"$f":"'طراحی همه الگوها'!E222","v":1},"انتخاب یقه انگلیسی پایه سرخود یا پایه جدا    مرحله سوم در طراحی یقه انگلیسی",1,0,2,1,1,-1,0,1,1,2,0,1,null,null,null,null,null,null,null,null,null,null,null,null,null,null,null,null,null,{"$f":"DY6","v":"عنوان 20"},8,109,null,null,null,4]
["γ20        جابجایی عمودی پایه مستطیل","(از -100 الی100)",0,"بهینه=دلخواه",{"$f":"'طراحی همه الگوها'!E231","v":0},"جابجایی عمودی پایه مستطیل (سانتیمتر)",1,1,0,0,1,0,-100,{"$f":"(M160-L160)/K160","v":-100},100,{"$f":"(O160-L160)/K160","v":100},null,null,null,null,null,null,null,null,null,null,null,null,null,null,null,null,null,null,null,{"$f":"DZ6","v":"عنوان 21"},9,110,null,null,null,4.5]
["γ21        جابجایی افقی پایه مستطیل","(از -100 الی100)",0,"بهینه=دلخواه",{"$f":"'طراحی همه الگوها'!E230","v":0},"جابجایی افقی پایه مستطیل (سانتیمتر)",1,1,0,0,1,0,-100,{"$f":"(M161-L161)/K161","v":-100},100,{"$f":"(O161-L161)/K161","v":100},null,null,null,null,null,null,null,null,null,null,null,null,null,null,null,null,null,null,null,{"$f":"EA6","v":"عنوان 22"},10,111,null,null,null,5]
[null,null,null,null,null,null,null,null,null,null,null,null,null,null,null,null,null,null,null,null,null,null,null,null,null,null,null,null,null,null,null,null,null,null,null,{"$f":"EB6","v":"عنوان 23"},11,112,null,null,null,5.5]
[" متغیرهای ورودی-طراحی یقه انگلیسی و آرشال و یقه هفت",null,null,null,null," متغیرهای ورودی-طراحی یقه انگلیسی و آرشال و یقه هفت","x1","y1","x2","y2(بهینه)","a","b",null,"کمترین",null,"بیشترین",null,null,"مراحل مختلف در طراحی یقه انگلیسی",null,null,null,null,null,null,null,null,null,null,null,null,null,null,null,null,{"$f":"EC6","v":"عنوان 24"},12,113,null,null,null,6]
["پهنای یقه در پشت گردن (انگلیسی یا آرشال)  مرحله سوم","(از 0.7 الی 3)",{"$f":"K164*E164+L164","v":1},"بهینه=1",{"$f":"'طراحی همه الگوها'!E207","v":20},"پهنای یقه در پشت گردن (انگلیسی یا آرشال)  مرحله سوم در طراحی یقه انگلیسی",19,0.95,20,1,{"$f":"(J164-H164)/(I164-G164)","v":5.0000000000000044E-2},{"$f":"H164-G164*K164","v":-8.8817841970012523E-16},0.7,{"$f":"(M164-L164)/K164","v":14.000000000000004},3,{"$f":"(O164-L164)/K164","v":59.999999999999964},1,{"$f":"(Q164-L164)/K164","v":20},"پهنای جادکمه جلو - میزان روی هم آمدن یقه انگلیسی","مرحله اول",null,null,null,null,null,null,null,null,null,null,null,null,null,null,null,{"$f":"ED6","v":"عنوان 25"},13,114,null,null,null,6.5]
["γ1      باز بودن یقه انگلیسی یا آرشال یا هفت   مرحله چهارم ","(از 0.5 الی 1.5)",0.7,"بهینه=0.7",{"$f":"'طراحی همه الگوها'!E208","v":20}," باز بودن یقه انگلیسی یا آرشال یا هفت   مرحله چهارم در طراحی یقه انگلیسی ",19,0.65,20,0.7,4.9999999999999933E-2,-0.29999999999999871,0.5,15.999999999999995,1.5,36.000000000000021,0.7,20,"میزان باز بودن یقه گرد - نشان میدهد یقه چقدر به گردن میچسبد","مرحله دوم",null,null,null,null,null,null,null,null,null,null,null,null,null,null,null,{"$f":"EE6","v":"عنوان 26"},14,115,null,null,null,7]
["γ7        پهنای بالای دال   مرحله پنجم ","(از 0.01 الی 0.4)",9.9999999999999992E-2,"بهینه=0.1",{"$f":"'طراحی همه الگوها'!E209","v":20}," پهنای بالای دال   مرحله پنجم در طراحی یقه انگلیسی ",21,0.11,20,0.1,9.999999999999995E-3,-9.9999999999999908E-2,0.01,10.999999999999996,0.4,50.000000000000021,0.1,20,"پهنای تکه پشت یقه انگلیسی","مرحله سوم",null,null,null,null,null,null,null,null,null,null,null,null,null,null,null,{"$f":"EF6","v":"عنوان 27"},15,116,null,null,null,7.5]
[" پهنای پایین دال   مرحله پنجم         γ6","(از 0.01 الی 0.4)",9.9999999999999992E-2,"بهینه=0.1",{"$f":"'طراحی همه الگوها'!E210","v":20}," پهنای پایین دال   مرحله پنجم در طراحی یقه انگلیسی      ",21,0.11,20,0.1,9.999999999999995E-3,-9.9999999999999908E-2,0.01,10.999999999999996,0.4,50.000000000000021,0.1,20,"باز بودن یقه انگلیسی","مرحله چهارم",null,null,null,null,null,null,null,null,null,null,null,null,null,null,null,{"$f":"EG6","v":"عنوان 28"},16,117,null,null,null,8]
["γ4          پهنای یقه انگلیسی یا آرشال   مرحله ششم ","(از -5 الی 40)",8,"بهینه=8",{"$f":"'طراحی همه الگوها'!E211","v":20}," پهنای یقه انگلیسی یا آرشال   مرحله ششم در طراحی یقه انگلیسی ",19,7,20,8,1,-12,-5,7,40,52,8,20,"پهنای بالا و پایین دال","مرحله پنجم",null,null,null,null,null,null,null,null,null,null,null,null,null,null,null,{"$f":"EH6","v":"عنوان 29"},17,118,null,null,null,8.5]
["γ5        وسط دال پایین یا بالا رود (انگلیسی یا آرشال)  مرحله هفتم","(از -0.2 الی 0.3)",0,"عدد منفی یعنی دال رو به سرشانه برود\nبهینه=0",{"$f":"'طراحی همه الگوها'!E212","v":20}," وسط دال پایین یا بالا رود (انگلیسی یا آرشال)  مرحله هفتم در طراحی یقه انگلیسی",19,-0.01,20,0,0.01,-0.2,-0.2,0,0.3,50,0,20,"پهنای یقه انگلیسی","مرحله ششم",null,null,null,null,null,null,null,null,null,null,null,null,null,null,null,{"$f":"EI6","v":"عنوان 30"},18,119,"متغیر ورودی خاص یقه","متغیر ورودی خاص شلوار",null,9]
["γ9       زاویه بالای دال   مرحله هشتم","(از 90 الی 180)",130,"بهینه=130",{"$f":"'طراحی همه الگوها'!E213","v":20}," زاویه بالای دال   مرحله هشتم در طراحی یقه انگلیسی",19,125,20,130,5,30,90,12,180,30,130,20,"بالا و پایین رفتن نقطه وسط دال","مرحله هفتم",null,null,null,null,null,null,null,null,null,null,null,null,null,null,null,{"$f":"EJ6","v":"عنوان 31"},19,120,"خط جادکمه","روش مولر",null,9.5]
["γ10       زاویه پایین دال    مرحله هشتم ","(از 90 الی 180)",160,"بهینه=160",{"$f":"'طراحی همه الگوها'!E214","v":20}," زاویه پایین دال    مرحله هشتم در طراحی یقه انگلیسی ",19,155,20,160,5,60,90,6,180,24,160,20,"تنظیم زاویه های نوک دال","مرحله هشتم",null,null,null,null,null,null,null,null,null,null,null,null,null,null,null,{"$f":"EK6","v":"عنوان 32"},20,null,"مرکزی جلو",0,null,10]
["  γ3  دال رو به پایین شود یا رو به بالا شود مرحله هشتم  (در آستین رگلان = 0.05)","(از 0.01 الی 0.3)",5.0000000000000017E-2,"بهینه=0.05",{"$f":"'طراحی همه الگوها'!E215","v":20}," دال رو به پایین یا رو به بالا شود مرحله هشتم در طراحی یقه انگلیسی  ",19,0.04,20,0.05,{"$f":"(J172-H172)/(I172-G172)","v":1.0000000000000002E-2},{"$f":"H172-G172*K172","v":-0.15000000000000002},0.01,{"$f":"(M172-L172)/K172","v":16},0.3,{"$f":"(O172-L172)/K172","v":44.999999999999993},0.05,{"$f":"(Q172-L172)/K172","v":19.999999999999996},"اصلاح انحنای بالای تکه پشت یقه انگلیسی","مرحله نهم",null,null,null,null,null,null,null,null,null,null,null,null,null,null,null,{"$f":"EL6","v":"عنوان 33"},21,null,1,0.5,null,10.5]
["γ1      محاسبه در یقه شکاری متصل به یقه هفت   ",{"$f":"ROUND(1-(محاسبات!AX103-محاسبات!AX129-محاسبات!AX155-'متغیرها '!C169*محاسبات!H124)/محاسبات!H124,2)","v":0.21},null,null,null,"   محاسبه در یقه شکاری متصل به یقه هفت   ",null,null,null,null,null,null,null,null,null,null,null,null,null,null,null,null,null,null,null,null,null,null,null,null,null,null,null,null,null,{"$f":"EM6","v":"عنوان 34"},22,null,2,1,null,11]
[null,null,null,null,null,null,null,null,null,null,null,null,null,null,null,null,null,null,null,null,null,null,null,null,null,null,null,null,null,null,null,null,null,null,null,{"$f":"EN6","v":"عنوان 35"},23,null,3,1.5,null,11.5]
[" متغیرهای ورودی -ضخیم دوزی در سجاف یقه انگلیسی و آرشال",null,null,null,null," متغیرهای ورودی -ضخیم دوزی در سجاف یقه انگلیسی و آرشال","x1","y1","x2","y2(بهینه)","a","b",null,"کمترین",null,"بیشترین",null,null,null,null,null,null,null,null,null,null,null,null,null,null,null,null,null,null,null,{"$f":"EO6","v":"عنوان 36"},24,null,4,2,null,12]
["ضریب اعمال ضخیم دوزی در سجاف  (سانتیمتر) a'0","(از 0 الی 1)",{"$f":"K176*E176+L176","v":0.5},"بهینه کت مردانه=0.5",{"$f":"'طراحی همه الگوها'!E229","v":20},"ضریب اعمال ضخیم دوزی در سجاف  (سانتیمتر) ",19,0.45,20,0.5,{"$f":"(J176-H176)/(I176-G176)","v":4.9999999999999989E-2},{"$f":"H176-G176*K176","v":-0.49999999999999972},0,{"$f":"(M176-L176)/K176","v":9.9999999999999964},1,{"$f":"(O176-L176)/K176","v":30.000000000000004},0.5,{"$f":"(Q176-L176)/K176","v":20},null,null,null,null,null,null,null,null,null,null,null,null,null,null,null,null,null,{"$f":"EP6","v":"عنوان 37"},25,null,5,2.5,null,12.5]
[null,null,null,null,null,null,null,null,null,null,null,null,null,null,null,null,null,null,null,null,null,null,null,null,null,null,null,null,null,null,null,null,null,null,null,{"$f":"EQ6","v":"عنوان 38"},26,null,6,3,null,13]
[" متغیرهای ورودی - پایه یقه انگلیسی  ",null,null,null,null," متغیرهای ورودی - پایه یقه انگلیسی  ","x1","y1","x2","y2(بهینه)","a","b",null,"کمترین",null,"بیشترین",null,null,null,null,null,null,null,null,null,null,null,null,null,null,null,null,null,null,null,{"$f":"ER6","v":"عنوان 39"},27,null,7,3.5,null,13.5]
["شیفت افقی پایه (به سانتیمتر)","(از -100 الی100)",{"$f":"K179*E179+L179","v":0},"بهینه=دلخواه",{"$f":"'طراحی همه الگوها'!E232","v":0},"شیفت افقی پایه (سانتیمتر)",1,1,0,0,{"$f":"(J179-H179)/(I179-G179)","v":1},{"$f":"H179-G179*K179","v":0},-100,{"$f":"(M179-L179)/K179","v":-100},100,{"$f":"(O179-L179)/K179","v":100},null,null,null,null,null,null,null,null,null,null,null,null,null,null,null,null,null,null,null,{"$f":"ES6","v":"عنوان 40"},28,null,8,4,null,14]
["شیفت عمودی پایه (به سانتیمتر)","(از -100 الی100)",{"$f":"K180*E180+L180","v":0},"بهینه=دلخواه",{"$f":"'طراحی همه الگوها'!E233","v":0},"شیفت عمودی پایه (سانتیمتر)",1,1,0,0,{"$f":"(J180-H180)/(I180-G180)","v":1},{"$f":"H180-G180*K180","v":0},-100,{"$f":"(M180-L180)/K180","v":-100},100,{"$f":"(O180-L180)/K180","v":100},null,null,null,null,null,null,null,null,null,null,null,null,null,null,null,null,null,null,null,null,29,null,9,4.5,null,14.5]
[null,null,null,null,null,null,null,null,null,null,null,null,null,null,null,null,null,null,null,null,null,null,null,null,null,null,null,null,null,null,null,null,null,null,null,null,30,null,10,5,null,15]
[" متغیرهای ورودی - پایه یقه آرشال  ",null,null,null,null," متغیرهای ورودی - پایه یقه آرشال  ","x1","y1","x2","y2(بهینه)","a","b",null,"کمترین",null,"بیشترین",null,null,null,null,null,null,null,null,null,null,null,null,null,null,null,null,null,null,null,null,31,null,11,5.5,null,15.5]
["شیفت افقی پایه (به سانتیمتر)","(از -100 الی100)",{"$f":"K183*E183+L183","v":0},"بهینه=دلخواه",{"$f":"'طراحی همه الگوها'!E234","v":0},"شیفت افقی پایه (سانتیمتر)",1,1,0,0,{"$f":"(J183-H183)/(I183-G183)","v":1},{"$f":"H183-G183*K183","v":0},-100,{"$f":"(M183-L183)/K183","v":-100},100,{"$f":"(O183-L183)/K183","v":100},null,null,null,null,null,null,null,null,null,null,null,null,null,null,null,null,null,null,null,null,32,null,12,6,null,16]
["شیفت عمودی پایه (به سانتیمتر)","(از -100 الی100)",{"$f":"K184*E184+L184","v":0},"بهینه=دلخواه",{"$f":"'طراحی همه الگوها'!E235","v":0},"شیفت عمودی پایه (سانتیمتر)",1,1,0,0,{"$f":"(J184-H184)/(I184-G184)","v":1},{"$f":"H184-G184*K184","v":0},-100,{"$f":"(M184-L184)/K184","v":-100},100,{"$f":"(O184-L184)/K184","v":100},null,null,null,null,null,null,null,null,null,null,null,null,null,null,null,null,null,null,null,null,33,null,13,6.5,null,16.5]
[null,null,null,null,null,null,null,null,null,null,null,null,null,null,null,null,null,null,null,null,null,null,null,null,null,null,null,null,null,null,null,null,null,null,null,null,34,null,14,7,null,17]
[" متغیرهای ورودی-انتقال ساسون زیر بغل بر روی جیب در تکه پهلو جدا",null,null,null,null," متغیرهای ورودی-انتقال ساسون زیر بغل بر روی جیب در تکه پهلو جدا","x1","y1","x2","y2(بهینه)","a","b",null,"کمترین",null,"بیشترین",null,null,null,null,null,null,null,null,null,null,null,null,null,null,null,null,null,null,null,null,35,null,15,7.5,null,17.5]
["تغییر زاویه جیب با افق  (درجه)","(از -45 الی 45)",{"$f":"K187*E187+L187","v":-41},"بهینه =دلخواه",{"$f":"'طراحی همه الگوها'!B337","v":40},"تغییر زاویه جیب با افق  (درجه)",-2,1,-1,0,{"$f":"(J187-H187)/(I187-G187)","v":-1},{"$f":"H187-G187*K187","v":-1},-45,{"$f":"(M187-L187)/K187","v":44},45,{"$f":"(O187-L187)/K187","v":-46},0,{"$f":"(Q187-L187)/K187","v":-1},null,null,null,null,null,null,null,null,null,null,null,null,null,null,null,null,null,null,36,null,16,8,null,18]
["ضریب پهنای جیب در مدل تکه پهلو جدا","(از 0.01 الی 1.5)",{"$f":"K188*E188+L188","v":1},"بهینه=1",{"$f":"'طراحی همه الگوها'!B338","v":20},"ضریب پهنای جیب در مدل تکه پهلو جدا",19,0.95,20,1,{"$f":"(J188-H188)/(I188-G188)","v":5.0000000000000044E-2},{"$f":"H188-G188*K188","v":-8.8817841970012523E-16},0.01,{"$f":"(M188-L188)/K188","v":0.20000000000001758},1.5,{"$f":"(O188-L188)/K188","v":29.999999999999993},1,{"$f":"(Q188-L188)/K188","v":20},null,null,null,null,null,null,null,null,null,null,null,null,null,null,null,null,null,null,37,null,17,8.5,null,18.5]
[null,null,null,null,null,null,null,null,null,null,null,null,null,null,null,null,null,null,null,null,null,null,null,null,null,null,null,null,null,null,null,null,null,null,null,null,38,null,18,9,null,19]
[" متغیرهای ورودی-انحنا لبه پیراهن روی خط مرکزی جلو ",null,null,null,null," متغیرهای ورودی-انحنا لبه پیراهن روی خط مرکزی جلو ","x1","y1","x2","y2(بهینه)","a","b",null,"کمترین",null,"بیشترین",null,null,null,null,null,null,null,null,null,null,null,null,null,null,null,null,null,null,null,null,39,null,19,9.5,null,19.5]
["ضریب انحنا بالای لبه پیراهن  روی خط مرکزی جلو n11","(از 0.01 الی 0.9)",{"$f":"K191*E191+L191","v":0.55000000000000004},"بهینه کت مردانه=0.45",{"$f":"'طراحی مدل 16'!B374","v":11},"ضریب انحنا بالای لبه پیراهن  روی خط مرکزی جلو ",1,0.05,0,0,{"$f":"(J191-H191)/(I191-G191)","v":0.05},{"$f":"H191-G191*K191","v":0},0.01,{"$f":"(M191-L191)/K191","v":0.19999999999999998},0.9,{"$f":"(O191-L191)/K191","v":18},0.45,{"$f":"(Q191-L191)/K191","v":9},null,null,null,null,null,null,null,null,null,null,null,null,null,null,null,null,null,null,40,null,20,10,null,20]
["ضریب انحنا میانی لبه پیراهن  روی خط مرکزی جلو n13","(از 0.5 الی 1.7)",{"$f":"K192*E192+L192","v":1.55},"بهینه کت مردانه=1.3",{"$f":"'طراحی مدل 16'!B375","v":31},"ضریب انحنا میانی لبه پیراهن  روی خط مرکزی جلو ",1,0.05,0,0,{"$f":"(J192-H192)/(I192-G192)","v":0.05},{"$f":"H192-G192*K192","v":0},0.5,{"$f":"(M192-L192)/K192","v":10},1.7,{"$f":"(O192-L192)/K192","v":34},1.3,{"$f":"(Q192-L192)/K192","v":26},null,null,null,null,null,null,null,null,null,null,null,null,null,null,null,null,null,null,41,null,null,10.5,null,20.5]
["ضریب انحنا پایین لبه پیراهن روی خط مرکزی جلو n12","(از 0.3 الی 1)",{"$f":"K193*E193+L193","v":0.75},"بهینه کت مردانه=0.8",{"$f":"'طراحی مدل 16'!B376","v":15},"ضریب انحنا پایین لبه پیراهن روی خط مرکزی جلو ",1,0.05,0,0,{"$f":"(J193-H193)/(I193-G193)","v":0.05},{"$f":"H193-G193*K193","v":0},0.3,{"$f":"(M193-L193)/K193","v":5.9999999999999991},1,{"$f":"(O193-L193)/K193","v":20},0.8,{"$f":"(Q193-L193)/K193","v":16},null,null,null,null,null,null,null,null,null,null,null,null,null,null,null,null,null,null,42,null,null,11,null,21]
[null,null,null,null,null,null,null,null,null,null,null,null,null,null,null,null,null,null,null,null,null,null,null,null,null,null,null,null,null,null,null,null,null,null,null,null,43,null,null,11.5,null,21.5]
[" متغیرهای ورودی - جیب پهلو",null,null,null,null," متغیرهای ورودی - جیب پهلو آبی با بلیطی  (جلو)","x1","y1","x2","y2(بهینه)","a","b",null,"کمترین",null,"بیشترین",null,null,null,null,null,null,null,null,null,null,null,null,null,null,null,null,null,null,null,null,44,null,null,12,null,22]
["عرض پاکت جیب به سانتیمتر","(از 0 الی 4)",{"$f":"K196*E196+L196","v":2},"بهینه=2",{"$f":"'طراحی همه الگوها'!E326","v":2},"پهنای بلیطی جیب  (سانتیمتر)",1,1,0,0,{"$f":"(J196-H196)/(I196-G196)","v":1},{"$f":"H196-G196*K196","v":0},0,{"$f":"(M196-L196)/K196","v":0},4,{"$f":"(O196-L196)/K196","v":4},2,{"$f":"(Q196-L196)/K196","v":2},null,null,null,null,null,null,null,null,null,null,null,null,null,null,null,null,null,null,45,null,null,12.5,null,22.5]
["ضریب طول پاکت جیب","(از 0.01 الی 1.5)",{"$f":"K197*E197+L197","v":1},"بهینه=1",{"$f":"'طراحی همه الگوها'!E327","v":20},"ضریب طول بلیطی جیب",19,0.95,20,1,{"$f":"(J197-H197)/(I197-G197)","v":5.0000000000000044E-2},{"$f":"H197-G197*K197","v":-8.8817841970012523E-16},0.01,{"$f":"(M197-L197)/K197","v":0.20000000000001758},1.5,{"$f":"(O197-L197)/K197","v":29.999999999999993},1,{"$f":"(Q197-L197)/K197","v":20},null,null,null,null,null,null,null,null,null,null,null,null,null,null,null,null,null,null,46,null,null,13,null,23]
["زاویه جیب با عمود به درجه","(از 0 الی 90)",{"$f":"K198*E198+L198","v":20},"بهینه=20",{"$f":"'طراحی همه الگوها'!E328","v":4},"زاویه جیب با عمود ",1,5,0,0,{"$f":"(J198-H198)/(I198-G198)","v":5},{"$f":"H198-G198*K198","v":0},0,{"$f":"(M198-L198)/K198","v":0},90,{"$f":"(O198-L198)/K198","v":18},20,{"$f":"(Q198-L198)/K198","v":4},null,null,null,null,null,null,null,null,null,null,null,null,null,null,null,null,null,null,47,null,null,13.5,null,23.5]
["زاویه چرخش پاکت جیب از مستطیل به متوازی الاضلاع (به درجه)","(از -90 الی 90)",{"$f":"K199*E199+L199","v":0},"پاکت مستطیل=0  ",{"$f":"'طراحی همه الگوها'!E329","v":20},"زاویه چرخش بلیطی جیب از مستطیل به متوازی الاضلاع ",21,5,20,0,{"$f":"(J199-H199)/(I199-G199)","v":5},{"$f":"H199-G199*K199","v":-100},-90,{"$f":"(M199-L199)/K199","v":2},90,{"$f":"(O199-L199)/K199","v":38},0,{"$f":"(Q199-L199)/K199","v":20},null,null,null,null,null,null,null,null,null,null,null,null,null,null,null,null,null,null,48,null,null,14,null,24]
[null,null,null,null,null,null,null,null,null,null,null,null,null,null,null,null,null,null,null,null,null,null,null,null,null,null,null,null,null,null,null,null,null,null,null,null,49,null,null,14.5,null,24.5]
[" متغیرهای ورودی - جیب اول درمکان دلخواه",null,null,null,null," متغیرهای ورودی - جیب اول سبز با بلیطی  (جلو)","x1","y1","x2","y2(بهینه)","a","b",null,"کمترین",null,"بیشترین",null,null,null,null,null,null,null,null,null,null,null,null,null,null,null,null,null,null,null,null,50,null,null,15,null,25]
["ضریب فاصله افقی وسط جیب از خط مرکزی جلو ","(از 0 الی 1)",{"$f":"K202*E202+L202","v":0.55000000000000004},"خط مرکزی جلو=0 \nخط پهلو=1  ",{"$f":"'طراحی همه الگوها'!E338","v":11},"ضریب فاصله افقی وسط جیب از خط مرکزی جلو ",20,1,0,0,{"$f":"(J202-H202)/(I202-G202)","v":0.05},{"$f":"H202-G202*K202","v":0},0,{"$f":"(M202-L202)/K202","v":0},1,{"$f":"(O202-L202)/K202","v":20},0.5,{"$f":"(Q202-L202)/K202","v":10},null,null,null,null,null,null,null,null,null,null,null,null,null,null,null,null,null,null,51,null,null,null,null,25.5]
["ضریب فاصله عمودی بالای جیب از زمین ","(از0 الی 5)",2.5,"خط زمین=0 \nخط زانو=1 \nخط باسن=2 \nخط کمر=3 \nخط سینه=4  ",{"$f":"'طراحی همه الگوها'!E339","v":60},"ضریب فاصله عمودی بالای جیب از زمین ",10,0,30,1,0.05,-0.5,0,10,5,110,2,50,null,null,null,null,null,null,null,null,null,null,null,null,null,null,null,null,null,null,52,null,null,null,null,26]
["عرض پاکت جیب به سانتیمتر","(از 0 الی 4)",2,"بهینه=2",{"$f":"'طراحی همه الگوها'!E332","v":2},"پهنای بلیطی جیب  (سانتیمتر)",1,1,0,0,1,0,0,0,4,4,2,2,null,null,null,null,null,null,null,null,null,null,null,null,null,null,null,null,null,null,53,null,null,"متغیر ورودی بافت یقه شکاری",null,26.5]
["ضریب طول پاکت جیب","(از 0.01 الی 2)",1,"بهینه=1",{"$f":"'طراحی همه الگوها'!E333","v":20},"ضریب طول بلیطی جیب",19,0.95,20,1,5.0000000000000044E-2,-8.8817841970012523E-16,0.01,0.20000000000001758,2,39.999999999999986,1,20,null,null,null,null,null,null,null,null,null,null,null,null,null,null,null,null,null,null,54,null,null,0,null,27]
["زاویه جیب با عمود به درجه","(از 0 الی 180)",90,"بهینه=دلخواه",{"$f":"'طراحی همه الگوها'!E334","v":18},"زاویه جیب با عمود ",1,5,0,0,5,0,0,0,180,36,20,4,null,null,null,null,null,null,null,null,null,null,null,null,null,null,null,null,null,null,55,null,null,5,null,27.5]
["زاویه چرخش پاکت جیب از مستطیل به متوازی الاضلاع (به درجه)","(از -90 الی 90)",0,"پاکت مستطیل=0  ",{"$f":"'طراحی همه الگوها'!E335","v":20},"زاویه چرخش بلیطی جیب از مستطیل به متوازی الاضلاع ",21,5,20,0,5,-100,-90,2,90,38,0,20,null,null,null,null,null,null,null,null,null,null,null,null,null,null,null,null,null,null,56,null,null,8,null,28]
["انتخاب جیب روکار=1        انتخاب دیگر=0","0 یا 1 ",1,null,{"$f":"'طراحی همه الگوها'!E336","v":2},"انتخاب جیب روکار=2        انتخاب دیگر=1",1,0,2,1,1,-1,0,1,1,2,0,1,null,null,null,null,null,null,null,null,null,null,null,null,null,null,null,null,null,null,57,null,null,10,null,28.5]
["انتخاب طول جیب منطبق با جیب با ساسون=1        انتخاب طول جیب دستی=0","0 یا 1 ",0,null,{"$f":"'طراحی همه الگوها'!E337","v":1},"انتخاب طول جیب منطبق با جیب با ساسون=2        انتخاب طول جیب دستی=1",1,0,2,1,{"$f":"(J209-H209)/(I209-G209)","v":1},{"$f":"H209-G209*K209","v":-1},0,1,1,2,0,1,null,null,null,null,null,null,null,null,null,null,null,null,null,null,null,null,null,null,58,null,null,12,null,29]
[null,null,null,null,null,null,null,null,null,null,null,null,null,null,null,null,null,null,null,null,null,null,null,null,null,null,null,null,null,null,null,null,null,null,null,null,59,null,null,15,null,29.5]
[" متغیرهای ورودی - جیب دوم درمکان دلخواه",null,null,null,null," متغیرهای ورودی - جیب دوم سیاه با بلیطی (جلو)","x1","y1","x2","y2(بهینه)","a","b",null,"کمترین",null,"بیشترین",null,null,null,null,null,null,null,null,null,null,null,null,null,null,null,null,null,null,null,null,60,null,null,20,null,30]
["ضریب فاصله افقی وسط جیب از خط مرکزی جلو ","(از 0 الی 1)",{"$f":"K212*E212+L212","v":0.60000000000000009},"خط مرکزی جلو=0 \nخط پهلو=1  ",{"$f":"'طراحی مدل 16'!H324","v":12},"ضریب فاصله افقی وسط جیب از خط مرکزی جلو ",20,1,0,0,{"$f":"(J212-H212)/(I212-G212)","v":0.05},{"$f":"H212-G212*K212","v":0},0,{"$f":"(M212-L212)/K212","v":0},1,{"$f":"(O212-L212)/K212","v":20},0.5,{"$f":"(Q212-L212)/K212","v":10},null,null,null,null,null,null,null,null,null,null,null,null,null,null,null,null,null,null,61,null,null,null,null,30.5]
["ضریب فاصله عمودی بالای جیب از زمین ","(از0 الی 5)",2.2000000000000002,"خط زمین=0 \nخط زانو=1 \nخط باسن=2 \nخط کمر=3 \nخط سینه=4  ",{"$f":"'طراحی مدل 16'!H325","v":54},"ضریب فاصله عمودی بالای جیب از زمین ",10,0,30,1,0.05,-0.5,0,10,5,110,2,50,null,null,null,null,null,null,null,null,null,null,null,null,null,null,null,null,null,null,62,null,null,null,null,31]
["عرض پاکت جیب به سانتیمتر","(از 0 الی 4)",0,"بهینه=2",{"$f":"'طراحی مدل 16'!H319","v":0},"پهنای بلیطی جیب  (سانتیمتر)",1,1,0,0,1,0,0,0,4,4,2,2,null,null,null,null,null,null,null,null,null,null,null,null,null,null,null,null,null,null,63,null,null,null,null,31.5]
["ضریب طول پاکت جیب","(از 0.01 الی 2)",-8.8817841970012523E-16,"بهینه=1",{"$f":"'طراحی مدل 16'!H320","v":0},"ضریب طول بلیطی جیب",19,0.95,20,1,5.0000000000000044E-2,-8.8817841970012523E-16,0.01,0.20000000000001758,2,39.999999999999986,1,20,null,null,null,null,null,null,null,null,null,null,null,null,null,null,null,null,null,null,64,null,null,null,null,32]
["زاویه جیب با عمود به درجه","(از 0 الی 180)",50,"بهینه=دلخواه",{"$f":"'طراحی مدل 16'!H321","v":10},"زاویه جیب با عمود ",1,5,0,0,5,0,0,0,180,36,20,4,null,null,null,null,null,null,null,null,null,null,null,null,null,null,null,null,null,null,65,null,null,null,null,32.5]
["زاویه چرخش پاکت جیب از مستطیل به متوازی الاضلاع (به درجه)","(از -90 الی 90)",0,"پاکت مستطیل=0  ",{"$f":"'طراحی مدل 16'!H322","v":20},"زاویه چرخش بلیطی جیب از مستطیل به متوازی الاضلاع ",21,5,20,0,5,-100,-90,2,90,38,0,20,null,null,null,null,null,null,null,null,null,null,null,null,null,null,null,null,null,null,66,null,null,null,null,33]
["انتخاب جیب روکار=1        انتخاب دیگر=0","0 یا 1 ",0,null,{"$f":"'طراحی مدل 16'!H323","v":1},"انتخاب جیب روکار=2        انتخاب دیگر=1",1,0,2,1,1,-1,0,1,1,2,0,1,null,null,null,null,null,null,null,null,null,null,null,null,null,null,null,null,null,null,67,null,null,null,null,33.5]
[null,null,null,null,null,null,null,null,null,null,null,null,null,null,null,null,null,null,null,null,null,null,null,null,null,null,null,null,null,null,null,null,null,null,null,null,68,null,null,null,null,34]
["متغیرهای ورودی -  جیب مستطیل",null,null,null,null,"متغیرهای ورودی -  جیب مستطیل قرمز   (جلو)","x1","y1","x2","y2(بهینه)","a","b",null,"کمترین",null,"بیشترین",null,null,null,null,null,null,null,null,null,null,null,null,null,null,null,null,null,null,null,null,69,null,null,null,null,34.5]
["ضریب فاصله افقی وسط  جیب از خط مرکزی جلو لباس ","(از 0 الی 1)",{"$f":"K221*E221+L221","v":1},"لبه جلو=0 \nلبه کناری=1  ",{"$f":"'طراحی مدل 16'!H331","v":20},"ضریب فاصله افقی وسط  جیب از خط مرکزی جلو لباس ",20,1,0,0,{"$f":"(J221-H221)/(I221-G221)","v":0.05},{"$f":"H221-G221*K221","v":0},0,{"$f":"(M221-L221)/K221","v":0},1,{"$f":"(O221-L221)/K221","v":20},0.5,{"$f":"(Q221-L221)/K221","v":10},null,null,null,null,null,null,null,null,null,null,null,null,null,null,null,null,null,null,70,null,null,null,null,35]
["ضریب فاصله عمودی بالای  جیب از زمین ","(از0 الی 5)",{"$f":"K222*E222+L222","v":2.5},"خط زمین=0 \nخط زانو=1 \nخط باسن=2 \nخط کمر=3 \nخط سینه=4  ",{"$f":"'طراحی مدل 16'!H332","v":60},"ضریب فاصله عمودی بالای  جیب از زمین ",10,0,30,1,{"$f":"(J222-H222)/(I222-G222)","v":0.05},{"$f":"H222-G222*K222","v":-0.5},0,{"$f":"(M222-L222)/K222","v":10},5,{"$f":"(O222-L222)/K222","v":110},2,{"$f":"(Q222-L222)/K222","v":50},null,null,null,null,null,null,null,null,null,null,null,null,null,null,null,null,null,null,71,null,null,null,null,35.5]
["ضریب عرض جیب مستطیل","(از 0.01 الی 1.5)",{"$f":"K223*E223+L223","v":0},"بهینه جیب=1.2",{"$f":"'طراحی مدل 16'!H328","v":0},"ضریب عرض جیب مستطیل",1,0.05,0,0,{"$f":"(J223-H223)/(I223-G223)","v":0.05},{"$f":"H223-G223*K223","v":0},0.01,{"$f":"(M223-L223)/K223","v":0.19999999999999998},1.5,{"$f":"(O223-L223)/K223","v":30},1.2,{"$f":"(Q223-L223)/K223","v":23.999999999999996},null,null,null,null,null,null,null,null,null,null,null,null,null,null,null,null,null,null,72,null,null,null,null,36]
["زاویه  جیب با عمود (به درجه)","(از 0 الی 180)",{"$f":"K224*E224+L224","v":90},"افقی=90",{"$f":"'طراحی مدل 16'!H329","v":18},"زاویه  جیب با عمود ",1,5,0,0,{"$f":"(J224-H224)/(I224-G224)","v":5},{"$f":"H224-G224*K224","v":0},0,{"$f":"(M224-L224)/K224","v":0},180,{"$f":"(O224-L224)/K224","v":36},90,{"$f":"(Q224-L224)/K224","v":18},null,null,null,null,null,null,null,null,null,null,null,null,null,null,null,null,null,null,73,null,null,null,null,36.5]
["ضریب ارتفاع جیب مستطیل","(از 0 الی 1.5)",{"$f":"K225*E225+L225","v":0},"بهینه جیب=1.1",{"$f":"'طراحی مدل 16'!H330","v":0},"ضریب ارتفاع جیب مستطیل",1,0.05,0,0,{"$f":"(J225-H225)/(I225-G225)","v":0.05},{"$f":"H225-G225*K225","v":0},0,{"$f":"(M225-L225)/K225","v":0},1.5,{"$f":"(O225-L225)/K225","v":30},1.1000000000000001,{"$f":"(Q225-L225)/K225","v":22},null,null,null,null,null,null,null,null,null,null,null,null,null,null,null,null,null,null,74,null,null,null,null,37]
[null,null,null,null,null,null,null,null,null,null,null,null,null,null,null,null,null,null,null,null,null,null,null,null,null,null,null,null,null,null,null,null,null,null,null,null,75,null,null,null,null,37.5]
["متغیرهای ورودی -  جادکمه با بلیطی",null,null,null,null,"متغیرهای ورودی -  جادکمه با بلیطی (جلو)","x1","y1","x2","y2(بهینه)","a","b",null,"کمترین",null,"بیشترین",null,null,null,null,null,null,null,null,null,null,null,null,null,null,null,null,null,null,null,null,76,null,null,null,null,38]
["ضریب فاصله افقی وسط جادکمه  از خط مرکزی جلو لباس ","(از 0 الی 1)",{"$f":"K228*E228+L228","v":0.5},"لبه جلو=0 \nلبه کناری=1  ",{"$f":"'طراحی همه الگوها'!E361","v":10},"ضریب فاصله افقی وسط جادکمه  از خط مرکزی جلو لباس ",20,1,0,0,{"$f":"(J228-H228)/(I228-G228)","v":0.05},{"$f":"H228-G228*K228","v":0},0,{"$f":"(M228-L228)/K228","v":0},1,{"$f":"(O228-L228)/K228","v":20},0.5,{"$f":"(Q228-L228)/K228","v":10},null,null,null,null,null,null,null,null,null,null,null,null,null,null,null,null,null,null,77,null,null,null,null,38.5]
["ضریب فاصله عمودی بالای جادکمه از زمین ","(از0 الی 5)",{"$f":"K229*E229+L229","v":3},"خط زمین=0 \nخط زانو=1 \nخط باسن=2 \nخط کمر=3 \nخط سینه=4  ",{"$f":"'طراحی همه الگوها'!E362","v":70},"ضریب فاصله عمودی بالای جادکمه از زمین ",10,0,30,1,{"$f":"(J229-H229)/(I229-G229)","v":0.05},{"$f":"H229-G229*K229","v":-0.5},0,{"$f":"(M229-L229)/K229","v":10},5,{"$f":"(O229-L229)/K229","v":110},2,{"$f":"(Q229-L229)/K229","v":50},null,null,null,null,null,null,null,null,null,null,null,null,null,null,null,null,null,null,78,null,null,null,null,39]
["عرض پاکت جادکمه به سانتیمتر","(از 0 الی 4)",{"$f":"K230*E230+L230","v":2},"بهینه جادکمه=2",{"$f":"'طراحی همه الگوها'!E358","v":2},"پهنای جادکمه  (سانتیمتر)",1,1,0,0,{"$f":"(J230-H230)/(I230-G230)","v":1},{"$f":"H230-G230*K230","v":0},0,{"$f":"(M230-L230)/K230","v":0},4,{"$f":"(O230-L230)/K230","v":4},2,{"$f":"(Q230-L230)/K230","v":2},null,null,null,null,null,null,null,null,null,null,null,null,null,null,null,null,null,null,79,null,null,null,null,39.5]
["ضریب طول پاکت جادکمه ","(از 0.01 الی 1.5)",{"$f":"K231*E231+L231","v":0.30000000000000004},"بهینه جادکمه=0.3",{"$f":"'طراحی همه الگوها'!E359","v":20},"ضریب طول جادکمه ",19,0.25,20,0.3,{"$f":"(J231-H231)/(I231-G231)","v":4.9999999999999989E-2},{"$f":"H231-G231*K231","v":-0.69999999999999973},0.01,{"$f":"(M231-L231)/K231","v":14.199999999999998},1.5,{"$f":"(O231-L231)/K231","v":44.000000000000007},0.3,{"$f":"(Q231-L231)/K231","v":20},null,null,null,null,null,null,null,null,null,null,null,null,null,null,null,null,null,null,80,null,null,null,null,40]
["زاویه جادکمه با عمود (به درجه)","(از 0 الی 180)",{"$f":"K232*E232+L232","v":90},"افقی=90",{"$f":"'طراحی همه الگوها'!E360","v":18},"زاویه جادکمه با عمود ",1,5,0,0,{"$f":"(J232-H232)/(I232-G232)","v":5},{"$f":"H232-G232*K232","v":0},0,{"$f":"(M232-L232)/K232","v":0},180,{"$f":"(O232-L232)/K232","v":36},90,{"$f":"(Q232-L232)/K232","v":18},null,null,null,null,null,null,null,null,null,null,null,null,null,null,null,null,null,null,81,null,null,null,null,40.5]
[null,null,null,null,null,null,null,null,null,null,null,null,null,null,null,null,null,null,null,null,null,null,null,null,null,null,null,null,null,null,null,null,null,null,null,null,82,null,null,null,null,41]
[" متغیرهای ورودی - جادکمه با طول دلخواه",null,null,null,null,"جادکمه متصل به یقه گرد","x1","y1","x2","y2(بهینه)","a","b",null,"کمترین",null,"بیشترین",null,null,null,null,null,null,null,null,null,null,null,null,null,null,null,null,null,null,null,null,83,null,null,null,null,41.5]
["ضریب عرض جادکمه به سانتیمتر","(از 0 الی 0.03)",{"$f":"K235*E235+L235","v":1.4999999999999999E-2},"بهینه=0.01",{"$f":"'طراحی همه الگوها'!E365","v":30},"ضریب عرض جادکمه ",1,5.0000000000000001E-4,0,0,{"$f":"(J235-H235)/(I235-G235)","v":5.0000000000000001E-4},{"$f":"H235-G235*K235","v":0},0,{"$f":"(M235-L235)/K235","v":0},0.03,{"$f":"(O235-L235)/K235","v":60},0.01,{"$f":"(Q235-L235)/K235","v":20},null,null,null,null,null,null,null,null,null,null,null,null,null,null,null,null,null,null,84,null,null,null,null,42]
["ضریب طول جادکمه ","(از 0.7 الی 2.5)",{"$f":"K236*E236+L236","v":1.5600000000000005},"حداقل طول جادکمه با پارچه کش برای رد شدن از سر=0.7 \nحداقل طول جادکمه با پارچه غیر کش برای رد شدن از سر=1 \nجادکمه بلند  >1 ",{"$f":"'طراحی همه الگوها'!E366","v":28},"ضریب طول جادکمه ",1,1.02,0,1,{"$f":"(J236-H236)/(I236-G236)","v":2.0000000000000018E-2},{"$f":"H236-G236*K236","v":1},1,{"$f":"(M236-L236)/K236","v":0},2.5,{"$f":"(O236-L236)/K236","v":74.999999999999929},1,{"$f":"(Q236-L236)/K236","v":0},null,null,null,null,null,null,null,null,null,null,null,null,null,null,null,null,null,null,85,null,null,null,null,42.5]
["حداقل طول جادکمه با پارچه غیر کش به سانتیمتر (عدد منفی یعنی دور یقه بزرگتر از دور سر میباشد)  *",{"$f":"ROUND(محاسبات!FH465,0)","v":8},null,null,{"$f":"IF((B261+B239)<B260,\"خیر\",\"بله \")","v":"بله "},"آیا یقه گرد متصل به جادکمه با پارچه غیر کش از سر رد میشود؟",null,null,null,null,null,null,null,null,null,null,null,null,null,null,null,null,null,null,null,null,null,null,null,null,null,null,null,null,null,null,86,null,null,null,null,43]
["حداقل طول جادکمه با پارچه کش به سانتیمتر (عدد منفی یعنی دور یقه بزرگتر از حد لازم برای رد شدن از دور سر میباشد)  '*",{"$f":"ROUND(0.5*('متغیرها '!U85-1.2*(2.12*SQRT(محاسبات!K144*محاسبات!K144+محاسبات!K143*محاسبات!K143)+2.08*SQRT(محاسبات!AA147*محاسبات!AA147+محاسبات!AA146*محاسبات!AA146))),0)","v":4},null,null,{"$f":"IF((B261+B239)<0.85*B260,\"خیر\",\"بله \")","v":"بله "},"آیا یقه گرد متصل به جادکمه با پارچه نیم کش از سر رد میشود؟",null,null,null,null,null,null,null,null,null,null,null,null,null,null,null,null,null,null,null,null,null,null,null,null,null,null,null,null,null,null,87,null,null,null,null,43.5]
[" طول جادکمه اختیار شده برای لباس شما به سانتیمتر",{"$f":"ROUND((C236-1)*'متغیرها '!U77,1)","v":12.5},null,null,{"$f":"IF((B261+B239)<0.7*B260,\"خیر\",\"بله \")","v":"بله "},"آیا یقه گرد متصل به جادکمه با پارچه کش زیاد از سر رد میشود؟",null,null,null,null,null,null,null,null,null,null,null,null,null,null,null,null,null,null,null,null,null,null,null,null,null,null,null,null,null,null,88,null,null,null,null,44]
[" عرض جادکمه اختیار شده برای لباس شما به سانتیمتر",{"$f":"ROUND(محاسبات!FH471,1)","v":2.9},null,null,null,null,null,null,null,null,null,null,null,null,null,null,null,null,null,null,null,null,null,null,null,null,null,null,null,null,null,null,null,null,null,null,89,null,null,null,null,44.5]
[null,null,null,null,null,null,null,null,null,null,null,null,null,null,null,null,null,null,null,null,null,null,null,null,null,null,null,null,null,null,null,null,null,null,null,null,90,null,null,null,null,45]
[" مشخصات مستطیل با پارچه کش برای یقه گرد کیپ :",null,null,null,null," مشخصات مستطیل با پارچه کش برای یقه گرد کیپ :",null,null,null,null,null,null,null,null,null,null,null,null,null,null,null,null,null,null,null,null,null,null,null,null,null,null,null,null,null,null,91,null,null,null,null,45.5]
["طول",{"$f":"'متغیرها '!U80","v":38},null,null,null,"طول",null,null,null,null,null,null,null,null,null,null,null,null,null,null,null,null,null,null,null,null,null,null,null,null,null,null,null,null,null,null,92,null,null,null,null,46]
["عرض",{"$f":"0.5*'متغیرها '!C72*محاسبات!G167","v":0.85075783166609442},null,null,null,"عرض",null,null,null,null,null,null,null,null,null,null,null,null,null,null,null,null,null,null,null,null,null,null,null,null,null,null,null,null,null,null,93,null,null,null,null,46.5]
["زاویه متوسط سرشانه",{"$f":"0.5*(محاسبات!P139+0.3*(محاسبات!P140-محاسبات!P139)+محاسبات!AE139+0.3*(محاسبات!AE140-محاسبات!AE139))","v":0.31641567605125198},null,null,null,"زاویه متوسط سرشانه",null,null,null,null,null,null,null,null,null,null,null,null,null,null,null,null,null,null,null,null,null,null,null,null,null,null,null,null,null,null,94,null,null,null,null,47]
[null,null,null,null,null,null,null,null,null,null,null,null,null,null,null,null,null,null,null,null,null,null,null,null,null,null,null,null,null,null,null,null,null,null,null,null,95,null,null,null,null,47.5]
["متغیر ورودی یقه گرد کش :",null,null,null,null,"متغیر ورودی یقه گرد کش :","x1","y1","x2","y2(بهینه)","a","b",null,"کمترین",null,"بیشترین",null,null,null,null,null,null,null,null,null,null,null,null,null,null,null,null,null,null,null,null,96,null,null,null,null,48]
["ارتفاع یقه گرد کش  به سانتیمتر - متغیر ورودی","(از 0.5 الی 5)",{"$f":"K248*E248+L248","v":1},"cm",{"$f":"'طراحی همه الگوها'!E189","v":1},"ارتفاع یقه گرد کش  به سانتیمتر - متغیر ورودی",0,0,0.5,0.5,{"$f":"(J248-H248)/(I248-G248)","v":1},{"$f":"H248-G248*K248","v":0},0.5,{"$f":"(M248-L248)/K248","v":0.5},5,{"$f":"(O248-L248)/K248","v":5},1,{"$f":"(Q248-L248)/K248","v":1},null,null,null,null,null,null,null,null,null,null,null,null,null,null,null,null,null,null,97,null,null,null,null,48.5]
["طول (دور تا دور) یقه گرد کش به سانتیمتر",{"$f":"ROUND(2.12*SQRT(POWER((محاسبات!K144-C248*(1-SIN(B245))),2)+POWER((محاسبات!K143-C248*COS(B245)),2))+2.08*SQRT(POWER((محاسبات!AA147-C248*(1-SIN(B245))),2)+POWER((محاسبات!AA146-C248*COS(B245)),2)),0)","v":36},null,null,null,"طول (دور تا دور) یقه گرد کش به سانتیمتر",null,null,null,null,null,null,null,null,null,null,null,null,null,null,null,null,null,null,null,null,null,null,null,null,null,null,null,null,null,null,98,null,null,null,null,49]
[null,null,null,null,null,null,null,null,null,null,null,null,null,null,null,null,null,null,null,null,null,null,null,null,null,null,null,null,null,null,null,null,null,null,null,null,99,null,null,null,null,49.5]
[" مشخصات نوار دور یقه گرد کش :",null,null,null,null," مشخصات نوار دور یقه گرد کش :",null,null,null,null,null,null,null,null,null,null,null,null,null,null,null,null,null,null,null,null,null,null,null,null,null,null,null,null,null,null,100,null,null,null,null,50]
["ارتفاع نوار  (بعد از دوخت)",0.5,"cm",null,null,"ارتفاع نوار  (بعد از دوخت)",null,null,null,null,null,null,null,null,null,null,null,null,null,null,null,null,null,null,null,null,null,null,null,null,null,null,null,null,null,null,101]
["طول  نوار  (بعد از دوخت)",{"$f":"ROUND(2.12*SQRT(POWER((محاسبات!K144-B252*(1-SIN(محاسبات!BI101))),2)+POWER((محاسبات!K143-B252*COS(محاسبات!BI101)),2))+2.08*SQRT(POWER((محاسبات!AA147-B252*(1-SIN(محاسبات!BI101))),2)+POWER((محاسبات!AA146-B252*COS(محاسبات!BI101)),2)),0)","v":39},"cm",null,null,"طول  نوار  (بعد از دوخت)",null,null,null,null,null,null,null,null,null,null,null,null,null,null,null,null,null,null,null,null,null,null,null,null,null,null,null,null,null,null,102]
[null,null,null,null,null,null,null,null,null,null,null,null,null,null,null,null,null,null,null,null,null,null,null,null,null,null,null,null,null,null,null,null,null,null,null,null,103]
[" مشخصات نوار دور یقه گرد کش :",null,null,null,null," مشخصات نوار دور یقه گرد کش :",null,null,null,null,null,null,null,null,null,null,null,null,null,null,null,null,null,null,null,null,null,null,null,null,null,null,null,null,null,null,104]
["ارتفاع نوار  (بعد از دوخت)",1,"cm",null,null,"ارتفاع نوار  (بعد از دوخت)",null,null,null,null,null,null,null,null,null,null,null,null,null,null,null,null,null,null,null,null,null,null,null,null,null,null,null,null,null,null,105]
["طول  نوار  (بعد از دوخت)",{"$f":"ROUND(2.12*SQRT(POWER((محاسبات!K144-B256*(1-SIN(محاسبات!BI101))),2)+POWER((محاسبات!K143-B256*COS(محاسبات!BI101)),2))+2.08*SQRT(POWER((محاسبات!AA147-B256*(1-SIN(محاسبات!BI101))),2)+POWER((محاسبات!AA146-B256*COS(محاسبات!BI101)),2)),0)","v":36},"cm",null,null,"طول  نوار  (بعد از دوخت)",null,null,null,null,null,null,null,null,null,null,null,null,null,null,null,null,null,null,null,null,null,null,null,null,null,null,null,null,null,null,106]
[null,null,null,null,null,null,null,null,null,null,null,null,null,null,null,null,null,null,null,null,null,null,null,null,null,null,null,null,null,null,null,null,null,null,null,null,107]
[" کنترل یقه گرد بدون زیپ ",null,null,null,null," کنترل یقه گرد بدون زیپ ",null,null,null,null,null,null,null,null,null,null,null,null,null,null,null,null,null,null,null,null,null,null,null,null,null,null,null,null,null,null,108]
["دور سر",{"$f":"'متغیرها '!U85","v":57},null,null,null,"دور سر",null,null,null,null,null,null,null,null,null,null,null,null,null,null,null,null,null,null,null,null,null,null,null,null,null,null,null,null,null,null,109]
[" دور یقه گرد لباس",{"$f":"ROUND(2.12*SQRT(محاسبات!K144*محاسبات!K144+محاسبات!K143*محاسبات!K143)+2.08*SQRT(محاسبات!AA147*محاسبات!AA147+محاسبات!AA146*محاسبات!AA146)+2*'متغیرها '!C66*محاسبات!H129,1)","v":49.4},null,null,null," دور یقه گرد لباس",null,null,null,null,null,null,null,null,null,null,null,null,null,null,null,null,null,null,null,null,null,null,null,null,null,null,null,null,null,null,110]
["حداقل دور یقه گرد با پارچه غیر کش ",{"$f":"'متغیرها '!U85","v":57},null,{"$f":"IF(B261<B262,\"خطا\",\"صحیح \")","v":"خطا"},{"$f":"IF(B261<B262,\"خیر\",\"بله \")","v":"خیر"},"حداقل دور یقه گرد با پارچه غیر کش ",null,null,null,null,null,null,null,null,null,null,null,null,null,null,null,null,null,null,null,null,null,null,null,null,null,null,null,null,null,null,111]
[" حداقل دور یقه گرد با پارچه نیم کش ",{"$f":"ROUND(0.85*'متغیرها '!U85,1)","v":48.5},null,{"$f":"IF(B261<B263,\"خطا\",\"صحیح \")","v":"صحیح "},{"$f":"IF(B261<B263,\"خیر\",\"بله \")","v":"بله "}," حداقل دور یقه گرد با پارچه نیم کش ",null,null,null,null,null,null,null,null,null,null,null,null,null,null,null,null,null,null,null,null,null,null,null,null,null,null,null,null,null,null,112]
["حداقل دور یقه گرد با پارچه کش زیاد ",{"$f":"ROUND(0.7*'متغیرها '!U85,1)","v":39.9},null,{"$f":"IF(B261<B264,\"خطا\",\"صحیح \")","v":"صحیح "},{"$f":"IF(B261<B264,\"خیر\",\"بله \")","v":"بله "},"حداقل دور یقه گرد با پارچه کش زیاد ",null,null,null,null,null,null,null,null,null,null,null,null,null,null,null,null,null,null,null,null,null,null,null,null,null,null,null,null,null,null,113]
[null,null,null,null,null,null,null,null,null,null,null,null,null,null,null,null,null,null,null,null,null,null,null,null,null,null,null,null,null,null,null,null,null,null,null,null,114]
[" کنترل یقه هفت بدون زیپ ",null,null,null,null," کنترل یقه هفت بدون زیپ ",null,null,null,null,null,null,null,null,null,null,null,null,null,null,null,null,null,null,null,null,null,null,null,null,null,null,null,null,null,null,115]
["دور سر",{"$f":"'متغیرها '!U85","v":57},null,null,null,"دور سر",null,null,null,null,null,null,null,null,null,null,null,null,null,null,null,null,null,null,null,null,null,null,null,null,null,null,null,null,null,null,116]
[" دور یقه هفت لباس",{"$f":"ROUND(2.08*SQRT(محاسبات!AA147*محاسبات!AA147+محاسبات!AA146*محاسبات!AA146)+2*(('متغیرها '!C169*محاسبات!H124+محاسبات!K144)/SIN(محاسبات!O233)),1)","v":101.8},null,null,null," دور یقه هفت لباس",null,null,null,null,null,null,null,null,null,null,null,null,null,null,null,null,null,null,null,null,null,null,null,null,null,null,null,null,null,null,117]
["حداقل دور یقه هفت با پارچه غیر کش ",{"$f":"'متغیرها '!U85","v":57},null,{"$f":"IF(B268<B269,\"خطا\",\"صحیح \")","v":"صحیح "},{"$f":"IF(B268<B269,\"خیر\",\"بله \")","v":"بله "},"حداقل دور یقه هفت با پارچه غیر کش ",null,null,null,null,null,null,null,null,null,null,null,null,null,null,null,null,null,null,null,null,null,null,null,null,null,null,null,null,null,null,118]
[" حداقل دور یقه هفت با پارچه نیم کش ",{"$f":"ROUND(0.85*'متغیرها '!U85,1)","v":48.5},null,{"$f":"IF(B268<B270,\"خطا\",\"صحیح \")","v":"صحیح "},{"$f":"IF(B268<B270,\"خیر\",\"بله \")","v":"بله "}," حداقل دور یقه هفت با پارچه نیم کش ",null,null,null,null,null,null,null,null,null,null,null,null,null,null,null,null,null,null,null,null,null,null,null,null,null,null,null,null,null,null,119]
[null,null,null,null,null,null,null,null,null,null,null,null,null,null,null,null,null,null,null,null,null,null,null,null,null,null,null,null,null,null,null,null,null,null,null,null,120]
[" مشخصات کمربند به شکل مستطیل (مناسب برای لباس شما)",null,null,null,null," مشخصات کمربند به شکل مستطیل (مناسب برای لباس شما)"]
["طول کمربند به سانتیمتر",{"$f":"ROUND(3*(محاسبات!K120+محاسبات!K124)+2*(محاسبات!AA123+محاسبات!AA127),1)","v":85.2},null,null,null,"طول کمربند به سانتیمتر"]
["عرض کمربند به سانتیمتر",{"$f":"ROUND(0.07*'متغیرها '!U83,1)","v":4.0999999999999996},null,null,null,"عرض کمربند به سانتیمتر"]
[]
[" مشخصات کش یا پارچه پایین سویشرت :",null,null,null,null," مشخصات کش پایین سویشرت :"]
["طول  کش از ساسون جلو- دور باسن -تا ساسون دیگر جلو",{"$f":"ROUND(C279*2*(محاسبات!AV110-محاسبات!AV164+محاسبات!BG106+محاسبات!BG165),0)","v":47},"cm",null,null,"طول  کش از ساسون جلو- دور باسن -تا ساسون دیگر جلو"]
["ضریب پهنای کش","(از -0.1 الی 0.1)",{"$f":"K278*E278+L278","v":-0.29999999999999982},"بهینه=   - 0.05 ",{"$f":"'طراحی همه الگوها'!B321","v":45},"ضریب پهنای کش",50,-0.05,51,0,{"$f":"(J278-H278)/(I278-G278)","v":0.05},{"$f":"H278-G278*K278","v":-2.5499999999999998},-0.1,{"$f":"(M278-L278)/K278","v":48.999999999999993},0.1,{"$f":"(O278-L278)/K278","v":52.999999999999993},-0.05,{"$f":"(Q278-L278)/K278","v":50}]
["ضریب کوچک شدن کش","(از 0.5  الی 1)",{"$f":"K279*E279+L279","v":0.64999999999999969},"بهینه=   0.9 ",{"$f":"'طراحی همه الگوها'!B322","v":8},"ضریب کوچک شدن کش",2,0.95,1,1,{"$f":"(J279-H279)/(I279-G279)","v":-5.0000000000000044E-2},{"$f":"H279-G279*K279","v":1.05},0.5,{"$f":"(M279-L279)/K279","v":10.999999999999991},1,{"$f":"(O279-L279)/K279","v":1},0.9,{"$f":"(Q279-L279)/K279","v":2.9999999999999978}]
[]
[" متغیرهای ورودی-طراحی یقه مربعی یا برش سرشانه در پیراهن",null,null,null,null," متغیرهای ورودی-طراحی یقه مربعی یا برش سرشانه در پیراهن","x1","y1","x2","y2(بهینه)","a","b",null,"کمترین",null,"بیشترین"]
["انتخاب یقه مربعی=1         انتخاب برش سرشانه در پیراهن مردانه=2  \nانتخاب برش سرشانه در پیراهن برش از کارور=3","1 یا 2 یا 3",{"$f":"K282*E282+L282","v":2},null,{"$f":"'طراحی همه الگوها'!E249","v":2},"انتخاب یقه مربعی=1         انتخاب برش سرشانه در پیراهن مردانه=2  \nانتخاب برش سرشانه در پیراهن برش از کارور=3",2,2,1,1,{"$f":"(J282-H282)/(I282-G282)","v":1},{"$f":"H282-G282*K282","v":0},1,{"$f":"(M282-L282)/K282","v":1},3,{"$f":"(O282-L282)/K282","v":3},1,{"$f":"(Q282-L282)/K282","v":1}]
["  انتخاب آستین با هر نوع ساسون=2    \n  انتخاب آستین بدون ساسون=3           ","2 یا 3",{"$f":"K283*E283+L283","v":3},null,{"$f":"'طراحی همه الگوها'!E250","v":2},"  انتخاب آستین با هر نوع ساسون=1    \n  انتخاب آستین بدون ساسون=2           ",1,2,2,3,{"$f":"(J283-H283)/(I283-G283)","v":1},{"$f":"H283-G283*K283","v":1},2,{"$f":"(M283-L283)/K283","v":1},3,{"$f":"(O283-L283)/K283","v":2},2,{"$f":"(Q283-L283)/K283","v":1}]
["پهنا یقه روی خط سرشانه  (فقط موثر در انتخاب یقه مربعی) ","(از 0.2 الی 1.2)",{"$f":"K284*E284+L284","v":1},"بهینه=1",{"$f":"'طراحی همه الگوها'!E257","v":20},"پهنا یقه روی خط سرشانه  (فقط موثر در انتخاب یقه مربعی) ",19,0.95,20,1,{"$f":"(J284-H284)/(I284-G284)","v":5.0000000000000044E-2},{"$f":"H284-G284*K284","v":-8.8817841970012523E-16},0.2,{"$f":"(M284-L284)/K284","v":4.0000000000000142},1.2,{"$f":"(O284-L284)/K284","v":23.999999999999996},1,{"$f":"(Q284-L284)/K284","v":20}]
["ضریب پایین آمدن خط کارور پشت","(از0.01 الی 0.6)",{"$f":"K285*E285+L285","v":0.22},"بهینه مربعی=0.4 \nبهینه مردانه=0.22 \nبهینه برش از کارور=0.25",{"$f":"'طراحی همه الگوها'!E251","v":20},"ضریب پایین آمدن خط کارور پشت",19,0.21,20,0.22,{"$f":"(J285-H285)/(I285-G285)","v":1.0000000000000009E-2},{"$f":"H285-G285*K285","v":1.9999999999999823E-2},0.01,{"$f":"(M285-L285)/K285","v":-0.99999999999998146},0.6,{"$f":"(O285-L285)/K285","v":57.999999999999964},0.4,{"$f":"(Q285-L285)/K285","v":37.999999999999986}]
[{"$f":"IF(محاسبات!AD460<محاسبات!U466+1,\"ضریب خط کارور پشت کم شود\",\" \")","v":" "},{"$f":"IF(محاسبات!AD460<محاسبات!U466+1,\" خطا - خط کارور پشت بالا برود \",\"عدم خطا\")","v":"عدم خطا"},"حلقه آستین با ساسون سرشانه یا بدون ساسون : ",null,null,{"$f":"IF(محاسبات!AI460<محاسبات!Z466+1,\"ضریب خط کارور پشت کم شود\",\" \")","v":" "}]
[{"$f":"IF(محاسبات!BW469<محاسبات!BW463,\"ضریب خط کارور پشت کم شود\",\" \")","v":" "},{"$f":"IF(محاسبات!BW469<محاسبات!BW463,\"  خطا - خط کارور پشت بالا برود \",\"عدم خطا\")","v":"عدم خطا"},"حلقه آستین با ساسون عصایی : "]
[]
["ضریب پایین آمدن خط کارور جلو","(از 0.1 الی 0.45)",{"$f":"K289*E289+L289","v":0.1999999999999999},"بهینه مربعی=0.3 \nبهینه برش از کارور=0.3",{"$f":"'طراحی همه الگوها'!E254","v":10},"ضریب پایین آمدن خط کارور جلو",19,0.28999999999999998,20,0.3,{"$f":"(J289-H289)/(I289-G289)","v":1.0000000000000009E-2},{"$f":"H289-G289*K289","v":9.9999999999999811E-2},0.1,{"$f":"(M289-L289)/K289","v":1.9428902930940224E-14},0.45,{"$f":"(O289-L289)/K289","v":34.999999999999986},0.3,{"$f":"(Q289-L289)/K289","v":20}]
[{"$f":"IF(محاسبات!Q460<محاسبات!H466+1,\"ضریب خط کارور جلو کم شود\",\" \")","v":" "},{"$f":"IF(محاسبات!Q460<محاسبات!H466+1,\" خطا - خط کارور جلو بالا برود \",\"عدم خطا\")","v":"عدم خطا"},"حلقه آستین با ساسون سرشانه یا بدون ساسون : ",null,null,{"$f":"IF(محاسبات!V460<محاسبات!M466+1,\"ضریب خط کارور جلو کم شود\",\" \")","v":" "}]
[{"$f":"IF(محاسبات!BR470<محاسبات!BR463,\"ضریب خط کارور جلو کم شود\",\" \")","v":" "},{"$f":"IF(محاسبات!BR470<محاسبات!BR463,\" خطا - خط کارور جلو بالا برود \",\"عدم خطا\")","v":"عدم خطا"},"حلقه آستین با ساسون عصایی : ",null,null,{"$f":"IF(محاسبات!BW470<محاسبات!BW463,\"ضریب خط کارور جلو کم شود\",\" \")","v":" "}]
[]
["نصف جلو کارور  (فقط موثر در انتخاب یقه مربعی) ","(از 0.2 الی 0.55)",{"$f":"K293*E293+L293","v":0.45000000000000007},"بهینه=0.45",{"$f":"'طراحی همه الگوها'!E258","v":20},"نصف جلو کارور  (فقط موثر در انتخاب یقه مربعی) ",19,0.4,20,0.45,{"$f":"(J293-H293)/(I293-G293)","v":4.9999999999999989E-2},{"$f":"H293-G293*K293","v":-0.54999999999999971},0.2,{"$f":"(M293-L293)/K293","v":14.999999999999998},0.55000000000000004,{"$f":"(O293-L293)/K293","v":21.999999999999996},0.45,{"$f":"(Q293-L293)/K293","v":20}]
["نصف پشت کارور  (فقط موثر در انتخاب یقه مربعی) ","(از 0.2 الی 0.6)",{"$f":"K294*E294+L294","v":0.5},"بهینه=0.5",{"$f":"'طراحی همه الگوها'!E259","v":20},"نصف پشت کارور  (فقط موثر در انتخاب یقه مربعی) ",19,0.45,20,0.5,{"$f":"(J294-H294)/(I294-G294)","v":4.9999999999999989E-2},{"$f":"H294-G294*K294","v":-0.49999999999999972},0.2,{"$f":"(M294-L294)/K294","v":13.999999999999998},0.6,{"$f":"(O294-L294)/K294","v":21.999999999999996},0.5,{"$f":"(Q294-L294)/K294","v":20}]
[]
["بررسی خطا گردی یقه تا خط کارور جلو",null,null,null,null,"بررسی خطا گردی یقه تا خط کارور جلو"]
[{"$f":"IF((محاسبات!H474-محاسبات!H475)/محاسبات!H474>0.1,\"دور یقه گشاد شود یا ضریب خط کارور جلو زیاد شود\",\"  \")","v":"دور یقه گشاد شود یا ضریب خط کارور جلو زیاد شود"},{"$f":"IF((محاسبات!H474-محاسبات!H475)/محاسبات!H474>0.1,\"خطا\",\"صحیح \")","v":"خطا"}," پارچه کش   ",null,{"$f":"IF((محاسبات!H474-محاسبات!H475)/محاسبات!H474>0.1,\"خیر- گردی یقه زیاد شود یا کارور جلو پایین بیاید\",\" بله \")","v":"خیر- گردی یقه زیاد شود یا کارور جلو پایین بیاید"}]
[{"$f":"IF((محاسبات!H474-محاسبات!H475)/محاسبات!H474>0.05,\"دور یقه گشاد شود یا ضریب خط کارور جلو زیاد شود\",\"  \")","v":"دور یقه گشاد شود یا ضریب خط کارور جلو زیاد شود"},{"$f":"IF((محاسبات!H474-محاسبات!H475)/محاسبات!H474>0.05,\"خطا\",\"صحیح \")","v":"خطا"}," پارچه غیر کش ",null,{"$f":"IF((محاسبات!H474-محاسبات!H475)/محاسبات!H474>0.05,\"خیر- گردی یقه زیاد شود یا کارور جلو پایین بیاید\",\" بله \")","v":"خیر- گردی یقه زیاد شود یا کارور جلو پایین بیاید"}]
[]
[" متغیرهای ورودی شیفت افقی برش سرشانه و یقه مربعی و ملوانی",null,null,null,null," متغیرهای ورودی شیفت افقی برش سرشانه و یقه مربعی و ملوانی","x1","y1","x2","y2(بهینه)","a","b",null,"کمترین",null,"بیشترین"]
["شیفت افقی   (به سانتیمتر)   ","(از -100 الی100)",{"$f":"K301*E301+L301","v":0},"بهینه=دلخواه",{"$f":"'طراحی همه الگوها'!E260","v":0},"شیفت افقی   (به سانتیمتر)   ",1,1,0,0,{"$f":"(J301-H301)/(I301-G301)","v":1},{"$f":"H301-G301*K301","v":0},-100,{"$f":"(M301-L301)/K301","v":-100},100,{"$f":"(O301-L301)/K301","v":100}]
["شیفت عمودی  (به سانتیمتر)  ","(از -100 الی100)",{"$f":"K302*E302+L302","v":0},"بهینه=دلخواه",{"$f":"'طراحی همه الگوها'!E261","v":0},"شیفت عمودی  (به سانتیمتر)  ",1,1,0,0,{"$f":"(J302-H302)/(I302-G302)","v":1},{"$f":"H302-G302*K302","v":0},-100,{"$f":"(M302-L302)/K302","v":-100},100,{"$f":"(O302-L302)/K302","v":100}]
[]
[" متغیرهای ورودی - دراپه از پهلو",null,null,null,null," متغیرهای ورودی - دراپه از پهلو","x1","y1","x2","y2(بهینه)","a","b",null,"کمترین",null,"بیشترین"]
["حد بالا برش دراپه   dp1","(از 3 الی 4)",{"$f":"K305*E305+L305","v":3.5},"زیر بغل=4 \nخط کمر=3 ",{"$f":"'طراحی همه الگوها'!B326","v":80},"حد بالا برش دراپه   ",10,0,30,1,{"$f":"(J305-H305)/(I305-G305)","v":0.05},{"$f":"H305-G305*K305","v":-0.5},3,{"$f":"(M305-L305)/K305","v":70},4,{"$f":"(O305-L305)/K305","v":90},-0.05,{"$f":"(Q305-L305)/K305","v":9}]
["پهنای هر دراپه به سانتیمتر   dp3","(از 2 الی 8)",{"$f":"K306*E306+L306","v":6},"بدون دراپه=0",{"$f":"'طراحی همه الگوها'!B327","v":6},"پهنای هر دراپه  (سانتیمتر)   ",2,2,1,1,{"$f":"(J306-H306)/(I306-G306)","v":1},{"$f":"H306-G306*K306","v":0},2,{"$f":"(M306-L306)/K306","v":2},8,{"$f":"(O306-L306)/K306","v":8},0.9,{"$f":"(Q306-L306)/K306","v":0.9}]
["تعداد دراپه ها      -      خط بالای برش دراپه با هر طراحی می تواند باشد.",{"$f":"محاسبات!GS236","v":3},null,null,null,"تعداد دراپه ها     "]
[" متغیرهای ورودی- یقه دراپه ",null,null,null,null," متغیرهای ورودی- یقه دراپه ","x1","y1","x2","y2(بهینه)","a","b",null,"کمترین",null,"بیشترین"]
["نقطه شروع دراپه جلو    d1","(از 2 الی 4)",{"$f":"K309*E309+L309","v":3.5},"خط باسن=2 \nخط کمر=3 \nخط سینه=4  ",{"$f":"'طراحی همه الگوها'!E268","v":80},"نقطه شروع دراپه جلو    ",10,0,30,1,{"$f":"(J309-H309)/(I309-G309)","v":0.05},{"$f":"H309-G309*K309","v":-0.5},2,{"$f":"(M309-L309)/K309","v":50},4,{"$f":"(O309-L309)/K309","v":90},3,{"$f":"(Q309-L309)/K309","v":70}]
["میزان باز بودن یقه جلو به سمت  خط سینه    d2","(از 0 الی 50)",20,"یقه کیپ=0",{"$f":"'طراحی همه الگوها'!E269","v":20},"میزان باز بودن یقه جلو به سمت  خط سینه    ",1,1,0,0,1,0,0,0,5,5,0,{"$f":"(Q310-L310)/K310","v":0}]
["شیفت عمودی یقه دراپه جلو","(از -100 الی100)",0,"بدون شیفت=0 ",{"$f":"'طراحی همه الگوها'!E270","v":0},"شیفت عمودی یقه دراپه جلو (سانتیمتر)",1,1,0,0,1,0,-100,-100,100,100]
["نقطه شروع دراپه پشت    d1","(از 2 الی 4)",3.5,"خط باسن=2 \nخط کمر=3 \nخط سینه=4  ",{"$f":"'طراحی همه الگوها'!E271","v":80},"نقطه شروع دراپه پشت    ",10,0,30,1,0.05,-0.5,2,50,4,90,3,{"$f":"(Q312-L312)/K312","v":70}]
["میزان باز بودن یقه پشت به سمت  خط سینه    d2","(از 0 الی 50)",20,"یقه کیپ=0",{"$f":"'طراحی همه الگوها'!E272","v":20},"میزان باز بودن یقه پشت به سمت  خط سینه    ",1,1,0,0,1,0,0,0,50,50,0,{"$f":"(Q313-L313)/K313","v":0}]
["شیفت عمودی یقه دراپه پشت","(از -100 الی100)",0,"بدون شیفت=0 ",{"$f":"'طراحی همه الگوها'!E273","v":0},"شیفت عمودی یقه دراپه پشت (سانتیمتر)",1,1,0,0,1,0,-100,-100,100,100]
["زاویه متوسط سرشانه",{"$f":"0.5*(محاسبات!P139+0.3*(محاسبات!P140-محاسبات!P139)+محاسبات!AE139+0.3*(محاسبات!AE140-محاسبات!AE139))","v":0.31641567605125198},null,null,null,"زاویه متوسط سرشانه"]
[]
[" متغیرهای ورودی-طراحی دامن فون",null,null,null,null," متغیرهای ورودی-طراحی دامن فون","x1","y1","x2","y2(بهینه)","a","b",null,"کمترین",null,"بیشترین"]
["اتصال به دامن تنگ = 2    اتصال به بالاتنه با ساسون=1   اتصال به پیراهن راسته=0","0 یا 1 یا 2",{"$f":"K318*E318+L318","v":1},null,{"$f":"'طراحی همه الگوها'!B265","v":2},"اتصال به دامن تنگ = 2    اتصال به بالاتنه با ساسون=1   اتصال به پیراهن راسته=0",1,0,2,1,{"$f":"(J318-H318)/(I318-G318)","v":1},{"$f":"H318-G318*K318","v":-1},null,1,null,2]
["ضریب پایین دامن فون تا زمین \nدرانتخاب دامن فون متصل به پیراهن راسته    k'1","(از 0 الی 4)",0.75,"خط زمین=0 \nخط زانو=1 \nخط باسن=2 \nخط کمر=3 \nخط سینه=4  ",{"$f":"'طراحی همه الگوها'!B266","v":25},"مکان پایین دامن فون \nدرانتخاب دامن فون متصل به پیراهن راسته    ",10,0,30,1,0.05,-0.5,0,{"$f":"(M319-L319)/K319","v":10},4,100,0.25,{"$f":"(Q319-L319)/K319","v":15}]
["ضریب چین در دامن فون","(از 0 الی 3)",0,null,{"$f":"'طراحی همه الگوها'!B267","v":1},"چین در دامن فون",2,1,1,0,1,-1,0,1,3,{"$f":"(O320-L320)/K320","v":4},0.9,{"$f":"(Q320-L320)/K320","v":1.9}]
["  مقدار اوزمان در جلو دامن فون    β1","(از 0 الی 0.5",0.05,"بهینه=تامین دور باسن",{"$f":"'طراحی همه الگوها'!B268","v":5},"  اوزمان در جلو دامن فون    ",1,0.01,0,0,0.01,0,0,0,0.5,50,0.25,{"$f":"(Q321-L321)/K321","v":25}]
["  مقدار اوزمان در پشت دامن فون   β4","(از 0 الی 0.5)",0.39,"بهینه=تامین دور باسن",{"$f":"'طراحی همه الگوها'!B269","v":39},"  اوزمان در پشت دامن فون   ",1,0.01,0,0,0.01,0,0,0,0.5,50,0.9,{"$f":"(Q322-L322)/K322","v":90}]
["شیفت افقی جلو دامن فون (به سانتیمتر)","(از -100 الی100)",0,"بهینه=دلخواه",{"$f":"'طراحی همه الگوها'!B270","v":0},"شیفت افقی جلو دامن فون (به سانتیمتر)",1,1,0,0,1,0,-100,-100,100,100]
["شیفت عمودی جلو دامن فون (به سانتیمتر)","(از -100 الی100)",5,"بهینه=دلخواه",{"$f":"'طراحی همه الگوها'!B271","v":5},"شیفت عمودی جلو دامن فون (به سانتیمتر)",1,1,0,0,1,0,-100,-100,100,100]
["شیفت افقی پشت دامن فون (به سانتیمتر)","(از -100 الی100)",10,"بهینه=دلخواه",{"$f":"'طراحی همه الگوها'!B272","v":10},"شیفت افقی پشت دامن فون (به سانتیمتر)",1,1,0,0,1,0,-100,-100,100,100]
["شیفت عمودی پشت دامن فون (به سانتیمتر)","(از -100 الی100)",-5,"بهینه=دلخواه",{"$f":"'طراحی همه الگوها'!B273","v":-5},"شیفت عمودی پشت دامن فون (به سانتیمتر)",1,1,0,0,1,0,-100,-100,100,100]
[]
[" متغیرهای ورودی - جلو کمر پهن",null,null,null,null,"  جلو کمر پهن","x1","y1","x2","y2(بهینه)","a","b",null,"کمترین",null,"بیشترین"]
["انتخاب کمر برای جلیقه =1         انتخاب دیگر = 0","0 یا 1 ",{"$f":"K329*E329+L329","v":0},null,{"$f":"'طراحی همه الگوها'!B186","v":1},"انتخاب کمر برای جلیقه =2         انتخاب دیگر = 1",1,0,2,1,{"$f":"(J329-H329)/(I329-G329)","v":1},{"$f":"H329-G329*K329","v":-1},null,{"$f":"(M329-L329)/K329","v":1},null,{"$f":"(O329-L329)/K329","v":1}]
["بالای کمر روی خط مرکزی جلو -  ضریب فاصله u4 از خط کمر","(از -7 الی 7)",1,"بهینه=دلخواه",{"$f":"'طراحی مدل 16'!B348","v":1},"بالای کمر پهن یکسره روی خط مرکزی جلو ",1,1,0,0,1,0,-7,-7,7,7,0.25,{"$f":"(Q330-L330)/K330","v":0.25}]
["پایین کمر روی خط مرکزی جلو -  ضریب فاصله d4 از خط کمر  -  (کمر جناقی و حد پایین برش دراپه)","(از -10 الی 30)",1,"مثبت= پایین خط کمر\nمنفی= بالای خط کمر",{"$f":"'طراحی مدل 16'!B349","v":-1},"پایین کمر روی خط مرکزی جلو  (کمر جناقی و حد پایین برش دراپه)",1,-1,0,0,-1,0,-10,10,30,-30,0.9,-0.9]
["فاصله عمودی دال جلو -  ضریب فاصله u5 از خط کمر - (جلیقه)","(از -10 الی 30)",1,"بهینه=دلخواه",{"$f":"'طراحی مدل 16'!B350","v":1},"فاصله عمودی دال جلو   (جلیقه)",1,1,0,0,1,0,-10,-10,30,30,0.25,0.25]
["فاصله افقی دال جلو -  ضریب فاصله u5 از خط مرکزی جلو - (جلیقه)","(از 0 الی 10)",0.5,"بهینه=دلخواه",{"$f":"'طراحی مدل 16'!B351","v":1},"فاصله افقی دال جلو  (جلیقه)",1,0.5,0,0,0.5,0,0,0,10,20,0.9,1.8]
["پایین کمر روی خط ترک جلو -  ضریب فاصله d5 از خط کمر -  (کمر جناقی و حد پایین برش دراپه)","(از -10 الی 30)",1,"مثبت= پایین خط کمر\nمنفی= بالای خط کمر",{"$f":"'طراحی مدل 16'!B352","v":-1},"پایین کمر روی خط ترک جلو   (کمر جناقی و حد پایین برش دراپه)",1,-1,0,0,-1,0,-10,10,30,-30,0.25,-0.25]
["بالای کمر روی خط ترک جلو -  ضریب فاصله u6 از خط کمر","(از -7 الی 7)",1,"بهینه=دلخواه",{"$f":"'طراحی مدل 16'!B353","v":1},"بالای کمر پهن یکسره روی خط ترک جلو ",1,1,0,0,1,0,-7,-7,7,7,0.9,0.9]
["شیفت عمودی کمر پهن یکسره نسبت به زمین (به سانتیمتر)","(از -100 الی100)",{"$f":"K336*E336+L336","v":54},"بهینه=دلخواه",{"$f":"'طراحی مدل 16'!B357","v":4},"شیفت عمودی کمر پهن یکسره  (به سانتیمتر)",1,51,0,50,1,50,-100,-150,100,50]
["شیفت افقی کمر پهن یکسره (به سانتیمتر)","(از -100 الی100)",{"$f":"K337*E337+L337","v":0},"بهینه=دلخواه",{"$f":"'طراحی مدل 16'!B356","v":0},"شیفت افقی کمر پهن یکسره (به سانتیمتر)",1,1,0,0,1,0,-100,-100,100,100]
[]
[" متغیرهای ورودی - پهلو کمر پهن",null,null,null,null,"  پهلو کمر پهن","x1","y1","x2","y2(بهینه)","a","b",null,"کمترین",null,"بیشترین"]
["بالای کمر روی خط پهلو -  ضریب فاصله u3 از خط کمر","(از -7 الی 7)",{"$f":"K340*E340+L340","v":1},"بهینه=دلخواه",{"$f":"'طراحی مدل 16'!B354","v":1},"بالای کمر پهن یکسره روی خط پهلو ",1,1,0,0,{"$f":"(J340-H340)/(I340-G340)","v":1},{"$f":"H340-G340*K340","v":0},-7,{"$f":"(M340-L340)/K340","v":-7},7,{"$f":"(O340-L340)/K340","v":7},0.25,{"$f":"(Q340-L340)/K340","v":0.25}]
["پایین کمر روی خط پهلو -  ضریب فاصله d3 از خط کمر -  (کمر جناقی و حد پایین برش دراپه)","(از -10 الی 30)",{"$f":"K341*E341+L341","v":1},"مثبت= پایین خط کمر\nمنفی= بالای خط کمر",{"$f":"'طراحی مدل 16'!B355","v":-1},"پایین کمر روی خط پهلو   (کمر جناقی و حد پایین برش دراپه)",1,-1,0,0,{"$f":"(J341-H341)/(I341-G341)","v":-1},{"$f":"H341-G341*K341","v":0},-10,{"$f":"(M341-L341)/K341","v":10},30,{"$f":"(O341-L341)/K341","v":-30},0.9,{"$f":"(Q341-L341)/K341","v":-0.9}]
[]
[" متغیرهای ورودی - پشت کمر پهن",null,null,null,null," پشت کمر پهن","x1","y1","x2","y2(بهینه)","a","b",null,"کمترین",null,"بیشترین"]
["بالای کمر روی خط مرکزی پشت -  ضریب فاصله u1 از خط کمر","(از -7 الی 7)",{"$f":"K344*E344+L344","v":1},"بهینه=دلخواه",{"$f":"'طراحی مدل 16'!B360","v":1},"بالای کمر پهن یکسره روی خط مرکزی پشت ",1,1,0,0,{"$f":"(J344-H344)/(I344-G344)","v":1},{"$f":"H344-G344*K344","v":0},-7,{"$f":"(M344-L344)/K344","v":-7},7,{"$f":"(O344-L344)/K344","v":7},0.25,{"$f":"(Q344-L344)/K344","v":0.25}]
["پایین کمر روی خط مرکزی پشت -  ضریب فاصله d1 از خط کمر -  (کمر جناقی)","(از -10 الی 30)",1,"مثبت= پایین خط کمر\nمنفی= بالای خط کمر",{"$f":"'طراحی مدل 16'!B361","v":-1},"پایین کمر روی خط مرکزی پشت   (کمر جناقی)",1,-1,0,0,-1,0,-10,10,30,-30,0.9,{"$f":"(Q345-L345)/K345","v":-0.9}]
["بالای کمر روی خط ترک پشت -  ضریب فاصله u2 از خط کمر","(از -7 الی 7)",1,"بهینه=دلخواه",{"$f":"'طراحی مدل 16'!B362","v":1},"بالای کمر پهن یکسره روی خط ترک پشت ",1,1,0,0,1,0,-7,-7,7,7,0.25,{"$f":"(Q346-L346)/K346","v":0.25}]
["پایین کمر روی خط ترک پشت -  ضریب فاصله d2 از خط کمر -  (کمر جناقی)","(از -10 الی 30)",1,"مثبت= پایین خط کمر\nمنفی= بالای خط کمر",{"$f":"'طراحی مدل 16'!B363","v":-1},"پایین کمر روی خط ترک پشت   (کمر جناقی)",1,-1,0,0,-1,0,-10,10,30,-30,0.9,{"$f":"(Q347-L347)/K347","v":-0.9}]
["شیفت عمودی کمر پهن یکسره نسبت به زمین (به سانتیمتر)","(از -100 الی100)",54,"بهینه=دلخواه",{"$f":"'طراحی مدل 16'!B365","v":4},"شیفت عمودی کمر پهن یکسره  (سانتیمتر)",1,51,0,50,1,50,-100,-150,100,50]
["شیفت افقی کمر پهن یکسره (به سانتیمتر)","(از -100 الی100)",0,"بهینه=دلخواه",{"$f":"'طراحی مدل 16'!B364","v":0},"شیفت افقی کمر پهن یکسره (سانتیمتر)",1,1,0,0,1,0,-100,-100,100,100]
[]
["متغیرهای ورودی-یقه دکلته جلو",null,null,null,null,"متغیرهای ورودی-یقه دکلته جلو","x1","y1","x2","y2(بهینه)","a","b",null,"کمترین",null,"بیشترین"]
["میزان باز بودن یقه در خط مرکزی جلو  d1","(از 3.5 الی 5)",{"$f":"K352*E352+L352","v":4},"خط کمر=3 \nخط سینه=4  ",{"$f":"'طراحی همه الگوها'!E276","v":90},"میزان باز بودن یقه در خط مرکزی جلو  ",10,0,30,1,{"$f":"(J352-H352)/(I352-G352)","v":0.05},{"$f":"H352-G352*K352","v":-0.5},3.5,{"$f":"(M352-L352)/K352","v":80},5,{"$f":"(O352-L352)/K352","v":110},3,{"$f":"(Q352-L352)/K352","v":70}]
["میزان اضافه شدن ساسون سرشانه  ","(از 0 الی 0.5)",{"$f":"K353*E353+L353","v":0.2},"بدون اضافه شدن=0 \nبهینه=0.2  ",{"$f":"'طراحی همه الگوها'!E277","v":20},"میزان اضافه شدن ساسون سرشانه  ",19,0.18,20,0.2,{"$f":"(J353-H353)/(I353-G353)","v":2.0000000000000018E-2},{"$f":"H353-G353*K353","v":-0.20000000000000034},0,{"$f":"(M353-L353)/K353","v":10.000000000000009},0.5,{"$f":"(O353-L353)/K353","v":34.999999999999986},0.2,{"$f":"(Q353-L353)/K353","v":20}]
["میزان انحنا یقه  d2","(از -0.5 الی 0.5)",{"$f":"K354*E354+L354","v":0},"خط محدب =+ \nخط صاف =0 \nخط مقعر= - ",{"$f":"'طراحی همه الگوها'!E278","v":20},"میزان انحنا یقه  ",19,-0.1,20,0,{"$f":"(J354-H354)/(I354-G354)","v":0.1},{"$f":"H354-G354*K354","v":-2},-0.5,{"$f":"(M354-L354)/K354","v":15},0.5,{"$f":"(O354-L354)/K354","v":25},0,{"$f":"(Q354-L354)/K354","v":20}]
[]
[" متغیرهای ورودی-یقه دکلته پشت",null,null,null,null," متغیرهای ورودی-یقه دکلته پشت","x1","y1","x2","y2(بهینه)","a","b",null,"کمترین",null,"بیشترین"]
["میزان باز بودن یقه در خط مرکزی پشت  d1","(از 3 الی 5.5)",{"$f":"K357*E357+L357","v":4},"خط کمر=3 \nخط سینه=4  ",{"$f":"'طراحی همه الگوها'!E281","v":90},"میزان باز بودن یقه در خط مرکزی پشت  ",10,0,30,1,{"$f":"(J357-H357)/(I357-G357)","v":0.05},{"$f":"H357-G357*K357","v":-0.5},3,{"$f":"(M357-L357)/K357","v":70},5.5,{"$f":"(O357-L357)/K357","v":120},3.5,{"$f":"(Q357-L357)/K357","v":80}]
["میزان انحنا یقه  d2","(از -1 الی 0.5)",{"$f":"K358*E358+L358","v":-9.9999999999999867E-2},"خط صاف =0 \nخط مقعر= -  ",{"$f":"'طراحی همه الگوها'!E282","v":19},"میزان انحنا یقه  ",19,-0.1,20,0,{"$f":"(J358-H358)/(I358-G358)","v":0.1},{"$f":"H358-G358*K358","v":-2},-1,{"$f":"(M358-L358)/K358","v":10},0.5,{"$f":"(O358-L358)/K358","v":25},0,{"$f":"(Q358-L358)/K358","v":20}]
[]
[" طول بند برای لباس دکلته از جلو تا پشت به سانتیمتر",null,null,null,null," طول بند برای لباس دکلته از جلو تا پشت به سانتیمتر"]
["دکلته آبی جلو     به     دکلته آبی پشت",{"$f":"ROUND(محاسبات!FB356-محاسبات!FB324+محاسبات!LP213-محاسبات!LP214,0)","v":11},null,null,null,"دکلته آبی جلو     به     دکلته آبی پشت"]
["دکلته آبی جلو     به     دکلته سبز پشت",{"$f":"ROUND(محاسبات!FB356-محاسبات!FB324+محاسبات!LP213-محاسبات!LP215,0)","v":17},null,null,null,"دکلته آبی جلو     به     دکلته سبز پشت"]
["دکلته آبی جلو     به     دکلته بنفش پشت",{"$f":"ROUND(محاسبات!FB356-محاسبات!FB324+محاسبات!LP213-محاسبات!LP216,0)","v":22},null,null,null,"دکلته آبی جلو     به     دکلته بنفش پشت"]
["دکلته آبی جلو     به     دکلته سیاه پشت",{"$f":"ROUND(محاسبات!FB356-محاسبات!FB324+محاسبات!LP213-محاسبات!LP247,0)","v":26},null,null,null,"دکلته آبی جلو     به     دکلته سیاه پشت"]
["دکلته سبز جلو     به     دکلته آبی پشت",{"$f":"ROUND(محاسبات!FB356-محاسبات!FB340+محاسبات!LP213-محاسبات!LP214,0)","v":17},null,null,null,"دکلته سبز جلو     به     دکلته آبی پشت"]
["دکلته سبز جلو     به     دکلته سبز پشت",{"$f":"ROUND(محاسبات!FB356-محاسبات!FB340+محاسبات!LP213-محاسبات!LP215,0)","v":23},null,null,null,"دکلته سبز جلو     به     دکلته سبز پشت"]
["دکلته سبز جلو     به     دکلته بنفش پشت",{"$f":"ROUND(محاسبات!FB356-محاسبات!FB340+محاسبات!LP213-محاسبات!LP216,0)","v":28},null,null,null,"دکلته سبز جلو     به     دکلته بنفش پشت"]
["دکلته سبز جلو     به     دکلته سیاه پشت",{"$f":"ROUND(محاسبات!FB356-محاسبات!FB340+محاسبات!LP213-محاسبات!LP247,0)","v":32},null,null,null,"دکلته سبز جلو     به     دکلته سیاه پشت"]
["دکلته سیاه جلو     به     دکلته آبی پشت",{"$f":"ROUND(محاسبات!FB356-محاسبات!FB308+محاسبات!LP213-محاسبات!LP214,0)","v":20},null,null,null,"دکلته سیاه جلو     به     دکلته آبی پشت"]
["دکلته سیاه جلو     به     دکلته سبز پشت",{"$f":"ROUND(محاسبات!FB356-محاسبات!FB308+محاسبات!LP213-محاسبات!LP215,0)","v":26},null,null,null,"دکلته سیاه جلو     به     دکلته سبز پشت"]
["دکلته سیاه جلو     به     دکلته بنفش پشت",{"$f":"ROUND(محاسبات!FB356-محاسبات!FB308+محاسبات!LP213-محاسبات!LP216,0)","v":31},null,null,null,"دکلته سیاه جلو     به     دکلته بنفش پشت"]
["دکلته سیاه جلو     به     دکلته سیاه پشت",{"$f":"ROUND(محاسبات!FB356-محاسبات!FB308+محاسبات!LP213-محاسبات!LP247,0)","v":35},null,null,null,"دکلته سیاه جلو     به     دکلته سیاه پشت"]
[]
[" متغیرهای ورودی رگلاژ یقه دکلته پشت",null,null,null,null," متغیرهای ورودی رگلاژ یقه دکلته پشت","x1","y1","x2","y2(بهینه)","a","b",null,"کمترین",null,"بیشترین"]
["نقطه بالای رگلاژ روی یقه دکلته   m1 ","(0 یا 1 یا 2 یا 3 یا 4)",{"$f":"K375*E375+L375","v":2},"نقطه روی خط مرکزی پشت=0\nبهینه = 2",{"$f":"'طراحی همه الگوها'!E299","v":2},"نقطه بالای رگلاژ روی یقه دکلته    ",1,1,0,0,{"$f":"(J375-H375)/(I375-G375)","v":1},{"$f":"H375-G375*K375","v":0},0,{"$f":"(M375-L375)/K375","v":0},4,{"$f":"(O375-L375)/K375","v":4},0,{"$f":"(Q375-L375)/K375","v":0}]
["نقطه وسط رگلاژ روی خط کمر   m2 ","(از 0 الی 1)",{"$f":"K376*E376+L376","v":0.8},"نقطه روی خط مرکزی پشت=0\nنقطه روی ساسون میانی پشت=1",{"$f":"'طراحی همه الگوها'!E300","v":16},"نقطه وسط رگلاژ روی خط کمر    ",1,0.05,0,0,{"$f":"(J376-H376)/(I376-G376)","v":0.05},{"$f":"H376-G376*K376","v":0},0,{"$f":"(M376-L376)/K376","v":0},1,{"$f":"(O376-L376)/K376","v":20},0.8,{"$f":"(Q376-L376)/K376","v":16}]
["نقطه پایین رگلاژ روی خط مرکزی پشت   m3","(از 0 الی 1)",{"$f":"K377*E377+L377","v":0.8},"نقطه روی خط  کمر=0 \nنقطه روی خط باسن=1 ",{"$f":"'طراحی همه الگوها'!E301","v":16},"نقطه پایین رگلاژ روی خط مرکزی پشت   ",1,0.05,0,0,{"$f":"(J377-H377)/(I377-G377)","v":0.05},{"$f":"H377-G377*K377","v":0},0,{"$f":"(M377-L377)/K377","v":0},1,{"$f":"(O377-L377)/K377","v":20},0.8,{"$f":"(Q377-L377)/K377","v":16}]
["پهنای جادکمه برای تکه رگلاژ m4","(از 0 الی 0.08)",{"$f":"K378*E378+L378","v":0.03},"بدون جادکمه =0  \nبهینه =0.03  ",{"$f":"'طراحی همه الگوها'!E302","v":6},"پهنای جادکمه برای تکه رگلاژ ",1,5.0000000000000001E-3,0,0,{"$f":"(J378-H378)/(I378-G378)","v":5.0000000000000001E-3},{"$f":"H378-G378*K378","v":0},0,{"$f":"(M378-L378)/K378","v":0},0.08,{"$f":"(O378-L378)/K378","v":16},0.03,{"$f":"(Q378-L378)/K378","v":6}]
["شیفت افقی تکه رگلاژ جدا (به سانتیمتر)  m21","(از -100 الی100)",{"$f":"K379*E379+L379","v":30},"بهینه=دلخواه",{"$f":"'طراحی همه الگوها'!E303","v":30},"شیفت افقی تکه رگلاژ جدا (سانتیمتر)  ",1,1,0,0,{"$f":"(J379-H379)/(I379-G379)","v":1},{"$f":"H379-G379*K379","v":0},-100,{"$f":"(M379-L379)/K379","v":-100},100,{"$f":"(O379-L379)/K379","v":100}]
[]
["متغیرهای ورودی-یقه قایقی بدون شیفت تکه پهلو",null,null,null,null,"متغیرهای ورودی-یقه قایقی بدون شیفت تکه پهلو","x1","y1","x2","y2(بهینه)","a","b",null,"کمترین",null,"بیشترین"]
["ضریب بزرگ شدن سرشانه  b7","(از 0 الی 0.5)",{"$f":"K382*E382+L382","v":9.9999999999999978E-2},"بهینه=0.1",{"$f":"'طراحی همه الگوها'!E306","v":20},"باز شدن یقه روی سرشانه  ",19,0.05,20,0.1,{"$f":"(J382-H382)/(I382-G382)","v":0.05},{"$f":"H382-G382*K382","v":-0.9},0,{"$f":"(M382-L382)/K382","v":18},0.5,{"$f":"(O382-L382)/K382","v":27.999999999999996},0,{"$f":"(Q382-L382)/K382","v":18}]
[]
[" متغیرهای ورودی-یقه پروانه ای متصل به حلقه آستین بدون ساسون\nبدون شیفت تکه پهلو",null,null,null,null,"یقه پروانه ای متصل به حلقه آستین بدون ساسون  \nبدون شیفت تکه پهلو","x1","y1","x2","y2(بهینه)","a","b",null,"کمترین",null,"بیشترین"]
["ضریب پهنای سرشانه به سمت پشت    ζ3","(از 0 الی 1)",{"$f":"K385*E385+L385","v":1},"بهینه=1",{"$f":"'طراحی همه الگوها'!E309","v":20},"پهنای سرشانه به سمت پشت    ",19,0.9,20,1,{"$f":"(J385-H385)/(I385-G385)","v":9.9999999999999978E-2},{"$f":"H385-G385*K385","v":-0.99999999999999944},0,{"$f":"(M385-L385)/K385","v":9.9999999999999964},30,{"$f":"(O385-L385)/K385","v":310.00000000000006},0,{"$f":"(Q385-L385)/K385","v":9.9999999999999964}]
["ضریب پهنای سرشانه به سمت جلو   ζ4","(از 0 الی 1)",{"$f":"K386*E386+L386","v":0.8},"بهینه=0.8",{"$f":"'طراحی همه الگوها'!E310","v":20},"پهنای سرشانه به سمت جلو   ",19,0.7,20,0.8,{"$f":"(J386-H386)/(I386-G386)","v":0.10000000000000009},{"$f":"H386-G386*K386","v":-1.2000000000000017},0.3,{"$f":"(M386-L386)/K386","v":15.000000000000004},1.2,{"$f":"(O386-L386)/K386","v":23.999999999999996},0.3,{"$f":"(Q386-L386)/K386","v":15.000000000000004}]
[]
[" متغیرهای ورودی-سرشانه دکمه خور متصل به حلقه آستین بدون ساسون\nبدون شیفت تکه پهلو",null,null,null,null,"سرشانه پشت دکمه خور متصل به حلقه آستین بدون ساسون \nبدون شیفت تکه پهلو","x1","y1","x2","y2(بهینه)","a","b",null,"کمترین",null,"بیشترین"]
["ضریب پهنای جادکمه سرشانه","(از 0 الی 0.1)",{"$f":"K389*E389+L389","v":0.05},"بهینه=0.05",{"$f":"'طراحی همه الگوها'!B341","v":5},"ضریب پهنای جادکمه سرشانه",1,0.01,0,0,{"$f":"(J389-H389)/(I389-G389)","v":0.01},{"$f":"H389-G389*K389","v":0},0,{"$f":"(M389-L389)/K389","v":0},0.1,{"$f":"(O389-L389)/K389","v":10},0.05,{"$f":"(Q389-L389)/K389","v":5}]
[]
[" متغیرهای ورودی - آستین کیمونو و آستین سرخود بدون شیفت تکه پهلو",null,null,null,null," متغیرهای ورودی - آستین کیمونو و آستین سرخود بدون شیفت تکه پهلو","x1","y1","x2","y2(بهینه)","a","b",null,"کمترین",null,"بیشترین"]
["میزان خمیدگی آستین کیمونو نسبت به خط سرشانه (به درجه)   k1","(از 0 الی 30)",{"$f":"K392*E392+L392","v":20},"آستین در امتداد سرشانه=0",{"$f":"'طراحی همه الگوها'!B344","v":20},"میزان خمیدگی آستین کیمونو نسبت به خط سرشانه   ",1,1,0,0,{"$f":"(J392-H392)/(I392-G392)","v":1},{"$f":"H392-G392*K392","v":0},0,{"$f":"(M392-L392)/K392","v":0},30,{"$f":"(O392-L392)/K392","v":30},0,{"$f":"(Q392-L392)/K392","v":0}]
["ضریب کوتاهی آستین کیمونو   k16","(از 0.3 الی 1.2)",1,"آستین تا مچ=1",{"$f":"'طراحی همه الگوها'!B345","v":10},"کوتاهی آستین کیمونو   ",11,0.97750000000000004,10,1,-2.2499999999999964E-2,1.2249999999999996,0.3,41.111111111111157,1.2,1.1111111111110989,1,10]
["ضریب گشادی دور مچ   k2","(از 1 الی 2)",1,"بدون گشادی مچ=1",{"$f":"'طراحی همه الگوها'!B346","v":0},"گشادی دور مچ   ",1,1.05,0,1,5.0000000000000044E-2,1,1,0,2,19.999999999999982,1,0]
["ضریب انحنا پهلو برای آستین کیمونو   k3","(از 0.2 الی 0.8) ",0.4,"بهینه=0.4",{"$f":"'طراحی همه الگوها'!B347","v":8},"انحنا پهلو برای آستین کیمونو   ",1,0.05,0,0,0.05,0,0.2,4,0.8,16,0.4,8]
["ضریب انحنا پهلو برای آستین سرخود   k14","(از 0 الی 0.2)",9.9999999999999978E-2,"بدون انحنا=0",{"$f":"'طراحی همه الگوها'!B348","v":5},"انحنا پهلو برای آستین سرخود   ",9,0.02,10,0,-0.02,0.19999999999999998,0,9.9999999999999982,0.2,-1.3877787807814457E-15,0,9.9999999999999982]
["ضریب کوتاهی آستین سرخود   k9","(از 0.35 الی 2)",0.79500000000000037,"لبه آستین روی خط آرنج=1",{"$f":"'طراحی همه الگوها'!B349","v":35},"کوتاهی آستین سرخود   ",29,1.0409999999999999,30,1,-4.0999999999999925E-2,2.2299999999999978,0.35,45.853658536585392,2,5.6097560975609309,1,30]
["ضریب کوتاهی تاج آستین سرخود   k12","(از 0 الی 0.25)",0,"بدون کوتاهی=0",{"$f":"'طراحی همه الگوها'!B350","v":0},"کوتاهی تاج آستین سرخود   ",1,0.05,0,0,0.05,0,0,0,0.25,5,0,0]
["گشادی لبه آستین : در طراحی آستین سرخود",{"$f":"IF(محاسبات!O393<محاسبات!O392,\" \",\"مقدار x9 زیاد شود \")","v":"مقدار x9 زیاد شود "},null,{"$f":"IF(محاسبات!O393<محاسبات!O392,\"صحیح \",\"خطا\")","v":"خطا"},{"$f":"IF(محاسبات!O393<محاسبات!O392,\" صحیح\",\" گشاد تر شود \")","v":" گشاد تر شود "},"گشادی لبه آستین : در طراحی آستین سرخود"]
[]
[" متغیرهای ورودی-شورت بدون شیفت تکه پهلو",null,null,null,null," متغیرهای ورودی-شورت بدون شیفت تکه پهلو","x1","y1","x2","y2(بهینه)","a","b",null,"کمترین",null,"بیشترین"]
["ضریب فاصله کمر شورت تا زمین s0","(از 2.2 الی 3.5)",{"$f":"K402*E402+L402","v":2.75},"خط باسن=2 \nخط کمر=3 \nخط سینه=4  ",{"$f":"'طراحی همه الگوها'!B354","v":65},"ضریب فاصله کمر شورت تا زمین ",10,0,30,1,{"$f":"(J402-H402)/(I402-G402)","v":0.05},{"$f":"H402-G402*K402","v":-0.5},2.2000000000000002,{"$f":"(M402-L402)/K402","v":54},3.5,{"$f":"(O402-L402)/K402","v":80},0,{"$f":"(Q402-L402)/K402","v":10}]
["میزان انحنا جلو شورت مردانه s9","(از 0 الی 0.6)",{"$f":"K403*E403+L403","v":0.4},"بدون انحنا (زنانه)=0 \nبهیه مردانه =0.4 ",{"$f":"'طراحی همه الگوها'!B355","v":8},"میزان انحنا جلو شورت مردانه ",1,0.05,0,0,{"$f":"(J403-H403)/(I403-G403)","v":0.05},{"$f":"H403-G403*K403","v":0},0,{"$f":"(M403-L403)/K403","v":0},0.6,{"$f":"(O403-L403)/K403","v":11.999999999999998},0.4,{"$f":"(Q403-L403)/K403","v":8}]
["ضریب حرکت افقی مرغک","(از -1 الی 3)",{"$f":"K404*E404+L404","v":1.5},"خط مرکزی جلو=0 \nخط پهلو=1  ",{"$f":"'طراحی همه الگوها'!B356","v":30},"ضریب شیفت افقی مرغک",20,1,0,0,{"$f":"(J404-H404)/(I404-G404)","v":0.05},{"$f":"H404-G404*K404","v":0},-1,{"$f":"(M404-L404)/K404","v":-20},3,{"$f":"(O404-L404)/K404","v":60},0,{"$f":"(Q404-L404)/K404","v":0}]
["ضریب حرکت عمودی مرغک","(از -3 الی 3)",{"$f":"K405*E405+L405","v":0},null,{"$f":"'طراحی همه الگوها'!B357","v":0},"ضریب شیفت عمودی مرغک",1,0.1,0,0,{"$f":"(J405-H405)/(I405-G405)","v":0.1},{"$f":"H405-G405*K405","v":0},-3,{"$f":"(M405-L405)/K405","v":-30},3,{"$f":"(O405-L405)/K405","v":30},0.3,{"$f":"(Q405-L405)/K405","v":2.9999999999999996}]
[]
[" متغیرهای ورودی - مایو پادار",null,null,null,null," متغیرهای ورودی - مایو پادار","x1","y1","x2","y2(بهینه)","a","b",null,"کمترین",null,"بیشترین"]
["ضریب گشادی دور مچ پا    p1  ","(از 1 الی 2.5)",{"$f":"K408*E408+L408","v":1.1500000000000001},"بهینه=1.7",{"$f":"'طراحی همه الگوها'!B360","v":3},"ضریب گشادی دور مچ پا      ",1,1.05,0,1,{"$f":"(J408-H408)/(I408-G408)","v":5.0000000000000044E-2},{"$f":"H408-G408*K408","v":1},1,{"$f":"(M408-L408)/K408","v":0},2.5,{"$f":"(O408-L408)/K408","v":29.999999999999975},1.7,{"$f":"(Q408-L408)/K408","v":13.999999999999988}]
["ضریب ارتفاع راسته بودن پایین پاچه   p2 ","(از 0 الی 0.5)",0.2,"بهینه=0.2",{"$f":"'طراحی همه الگوها'!B361","v":10},"ضریب ارتفاع راسته بودن پایین پاچه    ",1,0.02,0,0,0.02,0,0,0,0.5,25,0.2,10]
["ضریب عرض جادکمه وسط پا  p20","(از 0 الی 0.1)",1.4999999999999999E-2,"بهینه=0.015",{"$f":"'طراحی همه الگوها'!B362","v":3},"ضریب عرض جادکمه وسط پا  ",1,5.0000000000000001E-3,0,0,5.0000000000000001E-3,0,0,0,0.1,20,1.4999999999999999E-2,3]
["زاویه خط پهلو شلوار  برحسب درجه   p23","(از -5 الی 10)",5,"بهینه=3",{"$f":"'طراحی همه الگوها'!B363","v":5},"زاویه خط پهلو شلوار    ",1,1,0,0,1,0,-5,-5,10,10,3,3]
["ضریب افقی شیفت تکه وسط پا  ","(از -100 الی100)",2,"بدون شیفت=0 ",{"$f":"'طراحی همه الگوها'!B364","v":2},"ضریب شیفت افقی تکه وسط پا  ",1,1,0,0,{"$f":"(J412-H412)/(I412-G412)","v":1},{"$f":"H412-G412*K412","v":0},-100,{"$f":"(M412-L412)/K412","v":-100},100,{"$f":"(O412-L412)/K412","v":100}]
["ضریب عمودی شیفت تکه وسط پا","(از -100 الی100)",-10,"بدون شیفت=0 ",{"$f":"'طراحی همه الگوها'!B365","v":-10},"ضریب شیفت عمودی تکه وسط پا",1,1,0,0,{"$f":"(J413-H413)/(I413-G413)","v":1},{"$f":"H413-G413*K413","v":0},-100,{"$f":"(M413-L413)/K413","v":-100},100,{"$f":"(O413-L413)/K413","v":100}]
[]
[" متغیرهای ورودی-مایو بدون شیفت تکه پهلو      باید  x5=1",null,null,null,null," متغیرهای ورودی-مایو بدون شیفت تکه پهلو      باید  شروع اوزمان = خط باسن","x1","y1","x2","y2(بهینه)","a","b",null,"کمترین",null,"بیشترین"]
[" ضریب بالا آمدن خط مایو در پهلو   mx","(از 0 الی 0.7)",{"$f":"K416*E416+L416","v":0.2},"بهینه مایو=0.3\nبهینه شورت زنانه=0.2\nبهینه شورت مردانه=0.2\nبهینه زیردکمه دار بچه=0",{"$f":"'طراحی همه الگوها'!B368","v":10}," ضریب بالا آمدن خط مایو در پهلو   ",1,0.02,0,0,{"$f":"(J416-H416)/(I416-G416)","v":0.02},{"$f":"H416-G416*K416","v":0},0,{"$f":"(M416-L416)/K416","v":0},0.7,{"$f":"(O416-L416)/K416","v":35},0.3,{"$f":"(Q416-L416)/K416","v":15}]
["انتخاب مایو دکمه دار از وسط پا=1            انتخاب مایو بدون دکمه=0","0 یا 1 ",{"$f":"K417*E417+L417","v":1},null,{"$f":"'طراحی همه الگوها'!B369","v":2},"انتخاب مایو دکمه دار از وسط پا=2            انتخاب مایو بدون دکمه=1",1,0,2,1,{"$f":"(J417-H417)/(I417-G417)","v":1},{"$f":"H417-G417*K417","v":-1},0,{"$f":"(M417-L417)/K417","v":1},1,{"$f":"(O417-L417)/K417","v":2},0,{"$f":"(Q417-L417)/K417","v":1}]
["شیفت محل دکمه از پشت به جلو برای پوشک بچه در انتخاب مایو دکمه دار  (cm)","(از 0 الی 4)",{"$f":"K418*E418+L418","v":2},"بهینه=2",{"$f":"'طراحی همه الگوها'!B370","v":2},"شیفت محل دکمه از پشت به جلو برای پوشک بچه در انتخاب مایو دکمه دار  ",0.5,0.5,0,0,{"$f":"(J418-H418)/(I418-G418)","v":1},{"$f":"H418-G418*K418","v":0},0,{"$f":"(M418-L418)/K418","v":0},4,{"$f":"(O418-L418)/K418","v":4},2,{"$f":"(Q418-L418)/K418","v":2}]
["اضافه پهنا وسط پا برای پوشک بچه در انتخاب مایو دکمه دار  (cm)","(از0 الی 4)",{"$f":"K419*E419+L419","v":1.5},"بهینه=1.5",{"$f":"'طراحی همه الگوها'!B371","v":1.5},"اضافه پهنا وسط پا برای پوشک بچه در انتخاب مایو دکمه دار  ",0.5,0.5,0,0,{"$f":"(J419-H419)/(I419-G419)","v":1},{"$f":"H419-G419*K419","v":0},0,{"$f":"(M419-L419)/K419","v":0},4,{"$f":"(O419-L419)/K419","v":4},1.5,{"$f":"(Q419-L419)/K419","v":1.5}]
["اضافه جادکمه وسط پا در انتخاب مایو دکمه دار  (cm)","(از 0 الی 4)",{"$f":"K420*E420+L420","v":2},"بهینه=2",{"$f":"'طراحی همه الگوها'!B372","v":2},"اضافه جادکمه وسط پا در انتخاب مایو دکمه دار  ",0.5,0.5,0,0,{"$f":"(J420-H420)/(I420-G420)","v":1},{"$f":"H420-G420*K420","v":0},0,{"$f":"(M420-L420)/K420","v":0},4,{"$f":"(O420-L420)/K420","v":4},2,{"$f":"(Q420-L420)/K420","v":2}]
[]
[" متغیر ورودی پیش بند حمام بچه یا انحنا لبه پیراهن",null,null,null,null," متغیر ورودی پیش بند حمام بچه یا انحنا لبه پیراهن","x1","y1","x2","y2(بهینه)","a","b",null,"کمترین",null,"بیشترین"]
["ضریب بزرگی کلاه بچه   n10","(از 0.8 الی 1.3)",{"$f":"K423*E423+L423","v":1},"بهینه برای نوزاد=1\nبهینه یک ساله=1.2",{"$f":"'طراحی همه الگوها'!B375","v":20},"ضریب بزرگی کلاه بچه   ",19,0.95,20,1,{"$f":"(J423-H423)/(I423-G423)","v":5.0000000000000044E-2},{"$f":"H423-G423*K423","v":-8.8817841970012523E-16},0.8,{"$f":"(M423-L423)/K423","v":16.000000000000004},1.3,{"$f":"(O423-L423)/K423","v":25.999999999999996},1,{"$f":"(Q423-L423)/K423","v":20}]
["ضریب انحنا بالای لبه پیراهن  n11","(از 0.1 الی 0.9)",{"$f":"K424*E424+L424","v":0.4},"بهینه=0.4",{"$f":"'طراحی همه الگوها'!B376","v":20},"ضریب انحنا بالای لبه پیراهن  ",19,0.35,20,0.4,{"$f":"(J424-H424)/(I424-G424)","v":5.0000000000000044E-2},{"$f":"H424-G424*K424","v":-0.60000000000000087},0.1,{"$f":"(M424-L424)/K424","v":14.000000000000004},0.9,{"$f":"(O424-L424)/K424","v":29.999999999999993},0.4,{"$f":"(Q424-L424)/K424","v":20}]
["ضریب انحنا پایین لبه پیراهن  n12","(از 0.3 الی 0.9)",{"$f":"K425*E425+L425","v":0.6},"بهینه=0.6",{"$f":"'طراحی همه الگوها'!B377","v":20},"ضریب انحنا پایین لبه پیراهن  ",19,0.55000000000000004,20,0.6,{"$f":"(J425-H425)/(I425-G425)","v":4.9999999999999933E-2},{"$f":"H425-G425*K425","v":-0.39999999999999869},0.3,{"$f":"(M425-L425)/K425","v":13.999999999999991},0.9,{"$f":"(O425-L425)/K425","v":26.000000000000011},0.6,{"$f":"(Q425-L425)/K425","v":20}]
[]
[" متغیرهای ورودی- جلو پیش سینه رکابی بدون شیفت تکه پهلو",null,null,null,null," متغیرهای ورودی- جلو پیش سینه رکابی بدون شیفت تکه پهلو","x1","y1","x2","y2(بهینه)","a","b",null,"کمترین",null,"بیشترین"]
["ضریب پایین آمدن پیش سینه از خط سرشانه      γ0","(از 0.2 الی 0.8)",{"$f":"K428*E428+L428","v":0.71999999999999831},null,{"$f":"'طراحی همه الگوها'!B380","v":57},"بالا یا پایین رفتن بند پیش سینه جلو",19,0.34,20,0.35,{"$f":"(J428-H428)/(I428-G428)","v":9.9999999999999534E-3},{"$f":"H428-G428*K428","v":0.15000000000000091},0.8,{"$f":"(M428-L428)/K428","v":65.000000000000213},1.3,{"$f":"(O428-L428)/K428","v":115.00000000000044},1,{"$f":"(Q428-L428)/K428","v":85.000000000000298}]
["ضریب بزرگ شدن پهنای کف حلقه آستین      γ1","(از 1 الی 2.5)",{"$f":"K429*E429+L429","v":1.8},null,{"$f":"'طراحی همه الگوها'!B381","v":20},"فاصله بند تا زیر حلقه آستین",19,1.75,20,1.8,{"$f":"(J429-H429)/(I429-G429)","v":5.0000000000000044E-2},{"$f":"H429-G429*K429","v":0.79999999999999916},0.1,{"$f":"(M429-L429)/K429","v":-13.999999999999972},0.9,{"$f":"(O429-L429)/K429","v":2.0000000000000155},0.4,{"$f":"(Q429-L429)/K429","v":-7.999999999999976}]
["ضریب کوچک شدن ارتفاع یقه      γ2","(از 0 الی 1.5)",{"$f":"K430*E430+L430","v":2.0999999999999979},"صاف=0",{"$f":"'طراحی همه الگوها'!B382","v":50},"گودی بین دو بند در جلو سینه",19,0.55000000000000004,20,0.6,{"$f":"(J430-H430)/(I430-G430)","v":4.9999999999999933E-2},{"$f":"H430-G430*K430","v":-0.39999999999999869},0.3,{"$f":"(M430-L430)/K430","v":13.999999999999991},0.9,{"$f":"(O430-L430)/K430","v":26.000000000000011},0.6,{"$f":"(Q430-L430)/K430","v":20}]
["ضریب بزرگ شدن پهنای یقه      γ3","(از 0.5 الی 2.5)",{"$f":"K431*E431+L431","v":1.4},null,{"$f":"'طراحی همه الگوها'!B383","v":20},"فاصله بند تا خط مرکزی جلو",19,1.35,20,1.4,{"$f":"(J431-H431)/(I431-G431)","v":4.9999999999999822E-2},{"$f":"H431-G431*K431","v":0.40000000000000346},0.8,{"$f":"(M431-L431)/K431","v":7.99999999999996},1.3,{"$f":"(O431-L431)/K431","v":17.999999999999996},1,{"$f":"(Q431-L431)/K431","v":11.999999999999973}]
["انتخاب خط راست پهلو جلو=1        انتخاب دیگر=0","0 یا 1 ",{"$f":"K432*E432+L432","v":0},null,{"$f":"'طراحی همه الگوها'!B384","v":1},"انتخاب خط راست پهلو جلو=2        انتخاب دیگر=1",1,0,2,1,{"$f":"(J432-H432)/(I432-G432)","v":1},{"$f":"H432-G432*K432","v":-1},0.1,{"$f":"(M432-L432)/K432","v":1.1000000000000001},0.9,{"$f":"(O432-L432)/K432","v":1.9},0.4,{"$f":"(Q432-L432)/K432","v":1.4}]
[]
[" متغیرهای ورودی-مکان بندینک در پیش سینه یا پیش بند",null,null,null,null," متغیرهای ورودی-مکان بندینک در پیش سینه یا پیش بند","x1","y1","x2","y2(بهینه)","a","b",null,"کمترین",null,"بیشترین"]
["ضریب فاصله افقی نقطه پایین بندینک از خط مرکزی جلو ","(از 0 الی 2)",{"$f":"K435*E435+L435","v":1},"خط مرکزی جلو=0 \nخط پهلو=1  ",{"$f":"'طراحی همه الگوها'!B387","v":20},"شیفت افقی بند جدا",20,1,0,0,{"$f":"(J435-H435)/(I435-G435)","v":0.05},{"$f":"H435-G435*K435","v":0},0.8,{"$f":"(M435-L435)/K435","v":16},1.3,{"$f":"(O435-L435)/K435","v":26},1,{"$f":"(Q435-L435)/K435","v":20}]
["ضریب فاصله عمودی نقطه پایین بندینک از زمین ","(از0 الی 5)",{"$f":"K436*E436+L436","v":2},"خط زمین=0 \nخط زانو=1 \nخط باسن=2 \nخط کمر=3 \nخط سینه=4  ",{"$f":"'طراحی همه الگوها'!B388","v":50},"شیفت عمودی بند جدا",10,0,30,1,{"$f":"(J436-H436)/(I436-G436)","v":0.05},{"$f":"H436-G436*K436","v":-0.5},0.1,{"$f":"(M436-L436)/K436","v":11.999999999999998},0.9,{"$f":"(O436-L436)/K436","v":27.999999999999996},0.4,{"$f":"(Q436-L436)/K436","v":18}]
[]
[" متغیرهای ورودی- پشت پیش سینه رکابی بدون شیفت تکه پهلو",null,null,null,null," متغیرهای ورودی- پشت پیش سینه رکابی بدون شیفت تکه پهلو","x1","y1","x2","y2(بهینه)","a","b",null,"کمترین",null,"بیشترین"]
["ضریب پایین آمدن پیش سینه از خط سرشانه      γ0","(از 0.2 الی 0.8)",{"$f":"K439*E439+L439","v":0.3},null,{"$f":"'طراحی همه الگوها'!B391","v":20},"بالا یا پایین رفتن بند پیش سینه پشت",19,0.28999999999999998,20,0.3,{"$f":"(J439-H439)/(I439-G439)","v":1.0000000000000009E-2},{"$f":"H439-G439*K439","v":9.9999999999999811E-2},0.8,{"$f":"(M439-L439)/K439","v":69.999999999999957},1.3,{"$f":"(O439-L439)/K439","v":119.99999999999991},1,{"$f":"(Q439-L439)/K439","v":89.999999999999929}]
["ضریب بزرگ شدن پهنای کف حلقه آستین      γ1","(از 1 الی 4)",{"$f":"K440*E440+L440","v":2.6},null,{"$f":"'طراحی همه الگوها'!B392","v":20},"فاصله بند تا زیر حلقه آستین",19,2.5,20,2.6,{"$f":"(J440-H440)/(I440-G440)","v":0.10000000000000009},{"$f":"H440-G440*K440","v":0.59999999999999831},0.1,{"$f":"(M440-L440)/K440","v":-4.9999999999999787},0.9,{"$f":"(O440-L440)/K440","v":3.0000000000000142},0.4,{"$f":"(Q440-L440)/K440","v":-1.9999999999999811}]
["ضریب کوچک شدن ارتفاع یقه      γ2","(از 0 الی 3)",{"$f":"K441*E441+L441","v":0.60000000000000009},"صاف=0",{"$f":"'طراحی همه الگوها'!B393","v":20},"گودی بین دو بند در پشت سینه",19,0.5,20,0.6,{"$f":"(J441-H441)/(I441-G441)","v":9.9999999999999978E-2},{"$f":"H441-G441*K441","v":-1.3999999999999995},0.3,{"$f":"(M441-L441)/K441","v":17},0.9,{"$f":"(O441-L441)/K441","v":23},0.6,{"$f":"(Q441-L441)/K441","v":20}]
["ضریب بزرگ شدن پهنای یقه      γ3","(از 0.5 الی 2.5)",{"$f":"K442*E442+L442","v":1.2},null,{"$f":"'طراحی همه الگوها'!B394","v":20},"فاصله بند تا خط مرکزی پشت",19,1.1000000000000001,20,1.2,{"$f":"(J442-H442)/(I442-G442)","v":9.9999999999999867E-2},{"$f":"H442-G442*K442","v":-0.79999999999999738},0.8,{"$f":"(M442-L442)/K442","v":15.999999999999995},1.3,{"$f":"(O442-L442)/K442","v":21.000000000000004},1,{"$f":"(Q442-L442)/K442","v":17.999999999999996}]
["انتخاب خط راست پهلو پشت=1        انتخاب دیگر=0","0 یا 1 ",{"$f":"K443*E443+L443","v":0},null,{"$f":"'طراحی همه الگوها'!B395","v":1},"انتخاب خط راست پهلو پشت=2        انتخاب دیگر=1",1,0,2,1,{"$f":"(J443-H443)/(I443-G443)","v":1},{"$f":"H443-G443*K443","v":-1},0.1,{"$f":"(M443-L443)/K443","v":1.1000000000000001},0.9,{"$f":"(O443-L443)/K443","v":1.9},0.4,{"$f":"(Q443-L443)/K443","v":1.4}]
[]
[" متغیرهای ورودی-طراحی یقه دلبری",null,null,null,null," متغیرهای ورودی-طراحی یقه دلبری","x1","y1","x2","y2(بهینه)","a","b",null,"کمترین",null,"بیشترین"]
["γ1         باز شدن یقه نسبت به وسط گردن       ","(از 0.3 الی 1.5)",{"$f":"K446*E446+L446","v":0.99999999999999978},"بهینه=1",{"$f":"'طراحی همه الگوها'!E313","v":14}," باز شدن یقه نسبت به وسط گردن       ",1,0.35,0,0.3,{"$f":"(J446-H446)/(I446-G446)","v":4.9999999999999989E-2},{"$f":"H446-G446*K446","v":0.3},0.3,{"$f":"(M446-L446)/K446","v":0},1.5,{"$f":"(O446-L446)/K446","v":24.000000000000004},1,{"$f":"(Q446-L446)/K446","v":14.000000000000002}]
["γ2       فاصله عمودی نقطه شکست یقه دلبری   ","(از 0.1 الی 0.9)",{"$f":"K447*E447+L447","v":0.5},"بهینه=0.5",{"$f":"'طراحی همه الگوها'!E314","v":20},"  فاصله عمودی نقطه شکست یقه دلبری   ",19,0.45,20,0.5,{"$f":"(J447-H447)/(I447-G447)","v":4.9999999999999989E-2},{"$f":"H447-G447*K447","v":-0.49999999999999972},0.1,{"$f":"(M447-L447)/K447","v":11.999999999999998},0.9,{"$f":"(O447-L447)/K447","v":28},0.4,{"$f":"(Q447-L447)/K447","v":17.999999999999996}]
["γ3        فاصله افقی نقطه شکست یقه دلبری","(از 0.3 الی 2)",{"$f":"K448*E448+L448","v":1},"بهینه=1",{"$f":"'طراحی همه الگوها'!E315","v":20}," فاصله افقی نقطه شکست یقه دلبری",19,0.95,20,1,{"$f":"(J448-H448)/(I448-G448)","v":5.0000000000000044E-2},{"$f":"H448-G448*K448","v":-8.8817841970012523E-16},0.3,{"$f":"(M448-L448)/K448","v":6.0000000000000124},0.9,{"$f":"(O448-L448)/K448","v":18.000000000000004},0.6,{"$f":"(Q448-L448)/K448","v":12.000000000000007}]
[]
[" متغیرهای ورودی - یقه پشت گردنی بدون شیفت تکه پهلو - روی حلقه آستین با ساسون",null,null,null,null," متغیرهای ورودی - یقه پشت گردنی بدون شیفت تکه پهلو - روی حلقه آستین با ساسون","x1","y1","x2","y2(بهینه)","a","b",null,"کمترین",null,"بیشترین"]
["ضریب طول یقه پشت گردن  d0","(از 0.5 الی 1.3)",{"$f":"K451*E451+L451","v":0.9},"بهینه=0.9",{"$f":"'طراحی همه الگوها'!E319","v":20}," طول یقه پشت گردن  ",19,0.85,20,0.9,{"$f":"(J451-H451)/(I451-G451)","v":5.0000000000000044E-2},{"$f":"H451-G451*K451","v":-0.10000000000000087},0.5,{"$f":"(M451-L451)/K451","v":12.000000000000007},1.3,{"$f":"(O451-L451)/K451","v":27.999999999999993},0.9,{"$f":"(Q451-L451)/K451","v":20}]
["ضریب پهنای یقه پشت گردن  d1","(از 0 الی 3)",{"$f":"K452*E452+L452","v":1.5},"بهینه=1.5",{"$f":"'طراحی همه الگوها'!E318","v":20}," پهنای یقه پشت گردن  ",0,0,20,1.5,{"$f":"(J452-H452)/(I452-G452)","v":7.4999999999999997E-2},{"$f":"H452-G452*K452","v":0},0,{"$f":"(M452-L452)/K452","v":0},3,{"$f":"(O452-L452)/K452","v":40},1.5,{"$f":"(Q452-L452)/K452","v":20}]
["ضریب افقی انحنا یقه جلو   d2    ","(از 0 الی 1.5)",{"$f":"K453*E453+L453","v":0.9},"بهینه=0.9",{"$f":"'طراحی همه الگوها'!E320","v":20},"  انحنا افقی یقه جلو       ",19,0.85,20,0.9,{"$f":"(J453-H453)/(I453-G453)","v":5.0000000000000044E-2},{"$f":"H453-G453*K453","v":-0.10000000000000087},0,{"$f":"(M453-L453)/K453","v":2.0000000000000155},1.5,{"$f":"(O453-L453)/K453","v":31.999999999999993},0.9,{"$f":"(Q453-L453)/K453","v":20}]
["ضریب عمودی انحنا یقه جلو     d3","(از 0 الی 1)",{"$f":"K454*E454+L454","v":0.5},"بهینه=0.5",{"$f":"'طراحی همه الگوها'!E321","v":20}," انحنا عمودی یقه جلو    ",19,0.55000000000000004,20,0.5,{"$f":"(J454-H454)/(I454-G454)","v":-5.0000000000000044E-2},{"$f":"H454-G454*K454","v":1.5000000000000009},0,{"$f":"(M454-L454)/K454","v":29.999999999999993},1,{"$f":"(O454-L454)/K454","v":10.000000000000009},0.5,{"$f":"(Q454-L454)/K454","v":20}]
[]
[" متغیرهای ورودی - سوتین کلی",null,null,null,null," متغیرهای ورودی - سوتین کلی","x1","y1","x2","y2(بهینه)","a","b",null,"کمترین",null,"بیشترین"]
["ضریب ساسون وسط سینه    b1  ","(از -1 الی 2)",{"$f":"K457*E457+L457","v":-0.29999999999999982},"بهینه= - 0.3",{"$f":"'طراحی همه الگوها'!B398","v":20},"ضریب ساسون وسط سینه      ",19,-0.4,20,-0.3,{"$f":"(J457-H457)/(I457-G457)","v":0.10000000000000003},{"$f":"H457-G457*K457","v":-2.3000000000000007},0,{"$f":"(M457-L457)/K457","v":23},0.7,{"$f":"(O457-L457)/K457","v":30},1,{"$f":"(Q457-L457)/K457","v":32.999999999999993}]
["ضریب پایین آمدن از خط پهلو   b2 ","(از 0 الی 0.5)",0.25,"زیر بغل منطبق با بالاتنه=0 \nخط کمر=1  \nبهینه = 0.25",{"$f":"'طراحی همه الگوها'!B399","v":20},"ضریب پایین آمدن از خط پهلو    ",19,0.2,20,0.25,4.9999999999999989E-2,-0.74999999999999978,0,14.999999999999998,1,35,0.4,23.000000000000004]
["ضریب بزرگ شدن کاسه در خط مرکزی جلو    b3  ","(از0.5 الی 1.5)",0.9,"بهینه= 0.9",{"$f":"'طراحی همه الگوها'!B400","v":20},"ضریب بزرگ شدن کاسه در خط مرکزی جلو      ",19,0.88,20,0.9,2.0000000000000018E-2,0.49999999999999967,0,-24.999999999999961,4,174.99999999999986,0.6,5.0000000000000107]
["ضریب بزرگ شدن کاسه زیر نوک سینه   b4 ","(از0.4 الی 1.3)",0.6,"بهینه= 0.6",{"$f":"'طراحی همه الگوها'!B401","v":20},"ضریب بزرگ شدن کاسه زیر نوک سینه    ",19,0.57999999999999996,20,0.6,2.0000000000000018E-2,0.19999999999999962,0,-9.9999999999999716,4,189.99999999999986,1,39.999999999999986]
["ضریب بزرگ شدن کاسه در پهلو    b5  ","(از0.7 الی 1.7)",1.1000000000000001,"بهینه= 1.1",{"$f":"'طراحی همه الگوها'!B402","v":20},"ضریب بزرگ شدن کاسه در پهلو      ",19,1.08,20,1.1000000000000001,2.0000000000000018E-2,0.69999999999999973,0,-34.999999999999957,0.7,1.1102230246251556E-14,0.4,-14.999999999999972]
["ضریب بالا یا پایین آمدن یقه روی خط مرکزی جلو   b6 ","(از -0.7 الی 0.5)",0,"بالای خط سینه =+ \nروی خط سینه =0 \nپایین خط سینه= - ",{"$f":"'طراحی همه الگوها'!B403","v":20},"ضریب بالا یا پایین آمدن یقه روی خط مرکزی جلو    ",19,-0.05,20,0,0.05,-1,0,20,1,40,1,40]
["ضریب عمودی نقطه اتصال بند جلو    b7  ","(از 0.1 الی 1)",0.25,"بهینه=0.25",{"$f":"'طراحی همه الگوها'!B404","v":20},"ضریب عمودی نقطه اتصال بند جلو      ",19,0.2,20,0.25,4.9999999999999989E-2,-0.74999999999999978,0,14.999999999999998,4,95.000000000000014,0.4,23.000000000000004]
["ضریب افقی نقطه اتصال بند جلو   b8 ","(از 0.5 الی 3)",1.4,"بهینه=1.4",{"$f":"'طراحی همه الگوها'!B405","v":20},"ضریب افقی نقطه اتصال بند جلو    ",19,1.3,20,1.4,9.9999999999999867E-2,-0.59999999999999742,0,5.9999999999999822,4,46.000000000000043,0.6,11.999999999999991]
["میزان انحنا یقه جلو  b9 ","(از -0.5 الی 0.5)",0,"خط محدب =+ \nخط صاف =0 \nخط مقعر= - ",{"$f":"'طراحی همه الگوها'!B406","v":20},"میزان انحنا یقه جلو   ",19,-0.05,20,0,0.05,-1,0,20,0.7,34,1,40]
["ضریب گودی خطوط افقی کاسه    b10  ","(از 0 الی 0.5)",0.25,"بهینه=0.25",{"$f":"'طراحی همه الگوها'!B407","v":20},"ضریب گودی خطوط افقی کاسه      ",19,0.2,20,0.25,4.9999999999999989E-2,-0.74999999999999978,0,14.999999999999998,1,35,0.4,23.000000000000004]
["ضریب گودی خطوط عمودی کاسه   b11 ","(از 0 الی 0.5)",0.15000000000000002,"بهینه=0.15",{"$f":"'طراحی همه الگوها'!B408","v":20},"ضریب گودی خطوط عمودی کاسه    ",19,0.1,20,0.15,4.9999999999999989E-2,-0.84999999999999976,0,17,4,97.000000000000014,1,37]
["میزان انحنا یقه در پهلو   b12 ","(از -0.5 الی 0.5)",0,"خط محدب =+ \nخط صاف =0 \nخط مقعر= - ",{"$f":"'طراحی همه الگوها'!B409","v":20},"انحنا یقه در پهلو    ",19,-0.05,20,0,0.05,-1,0,20,4,100,0.4,27.999999999999996]
["ضریب افزایش یا کاهش ساسون زیر بغل    b15 ","(از -0.5 الی 2)",0,"اندامی=0",{"$f":"'طراحی همه الگوها'!B410","v":20},"ضریب افزایش یا کاهش ساسون زیر بغل     ",19,-0.1,20,0,{"$f":"(J469-H469)/(I469-G469)","v":0.1},{"$f":"H469-G469*K469","v":-2},0,20,4,60,0.6,26]
["ضریب افزایش یا کاهش طول عمودی کاسه    b17 ","(از 0.1 الی 2)",0.70000000000000018,"بهینه=0.7",{"$f":"'طراحی همه الگوها'!B411","v":20},"ضریب افزایش یا کاهش طول عمودی کاسه     ",19,0.6,20,0.7,9.9999999999999978E-2,-1.2999999999999994,0,12.999999999999996,4,53,1,23]
["ضریب افزایش یا کاهش طول افقی کاسه    b18 ","(از 0.1 الی 2)",0.5,"بهینه=0.5",{"$f":"'طراحی همه الگوها'!B412","v":20},"ضریب افزایش یا کاهش طول افقی کاسه     ",19,0.4,20,0.5,9.9999999999999978E-2,-1.4999999999999996,0,{"$f":"(M471-L471)/K471","v":14.999999999999998},4,{"$f":"(O471-L471)/K471","v":55.000000000000014},0.4,19]
["شیفت عمودی کاسه پایین به سانتیمتر   b13 ","(از -100 الی100)",0,"بدون شیفت=0",{"$f":"'طراحی همه الگوها'!B414","v":0},"شیفت عمودی کاسه پایین (سانتیمتر)    ",1,1,0,0,1,0,-100,{"$f":"(M472-L472)/K472","v":-100},100,{"$f":"(O472-L472)/K472","v":100}]
["شیفت عمودی کاسه بالا به سانتیمتر   b14 ","(از -100 الی100)",0,"بدون شیفت=0",{"$f":"'طراحی همه الگوها'!B415","v":0},"شیفت عمودی کاسه بالا (سانتیمتر)    ",1,1,0,0,1,0,-100,{"$f":"(M473-L473)/K473","v":-100},100,{"$f":"(O473-L473)/K473","v":100}]
["شیفت افقی کاسه پایین راست به سانتیمتر   b16 ","(از -100 الی100)",0,"بدون شیفت=0",{"$f":"'طراحی همه الگوها'!B413","v":0},"شیفت افقی کاسه پایین راست (سانتیمتر)    ",1,1,0,0,1,0,-100,{"$f":"(M474-L474)/K474","v":-100},100,{"$f":"(O474-L474)/K474","v":100}]
[]
[" متغیرهای ورودی -  اختصاصی سوتین 6 تکه",null,null,null,null," متغیرهای ورودی -  اختصاصی سوتین 6 تکه","x1","y1","x2","y2(بهینه)","a","b",null,"کمترین",null,"بیشترین"]
["انتقال ساسون روی خط سینه به زیر سینه   d17 ","(از 0 الی 1)",{"$f":"K477*E477+L477","v":0.9},"بدون انتقال=0 \nانتقال کامل=1  ",{"$f":"'طراحی همه الگوها'!B418","v":9},"انتقال ساسون روی خط سینه به زیر سینه    ",1,0.1,0,0,{"$f":"(J477-H477)/(I477-G477)","v":0.1},{"$f":"H477-G477*K477","v":0},0,{"$f":"(M477-L477)/K477","v":0},1,{"$f":"(O477-L477)/K477","v":10},0.9,{"$f":"(Q477-L477)/K477","v":9}]
["ضریب چرخش تکه پهلو به درجه    d2 ","(از0 الی 100)",20,"بهینه= 20",{"$f":"'طراحی همه الگوها'!B419","v":20},"چرخش تکه پهلو     ",19,19,20,20,{"$f":"(J478-H478)/(I478-G478)","v":1},{"$f":"H478-G478*K478","v":0},0,0,1,1,0.4,0.4]
["پهنای بند جلو به سانتیمتر    d3  ","(از0 الی 5)",1.5,"بهینه= 1.5",{"$f":"'طراحی همه الگوها'!B420","v":1.5},"پهنای بند جلو       ",1,1,0,0,{"$f":"(J479-H479)/(I479-G479)","v":1},{"$f":"H479-G479*K479","v":0},0,{"$f":"(M479-L479)/K479","v":0},5,{"$f":"(O479-L479)/K479","v":5},1.5,{"$f":"(Q479-L479)/K479","v":1.5}]
["ضریب عمودی برش جلو بند   d8 ","(از 0.1 الی 2)",1.2,"بهینه=1.2",{"$f":"'طراحی همه الگوها'!B421","v":20},"بالا یا پایین رفتن مکان بند جلو",19,1.1000000000000001,20,1.2,{"$f":"(J480-H480)/(I480-G480)","v":9.9999999999999867E-2},{"$f":"H480-G480*K480","v":-0.79999999999999738},0,7.999999999999984,4,48.000000000000036,1,17.999999999999996]
["ضریب افقی برش جلو بند   d14 ","(از 0.1 الی 2)",0.8,"بهینه=0.8",{"$f":"'طراحی همه الگوها'!B422","v":20},"چپ و راست رفتن مکان بند جلو",19,0.75,20,0.8,{"$f":"(J481-H481)/(I481-G481)","v":5.0000000000000044E-2},{"$f":"H481-G481*K481","v":-0.20000000000000084},0,4.0000000000000133,0.7,18,0.4,12.000000000000007]
["ضریب پهنای افقی برش جلو بند   d9 ","(از 0 الی 1)",0.30000000000000004,"بهینه=0.3",{"$f":"'طراحی همه الگوها'!B423","v":20},"پهنای افقی برش جلو بند    ",19,0.25,20,0.3,4.9999999999999989E-2,-0.69999999999999973,0,13.999999999999998,1,34,1,34]
["ضریب پهنای برش کاسه در پهلو    d10  ","(از 0.1 الی 0.7)",0.25,"بهینه=0.25",{"$f":"'طراحی همه الگوها'!B424","v":20},"پهنای برش کاسه در پهلو      ",19,0.2,20,0.25,4.9999999999999989E-2,-0.74999999999999978,0,14.999999999999998,4,95.000000000000014,0.4,23.000000000000004]
["ضریب بالا یا پایین رفتن خط پایین پایه    d1  ","(از 0.2 الی 0.7)",0.5,"خط کمر=0 \nخط سینه=1  ",{"$f":"'طراحی همه الگوها'!B425","v":80},"بالا یا پایین رفتن خط پایین پایه      ",79,0.45,80,0.5,4.9999999999999989E-2,-3.4999999999999991,0.2,74,0.7,84,0,70]
["پهنای بند پشت به سانتیمتر   d4 ","(از0 الی 5)",1.5,"بهینه= 1.5",{"$f":"'طراحی همه الگوها'!B426","v":1.5},"پهنای بند پشت     ",1,1,0,0,1,0,0,0,5,5,1.5,1.5]
["ضریب عمودی نقطه اتصال بند پشت    d5  ","(از0 الی 1)",0.38,"خط کمر =0 \nخط سرشانه= 1 \nبهینه = 0.38",{"$f":"'طراحی همه الگوها'!B427","v":20},"بالا یا پایین رفتن مکان بند پشت",21,0.4,20,0.38,2.0000000000000018E-2,-2.0000000000000351E-2,0,1.0000000000000167,1,50.999999999999979,0.4,21]
["ضریب افقی نقطه اتصال بند پشت    d6 ","(از0.1 الی 0.9)",0.45,"خط مرکزی پشت =0 \nخط پهلو= 1 \nبهینه = 0.45",{"$f":"'طراحی همه الگوها'!B428","v":9},"چپ و راست رفتن مکان بند پشت",1,0.05,0,0,0.05,0,0.1,2,0.9,18,0.45,9]
["میزان انحنا یقه پشت پهلو    d7  ","(از -0.5 الی 0.5)",0,"خط محدب =+ \nخط صاف =0 \nخط مقعر= - ",{"$f":"'طراحی همه الگوها'!B429","v":20},"انحنا یقه پشت پهلو      ",19,-0.05,20,0,0.05,-1,0,20,4,100,0.4,27.999999999999996]
["پهنای قزن در پشت به سانتیمتر   d11 ","(از 0 الی 10)",3,"بهینه=3",{"$f":"'طراحی همه الگوها'!B430","v":3},"پهنای قزن در پشت (سانتیمتر)    ",2,2,3,3,{"$f":"(J489-H489)/(I489-G489)","v":1},{"$f":"H489-G489*K489","v":0},0,{"$f":"(M489-L489)/K489","v":0},10,{"$f":"(O489-L489)/K489","v":10},3,3]
["میزان انحنا یقه پشت مرکزی    d15  ","(از -0.5 الی 0.5)",0,"خط محدب =+ \nخط صاف =0 \nخط مقعر= - ",{"$f":"'طراحی همه الگوها'!B431","v":20},"انحنا یقه پشت مرکزی      ",19,-0.05,20,0,{"$f":"(J490-H490)/(I490-G490)","v":0.05},{"$f":"H490-G490*K490","v":-1},0,{"$f":"(M490-L490)/K490","v":20},4,{"$f":"(O490-L490)/K490","v":100},1,40]
["شیفت افقی تکه جلو مرکزی به سانتیمتر   d12 ","(از -100 الی100)",0,"بدون شیفت=0",{"$f":"'طراحی همه الگوها'!B432","v":0},"شیفت افقی تکه جلو مرکزی (سانتیمتر)    ",1,1,0,0,{"$f":"(J491-H491)/(I491-G491)","v":1},{"$f":"H491-G491*K491","v":0},-100,{"$f":"(M491-L491)/K491","v":-100},100,{"$f":"(O491-L491)/K491","v":100},0.4,0.4]
["شیفت عمودی کاسه یک تکه زیرین به سانتیمتر   d16 ","(از -100 الی100)",0,"بدون شیفت=0",{"$f":"'طراحی همه الگوها'!B434","v":0},"شیفت عمودی کاسه یک تکه زیرین (سانتیمتر)    ",1,1,0,0,{"$f":"(J492-H492)/(I492-G492)","v":1},{"$f":"H492-G492*K492","v":0},-100,{"$f":"(M492-L492)/K492","v":-100},100,{"$f":"(O492-L492)/K492","v":100}]
["شیفت افقی تکه پهلوجلو به سانتیمتر   d13 ","(از -100 الی100)",0,"بدون شیفت=0",{"$f":"'طراحی همه الگوها'!B433","v":0},"شیفت افقی تکه پهلوجلو (سانتیمتر)    ",1,1,0,0,{"$f":"(J493-H493)/(I493-G493)","v":1},{"$f":"H493-G493*K493","v":0},-100,{"$f":"(M493-L493)/K493","v":-100},100,{"$f":"(O493-L493)/K493","v":100}]
[]
[" متغیرهای ورودی- شنل بدون شیفت تکه پهلو",null,null,null,null," متغیرهای ورودی- شنل بدون شیفت تکه پهلو","x1","y1","x2","y2(بهینه)","a","b",null,"کمترین",null,"بیشترین"]
["ضریب بزرگ شدن اوزمان در شنل  c1","(از 0.5 الی 2)",{"$f":"K496*E496+L496","v":1},"بهینه=1",{"$f":"'طراحی همه الگوها'!B437","v":20},"ضریب بزرگ شدن اوزمان در شنل  ",19,0.95,20,1,{"$f":"(J496-H496)/(I496-G496)","v":5.0000000000000044E-2},{"$f":"H496-G496*K496","v":-8.8817841970012523E-16},0.5,{"$f":"(M496-L496)/K496","v":10.000000000000009},2,{"$f":"(O496-L496)/K496","v":39.999999999999986},1,{"$f":"(Q496-L496)/K496","v":20}]
[]
["پیراهن کلوش (با حلقه آستین بدون ساسون سرشانه)"]
[" اوزمان در جلو پیراهن کلوش   a1","(از 1 الی 50)",{"$f":"K499*E499+L499","v":5},null,{"$f":"'طراحی همه الگوها'!B440","v":5},null,1,1,2,2,{"$f":"(J499-H499)/(I499-G499)","v":1},{"$f":"H499-G499*K499","v":0},null,1,null,2]
[" فاصله اوزمان اول از خط مرکزی جلو  a6   ","(از 1 الی 30)",{"$f":"K500*E500+L500","v":13},null,{"$f":"'طراحی همه الگوها'!B441","v":13},null,1,1,2,2,{"$f":"(J500-H500)/(I500-G500)","v":1},{"$f":"H500-G500*K500","v":0},null,1,null,2]
[" فاصله اوزمان اول از خط مرکزی جلو  a8   ","(از 1 الی 30)",{"$f":"K501*E501+L501","v":18},null,{"$f":"'طراحی همه الگوها'!B442","v":18},null,1,1,2,2,{"$f":"(J501-H501)/(I501-G501)","v":1},{"$f":"H501-G501*K501","v":0},null,1,null,2]
[" اوزمان در پشت پیراهن کلوش   a2","(از 1 الی 50)",{"$f":"K502*E502+L502","v":5},null,{"$f":"'طراحی همه الگوها'!B443","v":5},null,1,1,2,2,{"$f":"(J502-H502)/(I502-G502)","v":1},{"$f":"H502-G502*K502","v":0},null,1,null,2]
[" فاصله اوزمان اول از خط مرکزی پشت  a7   ","(از 1 الی 30)",{"$f":"K503*E503+L503","v":13},null,{"$f":"'طراحی همه الگوها'!B444","v":13},null,1,1,2,2,{"$f":"(J503-H503)/(I503-G503)","v":1},{"$f":"H503-G503*K503","v":0},null,1,null,2]
[" فاصله اوزمان اول از خط مرکزی پشت  a9   ","(از 1 الی 30)",20,null,{"$f":"'طراحی همه الگوها'!B445","v":20},null,1,1,2,2,1,0,null,1,null,2]
[]
["متغیرهای ورودی آستین",null,null,null,null,"متغیرهای ورودی آستین"]
[null,null,null,null,"x",null,"x1","y1","x2","y2(بهینه)","a","b",null,"کمترین",null,"بیشترین"]
[" متغیر ورودی نوع آستین :",null,null,null,null," متغیر ورودی نوع آستین :","x1","y1","x2","y2(بهینه)","a","b",null,"کمترین",null,"بیشترین"]
["انتخاب آستین با ساسون سرشانه یا زیر بغل یا عصایی = 0\nانتخاب آستین رگلان (بدون درز یا با درز) برای حلقه آستین با ساسون = 0   \nانتخاب آستین با هر نوع ساسون و اپل و کنترل گودی حلقه آستین = 1\n انتخاب آستین بدون ساسون سرشانه = 3 \n انتخاب آستین رگلان (بدون درز یا با درز) برای حلقه آستین بدون ساسون سرشانه = 3 ","0 یا 1 یا 3",{"$f":"K509*E509+L509","v":3},null,{"$f":"'طراحی همه الگوها'!K177","v":4},"انتخاب آستین با ساسون سرشانه یا زیر بغل یا عصایی = 0\nانتخاب آستین رگلان (بدون درز یا با درز) برای حلقه آستین با ساسون = 0   \nانتخاب آستین با هر نوع ساسون و اپل و کنترل گودی حلقه آستین = 1\n انتخاب آستین بدون ساسون سرشانه = 3 \n انتخاب آستین رگلان (بدون درز یا با درز) برای حلقه آستین بدون ساسون سرشانه = 3 ",1,0,4,3,{"$f":"(J509-H509)/(I509-G509)","v":1},{"$f":"H509-G509*K509","v":-1},null,1,null,4,0.15,{"$f":"(Q509-L509)/K509","v":1.1499999999999999}]
[]
[" متغیرهای ورودی - آستین رگلان درز دار",null,null,null,null," متغیرهای ورودی - آستین رگلان درز دار","x1","y1","x2","y2(بهینه)","a","b",null,"کمترین",null,"بیشترین"]
["میزان خمیدگی بدن به سمت جلو - زاویه به درجه  α1","(از -20 الی 20)",{"$f":"K512*E512+L512","v":3},"بهینه=3",{"$f":"'طراحی همه الگوها'!K234","v":3},"میزان خمیدگی بدن به سمت جلو   ",1,1,0,0,{"$f":"(J512-H512)/(I512-G512)","v":1},{"$f":"H512-G512*K512","v":0},-20,{"$f":"(M512-L512)/K512","v":-20},20,{"$f":"(O512-L512)/K512","v":20},3,{"$f":"(Q512-L512)/K512","v":3}]
["میزان خم شدن سرشانه در آستین - زاویه به درجه  α2","(از -20 الی 20)",3,"بهینه=3",{"$f":"'طراحی همه الگوها'!K235","v":3},"میزان خم شدن سرشانه در آستین  ",1,1,0,0,1,0,-20,-20,20,20,3,3]
["پهنای ساسون مچ روی درز آستین  α3","(از 0 الی 2)",0.70000000000000007,"بهینه=0.7\nبدون ساسون=1",{"$f":"'طراحی همه الگوها'!K236","v":3},"پهنای ساسون مچ روی درز آستین  ",1,0.9,0,1,-9.9999999999999978E-2,1,0,10.000000000000002,2,-10.000000000000002,0.7,3.0000000000000013]
["میزان روی هم آمدن سرشانه در دو تکه آستین رگلان  α4","(از 0 الی 2)",1,"بهینه=1\nروی هم نمی آید=0",{"$f":"'طراحی همه الگوها'!K237","v":10},"میزان روی هم آمدن سرشانه در دو تکه آستین رگلان  ",1,0.1,0,0,0.1,0,0,0,2,20,1,10]
["زاویه درز روی آستین نسبت به عمود به درجه  α5","(از -20 الی 20)",3,"بهینه=3",{"$f":"'طراحی همه الگوها'!K238","v":3},"زاویه درز روی آستین نسبت به عمود  ",1,1,0,0,{"$f":"(J516-H516)/(I516-G516)","v":1},{"$f":"H516-G516*K516","v":0},-20,-20,20,20,3,3]
["میزان انحنا لبه جلو آستین  α6","(از -20 الی 20)",1,"بهینه=1",{"$f":"'طراحی همه الگوها'!K239","v":1},"میزان انحنا لبه جلو آستین  ",1,1,0,0,{"$f":"(J517-H517)/(I517-G517)","v":1},{"$f":"H517-G517*K517","v":0},-20,-20,20,20,1,1]
["میزان انحنا لبه پشت آستین  α7","(از -20 الی 20)",1,"بهینه=1",{"$f":"'طراحی همه الگوها'!K240","v":1},"میزان انحنا لبه پشت آستین  ",1,1,0,0,1,0,-20,-20,20,20,1,1]
["سهم گشادی مچ آستین بر روی درز  α8","(از 0 الی 1)",0.2,"بهینه=0.2",{"$f":"'طراحی همه الگوها'!K241","v":4},"سهم گشادی مچ آستین بر روی درز  ",1,0.05,0,0,0.05,0,0,0,1,20,0.2,4]
["شیفت افقی تکه جلو آستین رگلان درز دار    به سانتیمتر","(از -100 الی100)",5,"بدون شیفت=0",{"$f":"'طراحی همه الگوها'!K242","v":5},"شیفت افقی تکه جلو آستین رگلان درز دار    به سانتیمتر",1,1,0,0,1,0,null,1,null,100,0]
["شیفت افقی کل آستین رگلان بدون درز   به سانتیمتر","(از -100 الی100)",-4.5,"بدون شیفت=0",{"$f":"'طراحی همه الگوها'!K186","v":-4.5},"شیفت افقی کل آستین رگلان بدون درز   به سانتیمتر",1,1,0,0,{"$f":"(J521-H521)/(I521-G521)","v":1},{"$f":"H521-G521*K521","v":0},null,1,null,100,0]
[]
[" متغیرهای ورودی کلی آستین ساده (بلند یا کوتاه)",null,null,null,null," متغیرهای ورودی کلی آستین ساده (بلند یا کوتاه)","x1","y1","x2","y2(بهینه)","a","b",null,"کمترین",null,"بیشترین"]
["ضریب پهنای مچ در آستین ساده و مچ بلند","(از 0 الی 0.5)",{"$f":"K524*E524+L524","v":0},"بهینه=0.15",{"$f":"'طراحی همه الگوها'!K183","v":10},"ضریب پهنای مچ در آستین ساده و مچ بلند",11,0.05,10,0,{"$f":"(J524-H524)/(I524-G524)","v":0.05},{"$f":"H524-G524*K524","v":-0.5},0,{"$f":"(M524-L524)/K524","v":10},0.5,{"$f":"(O524-L524)/K524","v":20},0.15,{"$f":"(Q524-L524)/K524","v":13}]
["ضریب گشادی مچ آستین  ζ4","(از 0.1 الی 4)",1.8000000000000007,"اندامی=1",{"$f":"'طراحی همه الگوها'!K179","v":8},"ضریب گشادی مچ آستین  ",1,1.1000000000000001,0,1,0.10000000000000009,1,0.1,-8.9999999999999929,4,29.999999999999975,1,0]
["ضریب بلند یا کوتاه شدن اندازه های طولی در آستین","(از -0.2 الی 0.2)",0,"بدون تغییر=0",{"$f":"'طراحی همه الگوها'!K180","v":0},"ضریب بلند یا کوتاه شدن اندازه های طولی در آستین",1,0.01,0,0,0.01,0,-0.2,-20,0.2,20,0,0]
["ضریب بلندی تاج آستین","(از -1 الی 1)",0,"اندامی=0",{"$f":"'طراحی همه الگوها'!K181","v":0},"ضریب بلندی تاج آستین",1,0.05,0,0,0.05,0,-1,-20,1,20,0,0]
["ضریب گشادی تاج آستین","(از 0 الی 1)",0,"اندامی=0",{"$f":"'طراحی همه الگوها'!K182","v":0},"ضریب گشادی تاج آستین",1,0.05,0,0,0.05,0,0,0,1,20,0,0]
["ضریب کوتاهی آستین  (آستین پفی > 0.6)","(از -0.45 الی 1.7)",0.30000000000000004,"آستین تا مچ=0 \nآستین تا آرنج=1 \nآستین کوتاه بالای آرنج بزرگتر از یک",{"$f":"'طراحی همه الگوها'!K178","v":16},"بلندی پایین آستین",10,0,30,1,0.05,-0.5,-0.45,0.99999999999999978,1.7,44,0.3,16]
["شیفت افقی کل الگو آستین به سانتیمتر","(از -100 الی100)",0,"بدون شیفت=0",{"$f":"'طراحی همه الگوها'!K184","v":0},"شیفت افقی کل الگو آستین (سانتیمتر)",1,1,0,0,1,0,null,1,null,100,0]
["شیفت عمودی کل الگو آستین به سانتیمتر","(از -100 الی100)",{"$f":"K531*E531+L531","v":0},"بدون شیفت=0",{"$f":"'طراحی همه الگوها'!K185","v":0},"شیفت عمودی کل الگو آستین (سانتیمتر)",1,1,0,0,1,0,null,1,null,100,0]
[]
["اطلاعات طول حلقه آستین و طول تاج آستین",null,null,null,null,"اطلاعات طول حلقه آستین و طول تاج آستین"]
["طول کل حلقه آستین با اپل",{"$f":"محاسبات!BL538","v":46},null,null,null,"طول کل حلقه آستین با اپل (سانتیمتر)"]
["طول کل حلقه آستین با ساسون",{"$f":"محاسبات!BL539","v":44.6},null,null,null,"طول کل حلقه آستین با ساسون (سانتیمتر)"]
["طول کل حلقه آستین بدون ساسون",{"$f":"محاسبات!BL540","v":47.3},null,null,null,"طول کل حلقه آستین بدون ساسون (سانتیمتر)"]
["طول حلقه آستین مدل 85",{"$f":"محاسبات!BL541","v":45.5},null,null,null,"طول حلقه آستین مدل 85  (سانتیمتر)"]
["طول حلقه آستین مدل 83 کت مردانه",{"$f":"محاسبات!BL542","v":43.6},null,null,null,"طول حلقه آستین مدل 83 کت مردانه  (سانتیمتر)"]
["طول تاج آستین کتی",{"$f":"محاسبات!BL543","v":47.9},null,null,null,"طول تاج آستین کتی (سانتیمتر)"]
["طول تاج آستین ساده",{"$f":"محاسبات!BL544","v":48.1},null,null,null,"طول تاج آستین ساده (سانتیمتر) "]
[]
[" متغیرهای ورودی- جادکمه آستین بلند یا کوتاه",null,null,null,null," متغیرهای ورودی- جادکمه آستین بلند یا کوتاه","x1","y1","x2","y2(بهینه)","a","b",null,"کمترین",null,"بیشترین"]
["ضریب طول مستطیل ","(از 0 الی 0.5)",{"$f":"K543*E543+L543","v":0.35000000000000003},"بهینه=0.35",{"$f":"'طراحی همه الگوها'!K204","v":7},"ضریب طول مستطیل ",1,0.05,0,0,{"$f":"(J543-H543)/(I543-G543)","v":0.05},{"$f":"H543-G543*K543","v":0},0,{"$f":"(M543-L543)/K543","v":0},0.5,{"$f":"(O543-L543)/K543","v":10},0.35,{"$f":"(Q543-L543)/K543","v":6.9999999999999991}]
["ضریب عرض مستطیل ","(از 0 الی 0.4)",{"$f":"K544*E544+L544","v":0.25},"بهینه=0.25",{"$f":"'طراحی همه الگوها'!K205","v":5},"ضریب عرض مستطیل ",1,0.05,0,0,{"$f":"(J544-H544)/(I544-G544)","v":0.05},{"$f":"H544-G544*K544","v":0},0,{"$f":"(M544-L544)/K544","v":0},0.4,{"$f":"(O544-L544)/K544","v":8},0.25,{"$f":"(Q544-L544)/K544","v":5}]
[]
[" متغیرهای ورودی - مچ آستین",null,null,null,null," متغیرهای ورودی - مچ آستین","x1","y1","x2","y2(بهینه)","a","b",null,"کمترین",null,"بیشترین"]
["انتخاب مچ اندامی=1        انتخاب مچ مستطیل یا مچ پفی=0","0 یا 1 ",{"$f":"K547*E547+L547","v":0},null,{"$f":"'طراحی همه الگوها'!K189","v":1},"انتخاب مچ اندامی=2        انتخاب مچ مستطیل یا مچ پفی=1",1,0,2,1,{"$f":"(J547-H547)/(I547-G547)","v":1},{"$f":"H547-G547*K547","v":-1},0,{"$f":"(M547-L547)/K547","v":1},1,{"$f":"(O547-L547)/K547","v":2},0,{"$f":"(Q547-L547)/K547","v":1}]
["ضریب گشادی بالای مچ  z3","(از 0.8 الی 3)",1.8000000000000007,"اندامی=1",{"$f":"'طراحی همه الگوها'!K190","v":8},"ضریب گشادی بالای مچ  ",1,1.1000000000000001,0,1,0.10000000000000009,1,0.8,{"$f":"(M548-L548)/K548","v":-1.9999999999999978},3,{"$f":"(O548-L548)/K548","v":19.999999999999982},1,{"$f":"(Q548-L548)/K548","v":0}]
["ضریب گشادی پایین مچ یا مچ مستطیل یا مچ پفی  z4","(از 0.8 الی 3)",1.1000000000000001,"اندامی=1",{"$f":"'طراحی همه الگوها'!K191","v":1},"ضریب گشادی پایین مچ یا مچ مستطیل یا مچ پفی  ",1,1.1000000000000001,0,1,0.10000000000000009,1,0.8,{"$f":"(M549-L549)/K549","v":-1.9999999999999978},3,{"$f":"(O549-L549)/K549","v":19.999999999999982},1,{"$f":"(Q549-L549)/K549","v":0}]
["ضریب ارتفاع بالای مچ    z5","(از 0 الی 1.7)",0.25,"ارتفاع تا مچ دست =0 \nارتفاع تا آرنج=1 \nارتفاع بالای آرنج بزرگتر از یک",{"$f":"'طراحی همه الگوها'!K192","v":15},"ضریب ارتفاع بالای مچ    ",10,0,30,1,0.05,-0.5,0,{"$f":"(M550-L550)/K550","v":10},1.7,{"$f":"(O550-L550)/K550","v":44},1,{"$f":"(Q550-L550)/K550","v":30}]
["ضریب ارتفاع پایین مچ   z6","(از 0 الی 1.7)",0,"ارتفاع تا مچ دست =0 \nارتفاع تا آرنج=1 \nارتفاع بالای آرنج بزرگتر از یک",{"$f":"'طراحی همه الگوها'!K193","v":10},"ضریب ارتفاع پایین مچ   ",10,0,30,1,0.05,-0.5,0,{"$f":"(M551-L551)/K551","v":10},1.7,{"$f":"(O551-L551)/K551","v":44},1,{"$f":"(Q551-L551)/K551","v":30}]
["شیفت افقی مچ  به سانتیمتر   z7","(از -100 الی100)",0,"بدون شیفت=0",{"$f":"'طراحی همه الگوها'!K194","v":0},"شیفت افقی مچ  (سانتیمتر)   ",1,1,0,0,1,0,null,1,null,100,0]
["شیفت عمودی مچ  به سانتیمتر  z8","(از -100 الی100)",0,"بدون شیفت=0",{"$f":"'طراحی همه الگوها'!K195","v":0},"شیفت عمودی مچ  (سانتیمتر)  ",1,1,0,0,1,0,null,1,null,100,0]
[]
[" متغیرهای ورودی - آستر مچ آستین",null,null,null,null," متغیرهای ورودی - آستر مچ آستین","x1","y1","x2","y2(بهینه)","a","b",null,"کمترین",null,"بیشترین"]
["انتخاب مچ اندامی=1        انتخاب مچ مستطیل یا مچ پفی=0","0 یا 1 ",{"$f":"K556*E556+L556","v":1},null,{"$f":"'طراحی همه الگوها'!K217","v":2},"انتخاب مچ اندامی=2        انتخاب مچ مستطیل یا مچ پفی=1",1,0,2,1,{"$f":"(J556-H556)/(I556-G556)","v":1},{"$f":"H556-G556*K556","v":-1},0,{"$f":"(M556-L556)/K556","v":1},1,{"$f":"(O556-L556)/K556","v":2},0,{"$f":"(Q556-L556)/K556","v":1}]
["ضریب گشادی بالای مچ  z3","(از 0.8 الی 3)",1.5000000000000004,"اندامی=1",{"$f":"'طراحی همه الگوها'!K218","v":5},"ضریب گشادی بالای مچ  ",1,1.1000000000000001,0,1,0.10000000000000009,1,0.8,{"$f":"(M557-L557)/K557","v":-1.9999999999999978},3,{"$f":"(O557-L557)/K557","v":19.999999999999982},1,{"$f":"(Q557-L557)/K557","v":0}]
["ضریب گشادی پایین مچ یا مچ مستطیل یا مچ پفی  z4","(از 0.8 الی 3)",1.8000000000000007,"اندامی=1",{"$f":"'طراحی همه الگوها'!K219","v":8},"ضریب گشادی پایین مچ یا مچ مستطیل یا مچ پفی  ",1,1.1000000000000001,0,1,0.10000000000000009,1,0.8,{"$f":"(M558-L558)/K558","v":-1.9999999999999978},3,{"$f":"(O558-L558)/K558","v":19.999999999999982},1,{"$f":"(Q558-L558)/K558","v":0}]
["ضریب ارتفاع بالای مچ    z5","(از 0 الی 1.7)",1,"ارتفاع تا مچ دست =0 \nارتفاع تا آرنج=1 \nارتفاع بالای آرنج بزرگتر از یک",{"$f":"'طراحی همه الگوها'!K220","v":30},"ضریب ارتفاع بالای مچ    ",10,0,30,1,0.05,-0.5,0,{"$f":"(M559-L559)/K559","v":10},1.7,{"$f":"(O559-L559)/K559","v":44},1,{"$f":"(Q559-L559)/K559","v":30}]
["ضریب ارتفاع پایین مچ   z6","(از 0 الی 1.7)",0.25,"ارتفاع تا مچ دست =0 \nارتفاع تا آرنج=1 \nارتفاع بالای آرنج بزرگتر از یک",{"$f":"'طراحی همه الگوها'!K221","v":15},"ضریب ارتفاع پایین مچ   ",10,0,30,1,0.05,-0.5,0,{"$f":"(M560-L560)/K560","v":10},1.7,{"$f":"(O560-L560)/K560","v":44},1,{"$f":"(Q560-L560)/K560","v":30}]
["شیفت افقی آستر مچ  به سانتیمتر   z7","(از -100 الی100)",0,"بدون شیفت=0",{"$f":"'طراحی همه الگوها'!K222","v":0},"شیفت افقی آستر مچ  (سانتیمتر)   ",1,1,0,0,1,0,null,1,null,100,0]
["شیفت عمودی آستر مچ  به سانتیمتر  z8","(از -100 الی100)",0,"بدون شیفت=0",{"$f":"'طراحی همه الگوها'!K223","v":0},"شیفت عمودی آستر مچ  (سانتیمتر)  ",1,1,0,0,1,0,null,1,null,100,0]
[]
[" متغیرهای ورودی آستین لاله ای",null,null,null,null," متغیرهای ورودی آستین لاله ای","x1","y1","x2","y2(بهینه)","a","b",null,"کمترین",null,"بیشترین"]
["ضریب قرارگیری نقطه بالای جلو انحنا آستین  q20 ","(از 0 الی 1)",{"$f":"K565*E565+L565","v":0.4},"نقطه بالا روی سرشانه=0 \nنقطه بالا زیر بغل=1 ",{"$f":"'طراحی همه الگوها'!K245","v":20},"ضریب قرارگیری نقطه بالای جلو انحنا آستین   ",19,0.35,20,0.4,{"$f":"(J565-H565)/(I565-G565)","v":5.0000000000000044E-2},{"$f":"H565-G565*K565","v":-0.60000000000000087},0,{"$f":"(M565-L565)/K565","v":12.000000000000007},1,{"$f":"(O565-L565)/K565","v":31.999999999999993},1,{"$f":"(Q565-L565)/K565","v":31.999999999999993}]
["ضریب قرارگیری نقطه بالای پشت انحنا آستین  q'20 ","(از 0 الی 1)",0.30000000000000004,"نقطه بالا روی سرشانه=0 \nنقطه بالا زیر بغل=1 ",{"$f":"'طراحی همه الگوها'!K246","v":20},"ضریب قرارگیری نقطه بالای پشت انحنا آستین   ",19,0.25,20,0.3,4.9999999999999989E-2,-0.69999999999999973,0,13.999999999999998,1,34,1,34]
["ضریب قرارگیری نقطه پایین جلو انحنا آستین  q21 ","(از 0 الی 1)",0.7,"نقطه پایین وسط آستین=0 \nنقطه پایین روی خط پهلو=1 ",{"$f":"'طراحی همه الگوها'!K247","v":20},"ضریب قرارگیری نقطه پایین جلو انحنا آستین   ",19,0.65,20,0.7,4.9999999999999933E-2,-0.29999999999999871,0,5.9999999999999822,1,26.000000000000011,1,26.000000000000011]
["ضریب قرارگیری نقطه پایین پشت انحنا آستین  q'21 ","(از 0 الی 1)",0.7,"نقطه پایین وسط آستین=0 \nنقطه پایین روی خط پهلو=1 ",{"$f":"'طراحی همه الگوها'!K248","v":20},"ضریب قرارگیری نقطه پایین پشت انحنا آستین   ",19,0.65,20,0.7,4.9999999999999933E-2,-0.29999999999999871,0,5.9999999999999822,1,26.000000000000011,2,46.000000000000043]
["ضریب انحنا جلو  q22 ","(از -0.5 الی 0.5)",0.15000000000000013,"خط محدب =+ \nخط صاف =0 \nخط مقعر= - ",{"$f":"'طراحی همه الگوها'!K249","v":23},"ضریب انحنا جلو   ",21,0.05,20,0,0.05,-1,-0.5,10,0.5,30,0.15,22.999999999999996]
["ضریب انحنا پشت  q'22 ","(از -0.5 الی 0.5)",0.15000000000000013,"خط محدب =+ \nخط صاف =0 \nخط مقعر= - ",{"$f":"'طراحی همه الگوها'!K250","v":23},"ضریب انحنا پشت   ",21,0.05,20,0,0.05,-1,-0.5,10,0.5,30,0.15,22.999999999999996]
[]
["متغیرهای ورودی آستین کتی",null,null,null,null,"متغیرهای ورودی آستین کتی","x1","y1","x2","y2(بهینه)","a","b",null,"کمترین",null,"بیشترین"]
["میزان خمیدگی آستین کتی - زاویه به درجه  ζ2","(از 0 الی 7)",{"$f":"K573*E573+L573","v":3},"بهینه=3",{"$f":"'طراحی همه الگوها'!K198","v":3},"میزان خمیدگی آستین کتی - زاویه به درجه  ",1,1,0,0,{"$f":"(J573-H573)/(I573-G573)","v":1},{"$f":"H573-G573*K573","v":0},0,{"$f":"(M573-L573)/K573","v":0},7,{"$f":"(O573-L573)/K573","v":7},3,{"$f":"(Q573-L573)/K573","v":3}]
["ضریب طول مستطیل جادکمه کتی","(از 0.01 الی 0.5)",{"$f":"K574*E574+L574","v":0.4},"بهینه=0.4",{"$f":"'طراحی همه الگوها'!K199","v":20},"ضریب طول مستطیل جادکمه کتی",1,0.02,0,0,{"$f":"(J574-H574)/(I574-G574)","v":0.02},{"$f":"H574-G574*K574","v":0},0.01,{"$f":"(M574-L574)/K574","v":0.5},0.5,{"$f":"(O574-L574)/K574","v":25},0.4,{"$f":"(Q574-L574)/K574","v":20}]
["ضریب عرض مستطیل جادکمه کتی","(از 0 الی 0.5)",{"$f":"K575*E575+L575","v":0.3},"بهینه=0.3",{"$f":"'طراحی همه الگوها'!K200","v":15},"ضریب عرض مستطیل جادکمه کتی",1,0.02,0,0,{"$f":"(J575-H575)/(I575-G575)","v":0.02},{"$f":"H575-G575*K575","v":0},0,{"$f":"(M575-L575)/K575","v":0},0.5,{"$f":"(O575-L575)/K575","v":25},0.3,{"$f":"(Q575-L575)/K575","v":15}]
["شیفت افقی تکه جلو آستین کتی به سانتیمتر","(از -100 الی100)",{"$f":"K576*E576+L576","v":0},"بهینه=دلخواه",{"$f":"'طراحی همه الگوها'!K201","v":0},"شیفت افقی تکه جلو آستین کتی (سانتیمتر)",1,1,0,0,{"$f":"(J576-H576)/(I576-G576)","v":1},{"$f":"H576-G576*K576","v":0},null,1,null,100,0]
[]
[" متغیر ورودی آستین کلوش :",null,null,null,null," متغیر ورودی آستین کلوش :","x1","y1","x2","y2(بهینه)","a","b",null,"کمترین",null,"بیشترین"]
["بلندی آستین","(از 0 الی 1)",{"$f":"K579*E579+L579","v":0.39999999999999991},"بدون بلندی=0 \nآستین تا مچ=1 ",{"$f":"'طراحی همه الگوها'!K226","v":30},"بلندی پایین آستین کلوش",30,0.4,10,1,{"$f":"(J579-H579)/(I579-G579)","v":-0.03},{"$f":"H579-G579*K579","v":1.2999999999999998},0,{"$f":"(M579-L579)/K579","v":43.333333333333329},1,{"$f":"(O579-L579)/K579","v":9.9999999999999947},1,{"$f":"(Q579-L579)/K579","v":9.9999999999999947}]
["زاویه اوزمان آستین (برحسب درجه)","(از 0 الی 30)",{"$f":"K580*E580+L580","v":15},"بدون کلوش=0 \nبهینه=15 ",{"$f":"'طراحی همه الگوها'!K227","v":15}," اوزمان آستین کلوش ",1,1,0,0,{"$f":"(J580-H580)/(I580-G580)","v":1},{"$f":"H580-G580*K580","v":0},0,{"$f":"(M580-L580)/K580","v":0},30,{"$f":"(O580-L580)/K580","v":30},15,{"$f":"(Q580-L580)/K580","v":15}]
[]
[" متغیر ورودی آستین کلوش معکوس :",null,null,null,null," متغیر ورودی آستین کلوش معکوس :","x1","y1","x2","y2(بهینه)","a","b",null,"کمترین",null,"بیشترین"]
["بلندی آستین","(از 0 الی 1)",{"$f":"K583*E583+L583","v":0.39999999999999991},"بدون بلندی=0 \nآستین تا مچ=1 ",{"$f":"'طراحی همه الگوها'!K230","v":30},"بلندی پایین آستین کلوش معکوس",30,0.4,10,1,{"$f":"(J583-H583)/(I583-G583)","v":-0.03},{"$f":"H583-G583*K583","v":1.2999999999999998},0,{"$f":"(M583-L583)/K583","v":43.333333333333329},1,{"$f":"(O583-L583)/K583","v":9.9999999999999947},1,{"$f":"(Q583-L583)/K583","v":9.9999999999999947}]
["زاویه اوزمان آستین (برحسب درجه)","(از 0 الی 10)",{"$f":"K584*E584+L584","v":5},"بدون کلوش=0 \nبهینه=5 ",{"$f":"'طراحی همه الگوها'!K231","v":5}," اوزمان آستین کلوش معکوس ",1,1,0,0,{"$f":"(J584-H584)/(I584-G584)","v":1},{"$f":"H584-G584*K584","v":0},0,{"$f":"(M584-L584)/K584","v":0},10,{"$f":"(O584-L584)/K584","v":10},5,{"$f":"(Q584-L584)/K584","v":5}]
["متغیرهای ورودی شلوار",null,null,null,null,"متغیرهای ورودی شلوار"]
[]
[" متغیرهای ورودی کلی شلوار",null,null,null,null," متغیرهای ورودی کلی شلوار","x1","y1","x2","y2(بهینه)","a","b",null,"کمترین",null,"بیشترین"]
["ضریب گشاد یا تنگ شدن اندازه های عرضی در شلوار   t4 ","(از -0.2 الی 0.3)",{"$f":"K588*E588+L588","v":-0.05},"اندامی=0\nرکاب دار= - 0.15",{"$f":"'طراحی همه الگوها'!N177","v":-5},"ضریب گشاد یا تنگ شدن اندازه های عرضی در شلوار    ",1,0.01,0,0,{"$f":"(J588-H588)/(I588-G588)","v":0.01},{"$f":"H588-G588*K588","v":0},-0.2,{"$f":"(M588-L588)/K588","v":-20},0.3,{"$f":"(O588-L588)/K588","v":30},-0.15,{"$f":"(Q588-L588)/K588","v":-15}]
["ضریب گشاد یا تنگ شدن اندازه های طولی در شلوار   t41 ","(از -0.2 الی 0.2)",0,"اندامی=0\nرکاب دار= - 0.07",{"$f":"'طراحی همه الگوها'!N178","v":0},"ضریب گشاد یا تنگ شدن اندازه های طولی در شلوار    ",1,0.01,0,0,0.01,0,-0.2,-20,0.2,20,-7.0000000000000007E-2,-7.0000000000000009]
["ضریب کوتاهی لبه شلوار تا زمین  (قد شلوار)   t1","(از -0.1 الی 1.8)",1,"خط زمین=0 \nخط زانو=1 \nخط باسن = 2",{"$f":"'طراحی همه الگوها'!N179","v":30},"ضریب کوتاهی پایین شلوار  (قد شلوار)   ",10,0,30,1,0.05,-0.5,-0.1,8,1.8,45.999999999999993,1,30]
["ضریب گشادی پاچه شلوار t2","(از 0.8 الی 3)",1.8000000000000007,"بهینه=1.6",{"$f":"'طراحی همه الگوها'!N180","v":16},"ضریب گشادی پاچه شلوار ",1,1.05,0,1,5.0000000000000044E-2,1,0.8,-3.9999999999999956,3,39.999999999999964,1.6,11.999999999999991]
["ضریب گشادی دور زانو t3","(از 0.8 الی 2)",1.2000000000000002,"بهینه=1.2",{"$f":"'طراحی همه الگوها'!N181","v":4},"ضریب گشادی دور زانو ",1,1.05,0,1,5.0000000000000044E-2,1,0.8,-3.9999999999999956,2,19.999999999999982,1.2,3.9999999999999956]
["ضریب عرض زیپ  t14 ","(از 0 الی 0.5)",0.30000000000000004,"بهینه=0.3",{"$f":"'طراحی همه الگوها'!N182","v":6},"ضریب عرض زیپ   ",1,0.05,0,0,0.05,0,0,0,0.5,10,0.3,5.9999999999999991]
["شیفت افقی کل الگو جلو شلوار (به سانتیمتر)  x1","(از -100 الی100)",15,"بهینه=دلخواه",{"$f":"'طراحی همه الگوها'!N183","v":15},"شیفت افقی کل الگو جلو شلوار (سانتیمتر)  ",1,1,0,0,1,0,-100,-100,100,100]
["شیفت عمودی کل الگو جلو شلوار (به سانتیمتر)  y1","(از -100 الی100)",0,"بهینه=دلخواه",{"$f":"'طراحی همه الگوها'!N184","v":0},"شیفت عمودی کل الگو جلو شلوار (سانتیمتر)  ",1,1,0,0,1,0,-100,-100,100,100]
["شیفت افقی کل الگو پشت شلوار (به سانتیمتر)  xp1","(از -100 الی100)",10,"بهینه=دلخواه",{"$f":"'طراحی همه الگوها'!N185","v":10},"شیفت افقی کل الگو پشت شلوار (سانتیمتر)  ",1,1,0,0,1,0,-100,-100,100,100]
["شیفت عمودی کل الگو پشت شلوار (به سانتیمتر)  yp1","(از -100 الی100)",0,"بهینه=دلخواه",{"$f":"'طراحی همه الگوها'!N186","v":0},"شیفت عمودی کل الگو پشت شلوار (سانتیمتر)  ",1,1,0,0,1,0,-100,-100,100,100]
[]
[" متغیرهای ورودی - شلوار متصل به بالاتنه",null,null,null,null," متغیرهای ورودی - شلوار متصل به بالاتنه","x1","y1","x2","y2(بهینه)","a","b",null,"کمترین",null,"بیشترین"]
[" ضریب بلند شدن فاق در شلوار متصل به بالاتنه   t53 ","(از 0 الی 4)",{"$f":"K600*E600+L600","v":0},"بهینه شلوار متصل به بالاتنه=1\nغیر از آن= 0",{"$f":"'طراحی همه الگوها'!N205","v":10}," ضریب بلند شدن فاق در شلوار متصل به بالاتنه    ",11,0.1,10,0,{"$f":"(J600-H600)/(I600-G600)","v":0.1},{"$f":"H600-G600*K600","v":-1},0,{"$f":"(M600-L600)/K600","v":10},4,{"$f":"(O600-L600)/K600","v":50},1,{"$f":"(Q600-L600)/K600","v":20}]
["ضریب بزرگی پهنای جادکمه پهلو","(از 0 الی 0.1)",{"$f":"K601*E601+L601","v":0.04},"بهینه=0.04",{"$f":"'طراحی همه الگوها'!N206","v":4},"ضریب بزرگی پهنای جادکمه پهلو",1,0.01,0,0,{"$f":"(J601-H601)/(I601-G601)","v":0.01},{"$f":"H601-G601*K601","v":0},0,{"$f":"(M601-L601)/K601","v":0},0.1,{"$f":"(O601-L601)/K601","v":10},0.04,{"$f":"(Q601-L601)/K601","v":4}]
[]
[" متغیرهای ورودی کمر شلوار",null,null,null,null," متغیرهای ورودی کمر شلوار","x1","y1","x2","y2(بهینه)","a","b",null,"کمترین",null,"بیشترین"]
[" پایین آمدن کمر لباس نسبت به کمر اندام به سانتیمتر  t7","(از -2 الی 10)",{"$f":"K604*E604+L604","v":5},"پهنای کش=2الی3  ",{"$f":"'طراحی همه الگوها'!N196","v":-5}," پایین آمدن کمر شلوار نسبت به کمر اندام   ",1,-1,0,0,{"$f":"(J604-H604)/(I604-G604)","v":-1},{"$f":"H604-G604*K604","v":0},-2,{"$f":"(M604-L604)/K604","v":2},10,{"$f":"(O604-L604)/K604","v":-10},2,{"$f":"(Q604-L604)/K604","v":-2}]
[" پهنای کمر شلوار به سانتیمتر  t8","(از 0 الی 10)",3.5,"پهنای کش=2الی3  ",{"$f":"'طراحی همه الگوها'!N197","v":3.5}," پهنای کمر جدا در شلوار  (cm) ",1,1,0,0,1,0,0,0,10,10,2,{"$f":"(Q605-L605)/K605","v":2}]
["کوتاهی جلو کمر شلوار به سانتیمتر t9","(از -2 الی 10)",0,"بدون کوتاهی=0",{"$f":"'طراحی همه الگوها'!N198","v":0},"کوتاهی جلو کمر شلوار نسبت به پشت کمر شلوار (cm) ",1,-1,0,0,-1,0,-2,2,10,-10,0,{"$f":"(Q606-L606)/K606","v":0}]
["شیفت افقی  جلو کمر شلوار (به سانتیمتر)  t49","(از -100 الی100)",0,"بهینه=دلخواه",{"$f":"'طراحی همه الگوها'!N199","v":0},"شیفت افقی  جلو کمر شلوار (سانتیمتر)  ",1,1,0,0,1,0,-100,-100,100,100]
["شیفت عمودی  جلو کمر شلوار (به سانتیمتر)  t50","(از -100 الی100)",5,"بهینه=دلخواه",{"$f":"'طراحی همه الگوها'!N200","v":5},"شیفت عمودی  جلو کمر شلوار (سانتیمتر)  ",1,1,0,0,1,0,-100,-100,100,100]
["شیفت افقی  پشت کمر شلوار (به سانتیمتر)  t51","(از -100 الی100)",0,"بهینه=دلخواه",{"$f":"'طراحی همه الگوها'!N201","v":0},"شیفت افقی  پشت کمر شلوار (سانتیمتر)  ",1,1,0,0,1,0,-100,-100,100,100]
["شیفت عمودی  پشت کمر شلوار (به سانتیمتر)  t52","(از -100 الی100)",5,"بهینه=دلخواه",{"$f":"'طراحی همه الگوها'!N202","v":5},"شیفت عمودی  پشت کمر شلوار (سانتیمتر)  ",1,1,0,0,1,0,-100,-100,100,100]
[]
["اطلاعات شلوار و اندام",null,null,null,null,"اطلاعات شلوار و اندام"]
["گشادی لبه شلوار (محاسبه شده)",{"$f":"ROUND(محاسبات!W568-محاسبات!W567+محاسبات!AG568-محاسبات!AG567,1)","v":39.9},null,null,null,"گشادی لبه شلوار (سانتیمتر) (محاسبه شده)"]
["دور کمر (اندازه گیری شده)",{"$f":"'متغیرها '!U52","v":68},null,null,null,"دور کمر (سانتیمتر) (اندازه گیری شده)"]
["طول کش برای کل کمر شلوار (محاسبه شده)",{"$f":"ROUND(0.8*B614,1)","v":54.4},null,null,null,"طول کش برای کل کمر شلوار (سانتیمتر) (محاسبه شده)"]
["طول کش برای پشت کمر بین دو خط پهلو (محاسبه شده)",{"$f":"ROUND(0.8*'متغیرها '!U53,1)","v":27},null,null,null,"طول کش برای پشت کمر بین دو خط پهلو (سانتیمتر) (محاسبه شده)"]
["طول کش از ساسون جلو - پشت - تا ساسون دیگر جلو (محاسبه شده)",{"$f":"ROUND(0.8*('متغیرها '!U53+0.3*('متغیرها '!U52-'متغیرها '!U53)),1)","v":35.200000000000003},null,null,null,"طول کش از ساسون جلو - پشت - تا ساسون دیگر جلو (سانتیمتر) (محاسبه شده)"]
[]
[" متغیرهای ورودی جزئی شلوار",null,null,null,null," متغیرهای ورودی جزئی شلوار","x1","y1","x2","y2(بهینه)","a","b",null,"کمترین",null,"بیشترین"]
["ضریب گشادی دور ران یا نسبت گشادی پشت پاچه به جلو پاچه  t5","(از 1 الی 1.5)",{"$f":"K620*E620+L620","v":1.2},"بهینه=1.2",{"$f":"'طراحی همه الگوها'!N209","v":1.2},"ضریب گشادی دور ران یا نسبت گشادی پشت پاچه به جلو پاچه  ",2,2,1,1,{"$f":"(J620-H620)/(I620-G620)","v":1},{"$f":"H620-G620*K620","v":0},1,{"$f":"(M620-L620)/K620","v":1},1.5,{"$f":"(O620-L620)/K620","v":1.5},1.2,{"$f":"(Q620-L620)/K620","v":1.2}]
["زاویه خط پهلو جلو به درجه  t6","(از 0 الی 10)",-1,"بهینه=7\nبهينه پا پرانتزی=4\nکد برای اعمال روش مولر= -1",{"$f":"IF('طراحی همه الگوها'!N210=AN170,-1,'طراحی همه الگوها'!N210)","v":-1},"زاویه خط پهلو جلو به درجه  ",1,1,0,0,1,0,0,0,10,10,7,7]
["ضریب پهنای صافی لبه پایین شلوار  t10 ","(از 0 الی 0.5)",0,"بهینه=0.1",{"$f":"'طراحی همه الگوها'!N211","v":0},"ضریب پهنای صافی لبه پایین شلوار   ",1,0.05,0,0,0.05,0,0,0,0.5,10,0.1,2]
["ضریب بالا یا پایین رفتن خط زانو  t11 ","(از -0.4 الی 0.6)",0,"بدون تغییر=0\nمنفی به سمت بالای زانو\nمثبت به سمت پایین زانو",{"$f":"'طراحی همه الگوها'!N212","v":0},"ضریب بالا یا پایین رفتن خط زانو   ",-1,0.05,0,0,-0.05,0,-0.4,8,0.6,-11.999999999999998,0,0]
["ضریب پهنای فاق جلو (در روش مولر این ضریب ثابت مساوی 0.06 می باشد)  t12 ","(از 0.03 الی 0.08)",0.05,"بهینه=0.05",{"$f":"'طراحی همه الگوها'!N213","v":5},"ضریب پهنای فاق جلو (در روش مولر این ضریب ثابت مساوی 0.06 می باشد)   ",1,0.01,0,0,0.01,0,0.03,3,0.08,8,0.05,5]
["تغییر زاویه خط وسط پا در پشت شلوار  t13 ","(از 0 الی 5)",1,"بهینه=1",{"$f":"'طراحی همه الگوها'!N214","v":2},"تغییر زاویه خط وسط پا در پشت شلوار   ",1,0.5,0,0,0.5,0,0,0,5,10,1,2]
["ضریب کوتاه شدن ساسون پشت شلوار  t20 ","(از 0.07 الی 1.5)",1,"بهینه=1",{"$f":"'طراحی همه الگوها'!N215","v":20},"ضریب کوتاه شدن ساسون پشت شلوار   ",1,0.05,0,0,0.05,0,7.0000000000000007E-2,1.4000000000000001,1.5,30,1,20]
["ضریب کوتاه شدن ساسون جلو شلوار  t21 ","(از 0.1 الی 1.5)",1,"بهینه=1",{"$f":"'طراحی همه الگوها'!N216","v":20},"ضریب کوتاه شدن ساسون جلو شلوار   ",1,0.05,0,0,0.05,0,0.1,2,1.5,30,1,20]
["ضریب پهنای ساسون وسط پشت شلوار  t42 ","(از 0 الی 1.5)",1,"بهینه=1\nبهینه جین=0.5\nحذف ساسون وسط=0",{"$f":"'طراحی همه الگوها'!N217","v":10},"ضریب پهنای ساسون وسط پشت شلوار   ",1,0.1,0,0,0.1,0,0,0,1.5,15,0.5,5]
["ضریب پهنای ساسون پهلو پشت شلوار  t43 ","(از 0 الی 3)",0.5,"بهینه=1\nبهینه جین=1.5\nانتقال ساسون وسط به پهلو=3",{"$f":"'طراحی همه الگوها'!N218","v":5},"ضریب پهنای ساسون پهلو پشت شلوار   ",1,0.1,0,0,0.1,0,0,0,3,30,1,10]
["ضریب پهنای ساسون وسط جلو شلوار  t44 ","(از 0 الی 1.5)",1,"بهینه=1\nحذف ساسون وسط=0",{"$f":"'طراحی همه الگوها'!N219","v":10},"ضریب پهنای ساسون وسط جلو شلوار   ",1,0.1,0,0,0.1,0,0,0,1.5,15,1,10]
["ضریب پهنای ساسون پهلو جلو شلوار  t45 ","(از 0 الی 2)",0.5,"بهینه=1\nانتقال ساسون وسط به پهلو=2",{"$f":"'طراحی همه الگوها'!N220","v":5},"ضریب پهنای ساسون پهلو جلو شلوار   ",1,0.1,0,0,0.1,0,0,0,2,20,1,10]
["ضریب حذف ساسون پهلو در کمر جدا شلوار   t15","(از 0 الی 1)",0,"ساسون حذف شود=0\nساسون حذف نشود=1",{"$f":"'طراحی همه الگوها'!N221","v":0},"ضریب حذف ساسون پهلو در کمر جدا شلوار   ",1,0.1,0,0,{"$f":"(J632-H632)/(I632-G632)","v":0.1},{"$f":"H632-G632*K632","v":0},0,0,1,10,1,10]
[" شبیه ساز   فاق اندازه گیری منهای فاق پشت و جلو",{"$f":"ROUND(محاسبات!L597,1)","v":0}]
[" زاویه خط پهلو جلوبه درجه",{"$f":"ROUND(محاسبات!K598,1)","v":5.5}]
[" شبیه ساز   زاویه خط پهلو جلوبه درجه",{"$f":"ROUND(محاسبات!L598,1)","v":7.2}]
["زاویه خط پهلو پشت به درجه",{"$f":"ROUND(محاسبات!K599,1)","v":10.5}]
[" شبیه ساز   زاویه خط پهلو پشت به درجه",{"$f":"ROUND(محاسبات!L599,1)","v":13.2}]
[]
[" متغیرهای ورودی شلوار - برش پشت جین",null,null,null,null," متغیرهای ورودی شلوار - برش پشت جین","x1","y1","x2","y2(بهینه)","a","b",null,"کمترین",null,"بیشترین"]
["ضریب بالا یا پایین شدن خط برش در قسمت پهلو پشت شلوار جین  t19 ","(از 0.01 الی 1",{"$f":"K640*E640+L640","v":0.5},"بهینه=0.5",{"$f":"'طراحی همه الگوها'!N224","v":20},"ضریب بالا یا پایین شدن خط برش در قسمت پهلو پشت شلوار جین   ",19,0.45,20,0.5,{"$f":"(J640-H640)/(I640-G640)","v":4.9999999999999989E-2},{"$f":"H640-G640*K640","v":-0.49999999999999972},0.01,{"$f":"(M640-L640)/K640","v":10.199999999999996},1,{"$f":"(O640-L640)/K640","v":30.000000000000004},0.5,{"$f":"(Q640-L640)/K640","v":20}]
["ضریب بالا یا پایین شدن خط برش در قسمت مرکزی پشت شلوار جین  t28 ","(از 0.01 الی 1",{"$f":"K641*E641+L641","v":0.6},"بهینه=0.6",{"$f":"'طراحی همه الگوها'!N225","v":20},"ضریب بالا یا پایین شدن خط برش در قسمت مرکزی پشت شلوار جین   ",19,0.55000000000000004,20,0.6,{"$f":"(J641-H641)/(I641-G641)","v":4.9999999999999933E-2},{"$f":"H641-G641*K641","v":-0.39999999999999869},0.01,{"$f":"(M641-L641)/K641","v":8.1999999999999851},1,{"$f":"(O641-L641)/K641","v":28.000000000000011},0.6,{"$f":"(Q641-L641)/K641","v":20}]
[]
[" متغیرهای ورودی دامن شلواری",null,null,null,null," متغیرهای ورودی دامن شلواری","x1","y1","x2","y2(بهینه)","a","b",null,"کمترین",null,"بیشترین"]
[" ضریب بلند شدن فاق در دامن شلواری   t46 ","(از 0 الی 2)",{"$f":"K644*E644+L644","v":0},"بهینه دامن شلواری=1\nغیر از دامن شلواری = 0",{"$f":"'طراحی همه الگوها'!N228","v":10}," ضریب بلند شدن فاق در دامن شلواری    ",11,0.1,10,0,{"$f":"(J644-H644)/(I644-G644)","v":0.1},{"$f":"H644-G644*K644","v":-1},0,{"$f":"(M644-L644)/K644","v":10},2,{"$f":"(O644-L644)/K644","v":30},1,{"$f":"(Q644-L644)/K644","v":20}]
["زاویه اوزمان در جلو دامن شلواری به درجه    t47 ","(از 0 الی 30)",{"$f":"K645*E645+L645","v":8},"بهینه=8",{"$f":"'طراحی همه الگوها'!N229","v":8},"زاویه اوزمان در جلو دامن شلواری به درجه     ",1,1,0,0,{"$f":"(J645-H645)/(I645-G645)","v":1},{"$f":"H645-G645*K645","v":0},0,{"$f":"(M645-L645)/K645","v":0},30,{"$f":"(O645-L645)/K645","v":30},8,{"$f":"(Q645-L645)/K645","v":8}]
["زاویه اوزمان در پشت دامن شلواری به درجه    t48 ","(از 0 الی 30)",{"$f":"K646*E646+L646","v":8},"بهینه=8",{"$f":"'طراحی همه الگوها'!N230","v":8},"زاویه اوزمان در پشت دامن شلواری به درجه     ",1,1,0,0,{"$f":"(J646-H646)/(I646-G646)","v":1},{"$f":"H646-G646*K646","v":0},0,{"$f":"(M646-L646)/K646","v":0},30,{"$f":"(O646-L646)/K646","v":30},8,{"$f":"(Q646-L646)/K646","v":8}]
[]
[" متغیرهای ورودی شلوار با تکه پهلو جدا",null,null,null,null," متغیرهای ورودی شلوار با تکه پهلو جدا","x1","y1","x2","y2(بهینه)","a","b",null,"کمترین",null,"بیشترین"]
["ضریب پهنای تکه پهلو جلو شلوار  t29 ","(از 0 الی 0.9)",{"$f":"K649*E649+L649","v":0.60000000000000009},"بهینه=0.6",{"$f":"'طراحی همه الگوها'!N233","v":12},"ضریب پهنای تکه پهلو جلو شلوار   ",1,0.05,0,0,{"$f":"(J649-H649)/(I649-G649)","v":0.05},{"$f":"H649-G649*K649","v":0},0,{"$f":"(M649-L649)/K649","v":0},0.9,{"$f":"(O649-L649)/K649","v":18},0.6,{"$f":"(Q649-L649)/K649","v":11.999999999999998}]
["ضریب پهنای تکه پهلو پشت شلوار  t30 ","(از 0 الی 0.9)",0.30000000000000004,"بهینه=0.3",{"$f":"'طراحی همه الگوها'!N234","v":6},"ضریب پهنای تکه پهلو پشت شلوار   ",1,0.05,0,0,0.05,0,0,0,0.9,18,0.3,{"$f":"(Q650-L650)/K650","v":5.9999999999999991}]
["ضریب باریک شدن پایین تکه پهلو جلو شلوار  t31 ","(از 0 الی 4)",0.5,"بهینه=0.5",{"$f":"'طراحی همه الگوها'!N235","v":5},"ضریب باریک شدن پایین تکه پهلو جلو شلوار   ",1,0.1,0,0,0.1,0,0,0,4,40,0.5,{"$f":"(Q651-L651)/K651","v":5}]
["ضریب باریک شدن پایین تکه پهلو پشت شلوار  t32 ","(از 0 الی 4)",0.5,"بهینه=0.5",{"$f":"'طراحی همه الگوها'!N236","v":5},"ضریب باریک شدن پایین تکه پهلو پشت شلوار   ",1,0.1,0,0,0.1,0,0,0,4,40,0.5,{"$f":"(Q652-L652)/K652","v":5}]
["شیفت افقی تکه پهلو شلوار (به سانتیمتر)  t33","(از -100 الی100)",7,"بهینه=3",{"$f":"'طراحی همه الگوها'!N237","v":7},"شیفت افقی تکه پهلو شلوار (سانتیمتر)  ",1,1,0,0,1,0,-100,-100,100,100]
["شیفت عمودی تکه پهلو شلوار (به سانتیمتر)  t34","(از -100 الی100)",0,"بهینه=3",{"$f":"'طراحی همه الگوها'!N238","v":0},"شیفت عمودی تکه پهلو شلوار (سانتیمتر)  ",1,1,0,0,1,0,-100,-100,100,100]
[]
[" متغیرهای ورودی شلوار - رکاب دار",null,null,null,null," متغیرهای ورودی شلوار - رکاب دار","x1","y1","x2","y2(بهینه)","a","b",null,"کمترین",null,"بیشترین"]
["ضریب پهنای رکاب جلو شلوار  t35 ","(از 0.1 الی 2)",{"$f":"K657*E657+L657","v":1},"بهینه=1",{"$f":"'طراحی همه الگوها'!N241","v":20},"ضریب پهنای رکاب جلو شلوار   ",1,0.05,0,0,{"$f":"(J657-H657)/(I657-G657)","v":0.05},{"$f":"H657-G657*K657","v":0},0.1,{"$f":"(M657-L657)/K657","v":2},2,{"$f":"(O657-L657)/K657","v":40},1,{"$f":"(Q657-L657)/K657","v":20}]
["ضریب پهنای رکاب پشت شلوار  t36 ","(از 0.1 الی 2)",1,"بهینه=1",{"$f":"'طراحی همه الگوها'!N242","v":20},"ضریب پهنای رکاب پشت شلوار   ",1,0.05,0,0,0.05,0,0.1,2,2,40,1,20]
["ضریب قله رکاب جلو شلوار  t37 ","(از 0 الی 2)",0,"بهینه=1\nبدون رکاب = 0",{"$f":"'طراحی همه الگوها'!N243","v":0},"ضریب قله رکاب جلو شلوار   ",1,0.05,0,0,0.05,0,0,0,2,40,1,20]
["ضریب قله رکاب پشت شلوار  t38 ","(از 0 الی 2)",0,"بهینه=1\nبدون رکاب = 0",{"$f":"'طراحی همه الگوها'!N244","v":0},"ضریب قله رکاب پشت شلوار   ",1,0.05,0,0,0.05,0,0,0,2,40,1,20]
["ضریب ارتفاع رکاب جلو شلوار  t39 ","(از 0 الی 2)",0,"بهینه=1\nبدون رکاب = 0",{"$f":"'طراحی همه الگوها'!N245","v":0},"ضریب ارتفاع رکاب جلو شلوار   ",1,0.05,0,0,0.05,0,0,0,2,40,1,20]
["ضریب ارتفاع رکاب پشت شلوار  t40 ","(از 0 الی 2)",0,"بهینه=1\nبدون رکاب = 0",{"$f":"'طراحی همه الگوها'!N246","v":0},"ضریب ارتفاع رکاب پشت شلوار   ",1,0.05,0,0,0.05,0,0,0,2,40,1,20]
[]
[" متغیرهای ورودی شلوار - جیب پشت جین",null,null,null,null," متغیرهای ورودی شلوار - جیب پشت جین","x1","y1","x2","y2(بهینه)","a","b",null,"کمترین",null,"بیشترین"]
["ضریب بالا یا پایین شدن جیب پشت شلوار  t22 ","(از 0 الی 4)",{"$f":"K665*E665+L665","v":0.24999999999999956},"بهینه=0.75",{"$f":"'طراحی مدل 16'!H341","v":10},"ضریب بالا یا پایین شدن جیب پشت شلوار   ",19,0.7,20,0.75,{"$f":"(J665-H665)/(I665-G665)","v":5.0000000000000044E-2},{"$f":"H665-G665*K665","v":-0.25000000000000089},0,{"$f":"(M665-L665)/K665","v":5.0000000000000133},4,{"$f":"(O665-L665)/K665","v":84.999999999999943},0.75,{"$f":"(Q665-L665)/K665","v":20}]
["زاویه چرخش کل جیب پشت شلوار به درجه t'22 ","(از -90 الی 90)",-6,"بهینه=0",{"$f":"'طراحی مدل 16'!H339","v":42},"زاویه چرخش کل جیب پشت شلوار به درجه  ",46,2,45,0,2,-90,-90,0,90,90,0,45]
["ضریب پهنای جیب پشت شلوار  t23 ","(از 0 الی 1)",0,"بهینه=0.55",{"$f":"'طراحی مدل 16'!H335","v":0},"ضریب پهنای جیب پشت شلوار   ",1,0.05,0,0,0.05,0,0,0,1,20,0.55000000000000004,11]
["ضریب ارتفاع جیب پشت شلوار  t24 ","(از 0 الی 1)",0,"بهینه=0.45",{"$f":"'طراحی مدل 16'!H336","v":0},"ضریب ارتفاع جیب پشت شلوار   ",1,0.05,0,0,0.05,0,0,0,1,20,0.45,9]
["زاویه خط پهلو جیب پشت شلوار به درجه t25 ","(از 0 الی 45",5,"بهینه=5",{"$f":"'طراحی مدل 16'!H337","v":5},"زاویه خط پهلو جیب پشت شلوار به درجه  ",1,1,0,0,1,0,0,0,45,45,5,5]
["زاویه مثلث پایین جیب پشت شلوار به درجه t26 ","(از 0 الی 45)",20,"بهینه=20",{"$f":"'طراحی مدل 16'!H338","v":20},"زاویه مثلث پایین جیب پشت شلوار به درجه  ",1,1,0,0,1,0,0,0,45,45,20,20]
["چپ و راست رفتن جیب پشت شلوار به سانتی متر   t27 ","(از -100 الی100)",2,"بهینه=0",{"$f":"'طراحی مدل 16'!H340","v":2},"چپ و راست رفتن جیب پشت شلوار به سانتی متر    ",1,1,0,0,1,0,-100,-100,100,100]
[]
[" متغیرهای ورودی شلوار - جیب جلو مردانه و جین",null,null,null,null," متغیرهای ورودی شلوار - جیب جلو مردانه و جین","x1","y1","x2","y2(بهینه)","a","b",null,"کمترین",null,"بیشترین"]
["ضریب بزرگی عمودی جیب جلو مردانه و جیب جین  t16 ","(از 0.5 الی 1.5)",{"$f":"K674*E674+L674","v":1},"بهینه=1",{"$f":"'طراحی همه الگوها'!N258","v":10},"ضریب بزرگی عمودی جیب جلو مردانه و جیب جین   ",1,0.1,0,0,{"$f":"(J674-H674)/(I674-G674)","v":0.1},{"$f":"H674-G674*K674","v":0},0.5,{"$f":"(M674-L674)/K674","v":5},1.5,{"$f":"(O674-L674)/K674","v":15},1,{"$f":"(Q674-L674)/K674","v":10}]
["ضریب بزرگی افقی جیب جلو مردانه و جیب جین  t17 ","(از 0.5 الی 1.5)",{"$f":"K675*E675+L675","v":1},"بهینه=1",{"$f":"'طراحی همه الگوها'!N259","v":10},"ضریب بزرگی افقی جیب جلو مردانه و جیب جین   ",1,0.1,0,0,{"$f":"(J675-H675)/(I675-G675)","v":0.1},{"$f":"H675-G675*K675","v":0},0.5,{"$f":"(M675-L675)/K675","v":5},1.5,{"$f":"(O675-L675)/K675","v":15},1,{"$f":"(Q675-L675)/K675","v":10}]
["ضریب بزرگی کیسه جیب جلو  t18 ","(از 0.5 الی 1.5)",{"$f":"K676*E676+L676","v":1},"بهینه=1",{"$f":"'طراحی همه الگوها'!N260","v":10},"ضریب بزرگی کیسه جیب جلو   ",1,0.1,0,0,{"$f":"(J676-H676)/(I676-G676)","v":0.1},{"$f":"H676-G676*K676","v":0},0.5,{"$f":"(M676-L676)/K676","v":5},1.5,{"$f":"(O676-L676)/K676","v":15},1,{"$f":"(Q676-L676)/K676","v":10}]
[]
[" متغیرهای ورودی شلوار - جیب جلو درمکان دلخواه",null,null,null,null," متغیرهای ورودی شلوار - جیب جلو درمکان دلخواه","x1","y1","x2","y2(بهینه)","a","b",null,"کمترین",null,"بیشترین"]
["ضریب فاصله افقی وسط جیب از خط مرکزی جلو ","(از 0 الی 1)",{"$f":"K679*E679+L679","v":0.5},"خط مرکزی جلو=0 \nخط پهلو=1  ",{"$f":"'طراحی همه الگوها'!N268","v":10},"ضریب فاصله افقی وسط جیب از خط مرکزی جلو ",20,1,0,0,{"$f":"(J679-H679)/(I679-G679)","v":0.05},{"$f":"H679-G679*K679","v":0},0,{"$f":"(M679-L679)/K679","v":0},1,{"$f":"(O679-L679)/K679","v":20},1,{"$f":"(Q679-L679)/K679","v":20}]
["ضریب فاصله عمودی بالای جیب از زمین ","(از0 الی 5)",2,"خط زمین=0 \nخط زانو=1 \nخط باسن=2 \nخط کمر=3 \nخط سینه=4  ",{"$f":"'طراحی همه الگوها'!N269","v":50},"ضریب فاصله عمودی بالای جیب از زمین ",10,0,30,1,0.05,-0.5,0,10,5,110,1,30]
["عرض پاکت جیب به سانتیمتر","(از 0 الی 4)",2,"بهینه=2",{"$f":"'طراحی همه الگوها'!N263","v":2},"پهنای بلیطی جیب  (سانتیمتر)",1,1,0,0,1,0,0,0,4,4,2,2]
["ضریب طول پاکت جیب","(از 0.01 الی 2)",0.89999999999999991,"بهینه=1",{"$f":"'طراحی همه الگوها'!N264","v":18},"ضریب طول پاکت جیب",19,0.95,20,1,5.0000000000000044E-2,-8.8817841970012523E-16,0.01,0.20000000000001758,2,39.999999999999986,1,20]
["زاویه جیب با عمود به درجه","(از 0 الی 180)",90,"بهینه=دلخواه",{"$f":"'طراحی همه الگوها'!N265","v":18},"زاویه جیب با عمود ",1,5,0,0,5,0,0,0,180,36,20,4]
["زاویه چرخش پاکت جیب از مستطیل به متوازی الاضلاع (به درجه)","(از -90 الی 90)",0,"پاکت مستطیل=0  ",{"$f":"'طراحی همه الگوها'!N266","v":20},"زاویه چرخش پاکت جیب از مستطیل به متوازی الاضلاع ",21,5,20,0,5,-100,-90,2,90,38,0,20]
["انتخاب جیب روکار=1        انتخاب دیگر=0","0 یا 1 ",1,null,{"$f":"'طراحی همه الگوها'!N267","v":2},"انتخاب جیب روکار=2        انتخاب دیگر=1",1,0,2,1,1,-1,0,1,1,2,0,1]
[]
[" متغیرهای ورودی شلوار - جیب پشت درمکان دلخواه",null,null,null,null," متغیرهای ورودی شلوار - جیب پشت درمکان دلخواه","x1","y1","x2","y2(بهینه)","a","b",null,"کمترین",null,"بیشترین"]
["ضریب فاصله افقی وسط جیب از خط مرکزی جلو ","(از 0 الی 1)",{"$f":"K688*E688+L688","v":0.45},"خط مرکزی پشت=0 \nخط پهلو=1  ",{"$f":"'طراحی مدل 16'!H349","v":9},"ضریب فاصله افقی وسط جیب از خط مرکزی جلو ",20,1,0,0,{"$f":"(J688-H688)/(I688-G688)","v":0.05},{"$f":"H688-G688*K688","v":0},0,{"$f":"(M688-L688)/K688","v":0},1,{"$f":"(O688-L688)/K688","v":20},1,{"$f":"(Q688-L688)/K688","v":20}]
["ضریب فاصله عمودی بالای جیب از زمین ","(از0 الی 5)",2.35,"خط زمین=0 \nخط زانو=1 \nخط باسن=2 \nخط کمر=3 \nخط سینه=4  ",{"$f":"'طراحی مدل 16'!H350","v":57},"ضریب فاصله عمودی بالای جیب از زمین ",10,0,30,1,0.05,-0.5,0,10,5,110,1,30]
["عرض پاکت جیب به سانتیمتر","(از 0 الی 4)",0,"بهینه=2",{"$f":"'طراحی مدل 16'!H344","v":0},"پهنای بلیطی جیب  (سانتیمتر)",1,1,0,0,1,0,0,0,4,4,2,2]
["ضریب طول پاکت جیب","(از 0.01 الی 2)",0.89999999999999991,"بهینه=1",{"$f":"'طراحی مدل 16'!H345","v":18},"ضریب طول پاکت جیب",19,0.95,20,1,5.0000000000000044E-2,-8.8817841970012523E-16,0.01,0.20000000000001758,2,39.999999999999986,1,20]
["زاویه جیب با عمود به درجه","(از 0 الی 180)",90,"بهینه=دلخواه",{"$f":"'طراحی مدل 16'!H346","v":18},"زاویه جیب با عمود ",1,5,0,0,5,0,0,0,180,36,20,4]
["زاویه چرخش پاکت جیب از مستطیل به متوازی الاضلاع (به درجه)","(از -90 الی 90)",0,"پاکت مستطیل=0  ",{"$f":"'طراحی مدل 16'!H347","v":20},"زاویه چرخش پاکت جیب از مستطیل به متوازی الاضلاع ",21,5,20,0,5,-100,-90,2,90,38,0,20]
["انتخاب جیب روکار=1        انتخاب دیگر=0","0 یا 1 ",1,null,{"$f":"'طراحی مدل 16'!H348","v":2},"انتخاب جیب روکار=2        انتخاب دیگر=1",1,0,2,1,1,-1,0,1,1,2,0,1]
["متغیرهای ورودی یقه",null,null,null,null,"متغیرهای ورودی یقه"]
[null,null,"y",null,"x",null,"x1","y1","x2","y2(بهینه)","a","b",null,"کمترین",null,"بیشترین"]
[" متغیرهای ورودی یقه شکاری با پایه",null,null,null,null," متغیرهای ورودی یقه شکاری با پایه"]
["ضریب قد پایه یقه   c20","(از 0.5 الی 2)",{"$f":"K698*E698+L698","v":0.8},"بهینه =0.8",{"$f":"'طراحی همه الگوها'!H206","v":8},"ضریب قد پایه یقه   ",1,0.1,0,0,{"$f":"(J698-H698)/(I698-G698)","v":0.1},{"$f":"H698-G698*K698","v":0},0.5,{"$f":"(M698-L698)/K698","v":5},2,{"$f":"(O698-L698)/K698","v":20},0.8,{"$f":"(Q698-L698)/K698","v":8}]
["ضریب قد پشت برگردان یقه   c1","(از 0.5 الی 3)",2.2000000000000002,"بهینه =2",{"$f":"'طراحی همه الگوها'!H207","v":22},"ضریب قد پشت برگردان یقه   ",1,0.1,0,0,0.1,0,0.5,5,3,30,2,20]
["ضریب کج شدن یقه به سمت گردن   c2","(از- 2 الی 0)",-1.3,"بهینه = - 1.3",{"$f":"'طراحی همه الگوها'!H208","v":-13},"ضریب کج شدن یقه به سمت گردن   ",1,0.1,0,0,0.1,0,-2,-20,0,0,-1.3,-13]
["ضریب قرار گرفتن لبه یقه نسبت به لباس   c3","(از 0.3 الی 1)\n- 1 و ",1,"لبه یقه روی خط جادکمه= - 1\nلبه یقه روی خط سرشانه=0\nلبه یقه روی خط مرکزی جلو=1\nبین خط مرکزی جلو تا سرشانه= \nبین 0 تا 1",{"$f":"IF('طراحی همه الگوها'!H209='متغیرها '!AM170,58,IF('طراحی همه الگوها'!H209='متغیرها '!AM171,0,'طراحی همه الگوها'!H209))","v":0},"ضریب قرار گرفتن لبه یقه نسبت به لباس   ",58,-1,0,1,-3.4482758620689655E-2,1,0.3,20.3,1,0,0.3,20.3]
["زاویه لبه برگردان یقه نسبت به عمود  (به درجه)   c14","(از- 40 الی 60)",20,"بهینه =17 \nلبه برگردان عمود به پایه=0",{"$f":"'طراحی همه الگوها'!H210","v":60},"زاویه لبه برگردان یقه نسبت به عمود    ",1,-39,57,17,1,-40,-40,0,60,100,17,57]
["ضریب قد لبه برگردان یقه   c15","(از0.5 الی 4)",2.6,"بهینه =2.3",{"$f":"'طراحی همه الگوها'!H211","v":26},"ضریب قد لبه برگردان یقه   ",1,0.1,0,0,0.1,0,0.5,5,4,40,2.2999999999999998,22.999999999999996]
["شیفت افقی پایه یقه  (به سانتیمتر)   c23","(از -100 الی100)",0,"بهینه=دلخواه",{"$f":"'طراحی همه الگوها'!H212","v":0},"شیفت افقی پایه یقه  (سانتیمتر)   ",1,1,0,0,1,0,null,1,null,100,0]
["شیفت عمودی پایه یقه  (به سانتیمتر)  c24","(از -100 الی100)",-5,"بهینه=دلخواه",{"$f":"'طراحی همه الگوها'!H213","v":-5},"شیفت عمودی پایه یقه  (سانتیمتر)  ",1,1,0,0,1,0,null,1,null,100,0]
[]
[" متغیرهای ورودی یقه فرنچی ایستاده و کاسبرگی",null,null,null,null," متغیرهای ورودی یقه فرنچی ایستاده و کاسبرگی","x1","y1","x2","y2(بهینه)","a","b",null,"کمترین",null,"بیشترین"]
["ضریب قد یقه    c1","(از 0.5 الی 2)",{"$f":"K708*E708+L708","v":1.2000000000000002},"بهینه فرنچی=1.2\nبهینه ایستاده=1.4\nبهینه کاسبرگی=1.8",{"$f":"'طراحی همه الگوها'!H188","v":12},"ضریب قد یقه    ",1,0.1,0,0,{"$f":"(J708-H708)/(I708-G708)","v":0.1},{"$f":"H708-G708*K708","v":0},0.5,{"$f":"(M708-L708)/K708","v":5},2,{"$f":"(O708-L708)/K708","v":20},1.4,{"$f":"(Q708-L708)/K708","v":13.999999999999998}]
["ضریب کج شدن یقه به سمت گردن   c2","(از -2 الی 2)",{"$f":"K709*E709+L709","v":1},"بهینه فرنچی=1.5\nبهینه ایستاده=0\nبهینه کاسبرگی= - 1\nیقه فرنچی= + \nیقه کاسبرگی= -   ",{"$f":"'طراحی همه الگوها'!H189","v":10},"ضریب کج شدن یقه به سمت گردن  ",1,0.1,0,0,{"$f":"(J709-H709)/(I709-G709)","v":0.1},{"$f":"H709-G709*K709","v":0},-2,{"$f":"(M709-L709)/K709","v":-20},2,{"$f":"(O709-L709)/K709","v":20},-1,{"$f":"(Q709-L709)/K709","v":-10}]
["ضریب قرار گرفتن لبه یقه نسبت به لباس   c3     یقه هفت","(از 0.2 الی 1)\n- 1 و ",{"$f":"K710*E710+L710","v":0.5862068965517242},"لبه یقه روی خط جادکمه= - 1\nلبه یقه روی خط سرشانه=0\nلبه یقه روی خط مرکزی جلو=1\nبین خط مرکزی جلو تا سرشانه= \nبین 0 تا 1\nبهینه یقه هفت=0.2",{"$f":"IF('طراحی همه الگوها'!H190='متغیرها '!AM170,58,IF('طراحی همه الگوها'!H190='متغیرها '!AM171,0,'طراحی همه الگوها'!H190))","v":12},"ضریب قرار گرفتن لبه یقه نسبت به لباس        ",58,-1,0,1,{"$f":"(J710-H710)/(I710-G710)","v":-3.4482758620689655E-2},{"$f":"H710-G710*K710","v":1},0.2,{"$f":"(M710-L710)/K710","v":23.200000000000003},1,{"$f":"(O710-L710)/K710","v":0},-1,{"$f":"(Q710-L710)/K710","v":58}]
["ضریب انحنا لبه یقه  c4","(از 0.2 الی 1.2)",{"$f":"K711*E711+L711","v":0.89999999999999991},"بهینه انحنا=0.9",{"$f":"'طراحی همه الگوها'!H191","v":20},"ضریب انحنا لبه یقه  ",5,0.2,20,0.9,{"$f":"(J711-H711)/(I711-G711)","v":4.6666666666666662E-2},{"$f":"H711-G711*K711","v":-3.3333333333333298E-2},0.2,{"$f":"(M711-L711)/K711","v":5},1.2,{"$f":"(O711-L711)/K711","v":26.428571428571427},0.01,{"$f":"(Q711-L711)/K711","v":0.92857142857142794}]
[]
[" متغیرهای ورودی شیفت افقی یقه",null,null,null,null," متغیرهای ورودی شیفت افقی یقه"]
["شیفت افقی همه یقه های جدا  (به سانتیمتر)   c5","(از -100 الی100)",{"$f":"K714*E714+L714","v":0},"بهینه=دلخواه",{"$f":"'طراحی همه الگوها'!H177","v":0},"شیفت افقی همه یقه های جدا  (سانتیمتر)   ",1,1,0,0,{"$f":"(J714-H714)/(I714-G714)","v":1},{"$f":"H714-G714*K714","v":0},null,1,null,100,0]
["شیفت عمودی همه یقه های جدا  (به سانتیمتر)  c6","(از -100 الی100)",{"$f":"K715*E715+L715","v":30},"بهینه=دلخواه",{"$f":"'طراحی همه الگوها'!H178","v":30},"شیفت عمودی همه یقه های جدا  (سانتیمتر)  ",1,1,0,0,{"$f":"(J715-H715)/(I715-G715)","v":1},{"$f":"H715-G715*K715","v":0},null,1,null,100,0]
[]
[" متغیرهای ورودی کلاه کلی",null,null,null,null," متغیرهای ورودی کلاه کلی","x1","y1","x2","y2(بهینه)","a","b",null,"کمترین",null,"بیشترین"]
["ضریب بزرگ یا کوچک شدن کلاه","(از -0.2 الی 0.2)",{"$f":"K718*E718+L718","v":0},"بدون تغییر = 0\nکلاه بزرگتر = + \nکلاه کوچکتر =  -  ",{"$f":"'طراحی همه الگوها'!H225","v":0},"ضریب بزرگ یا کوچک شدن کلاه",1,0.01,0,0,{"$f":"(J718-H718)/(I718-G718)","v":0.01},{"$f":"H718-G718*K718","v":0},-0.2,{"$f":"(M718-L718)/K718","v":-20},0.2,{"$f":"(O718-L718)/K718","v":20},0,{"$f":"(Q718-L718)/K718","v":0}]
["انتخاب کلاه برای موهای دم اسبی که از پشت بسته شود =1      انتخاب دیگر=0","0 یا 1 ",0,null,{"$f":"'طراحی همه الگوها'!H226","v":1},"انتخاب کلاه ملوانی برای موهای دم اسبی که از پشت بسته شود ",1,0,2,1,1,-1,0,1,1,2,1,2]
["ضریب پهنای بلیطی جلو کلاه","(از 0  الی 0.8)",0,"بهینه=0.4",{"$f":"'طراحی همه الگوها'!H227","v":0},"ضریب پهنای بلیطی جلو کلاه",1,0.05,0,0,0.05,0,0,0,0.8,16,0.4,8]
["ضریب بلندی بلیطی جلو کلاه","(از 0 الی 1.6)",0,"بهینه=0.7",{"$f":"'طراحی همه الگوها'!H228","v":0},"ضریب بلندی بلیطی جلو کلاه",1,0.05,0,0,0.05,0,0,0,1.6,32,0.7,13.999999999999998]
["ضریب بلندی انحنا جلو کلاه","(از 0  الی 1)",0.2,"بهینه=0.2",{"$f":"'طراحی همه الگوها'!H229","v":4},"ضریب بلندی انحنا جلو کلاه",1,0.05,0,0,0.05,0,0,0,1,20,0.2,4]
["ضریب پهنای انحنا روی صورت","(از 0  الی 1)",0.4,"بهینه=0.4",{"$f":"'طراحی همه الگوها'!H230","v":8},"ضریب پهنای انحنا روی صورت",1,0.05,0,0,0.05,0,0,0,1,20,0.4,8]
["ضریب پهنای انحنا بالای پیشانی","(از 0 الی 1)",0.30000000000000004,"بهینه=0.3",{"$f":"'طراحی همه الگوها'!H231","v":6},"ضریب پهنای انحنا بالای پیشانی",1,0.05,0,0,{"$f":"(J724-H724)/(I724-G724)","v":0.05},{"$f":"H724-G724*K724","v":0},0,0,1,20,0.3,5.9999999999999991]
[]
[" متغیرهای ورودی شیفت افقی کلاه",null,null,null,null," متغیرهای ورودی شیفت افقی کلاه","x1","y1","x2","y2(بهینه)","a","b",null,"کمترین",null,"بیشترین"]
["شیفت افقی کلاه  (به سانتیمتر)","(از -100 الی100)",{"$f":"K727*E727+L727","v":-30},"بهینه=دلخواه",{"$f":"'طراحی همه الگوها'!H220","v":-30},"شیفت افقی کلاه  (سانتیمتر)",1,1,0,0,{"$f":"(J727-H727)/(I727-G727)","v":1},{"$f":"H727-G727*K727","v":0},null,1,null,100,0]
["شیفت عمودی کلاه (به سانتیمتر)","(از -100 الی100)",{"$f":"K728*E728+L728","v":20},"بهینه=دلخواه",{"$f":"'طراحی همه الگوها'!H221","v":20},"شیفت عمودی کلاه (سانتیمتر)",1,1,0,0,{"$f":"(J728-H728)/(I728-G728)","v":1},{"$f":"H728-G728*K728","v":0},null,1,null,100,0]
["جابجایی افقی تکه پشت سر در کلاه سه تکه  (سانتیمتر)","(از -20 الی20)",{"$f":"K729*E729+L729","v":3},"بهینه=دلخواه",{"$f":"'طراحی همه الگوها'!H222","v":3},"جابجایی افقی تکه پشت سر در کلاه سه تکه  (سانتیمتر)",1,1,0,0,{"$f":"(J729-H729)/(I729-G729)","v":1},{"$f":"H729-G729*K729","v":0},null,1,null,100,0]
[]
[" متغیرهای ورودی کلاه متصل به یقه مربعی",null,null,null,null," متغیرهای ورودی کلاه متصل به یقه مربعی","x1","y1","x2","y2(بهینه)","a","b",null,"کمترین",null,"بیشترین"]
["ضریب جلو یقه روی خط مرکزی","(از 0.1 الی 0.45)",{"$f":"K732*E732+L732","v":0.3},"بهینه=0.3",{"$f":"'طراحی همه الگوها'!H234","v":30},"ضریب جلو یقه روی خط مرکزی",1,0.01,0,0,{"$f":"(J732-H732)/(I732-G732)","v":0.01},{"$f":"H732-G732*K732","v":0},0.1,{"$f":"(M732-L732)/K732","v":10},0.45,{"$f":"(O732-L732)/K732","v":45},0.3,{"$f":"(Q732-L732)/K732","v":30}]
["ضریب نصف جلو کارور","(از 0.2 الی 0.55)",{"$f":"K733*E733+L733","v":0.48},"بهینه=0.48",{"$f":"'طراحی همه الگوها'!H235","v":48},"ضریب نصف جلو کارور",1,0.01,0,0,{"$f":"(J733-H733)/(I733-G733)","v":0.01},{"$f":"H733-G733*K733","v":0},0.2,{"$f":"(M733-L733)/K733","v":20},0.55000000000000004,{"$f":"(O733-L733)/K733","v":55},0.48,{"$f":"(Q733-L733)/K733","v":48}]
[]
[" متغیرهای ورودی کلاه ملوانی",null,null,null,null," متغیرهای ورودی کلاه ملوانی","x1","y1","x2","y2(بهینه)","a","b",null,"کمترین",null,"بیشترین"]
["  باز شدن یقه هفت γ1   تعیین شده در یقه انگلیسی لباس","(از 0.6 الی 0.99)",{"$f":"C165","v":0.7}]
["ضریب جلو یقه روی خط مرکزی","(از 0.4 الی 0.99)",{"$f":"K737*E737+L737","v":0.60000000000000009},null,{"$f":"'طراحی همه الگوها'!H238","v":12},"ضریب جلو یقه روی خط مرکزی",1,0.05,0,0,{"$f":"(J737-H737)/(I737-G737)","v":0.05},{"$f":"H737-G737*K737","v":0},0.4,{"$f":"(M737-L737)/K737","v":8},0.99,{"$f":"(O737-L737)/K737","v":19.799999999999997},0.5,{"$f":"(Q737-L737)/K737","v":10}]
["ضریب نصف جلو کارور","(از 0.01 الی 0.1)",{"$f":"K738*E738+L738","v":0.02},null,{"$f":"'طراحی همه الگوها'!H239","v":4},"ضریب نصف جلو کارور",1,5.0000000000000001E-3,0,0,{"$f":"(J738-H738)/(I738-G738)","v":5.0000000000000001E-3},{"$f":"H738-G738*K738","v":0},0.01,{"$f":"(M738-L738)/K738","v":2},0.1,{"$f":"(O738-L738)/K738","v":20},0.02,{"$f":"(Q738-L738)/K738","v":4}]
[]
[" متغیرهای ورودی یقه شکاری ",null,null,null,null," متغیرهای ورودی یقه شکاری ","x1","y1","x2","y2(بهینه)","a","b",null,"کمترین",null,"بیشترین"]
["ضریب قد پشت یقه   c1","(از 0.5 الی 3)",{"$f":"K741*E741+L741","v":2.2000000000000002},"بهینه =2",{"$f":"'طراحی همه الگوها'!H181","v":22},"ضریب قد پشت یقه   ",1,0.1,0,0,{"$f":"(J741-H741)/(I741-G741)","v":0.1},{"$f":"H741-G741*K741","v":0},0.5,{"$f":"(M741-L741)/K741","v":5},3,{"$f":"(O741-L741)/K741","v":30},2,{"$f":"(Q741-L741)/K741","v":20}]
["ضریب کج شدن  یقه به سمت گردن   c2","(از- 2 الی 0)",{"$f":"K742*E742+L742","v":-0.8},"بهینه = - 0.8",{"$f":"'طراحی همه الگوها'!H182","v":-8},"ضریب کج شدن  یقه به سمت گردن   ",1,0.1,0,0,{"$f":"(J742-H742)/(I742-G742)","v":0.1},{"$f":"H742-G742*K742","v":0},-2,{"$f":"(M742-L742)/K742","v":-20},0,{"$f":"(O742-L742)/K742","v":0},-0.8,{"$f":"(Q742-L742)/K742","v":-8}]
["ضریب قرار گرفتن لبه یقه نسبت به لباس   c3","(از 0.3 الی 1)\n- 1 و ",{"$f":"K743*E743+L743","v":1},"لبه یقه روی خط جادکمه= - 1\nلبه یقه روی خط سرشانه=0\nلبه یقه روی خط مرکزی جلو=1\nبین خط مرکزی جلو تا سرشانه= \nبین 0 تا 1",{"$f":"IF('طراحی همه الگوها'!H183='متغیرها '!AM170,58,IF('طراحی همه الگوها'!H183='متغیرها '!AM171,0,'طراحی همه الگوها'!H183))","v":0},"ضریب قرار گرفتن لبه یقه نسبت به لباس   ",58,-1,0,1,{"$f":"(J743-H743)/(I743-G743)","v":-3.4482758620689655E-2},{"$f":"H743-G743*K743","v":1},0.3,{"$f":"(M743-L743)/K743","v":20.3},1,{"$f":"(O743-L743)/K743","v":0},-1,{"$f":"(Q743-L743)/K743","v":58}]
["زاویه لبه برگردان یقه نسبت به عمود  (به درجه)   c14","(از- 40 الی 60)",{"$f":"K744*E744+L744","v":15},"بهینه =17 \nلبه برگردان عمود به پایه=0",{"$f":"'طراحی همه الگوها'!H184","v":55},"زاویه لبه برگردان یقه نسبت به عمود     ",1,-39,57,17,{"$f":"(J744-H744)/(I744-G744)","v":1},{"$f":"H744-G744*K744","v":-40},-40,{"$f":"(M744-L744)/K744","v":0},60,{"$f":"(O744-L744)/K744","v":100},17,{"$f":"(Q744-L744)/K744","v":57}]
["ضریب قد لبه برگردان یقه   c15","(از0.5 الی 4)",{"$f":"K745*E745+L745","v":2.6},"بهینه =2.3",{"$f":"'طراحی همه الگوها'!H185","v":26},"ضریب قد لبه برگردان یقه   ",1,0.1,0,0,{"$f":"(J745-H745)/(I745-G745)","v":0.1},{"$f":"H745-G745*K745","v":0},0.5,{"$f":"(M745-L745)/K745","v":5},4,{"$f":"(O745-L745)/K745","v":40},2.2999999999999998,{"$f":"(Q745-L745)/K745","v":22.999999999999996}]
[]
[" متغیرهای ورودی یقه شومیزیه ",null,null,null,null," متغیرهای ورودی یقه شومیزیه ","x1","y1","x2","y2(بهینه)","a","b",null,"کمترین",null,"بیشترین"]
["ضریب قد پایه یقه   c1","(از 0.5 الی 2)",{"$f":"K748*E748+L748","v":0.9},"بهینه =1.5",{"$f":"'طراحی همه الگوها'!H194","v":9},"ضریب قد پایه یقه   ",1,0.1,0,0,{"$f":"(J748-H748)/(I748-G748)","v":0.1},{"$f":"H748-G748*K748","v":0},0.5,{"$f":"(M748-L748)/K748","v":5},2,{"$f":"(O748-L748)/K748","v":20},1.5,{"$f":"(Q748-L748)/K748","v":15}]
["ضریب کج شدن پایه یقه به سمت گردن   c2","پایه جدا :\n(از0.1 الی 2)\nپایه سرخود :\n(از 0 الی -1 )",0.5,"بهینه پایه جدا =0.5 \nبهینه پایه سرخود= - 0.4",{"$f":"'طراحی همه الگوها'!H195","v":5},"ضریب کج شدن پایه یقه به سمت گردن   ",1,0.1,0,0,{"$f":"(J749-H749)/(I749-G749)","v":0.1},{"$f":"H749-G749*K749","v":0},-1,-10,2,20,-0.4,-4]
["ضریب قرار گرفتن لبه پایه یقه نسبت به لباس   c3","(از 0.3 الی 1)\n- 1 و ",-1,"لبه یقه روی خط جادکمه= - 1\nلبه یقه روی خط سرشانه=0\nلبه یقه روی خط مرکزی جلو=1\nبین خط مرکزی جلو تا سرشانه= \nبین 0 تا 1",{"$f":"IF('طراحی همه الگوها'!H196='متغیرها '!AM170,58,IF('طراحی همه الگوها'!H196='متغیرها '!AM171,0,'طراحی همه الگوها'!H196))","v":58},"ضریب قرار گرفتن لبه پایه یقه نسبت به لباس   ",58,-1,0,1,{"$f":"(J750-H750)/(I750-G750)","v":-3.4482758620689655E-2},{"$f":"H750-G750*K750","v":1},0.3,20.3,1,0,1,0]
["ضریب انحنا لبه پایه یقه  c4","(از 0.2 الی 1.2)",0.89999999999999991,"بهینه انحنا=0.9",{"$f":"'طراحی همه الگوها'!H197","v":20},"ضریب انحنا لبه پایه یقه  ",5,0.2,20,0.9,{"$f":"(J751-H751)/(I751-G751)","v":4.6666666666666662E-2},{"$f":"H751-G751*K751","v":-3.3333333333333298E-2},0.2,5,1.2,26.428571428571427,0.9,20.000000000000004]
["ضریب قد پشت برگردان یقه   c1","(از 0.5 الی 3)",2.1,"بهینه =2.1",{"$f":"'طراحی همه الگوها'!H198","v":21},"ضریب قد پشت برگردان یقه   ",1,0.1,0,0,{"$f":"(J752-H752)/(I752-G752)","v":0.1},{"$f":"H752-G752*K752","v":0},0.5,5,3,30,2.1,21]
["ضریب کج شدن برگردان یقه به سمت گردن   c2","پایه جدا :\n(از - 0.1 الی -2 )\nپایه سرخود :\n(از 0 الی  -1  )",-0.70000000000000007,"بهینه پایه جدا =  - 0.7 \nبهینه پایه سرخود= - 0.4",{"$f":"'طراحی همه الگوها'!H199","v":-7},"ضریب کج شدن برگردان یقه به سمت گردن   ",1,0.1,0,0,0.1,0,-2,-20,0,0,-0.7,-6.9999999999999991]
["زاویه لبه برگردان یقه نسبت به عمود  (به درجه)   c14","(از- 40 الی 60)",5,"بهینه =5 \nلبه برگردان عمود به پایه=0",{"$f":"'طراحی همه الگوها'!H200","v":45},"زاویه لبه برگردان یقه نسبت به عمود    ",1,-39,57,17,1,-40,-40,0,60,100,5,45]
["ضریب قد لبه برگردان یقه   c15","(از0.5 الی 4)",2,"بهینه =2",{"$f":"'طراحی همه الگوها'!H201","v":20},"ضریب قد لبه برگردان یقه   ",1,0.1,0,0,0.1,0,0.5,5,4,40,2,20]
["شیفت افقی برگردان یقه  (به سانتیمتر)   c16","(از -100 الی100)",0,"بهینه=دلخواه",{"$f":"'طراحی همه الگوها'!H202","v":0},"شیفت افقی برگردان یقه  (سانتیمتر)   ",1,1,0,0,1,0,null,1,null,100,0]
["شیفت عمودی برگردان یقه  (به سانتیمتر)  c17","(از -100 الی100)",40,"بهینه=دلخواه",{"$f":"'طراحی همه الگوها'!H203","v":40},"شیفت عمودی برگردان یقه  (سانتیمتر)  ",1,1,0,0,1,0,null,1,null,100,0]
[]
[" متغیرهای ورودی یقه ب ب مثلثی و گرد",null,null,null,null," متغیرهای ورودی یقه ب ب مثلثی و گرد","x1","y1","x2","y2(بهینه)","a","b",null,"کمترین",null,"بیشترین"]
["زاویه جلو یقه ب ب مثلثی","(از 0 الی 50)",{"$f":"K760*E760+L760","v":25},"بهینه=25",{"$f":"'طراحی همه الگوها'!H216","v":25},"زاویه جلو یقه ب ب مثلثی",19,19,20,20,{"$f":"(J760-H760)/(I760-G760)","v":1},{"$f":"H760-G760*K760","v":0},0,{"$f":"(M760-L760)/K760","v":0},50,{"$f":"(O760-L760)/K760","v":50},25,{"$f":"(Q760-L760)/K760","v":25}]
["ضریب پهنای یقه ب ب مثلثی و گرد ","(از 0.3 الی 1)",{"$f":"K761*E761+L761","v":0.6},"بهینه=0.5",{"$f":"'طراحی همه الگوها'!H217","v":25},"ضریب پهنای یقه ب ب مثلثی و گرد ",10,0.3,20,0.5,{"$f":"(J761-H761)/(I761-G761)","v":0.02},{"$f":"H761-G761*K761","v":9.9999999999999978E-2},0.3,{"$f":"(M761-L761)/K761","v":10},1,{"$f":"(O761-L761)/K761","v":45},0.5,{"$f":"(Q761-L761)/K761","v":20}]
[]
[]
["متغیرهای ورودی دامن",null,null,null,null,"متغیرهای ورودی یقه"]
[null,null,"y",null,"x",null,"x1","y1","x2","y2(بهینه)","a","b",null,"کمترین",null,"بیشترین"]
[" متغیرهای ورودی زیپ و چاک دامن",null,null,null,null," متغیرهای ورودی یقه شکاری با پایه"]
["عرض (پهنا) زیپ در خط پهلو  (سانتیمتر)   ","(از 0 الی 10)",{"$f":"K767*E767+L767","v":0},"بهینه =3",{"$f":"'طراحی مدل 16'!E319","v":0},"ضریب قد پایه یقه   ",1,1,0,0,{"$f":"(J767-H767)/(I767-G767)","v":1},{"$f":"H767-G767*K767","v":0},0,{"$f":"(M767-L767)/K767","v":0},10,{"$f":"(O767-L767)/K767","v":10},3,{"$f":"(Q767-L767)/K767","v":3}]
["ضریب طول (بلندی) زیپ در خط پهلو  ","(از 0 الی 20)",0,"بهینه =16",{"$f":"'طراحی مدل 16'!E320","v":0},"ضریب قد پشت برگردان یقه   ",1,1,0,0,1,0,0,0,20,20,16,16]
["عرض (پهنا) زیپ در خط مرکزی پشت  (سانتیمتر)   ","(از 0 الی 10)",0,"بهینه =3",{"$f":"'طراحی مدل 16'!E321","v":0},"ضریب کج شدن یقه به سمت گردن   ",1,1,0,0,1,0,0,0,10,10,3,3]
["ضریب طول (بلندی) زیپ در خط مرکزی پشت  ","(از 0 الی 20)",0,"بهینه =16",{"$f":"'طراحی مدل 16'!E322","v":0},"ضریب قرار گرفتن لبه یقه نسبت به لباس   ",1,1,0,0,1,0,0,0,20,20,16,16]
["عرض (پهنا) چاک در خط مرکزی پشت  (سانتیمتر)   ","(از 0 الی 10)",0,"بهینه =4",{"$f":"'طراحی مدل 16'!E323","v":0},"زاویه لبه برگردان یقه نسبت به عمود    ",1,1,0,0,1,0,0,0,10,10,4,4]
["ضریب طول (بلندی) چاک در خط مرکزی پشت  ","(از 0 الی 20)",0,"بهینه =16",{"$f":"'طراحی مدل 16'!E324","v":0},"ضریب قد لبه برگردان یقه   ",1,1,0,0,1,0,0,0,20,20,16,16]
[]
[" پیلی ها  (متقارن یا نامتقارن در جلو دامن)",null,null,null,null," پیلی ها  (متقارن یا نامتقارن در جلو دامن)"]
[" عرض پیلی 2 (بعد از دوخت) - جلو  (سانتیمتر)     ","(از 0 الی 10)",{"$f":"K775*E775+L775","v":0},"بهینه =3",{"$f":"'طراحی همه الگوها'!E384","v":0}," عرض پیلی 2 (بعد از دوخت) - جلو  (سانتیمتر)     ",1,1,0,0,{"$f":"(J775-H775)/(I775-G775)","v":1},{"$f":"H775-G775*K775","v":0},0,{"$f":"(M775-L775)/K775","v":0},10,{"$f":"(O775-L775)/K775","v":10},3,{"$f":"(Q775-L775)/K775","v":3}]
[" عرض پیلی 3 (بعد از دوخت) - جلو  (سانتیمتر)   ","(از 0 الی 10)",0,"بهینه =3",{"$f":"'طراحی همه الگوها'!E385","v":0}," عرض پیلی 3 (بعد از دوخت) - جلو  (سانتیمتر)   ",1,1,0,0,1,0,0,0,20,20,16,16]
[" عرض پیلی 4 (بعد از دوخت) - جلو   (سانتیمتر)   ","(از 0 الی 10)",0,"بهینه =3",{"$f":"'طراحی همه الگوها'!E386","v":0}," عرض پیلی 4 (بعد از دوخت) - جلو   (سانتیمتر)   ",1,1,0,0,1,0,0,0,10,10,3,3]
[" عرض پیلی 5 (بعد از دوخت) - روی خط مرکزی جلو  (سانتیمتر)    ","(از 0 الی 10)",0,"بهینه =3",{"$f":"'طراحی همه الگوها'!E387","v":0}," عرض پیلی 5 (بعد از دوخت) - روی خط مرکزی جلو  (سانتیمتر)    ",1,1,0,0,1,0,0,0,20,20,16,16]
[" عرض پیلی 6 (بعد از دوخت) -  جلو  (سانتیمتر)     ","(از 0 الی 10)",0,"بهینه =3",{"$f":"'طراحی همه الگوها'!E388","v":0}," عرض پیلی 6 (بعد از دوخت) -  جلو  (سانتیمتر)     ",1,1,0,0,1,0,0,0,10,10,4,4]
[" عرض پیلی 7 (بعد از دوخت) - جلو   (سانتیمتر)   ","(از 0 الی 10)",0,"بهینه =3",{"$f":"'طراحی همه الگوها'!E389","v":0}," عرض پیلی 7 (بعد از دوخت) - جلو   (سانتیمتر)   ",1,1,0,0,1,0,0,0,20,20,16,16]
[" عرض پیلی 8 (بعد از دوخت) - جلو   (سانتیمتر)   ","(از 0 الی 10)",0,"بهینه =3",{"$f":"'طراحی همه الگوها'!E390","v":0}," عرض پیلی 8 (بعد از دوخت) - جلو   (سانتیمتر)   ",1,1,0,0,1,0,0,0,10,10,4,4]
[]
[" پیلی ها  (متقارن یا نامتقارن در پهلو دامن)",null,null,null,null," پیلی ها  (متقارن یا نامتقارن در پهلو دامن)"]
[" عرض پیلی 1 (بعد از دوخت) - روی پهلو چپ  (سانتیمتر)    ","(از 0 الی 10)",{"$f":"K784*E784+L784","v":0},"بهینه =3",{"$f":"'طراحی همه الگوها'!E393","v":0}," عرض پیلی 1 (بعد از دوخت) - روی پهلو چپ  (سانتیمتر)    ",1,1,0,0,{"$f":"(J784-H784)/(I784-G784)","v":1},{"$f":"H784-G784*K784","v":0},0,{"$f":"(M784-L784)/K784","v":0},10,{"$f":"(O784-L784)/K784","v":10},4,{"$f":"(Q784-L784)/K784","v":4}]
[" عرض پیلی 9 (بعد از دوخت) - روی پهلو راست   (سانتیمتر)   ","(از 0 الی 10)",{"$f":"K785*E785+L785","v":0},"بهینه =3",{"$f":"'طراحی همه الگوها'!E394","v":0}," عرض پیلی 9 (بعد از دوخت) - روی پهلو راست   (سانتیمتر)   ",1,1,0,0,1,0,0,0,20,20,16,16]
[]
[" پیلی ها  (متقارن یا نامتقارن در پشت دامن)",null,null,null,null," پیلی ها  (متقارن یا نامتقارن در پشت دامن)"]
[" عرض پیلی 10 (بعد از دوخت) - پشت  (سانتیمتر)     ","(از 0 الی 10)",{"$f":"K788*E788+L788","v":0},"بهینه =3",{"$f":"'طراحی همه الگوها'!E397","v":0}," عرض پیلی 10 (بعد از دوخت) - پشت  (سانتیمتر)     ",1,1,0,0,{"$f":"(J788-H788)/(I788-G788)","v":1},{"$f":"H788-G788*K788","v":0},0,{"$f":"(M788-L788)/K788","v":0},10,{"$f":"(O788-L788)/K788","v":10},3,{"$f":"(Q788-L788)/K788","v":3}]
[" عرض پیلی 11 (بعد از دوخت) - پشت  (سانتیمتر)   ","(از 0 الی 10)",0,"بهینه =3",{"$f":"'طراحی همه الگوها'!E398","v":0}," عرض پیلی 11 (بعد از دوخت) - پشت  (سانتیمتر)   ",1,1,0,0,1,0,0,0,20,20,16,16]
[" عرض پیلی 12 (بعد از دوخت) - پشت   (سانتیمتر)   ","(از 0 الی 10)",0,"بهینه =3",{"$f":"'طراحی همه الگوها'!E399","v":0}," عرض پیلی 12 (بعد از دوخت) - پشت   (سانتیمتر)   ",1,1,0,0,1,0,0,0,10,10,3,3]
[" عرض پیلی 13 (بعد از دوخت) - روی خط مرکزی پشت  (سانتیمتر)    ","(از 0 الی 10)",0,"بهینه =3",{"$f":"'طراحی همه الگوها'!E400","v":0}," عرض پیلی 13 (بعد از دوخت) - روی خط مرکزی پشت  (سانتیمتر)    ",1,1,0,0,1,0,0,0,20,20,16,16]
[" عرض پیلی 14 (بعد از دوخت) -  پشت  (سانتیمتر)     ","(از 0 الی 10)",0,"بهینه =3",{"$f":"'طراحی همه الگوها'!E401","v":0}," عرض پیلی 14 (بعد از دوخت) -  پشت  (سانتیمتر)     ",1,1,0,0,1,0,0,0,10,10,4,4]
[" عرض پیلی 15 (بعد از دوخت) - پشت   (سانتیمتر)   ","(از 0 الی 10)",0,"بهینه =3",{"$f":"'طراحی همه الگوها'!E402","v":0}," عرض پیلی 15 (بعد از دوخت) - پشت   (سانتیمتر)   ",1,1,0,0,1,0,0,0,20,20,16,16]
[" عرض پیلی 16 (بعد از دوخت) - پشت   (سانتیمتر)   ","(از 0 الی 10)",0,"بهینه =3",{"$f":"'طراحی همه الگوها'!E403","v":0}," عرض پیلی 16 (بعد از دوخت) - پشت   (سانتیمتر)   ",1,1,0,0,1,0,0,0,10,10,4,4]
["جابجایی افقی قرینه پشت دامن (سانتیمتر)","(از -50 الی50)",0,"بهینه=دلخواه",{"$f":"'طراحی مدل 16'!E325","v":0},"جابجایی افقی قرینه پشت دامن (سانتیمتر)",1,1,0,0,1,0,null,1,null,100,0]
[]
["طراحی دامن چند طبقه چین"]
["j0   اتصال به دامن تنگ = 3    اتصال به بالاتنه با ساسون=2   اتصال به پیراهن راسته=1","1 یا 2 یا 3 ",{"$f":"K798*E798+L798","v":3},null,{"$f":"'طراحی همه الگوها'!E407","v":3},"اتصال به دامن تنگ = 3    اتصال به بالاتنه با ساسون=2   اتصال به پیراهن راسته=1",1,1,2,2,{"$f":"(J798-H798)/(I798-G798)","v":1},{"$f":"H798-G798*K798","v":0},null,1,null,2]
["مکان پایین دامن طبقه اول   j2 ","(از 0 الی 4)",{"$f":"K799*E799+L799","v":0.75},"خط زمین=0 \nخط زانو=1 \nخط باسن=2 \nخط کمر=3 \nخط سینه=4  ",{"$f":"'طراحی همه الگوها'!E408","v":25},"مکان پایین دامن طبقه اول    ",10,0,30,1,{"$f":"(J799-H799)/(I799-G799)","v":0.05},{"$f":"H799-G799*K799","v":-0.5},0,{"$f":"(M799-L799)/K799","v":10},4,100,0.25,{"$f":"(Q799-L799)/K799","v":15}]
["چین در دامن طبقه اول   j3","(از 0 الی 3)",{"$f":"K800*E800+L800","v":1},null,{"$f":"'طراحی همه الگوها'!E409","v":2},"چین در دامن طبقه اول",2,1,1,0,{"$f":"(J800-H800)/(I800-G800)","v":1},{"$f":"H800-G800*K800","v":-1},0,{"$f":"(M800-L800)/K800","v":1},3,{"$f":"(O800-L800)/K800","v":4},0.9,1.9]
["مکان پایین دامن طبقه دوم    j4","(از 0 الی 4)",0.5,"خط زمین=0 \nخط زانو=1 \nخط باسن=2 \nخط کمر=3 \nخط سینه=4  ",{"$f":"'طراحی همه الگوها'!E410","v":20},"مکان پایین دامن طبقه دوم    ",10,0,30,1,0.05,-0.5,0,10,4,100,0.25,15]
["چین در دامن طبقه دوم    j5","(از 0 الی 3)",{"$f":"K802*E802+L802","v":0},null,{"$f":"'طراحی همه الگوها'!E411","v":1},"چین در دامن طبقه دوم",2,1,1,0,{"$f":"(J802-H802)/(I802-G802)","v":1},{"$f":"H802-G802*K802","v":-1},0,{"$f":"(M802-L802)/K802","v":1},3,{"$f":"(O802-L802)/K802","v":4},0.9,1.9]
["مکان پایین دامن طبقه سوم    j6","(از 0 الی 4)",0.25,"خط زمین=0 \nخط زانو=1 \nخط باسن=2 \nخط کمر=3 \nخط سینه=4  ",{"$f":"'طراحی همه الگوها'!E412","v":15},"مکان پایین دامن طبقه سوم    ",10,0,30,1,0.05,-0.5,0,10,4,100,0.25,15]
["چین در دامن طبقه سوم   j7","(از 0 الی 3)",0,null,{"$f":"'طراحی همه الگوها'!E413","v":1},"چین در دامن طبقه سوم",2,1,1,0,1,-1,0,1,3,{"$f":"(O804-L804)/K804","v":4},0.9,1.9]
["مکان پایین دامن طبقه چهارم    j8","(از 0 الی 4)",0,"خط زمین=0 \nخط زانو=1 \nخط باسن=2 \nخط کمر=3 \nخط سینه=4  ",{"$f":"'طراحی همه الگوها'!E414","v":10},"مکان پایین دامن طبقه چهارم    ",10,0,30,1,0.05,-0.5,0,10,4,100,0.25,15]
["چین در دامن طبقه چهارم    j9","(از 0 الی 3)",0,null,{"$f":"'طراحی همه الگوها'!E415","v":1},"چین در دامن طبقه چهارم",2,1,1,0,1,-1,0,1,3,{"$f":"(O806-L806)/K806","v":4},0.9,1.9]
["جابجایی افقی جلو دامن چند طبقه (سانتیمتر)  j10","(از -100 الی100)",{"$f":"K807*E807+L807","v":0},"بهینه=دلخواه",{"$f":"'طراحی همه الگوها'!E416","v":0},"جابجایی افقی جلو دامن چند طبقه (سانتیمتر)",1,1,0,0,{"$f":"(J807-H807)/(I807-G807)","v":1},{"$f":"H807-G807*K807","v":0},-100,{"$f":"(M807-L807)/K807","v":-100},100,{"$f":"(O807-L807)/K807","v":100}]
["جابجایی عمودی جلو دامن چند طبقه (سانتیمتر)  j11","(از -100 الی100)",{"$f":"K808*E808+L808","v":0},"بهینه=دلخواه",{"$f":"'طراحی همه الگوها'!E417","v":0},"جابجایی عمودی جلو دامن چند طبقه (سانتیمتر)",1,1,0,0,{"$f":"(J808-H808)/(I808-G808)","v":1},{"$f":"H808-G808*K808","v":0},-100,{"$f":"(M808-L808)/K808","v":-100},100,{"$f":"(O808-L808)/K808","v":100}]
["جابجایی افقی پشت دامن چند طبقه (سانتیمتر)   j12","(از -100 الی100)",{"$f":"K809*E809+L809","v":0},"بهینه=دلخواه",{"$f":"'طراحی همه الگوها'!E418","v":0},"جابجایی افقی پشت دامن چند طبقه (سانتیمتر)",1,1,0,0,{"$f":"(J809-H809)/(I809-G809)","v":1},{"$f":"H809-G809*K809","v":0},-100,{"$f":"(M809-L809)/K809","v":-100},100,{"$f":"(O809-L809)/K809","v":100}]
["جابجایی عمودی پشت دامن چند طبقه (سانتیمتر)  j13","(از -100 الی100)",{"$f":"K810*E810+L810","v":0},"بهینه=دلخواه",{"$f":"'طراحی همه الگوها'!E419","v":0},"جابجایی عمودی پشت دامن چند طبقه (سانتیمتر)",1,1,0,0,{"$f":"(J810-H810)/(I810-G810)","v":1},{"$f":"H810-G810*K810","v":0},-100,{"$f":"(M810-L810)/K810","v":-100},100,{"$f":"(O810-L810)/K810","v":100}]
[]
["طراحی دامن لنگی دراپه"]
["پهنای هر دراپه (پیلی) به سانتیمتر   n0","(از 0 الی 20)",{"$f":"K813*E813+L813","v":3},null,{"$f":"'طراحی همه الگوها'!E422","v":3},null,1,1,2,2,{"$f":"(J813-H813)/(I813-G813)","v":1},{"$f":"H813-G813*K813","v":0},null,1,null,2]
["مکان نقطه شروع دراپه روی خط پهلو  n1 ","(از 1 الی 40)",26,null,{"$f":"'طراحی همه الگوها'!E423","v":26},null,1,1,2,2,1,0,null,1,null,2]
["مکان نقطه شروع دراپه در پایین لباس   n2","(از 1 الی 40)",26,null,{"$f":"'طراحی همه الگوها'!E424","v":26},null,1,1,2,2,1,0,null,1,null,2]
["مکان پیلی اول روی خط کمر  n3","(از 1 الی 40)",{"$f":"K816*E816+L816","v":10},null,{"$f":"'طراحی همه الگوها'!E425","v":10},null,1,1,2,2,{"$f":"(J816-H816)/(I816-G816)","v":1},{"$f":"H816-G816*K816","v":0},null,1,null,2]
["مکان پیلی دوم روی خط کمر  n4","(از 1 الی 40)",20,null,{"$f":"'طراحی همه الگوها'!E426","v":20},null,1,1,2,2,1,0,null,1,null,2]
["مکان پیلی سوم روی خط کمر  n5","(از 1 الی 40)",30,null,{"$f":"'طراحی همه الگوها'!E427","v":30},null,1,1,2,2,1,0,null,1,null,2]
["پهنای هر دراپه به درجه   n0",{"$f":"ROUND(DEGREES(محاسبات!LU325),1)","v":9.3000000000000007}]
[]
[" دامن با والان"]
["پهنای هر یک از پیلی ها روی کمر  (سانتیمتر)  w1","(از 0 الی 20)",{"$f":"K822*E822+L822","v":5},null,{"$f":"'طراحی همه الگوها'!E430","v":5},null,1,1,2,2,{"$f":"(J822-H822)/(I822-G822)","v":1},{"$f":"H822-G822*K822","v":0},null,1,null,2]
["فاصله  پیلی اول تا خط مرکزی جلو   w0","(از 0 الی 40)",{"$f":"K823*E823+L823","v":15},null,{"$f":"'طراحی همه الگوها'!E431","v":15},null,1,1,2,2,{"$f":"(J823-H823)/(I823-G823)","v":1},{"$f":"H823-G823*K823","v":0},null,1,null,2]
[" لبه پایینی دامن والان روی خط مرکزی پشت    w2","(از 0 الی 4)",{"$f":"K824*E824+L824","v":0},"خط زمین=0 \nخط زانو=1 \nخط باسن=2 \nخط کمر=3 \nخط سینه=4  ",{"$f":"'طراحی همه الگوها'!E432","v":10},null,10,0,30,1,{"$f":"(J824-H824)/(I824-G824)","v":0.05},{"$f":"H824-G824*K824","v":-0.5},0,{"$f":"(M824-L824)/K824","v":10},4,100,0.25,{"$f":"(Q824-L824)/K824","v":15}]
[" لبه پایینی دامن والان روی درز پهلو  w3  ","(از 0 الی 4)",{"$f":"K825*E825+L825","v":0.25},"خط زمین=0 \nخط زانو=1 \nخط باسن=2 \nخط کمر=3 \nخط سینه=4  ",{"$f":"'طراحی همه الگوها'!E433","v":15},null,10,0,30,1,{"$f":"(J825-H825)/(I825-G825)","v":0.05},{"$f":"H825-G825*K825","v":-0.5},0,{"$f":"(M825-L825)/K825","v":10},4,100,0.25,{"$f":"(Q825-L825)/K825","v":15}]
[" لبه بالایی دامن والان روی درز پهلو   w5","(از 0 الی 4)",{"$f":"K826*E826+L826","v":1.5},"خط زمین=0 \nخط زانو=1 \nخط باسن=2 \nخط کمر=3 \nخط سینه=4  ",{"$f":"'طراحی همه الگوها'!E434","v":40},null,10,0,30,1,{"$f":"(J826-H826)/(I826-G826)","v":0.05},{"$f":"H826-G826*K826","v":-0.5},0,{"$f":"(M826-L826)/K826","v":10},4,100,0.25,{"$f":"(Q826-L826)/K826","v":15}]
[]
[]
[]
["متغیرهای ورودی بافت ",null,null,null,null,"متغیرهای ورودی بافت ","x1","y1","x2","y2(بهینه)","a","b",null,"کمترین",null,"بیشترین"]
["طراحی بافت جلو پشت آستین"]
["انتخاب ضخامت میل بافتنی","(2 یا 3 یا 4) ",{"$f":"K832*E832+L832","v":3},null,{"$f":"'طراحی همه الگوها'!H244","v":3},"انتخاب ضخامت میل بافتنی",3,3,2,2,{"$f":"(J832-H832)/(I832-G832)","v":1},{"$f":"H832-G832*K832","v":0},2,{"$f":"(M832-L832)/K832","v":2},4,{"$f":"(O832-L832)/K832","v":4},3,{"$f":"(Q832-L832)/K832","v":3}]
["جمع شوندگی عمودی بافت","(0 الی 2) ",{"$f":"K833*E833+L833","v":0},"بافت ساده و جودانه=0 \nبافت همه از زیر=1 ",{"$f":"'طراحی همه الگوها'!H245","v":0},"جمع شوندگی عمودی بافت",1,0.05,0,0,{"$f":"(J833-H833)/(I833-G833)","v":0.05},{"$f":"H833-G833*K833","v":0},0,{"$f":"(M833-L833)/K833","v":0},2,{"$f":"(O833-L833)/K833","v":40},1,{"$f":"(Q833-L833)/K833","v":20}]
["جمع شوندگی افقی بافت","(0 الی 2) ",{"$f":"K834*E834+L834","v":0},"بافت ساده و جودانه=0 \nبافت کشباف=1 ",{"$f":"'طراحی همه الگوها'!H246","v":0},"جمع شوندگی افقی بافت",1,0.05,0,0,{"$f":"(J834-H834)/(I834-G834)","v":0.05},{"$f":"H834-G834*K834","v":0},0,{"$f":"(M834-L834)/K834","v":0},2,{"$f":"(O834-L834)/K834","v":40},1,{"$f":"(Q834-L834)/K834","v":20}]
[]
["طراحی بافت یقه شکاری"]
["جمع شوندگی عمودی بافت","(0 الی 2) ",{"$f":"K837*E837+L837","v":0},"بافت ساده و جودانه=0 \nبافت همه از زیر=1 ",{"$f":"'طراحی همه الگوها'!H249","v":0},"جمع شوندگی عمودی بافت",1,0.05,0,0,{"$f":"(J837-H837)/(I837-G837)","v":0.05},{"$f":"H837-G837*K837","v":0},0,{"$f":"(M837-L837)/K837","v":0},2,{"$f":"(O837-L837)/K837","v":40},1,{"$f":"(Q837-L837)/K837","v":20}]
["جمع شوندگی افقی بافت","(0 الی 2) ",{"$f":"K838*E838+L838","v":1},"بافت ساده و جودانه=0 \nبافت کشباف=1 ",{"$f":"'طراحی همه الگوها'!H250","v":20},"جمع شوندگی افقی بافت",1,0.05,0,0,{"$f":"(J838-H838)/(I838-G838)","v":0.05},{"$f":"H838-G838*K838","v":0},0,{"$f":"(M838-L838)/K838","v":0},2,{"$f":"(O838-L838)/K838","v":40},1,{"$f":"(Q838-L838)/K838","v":20}]
[]
["طراحی نقشه بافت"]
["جابجایی افقی کل نقشه  (سانتیمتر)   ","(از -100 الی100)",{"$f":"K841*E841+L841","v":-5},"بهینه=دلخواه",{"$f":"'طراحی همه الگوها'!H253","v":-5},"جابجایی افقی کل نقشه  (سانتیمتر)   ",1,1,0,0,{"$f":"(J841-H841)/(I841-G841)","v":1},{"$f":"H841-G841*K841","v":0},-100,{"$f":"(M841-L841)/K841","v":-100},100,{"$f":"(O841-L841)/K841","v":100}]
["جابجایی عمودی کل نقشه  (سانتیمتر)  ","(از -100 الی100)",0,"بهینه=دلخواه",{"$f":"'طراحی همه الگوها'!H254","v":0},"جابجایی عمودی کل نقشه  (سانتیمتر)  ",1,1,0,0,{"$f":"(J842-H842)/(I842-G842)","v":1},{"$f":"H842-G842*K842","v":0},-100,{"$f":"(M842-L842)/K842","v":-100},100,{"$f":"(O842-L842)/K842","v":100}]
["نسبت نقشه بافت به سایز واقعی","(1 الی 40) ",40,"بهینه=20",{"$f":"'طراحی همه الگوها'!H255","v":40},"نسبت نقشه بافت به سایز واقعی",3,3,2,2,{"$f":"(J843-H843)/(I843-G843)","v":1},{"$f":"H843-G843*K843","v":0},2,{"$f":"(M843-L843)/K843","v":2},4,{"$f":"(O843-L843)/K843","v":4},3,{"$f":"(Q843-L843)/K843","v":3}]
["ارتفاع هر رج","(0.05 الی 3) ",0.8,"بهینه=0.8",{"$f":"'طراحی همه الگوها'!H256","v":16},"ارتفاع هر رج",1,0.05,0,0,{"$f":"(J844-H844)/(I844-G844)","v":0.05},{"$f":"H844-G844*K844","v":0},0,{"$f":"(M844-L844)/K844","v":0},2,{"$f":"(O844-L844)/K844","v":40},1,{"$f":"(Q844-L844)/K844","v":20}]
["پهنای نیم دایره","(0 الی 3) ",0.5,"بهینه=0.5",{"$f":"'طراحی همه الگوها'!H257","v":10},"پهنای نیم دایره",1,0.05,0,0,0.05,0,0,0,2,40,1,20]
["طول باکس نوشته","(2 الی 20) ",4.5,"بهینه=4.5",{"$f":"'طراحی همه الگوها'!H258","v":9},"طول باکس نوشته",1,0.5,0,0,{"$f":"(J846-H846)/(I846-G846)","v":0.5},{"$f":"H846-G846*K846","v":0},0,{"$f":"(M846-L846)/K846","v":0},2,{"$f":"(O846-L846)/K846","v":4},1,{"$f":"(Q846-L846)/K846","v":2}]
["پهنای باکس نوشته","(0.2 الی 2) ",0.60000000000000009,"بهینه=0.6",{"$f":"'طراحی همه الگوها'!H259","v":12},"پهنای باکس نوشته",1,0.05,0,0,0.05,0,0,0,2,40,1,20]
["بزرگی فلش","(0 الی 2) ",0.30000000000000004,"بهینه=0.3",{"$f":"'طراحی همه الگوها'!H260","v":6},"بزرگی فلش",1,0.05,0,0,0.05,0,0,0,2,40,1,20]
["زاویه فلش","(0 الی 2) ",0.5,"بهینه=0.5",{"$f":"'طراحی همه الگوها'!H261","v":10},"زاویه فلش",1,0.05,0,0,{"$f":"(J849-H849)/(I849-G849)","v":0.05},{"$f":"H849-G849*K849","v":0},0,{"$f":"(M849-L849)/K849","v":0},2,{"$f":"(O849-L849)/K849","v":40},1,{"$f":"(Q849-L849)/K849","v":20}]

{"sheet":"راهنما","index":3,"n_rows":0,"n_cols":0,"rows_kept":0,"cut":false,"hidden":false,"merged":[]}

{"sheet":"اندازه های شخصی","index":4,"n_rows":35,"n_cols":85,"rows_kept":35,"cut":false,"hidden":false,"merged":[]}
[]
[]
[]
[]
[null,null,null,null,"عنوان مورد نظر خود را در قسمت سبز رنگ وارد کنید",null,"عنوان 1",null,"عنوان 2",null,"عنوان 3",null,"عنوان 4",null,"عنوان 5",null,"عنوان 6",null,"عنوان 7",null,"عنوان 8",null,"عنوان 9",null,"عنوان 10",null,"عنوان 11",null,"عنوان 12",null,"عنوان 13",null,"عنوان 14",null,"عنوان 15",null,"عنوان 16",null,"عنوان 17",null,"عنوان 18",null,"عنوان 19",null,"عنوان 20",null,"عنوان 21",null,"عنوان 22",null,"عنوان 23",null,"عنوان 24",null,"عنوان 25",null,"عنوان 26",null,"عنوان 27",null,"عنوان 28",null,"عنوان 29",null,"عنوان 30",null,"عنوان 31",null,"عنوان 32",null,"عنوان 33",null,"عنوان 34",null,"عنوان 35",null,"عنوان 36",null,"عنوان 37",null,"عنوان 38",null,"عنوان 39",null,"عنوان 40"]
[]
[null,null,null,null,null,null,"اندازه شخصی 1",null,"اندازه شخصی 2",null,"اندازه شخصی 3",null,"اندازه شخصی 3",null,"اندازه شخصی 5",null,"اندازه شخصی 6",null,"اندازه شخصی 7",null,"اندازه شخصی 8",null,"اندازه شخصی 9",null,"اندازه شخصی 10",null,"اندازه شخصی 11",null,"اندازه شخصی 12",null,"اندازه شخصی 13",null,"اندازه شخصی 14",null,"اندازه شخصی 15",null,"اندازه شخصی 16",null,"اندازه شخصی 17",null,"اندازه شخصی 18",null,"اندازه شخصی 19",null,"اندازه شخصی 20",null,"اندازه شخصی 21",null,"اندازه شخصی 22",null,"اندازه شخصی 23",null,"اندازه شخصی 24",null,"اندازه شخصی 25",null,"اندازه شخصی 26",null,"اندازه شخصی 27",null,"اندازه شخصی 28",null,"اندازه شخصی 29",null,"اندازه شخصی 30",null,"اندازه شخصی 31",null,"اندازه شخصی 32",null,"اندازه شخصی 33",null,"اندازه شخصی 34",null,"اندازه شخصی 35",null,"اندازه شخصی 36",null,"اندازه شخصی 37",null,"اندازه شخصی 38",null,"اندازه شخصی 39",null,"اندازه شخصی 40"]
[null,null,null,null,"دور کمر","a"]
[null,null,null,null,"نوار کمر از پشت بین دو خط پهلو","b"]
[null,null,null,null,"دور باسن","c"]
[null,null,null,null,"نوار باسن از پشت بین دو خط پهلو","d"]
[null,null,null,null,"فاصله نوار کمر تا زمین، از قسمت جلو","e"]
[null,null,null,null,"فاصله نوار کمر تا زمین، از قسمت پهلو","f"]
[null,null,null,null,"فاصله نوار کمر تا زمین، از قسمت پشت","g"]
[null,null,null,null,"فاصله نوار زانو تا زمین","h"]
[null,null,null,null,"فاصله نوار باسن تا زمین","j"]
[null,null,null,null,"دور زانو","L"]
[null,null,null,null,"بلندی فاق","m"]
[null,null,null,null,"آنفورشور","q"]
[null,null,null,null,"دور مچ پا","r"]
[null,null,null,null,"شلوار زنانه و بچگانه = 0       مردانه=1      بچه با پوشک=2"]
[null,null,null,null,"دور سینه : از برجسته ترین قسمت سینه","s1"]
[null,null,null,null,"پشت نوار سینه، بین دو خط پهلو","s2"]
[null,null,null,null,"فاصله عمودی از خط سینه جلو تا خط سینه پشت که از کنار حلقه آستین بگذرد","t1"]
[null,null,null,null,"فاصله عمودی از خط سینه جلو تا خط سینه پشت که از کنارگردن بگذرد","t2"]
[null,null,null,null,"فاصله عمودی از خط کمر جلو تا خط کمر پشت که از کنار گردن بگذرد","t3"]
[null,null,null,null,"فاصله عمودی بین خط سینه پشت و سرشانه، نزدیک دست","t4"]
[null,null,null,null,"فاصله عمودی بین خط سینه پشت و سرشانه، نزدیک گردن","t5"]
[null,null,null,null,"فاصله عمودی بین خط کمرپشت و سرشانه، نزدیک گردن","t6"]
[null,null,null,null,"دور گردن (متر به طور عمودی دور گردن قرار می گیرد و از روی استخوان ترقوه می گذرد)","v"]
[null,null,null,null,"کارور پشت (بین دو خط امتداد زیر بغل)","v3"]
[null,null,null,null,"دور بازو از ناحیه زیر بغل","w2"]
[null,null,null,null,"قد آستین (دست به طور خمیده، قد از سرشانه تا مچ)","w10"]
[null,null,null,null,"دور مچ دست","w11"]
[null,null,null,null,"دور سر","w12"]

{"sheet":"اندازه گیری و تحلیل","index":5,"n_rows":487,"n_cols":26,"rows_kept":487,"cut":false,"hidden":false,"merged":[[401,25,402,25],[222,8,222,13]]}
[]
[]
[]
[null,null,null,null,null,"0 الی 30","خیلی کم"]
[null,null,null,"برای اندام شما :",null,"30 الی 50","کم",null,null,null,"قد سرشانه تا زمین",{"$f":"L419","v":160}]
[null,null,null,"برجستگی سینه جلو",null,"50 الی 70","متوسط",null,null,null,"تمام قد (تقریبی)",{"$f":"L420","v":180}]
[null,null,null,{"$f":"L479","v":73},null,"70 الی 90","زیاد"]
[null,null,null,null,null,"90 الی 200","خیلی زیاد"]
[]
[]
[]
[null,null,null,null,null,"0 الی 20","خیلی کم"]
[null,null,null,"برای اندام شما :",null,"20 الی 40","کم"]
[null,null,null,"برجستگی باسن",null,"40 الی 60","متوسط"]
[null,null,null,{"$f":"L476","v":57},null,"60 الی 80","زیاد"]
[null,null,null,null,null,"80 الی 200","خیلی زیاد"]
[]
[]
[]
[null,null,null,null,null,"3 الی - 20","شکم تخت"]
[null,null,null,"برای اندام شما :",null,"3 الی 6"]
[null,null,null,"برجستگی شکم نسبت به سینه",null,"6 الی 10"]
[null,null,null,{"$f":"L484","v":5},null,"10 الی 20","شکم در امتداد سینه"]
[null,null,null,null,null,"20 الی 30","شکم برجسته تراز سینه"]
[null,null,null,null,null,"30 الی 40","شکم حاملگی"]
[null,null,null,null,null,"40 الی 150","شکم حاملگی بزرگ"]
[]
[]
[]
[null,null,null,null,null,"0الی 10","خیلی کم"]
[null,null,null,"برای اندام شما :",null,"10 الی 15","کم"]
[null,null,null,"افتادگی سرشانه",null,"15 الی 20","متوسط"]
[null,null,null,{"$f":"L474","v":20},null,"20 الی 25","زیاد"]
[null,null,null,null,null,"25 الی 50","خیلی زیاد"]
[]
[]
[]
[]
[]
[]
[]
[]
[]
[]
[]
[]
[]
[]
[]
[]
[]
[]
[null,null,null,"خطای درجه 1 "]
[null,null,null,{"$f":"IF(AND(V404>20,V404<200),\" \",\" اندازه  a تکرار شود.\")","v":" "}]
[null,null,null,{"$f":"IF(AND(V405>10,V405<100),\" \",\" اندازه  b تکرار شود.\")","v":" "}]
[null,null,null,{"$f":"IF(AND(V406>20,V406<200),\" \",\" اندازه  c تکرار شود.\")","v":" "}]
[null,null,null,{"$f":"IF(AND(V407>10,V407<100),\" \",\" اندازه  d تکرار شود.\")","v":" "}]
[null,null,null,{"$f":"IF(AND(V408>15,V408<140),\" \",\" اندازه  e تکرار شود.\")","v":" "}]
[]
[null,null,null,{"$f":"IF(AND(V410>15,V410<140),\" \",\" اندازه  g تکرار شود.\")","v":" "}]
[null,null,null,{"$f":"IF(AND(V411>5,V411<70),\" \",\" اندازه  h تکرار شود.\")","v":" "}]
[null,null,null,{"$f":"IF(AND(V412>10,V412<120),\" \",\" اندازه  j تکرار شود.\")","v":" "}]
[null,null,null,{"$f":"IF(AND(V413>15,V413<70),\" \",\" اندازه  L تکرار شود.\")","v":" "}]
[null,null,null,{"$f":"IF(AND(W414>10,W414<50),\" \",\" اندازه  m تکرار شود.\")","v":" "}]
[null,null,null,{"$f":"IF(AND(V415>25,V415<140),\" \",\" اندازه  q تکرار شود.\")","v":" "}]
[null,null,null,{"$f":"IF(AND(V416>10,V416<80),\" \",\" اندازه  r تکرار شود.\")","v":" "}]
[null,null,null,{"$f":"IF(AND(V424>20,V424<200),\" \",\" اندازه  s1 تکرار شود.\")","v":" "}]
[null,null,null,{"$f":"IF(AND(V425>10,V425<100),\" \",\" اندازه  s2 تکرار شود.\")","v":" "}]
[null,null,null,{"$f":"IF(AND(V426>12,V426<75),\" \",\" اندازه  t1 تکرار شود.\")","v":" "}]
[null,null,null,{"$f":"IF(AND(V427>13,V427<80),\" \",\" اندازه  t2 تکرار شود.\")","v":" "}]
[null,null,null,{"$f":"IF(AND(V428>20,V428<120),\" \",\" اندازه  t3 تکرار شود.\")","v":" "}]
[null,null,null,{"$f":"IF(AND(V429>6,V429<40),\" \",\" اندازه  t4 تکرار شود.\")","v":" "}]
[null,null,null,{"$f":"IF(AND(V430>7,V430<50),\" \",\" اندازه  t5 تکرار شود.\")","v":" "}]
[null,null,null,{"$f":"IF(AND(V431>10,V431<70),\" \",\" اندازه  t6 تکرار شود.\")","v":" "}]
[null,null,null,{"$f":"IF(AND(V432>15,V432<55),\" \",\" اندازه  v  تکرار شود.\")","v":" "}]
[null,null,null,{"$f":"IF(AND(V433>10,V433<80),\" \",\" اندازه  v3 تکرار شود.\")","v":" "}]
[null,null,null,{"$f":"IF(AND(V434>10,V434<70),\" \",\" اندازه  w2 تکرار شود.\")","v":" "}]
[null,null,null,{"$f":"IF(AND(V435>10,V435<80),\" \",\" اندازه  w10 تکرار شود.\")","v":" "}]
[null,null,null,{"$f":"IF(AND(V436>8,V436<30),\" \",\" اندازه  w11 تکرار شود.\")","v":" "}]
[null,null,null,{"$f":"IF(AND(V437>20,V437<70),\" \",\" اندازه  w12 تکرار شود.\")","v":" "}]
[]
[null,null,null,"خطای درجه 2 "]
[null,null,null,{"$f":"IF(W412>0.9*W410,\"اندازه  j  را دوباره تکرار کنید - j کم شود.\",\"  \")","v":"  "}]
[null,null,null,{"$f":"IF(W411>0.65*W412,\"اندازه گیری h را دوباره تکرار کنید - h کم شود.\",\"  \")","v":"  "}]
[null,null,null,{"$f":"IF(W414>0.45*W415,\"یا m کم شود یا q زیاد شود.\",\"  \")","v":"  "}]
[null,null,null,{"$f":"IF(V413>0.47*V406,\"اندازه گیری  L را دوباره تکرار کنید - L کم شود.\",\"  \")","v":"  "}]
[null,null,null,{"$f":"IF(V416>1.7*V436,\"دور مچ پا (r)  کم شود\",\"  \")","v":"  "}]
[null,null,null,{"$f":"IF(V416<1.2*V436,\"دور مچ پا (r)  زیاد شود\",\"  \")","v":"  "}]
[null,null,null,{"$f":"IF(V413<0.3*V406,\"اندازه گیری  L را دوباره تکرار کنید - زیاد شود.\",\"  \")","v":"  "}]
[null,null,null,{"$f":"IF(W412<0.65*W410,\"اندازه  j  را دوباره تکرار کنید - j زیاد شود.\",\"  \")","v":"  "}]
[null,null,null,{"$f":"IF(W415<0.5*V406,\"اندازه گیری  q را دوباره تکرار کنید - q زیاد شود.\",\"  \")","v":"  "}]
[null,null,null,{"$f":"IF(W414<0.3*W415,\"یا m زیاد شود یا q کم شود.\",\"  \")","v":"  "}]
[null,null,null,{"$f":"IF(V407>0.7*V406,\"نوار پهلو در قسمت باسن به سمت پشت متمایل شود و اندازه های d و c تکرار شود\",\"  \")","v":"  "}]
[null,null,null,{"$f":"IF(V405>0.7*V404,\"نوار پهلو در قسمت کمر به سمت پشت متمایل شود و اندازه های a و b تکرار شود\",\"  \")","v":"  "}]
[null,null,null,{"$f":"IF(W427>0.8*W428,\"نوار سینه و نوار کمر در جلو از هم دور شود و اندازه های t2 و t3 و t5 و t6 تکرار شود.\",\"  \")","v":"  "}]
[null,null,null,{"$f":"IF(V430>0.75*V431,\"نوار کمر و نوار سینه در پشت از هم دور شود و اندازه های t6  و t5 تکرار شود.\",\"  \")","v":"  "}]
[null,null,null,{"$f":"IF(W426>0.99*W427,\"اندام با سینه تو رفته، نوار سینه و نوار سرشانه افقی و صاف شود و اندازه های t1 و t2 و t4 و t5 تکرار شود.\",\"  \")","v":"  "}]
[null,null,null,{"$f":"IF(V429>V430,\"نوار سینه و نوار سرشانه افقی و صاف شود و اندازه های t5  و t4 تکرار شود.\",\"  \")","v":"  "}]
[null,null,null,{"$f":"IF(V432>0.6*V424,\"اندازه های s1  و v تکرار شود.\",\"  \")","v":"  "}]
[null,null,null,{"$f":"IF(V434>0.6*V424,\"اندازه های s1  و w2 تکرار شود.\",\"  \")","v":"  "}]
[null,null,null,{"$f":"IF(V435<0.5*V428,\"اندازه های t3  و w10 تکرار شود.\",\"  \")","v":"  "}]
[null,null,null,{"$f":"IF(V436>V434,\"اندازه های w2  و w11 تکرار شود.\",\"  \")","v":"  "}]
[null,null,null,{"$f":"IF((V433)>V425,\"اندازه - کارور پشت - باید کوچکتر از اندازه - سینه از پشت - باشد.\",\"  \")","v":"  "}]
[null,null,null,{"$f":"IF(V425>0.6*V424,\"نوار پهلو در قسمت سینه به سمت پشت متمایل شود و اندازه های s2 و s1 تکرار شود\",\"  \")","v":"  "}]
[null,null,null,{"$f":"IF(V425<0.35*V424,\"نوار پهلو در قسمت سینه به سمت جلو متمایل شود و اندازه های s2 و s1 تکرار شود\",\"  \")","v":"  "}]
[]
[null,null,null,"خطای درجه 3 "]
[null,null,null,{"$f":"IF(((V415-2*W414-0.03*V406)/(V406))<0.1,\" یا m کم شود و یا q زیاد شود\",\"  \")","v":"  "}]
[null,null,null,{"$f":"IF(((V415-2*W414-0.03*V406)/(V406))>0.16,\"یا m زیاد شود و یا q کم شود\",\"  \")","v":"  "}]
[null,null,null,{"$f":"IF(V412>(W409-0.5*W414),\"یا اندازه j کم شود یا اندازه m کم شود.\",\"  \")","v":"  "}]
[null,null,null,{"$f":"IF(V412<(W409-0.8*W414),\"یا اندازه j زیاد شود یا اندازه m زیاد شود.\",\"  \")","v":"  "}]
[null,null,null,{"$f":"IF(((V415-2*W414-0.03*V406)/(V406))<0.105,\" بهتر است یا m کم شود و یا q زیاد شود\",\"  \")","v":"  "}]
[null,null,null,{"$f":"IF(((V415-2*W414-0.03*V406)/(V406))>0.14,\"بهتر است یا m زیاد شود و یا q کم شود\",\"  \")","v":"  "}]
[null,null,null,{"$f":"IF((0.5*(V425-V433))<(0.05*V434),\"نوار پهلو در قسمت سینه به سمت جلو متمایل شود تا اندازه   s2  زیاد شود.\",\"  \")","v":"  "}]
[null,null,null,{"$f":"IF((0.5*(V425-V433))>(0.15*V434),\"نوار پهلو در قسمت سینه به سمت پشت متمایل شود تا اندازه  s2  کم شود.\",\"  \")","v":"  "}]
[null,null,null,{"$f":"IF(L470<-0.22,\"برای کاهش اختلاف بین افتادگی سرشانه پشت و جلو،اندازه t5 کم شود.\",\"  \")","v":"  "}]
[null,null,null,{"$f":"IF(AND(L469<30,L468<30,L470>0,L470>0.22),\"برای کاهش اختلاف بین افتادگی سرشانه پشت و جلو اندازه t5 زیاد شود.\",\"  \")","v":"  "}]
[null,null,null,{"$f":"IF(OR(L470>0.22,L470<-0.22,L469>30,L468>30),\" \",IF(L472<-3,\"اندازه t3 زیاد شود.\",\"  \"))","v":"  "}]
[null,null,null,{"$f":"IF(OR(L469>30,L468>30,L470>0.22,L470<-0.22),\" \",IF(L472>30,\"شکم برجسته تر از سینه است (در حد بارداری) برای کم کردن برجستگی t3 کم شود.\",\"  \"))","v":"  "}]
[null,null,null,{"$f":"IF(OR(L468>30,L469>30,L470>0.22,L470<-0.22),\" \",IF(AND(L472>15,L472<30),\"شکم برجسته تر از سینه است - برای کم کردن برجستگی t3 کم شود.\",\"  \"))","v":"  "}]
[null,null,null,{"$f":"IF(L469>30,\"سرشانه جلو بیش از حد افتاده است.  t2 کم شود.\",\"  \")","v":"  "}]
[null,null,null,{"$f":"IF(L468>30,\"سرشانه پشت بیش از حد افتاده است.  t5 کم شود.\",\"  \")","v":"  "}]
[null,null,null,{"$f":"IF(M433>1.14*M432-0.14*M425,\"اندازه کارور پشت کم شود\",\"  \")","v":"  "}]
[null,null,null,{"$f":"IF(L478<1,\"اندازه کارور پشت کم شود\",\"  \")","v":"  "}]
[]
[]
[]
[]
[]
[]
[]
[]
[]
[]
[]
[]
[]
[]
[]
[]
[]
[]
[null,null,null,"انتخاب نوع اندازه گیری"]
[null,null,null,"انتخاب بلندی فاق"]
[null,null,null,"گزینه \" اندازه جدید \" را انتخاب کنید"]
[]
[]
[]
[null,null,null,"a   دور کمر",0]
[]
[]
[null,null,null," c   دور باسن",0]
[]
[]
[null,null,null," s1    دور سینه : از برجسته ترین قسمت سینه",0]
[]
[]
[null,null,null," w10   قد آستین (دست به طور خمیده، قد از سرشانه تا مچ)",0]
[]
[]
[null,null,null," f    فاصله نوار کمر تا زمین، از قسمت پهلو",0]
[]
[]
[null,null,null," m   بلندی فاق",0]
[]
[]
[null,null,null," w2   دور بازو از ناحیه زیر بغل",0]
[]
[]
[null,null,null," w11   دور مچ دست",0]
[]
[]
[null,null,null," V    دور گردن (متر به طور عمودی دور گردن قرار می گیرد و از روی استخوان ترقوه می گذرد)",0]
[]
[]
[null,null,null," w12   دور سر",0]
[]
[]
[null,null,null," t3     فاصله عمودی از خط کمر جلو تا خط کمر پشت که از کنار گردن بگذرد",0]
[]
[]
[null,null,null,{"$f":"IF(OR('متغیرها '!W5=1,'متغیرها '!W5=3,'متغیرها '!W5=4),\" t2    فاصله عمودی از خط سینه جلو تا خط سینه پشت که از کنارگردن بگذرد  \",\"   \")","v":" t2    فاصله عمودی از خط سینه جلو تا خط سینه پشت که از کنارگردن بگذرد  "},0]
[]
[]
[null,null,null,{"$f":"IF(OR('متغیرها '!W5=1,'متغیرها '!W5=3,'متغیرها '!W5=4),\"V3   کارور پشت (بین دو خط امتداد زیر بغل)  \",\"   \")","v":"V3   کارور پشت (بین دو خط امتداد زیر بغل)  "},0]
[]
[]
[null,null,null,{"$f":"IF(OR('متغیرها '!W5=1,'متغیرها '!W5=4),\" g    فاصله نوار کمر تا زمین، از قسمت پشت  \",\"   \")","v":"   "}]
[]
[]
[null,null,null,{"$f":"IF(OR('متغیرها '!W5=1,'متغیرها '!W5=4),\" e   فاصله نوار کمر تا زمین، از قسمت جلو  \",\"   \")","v":"   "}]
[]
[]
[null,null,null,{"$f":"IF(OR('متغیرها '!W5=1,'متغیرها '!W5=4),\" j    فاصله نوار باسن تا زمین  \",\"   \")","v":"   "}]
[]
[]
[null,null,null,{"$f":"IF(OR('متغیرها '!W5=1,'متغیرها '!W5=4),\" h    فاصله نوار زانو تا زمین  \",\"   \")","v":"   "}]
[]
[]
[null,null,null,{"$f":"IF(OR('متغیرها '!W5=1,'متغیرها '!W5=4),\"  L   دور زانو  \",\"   \")","v":"   "}]
[]
[]
[null,null,null,{"$f":"IF(OR('متغیرها '!W5=1,'متغیرها '!W5=4),\" r    دور مچ پا  \",\"   \")","v":"   "}]
[]
[]
[null,null,null,{"$f":"IF(OR('متغیرها '!W5=1,'متغیرها '!W5=4),\"  q    آنفورشور  \",\"   \")","v":"   "}]
[]
[]
[null,null,null,{"$f":"IF(OR('متغیرها '!W5=1,'متغیرها '!W5=4),\" b   نوار کمر از پشت بین دو خط پهلو  \",\"   \")","v":"   "}]
[]
[]
[null,null,null,{"$f":"IF(OR('متغیرها '!W5=1,'متغیرها '!W5=4),\" s2    پشت نوار سینه، بین دو خط پهلو  \",\"   \")","v":"   "}]
[]
[]
[null,null,null,{"$f":"IF(OR('متغیرها '!W5=1,'متغیرها '!W5=4),\"  d   نوار باسن از پشت بین دو خط پهلو  \",\"   \")","v":"   "}]
[]
[]
[null,null,null,{"$f":"IF('متغیرها '!W5=1,\" t1    فاصله عمودی از خط سینه جلو تا خط سینه پشت که از کنار حلقه آستین بگذرد  \",\"   \")","v":"   "}]
[]
[]
[null,null,null,{"$f":"IF('متغیرها '!W5=1,\"t4     فاصله عمودی بین خط سینه پشت و سرشانه، نزدیک دست  \",\"   \")","v":"   "}]
[]
[null,null,null,null,null,null,null,null,"اگر تحلیل اندام با شکل واقعی اندام که مشاهده میکنید متفاوت است، میتوانید تغییرات زیر را در اندازه هایی که وارد کردید اعمال کنید :"]
[null,null,null,{"$f":"IF('متغیرها '!W5=1,\"t5     فاصله عمودی بین خط سینه پشت و سرشانه، نزدیک گردن  \",\"   \")","v":"   "},null,null,null,null,"برای افزایش برجستگی سینه ،  v3 (کارور پشت) کم شود."]
[null,null,null,null,null,null,null,null,"برای افزایش برجستگی باسن ،  d  زیاد شود."]
[null,null,null,null,null,null,null,null,"برای کاهش برجستگی شکم، t3 کم شود."]
[null,null,null,{"$f":"IF('متغیرها '!W5=1,\" t6    فاصله عمودی بین خط کمر و سرشانه، نزدیک گردن  \",\"   \")","v":"   "},null,null,null,null,{"$f":"ROUND(L469,0)","v":22},"زاویه سرشانه جلو",null,"برای کاهش افتادگی سرشانه جلو، t2 کم شود."]
[null,null,null,null,null,null,null,null,{"$f":"ROUND(L468,0)","v":18},"زاویه سرشانه پشت",null,"برای کاهش افتادگی سرشانه پشت، t5 کم شود."]
[]
[]
[]
[]
[]
[]
[]
[]
[]
[]
[]
[]
[]
[]
[]
[]
[]
[]
[]
[]
[]
[]
[]
[]
[]
[]
[]
[]
[]
[]
[]
[]
[]
[]
[]
[]
[]
[null,null,null,"انتخاب نوع سایزبندی"]
[]
[]
[null,null,null,"    دور سینه : از برجسته ترین قسمت سینه",0,null,null,null,null,{"$f":"'متغیرها '!V44","v":" کوچکتر از سایز 34 "}]
[]
[]
[null,null,null,"    دور باسن",0,null,null,null,null,{"$f":"'متغیرها '!V42","v":" کوچکتر از سایز 34 "}]
[]
[]
[null,null,null,"   دور کمر",0,null,null,null,null,{"$f":"'متغیرها '!V43","v":" کوچکتر از سایز 34 "}]
[]
[]
[]
[]
[]
[]
[]
[]
[]
[]
[]
[]
[]
[]
[]
[]
[]
[]
[]
[]
[]
[]
[]
[]
[]
[]
[null,null,null,null,null,"ستون آبی رنگ را کپی کرده بعد به صورت عدد در صفحه اندازه های شخصی ذخیره کنید"]
[]
[null,null,null,"دور کمر","a",{"$f":"V404","v":131}]
[null,null,null,"نوار کمر از پشت بین دو خط پهلو","b",63.6]
[null,null,null,"دور باسن","c",150]
[null,null,null,"نوار باسن از پشت بین دو خط پهلو","d",79.8]
[null,null,null,"فاصله نوار کمر تا زمین، از قسمت جلو","e",108.9]
[null,null,null,"فاصله نوار کمر تا زمین، از قسمت پهلو","f",110]
[null,null,null,"فاصله نوار کمر تا زمین، از قسمت پشت","g",111.1]
[null,null,null,"فاصله نوار زانو تا زمین","h",46.7]
[null,null,null,"فاصله نوار باسن تا زمین","j",87.3]
[null,null,null,"دور زانو","L",61.5]
[null,null,null,"بلندی فاق","m",33.5]
[null,null,null,"آنفورشور","q",91.7]
[null,null,null,"دور مچ پا","r",30]
[null,null,null,"شلوار زنانه و بچگانه = 0       مردانه=1      بچه با پوشک=2",null,{"$f":"V418","v":0}]
[null,null,null,"دور سینه : از برجسته ترین قسمت سینه","s1",{"$f":"V424","v":146}]
[null,null,null,"پشت نوار سینه، بین دو خط پهلو","s2",67.5]
[null,null,null,"فاصله عمودی از خط سینه جلو تا خط سینه پشت که از کنار حلقه آستین بگذرد","t1",46.5]
[null,null,null,"فاصله عمودی از خط سینه جلو تا خط سینه پشت که از کنارگردن بگذرد","t2",63.3]
[null,null,null,"فاصله عمودی از خط کمر جلو تا خط کمر پشت که از کنار گردن بگذرد","t3",100]
[null,null,null,"فاصله عمودی بین خط سینه پشت و سرشانه، نزدیک دست","t4",23.8]
[null,null,null,"فاصله عمودی بین خط سینه پشت و سرشانه، نزدیک گردن","t5",30.5]
[null,null,null,"فاصله عمودی بین خط کمرپشت و سرشانه، نزدیک گردن","t6",46.9]
[null,null,null,"دور گردن (متر به طور عمودی دور گردن قرار می گیرد و از روی استخوان ترقوه می گذرد)","v",50]
[null,null,null,"کارور پشت (بین دو خط امتداد زیر بغل)","v3",55.5]
[null,null,null,"دور بازو از ناحیه زیر بغل","w2",46]
[null,null,null,"قد آستین (دست به طور خمیده، قد از سرشانه تا مچ)","w10",64]
[null,null,null,"دور مچ دست","w11",23]
[null,null,null,"دور سر","w12",57]
[]
[]
[]
[]
[]
[]
[]
[]
[]
[]
[]
[]
[]
[]
[]
[]
[]
[]
[]
[]
[null,null,null,"گزینه \" اندازه های موجود \" را انتخاب کنید"]
[null,null,null,"سایز یا اندازه شخصی خود را انتخاب کنید"]
[]
[null,null,null,"دور کمر","a",{"$f":"'متغیرها '!W52","v":131}]
[null,null,null,"نوار کمر از پشت بین دو خط پهلو","b",{"$f":"'متغیرها '!W53","v":63.6}]
[null,null,null,"دور باسن","c",{"$f":"'متغیرها '!W54","v":150}]
[null,null,null,"نوار باسن از پشت بین دو خط پهلو","d",{"$f":"'متغیرها '!W55","v":79.8}]
[null,null,null,"فاصله نوار کمر تا زمین، از قسمت جلو","e",{"$f":"'متغیرها '!W56","v":108.9}]
[null,null,null,"فاصله نوار کمر تا زمین، از قسمت پهلو","f",{"$f":"'متغیرها '!W57","v":110}]
[null,null,null,"فاصله نوار کمر تا زمین، از قسمت پشت","g",{"$f":"'متغیرها '!W58","v":111.1}]
[null,null,null,"فاصله نوار زانو تا زمین","h",{"$f":"'متغیرها '!W59","v":46.7}]
[null,null,null,"فاصله نوار باسن تا زمین","j",{"$f":"'متغیرها '!W60","v":87.3}]
[null,null,null,"دور زانو","L",{"$f":"'متغیرها '!W61","v":61.5}]
[null,null,null,"بلندی فاق","m",{"$f":"'متغیرها '!W62","v":33.5}]
[null,null,null,"آنفورشور","q",{"$f":"'متغیرها '!W63","v":91.7}]
[null,null,null,"دور مچ پا","r",{"$f":"'متغیرها '!W64","v":30}]
[null,null,null,"شلوار زنانه و بچگانه = 0       مردانه=1      بچه با پوشک=2",null,{"$f":"'متغیرها '!W66","v":0}]
[null,null,null,"دور سینه : از برجسته ترین قسمت سینه","s1",{"$f":"'متغیرها '!W72","v":146}]
[null,null,null,"پشت نوار سینه، بین دو خط پهلو","s2",{"$f":"'متغیرها '!W73","v":67.5}]
[null,null,null,"فاصله عمودی از خط سینه جلو تا خط سینه پشت که از کنار حلقه آستین بگذرد","t1",{"$f":"'متغیرها '!W74","v":46.5}]
[null,null,null,"فاصله عمودی از خط سینه جلو تا خط سینه پشت که از کنارگردن بگذرد","t2",{"$f":"'متغیرها '!W75","v":63.3}]
[null,null,null,"فاصله عمودی از خط کمر جلو تا خط کمر پشت که از کنار گردن بگذرد","t3",{"$f":"'متغیرها '!W76","v":100}]
[null,null,null,"فاصله عمودی بین خط سینه پشت و سرشانه، نزدیک دست","t4",{"$f":"'متغیرها '!W77","v":23.8}]
[null,null,null,"فاصله عمودی بین خط سینه پشت و سرشانه، نزدیک گردن","t5",{"$f":"'متغیرها '!W78","v":30.5}]
[null,null,null,"فاصله عمودی بین خط کمرپشت و سرشانه، نزدیک گردن","t6",{"$f":"'متغیرها '!W79","v":46.9}]
[null,null,null,"دور گردن (متر به طور عمودی دور گردن قرار می گیرد و از روی استخوان ترقوه می گذرد)","v",{"$f":"'متغیرها '!W80","v":50}]
[null,null,null,"کارور پشت (بین دو خط امتداد زیر بغل)","v3",{"$f":"'متغیرها '!W81","v":55.5}]
[null,null,null,"دور بازو از ناحیه زیر بغل","w2",{"$f":"'متغیرها '!W82","v":46}]
[null,null,null,"قد آستین (دست به طور خمیده، قد از سرشانه تا مچ)","w10",{"$f":"'متغیرها '!W83","v":64}]
[null,null,null,"دور مچ دست","w11",{"$f":"'متغیرها '!W84","v":23}]
[null,null,null,"دور سر","w12",{"$f":"'متغیرها '!W85","v":57}]
[]
[]
[]
[]
[]
[]
[]
[]
[]
[]
[]
[]
[]
[]
[]
[]
[]
[]
[]
[null,null,null,null,null,null,null,null,null,null,null,null,null,"کپی شود",null,"کپی شود",null,"کپی شود",null,"کپی شود",null,"اندازه جدید یا اندازه قبلی",null,null,null,"کپی اندازه های قبلی از فایل دیگر"]
[null,null,null,null,null,null,null,null,null,null,null,"اندازه ها در دامن و شلوار","اندازه جدید","اندازه گیری پیشرفته و با جزییات",null,"اندازه گیری مردان و بچه ها",null,"اندازه گیری زنان",null,"اندازه گیری پیشرفته زنان",null,"اندازه گیری تحلیل شده"," اندازه محاسبه شده برای تحلیل"]
[null,null,null,null,null,null,null,null,null,null,null,"دور کمر",{"$f":"E149","v":0},{"$f":"ROUND(M404,1)","v":0},{"$f":"ROUND(N404-0.02*N404*N418,1)","v":0},{"$f":"ROUND(M404,1)","v":0},{"$f":"ROUND(P404-0.02*P404*P418,1)","v":0},{"$f":"ROUND(M404,1)","v":0},{"$f":"ROUND(R404-0.02*R404*R418,1)","v":0},{"$f":"ROUND(M404,1)","v":0},{"$f":"ROUND(T404-0.02*T404*T418,1)","v":0},{"$f":"IF('متغیرها '!X5=2,'اندازه گیری و تحلیل'!F355,IF('متغیرها '!W5=1,'اندازه گیری و تحلیل'!N404,(IF('متغیرها '!W5=2,'اندازه گیری و تحلیل'!P404,(IF('متغیرها '!W5=3,'اندازه گیری و تحلیل'!R404,'اندازه گیری و تحلیل'!T404))))))","v":131},{"$f":"ROUND(V404-0.02*V404*V418,1)","v":131}]
[null,null,null,null,null,null,null,null,null,null,null,"نوار کمر از پشت بین دو خط پهلو",{"$f":"E209","v":0},0,{"$f":"ROUND(N405-0.02*N405*N418,1)","v":0},{"$f":"ROUND(0.49*P404,1)","v":0},{"$f":"ROUND(P405-0.02*P405*P418,1)","v":0},{"$f":"ROUND(0.46*R404,1)","v":0},{"$f":"ROUND(R405-0.02*R405*R418,1)","v":0},0,{"$f":"ROUND(T405-0.02*T405*T418,1)","v":0},{"$f":"IF('متغیرها '!X5=2,'اندازه گیری و تحلیل'!F356,IF('متغیرها '!W5=1,'اندازه گیری و تحلیل'!N405,(IF('متغیرها '!W5=2,'اندازه گیری و تحلیل'!P405,(IF('متغیرها '!W5=3,'اندازه گیری و تحلیل'!R405,'اندازه گیری و تحلیل'!T405))))))","v":63.6},{"$f":"ROUND(V405-0.02*V405*V418,1)","v":63.6}]
[null,null,null,null,null,null,null,null,null,null,null,"دور باسن",{"$f":"E152","v":0},0,{"$f":"ROUND(N406+0.01*N406*N418,1)","v":0},{"$f":"ROUND(M406,1)","v":0},{"$f":"ROUND(P406+0.01*P406*P418,1)","v":0},{"$f":"ROUND(M406,1)","v":0},{"$f":"ROUND(R406+0.01*R406*R418,1)","v":0},0,{"$f":"ROUND(T406+0.01*T406*T418,1)","v":0},{"$f":"IF('متغیرها '!X5=2,'اندازه گیری و تحلیل'!F357,IF('متغیرها '!W5=1,'اندازه گیری و تحلیل'!N406,(IF('متغیرها '!W5=2,'اندازه گیری و تحلیل'!P406,(IF('متغیرها '!W5=3,'اندازه گیری و تحلیل'!R406,'اندازه گیری و تحلیل'!T406))))))","v":150},{"$f":"ROUND(V406+0.01*V406*V418,1)","v":150}]
[null,null,null,null,null,null,null,null,null,null,null,"نوار باسن از پشت بین دو خط پهلو",{"$f":"E215","v":0},0,{"$f":"ROUND(N407+0.01*N406*N418,1)","v":0},{"$f":"ROUND(0.53*P406+0.03*P406*IF(P418=2,1,0),1)","v":0},{"$f":"ROUND(P407+0.01*P406*P418,1)","v":0},{"$f":"ROUND(0.51*R406,1)","v":0},{"$f":"ROUND(R407+0.01*R406*R418,1)","v":0},0,{"$f":"ROUND(T407+0.01*T406*T418,1)","v":0},{"$f":"IF('متغیرها '!X5=2,'اندازه گیری و تحلیل'!F358,IF('متغیرها '!W5=1,'اندازه گیری و تحلیل'!N407,(IF('متغیرها '!W5=2,'اندازه گیری و تحلیل'!P407,(IF('متغیرها '!W5=3,'اندازه گیری و تحلیل'!R407,'اندازه گیری و تحلیل'!T407))))))","v":79.8},{"$f":"ROUND(V407+0.01*V406*V418,1)","v":79.8}]
[null,null,null,null,null,null,null,null,null,null,null,"فاصله نوار کمر تا زمین، از قسمت جلو",{"$f":"E191","v":0},0,{"$f":"ROUND(N408,1)","v":0},{"$f":"ROUND(0.999*P409,1)","v":0},{"$f":"ROUND(P408,1)","v":0},{"$f":"ROUND(0.995*R409,1)","v":0},{"$f":"ROUND(R408,1)","v":0},0,{"$f":"ROUND(T408,1)","v":0},{"$f":"IF('متغیرها '!X5=2,'اندازه گیری و تحلیل'!F359,IF('متغیرها '!W5=1,'اندازه گیری و تحلیل'!N408,(IF('متغیرها '!W5=2,'اندازه گیری و تحلیل'!P408,(IF('متغیرها '!W5=3,'اندازه گیری و تحلیل'!R408,'اندازه گیری و تحلیل'!T408))))))","v":108.9},{"$f":"ROUND(V408,1)","v":108.9}]
[null,null,null,null,null,null,null,null,null,null,null,"فاصله نوار کمر تا زمین، از قسمت پهلو",{"$f":"E161","v":0},0,0,{"$f":"ROUND(M409,1)","v":0},0,{"$f":"ROUND(M409,1)","v":0},0,0,0,{"$f":"IF('متغیرها '!X5=2,'اندازه گیری و تحلیل'!F360,IF('متغیرها '!W5=1,'اندازه گیری و تحلیل'!N409,(IF('متغیرها '!W5=2,'اندازه گیری و تحلیل'!P409,(IF('متغیرها '!W5=3,'اندازه گیری و تحلیل'!R409,'اندازه گیری و تحلیل'!T409))))))","v":110},{"$f":"ROUND(0.5*(V408+V410),1)","v":110}]
[null,null,null,null,null,null,null,null,null,null,null,"فاصله نوار کمر تا زمین، از قسمت پشت",{"$f":"E188","v":0},0,0,{"$f":"ROUND(1.001*P409,1)","v":0},0,{"$f":"ROUND(1.005*R409,1)","v":0},0,0,0,{"$f":"IF('متغیرها '!X5=2,'اندازه گیری و تحلیل'!F361,IF('متغیرها '!W5=1,'اندازه گیری و تحلیل'!N410,(IF('متغیرها '!W5=2,'اندازه گیری و تحلیل'!P410,(IF('متغیرها '!W5=3,'اندازه گیری و تحلیل'!R410,'اندازه گیری و تحلیل'!T410))))))","v":111.1},{"$f":"ROUND(V410,1)","v":111.1}]
[null,null,null,null,null,null,null,null,null,null,null,"فاصله نوار زانو تا زمین",{"$f":"E197","v":0},0,0,{"$f":"ROUND(0.55*P412*(1-0.15*IF(M418=2,1,0)),1)","v":0},0,{"$f":"ROUND(0.53*R412,1)","v":0},0,0,0,{"$f":"IF('متغیرها '!X5=2,'اندازه گیری و تحلیل'!F362,IF('متغیرها '!W5=1,'اندازه گیری و تحلیل'!N411,(IF('متغیرها '!W5=2,'اندازه گیری و تحلیل'!P411,(IF('متغیرها '!W5=3,'اندازه گیری و تحلیل'!R411,'اندازه گیری و تحلیل'!T411))))))","v":46.7},{"$f":"ROUND(V411,1)","v":46.7}]
[null,null,null,null,null,null,null,null,null,null,null,"فاصله نوار باسن تا زمین",{"$f":"E194","v":0},0,0,{"$f":"ROUND(P409-Q414+L445+0.1*L446,1)","v":0},0,{"$f":"ROUND(R409-S414+L445-0.3*L446,1)","v":0},0,0,0,{"$f":"IF('متغیرها '!X5=2,'اندازه گیری و تحلیل'!F363,IF('متغیرها '!W5=1,'اندازه گیری و تحلیل'!N412,(IF('متغیرها '!W5=2,'اندازه گیری و تحلیل'!P412,(IF('متغیرها '!W5=3,'اندازه گیری و تحلیل'!R412,'اندازه گیری و تحلیل'!T412))))))","v":87.3},{"$f":"ROUND(V412,1)","v":87.3}]
[null,null,null,null,null,null,null,null,null,null,null,"دور زانو",{"$f":"E200","v":0},0,0,{"$f":"ROUND(0.41*M406,1)","v":0},0,{"$f":"ROUND(0.39*M406,1)","v":0},0,0,0,{"$f":"IF('متغیرها '!X5=2,'اندازه گیری و تحلیل'!F364,IF('متغیرها '!W5=1,'اندازه گیری و تحلیل'!N413,(IF('متغیرها '!W5=2,'اندازه گیری و تحلیل'!P413,(IF('متغیرها '!W5=3,'اندازه گیری و تحلیل'!R413,'اندازه گیری و تحلیل'!T413))))))","v":61.5},{"$f":"ROUND(V413,1)","v":61.5}]
[null,null,null,null,null,null,null,null,null,null,null,"بلندی فاق",{"$f":"E164","v":0},0,{"$f":"ROUND(1.06*N414+0.022*N408*N418,1)","v":0},{"$f":"ROUND(M414,1)","v":0},{"$f":"ROUND(1.06*P414+0.022*P408*P418,1)","v":0},{"$f":"ROUND(M414,1)","v":0},{"$f":"ROUND(1.06*R414+0.022*R408*R418,1)","v":0},0,{"$f":"ROUND(1.06*T414+0.022*T408*T418,1)","v":0},{"$f":"IF('متغیرها '!X5=2,'اندازه گیری و تحلیل'!F365,IF('متغیرها '!W5=1,'اندازه گیری و تحلیل'!N414,(IF('متغیرها '!W5=2,'اندازه گیری و تحلیل'!P414,(IF('متغیرها '!W5=3,'اندازه گیری و تحلیل'!R414,'اندازه گیری و تحلیل'!T414))))))","v":33.5},{"$f":"ROUND(1.06*V414+0.022*V408*V418,1)","v":35.5}]
[null,null,null,null,null,null,null,null,null,null,null,"آنفورشور",{"$f":"E206","v":0},0,{"$f":"ROUND(N415,1)","v":0},{"$f":"ROUND(1.02*(SQRT(POWER((Q414+0.5*(Q410-Q408)-L445),2)+2.25*L448*L448)+1.45*L445+L446+1.45*L444+SQRT(POWER((Q414-0.5*(Q410-Q408)-L444),2)+POWER(IF(L447>1,(0.25*L448+(5/4)*L447),IF(L447>0,(0.25*L448+(7/4)*L447),0.2*L444)),2))),1)","v":5.7},{"$f":"ROUND(P415,1)","v":5.7},{"$f":"ROUND(1.02*(SQRT(POWER((S414+0.5*(S410-S408)-L445),2)+2.25*L448*L448)+1.45*L445+L446+1.45*L444+SQRT(POWER((S414-0.5*(S410-S408)-L444),2)+POWER(IF(L447>1,(0.25*L448+(5/4)*L447),IF(L447>0,(0.25*L448+(7/4)*L447),0.2*L444)),2))),1)","v":5.7},{"$f":"ROUND(R415,1)","v":5.7},0,{"$f":"ROUND(T415,1)","v":0},{"$f":"IF('متغیرها '!X5=2,'اندازه گیری و تحلیل'!F366,IF('متغیرها '!W5=1,'اندازه گیری و تحلیل'!N415,(IF('متغیرها '!W5=2,'اندازه گیری و تحلیل'!P415,(IF('متغیرها '!W5=3,'اندازه گیری و تحلیل'!R415,'اندازه گیری و تحلیل'!T415))))))","v":91.7},{"$f":"ROUND(V415,1)","v":91.7}]
[null,null,null,null,null,null,null,null,null,null,null,"دور مچ پا",{"$f":"E203","v":0},0,{"$f":"ROUND(N416,1)","v":0},{"$f":"ROUND(1.35*P436,1)","v":0},{"$f":"ROUND(P416,1)","v":0},{"$f":"ROUND(1.4*R436,1)","v":0},{"$f":"ROUND(R416,1)","v":0},0,{"$f":"ROUND(T416,1)","v":0},{"$f":"IF('متغیرها '!X5=2,'اندازه گیری و تحلیل'!F367,IF('متغیرها '!W5=1,'اندازه گیری و تحلیل'!N416,(IF('متغیرها '!W5=2,'اندازه گیری و تحلیل'!P416,(IF('متغیرها '!W5=3,'اندازه گیری و تحلیل'!R416,'اندازه گیری و تحلیل'!T416))))))","v":30},{"$f":"ROUND(V416,1)","v":30}]
[]
[null,null,null,null,null,null,null,null,null,null,null,"شلوار زنانه و بچگانه = 0       مردانه=1      بچه با پوشک=2",{"$f":"'متغیرها '!V5-1","v":0},{"$f":"ROUND(M418,1)","v":0},null,{"$f":"ROUND(M418,1)","v":0},null,0,null,{"$f":"ROUND(M418,1)","v":0},null,{"$f":"IF('متغیرها '!X5=2,'اندازه گیری و تحلیل'!F368,IF('متغیرها '!W5=1,'اندازه گیری و تحلیل'!N418,(IF('متغیرها '!W5=2,'اندازه گیری و تحلیل'!P418,(IF('متغیرها '!W5=3,'اندازه گیری و تحلیل'!R418,'اندازه گیری و تحلیل'!T418))))))","v":0}]
[null,null,null,null,null,null,null,null,null,null,"قد سرشانه تا زمین",{"$f":"0.5*(V428+V408+V410)","v":160}]
[null,null,null,null,null,null,null,null,null,null,"تمام قد (تقریبی)",{"$f":"ROUND(L419+IF(V437>51.5,0.35,IF(V437>50.5,0.33,0.31))*V437,0)","v":180}]
[null,null,null,null,null,null,null,null,null,null,null,"اندازه ها در بالاتنه","اندازه شخص","اندازه شخص",null,"اندازه شخص",null,"اندازه شخص",null,"اندازه شخص",null,"اندازه شخص"]
[null,null,null,null,null,null,null,null,null,null,null,"دور کمر",null,{"$f":"ROUND(N404,1)","v":0},{"$f":"N422","v":0},{"$f":"P404","v":0},{"$f":"P422","v":0},{"$f":"R404","v":0},{"$f":"R422","v":0},{"$f":"T404","v":0},{"$f":"T422","v":0},{"$f":"IF('متغیرها '!X5=2,V404,IF('متغیرها '!W5=1,'اندازه گیری و تحلیل'!N422,(IF('متغیرها '!W5=2,'اندازه گیری و تحلیل'!P422,(IF('متغیرها '!W5=3,'اندازه گیری و تحلیل'!R422,'اندازه گیری و تحلیل'!T422))))))","v":131},{"$f":"V422","v":131}]
[null,null,null,null,null,null,null,null,null,null,null,"نوار کمر از پشت بین دو خط پهلو",null,{"$f":"ROUND(N405,1)","v":0},{"$f":"N423","v":0},{"$f":"P405","v":0},{"$f":"P423","v":0},{"$f":"R405","v":0},{"$f":"R423","v":0},{"$f":"T405","v":0},{"$f":"T423","v":0},{"$f":"IF('متغیرها '!X5=2,V405,IF('متغیرها '!W5=1,'اندازه گیری و تحلیل'!N423,(IF('متغیرها '!W5=2,'اندازه گیری و تحلیل'!P423,(IF('متغیرها '!W5=3,'اندازه گیری و تحلیل'!R423,'اندازه گیری و تحلیل'!T423))))))","v":63.6},{"$f":"V423","v":63.6}]
[null,null,null,null,null,null,null,null,null,null,null,"دور سینه : از برجسته ترین قسمت سینه",{"$f":"E155","v":0},{"$f":"ROUND(M424,1)","v":0},{"$f":"N424","v":0},{"$f":"ROUND(M424,1)","v":0},{"$f":"P424","v":0},{"$f":"ROUND(M424,1)","v":0},{"$f":"R424","v":0},{"$f":"ROUND(M424,1)","v":0},{"$f":"T424","v":0},{"$f":"IF('متغیرها '!X5=2,'اندازه گیری و تحلیل'!F369,IF('متغیرها '!W5=1,'اندازه گیری و تحلیل'!N424,(IF('متغیرها '!W5=2,'اندازه گیری و تحلیل'!P424,(IF('متغیرها '!W5=3,'اندازه گیری و تحلیل'!R424,'اندازه گیری و تحلیل'!T424))))))","v":146},{"$f":"V424","v":146}]
[null,null,null,null,null,null,null,null,null,null,null,"پشت نوار سینه، بین دو خط پهلو",{"$f":"E212","v":0},0,{"$f":"N425","v":0},{"$f":"ROUND(0.5*P424,1)","v":0},{"$f":"P425","v":0},{"$f":"ROUND(M433+0.24*M434,1)","v":0},{"$f":"R425","v":0},{"$f":"ROUND(M425,1)","v":0},{"$f":"T425","v":0},{"$f":"IF('متغیرها '!X5=2,'اندازه گیری و تحلیل'!F370,IF('متغیرها '!W5=1,'اندازه گیری و تحلیل'!N425,(IF('متغیرها '!W5=2,'اندازه گیری و تحلیل'!P425,(IF('متغیرها '!W5=3,'اندازه گیری و تحلیل'!R425,'اندازه گیری و تحلیل'!T425))))))","v":67.5},{"$f":"V425","v":67.5}]
[null,null,null,null,null,null,null,null,null,null,null,"فاصله عمودی از خط سینه جلو تا خط سینه پشت که از کنار حلقه آستین بگذرد",{"$f":"E218","v":0},0,{"$f":"N426-N429","v":0},{"$f":"ROUND(2*P429-0.5*(2*P430-P427),1)","v":{"$error":"#DIV/0!"}},{"$f":"P426-P429","v":{"$error":"#DIV/0!"}},{"$f":"ROUND(M427-R430+R429-(L462+L458)*SIN(RADIANS(L461)),1)","v":-14.5},{"$f":"R426-R429","v":-7.3},{"$f":"ROUND(M427-T430+T429-(L462+L458)*SIN(RADIANS(L461)),1)","v":-14.5},{"$f":"T426-T429","v":-7.3},{"$f":"IF('متغیرها '!X5=2,'اندازه گیری و تحلیل'!F371,IF('متغیرها '!W5=1,'اندازه گیری و تحلیل'!N426,(IF('متغیرها '!W5=2,'اندازه گیری و تحلیل'!P426,(IF('متغیرها '!W5=3,'اندازه گیری و تحلیل'!R426,'اندازه گیری و تحلیل'!T426))))))","v":46.5},{"$f":"V426-V429","v":22.7}]
[null,null,null,null,null,null,null,null,null,null,null,"فاصله عمودی از خط سینه جلو تا خط سینه پشت که از کنارگردن بگذرد",{"$f":"E182","v":0},0,{"$f":"N427-N430","v":0},{"$f":"ROUND(P430+(P428-P431)*0.95*P430/P431,1)","v":{"$error":"#DIV/0!"}},{"$f":"P427-P430","v":{"$error":"#DIV/0!"}},{"$f":"ROUND(M427,1)","v":0},{"$f":"R427-R430","v":1.3},{"$f":"ROUND(M427,1)","v":0},{"$f":"T427-T430","v":1.3},{"$f":"IF('متغیرها '!X5=2,'اندازه گیری و تحلیل'!F372,IF('متغیرها '!W5=1,'اندازه گیری و تحلیل'!N427,(IF('متغیرها '!W5=2,'اندازه گیری و تحلیل'!P427,(IF('متغیرها '!W5=3,'اندازه گیری و تحلیل'!R427,'اندازه گیری و تحلیل'!T427))))))","v":63.3},{"$f":"V427-V430","v":32.799999999999997}]
[null,null,null,null,null,null,null,null,null,null,null,"فاصله عمودی از خط کمر جلو تا خط کمر پشت که از کنار گردن بگذرد",{"$f":"E179","v":0},0,{"$f":"N428-N431","v":0},{"$f":"ROUND(M428,1)","v":0},{"$f":"P428-P431","v":0},{"$f":"ROUND(M428,1)","v":0},{"$f":"R428-R431","v":2.4},{"$f":"ROUND(M428,1)","v":0},{"$f":"T428-T431","v":1.3},{"$f":"IF('متغیرها '!X5=2,'اندازه گیری و تحلیل'!F373,IF('متغیرها '!W5=1,'اندازه گیری و تحلیل'!N428,(IF('متغیرها '!W5=2,'اندازه گیری و تحلیل'!P428,(IF('متغیرها '!W5=3,'اندازه گیری و تحلیل'!R428,'اندازه گیری و تحلیل'!T428))))))","v":100},{"$f":"V428-V431","v":53.1}]
[null,null,null,null,null,null,null,null,null,null,null,"فاصله عمودی بین خط سینه پشت و سرشانه، نزدیک دست",{"$f":"E221","v":0},0,{"$f":"N429","v":0},{"$f":"ROUND(P430-(P433-0.036*P434)*SIN(0.12),1)","v":0},{"$f":"P429","v":0},{"$f":"ROUND(R430-0.5*0.01*M428-L462*SIN(RADIANS(L461)),1)","v":-7.2},{"$f":"R429","v":-7.2},{"$f":"ROUND(T430-0.5*0.01*M428-L462*SIN(RADIANS(L461)),1)","v":-7.2},{"$f":"T429","v":-7.2},{"$f":"IF('متغیرها '!X5=2,'اندازه گیری و تحلیل'!F374,IF('متغیرها '!W5=1,'اندازه گیری و تحلیل'!N429,(IF('متغیرها '!W5=2,'اندازه گیری و تحلیل'!P429,(IF('متغیرها '!W5=3,'اندازه گیری و تحلیل'!R429,'اندازه گیری و تحلیل'!T429))))))","v":23.8},{"$f":"V429","v":23.8}]
[null,null,null,null,null,null,null,null,null,null,null,"فاصله عمودی بین خط سینه پشت و سرشانه، نزدیک گردن",{"$f":"E224","v":0},0,0,{"$f":"ROUND(0.6*P431,1)","v":0},0,{"$f":"ROUND(0.5*M427+0.01*M428-0.5*(L458-0.05*M434)*SIN(RADIANS(L461)),1)","v":-1.3},-1.3,{"$f":"ROUND(0.5*M427+0.01*M428-0.5*(L458-0.05*M434)*SIN(RADIANS(L461)),1)","v":-1.3},-1.3,{"$f":"IF('متغیرها '!X5=2,'اندازه گیری و تحلیل'!F375,IF('متغیرها '!W5=1,'اندازه گیری و تحلیل'!N430,(IF('متغیرها '!W5=2,'اندازه گیری و تحلیل'!P430,(IF('متغیرها '!W5=3,'اندازه گیری و تحلیل'!R430,'اندازه گیری و تحلیل'!T430))))))","v":30.5},30.5]
[null,null,null,null,null,null,null,null,null,null,null,"فاصله عمودی بین خط کمرپشت و سرشانه، نزدیک گردن",{"$f":"E227","v":0},0,0,{"$f":"ROUND(0.51*P428,1)","v":0},0,{"$f":"ROUND(0.5*R428-0.5*L460-0.9*(L458-0.05*R434)*SIN(RADIANS(L461)),1)","v":-2.4},-2.4,{"$f":"ROUND(0.51*T428-0.5*L460-0.5*(L458-0.05*T434)*SIN(RADIANS(L461)),1)","v":-1.3},-1.3,{"$f":"IF('متغیرها '!X5=2,'اندازه گیری و تحلیل'!F376,IF('متغیرها '!W5=1,'اندازه گیری و تحلیل'!N431,(IF('متغیرها '!W5=2,'اندازه گیری و تحلیل'!P431,(IF('متغیرها '!W5=3,'اندازه گیری و تحلیل'!R431,'اندازه گیری و تحلیل'!T431))))))","v":46.9},46.9]
[null,null,null,null,null,null,null,null,null,null,null,"دور گردن (متر به طور عمودی دور گردن قرار می گیرد و از روی استخوان ترقوه می گذرد)",{"$f":"E173","v":0},0,0,{"$f":"ROUND(M432,1)","v":0},0,{"$f":"ROUND(M432,1)","v":0},0,{"$f":"ROUND(M432,1)","v":0},0,{"$f":"IF('متغیرها '!X5=2,'اندازه گیری و تحلیل'!F377,IF('متغیرها '!W5=1,'اندازه گیری و تحلیل'!N432,(IF('متغیرها '!W5=2,'اندازه گیری و تحلیل'!P432,(IF('متغیرها '!W5=3,'اندازه گیری و تحلیل'!R432,'اندازه گیری و تحلیل'!T432))))))","v":50},50]
[null,null,null,null,{"$f":"V425-0.26*V434","v":55.54},":(زنانه)   v3  محاسبه ",null,null,null,null,null,"کارور پشت (بین دو خط امتداد زیر بغل)",{"$f":"E185","v":0},0,0,{"$f":"ROUND(P425-0.24*P434,1)","v":0},0,0,0,0,0,{"$f":"IF('متغیرها '!X5=2,'اندازه گیری و تحلیل'!F378,IF('متغیرها '!W5=1,'اندازه گیری و تحلیل'!N433,(IF('متغیرها '!W5=2,'اندازه گیری و تحلیل'!P433,(IF('متغیرها '!W5=3,'اندازه گیری و تحلیل'!R433,'اندازه گیری و تحلیل'!T433))))))","v":55.5},55.5]
[null,null,null,null,{"$f":"V425-0.23*V434","v":56.92}," :( بچگانه و مردانه)   v3  محاسبه ",null,null,null,null,null,"دور بازو از ناحیه زیر بغل",{"$f":"E167","v":0},0,0,{"$f":"ROUND(M434,1)","v":0},0,0,0,0,0,{"$f":"IF('متغیرها '!X5=2,'اندازه گیری و تحلیل'!F379,IF('متغیرها '!W5=1,'اندازه گیری و تحلیل'!N434,(IF('متغیرها '!W5=2,'اندازه گیری و تحلیل'!P434,(IF('متغیرها '!W5=3,'اندازه گیری و تحلیل'!R434,'اندازه گیری و تحلیل'!T434))))))","v":46},46]
[null,null,null,null,null,null,null,null,null,null,null,"قد آستین (دست به طور خمیده، قد از سرشانه تا مچ)",{"$f":"E158","v":0},0,0,{"$f":"ROUND(M435,1)","v":0},0,0,0,0,0,{"$f":"IF('متغیرها '!X5=2,'اندازه گیری و تحلیل'!F380,IF('متغیرها '!W5=1,'اندازه گیری و تحلیل'!N435,(IF('متغیرها '!W5=2,'اندازه گیری و تحلیل'!P435,(IF('متغیرها '!W5=3,'اندازه گیری و تحلیل'!R435,'اندازه گیری و تحلیل'!T435))))))","v":64},64]
[null,null,null,null,null,null,null,null,null,null,null,"دور مچ دست",{"$f":"E170","v":0},0,{"$f":"1.2*N436","v":0},{"$f":"ROUND(M436,1)","v":0},{"$f":"1.2*P436","v":0},0,{"$f":"1.2*R436","v":0},0,{"$f":"1.2*T436","v":0},{"$f":"IF('متغیرها '!X5=2,'اندازه گیری و تحلیل'!F381,IF('متغیرها '!W5=1,'اندازه گیری و تحلیل'!N436,(IF('متغیرها '!W5=2,'اندازه گیری و تحلیل'!P436,(IF('متغیرها '!W5=3,'اندازه گیری و تحلیل'!R436,'اندازه گیری و تحلیل'!T436))))))","v":23},{"$f":"1.2*V436","v":27.599999999999998}]
[null,null,null,null,null,null,null,null,null,null,null,"دور سر",{"$f":"E176","v":0},0,null,{"$f":"ROUND(M437,1)","v":0},null,0,null,0,null,{"$f":"IF('متغیرها '!X5=2,'اندازه گیری و تحلیل'!F382,IF('متغیرها '!W5=1,'اندازه گیری و تحلیل'!N437,(IF('متغیرها '!W5=2,'اندازه گیری و تحلیل'!P437,(IF('متغیرها '!W5=3,'اندازه گیری و تحلیل'!R437,'اندازه گیری و تحلیل'!T437))))))","v":57}]
[null,null,null,null,null,null,null,null,null,null,"زاویه سرشانه با افق       کم = 1       متوسط=2     زیاد=3","p",2]
[null,null,null,null,null,null,null,null,null,null,"شکم جلوتر از سینه است = 1       شکم در امتداد سینه است=2      شکم عقب تر از سینه است=3","p3",2]
[]
[]
[]
[]
[null,null,null,null,null,null,null,null,null,null,"x1",{"$f":"(2*0.35)*M406/(3.5*3.14)","v":0},null,null,null,null,null,null,null,"اضافه طول عمودی ناشی از برجستگی شکم (ناشی از محاسبه)",null,{"$f":"L485","v":-0.8}]
[null,null,null,null,null,null,null,null,null,null,"x2",{"$f":"1.5*L444","v":0},null,null,null,null,null,null,null,"اضافه طول عمودی ناشی از برجستگی شکم (ناشی از اندازه گیری t3)    s'3 ",null,{"$f":"L487","v":2.2000000000000002}]
[null,null,null,null,null,null,null,null,null,null,"x'2",{"$f":"1*L444","v":0}]
[null,null,null,null,null,null,null,null,null,null,"y",{"$f":"0.167*(W406-W407-W404+W405)","v":0.46760000000000074}]
[null,null,null,null,null,null,null,null,null,null,"x",{"$f":"0.167*(V407-V405)","v":2.7053999999999996}]
[null,null,null,null,null,null,null,null,null,null,"نسبت برای x1",{"$f":"((V415-2*W414)/(0.28*(V406-V407)))","v":1.0531135531135531}]
[null,null,null,null,null,null,null,null,null,null,"زاویه خام سرشانه پشت",{"$f":"DEGREES(ATAN((V430-V429)/(0.5*V433+0.018*V434-0.16*V432)))","v":18.034753931062454}]
[null,null,null,null,null,null,null,null,null,null,"زاویه خام سرشانه جلو",{"$f":"DEGREES(ATAN((V427-V430-V426+V429-0.15*(V424-2*V425))/(0.5*V433+0.018*V434-0.16*V432)))","v":22.324657171603633}]
[null,null,null,null,null,null,null,null,null,null,"اختلاف نسبی زاویه سرشانه",{"$f":"(L451-L450)/(L451+L450)","v":0.10629251327846539}]
[null,null,null,null,null,null,null,null,null,null,"α'6",{"$f":"IF(ATAN((0.5*(V424-V425-V404+V405))/(V431-V430))>0,ATAN((0.5*(V424-V425-V404+V405))/(V431-V430)),0)","v":0.32631673270712425}]
[null,null,null,null,null,null,null,null,null,null,"زاویه s'3 با خط افق به درجه",{"$f":"ROUND(DEGREES(ATAN((V428-V427-V431+V430-((V431-V430)/COS(L453)))/(0.25*(V404-V405)))),1)","v":10.1}]
[null,null,null,null,null,null,null,null,null,null," w1 محاسبه",{"$f":"V425-0.23*V434","v":56.92}]
[null,null,null,null,null,null,null,null,null,null,"زاویه خام متوسط سرشانه ",{"$f":"ROUND(0.5*(L450+L451),0)","v":20}]
[]
[null,null,null,null,null,null,null,null,null,null,"پهنای ساسون سرشانه جلو   p1",{"$f":"(1/COS(RADIANS(L461)))*(0.5*V424+(0.122-0.3)*V434-V433)","v":9.6872683467432346}]
[null,null,null,null,null,null,null,null,null,null,"α'6",{"$f":"ATAN((V424-V425-V404+V405)/(V428-V427))","v":0.29370510445421028}]
[null,null,null,null,null,null,null,null,null,null,"s'3",{"$f":"IF(M439=3,0.5*(V428-V427)*((1/COS(L459))-1),IF(M439=1,0.2*0.5*(V428-V427),0))","v":0}]
[null,null,null,null,null,null,null,null,null,null,"p2",{"$f":"IF(M438=1,10,IF(M438=3,23,16))","v":16}]
[null,null,null,null,null,null,null,null,null,null,"w",{"$f":"(1/COS(RADIANS(L461)))*(0.5*V433+0.018*V434-0.16*V432)","v":21.407281791160045}]
[]
[]
[null,null,null,null,null,null,null,null,null,null,"y",{"$f":"0.167*(W406-W407-W404+W405)","v":0.46760000000000074}]
[null,null,null,null,null,null,null,null,null,null,"x",{"$f":"0.167*(V407-V405)","v":2.7053999999999996}]
[]
[null,null,null,null,null,null,null,null,null,null,"زاویه خام سرشانه پشت",{"$f":"DEGREES(ATAN((V430-V429)/(0.5*V433+0.018*V434-0.16*V432)))","v":18.034753931062454}]
[null,null,null,null,null,null,null,null,null,null,"زاویه خام سرشانه جلو",{"$f":"DEGREES(ATAN((V427-V430-V426+V429-0.15*(V424-2*V425))/(0.5*V433+0.018*V434-0.16*V432)))","v":22.324657171603633}]
[null,null,null,null,null,null,null,null,null,null,"اختلاف نسبی زاویه سرشانه",{"$f":"(L469-L468)/(L469+L468)","v":0.10629251327846539}]
[null,null,null,null,null,null,null,null,null,null,"α'6",{"$f":"ATAN((0.5*(V424-V425-V404+V405))/(V431-V430))","v":0.32631673270712425},{"$f":"DEGREES(L471)","v":18.696571568616811}]
[null,null,null,null,null,null,null,null,null,null,"زاویه s'3 با خط افق به درجه",{"$f":"ROUND(DEGREES(ATAN((V428-V427-V431+V430-((V431-V430)/COS(L471)))/(0.25*(V404-V405)))),1)","v":10.1}]
[]
[null,null,null,null,null,null,null,null,null,null,"زاویه خام متوسط سرشانه p2",{"$f":"ROUND(0.5*(L468+L469),0)","v":20}]
[]
[null,null,null,null,null,null,null,null,null,null,"میزان برجستگی باسن",{"$f":"ROUND(500*(L466/(V410-V412)),0)","v":57}]
[]
[null,null,null,null,null,null,null,null,null,null,"پهنای ساسون سرشانه جلو  p1",{"$f":"(1/COS(RADIANS(L474)))*(0.5*V424+(0.122-0.3)*V434-V433)","v":9.9096234172956912}]
[null,null,null,null,null,null,null,null,null,null,"میزان برجستگی سینه",{"$f":"ROUND(500*(L478/V425),0)","v":73}]
[]
[null,null,null,null,null,null,null,null,null,null,"  ناشی از ساسون کمر    α''6",{"$f":"ATAN((0.5*(V424-V425-V405))/(V431-V430))","v":0.42639776650560146},{"$f":"DEGREES(L481)","v":24.430792414575699}]
[null,null,null,null,null,null,null,null,null,null,"  ناشی از ساسون سرشانه    α''6",{"$f":"ATAN((L478)/(V428-V431-V427+V430))","v":0.45412984553313457},{"$f":"DEGREES(L482)","v":26.01972349997661}]
[null,null,null,null,null,null,null,null,null,null,"متوسط    α''6",{"$f":"0.5*(L481+L482)","v":0.44026380601936799},{"$f":"DEGREES(L483)","v":25.225257957276153}]
[null,null,null,null,null,null,null,null,null,null,"میزان برجستگی عمودی شکم",{"$f":"ROUND(IF(L471>0,20*(L483-L471)/L483,20+150*(L483-L471)*L483),0)","v":5}]
[null,null,null,null,null,null,null,null,null,null,"اضافه طول عمودی ناشی از برجستگی شکم (ناشی از محاسبه)",{"$f":"ROUND(IF(L471>0,(V431-V430)*(-(1/COS(L483))+(1/COS(L471))),(V431-V430)*((1/COS(L483))+(1/COS(L471))-2)),1)","v":-0.8}]
[null,null,null,null,null,null,null,null,null,null,"اضافه طول عمودی ناشی از برجستگی سینه",{"$f":"ROUND((V431-V430)*((1/COS(L483))-1),1)","v":1.7}]
[null,null,null,null,null,null,null,null,null,null,"اضافه طول عمودی ناشی از برجستگی شکم (ناشی از اندازه گیری t3)    s'3 ",{"$f":"ROUND(V428-V427-V431+V430-((V431-V430)/COS(L483)),1)","v":2.2000000000000002}]

{"sheet":"طراحی همه الگوها","index":6,"n_rows":519,"n_cols":22,"rows_kept":519,"cut":false,"hidden":true,"merged":[]}
[]
[]
[]
[]
[null,null,null,null,null,null,null,null,null,null,null,null,null,null,null,null,null,null,""]
[]
[]
[]
[]
[]
[]
[]
[]
[]
[]
[]
[]
[]
[]
[]
[]
[]
[]
[]
[]
[]
[]
[]
[]
[]
[]
[]
[]
[]
[]
[]
[]
[]
[]
[]
[]
[]
[]
[]
[]
[]
[]
[]
[]
[]
[]
[]
[]
[]
[]
[]
[]
[]
[]
[]
[]
[]
[]
[]
[]
[]
[]
[]
[]
[]
[]
[]
[]
[]
[]
[]
[]
[]
[]
[]
[]
[]
[]
[]
[]
[]
[]
[]
[]
[]
[]
[]
[]
[]
[]
[]
[]
[]
[]
[]
[]
[]
[]
[]
[]
[]
[]
[]
[]
[]
[]
[]
[]
[]
[]
[]
[]
[]
[]
[]
[]
[]
[]
[]
[]
[]
[]
[]
[]
[]
[]
[]
[]
[]
[]
[]
[]
[]
[]
[]
[]
[]
[]
[]
[]
[]
[]
[]
[]
[]
[{"$f":"'طراحی مدل 16'!A328","v":"38زنانه"},null,null,{"$f":"'طراحی مدل 16'!A328","v":"38زنانه"},null,null,{"$f":"'طراحی مدل 16'!A328","v":"38زنانه"},null,null,{"$f":"'طراحی مدل 16'!A328","v":"38زنانه"}]
["محاسبات در بافت بالاتنه و آستین (بافت انتخابی) ",null,null,"یقه شکاری تا خط مرکزی جلو - بافت انتخابی یقه شکاری","تعداد دانه",null,"یقه شومیزیه - بافت همه از زیر","تعداد دانه",null,"یقه انگلیسی - بافت جودانه","تعداد دانه"]
[" b6  تعداد دانه های جادکمه ",{"$f":"محاسبات!I84","v":44},null,"a1",{"$f":"محاسبات!L77","v":144},null,"e1",{"$f":"محاسبات!O77","v":61},null,"d1",{"$f":"محاسبات!R77","v":104}]
[" b3  تعداد دانه های جلو بدون جادکمه (بین خط رگلان و خط مرکزی جلو که نیمه جادکمه از آن کم شود) ",{"$f":"محاسبات!J85","v":-8},null,"a2",{"$f":"محاسبات!L78","v":5},null,"e2",{"$f":"محاسبات!O78","v":6},null,"d2",{"$f":"محاسبات!R78","v":12}]
["b4   تعداد دانه های آستین",{"$f":"محاسبات!J86","v":12},null,"a3",{"$f":"محاسبات!L79","v":17},null,"e3",{"$f":"محاسبات!O79","v":7},null,"d3",{"$f":"محاسبات!R79","v":8}]
["b5  تعداد دانه های پشت",{"$f":"محاسبات!J87","v":20},null,"a4",{"$f":"محاسبات!L80","v":33},null,"e4",{"$f":"محاسبات!O80","v":10},null,"d4",{"$f":"محاسبات!R80","v":4}]
[" b2  تعداد دانه های اضافه شده  از خط مرکزی تا خط جادکمه = نیمه جادکمه",{"$f":"محاسبات!F76","v":22},null,"a5",{"$f":"محاسبات!L81","v":50},null,"e5",{"$f":"محاسبات!O81","v":13},null,"d5",{"$f":"محاسبات!R81","v":120}]
["(بدون اعمال بافت اننتخابی)  b1 تعداد دانه ها  دور تا دور گردن ",{"$f":"محاسبات!F77","v":72},null,"a6",{"$f":"محاسبات!L82","v":7},null,"e6",{"$f":"محاسبات!O82","v":6},null,"d6",{"$f":"محاسبات!R82","v":20}]
["تعداد رج دوبل برای گودی گردن جلو b13",{"$f":"محاسبات!F78","v":4},null,"a10",{"$f":"محاسبات!L83","v":2},null,"e7",{"$f":"محاسبات!O83","v":22},null,"d7",{"$f":"محاسبات!R83","v":12}]
["تعداد رج سوبل برای گودی گردن جلو b13",{"$f":"محاسبات!F79","v":2},null,"a11",{"$f":"محاسبات!L84","v":1},null,"e8",{"$f":"محاسبات!O84","v":40},null,"d8",{"$f":"محاسبات!R84","v":38}]
["فاصله  گردن تا محل جدا شدن آستین در قسمت جلو (cm)     b7",{"$f":"محاسبات!F80","v":21},null,null,null,null,"e9",{"$f":"محاسبات!O85","v":-55},null,"d9",{"$f":"محاسبات!R85","v":6}]
["تعداد دانه های اضافه شده زیر بغل   b8",{"$f":"محاسبات!F81","v":11},null,null,null,null,null,null,null,"d10",{"$f":"محاسبات!R86","v":11}]
["تعداد دانه های سرتاسر آستین در قسمت زیر بغل   b20",{"$f":"محاسبات!F82","v":77},null,{"$f":"'طراحی مدل 16'!A328","v":"38زنانه"},null,null,null,null,null,"d12",{"$f":"محاسبات!R87","v":74}]
["فاصله زیر بغل تا پایین لباس (cm)     b9",{"$f":"محاسبات!F83","v":78},null,"یقه ب ب گرد - بافت همه از زیر","تعداد دانه"]
["فاصله زیر بغل تا لبه پایین آستین (cm)     b10",{"$f":"محاسبات!F84","v":40},null,"c1",{"$f":"محاسبات!I77","v":116}]
["گشادی لبه پایین آستین (cm)     b'11",{"$f":"محاسبات!F85","v":30},null,"c2",{"$f":"محاسبات!I78","v":11}]
["تعداد دانه ها  لبه پایین آستین      b'12",{"$f":"محاسبات!F86","v":54},null,"c3",{"$f":"محاسبات!I79","v":20}]
["پهنای مچ جدا در پایین آستین (cm)     b14",{"$f":"محاسبات!F87","v":7},null,"c4",{"$f":"محاسبات!I80","v":12}]
["گشادی مچ جدا در پایین آستین (cm)     b15",{"$f":"محاسبات!F88","v":21}]
["در بالای مچ جدا هر b12   دانه یکی کم شود",{"$f":"محاسبات!F89","v":3}]
["هر b11   رج در بافت آستین یکدانه از ابتدا و یکدانه از انتها کم شود",{"$f":"محاسبات!F90","v":10}]
[]
[]
["طراحی الگو جلو و پشت",null,null,"طراحی یقه و جیب و دامن در الگو جلو و پشت",null,null,"طراحی الگو یقه جدا و کلاه و بافت ",null,null,"طراحی الگو آستین ",null,null,"طراحی الگو شلوار",null,null,"طراحی الگو چادر یا مقنعه",null,null,null,null,"رسم الگو چادر یا مقنعه"]
[]
[null,null,null," طراحی یقه گرد",null,null," جابجایی همه الگوهای یقه",null,null," طراحی کلی آستین ",null,null,"طراحی کلی شلوار",null,null,"طراحی چادر شماره 1 یا مقنعه ","عکس راهنما",null,null,"رسم دستی چادر 1 یا مقنعه چانه دار(بر حسب سانتیمتر)"]
[null,null,null,"باز شدن یقه روی سرشانه (گرد، مربعی، هفت، دلبری، پشت گردنی)    ",3,null,"جابجایی افقی همه یقه های جدا  (سانتیمتر)   ",0,null,"انتخاب نوع آستین و سرشانه",4,null," گشاد یا تنگ شدن اندازه های عرضی در شلوار    ",-5,null,"لبه پایین چادر یا مقنعه",70,null,null,"(j1 → j2)",{"$f":"ROUND(محاسبات!G19+0.1*محاسبات!G13-محاسبات!G20,1)","v":66.7}]
[null,null,null,"باز شدن یقه روی خط مرکزی جلو (گرد، مربعی، قایقی، پروانه ای)  ",3,null,"جابجایی عمودی همه یقه های جدا  (سانتیمتر)  ",30,null,"بلندی پایین آستین",16,null," گشاد یا تنگ شدن اندازه های طولی در شلوار    ",0,null,"انتخاب چادر تا پایین پیشانی یا بالای پیشانی یا روی سر",2,null,null,"(j1 → j3)",{"$f":"ROUND((0.21+'متغیرها '!C6*0.1)*محاسبات!G13,1)","v":12}]
[null,null,null,"باز شدن یقه روی خط مرکزی پشت (گرد، مربعی، قایقی، پروانه ای، پشت گردنی)   ",3,null,null,null,null,"گشادی لبه پایین آستین",8,null,"کوتاهی پایین شلوار  (قد شلوار)   ",30,null,null,null,null,null,"(j1 → j6)",{"$f":"ROUND(0.1*محاسبات!G13,1)","v":5.7}]
[null,null,null,null,null,null,"  یقه شکاری ",null,null,"ضریب بلند یا کوتاه شدن اندازه های طولی در آستین",0,null," گشادی پاچه شلوار ",16,null,null,null,null,null,"(j1 → j7)",{"$f":"ROUND(0.28*محاسبات!G13,1)","v":16}]
[null,null,null," کنترل یقه گرد بدون زیپ ",null,null," قد پشت یقه   ",22,null,"ضریب بلندی تاج آستین",0,null," گشادی دور زانو ",4,null,null,null,null,null,"(j7 → j8)",{"$f":"ROUND(1+0.2*U179,1)","v":2.1}]
[null,null,null,"دور سر",{"$f":"'متغیرها '!B260","v":57},null," کج شدن  یقه به سمت گردن   ",-8,null,"ضریب گشادی تاج آستین",0,null,"ضریب عرض زیپ   ",6,null,null,null,null,null,"(j7 → j9)",{"$f":"ROUND(0.3*محاسبات!G13+20,1)","v":37.1}]
[null,null,null," دور یقه گرد لباس",{"$f":"'متغیرها '!B261","v":49.4},null,"مکان لبه یقه نسبت به جلو لباس        ","مرکزی جلو",null,"مکان لبه بالایی صافی سرآستین ",10,null,"جابجایی افقی کل الگو جلو شلوار (سانتیمتر)  ",15,null,null,null,null,null,"(j3 → j11)",{"$f":"ROUND(0.18*محاسبات!G13,1)","v":10.3}]
[null,null,null,"آیا یقه گرد با پارچه غیر کش از سر رد میشود؟",{"$f":"'متغیرها '!E262","v":"خیر"},null,"زاویه لبه برگردان یقه (میزان نوک تیز بودن لبه)     ",55,null,"جابجایی افقی کل الگو آستین (سانتیمتر)",0,null,"جابجایی عمودی کل الگو جلو شلوار (سانتیمتر)  ",0,null,null,null,null,null,"(j3 → j12)",{"$f":"ROUND(0.15*محاسبات!G13,1)","v":8.6}]
["  پهلو کمر پهن",null,null,"آیا یقه گرد با پارچه نیم کش از سر رد میشود؟",{"$f":"'متغیرها '!E263","v":"بله "},null," قد لبه برگردان یقه   ",26,null,"جابجایی عمودی کل الگو آستین (سانتیمتر)",0,null,"جابجایی افقی کل الگو پشت شلوار (سانتیمتر)  ",10,null,null,null,null,null,{"$f":"'طراحی مدل 16'!A328","v":"38زنانه"}]
["انتخاب کمر برای جلیقه =2         انتخاب دیگر = 1",1,null,"آیا یقه گرد با پارچه کش زیاد از سر رد میشود؟",{"$f":"'متغیرها '!E264","v":"بله "},null,null,null,null,"جابجایی افقی کل آستین رگلان بدون درز (سانتیمتر)",-4.5,null,"جابجایی عمودی کل الگو پشت شلوار (سانتیمتر)  ",0]
["جابجایی افقی تکه  پهلو جلو   (سانتیمتر)",0,null,null,null,null,"  یقه فرنچی ایستاده و کاسبرگی",null,null,null,null,null,null,null,null,"طراحی چادر شماره 2",null,null,null,"رسم دستی چادر 2 (بر حسب سانتیمتر)"]
["جابجایی افقی تکه پهلو پشت  (سانتیمتر)",0,null,"طراحی نوار یقه گرد کش ",null,null," قد یقه    ",12,null,"  مچ جدا در آستین",null,null,"گشادی لبه شلوار (سانتیمتر) (محاسبه شده)",{"$f":"'متغیرها '!B613","v":39.9},null,"لبه پایین چادر",10,null,null,"(1 →2)",{"$f":"ROUND(محاسبات!AH44+محاسبات!AH45-0.07*'متغیرها '!U85+0.1*'متغیرها '!C14*'متغیرها '!U85,1)","v":178.7}]
["جابجایی عمودی تکه پهلو پشت  (سانتیمتر)",0,null,"ارتفاع نوار یقه گرد کش به سانتیمتر (بعد از دوخت)",1,null," کج شدن یقه به سمت گردن  ",10,null,"انتخاب مچ اندامی=2    انتخاب مچ مستطیل، مچ پفی یا مچ بافت=1",1,null,null,null,null,"مکان نقطه اتصال جلو چادر به پشت چادر  ",20,null,null,"(1 →3)",{"$f":"ROUND('متغیرها '!C11*((محاسبات!AH44+محاسبات!AH45-0.07*'متغیرها '!U85)+محاسبات!AH43),1)","v":80.400000000000006}]
[" گشاد یا تنگ شدن از خط پهلو زیر حلقه ",0,null,"طول مستطیل (بدون جای دوخت) برای دوخت یقه گرد کش (سانتیمتر)",{"$f":"'متغیرها '!B249","v":36},null,"مکان لبه یقه نسبت به جلو لباس        ",12,null,"گشادی لبه بالایی مچ ",8,null,null,null,null,"گشادی عرضی چادر  ",20,null,null,"(1 → 4)",{"$f":"ROUND(0.26*'متغیرها '!U85*'متغیرها '!C10,1)","v":14.8}]
[null,null,null,"عرض مستطیل (بدون جای دوخت) که در موقع دوخت باید دولا شود  (سانتیمتر)",{"$f":"2*'متغیرها '!C248","v":2},null," انحنا لبه یقه  ",20,null,"گشادی لبه پایینی مچ یا (گشادی مچ مستطیل، مچ پفی یا مچ بافت)  ",1,null,null,null,null,"گشادی لبه پایینی مچ  ",7,null,null,"(6→7)",{"$f":"0.93*U201","v":27.714000000000002}]
[null,null,null,null,null,null,null,null,null,"مکان لبه بالایی مچ",15,null,null,null,null,"مکان لبه پایینی آستین چادر ",10,null,null,"(5 →8)",{"$f":"ROUND(0.73*U189-U190,1)","v":43.9}]
[null,null,null,"طراحی یقه هفت",null,null," یقه شومیزیه ",null,null,"مکان لبه پایینی مچ",10,null,null,null,null,"انتخاب چادر تا پایین پیشانی یا بالای پیشانی یا روی سر",2,null,null,"(8 →9)",{"$f":"ROUND(0.5*U191,1)","v":13.9}]
[null,null,null,"باز شدن یقه هفت روی سرشانه     ",null,null," قد پایه یقه   ",9,null,"جابجایی افقی مچ  (سانتیمتر)   ",0,null,null,null,null,null,null,null,null,"(8 →10)",{"$f":"ROUND(U195+(U188-U195-محاسبات!W36+'متغیرها '!U83)*(1-COS(ASIN(U192/(U188-U195-محاسبات!W36+'متغیرها '!U83)))),1)","v":35.4}]
[null,null,null,"باز شدن یقه هفت روی خط مرکزی جلو ",null,null," کج شدن پایه یقه به سمت گردن   ",5,null,"جابجایی عمودی مچ  (سانتیمتر)  ",0,null," کمر شلوار",null,null,null,null,null,null,"(5 →11)",{"$f":"ROUND('طراحی همه الگوها'!U178+U190+0.1*'متغیرها '!C14*'متغیرها '!U85*1.5,1)","v":26.8}]
[null,null,null,null,null,null,"مکان لبه پایه یقه نسبت به جلو لباس   ","خط جادکمه",null,null,null,null," پایین آمدن کمر شلوار نسبت به کمر اندام   (سانتیمتر)",-5,null,null,null,null,null,"(3 →12)",{"$f":"ROUND(محاسبات!W36-U189+'متغیرها '!C13*'متغیرها '!U83,1)","v":14}]
[null,null,null," کنترل یقه هفت بدون زیپ ",null,null," انحنا لبه پایه یقه  ",20,null," آستین کتی",null,null," پهنای کمر جدا در شلوار  (سانتیمتر) ",3.5,null,null,null,null,null,"(12 →13)",{"$f":"ROUND(محاسبات!F425*'متغیرها '!C12,1)","v":15.7}]
[null,null,null,"دور سر",{"$f":"'متغیرها '!B267","v":57},null," قد پشت برگردان یقه   ",21,null,"میزان خمیدگی آستین کتی  ",3,null,"کوتاهی جلو کمر شلوار نسبت به پشت کمر شلوار (سانتیمتر) ",0,null,null,null,null,null,"(3 →14)",{"$f":"ROUND(U197+U196*TAN(محاسبات!F423-RADIANS(90)+'متغیرها '!B245),1)","v":17.5}]
[null,null,null," دور یقه هفت لباس",{"$f":"'متغیرها '!B268","v":101.8},null," کج شدن برگردان یقه به سمت گردن   ",-7,null,"ضریب طول مستطیل جادکمه کتی",20,null,"جابجایی افقی  جلو کمر شلوار (سانتیمتر)  ",0,null,null,null,null,null,"(5 →15)",{"$f":"ROUND(0.5*(محاسبات!Y17-محاسبات!Y16),1)","v":22}]
[null,null,null,"آیا یقه هفت با پارچه غیر کش از سر رد میشود؟",{"$f":"'متغیرها '!E269","v":"بله "},null,"زاویه لبه برگردان یقه (میزان نوک تیز بودن لبه)     ",45,null,"ضریب عرض مستطیل جادکمه کتی",15,null,"جابجایی عمودی  جلو کمر شلوار (سانتیمتر)  ",5,null,null,null,null,null,"(15 →16)",{"$f":"ROUND(0.35*(محاسبات!Z18-محاسبات!Z17),1)","v":4.9000000000000004}]
[null,null,null,"آیا یقه هفت با پارچه نیم کش از سر رد میشود؟",{"$f":"'متغیرها '!E270","v":"بله "},null," قد لبه برگردان یقه   ",20,null,"جابجایی افقی تکه جلو آستین کتی (سانتیمتر)",0,null,"جابجایی افقی  پشت کمر شلوار (سانتیمتر)  ",0,null,null,null,null,null,"(15 →17)",{"$f":"ROUND(محاسبات!Z15+0.35*(محاسبات!Z19-محاسبات!Z15),1)","v":29.8}]
[null,null,null,null,null,null,"جابجایی افقی برگردان یقه  (سانتیمتر)   ",0,null,null,null,null,"جابجایی عمودی  پشت کمر شلوار (سانتیمتر)  ",5,null,null,null,null,null,"(8 →18)",{"$f":"ROUND(0.5*(محاسبات!Y22-محاسبات!Y21),1)","v":10.9}]
[" سرشانه و حلقه آستین",null,null,"طراحی یقه انگلیسی و آرشال ",null,null,"جابجایی عمودی برگردان یقه  (سانتیمتر)  ",40,null," جادکمه آستین بلند یا کوتاه",null,null,null,null,null,null,null,null,null,"(18 →19)",{"$f":"ROUND(محاسبات!Z18+0.45*(محاسبات!Z23-محاسبات!Z18),1)","v":20.100000000000001}]
["ضریب کم شدن سرشانه  ",10,null,"پهنای جادکمه جلو      مرحله اول در طراحی یقه انگلیسی",null,null,null,null,null,"ضریب طول مستطیل ",7,null,"  شلوار متصل به بالاتنه",null,null,null,null,null,null,"(18 →20)",{"$f":"ROUND(محاسبات!Z23+0.8*(محاسبات!Z19-محاسبات!Z23),1)","v":33.9}]
["ضریب بزرگ شدن زیر حلقه آستین  ",0,null,"باز شدن یقه روی سرشانه    مرحله دوم در طراحی یقه انگلیسی    ",null,null," یقه شکاری با پایه",null,null,"ضریب عرض مستطیل ",5,null," بلند شدن فاق در شلوار متصل به بالاتنه    ",10,null,null,null,null,null,"(1 →21)",{"$f":"ROUND(0.1*'متغیرها '!U85,1)","v":5.7}]
["ضریب زیاد شدن سرشانه  ",0,null,"باز شدن یقه روی خط مرکزی پشت   مرحله دوم در طراحی یقه انگلیسی    ",null,null," قد پایه یقه   ",8,null,null,null,null," بزرگی پهنای جادکمه پهلو",4,null,null,null,null,null,"(4 →22)",{"$f":"ROUND(0.7*U205,1)","v":4}]
["انتخاب آستین حلقه ای یا پیش سینه رکابی یا تکه پهلو جدا=1   انتخاب دیگر=2",2,null,"پهنای یقه در پشت گردن (انگلیسی، آرشال)    مرحله سوم در طراحی یقه انگلیسی",20,null," قد پشت برگردان یقه   ",22,null,"اطلاعات طول حلقه آستین و طول تاج آستین",null,null,null,null,null,null,null,null,null,{"$f":"'طراحی مدل 16'!A328","v":"38زنانه"}]
[null,null,null,"باز بودن جلو یقه (انگلیسی، آرشال، هفت، پشت گردنی) مرحله چهارم در طراحی یقه انگلیسی ",20,null," کج شدن یقه به سمت گردن   ",-13,null,"طول کل حلقه آستین با اپل (سانتیمتر)",{"$f":"'متغیرها '!B534","v":46},null," جزئی شلوار"]
["  نوع پیراهن",null,null,"پهنای بالای دال   مرحله پنجم در طراحی یقه انگلیسی ",20,null,"مکان لبه یقه نسبت به جلو لباس   ","مرکزی جلو",null,"طول کل حلقه آستین با ساسون (سانتیمتر)",{"$f":"'متغیرها '!B535","v":44.6},null,"ضریب گشادی دور ران یا نسبت گشادی پشت پاچه به جلو پاچه  ",1.2,null,"طراحی چادر شماره 3",null,null,null,"رسم دستی چادر 3 (بر حسب سانتیمتر)"]
["انتخاب الگو جلو ترک (دامن،سوتین)=2    انتخاب الگو جلو با ساسون (مایو)=1",2,null,"پهنای پایین دال   مرحله پنجم در طراحی یقه انگلیسی      ",20,null,"زاویه لبه برگردان یقه (میزان نوک تیز بودن لبه)     ",60,null,"طول کل حلقه آستین بدون ساسون (سانتیمتر) ",{"$f":"'متغیرها '!B536","v":47.3},null,"زاویه خط پهلو جلو   ","روش مولر",null,"لبه پایین چادر",10,null,null,"(1 →2)",{"$f":"ROUND(محاسبات!G19+0.1*'متغیرها '!U85-محاسبات!AX33,1)","v":170.7}]
[null,null,null,"پهنای جلو یقه (انگلیسی، آرشال)   مرحله ششم در طراحی یقه انگلیسی ",20,null," قد لبه برگردان یقه   ",26,null,"طول حلقه آستین مدل 85 (سانتیمتر)",{"$f":"'متغیرها '!B537","v":45.5},null," پهنای صافی لبه پایین شلوار   ",0,null,"گشادی لبه پایینی مچ  ",5,null,null,"(1 →3)",{"$f":"ROUND('متغیرها '!C21,1)","v":110}]
[null,null,null,"وسط دال پایین یا بالا رود (انگلیسی، آرشال)   مرحله هفتم در طراحی یقه انگلیسی",20,null,"جابجایی افقی پایه یقه  (سانتیمتر)   ",0,null,"طول حلقه آستین مدل 83 کت مردانه (سانتیمتر)",{"$f":"'متغیرها '!B538","v":43.6},null," بالا یا پایین رفتن خط زانو   ",0,null,"گشادی پایین چادر (معادل کوتاهی طول مچ چادر)",15,null,null,"(1 → 4)",{"$f":"ROUND(محاسبات!AX34*COS(RADIANS(محاسبات!AX32)),1)","v":71.900000000000006}]
[null,null,null," زاویه بالای دال     مرحله هشتم در طراحی یقه انگلیسی",20,null,"جابجایی عمودی پایه یقه  (سانتیمتر)  ",-5,null,"طول تاج آستین کتی (سانتیمتر)",{"$f":"'متغیرها '!B539","v":47.9},null," پهنای فاق جلو (در روش مولر این ضریب ثابت مساوی 0.06 می باشد)   ",5,null,"مکان لبه پایینی آستین چادر ",10,null,null,"(4→5)",{"$f":"ROUND(محاسبات!AX34*SIN(RADIANS(محاسبات!AX32)),1)","v":46.7}]
[null,null,null," زاویه پایین دال      مرحله هشتم در طراحی یقه انگلیسی ",20,null,null,null,null,"طول تاج آستین ساده (سانتیمتر)",{"$f":"'متغیرها '!B540","v":48.1},null," زاویه خط وسط پا در پشت شلوار   ",2,null,"عرض پارچه  (سانتیمتر)",110,null,null,"(5 →6)",{"$f":"ROUND(U225*COS(RADIANS(محاسبات!AX35)),1)","v":14.5}]
[null,null,null," دال رو به پایین یا رو به بالا شود    مرحله هشتم در طراحی یقه انگلیسی  ",20,null," یقه ب ب مثلثی و گرد",null,null,null,null,null," بلندی ساسون پشت شلوار   ",20,null,"انتخاب چادر تا پایین پیشانی یا بالای پیشانی یا روی سر",2,null,null,"(6 →7)",{"$f":"ROUND(U225*SIN(RADIANS(محاسبات!AX35)),1)","v":3.9}]
[null,null,null,"   محاسبه در یقه شکاری متصل به یقه هفت   ",{"$f":"'متغیرها '!B173","v":0.21},null,"زاویه جلو یقه ب ب مثلثی",25,null,"  آستر مچ جدا در آستین",null,null,"بلندی ساسون جلو شلوار   ",20,null,null,null,null,null,"(2 →8)",{"$f":"ROUND(U211,1)","v":110}]
[null,null,null,null,null,null,"ضریب پهنای یقه ب ب مثلثی و گرد ",25,null,"انتخاب مچ اندامی=2        انتخاب مچ مستطیل یا مچ پفی=1",2,null," پهنای ساسون وسط پشت شلوار   ",10,null,null,null,null,null,"(8 →9)",{"$f":"ROUND(U219,1)","v":72.7}]
[null,null,null," طراحی تکه پشت یقه انگلیسی و آرشال  ",null,null,null,null,null,"گشادی لبه بالایی مچ ",5,null," پهنای ساسون پهلو پشت شلوار   ",5,null,null,null,null,null,"(9→10)",{"$f":"ROUND(2*(U210-U212+U215-U217),1)","v":60}]
[null,null,null,"پهنای پشت پایه (انگلیسی، آرشال)    مرحله سوم در طراحی یقه انگلیسی      ",20,null," جابجایی کلاه",null,null,"گشادی لبه پایینی مچ یا (گشادی مچ مستطیل یا مچ پفی)  ",8,null," پهنای ساسون وسط جلو شلوار   ",10,null,null,null,null,null,"(3→11)",{"$f":"ROUND(U210+محاسبات!AH45-U211+0.1*'متغیرها '!C22*'متغیرها '!U85,1)","v":72.7}]
[null,null,null,"زاویه کج شدن پایه مستطیل به قسمت گردن    مرحله سوم در طراحی یقه انگلیسی ",20,null,"جابجایی افقی کلاه  (سانتیمتر)",-30,null,"مکان لبه بالایی مچ",30,null," پهنای ساسون پهلو جلو شلوار   ",5,null,null,null,null,null,"(12 →13)",{"$f":"ROUND(1+1.5*(U211+U219-محاسبات!AH45-((U210-U217-U218)/TAN((U210-U217-U218)/(U211+U219-محاسبات!AH45)))),1)","v":5.2}]
[" انتقال ساسون سرشانه به زیر بغل، عصایی یا خط مرکزی جلو",null,null,"پهنای جلو پایه مستطیل      مرحله سوم در طراحی یقه انگلیسی       ",20,null,"جابجایی عمودی کلاه (سانتیمتر)",20,null,"مکان لبه پایینی مچ",15,null," ساسون پهلو در کمر جدا شلوار   ",0,null,null,null,null,null,"(8 →14)",{"$f":"U220","v":5.2}]
[" برای حذف کامل ساسون سرشانه مجموع c1 و c2 باید 10 شود.",null,null,"انتخاب یقه انگلیسی پایه سرخود یا پایه جدا    مرحله سوم در طراحی یقه انگلیسی",1,null,"جابجایی افقی تکه پشت سر در کلاه سه تکه  (سانتیمتر)",3,null,"جابجایی افقی آستر مچ  (سانتیمتر)   ",0,null,null,null,null,null,null,null,null,"(2→15)",{"$f":"0.4*(U211+U210-U217-U218)","v":59.2}]
["انتقال ساسون سرشانه جلو به ساسون زیر بغل یا ساسون عصایی  c1",10,null,"تغییر انحنا بالا سمت چپ     مرحله نهم در طراحی یقه انگلیسی          ",20,null,null,null,null,"جابجایی عمودی آستر مچ  (سانتیمتر)  ",0,null," برش پشت  شلوار جین",null,null,null,null,null,null,"(15→16)",{"$f":"ROUND((U210-محاسبات!W36+'متغیرها '!U83)*(1-COS(ASIN((U222)/(U210-محاسبات!W36+'متغیرها '!U83)))),1)","v":13.7}]
["انتقال ساسون سرشانه به خط مرکزی جلو c2",0,null,"تغییر انحنا بالا    مرحله نهم در طراحی یقه انگلیسی ",40,null,"طراحی کلی کلاه ",null,null,null,null,null," بالا یا پایین شدن خط برش در قسمت پهلو پشت شلوار جین   ",20,null,null,null,null,null,"(17 →18)",{"$f":"ROUND(('متغیرها '!C20+'متغیرها '!C19)*'متغیرها '!U83,1)","v":8.8000000000000007}]
["انتخاب (اصلاح سرشانه و حلقه آستین برای c1 >10 ) = 2     انتخاب دیگر=1",1,null,"زاویه تکه پشت یقه روی خط مرکزی پشت",20,null,"ضریب بزرگ یا کوچک شدن کلاه",0,null,"  آستین کلوش ",null,null," بالا یا پایین شدن خط برش در قسمت مرکزی پشت شلوار جین   ",20,null,null,null,null,null,"(17→19)",{"$f":"ROUND(U226+U224*TAN(محاسبات!AX36-RADIANS(90)+محاسبات!AH15),1)","v":15}]
[null,null,null,"زاویه تکه پشت یقه با پایه روی خط مرکزی پشت",20,null,"انتخاب کلاه ملوانی برای موهای دم اسبی که از پشت بسته شود ",1,null,"بلندی پایین آستین کلوش",30,null,null,null,null,null,null,null,null,"(18→20)",{"$f":"ROUND(محاسبات!AX37*'متغیرها '!C18,1)","v":13.9}]
[" انتقال ساسون سرشانه به زیر بغل، عصایی یا خط مرکزی پشت",null,null,"تغییر انحنا پایین روی خط مرکزی پشت",20,null," پهنای بلیطی جلو کلاه",0,null," اوزمان آستین کلوش ",15,null,"  دامن شلواری",null,null,null,null,null,null,"(2→21)",{"$f":"0.6*U222","v":35.520000000000003}]
[" برای حذف کامل ساسون سرشانه مجموع c1 و c2 باید 10 شود.",null,null,"تغییر انحنا پایین",20,null," بلندی بلیطی جلو کلاه",0,null,null,null,null," بلند شدن فاق در دامن شلواری    ",10,null,null,null,null,null,"(21→22)",{"$f":"ROUND(0.45*U223,1)","v":6.2}]
["انتقال ساسون سرشانه پشت به ساسون زیر بغل یا عصایی  c1",0,null,"اعمال ضخیم دوزی در سجاف یقه انگلیسی و آرشال  ",20,null," بلندی انحنا جلو کلاه",4,null," آستین کلوش معکوس ",null,null," اوزمان در جلو دامن شلواری      ",8,null,null,null,null,null,{"$f":"'طراحی مدل 16'!A328","v":"38زنانه"}]
["انتقال ساسون سرشانه به خط مرکزی پشت c2",0,null,"جابجایی افقی پایه مستطیل  (سانتیمتر)",0,null," پهنای انحنا روی صورت",8,null,"بلندی پایین آستین کلوش معکوس",30,null," اوزمان در پشت دامن شلواری      ",8]
[null,null,null,"جابجایی عمودی پایه مستطیل  (سانتیمتر)",0,null," پهنای انحنا بالای پیشانی",6,null," اوزمان آستین کلوش معکوس ",5,null,null,null,null,"طراحی چادر شماره 4",null,null,null,"رسم دستی چادر  4  (بر حسب سانتیمتر)"]
[" ساسون زیر بغل",null,null,"جابجایی افقی پایه لبه گرد یقه انگلیسی (سانتیمتر)",0,null,null,null,null,null,null,null," شلوار با تکه پهلو جدا",null,null,"لبه پایین چادر",10,null,null,"(1 →2)",{"$f":"ROUND(U233+محاسبات!AH45+0.1*'متغیرها '!C32*'متغیرها '!U85,1)","v":182.7}]
["ضریب کوتاه شدن ساسون زیر بغل جلو  ",9,null,"جابجایی عمودی پایه لبه گرد یقه انگلیسی (سانتیمتر)",0,null," کلاه متصل به یقه مربعی",null,null," آستین رگلان درز دار",null,null," پهنای تکه پهلو جلو شلوار   ",12,null,"گشادی پشت چادر نسبت به جلو چادر  ",3,null,null,"(1 →4)",{"$f":"ROUND(محاسبات!G19+0.1*'متغیرها '!U85-محاسبات!BL39,1)","v":170.7}]
["ضریب کوتاه شدن ساسون زیر بغل پشت  ",9,null,"جابجایی افقی پایه یقه آرشال (سانتیمتر)",0,null,"بالا یا پایین رفتن خط کارور",30,null,"میزان خمیدگی بدن به سمت جلو   ",3,null," پهنای تکه پهلو پشت شلوار   ",6,null,"مکان لبه پایینی آستین چادر ",10,null,null,"(2 → 3)",{"$f":"ROUND(U232*TAN(RADIANS('متغیرها '!C26)),1)","v":9.6},"عمود"]
[null,null,null,"جابجایی عمودی پایه یقه آرشال (سانتیمتر)",0,null,"پهنای کارور جلو",48,null,"میزان خم شدن سرشانه در آستین  ",3,null," باریک شدن پایین تکه پهلو جلو شلوار   ",5,null,"گشادی لبه پایینی آستین چادر ",7,null,null,"(4→5)",{"$f":"ROUND(U233*TAN(RADIANS('متغیرها '!C26)),1)","v":8.9},"عمود"]
[null,null,null,null,null,null,null,null,null,"پهنای ساسون مچ روی درز آستین  ",3,null," باریک شدن پایین تکه پهلو پشت شلوار   ",5,null,"مکان لبه بالایی آستین چادر ",30,null,null,"(1 →10)",{"$f":"ROUND(محاسبات!W36+'متغیرها '!C27*'متغیرها '!U83,1)","v":94.4},"زاویه 45"]
[null,null,null,"مراحل مختلف در طراحی یقه انگلیسی",null,null," کلاه ملوانی",null,null,"میزان روی هم آمدن سرشانه در دو تکه آستین رگلان  ",10,null,"جابجایی افقی تکه پهلو شلوار (سانتیمتر)  ",7,null,"گشادی پایین چادر  ",20,null,null,"(10 →11)",{"$f":"ROUND('متغیرها '!C28*'متغیرها '!U84*0.5,1)","v":14.9},"عمود"]
[null,null,null,"پهنای جادکمه جلو - میزان روی هم آمدن یقه انگلیسی","مرحله اول",null,"بالا یا پایین رفتن قسمت پایین کلاه روی خط مرکزی جلو",12,null,"زاویه درز روی آستین نسبت به عمود  ",3,null,"جابجایی عمودی تکه پهلو شلوار (سانتیمتر)  ",0,null," بیشترین مقدار گشادی پایین چادر  برای اندام شما",{"$f":"'متغیرها '!B31","v":52},null,null,"(12 →13)",{"$f":"ROUND(محاسبات!BK35-محاسبات!BK37,1)","v":19.100000000000001}]
[null,null,null,"میزان باز بودن یقه گرد - نشان میدهد یقه چقدر به گردن میچسبد","مرحله دوم",null,"پهنای قسمت پایین کلاه",4,null,"میزان انحنا لبه جلو آستین  ",1,null,null,null,null,"انتخاب چادر تا پایین پیشانی یا بالای پیشانی یا روی سر",2,null,null,"(13 →9)",{"$f":"ROUND(محاسبات!BJ35-محاسبات!BJ29,1)","v":31.7},"عمود"]
[null,null,null,"پهنای تکه پشت یقه انگلیسی","مرحله سوم",null,null,null,null,"میزان انحنا لبه پشت آستین  ",1,null,"  شلوار رکاب دار",null,null,"مکان افقی الگو مرغک",40,null,null,"(12 →14)",{"$f":"ROUND(محاسبات!BK37-محاسبات!BK34,1)","v":84.9}]
[null,null,null,"باز بودن یقه انگلیسی","مرحله چهارم",null,"طراحی بافت ",null,null,"سهم گشادی مچ آستین بر روی درز  ",4,null," پهنای رکاب جلو شلوار   ",20,null,"مکان عمودی الگو مرغک",35,null,null,"(14 →8)",{"$f":"ROUND(محاسبات!BJ34-محاسبات!BJ29,1)","v":69.5},"عمود"]
[null,null,null,"پهنای بالا و پایین دال","مرحله پنجم",null,null,null,null,"جابجایی افقی تکه جلو آستین رگلان درز دار (سانتیمتر)",5,null," پهنای رکاب پشت شلوار   ",20,null,null,null,null,null,"(15 →16)",{"$f":"ROUND(0.33*U244,1)","v":7.2}]
[null,null,null,"پهنای یقه انگلیسی","مرحله ششم",null,"طراحی بافت جلو پشت آستین",null,null,null,null,null," قله رکاب جلو شلوار   ",0,null,null,null,null,null,"(16 →17)",{"$f":"U242","v":7.2}]
[null,null,null,"بالا و پایین رفتن نقطه وسط دال","مرحله هفتم",null,"انتخاب ضخامت میل بافتنی",3,null," آستین لاله ای",null,null," قله رکاب پشت شلوار   ",0,null,null,null,null,null,"(16 →18)",{"$f":"ROUND(محاسبات!BL40-3-0.2*محاسبات!BL40,1)","v":21.9},"عمود"]
[null,null,null,"تنظیم زاویه های نوک دال","مرحله هشتم",null,"جمع شوندگی عمودی بافت",0,null,"مکان نقطه بالای انحنا جلو آستین   ",20,null," ارتفاع رکاب جلو شلوار   ",0,null,null,null,null,null,"(16 →19)",{"$f":"U244","v":21.9}]
[null,null,null,"اصلاح انحنای بالای تکه پشت یقه انگلیسی","مرحله نهم",null,"جمع شوندگی افقی بافت",0,null,"مکان نقطه بالای انحنا پشت آستین   ",20,null," ارتفاع رکاب پشت شلوار   ",0,null,null,null,null,null,{"$f":"'طراحی مدل 16'!A328","v":"38زنانه"}]
[null,null,null,null,null,null,null,null,null,"مکان نقطه پایین انحنا جلو آستین   ",20]
[" ضریب طول ساسون روی خط مرکزی پشت پایین تنه        غیر فعال",20,null,"طراحی یقه مربعی یا برش سرشانه در پیراهن",null,null,"طراحی بافت یقه شکاری",null,null,"مکان نقطه پایین انحنا پشت آستین   ",20,null,null,null,null,"طراحی چادر شماره 5",null,null,null,"رسم دستی چادر 5 (بر حسب سانتیمتر)"]
[null,null,null,"انتخاب یقه مربعی یا برش سرشانه",2,null,"جمع شوندگی عمودی بافت",0,null,"ضریب انحنا جلو   ",23,null,null,null,null,"لبه پایین چادر",10,null,null,"(1 →2)",{"$f":"ROUND(0.5*'متغیرها '!C38*'متغیرها '!U54,1)","v":83.7}]
[null,null,null,"  انتخاب آستین با هر نوع ساسون=1    انتخاب آستین بدون ساسون=2           ",2,null,"جمع شوندگی افقی بافت",20,null,"ضریب انحنا پشت   ",23,null,null,null,null,"گشادی دامن چادر  ",20,null,null,"(1 →3)",{"$f":"ROUND('متغیرها '!U56-محاسبات!BW42,1)","v":103},"عمود"]
[null,null,null,"بالا یا پایین آمدن خط کارور پشت",20,null,null,null,null,null,null,null,null,null,null,"بلند شدن دسته چادر ",20,null,null,"(2 → 4)",{"$f":"U250","v":103},"عمود"]
[null,null,null,"  حلقه آستین با ساسون سرشانه یا حلقه آستین بدون ساسون ",{"$f":"'متغیرها '!B286","v":"عدم خطا"},null,"طراحی نقشه بافت",null,null,null,null,null,"طول کش برای کل کمر شلوار (سانتیمتر) (محاسبه شده)",{"$f":"'متغیرها '!B615","v":54.4},null,"انتخاب چادر تا پایین پیشانی یا بالای پیشانی یا روی سر",2,null,null,"(3→5)",{"$f":"ROUND(0.14*'متغیرها '!U56,1)","v":14.4}]
[null,null,null,"  حلقه آستین با ساسون عصایی  ",{"$f":"'متغیرها '!B287","v":"عدم خطا"},null,"جابجایی افقی کل نقشه  (سانتیمتر)   ",-5,null,null,null,null,null,null,null,null,null,null,null,"(4 →6)",{"$f":"ROUND(0.33*U249,1)","v":27.6},"عمود"]
[null,null,null,"بالا یا پایین آمدن خط کارور جلو",10,null,"جابجایی عمودی کل نقشه  (سانتیمتر)  ",0,null,null,null,null,null,null,null,null,null,null,null,"(6 →7)",{"$f":"U261","v":23.1},"عمود"]
[null,null,null,"  حلقه آستین با ساسون سرشانه یا حلقه آستین بدون ساسون ",{"$f":"'متغیرها '!B290","v":"عدم خطا"},null,"نسبت نقشه بافت به سایز واقعی الگو",40,null,null,null,null,null,null,null,null,null,null,null,"(4→8)",{"$f":"ROUND(0.2*('متغیرها '!U52-'متغیرها '!U53),1)","v":6.9}]
[null,null,null,"  حلقه آستین با ساسون عصایی  ",{"$f":"'متغیرها '!B291","v":"عدم خطا"},null,"ارتفاع هر رج",16,null,null,null,null,null,null,null,null,null,null,null,"(4 →11)",{"$f":"ROUND(3*U255+'متغیرها '!U52+10,1)","v":98.7}]
[null,null,null,"پهنا یقه روی خط سرشانه  (فقط موثر در انتخاب یقه مربعی) ",20,null,"پهنای نیم دایره",10,null,null,null,null," جیب جلو شلوار مردانه و جیب جین جلو شلوار",null,null,null,null,null,null,"(4 →9)",{"$f":"ROUND(1+0.03*'متغیرها '!U56,1)","v":4.0999999999999996},"عمود"]
[null,null,null,"پهنای کارور جلو  (فقط موثر در انتخاب یقه مربعی) ",20,null,"طول باکس نوشته",9,null,null,null,null," بزرگی عمودی دهانه جیب   ",10,null,null,null,null,null,"(12 →18)",{"$f":"U252","v":14.4}]
["ساسون ها در بالاتنه عصایی ",null,null,"پهنای کارور پشت  (فقط موثر در انتخاب یقه مربعی) ",20,null,"پهنای باکس نوشته",12,null,null,null,null," بزرگی افقی دهانه جیب   ",10,null,null,null,null,null,"(18 →14)",{"$f":"ROUND(محاسبات!AH45+محاسبات!G19+0.1*'متغیرها '!U85-'متغیرها '!U56+U252+0.1*'متغیرها '!C40*'متغیرها '!U85,1)","v":94.1}]
["انتخاب بالاتنه عصایی=2        انتخاب دیگر=1",1,null,"جابجایی افقی   (سانتیمتر)   ",0,null,"بزرگی فلش",6,null,null,null,null," بزرگی کیسه جیب    ",10,null,null,null,null,null,"(12 →16)",{"$f":"U249-U253","v":56.1},"عمود"]
["مکان ساسون عصایی جلو در حلقه آستین بالاتنه",4,null,"جابجایی عمودی  (سانتیمتر)  ",0,null,"زاویه فلش",10,null,null,null,null,null,null,null,null,null,null,null,"(16 →17)",{"$f":"ROUND(U258+0.5*(SQRT(POWER(U259-محاسبات!BW43,2)+U260*U260)-U259+محاسبات!BW43),1)","v":23.1},"عمود"]
["مکان ساسون عصایی پشت در حلقه آستین بالاتنه",6,null,null,null,null,null,null,null,null,null,null,"  جیب جلو  با بلیطی",null,null,null,null,null,null,"(16 →13)",{"$f":"ROUND(1.9*(U253-U255),1)","v":39.299999999999997}]
[null,null,null,"بررسی خطای گردی یقه تا خط کارور جلو",null,null,null,null,null,null,null,null,"پهنای بلیطی جیب  (سانتیمتر)",2,null,null,null,null,null,"(14 →15)",{"$f":"ROUND(U260+U262+0.5*'متغیرها '!C39*'متغیرها '!U56,1)","v":121.2},"عمود"]
["طراحی دامن فون",null,null,"آیا یقه گرد که تا خط کارور جلو باز شده، با پارچه کش از سر رد میشود؟",{"$f":"'متغیرها '!E297","v":"خیر- گردی یقه زیاد شود یا کارور جلو پایین بیاید"},null,null,null,null,null,null,null,"ضریب طول بلیطی جیب",18,null,null,null,null,null,"(3→19)",{"$f":"ROUND(0.4*(محاسبات!CD25-محاسبات!CD22),1)","v":22.4}]
["اتصال به دامن تنگ = 3    اتصال به بالاتنه با ساسون=2   اتصال به پیراهن راسته=1",2,null,"آیا یقه گرد که تا خط کارور جلو باز شده، با پارچه غیر کش از سر رد میشود؟",{"$f":"'متغیرها '!E298","v":"خیر- گردی یقه زیاد شود یا کارور جلو پایین بیاید"},null,null,null,null,null,null,null,"زاویه جیب با عمود ",18,null,null,null,null,null,"(19 →20)",{"$f":"ROUND(محاسبات!CA17-(محاسبات!CE25+0.9*(محاسبات!CE22-محاسبات!CE25)),1)","v":15.3},"عمود"]
["مکان پایین دامن فون \nدراتصال به پیراهن راسته یا دامن تنگ   ",25,null,null,null,null,null,null,null,null,null,null,"تبدیل بلیطی جیب از مستطیل به متوازی الاضلاع ",20,null,null,null,null,null,"(3 →21)",{"$f":"ROUND(0.8*(محاسبات!CD25-محاسبات!CD22),1)","v":44.9}]
["چین در دامن فون",1,null," یقه دراپه ",null,null,null,null,null,null,null,null,"انتخاب جیب روکار=2        انتخاب دیگر=1",2,null,null,null,null,null,"(21→22)",{"$f":"ROUND(محاسبات!CA17-(محاسبات!CE25+0.45*(محاسبات!CE22-محاسبات!CE25)),1)","v":19.2},"عمود"]
[" اوزمان در جلو دامن فون    ",5,null,"نقطه شروع دراپه جلو    ",80,null,null,null,null,null,null,null,"مکان افقی وسط جیب",10,null,null,null,null,null,"(12 →23)",{"$f":"U264","v":22.4}]
[" اوزمان در پشت دامن فون   ",39,null,"میزان باز بودن یقه جلو به سمت  خط سینه    ",20,null,null,null,null,null,null,null,"مکان عمودی بالای جیب  ",50,null,null,null,null,null,"(23 →24)",{"$f":"U265","v":15.3},"عمود"]
["جابجایی افقی جلو دامن فون (سانتیمتر)",0,null,"جابجایی عمودی یقه دراپه جلو (سانتیمتر)",0,null,null,null,null,null,null,null,null,null,null,null,null,null,null,"(12 →25)",{"$f":"U266","v":44.9}]
["جابجایی عمودی جلو دامن فون (سانتیمتر)",5,null,"نقطه شروع دراپه پشت    ",80,null,null,null,null,null,null,null,null,null,null,null,null,null,null,"(25 →26)",{"$f":"U267","v":19.2},"عمود"]
["جابجایی افقی پشت دامن فون (سانتیمتر)",10,null,"میزان باز بودن یقه پشت به سمت  خط سینه    ",20,null,null,null,null,null,null,null,null,null,null,null,null,null,null,"(15 →27)",{"$f":"ROUND(محاسبات!CD15-(محاسبات!CD11+0.75*(محاسبات!CD15-محاسبات!CD11)),1)","v":6.5}]
["جابجایی عمودی پشت دامن فون (سانتیمتر)",-5,null,"جابجایی عمودی یقه دراپه پشت (سانتیمتر)",0,null,null,null,null,null,null,null,null,null,null,null,null,null,null,"(27 →28)",{"$f":"ROUND(محاسبات!CE15-محاسبات!CE13,1)","v":54.3},"عمود"]
[null,null,null,null,null,null,null,null,null,null,null,null,null,null,null,null,null,null,null,"(4 →29)",{"$f":"ROUND(0.5*('متغیرها '!U52-'متغیرها '!U53),1)","v":17.2},"نقطه انتهای اتصال به کمر-خط پهلو"]
[null,null,null,"یقه دکلته جلو",null,null,null,null,null,null,null,null,null,null,null,null,null,null,null,{"$f":"'طراحی مدل 16'!A328","v":"38زنانه"}]
[null,null,null,"میزان باز بودن یقه در خط مرکزی جلو  ",90]
[null,null,null,"میزان اضافه شدن ساسون سرشانه  ",20]
[null,null,null,"میزان انحنا یقه  ",20]
[]
[null,null,null,"یقه دکلته پشت"]
[null,null,null,"میزان باز بودن یقه در خط مرکزی پشت  ",90]
[null,null,null,"میزان انحنا یقه  ",19]
[]
[null,null,null," طول بند برای لباس دکلته از جلو تا پشت (سانتیمتر)"]
[null,null,null,"دکلته آبی جلو     به     دکلته آبی پشت",{"$f":"'متغیرها '!B361","v":11}]
[null,null,null,"دکلته آبی جلو     به     دکلته سبز پشت",{"$f":"'متغیرها '!B362","v":17}]
[null,null,null,"دکلته آبی جلو     به     دکلته بنفش پشت",{"$f":"'متغیرها '!B363","v":22}]
[null,null,null,"دکلته آبی جلو     به     دکلته سیاه پشت",{"$f":"'متغیرها '!B364","v":26}]
[null,null,null,"دکلته سبز جلو     به     دکلته آبی پشت",{"$f":"'متغیرها '!B365","v":17}]
[null,null,null,"دکلته سبز جلو     به     دکلته سبز پشت",{"$f":"'متغیرها '!B366","v":23}]
[null,null,null,"دکلته سبز جلو     به     دکلته بنفش پشت",{"$f":"'متغیرها '!B367","v":28}]
[null,null,null,"دکلته سبز جلو     به     دکلته سیاه پشت",{"$f":"'متغیرها '!B368","v":32}]
[null,null,null,"دکلته سیاه جلو     به     دکلته آبی پشت",{"$f":"'متغیرها '!B369","v":20}]
[null,null,null,"دکلته سیاه جلو     به     دکلته سبز پشت",{"$f":"'متغیرها '!B370","v":26}]
[null,null,null,"دکلته سیاه جلو     به     دکلته بنفش پشت",{"$f":"'متغیرها '!B371","v":31}]
[null,null,null,"دکلته سیاه جلو     به     دکلته سیاه پشت",{"$f":"'متغیرها '!B372","v":35}]
[]
[" پیلی ها و گوده ها (متقارن در پیراهن)","عکس راهنما",null," رگلاژ یقه دکلته پشت"]
[" عرض پیلی 1 (بعد از دوخت) - روی خط مرکزی جلو  (سانتیمتر)    ",0,null,"نقطه بالای رگلاژ روی یقه دکلته    ",2]
[" عرض پیلی 2 (بعد از دوخت) - روی خط ترک جلو  (سانتیمتر)     ",0,null,"نقطه وسط رگلاژ روی خط کمر    ",16]
[" عرض پیلی 3 (بعد از دوخت) - روی خط پهلو   (سانتیمتر)   ",0,null,"نقطه پایین رگلاژ روی خط مرکزی پشت   ",16]
[" عرض پیلی 4 (بعد از دوخت) - روی خط مرکزی پشت   (سانتیمتر)   ",2,null,"ضریب پهنای جادکمه برای تکه رگلاژ ",6]
[" عرض پیلی 5 (بعد از دوخت)  روی خط ترک پشت (سانتیمتر) و نصف پهنای لبه برگرد پایین کت",2,null,"جابجایی افقی تکه رگلاژ جدا (سانتیمتر)  ",30]
[" عرض پایین گوده 1 - روی خط مرکزی جلو  (سانتیمتر)    ",0]
[" عرض پایین گوده 2 - روی خط ترک جلو  (سانتیمتر)    ",0,null,"یقه قایقی بدون شیفت تکه پهلو"]
[" عرض پایین گوده 3 - روی خط پهلو  (سانتیمتر)    ",5,null,"باز شدن یقه قایقی روی سرشانه  ",20]
[" عرض پایین گوده 4 - روی خط مرکزی پشت  (سانتیمتر)   ",5]
[" عرض پایین گوده 5 - روی خط ترک پشت   (سانتیمتر)  ",5,null,"یقه پروانه ای متصل به حلقه آستین بدون ساسون  \nبدون شیفت تکه پهلو"]
[" نقطه شروع گوده یا پیلی ",40,null,"پهنای سرشانه به سمت پشت    ",20]
["اوزمان در خط ترک جلو دامن  ",0,null,"پهنای سرشانه به سمت جلو   ",20]
["اوزمان در خط ترک پشت دامن  ",0]
["انتخاب پیراهن ترک گشاد=2            انتخاب دیگر=1",1,null," طراحی یقه دلبری"]
[null,null,null," باز شدن یقه نسبت به وسط گردن       ",14]
[null,null,null,"  فاصله عمودی نقطه شکست یقه دلبری   ",20]
[null,null,null," فاصله افقی نقطه شکست یقه دلبری",20]
[]
[null,null,null," یقه پشت گردنی متصل به حلقه آستین با ساسون بدون شیفت تکه پهلو "]
[null,null,null," پهنای یقه پشت گردن  ",20]
[null,null,null," طول یقه پشت گردن  ",20]
[" طراحی کش پایین سویشرت ",null,null,"  انحنا افقی یقه جلو       ",20]
["بالا یا پایین رفتن برش پایین سویشرت",45,null," انحنا عمودی یقه جلو    ",20]
["ضریب کوچک شدن کش",8]
["طول  کش از ساسون جلو- دور باسن - تا ساسون دیگر جلو (سانتیمتر)",{"$f":"'متغیرها '!B277","v":47},null,"طراحی جیب و جادکمه"]
[]
[" دراپه از پهلو",null,null,"  جیب پهلو با بلیطی  (جلو) (آبی)"]
["حد بالا برش دراپه   ",80,null,"پهنای بلیطی جیب  (سانتیمتر)",2]
["پهنای هر دراپه به سانتیمتر   ",6,null,"ضریب طول بلیطی جیب",20]
["تعداد دراپه ها    ",{"$f":"'متغیرها '!B307","v":3},null,"زاویه جیب با عمود ",4]
[null,null,null,"زاویه چرخش بلیطی جیب از مستطیل به متوازی الاضلاع ",20]
["  کنترل گودی حلقه آستین و اپل"]
["انتخاب کنترل گودی حلقه آستین=2        و انتخاب دیگر=1",1,null," جیب اول با بلیطی  (جلو) (سبز)"]
["روی هم آمدن سرشانه پشت و جلو ",10,null,"پهنای بلیطی جیب  (سانتیمتر)",2]
["نسبت اعمال تغییر در حلقه جلو به حلقه پشت  ",20,null,"ضریب طول بلیطی جیب",20]
["زاویه اپل    ",15,null,"زاویه جیب با عمود ",18]
[null,null,null,"زاویه چرخش بلیطی جیب از مستطیل به متوازی الاضلاع ",20]
[" انتقال ساسون زیر بغل بر روی جیب در تکه پهلو جدا",null,null,"انتخاب جیب روکار=2        انتخاب دیگر=1",2]
[" زاویه جیب با افق  ",40,null,"انتخاب طول جیب منطبق با جیب با ساسون=2     انتخاب طول جیب دستی=1",1]
[" پهنای جیب در مدل تکه پهلو جدا",20,null,"مکان افقی وسط جیب",11]
[null,null,null,"مکان عمودی بالای جیب  ",60]
["سرشانه دکمه خور متصل به حلقه آستین بدون ساسون\nبدون شیفت تکه پهلو"]
["پهنای جادکمه سرشانه",5]
[]
["  آستین کیمونو و آستین سرخود بدون شیفت تکه پهلو"]
["میزان خمیدگی آستین کیمونو نسبت به خط سرشانه   ",20]
["کوتاهی آستین کیمونو   ",10]
["گشادی دور مچ   (کیمونو و سرخود)",0]
["انحنا پهلو برای آستین کیمونو   ",8]
["انحنا پهلو برای آستین سرخود   ",5]
["کوتاهی آستین سرخود   ",35]
["کوتاهی تاج آستین سرخود   ",0]
[" : گشادی لبه آستین سرخود",{"$f":"'متغیرها '!E399","v":" گشاد تر شود "}]
[]
[" شورت بدون شیفت تکه پهلو"]
["ضریب فاصله کمر شورت تا زمین ",65]
["میزان انحنا جلو شورت مردانه ",8]
["مکان افقی مرغک",30]
["مکان عمودی مرغک",0,null," جادکمه با بلیطی (جلو)"]
[null,null,null,"پهنای جادکمه  (سانتیمتر)",2]
[" مایو پادار",null,null,"ضریب طول جادکمه ",20]
["گشادی پایین پاچه     ",3,null,"زاویه جادکمه با عمود ",18]
["پهنای صافی لبه پایین پاچه",10,null,"مکان افقی وسط جادکمه",10]
["ضریب عرض جادکمه وسط پا  ",3,null,"مکان عمودی بالای جادکمه ",70]
["زاویه خط پهلو پاچه  ",5]
["جابجایی افقی تکه وسط پا (سانتیمتر)",2,null,"جادکمه متصل به یقه  (جلو)"]
["جابجایی عمودی تکه وسط پا (سانتیمتر)",-10,null,"ضریب عرض جادکمه ",30]
[null,null,null,"ضریب طول جادکمه ",28]
[" مایو بدون شیفت تکه پهلو      باید  شروع اوزمان = خط باسن",null,null," طول جادکمه  (سانتیمتر)",{"$f":"'متغیرها '!B239","v":12.5}]
[" ضریب بالا آمدن خط مایو در پهلو   ",10,null," عرض جادکمه  (سانتیمتر)",{"$f":"'متغیرها '!B240","v":2.9}]
["انتخاب مایو دکمه دار از وسط پا=2            انتخاب مایو بدون دکمه=1",2,null,"آیا یقه گرد متصل به جادکمه با پارچه غیر کش از سر رد میشود؟",{"$f":"'متغیرها '!E237","v":"بله "}]
["جابجایی محل دکمه از پشت به جلو برای پوشک بچه در انتخاب مایو دکمه دار (سانتیمتر)",2,null,"آیا یقه گرد متصل به جادکمه با پارچه نیم کش از سر رد میشود؟",{"$f":"'متغیرها '!E238","v":"بله "}]
["اضافه پهنا وسط پا برای پوشک بچه در انتخاب مایو دکمه دار (سانتیمتر) ",1.5,null,"آیا یقه گرد متصل به جادکمه با پارچه کش زیاد از سر رد میشود؟",{"$f":"'متغیرها '!E239","v":"بله "}]
["اضافه جادکمه وسط پا در انتخاب مایو دکمه دار  (سانتیمتر)",2]
[null,null,null,"طراحی دامن"]
["  پیش بند حمام بچه و طراحی اانحنا روی خط پهلو پیراهن"]
[" بزرگی کلاه بچه   ",20]
["نقطه بالای انحنا روی خط پهلو",20]
["نقطه پایین انحنا روی خط پهلو",20]
[]
["  جلو پیش سینه رکابی بدون شیفت تکه پهلو"]
["بالا یا پایین رفتن بند پیش سینه جلو",57]
["فاصله بند تا زیر حلقه آستین",20]
["گودی بین دو بند در جلو سینه",50]
["فاصله بند تا خط مرکزی جلو",20,null," پیلی ها  (متقارن یا نامتقارن در جلو دامن)"]
["انتخاب خط راست پهلو جلو=2        انتخاب دیگر=1",1,null," عرض پیلی 2 (بعد از دوخت) - جلو  (سانتیمتر)     ",0]
[null,null,null," عرض پیلی 3 (بعد از دوخت) - جلو  (سانتیمتر)   ",0]
["مکان بند جدا پیش سینه یا پیش بند در الگو پشت",null,null," عرض پیلی 4 (بعد از دوخت) - جلو   (سانتیمتر)   ",0]
["مکان افقی بند جدا",20,null," عرض پیلی 5 (بعد از دوخت) - روی خط مرکزی جلو  (سانتیمتر)    ",0]
["مکان عمودی بند جدا",50,null," عرض پیلی 6 (بعد از دوخت) -  جلو  (سانتیمتر)     ",0]
[null,null,null," عرض پیلی 7 (بعد از دوخت) - جلو   (سانتیمتر)   ",0]
[" پشت پیش سینه رکابی بدون شیفت تکه پهلو",null,null," عرض پیلی 8 (بعد از دوخت) - جلو   (سانتیمتر)   ",0]
["بالا یا پایین رفتن بند پیش سینه پشت",20]
["فاصله بند تا زیر حلقه آستین",20,null," پیلی ها  (متقارن یا نامتقارن در پهلو دامن)"]
["گودی بین دو بند در پشت سینه",20,null," عرض پیلی 1 (بعد از دوخت) - درز پهلو چپ  (سانتیمتر)    ",0]
["فاصله بند تا خط مرکزی پشت",20,null," عرض پیلی 9 (بعد از دوخت) - درز پهلو راست   (سانتیمتر)   ",0]
["انتخاب خط راست پهلو پشت=2        انتخاب دیگر=1",1]
[null,null,null," پیلی ها  (متقارن یا نامتقارن در پشت دامن)"]
["  طراحی سوتین کلی",null,null," عرض پیلی 10 (بعد از دوخت) - پشت  (سانتیمتر)     ",0]
["ضریب ساسون وسط سینه      ",20,null," عرض پیلی 11 (بعد از دوخت) - پشت  (سانتیمتر)   ",0]
["ضریب پایین آمدن از خط پهلو    ",20,null," عرض پیلی 12 (بعد از دوخت) - پشت   (سانتیمتر)   ",0]
[" بزرگ شدن کاسه در خط مرکزی جلو      ",20,null," عرض پیلی 13 (بعد از دوخت) - روی خط مرکزی پشت  (سانتیمتر)    ",0]
[" بزرگ شدن کاسه زیر نوک سینه    ",20,null," عرض پیلی 14 (بعد از دوخت) -  پشت  (سانتیمتر)     ",0]
[" بزرگ شدن کاسه در پهلو      ",20,null," عرض پیلی 15 (بعد از دوخت) - پشت   (سانتیمتر)   ",0]
[" بالا یا پایین آمدن یقه روی خط مرکزی جلو    ",20,null," عرض پیلی 16 (بعد از دوخت) - پشت   (سانتیمتر)   ",0]
["حرکت عمودی نقطه اتصال بند جلو      ",20]
["حرکت افقی نقطه اتصال بند جلو    ",20]
["میزان انحنا یقه جلو   ",20,null," دامن چند طبقه چین"]
["ضریب گودی خطوط افقی کاسه      ",20,null,"اتصال به دامن تنگ = 3    اتصال به بالاتنه با ساسون=2   اتصال به پیراهن راسته=1",3]
["ضریب گودی خطوط عمودی کاسه    ",20,null,"مکان پایین دامن طبقه اول    ",25]
["میزان انحنا یقه در پهلو    ",20,null,"چین در دامن طبقه اول",2]
[" افزایش یا کاهش ساسون زیر بغل     ",20,null,"مکان پایین دامن طبقه دوم    ",20]
[" افزایش یا کاهش طول عمودی کاسه     ",20,null,"چین در دامن طبقه دوم",1]
[" افزایش یا کاهش طول افقی کاسه     ",20,null,"مکان پایین دامن طبقه سوم    ",15]
["جابجایی افقی کاسه پایین راست (سانتیمتر)    ",0,null,"چین در دامن طبقه سوم",1]
["جابجایی عمودی کاسه پایین (سانتیمتر)    ",0,null,"مکان پایین دامن طبقه چهارم    ",10]
["جابجایی عمودی کاسه بالا (سانتیمتر)    ",0,null,"چین در دامن طبقه چهارم",1]
[null,null,null,"جابجایی افقی جلو دامن چند طبقه (سانتیمتر)",0]
["  طراحی اختصاصی سوتین 6 تکه",null,null,"جابجایی عمودی جلو دامن چند طبقه (سانتیمتر)",0]
["انتقال ساسون روی خط سینه به زیر سینه    ",9,null,"جابجایی افقی پشت دامن چند طبقه (سانتیمتر)",0]
["چرخش تکه پهلو     ",20,null,"جابجایی عمودی پشت دامن چند طبقه (سانتیمتر)",0]
["پهنای بند جلو       ",1.5]
["بالا یا پایین رفتن مکان بند جلو",20,null," دامن لنگی دراپه"]
["چپ و راست رفتن مکان بند جلو",20,null,"پهنای هر دراپه (پیلی) (سانتیمتر)  ",3]
["پهنای افقی برش جلو بند    ",20,null,"مکان نقطه شروع دراپه روی خط پهلو   ",26]
["پهنای برش کاسه در پهلو      ",20,null,"مکان نقطه شروع دراپه در پایین لباس   ",26]
["بالا یا پایین رفتن خط پایین پایه      ",80,null,"مکان پیلی اول روی کمر دامن",10]
["پهنای بند پشت  (سانتیمتر)   ",1.5,null,"مکان پیلی دوم روی کمر دامن",20]
["بالا یا پایین رفتن مکان بند پشت",20,null,"مکان پیلی سوم روی کمر دامن",30]
["چپ و راست رفتن مکان بند پشت",9]
["انحنا یقه پشت پهلو      ",20,null," دامن با والان"]
["پهنای قزن در پشت (سانتیمتر)    ",3,null,"پهنای هر یک از 3 تا پیلی (بعد از دوخت) روی کمر  (سانتیمتر)  ",5]
["انحنا یقه پشت مرکزی      ",20,null,"فاصله  پیلی اول تا خط مرکزی جلو   ",15]
["جابجایی افقی تکه جلو مرکزی (سانتیمتر)    ",0,null," لبه پایینی دامن والان روی خط مرکزی پشت    ",10]
["جابجایی افقی تکه پهلوجلو (سانتیمتر)    ",0,null," لبه پایینی دامن والان روی درز پهلو    ",15]
["جابجایی عمودی کاسه یک تکه زیرین (سانتیمتر)    ",0,null," لبه بالایی دامن والان روی درز پهلو   ",40]
[]
[" شنل  بدون شیفت تکه پهلو"]
["اوزمان در شنل  ",20]
[]
["پیراهن کلوش (با حلقه آستین بدون ساسون سرشانه)"]
[" اوزمان در جلو پیراهن کلوش   ",5]
[" فاصله اوزمان اول از خط مرکزی جلو     ",13]
[" فاصله اوزمان دوم از خط مرکزی جلو     ",18]
[" اوزمان در پشت پیراهن کلوش",5]
[" فاصله اوزمان اول از خط مرکزی پشت     ",13]
[" فاصله اوزمان دوم از خط مرکزی پشت     ",20]
[]
[]
[]
[]
[]
[]
[]
[]
[]
[]
[]
[]
[]
[]
[]
[]
[]
[]
[]
[]
[]
[]
[]
[]
[]
[]
[]
[]
[]
[]
[]
[]
[]
[]
[]
[]
[]
[]
[]
[]
[]
[]
[]
[]
[]
[]
[]
[]
[]
[]
[]
[]
[]
[]
[]
[]
[]
[]
[]
[]
[]
[]
[]
[]
[]
[]
[]
[]
[]
[]
[]
[]
[]
[null,null,null,null,{"$f":"'طراحی همه الگوها'!J349","v":0}]

{"sheet":"طراحی مدل 16","index":7,"n_rows":398,"n_cols":8,"rows_kept":398,"cut":false,"hidden":false,"merged":[]}
[]
[]
[]
[null," "]
[]
[]
[]
[]
[]
[]
[]
[]
[]
[]
[]
[]
[]
[]
["in"]
[]
[]
[]
[]
[]
[]
[]
[]
[]
[]
[]
[]
[]
[]
[]
[]
[]
[]
[]
[]
[]
[]
[]
[]
[]
[]
[]
[]
[]
[]
[]
[]
[]
[]
[]
[]
[]
[]
[]
[]
[]
[]
[]
[]
[]
[]
[]
[]
[]
[]
[]
[]
[]
[]
[]
[]
[]
[]
[]
[]
[]
[]
[]
[]
[]
[]
[]
[]
[]
[]
[]
[]
[]
[]
[]
[]
[]
[]
[]
[]
[]
[]
[]
[]
[]
[]
[]
[]
[]
[]
[]
[]
[]
[]
[]
[]
[]
[]
[]
[]
[]
[]
[]
[]
[]
[]
[]
[]
[]
[]
[]
[]
[]
[]
[]
[]
[]
[]
[]
[]
[]
[]
[]
[]
[]
[]
[]
[]
[]
[]
[]
[]
[]
[]
[]
[]
[]
[]
[]
[]
[]
[]
[]
[]
[]
[]
[]
[]
[]
[]
[]
[]
[]
[]
[]
[]
[]
[]
[]
[]
[]
[]
[]
[]
[]
[]
[]
[]
[]
[]
[]
[]
[]
[]
[]
[]
[]
[]
[]
[]
[]
[]
[]
[]
[]
[]
[]
[]
[]
[]
[]
[]
[]
[]
[]
[]
[]
[]
[]
[]
[]
[]
[]
[]
[]
[]
[]
[]
[]
[]
[]
[]
[]
[]
[]
[]
[]
[]
[]
[]
[]
[]
[]
[]
[]
[]
[]
[]
[]
[]
[]
[]
[]
[]
[]
[]
[]
[]
[]
[]
[]
[]
[]
[]
[]
[]
[]
[]
[]
[]
[]
[]
[]
[]
[]
[]
[]
[]
[]
[]
[]
[]
[]
[]
[]
[]
[]
[]
[]
[]
[]
[]
[]
[]
[]
[]
[]
[]
[]
[]
[]
[]
[]
[]
[]
[]
[]
[]
[]
[]
[]
[]
[]
[]
[]
[]
["طراحی الگو جلو و پشت",null,null,"طراحی دامن",null,null,"طراحی جیب "]
[]
[null,null,null,"طراحی زیپ و چاک دامن",null,null,"جیب با بلیطی (جلو) (سیاه)"]
[null,null,null,"عرض (پهنا) زیپ در خط پهلو  (سانتیمتر)   ",0,null,"پهنای بلیطی جیب  (سانتیمتر)",0]
[null,null,null,"ضریب طول (بلندی) زیپ در خط پهلو  ",0,null,"ضریب طول بلیطی جیب",0]
[null,null,null,"عرض (پهنا) زیپ در خط مرکزی پشت  (سانتیمتر)   ",0,null,"زاویه جیب با عمود ",10]
["اندازه نوشته ها هنگام چاپ به سایز واقعی",8,null,"ضریب طول (بلندی) زیپ در خط مرکزی پشت  ",0,null,"زاویه چرخش بلیطی جیب از مستطیل به متوازی الاضلاع ",20]
[null,null,null,"عرض (پهنا) چاک در خط مرکزی پشت  (سانتیمتر)   ",0,null,"انتخاب جیب روکار=2        انتخاب دیگر=1",1]
["انتخاب سایز :",null,null,"ضریب طول (بلندی) چاک در خط مرکزی پشت  ",0,null,"مکان افقی وسط جیب",12]
["38زنانه","سایز من",null,"جابجایی افقی قرینه پشت دامن (سانتیمتر)",0,null,"مکان عمودی بالای جیب  ",54]
[]
["برچسب الگو : ",null,null," مشخصات کمربند به شکل مستطیل (مناسب برای لباس شما)",null,null,"  جیب مستطیل  (جلو)  (قرمز)"]
[{"$f":"A325","v":"38زنانه"},null,null,"طول کمربند (سانتیمتر)",{"$f":"'متغیرها '!B273","v":85.2},null,"ضریب عرض جیب مستطیل",0]
[null,null,null,"عرض کمربند (سانتیمتر)",{"$f":"'متغیرها '!B274","v":4.0999999999999996},null,"زاویه  جیب با عمود ",18]
[" جابجایی الگو جلو و پشت دامن",null,null,null,null,null,"ضریب ارتفاع جیب مستطیل",0]
["جابجایی افقی کل الگو جلو دامن  (سانتیمتر)",5,null,"اطلاعات کلی دامن",null,null,"مکان افقی وسط جیب",20]
["جابجایی عمودی کل الگو جلو دامن   (سانتیمتر)",5,null,"دور کمر (سانتیمتر) (اندازه گیری شده)",{"$f":"'متغیرها '!B614","v":68},null,"مکان عمودی بالای جیب  ",60]
["جابجایی افقی کل الگو پشت دامن  (سانتیمتر)",5,null,"طول کش برای پشت کمر بین دو خط پهلو (سانتیمتر) (محاسبه شده)",{"$f":"'متغیرها '!B616","v":27}]
["جابجایی عمودی کل الگو پشت دامن  (سانتیمتر)",5,null,"طول کش از ساسون جلو - پشت - تا ساسون دیگر جلو (سانتیمتر) (محاسبه شده)",{"$f":"'متغیرها '!B617","v":35.200000000000003},null," جیب جین پشت دامن "]
[null,null,null,null,null,null,"ضریب پهنای جیب    ",0]
[" گشاد یا تنگ شدن دامن",null,null,null,null,null,"ضریب ارتفاع جیب    ",0]
[" اندازه های عرضی در دامن ",0,null,null,null,null,"زاویه خط پهلو جیب    ",5]
[" گشاد یا تنگ شدن از خط پهلو دور باسن  ",0,null,null,null,null,"زاویه مثلث پایین جیب    ",20]
[" اندازه های طولی در دامن",0,null,null,null,null,"زاویه چرخش کل جیب    ",42]
[null,null,null,null,null,null,"مکان افقی جیب  (سانتیمتر)    ",2]
[" جادکمه و پایین لباس","عکس راهنما",null,null,null,null,"مکان عمودی جیب    ",10]
["پهنای جادکمه جلو      ",25]
["لبه پایین لباس",30,null,null,null,null," جیب پشت دامن با بلیطی"]
[" ارتفاع انحنا لبه پایین لباس نزدیک خط پهلو",0,null,null,null,null,"پهنای بلیطی جیب  (سانتیمتر)",0]
[" طول انحنا لبه پایین لباس نزدیک خط پهلو",18,null,null,null,null,"ضریب طول بلیطی جیب",18]
[null,null,null,null,null,null,"زاویه جیب با عمود ",18]
["  جلو و پهلو کمر پهن","عکس راهنما",null,null,null,null,"تبدیل بلیطی جیب از مستطیل به متوازی الاضلاع ",20]
["بالای کمر پهن یکسره روی خط مرکزی جلو (ضریب فاصله نقطه u4 از خط کمر)",1,null,null,null,null,"انتخاب جیب روکار=2        انتخاب دیگر=1",2]
["پایین کمر روی خط مرکزی جلو (ضریب فاصله نقطه d4 از خط کمر)  (کمر جناقی )",-1,null,null,null,null,"مکان افقی وسط جیب",9]
["ضریب فاصله عمودی دال جلو (ضریب فاصله نقطه u5 از خط کمر)",1,null,null,null,null,"مکان عمودی بالای جیب  ",57]
["ضریب فاصله افقی دال جلو (ضریب فاصله نقطه u5 از خط مرکزی جلو)",1]
["پایین کمر روی خط ترک جلو (ضریب فاصله نقطه d5 از خط کمر)  (کمر جناقی)",-1]
["بالای کمر پهن یکسره روی خط ترک جلو (ضریب فاصله نقطه u6 از خط کمر)",1]
["بالای کمر پهن یکسره روی خط پهلو (ضریب فاصله نقطه u3 از خط کمر)",1]
["پایین کمر روی خط پهلو (ضریب فاصله نقطه d3 از خط کمر)  (کمر جناقی)",-1]
["جابجایی افقی کمر پهن یکسره (سانتیمتر)",0]
["جابجایی عمودی کمر پهن یکسره  (سانتیمتر)",4]
[]
[" پشت کمر پهن","عکس راهنما"]
["بالای کمر پهن یکسره روی خط مرکزی پشت (ضریب فاصله نقطه u1 از خط کمر)",1]
["پایین کمر روی خط مرکزی پشت (ضریب فاصله نقطه d1 از خط کمر) (کمر جناقی)",-1]
["بالای کمر پهن یکسره روی خط ترک پشت (ضریب فاصله نقطه u2 از خط کمر)",1]
["پایین کمر روی خط ترک پشت (ضریب فاصله نقطه d2 از خط کمر) (کمر جناقی)",-1]
["جابجایی افقی کمر پهن یکسره (سانتیمتر)",0]
["جابجایی عمودی کمر پهن یکسره  (سانتیمتر)",4]
[]
[" اوزمان ها در دامن "]
["میزان پایین آمدن نقطه شروع اوزمان از خط کمر  ",30]
["اوزمان در خط پهلو جلو دامن  ",-2]
["اوزمان در خط  پهلو پشت دامن   ",-2]
["اوزمان در خط مرکزی پشت دامن  ",0]
[]
["انحنا لبه دامن روی خط مرکزی جلو "]
["انحنا نقطه بالایی روی خط مرکزی جلو ",11]
["انحنا نقطه میانی روی خط مرکزی جلو ",31]
["انحنا نقطه پایینی روی خط مرکزی جلو ",15]
[]
[" تنظیم ساسون های پایین کمر"]
["مجموع ضرایب پهنای دو ساسون پشت باید کمتر از 20 یا مساوی 20 باشد."]
["اگر مجموع پهنای ساسون ها کمتر از 20 باشد، باقیمانده ساسون ها روی خط پهلو قرار میگیرد."]
[" ضریب پهنای ساسون روی خط مرکزی پشت پایین تنه   ",10]
[" ضریب پهنای ساسون میانی پشت پایین تنه   ",9]
[" ضریب طول ساسون میانی پشت پایین تنه       ",17]
[" ضریب پهنای ساسون میانی جلو پایین تنه    ",5]
[" ضریب طول ساسون میانی جلو پایین تنه       ",7]
[]
["  تنظیم ساسون های بالای کمر"]
["مجموع ضرایب پهنای دو ساسون پشت باید کمتر از 20 یا مساوی 20 باشد."]
["اگر مجموع پهنای ساسون ها کمتر از 20 باشد، باقیمانده ساسون ها روی خط پهلو قرار میگیرد."]
[" ضریب پهنای ساسون روی خط مرکزی پشت بالاتنه   ",10]
[" ضریب طول ساسون روی خط مرکزی پشت بالاتنه   ",15]
[" ضریب پهنای ساسون میانی پشت بالاتنه   ",10]
[" ضریب طول ساسون میانی پشت بالاتنه   ",18]
[" ضریب فاصله افقی ساسون وسط بالاتنه از خط مرکزی پشت   ",27]
[" ضریب پهنای ساسون میانی جلو بالاتنه    ",4]
[" ضریب طول ساسون میانی جلو بالاتنه  ",16]
[" ضریب فاصله افقی ساسون میانی بالاتنه از خط مرکزی جلو   ",25]
[" ضریب نوک ساسون سرشانه جلو تا نوک سینه  ",20]

{"sheet":"temp_print_sheet","index":8,"n_rows":0,"n_cols":0,"rows_kept":0,"cut":false,"hidden":true,"merged":[]}