{"text_format":"1","workbook":"xlsx","n_sheets":12,"sheets":["Chart Index","محاسبات","متغیرها ","رسم دستی دامن نیم کلوش","رسم دستی دامن کلوش","نمونه بافت","راهنما ","اندازه های شخصی","اندازه گیری و تحلیل","طراحی همه الگوها","طراحی مدل 213","temp_print_sheet"],"not_rendered":{"charts":45,"images":70,"macros":1,"external_links":0,"defined_names":4,"comments":3,"pivot_tables":0},"unopened":[],"bounds":{"document_bytes":16777216,"sheet_cells":100000,"rows_first":2000,"rows_last":500,"rows_between":2000,"halvings":0,"cell_chars":16384,"cell_head_chars":4096},"cells_cut":0,"cells_raw":0,"read":"whole","date_system":"1900"}

{"sheet":"Chart Index","index":0,"n_rows":22,"n_cols":4,"rows_kept":22,"cut":false,"hidden":true,"merged":[]}
[]
[]
[]
[]
[]
[]
["Preview","Sheet (and graph link)","Chart Title","Chart Series"]
[null,"طراحی همه الگوها","رسم دستی چادر2","انحنا, صاف"]
[null,"طراحی همه الگوها","رسم دستی چادر 3","انحنا, صاف"]
[null,"طراحی همه الگوها","رسم دستی چادر 5","انحنا, صاف"]
[null,"طراحی همه الگوها","طراحی چادرها و رسم چادر 4","شبیه ساز دست خمیده و سر, شبیه ساز دامن, رسم یا طراحی چادر4"]
[null,"طراحی همه الگوها","  چادر1 و مقنعه برای پرینت ","شبیه ساز دست خمیده و سر, شبیه ساز دامن, چادر 1 با نقطه گذاری"]
[null,"طراحی همه الگوها","شلوار پشت","1شبیه ساز, 2کمر شلوار,  3وسط شلوار و خط اتو, 4پهلو, 6فاق, 7لبه پایین, 9کمر جدا, اطلاعات اندام در شلوار"]
[null,"طراحی همه الگوها","طراحی پشت یقه ","شبیه ساز برش, شبیه ساز انحنا, طراحی یقه گرد"]
[null,"طراحی همه الگوها","طراحی جلو یقه","شبیه ساز اندام, طراحی یقه شکاری"]
[null,"طراحی همه الگوها","شلوار جلو","1شبیه ساز جلو, 2کمر شلوار, 3وسط شلوار, 4پهلو, 6فاق, 7لبه پایین شلوار, 8زیپ, 9کمر جدا, 10جیب مردانه, 11جیب جین, اطلاعات اندام در شلوار"]
[null,"طراحی همه الگوها","طراحی جلو دامن ترک با کمر پهن","شبیه ساز دامن تنگ, کمر پهن, خط مرکزی جلو کمر, خطوط اصلی دامن ترک, خطوط فرعی دامن ترک, خط اوزمان, پیلی"]
[null,"طراحی همه الگوها","طراحی پشت دامن ترک با کمر پهن","شبیه ساز دامن تنگ, کمر یکسره, خطوط اصلی دامن ترک, خطوط فرعی دامن ترک, پیلی"]
[null,"طراحی همه الگوها"," آستین ","شبیه ساز آستین, آستین بلند یا کوتاه, مچ آستین بلند یا کوتاه"]
[null,"طراحی همه الگوها","الگو پشت","0 اطلاعات اندام, 72شبیه ساز بالاتنه بدون ساسون, 2شبیه ساز دامن, 5حلقه آستین بدون ساسون, 6سرشانه بدون ساسون, 10پهلو صاف وپایین لباس, 17یقه گرد , 18خط پشت در پیراهن, 24بدون شیفت ساسون کمر"]
[null,"طراحی همه الگوها","یقه و کلاه","شومیزیه"]
[null,"طراحی همه الگوها","الگو جلو","0اطلاعات اندام, 1شبیه ساز بالاتنه, 2شبیه ساز دامن, 6حلقه آستین بدون ساسون  , 7سرشانه بدون ساسون, 11پهلو صاف , 22یقه گرد چرخیده, 23جادکمه یقه گرد در پیراهن, 29پایین پیراهن بدون ترک, 70ساسون کمر, 76جادکمه متصل به یقه"]

{"sheet":"محاسبات","index":1,"n_rows":1126,"n_cols":457,"rows_kept":139,"cut":true,"hidden":true,"merged":[[9,157,9,159],[144,5,144,6],[86,31,86,34],[10,131,10,132],[8,143,8,145],[95,16,95,22],[112,25,112,26],[11,90,11,92],[11,98,11,100],[10,107,10,113],[10,104,10,105]],"bounds":{"rows_first":62,"rows_last":15,"rows_between":62,"halvings":5}}
["height_print ",30.734968314580009]
["width_print ",30.623780540051243]
["charts_resized ",null,null,null,null,null,null,null,null,null,"محاسبات بافت",null,null,null,null,null,null,null,null,null,null,null,null,null,null,null,null,null,null,null,null,null,null,null,null,null,null,null,null,null,null,null,null,null,null,null,null,null,null,null,null,null,null,null,null,null,null,null,null,null,null,null,null,null,null,null,null,null,null,null,null,null,null,null,null,null,null,null,null,null,null,null,null,null,null,null,null,null,null,null,null,null,null,null,null,null,null,null,null,null,null,null,null,null,null,null,null,null,null,null,null,null,null,null,null,null,null,null,null,null,null,null,null,null,null,null,null,null,null,null,null,null,null,null,null,null,null,null,null,null,null,null,null,null,null,null,null,null,null,null,null,null,null,null,null,null,null,null,null,null,null,null,null,null,null,null,null,null,null,null,null,null,null,null,null,null,null,null,null,null,null,null,null,null,null,null,null,null,null,null,null,null,null,null,null,null,null,null,null,null,null,null,null,null,null,null,null,null,null,null,null,null,null,null,null,null,null,null,null,null,null,null,null,null,null,null,null,null,null,null,null,null,null,null,null,null,null,null,null,null,null,null,null,null,null,null,null,null,null,null,null,null,null,null,null,null,null,null,null,null,null,null,null,null,null,null,null,null,null,null,null,null,null,null,null,null,null,null,null,null,null,null,null,null,null,null,null,null,null,null,null,null,null,null,null,null,null,null,null,null,null,null,null,null,null,null,null,null,null,null,null,null,null,null,null,null,null,null,null,null,null,null,null,null,null,null,null,null,null,null,null,null,null,null,null,null,null,null,null,null,null,null,null,null,null,null,null,null,null,null,null,null,null,null,null,null,null,null,null,null,null,null,null,null,null,null,null,null,null,null,null,null,null,null,null,null,null,null,null,null,null,null,null,null,"یقه شکاری ",null,null,null,null,null,null,null,null,null,null,"یقه شومیزیه نوک تیز تا خط جادکمه",null,null,null,null,null,null,null,null,null,null,"یقه شومیزیه معمولی تا خط جادکمه",null,null,null,null,null,null,null,null,null,null,"یقه ب ب غیر مسطح",null,null,null,null,null,null,null,null,null,null,"یقه ب ب معمولی",null,null,null,null,null,null,null,null,null,null,"راهنما نقشه بافت",null,null,null,null,null,null,null,null,null,null,"نقشه بافت بالاتنه"]
["print_body_chartS",null,null,null,null,null,null,null,null,null,null,null,null,null,null,null,null,null,null,null,null,null,null,null,null,null,null,null,null,null,null,null,null,null,null,null,null,null,null,null,null,null,null,null,null,null,null,null,null,null,null,null,null,null,null,null,null,null,null,null,null,null,null,null,null,null,null,null,null,null,null,null,null,null,null,null,null,null,null,null,null,null,null,null,null,null,null,null,null,null,null,null,null,null,null,null,null,null,null,null,null,null,null,null,null,null,null,null,null,null,null,null,null,null,null,null,null,null,null,null,null,null,null,null,null,null,null,null,null,null,null,null,null,null,null,null,null,null,null,null,null,null,null,null,null,null,null,null,null,null,null,null,null,null,null,null,null,null,null,null,null,null,null,null,null,null,null,null,null,null,null,null,null,null,null,null,null,null,null,null,null,null,null,null,null,null,null,null,null,null,null,null,null,null,null,null,null,null,null,null,null,null,null,null,null,null,null,null,null,null,null,null,null,null,null,null,null,null,null,null,null,null,null,null,null,null,null,null,null,null,null,null,null,null,null,null,null,null,null,null,null,null,null,null,null,null,null,null,null,null,null,null,null,null,null,null,null,null,null,null,null,null,null,null,null,null,null,null,null,null,null,null,null,null,null,null,null,null,null,null,null,null,null,null,null,null,null,null,null,null,null,null,null,null,null,null,null,null,null,null,null,null,null,null,null,null,null,null,null,null,null,null,null,null,null,null,null,null,null,null,null,null,null,null,null,null,null,null,null,null,null,null,null,null,null,null,null,null,null,null,null,null,null,null,null,null,null,null,null,null,null,null,null,null,null,null,null,null,null,null,null,null,null,null,null,null,null,null,null,null,null,null,null,null,null,null,null,null,null,null,null,null,null,null,"بافت  انتخابی",null,null,null,null,null,null,null,"نقشه بافت ",null,null,"بافت  انتخابی",null,null,null,null,null,null,null,"نقشه بافت  ",null,null,"بافت  انتخابی",null,null,null,null,null,null,null,"نقشه بافت  ",null,null,"بافت  انتخابی",null,null,null,null,null,null,null,"نقشه بافت ",null,null,"بافت  انتخابی",null,null,null,null,null,null,null,"نقشه بافت ",null,null,"متغیرهای  ورودی ",null,null,null,null,null,null,null,"راهنمای نقشه بافت ",null,null,"متغیرهای  ورودی ",null,null,null,null,"نقشه بافت بالاتنه"]
["ActiveWindow.Zoom",15,null,null,"متغیرهای ورودی مربوط به ضخامت میل (متناسب با ضخامت نخ)",null,null,"میل 2 و 2.5","میل  3 و 3.5","میل 4 و 4.5",null,null,null,null,null,null,null,null,"متغیرهای ورودی یقه شومیزیه بافت انتخابی",null,null,null,"یقه ب ب تا خط مرکزی جلو",null,null,null,null,null,null,null,"  متغیر محاسبه ای یقه انگلیسی ",null,null,null,null,"سلول مرجع",null,null,null,null,null,null,null,null,null,null,null,null,null,null,null,null,null,null,null,null,null,null,null,null,null,null,null,null,null,null,null,null,null,null,null,null,null,null,null,null,null,null,null,null,null,null,null,null,null,null,null,null,null,null,null,null,null,null,null,null,null,null,null,null,null,null,null,null,null,null,null,null,null,null,null,null,null,null,null,null,null,null,null,null,null,null,null,null,null,null,null,null,null,null,null,null,null,null,null,null,null,null,null,null,null,null,null,null,null,null,null,null,null,null,null,null,null,null,null,null,null,null,null,null,null,null,null,null,null,null,null,null,null,null,null,null,null,null,null,null,null,null,null,null,null,null,null,null,null,null,null,null,null,null,null,null,null,null,null,null,null,null,null,null,null,null,null,null,null,null,null,null,null,null,null,null,null,null,null,null,null,null,null,null,null,null,null,null,null,null,null,null,null,null,null,null,null,null,null,null,null,null,null,null,null,null,null,null,null,null,null,null,null,null,null,null,null,null,null,null,null,null,null,null,null,null,null,null,null,null,null,null,null,null,null,null,null,null,null,null,null,null,null,null,null,null,null,null,null,null,null,null,null,null,null,null,null,null,null,null,null,null,null,null,null,null,null,null,null,null,null,null,null,null,null,null,null,null,null,null,null,null,null,null,null,null,null,null,null,null,null,null,null,null,null,null,null,null,null,null,null,null,null,null,null,null,null,null,null,null,null,null,null,null,null,null,null,null,null,null,null,null,null,null,null,null,null,null,null,null,null,null,null,null,null,null,null,null,null,null,null,null,null,null,null,null,null,null,"a1",{"$f":"O33","v":203},null,null,null,null,null,{"$f":"NV30","v":-25},{"$f":"NV31","v":5},"w1",null,"e1",{"$f":"R34","v":150},null,null,null,null,null,{"$f":"OG35","v":-25},{"$f":"OG36","v":5},"m1",null,"e1",{"$f":"U34","v":140},null,null,null,null,null,{"$f":"OR35","v":-25},{"$f":"OR36","v":5},"m1",null,"c1",{"$f":"X33","v":155},null,null,null,null,null,{"$f":"PB60","v":-25},{"$f":"PC60","v":5},"n1",null,"c1",{"$f":"AA33","v":178},null,null,null,null,null,{"$f":"PM60","v":-25},{"$f":"PN60","v":5},"n1",null,"Xt1",{"$f":"'متغیرها '!C865","v":-45},"جابجایی افقی کل راهنما نقشه",null,null,null,null,{"$f":"PX29","v":-45},5,"t1",null,null,{"$f":"QJ9","v":12},"جابجایی افقی ",null,{"$f":"QI69","v":10.410015},{"$f":"QJ69","v":135.22937213221402},"26'"]
["per_font_size_chart",{"$f":"0.1*'طراحی مدل 213'!B322","v":0.8},null,null,"  (بدون احتساب بافت انتخابی)      a'0 ضریب تعداد رج",{"$f":"IF(F8=2,H6,IF(F8=3,I6,J6))","v":3.5},null,3.5,2.8,2.2999999999999998,"a''0",null,null,"متغیرهای ورودی  یقه شکاری کشباف",null,null,null,{"$f":"ROUND(S12*S9,1)","v":2.7},"پهنا (cm)=",null,null,null,"متغیر محاسبه ای ",null,null,null,null,null,null,null,"d'3",{"$f":"'متغیرها '!C167*H124","v":3.1360000000000001},null,"تعداد دانه در یک سانت eb0 "," ea0 تعداد رج در یک سانت","میزان جمع شوندگی عمودی مدل","میزان جمع شوندگی افقی مدل","ارتفاع رجها به سانتیمتر","تعداد رج","پهنا به سانتیمتر","تعداد دانه","اسم مدل","شماره مدل",null,null,null,null,null,null,null,null,null,null,null,null,null,null,null,null,null,null,null,null,null,null,null,null,null,null,null,null,null,null,null,null,null,null,null,null,null,null,null,null,null,null,null,null,null,null,null,null,null,null,null,null,null,null,null,null,null,null,null,null,null,null,null,null,null,null,null,null,null,null,null,null,null,null,null,null,null,null,null,null,null,null,null,null,null,null,null,null,null,null,null,null,null,null,null,null,null,null,null,null,null,null,null,null,null,null,null,null,null,null,null,null,null,null,null,null,null,null,null,null,null,null,null,null,null,null,null,null,null,null,null,null,null,null,null,null,null,null,null,null,null,null,null,null,null,null,null,null,null,null,null,null,null,null,null,null,null,null,null,null,null,null,null,null,null,null,null,null,null,null,null,null,null,null,null,null,null,null,null,null,null,null,null,null,null,null,null,null,null,null,null,null,null,null,null,null,null,null,null,null,null,null,null,null,null,null,null,null,null,null,null,null,null,null,null,null,null,null,null,null,null,null,null,null,null,null,null,null,null,null,null,null,null,null,null,null,null,null,null,null,null,null,null,null,null,null,null,null,null,null,null,null,null,null,null,null,null,null,null,null,null,null,null,null,null,null,null,null,null,null,null,null,null,null,null,null,null,null,null,null,null,null,null,null,null,null,null,null,null,null,null,null,null,null,null,null,null,null,null,null,null,null,null,null,null,null,null,null,null,null,null,null,null,null,null,null,null,null,null,null,null,null,null,null,null,null,null,null,null,null,null,null,null,null,null,null,null,null,null,null,null,"a2",7,null,null,null,null,"باکس نوشتهa1",null,null,{"$f":"OA6","v":"باکس نوشتهa1"},null,"e2",6,null,null,null,null,"باکس نوشتهe1",null,null,{"$f":"OL6","v":"باکس نوشتهe1"},null,"e2",6,null,null,null,null,"باکس نوشتهe1",null,null,{"$f":"OW6","v":"باکس نوشتهe1"},null,"c2",4,null,null,null,null,"باکس نوشتهc1",null,null,{"$f":"PH6","v":"باکس نوشتهc1"},null,"c2",4,null,null,null,null,"باکس نوشتهc1",null,null,{"$f":"PS6","v":"باکس نوشتهc1"},null,"Yt1",{"$f":"'متغیرها '!C866","v":5},"جابجایی عمودی کل راهنما نقشه",null,null,null,null,-41.5,5,"t2",null,null,{"$f":"QJ10","v":7},"جابجایی عمودی",null,{"$f":"QI68","v":10.410015},{"$f":"QJ68","v":52.7},"1'"]
["ChartFieldRange( باید خالی باشد )",null,null,null,"  (بدون احتساب بافت انتخابی)      b'0 ضریب تعداد دانه",{"$f":"IF(F8=2,H7,IF(F8=3,I7,J7))","v":2.6},null,2.6,2,1.6,"b''0",null,null,{"$f":"ROUND(O11*(0.4*G166+0.037*H131),1)","v":6.7},"پهنا (cm)=",null,null,{"$f":"ROUND(S13*S9,1)","v":4.8},"پهنا (cm)=",null,null,null,"c'6",{"$f":"DD692-DD682","v":7.4296998727915806},null,null,null,null,null,null,"d11",{"$f":"(0.95+1.45*'متغیرها '!C164)*(0.4*G166+0.037*H131)","v":6.1616303247036361},null,{"$f":"AO7/AN7","v":1.875},{"$f":"AM7/AL7","v":3.3333333333333335},{"$f":"(10/3)*((AM7/AL7)*(1/F6)-1)","v":-0.15873015873015892},{"$f":"(100/68)*((AO7/AN7)*(1/F7)-1)","v":-0.41006787330316763},{"$f":"'طراحی همه الگوها'!H294","v":6},20,{"$f":"'طراحی همه الگوها'!H293","v":16},30,{"$f":"'طراحی همه الگوها'!G292","v":" اول مخصوص کاربر"},1,null,null,null,null,null,null,null,null,null,null,null,null,null,null,null,null,null,null,null,null,null,null,null,null,null,null,null,null,null,null,null,null,null,null,null,null,null,null,null,null,null,null,null,null,null,null,null,null,null,null,null,null,null,null,null,null,null,null,null,null,null,null,null,null,null,null,null,null,null,null,null,null,null,null,null,null,null,null,null,null,null,null,null,null,null,null,null,null,null,null,null,null,null,null,null,null,null,null,null,null,null,null,null,null,null,null,null,null,null,null,null,null,null,null,null,null,null,null,null,null,null,null,null,null,null,null,null,null,null,null,null,null,null,null,null,null,null,null,null,null,null,null,null,null,null,null,null,null,null,null,null,null,null,null,null,null,null,null,null,null,null,null,null,null,null,null,null,null,null,null,null,null,null,null,null,null,null,null,null,null,null,null,null,null,null,null,null,null,null,null,null,null,null,null,null,null,null,null,null,null,null,null,null,null,null,null,null,null,null,null,null,null,null,null,null,null,null,null,null,null,null,null,null,null,null,null,null,null,null,null,null,null,null,null,null,null,null,null,null,null,null,null,null,null,null,null,null,null,null,null,null,null,null,null,null,null,null,null,null,null,null,null,null,null,null,null,null,null,null,null,null,null,null,null,null,null,null,null,null,null,null,null,null,null,null,null,null,null,null,null,null,null,null,null,null,null,null,null,null,null,null,null,null,null,null,null,null,null,null,null,null,null,null,null,null,null,null,null,null,null,null,null,null,null,null,null,null,null,null,null,null,null,null,null,null,null,null,null,null,null,null,"a3",23,null,null,null,"متغیرهای ورودی",null,{"$f":"NZ13","v":-25},{"$f":"OA13","v":5},{"$f":"NY13","v":"w1"},null,"e3",15,null,null,null,"متغیرهای ورودی",null,{"$f":"OK13","v":-25},{"$f":"OL13","v":5},{"$f":"OJ13","v":"m1"},null,"e3",16,null,null,null,"متغیرهای ورودی",null,{"$f":"OV13","v":-25},{"$f":"OW13","v":5},{"$f":"OU13","v":"m1"},null,"c3",8,null,null,null,"متغیرهای ورودی",null,{"$f":"PG13","v":-25},{"$f":"PH13","v":5},{"$f":"PF13","v":"n1"},null,"c3",8,null,null,null,"متغیرهای ورودی",null,{"$f":"PR13","v":-25},{"$f":"PS13","v":5},{"$f":"PQ13","v":"n1"},null,"w11",{"$f":"4/PX18","v":1.4285714285714286},"ارتفاع هر رج",null,"نسبت سایز افقی",{"$f":"PY17","v":42},"انحنا چپگرد ",null,null,{"$f":"QD7","v":"انحنا چپگرد "}]
["show_temp_print_sheet ",0,null,null,"انتخاب ضخامت میل بافتنی   f1",{"$f":"'متغیرها '!C834","v":2},null,null,null,null,null,null,null,"  متغیر محاسبه ای یقه شکاری  ",null,null,null,"متغیر محاسبه ای شومیزیه",null,null,null,null,"c6",{"$f":"ROUNDUP(X19*X7,0)","v":36},null,null,null,null,null,null,"d'12",{"$f":"G263-G258","v":23.948204310842797},null,30,20,{"$f":"(10/3)*((AM8/AL8)*(1/F6)-1)","v":15.714285714285712},{"$f":"(100/68)*((AO8/AN8)*(1/F7)-1)","v":15.497737556561084},{"$f":"'طراحی همه الگوها'!H298","v":1},20,{"$f":"'طراحی همه الگوها'!H297","v":1},30,{"$f":"'طراحی همه الگوها'!G296","v":" دوم مخصوص کاربر"},{"$f":"AQ7+1","v":2},null,null,null,null,null,null,null,null,null,null,null,null,null,null,null,null,null,null,null,null,null,null,null,null,null,null,null,null,null,null,null,null,null,null,null,null,null,null,null,null,null,null,null,null,null,null,null,null,null,null,null,null,null,null,null,null,null,null,null,null,null,null,null,null,null,null,null,null,null,null,null,null,null,null,null,null,null,null,null,null,null,null,null,null,null,null,null,null,null,null,null,null,null,null,null,null,null,null,null,null,null,null,null,null,null,null,null,null,null,null,null,null,null,null,null,null,null,null,null,null,null,null,null,null,null,null,null,null,null,null,null,null,null,null,null,null,null,null,null,null,null,null,null,null,null,null,null,null,null,null,null,null,null,null,null,null,null,null,null,null,null,null,null,null,null,null,null,null,null,null,null,null,null,null,null,null,null,null,null,null,null,null,null,null,null,null,null,null,null,null,null,null,null,null,null,null,null,null,null,null,null,null,null,null,null,null,null,null,null,null,null,null,null,null,null,null,null,null,null,null,null,null,null,null,null,null,null,null,null,null,null,null,null,null,null,null,null,null,null,null,null,null,null,null,null,null,null,null,null,null,null,null,null,null,null,null,null,null,null,null,null,null,null,null,null,null,null,null,null,null,null,null,null,null,null,null,null,null,null,null,null,null,null,null,null,null,null,null,null,null,null,null,null,null,null,null,null,null,null,null,null,null,null,null,null,null,null,null,null,null,null,null,null,null,null,null,null,null,null,null,null,null,null,null,null,null,null,null,null,null,null,null,null,null,null,null,null,null,null,null,null,"a4",47,null,null,"طول باکس نوشته",{"$f":"NV35","v":4.5},"h3",{"$f":"NZ18","v":-3.338942307692303},{"$f":"OA18","v":5},{"$f":"NY18","v":"h8"},null,"e4",27,null,null,"طول باکس نوشته",{"$f":"OG40","v":4.5},"h3",{"$f":"OK18","v":1.3557692307692299},{"$f":"OL18","v":5},{"$f":"OJ18","v":"h8"},null,"e4",32,null,null,"طول باکس نوشته",{"$f":"OR40","v":4.5},"h3",{"$f":"OV18","v":-0.5512820512820511},{"$f":"OW18","v":5},{"$f":"OU18","v":"h8"},null,"c4",19,null,null,"طول باکس نوشته",{"$f":"PC37","v":4.5},"h3",{"$f":"PG18","v":2.3092948717948723},{"$f":"PH18","v":5},{"$f":"PF18","v":"h8"},null,"c4",20,null,null,"طول باکس نوشته",{"$f":"PN37","v":4.5},"h3",{"$f":"PR18","v":6.6955128205128176},{"$f":"PS18","v":5},{"$f":"PQ18","v":"h8"},null,"g9",0.5,"پهنای نیم دایره",null,"ارتفاع نیم دایره",{"$f":"PY14","v":1.4285714285714286},"بزرگی فلش",{"$f":"QC11","v":-41.5},{"$f":"QD11","v":5},{"$f":"QB11","v":"t2"},null,"نقاط ورودی",null,null,null,{"$f":"QI68","v":10.410015},{"$f":"QJ68","v":52.7},"1'"]
["per_line_size_chart",null,null,null," از آستین رگلان   γ9",{"$f":"DE542","v":0.66004644436888382},null,null,"مقادیر قدیمی تا تاریخ 12  99",null,null,null,null,"   a7",{"$f":"O16*O11*(0.4*G166+0.037*H131)","v":22.176828980528427},null,null,"e'1",{"$f":"(0.4*G166+0.037*H131)","v":3.024113042799331},null,null,null,"c7",0.15,null,null,null,null,null,null,"d12",{"$f":"ROUND(F6*AF8,0)","v":84},null,30,20,{"$f":"(10/3)*((AM9/AL9)*(1/F6)-1)","v":15.714285714285712},{"$f":"(100/68)*((AO9/AN9)*(1/F7)-1)","v":15.497737556561084},{"$f":"'طراحی همه الگوها'!H302","v":1},20,{"$f":"'طراحی همه الگوها'!H301","v":1},30,{"$f":"'طراحی همه الگوها'!G300","v":" سوم مخصوص کاربر"},3,null,null,null,null,null,null,null,null,null,null,null,null,null,null,null,null,null,null,null,null,null,null,null,null,null,null,null,null,null,null,null,null,null,null,null,null,null,null,null,null,null,null,null,null,null,null,null,null,null,null,null,null,null,null,null,null,null,null,null,null,null,null,null,null,null,null,null,null,null,null,null,null,null,null,null,null,null,null,null,null,null,null,null,null,null,null,null,null,null,null,null,null,null,null,null,null,null,null,null,null,"رسم دستی چادر  4",null,null,null,null,null,"رسم و طراحی چادر شماره 4",null,null,null,null,null,null,null,null,null,null,null,"رسم چادر شماره 5",null,null,null,null,null,null,null,"طراحی چادر شماره 5",null,null,null," طراحی چادر شماره 5",null,null,null,null,null,null,null,null,"پروسیجر یافتن راس سوم مثلث با داشتن دو راس و دو ضلع",null,null,null,null,null,"پروسیجر چرخش یک نقطه حول نقطه دیگر",null,null,null,null,null,"کامل شده",null,null,"رسم باکس زیپ دامن- باکس دوطرفه راست و چپ","مولفه افقی","مولفه عمودی",null,null,"به دست آوردن راس سوم مثلث وقتی دو راس و دو ضلع را داریم",null,null,null,null,null,"جلو(k''5 →k6)",{"$f":"SQRT(POWER((#REF!-#REF!),2)+POWER((#REF!-#REF!),2))","v":{"$error":"#REF!"}},"ضلع راست",null,null,null,null,null,null,null,null,null,null,null,"قرینه",null,null,null,null,null,null,null,null,null,null,null,null,null,null,null,null,null,null,null,null,null,null,null,null,null,null,null,null,null,null,null,null,null,null,null,null,null,null,null,null,null,null,null,null,null,null,null,null,null,null,null,null,null,null,null,null,null,null,null,null,null,null,null,null,null,null,null,null,null,null,null,null,null,null,null,null,null,null,null,null,null,null,null,null,null,null,null,null,null,null,null,null,null,null,null,null,null,null,null,null,null,null,null,null,null,null,null,null,null,null,null,null,null,null,null,null,null,null,null,null,null,null,null,null,null,null,null,null,null,null,null,null,null,null,null,null,null,null,null,null,null,null,null,null,null,null,null,null,null,null,null,null,null,null,null,null,null,null,null,null,null,"a5",71,null,null,"پهنای باکس نوشته",{"$f":"NV36","v":0.5},"h4",null,null,null,null,"e5",42,null,null,"پهنای باکس نوشته",{"$f":"OG41","v":0.5},"h4",null,null,null,null,"e5",49,null,null,"پهنای باکس نوشته",{"$f":"OR41","v":0.5},"h4",null,null,null,null,"c10",6,null,null,"پهنای باکس نوشته",{"$f":"PC38","v":0.5},"h4",null,null,null,null,"c10",6,null,null,"پهنای باکس نوشته",{"$f":"PN38","v":0.5},"h4",null,null,null,null,"f'4",0.4,"بزرگی فلش رج",null,"پهنای نیم دایره",{"$f":"PY8","v":0.5},{"$f":"PY16","v":0.57142857142857151},{"$f":"QC15","v":-41.1325},{"$f":"QD15","v":5.2},{"$f":"QB15","v":"g5"},null,null,{"$f":"C100","v":12},"شیفت افقی جلو",null,{"$f":"QI71","v":23.43933656898497},{"$f":"QJ71","v":52.7},50]
[null,null,null,null,"γ10 از آستین رگلان",{"$f":"DE543","v":0.56850043521120286},null,"میل 2 و 2.5","میل  3 و 3.5","میل 4 و 4.5",null,null,null,"متغیرهای ورودی  یقه شکاری کشباف",null,null,null,"e''1",{"$f":"S13*S9","v":4.83858086847893},null,null,null,"c8",0.25,null,null,null,null,null,null,"d''12",{"$f":"G264+AX147","v":7.2097707140046756},null,30,20,{"$f":"(10/3)*((AM10/AL10)*(1/F6)-1)","v":15.714285714285712},{"$f":"(100/68)*((AO10/AN10)*(1/F7)-1)","v":15.497737556561084},{"$f":"'طراحی همه الگوها'!H306","v":1},20,{"$f":"'طراحی همه الگوها'!H305","v":1},30,{"$f":"'طراحی همه الگوها'!G304","v":" چهارم مخصوص کاربر"},4,null,null,null,null,null,null,null,null,null,null,null,null,null,null,null,null,null,null,null,null,null,null,null,null,null,null,null,null,null,null,null,null,null,null,null,null,null,null,null,null,null,null,null,null,null,null,null,null,null,null,null,null,null,null,null,null,null,null,null,null,null,null,null,null,null,null,null,null,null,null,null,null,null,null,null,null,null,null,null,null,null,null,null,null,null,null,null,null,null,null,null,null,null,null,null,null,null,null,null,null,null,null,null,null,null,null,"رسم دستی چادر4 با نقطه گذاری",null,null,null,null,"خطوط پرینت الگو یا طراحی چادر4",null,null,"رسم دستی چادر 5 (بر حسب سانتیمتر)",null,null,null,null,"صاف",null,null,null,"انحنا",null,null,"اسم نقطه ","مولفه افقی","مولفه عمودی",null,{"$f":"FO14","v":12},168.48393999999996,"s'6",null,null,null,null,null,null,null,null,"اطلاعات ورودی",null,null,null,"رادیان",{"$f":"-#REF!","v":{"$error":"#REF!"}},"زاویه چرخش","چرخش مخالف عقربه های ساعت",null,null,null,null,"نقطه ورودی بالا","b5",{"$f":"#REF!","v":{"$error":"#REF!"}},{"$f":"#REF!","v":{"$error":"#REF!"}},null,null," درجه α1"," رادیان α1","xdp'6","ydp'6","(dp4→dp'6)","(dp4→dp6)-(dp4→dp'6) ","(k6 →45)جلو",{"$f":"SQRT(POWER((#REF!-#REF!),2)+POWER((#REF!-#REF!),2))","v":{"$error":"#REF!"}},"ضلع چپ",null,null,null,null,null,null,null,null,null,null,null,{"$f":"-HK10+HP9","v":0},{"$f":"HL10","v":0},null,null,null,null,null,null,null,null,null,null,null,null,null,null,null,null,null,null,null,null,null,null,null,null,null,null,null,null,null,null,null,null,null,null,null,null,null,null,null,null,null,null,null,null,null,null,null,null,null,null,null,null,null,null,null,null,null,null,null,null,null,null,null,null,null,null,null,null,null,null,null,null,null,null,null,null,null,null,null,null,null,null,null,null,null,null,null,null,null,null,null,null,null,null,null,null,null,null,null,null,null,null,null,null,null,null,null,null,null,null,null,null,null,null,null,null,null,null,null,null,null,null,null,null,null,null,null,null,null,null,null,null,null,null,null,null,null,null,null,null,null,null,null,null,null,null,null,null,null,null,null,null,null,null,null,null,null,null,null,null,"a6",9,null,null,null,null,null,{"$f":"NZ20","v":-3.338942307692303},{"$f":"OA20","v":5.25},{"$f":"NY20","v":"h10"},null,"e6",6,null,null,null,null,null,{"$f":"OK20","v":1.3557692307692299},{"$f":"OL20","v":5.25},{"$f":"OJ20","v":"h10"},null,"e6",6,null,null,null,null,null,{"$f":"OV20","v":-0.5512820512820511},{"$f":"OW20","v":5.25},{"$f":"OU20","v":"h10"},null,"c11",4,null,null,null,null,null,{"$f":"PG20","v":2.3092948717948723},{"$f":"PH20","v":5.25},{"$f":"PF20","v":"h10"},null,"c11",4,null,null,null,null,null,{"$f":"PR20","v":6.6955128205128176},{"$f":"PS20","v":5.25},{"$f":"PQ20","v":"h10"},null,"f5",0.5,"زاویه فلش رج",null,"نقطه شروع انحنا","مولفه افقی","مولفه عمودی",{"$f":"QC14","v":-40.975000000000001},{"$f":"QD14","v":5.7142857142857144},{"$f":"QB14","v":"g4"},null,null,7,"شیفت عمودی جلو",null,{"$f":"QI70","v":36.366397482445379},{"$f":"QJ70","v":53.227060776258753},7]
[null,null,null,null," (نصف طول دور گردن بعلاوه جادکمه)     (b'1)/2+b'2",{"$f":"AZ102-BD98+SQRT(POWER((AZ102-AZ145),2)+POWER((BA145-BA102),2))+SQRT(POWER((AZ145-AZ148),2)+POWER((BA145-BA148),2))+SQRT(POWER((AZ148-AZ140),2)+POWER((BA148-BA140),2))+SQRT(POWER((BK138-BK132),2)+POWER((BL138-BL132),2))+SQRT(POWER((BK132-BK135),2)+POWER((BL132-BL135),2))+SQRT(POWER((BK135-BK104),2)+POWER((BL104-BL135),2))","v":24.433923835819897},null,3.5,2.8,2.6,"a''0",null,null,"    ضریب پهنای یقه  (1.5 الی 3)",{"$f":"EF682/EF679","v":2.2000000000000002},null,null,null,"متغیرهای ورودی یقه شومیزیه بافت انتخابی",null,null,null,"c12",{"$f":"2*(F11-F12)","v":45.687877671639797},null,null,null,null,null,null,"یقه انگلیسی \n بافت جودانه",null,null,30,20,{"$f":"(10/3)*((AM11/AL11)*(1/F6)-1)","v":15.714285714285712},{"$f":"(100/68)*((AO11/AN11)*(1/F7)-1)","v":15.497737556561084},{"$f":"'طراحی همه الگوها'!H310","v":1},20,{"$f":"'طراحی همه الگوها'!H309","v":1},30,{"$f":"'طراحی همه الگوها'!G308","v":" پنجم مخصوص کاربر"},5,null,null,null,null,null,null,null,null,null,null,null,null,null,null,null,null,null,null,null,null,null,null,null,null,null,null,null,null,null,null,null,null,null,null,null,null,null,null,null,null,null,null,null,null,null,null,null,null,null,null,null,null,null,null,null,null,null,null,null,null,null,"رسم دستی چادر 2 (بر حسب سانتیمتر)",null,null,"رسم چادر شماره 2",null,null,null,null,null,null,null,"نقاط ورودی",null,null,null," طراحی چادر شماره 2",null,null,null,null,null,null,null," طراحی چادر شماره 3",null,null,null,"رسم دستی چادر 3 (بر حسب سانتیمتر)",null,null,"رسم چادر شماره 3",null,null,null,null,null,null,null,null,null,null,null,null,null,null,{"$f":"EP29","v":12},{"$f":"EQ30","v":-5},2,null,{"$f":"EP30","v":2.6999999999999993},{"$f":"EQ30","v":-5},3,null,null,null,null,null,{"$f":"FF15-'طراحی همه الگوها'!U274","v":64.599999999999994},{"$f":"FG15","v":99.9},"خط پهلو",null,{"$f":"FF30","v":94.1},{"$f":"FG30","v":110.9},13,null,"s1",{"$f":"DB400","v":12},{"$f":"DC400","v":165.95500000000001},null,19.796745676499533,165.48172108330607,"s''7",null,null,null,null,null,null,"اسم نقطه ","مولفه افقی","مولفه عمودی",null,null,null,"مولفه افقی","مولفه عمودی","اسم نقطه ",null,"نقطه  خروجی چرخیده",null,null,null,"نقطه ورودی پایین","b6",{"$f":"#REF!","v":{"$error":"#REF!"}},{"$f":"#REF!","v":{"$error":"#REF!"}},null,2,-100,{"$f":"RADIANS(GU11)","v":-1.7453292519943295},{"$f":"HB13+HB10*COS(GV11)","v":{"$error":"#REF!"}},{"$f":"HC13-HB10*SIN(GV11)","v":{"$error":"#REF!"}},{"$f":"SQRT(POWER((HB12-GW11),2)+POWER((HC12-GX11),2))","v":{"$error":"#REF!"}},{"$f":"ABS(HB9-GY11)","v":{"$error":"#REF!"}},"اسم نقطه ","مولفه افقی","مولفه عمودی",null,null,null,null,null,null,null,null,null,null,null,{"$f":"-HK11+HP9","v":0},0,null,null,null,null,null,null,null,null,null,null,null,null,null,null,null,null,null,null,null,null,null,null,null,null,null,null,null,null,null,null,null,null,null,null,null,null,null,null,null,null,null,null,null,null,null,null,null,null,null,null,null,null,null,null,null,null,null,null,null,null,null,null,null,null,null,null,null,null,null,null,null,null,null,null,null,null,null,null,null,null,null,null,null,null,null,null,null,null,null,null,null,null,null,null,null,null,null,null,null,null,null,null,null,null,null,null,null,null,null,null,null,null,null,null,null,null,null,null,null,null,null,null,null,null,null,null,null,null,null,null,null,null,null,null,null,null,null,null,null,null,null,null,null,null,null,null,null,null,null,null,null,null,null,null,null,null,null,null,null,null,"a10",5,null,null,null,null,null,{"$f":"NZ21","v":-3.338942307692303},{"$f":"OA21","v":4.75},{"$f":"NY21","v":"h11"},null,"e7",4,null,null,null,null,null,{"$f":"OK21","v":1.3557692307692299},{"$f":"OL21","v":4.75},{"$f":"OJ21","v":"h11"},null,"e7",4,null,null,null,null,null,{"$f":"OV21","v":-0.5512820512820511},{"$f":"OW21","v":4.75},{"$f":"OU21","v":"h11"},null,"خطا"," ",null,null,null,null,null,{"$f":"PG21","v":2.3092948717948723},{"$f":"PH21","v":4.75},{"$f":"PF21","v":"h11"},null,"خطا"," ",null,null,null,null,null,{"$f":"PR21","v":6.6955128205128176},{"$f":"PS21","v":4.75},{"$f":"PQ21","v":"h11"},null,"f9",0.5,"بزرگی خط عمودی دانه",null,{"$f":"PZ30","v":"t2"},{"$f":"PX30","v":-41.5},{"$f":"PY30","v":5},{"$f":"QC16","v":-41.1325},{"$f":"QD16","v":6.2285714285714286},{"$f":"QB16","v":"g6"},null,null,10,"شیفت افقی پشت"]
[null,null,null,null," ( از خط مرکزی جلو تا خط جادکمه = طول جادکمه)     b'2",{"$f":"AZ102-BD98","v":1.5899850000000004},null,2.2999999999999998,1.8,1.7,"b''0",null,null,"a15",{"$f":"EE699-EE697+SQRT(POWER((EE699-EE701),2)+POWER((EF699-EF701),2))+SQRT(POWER((EE701-EE704),2)+POWER((EF701-EF704),2))+SQRT(POWER((EE704-EE705),2)+POWER((EF704-EF705),2))+SQRT(POWER((EE705-EE703),2)+POWER((EF705-EF703),2))","v":22.794572872029583},null,null,"    ضریب پهنای پایه یقه    (1 الی 2)",{"$f":"DH682/DH679","v":0.9},null,null,null,"c13",{"$f":"2*(SQRT(POWER((DC682-DC683),2)+POWER((DD682-DD683),2))+SQRT(POWER((DC683-DC684),2)+POWER((DD683-DD684),2))+SQRT(POWER((DC684-DC685),2)+POWER((DD684-DD685),2))+SQRT(POWER((DC685-DC686),2)+POWER((DD685-DD686),2))+SQRT(POWER((DC686-DC687),2)+POWER((DD686-DD687),2))+SQRT(POWER((DC687-DC688),2)+POWER((DD687-DD688),2))+SQRT(POWER((DC688-DC689),2)+POWER((DD688-DD689),2))+SQRT(POWER((DC689-DC690),2)+POWER((DD689-DD690),2)))","v":76.512980198263364},null,null,null,null,null,null," b'1    نوار باز شده گردن - دور تا دور گردن",{"$f":"DP680+DP681","v":22.794572872029583},null,30,20,{"$f":"(10/3)*((AM12/AL12)*(1/F6)-1)","v":15.714285714285712},{"$f":"(100/68)*((AO12/AN12)*(1/F7)-1)","v":15.497737556561084},{"$f":"'طراحی همه الگوها'!H314","v":1},20,{"$f":"'طراحی همه الگوها'!H313","v":1},30,{"$f":"'طراحی همه الگوها'!G312","v":" ششم مخصوص کاربر"},6,null,null,null,null,null,null,null,null,null,null,null,null,null,null,null,null,null,null,null,null,null,null,null,null,null,null,null,null,null,null,null,null,null,null,null,null,null,null,null,null,null,null,null,"نقاط ورودی",null,null,null,"رسم چادر شماره 1 و مقنعه چانه دار",null,null,null,"نقاط ورودی",null,null,null,"رسم مقنعه دراپه",null,null,null,null,null,null,null,null,null,"صاف",null,null,null,"انحنا",null,null,"اسم نقطه ","مولفه افقی","مولفه عمودی",null,{"$f":"DM23","v":12},168.48393999999996,"s6",null,"طراحی چادر شماره 3",null,null,null,{"$f":"DU14","v":12},168.48393999999996,"s'6",null,null,null,null,null,"صاف",null,null,null,"انحنا",null,null,null,null,null,null,null,null,null,{"$f":"EP29","v":12},{"$f":"EQ29","v":172.7},1,null,{"$f":"EP32","v":18.078894835220439},{"$f":"EQ32","v":-5.8059737261413353},6,null,null,null,null,null,null,null,null,null,{"$f":"FJ11+0.45*(FJ15-FJ11)","v":105.35},{"$f":"FK11+0.25*(FK15-FK11)","v":137.35},"13'",null,"s3",{"$f":"DB402","v":18.135480000000001},{"$f":"DC402","v":157.77265000000003},null,32.791321803998763,144.46618866644886,"s''8",null,null,null,null,null,"راس پایین","منهای شیفتa50",{"$f":"ER37","v":92.046194647753936},{"$f":"ES37","v":0},"ضلع پایین",{"$f":"EZ25","v":8},null,{"$f":"#REF!","v":{"$error":"#REF!"}},{"$f":"#REF!","v":{"$error":"#REF!"}},"a40","نقطه مرکزی چرخش","مولفه افقی","مولفه عمودی","اسم نقطه ",null,"متغیر ورودی پهنا","a20",{"$f":"#REF!","v":{"$error":"#REF!"}},"(سانتیمتر)",null,null,{"$f":"GU11+GT11","v":-98},-1.7104226669544429,{"$f":"HB13+HB10*COS(GV12)","v":{"$error":"#REF!"}},{"$f":"HC13-HB10*SIN(GV12)","v":{"$error":"#REF!"}},{"$f":"SQRT(POWER((HB12-GW12),2)+POWER((HC12-GX12),2))","v":{"$error":"#REF!"}},{"$f":"ABS(HB9-GY12)","v":{"$error":"#REF!"}},"پشتk''5",{"$f":"GQ33","v":{"$error":"#REF!"}},{"$f":"GR33","v":{"$error":"#REF!"}},"راس راست",null,null,null,null,null,null,null,null,null,null,{"$f":"-HK12+HP9","v":0},0,null,null,null,null,null,null,null,null,null,null,null,null,null,null,null,null,null,null,null,null,null,null,null,null,null,null,null,null,null,null,null,null,null,null,null,null,null,null,null,null,null,null,null,null,null,null,null,null,null,null,null,null,null,null,null,null,null,null,null,null,null,null,null,null,null,null,null,null,null,null,null,null,null,null,null,null,null,null,null,null,null,null,null,null,null,null,null,null,null,null,null,null,null,null,null,null,null,null,null,null,null,null,null,null,null,null,null,null,null,null,null,null,null,null,null,null,null,null,null,null,null,null,null,null,null,null,null,null,null,null,null,null,null,null,null,null,null,null,null,null,null,null,null,null,null,null,null,null,null,null,null,null,null,null,null,null,null,null,null,null,"a11",2,null,null,"نقطه شروع رج(چپ)","مولفه افقی","مولفه عمودی",null,null,null,null,"e8",4,null,null,"نقطه شروع رج(چپ)","مولفه افقی","مولفه عمودی",null,null,null,null,"e8",4,null,null,"نقطه شروع رج(چپ)","مولفه افقی","مولفه عمودی",null,null,null,null,"c16",{"$f":"X15","v":126},"تعداد دانه دور یقه ب ب",null,"نقطه شروع رج(چپ)","مولفه افقی","مولفه عمودی",null,null,null,null,"c16",{"$f":"X15","v":126},"تعداد دانه دور یقه ب ب",null,"نقطه شروع رج(چپ)","مولفه افقی","مولفه عمودی",null,null,null,null,"f10",0.3,"بزرگی فلش دانه",null,"g11",{"$f":"QC16+0.8*(QC14-QC16)","v":-41.006500000000003},{"$f":"QD14+0.6*(QD16-QD14)","v":6.0228571428571431},{"$f":"QC13","v":-41.5},{"$f":"QD13","v":6.4285714285714288},{"$f":"QB13","v":"g2"},null,null,10,"شیفت عمودی پشت",null,{"$f":"QI70","v":36.366397482445379},{"$f":"QJ70","v":53.227060776258753},7]
[null,null,null,null,"گشادی بالای مچ آستین (cm)     b'11",{"$f":"ROUND(DY522-DY523,0)","v":32},null,null,null,null,null,null,null,"a'25",{"$f":"F11-O12","v":1.6393509637903136},null,null,"ضریب پهنای برگرد یقه  (1.5 الی 3)",{"$f":"DH710/DH707","v":1.6},null,null,null,"c14",{"$f":"0.88*X12","v":67.331422574471759},null,null,null,null,null,null,null,null,null,30,20,{"$f":"(10/3)*((AM13/AL13)*(1/F6)-1)","v":15.714285714285712},{"$f":"(100/68)*((AO13/AN13)*(1/F7)-1)","v":15.497737556561084},{"$f":"'طراحی همه الگوها'!H318","v":1},20,{"$f":"'طراحی همه الگوها'!H317","v":1},30,{"$f":"'طراحی همه الگوها'!G316","v":" هفتم مخصوص کاربر"},7,null,null,null,null,null,null,null,null,null,null,null,null,null,null,null,null,null,null,null,null,null,null,null,null,null,null,null,null,null,null,null,null,null,null,null,null,null,null,null,null,null,null,null,"مولفه افقی","مولفه عمودی","اسم نقطه",null,"مولفه افقی","مولفه عمودی","اسم نقطه",null,"مولفه افقی","مولفه عمودی","اسم نقطه",null,"مولفه افقی","مولفه عمودی","اسم نقطه",null,null,null,null,null,null,{"$f":"DB37+'طراحی همه الگوها'!U190","v":14.8},{"$f":"DE14","v":0},5,null,{"$f":"DD17","v":14.8},{"$f":"DE17","v":26.8},11,null,"s2",{"$f":"DB401","v":16.294836},{"$f":"DC401","v":163.90941250000003},null,18.90290208736414,166.13237157054488,"s7",null,"اسم نقطه ","مولفه افقی","مولفه عمودی",null,18.491954982426787,165.3756550661281,"s'7",null,null,null,null,{"$f":"DB37","v":0},{"$f":"'طراحی همه الگوها'!U210+EC35","v":165.7},1,null,{"$f":"EE32","v":177.7},{"$f":"EF32","v":165.7},11,null,null,null,null,null,null,null,null,null,null,null,null,null,null,null,null,null,null,null,null,0,{"$f":"FC42","v":0},1,null,{"$f":"FJ11+0.75*(FJ15-FJ11)","v":112.85},{"$f":"FK11+0.5*(FK15-FK11)","v":163.80000000000001},28,null,"s5",{"$f":"DB404","v":12},{"$f":"DC404","v":147.77200000000002},null,48.384813156997829,125.251987599608,"s''9",null,null,null,null,null,"راس بالا "," منهای شیفتe18",{"$f":"FB27-EW21","v":0},{"$f":"FC27","v":0},"ضلع بالا",{"$f":"EZ26","v":0},null,{"$f":"#REF!-#REF!+#REF!","v":{"$error":"#REF!"}},{"$f":"#REF!","v":{"$error":"#REF!"}},"a48-b16+f22","نقطه قبل از چرخش",{"$f":"IF(GH13>GH12,IF(GG13>GG12,GG12+SQRT(POWER(GG13-GG12,2)+POWER(GH13-GH12,2))*COS(ATAN((GH13-GH12)/(GG13-GG12+0.000123))+GH10),GG12-SQRT(POWER(GG13-GG12,2)+POWER(GH13-GH12,2))*COS(ATAN((GH13-GH12)/(GG12-GG13+0.000123))-GH10)),IF(GG13>GG12,GG12+SQRT(POWER(GG13-GG12,2)+POWER(GH13-GH12,2))*COS(ATAN((GH12-GH13)/(GG13-GG12+0.000123))-GH10),GG12-SQRT(POWER(GG13-GG12,2)+POWER(GH13-GH12,2))*COS(ATAN((GH12-GH13)/(GG12-GG13+0.000123))+GH10)))","v":{"$error":"#REF!"}},{"$f":"IF(GH13>GH12,IF(GG13>GG12,GH12+SQRT(POWER(GG13-GG12,2)+POWER(GH13-GH12,2))*SIN(ATAN((GH13-GH12)/(GG13-GG12+0.000123))+GH10),GH12+SQRT(POWER(GG13-GG12,2)+POWER(GH13-GH12,2))*SIN(ATAN((GH13-GH12)/(GG12-GG13+0.000123))-GH10)),IF(GG13>GG12,GH12-SQRT(POWER(GG13-GG12,2)+POWER(GH13-GH12,2))*SIN(ATAN((GH12-GH13)/(GG13-GG12+0.000123))-GH10),GH12-SQRT(POWER(GG13-GG12,2)+POWER(GH13-GH12,2))*SIN(ATAN((GH12-GH13)/(GG12-GG13+0.000123))+GH10)))","v":{"$error":"#REF!"}},"e52",null,"متغیر ورودی طول","a21",{"$f":"#REF!","v":{"$error":"#REF!"}},null,null,null,{"$f":"GU12+GT11","v":-96},-1.6755160819145565,{"$f":"HB13+HB10*COS(GV13)","v":{"$error":"#REF!"}},{"$f":"HC13-HB10*SIN(GV13)","v":{"$error":"#REF!"}},{"$f":"SQRT(POWER((HB12-GW13),2)+POWER((HC12-GX13),2))","v":{"$error":"#REF!"}},{"$f":"ABS(HB9-GY13)","v":{"$error":"#REF!"}},"42پشت",{"$f":"GQ35","v":1},{"$f":"GR35","v":0},"راس چپ",null,null,null,null,null,null,null,null,null,null,{"$f":"-HK13+HP9","v":0},0,null,null,null,null,null,null,null,null,null,null,null,null,null,null,null,null,null,null,null,null,null,null,null,null,null,null,null,null,null,null,null,null,null,null,null,null,null,null,null,null,null,null,null,null,null,null,null,null,null,null,null,null,null,null,null,null,null,null,null,null,null,null,null,null,null,null,null,null,null,null,null,null,null,null,null,null,null,null,null,null,null,null,null,null,null,null,null,null,null,null,null,null,null,null,null,null,null,null,null,null,null,null,null,null,null,null,null,null,null,null,null,null,null,null,null,null,null,null,null,null,null,null,null,null,null,null,null,null,null,null,null,null,null,null,null,null,null,null,null,null,null,null,null,null,null,null,null,null,null,null,null,null,null,null,null,null,null,null,null,null,"a25",4,null,null,"w1",{"$f":"NV30","v":-25},{"$f":"NV31","v":5},{"$f":"NZ20","v":-3.338942307692303},{"$f":"OA20","v":5.25},{"$f":"NY20","v":"h10"},null,"e9",2,null,null,"m1",{"$f":"OG35","v":-25},{"$f":"OG36","v":5},{"$f":"OK20","v":1.3557692307692299},{"$f":"OL20","v":5.25},{"$f":"OJ20","v":"h10"},null,"e9",2,null,null,"m1",{"$f":"OR35","v":-25},{"$f":"OR36","v":5},{"$f":"OV20","v":-0.5512820512820511},{"$f":"OW20","v":5.25},{"$f":"OU20","v":"h10"},null,"c17",{"$f":"X16","v":86},"تعداد دانه دور یقه لباس",null,"n1",{"$f":"PB60","v":-25},{"$f":"PC60","v":5},{"$f":"PG20","v":2.3092948717948723},{"$f":"PH20","v":5.25},{"$f":"PF20","v":"h10"},null,"c17",{"$f":"X16","v":86},"تعداد دانه دور یقه لباس",null,"n1",{"$f":"PM60","v":-25},{"$f":"PN60","v":5},{"$f":"PR20","v":6.6955128205128176},{"$f":"PS20","v":5.25},{"$f":"PQ20","v":"h10"},null,"f11",0.75,"زاویه فلش دانه",null,"g2",{"$f":"QC11","v":-41.5},{"$f":"QD11+QC8","v":6.4285714285714288},null,null,null,null,null,0,"شیفت افقی تکه جلو",null,{"$f":"QI65","v":35.516874351553142},{"$f":"QJ65","v":90.52706077625875},9]
[null,null,null,null,"تعداد دانه ها  در بالای مچ آستین      b'12",{"$f":"ROUND(I34*F13,0)","v":60},null,"محاسبه برای بافت بالاتنه ( بافت انتخابی) ",null,null,null,null,null,"یقه شکاری",null,null,null,"یقه شومیزیه تا خط جادکمه",null,null,null,null,"c15",{"$f":"ROUND(X20*X13,0)","v":185},null,null,null,null,null,null,null,null,null,30,20,{"$f":"(10/3)*((AM14/AL14)*(1/F6)-1)","v":15.714285714285712},{"$f":"(100/68)*((AO14/AN14)*(1/F7)-1)","v":15.497737556561084},{"$f":"'طراحی همه الگوها'!H322","v":1},20,{"$f":"'طراحی همه الگوها'!H321","v":1},30,{"$f":"'طراحی همه الگوها'!G320","v":" هشتم مخصوص کاربر"},8,null,null,null,null,null,null,null,null,null,null,null,null,null,null,null,null,null,null,null,null,null,null,null,null,null,null,null,null,null,null,null,null,null,null,null,null,null,null,null,null,null,null,null,{"$f":"DB406","v":12},{"$f":"DC406","v":167.98},"شبیه ساز s15",null,{"$f":"CI39","v":89.7},{"$f":"CJ39","v":172.7},"j5",null,{"$f":"DB404","v":12},{"$f":"DC404","v":147.77200000000002},"شبیه ساز s5",null,{"$f":"CQ27","v":12},{"$f":"CR27","v":98.101500000000001},"d6",null,null,null,null,null,null,{"$f":"DB37","v":0},{"$f":"CR36","v":0},2,null,{"$f":"'طراحی همه الگوها'!U190+'طراحی همه الگوها'!U199","v":36},{"$f":"DE14+'طراحی همه الگوها'!U201","v":29.7},17,null,"s3",{"$f":"DB402","v":18.135480000000001},{"$f":"DC402","v":157.77265000000003},null,35.009673624547133,148.88753642120767,"s8",null,"s'6",{"$f":"DM16","v":12},{"$f":"1.003*DN16","v":168.48393999999996},null,33.639849941422625,143.61766052902502,"s'8",null,null,null,null,{"$f":"DB37","v":0},{"$f":"EF13-'طراحی همه الگوها'!U212","v":92.299999999999983},4,null,{"$f":"EI15+0.7*(EI13-EI15)","v":175.87},{"$f":"EJ15+0.4*(EJ13-EJ15)","v":140.97999999999999},"13'",null,null,null,null,null,null,null,null,{"$f":"EP31","v":20.7},{"$f":"EQ31","v":7},5,null,{"$f":"EP32","v":18.078894835220439},{"$f":"EQ32","v":-5.8059737261413353},6,null,null,null,null,null,{"$f":"FF13+'طراحی همه الگوها'!U249","v":83.7},{"$f":"FG13","v":0},2,null,{"$f":"FJ11+0.95*(FJ15-FJ11)","v":117.85},{"$f":"FK11+0.8*(FK15-FK11)","v":195.54},"13'''",null,"s'6",{"$f":"DU14","v":12},{"$f":"DV14","v":168.48393999999996},null,63.978304509996903,108.43956166612223,"s''10",null,null,null,null,null,"c19",{"$f":"ATAN((GB13-GB12)/(GC13-GC12))","v":{"$error":"#DIV/0!"}},null,"محاسبات",null,null,null,null,null,null,null,null,null,null,null,null,null,"ماکزیمم متغیر ورودی  ضریب طول",20,null,null,{"$f":"GU13+GT11","v":-94},-1.6406094968746698,{"$f":"HB13+HB10*COS(GV14)","v":{"$error":"#REF!"}},{"$f":"HC13-HB10*SIN(GV14)","v":{"$error":"#REF!"}},{"$f":"SQRT(POWER((HB12-GW14),2)+POWER((HC12-GX14),2))","v":{"$error":"#REF!"}},{"$f":"ABS(HB9-GY14)","v":{"$error":"#REF!"}},"k6",{"$f":"HB13+HB10*COS(RADIANS(GT24))","v":{"$error":"#REF!"}},{"$f":"HC13-HB10*SIN(RADIANS(GT24))","v":{"$error":"#REF!"}},"راس سوم",null,null,null,null,null,null,null,null,null,null,{"$f":"-HK14+HP9","v":0},0,null,null,null,null,null,null,null,null,null,null,null,null,null,null,null,null,null,null,null,null,null,null,null,null,null,null,null,null,null,null,null,null,null,null,null,null,null,null,null,null,null,null,null,null,null,null,null,null,null,null,null,null,null,null,null,null,null,null,null,null,null,null,null,null,null,null,null,null,null,null,null,null,null,null,null,null,null,null,null,null,null,null,null,null,null,null,null,null,null,null,null,null,null,null,null,null,null,null,null,null,null,null,null,null,null,null,null,null,null,null,null,null,null,null,null,null,null,null,null,null,null,null,null,null,null,null,null,null,null,null,null,null,null,null,null,null,null,null,null,null,null,null,null,null,null,null,null,null,null,null,null,null,null,null,null,null,null,null,null,null,"خطا"," ",null,null,"نقطه پایان رج(راست)","مولفه افقی","مولفه عمودی",{"$f":"NZ23","v":1.161057692307697},{"$f":"OA23","v":5.25},{"$f":"NY23","v":"h13"},null,"e10",6,null,null,"نقطه پایان رج(راست)","مولفه افقی","مولفه عمودی",{"$f":"OK23","v":5.8557692307692299},{"$f":"OL23","v":5.25},{"$f":"OJ23","v":"h13"},null,"e10",6,null,null,"نقطه پایان رج(راست)","مولفه افقی","مولفه عمودی",{"$f":"OV23","v":3.9487179487179489},{"$f":"OW23","v":5.25},{"$f":"OU23","v":"h13"},null,"b''1",{"$f":"G46","v":92},null,null,"نقطه پایان رج(راست)","مولفه افقی","مولفه عمودی",{"$f":"PG23","v":6.8092948717948723},{"$f":"PH23","v":5.25},{"$f":"PF23","v":"h13"},null,"b''1",{"$f":"G46","v":92},null,null,"نقطه پایان رج(راست)","مولفه افقی","مولفه عمودی",{"$f":"PR23","v":11.195512820512818},{"$f":"PS23","v":5.25},{"$f":"PQ23","v":"h13"},null,"g3",{"$f":"PY7","v":1.4285714285714286},"ارتفاع نیم دایره",null,"g4",{"$f":"QC11+QC9*QC7/40","v":-40.975000000000001},{"$f":"QD11+0.5*QC8","v":5.7142857142857144},{"$f":"QC18","v":-41.256622955421101},{"$f":"QD18","v":5.7107057257989862},{"$f":"QB18","v":"g8"},null,null,0,"شیفت افقی تکه پشت",null,{"$f":"QI66","v":34.899986494360945},{"$f":"QJ66","v":121.99283712961564},12]
[null,null,null,null,"تعداد دانه های اضافه شده زیر بغل   b8",{"$f":"ROUNDUP(I22*(AX119+AX114+BI116),0)","v":12},null,"تعداد رج در یک سانت جادکمه",{"$f":"F6+0.3*I17*F6","v":3.333333333333333},null,null,null,null,"بافت انتخابی یقه شکاری",null,null,null,"جمع شوندگی عمودی  e9  ",{"$f":"OFFSET(AJ6,S20,0)","v":1.1640211640211644},null,null,null,"c16",{"$f":"ROUND(X20*X11,0)","v":126},null,null,null,null,null,null,null,null,null,30,20,{"$f":"(10/3)*((AM15/AL15)*(1/F6)-1)","v":15.714285714285712},{"$f":"(100/68)*((AO15/AN15)*(1/F7)-1)","v":15.497737556561084},{"$f":"'طراحی همه الگوها'!H326","v":1},20,{"$f":"'طراحی همه الگوها'!H325","v":1},30,{"$f":"'طراحی همه الگوها'!G324","v":" نهم مخصوص کاربر"},9,null,null,null,null,null,null,null,null,null,null,null,null,null,null,null,null,null,null,null,null,null,null,null,null,null,null,null,null,null,null,null,null,null,null,null,null,null,null,null,null,null,null,null,null,{"$f":"'متغیرها '!C52","v":7},"شیفت عمودی",null,{"$f":"CI36","v":12},{"$f":"CJ36","v":172.7},"j1",null,{"$f":"CI37","v":12},{"$f":"CJ37","v":106.99999999999999},"j2",null,{"$f":"CQ25","v":12},{"$f":"CR25","v":183.2165},"d3",null,null,null,null,null,null,{"$f":"DB37","v":0},{"$f":"'طراحی همه الگوها'!U188+CR36","v":173.7},1,null,{"$f":"DD21","v":57.099999999999994},{"$f":"DE21","v":35.200000000000003},10,null,"خط سینه",{"$f":"DT400","v":12},{"$f":"DU400","v":123.7},null,52.266928842957483,137.1296942739323,"s9",null,"s'7",{"$f":"DU14+0.12*(DU18-DU14)","v":18.491954982426787},{"$f":"DV18+0.95*(DV14-DV18)","v":165.3756550661281},null,49.86973739748958,124.9679509257938,"s'9",null,null,null,null,{"$f":"DB37","v":0},{"$f":"EC35","v":0},2,null,{"$f":"EE31-'طراحی همه الگوها'!U220","v":171.6},{"$f":"EF31","v":124.5},13,null,null,null,null,null,null,null,null,{"$f":"EP29","v":12},{"$f":"EQ31","v":7},4,null,{"$f":"EX14+0.3*(EX17-EX14)","v":36.509756295305976},{"$f":"EY14+0.05*(EY17-EY14)","v":-4.7612750236159451},"6''",null,null,null,null,null,{"$f":"FF13+'طراحی همه الگوها'!U249","v":83.7},{"$f":"FG13+'طراحی همه الگوها'!U251","v":99.9},4,null,{"$f":"FF34","v":119.1},{"$f":"FG34","v":216.7},15,null,"s''7",{"$f":"FO14+0.15*(FO18-FO14)","v":19.796745676499533},{"$f":"FP18+0.95*(FP14-FP18)","v":165.48172108330607},null,72.463585884235471,99.954280291883663,"k4 شبیه ساز",null,null,null,null,null,null," درجه α","x","y","c21","c'17",null,"پروسیجر چرخش چند نقطه حول نقطه دیگر",null,null,null,null,null,"کامل شده",null,"m1",{"$f":"ATAN(IF(GQ11>GQ10,1,-1)*(GQ11-GQ10)/(GR10-GR11))","v":{"$error":"#REF!"}},"m2",{"$f":"SQRT(POWER(GQ10-GQ11,2)+POWER(GR10-GR11,2))","v":{"$error":"#REF!"}},null,null,{"$f":"GU14+GT11","v":-92},-1.6057029118347832,{"$f":"HB13+HB10*COS(GV15)","v":{"$error":"#REF!"}},{"$f":"HC13-HB10*SIN(GV15)","v":{"$error":"#REF!"}},{"$f":"SQRT(POWER((HB12-GW15),2)+POWER((HC12-GX15),2))","v":{"$error":"#REF!"}},{"$f":"ABS(HB9-GY15)","v":{"$error":"#REF!"}},"رسم مثلث",null,null,null,null,null,null,null,null,null,null,null,null,null,{"$f":"-HK15+HP9","v":0},0,null,null,null,null,null,null,null,null,null,null,null,null,null,null,null,null,null,null,null,null,null,null,null,null,null,null,null,null,null,null,null,null,null,null,null,null,null,null,null,null,null,null,null,null,null,null,null,null,null,null,null,null,null,null,null,null,null,null,null,null,null,null,null,null,null,null,null,null,null,null,null,null,null,null,null,null,null,null,null,null,null,null,null,null,null,null,null,null,null,null,null,null,null,null,null,null,null,null,null,null,null,null,null,null,null,null,null,null,null,null,null,null,null,null,null,null,null,null,null,null,null,null,null,null,null,null,null,null,null,null,null,null,null,null,null,null,null,null,null,null,null,null,null,null,null,null,null,null,null,null,null,null,null,null,null,null,null,null,null,null,"b''1-2*a25",{"$f":"NV17-2*NV13","v":84},null,null,"w2",{"$f":"NU49","v":22.822115384615394},{"$f":"NV49","v":5},null,null,null,null,"e11",4,null,null,"m2",{"$f":"OF61","v":32.21153846153846},{"$f":"OG61","v":5},null,null,null,null,"e11",4,null,null,"m2",{"$f":"OQ61","v":28.397435897435898},{"$f":"OR61","v":5},null,null,null,null,"b2",{"$f":"ROUND(F12*I16,0)","v":3},"دانه ها جادکمه",null,"n2",{"$f":"PB61","v":34.118589743589745},{"$f":"PC61","v":5},null,null,null,null,"b2",{"$f":"ROUND(F12*I16,0)","v":3},"دانه ها جادکمه",null,"n2",{"$f":"PM61","v":42.891025641025635},{"$f":"PN61","v":5},null,null,null,null,"n0",{"$f":"PX19*40/PY17","v":1.9047619047619047},"ضریب کاهش تعداد دانه ها",null,"g5",{"$f":"QC11+0.7*(QC14-QC11)","v":-41.1325},{"$f":"QD11+0.28*(QD14-QD11)","v":5.2},{"$f":"QC12","v":-41.006500000000003},{"$f":"QD12","v":6.0228571428571431},{"$f":"QB12","v":"g11"},null,null,0,"شیفت عمودی تکه پشت"]
[null,null,null,null,"تعداد دانه های سرتاسر آستین در قسمت زیر بغل   b20",{"$f":"ROUNDUP(F15+I21*F29*COS(0.4*(F9+F10))+G44+0.5*F27,0)","v":95},null,"تعداد دانه در یک سانت جادکمه ",{"$f":"F7+0.68*I18*F7","v":1.8749999999999996},null,null,null,null," aa0 تعداد رج در یک سانت",{"$f":"F6+0.3*O19*F6","v":3.333333333333333},null,null,"جمع شوندگی افقی e8",{"$f":"OFFSET(AJ6,S20,1)","v":8.6505190311418706E-2},null,null,null,"c17",{"$f":"G46-G42","v":86},null,null,null,null,null,null,null,null,null,30,20,{"$f":"(10/3)*((AM16/AL16)*(1/F6)-1)","v":15.714285714285712},{"$f":"(100/68)*((AO16/AN16)*(1/F7)-1)","v":15.497737556561084},{"$f":"'طراحی همه الگوها'!H330","v":1},20,{"$f":"'طراحی همه الگوها'!H329","v":1},30,{"$f":"'طراحی همه الگوها'!G328","v":" دهم مخصوص کاربر"},10,null,null,null,null,null,null,null,null,null,null,null,null,null,null,null,null,null,null,null,null,null,null,null,null,null,null,null,null,null,null,null,null,null,null,null,null,null,null,null,null,null,null,null,"دور سر",{"$f":"'متغیرها '!U85","v":57},"w12",null,null,null,null,null,null,{"$f":"CJ22","v":160},"تمام قد",null,null,null,null,null,null,null,null,null,null,{"$f":"DB37+'طراحی همه الگوها'!U190","v":14.8},{"$f":"DE15","v":173.7},4,null,{"$f":"'طراحی همه الگوها'!U190+'طراحی همه الگوها'!U192+'طراحی همه الگوها'!U202","v":67.699999999999989},{"$f":"DE14+'طراحی همه الگوها'!U204","v":33.700000000000003},20,null,"s15",{"$f":"DB406","v":12},{"$f":"DC406","v":167.98},null,69.524184061367833,129.29113284241538,"s10",null,"s'8",{"$f":"DU14+0.4*(DU18-DU14)","v":33.639849941422625},{"$f":"DV18+0.6*(DV14-DV18)","v":143.61766052902502},null,66.099624853556548,106.31824132256259,"s'10",null,null,null,null,{"$f":"DB37+'طراحی همه الگوها'!U216","v":110},{"$f":"EF15","v":0},8,null,null,null,null,null,null,null,null,null,null,null,null,{"$f":"EP29","v":12},{"$f":"EQ30","v":-5},2,null,{"$f":"EX14+0.7*(EX17-EX14)","v":61.084238242086691},{"$f":"EY14+0.4*(EY17-EY14)","v":2.5516158940617846},"6'''",null,null,null,null,null,{"$f":"FF13+'طراحی همه الگوها'!U249-'طراحی همه الگوها'!U255","v":76.100000000000009},{"$f":"FG15","v":99.9},8,null,null,null,null,null,"s''8",{"$f":"FO14+0.4*(FO18-FO14)","v":32.791321803998763},{"$f":"FP18+0.6*(FP14-FP18)","v":144.46618866644886},null,null,null,null,null,null,null,null,null,null,2,{"$f":"GB12+GE12*SIN(RADIANS(GA16)+GA14)","v":{"$error":"#DIV/0!"}},{"$f":"GC12+GE12*COS(RADIANS(GA16)+GA14)","v":{"$error":"#DIV/0!"}},{"$f":"IF(GB13>GB16,ATAN((GC13-GC16)/(GB13-GB16)),ATAN((GC13-GC16)/(GB16-GB13)))","v":{"$error":"#DIV/0!"}},{"$f":"IF(GB13>GB16,(GB13-GB16)/COS(GD16),(GB16-GB13)/COS(GD16))","v":{"$error":"#DIV/0!"}},null,"رادیان",1,"زاویه چرخش","چرخش مخالف عقربه های ساعت",null,null,null,null,"نقطه خروجی بالا","b28",{"$f":"GQ10+IF(GQ11>GQ10,1,-1)*GQ12*COS(GP15)","v":{"$error":"#REF!"}},{"$f":"GR10+GQ12*SIN(GP15)","v":{"$error":"#REF!"}},null,null,{"$f":"GU15+GT11","v":-90},-1.5707963267948966,{"$f":"HB13+HB10*COS(GV16)","v":{"$error":"#REF!"}},{"$f":"HC13-HB10*SIN(GV16)","v":{"$error":"#REF!"}},{"$f":"SQRT(POWER((HB12-GW16),2)+POWER((HC12-GX16),2))","v":{"$error":"#REF!"}},{"$f":"ABS(HB9-GY16)","v":{"$error":"#REF!"}},{"$f":"HA12","v":"پشتk''5"},{"$error":"#REF!"},{"$error":"#REF!"},null,null,null,null,null,null,null,null,null,null,null,{"$f":"-HK16+HP9","v":0},0,null,null,null,null,null,null,null,null,null,null,null,null,null,null,null,null,null,null,null,null,null,null,null,null,null,null,null,null,null,null,null,null,null,null,null,null,null,null,null,null,null,null,null,null,null,null,null,null,null,null,null,null,null,null,null,null,null,null,null,null,null,null,null,null,null,null,null,null,null,null,null,null,null,null,null,null,null,null,null,null,null,null,null,null,null,null,null,null,null,null,null,null,null,null,null,null,null,null,null,null,null,null,null,null,null,null,null,null,null,null,null,null,null,null,null,null,null,null,null,null,null,null,null,null,null,null,null,null,null,null,null,null,null,null,null,null,null,null,null,null,null,null,null,null,null,null,null,null,null,null,null,null,null,null,null,null,null,null,null,null,"b2",{"$f":"F25","v":5},null,null,"نقاط خروجی","مولفه افقی","مولفه عمودی",{"$f":"NZ21","v":-3.338942307692303},{"$f":"OA21","v":4.75},{"$f":"NY21","v":"h11"},null,"خطا"," ",null,null,"نقاط خروجی","مولفه افقی","مولفه عمودی",{"$f":"OK21","v":1.3557692307692299},{"$f":"OL21","v":4.75},{"$f":"OJ21","v":"h11"},null,"خطا"," ",null,null,"نقاط خروجی","مولفه افقی","مولفه عمودی",{"$f":"OV21","v":-0.5512820512820511},{"$f":"OW21","v":4.75},{"$f":"OU21","v":"h11"},null,{"$f":"X19","v":4.7222222222222223}," ca0 تعداد رج در یک سانت",null,null,"نقاط خروجی","مولفه افقی","مولفه عمودی",{"$f":"PG21","v":2.3092948717948723},{"$f":"PH21","v":4.75},{"$f":"PF21","v":"h11"},null,{"$f":"X19","v":4.7222222222222223}," ca0 تعداد رج در یک سانت",null,null,"نقاط خروجی","مولفه افقی","مولفه عمودی",{"$f":"PR21","v":6.6955128205128176},{"$f":"PS21","v":4.75},{"$f":"PQ21","v":"h11"},null,"f4",{"$f":"PY9*PY7","v":0.57142857142857151},"بزرگی فلش رج",null,"g6",{"$f":"QC15","v":-41.1325},{"$f":"QD13-QD15+QD11","v":6.2285714285714286},null,null,null,null,null,"جلو",null,null,{"$f":"QI66","v":34.899986494360945},{"$f":"QJ66","v":121.99283712961564},12]
[null,null,null,null,"تعداد دانه های اضافه شده در کنار آستین در هر طرف b21",{"$f":"0.5*(F16-F14)","v":17.5},null,"جمع شوندگی عمودی بافت جادکمه",{"$f":"OFFSET(AJ6,I19,0)","v":-0.15873015873015892},null,null,null,null,"تعداد دانه در یک سانت ab0 ",{"$f":"F7+0.68*O20*F7","v":4.4571428571428573},null,null," ea0 تعداد رج در یک سانت",{"$f":"F6+0.3*S15*F6","v":4.7222222222222223},null,null,null,"جمع شوندگی عمودی  e9  ",{"$f":"OFFSET(AJ6,X21,0)","v":1.1640211640211644},null,null,null,null,null,null,"یقه انگلیسی ",null,null,{"$f":"AO17/AN17","v":1.9459459459459461},{"$f":"AM17/AL17","v":2.8888888888888888},{"$f":"(10/3)*((AM17/AL17)*(1/I6)-1)","v":0.10582010582010619},{"$f":"(100/68)*((AO17/AN17)*(1/I7)-1)","v":-3.9745627980922023E-2},13.5,39,18.5,36,"ساده ",11,null,null,null,null,null,null,null,null,null,null,null,null,null,null,null,null,null,null,null,null,null,null,null,null,null,null,null,null,null,null,null,null,null,null,null,null,null,null,null,null,null,null,null,null,{"$f":"'متغیرها '!U76","v":80},"t3",null,{"$f":"CI36","v":12},{"$f":"CJ36","v":172.7},"j1",null,null,{"$f":"'متغیرها '!C52","v":7},"شیفت عمودی",null,{"$f":"CQ25","v":12},{"$f":"CR25","v":183.2165},"d3",null,null,null,null,null,null,{"$f":"DB37+'طراحی همه الگوها'!U190","v":14.8},{"$f":"DE14+'طراحی همه الگوها'!U195","v":26.8},11,null,{"$f":"DD25","v":78.2},{"$f":"DE25","v":27.621000000000002},7,null,"زاویه متوسط سرشانه",{"$f":"'متغیرها '!B245","v":0.32009079810115021},"α2",null,null,null,null,null,"s'9",{"$f":"DU14+0.7*(DU18-DU14)","v":49.86973739748958},{"$f":"DV18+0.3*(DV14-DV18)","v":124.9679509257938},null,null,null,null,null,null,null,null,{"$f":"EE16","v":110},{"$f":"EF16+'طراحی همه الگوها'!U221","v":6.1},14,null,{"$f":"EE15","v":0},{"$f":"EF15","v":0},2,null,null,null,null,null,null,null,null,{"$f":"EP30","v":2.6999999999999993},{"$f":"EQ30","v":-5},3,null,{"$f":"EP34","v":79.515099702172236},{"$f":"EQ34","v":15.088000324366462},8,null,null,null,null,null,{"$f":"FF13","v":0},{"$f":"FG15","v":99.9},3,null,{"$f":"FF32","v":0},{"$f":"FG32","v":124.9},18,null,"s''9",{"$f":"FO14+0.7*(FO18-FO14)","v":48.384813156997829},{"$f":"FP18+0.28*(FP14-FP18)","v":125.251987599608},null,{"$f":"FO19","v":72.463585884235471},99.954280291883663,"k4 شبیه ساز",null,null,null,null,null,null,4,{"$f":"GB12+GE12*SIN(RADIANS(GA17)+GA14)","v":{"$error":"#DIV/0!"}},{"$f":"GC12+GE12*COS(RADIANS(GA17)+GA14)","v":{"$error":"#DIV/0!"}},{"$f":"IF(GB13>GB17,ATAN((GC13-GC17)/(GB13-GB17)),ATAN((GC13-GC17)/(GB17-GB13)))","v":{"$error":"#DIV/0!"}},{"$f":"IF(GB13>GB17,(GB13-GB17)/COS(GD17),(GB17-GB13)/COS(GD17))","v":{"$error":"#DIV/0!"}},null,"مولفه افقی","مولفه عمودی","اسم نقطه ",null,"نقطه  خروجی چرخیده",null,null,null,"نقطه خروجی پایین","b27",{"$f":"GQ18+IF(GQ11>GQ10,1,-1)*GQ12*COS(GP15)","v":{"$error":"#REF!"}},{"$f":"GR18+GQ12*SIN(GP15)","v":{"$error":"#REF!"}},null,null,{"$f":"GU16+GT11","v":-88},-1.5358897417550099,{"$f":"HB13+HB10*COS(GV17)","v":{"$error":"#REF!"}},{"$f":"HC13-HB10*SIN(GV17)","v":{"$error":"#REF!"}},{"$f":"SQRT(POWER((HB12-GW17),2)+POWER((HC12-GX17),2))","v":{"$error":"#REF!"}},{"$f":"ABS(HB9-GY17)","v":{"$error":"#REF!"}},"42پشت",1,0,null,null,null,null,null,null,null,null,null,null,null,{"$f":"-HK17+HP9","v":0},0,null,null,null,null,null,null,null,null,null,null,null,null,null,null,null,null,null,null,null,null,null,null,null,null,null,null,null,null,null,null,null,null,null,null,null,null,null,null,null,null,null,null,null,null,null,null,null,null,null,null,null,null,null,null,null,null,null,null,null,null,null,null,null,null,null,null,null,null,null,null,null,null,null,null,null,null,null,null,null,null,null,null,null,null,null,null,null,null,null,null,null,null,null,null,null,null,null,null,null,null,null,null,null,null,null,null,null,null,null,null,null,null,null,null,null,null,null,null,null,null,null,null,null,null,null,null,null,null,null,null,null,null,null,null,null,null,null,null,null,null,null,null,null,null,null,null,null,null,null,null,null,null,null,null,null,null,null,null,null,null,"b''1",{"$f":"G46","v":92},null,null,"h5",{"$f":"NZ13+0.5*(NZ15-NZ13)","v":-1.088942307692303},{"$f":"OA13","v":5},{"$f":"NZ22","v":1.161057692307697},{"$f":"OA22","v":4.75},{"$f":"NY22","v":"h12"},null,"e12-4*eb0*b'2",{"$f":"ROUND(S19-4*S18*F12,0)","v":117},null,null,"h5",{"$f":"OK13+0.5*(OK15-OK13)","v":3.6057692307692299},{"$f":"OL13","v":5},{"$f":"OK22","v":5.8557692307692299},{"$f":"OL22","v":4.75},{"$f":"OJ22","v":"h12"},null,"e12-4*eb0*b'2",{"$f":"OG17","v":117},null,null,"h5",{"$f":"OV13+0.5*(OV15-OV13)","v":1.6987179487179489},{"$f":"OW13","v":5},{"$f":"OV22","v":3.9487179487179489},{"$f":"OW22","v":4.75},{"$f":"OU22","v":"h12"},null,{"$f":"X20","v":2.7529411764705882},"تعداد دانه در یک سانت cb0 ",null,null,"h5",{"$f":"PG13+0.5*(PG15-PG13)","v":4.5592948717948723},{"$f":"PH13","v":5},{"$f":"PG22","v":6.8092948717948723},{"$f":"PH22","v":4.75},{"$f":"PF22","v":"h12"},null,{"$f":"X20","v":2.7529411764705882},"تعداد دانه در یک سانت cb0 ",null,null,"h5",{"$f":"PR13+0.5*(PR15-PR13)","v":8.9455128205128176},{"$f":"PS13","v":5},{"$f":"PR22","v":11.195512820512818},{"$f":"PS22","v":4.75},{"$f":"PQ22","v":"h12"},null,"w'12",42,"نسبت نقشه بافت به سایز واقعی",null,"g7",{"$f":"QC12+0.7*QD9*SIN(RADIANS(30)+2*ATAN((QC12-QC15)/(QD12-QD15+0.0001)))","v":-40.712016253334198},{"$f":"QD12-0.7*QD9*COS(RADIANS(30)+2*ATAN((QC12-QC15)/(QD12-QD15+0.0001)))","v":5.7521556043508548},{"$f":"QC12","v":-41.006500000000003},{"$f":"QD12","v":6.0228571428571431},{"$f":"QB12","v":"g11"},null,null,null,"یقه گرد جلو",null,{"$f":"QI75","v":47.205108072639767},{"$f":"QJ75","v":116.52006725159009},"k''5"]
[null,null,null,null,"طول اضافه شده در کنار آستین در هر طرف b'21",{"$f":"F17/I22","v":9.3333333333333357},null,"جمع شوندگی افقی بافت جادکمه",{"$f":"OFFSET(AJ6,I19,1)","v":-0.41006787330316763},null,null,null,null,"متغیر ورودی بافت یقه شکاری ",null,null,null,"تعداد دانه در یک سانت eb0 ",{"$f":"F7+0.68*S16*F7","v":2.7529411764705882},null,null,null,"جمع شوندگی افقی e8",{"$f":"OFFSET(AJ6,X21,1)","v":8.6505190311418706E-2},null,null,null,null,null,null," بافت جودانه",null,null,2.1176470588235294,3.7777777777777777,{"$f":"(10/3)*((AM18/AL18)*(1/I6)-1)","v":1.1640211640211644},{"$f":"(100/68)*((AO18/AN18)*(1/I7)-1)","v":8.6505190311418706E-2},13.5,51,17,36,"همه از زیر",12,null,null,null,null,null,null,null,null,null,null,null,null,null,null,null,null,null,null,null,null,null,null,null,null,null,null,null,null,null,null,null,null,null,null,null,null,null,null,null,null,null,null,null,null,{"$f":"'متغیرها '!U56","v":99.9},"e",null,{"$f":"CI37","v":12},{"$f":"CJ37","v":106.99999999999999},"j2",null,"محاسبات",null,null,null,{"$f":"CQ26","v":84.344999999999999},{"$f":"CR26","v":110.8715},"d4",null,null,null,null,null,null,{"$f":"DB37+'طراحی همه الگوها'!U190","v":14.8},{"$f":"DE14","v":0},5,null,null,null,null,null,"دست صاف شبیه ساز k4",{"$f":"F406","v":86.989590140434757},{"$f":"J406","v":123.50152227750756},null,{"$f":"DM28","v":63.891899870506428},{"$f":"DN28","v":112.30033018941006},"s12",null,"s'10",{"$f":"EC41-('متغیرها '!C19*'متغیرها '!U83)*COS(DM17+RADIANS(EC40))","v":66.099624853556548},{"$f":"ED41+('متغیرها '!C19*'متغیرها '!U83)*SIN(DM17+RADIANS(EC40))","v":106.31824132256259},null,{"$f":"DU20","v":55.705155170114303},95.923771639120332,"s'12",null,null,null,null,{"$f":"DB37+'طراحی همه الگوها'!U216","v":110},{"$f":"EF15+'طراحی همه الگوها'!U217","v":67.7},9,null,{"$f":"EI17+0.3*(EI20-EI17)","v":18.143999999999998},{"$f":"EJ17+0.15*(EJ20-EJ17)","v":2.25},"16'",null,null,null,null,null,null,null,null,null,null,null,null,null,null,null,null,null,null,null,null,{"$f":"FF13","v":0},{"$f":"FG17-'طراحی همه الگوها'!U252","v":85.9},5,null,{"$f":"FJ17+'طراحی همه الگوها'!U268","v":22.4},{"$f":"FG31+'طراحی همه الگوها'!U269","v":125.80000000000001},24,null,"s''10",{"$f":"EC41-0.2*'متغیرها '!U83*COS(DM17+RADIANS(EC40))","v":63.978304509996903},{"$f":"ED41+0.2*'متغیرها '!U83*SIN(DM17+RADIANS(EC40))","v":108.43956166612223},null,60.742413102098311,78.18087632582855,"s''11",null,null,null,null,null,null,6,{"$f":"GB12+GE12*SIN(RADIANS(GA18)+GA14)","v":{"$error":"#DIV/0!"}},{"$f":"GC12+GE12*COS(RADIANS(GA18)+GA14)","v":{"$error":"#DIV/0!"}},{"$f":"IF(GB13>GB18,ATAN((GC13-GC18)/(GB13-GB18)),ATAN((GC13-GC18)/(GB18-GB13)))","v":{"$error":"#DIV/0!"}},{"$f":"IF(GB13>GB18,(GB13-GB18)/COS(GD18),(GB18-GB13)/COS(GD18))","v":{"$error":"#DIV/0!"}},null,2,1,"a40","نقطه مرکزی چرخش","مولفه افقی","مولفه عمودی","اسم نقطه ",null,"نقطه خروجی میانه","b26",{"$f":"GQ10+IF(GQ11>GQ10,1,-1)*GQ13*GR15*SIN(GP15)/GR14","v":{"$error":"#REF!"}},{"$f":"GR10-GQ13*GR15*COS(GP15)/GR14","v":{"$error":"#REF!"}},null,null,{"$f":"GU17+GT11","v":-86},-1.5009831567151235,{"$f":"HB13+HB10*COS(GV18)","v":{"$error":"#REF!"}},{"$f":"HC13-HB10*SIN(GV18)","v":{"$error":"#REF!"}},{"$f":"SQRT(POWER((HB12-GW18),2)+POWER((HC12-GX18),2))","v":{"$error":"#REF!"}},{"$f":"ABS(HB9-GY18)","v":{"$error":"#REF!"}},null,null,null,null,null,null,null,null,null,null,null,null,null,null,{"$f":"-HK18+HP9","v":0},0,null,null,null,null,null,null,null,null,null,null,null,null,null,null,null,null,null,null,null,null,null,null,null,null,null,null,null,null,null,null,null,null,null,null,null,null,null,null,null,null,null,null,null,null,null,null,null,null,null,null,null,null,null,null,null,null,null,null,null,null,null,null,null,null,null,null,null,null,null,null,null,null,null,null,null,null,null,null,null,null,null,null,null,null,null,null,null,null,null,null,null,null,null,null,null,null,null,null,null,null,null,null,null,null,null,null,null,null,null,null,null,null,null,null,null,null,null,null,null,null,null,null,null,null,null,null,null,null,null,null,null,null,null,null,null,null,null,null,null,null,null,null,null,null,null,null,null,null,null,null,null,null,null,null,null,null,null,null,null,null,"نوشته ها یقه شکاری ",null,null,null,"h8",{"$f":"NZ17-0.5*NZ8","v":-3.338942307692303},{"$f":"OA13","v":5},null,null,null,null,"e12",{"$f":"ROUND(S19,0)","v":135},null,null,"h8",{"$f":"OK17-0.5*OK8","v":1.3557692307692299},{"$f":"OL13","v":5},null,null,null,null,"e12",{"$f":"ROUND(S19,0)","v":135},null,null,"h8",{"$f":"OV17-0.5*OV8","v":-0.5512820512820511},{"$f":"OW13","v":5},null,null,null,null,{"$f":"I16","v":1.8749999999999996}," تعداد دانه در یک سانت جادکمه ",null,null,"h8",{"$f":"PG17-0.5*PG8","v":2.3092948717948723},{"$f":"PH13","v":5},null,null,null,null,{"$f":"I16","v":1.8749999999999996}," تعداد دانه در یک سانت جادکمه ",null,null,"h8",{"$f":"PR17-0.5*PR8","v":6.6955128205128176},{"$f":"PS13","v":5},null,null,null,null,2.8,"  تعداد رج در یک سانت",null,null,"g8",{"$f":"QC12-0.7*QD9*SIN(RADIANS(30)+ATAN((QC12-QC15)/(QD12-QD15+0.0001)))","v":-41.256622955421101},{"$f":"QD12-0.7*QD9*COS(RADIANS(30)+ATAN((QC12-QC15)/(QD12-QD15+0.0001)))","v":5.7107057257989862},{"$f":"QC17","v":-40.712016253334198},{"$f":"QD17","v":5.7521556043508548},{"$f":"QB17","v":"g7"},null,{"$f":"FF150","v":20.010856348894084},145.77056095882656,25]
[null,null,null,null,"هر b11   رج در بافت آستین یکدانه از ابتدا و یکدانه از انتها کم شود",{"$f":"IF(OR(ROUND(F21/F17,0)>50,ROUND(F21/F17,0)<-50),0,ROUND(F21/F17,0))","v":3},null,"بافت انتخابی جادکمه",{"$f":"'متغیرها '!C835","v":1},null,null,null,null,"جمع شوندگی عمودی  a9  ",{"$f":"OFFSET(AJ6,O21,0)","v":-0.15873015873015892},null,null,"e12",{"$f":"S18*2*F11","v":134.53031006074954},null,null,null," ca0 تعداد رج در یک سانت",{"$f":"F6+0.3*X17*F6","v":4.7222222222222223},null,null,null,null,null,null,"d1",{"$f":"F45+2*F44+2*ROUND(F7*O238,0)-2*AF21","v":129},null,1.8,2.6666666666666665,{"$f":"(10/3)*((AM19/AL19)*(1/I6)-1)","v":-0.15873015873015892},{"$f":"(100/68)*((AO19/AN19)*(1/I7)-1)","v":-0.14705882352941174},13.5,36,20,36,"جودانه",13,null,null,null,null,null,null,null,null,null,null,null,null,null,null,null,null,null,null,null,null,null,null,null,null,null,null,null,null,null,null,null,null,null,null,null,null,null,null,null,null,null,null,null,null,{"$f":"'متغیرها '!U58","v":100.1},"g",null,null,null,null,null,"(d1 → d2)",{"$f":"0.45*'متغیرها '!U85","v":25.650000000000002},null,null,null,null,null,null,null,null,null,null,null,{"$f":"DD18+'طراحی همه الگوها'!U192","v":57.099999999999994},{"$f":"DE14","v":0},8,null,{"$f":"DD18","v":14.8},{"$f":"DE18","v":0},5,null,"شبیه ساز 26",{"$f":"DX388","v":12},{"$f":"DY388","v":137.70593875647791},null,{"$f":"DP18+0.25*(DP21-DP18)","v":68.618924902879826},{"$f":"DQ21+0.5*(DQ18-DQ21)","v":59.650165094705031},"s12'",null,"s'11",{"$f":"DU29-'طراحی همه الگوها'!U226*SIN(DM17+RADIANS(EC40))","v":63.059065694454389},{"$f":"DV29-'طراحی همه الگوها'!U226*COS(DM17+RADIANS(EC40))","v":90.549760102102582},null,65.273608619080008,51.461885819560166,"s''13",null,null,null,null,{"$f":"EE26","v":61.900000000000006},{"$f":"EF14+'طراحی همه الگوها'!U215","v":96.09999999999998},7,null,{"$f":"DB37+'طراحی همه الگوها'!U227","v":36.287999999999997},{"$f":"EJ17+'طراحی همه الگوها'!U228","v":6.8},22,null,null,null,null,null,null,null,null,{"$f":"EP29","v":12},{"$f":"EQ35","v":112.88823290140462},13,null,{"$f":"EP31","v":20.7},{"$f":"EQ31","v":7},5,null,null,null,null,null,{"$f":"FF13","v":0},{"$f":"FG13","v":0},1,null,{"$f":"FJ17+'طراحی همه الگوها'!U270","v":44.9},{"$f":"FG31+'طراحی همه الگوها'!U271","v":129.80000000000001},26,null,"k4 شبیه ساز",{"$f":"K384","v":72.463585884235471},{"$f":"L384","v":99.954280291883663},null,37.300067537823992,60.762153152984467,"s'11",null,null,null,null,null,null,8,{"$f":"GB12+GE12*SIN(RADIANS(GA19)+GA14)","v":{"$error":"#DIV/0!"}},{"$f":"GC12+GE12*COS(RADIANS(GA19)+GA14)","v":{"$error":"#DIV/0!"}},{"$f":"IF(GB13>GB19,ATAN((GC13-GC19)/(GB13-GB19)),ATAN((GC13-GC19)/(GB19-GB13)))","v":{"$error":"#DIV/0!"}},{"$f":"IF(GB13>GB19,(GB13-GB19)/COS(GD19),(GB19-GB13)/COS(GD19))","v":{"$error":"#DIV/0!"}},null,1,2,"نقطه 1","نقطه قبل از چرخش",{"$f":"IF(GH19>GH18,IF(GG19>GG18,GG18+SQRT(POWER(GG19-GG18,2)+POWER(GH19-GH18,2))*COS(ATAN((GH19-GH18)/(GG19-GG18+0.000123))+GH16),GG18-SQRT(POWER(GG19-GG18,2)+POWER(GH19-GH18,2))*COS(ATAN((GH19-GH18)/(GG18-GG19+0.000123))-GH16)),IF(GG19>GG18,GG18+SQRT(POWER(GG19-GG18,2)+POWER(GH19-GH18,2))*COS(ATAN((GH18-GH19)/(GG19-GG18+0.000123))-GH16),GG18-SQRT(POWER(GG19-GG18,2)+POWER(GH19-GH18,2))*COS(ATAN((GH18-GH19)/(GG18-GG19+0.000123))+GH16)))","v":0.61824523267144293},{"$f":"IF(GH19>GH18,IF(GG19>GG18,GH18+SQRT(POWER(GG19-GG18,2)+POWER(GH19-GH18,2))*SIN(ATAN((GH19-GH18)/(GG19-GG18+0.000123))+GH16),GH18+SQRT(POWER(GG19-GG18,2)+POWER(GH19-GH18,2))*SIN(ATAN((GH19-GH18)/(GG18-GG19+0.000123))-GH16)),IF(GG19>GG18,GH18-SQRT(POWER(GG19-GG18,2)+POWER(GH19-GH18,2))*SIN(ATAN((GH18-GH19)/(GG19-GG18+0.000123))-GH16),GH18-SQRT(POWER(GG19-GG18,2)+POWER(GH19-GH18,2))*SIN(ATAN((GH18-GH19)/(GG18-GG19+0.000123))+GH16)))","v":0.69874634779839551},"نقطه چرخیده",null,null,null,null,null,null,null,{"$f":"GU18+GT11","v":-84},-1.4660765716752369,{"$f":"HB13+HB10*COS(GV19)","v":{"$error":"#REF!"}},{"$f":"HC13-HB10*SIN(GV19)","v":{"$error":"#REF!"}},{"$f":"SQRT(POWER((HB12-GW19),2)+POWER((HC12-GX19),2))","v":{"$error":"#REF!"}},{"$f":"ABS(HB9-GY19)","v":{"$error":"#REF!"}},{"$f":"HA13","v":"42پشت"},{"$f":"HB13","v":1},{"$f":"HC13","v":0},null,null,null,null,null,null,null,null,null,null,null,{"$f":"-HK19+HP9","v":0},0,null,null,null,null,null,null,null,null,null,null,null,null,null,null,null,null,null,null,null,null,null,null,null,null,null,null,null,null,null,null,null,null,null,null,null,null,null,null,null,null,null,null,null,null,null,null,null,null,null,null,null,null,null,null,null,null,null,null,null,null,null,null,null,null,null,null,null,null,null,null,null,null,null,null,null,null,null,null,null,null,null,null,null,null,null,null,null,null,null,null,null,null,null,null,null,null,null,null,null,null,null,null,null,null,null,null,null,null,null,null,null,null,null,null,null,null,null,null,null,null,null,null,null,null,null,null,null,null,null,null,null,null,null,null,null,null,null,null,null,null,null,null,null,null,null,null,null,null,null,null,null,null,null,null,null,null,null,null,null,null,"a1",{"$f":"TEXT(0,NV5)&\" دانه سر می اندازیم\"","v":"203 دانه سر می اندازیم"},null,null,"h9",{"$f":"NZ17+0.5*NZ8","v":1.161057692307697},{"$f":"OA13","v":5},{"$f":"NZ22","v":1.161057692307697},{"$f":"OA22","v":4.75},{"$f":"NY22","v":"h12"},null,"b''1",{"$f":"G46","v":92},null,null,"h9",{"$f":"OK17+0.5*OK8","v":5.8557692307692299},{"$f":"OL13","v":5},{"$f":"OK22","v":5.8557692307692299},{"$f":"OL22","v":4.75},{"$f":"OJ22","v":"h12"},null,"b''1",{"$f":"OG19","v":92},null,null,"h9",{"$f":"OV17+0.5*OV8","v":3.9487179487179489},{"$f":"OW13","v":5},{"$f":"OV22","v":3.9487179487179489},{"$f":"OW22","v":4.75},{"$f":"OU22","v":"h12"},null,{"$f":"IF(PB20<11,\" مخصوص \",F8)","v":2},"انتخاب ضخامت میل بافتنی   f1",null,null,"h9",{"$f":"PG17+0.5*PG8","v":6.8092948717948723},{"$f":"PH13","v":5},{"$f":"PG22","v":6.8092948717948723},{"$f":"PH22","v":4.75},{"$f":"PF22","v":"h12"},null,{"$f":"IF(PM20<11,\" مخصوص \",F8)","v":2},"انتخاب ضخامت میل بافتنی   f1",null,null,"h9",{"$f":"PR17+0.5*PR8","v":11.195512820512818},{"$f":"PS13","v":5},{"$f":"PR22","v":11.195512820512818},{"$f":"PS22","v":4.75},{"$f":"PQ22","v":"h12"},null,2,"تعداد دانه در یک سانت ",null,null,null,null,null,null,null,null,null,18.408685079115266,140.49996654552029,30,null,{"$f":"QI75","v":47.205108072639767},{"$f":"QJ75","v":116.52006725159009},"k''5"]
[null,null,null,null," b22",{"$f":"SQRT(POWER(F33,2)-POWER(F18,2))","v":14.20876099063141},null,null,null,null,null,null,null,"جمع شوندگی افقی a8",{"$f":"OFFSET(AJ6,O21,1)","v":1.0504201680672269},null,null,"بافت انتخابی یقه شومیزیه",{"$f":"'متغیرها '!C844","v":12},null,null,null,"تعداد دانه در یک سانت cb0 ",{"$f":"F7+0.68*X18*F7","v":2.7529411764705882},null,null,null,null,null,null,"d2",{"$f":"ROUND(F6*AF6,0)","v":11},null,3.4285714285714284,2.6666666666666665,{"$f":"(10/3)*((AM20/AL20)*(1/I6)-1)","v":-0.15873015873015892},{"$f":"(100/68)*((AO20/AN20)*(1/I7)-1)","v":1.0504201680672269},13.5,36,10.5,36,"کشباف (دوتایی)",14,null,null,null,null,null,null,null,null,null,null,null,null,null,null,null,null,null,null,null,null,null,null,null,null,null,null,null,null,null,null,null,null,null,null,null,null,null,null,null,null,null,null,null,"محاسبات",null,null,null,{"$f":"CI37","v":12},{"$f":"CJ37","v":106.99999999999999},"j2",null,"(d1 →d4)",{"$f":"'طراحی همه الگوها'!U178+'طراحی همه الگوها'!U177","v":77.7},null,null,{"$f":"CQ31","v":12},{"$f":"CR31","v":104.89350499999999},"j'2",null,null,null,null,null,null,{"$f":"DD18+'طراحی همه الگوها'!U192","v":57.099999999999994},{"$f":"DE14+'طراحی همه الگوها'!U193","v":13.8},9,null,{"$f":"'طراحی همه الگوها'!U190+'طراحی همه الگوها'!U199","v":36},{"$f":"DE14+'طراحی همه الگوها'!U200","v":4.8},16,null,null,null,null,null,{"$f":"DP18+0.6*(DP21-DP18)","v":75.236759948202575},{"$f":"DQ21+0.2*(DQ18-DQ21)","v":28.060066037882013},"s12''",null,"s'12",{"$f":"DU18-'طراحی همه الگوها'!U225*SIN(DM17+RADIANS(EC40))","v":55.705155170114303},{"$f":"DV18-'طراحی همه الگوها'!U225*COS(DM17+RADIANS(EC40))","v":95.923771639120332},null,73.247319826551433,29.230942909780083,"s'''13",null,null,null,null,{"$f":"DB37+'طراحی همه الگوها'!U216","v":110},{"$f":"EF18+'طراحی همه الگوها'!U218","v":124.5},10,null,{"$f":"DB37+'طراحی همه الگوها'!U222","v":60.48},{"$f":"EF15+'طراحی همه الگوها'!U223","v":15},16,null,null,null,null,null,null,null,null,{"$f":"EP35","v":43.918726139818588},{"$f":"EQ35","v":112.88823290140462},9,null,{"$f":"EP33","v":32.483828510103969},{"$f":"EQ33","v":7.617564283666737},7,null,null,null,null,null,null,null,null,null,{"$f":"FF37","v":56.1},{"$f":"FG37","v":133.80000000000001},17,null,"s''11",{"$f":"FO22+0.8*(FO19-FO22)","v":60.742413102098311},{"$f":"FP22+0.5*(FP19-FP22)","v":78.18087632582855},null,13.857721973549673,56.407472359773443,"s11",null,null,null,null,null,null,10,{"$f":"GB12+GE12*SIN(RADIANS(GA20)+GA14)","v":{"$error":"#DIV/0!"}},{"$f":"GC12+GE12*COS(RADIANS(GA20)+GA14)","v":{"$error":"#DIV/0!"}},{"$f":"IF(GB13>GB20,ATAN((GC13-GC20)/(GB13-GB20)),ATAN((GC13-GC20)/(GB20-GB13)))","v":{"$error":"#DIV/0!"}},{"$f":"IF(GB13>GB20,(GB13-GB20)/COS(GD20),(GB20-GB13)/COS(GD20))","v":{"$error":"#DIV/0!"}},null,1,2,"نقطه2","نقطه قبل از چرخش",{"$f":"IF(GH20>GH18,IF(GG20>GG18,GG18+SQRT(POWER(GG20-GG18,2)+POWER(GH20-GH18,2))*COS(ATAN((GH20-GH18)/(GG20-GG18+0.000123))+GH16),GG18-SQRT(POWER(GG20-GG18,2)+POWER(GH20-GH18,2))*COS(ATAN((GH20-GH18)/(GG18-GG20+0.000123))-GH16)),IF(GG20>GG18,GG18+SQRT(POWER(GG20-GG18,2)+POWER(GH20-GH18,2))*COS(ATAN((GH18-GH20)/(GG20-GG18+0.000123))-GH16),GG18-SQRT(POWER(GG20-GG18,2)+POWER(GH20-GH18,2))*COS(ATAN((GH18-GH20)/(GG18-GG20+0.000123))+GH16)))","v":0.61824523267144293},{"$f":"IF(GH20>GH18,IF(GG20>GG18,GH18+SQRT(POWER(GG20-GG18,2)+POWER(GH20-GH18,2))*SIN(ATAN((GH20-GH18)/(GG20-GG18+0.000123))+GH16),GH18+SQRT(POWER(GG20-GG18,2)+POWER(GH20-GH18,2))*SIN(ATAN((GH20-GH18)/(GG18-GG20+0.000123))-GH16)),IF(GG20>GG18,GH18-SQRT(POWER(GG20-GG18,2)+POWER(GH20-GH18,2))*SIN(ATAN((GH18-GH20)/(GG20-GG18+0.000123))-GH16),GH18-SQRT(POWER(GG20-GG18,2)+POWER(GH20-GH18,2))*SIN(ATAN((GH18-GH20)/(GG18-GG20+0.000123))+GH16)))","v":0.69874634779839551},"نقطه چرخیده",null,null,"رسم باکس زیپ دامن- باکس راست","مولفه افقی","مولفه عمودی",null,null,{"$f":"GU19+GT11","v":-82},-1.4311699866353502,{"$f":"HB13+HB10*COS(GV20)","v":{"$error":"#REF!"}},{"$f":"HC13-HB10*SIN(GV20)","v":{"$error":"#REF!"}},{"$f":"SQRT(POWER((HB12-GW20),2)+POWER((HC12-GX20),2))","v":{"$error":"#REF!"}},{"$f":"ABS(HB9-GY20)","v":{"$error":"#REF!"}},{"$f":"HA14","v":"k6"},{"$f":"#REF!","v":{"$error":"#REF!"}},{"$f":"#REF!","v":{"$error":"#REF!"}},null,null,null,null,null,null,null,null,null,null,null,{"$f":"-HK20+HP9","v":0},0,null,null,null,null,null,null,null,null,null,null,null,null,null,null,null,null,null,null,null,null,null,null,null,null,null,null,null,null,null,null,null,null,null,null,null,null,null,null,null,null,null,null,null,null,null,null,null,null,null,null,null,null,null,null,null,null,null,null,null,null,null,null,null,null,null,null,null,null,null,null,null,null,null,null,null,null,null,null,null,null,null,null,null,null,null,null,null,null,null,null,null,null,null,null,null,null,null,null,null,null,null,null,null,null,null,null,null,null,null,null,null,null,null,null,null,null,null,null,null,null,null,null,null,null,null,null,null,null,null,null,null,null,null,null,null,null,null,null,null,null,null,null,null,null,null,null,null,null,null,null,null,null,null,null,null,null,null,null,null,null,"a2",{"$f":"TEXT(0,NV6)&\" رج بافت انتخابی یقه میبافیم\"","v":"7 رج بافت انتخابی یقه میبافیم"},null,null,"h10",{"$f":"NZ18","v":-3.338942307692303},{"$f":"OA18+0.5*NZ9","v":5.25},{"$f":"NZ23","v":1.161057692307697},{"$f":"OA23","v":5.25},{"$f":"NY23","v":"h13"},null,"خطا",{"$f":"R46","v":" "},null,null,"h10",{"$f":"OK18","v":1.3557692307692299},{"$f":"OL18+0.5*OK9","v":5.25},{"$f":"OK23","v":5.8557692307692299},{"$f":"OL23","v":5.25},{"$f":"OJ23","v":"h13"},null,"خطا",{"$f":"U46","v":" "},null,null,"h10",{"$f":"OV18","v":-0.5512820512820511},{"$f":"OW18+0.5*OV9","v":5.25},{"$f":"OV23","v":3.9487179487179489},{"$f":"OW23","v":5.25},{"$f":"OU23","v":"h13"},null,{"$f":"X21","v":12},"بافت انتخابی یقه ب ب",null,null,"h10",{"$f":"PG18","v":2.3092948717948723},{"$f":"PH18+0.5*PG9","v":5.25},{"$f":"PG23","v":6.8092948717948723},{"$f":"PH23","v":5.25},{"$f":"PF23","v":"h13"},null,{"$f":"X21","v":12},"بافت انتخابی یقه ب ب",null,null,"h10",{"$f":"PR18","v":6.6955128205128176},{"$f":"PS18+0.5*PR9","v":5.25},{"$f":"PR23","v":11.195512820512818},{"$f":"PS23","v":5.25},{"$f":"PQ23","v":"h13"},null,null,null,null,null,null,null,null,{"$f":"PX31","v":-41.5},{"$f":"PY31","v":6.4285714285714288},{"$f":"PZ31","v":"t3"},null,15.204342539557633,136.28349101487527,28,null,{"$f":"QI74","v":53.336940479219045},{"$f":"QJ74","v":124.27322048774177},"k''4"]
[null,null,null,null," b'22",{"$f":"F20*I33","v":47.362536635438026},null," a0 تعداد رج در یک سانت جلو",{"$f":"F6+0.3*I23*F6","v":3.333333333333333},null,null,null,null,"بافت انتخابی یقه شکاری",{"$f":"'متغیرها '!C841","v":14},null,null,"بافت انتخابی یقه شومیزیه",{"$f":"OFFSET(AJ6,S20,6)","v":"همه از زیر"},null,null,null,"بافت انتخابی یقه ب ب",{"$f":"'متغیرها '!C847","v":12},null,null,null,null,null,null,"d3",{"$f":"ROUND(F7*AF6,0)","v":8},null,2.0571428571428569,2.9629629629629628,{"$f":"(10/3)*((AM21/AL21)*(1/I6)-1)","v":0.19400352733686049},{"$f":"(100/68)*((AO21/AN21)*(1/I7)-1)","v":4.2016806722688926E-2},13.5,40,17.5,36,"سبدی (5 تایی)",15,null,null,null,null,null,null,null,null,null,null,null,null,null,null,null,null,null,null,null,null,null,null,null,null,null,null,null,null,null,null,null,null,null,null,null,null,null,null,null,null,null,null,null,"قد سرشانه تا زمین",{"$f":"0.5*(CJ17+CJ18+CJ19)","v":140},null,null,{"$f":"CI47","v":24},{"$f":"CJ47","v":106.99999999999999},"j13",null,"(d5 →d6)",{"$f":"5+0.1*CR20","v":12.77},null,null,null,null,null,null,null,null,null,null,null,{"$f":"DD18+'طراحی همه الگوها'!U192","v":57.099999999999994},{"$f":"DE14+'طراحی همه الگوها'!U194","v":35.200000000000003},10,null,{"$f":"DD20","v":57.099999999999994},{"$f":"DE20","v":13.8},9,null,"طراحی چادر شماره 2",null,null,null,{"$f":"DM30","v":82.8},{"$f":"DN30","v":7},"s13",null,"s''13",{"$f":"DU20+0.3*(DU23-DU20)","v":65.273608619080008},{"$f":"DV23+0.5*(DV20-DV23)","v":51.461885819560166},null,87.6,7,"s'13",null,null,null,null,{"$f":"DB37+'طراحی همه الگوها'!U216","v":110},{"$f":"EF18","v":67.7},9,null,{"$f":"EI20+0.5*(EI22-EI20)","v":85.24},{"$f":"EJ22+0.8*(EJ20-EJ22)","v":13.22},"14'",null,null,null,null,null,null,null,null,null,null,null,null,null,null,null,null,null,null,null,null,{"$f":"FF13+'طراحی همه الگوها'!U249-'طراحی همه الگوها'!U253","v":56.1},{"$f":"FG15","v":99.9},6,null,null,null,null,null,"s'11",{"$f":"FO22+0.4*(FO19-FO22)","v":37.300067537823992},{"$f":"FP22+0.1*(FP19-FP22)","v":60.762153152984467},null,null,null,null,null,null,null,null,null,null,12,{"$f":"GB12+GE12*SIN(RADIANS(GA21)+GA14)","v":{"$error":"#DIV/0!"}},{"$f":"GC12+GE12*COS(RADIANS(GA21)+GA14)","v":{"$error":"#DIV/0!"}},{"$f":"IF(GB13>GB21,ATAN((GC13-GC21)/(GB13-GB21)),ATAN((GC13-GC21)/(GB21-GB13)))","v":{"$error":"#DIV/0!"}},{"$f":"IF(GB13>GB21,(GB13-GB21)/COS(GD21),(GB21-GB13)/COS(GD21))","v":{"$error":"#DIV/0!"}},null,1,2,"نقطه 3","نقطه قبل از چرخش",{"$f":"IF(GH21>GH18,IF(GG21>GG18,GG18+SQRT(POWER(GG21-GG18,2)+POWER(GH21-GH18,2))*COS(ATAN((GH21-GH18)/(GG21-GG18+0.000123))+GH16),GG18-SQRT(POWER(GG21-GG18,2)+POWER(GH21-GH18,2))*COS(ATAN((GH21-GH18)/(GG18-GG21+0.000123))-GH16)),IF(GG21>GG18,GG18+SQRT(POWER(GG21-GG18,2)+POWER(GH21-GH18,2))*COS(ATAN((GH18-GH21)/(GG21-GG18+0.000123))-GH16),GG18-SQRT(POWER(GG21-GG18,2)+POWER(GH21-GH18,2))*COS(ATAN((GH18-GH21)/(GG18-GG21+0.000123))+GH16)))","v":0.61824523267144293},{"$f":"IF(GH21>GH18,IF(GG21>GG18,GH18+SQRT(POWER(GG21-GG18,2)+POWER(GH21-GH18,2))*SIN(ATAN((GH21-GH18)/(GG21-GG18+0.000123))+GH16),GH18+SQRT(POWER(GG21-GG18,2)+POWER(GH21-GH18,2))*SIN(ATAN((GH21-GH18)/(GG18-GG21+0.000123))-GH16)),IF(GG21>GG18,GH18-SQRT(POWER(GG21-GG18,2)+POWER(GH21-GH18,2))*SIN(ATAN((GH18-GH21)/(GG21-GG18+0.000123))-GH16),GH18-SQRT(POWER(GG21-GG18,2)+POWER(GH21-GH18,2))*SIN(ATAN((GH18-GH21)/(GG18-GG21+0.000123))+GH16)))","v":0.69874634779839551},"نقطه چرخیده",null,"نقطه ورودی بالا","su3",{"$f":"#REF!","v":{"$error":"#REF!"}},{"$f":"#REF!","v":{"$error":"#REF!"}},null,null,{"$f":"GU20+GT11","v":-80},-1.3962634015954636,{"$f":"HB13+HB10*COS(GV21)","v":{"$error":"#REF!"}},{"$f":"HC13-HB10*SIN(GV21)","v":{"$error":"#REF!"}},{"$f":"SQRT(POWER((HB12-GW21),2)+POWER((HC12-GX21),2))","v":{"$error":"#REF!"}},{"$f":"ABS(HB9-GY21)","v":{"$error":"#REF!"}},null,null,null,null,null,null,null,null,null,null,null,null,null,null,{"$f":"-HK21+HP9","v":0},0,null,null,null,null,null,null,null,null,null,null,null,null,null,null,null,null,null,null,null,null,null,null,null,null,null,null,null,null,null,null,null,null,null,null,null,null,null,null,null,null,null,null,null,null,null,null,null,null,null,null,null,null,null,null,null,null,null,null,null,null,null,null,null,null,null,null,null,null,null,null,null,null,null,null,null,null,null,null,null,null,null,null,null,null,null,null,null,null,null,null,null,null,null,null,null,null,null,null,null,null,null,null,null,null,null,null,null,null,null,null,null,null,null,null,null,null,null,null,null,null,null,null,null,null,null,null,null,null,null,null,null,null,null,null,null,null,null,null,null,null,null,null,null,null,null,null,null,null,null,null,null,null,null,null,null,null,null,null,null,null,"a3",{"$f":"TEXT(0,NV7)&\" دانه\"","v":"23 دانه"},null,null,"h11",{"$f":"NZ18","v":-3.338942307692303},{"$f":"OA18-0.5*NZ9","v":4.75},null,null,null,null,"نوشته ها یقه شومیزیه نوک تیز",null,null,null,"h11",{"$f":"OK18","v":1.3557692307692299},{"$f":"OL18-0.5*OK9","v":4.75},null,null,null,null,"نوشته ها یقه شومیزیه ",null,null,null,"h11",{"$f":"OV18","v":-0.5512820512820511},{"$f":"OW18-0.5*OV9","v":4.75},null,null,null,null,{"$f":"X22","v":"همه از زیر"},"بافت انتخابی یقه ب ب",null,null,"h11",{"$f":"PG18","v":2.3092948717948723},{"$f":"PH18-0.5*PG9","v":4.75},null,null,null,null,{"$f":"X22","v":"همه از زیر"},"بافت انتخابی یقه ب ب",null,null,"h11",{"$f":"PR18","v":6.6955128205128176},{"$f":"PS18-0.5*PR9","v":4.75},null,null,null,null,null,"بعد از دانه اول یکدانه اضافه میکنیم","علامت اول",null,null,null,null,{"$f":"PX34","v":-48.5},{"$f":"PY34","v":6.4285714285714288},{"$f":"PZ34","v":"t6"},null,12,135.22937213221402,26]
[null,null,null,null," b12",{"$f":"IF(F37=F13,0,ROUND(F14/((F13-F37)*I34),0))","v":-1},null,"تعداد دانه در یک سانت جلوb0 ",{"$f":"F7+0.68*I24*F7","v":1.8749999999999996},null,null,null,null,"بافت انتخابی یقه شکاری",{"$f":"OFFSET(AJ6,O21,6)","v":"کشباف (دوتایی)"},null,null,{"$f":"ROUND(OF144-OF143-2/OG50,0)","v":44},{"$f":"(S18*40*(G46-2*F42)/I22/OG37)/OG50","v":38.400000000000013},null,null,null,"بافت انتخابی یقه ب ب",{"$f":"OFFSET(AJ6,IF(X21=0,51,X21),6)","v":"همه از زیر"},null,null,null,null,null,null,"d4",{"$f":"IF((ROUND(F6*AF7,0)-AF20-4)<0,\"خطا - بزرگی پشت یقه زیاد شود\",(ROUND(F6*AF7,0)-AF20-4))","v":7},null,2.5714285714285716,2.8148148148148149,{"$f":"(10/3)*((AM22/AL22)*(1/I6)-1)","v":1.7636684303351156E-2},{"$f":"(100/68)*((AO22/AN22)*(1/I7)-1)","v":0.42016806722689093},13.5,38,14,36,"تمشکی",16,null,null,null,null,null,null,null,null,null,null,null,null,null,null,null,null,null,null,null,null,null,null,null,null,null,null,null,null,null,null,null,null,null,null,null,null,null,null,null,null,null,null,null,"تمام قد",{"$f":"ROUND(CJ21+IF(CJ16>51.5,0.35,IF(CJ16>50.5,0.33,0.31))*CJ16,0)","v":160},null,null,null,null,null,null,"نقاط خروجی در مقنعه دراپه",null,null,null,{"$f":"CQ24","v":12},{"$f":"CR24","v":147.04999999999998},"d2",null,null,null,null,null,null,null,null,null,null,{"$f":"'طراحی همه الگوها'!U190+'طراحی همه الگوها'!U192+'طراحی همه الگوها'!U202","v":67.699999999999989},{"$f":"DE14+'طراحی همه الگوها'!U203","v":20},19,null,"اسم نقطه ","مولفه افقی","مولفه عمودی",null,null,null,null,null,"s'''13",{"$f":"DU20+0.55*(DU23-DU20)","v":73.247319826551433},{"$f":"DV23+0.25*(DV20-DV23)","v":29.230942909780083},null,null,null,null,null,null,null,null,null,null,null,null,{"$f":"EE16","v":110},{"$f":"EF16+'طراحی همه الگوها'!U221","v":6.1},14,null,null,null,null,null,null,null,null,{"$f":"EP29","v":12},{"$f":"EQ37","v":93.857593897699957},12,null,{"$f":"EP33","v":32.483828510103969},{"$f":"EQ33","v":7.617564283666737},7,null,null,null,null,null,{"$f":"FF13+'طراحی همه الگوها'!U249-'طراحی همه الگوها'!U253","v":56.1},{"$f":"FG15-'طراحی همه الگوها'!U254","v":77},7,null,{"$f":"FF18","v":0},{"$f":"FG18","v":85.9},5,null,"s11",{"$f":"0.7*FO15","v":13.857721973549673},{"$f":"FP15-'طراحی همه الگوها'!U263+1.2*SQRT(POWER(FO15-FO14,2)+POWER(FP15-FP14,2))","v":56.407472359773443},null,{"$f":"FO28","v":12},{"$f":"FP28","v":165.85500000000002},"s''17",null,null,null,null,null,null,14,{"$f":"GB12+GE12*SIN(RADIANS(GA22)+GA14)","v":{"$error":"#DIV/0!"}},{"$f":"GC12+GE12*COS(RADIANS(GA22)+GA14)","v":{"$error":"#DIV/0!"}},{"$f":"IF(GB13>GB22,ATAN((GC13-GC22)/(GB13-GB22)),ATAN((GC13-GC22)/(GB22-GB13)))","v":{"$error":"#DIV/0!"}},{"$f":"IF(GB13>GB22,(GB13-GB22)/COS(GD22),(GB22-GB13)/COS(GD22))","v":{"$error":"#DIV/0!"}},null,1,2,"نقطه 4","نقطه قبل از چرخش",{"$f":"IF(GH22>GH18,IF(GG22>GG18,GG18+SQRT(POWER(GG22-GG18,2)+POWER(GH22-GH18,2))*COS(ATAN((GH22-GH18)/(GG22-GG18+0.000123))+GH16),GG18-SQRT(POWER(GG22-GG18,2)+POWER(GH22-GH18,2))*COS(ATAN((GH22-GH18)/(GG18-GG22+0.000123))-GH16)),IF(GG22>GG18,GG18+SQRT(POWER(GG22-GG18,2)+POWER(GH22-GH18,2))*COS(ATAN((GH18-GH22)/(GG22-GG18+0.000123))-GH16),GG18-SQRT(POWER(GG22-GG18,2)+POWER(GH22-GH18,2))*COS(ATAN((GH18-GH22)/(GG18-GG22+0.000123))+GH16)))","v":0.61824523267144293},{"$f":"IF(GH22>GH18,IF(GG22>GG18,GH18+SQRT(POWER(GG22-GG18,2)+POWER(GH22-GH18,2))*SIN(ATAN((GH22-GH18)/(GG22-GG18+0.000123))+GH16),GH18+SQRT(POWER(GG22-GG18,2)+POWER(GH22-GH18,2))*SIN(ATAN((GH22-GH18)/(GG18-GG22+0.000123))-GH16)),IF(GG22>GG18,GH18-SQRT(POWER(GG22-GG18,2)+POWER(GH22-GH18,2))*SIN(ATAN((GH18-GH22)/(GG22-GG18+0.000123))-GH16),GH18-SQRT(POWER(GG22-GG18,2)+POWER(GH22-GH18,2))*SIN(ATAN((GH18-GH22)/(GG18-GG22+0.000123))+GH16)))","v":0.69874634779839551},"نقطه چرخیده",null,"نقطه ورودی پایین","sd3",{"$f":"#REF!","v":{"$error":"#REF!"}},{"$f":"#REF!","v":{"$error":"#REF!"}},null,"به روش تخمین",{"$f":"GU21+GT11","v":-78},-1.3613568165555769,{"$f":"HB13+HB10*COS(GV22)","v":{"$error":"#REF!"}},{"$f":"HC13-HB10*SIN(GV22)","v":{"$error":"#REF!"}},{"$f":"SQRT(POWER((HB12-GW22),2)+POWER((HC12-GX22),2))","v":{"$error":"#REF!"}},{"$f":"ABS(HB9-GY22)","v":{"$error":"#REF!"}},{"$f":"HA14","v":"k6"},{"$f":"#REF!","v":{"$error":"#REF!"}},{"$f":"#REF!","v":{"$error":"#REF!"}},null,null,null,null,null,null,null,null,null,null,null,{"$f":"-HK22+HP9","v":0},0,null,null,null,null,null,null,null,null,null,null,null,null,null,null,null,null,null,null,null,null,null,null,null,null,null,null,null,null,null,null,null,null,null,null,null,null,null,null,null,null,null,null,null,null,null,null,null,null,null,null,null,null,null,null,null,null,null,null,null,null,null,null,null,null,null,null,null,null,null,null,null,null,null,null,null,null,null,null,null,null,null,null,null,null,null,null,null,null,null,null,null,null,null,null,null,null,null,null,null,null,null,null,null,null,null,null,null,null,null,null,null,null,null,null,null,null,null,null,null,null,null,null,null,null,null,null,null,null,null,null,null,null,null,null,null,null,null,null,null,null,null,null,null,null,null,null,null,null,null,null,null,null,null,null,null,null,null,null,null,null,"a4",{"$f":"TEXT(0,NV8)&\" دانه\"","v":"47 دانه"},null,null,"h12",{"$f":"NZ19","v":1.161057692307697},{"$f":"OA21","v":4.75},{"$f":"NZ19","v":1.161057692307697},{"$f":"OA19","v":5},{"$f":"NY19","v":"h9"},null,{"$f":"OF5","v":"e1"},{"$f":"TEXT(0,OG5)&\" دانه سر می اندازیم\"","v":"150 دانه سر می اندازیم"},null,null,"h12",{"$f":"OK19","v":5.8557692307692299},{"$f":"OL21","v":4.75},{"$f":"OK19","v":5.8557692307692299},{"$f":"OL19","v":5},{"$f":"OJ19","v":"h9"},null,{"$f":"OQ5","v":"e1"},{"$f":"TEXT(0,OR5)&\" دانه سر می اندازیم\"","v":"140 دانه سر می اندازیم"},null,null,"h12",{"$f":"OV19","v":3.9487179487179489},{"$f":"OW21","v":4.75},{"$f":"OV19","v":3.9487179487179489},{"$f":"OW19","v":5},{"$f":"OU19","v":"h9"},null,"نوشته ها یقه ب ب ",null,null,null,"h12",{"$f":"PG19","v":6.8092948717948723},{"$f":"PH21","v":4.75},{"$f":"PG19","v":6.8092948717948723},{"$f":"PH19","v":5},{"$f":"PF19","v":"h9"},null,"نوشته ها یقه ب ب ",null,null,null,"h12",{"$f":"PR19","v":11.195512820512818},{"$f":"PS21","v":4.75},{"$f":"PR19","v":11.195512820512818},{"$f":"PS19","v":5},{"$f":"PQ19","v":"h9"},null,null,"قبل از دانه آخر یکدانه اضافه میکنیم","علامت دوم",null,"زاویه فلش",{"$f":"PY10","v":0.5},"f5",null,null,"فلش به سمت چپ",null,null,null,"پهلو صاف",null,{"$f":"QI74","v":53.336940479219045},{"$f":"QJ74","v":124.27322048774177},"k''4"]
[null,null,null,null,"محاسبات در بافت بالاتنه و آستین (بافت انتخابی) ",null,null,"جمع شوندگی عمودی بافت جلو   f2",{"$f":"OFFSET(AJ6,I25,0)","v":-0.15873015873015892},null,null,"محاسبات یقه شکاری ",null,null,null,null,null,"پهنای یقه منهای جادکمه روی نقشه بافت","پهنای یقه منهای جادکمه روی بافت",null,null,null,"محاسبات یقه ب ب",null,null,null,null,null,null,null,"d5",{"$f":"AF19+2*AF21","v":145},null,2.5714285714285716,2.8148148148148149,{"$f":"(10/3)*((AM23/AL23)*(1/I6)-1)","v":1.7636684303351156E-2},{"$f":"(100/68)*((AO23/AN23)*(1/I7)-1)","v":0.42016806722689093},13.5,38,14,36,"کج راه",17,null,null,null,null,null,null,null,null,null,null,null,null,null,null,null,null,null,null,null,null,null,null,null,null,null,null,null,null,null,null,null,null,null,null,null,null,null,null,null,null,null,null,null,"j4",{"$f":"IF('متغیرها '!C5<1,'متغیرها '!C5*'متغیرها '!U59,IF('متغیرها '!C5<2,'متغیرها '!U59+('متغیرها '!C5-1)*('متغیرها '!U60-'متغیرها '!U59),IF('متغیرها '!C5<3,'متغیرها '!U60+('متغیرها '!C5-2)*(I105-'متغیرها '!U60),I105+('متغیرها '!C5-3)*(H127-H126))))","v":100},null,null,{"$f":"CI46","v":24},{"$f":"CJ46","v":164.1},"j12",null,"مولفه افقی","مولفه عمودی","اسم نقطه",null,null,null,null,null,null,null,null,null,null,{"$f":"DD18+'طراحی همه الگوها'!U192","v":57.099999999999994},{"$f":"DE14","v":0},8,null,{"$f":"DD25","v":78.2},{"$f":"DE25","v":27.621000000000002},7,null,"s6",{"$f":"DM16","v":12},{"$f":"1.003*DN16","v":168.48393999999996},null,{"$f":"DM34","v":12},{"$f":"DN34","v":165.85500000000002},"s17",null,"s'13",{"$f":"DM19+0.5*('طراحی همه الگوها'!U216+'طراحی همه الگوها'!U210-'طراحی همه الگوها'!U217-'طراحی همه الگوها'!U218)","v":87.6},{"$f":"EC35+DM44","v":7},null,{"$f":"DU27","v":12},{"$f":"DV27","v":165.85500000000002},"s'17",null,null,null,null,{"$f":"DB37","v":0},{"$f":"EF14","v":92.299999999999983},4,null,null,null,null,null,null,null,null,null,null,null,null,{"$f":"EP37","v":69.770624022940936},{"$f":"EQ37","v":93.857593897699957},11,null,{"$f":"EX22+0.3*(EX25-EX22)","v":46.593209867724447},{"$f":"MIN(EY22,EY25)+IF(EY25>EY22,0.15,0.9)*ABS(EY25-EY22)","v":8.7381296897716965},"7''",null,null,null,null,null,null,null,null,null,{"$f":"FJ22+'طراحی همه الگوها'!U264","v":22.4},{"$f":"FG17-'طراحی همه الگوها'!U265","v":85},20,null,"s12",{"$f":"FO24","v":32.627499999999998},{"$f":"FP24+'طراحی همه الگوها'!U257","v":111.52706077625875},null,{"$f":"FO29","v":15.067740000000001},{"$f":"FP29","v":163.43029500000003},"s''18",null,null,null,null,null,null,16,{"$f":"GB12+GE12*SIN(RADIANS(GA23)+GA14)","v":{"$error":"#DIV/0!"}},{"$f":"GC12+GE12*COS(RADIANS(GA23)+GA14)","v":{"$error":"#DIV/0!"}},{"$f":"IF(GB13>GB23,ATAN((GC13-GC23)/(GB13-GB23)),ATAN((GC13-GC23)/(GB23-GB13)))","v":{"$error":"#DIV/0!"}},{"$f":"IF(GB13>GB23,(GB13-GB23)/COS(GD23),(GB23-GB13)/COS(GD23))","v":{"$error":"#DIV/0!"}},null,1,2,"نقطه 5","نقطه قبل از چرخش",{"$f":"IF(GH23>GH18,IF(GG23>GG18,GG18+SQRT(POWER(GG23-GG18,2)+POWER(GH23-GH18,2))*COS(ATAN((GH23-GH18)/(GG23-GG18+0.000123))+GH16),GG18-SQRT(POWER(GG23-GG18,2)+POWER(GH23-GH18,2))*COS(ATAN((GH23-GH18)/(GG18-GG23+0.000123))-GH16)),IF(GG23>GG18,GG18+SQRT(POWER(GG23-GG18,2)+POWER(GH23-GH18,2))*COS(ATAN((GH18-GH23)/(GG23-GG18+0.000123))-GH16),GG18-SQRT(POWER(GG23-GG18,2)+POWER(GH23-GH18,2))*COS(ATAN((GH18-GH23)/(GG18-GG23+0.000123))+GH16)))","v":0.61824523267144293},{"$f":"IF(GH23>GH18,IF(GG23>GG18,GH18+SQRT(POWER(GG23-GG18,2)+POWER(GH23-GH18,2))*SIN(ATAN((GH23-GH18)/(GG23-GG18+0.000123))+GH16),GH18+SQRT(POWER(GG23-GG18,2)+POWER(GH23-GH18,2))*SIN(ATAN((GH23-GH18)/(GG18-GG23+0.000123))-GH16)),IF(GG23>GG18,GH18-SQRT(POWER(GG23-GG18,2)+POWER(GH23-GH18,2))*SIN(ATAN((GH18-GH23)/(GG23-GG18+0.000123))-GH16),GH18-SQRT(POWER(GG23-GG18,2)+POWER(GH23-GH18,2))*SIN(ATAN((GH18-GH23)/(GG18-GG23+0.000123))+GH16)))","v":0.69874634779839551},"نقطه چرخیده",null,"متغیر ورودی پهنا","a20",{"$f":"#REF!","v":{"$error":"#REF!"}},"(سانتیمتر)",null,"بهینه α1",{"$f":"GU22+GT11","v":-76},-1.3264502315156905,{"$f":"HB13+HB10*COS(GV23)","v":{"$error":"#REF!"}},{"$f":"HC13-HB10*SIN(GV23)","v":{"$error":"#REF!"}},{"$f":"SQRT(POWER((HB12-GW23),2)+POWER((HC12-GX23),2))","v":{"$error":"#REF!"}},{"$f":"ABS(HB9-GY23)","v":{"$error":"#REF!"}},{"$f":"HA12","v":"پشتk''5"},{"$f":"HB12","v":{"$error":"#REF!"}},{"$f":"HC12","v":{"$error":"#REF!"}},null,null,null,null,null,null,null,null,null,null,null,{"$f":"-HK23+HP9","v":0},0,null,null,null,null,null,null,null,null,null,null,null,null,null,null,null,null,null,null,null,null,null,null,null,null,null,null,null,null,null,null,null,null,null,null,null,null,null,null,null,null,null,null,null,null,null,null,null,null,null,null,null,null,null,null,null,null,null,null,null,null,null,null,null,null,null,null,null,null,null,null,null,null,null,null,null,null,null,null,null,null,null,null,null,null,null,null,null,null,null,null,null,null,null,null,null,null,null,null,null,null,null,null,null,null,null,null,null,null,null,null,null,null,null,null,null,null,null,null,null,null,null,null,null,null,null,null,null,null,null,null,null,null,null,null,null,null,null,null,null,null,null,null,null,null,null,null,null,null,null,null,null,null,null,null,null,null,null,null,null,null,"a5",{"$f":"TEXT(0,NV9)&\" دانه\"","v":"71 دانه"},null,null,"h13",{"$f":"NZ19","v":1.161057692307697},{"$f":"OA20","v":5.25},{"$f":"NZ15","v":22.822115384615394},{"$f":"OA15","v":5},{"$f":"NY15","v":"w2"},null,"e2",{"$f":"TEXT(0,OG6)&\" رج مثل رج قبل میبافیم\"","v":"6 رج مثل رج قبل میبافیم"},null,null,"h13",{"$f":"OK19","v":5.8557692307692299},{"$f":"OL20","v":5.25},{"$f":"OK15","v":32.21153846153846},{"$f":"OL15","v":5},{"$f":"OJ15","v":"m2"},null,"e2",{"$f":"TEXT(0,OR6)&\" رج مثل رج قبل میبافیم\"","v":"6 رج مثل رج قبل میبافیم"},null,null,"h13",{"$f":"OV19","v":3.9487179487179489},{"$f":"OW20","v":5.25},{"$f":"OV15","v":28.397435897435898},{"$f":"OW15","v":5},{"$f":"OU15","v":"m2"},null,{"$f":"PB5","v":"c1"},{"$f":"TEXT(0,PC5)&\" دانه سر می اندازیم\"","v":"155 دانه سر می اندازیم"},null,null,"h13",{"$f":"PG19","v":6.8092948717948723},{"$f":"PH20","v":5.25},{"$f":"PG15","v":34.118589743589745},{"$f":"PH15","v":5},{"$f":"PF15","v":"n2"},null,{"$f":"PM5","v":"c1"},{"$f":"TEXT(0,PN5)&\" دانه سر می اندازیم\"","v":"178 دانه سر می اندازیم"},null,null,"h13",{"$f":"PR19","v":11.195512820512818},{"$f":"PS20","v":5.25},{"$f":"PR15","v":42.891025641025635},{"$f":"PS15","v":5},{"$f":"PQ15","v":"n2"},null,null,"یک رج درمیان یکدانه کم میکنیم","علامت سوم",null,"بزرگی فلش",{"$f":"PY16","v":0.57142857142857151},"f4",{"$f":"QC25","v":-45},{"$f":"QD25","v":6.4285714285714288},{"$f":"QB25","v":"t5"},null,{"$f":"FN173","v":35.516874351553142},{"$f":"FO173","v":90.52706077625875},"شیفت9",null,{"$f":"QI73","v":30.589339391603069},{"$f":"QJ73","v":142.26389773510849},"22f"]
[null,null,null,null,"تعداد دانه ها  دور گردن + دو تا نیمه جادکمه که از خط مرکزی اضافه شده",{"$f":"F26+2*F25","v":127},null,"جمع شوندگی افقی بافت جلو   f3",{"$f":"OFFSET(AJ6,I25,1)","v":-0.41006787330316763},null,null,"a10","a11","a22","a22",null,"محاسبات یقه شومیزیه تا خط جادکمه",null,null,null,null,null,"c10","c11","c22","c22",null,null,null,null,"d6",{"$f":"F45","v":31},null,2.88,3.1111111111111112,{"$f":"(10/3)*((AM24/AL24)*(1/I6)-1)","v":0.37037037037037057},{"$f":"(100/68)*((AO24/AN24)*(1/I7)-1)","v":0.64705882352941169},13.5,42,12.5,36,"تیغ ماهی",18,null,null,null,null,null,null,null,null,null,null,null,null,null,null,null,null,null,null,null,null,null,null,null,null,null,null,null,null,null,null,null,null,null,null,null,null,null,null,null,null,null,null,null,"رسم دستی چادر 1 یا مقنعه چانه دار(بر حسب سانتیمتر)",null,null,null,{"$f":"CI38","v":24},{"$f":"CJ38","v":172.7},"j3",null,{"$f":"CQ14","v":12},{"$f":"CR16+0.1*'متغیرها '!U85-CR19+CR17","v":147.04999999999998},"d2",null,null,null,"انحنا",null,null,null,null,null,null,{"$f":"DB37+'طراحی همه الگوها'!U189","v":78.2},{"$f":"DE14","v":0},6,null,null,null,null,null,"s7",{"$f":"DM23+0.12*(DM27-DM23)","v":18.90290208736414},{"$f":"DN27+0.94*(DN23-DN27)","v":166.13237157054488},null,{"$f":"DM35","v":15.067740000000001},{"$f":"DN35","v":163.43029500000003},"s18",null,"s'14",{"$f":"DM13+DM42*COS(DM40)","v":18.135480000000001},{"$f":"DN13-DM42*SIN(DM40)","v":157.77265000000003},null,{"$f":"DU28","v":15.681288},{"$f":"DV28","v":163.43029500000003},"s'18",null,null,null,null,{"$f":"DB37+'طراحی همه الگوها'!U213","v":47.7},{"$f":"EF14","v":92.299999999999983},5,null,{"$f":"EI20","v":60.48},{"$f":"EJ20","v":15},16,null,null,null,null,null,null,null,null,null,null,null,null,{"$f":"EX22+0.7*(EX25-EX22)","v":65.405718344551758},{"$f":"MIN(EY22,EY25)+0.5*ABS(EY25-EY22)","v":11.3527823040166},"7'''",null,null,null,null,null,{"$f":"FF15","v":83.7},{"$f":"FG15","v":99.9},4,null,{"$f":"FJ22+'طراحی همه الگوها'!U266","v":44.9},{"$f":"FG17-'طراحی همه الگوها'!U267","v":81},22,null,"41 شبیه ساز",{"$f":"DT395","v":32.627499999999998},{"$f":"DU395","v":107.52706077625875},null,{"$f":"FO12","v":18.135480000000001},{"$f":"FP12","v":157.77265000000003},"s3",null,null,null,null,null,null,18,{"$f":"GB12+GE12*SIN(RADIANS(GA24)+GA14)","v":{"$error":"#DIV/0!"}},{"$f":"GC12+GE12*COS(RADIANS(GA24)+GA14)","v":{"$error":"#DIV/0!"}},{"$f":"IF(GB13>GB24,ATAN((GC13-GC24)/(GB13-GB24)),ATAN((GC13-GC24)/(GB24-GB13)))","v":{"$error":"#DIV/0!"}},{"$f":"IF(GB13>GB24,(GB13-GB24)/COS(GD24),(GB24-GB13)/COS(GD24))","v":{"$error":"#DIV/0!"}},null,1,2,"نقطه 6","نقطه قبل از چرخش",{"$f":"IF(GH24>GH18,IF(GG24>GG18,GG18+SQRT(POWER(GG24-GG18,2)+POWER(GH24-GH18,2))*COS(ATAN((GH24-GH18)/(GG24-GG18+0.000123))+GH16),GG18-SQRT(POWER(GG24-GG18,2)+POWER(GH24-GH18,2))*COS(ATAN((GH24-GH18)/(GG18-GG24+0.000123))-GH16)),IF(GG24>GG18,GG18+SQRT(POWER(GG24-GG18,2)+POWER(GH24-GH18,2))*COS(ATAN((GH18-GH24)/(GG24-GG18+0.000123))-GH16),GG18-SQRT(POWER(GG24-GG18,2)+POWER(GH24-GH18,2))*COS(ATAN((GH18-GH24)/(GG18-GG24+0.000123))+GH16)))","v":0.61824523267144293},{"$f":"IF(GH24>GH18,IF(GG24>GG18,GH18+SQRT(POWER(GG24-GG18,2)+POWER(GH24-GH18,2))*SIN(ATAN((GH24-GH18)/(GG24-GG18+0.000123))+GH16),GH18+SQRT(POWER(GG24-GG18,2)+POWER(GH24-GH18,2))*SIN(ATAN((GH24-GH18)/(GG18-GG24+0.000123))-GH16)),IF(GG24>GG18,GH18-SQRT(POWER(GG24-GG18,2)+POWER(GH24-GH18,2))*SIN(ATAN((GH18-GH24)/(GG24-GG18+0.000123))-GH16),GH18-SQRT(POWER(GG24-GG18,2)+POWER(GH24-GH18,2))*SIN(ATAN((GH18-GH24)/(GG18-GG24+0.000123))+GH16)))","v":0.69874634779839551},"نقطه چرخیده",null,"متغیر ورودی طول","a21",1,null,null,{"$f":"IF(GZ12>GZ11,GU11,IF(GZ13>GZ12,GU12,IF(GZ14>GZ13,GU13,IF(GZ15>GZ14,GU14,IF(GZ16>GZ15,GU15,IF(GZ17>GZ16,GU16,IF(GZ18>GZ17,GU17,IF(GZ19>GZ18,GU18,IF(GZ20>GZ19,GU19,IF(GZ21>GZ20,GU20,IF(GZ22>GZ21,GU21,IF(GZ23>GZ22,GU22,IF(GZ24>GZ23,GU23,IF(GZ25>GZ24,GU24,IF(GZ26>GZ25,GU25,IF(GZ27>GZ26,GU26,IF(GZ28>GZ27,GU27,IF(GZ29>GZ28,GU28,IF(GZ30>GZ29,GU29,IF(GZ31>GZ30,GU30,IF(GZ32>GZ31,GU31,IF(GZ33>GZ32,GU32,IF(GZ34>GZ33,GU33,IF(GZ35>GZ34,GU34,IF(GZ36>GZ35,GU35,IF(GZ37>GZ36,GU36,IF(GZ38>GZ37,GU37,IF(GZ39>GZ38,GU38,IF(GZ40>GZ39,GU39,IF(GZ41>GZ40,GU40,IF(GZ42>GZ41,GU41,IF(GZ43>GZ42,GU42,IF(GZ44>GZ43,GU43,IF(GZ45>GZ44,GU44,IF(GZ46>GZ45,GU45,IF(GZ47>GZ46,GU46,IF(GZ48>GZ47,GU47,IF(GZ49>GZ48,GU48,IF(GZ50>GZ49,GU49,IF(GZ51>GZ50,GU50,IF(GZ52>GZ51,GU51,GU52)))))))))))))))))))))))))))))))))))))))))","v":{"$error":"#REF!"}},{"$f":"GU23+GT11","v":-74},-1.2915436464758039,{"$f":"HB13+HB10*COS(GV24)","v":{"$error":"#REF!"}},{"$f":"HC13-HB10*SIN(GV24)","v":{"$error":"#REF!"}},{"$f":"SQRT(POWER((HB12-GW24),2)+POWER((HC12-GX24),2))","v":{"$error":"#REF!"}},{"$f":"ABS(HB9-GY24)","v":{"$error":"#REF!"}},null,null,null,null,null,null,null,null,null,null,null,null,null,null,{"$f":"-HK24+HP9","v":0},0,null,null,null,null,null,null,null,null,null,null,null,null,null,null,null,null,null,null,null,null,null,null,null,null,null,null,null,null,null,null,null,null,null,null,null,null,null,null,null,null,null,null,null,null,null,null,null,null,null,null,null,null,null,null,null,null,null,null,null,null,null,null,null,null,null,null,null,null,null,null,null,null,null,null,null,null,null,null,null,null,null,null,null,null,null,null,null,null,null,null,null,null,null,null,null,null,null,null,null,null,null,null,null,null,null,null,null,null,null,null,null,null,null,null,null,null,null,null,null,null,null,null,null,null,null,null,null,null,null,null,null,null,null,null,null,null,null,null,null,null,null,null,null,null,null,null,null,null,null,null,null,null,null,null,null,null,null,null,null,null,"a6",{"$f":"TEXT(0,NV10)&\" رج مثل رج قبل میبافیم\"","v":"9 رج مثل رج قبل میبافیم"},null,null,null,null,null,null,null,null,null,"e3",{"$f":"TEXT(0,OG7)&\" دانه\"","v":"15 دانه"},null,null,null,null,null,null,null,null,null,"e3",{"$f":"TEXT(0,OR7)&\" دانه\"","v":"16 دانه"},null,null,null,null,null,null,null,null,null,{"$f":"PB6","v":"c2"},{"$f":"TEXT(0,PC6)&\" رج مثل رج قبل میبافیم\"","v":"4 رج مثل رج قبل میبافیم"},null,null,null,null,null,null,null,null,null,{"$f":"PM6","v":"c2"},{"$f":"TEXT(0,PN6)&\" رج مثل رج قبل میبافیم\"","v":"4 رج مثل رج قبل میبافیم"},null,null,null,null,null,null,null,null,null,null,"بکدانه کم میکنیم","علامت چهارم",null,"نقطه ورودی سر فلش","مولفه افقی","مولفه عمودی",{"$f":"QC27","v":-44.428571428571431},{"$f":"QD27","v":6.7142857142857144},{"$f":"QB27","v":"f3"},null,{"$f":"AZ113","v":34.899986494360945},{"$f":"BA113","v":121.99283712961564},12,null,{"$f":"QI61","v":20.010856348894084},{"$f":"QJ61","v":145.77056095882656},25]
[null,null,null,null," b2  (بدون اعمال بافت اننتخابی) تعداد دانه های اضافه شده  از خط مرکزی تا خط جادکمه = نیمه جادکمه",{"$f":"ROUNDUP(F7*(-AX147),0)","v":5},null,"بافت انتخابی جلو",{"$f":"'متغیرها '!C836","v":1},null,null,{"$f":"IF(((O33-(G46-2*O41))/(O33+(G46-2*O41)))<1,1,ABS(ROUND(O33/(O33-(G46-2*O41+0.001)),0)))","v":1},{"$f":"IF(((O33-(G46-2*O41))/(O33+(G46-2*O41)))<1,1,ABS(ROUND(O33/(O33-(G46-2*O41)+0.0001),0)-1))","v":1},{"$f":"O33-(O33/L25)*(L25-M25)-(G46-2*O41)","v":119},{"$f":"ROUNDDOWN(ABS(N25),0)","v":119},null,"e10","e11","e22","e22",null,null,{"$f":"IF(((X15-X16)/(X15+X16))<1,1,ABS(ROUND(X15/(X15-(X16+0.0001)),0)))","v":1},{"$f":"IF(((X15-X16)/(X15+X16))<1,1,ABS(ROUND(X15/(X15-X16+0.0001),0)-1))","v":1},{"$f":"X15-(X15/W25)*(W25-X25)-X16","v":40},{"$f":"ROUNDDOWN(ABS(Y25),0)","v":40},null,null,null,null,"d7",{"$f":"F44","v":20},null,3.4285714285714284,2.6666666666666665,{"$f":"(10/3)*((AM25/AL25)*(1/I6)-1)","v":-0.15873015873015892},{"$f":"(100/68)*((AO25/AN25)*(1/I7)-1)","v":1.0504201680672269},13.5,36,10.5,36,"اسموکینگ",19,null,null,null,null,null,null,null,null,null,null,null,null,null,null,null,null,null,null,null,null,null,null,null,null,null,null,null,null,null,null,null,null,null,null,null,null,null,null,null,null,null,null,null,null,null,null,null,null,null,null,null,{"$f":"CQ24","v":12},{"$f":"CR24+1.41*CR19","v":183.2165},"d3",null,{"$f":"CQ27","v":12},{"$f":"CR27","v":98.101500000000001},"d6",null,null,null,null,null,null,{"$f":"DB37+'طراحی همه الگوها'!U189","v":78.2},{"$f":"DE14+'طراحی همه الگوها'!U191","v":27.621000000000002},7,null,{"$f":"DD15","v":0},{"$f":"DE15","v":173.7},1,null,"s8",{"$f":"DM23+0.4*(DM27-DM23)","v":35.009673624547133},{"$f":"DN27+0.5*(DN23-DN27)","v":148.88753642120767},null,{"$f":"DM31","v":18.135480000000001},{"$f":"DN31","v":157.77265000000003},"s14",null,"s'16",{"$f":"DM15","v":12},{"$f":"DN15","v":123.7},null,{"$f":"DU24","v":18.135480000000001},{"$f":"DV24","v":157.77265000000003},"s'14",null,null,null,null,{"$f":"DB37+'طراحی همه الگوها'!U213+'طراحی همه الگوها'!U214","v":61.900000000000006},{"$f":"EF14","v":92.299999999999983},6,null,{"$f":"EI20","v":60.48},{"$f":"EF15","v":0},15,null,null,"(3 →6)",{"$f":"ROUND(0.2*(EP34-EP30),1)","v":15.4},null,null,null,null,{"$f":"EP29","v":12},{"$f":"EQ34","v":15.088000324366462},14,null,{"$f":"EP34","v":79.515099702172236},{"$f":"EQ34","v":15.088000324366462},8,null,null,null,null,null,{"$f":"FF15","v":83.7},{"$f":"FG15+'طراحی همه الگوها'!U257","v":103.9},9,null,{"$f":"FF22","v":56.1},{"$f":"FG22","v":77},7,null,"41'",{"$f":"FO24+0.5*(FO27-FO24)","v":43.238749999999996},{"$f":"FP27+0.7*(FP24-FP27)","v":77.368942543381124},null,null,null,null,null,null,null,null,null,null,20,{"$f":"GB12+GE12*SIN(RADIANS(GA25)+GA14)","v":{"$error":"#DIV/0!"}},{"$f":"GC12+GE12*COS(RADIANS(GA25)+GA14)","v":{"$error":"#DIV/0!"}},{"$f":"IF(GB13>GB25,ATAN((GC13-GC25)/(GB13-GB25)),ATAN((GC13-GC25)/(GB25-GB13)))","v":{"$error":"#DIV/0!"}},{"$f":"IF(GB13>GB25,(GB13-GB25)/COS(GD25),(GB25-GB13)/COS(GD25))","v":{"$error":"#DIV/0!"}},null,1,2,"نقطه 7","نقطه قبل از چرخش",{"$f":"IF(GH25>GH18,IF(GG25>GG18,GG18+SQRT(POWER(GG25-GG18,2)+POWER(GH25-GH18,2))*COS(ATAN((GH25-GH18)/(GG25-GG18+0.000123))+GH16),GG18-SQRT(POWER(GG25-GG18,2)+POWER(GH25-GH18,2))*COS(ATAN((GH25-GH18)/(GG18-GG25+0.000123))-GH16)),IF(GG25>GG18,GG18+SQRT(POWER(GG25-GG18,2)+POWER(GH25-GH18,2))*COS(ATAN((GH18-GH25)/(GG25-GG18+0.000123))-GH16),GG18-SQRT(POWER(GG25-GG18,2)+POWER(GH25-GH18,2))*COS(ATAN((GH18-GH25)/(GG18-GG25+0.000123))+GH16)))","v":0.61824523267144293},{"$f":"IF(GH25>GH18,IF(GG25>GG18,GH18+SQRT(POWER(GG25-GG18,2)+POWER(GH25-GH18,2))*SIN(ATAN((GH25-GH18)/(GG25-GG18+0.000123))+GH16),GH18+SQRT(POWER(GG25-GG18,2)+POWER(GH25-GH18,2))*SIN(ATAN((GH25-GH18)/(GG18-GG25+0.000123))-GH16)),IF(GG25>GG18,GH18-SQRT(POWER(GG25-GG18,2)+POWER(GH25-GH18,2))*SIN(ATAN((GH18-GH25)/(GG25-GG18+0.000123))-GH16),GH18-SQRT(POWER(GG25-GG18,2)+POWER(GH25-GH18,2))*SIN(ATAN((GH18-GH25)/(GG18-GG25+0.000123))+GH16)))","v":0.69874634779839551},"نقطه چرخیده",null,null,null,"ماکزیمم متغیر ورودی  ضریب طول",1,null,null,{"$f":"GU24+GT11","v":-72},-1.2566370614359172,{"$f":"HB13+HB10*COS(GV25)","v":{"$error":"#REF!"}},{"$f":"HC13-HB10*SIN(GV25)","v":{"$error":"#REF!"}},{"$f":"SQRT(POWER((HB12-GW25),2)+POWER((HC12-GX25),2))","v":{"$error":"#REF!"}},{"$f":"ABS(HB9-GY25)","v":{"$error":"#REF!"}},null,null,null,null,null,null,null,null,null,null,null,null,null,null,{"$f":"-HK25+HP9","v":0},0,null,null,null,null,null,null,null,null,null,null,null,null,null,null,null,null,null,null,null,null,null,null,null,null,null,null,null,null,null,null,null,null,null,null,null,null,null,null,null,null,null,null,null,null,null,null,null,null,null,null,null,null,null,null,null,null,null,null,null,null,null,null,null,null,null,null,null,null,null,null,null,null,null,null,null,null,null,null,null,null,null,null,null,null,null,null,null,null,null,null,null,null,null,null,null,null,null,null,null,null,null,null,null,null,null,null,null,null,null,null,null,null,null,null,null,null,null,null,null,null,null,null,null,null,null,null,null,null,null,null,null,null,null,null,null,null,null,null,null,null,null,null,null,null,null,null,null,null,null,null,null,null,null,null,null,null,null,null,null,null,"a10,a11,b1",{"$f":"\"تعداد دانه ها\"&TEXT(0,NV5)&\"میباشد. هر\"&TEXT(0,NV11)&\"  دانه را تبدیل به  \"&TEXT(0,NV12)&\"  دانه میکنیم تا تعداد دانه ها  \"&TEXT(0,NV15)&\" شود\"","v":"تعداد دانه ها203میباشد. هر5  دانه را تبدیل به  2  دانه میکنیم تا تعداد دانه ها  84 شود"},null,null,null,null,"نقطه وسط باکس جایی برای لیبل نوشته",{"$f":"NZ17","v":-1.088942307692303},{"$f":"OA17","v":5},{"$f":"NY17","v":"h5"},null,"e4",{"$f":"TEXT(0,OG8)&\" دانه\"","v":"27 دانه"},null,null,null,null,"نقطه وسط باکس جایی برای لیبل نوشته",{"$f":"OK17","v":3.6057692307692299},{"$f":"OL17","v":5},{"$f":"OJ17","v":"h5"},null,"e4",{"$f":"TEXT(0,OR8)&\" دانه\"","v":"32 دانه"},null,null,null,null,"نقطه وسط باکس جایی برای لیبل نوشته",{"$f":"OV17","v":1.6987179487179489},{"$f":"OW17","v":5},{"$f":"OU17","v":"h5"},null,{"$f":"PB7","v":"c3"},{"$f":"TEXT(0,PC7)&\" رج مثل رج قبل میبافیم\"","v":"8 رج مثل رج قبل میبافیم"},null,null,null,null,"نقطه وسط باکس جایی برای لیبل نوشته",{"$f":"PG17","v":4.5592948717948723},{"$f":"PH17","v":5},{"$f":"PF17","v":"h5"},null,{"$f":"PM7","v":"c3"},{"$f":"TEXT(0,PN7)&\" رج مثل رج قبل میبافیم\"","v":"8 رج مثل رج قبل میبافیم"},null,null,null,null,"نقطه وسط باکس جایی برای لیبل نوشته",{"$f":"PR17","v":8.9455128205128176},{"$f":"PS17","v":5},{"$f":"PQ17","v":"h5"},null,null,"یکدانه اضافه میکنیم","علامت پنجم",null,{"$f":"PZ33","v":"t5"},{"$f":"PX33","v":-45},{"$f":"PY33","v":6.4285714285714288},null,null,null,null,null,null,"جادکمه"]
[null,null,null,null,"(بدون اعمال بافت اننتخابی)  b1 تعداد دانه ها  دور تا دور گردن ",{"$f":"F45+2*F44+2*F43+F42","v":117},null,null,null,null,null,{"$f":"ABS(ROUND(2*O33/(O33-(G46-2*O41)+0.001),0))","v":3},{"$f":"ABS(ROUND(2*(O33/(O33-(G46-2*O41)+0.001)-1),0))","v":1},{"$f":"O33-(O33/L26)*(L26-M26)-(G46-2*O41)","v":-16.333333333333343},{"$f":"ROUNDDOWN(ABS(N26),0)","v":16},null,{"$f":"IF(((S19-G46)/(S19+G46))<1,1,ABS(ROUND(S19/(S19-(G46+0.0001)),0)))","v":1},{"$f":"IF(((S19-G46)/(S19+G46))<1,1,ABS(ROUND(S19/(S19-G46+0.0001),0)-1))","v":1},{"$f":"S19-(S19/Q26)*(Q26-R26)-G46","v":42.530310060749542},{"$f":"ROUNDDOWN(ABS(S26),0)","v":42},null,null,{"$f":"ABS(ROUND(2*X15/(X15-(X16)+0.001),0))","v":6},{"$f":"ABS(ROUND(2*(X15/(X15-X16+0.0001)-1),0))","v":4},{"$f":"X15-(X15/W26)*(W26-X26)-X16","v":-2},{"$f":"ROUNDDOWN(ABS(Y26),0)","v":2},null,null,null,null,"d8",{"$f":"ROUND(F7*O238,0)","v":37},null,2.7692307692307692,2.8148148148148149,{"$f":"(10/3)*((AM26/AL26)*(1/I6)-1)","v":1.7636684303351156E-2},{"$f":"(100/68)*((AO26/AN26)*(1/I7)-1)","v":0.56561085972850678},13.5,38,13,36,"زنبوری",20,null,null,null,null,null,null,null,null,null,null,null,null,null,null,null,null,null,null,null,null,null,null,null,null,null,null,null,null,null,null,null,null,null,null,null,null,null,null,null,null,null,null,null,null,null,null,null,{"$f":"CI45","v":34.299999999999997},{"$f":"CJ45","v":172.7},"j11",null,{"$f":"0.7*(CR20+CR19)+CQ24","v":84.344999999999999},{"$f":"CR25-0.7*(CR19+CR20)","v":110.8715},"d4",null,{"$f":"CQ28","v":26.469000000000001},{"$f":"CR28","v":98.101500000000001},"d7",null,null,null,null,null,null,{"$f":"DB37+'طراحی همه الگوها'!U189","v":78.2},{"$f":"DE15-'طراحی همه الگوها'!U198","v":155.79999999999998},14,null,null,null,null,null,"s9",{"$f":"DM23+0.7*(DM27-DM23)","v":52.266928842957483},{"$f":"DN27+0.2*(DN23-DN27)","v":137.1296942739323},null,null,null,null,null,"s'15",{"$f":"DU25+0.7*(DU24-DU25)","v":16.294836},{"$f":"DV25+0.5*(DV24-DV25)","v":140.73632500000002},null,{"$f":"DU26","v":16.294836},{"$f":"DV26","v":140.73632500000002},"s'15",null,null,null,null,{"$f":"EE25","v":61.900000000000006},{"$f":"EF19","v":96.09999999999998},7,null,null,null,null,null,null,"(5 →7)",{"$f":"ROUND(0.2*(EP34-EP31),1)","v":11.8},null,null,null,null,{"$f":"EP34","v":79.515099702172236},{"$f":"EQ34","v":15.088000324366462},8,null,null,null,null,null,null,null,null,null,{"$f":"FF13+'طراحی همه الگوها'!U249-'طراحی همه الگوها'!U256","v":-24.099999999999994},{"$f":"FG25","v":103.9},10,null,null,null,null,null,"41''",{"$f":"FO24+0.88*(FO27-FO24)","v":51.3033},{"$f":"FP27+0.3*(FP24-FP27)","v":37.158118232877626},null,{"$f":"FO12","v":18.135480000000001},{"$f":"FP12","v":157.77265000000003},"s3",null,null,null,null,null,null,22,{"$f":"GB12+GE12*SIN(RADIANS(GA26)+GA14)","v":{"$error":"#DIV/0!"}},{"$f":"GC12+GE12*COS(RADIANS(GA26)+GA14)","v":{"$error":"#DIV/0!"}},{"$f":"IF(GB13>GB26,ATAN((GC13-GC26)/(GB13-GB26)),ATAN((GC13-GC26)/(GB26-GB13)))","v":{"$error":"#DIV/0!"}},{"$f":"IF(GB13>GB26,(GB13-GB26)/COS(GD26),(GB26-GB13)/COS(GD26))","v":{"$error":"#DIV/0!"}},null,1,2,"نقطه 8","نقطه قبل از چرخش",{"$f":"IF(GH26>GH18,IF(GG26>GG18,GG18+SQRT(POWER(GG26-GG18,2)+POWER(GH26-GH18,2))*COS(ATAN((GH26-GH18)/(GG26-GG18+0.000123))+GH16),GG18-SQRT(POWER(GG26-GG18,2)+POWER(GH26-GH18,2))*COS(ATAN((GH26-GH18)/(GG18-GG26+0.000123))-GH16)),IF(GG26>GG18,GG18+SQRT(POWER(GG26-GG18,2)+POWER(GH26-GH18,2))*COS(ATAN((GH18-GH26)/(GG26-GG18+0.000123))-GH16),GG18-SQRT(POWER(GG26-GG18,2)+POWER(GH26-GH18,2))*COS(ATAN((GH18-GH26)/(GG18-GG26+0.000123))+GH16)))","v":0.61824523267144293},{"$f":"IF(GH26>GH18,IF(GG26>GG18,GH18+SQRT(POWER(GG26-GG18,2)+POWER(GH26-GH18,2))*SIN(ATAN((GH26-GH18)/(GG26-GG18+0.000123))+GH16),GH18+SQRT(POWER(GG26-GG18,2)+POWER(GH26-GH18,2))*SIN(ATAN((GH26-GH18)/(GG18-GG26+0.000123))-GH16)),IF(GG26>GG18,GH18-SQRT(POWER(GG26-GG18,2)+POWER(GH26-GH18,2))*SIN(ATAN((GH18-GH26)/(GG26-GG18+0.000123))-GH16),GH18-SQRT(POWER(GG26-GG18,2)+POWER(GH26-GH18,2))*SIN(ATAN((GH18-GH26)/(GG18-GG26+0.000123))+GH16)))","v":0.69874634779839551},"نقطه چرخیده",null,"m1",{"$f":"IF(GR21>GR22,ATAN((GQ22-GQ21)/(GR21-GR22)),2*RADIANS(90)-ATAN((GQ22-GQ21)/(GR22-GR21)))","v":{"$error":"#REF!"}},"m2",{"$f":"SQRT(POWER(GQ21-GQ22,2)+POWER(GR21-GR22,2))","v":{"$error":"#REF!"}},null,null,{"$f":"GU25+GT11","v":-70},-1.2217304763960306,{"$f":"HB13+HB10*COS(GV26)","v":{"$error":"#REF!"}},{"$f":"HC13-HB10*SIN(GV26)","v":{"$error":"#REF!"}},{"$f":"SQRT(POWER((HB12-GW26),2)+POWER((HC12-GX26),2))","v":{"$error":"#REF!"}},{"$f":"ABS(HB9-GY26)","v":{"$error":"#REF!"}},null,null,null,null,null,null,null,null,null,null,null,null,null,null,{"$f":"-HK26+HP9","v":0},0,null,null,null,null,null,null,null,null,null,null,null,null,null,null,null,null,null,null,null,null,null,null,null,null,null,null,null,null,null,null,null,null,null,null,null,null,null,null,null,null,null,null,null,null,null,null,null,null,null,null,null,null,null,null,null,null,null,null,null,null,null,null,null,null,null,null,null,null,null,null,null,null,null,null,null,null,null,null,null,null,null,null,null,null,null,null,null,null,null,null,null,null,null,null,null,null,null,null,null,null,null,null,null,null,null,null,null,null,null,null,null,null,null,null,null,null,null,null,null,null,null,null,null,null,null,null,null,null,null,null,null,null,null,null,null,null,null,null,null,null,null,null,null,null,null,null,null,null,null,null,null,null,null,null,null,null,null,null,null,null,"a25",{"$f":"TEXT(0,NV13)&\"دانه\"","v":"4دانه"},null,null,null,null,null,null,null,null,null,"e5",{"$f":"TEXT(0,OG9)&\" دانه\"","v":"42 دانه"},null,null,null,null,null,null,null,null,null,"e5",{"$f":"TEXT(0,OR9)&\" دانه\"","v":"49 دانه"},null,null,null,null,null,null,null,null,null,{"$f":"PB8","v":"c4"},{"$f":"TEXT(0,PC8)&\" رج مثل رج قبل میبافیم\"","v":"19 رج مثل رج قبل میبافیم"},null,null,null,null,null,null,null,null,null,{"$f":"PM8","v":"c4"},{"$f":"TEXT(0,PN8)&\" رج مثل رج قبل میبافیم\"","v":"20 رج مثل رج قبل میبافیم"},null,null,null,null,null,null,null,null,null,null,"راهنمای نقشه بافت","عنوان",null,"f2",{"$f":"QC25+1*QC23","v":-44.428571428571431},{"$f":"QD25-QC22*QC23","v":6.1428571428571432},{"$f":"QC25","v":-45},{"$f":"QD25","v":6.4285714285714288},{"$f":"QB25","v":"t5"},null,{"$f":"FJ146","v":12},{"$f":"FK146","v":52.7},1,null,{"$f":"QI61","v":20.010856348894084},145.77056095882656,25]
[null,null,null,null,"تعداد رج دوبل برای ایجاد گودی گردن جلو b13",{"$f":"ROUNDDOWN(0.25*I21*((AX129-BI128)),0)","v":6},null," a01 تعداد رج در یک سانت پشت",{"$f":"F6+0.3*I29*F6","v":3.333333333333333},null,null,{"$f":"ABS(ROUND(3*O33/(O33-(G46-2*O41)+0.001),0))","v":5},{"$f":"ABS(ROUND(3*(O33/(O33-(G46-2*O41)+0.001)-1),0))","v":2},{"$f":"O33-(O33/L27)*(L27-M27)-(G46-2*O41)","v":-2.8000000000000114},{"$f":"ROUNDDOWN(ABS(N27),0)","v":2},null,{"$f":"ABS(ROUND(2*S19/(S19-(G46)+0.001),0))","v":6},{"$f":"ABS(ROUND(2*(S19/(S19-G46+0.0001)-1),0))","v":4},{"$f":"S19-(S19/Q27)*(Q27-R27)-G46","v":-2.3131266261669623},{"$f":"ROUNDDOWN(ABS(S27),0)","v":2},null,null,{"$f":"ABS(ROUND(3*X15/(X15-X16+0.001),0))","v":9},{"$f":"ABS(ROUND(3*(X15/(X15-X16+0.0001)-1),0))","v":6},{"$f":"X15-(X15/W27)*(W27-X27)-X16","v":-2},{"$f":"ROUNDDOWN(ABS(Y27),0)","v":2},null,null,null,null,"d9",{"$f":"ROUND((F6*AF8)/(F7*AF10),0)","v":4},null,3.1428571428571428,3.1111111111111112,{"$f":"(10/3)*((AM27/AL27)*(1/I6)-1)","v":0.37037037037037057},{"$f":"(100/68)*((AO27/AN27)*(1/I7)-1)","v":0.84033613445378152},13.5,42,7,22,"پیچ گیسباف",21,null,null,null,null,null,null,null,null,null,null,null,null,null,null,null,null,null,null,null,null,null,null,null,null,null,null,null,null,null,null,null,null,null,null,null,null,null,null,null,null,null,null,null,null,null,null,null,{"$f":"CI46","v":24},{"$f":"CJ46","v":164.1},"j12",null,{"$f":"CQ24","v":12},{"$f":"CR26-CR21+'متغیرها '!C6*0.1*'متغیرها '!U85*0.7","v":98.101500000000001},"d6",null,{"$f":"CQ30","v":62.641499999999994},{"$f":"CR30","v":99.378500000000003},"d9",null,null,null,null,null,null,{"$f":"DD29+'طراحی همه الگوها'!U196","v":96.6},{"$f":"DE15-'طراحی همه الگوها'!U197","v":158.6},13,null,null,"صاف",null,null,"s10",{"$f":"DM18-('طراحی همه الگوها'!U196-'متغیرها '!C13*'متغیرها '!U83)*COS(DM17)","v":69.524184061367833},{"$f":"DN18+('طراحی همه الگوها'!U196-'متغیرها '!C13*'متغیرها '!U83)*SIN(DM17)","v":129.29113284241538},null,{"$f":"DM31","v":18.135480000000001},{"$f":"DN31","v":157.77265000000003},"s14",null,"s'17",{"$f":"DB400","v":12},{"$f":"IF('متغیرها '!C22=-1,DQ12,IF('متغیرها '!C22=0,DC400-0.1,DC400-0.25*(DC400-DC404)))","v":165.85500000000002},null,{"$f":"DU25","v":12},{"$f":"DV25","v":123.7},"s'16",null,null,null,null,{"$f":"EE24","v":47.7},{"$f":"EF24","v":92.299999999999983},5,null,{"$f":"EI19","v":36.287999999999997},{"$f":"EJ17","v":0},21,null,null,null,"نقاط در چادر شماره 4",null,null,null,null,null,null,null,null,{"$f":"EP29","v":12},{"$f":"EQ29","v":172.7},1,null,null,null,null,null,{"$f":"FF26","v":-24.099999999999994},{"$f":"FG17","v":99.9},11,null,{"$f":"FJ23","v":22.4},{"$f":"FG17","v":99.9},19,null,"s13",{"$f":"FO30+0.5*'طراحی همه الگوها'!U249","v":53.85},{"$f":"FP30","v":7},null,{"$f":"FO33","v":15.996600986774837},{"$f":"FP33","v":117.2265789439094},"s'3",null,null,null,null,null,null,24,{"$f":"GB12+GE12*SIN(RADIANS(GA27)+GA14)","v":{"$error":"#DIV/0!"}},{"$f":"GC12+GE12*COS(RADIANS(GA27)+GA14)","v":{"$error":"#DIV/0!"}},{"$f":"IF(GB13>GB27,ATAN((GC13-GC27)/(GB13-GB27)),ATAN((GC13-GC27)/(GB27-GB13)))","v":{"$error":"#DIV/0!"}},{"$f":"IF(GB13>GB27,(GB13-GB27)/COS(GD27),(GB27-GB13)/COS(GD27))","v":{"$error":"#DIV/0!"}},null,1,2,"نقطه 9","نقطه قبل از چرخش",{"$f":"IF(GH27>GH18,IF(GG27>GG18,GG18+SQRT(POWER(GG27-GG18,2)+POWER(GH27-GH18,2))*COS(ATAN((GH27-GH18)/(GG27-GG18+0.000123))+GH16),GG18-SQRT(POWER(GG27-GG18,2)+POWER(GH27-GH18,2))*COS(ATAN((GH27-GH18)/(GG18-GG27+0.000123))-GH16)),IF(GG27>GG18,GG18+SQRT(POWER(GG27-GG18,2)+POWER(GH27-GH18,2))*COS(ATAN((GH18-GH27)/(GG27-GG18+0.000123))-GH16),GG18-SQRT(POWER(GG27-GG18,2)+POWER(GH27-GH18,2))*COS(ATAN((GH18-GH27)/(GG18-GG27+0.000123))+GH16)))","v":0.61824523267144293},{"$f":"IF(GH27>GH18,IF(GG27>GG18,GH18+SQRT(POWER(GG27-GG18,2)+POWER(GH27-GH18,2))*SIN(ATAN((GH27-GH18)/(GG27-GG18+0.000123))+GH16),GH18+SQRT(POWER(GG27-GG18,2)+POWER(GH27-GH18,2))*SIN(ATAN((GH27-GH18)/(GG18-GG27+0.000123))-GH16)),IF(GG27>GG18,GH18-SQRT(POWER(GG27-GG18,2)+POWER(GH27-GH18,2))*SIN(ATAN((GH18-GH27)/(GG27-GG18+0.000123))-GH16),GH18-SQRT(POWER(GG27-GG18,2)+POWER(GH27-GH18,2))*SIN(ATAN((GH18-GH27)/(GG18-GG27+0.000123))+GH16)))","v":0.69874634779839551},"نقطه چرخیده",null,"نقطه خروجی بالا","su9",{"$f":"GQ21+GQ23*COS(GP26)","v":{"$error":"#REF!"}},{"$f":"GR21+GQ23*SIN(GP26)","v":{"$error":"#REF!"}},null,null,{"$f":"GU26+GT11","v":-68},-1.1868238913561442,{"$f":"HB13+HB10*COS(GV27)","v":{"$error":"#REF!"}},{"$f":"HC13-HB10*SIN(GV27)","v":{"$error":"#REF!"}},{"$f":"SQRT(POWER((HB12-GW27),2)+POWER((HC12-GX27),2))","v":{"$error":"#REF!"}},{"$f":"ABS(HB9-GY27)","v":{"$error":"#REF!"}},null,null,"به دست آوردن نقطه تقاطع دو خط ","مولفه افقی","مولفه عمودی",null,null,null,null,null,null,null,null,null,{"$f":"-HK27+HP9","v":0},0,null,null,null,null,null,null,null,null,null,null,null,null,null,null,null,null,null,null,null,null,null,null,null,null,null,null,null,null,null,null,null,null,null,null,null,null,null,null,null,null,null,null,null,null,null,null,null,null,null,null,null,null,null,null,null,null,null,null,null,null,null,null,null,null,null,null,null,null,null,null,null,null,null,null,null,null,null,null,null,null,null,null,null,null,null,null,null,null,null,null,null,null,null,null,null,null,null,null,null,null,null,null,null,null,null,null,null,null,null,null,null,null,null,null,null,null,null,null,null,null,null,null,null,null,null,null,null,null,null,null,null,null,null,null,null,null,null,null,null,null,null,null,null,null,null,null,null,null,null,null,null,null,null,null,null,null,null,null,null,null,"b''1",{"$f":"\"تعداد دانه ها \"&TEXT(0,NV17)&\"  -  تقسیم بندی بالاتنه و آستین \"","v":"تعداد دانه ها 92  -  تقسیم بندی بالاتنه و آستین "},null,null,"زاویه فلش",{"$f":"NV38","v":0.5},"f5",null,null,"فلش به سمت راست",null,"e6",{"$f":"TEXT(0,OG10)&\" رج مثل رج قبل میبافیم\"","v":"6 رج مثل رج قبل میبافیم"},null,null,"زاویه فلش",{"$f":"OG43","v":0.5},"f5",null,null,"فلش به سمت راست",null,"e6",{"$f":"TEXT(0,OR10)&\" رج مثل رج قبل میبافیم\"","v":"6 رج مثل رج قبل میبافیم"},null,null,"زاویه فلش",{"$f":"OR43","v":0.5},"f5",null,null,"فلش به سمت راست",null,null,{"$f":"\"در اینجا تعداد دانه ها \"&TEXT(0,PC12)&\"   میباشد \"","v":"در اینجا تعداد دانه ها 126   میباشد "},null,null,"زاویه فلش",{"$f":"PC40","v":0.5},"f5",null,null,"فلش به سمت راست",null,null,{"$f":"\"در اینجا تعداد دانه ها \"&TEXT(0,PN12)&\"   میباشد \"","v":"در اینجا تعداد دانه ها 126   میباشد "},null,null,"زاویه فلش",{"$f":"PN40","v":0.5},"f5",null,null,"فلش به سمت راست",null,null,null,null,null,"f3",{"$f":"QC26","v":-44.428571428571431},{"$f":"QD25+QC22*QC23","v":6.7142857142857144},{"$f":"QC26","v":-44.428571428571431},{"$f":"QD26","v":6.1428571428571432},{"$f":"QB26","v":"f2"},null,{"$f":"FJ145","v":10.410015},{"$f":"FK145","v":52.7},"1'",null,18.408685079115266,140.49996654552029,30]
[null,null,null,null,"تعداد رج سوبل برای ایجاد گودی گردن جلو b'''13",{"$f":"ROUND((1/8)*I21*((AX129-BI128)),0)","v":3},null,"تعداد دانه در یک سانت پشتb01 ",{"$f":"F7+0.68*I30*F7","v":1.8749999999999996},null,null,{"$f":"ABS(ROUND(4*O33/(O33-(G46-2*O41)+0.001),0))","v":7},{"$f":"ABS(ROUND(4*(O33/(O33-(G46-2*O41)+0.001)-1),0))","v":3},{"$f":"O33-(O33/L28)*(L28-M28)-(G46-2*O41)","v":3},{"$f":"ROUNDDOWN(ABS(N28),0)","v":3},null,{"$f":"ABS(ROUND(3*S19/(S19-G46+0.001),0))","v":9},{"$f":"ABS(ROUND(3*(S19/(S19-G46+0.0001)-1),0))","v":6},{"$f":"S19-(S19/Q28)*(Q28-R28)-G46","v":-2.3131266261669765},{"$f":"ROUNDDOWN(ABS(S28),0)","v":2},null,null,{"$f":"ABS(ROUND(4*X15/(X15-X16+0.001),0))","v":13},{"$f":"ABS(ROUND(4*(X15/(X15-X16+0.0001)-1),0))","v":9},{"$f":"X15-(X15/W28)*(W28-X28)-X16","v":1.2307692307692264},{"$f":"ROUNDDOWN(ABS(Y28),0)","v":1},null,null,null,null,"d10",{"$f":"IF(ROUND((F6*(G259-G258))/(F7*G260),0)>40,\"----\",ROUND((F6*(G259-G258))/(F7*G260),0))","v":10},null,3.2727272727272729,2.9629629629629628,{"$f":"(10/3)*((AM28/AL28)*(1/I6)-1)","v":0.19400352733686049},{"$f":"(100/68)*((AO28/AN28)*(1/I7)-1)","v":0.93582887700534778},13.5,40,11,36,"پیچ چپ و راستی",{"$f":"AQ27+1","v":22},null,null,null,null,null,null,null,null,null,null,null,null,null,null,null,null,null,null,null,null,null,null,null,null,null,null,null,null,null,null,null,null,null,null,null,null,null,null,null,null,null,null,null,null,null,null,null,null,null,null,null,{"$f":"0.2*(CQ26-CQ24)+CQ24","v":26.469000000000001},{"$f":"CR27","v":98.101500000000001},"d7",null,{"$f":"CQ29","v":77.110500000000002},{"$f":"CR29","v":104.48650000000001},"d8",null,null,null,null,null,null,{"$f":"DD29+'طراحی همه الگوها'!U196","v":96.6},{"$f":"DE15","v":173.7},12,null,{"$f":"DH20","v":36},{"$f":"DE14","v":0},15,null,"s12",{"$f":"DM27-'طراحی همه الگوها'!U198*SIN(DM17)","v":63.891899870506428},{"$f":"DN27-'طراحی همه الگوها'!U198*COS(DM17)","v":112.30033018941006},null,{"$f":"DM33","v":16.294836},{"$f":"DN33","v":140.73632500000002},"s15",null,"s'18",{"$f":"DU27+0.6*(DU24-DU27)","v":15.681288},{"$f":"DV27-0.3*(DV27-DV24)","v":163.43029500000003},null,null,null,null,null,null,null,null,null,null,null,null,{"$f":"EI19","v":36.287999999999997},{"$f":"EJ19","v":6.8},22,null,null,"افقی شبیه ساز","اسم نقطه ","مولفه افقی","مولفه عمودی","عمودی شبیه ساز",null,{"$f":"ER43","v":43},{"$f":"ER44","v":77.725000000000009},15,null,{"$f":"EP36","v":80.306515062620491},{"$f":"EQ36","v":104.39348493737951},10,null,null,null,null,null,{"$f":"FF16","v":76.100000000000009},{"$f":"FG16","v":99.9},8,null,{"$f":"FJ23","v":22.4},{"$f":"FK23","v":85},20,null,"s''17",{"$f":"FO11","v":12},{"$f":"IF('متغیرها '!C40=-1,FP14,IF('متغیرها '!C40=0,FP11-0.1,FP11-0.25*(FP11-FP13)))","v":165.85500000000002},null,{"$f":"FO22","v":13.857721973549673},{"$f":"FP22","v":56.407472359773443},"s11",null,null,null,null,null,null,26,{"$f":"GB12+GE12*SIN(RADIANS(GA28)+GA14)","v":{"$error":"#DIV/0!"}},{"$f":"GC12+GE12*COS(RADIANS(GA28)+GA14)","v":{"$error":"#DIV/0!"}},{"$f":"IF(GB13>GB28,ATAN((GC13-GC28)/(GB13-GB28)),ATAN((GC13-GC28)/(GB28-GB13)))","v":{"$error":"#DIV/0!"}},{"$f":"IF(GB13>GB28,(GB13-GB28)/COS(GD28),(GB28-GB13)/COS(GD28))","v":{"$error":"#DIV/0!"}},null,1,2,"نقطه 10","نقطه قبل از چرخش",{"$f":"IF(GH28>GH18,IF(GG28>GG18,GG18+SQRT(POWER(GG28-GG18,2)+POWER(GH28-GH18,2))*COS(ATAN((GH28-GH18)/(GG28-GG18+0.000123))+GH16),GG18-SQRT(POWER(GG28-GG18,2)+POWER(GH28-GH18,2))*COS(ATAN((GH28-GH18)/(GG18-GG28+0.000123))-GH16)),IF(GG28>GG18,GG18+SQRT(POWER(GG28-GG18,2)+POWER(GH28-GH18,2))*COS(ATAN((GH18-GH28)/(GG28-GG18+0.000123))-GH16),GG18-SQRT(POWER(GG28-GG18,2)+POWER(GH28-GH18,2))*COS(ATAN((GH18-GH28)/(GG18-GG28+0.000123))+GH16)))","v":0.61824523267144293},{"$f":"IF(GH28>GH18,IF(GG28>GG18,GH18+SQRT(POWER(GG28-GG18,2)+POWER(GH28-GH18,2))*SIN(ATAN((GH28-GH18)/(GG28-GG18+0.000123))+GH16),GH18+SQRT(POWER(GG28-GG18,2)+POWER(GH28-GH18,2))*SIN(ATAN((GH28-GH18)/(GG18-GG28+0.000123))-GH16)),IF(GG28>GG18,GH18-SQRT(POWER(GG28-GG18,2)+POWER(GH28-GH18,2))*SIN(ATAN((GH18-GH28)/(GG28-GG18+0.000123))-GH16),GH18-SQRT(POWER(GG28-GG18,2)+POWER(GH28-GH18,2))*SIN(ATAN((GH18-GH28)/(GG18-GG28+0.000123))+GH16)))","v":0.69874634779839551},"نقطه چرخیده",null,"نقطه خروجی پایین","sd8",{"$f":"GQ29+GQ23*COS(GP26)","v":{"$error":"#REF!"}},{"$f":"GR29+GQ23*SIN(GP26)","v":{"$error":"#REF!"}},null,null,{"$f":"GU27+GT11","v":-66},-1.1519173063162575,{"$f":"HB13+HB10*COS(GV28)","v":{"$error":"#REF!"}},{"$f":"HC13-HB10*SIN(GV28)","v":{"$error":"#REF!"}},{"$f":"SQRT(POWER((HB12-GW28),2)+POWER((HC12-GX28),2))","v":{"$error":"#REF!"}},{"$f":"ABS(HB9-GY28)","v":{"$error":"#REF!"}},null,"نقطه اول از خط اول","f5",{"$f":"#REF!","v":{"$error":"#REF!"}},{"$f":"#REF!","v":{"$error":"#REF!"}},null,null,null,null,null,null,null,null,null,{"$f":"-HK28+HP9","v":0},0,null,null,null,null,null,null,null,null,null,null,null,null,null,null,null,null,null,null,null,null,null,null,null,null,null,null,null,null,null,null,null,null,null,null,null,null,null,null,null,null,null,null,null,null,null,null,null,null,null,null,null,null,null,null,null,null,null,null,null,null,null,null,null,null,null,null,null,null,null,null,null,null,null,null,null,null,null,null,null,null,null,null,null,null,null,null,null,null,null,null,null,null,null,null,null,null,null,null,null,null,null,null,null,null,null,null,null,null,null,null,null,null,null,null,null,null,null,null,null,null,null,null,null,null,null,null,null,null,null,null,null,null,null,null,null,null,null,null,null,null,null,null,null,null,null,null,null,null,null,null,null,null,null,null,null,null,null,null,null,null,null,{"$f":"\"نقشه بافت یقه شکاری با میل \"&TEXT(0,NV42)&\"  بافت   \"&TEXT(0,NU43)","v":"نقشه بافت یقه شکاری با میل 2  بافت   کشباف (دوتایی)"},null,null,"بزرگی فلش",{"$f":"NV47","v":0.3600000000000001},"f4",{"$f":"NZ30","v":-20.217788461538461},{"$f":"OA30","v":5},{"$f":"NY30","v":"w6"},null,null,{"$f":"\"در اینجا تعداد دانه ها \"&TEXT(0,OG17)&\"   میباشد \"","v":"در اینجا تعداد دانه ها 117   میباشد "},null,null,"بزرگی فلش",{"$f":"OG51","v":0.25411764705882356},"f4",{"$f":"OK30","v":-19.278846153846153},{"$f":"OL30","v":5},{"$f":"OJ30","v":"m3"},null,null,{"$f":"\"در اینجا تعداد دانه ها \"&TEXT(0,OR17)&\"   میباشد \"","v":"در اینجا تعداد دانه ها 117   میباشد "},null,null,"بزرگی فلش",{"$f":"OR51","v":0.25411764705882356},"f4",{"$f":"OV30","v":-19.660256410256409},{"$f":"OW30","v":5},{"$f":"OU30","v":"m3"},null,"a10,a11,b1",{"$f":"\"تعداد دانه\"&TEXT(0,PC12)&\"میباشد. هر\"&TEXT(0,PC9)&\"  دانه را تبدیل به  \"&TEXT(0,PC10)&\"  دانه میکنیم تا تعداد دانه ها  \"&TEXT(0,PC13)&\" شود\"","v":"تعداد دانه126میباشد. هر6  دانه را تبدیل به  4  دانه میکنیم تا تعداد دانه ها  86 شود"},null,null,"بزرگی فلش",{"$f":"PC48","v":0.25411764705882356},"f4",{"$f":"PG30","v":-19.088141025641026},{"$f":"PH30","v":5},{"$f":"PF30","v":"n3"},null,"a10,a11,b1",{"$f":"\"تعداد دانه\"&TEXT(0,PN12)&\"میباشد. هر\"&TEXT(0,PN9)&\"  دانه را تبدیل به  \"&TEXT(0,PN10)&\"  دانه میکنیم تا تعداد دانه ها  \"&TEXT(0,PN13)&\" شود\"","v":"تعداد دانه126میباشد. هر6  دانه را تبدیل به  4  دانه میکنیم تا تعداد دانه ها  86 شود"},null,null,"بزرگی فلش",{"$f":"PN48","v":0.25411764705882356},"f4",{"$f":"PR30","v":-18.210897435897436},{"$f":"PS30","v":5},{"$f":"PQ30","v":"n3"},null,null,"نقاط خروجی ",null,null,null,null,null,null,null,null,null,{"$f":"BD98","v":10.410015},{"$f":"BE98","v":135.22937213221402},"26'",null,15.204342539557633,136.28349101487527,28]
[null,null,null,null,"فاصله  گردن تا محل جدا شدن آستین در قسمت جلو (cm)     b7",{"$f":"ROUNDUP(SQRT(POWER(CI103-CI121,2)+POWER(CJ103-CJ121,2)),0)","v":22},null,"جمع شوندگی عمودی بافت پشت   f02",{"$f":"OFFSET(AJ6,I31,0)","v":-0.15873015873015892},null,null,{"$f":"ABS(ROUND(5*O33/(O33-(G46-2*O41)+0.001),0))","v":9},{"$f":"ABS(ROUND(5*(O33/(O33-(G46-F412*O41)+0.001)-1),0))","v":1},{"$f":"O33-(O33/L29)*(L29-M29)-(G46-2*O41)","v":-61.444444444444457},{"$f":"ROUNDDOWN(ABS(N29),0)","v":61},null,{"$f":"ABS(ROUND(4*S19/(S19-G46+0.001),0))","v":13},{"$f":"ABS(ROUND(4*(S19/(S19-G46+0.0001)-1),0))","v":9},{"$f":"S19-(S19/Q29)*(Q29-R29)-G46","v":1.1363685035958326},{"$f":"ROUNDDOWN(ABS(S29),0)","v":1},null,null,{"$f":"ABS(ROUND(5*X15/(X15-X16+0.001),0))","v":16},{"$f":"ABS(ROUND(5*(X15/(X15-X16+0.0001)-1),0))","v":11},{"$f":"X15-(X15/W29)*(W29-X29)-X16","v":0.625},{"$f":"ROUNDDOWN(ABS(Y29),0)","v":0},null,null,null,null,"d12",{"$f":"AF9","v":84},null,2.5714285714285716,2.4444444444444446,{"$f":"(10/3)*((AM29/AL29)*(1/I6)-1)","v":-0.42328042328042292},{"$f":"(100/68)*((AO29/AN29)*(1/I7)-1)","v":0.42016806722689093},13.5,33,14,36,"کشباف (یکی)",23,null,null,null,null,null,null,null,null,null,null,null,null,null,null,null,null,null,null,null,null,null,null,null,null,null,null,null,null,null,null,null,null,null,null,null,null,null,null,null,null,null,null,null,null,null,null,null,{"$f":"CI40","v":17.7},{"$f":"CJ40","v":172.7},"j6",null,{"$f":"0.9*(CQ26-CQ24)+CQ24","v":77.110500000000002},{"$f":"CR27+0.5*(CR26-CR27)","v":104.48650000000001},"d8",null,{"$f":"CQ26","v":84.344999999999999},{"$f":"CR26","v":110.8715},"d4",null,null,null,null,null,null,{"$f":"DB37+'طراحی همه الگوها'!U189","v":78.2},{"$f":"DE15","v":173.7},3,null,{"$f":"DH20","v":36},{"$f":"DI20","v":4.8},16,null,"s11",{"$f":"DM36-'طراحی همه الگوها'!U197*SIN(DM17)","v":82.238333644233236},{"$f":"DN36-'طراحی همه الگوها'!U197*COS(DM17)","v":109.1684988104472},null,{"$f":"DM32","v":12},{"$f":"DN32","v":123.7},"s16",null,"s'19",{"$f":"EC41+('متغیرها '!C20*'متغیرها '!U83)*COS(DM17+RADIANS(EC40))","v":72.463585884235471},{"$f":"ED41-('متغیرها '!C20*'متغیرها '!U83)*SIN(DM17+RADIANS(EC40))","v":99.954280291883663},null,{"$f":"DU18","v":66.099624853556548},{"$f":"DV18","v":106.31824132256259},"s'10",null,null,null,null,{"$f":"DB37+'طراحی همه الگوها'!U216","v":110},{"$f":"EF20","v":124.5},10,null,null,null,null,null,null,null,1,{"$f":"DM19","v":12},{"$f":"'طراحی همه الگوها'!U233+ER39+DM44","v":172.7},null,null,{"$f":"ET28+'طراحی همه الگوها'!U242","v":50.5},{"$f":"EU28","v":77.725000000000009},16,null,null,null,null,null,null,null,null,null,null,null,null,null,null,null,null,null,"s''18",{"$f":"FO28+0.5*(FO12-FO28)","v":15.067740000000001},{"$f":"FP28-0.3*(FP28-FP12)","v":163.43029500000003},null,null,null,null,null,null,null,null,null,null,28,{"$f":"GB12+GE12*SIN(RADIANS(GA29)+GA14)","v":{"$error":"#DIV/0!"}},{"$f":"GC12+GE12*COS(RADIANS(GA29)+GA14)","v":{"$error":"#DIV/0!"}},{"$f":"IF(GB13>GB29,ATAN((GC13-GC29)/(GB13-GB29)),ATAN((GC13-GC29)/(GB29-GB13)))","v":{"$error":"#DIV/0!"}},{"$f":"IF(GB13>GB29,(GB13-GB29)/COS(GD29),(GB29-GB13)/COS(GD29))","v":{"$error":"#DIV/0!"}},null,1,2,"نقطه 11","نقطه قبل از چرخش",{"$f":"IF(GH29>GH18,IF(GG29>GG18,GG18+SQRT(POWER(GG29-GG18,2)+POWER(GH29-GH18,2))*COS(ATAN((GH29-GH18)/(GG29-GG18+0.000123))+GH16),GG18-SQRT(POWER(GG29-GG18,2)+POWER(GH29-GH18,2))*COS(ATAN((GH29-GH18)/(GG18-GG29+0.000123))-GH16)),IF(GG29>GG18,GG18+SQRT(POWER(GG29-GG18,2)+POWER(GH29-GH18,2))*COS(ATAN((GH18-GH29)/(GG29-GG18+0.000123))-GH16),GG18-SQRT(POWER(GG29-GG18,2)+POWER(GH29-GH18,2))*COS(ATAN((GH18-GH29)/(GG18-GG29+0.000123))+GH16)))","v":0.61824523267144293},{"$f":"IF(GH29>GH18,IF(GG29>GG18,GH18+SQRT(POWER(GG29-GG18,2)+POWER(GH29-GH18,2))*SIN(ATAN((GH29-GH18)/(GG29-GG18+0.000123))+GH16),GH18+SQRT(POWER(GG29-GG18,2)+POWER(GH29-GH18,2))*SIN(ATAN((GH29-GH18)/(GG18-GG29+0.000123))-GH16)),IF(GG29>GG18,GH18-SQRT(POWER(GG29-GG18,2)+POWER(GH29-GH18,2))*SIN(ATAN((GH18-GH29)/(GG29-GG18+0.000123))-GH16),GH18-SQRT(POWER(GG29-GG18,2)+POWER(GH29-GH18,2))*SIN(ATAN((GH18-GH29)/(GG18-GG29+0.000123))+GH16)))","v":0.69874634779839551},"نقطه چرخیده",null,"نقطه خروجی میانه",null,{"$f":"GQ21+GQ24*GR26*SIN(GP26)/GR25","v":{"$error":"#REF!"}},{"$f":"GR21-GQ24*GR26*COS(GP26)/GR25","v":{"$error":"#REF!"}},null,null,{"$f":"GU28+GT11","v":-64},-1.1170107212763709,{"$f":"HB13+HB10*COS(GV29)","v":{"$error":"#REF!"}},{"$f":"HC13-HB10*SIN(GV29)","v":{"$error":"#REF!"}},{"$f":"SQRT(POWER((HB12-GW29),2)+POWER((HC12-GX29),2))","v":{"$error":"#REF!"}},{"$f":"ABS(HB9-GY29)","v":{"$error":"#REF!"}},null,"نقطه دوم از خط اول","f6",{"$f":"#REF!","v":{"$error":"#REF!"}},{"$f":"#REF!","v":{"$error":"#REF!"}},null,null,null,null,null,null,null,null,null,{"$f":"-HK29+HP9","v":0},0,null,null,null,null,null,null,null,null,null,null,null,null,null,null,null,null,null,null,null,null,null,null,null,null,null,null,null,null,null,null,null,null,null,null,null,null,null,null,null,null,null,null,null,null,null,null,null,null,null,null,null,null,null,null,null,null,null,null,null,null,null,null,null,null,null,null,null,null,null,null,null,null,null,null,null,null,null,null,null,null,null,null,null,null,null,null,null,null,null,null,null,null,null,null,null,null,null,null,null,null,null,null,null,null,null,null,null,null,null,null,null,null,null,null,null,null,null,null,null,null,null,null,null,null,null,null,null,null,null,null,null,null,null,null,null,null,null,null,null,null,null,null,null,null,null,null,null,null,null,null,null,null,null,null,null,null,null,null,null,null,"متغیرهای  ورودی ",null,null,null,"نقطه ورودی سر فلش","مولفه افقی","مولفه عمودی",{"$f":"NZ32","v":-20.577788461538461},{"$f":"OA32","v":5.18},{"$f":"NY32","v":"f3"},null,{"$f":"OF11","v":"e7"},{"$f":"TEXT(0,OG11)&\" رج مثل رج قبل میبافیم\"","v":"4 رج مثل رج قبل میبافیم"},null,null,"نقطه ورودی سر فلش","مولفه افقی","مولفه عمودی",{"$f":"OK32","v":-19.532963800904977},{"$f":"OL32","v":5.1270588235294117},{"$f":"OJ32","v":"f3"},null,{"$f":"OQ11","v":"e7"},{"$f":"TEXT(0,OR11)&\" رج مثل رج قبل میبافیم\"","v":"4 رج مثل رج قبل میبافیم"},null,null,"نقطه ورودی سر فلش","مولفه افقی","مولفه عمودی",{"$f":"OV32","v":-19.914374057315232},{"$f":"OW32","v":5.1270588235294117},{"$f":"OU32","v":"f3"},null,null,{"$f":"\"نقشه بافت یقه ب ب غیر مسطح تا خط مرکزی جلو با میل \"&TEXT(0,PB19)&\"  بافت   \"&TEXT(0,PB21)","v":"نقشه بافت یقه ب ب غیر مسطح تا خط مرکزی جلو با میل 2  بافت   همه از زیر"},null,null,"نقطه ورودی سر فلش","مولفه افقی","مولفه عمودی",{"$f":"PG32","v":-19.342258672699849},{"$f":"PH32","v":5.1270588235294117},{"$f":"PF32","v":"f3"},null,null,{"$f":"\"نقشه بافت یقه ب ب معمولی تا خط مرکزی جلو با میل \"&TEXT(0,PM19)&\"  بافت   \"&TEXT(0,PM21)","v":"نقشه بافت یقه ب ب معمولی تا خط مرکزی جلو با میل 2  بافت   همه از زیر"},null,null,"نقطه ورودی سر فلش","مولفه افقی","مولفه عمودی",{"$f":"PR32","v":-18.46501508295626},{"$f":"PS32","v":5.1270588235294117},{"$f":"PQ32","v":"f3"},null,{"$f":"PY5","v":-45},{"$f":"PY6","v":5},"t1",null,"بزرگی خط عمودی دانه",{"$f":"PY11","v":0.5},"f9",null,null,"فلش به سمت بالا",null,null,null,"پایین پیراهن",null,{"$f":"QI78","v":13.589985},{"$f":"QJ78","v":135.22937213221402},"26''"]
[null,null,null,null,"تعداد دانه های اضافه شده زیر بغل   b8",{"$f":"F15","v":12},null,"جمع شوندگی افقی بافت پشت   f03",{"$f":"OFFSET(AJ6,I31,1)","v":-0.41006787330316763},null,null,{"$f":"IF(O33+2*O41-G46=0,1,IF(O25<=2,L25,IF(O26<=2,L26,IF(O27<=2,L27,IF(O28<=2,L28,L29)))))","v":5},{"$f":"IF(O33+2*O41-G46=0,1,IF(O25<=2,M25,IF(O26<=2,M26,IF(O27<=2,M27,IF(O28<=2,M28,M29)))))","v":2},null,null,null,{"$f":"ABS(ROUND(5*S19/(S19-G46+0.001),0))","v":16},{"$f":"ABS(ROUND(5*(S19/(S19-G46+0.0001)-1),0))","v":11},{"$f":"S19-(S19/Q30)*(Q30-R30)-G46","v":0.48958816676531569},{"$f":"ROUNDDOWN(ABS(S30),0)","v":0},null,null,{"$f":"IF(X33+2*F25-G46=0,1,IF(Z25<=2,W25,IF(Z26<=2,W26,IF(Z27<=2,W27,IF(Z28<=2,W28,W29)))))","v":6},{"$f":"IF(X33+2*F25-G46=0,1,IF(Z25<=2,X25,IF(Z26<=2,X26,IF(Z27<=2,X27,IF(Z28<=2,X28,X29)))))","v":4},null,null,null,null,null,null,null,null,null,2.5714285714285716,2.8888888888888888,{"$f":"(10/3)*((AM30/AL30)*(1/I6)-1)","v":0.10582010582010619},{"$f":"(100/68)*((AO30/AN30)*(1/I7)-1)","v":0.42016806722689093},13.5,39,14,36,"پیچ با فاصله",24,null,null,null,null,null,null,null,null,null,null,null,null,null,null,null,null,null,null,null,null,null,null,null,null,null,null,null,null,null,null,null,null,null,null,null,null,null,null,null,null,null,null,null,null,null,null,null,{"$f":"CI42","v":14.1},{"$f":"CJ42","v":156.69999999999999},"j8",null,{"$f":"0.7*(CQ26-CQ24)+CQ24","v":62.641499999999994},{"$f":"CR27+0.1*(CR26-CR27)","v":99.378500000000003},"d9",null,null,null,null,null,null,null,null,null,null,{"$f":"DB37+'طراحی همه الگوها'!U189","v":78.2},{"$f":"DE15-'طراحی همه الگوها'!U198","v":155.79999999999998},14,null,{"$f":"DH14","v":36},{"$f":"DI14","v":29.7},17,null,"s13",{"$f":"DM19+'طراحی همه الگوها'!U189-0.5*'طراحی همه الگوها'!U190","v":82.8},{"$f":"DM45+DM44","v":7},null,null,null,null,null,"2'",{"$f":"DM19","v":12},{"$f":"EC35+DM44","v":7},null,{"$f":"DU29","v":72.463585884235471},{"$f":"DV29","v":99.954280291883663},"s'19",null,null,null,null,{"$f":"EI15","v":171.6},{"$f":"EJ15","v":124.5},13,null,{"$f":"DB37","v":0},{"$f":"EF13","v":165.7},1,null,null,null,3,{"$f":"EP29-'طراحی همه الگوها'!U234","v":2.6999999999999993},{"$f":"EQ29-'طراحی همه الگوها'!U232","v":-5},null,null,{"$f":"ET28+'طراحی همه الگوها'!U242","v":50.5},{"$f":"EU28-'طراحی همه الگوها'!U245","v":55.025000000000006},19,null,{"$f":"EP36","v":80.306515062620491},{"$f":"EQ36","v":104.39348493737951},10,null,null,null,null,null,{"$f":"FF13+'طراحی همه الگوها'!U260+'طراحی همه الگوها'!U262","v":94.1},{"$f":"FG25+FC44","v":110.9},13,null,{"$f":"FJ24","v":44.9},{"$f":"FG17","v":99.9},21,null,2,{"$f":"FO14","v":12},{"$f":"FC42+DM44","v":7},null,{"$f":"FO24","v":32.627499999999998},107.52706077625875,"41شبیه ساز",null,null,null,null,null,null,30,{"$f":"GB12+GE12*SIN(RADIANS(GA30)+GA14)","v":{"$error":"#DIV/0!"}},{"$f":"GC12+GE12*COS(RADIANS(GA30)+GA14)","v":{"$error":"#DIV/0!"}},{"$f":"IF(GB13>GB30,ATAN((GC13-GC30)/(GB13-GB30)),ATAN((GC13-GC30)/(GB30-GB13)))","v":{"$error":"#DIV/0!"}},{"$f":"IF(GB13>GB30,(GB13-GB30)/COS(GD30),(GB30-GB13)/COS(GD30))","v":{"$error":"#DIV/0!"}},null,1,2,"نقطه 12","نقطه قبل از چرخش",{"$f":"IF(GH30>GH18,IF(GG30>GG18,GG18+SQRT(POWER(GG30-GG18,2)+POWER(GH30-GH18,2))*COS(ATAN((GH30-GH18)/(GG30-GG18+0.000123))+GH16),GG18-SQRT(POWER(GG30-GG18,2)+POWER(GH30-GH18,2))*COS(ATAN((GH30-GH18)/(GG18-GG30+0.000123))-GH16)),IF(GG30>GG18,GG18+SQRT(POWER(GG30-GG18,2)+POWER(GH30-GH18,2))*COS(ATAN((GH18-GH30)/(GG30-GG18+0.000123))-GH16),GG18-SQRT(POWER(GG30-GG18,2)+POWER(GH30-GH18,2))*COS(ATAN((GH18-GH30)/(GG18-GG30+0.000123))+GH16)))","v":0.61824523267144293},{"$f":"IF(GH30>GH18,IF(GG30>GG18,GH18+SQRT(POWER(GG30-GG18,2)+POWER(GH30-GH18,2))*SIN(ATAN((GH30-GH18)/(GG30-GG18+0.000123))+GH16),GH18+SQRT(POWER(GG30-GG18,2)+POWER(GH30-GH18,2))*SIN(ATAN((GH30-GH18)/(GG18-GG30+0.000123))-GH16)),IF(GG30>GG18,GH18-SQRT(POWER(GG30-GG18,2)+POWER(GH30-GH18,2))*SIN(ATAN((GH18-GH30)/(GG30-GG18+0.000123))-GH16),GH18-SQRT(POWER(GG30-GG18,2)+POWER(GH30-GH18,2))*SIN(ATAN((GH18-GH30)/(GG18-GG30+0.000123))+GH16)))","v":0.69874634779839551},"نقطه چرخیده",null,null,null,null,null,null,null,{"$f":"GU29+GT11","v":-62},-1.0821041362364843,{"$f":"HB13+HB10*COS(GV30)","v":{"$error":"#REF!"}},{"$f":"HC13-HB10*SIN(GV30)","v":{"$error":"#REF!"}},{"$f":"SQRT(POWER((HB12-GW30),2)+POWER((HC12-GX30),2))","v":{"$error":"#REF!"}},{"$f":"ABS(HB9-GY30)","v":{"$error":"#REF!"}},null,"نقطه اول از خط دوم","f7",{"$f":"#REF!","v":{"$error":"#REF!"}},{"$f":"#REF!","v":{"$error":"#REF!"}},null,null,null,null,null,null,null,null,null,{"$f":"-HK30+HP9","v":0},0,null,null,null,null,null,null,null,null,null,null,null,null,null,null,null,null,null,null,null,null,null,null,null,null,null,null,null,null,null,null,null,null,null,null,null,null,null,null,null,null,null,null,null,null,null,null,null,null,null,null,null,null,null,null,null,null,null,null,null,null,null,null,null,null,null,null,null,null,null,null,null,null,null,null,null,null,null,null,null,null,null,null,null,null,null,null,null,null,null,null,null,null,null,null,null,null,null,null,null,null,null,null,null,null,null,null,null,null,null,null,null,null,null,null,null,null,null,null,null,null,null,null,null,null,null,null,null,null,null,null,null,null,null,null,null,null,null,null,null,null,null,null,null,null,null,null,null,null,null,null,null,null,null,null,null,null,null,null,null,null,"Xw1",{"$f":"'متغیرها '!C853-20","v":-25},"جابجایی افقی کل نقشه",null,"w6",{"$f":"NU53","v":-20.217788461538461},{"$f":"NV53","v":5},null,null,null,null,{"$f":"OF12","v":"e8"},{"$f":"TEXT(0,OG12)&\" رج مثل رج قبل میبافیم\"","v":"4 رج مثل رج قبل میبافیم"},null,null,"m3",{"$f":"OF62","v":-19.278846153846153},{"$f":"OG62","v":5},null,null,null,null,{"$f":"OQ12","v":"e8"},{"$f":"TEXT(0,OR12)&\" رج مثل رج قبل میبافیم\"","v":"4 رج مثل رج قبل میبافیم"},null,null,"m3",{"$f":"OQ62","v":-19.660256410256409},{"$f":"OR62","v":5},null,null,null,null,"b2",{"$f":"TEXT(0,PC15)&\"دانه\"","v":"3دانه"},null,null,"n3",{"$f":"PB62","v":-19.088141025641026},{"$f":"PC62","v":5},null,null,null,null,"b2",{"$f":"TEXT(0,PN15)&\"دانه\"","v":"3دانه"},null,null,"n3",{"$f":"PM62","v":-18.210897435897436},{"$f":"PN62","v":5},null,null,null,null,{"$f":"PX29+3.5","v":-41.5},{"$f":"PY29","v":5},"t2",null,"بزرگی فلش دانه",{"$f":"PY12","v":0.3},"f10",{"$f":"QC37","v":-42.55},{"$f":"QD37","v":7.4285714285714288},{"$f":"QB37","v":"f8"},null,{"$f":"FF156","v":36.366397482445379},{"$f":"FG156","v":53.227060776258753},"شیفت7"]
[null,null,null,null,"تعداد دانه های سرتاسر آستین در قسمت زیر بغل   b20",{"$f":"F16","v":95},null,"بافت انتخابی پشت",{"$f":"'متغیرها '!C837","v":1},null,null,null,null,"یقه شکاری",null,null,{"$f":"IF(S19=G46,1,IF(T26<=2,Q26,IF(T27<=2,Q27,IF(T28<=2,Q28,IF(T29<=2,Q29,Q30)))))","v":6},{"$f":"IF(S19=G46,1,IF(T26<=2,R26,IF(T27<=2,R27,IF(T28<=2,R28,IF(T29<=2,R29,R30)))))","v":4},null,null,null,null,"یقه ب ب غیر مسطح تا خط مرکزی جلو",null,null,"یقه ب ب مسطح تا خط مرکزی جلو",null,null,null,null,null,null,null,{"$f":"AO31/AN31","v":2.8571428571428572},{"$f":"AM31/AL31","v":2.8888888888888888},{"$f":"(10/3)*((AM31/AL31)*(1/I6)-1)","v":0.10582010582010619},{"$f":"(100/68)*((AO31/AN31)*(1/I7)-1)","v":0.63025210084033623},13.5,39,3.5,10,"پیچ متراکم",25,null,null,null,null,null,null,null,null,null,null,null,null,null,null,null,null,null,null,null,null,null,null,null,null,null,null,null,null,null,null,null,null,null,null,null,null,null,null,null,null,null,null,null,null,null,null,null,null,null,null,null,{"$f":"CQ24","v":12},{"$f":"CR15-1-0.013*(CR25-CR27)","v":104.89350499999999},"j'2",null,null,null,null,null,null,null,null,null,null,null,null,null,null,null,null,null,null,"s14",{"$f":"DM13+DM42*COS(DM40)","v":18.135480000000001},{"$f":"DN13-DM42*SIN(DM40)","v":157.77265000000003},null,{"$f":"DP25","v":18.135480000000001},{"$f":"DQ25","v":157.77265000000003},"s14",null,null,null,null,null,null,null,null,null,null,null,null,{"$f":"DB37+'طراحی همه الگوها'!U211+'طراحی همه الگوها'!U219","v":177.7},{"$f":"EF20","v":124.5},12,null,{"$f":"DB37+'طراحی همه الگوها'!U216","v":110},{"$f":"EF33","v":165.7},3,null,null,null,5,{"$f":"EP29+'طراحی همه الگوها'!U235","v":20.7},{"$f":"EQ29-'طراحی همه الگوها'!U233","v":7},null,null,null,null,null,null,{"$f":"EP37","v":69.770624022940936},{"$f":"EQ37","v":93.857593897699957},11,null,null,null,null,null,{"$f":"FF13","v":0},{"$f":"FG30","v":110.9},12,null,{"$f":"FJ24","v":44.9},{"$f":"FK24","v":81},22,null,"s''12",{"$f":"FO30","v":12},{"$f":"FP24","v":107.52706077625875},null,43.238749999999996,77.368942543381124,"41'",null,null,null,null,null,null,32,{"$f":"GB12+GE12*SIN(RADIANS(GA31)+GA14)","v":{"$error":"#DIV/0!"}},{"$f":"GC12+GE12*COS(RADIANS(GA31)+GA14)","v":{"$error":"#DIV/0!"}},{"$f":"IF(GB13>GB31,ATAN((GC13-GC31)/(GB13-GB31)),ATAN((GC13-GC31)/(GB31-GB13)))","v":{"$error":"#DIV/0!"}},{"$f":"IF(GB13>GB31,(GB13-GB31)/COS(GD31),(GB31-GB13)/COS(GD31))","v":{"$error":"#DIV/0!"}},null,1,2,"نقطه 13","نقطه قبل از چرخش",{"$f":"IF(GH31>GH18,IF(GG31>GG18,GG18+SQRT(POWER(GG31-GG18,2)+POWER(GH31-GH18,2))*COS(ATAN((GH31-GH18)/(GG31-GG18+0.000123))+GH16),GG18-SQRT(POWER(GG31-GG18,2)+POWER(GH31-GH18,2))*COS(ATAN((GH31-GH18)/(GG18-GG31+0.000123))-GH16)),IF(GG31>GG18,GG18+SQRT(POWER(GG31-GG18,2)+POWER(GH31-GH18,2))*COS(ATAN((GH18-GH31)/(GG31-GG18+0.000123))-GH16),GG18-SQRT(POWER(GG31-GG18,2)+POWER(GH31-GH18,2))*COS(ATAN((GH18-GH31)/(GG18-GG31+0.000123))+GH16)))","v":0.61824523267144293},{"$f":"IF(GH31>GH18,IF(GG31>GG18,GH18+SQRT(POWER(GG31-GG18,2)+POWER(GH31-GH18,2))*SIN(ATAN((GH31-GH18)/(GG31-GG18+0.000123))+GH16),GH18+SQRT(POWER(GG31-GG18,2)+POWER(GH31-GH18,2))*SIN(ATAN((GH31-GH18)/(GG18-GG31+0.000123))-GH16)),IF(GG31>GG18,GH18-SQRT(POWER(GG31-GG18,2)+POWER(GH31-GH18,2))*SIN(ATAN((GH18-GH31)/(GG31-GG18+0.000123))-GH16),GH18-SQRT(POWER(GG31-GG18,2)+POWER(GH31-GH18,2))*SIN(ATAN((GH18-GH31)/(GG18-GG31+0.000123))+GH16)))","v":0.69874634779839551},"نقطه چرخیده",null,null,"رسم باکس زیپ دامن-باکس چپ","مولفه افقی","مولفه عمودی",null,null,{"$f":"GU30+GT11","v":-60},-1.0471975511965976,{"$f":"HB13+HB10*COS(GV31)","v":{"$error":"#REF!"}},{"$f":"HC13-HB10*SIN(GV31)","v":{"$error":"#REF!"}},{"$f":"SQRT(POWER((HB12-GW31),2)+POWER((HC12-GX31),2))","v":{"$error":"#REF!"}},{"$f":"ABS(HB9-GY31)","v":{"$error":"#REF!"}},null,"نقطه دوم از خط دوم","f8",{"$f":"#REF!","v":{"$error":"#REF!"}},{"$f":"#REF!","v":{"$error":"#REF!"}},null,null,null,null,null,null,null,null,null,{"$f":"-HK31+HP9","v":0},0,null,null,null,null,null,null,null,null,null,null,null,null,null,null,null,null,null,null,null,null,null,null,null,null,null,null,null,null,null,null,null,null,null,null,null,null,null,null,null,null,null,null,null,null,null,null,null,null,null,null,null,null,null,null,null,null,null,null,null,null,null,null,null,null,null,null,null,null,null,null,null,null,null,null,null,null,null,null,null,null,null,null,null,null,null,null,null,null,null,null,null,null,null,null,null,null,null,null,null,null,null,null,null,null,null,null,null,null,null,null,null,null,null,null,null,null,null,null,null,null,null,null,null,null,null,null,null,null,null,null,null,null,null,null,null,null,null,null,null,null,null,null,null,null,null,null,null,null,null,null,null,null,null,null,null,null,null,null,null,null,"Yw1",{"$f":"'متغیرها '!C854+5","v":5},"جابجایی عمودی کل نقشه",null,"f2",{"$f":"NZ30-1*NZ28","v":-20.577788461538461},{"$f":"OA30-NZ27*NZ28","v":4.82},{"$f":"NZ30","v":-20.217788461538461},{"$f":"OA30","v":5},{"$f":"NY30","v":"w6"},null,{"$f":"OF13","v":"e9"},{"$f":"TEXT(0,OG13)&\" رج مثل رج قبل میبافیم\"","v":"2 رج مثل رج قبل میبافیم"},null,null,"f2",{"$f":"OK30-1*OK28","v":-19.532963800904977},{"$f":"OL30-OK27*OK28","v":4.8729411764705883},{"$f":"OK30","v":-19.278846153846153},{"$f":"OL30","v":5},{"$f":"OJ30","v":"m3"},null,{"$f":"OQ13","v":"e9"},{"$f":"TEXT(0,OR13)&\" رج مثل رج قبل میبافیم\"","v":"2 رج مثل رج قبل میبافیم"},null,null,"f2",{"$f":"OV30-1*OV28","v":-19.914374057315232},{"$f":"OW30-OV27*OV28","v":4.8729411764705883},{"$f":"OV30","v":-19.660256410256409},{"$f":"OW30","v":5},{"$f":"OU30","v":"m3"},null,"متغیرهای  ورودی ",null,null,null,"f2",{"$f":"PG30-1*PG28","v":-19.342258672699849},{"$f":"PH30-PG27*PG28","v":4.8729411764705883},{"$f":"PG30","v":-19.088141025641026},{"$f":"PH30","v":5},{"$f":"PF30","v":"n3"},null,"متغیرهای  ورودی ",null,null,null,"f2",{"$f":"PR30-1*PR28","v":-18.46501508295626},{"$f":"PS30-PR27*PR28","v":4.8729411764705883},{"$f":"PR30","v":-18.210897435897436},{"$f":"PS30","v":5},{"$f":"PQ30","v":"n3"},null,{"$f":"PX30","v":-41.5},{"$f":"PY30+PY7","v":6.4285714285714288},"t3",null,"زاویه فلش دانه",{"$f":"PY13","v":0.75},"f11",{"$f":"QC34","v":-42.55},{"$f":"QD34","v":6.4285714285714288},{"$f":"QB34","v":"t4"},null,{"$f":"FF159","v":23.43933656898497},{"$f":"FG159","v":52.7},"شیفت50",null,{"$f":"QI78","v":13.589985},{"$f":"QJ78","v":135.22937213221402},"26''"]
[null,null,null,null,"فاصله زیر بغل تا پایین لباس (cm)     b9",{"$f":"ROUND(AX113,0)","v":69},null,null,null,null,null,null,null,"بافت انتخابی",null,null,"یقه شومیزیه نوک تیز تا خط جادکمه",null,null,"یقه شومیزیه معمولی تا خط جادکمه",null,null,"بافت انتخابی",null,null,"بافت انتخابی",null,null,null,null,null,null,null,4,2.5185185185185186,{"$f":"(10/3)*((AM32/AL32)*(1/I6)-1)","v":-0.33509700176366825},{"$f":"(100/68)*((AO32/AN32)*(1/I7)-1)","v":1.4705882352941178},13.5,34,9,36,"کشباف سه تایی",26,null,null,null,null,null,null,null,null,null,null,null,null,null,null,null,null,null,null,null,null,null,null,null,null,null,null,null,null,null,null,null,null,null,null,null,null,null,null,null,null,null,null,null,null,null,null,null,{"$f":"CI42","v":14.1},{"$f":"CJ42","v":156.69999999999999},"j8",null,null,null,null,null,null,null,null,null,null,null,null,null,null,{"$f":"DD29","v":78.2},{"$f":"DE15","v":173.7},3,null,{"$f":"DH22","v":67.699999999999989},{"$f":"DE14","v":0},18,null,"s16",{"$f":"DM15","v":12},{"$f":"DN15","v":123.7},null,{"$f":"DP31+0.32*(DP34-DP31)","v":34.139351452307764},{"$f":"DQ34+0.5*(DQ31-DQ34)","v":141.45550143218821},null,null,null,null,null,null,{"$f":"DX30","v":72.463585884235471},{"$f":"DY30","v":99.954280291883663},"s'19",null,"شیفت افقی مچ",{"$f":"EE20+10","v":120},null,{"$f":"EE31","v":177.7},{"$f":"EF13","v":165.7},11,null,null,null,null,null,null,null,6,{"$f":"EP30+EO25*COS(RADIANS('متغیرها '!C26))","v":18.078894835220439},{"$f":"EQ30-EO25*SIN(RADIANS('متغیرها '!C26))","v":-5.8059737261413353},null,null,{"$f":"ET28+'طراحی همه الگوها'!U242","v":50.5},{"$f":"EU28+'طراحی همه الگوها'!U244","v":100.42500000000001},18,null,null,null,null,null,null,null,null,null,{"$f":"FF13","v":0},{"$f":"FG31+'طراحی همه الگوها'!U258","v":124.9},18,null,null,null,null,null,"s'12",{"$f":"FO30","v":12},{"$f":"FP23","v":111.52706077625875},null,51.3033,37.158118232877626,"41''",null,null,null,null,null,null,34,{"$f":"GB12+GE12*SIN(RADIANS(GA32)+GA14)","v":{"$error":"#DIV/0!"}},{"$f":"GC12+GE12*COS(RADIANS(GA32)+GA14)","v":{"$error":"#DIV/0!"}},{"$f":"IF(GB13>GB32,ATAN((GC13-GC32)/(GB13-GB32)),ATAN((GC13-GC32)/(GB32-GB13)))","v":{"$error":"#DIV/0!"}},{"$f":"IF(GB13>GB32,(GB13-GB32)/COS(GD32),(GB32-GB13)/COS(GD32))","v":{"$error":"#DIV/0!"}},null,1,2,"نقطه 14","نقطه قبل از چرخش",{"$f":"IF(GH32>GH18,IF(GG32>GG18,GG18+SQRT(POWER(GG32-GG18,2)+POWER(GH32-GH18,2))*COS(ATAN((GH32-GH18)/(GG32-GG18+0.000123))+GH16),GG18-SQRT(POWER(GG32-GG18,2)+POWER(GH32-GH18,2))*COS(ATAN((GH32-GH18)/(GG18-GG32+0.000123))-GH16)),IF(GG32>GG18,GG18+SQRT(POWER(GG32-GG18,2)+POWER(GH32-GH18,2))*COS(ATAN((GH18-GH32)/(GG32-GG18+0.000123))-GH16),GG18-SQRT(POWER(GG32-GG18,2)+POWER(GH32-GH18,2))*COS(ATAN((GH18-GH32)/(GG18-GG32+0.000123))+GH16)))","v":0.61824523267144293},{"$f":"IF(GH32>GH18,IF(GG32>GG18,GH18+SQRT(POWER(GG32-GG18,2)+POWER(GH32-GH18,2))*SIN(ATAN((GH32-GH18)/(GG32-GG18+0.000123))+GH16),GH18+SQRT(POWER(GG32-GG18,2)+POWER(GH32-GH18,2))*SIN(ATAN((GH32-GH18)/(GG18-GG32+0.000123))-GH16)),IF(GG32>GG18,GH18-SQRT(POWER(GG32-GG18,2)+POWER(GH32-GH18,2))*SIN(ATAN((GH18-GH32)/(GG32-GG18+0.000123))-GH16),GH18-SQRT(POWER(GG32-GG18,2)+POWER(GH32-GH18,2))*SIN(ATAN((GH18-GH32)/(GG18-GG32+0.000123))+GH16)))","v":0.69874634779839551},"نقطه چرخیده",null,"نقطه ورودی بالا","s'u3",{"$f":"#REF!","v":{"$error":"#REF!"}},{"$f":"#REF!","v":{"$error":"#REF!"}},null,null,{"$f":"GU31+GT11","v":-58},-1.0122909661567112,{"$f":"HB13+HB10*COS(GV32)","v":{"$error":"#REF!"}},{"$f":"HC13-HB10*SIN(GV32)","v":{"$error":"#REF!"}},{"$f":"SQRT(POWER((HB12-GW32),2)+POWER((HC12-GX32),2))","v":{"$error":"#REF!"}},{"$f":"ABS(HB9-GY32)","v":{"$error":"#REF!"}},null,"نقطه تقاطع","f10",{"$f":"(HE30-HE28+HD28*((HE29-HE28)/(HD29-HD28+0.0001))-HD30*((HE31-HE30)/(HD31-HD30+0.0001)))/(((HE29-HE28)/(HD29-HD28+0.0001))-((HE31-HE30)/(HD31-HD30+0.0001)))","v":{"$error":"#REF!"}},{"$f":"HE28+(HD32-HD28)*((HE29-HE28)/(HD29-HD28+0.0001))","v":{"$error":"#REF!"}},null,null,null,null,null,null,null,null,null,{"$f":"-HK32+HP9","v":0},0,null,null,null,null,null,null,null,null,null,null,null,null,null,null,null,null,null,null,null,null,null,null,null,null,null,null,null,null,null,null,null,null,null,null,null,null,null,null,null,null,null,null,null,null,null,null,null,null,null,null,null,null,null,null,null,null,null,null,null,null,null,null,null,null,null,null,null,null,null,null,null,null,null,null,null,null,null,null,null,null,null,null,null,null,null,null,null,null,null,null,null,null,null,null,null,null,null,null,null,null,null,null,null,null,null,null,null,null,null,null,null,null,null,null,null,null,null,null,null,null,null,null,null,null,null,null,null,null,null,null,null,null,null,null,null,null,null,null,null,null,null,null,null,null,null,null,null,null,null,null,null,null,null,null,null,null,null,null,null,null,"w'12",{"$f":"'متغیرها '!C855","v":42},"نسبت نقشه بافت به سایز واقعی",null,"f3",{"$f":"NZ31","v":-20.577788461538461},{"$f":"OA30+NZ27*NZ28","v":5.18},{"$f":"NZ31","v":-20.577788461538461},{"$f":"OA31","v":4.82},{"$f":"NY31","v":"f2"},null,"a10,a11,b1",{"$f":"\"تعداد دانه ها\"&TEXT(0,OG18)&\"میباشد. هر\"&TEXT(0,OG14)&\"  دانه را تبدیل به  \"&TEXT(0,OG15)&\"  دانه میکنیم تا تعداد دانه ها  \"&TEXT(0,OG19)&\" شود\"","v":"تعداد دانه ها135میباشد. هر6  دانه را تبدیل به  4  دانه میکنیم تا تعداد دانه ها  92 شود"},null,null,"f3",{"$f":"OK31","v":-19.532963800904977},{"$f":"OL30+OK27*OK28","v":5.1270588235294117},{"$f":"OK31","v":-19.532963800904977},{"$f":"OL31","v":4.8729411764705883},{"$f":"OJ31","v":"f2"},null,"a10,a11,b1",{"$f":"\"تعداد دانه ها\"&TEXT(0,OR18)&\"میباشد. هر\"&TEXT(0,OR14)&\"  دانه را تبدیل به  \"&TEXT(0,OR15)&\"  دانه میکنیم تا تعداد دانه ها  \"&TEXT(0,OR19)&\" شود\"","v":"تعداد دانه ها135میباشد. هر6  دانه را تبدیل به  4  دانه میکنیم تا تعداد دانه ها  92 شود"},null,null,"f3",{"$f":"OV31","v":-19.914374057315232},{"$f":"OW30+OV27*OV28","v":5.1270588235294117},{"$f":"OV31","v":-19.914374057315232},{"$f":"OW31","v":4.8729411764705883},{"$f":"OU31","v":"f2"},null,"Xw1",{"$f":"NV30","v":-25},"جابجایی افقی کل نقشه",null,"f3",{"$f":"PG31","v":-19.342258672699849},{"$f":"PH30+PG27*PG28","v":5.1270588235294117},{"$f":"PG31","v":-19.342258672699849},{"$f":"PH31","v":4.8729411764705883},{"$f":"PF31","v":"f2"},null,"Xw1",{"$f":"NV30","v":-25},"جابجایی افقی کل نقشه",null,"f3",{"$f":"PR31","v":-18.46501508295626},{"$f":"PS30+PR27*PR28","v":5.1270588235294117},{"$f":"PR31","v":-18.46501508295626},{"$f":"PS31","v":4.8729411764705883},{"$f":"PQ31","v":"f2"},null,{"$f":"PX31-2/PY15","v":-42.55},{"$f":"PY31","v":6.4285714285714288},"t4",null,"ارتفاع هر رج",{"$f":"PY7","v":1.4285714285714286},"w11",null,null,null,null,null,null,"رگلان",null,{"$f":"QI69","v":10.410015},{"$f":"QJ69","v":135.22937213221402},"26'"]
[null,null,null,null,"فاصله زیر بغل تا بالای مچ آستین (cm)     b10",{"$f":"ROUNDUP(SQRT(POWER(DY513-DY520,2)+POWER(DZ513-DZ520,2)),0)","v":17},null," a001 تعداد رج در یک سانت آستین",{"$f":"F6+0.3*I35*F6","v":3.333333333333333},null,null,null,null,"a1",{"$f":"ROUND(2*O12*O17,0)","v":203},null,"بافت انتخابی",null,null,"بافت انتخابی",null,null,"c1",{"$f":"ROUND(X20*X11+1.5*(X36+1)+0.5*(X35+1)-0.5*(X34+1)-3,0)","v":155},null,"c1",{"$f":"ROUND(X20*X11+2*(X36+1)+1*(X35+1)+X34+1-2,0)","v":178},null,null,null,null,null,null,{"$error":"#DIV/0!"},0,{"$f":"(10/3)*((AM33/AL33)*(1/I6)-1)","v":-3.3333333333333335},{"$f":"(100/68)*((AO33/AN33)*(1/I7)-1)","v":{"$error":"#DIV/0!"}},13.5,null,null,36,null,27,null,null,null,null,null,null,null,null,null,null,null,null,null,null,null,null,null,null,null,null,null,null,null,null,null,null,null,null,null,null,null,null,null,null,null,null,null,null,null,null,null,null,null,null,null,null,null,{"$f":"CI41","v":12},{"$f":"CJ41","v":156.69999999999999},"j7",null,null,null,null,null,null,null,null,null,null,null,null,null,null,{"$f":"DD16","v":14.8},{"$f":"DE15","v":173.7},4,null,{"$f":"DH22","v":67.699999999999989},{"$f":"DI22","v":20},19,null,"s15",{"$f":"DM32+0.7*(DM31-DM32)","v":16.294836},{"$f":"DN32+0.5*(DN31-DN32)","v":140.73632500000002},null,{"$f":"DP31+0.67*(DP34-DP31)","v":51.643585853269379},{"$f":"DQ34+0.2*(DQ31-DQ34)","v":131.66521229150109},null,null,null,null,null,null,{"$f":"DU19","v":63.059065694454389},{"$f":"DV19","v":90.549760102102582},"s'11",null,"شیفت عمودی مچ",{"$f":"EF20-10","v":114.5},null,{"$f":"DB37+'طراحی همه الگوها'!U216","v":110},{"$f":"EF13","v":165.7},3,null,{"$f":"EE21","v":110},{"$f":"EF21","v":67.7},9,null,null,null,7,{"$f":"EP31+EO26*COS(RADIANS('متغیرها '!C26))","v":32.483828510103969},{"$f":"EQ31+EO26*SIN(RADIANS('متغیرها '!C26))","v":7.617564283666737},null,null,{"$f":"ET28+'طراحی همه الگوها'!U242","v":50.5},{"$f":"EU28","v":77.725000000000009},16,null,{"$f":"EP37","v":69.770624022940936},{"$f":"EQ37","v":93.857593897699957},11,null,null,null,null,null,{"$f":"FF13","v":0},{"$f":"FG32+'طراحی همه الگوها'!U259","v":216.7},14,null,{"$f":"FJ18","v":22.4},{"$f":"FG31","v":110.9},23,null,"s'3",{"$f":"FO22+0.5*(FO12-FO22)","v":15.996600986774837},{"$f":"FP22+0.6*(FP12-FP22)","v":117.2265789439094},null,53.85,7,"s13",null,null,null,null,null,null,36,{"$f":"GB12+GE12*SIN(RADIANS(GA33)+GA14)","v":{"$error":"#DIV/0!"}},{"$f":"GC12+GE12*COS(RADIANS(GA33)+GA14)","v":{"$error":"#DIV/0!"}},{"$f":"IF(GB13>GB33,ATAN((GC13-GC33)/(GB13-GB33)),ATAN((GC13-GC33)/(GB33-GB13)))","v":{"$error":"#DIV/0!"}},{"$f":"IF(GB13>GB33,(GB13-GB33)/COS(GD33),(GB33-GB13)/COS(GD33))","v":{"$error":"#DIV/0!"}},null,1,2,"نقطه 15","نقطه قبل از چرخش",{"$f":"IF(GH33>GH18,IF(GG33>GG18,GG18+SQRT(POWER(GG33-GG18,2)+POWER(GH33-GH18,2))*COS(ATAN((GH33-GH18)/(GG33-GG18+0.000123))+GH16),GG18-SQRT(POWER(GG33-GG18,2)+POWER(GH33-GH18,2))*COS(ATAN((GH33-GH18)/(GG18-GG33+0.000123))-GH16)),IF(GG33>GG18,GG18+SQRT(POWER(GG33-GG18,2)+POWER(GH33-GH18,2))*COS(ATAN((GH18-GH33)/(GG33-GG18+0.000123))-GH16),GG18-SQRT(POWER(GG33-GG18,2)+POWER(GH33-GH18,2))*COS(ATAN((GH18-GH33)/(GG18-GG33+0.000123))+GH16)))","v":0.61824523267144293},{"$f":"IF(GH33>GH18,IF(GG33>GG18,GH18+SQRT(POWER(GG33-GG18,2)+POWER(GH33-GH18,2))*SIN(ATAN((GH33-GH18)/(GG33-GG18+0.000123))+GH16),GH18+SQRT(POWER(GG33-GG18,2)+POWER(GH33-GH18,2))*SIN(ATAN((GH33-GH18)/(GG18-GG33+0.000123))-GH16)),IF(GG33>GG18,GH18-SQRT(POWER(GG33-GG18,2)+POWER(GH33-GH18,2))*SIN(ATAN((GH18-GH33)/(GG33-GG18+0.000123))-GH16),GH18-SQRT(POWER(GG33-GG18,2)+POWER(GH33-GH18,2))*SIN(ATAN((GH18-GH33)/(GG18-GG33+0.000123))+GH16)))","v":0.69874634779839551},"نقطه چرخیده",null,"نقطه ورودی پایین","s'd3",{"$f":"#REF!","v":{"$error":"#REF!"}},{"$f":"#REF!","v":{"$error":"#REF!"}},null,null,{"$f":"GU32+GT11","v":-56},-0.97738438111682457,{"$f":"HB13+HB10*COS(GV33)","v":{"$error":"#REF!"}},{"$f":"HC13-HB10*SIN(GV33)","v":{"$error":"#REF!"}},{"$f":"SQRT(POWER((HB12-GW33),2)+POWER((HC12-GX33),2))","v":{"$error":"#REF!"}},{"$f":"ABS(HB9-GY33)","v":{"$error":"#REF!"}},null,null,null,null,null,null,null,null,null,null,null,null,null,null,{"$f":"-HK33+HP9","v":0},0,null,null,null,null,null,null,null,null,null,null,null,null,null,null,null,null,null,null,null,null,null,null,null,null,null,null,null,null,null,null,null,null,null,null,null,null,null,null,null,null,null,null,null,null,null,null,null,null,null,null,null,null,null,null,null,null,null,null,null,null,null,null,null,null,null,null,null,null,null,null,null,null,null,null,null,null,null,null,null,null,null,null,null,null,null,null,null,null,null,null,null,null,null,null,null,null,null,null,null,null,null,null,null,null,null,null,null,null,null,null,null,null,null,null,null,null,null,null,null,null,null,null,null,null,null,null,null,null,null,null,null,null,null,null,null,null,null,null,null,null,null,null,null,null,null,null,null,null,null,null,null,null,null,null,null,null,null,null,null,null,"w11",{"$f":"'متغیرها '!C856/NV39","v":0.60000000000000009},"ارتفاع هر رج",null,null,null,null,null,null,null,null,null,{"$f":"\"نقشه بافت یقه شومیزیه نوک تیز با میل \"&TEXT(0,OG58)&\"  بافت   \"&TEXT(0,OF59)","v":"نقشه بافت یقه شومیزیه نوک تیز با میل 2  بافت   همه از زیر"},null,null,null,null,null,null,null,null,null,null,{"$f":"\"نقشه بافت یقه شومیزیه معمولی با میل \"&TEXT(0,OR58)&\"  بافت   \"&TEXT(0,OQ59)","v":"نقشه بافت یقه شومیزیه معمولی با میل 2  بافت   همه از زیر"},null,null,null,null,null,null,null,null,null,"Yw1",{"$f":"NV31","v":5},"جابجایی عمودی کل نقشه",null,null,null,null,null,null,null,null,"Yw1",{"$f":"NV31","v":5},"جابجایی عمودی کل نقشه",null,null,null,null,null,null,null,null,{"$f":"PX29","v":-45},{"$f":"PY31","v":6.4285714285714288},"t5",null,"نقطه ورودی سر فلش","مولفه افقی","مولفه عمودی",{"$f":"QC37","v":-42.55},{"$f":"QD37","v":7.4285714285714288},{"$f":"QB37","v":"f8"},null,{"$f":"FB146","v":23.367102039204799},{"$f":"FC146","v":133.75574637521188},"5'"]
[null,null,null,null,"گشادی لبه پایین آستین (cm)     b'11",{"$f":"F13","v":32},null,"تعداد دانه در یک سانت آستینb001 ",{"$f":"F7+0.68*I36*F7","v":1.8749999999999996},null,null,null,null,"a2",{"$f":"IF((ROUND(0.6*O9,0)-6)<0,\" خطا  \",(ROUND(0.6*O9,0)-6))","v":7},null,"e1",{"$f":"ROUND(S19-4*S18*F12+3*R35+15,0)","v":150},null,"e1",{"$f":"ROUND(S19-4*S18*F12+1.5*U35+13.5,0)","v":140},null,"c2",{"$f":"ROUND(X9*X19*X7,0)-1","v":4},null,"c2",{"$f":"X34","v":4},null,null,null,null,null,null,{"$error":"#DIV/0!"},0,{"$f":"(10/3)*((AM34/AL34)*(1/I6)-1)","v":-3.3333333333333335},{"$f":"(100/68)*((AO34/AN34)*(1/I7)-1)","v":{"$error":"#DIV/0!"}},13.5,null,null,36,null,28,null,null,null,null,null,null,null,null,null,null,null,null,null,null,null,null,null,null,null,null,null,null,null,null,null,null,null,null,null,null,null,null,null,null,null,null,null,null,null,null,null,null,null,"نقاط خروجی ",null,null,null,null,null,null,null,null,null,null,null,null,null,null,null,null,null,null,null,null,null,null,"نقاب",null,{"$f":"DH16","v":67.699999999999989},{"$f":"DI16","v":33.700000000000003},20,null,"s17",{"$f":"DB400","v":12},{"$f":"IF('متغیرها '!C14=-1,DQ12,IF('متغیرها '!C14=0,DC400-0.1,DC400-0.25*(DC400-DC404)))","v":165.85500000000002},null,{"$f":"DM37","v":68.147578288461759},{"$f":"DN37","v":125.13835286437637},"s20",null,null,null,null,null,null,null,null,null,"زاویه گشادی نسبی جلو به پشت",33,null,{"$f":"DB37+'طراحی همه الگوها'!U216","v":110},{"$f":"EF20","v":124.5},10,null,{"$f":"EI22","v":110},{"$f":"EJ22","v":6.1},14,null,null,null,8,{"$f":"EP35+ER41*SIN(RADIANS('متغیرها '!C30))","v":79.515099702172236},{"$f":"EQ35-ER41*COS(RADIANS('متغیرها '!C30))","v":15.088000324366462},null,null,{"$f":"ET28+'طراحی همه الگوها'!U242+'طراحی همه الگوها'!U243","v":58},{"$f":"EU28","v":77.725000000000009},17,null,{"$f":"EP35","v":43.918726139818588},{"$f":"EQ35","v":112.88823290140462},9,null,null,null,null,null,{"$f":"FF13+'طراحی همه الگوها'!U263","v":119.1},{"$f":"FG33","v":216.7},15,null,{"$f":"FJ18","v":22.4},{"$f":"FK18","v":125.80000000000001},24,null,null,null,null,null,null,null,null,null,null,null,null,null,null,38,{"$f":"GB12+GE12*SIN(RADIANS(GA34)+GA14)","v":{"$error":"#DIV/0!"}},{"$f":"GC12+GE12*COS(RADIANS(GA34)+GA14)","v":{"$error":"#DIV/0!"}},{"$f":"IF(GB13>GB34,ATAN((GC13-GC34)/(GB13-GB34)),ATAN((GC13-GC34)/(GB34-GB13)))","v":{"$error":"#DIV/0!"}},{"$f":"IF(GB13>GB34,(GB13-GB34)/COS(GD34),(GB34-GB13)/COS(GD34))","v":{"$error":"#DIV/0!"}},null,1,2,"نقطه 16","نقطه قبل از چرخش",{"$f":"IF(GH34>GH18,IF(GG34>GG18,GG18+SQRT(POWER(GG34-GG18,2)+POWER(GH34-GH18,2))*COS(ATAN((GH34-GH18)/(GG34-GG18+0.000123))+GH16),GG18-SQRT(POWER(GG34-GG18,2)+POWER(GH34-GH18,2))*COS(ATAN((GH34-GH18)/(GG18-GG34+0.000123))-GH16)),IF(GG34>GG18,GG18+SQRT(POWER(GG34-GG18,2)+POWER(GH34-GH18,2))*COS(ATAN((GH18-GH34)/(GG34-GG18+0.000123))-GH16),GG18-SQRT(POWER(GG34-GG18,2)+POWER(GH34-GH18,2))*COS(ATAN((GH18-GH34)/(GG18-GG34+0.000123))+GH16)))","v":0.61824523267144293},{"$f":"IF(GH34>GH18,IF(GG34>GG18,GH18+SQRT(POWER(GG34-GG18,2)+POWER(GH34-GH18,2))*SIN(ATAN((GH34-GH18)/(GG34-GG18+0.000123))+GH16),GH18+SQRT(POWER(GG34-GG18,2)+POWER(GH34-GH18,2))*SIN(ATAN((GH34-GH18)/(GG18-GG34+0.000123))-GH16)),IF(GG34>GG18,GH18-SQRT(POWER(GG34-GG18,2)+POWER(GH34-GH18,2))*SIN(ATAN((GH18-GH34)/(GG34-GG18+0.000123))-GH16),GH18-SQRT(POWER(GG34-GG18,2)+POWER(GH34-GH18,2))*SIN(ATAN((GH18-GH34)/(GG18-GG34+0.000123))+GH16)))","v":0.69874634779839551},"نقطه چرخیده",null,"متغیر ورودی پهنا","a20",{"$f":"#REF!","v":{"$error":"#REF!"}},"(سانتیمتر)",null,null,{"$f":"GU33+GT11","v":-54},-0.94247779607693793,{"$f":"HB13+HB10*COS(GV34)","v":{"$error":"#REF!"}},{"$f":"HC13-HB10*SIN(GV34)","v":{"$error":"#REF!"}},{"$f":"SQRT(POWER((HB12-GW34),2)+POWER((HC12-GX34),2))","v":{"$error":"#REF!"}},{"$f":"ABS(HB9-GY34)","v":{"$error":"#REF!"}},null,null,null,null,"قرینه نقطه نسبت به خط با داشتن دو نقطه از یک خط",null,null,null,null,null,null,null,null,null,{"$f":"-HK34+HP9","v":0},0,null,null,null,null,null,null,null,null,null,null,null,null,null,null,null,null,null,null,null,null,null,null,null,null,null,null,null,null,null,null,null,null,null,null,null,null,null,null,null,null,null,null,null,null,null,null,null,null,null,null,null,null,null,null,null,null,null,null,null,null,null,null,null,null,null,null,null,null,null,null,null,null,null,null,null,null,null,null,null,null,null,null,null,null,null,null,null,null,null,null,null,null,null,null,null,null,null,null,null,null,null,null,null,null,null,null,null,null,null,null,null,null,null,null,null,null,null,null,null,null,null,null,null,null,null,null,null,null,null,null,null,null,null,null,null,null,null,null,null,null,null,null,null,null,null,null,null,null,null,null,null,null,null,null,null,null,null,null,null,null,"g9",{"$f":"'متغیرها '!C857","v":0.5},"پهنای نیم دایره",null,"نسبت سایز افقی",{"$f":"NV32","v":42},"انحنا چپگرد ",null,null,{"$f":"OA34","v":"انحنا چپگرد "},null,"متغیرهای  ورودی ",null,null,null,"نسبت سایز افقی",{"$f":"OG37","v":42},"انحنا چپگرد ",null,null,{"$f":"OL34","v":"انحنا چپگرد "},null,"متغیرهای  ورودی ",null,null,null,"نسبت سایز افقی",{"$f":"OR37","v":42},"انحنا چپگرد ",null,null,{"$f":"OW34","v":"انحنا چپگرد "},null,"w'12",{"$f":"NV32","v":42},"نسبت نقشه بافت به سایز واقعی",null,"نسبت سایز افقی",{"$f":"PC34","v":42},"انحنا چپگرد ",null,null,{"$f":"PH34","v":"انحنا چپگرد "},null,"w'12",{"$f":"NV32","v":42},"نسبت نقشه بافت به سایز واقعی",null,"نسبت سایز افقی",{"$f":"PN34","v":42},"انحنا چپگرد ",null,null,{"$f":"PS34","v":"انحنا چپگرد "},null,{"$f":"PX29-PX30+PX29","v":-48.5},{"$f":"PY31","v":6.4285714285714288},"t6",null,{"$f":"PZ32","v":"t4"},{"$f":"PX32","v":-42.55},{"$f":"PY32","v":6.4285714285714288},{"$f":"QC35","v":-42.871428571428567},{"$f":"QD35","v":7},{"$f":"QB35","v":"f6"},null,{"$f":"CI121","v":31.077019048961631},{"$f":"CJ121","v":123.24797008426299},"18f",null,{"$f":"QI62","v":18.408685079115266},{"$f":"QJ62","v":140.49996654552029},30]
[null,null,null,null,"تعداد دانه ها  در بالای مچ آستین      b'12",{"$f":"F14","v":60},null,"جمع شوندگی عمودی بافت آستین   f002",{"$f":"OFFSET(AJ6,I37,0)","v":-0.15873015873015892},null,null,null,null,"a3",{"$f":"ROUND(0.33*O37,0)","v":23},null,"e2",{"$f":"ROUNDDOWN(0.5*(S17*S10-9),0)","v":6},null,"e2",{"$f":"R35","v":6},null,"c3",{"$f":"ROUND(X10*X19*X7,0)-1","v":8},null,"c3",{"$f":"X35","v":8},null,null,null,null,null,null,{"$error":"#DIV/0!"},0,{"$f":"(10/3)*((AM35/AL35)*(1/I6)-1)","v":-3.3333333333333335},{"$f":"(100/68)*((AO35/AN35)*(1/I7)-1)","v":{"$error":"#DIV/0!"}},13.5,null,null,36,null,29,null,null,null,null,null,null,null,null,null,null,null,null,null,null,null,null,null,null,null,null,null,null,null,null,null,null,null,null,null,null,null,null,null,null,null,null,null,null,null,null,null,null,null,"مولفه افقی","مولفه عمودی","اسم نقطه",null,{"$f":"CI42","v":14.1},{"$f":"CJ42","v":156.69999999999999},"j8",null,null,null,null,null,null,null,null,null,null,null,null,null,null,{"$f":"DD15","v":0},{"$f":"DE15","v":173.7},1,null,null,null,null,null,"s18",{"$f":"DM34+0.5*(DM31-DM34)","v":15.067740000000001},{"$f":"DN34-0.3*(DN34-DN31)","v":163.43029500000003},null,null,null,null,null,null,null,null,null,{"$f":"DX33","v":63.059065694454389},{"$f":"DY33","v":90.549760102102582},"s'11",null,"j4",{"$f":"IF('متغیرها '!C17<1,'متغیرها '!C17*'متغیرها '!U59,IF('متغیرها '!C17<2,'متغیرها '!U59+('متغیرها '!C17-1)*('متغیرها '!U60-'متغیرها '!U59),IF('متغیرها '!C17<3,'متغیرها '!U60+('متغیرها '!C17-2)*(I105-'متغیرها '!U60),I105+('متغیرها '!C17-3)*(H127-H126))))","v":0},"چادر 3",null,null,null,null,null,null,null,null,null,{"$f":"EN37-ER45*SIN(ER46-RADIANS(45)+ER42)","v":30.973785320542106},9,{"$f":"EP37-ER40*SIN(ER46-RADIANS(45)+ER42)","v":43.918726139818588},{"$f":"EQ37+ER40*COS(ER46-RADIANS(45)+ER42)","v":112.88823290140462},{"$f":"ER37+ER45*COS(ER46-RADIANS(45)+ER42)","v":119.23282179590346},null,null,null,null,null,null,null,null,null,null,null,null,null,null,null,null,null,null,null,null,null,null,null,null,null,{"$f":"FO18","v":63.978304509996903},{"$f":"FP18","v":108.43956166612223},"s''10",null,null,null,null,null,null,40,{"$f":"GB12+GE12*SIN(RADIANS(GA35)+GA14)","v":{"$error":"#DIV/0!"}},{"$f":"GC12+GE12*COS(RADIANS(GA35)+GA14)","v":{"$error":"#DIV/0!"}},{"$f":"IF(GB13>GB35,ATAN((GC13-GC35)/(GB13-GB35)),ATAN((GC13-GC35)/(GB35-GB13)))","v":{"$error":"#DIV/0!"}},{"$f":"IF(GB13>GB35,(GB13-GB35)/COS(GD35),(GB35-GB13)/COS(GD35))","v":{"$error":"#DIV/0!"}},null,null,null,null,null,null,null,null,null,"متغیر ورودی طول","a21",1,null,null,null,{"$f":"GU34+GT11","v":-52},-0.90757121103705141,{"$f":"HB13+HB10*COS(GV35)","v":{"$error":"#REF!"}},{"$f":"HC13-HB10*SIN(GV35)","v":{"$error":"#REF!"}},{"$f":"SQRT(POWER((HB12-GW35),2)+POWER((HC12-GX35),2))","v":{"$error":"#REF!"}},{"$f":"ABS(HB9-GY35)","v":{"$error":"#REF!"}},null,"مولفه افقی","مولفه عمودی","اسم نقطه ورودی",null,null,null,null,null,null,null,null,null,null,{"$f":"-HK35+HP9","v":0},0,null,null,null,null,null,null,null,null,null,null,null,null,null,null,null,null,null,null,null,null,null,null,null,null,null,null,null,null,null,null,null,null,null,null,null,null,null,null,null,null,null,null,null,null,null,null,null,null,null,null,null,null,null,null,null,null,null,null,null,null,null,null,null,null,null,null,null,null,null,null,null,null,null,null,null,null,null,null,null,null,null,null,null,null,null,null,null,null,null,null,null,null,null,null,null,null,null,null,null,null,null,null,null,null,null,null,null,null,null,null,null,null,null,null,null,null,null,null,null,null,null,null,null,null,null,null,null,null,null,null,null,null,null,null,null,null,null,null,null,null,null,null,null,null,null,null,null,null,null,null,null,null,null,null,null,null,null,null,null,null,"h3",{"$f":"'متغیرها '!C858","v":4.5},"طول باکس نوشته",null,"ارتفاع نیم دایره",{"$f":"NV45","v":0.60000000000000009},"بزرگی فلش",{"$f":"NZ38","v":22.822115384615394},{"$f":"OA38","v":5},{"$f":"NY38","v":"w2"},null,"Xm1",{"$f":"NV30","v":-25},"جابجایی افقی کل نقشه",null,"ارتفاع نیم دایره",{"$f":"OG49","v":0.42352941176470588},"بزرگی فلش",{"$f":"OK38","v":32.21153846153846},{"$f":"OL38","v":5},{"$f":"OJ38","v":"m2"},null,"Xm1",{"$f":"NV30","v":-25},"جابجایی افقی کل نقشه",null,"ارتفاع نیم دایره",{"$f":"OR49","v":0.42352941176470588},"بزرگی فلش",{"$f":"OV38","v":28.397435897435898},{"$f":"OW38","v":5},{"$f":"OU38","v":"m2"},null,"wn11",{"$f":"'متغیرها '!C856/PB16","v":0.42352941176470588},"ارتفاع هر رج",null,"ارتفاع نیم دایره",{"$f":"PC46","v":0.42352941176470588},"بزرگی فلش",{"$f":"PG38","v":34.118589743589745},{"$f":"PH38","v":5},{"$f":"PF38","v":"n2"},null,"wn11",{"$f":"'متغیرها '!C856/PM16","v":0.42352941176470588},"ارتفاع هر رج",null,"ارتفاع نیم دایره",{"$f":"PN46","v":0.42352941176470588},"بزرگی فلش",{"$f":"PR38","v":42.891025641025635},{"$f":"PS38","v":5},{"$f":"PQ38","v":"n2"},null,{"$f":"PX30+5","v":-36.5},{"$f":"PY30+0.5*PY7","v":5.7142857142857144},"t7",null,"f6",{"$f":"QC34-QC31*QC30*QC32","v":-42.871428571428567},{"$f":"QD37-QC30*QC32","v":7},null,null,null,null,null,null,"کیمونو",null,{"$f":"QI72","v":23.367102039204799},{"$f":"QJ72","v":133.75574637521188},"5'"]
[null,null,null,null,"پهنای مچ آستین (cm)     b14",{"$f":"ROUNDUP(CA513-CA511,0)","v":41},null,"جمع شوندگی افقی بافت آستین   f003",{"$f":"OFFSET(AJ6,I37,1)","v":-0.41006787330316763},null,null,null,null,"a4",{"$f":"ROUND(0.66*O37,0)","v":47},null,"e3",{"$f":"ROUND(0.35*(R38),0)","v":15},null,"e3",{"$f":"ROUND(0.33*(U38),0)","v":16},null,"c4",{"$f":"X8-X34-X35-5","v":19},null,"c4",{"$f":"X8-X34-X35-4","v":20},null,null,null,null,null,null,{"$error":"#DIV/0!"},0,{"$f":"(10/3)*((AM36/AL36)*(1/I6)-1)","v":-3.3333333333333335},{"$f":"(100/68)*((AO36/AN36)*(1/I7)-1)","v":{"$error":"#DIV/0!"}},13.5,null,null,36,null,30,null,null,null,null,null,null,null,null,null,null,null,null,null,null,null,null,null,null,null,null,null,null,null,null,null,null,null,null,null,null,null,null,null,null,null,null,null,null,null,null,null,null,null,{"$f":"CI14","v":12},{"$f":"CJ23+'طراحی همه الگوها'!U177+CJ15","v":172.7},"j1",null,{"$f":"CI44","v":14.1},{"$f":"CJ44","v":119.6},"j10",null,null,null,null,null,null,null,null,null,null,null,"محاسبات",null,null,{"$f":"DD15","v":0},{"$f":"DE15-'طراحی همه الگوها'!U205","v":168},21,null,null,null,null,null,"s19",{"$f":"DM18+'متغیرها '!C13*'متغیرها '!U83*COS(DM17)","v":86.989590140434757},{"$f":"DN18-'متغیرها '!C13*'متغیرها '!U83*SIN(DM17)","v":123.50152227750756},null,{"$f":"DM27","v":69.524184061367833},{"$f":"DN27","v":129.29113284241538},"s10",null,null,null,null,null,{"$f":"DU20","v":55.705155170114303},{"$f":"DV20","v":95.923771639120332},"s'12",null,"(1 → 5)",{"$f":"DB38-'متغیرها '!C19*'متغیرها '!U83","v":87.561705386146102},null,{"$f":"EC32","v":120},{"$f":"EC33","v":114.5},17,null,{"$f":"EE20","v":110},{"$f":"EF20","v":124.5},10,null,null,{"$f":"EP29+DB38*COS(RADIANS(45))","v":80.279436681481485},10,{"$f":"EP29+'طراحی همه الگوها'!U236*COS(RADIANS(45))","v":80.306515062620491},{"$f":"EQ29-'طراحی همه الگوها'!U236*SIN(RADIANS(45))","v":104.39348493737951},{"$f":"EQ29-DB38*SIN(RADIANS(45))","v":104.42056331851852},null,{"$f":"EP36","v":80.306515062620491},{"$f":"EQ36","v":104.39348493737951},10,null,{"$f":"EP35","v":43.918726139818588},{"$f":"EQ35","v":112.88823290140462},9,null,null,null,null,null,{"$f":"FF31+'طراحی همه الگوها'!U260","v":56.1},{"$f":"FG31","v":110.9},16,null,{"$f":"FJ19","v":44.9},{"$f":"FG31","v":110.9},25,null,null,null,null,null,{"$f":"FO19","v":72.463585884235471},{"$f":"FP19","v":99.954280291883663},"k4 شبیه ساز",null,null,null,null,null,null,42,{"$f":"GB12+GE12*SIN(RADIANS(GA36)+GA14)","v":{"$error":"#DIV/0!"}},{"$f":"GC12+GE12*COS(RADIANS(GA36)+GA14)","v":{"$error":"#DIV/0!"}},{"$f":"IF(GB13>GB36,ATAN((GC13-GC36)/(GB13-GB36)),ATAN((GC13-GC36)/(GB36-GB13)))","v":{"$error":"#DIV/0!"}},{"$f":"IF(GB13>GB36,(GB13-GB36)/COS(GD36),(GB36-GB13)/COS(GD36))","v":{"$error":"#DIV/0!"}},null,null,null,null,null,null,null,null,null,null,null,"ماکزیمم متغیر ورودی  ضریب طول",1,null,null,{"$f":"GU35+GT11","v":-50},-0.87266462599716477,{"$f":"HB13+HB10*COS(GV36)","v":{"$error":"#REF!"}},{"$f":"HC13-HB10*SIN(GV36)","v":{"$error":"#REF!"}},{"$f":"SQRT(POWER((HB12-GW36),2)+POWER((HC12-GX36),2))","v":{"$error":"#REF!"}},{"$f":"ABS(HB9-GY36)","v":{"$error":"#REF!"}},null,0,0,1,"نقطه اول خط تقارن","نقاط قرینه شده نسبت به خط تقارن",null,null,null,null,null,null,null,null,{"$f":"-HK36+HP9","v":0},0,null,null,null,null,null,null,null,null,null,null,null,null,null,null,null,null,null,null,null,null,null,null,null,null,null,null,null,null,null,null,null,null,null,null,null,null,null,null,null,null,null,null,null,null,null,null,null,null,null,null,null,null,null,null,null,null,null,null,null,null,null,null,null,null,null,null,null,null,null,null,null,null,null,null,null,null,null,null,null,null,null,null,null,null,null,null,null,null,null,null,null,null,null,null,null,null,null,null,null,null,null,null,null,null,null,null,null,null,null,null,null,null,null,null,null,null,null,null,null,null,null,null,null,null,null,null,null,null,null,null,null,null,null,null,null,null,null,null,null,null,null,null,null,null,null,null,null,null,null,null,null,null,null,null,null,null,null,null,null,null,"h4",{"$f":"'متغیرها '!C859","v":0.5},"پهنای باکس نوشته",null,"پهنای نیم دایره",{"$f":"NV34","v":0.5},{"$f":"NV47","v":0.3600000000000001},{"$f":"NZ42","v":23.189615384615394},{"$f":"OA42","v":5.0839999999999996},{"$f":"NY42","v":"g5"},null,"Ym1",{"$f":"NV31","v":5},"جابجایی عمودی کل نقشه",null,"پهنای نیم دایره",{"$f":"OG39","v":0.5},{"$f":"OG51","v":0.25411764705882356},{"$f":"OK42","v":32.57903846153846},{"$f":"OL42","v":5.0592941176470587},{"$f":"OJ42","v":"g5"},null,"Ym1",{"$f":"NV31","v":5},"جابجایی عمودی کل نقشه",null,"پهنای نیم دایره",{"$f":"OR39","v":0.5},{"$f":"OR51","v":0.25411764705882356},{"$f":"OV42","v":28.764935897435898},{"$f":"OW42","v":5.0592941176470587},{"$f":"OU42","v":"g5"},null,"g9",{"$f":"NV34","v":0.5},"پهنای نیم دایره",null,"پهنای نیم دایره",{"$f":"PC36","v":0.5},{"$f":"PC48","v":0.25411764705882356},{"$f":"PG42","v":34.486089743589744},{"$f":"PH42","v":5.0592941176470587},{"$f":"PF42","v":"g5"},null,"g9",{"$f":"NV34","v":0.5},"پهنای نیم دایره",null,"پهنای نیم دایره",{"$f":"PN36","v":0.5},{"$f":"PN48","v":0.25411764705882356},{"$f":"PR42","v":43.258525641025635},{"$f":"PS42","v":5.0592941176470587},{"$f":"PQ42","v":"g5"},null,{"$f":"PX29","v":-45},{"$f":"PY34+2*PY7","v":9.2857142857142865},"t8",null,"f7",{"$f":"QC34+QC34-QC35","v":-42.228571428571428},{"$f":"QD35","v":7},{"$f":"QC37","v":-42.55},{"$f":"QD37","v":7.4285714285714288},{"$f":"QB37","v":"f8"},null,{"$f":"AH384","v":30.589339391603069},{"$f":"AI384","v":142.26389773510849},"22f",null,{"$f":"QI79","v":31.077019048961631},{"$f":"QJ79","v":121.99283712961564},"a1"]
[null,null,null,null,"گشادی مچ جدار در پایین آستین (cm)     b15",{"$f":"ROUND(BZ520-BZ519,0)","v":57},null,"بافت انتخابی آستین",{"$f":"'متغیرها '!C838","v":1},null,null,null,null,"a5",{"$f":"ROUND(0.35*O33,0)","v":71},null,"e4",{"$f":"ROUND(0.65*(R38),0)","v":27},null,"e4",{"$f":"ROUND(0.66*(U38),0)","v":32},null,"c10",{"$f":"W30","v":6},null,"c10",{"$f":"X37","v":6},null,null,null,null,null,null,{"$error":"#DIV/0!"},0,{"$f":"(10/3)*((AM37/AL37)*(1/I6)-1)","v":-3.3333333333333335},{"$f":"(100/68)*((AO37/AN37)*(1/I7)-1)","v":{"$error":"#DIV/0!"}},13.5,null,null,36,null,31,null,null,null,null,null,null,null,null,null,null,null,null,null,null,null,null,null,null,null,null,null,null,null,null,null,null,null,null,null,null,null,null,null,null,null,null,null,null,null,null,null,null,null,{"$f":"CI36","v":12},{"$f":"CJ36-'طراحی همه الگوها'!U177","v":106.99999999999999},"j2",null,null,null,null,null,null,null,null,null,null,null,null,null,null,null,"مولفه افقی نقطه 1",{"$f":"0","v":0},null,{"$f":"DD16","v":14.8},{"$f":"DE16-'طراحی همه الگوها'!U206","v":169.7},22,null,null,null,null,null,"s20",{"$f":"DM27-0.25*'متغیرها '!U84*SIN(DM17)","v":68.147578288461759},{"$f":"DN27-0.25*'متغیرها '!U84*COS(DM17)","v":125.13835286437637},null,{"$f":"DM36","v":86.989590140434757},{"$f":"DN36","v":123.50152227750756},"s19",null,null,null,null,null,null,null,null,null,"زاویه مچ",15,null,{"$f":"EC32+'طراحی همه الگوها'!U224","v":129},{"$f":"EC33","v":114.5},18,null,{"$f":"EI15","v":171.6},{"$f":"EJ15","v":124.5},13,null,null,{"$f":"EN36-'متغیرها '!U84*COS(RADIANS(45))","v":67.905068010716903},11,{"$f":"EP36-'طراحی همه الگوها'!U237*COS(RADIANS(45))","v":69.770624022940936},{"$f":"EQ36-'طراحی همه الگوها'!U237*SIN(RADIANS(45))","v":93.857593897699957},{"$f":"ER36-'متغیرها '!U84*SIN(RADIANS(45))","v":92.046194647753936},null,null,null,null,null,{"$f":"EP34","v":79.515099702172236},{"$f":"EQ34","v":15.088000324366462},8,null,null,null,null,null,{"$f":"FF36","v":56.1},{"$f":"FG31+'طراحی همه الگوها'!U261","v":133.80000000000001},17,null,{"$f":"FJ19","v":44.9},{"$f":"FK19","v":129.80000000000001},26,null,null,null,null,null,null,null,null,null,null,null,null,null,null,44,{"$f":"GB12+GE12*SIN(RADIANS(GA37)+GA14)","v":{"$error":"#DIV/0!"}},{"$f":"GC12+GE12*COS(RADIANS(GA37)+GA14)","v":{"$error":"#DIV/0!"}},{"$f":"IF(GB13>GB37,ATAN((GC13-GC37)/(GB13-GB37)),ATAN((GC13-GC37)/(GB37-GB13)))","v":{"$error":"#DIV/0!"}},{"$f":"IF(GB13>GB37,(GB13-GB37)/COS(GD37),(GB37-GB13)/COS(GD37))","v":{"$error":"#DIV/0!"}},null,null,null,null,null,null,null,null,null,"m1",{"$f":"ATAN((-GQ33+GQ32)/(GR32-GR33))","v":{"$error":"#REF!"}},"m2",{"$f":"SQRT(POWER(GQ32-GQ33,2)+POWER(GR32-GR33,2))","v":{"$error":"#REF!"}},null,null,{"$f":"GU36+GT11","v":-48},-0.83775804095727824,{"$f":"HB13+HB10*COS(GV37)","v":{"$error":"#REF!"}},{"$f":"HC13-HB10*SIN(GV37)","v":{"$error":"#REF!"}},{"$f":"SQRT(POWER((HB12-GW37),2)+POWER((HC12-GX37),2))","v":{"$error":"#REF!"}},{"$f":"ABS(HB9-GY37)","v":{"$error":"#REF!"}},null,{"$f":"HF29","v":0},{"$f":"HG29","v":0},2,"نقطه دوم خط تقارن","مولفه افقی","مولفه عمودی","اسم نقطه ",null,null,null,null,null,null,{"$f":"-HK37+HP9","v":0},0,null,null,null,null,null,null,null,null,null,null,null,null,null,null,null,null,null,null,null,null,null,null,null,null,null,null,null,null,null,null,null,null,null,null,null,null,null,null,null,null,null,null,null,null,null,null,null,null,null,null,null,null,null,null,null,null,null,null,null,null,null,null,null,null,null,null,null,null,null,null,null,null,null,null,null,null,null,null,null,null,null,null,null,null,null,null,null,null,null,null,null,null,null,null,null,null,null,null,null,null,null,null,null,null,null,null,null,null,null,null,null,null,null,null,null,null,null,null,null,null,null,null,null,null,null,null,null,null,null,null,null,null,null,null,null,null,null,null,null,null,null,null,null,null,null,null,null,null,null,null,null,null,null,null,null,null,null,null,null,null,"f'4",{"$f":"'متغیرها '!C860","v":0.60000000000000009},"بزرگی فلش رج",null,"نقطه شروع انحنا","مولفه افقی","مولفه عمودی",{"$f":"NZ41","v":23.347115384615392},{"$f":"OA41","v":5.3},{"$f":"NY41","v":"g4"},null,"w'12",{"$f":"NV32","v":42},"نسبت نقشه بافت به سایز واقعی",null,"نقطه شروع انحنا","مولفه افقی","مولفه عمودی",{"$f":"OK41","v":32.736538461538458},{"$f":"OL41","v":5.2117647058823531},{"$f":"OJ41","v":"g4"},null,"w'12",{"$f":"NV32","v":42},"نسبت نقشه بافت به سایز واقعی",null,"نقطه شروع انحنا","مولفه افقی","مولفه عمودی",{"$f":"OV41","v":28.922435897435896},{"$f":"OW41","v":5.2117647058823531},{"$f":"OU41","v":"g4"},null,"h3",{"$f":"NV35","v":4.5},"طول باکس نوشته",null,"نقطه شروع انحنا","مولفه افقی","مولفه عمودی",{"$f":"PG41","v":34.643589743589743},{"$f":"PH41","v":5.2117647058823531},{"$f":"PF41","v":"g4"},null,"h3",{"$f":"NV35","v":4.5},"طول باکس نوشته",null,"نقطه شروع انحنا","مولفه افقی","مولفه عمودی",{"$f":"PR41","v":43.416025641025634},{"$f":"PS41","v":5.2117647058823531},{"$f":"PQ41","v":"g4"},null,{"$f":"PX36-PX30+PX29","v":-48.5},{"$f":"PY36","v":9.2857142857142865},"t9",null,"f8",{"$f":"QC34","v":-42.55},{"$f":"QD34+2*QC29","v":7.4285714285714288},{"$f":"QC36","v":-42.228571428571428},{"$f":"QD36","v":7},{"$f":"QB36","v":"f7"},null,{"$f":"AH385","v":53.336940479219045},{"$f":"AI385","v":124.27322048774177},"k''4"]
[null,null,null,null,"در بالای مچ هر b12   دانه یکی کم شود",{"$f":"F22","v":-1},null,null,null,null,null,null,null,"a6",{"$f":"ROUND(0.4*O9,0)","v":9},null,"e5",{"$f":"ROUND(0.28*(R34),0)","v":42},null,"e5",{"$f":"ROUND(0.35*(U34),0)","v":49},null,"c11",{"$f":"X30","v":4},null,"c11",{"$f":"X38","v":4},null,null,null,null,null,null,{"$error":"#DIV/0!"},0,{"$f":"(10/3)*((AM38/AL38)*(1/I6)-1)","v":-3.3333333333333335},{"$f":"(100/68)*((AO38/AN38)*(1/I7)-1)","v":{"$error":"#DIV/0!"}},13.5,null,null,36,null,32,null,null,null,null,null,null,null,null,null,null,null,null,null,null,null,null,null,null,null,null,null,null,null,null,null,null,null,null,null,null,null,null,null,null,null,null,null,null,null,null,null,null,null,{"$f":"CI36+'طراحی همه الگوها'!U178","v":24},{"$f":"CJ36","v":172.7},"j3",null,{"$f":"CI44","v":14.1},{"$f":"CJ44","v":119.6},"j10",null,null,null,null,null,null,null,null,null,null,null,"نوک سر تا مچ دست شبیه ساز  a3",{"$f":"1.03*(SQRT(POWER(0.5*H168,2)+POWER((0.47*'متغیرها '!U85+H167*SIN('متغیرها '!B245)),2)))+'متغیرها '!U83","v":96.561705386146102},null,null,null,null,null,null,null,null,null,null,null,null,null,null,null,null,null,null,null,null,null,{"$f":"DX36","v":55.705155170114303},{"$f":"DY36","v":95.923771639120332},"s'12",null," شبیه سازαk1",{"$f":"F423","v":1.4015315797837715},null,{"$f":"EC32+'طراحی همه الگوها'!U224","v":129},{"$f":"EC33-'طراحی همه الگوها'!U226","v":101.2},20,null,null,null,null,null,null,null,null,null,null,null,null,null,null,null,null,null,null,null,null,null,null,null,null,null,null,null,null,null,null,null,null,null,null,null,null,{"$f":"FO27","v":53.85},{"$f":"FP27","v":7},"s13",null,null,null,null,null,null,46,{"$f":"GB12+GE12*SIN(RADIANS(GA38)+GA14)","v":{"$error":"#DIV/0!"}},{"$f":"GC12+GE12*COS(RADIANS(GA38)+GA14)","v":{"$error":"#DIV/0!"}},{"$f":"IF(GB13>GB38,ATAN((GC13-GC38)/(GB13-GB38)),ATAN((GC13-GC38)/(GB38-GB13)))","v":{"$error":"#DIV/0!"}},{"$f":"IF(GB13>GB38,(GB13-GB38)/COS(GD38),(GB38-GB13)/COS(GD38))","v":{"$error":"#DIV/0!"}},null,null,null,null,null,null,null,null,null,"نقطه خروجی بالا","s'u9",{"$f":"GQ32-GQ34*COS(GP37)","v":{"$error":"#REF!"}},{"$f":"GR32+GQ34*SIN(GP37)","v":{"$error":"#REF!"}},null,null,{"$f":"GU37+GT11","v":-46},-0.8028514559173916,{"$f":"HB13+HB10*COS(GV38)","v":{"$error":"#REF!"}},{"$f":"HC13-HB10*SIN(GV38)","v":{"$error":"#REF!"}},{"$f":"SQRT(POWER((HB12-GW38),2)+POWER((HC12-GX38),2))","v":{"$error":"#REF!"}},{"$f":"ABS(HB9-GY38)","v":{"$error":"#REF!"}},null,0,0,3,null,{"$f":"HB38+2*(SIN(ATAN((HB37-HB36)/(HC37-HC36)))*(HC38-HC36)+COS(ATAN((HB37-HB36)/(HC37-HC36)))*(HB36-HB38))*COS(ATAN((HB37-HB36)/(HC37-HC36)))","v":{"$error":"#DIV/0!"}},{"$f":"HC38-2*(SIN(ATAN((HB37-HB36)/(HC37-HC36)))*(HC38-HC36)+COS(ATAN((HB37-HB36)/(HC37-HC36)))*(HB36-HB38))*SIN(ATAN((HB37-HB36)/(HC37-HC36)))","v":{"$error":"#DIV/0!"}},{"$f":"HD38","v":3},null,null,null,null,null,null,{"$f":"-HK38+HP9","v":0},0,null,null,null,null,null,null,null,null,null,null,null,null,null,null,null,null,null,null,null,null,null,null,null,null,null,null,null,null,null,null,null,null,null,null,null,null,null,null,null,null,null,null,null,null,null,null,null,null,null,null,null,null,null,null,null,null,null,null,null,null,null,null,null,null,null,null,null,null,null,null,null,null,null,null,null,null,null,null,null,null,null,null,null,null,null,null,null,null,null,null,null,null,null,null,null,null,null,null,null,null,null,null,null,null,null,null,null,null,null,null,null,null,null,null,null,null,null,null,null,null,null,null,null,null,null,null,null,null,null,null,null,null,null,null,null,null,null,null,null,null,null,null,null,null,null,null,null,null,null,null,null,null,null,null,null,null,null,null,null,null,"f5",{"$f":"'متغیرها '!C861","v":0.5},"زاویه فلش رج",null,"w2",{"$f":"NU49","v":22.822115384615394},{"$f":"NV49","v":5},{"$f":"NZ43","v":23.189615384615394},{"$f":"OA43","v":5.516},{"$f":"NY43","v":"g6"},null,"w11",{"$f":"'متغیرها '!C856/OG56","v":0.42352941176470588},"ارتفاع هر رج",null,"m2",{"$f":"OF61","v":32.21153846153846},{"$f":"OG61","v":5},{"$f":"OK43","v":32.57903846153846},{"$f":"OL43","v":5.3642352941176474},{"$f":"OJ43","v":"g6"},null,"w11",{"$f":"'متغیرها '!C856/OR56","v":0.42352941176470588},"ارتفاع هر رج",null,"m2",{"$f":"OQ61","v":28.397435897435898},{"$f":"OR61","v":5},{"$f":"OV43","v":28.764935897435898},{"$f":"OW43","v":5.3642352941176474},{"$f":"OU43","v":"g6"},null,"h4",{"$f":"NV36","v":0.5},"پهنای باکس نوشته",null,"n2",{"$f":"PB61","v":34.118589743589745},{"$f":"PC61","v":5},{"$f":"PG43","v":34.486089743589744},{"$f":"PH43","v":5.3642352941176474},{"$f":"PF43","v":"g6"},null,"h4",{"$f":"NV36","v":0.5},"پهنای باکس نوشته",null,"n2",{"$f":"PM61","v":42.891025641025635},{"$f":"PN61","v":5},{"$f":"PR43","v":43.258525641025635},{"$f":"PS43","v":5.3642352941176474},{"$f":"PQ43","v":"g6"},null,{"$f":"PX37","v":-48.5},{"$f":"PY37+PY7","v":10.714285714285715},"t10",null,null,null,null,null,null,null,null,{"$f":"AH388","v":47.205108072639767},{"$f":"AI388","v":116.52006725159009},"k''5",null,{"$f":"QI79","v":31.077019048961631},{"$f":"QJ79","v":121.99283712961564},"a1"]
[null,null,null,null,"هر b11   رج در بافت آستین یکدانه از ابتدا و یکدانه از انتها کم شود",{"$f":"F19","v":3},null,null,null,null,null,null,null,"a10",{"$f":"L30","v":5},null,"e6",{"$f":"R35","v":6},null,"e6",{"$f":"U35","v":6},null,"خطا",{"$f":"IF(X34>0,\" \",\"خطا : پهنای یقه ب ب زیاد شود \")","v":" "},null,"خطا",{"$f":"X39","v":" "},null,null,null,null,null,null,{"$error":"#DIV/0!"},0,{"$f":"(10/3)*((AM39/AL39)*(1/I6)-1)","v":-3.3333333333333335},{"$f":"(100/68)*((AO39/AN39)*(1/I7)-1)","v":{"$error":"#DIV/0!"}},13.5,null,null,36,null,33,null,null,null,null,null,null,null,null,null,null,null,null,null,null,null,null,null,null,null,null,null,null,null,null,null,null,null,null,null,null,null,null,null,null,null,null,null,null,null,null,null,null,null,{"$f":"'طراحی همه الگوها'!U178+'طراحی همه الگوها'!U177+CI36","v":89.7},{"$f":"CJ36","v":172.7},"j5",null,{"$f":"CI43","v":12},{"$f":"CJ43","v":119.6},"j9",null,null,null,null,null,null,null,null,null,null,null,null,null,null,null,null,null,null,null,null,null,null,"محاسبات طراحی چادر 2",null,null,null,{"$f":"DP37","v":86.989590140434757},{"$f":"DQ37","v":123.50152227750756},"s19",null,null,null,null,null,{"$f":"DU18","v":66.099624853556548},{"$f":"DV18","v":106.31824132256259},"s'10",null,"(k4 →k5)شبیه ساز",{"$f":"F425","v":8.8891555277460164},null,{"$f":"EC32","v":120},{"$f":"EC33-'طراحی همه الگوها'!U225","v":99.8},19,null,{"$f":"EE37","v":129},{"$f":"EF37","v":114.5},18,null,null,null,null,null,"j4",{"$f":"IF('متغیرها '!C25<1,'متغیرها '!C25*'متغیرها '!U59,IF('متغیرها '!C25<2,'متغیرها '!U59+('متغیرها '!C25-1)*('متغیرها '!U60-'متغیرها '!U59),IF('متغیرها '!C25<3,'متغیرها '!U60+('متغیرها '!C25-2)*(I105-'متغیرها '!U60),I105+('متغیرها '!C25-3)*(H127-H126))))","v":0},null,null,null,null,null,{"$f":"EP29","v":12},{"$f":"EQ29","v":172.7},1,null,null,null,null,null,{"$f":"FF13","v":0},{"$f":"FG33-FC43","v":204.73},"19'",null,{"$f":"FJ13","v":112.85},{"$f":"FG33","v":216.7},27,null,null,null,null,null,{"$f":"FO30","v":12},{"$f":"FP30","v":7},2,null,null,null,null,null,null,48,{"$f":"GB12+GE12*SIN(RADIANS(GA39)+GA14)","v":{"$error":"#DIV/0!"}},{"$f":"GC12+GE12*COS(RADIANS(GA39)+GA14)","v":{"$error":"#DIV/0!"}},{"$f":"IF(GB13>GB39,ATAN((GC13-GC39)/(GB13-GB39)),ATAN((GC13-GC39)/(GB39-GB13)))","v":{"$error":"#DIV/0!"}},{"$f":"IF(GB13>GB39,(GB13-GB39)/COS(GD39),(GB39-GB13)/COS(GD39))","v":{"$error":"#DIV/0!"}},null,null,null,null,null,null,null,null,null,"نقطه خروجی پایین","s'd8",{"$f":"GQ40-GQ34*COS(GP37)","v":{"$error":"#REF!"}},{"$f":"GR40+GQ34*SIN(GP37)","v":{"$error":"#REF!"}},null,null,{"$f":"GU38+GT11","v":-44},-0.76794487087750496,{"$f":"HB13+HB10*COS(GV39)","v":{"$error":"#REF!"}},{"$f":"HC13-HB10*SIN(GV39)","v":{"$error":"#REF!"}},{"$f":"SQRT(POWER((HB12-GW39),2)+POWER((HC12-GX39),2))","v":{"$error":"#REF!"}},{"$f":"ABS(HB9-GY39)","v":{"$error":"#REF!"}},null,0,0,4,null,{"$f":"HB39+2*(SIN(ATAN((HB37-HB36)/(HC37-HC36)))*(HC39-HC36)+COS(ATAN((HB37-HB36)/(HC37-HC36)))*(HB36-HB39))*COS(ATAN((HB37-HB36)/(HC37-HC36)))","v":{"$error":"#DIV/0!"}},{"$f":"HC39-2*(SIN(ATAN((HB37-HB36)/(HC37-HC36)))*(HC39-HC36)+COS(ATAN((HB37-HB36)/(HC37-HC36)))*(HB36-HB39))*SIN(ATAN((HB37-HB36)/(HC37-HC36)))","v":{"$error":"#DIV/0!"}},{"$f":"HD39","v":4},null,null,null,null,null,null,{"$f":"-HK39+HP9","v":0},0,null,null,null,null,null,null,null,null,null,null,null,null,null,null,null,null,null,null,null,null,null,null,null,null,null,null,null,null,null,null,null,null,null,null,null,null,null,null,null,null,null,null,null,null,null,null,null,null,null,null,null,null,null,null,null,null,null,null,null,null,null,null,null,null,null,null,null,null,null,null,null,null,null,null,null,null,null,null,null,null,null,null,null,null,null,null,null,null,null,null,null,null,null,null,null,null,null,null,null,null,null,null,null,null,null,null,null,null,null,null,null,null,null,null,null,null,null,null,null,null,null,null,null,null,null,null,null,null,null,null,null,null,null,null,null,null,null,null,null,null,null,null,null,null,null,null,null,null,null,null,null,null,null,null,null,null,null,null,null,null,null,{"$f":"O16","v":3.333333333333333}," aa0 تعداد رج در یک سانت",null,"g11",{"$f":"NZ43+0.8*(NZ41-NZ43)","v":23.315615384615391},{"$f":"OA41+0.6*(OA43-OA41)","v":5.4295999999999998},{"$f":"NZ40","v":22.822115384615394},{"$f":"OA40","v":5.6},{"$f":"NY40","v":"g2"},null,"g9",{"$f":"NV34","v":0.5},"پهنای نیم دایره",null,"g11",{"$f":"OK43+0.8*(OK41-OK43)","v":32.705038461538457},{"$f":"OL41+0.6*(OL43-OL41)","v":5.3032470588235299},{"$f":"OK40","v":32.21153846153846},{"$f":"OL40","v":5.4235294117647062},{"$f":"OJ40","v":"g2"},null,"g9",{"$f":"NV34","v":0.5},"پهنای نیم دایره",null,"g11",{"$f":"OV43+0.8*(OV41-OV43)","v":28.890935897435895},{"$f":"OW41+0.6*(OW43-OW41)","v":5.3032470588235299},{"$f":"OV40","v":28.397435897435898},{"$f":"OW40","v":5.4235294117647062},{"$f":"OU40","v":"g2"},null,"f'4",{"$f":"NV37","v":0.60000000000000009},"بزرگی فلش رج",null,"g11",{"$f":"PG43+0.8*(PG41-PG43)","v":34.612089743589742},{"$f":"PH41+0.6*(PH43-PH41)","v":5.3032470588235299},{"$f":"PG40","v":34.118589743589745},{"$f":"PH40","v":5.4235294117647062},{"$f":"PF40","v":"g2"},null,"f'4",{"$f":"NV37","v":0.60000000000000009},"بزرگی فلش رج",null,"g11",{"$f":"PR43+0.8*(PR41-PR43)","v":43.384525641025633},{"$f":"PS41+0.6*(PS43-PS41)","v":5.3032470588235299},{"$f":"PR40","v":42.891025641025635},{"$f":"PS40","v":5.4235294117647062},{"$f":"PQ40","v":"g2"},null,{"$f":"PX38+PX31-PX34","v":-41.5},{"$f":"PY38","v":10.714285714285715},"t11",null,null,null,null,{"$f":"PX35","v":-36.5},{"$f":"PY35","v":5.7142857142857144},{"$f":"PZ35","v":"t7"},null,null,null,"قرینه یقه گرد جلو",null,{"$f":"QI66","v":34.899986494360945},{"$f":"QJ66","v":121.99283712961564},12]
[null,null,null,null,null,null,null,null,null,null,null,null,null,"a11",{"$f":"M30","v":2},null,"e7",{"$f":"ROUND(S18*F12,0)","v":4},null,"e7",{"$f":"R40","v":4},null,"اختلاف دور یقه ب ب خیاطی با بافتنی (سانتیمتر)",{"$f":"ROUND((X14-X33)/X20,1)","v":10.9},null,"اختلاف دور یقه ب ب خیاطی با بافتنی (سانتیمتر)",{"$f":"ROUND((X14-AA33)/X20,1)","v":2.5},null,null,null,null,null,null,{"$error":"#DIV/0!"},0,{"$f":"(10/3)*((AM40/AL40)*(1/I6)-1)","v":-3.3333333333333335},{"$f":"(100/68)*((AO40/AN40)*(1/I7)-1)","v":{"$error":"#DIV/0!"}},13.5,null,null,36,null,34,null,null,null,null,null,null,null,null,null,null,null,null,null,null,null,null,null,null,null,null,null,null,null,null,null,null,null,null,null,null,null,null,null,null,null,null,null,null,null,null,null,null,null,{"$f":"'طراحی همه الگوها'!U179+CI36","v":17.7},{"$f":"CJ36","v":172.7},"j6",null,null,null,null,null,null,null,null,null,null,null,null,null,null,null,null,null,null,null,null,null,null,null,null,null,null,"αs2",{"$f":"ATAN((DN13-DN14)/(DM14-DM13))","v":1.2793970525065526},null,null,{"$f":"DM29","v":82.238333644233236},{"$f":"DN29","v":109.1684988104472},"s11",null,null,null,null,null,null,null,null,null,"زاویه خم بودن دست",{"$f":"K390","v":26.660148207829948},null,{"$f":"EC32","v":120},{"$f":"EC33","v":114.5},17,null,null,null,null,null,null,null,null,null,"(9→11)",{"$f":"'متغیرها '!C29*ER45+'متغیرها '!C27*'متغیرها '!U83","v":32.101181365312883},null,null,null,null,null,{"$f":"EP30","v":2.6999999999999993},{"$f":"EQ30","v":-5},3,null,null,null,null,null,null,null,null,null,{"$f":"FJ13","v":112.85},{"$f":"FK13","v":163.80000000000001},28,null,null,null,null,null,null,null,null,null,null,null,null,null,null,50,{"$f":"GB12+GE12*SIN(RADIANS(GA40)+GA14)","v":{"$error":"#DIV/0!"}},{"$f":"GC12+GE12*COS(RADIANS(GA40)+GA14)","v":{"$error":"#DIV/0!"}},{"$f":"IF(GB13>GB40,ATAN((GC13-GC40)/(GB13-GB40)),ATAN((GC13-GC40)/(GB40-GB13)))","v":{"$error":"#DIV/0!"}},{"$f":"IF(GB13>GB40,(GB13-GB40)/COS(GD40),(GB40-GB13)/COS(GD40))","v":{"$error":"#DIV/0!"}},null,null,null,null,null,null,null,null,null,"نقطه خروجی میانه",null,{"$f":"GQ32-GQ35*GR37*SIN(GP37)/GR36","v":{"$error":"#REF!"}},{"$f":"GR32-GQ35*GR37*COS(GP37)/GR36","v":{"$error":"#REF!"}},null,null,{"$f":"GU39+GT11","v":-42},-0.73303828583761843,{"$f":"HB13+HB10*COS(GV40)","v":{"$error":"#REF!"}},{"$f":"HC13-HB10*SIN(GV40)","v":{"$error":"#REF!"}},{"$f":"SQRT(POWER((HB12-GW40),2)+POWER((HC12-GX40),2))","v":{"$error":"#REF!"}},{"$f":"ABS(HB9-GY40)","v":{"$error":"#REF!"}},null,{"$f":"HF30","v":0},{"$f":"HG30","v":0},5,null,{"$f":"HB40+2*(SIN(ATAN((HB37-HB36)/(HC37-HC36)))*(HC40-HC36)+COS(ATAN((HB37-HB36)/(HC37-HC36)))*(HB36-HB40))*COS(ATAN((HB37-HB36)/(HC37-HC36)))","v":{"$error":"#DIV/0!"}},{"$f":"HC40-2*(SIN(ATAN((HB37-HB36)/(HC37-HC36)))*(HC40-HC36)+COS(ATAN((HB37-HB36)/(HC37-HC36)))*(HB36-HB40))*SIN(ATAN((HB37-HB36)/(HC37-HC36)))","v":{"$error":"#DIV/0!"}},{"$f":"HD40","v":5},null,null,null,null,null,null,{"$f":"-HK40+HP9","v":0},0,null,null,null,null,null,null,null,null,null,null,null,null,null,null,null,null,null,null,null,null,null,null,null,null,null,null,null,null,null,null,null,null,null,null,null,null,null,null,null,null,null,null,null,null,null,null,null,null,null,null,null,null,null,null,null,null,null,null,null,null,null,null,null,null,null,null,null,null,null,null,null,null,null,null,null,null,null,null,null,null,null,null,null,null,null,null,null,null,null,null,null,null,null,null,null,null,null,null,null,null,null,null,null,null,null,null,null,null,null,null,null,null,null,null,null,null,null,null,null,null,null,null,null,null,null,null,null,null,null,null,null,null,null,null,null,null,null,null,null,null,null,null,null,null,null,null,null,null,null,null,null,null,null,null,null,null,null,null,null,null,null,{"$f":"O17","v":4.4571428571428573},"تعداد دانه در یک سانت ab0 ",null,"g2",{"$f":"NZ38","v":22.822115384615394},{"$f":"OA38+NZ35","v":5.6},null,null,null,null,"h3",{"$f":"NV35","v":4.5},"طول باکس نوشته",null,"g2",{"$f":"OK38","v":32.21153846153846},{"$f":"OL38+OK35","v":5.4235294117647062},null,null,null,null,"h3",{"$f":"NV35","v":4.5},"طول باکس نوشته",null,"g2",{"$f":"OV38","v":28.397435897435898},{"$f":"OW38+OV35","v":5.4235294117647062},null,null,null,null,"f5",{"$f":"NV38","v":0.5},"زاویه فلش رج",null,"g2",{"$f":"PG38","v":34.118589743589745},{"$f":"PH38+PG35","v":5.4235294117647062},null,null,null,null,"f5",{"$f":"NV38","v":0.5},"زاویه فلش رج",null,"g2",{"$f":"PR38","v":42.891025641025635},{"$f":"PS38+PR35","v":5.4235294117647062},null,null,null,null,{"$f":"PX36","v":-45},{"$f":"PY38","v":10.714285714285715},"t12",null,null,null,null,null,null,null,null,{"$f":"HX179","v":3.9891436511059162},145.77056095882656,25]
[null,null,null,null,"تقسیم بندی بالاتنه","تعداد دانه ها\n(بافت جودانه یا ساده)","تعداد دانه ها\n(بافت انتخابی)",null,null,null,null,null,null,"a25",{"$f":"ROUNDUP(IF((O13-2*F12)<0.1,I16*(O13),I16*2*F12+I22*(O13-2*F12)),0)","v":4},null,"e8",{"$f":"2*R40-4","v":4},null,"e8",4,null,null,null,null,null,null,null,null,null,null,null,null,{"$error":"#DIV/0!"},0,{"$f":"(10/3)*((AM41/AL41)*(1/I6)-1)","v":-3.3333333333333335},{"$f":"(100/68)*((AO41/AN41)*(1/I7)-1)","v":{"$error":"#DIV/0!"}},13.5,null,null,36,null,35,null,null,null,null,null,null,null,null,null,null,null,null,null,null,null,null,null,null,null,null,null,null,null,null,null,null,null,null,null,null,null,null,null,null,null,null,null,null,null,null,null,null,null,{"$f":"CI36","v":12},{"$f":"CJ42","v":156.69999999999999},"j7",null,{"$f":"CI43","v":12},{"$f":"CJ43","v":119.6},"j9",null,null,null,null,null,null,null,null,null,null,null,null,null,null,null,null,null,null,null,null,null,null,"(s2 →s3)",{"$f":"SQRT(POWER((DM14-DM13),2)+POWER((DN13-DN14),2))","v":6.4068576007386255},null,null,null,null,null,null,null,null,null,null,{"$f":"DU23","v":87.6},{"$f":"DV23","v":7},"s'13",null,"دست خمیده شبیه ساز k4",{"$f":"K384","v":72.463585884235471},{"$f":"L384","v":99.954280291883663},null,null,null,null,null,null,null,null,null,null,null,null,"(8→9)",{"$f":"ER37+'متغیرها '!C29*ER45*COS(ER46-RADIANS(45)+ER42)-EQ31","v":104.0768336514586},null,null,null,null,null,null,null,null,null,null,null,null,null,null,null,null,null,null,null,null,null,null,null,null,null,{"$f":"FR39","v":12},{"$f":"FS39","v":7},2,null,null,null,null,null,null,52,{"$f":"GB12+GE12*SIN(RADIANS(GA41)+GA14)","v":{"$error":"#DIV/0!"}},{"$f":"GC12+GE12*COS(RADIANS(GA41)+GA14)","v":{"$error":"#DIV/0!"}},{"$f":"IF(GB13>GB41,ATAN((GC13-GC41)/(GB13-GB41)),ATAN((GC13-GC41)/(GB41-GB13)))","v":{"$error":"#DIV/0!"}},{"$f":"IF(GB13>GB41,(GB13-GB41)/COS(GD41),(GB41-GB13)/COS(GD41))","v":{"$error":"#DIV/0!"}},null,null,null,null,null,null,null,null,null,null,null,null,null,null,null,{"$f":"GU40+GT11","v":-40},-0.69813170079773179,{"$f":"HB13+HB10*COS(GV41)","v":{"$error":"#REF!"}},{"$f":"HC13-HB10*SIN(GV41)","v":{"$error":"#REF!"}},{"$f":"SQRT(POWER((HB12-GW41),2)+POWER((HC12-GX41),2))","v":{"$error":"#REF!"}},{"$f":"ABS(HB9-GY41)","v":{"$error":"#REF!"}},null,null,null,null,null,null,null,null,null,null,null,null,null,null,{"$f":"-HK41+HP9","v":0},0,null,null,null,null,null,null,null,null,null,null,null,null,null,null,null,null,null,null,null,null,null,null,null,null,null,null,null,null,null,null,null,null,null,null,null,null,null,null,null,null,null,null,null,null,null,null,null,null,null,null,null,null,null,null,null,null,null,null,null,null,null,null,null,null,null,null,null,null,null,null,null,null,null,null,null,null,null,null,null,null,null,null,null,null,null,null,null,null,null,null,null,null,null,null,null,null,null,null,null,null,null,null,null,null,null,null,null,null,null,null,null,null,null,null,null,null,null,null,null,null,null,null,null,null,null,null,null,null,null,null,null,null,null,null,null,null,null,null,null,null,null,null,null,null,null,null,null,null,null,null,null,null,null,null,null,null,null,null,null,null,null,{"$f":"I16","v":1.8749999999999996}," تعداد دانه در یک سانت جادکمه",null,"g4",{"$f":"NZ38+NZ36*NZ34/40","v":23.347115384615392},{"$f":"OA38+0.5*NZ35","v":5.3},{"$f":"NZ45","v":23.1224996068138},{"$f":"OA45","v":5.2677040569869433},{"$f":"NY45","v":"g8"},null,"h4",{"$f":"NV36","v":0.5},"پهنای باکس نوشته",null,"g4",{"$f":"OK38+OK36*OK34/40","v":32.736538461538458},{"$f":"OL38+0.5*OK35","v":5.2117647058823531},{"$f":"OK45","v":32.555337698640209},{"$f":"OL45","v":5.2071647343534568},{"$f":"OJ45","v":"g8"},null,"h4",{"$f":"NV36","v":0.5},"پهنای باکس نوشته",null,"g4",{"$f":"OV38+OV36*OV34/40","v":28.922435897435896},{"$f":"OW38+0.5*OV35","v":5.2117647058823531},{"$f":"OV45","v":28.74123513453765},{"$f":"OW45","v":5.2071647343534568},{"$f":"OU45","v":"g8"},null,"f9",{"$f":"OG44","v":0.30000000000000004},"بزرگی خط عمودی دانه",null,"g4",{"$f":"PG38+PG36*PG34/40","v":34.643589743589743},{"$f":"PH38+0.5*PG35","v":5.2117647058823531},{"$f":"PG45","v":34.462388980691493},{"$f":"PH45","v":5.2071647343534568},{"$f":"PF45","v":"g8"},null,"f9",{"$f":"OG44","v":0.30000000000000004},"بزرگی خط عمودی دانه",null,"g4",{"$f":"PR38+PR36*PR34/40","v":43.416025641025634},{"$f":"PS38+0.5*PR35","v":5.2117647058823531},{"$f":"PR45","v":43.234824878127384},{"$f":"PS45","v":5.2071647343534568},{"$f":"PQ45","v":"g8"},null,{"$f":"PX37+2/PY15","v":-47.45},{"$f":"PY37","v":9.2857142857142865},"t13",null,null,null,null,{"$f":"PX36","v":-45},9.2857142857142865,"t8",null,5.5913149208847344,140.49996654552029,30,null,{"$f":"QI78","v":13.589985},{"$f":"QJ78","v":135.22937213221402},"26''"]
[null,null,null,null," b6  کل پهنای جادکمه ",{"$f":"2*F25","v":10},{"$f":"ROUNDUP(I16*(2*F12),0)","v":6},null,null,null,null,null,null,"خطا",{"$f":"IF((ROUND(0.6*O9,0)-6)<0,\" خطا : قد پشت یقه زیاد شود \",\" \")","v":" "},null,"e9",{"$f":"IF((ROUNDUP(S12*S17*S9,0)-R40-R41-3)>-1,ROUNDUP(S12*S17*S9,0)-R40-R41-3,\"خطا\")","v":2},null,"e9",2,null,null,null,null,null,null,null,null,null,null,null,null,{"$error":"#DIV/0!"},0,{"$f":"(10/3)*((AM42/AL42)*(1/I6)-1)","v":-3.3333333333333335},{"$f":"(100/68)*((AO42/AN42)*(1/I7)-1)","v":{"$error":"#DIV/0!"}},13.5,null,null,36,null,36,null,null,null,null,null,null,null,null,null,null,null,null,null,null,null,null,null,null,null,null,null,null,null,null,null,null,null,null,null,null,null,null,null,null,null,null,null,null,null,null,null,null,null,{"$f":"'طراحی همه الگوها'!U181+CI36","v":14.1},{"$f":"CJ36-'طراحی همه الگوها'!U180","v":156.69999999999999},"j8",null,{"$f":"CI41","v":12},{"$f":"CJ41","v":156.69999999999999},"j7",null,null,null,null,null,null,null,null,null,null,null,null,null,null,null,null,null,null,null,null,null,null,"(s2 →s14)",{"$f":"DM41*2*('متغیرها '!C10-0.5)","v":6.4068576007386255},null,null,{"$f":"DP40","v":82.238333644233236},{"$f":"DQ40","v":109.1684988104472},"s11",null,null,null,null,null,{"$f":"DU30","v":12},{"$f":"DV30","v":7},"2'",null,null,null,null,null,null,null,null,null,null,null,null,null,null,null,null,"α2",{"$f":"'متغیرها '!B245","v":0.32009079810115021},null,null,null,null,null,{"$f":"ET28","v":43},{"$f":"EU28","v":77.725000000000009},15,null,"j4",{"$f":"IF('متغیرها '!C37<1,'متغیرها '!C37*'متغیرها '!U59,IF('متغیرها '!C37<2,'متغیرها '!U59+('متغیرها '!C37-1)*('متغیرها '!U60-'متغیرها '!U59),IF('متغیرها '!C37<3,'متغیرها '!U60+('متغیرها '!C37-2)*(I105-'متغیرها '!U60),I105+('متغیرها '!C37-3)*(H127-H126))))","v":0},null,null,null,null,null,null,null,null,null,null,null,null,null,null,{"$f":"FO31","v":12},{"$f":"FP31","v":107.52706077625875},"s''12",null,null,null,null,null,null,54,{"$f":"GB12+GE12*SIN(RADIANS(GA42)+GA14)","v":{"$error":"#DIV/0!"}},{"$f":"GC12+GE12*COS(RADIANS(GA42)+GA14)","v":{"$error":"#DIV/0!"}},{"$f":"IF(GB13>GB42,ATAN((GC13-GC42)/(GB13-GB42)),ATAN((GC13-GC42)/(GB42-GB13)))","v":{"$error":"#DIV/0!"}},{"$f":"IF(GB13>GB42,(GB13-GB42)/COS(GD42),(GB42-GB13)/COS(GD42))","v":{"$error":"#DIV/0!"}},null,null,null,null,null,null,null,null,null,null,null,null,null,null,null,{"$f":"GU41+GT11","v":-38},-0.66322511575784526,{"$f":"HB13+HB10*COS(GV42)","v":{"$error":"#REF!"}},{"$f":"HC13-HB10*SIN(GV42)","v":{"$error":"#REF!"}},{"$f":"SQRT(POWER((HB12-GW42),2)+POWER((HC12-GX42),2))","v":{"$error":"#REF!"}},{"$f":"ABS(HB9-GY42)","v":{"$error":"#REF!"}},null,null,null,null,"یافتن راس سوم مثلث با داشتن دو راس و یک ضلع و یک زاویه",null,null,null,null,null,null,null,null,null,{"$f":"-HK42+HP9","v":0},{"$f":"HL42","v":0},null,null,null,null,null,null,null,null,null,null,null,null,null,null,null,null,null,null,null,null,null,null,null,null,null,null,null,null,null,null,null,null,null,null,null,null,null,null,null,null,null,null,null,null,null,null,null,null,null,null,null,null,null,null,null,null,null,null,null,null,null,null,null,null,null,null,null,null,null,null,null,null,null,null,null,null,null,null,null,null,null,null,null,null,null,null,null,null,null,null,null,null,null,null,null,null,null,null,null,null,null,null,null,null,null,null,null,null,null,null,null,null,null,null,null,null,null,null,null,null,null,null,null,null,null,null,null,null,null,null,null,null,null,null,null,null,null,null,null,null,null,null,null,null,null,null,null,null,null,null,null,null,null,null,null,null,null,null,null,null,null,{"$f":"IF(NV43<11,\" مخصوص \",F8)","v":2},"انتخاب ضخامت میل بافتنی   f1",null,"g5",{"$f":"NZ38+0.7*(NZ41-NZ38)","v":23.189615384615394},{"$f":"OA38+0.28*(OA41-OA38)","v":5.0839999999999996},{"$f":"NZ39","v":23.315615384615391},{"$f":"OA39","v":5.4295999999999998},{"$f":"NY39","v":"g11"},null,"f'4",{"$f":"NV37","v":0.60000000000000009},"بزرگی فلش رج",null,"g5",{"$f":"OK38+0.7*(OK41-OK38)","v":32.57903846153846},{"$f":"OL38+0.28*(OL41-OL38)","v":5.0592941176470587},{"$f":"OK39","v":32.705038461538457},{"$f":"OL39","v":5.3032470588235299},{"$f":"OJ39","v":"g11"},null,"f'4",{"$f":"NV37","v":0.60000000000000009},"بزرگی فلش رج",null,"g5",{"$f":"OV38+0.7*(OV41-OV38)","v":28.764935897435898},{"$f":"OW38+0.28*(OW41-OW38)","v":5.0592941176470587},{"$f":"OV39","v":28.890935897435895},{"$f":"OW39","v":5.3032470588235299},{"$f":"OU39","v":"g11"},null,"f10",{"$f":"OG45","v":0.5},"بزرگی فلش دانه",null,"g5",{"$f":"PG38+0.7*(PG41-PG38)","v":34.486089743589744},{"$f":"PH38+0.28*(PH41-PH38)","v":5.0592941176470587},{"$f":"PG39","v":34.612089743589742},{"$f":"PH39","v":5.3032470588235299},{"$f":"PF39","v":"g11"},null,"f10",{"$f":"OG45","v":0.5},"بزرگی فلش دانه",null,"g5",{"$f":"PR38+0.7*(PR41-PR38)","v":43.258525641025635},{"$f":"PS38+0.28*(PS41-PS38)","v":5.0592941176470587},{"$f":"PR39","v":43.384525641025633},{"$f":"PS39","v":5.3032470588235299},{"$f":"PQ39","v":"g11"},null,{"$f":"PX35","v":-36.5},{"$f":"PY36+0.5*PY7","v":10},"t14",null,null,null,null,-48.5,9.2857142857142865,"t9",null,8.7956574604423672,136.28349101487527,28,null,{"$f":"QI77","v":13.589985},{"$f":"QJ77","v":52.7},"1''"]
[null,null,null,null,"b3  جلو بدون جادکمه\nبین خط رگلان و خط مرکزی جلو که نیمه جادکمه از آن کم شود",{"$f":"ROUNDUP(F7*(SQRT(POWER(AX129-AX131,2)+POWER(AX130,2))+SQRT(POWER(AX131-AX133,2)+POWER(AX132-AX130,2))),0)-F25","v":18},{"$f":"ROUNDUP(I22*((SQRT(POWER(AX129-AX131,2)+POWER(AX130,2))+SQRT(POWER(AX131-AX133,2)+POWER(AX132-AX130,2)))-F12),0)","v":14},null,null,null,null,null,null,"a22 خطا",{"$f":"ROUNDDOWN(O33-(O33/O39)*(O39-O40)-(G46-2*O41),0)","v":-2},null,"e10",{"$f":"Q31","v":6},null,"e10",6,null,null,null,null,null,null,null,null,null,null,null,null,{"$error":"#DIV/0!"},0,{"$f":"(10/3)*((AM43/AL43)*(1/I6)-1)","v":-3.3333333333333335},{"$f":"(100/68)*((AO43/AN43)*(1/I7)-1)","v":{"$error":"#DIV/0!"}},13.5,null,null,36,null,37,null,null,null,null,null,null,null,null,null,null,null,null,null,null,null,null,null,null,null,null,null,null,null,null,null,null,null,null,null,null,null,null,null,null,null,null,null,null,null,null,null,null,null,{"$f":"CI36","v":12},{"$f":"CJ44","v":119.6},"j9",null,null,null,"انحنا",null,null,null,null,null,null,null,null,null,null,null,null,null,null,null,null,null,null,null,null,null,null,"شیفت افقی کل ",{"$f":"'متغیرها '!C51","v":12},null,null,{"$f":"DM28","v":63.891899870506428},{"$f":"DN28","v":112.30033018941006},"s12",null,null,null,null,null,null,null,null,null,null,null,null,null,null,null,null,null,null,null,null,null,null,null,null,"شیفت افقی مرغک",{"$f":"'متغیرها '!C33*0.5*('متغیرها '!U72-'متغیرها '!U73)","v":43},null,null,null,null,null,{"$f":"ET32","v":50.5},{"$f":"EU32","v":100.42500000000001},18,null,"(14 →19')",{"$f":"DM47+0.1*'متغیرها '!C40","v":11.969999999999999},null,null,"رسم چادر شماره 5   برای پرینت",null,null,null,null,null,null,null,null,null,null,null,null,null,null,null,null,null,null,null,null,56,{"$f":"GB12+GE12*SIN(RADIANS(GA43)+GA14)","v":{"$error":"#DIV/0!"}},{"$f":"GC12+GE12*COS(RADIANS(GA43)+GA14)","v":{"$error":"#DIV/0!"}},{"$f":"IF(GB13>GB43,ATAN((GC13-GC43)/(GB13-GB43)),ATAN((GC13-GC43)/(GB43-GB13)))","v":{"$error":"#DIV/0!"}},{"$f":"IF(GB13>GB43,(GB13-GB43)/COS(GD43),(GB43-GB13)/COS(GD43))","v":{"$error":"#DIV/0!"}},null,null,null,null,null,null,null,null,null,null,null,null,null,null,null,{"$f":"GU42+GT11","v":-36},-0.62831853071795862,{"$f":"HB13+HB10*COS(GV43)","v":{"$error":"#REF!"}},{"$f":"HC13-HB10*SIN(GV43)","v":{"$error":"#REF!"}},{"$f":"SQRT(POWER((HB12-GW43),2)+POWER((HC12-GX43),2))","v":{"$error":"#REF!"}},{"$f":"ABS(HB9-GY43)","v":{"$error":"#REF!"}},null,"اطلاعات  ورودی",null,null,null,null,null,null,null,null,null,null,null,null,{"$f":"-HK43+HP9","v":0},0,null,null,null,null,null,null,null,null,null,null,null,null,null,null,null,null,null,null,null,null,null,null,null,null,null,null,null,null,null,null,null,null,null,null,null,null,null,null,null,null,null,null,null,null,null,null,null,null,null,null,null,null,null,null,null,null,null,null,null,null,null,null,null,null,null,null,null,null,null,null,null,null,null,null,null,null,null,null,null,null,null,null,null,null,null,null,null,null,null,null,null,null,null,null,null,null,null,null,null,null,null,null,null,null,null,null,null,null,null,null,null,null,null,null,null,null,null,null,null,null,null,null,null,null,null,null,null,null,null,null,null,null,null,null,null,null,null,null,null,null,null,null,null,null,null,null,null,null,null,null,null,null,null,null,null,null,null,null,null,null,{"$f":"O22","v":"کشباف (دوتایی)"},{"$f":"O21","v":14},"بافت انتخابی یقه شکاری",null,"g6",{"$f":"NZ42","v":23.189615384615394},{"$f":"OA40-OA42+OA38","v":5.516},null,null,null,null,"f5",{"$f":"NV38","v":0.5},"زاویه فلش رج",null,"g6",{"$f":"OK42","v":32.57903846153846},{"$f":"OL40-OL42+OL38","v":5.3642352941176474},null,null,null,null,"f5",{"$f":"NV38","v":0.5},"زاویه فلش رج",null,"g6",{"$f":"OV42","v":28.764935897435898},{"$f":"OW40-OW42+OW38","v":5.3642352941176474},null,null,null,null,"f11",{"$f":"OG46","v":0.75},"زاویه فلش دانه",null,"g6",{"$f":"PG42","v":34.486089743589744},{"$f":"PH40-PH42+PH38","v":5.3642352941176474},null,null,null,null,"f11",{"$f":"OG46","v":0.75},"زاویه فلش دانه",null,"g6",{"$f":"PR42","v":43.258525641025635},{"$f":"PS40-PS42+PS38","v":5.3642352941176474},null,null,null,null,{"$f":"PX37","v":-48.5},{"$f":"PY38+PY36-PY29","v":15},"t15",null,"نسبت سایز افقی",{"$f":"PY17","v":42},"انحنا راستگرد ",null,null,{"$f":"QD43","v":"انحنا راستگرد "},null,12,135.22937213221402,26]
[null,null,null,null,"b4  آستین",{"$f":"ROUNDDOWN(F7*(DE534+DE535),0)","v":20},{"$f":"ROUNDDOWN(I34*(DE534+DE535),0)","v":15},null,null,null,null,null,null,null,null,null,"e11",{"$f":"R31","v":4},null,"e11",4,null,null,null,null,null,null,null,null,null,null,null,null,{"$error":"#DIV/0!"},{"$f":"AM44/AL44","v":0},{"$f":"(10/3)*((AM44/AL44)*(1/I6)-1)","v":-3.3333333333333335},{"$f":"(100/68)*((AO44/AN44)*(1/I7)-1)","v":{"$error":"#DIV/0!"}},13.5,null,null,36,null,38,null,null,null,null,null,null,null,null,null,null,null,null,null,null,null,null,null,null,null,null,null,null,null,null,null,null,null,null,null,null,null,null,null,null,null,null,null,null,null,null,null,null,null,{"$f":"CI42","v":14.1},{"$f":"CJ41-'طراحی همه الگوها'!U182","v":119.6},"j10",null,{"$f":"CI39","v":89.7},{"$f":"CJ39","v":172.7},"j5",null,null,null,null,null,null,null,null,null,null,null,null,null,null,null,null,null,null,null,null,null,null,"شیفت عمودی کل",{"$f":"'متغیرها '!C52","v":7},null,null,null,null,null,null,null,null,null,null,{"$f":"DX42","v":12},{"$f":"DY42","v":7},"2'",null,null,null,null,null,null,null,null,null,null,null,null,null,null,null,null,"شیفت عمودی مرغک",{"$f":"IF('متغیرها '!C34<1,'متغیرها '!C34*'متغیرها '!U59,IF('متغیرها '!C34<2,'متغیرها '!U59+('متغیرها '!C34-1)*('متغیرها '!U60-'متغیرها '!U59),IF('متغیرها '!C34<3,'متغیرها '!U60+('متغیرها '!C34-2)*(I105-'متغیرها '!U60),I105+('متغیرها '!C34-3)*(H127-H126))))+'طراحی همه الگوها'!U245","v":77.725000000000009},null,null,null,null,null,null,null,null,null,"شیفت عمودی الگو دسته",7,null,null,null,"صاف","برای پرینت",null,null,"انحنا","برای پرینت",null,null,null,null,null,{"$f":"FR42","v":12},{"$f":"FS42","v":107.52706077625875},"s''12",null,null,null,null,null,null,58,{"$f":"GB12+GE12*SIN(RADIANS(GA44)+GA14)","v":{"$error":"#DIV/0!"}},{"$f":"GC12+GE12*COS(RADIANS(GA44)+GA14)","v":{"$error":"#DIV/0!"}},{"$f":"IF(GB13>GB44,ATAN((GC13-GC44)/(GB13-GB44)),ATAN((GC13-GC44)/(GB44-GB13)))","v":{"$error":"#DIV/0!"}},{"$f":"IF(GB13>GB44,(GB13-GB44)/COS(GD44),(GB44-GB13)/COS(GD44))","v":{"$error":"#DIV/0!"}},null,null,null,null,null,null,null,null,null,null,null,null,null,null,null,{"$f":"GU43+GT11","v":-34},-0.59341194567807209,{"$f":"HB13+HB10*COS(GV44)","v":{"$error":"#REF!"}},{"$f":"HC13-HB10*SIN(GV44)","v":{"$error":"#REF!"}},{"$f":"SQRT(POWER((HB12-GW44),2)+POWER((HC12-GX44),2))","v":{"$error":"#REF!"}},{"$f":"ABS(HB9-GY44)","v":{"$error":"#REF!"}},null,"مولفه افقی","مولفه عمودی","اسم نقطه ",null,"محاسبات ",null,null,null,null,null,null,null,null,{"$f":"-HK44+HP9","v":0},0,null,null,null,null,null,null,null,null,null,null,null,null,null,null,null,null,null,null,null,null,null,null,null,null,null,null,null,null,null,null,null,null,null,null,null,null,null,null,null,null,null,null,null,null,null,null,null,null,null,null,null,null,null,null,null,null,null,null,null,null,null,null,null,null,null,null,null,null,null,null,null,null,null,null,null,null,null,null,null,null,null,null,null,null,null,null,null,null,null,null,null,null,null,null,null,null,null,null,null,null,null,null,null,null,null,null,null,null,null,null,null,null,null,null,null,null,null,null,null,null,null,null,null,null,null,null,null,null,null,null,null,null,null,null,null,null,null,null,null,null,null,null,null,null,null,null,null,null,null,null,null,null,null,null,null,null,null,null,null,null,"محاسبات",null,null,null,"g7",{"$f":"NZ39+0.7*OA36*SIN(RADIANS(30)+2*ATAN((NZ39-NZ42)/(OA39-OA42+0.0001)))","v":23.552495086585196},{"$f":"OA39-0.7*OA36*COS(RADIANS(30)+2*ATAN((NZ39-NZ42)/(OA39-OA42+0.0001)))","v":5.3436232194444537},{"$f":"NZ39","v":23.315615384615391},{"$f":"OA39","v":5.4295999999999998},{"$f":"NY39","v":"g11"},null,"f9",{"$f":"'متغیرها '!C862","v":0.30000000000000004},"بزرگی خط عمودی دانه",null,"g7",{"$f":"OK39+0.7*OL36*SIN(RADIANS(30)+2*ATAN((OK39-OK42)/(OL39-OL42+0.0001)))","v":32.882135140450302},{"$f":"OL39-0.7*OL36*COS(RADIANS(30)+2*ATAN((OK39-OK42)/(OL39-OL42+0.0001)))","v":5.2865468251041143},{"$f":"OK39","v":32.705038461538457},{"$f":"OL39","v":5.3032470588235299},{"$f":"OJ39","v":"g11"},null,"f9",{"$f":"'متغیرها '!C862","v":0.30000000000000004},"بزرگی خط عمودی دانه",null,"g7",{"$f":"OV39+0.7*OW36*SIN(RADIANS(30)+2*ATAN((OV39-OV42)/(OW39-OW42+0.0001)))","v":29.068032576347743},{"$f":"OW39-0.7*OW36*COS(RADIANS(30)+2*ATAN((OV39-OV42)/(OW39-OW42+0.0001)))","v":5.2865468251041143},{"$f":"OV39","v":28.890935897435895},{"$f":"OW39","v":5.3032470588235299},{"$f":"OU39","v":"g11"},null,null,null,null,null,"g7",{"$f":"PG39+0.7*PH36*SIN(RADIANS(30)+2*ATAN((PG39-PG42)/(PH39-PH42+0.0001)))","v":34.789186422501587},{"$f":"PH39-0.7*PH36*COS(RADIANS(30)+2*ATAN((PG39-PG42)/(PH39-PH42+0.0001)))","v":5.2865468251041143},{"$f":"PG39","v":34.612089743589742},{"$f":"PH39","v":5.3032470588235299},{"$f":"PF39","v":"g11"},null,null,null,null,null,"g7",{"$f":"PR39+0.7*PS36*SIN(RADIANS(30)+2*ATAN((PR39-PR42)/(PS39-PS42+0.0001)))","v":43.561622319937477},{"$f":"PS39-0.7*PS36*COS(RADIANS(30)+2*ATAN((PR39-PR42)/(PS39-PS42+0.0001)))","v":5.2865468251041143},{"$f":"PR39","v":43.384525641025633},{"$f":"PS39","v":5.3032470588235299},{"$f":"PQ39","v":"g11"},null,{"$f":"PX30","v":-41.5},{"$f":"PY43","v":15},"t16",null,"ارتفاع نیم دایره",{"$f":"PY14","v":1.4285714285714286},"بزرگی فلش",{"$f":"QC47","v":-48.5},{"$f":"QD47","v":9.2857142857142865},{"$f":"QB47","v":"t9"},null,null,"پشت",null,null,{"$f":"QI61","v":20.010856348894084},{"$f":"QJ61","v":145.77056095882656},25]
[null,null,null,null,"b5  پشت",{"$f":"ROUNDDOWN(F7*2*(SQRT(POWER(BI128-BI130,2)+POWER(BI129,2))+SQRT(POWER(BI130-BI132,2)+POWER(BI131-BI129,2))),0)","v":31},{"$f":"ROUNDDOWN(I28*2*(SQRT(POWER(BI128-BI130,2)+POWER(BI129,2))+SQRT(POWER(BI130-BI132,2)+POWER(BI131-BI129,2))),0)","v":22},null,null,null,null,null,null,null,null,null,"خطا",{"$f":"IF((ROUNDUP(S12*S17*S9,0)-R40-R41-3)>-1,\" \",\"خطا : قد پایه یقه شومیزیه زیاد شود یا پهنای جادکمه جلو کم شود\")","v":" "},null,"خطا"," ",null,null,null,null,null,null,null,null,null,null,null,null,{"$error":"#DIV/0!"},0,{"$f":"(10/3)*((AM45/AL45)*(1/I6)-1)","v":-3.3333333333333335},{"$f":"(100/68)*((AO45/AN45)*(1/I7)-1)","v":{"$error":"#DIV/0!"}},13.5,null,null,36,null,39,null,null,null,null,null,null,null,null,null,null,null,null,null,null,null,null,null,null,null,null,null,null,null,null,null,null,null,null,null,null,null,null,null,null,null,null,null,null,null,null,null,null,null,{"$f":"CI38+'طراحی همه الگوها'!U183","v":34.299999999999997},{"$f":"CJ36","v":172.7},"j11",null,{"$f":"CI48","v":87.728999999999999},158.24599999999998,"j5'",null,null,null,null,null,null,null,null,null,null,null,null,null,null,null,null,null,null,null,null,null,null,"j4",{"$f":"IF('متغیرها '!C9<1,'متغیرها '!C9*'متغیرها '!U59,IF('متغیرها '!C9<2,'متغیرها '!U59+('متغیرها '!C9-1)*('متغیرها '!U60-'متغیرها '!U59),IF('متغیرها '!C9<3,'متغیرها '!U60+('متغیرها '!C9-2)*(I105-'متغیرها '!U60),I105+('متغیرها '!C9-3)*(H127-H126))))","v":0},"چادر 2",null,{"$f":"DP43","v":63.891899870506428},{"$f":"DQ43","v":112.30033018941006},"s12",null,null,null,null,null,{"$f":"DM15","v":12},{"$f":"DN15","v":123.7},"خط سینه",null,null,null,null,null,null,null,null,null,null,null,null,null,null,null,null,"شبیه ساز آستین(3→19)",{"$f":"BL516","v":45.858830521875554},null,null,null,null,null,{"$f":"ET34","v":58},{"$f":"EU34","v":77.725000000000009},17,null,"شیفت عمودی الگو دسته برای پرینت",{"$f":"-'متغیرها '!U56","v":-99.9},null,null,{"$f":"FF13+'طراحی همه الگوها'!U260+'طراحی همه الگوها'!U262","v":94.1},{"$f":"FG25+FC45","v":4},13,null,{"$f":"FF45","v":94.1},{"$f":"FG45","v":4},13,null,null,null,null,null,{"$f":"FO32","v":12},{"$f":"FP32","v":111.52706077625875},"s'12",null,null,null,null,null,null,60,{"$f":"GB12+GE12*SIN(RADIANS(GA45)+GA14)","v":{"$error":"#DIV/0!"}},{"$f":"GC12+GE12*COS(RADIANS(GA45)+GA14)","v":{"$error":"#DIV/0!"}},{"$f":"IF(GB13>GB45,ATAN((GC13-GC45)/(GB13-GB45)),ATAN((GC13-GC45)/(GB45-GB13)))","v":{"$error":"#DIV/0!"}},{"$f":"IF(GB13>GB45,(GB13-GB45)/COS(GD45),(GB45-GB13)/COS(GD45))","v":{"$error":"#DIV/0!"}},null,null,null,null,null,null,null,null,null,null,null,null,null,null,null,{"$f":"GU44+GT11","v":-32},-0.55850536063818546,{"$f":"HB13+HB10*COS(GV45)","v":{"$error":"#REF!"}},{"$f":"HC13-HB10*SIN(GV45)","v":{"$error":"#REF!"}},{"$f":"SQRT(POWER((HB12-GW45),2)+POWER((HC12-GX45),2))","v":{"$error":"#REF!"}},{"$f":"ABS(HB9-GY45)","v":{"$error":"#REF!"}},null,5,50,1,"راس بالا",{"$f":"SQRT(POWER(HB46-HB45,2)+POWER(HC45-HC46,2))","v":10.198039027185569},"m2",null,null,null,null,null,null,null,{"$f":"-HK45+HP9","v":0},0,null,null,null,null,null,null,null,null,null,null,null,null,null,null,null,null,null,null,null,null,null,null,null,null,null,null,null,null,null,null,null,null,null,null,null,null,null,null,null,null,null,null,null,null,null,null,null,null,null,null,null,null,null,null,null,null,null,null,null,null,null,null,null,null,null,null,null,null,null,null,null,null,null,null,null,null,null,null,null,null,null,null,null,null,null,null,null,null,null,null,null,null,null,null,null,null,null,null,null,null,null,null,null,null,null,null,null,null,null,null,null,null,null,null,null,null,null,null,null,null,null,null,null,null,null,null,null,null,null,null,null,null,null,null,null,null,null,null,null,null,null,null,null,null,null,null,null,null,null,null,null,null,null,null,null,null,null,null,null,null,"g3",{"$f":"NV33","v":0.60000000000000009},"ارتفاع نیم دایره",null,"g8",{"$f":"NZ39-0.7*OA36*SIN(RADIANS(30)+ATAN((NZ39-NZ42)/(OA39-OA42+0.0001)))","v":23.1224996068138},{"$f":"OA39-0.7*OA36*COS(RADIANS(30)+ATAN((NZ39-NZ42)/(OA39-OA42+0.0001)))","v":5.2677040569869433},{"$f":"NZ44","v":23.552495086585196},{"$f":"OA44","v":5.3436232194444537},{"$f":"NY44","v":"g7"},null,"f10",{"$f":"'متغیرها '!C863","v":0.5},"بزرگی فلش دانه",null,"g8",{"$f":"OK39-0.7*OL36*SIN(RADIANS(30)+ATAN((OK39-OK42)/(OL39-OL42+0.0001)))","v":32.555337698640209},{"$f":"OL39-0.7*OL36*COS(RADIANS(30)+ATAN((OK39-OK42)/(OL39-OL42+0.0001)))","v":5.2071647343534568},{"$f":"OK44","v":32.882135140450302},{"$f":"OL44","v":5.2865468251041143},{"$f":"OJ44","v":"g7"},null,"f10",{"$f":"'متغیرها '!C863","v":0.5},"بزرگی فلش دانه",null,"g8",{"$f":"OV39-0.7*OW36*SIN(RADIANS(30)+ATAN((OV39-OV42)/(OW39-OW42+0.0001)))","v":28.74123513453765},{"$f":"OW39-0.7*OW36*COS(RADIANS(30)+ATAN((OV39-OV42)/(OW39-OW42+0.0001)))","v":5.2071647343534568},{"$f":"OV44","v":29.068032576347743},{"$f":"OW44","v":5.2865468251041143},{"$f":"OU44","v":"g7"},null,"محاسبات",null,null,null,"g8",{"$f":"PG39-0.7*PH36*SIN(RADIANS(30)+ATAN((PG39-PG42)/(PH39-PH42+0.0001)))","v":34.462388980691493},{"$f":"PH39-0.7*PH36*COS(RADIANS(30)+ATAN((PG39-PG42)/(PH39-PH42+0.0001)))","v":5.2071647343534568},{"$f":"PG44","v":34.789186422501587},{"$f":"PH44","v":5.2865468251041143},{"$f":"PF44","v":"g7"},null,"محاسبات",null,null,null,"g8",{"$f":"PR39-0.7*PS36*SIN(RADIANS(30)+ATAN((PR39-PR42)/(PS39-PS42+0.0001)))","v":43.234824878127384},{"$f":"PS39-0.7*PS36*COS(RADIANS(30)+ATAN((PR39-PR42)/(PS39-PS42+0.0001)))","v":5.2071647343534568},{"$f":"PR44","v":43.561622319937477},{"$f":"PS44","v":5.2865468251041143},{"$f":"PQ44","v":"g7"},null,{"$f":"PX29","v":-45},{"$f":"PY43","v":15},"t17",null,"پهنای نیم دایره",{"$f":"PY8","v":0.5},{"$f":"PY16","v":0.57142857142857151},{"$f":"QC51","v":-48.8675},{"$f":"QD51","v":9.4857142857142858},{"$f":"QB51","v":"g5"},null,{"$f":"CY105","v":-8.738738779125466},{"$f":"CZ105","v":130.28265458797262},"16fقرینه شیفت",null,{"$f":"QI82","v":18.008342947582062},144.20656425902845,"28پ"]
[null,null,null,null,"تعداد دانه ها  دور گردن + دو تا نیمه جادکمه که از خط مرکزی اضافه شده",{"$f":"F45+2*F44+2*F43+2*F42","v":127},{"$f":"G45+2*G44+2*G43+2*G42","v":92},"b''1",null,null,null,null,null,null,null,null,"خطا",{"$f":"IF(R42>0,\" \",\"خطا : قد پایه یقه شومیزیه زیاد شود \")","v":" "},null,"خطا"," ",null,null,null,null,null,null,null,null,null,null,null,null,{"$error":"#DIV/0!"},0,{"$f":"(10/3)*((AM46/AL46)*(1/I6)-1)","v":-3.3333333333333335},{"$f":"(100/68)*((AO46/AN46)*(1/I7)-1)","v":{"$error":"#DIV/0!"}},13.5,null,null,36,null,40,null,null,null,null,null,null,null,null,null,null,null,null,null,null,null,null,null,null,null,null,null,null,null,null,null,null,null,null,null,null,null,null,null,null,null,null,null,null,null,null,null,null,null,{"$f":"CI38","v":24},{"$f":"CJ36-'طراحی همه الگوها'!U184","v":164.1},"j12",null,79.844999999999999,139.85,"j5''",null,null,null,null,null,null,null,null,null,null,null,null,null,null,null,null,null,null,null,null,null,null,"(j1 → j2)",{"$f":"ROUND(CJ22+0.1*'متغیرها '!U85-DM45,1)","v":165.7},null,null,{"$f":"DM27","v":69.524184061367833},{"$f":"DN27","v":129.29113284241538},"s10",null,null,null,null,null,null,null,null,null,null,null,null,null,null,null,null,null,null,null,null,null,null,null,null," شبیه سازαk1",{"$f":"F423","v":1.4015315797837715},null,null,null,null,null,{"$f":"ET30","v":50.5},{"$f":"EU30","v":55.025000000000006},19,null,null,null,null,null,{"$f":"FF13","v":0},{"$f":"FG45","v":4},12,null,{"$f":"FJ45+0.45*(FJ49-FJ45)","v":105.35},{"$f":"FK45+0.25*(FK49-FK45)","v":30.45},"13'",null,null,null,null,null,null,null,null,null,null,null,null,null,null,62,{"$f":"GB12+GE12*SIN(RADIANS(GA46)+GA14)","v":{"$error":"#DIV/0!"}},{"$f":"GC12+GE12*COS(RADIANS(GA46)+GA14)","v":{"$error":"#DIV/0!"}},{"$f":"IF(GB13>GB46,ATAN((GC13-GC46)/(GB13-GB46)),ATAN((GC13-GC46)/(GB46-GB13)))","v":{"$error":"#DIV/0!"}},{"$f":"IF(GB13>GB46,(GB13-GB46)/COS(GD46),(GB46-GB13)/COS(GD46))","v":{"$error":"#DIV/0!"}},null,null,null,null,null,null,null,null,null,null,null,null,null,null,null,{"$f":"GU45+GT11","v":-30},-0.52359877559829882,{"$f":"HB13+HB10*COS(GV46)","v":{"$error":"#REF!"}},{"$f":"HC13-HB10*SIN(GV46)","v":{"$error":"#REF!"}},{"$f":"SQRT(POWER((HB12-GW46),2)+POWER((HC12-GX46),2))","v":{"$error":"#REF!"}},{"$f":"ABS(HB9-GY46)","v":{"$error":"#REF!"}},null,7,40,2,"راس پایین",{"$f":"ATAN((HB46-HB45)/(HC45-HC46))","v":0.19739555984988078},"γ18",null,null,null,null,null,null,null,{"$f":"-HK46+HP9","v":0},0,null,null,null,null,null,null,null,null,null,null,null,null,null,null,null,null,null,null,null,null,null,null,null,null,null,null,null,null,null,null,null,null,null,null,null,null,null,null,null,null,null,null,null,null,null,null,null,null,null,null,null,null,null,null,null,null,null,null,null,null,null,null,null,null,null,null,null,null,null,null,null,null,null,null,null,null,null,null,null,null,null,null,null,null,null,null,null,null,null,null,null,null,null,null,null,null,null,null,null,null,null,null,null,null,null,null,null,null,null,null,null,null,null,null,null,null,null,null,null,null,null,null,null,null,null,null,null,null,null,null,null,null,null,null,null,null,null,null,null,null,null,null,null,null,null,null,null,null,null,null,null,null,null,null,null,null,null,null,null,null,"w12",{"$f":"O17*40/NV32","v":4.2448979591836729},"ضریب کاهش تعداد دانه ها",null,null,null,null,null,null,null,null,"f11",{"$f":"'متغیرها '!C864","v":0.75},"زاویه فلش دانه",null,null,null,null,null,null,null,null,"f11",{"$f":"'متغیرها '!C864","v":0.75},"زاویه فلش دانه",null,null,null,null,null,null,null,null,"g3",{"$f":"PC35","v":0.42352941176470588},"ارتفاع نیم دایره",null,null,null,null,null,null,null,null,"g3",{"$f":"PN35","v":0.42352941176470588},"ارتفاع نیم دایره",null,null,null,null,null,null,null,null,{"$f":"PX30+4","v":-37.5},{"$f":"PY43","v":15},"t18",null,"نقطه شروع انحنا","مولفه افقی","مولفه عمودی",{"$f":"QC50","v":-49.024999999999999},{"$f":"QD50","v":10},{"$f":"QB50","v":"g4"},null,null,null,"یقه گرد پشت",null,15.204824185745231,143.42456590912937,"26پ"]
[null,null,null,null,null,null,null,null,null,null,null,null,null,null,null,null,null,null,null,null,null,null,null,null,null,null,null,null,null,null,null,null,null,{"$error":"#DIV/0!"},0,{"$f":"(10/3)*((AM47/AL47)*(1/I6)-1)","v":-3.3333333333333335},{"$f":"(100/68)*((AO47/AN47)*(1/I7)-1)","v":{"$error":"#DIV/0!"}},13.5,null,null,36,null,41,null,null,null,null,null,null,null,null,null,null,null,null,null,null,null,null,null,null,null,null,null,null,null,null,null,null,null,null,null,null,null,null,null,null,null,null,null,null,null,null,null,null,null,{"$f":"CI38","v":24},{"$f":"CJ37","v":106.99999999999999},"j13",null,63.42,122.11099999999999,"j5'''",null,null,null,null,null,null,null,null,null,null,null,null,null,null,null,null,null,null,null,null,null,null,"(j1 → j3)",{"$f":"0.21*CJ16","v":11.969999999999999},"بدون انتخاب",null,null,null,null,null,null,null,null,null,null,null,null,null,null,null,null,null,null,null,null,null,null,null,null,null,null,null,null,null,null,null,null,null,null,null,null,null,null,null,null,null,null,null,{"$f":"FF13","v":0},{"$f":"FG46+'طراحی همه الگوها'!U258","v":18},18,null,{"$f":"FJ45+0.75*(FJ49-FJ45)","v":112.85},{"$f":"FK45+0.5*(FK49-FK45)","v":56.9},"13''",null,null,null,null,null,{"$f":"FR45","v":12},{"$f":"FS45","v":111.52706077625875},"s'12",null,null,null,null,null,null,64,{"$f":"GB12+GE12*SIN(RADIANS(GA47)+GA14)","v":{"$error":"#DIV/0!"}},{"$f":"GC12+GE12*COS(RADIANS(GA47)+GA14)","v":{"$error":"#DIV/0!"}},{"$f":"IF(GB13>GB47,ATAN((GC13-GC47)/(GB13-GB47)),ATAN((GC13-GC47)/(GB47-GB13)))","v":{"$error":"#DIV/0!"}},{"$f":"IF(GB13>GB47,(GB13-GB47)/COS(GD47),(GB47-GB13)/COS(GD47))","v":{"$error":"#DIV/0!"}},null,null,null,null,null,null,null,null,null,null,null,null,null,null,null,{"$f":"GU46+GT11","v":-28},-0.48869219055841229,{"$f":"HB13+HB10*COS(GV47)","v":{"$error":"#REF!"}},{"$f":"HC13-HB10*SIN(GV47)","v":{"$error":"#REF!"}},{"$f":"SQRT(POWER((HB12-GW47),2)+POWER((HC12-GX47),2))","v":{"$error":"#REF!"}},{"$f":"ABS(HB9-GY47)","v":{"$error":"#REF!"}},null,10,"m4","ضلع بالا",null,{"$f":"RADIANS(90)-RADIANS(HF46)-HB48","v":1.829150512145848},"m5",null,null,null,null,null,null,null,{"$f":"-HK47+HP9","v":0},0,null,null,null,null,null,null,null,null,null,null,null,null,null,null,null,null,null,null,null,null,null,null,null,null,null,null,null,null,null,null,null,null,null,null,null,null,null,null,null,null,null,null,null,null,null,null,null,null,null,null,null,null,null,null,null,null,null,null,null,null,null,null,null,null,null,null,null,null,null,null,null,null,null,null,null,null,null,null,null,null,null,null,null,null,null,null,null,null,null,null,null,null,null,null,null,null,null,null,null,null,null,null,null,null,null,null,null,null,null,null,null,null,null,null,null,null,null,null,null,null,null,null,null,null,null,null,null,null,null,null,null,null,null,null,null,null,null,null,null,null,null,null,null,null,null,null,null,null,null,null,null,null,null,null,null,null,null,null,null,null,"f4",{"$f":"NV37*NV33","v":0.3600000000000001},"بزرگی فلش رج",null,null,null,"باکس نوشته a2",null,null,{"$f":"OA47","v":"باکس نوشته a2"},null,null,null,null,null,null,null,null,{"$f":"OF63","v":32.21153846153846},{"$f":"OG63","v":5.4235294117647062},"m4",null,null,null,null,null,null,null,null,{"$f":"OQ63","v":28.397435897435898},{"$f":"OR63","v":5.4235294117647062},"m4",null,"n0",{"$f":"PB17*40/PC34","v":2.6218487394957983},"ضریب کاهش تعداد دانه ها",null,null,null,null,{"$f":"PB63","v":34.118589743589745},{"$f":"PC63","v":5.4235294117647062},"n4",null,"n0",{"$f":"PM17*40/PN34","v":2.6218487394957983},"ضریب کاهش تعداد دانه ها",null,null,null,null,{"$f":"PM63","v":42.891025641025635},{"$f":"PN63","v":5.4235294117647062},"n4",null,{"$f":"PX43","v":-48.5},{"$f":"PY43+PY36-PY29","v":19.285714285714285},"t19",null,{"$f":"PZ37","v":"t9"},{"$f":"PX37","v":-48.5},{"$f":"PY37","v":9.2857142857142865},{"$f":"QC52","v":-48.8675},{"$f":"QD52","v":10.514285714285716},{"$f":"QB52","v":"g6"},null,{"$f":"GL101","v":18.010053605248086},150.56766607523292,"23پ",null,12.000802743645997,143.16389979249635,"24پ"]
[null,null,null,null,null,null,null,null,null,null,null,null,null,null,null,null,null,null,null,null,null,null,null,null,null,null,null,null,null,null,null,null,null,{"$error":"#DIV/0!"},0,{"$f":"(10/3)*((AM48/AL48)*(1/I6)-1)","v":-3.3333333333333335},{"$f":"(100/68)*((AO48/AN48)*(1/I7)-1)","v":{"$error":"#DIV/0!"}},13.5,null,null,36,null,42,null,null,null,null,null,null,null,null,null,null,null,null,null,null,null,null,null,null,null,null,null,null,null,null,null,null,null,null,null,null,null,null,null,null,null,null,null,null,null,null,null,null,null,{"$f":"CI47+0.97*(CI39-CI47)","v":87.728999999999999},{"$f":"CJ47+0.78*(CJ39-CJ47)","v":158.24599999999998},"j5'",null,40.424999999999997,109.62799999999999,"j5''''",null,null,null,null,null,null,null,null,null,null,null,null,null,null,null,null,null,null,null,null,null,null,null,null,null,null,{"$f":"DM30","v":82.8},{"$f":"DN30","v":7},"s13",null,null,null,null,null,null,null,null,null,null,null,null,null,null,null,null,null,null,null,null,null,null,null,null,null,null,null,null,null,null,null,{"$f":"ET28","v":43},{"$f":"EU28","v":77.725000000000009},15,null,null,null,null,null,{"$f":"FF13","v":0},{"$f":"FG47+'طراحی همه الگوها'!U259","v":109.8},14,null,{"$f":"FJ45+0.95*(FJ49-FJ45)","v":117.85},{"$f":"FK45+0.8*(FK49-FK45)","v":88.64},"13'''",null,null,null,null,null,{"$f":"FO23","v":32.627499999999998},{"$f":"FP23","v":111.52706077625875},"s12",null,null,null,null,null,null,"بهینه α",{"$f":"IF(GE13<GE16,GA16,IF(GE13<GE17,GA17,IF(GE13<GE18,GA18,IF(GE13<GE19,GA19,IF(GE13<GE20,GA20,IF(GE13<GE21,GA21,IF(GE13<GE22,GA22,IF(GE13<GE23,GA23,IF(GE13<GE24,GA24,IF(GE13<GE25,GA25,IF(GE13<GE26,GA26,IF(GE13<GE27,GA27,IF(GE13<GE28,GA28,IF(GE13<GE29,GA29,IF(GE13<GE30,GA30,IF(GE13<GE31,GA31,IF(GE13<GE32,GA32,IF(GE13<GE33,GA33,IF(GE13<GE34,GA34,IF(GE13<GE35,GA35,IF(GE13<GE36,GA36,IF(GE13<GE37,GA37,IF(GE13<GE38,GA38,IF(GE13<GE39,GA39,IF(GE13<GE40,GA40,IF(GE13<GE41,GA41,IF(GE13<GE42,GA42,IF(GE13<GE43,GA43,IF(GE13<GE44,GA44,IF(GE13<GE45,GA45,IF(GE13<GE46,GA46,GA47)))))))))))))))))))))))))))))))","v":{"$error":"#DIV/0!"}},{"$f":"RADIANS(GB48)","v":{"$error":"#DIV/0!"}},"c21",{"$f":"IF(GB13>GB50,ATAN((GC13-GC50)/(GB13-GB50)),ATAN((GC13-GC50)/(GB50-GB13)))","v":{"$error":"#DIV/0!"}},null,null,null,null,null,null,null,null,null,null,null,null,null,null,null,{"$f":"GU47+GT11","v":-26},-0.4537856055185257,{"$f":"HB13+HB10*COS(GV48)","v":{"$error":"#REF!"}},{"$f":"HC13-HB10*SIN(GV48)","v":{"$error":"#REF!"}},{"$f":"SQRT(POWER((HB12-GW48),2)+POWER((HC12-GX48),2))","v":{"$error":"#REF!"}},{"$f":"ABS(HB9-GY48)","v":{"$error":"#REF!"}},null,{"$f":"RADIANS(-15)","v":-0.26179938779914941},"m1","زاویه ضلع پایین با افق به رادیان ساعتگرزیر افق عدد مثبت",null,{"$f":"HB47*COS(HF49)-HF45*COS(HF47)","v":4.2754038455317325},"m7",null,null,null,null,null,null,null,{"$f":"-HK48+HP9","v":0},0,null,null,null,null,null,null,null,null,null,null,null,null,null,null,null,null,null,null,null,null,null,null,null,null,null,null,null,null,null,null,null,null,null,null,null,null,null,null,null,null,null,null,null,null,null,null,null,null,null,null,null,null,null,null,null,null,null,null,null,null,null,null,null,null,null,null,null,null,null,null,null,null,null,null,null,null,null,null,null,null,null,null,null,null,null,null,null,null,null,null,null,null,null,null,null,null,null,null,null,null,null,null,null,null,null,null,null,null,null,null,null,null,null,null,null,null,null,null,null,null,null,null,null,null,null,null,null,null,null,null,null,null,null,null,null,null,null,null,null,null,null,null,null,null,null,null,null,null,null,null,null,null,null,null,null,null,null,null,null,null,null,"نقاط خروجی ",null,null,null,"متغیرهای ورودی",null,{"$f":"NZ54","v":-25},{"$f":"OA54","v":5.6},{"$f":"NY54","v":"w8"},null,"محاسبات",null,null,null,null,null,null,{"$f":"OF65","v":-25},{"$f":"OG65","v":5.4235294117647062},"m6",null,"محاسبات",null,null,null,null,null,null,{"$f":"OQ65","v":-25},{"$f":"OR65","v":5.4235294117647062},"m6",null,"f4",{"$f":"PC39*PC35","v":0.25411764705882356},"بزرگی فلش رج",null,null,null,null,{"$f":"PB64","v":-25.190705128205128},{"$f":"PC64","v":5.4235294117647062},"n5",null,"f4",{"$f":"PN39*PN35","v":0.25411764705882356},"بزرگی فلش رج",null,null,null,null,{"$f":"PM64","v":-25.381410256410255},{"$f":"PN64","v":5.4235294117647062},"n'5",null,{"$f":"PX44","v":-41.5},{"$f":"PY47","v":19.285714285714285},"t20",null,"g11",{"$f":"QC52+0.8*(QC50-QC52)","v":-48.993499999999997},{"$f":"QD50+0.6*(QD52-QD50)","v":10.30857142857143},{"$f":"QC49","v":-48.5},{"$f":"QD49","v":10.714285714285715},{"$f":"QB49","v":"g2"},null,16.007540203936063,149.00366937543481,"28پ",null,8.7967813015467655,143.42456590912937,"26پ ق"]
[null,null,null,null,null,null,null,null,null,null,null,null,null,null,null,null,null,null,null,null,null,null,null,null,null,null,null,null,null,null,null,null,null,{"$f":"AO49/AN49","v":{"$error":"#DIV/0!"}},{"$f":"AM49/AL49","v":0},{"$f":"(10/3)*((AM49/AL49)*(1/I6)-1)","v":-3.3333333333333335},{"$f":"(100/68)*((AO49/AN49)*(1/I7)-1)","v":{"$error":"#DIV/0!"}},13.5,null,null,36,null,43,null,null,null,null,null,null,null,null,null,null,null,null,null,null,null,null,null,null,null,null,null,null,null,null,null,null,null,null,null,null,null,null,null,null,null,null,null,null,null,null,null,null,null,{"$f":"CI47+0.85*(CI39-CI47)","v":79.844999999999999},{"$f":"CJ47+0.5*(CJ39-CJ47)","v":139.85},"j5''",null,{"$f":"CI47","v":24},{"$f":"CJ47","v":106.99999999999999},"j13",null,null,null,null,null,null,null,null,null,null,null,null,null,null,null,null,null,null,null,null,null,null,null,null,null,null,{"$f":"DM19","v":12},{"$f":"DN30","v":7},2,null,null,null,null,null,null,null,null,null,null,null,null,null,null,null,null,null,null,null,null,null,null,null,null,null,null,null,null,null,null,null,{"$f":"ET30","v":50.5},{"$f":"EU30","v":55.025000000000006},19,null,null,null,null,null,{"$f":"FF13+'طراحی همه الگوها'!U263","v":119.1},{"$f":"FG48","v":109.8},15,null,{"$f":"FF49","v":119.1},{"$f":"FG49","v":109.8},15,null,null,null,null,null,null,null,null,null,null,null,null,null,null,null,"مولفه افقی","مولفه عمودی",null,null,null,null,null,null,"پروسیجرها",null,null,null,null,null,null,null,null,null,null,{"$f":"GU48+GT11","v":-24},-0.41887902047863912,{"$f":"HB13+HB10*COS(GV49)","v":{"$error":"#REF!"}},{"$f":"HC13-HB10*SIN(GV49)","v":{"$error":"#REF!"}},{"$f":"SQRT(POWER((HB12-GW49),2)+POWER((HC12-GX49),2))","v":{"$error":"#REF!"}},{"$f":"ABS(HB9-GY49)","v":{"$error":"#REF!"}},null,"راس سوم",null,null,null,{"$f":"ASIN(HF50/HB47)","v":1.4030193189660189},"m8",null,null,null,null,null,null,null,{"$f":"-HK49+HP9","v":0},0,null,null,null,null,null,null,null,null,null,null,null,null,null,null,null,null,null,null,null,null,null,null,null,null,null,null,null,null,null,null,null,null,null,null,null,null,null,null,null,null,null,null,null,null,null,null,null,null,null,null,null,null,null,null,null,null,null,null,null,null,null,null,null,null,null,null,null,null,null,null,null,null,null,null,null,null,null,null,null,null,null,null,null,null,null,null,null,null,null,null,null,null,null,null,null,null,null,null,null,null,null,null,null,null,null,null,null,null,null,null,null,null,null,null,null,null,null,null,null,null,null,null,null,null,null,null,null,null,null,null,null,null,null,null,null,null,null,null,null,null,null,null,null,null,null,null,null,null,null,null,null,null,null,null,null,null,null,null,null,null,{"$f":"NV30+NV5/NV46","v":22.822115384615394},{"$f":"NV31","v":5},"w2",null,"طول باکس نوشته",{"$f":"1.1*NV35","v":4.95},"h3",{"$f":"NZ59","v":-3.5639423076923031},{"$f":"OA59","v":5.6},{"$f":"NY59","v":"h8"},null,"g3",{"$f":"OG38","v":0.42352941176470588},"ارتفاع نیم دایره",null,"زاویه فلش",{"$f":"OG43","v":0.5},"f5",null,null,"فلش به سمت چپ",null,"g3",{"$f":"OR38","v":0.42352941176470588},"ارتفاع نیم دایره",null,"زاویه فلش",{"$f":"OR43","v":0.5},"f5",null,null,"فلش به سمت چپ",null,"n20",0.15,"فاصله فلش کم کردن",null,"زاویه فلش",{"$f":"PC40","v":0.5},"f5",null,null,"فلش به سمت چپ",null,"n20",0.15,"فاصله فلش کم کردن",null,"زاویه فلش",{"$f":"PN40","v":0.5},"f5",null,null,"فلش به سمت چپ",null,{"$f":"PX45","v":-45},{"$f":"PY47","v":19.285714285714285},"t21",null,"g2",{"$f":"QC47","v":-48.5},{"$f":"QD47+QC44","v":10.714285714285715},null,null,null,null,13.204021442099233,148.22167102553573,"26پ",null,5.9932625397099351,144.20656425902845,"28پ ق"]
[null,null,null,null,null,null,null,null,null,null,null,null,null,null,null,null,null,null,null,null,null,null,null,null,null,null,null,null,null,null,null,null,null,{"$error":"#DIV/0!"},0,{"$f":"(10/3)*((AM50/AL50)*(1/I6)-1)","v":-3.3333333333333335},{"$f":"(100/68)*((AO50/AN50)*(1/I7)-1)","v":{"$error":"#DIV/0!"}},13.5,null,null,36,null,{"$f":"AQ49+1","v":44},null,null,null,null,null,null,null,null,null,null,null,null,null,null,null,null,null,null,null,null,null,null,null,null,null,null,null,null,null,null,null,null,null,null,null,null,null,null,null,null,null,null,null,{"$f":"CI47+0.6*(CI39-CI47)","v":63.42},{"$f":"CJ47+0.23*(CJ39-CJ47)","v":122.11099999999999},"j5'''",null,{"$f":"CI37","v":12},{"$f":"CJ37","v":106.99999999999999},"j2",null,null,null,null,null,null,null,null,null,null,null,null,null,null,null,null,null,null,null,null,null,null,null,null,null,null,null,null,null,null,null,null,null,null,null,null,null,null,null,null,null,null,null,null,null,null,null,null,null,null,null,null,null,null,null,null,null,null,null,null,null,null,null,null,null,null,null,null,null,null,null,null,null,null,null,null,null,null,null,null,{"$f":"FR48","v":32.627499999999998},{"$f":"FS48","v":111.52706077625875},"s12",null,null,null,null,null,null,"e23",{"$f":"GB12+GE12*SIN(GC48+GA14)","v":{"$error":"#DIV/0!"}},{"$f":"GC12+GE12*COS(GC48+GA14)","v":{"$error":"#DIV/0!"}},"راس سوم ",null,null,null,null,null,null,null,null,null,null,null,null,null,null,null,null,{"$f":"GU49+GT11","v":-22},-0.38397243543875248,{"$f":"HB13+HB10*COS(GV50)","v":{"$error":"#REF!"}},{"$f":"HC13-HB10*SIN(GV50)","v":{"$error":"#REF!"}},{"$f":"SQRT(POWER((HB12-GW50),2)+POWER((HC12-GX50),2))","v":{"$error":"#REF!"}},{"$f":"ABS(HB9-GY50)","v":{"$error":"#REF!"}},null,{"$f":"HB46+HF48*COS(HB48)","v":11.129722992214699},{"$f":"HC46-HF48*SIN(HB48)","v":41.106555940728171},3,null,{"$f":"HF45*SIN(HF47)","v":9.8595842240901757},"m9",null,null,null,null,null,null,null,{"$f":"-HK50+HP9","v":0},0,null,null,null,null,null,null,null,null,null,null,null,null,null,null,null,null,null,null,null,null,null,null,null,null,null,null,null,null,null,null,null,null,null,null,null,null,null,null,null,null,null,null,null,null,null,null,null,null,null,null,null,null,null,null,null,null,null,null,null,null,null,null,null,null,null,null,null,null,null,null,null,null,null,null,null,null,null,null,null,null,null,null,null,null,null,null,null,null,null,null,null,null,null,null,null,null,null,null,null,null,null,null,null,null,null,null,null,null,null,null,null,null,null,null,null,null,null,null,null,null,null,null,null,null,null,null,null,null,null,null,null,null,null,null,null,null,null,null,null,null,null,null,null,null,null,null,null,null,null,null,null,null,null,null,null,null,null,null,null,null,{"$f":"NV30","v":-25},{"$f":"NV55+NV33*NV6","v":9.8000000000000007},"w3",null,"پهنای باکس نوشته",{"$f":"NV36","v":0.5},"h4",null,null,null,null,"m0",{"$f":"S18*40/OG37","v":2.6218487394957983},"ضریب کاهش تعداد دانه ها",null,"بزرگی فلش",{"$f":"OG51","v":0.25411764705882356},"f4",{"$f":"OK52","v":-19.278846153846153},{"$f":"OL52","v":5.4235294117647062},{"$f":"OJ52","v":"m5"},null,"m0",{"$f":"S18*40/OR37","v":2.6218487394957983},"ضریب کاهش تعداد دانه ها",null,"بزرگی فلش",{"$f":"OR51","v":0.25411764705882356},"f4",{"$f":"OV52","v":-19.660256410256409},{"$f":"OW52","v":5.4235294117647062},{"$f":"OU52","v":"m5"},null,"n40",0.38,"فاصله فلش کم کردن",null,"بزرگی فلش",{"$f":"PC48","v":0.25411764705882356},"f4",{"$f":"PG52","v":-19.088141025641026},{"$f":"PH52","v":5.4235294117647062},{"$f":"PF52","v":"n6"},null,"n40",0.38,"فاصله فلش کم کردن",null,"بزرگی فلش",{"$f":"PN48","v":0.25411764705882356},"f4",{"$f":"PR52","v":-18.210897435897436},{"$f":"PS52","v":5.4235294117647062},{"$f":"PQ52","v":"n6"},null,{"$f":"PX30+3","v":-38.5},{"$f":"PY47","v":19.285714285714285},"t22",null,"g4",{"$f":"QC47-QC45*QC43/40","v":-49.024999999999999},{"$f":"QD47+0.5*QC44","v":10},{"$f":"QC54","v":-49.243622955421095},{"$f":"QD54","v":9.9964200115132726},{"$f":"QB54","v":"g8"},null,9.9999999999999982,147.96100490890271,"24پ",null,3.9907491383979128,145.77056095882656,"23پ ق"]
[null,null,null,null,null,null,null,null,null,null,null,null,null,null,null,null,null,null,null,null,null,null,null,null,null,null,null,null,null,null,null,null,null,{"$error":"#DIV/0!"},0,{"$f":"(10/3)*((AM51/AL51)*(1/I6)-1)","v":-3.3333333333333335},{"$f":"(100/68)*((AO51/AN51)*(1/I7)-1)","v":{"$error":"#DIV/0!"}},13.5,null,null,36,null,45,null,null,null,null,null,null,null,null,null,null,null,null,null,null,null,null,null,null,null,null,null,null,null,null,null,null,null,null,null,null,null,null,null,null,null,null,null,null,null,null,null,null,null,{"$f":"CI47+0.25*(CI39-CI47)","v":40.424999999999997},{"$f":"CJ47+0.04*(CJ39-CJ47)","v":109.62799999999999},"j5''''",null,null,null,null,null,null,null,null,null,null,null,null,null,null,null,null,null,null,null,null,null,null,null,null,null,null,null,null,null,null,{"$f":"DP49","v":12},{"$f":"DQ49","v":7},2,null,null,null,null,null,null,null,null,null,null,null,null,null,null,null,null,null,null,null,null,null,null,null,null,null,null,null,null,null,null,null,{"$f":"ET34","v":58},{"$f":"EU34","v":77.725000000000009},17,null,null,null,null,null,{"$f":"FJ54","v":56.1},{"$f":"FG46","v":4},16,null,{"$f":"FF47","v":0},{"$f":"FG47","v":18},18,null,null,null,null,null,{"$f":"FO24","v":32.627499999999998},{"$f":"FP24","v":107.52706077625875},"41 شبیه ساز",null,null,null,null,null,null,null,null,null,null,null,null,null,null,null,null,null,null,null,null,null,null,null,null,null,null,{"$f":"GU50+GT11","v":-20},-0.3490658503988659,{"$f":"HB13+HB10*COS(GV51)","v":{"$error":"#REF!"}},{"$f":"HC13-HB10*SIN(GV51)","v":{"$error":"#REF!"}},{"$f":"SQRT(POWER((HB12-GW51),2)+POWER((HC12-GX51),2))","v":{"$error":"#REF!"}},{"$f":"ABS(HB9-GY51)","v":{"$error":"#REF!"}},null,null,null,null,null,null,null,null,null,null,null,null,null,null,{"$f":"-HK51+HP9","v":0},0,null,null,null,null,null,null,null,null,null,null,null,null,null,null,null,null,null,null,null,null,null,null,null,null,null,null,null,null,null,null,null,null,null,null,null,null,null,null,null,null,null,null,null,null,null,null,null,null,null,null,null,null,null,null,null,null,null,null,null,null,null,null,null,null,null,null,null,null,null,null,null,null,null,null,null,null,null,null,null,null,null,null,null,null,null,null,null,null,null,null,null,null,null,null,null,null,null,null,null,null,null,null,null,null,null,null,null,null,null,null,null,null,null,null,null,null,null,null,null,null,null,null,null,null,null,null,null,null,null,null,null,null,null,null,null,null,null,null,null,null,null,null,null,null,null,null,null,null,null,null,null,null,null,null,null,null,null,null,null,null,{"$f":"NU49","v":22.822115384615394},{"$f":"NV50","v":9.8000000000000007},"w4",null,null,null,null,{"$f":"NZ61","v":-3.5639423076923031},{"$f":"OA61","v":5.85},{"$f":"NY61","v":"h10"},null,"f4",{"$f":"OG42*OG38","v":0.25411764705882356},"بزرگی فلش رج",null,"نقطه ورودی سر فلش","مولفه افقی","مولفه عمودی",{"$f":"OK54","v":-19.02472850678733},{"$f":"OL54","v":5.5505882352941178},{"$f":"OJ54","v":"f3"},null,"f4",{"$f":"OR42*OR38","v":0.25411764705882356},"بزرگی فلش رج",null,"نقطه ورودی سر فلش","مولفه افقی","مولفه عمودی",{"$f":"OV54","v":-19.406138763197585},{"$f":"OW54","v":5.5505882352941178},{"$f":"OU54","v":"f3"},null,"n50",0.05,"فاصله فلش کم کردن",null,"نقطه ورودی سر فلش","مولفه افقی","مولفه عمودی",{"$f":"PG54","v":-18.834023378582202},{"$f":"PH54","v":5.5505882352941178},{"$f":"PF54","v":"f3"},null,"n50",0.06,"فاصله فلش کم کردن",null,"نقطه ورودی سر فلش","مولفه افقی","مولفه عمودی",{"$f":"PR54","v":-17.956779788838613},{"$f":"PS54","v":5.5505882352941178},{"$f":"PQ54","v":"f3"},null,{"$f":"PX47","v":-48.5},{"$f":"PY47+PY36-PY29","v":23.571428571428569},"t23",null,"g5",{"$f":"QC47+0.7*(QC50-QC47)","v":-48.8675},{"$f":"QD47+0.28*(QD50-QD47)","v":9.4857142857142858},{"$f":"QC48","v":-48.993499999999997},{"$f":"QD48","v":10.30857142857143},{"$f":"QB48","v":"g11"},null,null,null,"قرینه یقه گرد پشت"]
[null,null,null,null,null,null,null,null,null,null,null,null,null,null,null,null,null,null,null,null,null,null,null,null,null,null,null,null,null,null,null,null,null,{"$error":"#DIV/0!"},0,{"$f":"(10/3)*((AM52/AL52)*(1/I6)-1)","v":-3.3333333333333335},{"$f":"(100/68)*((AO52/AN52)*(1/I7)-1)","v":{"$error":"#DIV/0!"}},13.5,null,null,36,null,46,null,null,null,null,null,null,null,null,null,null,null,null,null,null,null,null,null,null,null,null,null,null,null,null,null,null,null,null,null,null,null,null,null,null,null,null,null,null,null,null,null,null,null,null,null,null,null,null,null,null,null,null,null,null,null,null,null,null,null,null,null,null,null,null,null,null,null,null,null,null,null,null,null,null,null,null,{"$f":"DM15","v":12},{"$f":"DN15","v":123.7},"خط سینه",null,null,null,null,null,null,null,null,null,null,null,null,null,null,null,null,null,null,null,null,null,null,null,null,null,null,null,null,null,null,null,{"$f":"ET32","v":50.5},{"$f":"EU32","v":100.42500000000001},18,null,null,null,null,null,null,null,null,null,{"$f":"FJ18","v":22.4},{"$f":"FG46+'طراحی همه الگوها'!U269","v":18.899999999999999},24,null,null,null,null,null,null,null,null,null,null,null,null,null,null,null,null,null,null,null,null,null,null,null,null,null,null,null,null,null,null,null,null,null,null,{"$f":"GU51+GT11","v":-18},-0.31415926535897931,{"$f":"HB13+HB10*COS(GV52)","v":{"$error":"#REF!"}},{"$f":"HC13-HB10*SIN(GV52)","v":{"$error":"#REF!"}},{"$f":"SQRT(POWER((HB12-GW52),2)+POWER((HC12-GX52),2))","v":{"$error":"#REF!"}},{"$f":"ABS(HB9-GY52)","v":{"$error":"#REF!"}},null,null,null,null,null,null,null,null,null,null,null,null,null,null,{"$f":"-HK52+HP9","v":0},0,null,null,null,null,null,null,null,null,null,null,null,null,null,null,null,null,null,null,null,null,null,null,null,null,null,null,null,null,null,null,null,null,null,null,null,null,null,null,null,null,null,null,null,null,null,null,null,null,null,null,null,null,null,null,null,null,null,null,null,null,null,null,null,null,null,null,null,null,null,null,null,null,null,null,null,null,null,null,null,null,null,null,null,null,null,null,null,null,null,null,null,null,null,null,null,null,null,null,null,null,null,null,null,null,null,null,null,null,null,null,null,null,null,null,null,null,null,null,null,null,null,null,null,null,null,null,null,null,null,null,null,null,null,null,null,null,null,null,null,null,null,null,null,null,null,null,null,null,null,null,null,null,null,null,null,null,null,null,null,null,{"$f":"NU49","v":22.822115384615394},{"$f":"NV31+NV33","v":5.6},"w5",null,null,null,null,{"$f":"NZ62","v":-3.5639423076923031},{"$f":"OA62","v":5.35},{"$f":"NY62","v":"h11"},null,"m20",0.2,"فاصله فلش کم کردن",null,"m5",{"$f":"OF64","v":-19.278846153846153},{"$f":"OG64","v":5.4235294117647062},null,null,null,null,"m20",{"$f":"OG52","v":0.2},"فاصله فلش کم کردن",null,"m5",{"$f":"OQ64","v":-19.660256410256409},{"$f":"OR64","v":5.4235294117647062},null,null,null,null,"n60",0.75,"فاصله فلش کم کردن",null,"n6",{"$f":"PB65","v":-19.088141025641026},{"$f":"PC65","v":5.4235294117647062},null,null,null,null,"n60",0.4,"فاصله فلش کم کردن",null,"n6",{"$f":"PM65","v":-18.210897435897436},{"$f":"PN65","v":5.4235294117647062},null,null,null,null,{"$f":"PX48","v":-41.5},{"$f":"PY51","v":23.571428571428569},"t24",null,"g6",{"$f":"QC51","v":-48.8675},{"$f":"QD49-QD51+QD47","v":10.514285714285716},null,null,null,null,{"$f":"GP101","v":1.9899463947519145},150.56766607523292,"23پ ق"]
[null,null,null,null,null,null,null,null,null,null,null,null,null,null,null,null,null,null,null,null,null,null,null,null,null,null,null,null,null,null,null,null,null,{"$error":"#DIV/0!"},0,{"$f":"(10/3)*((AM53/AL53)*(1/I6)-1)","v":-3.3333333333333335},{"$f":"(100/68)*((AO53/AN53)*(1/I7)-1)","v":{"$error":"#DIV/0!"}},13.5,null,null,36,null,47,null,null,null,null,null,null,null,null,null,null,null,null,null,null,null,null,null,null,null,null,null,null,null,null,null,null,null,null,null,null,null,null,null,null,null,null,null,null,null,null,null,null,null,null,null,null,null,null,null,null,null,null,null,null,null,null,null,null,null,null,null,null,null,null,null,null,null,null,null,null,null,null,null,null,null,null,null,null,null,null,null,null,null,null,null,null,null,null,null,null,null,null,null,null,null,null,null,null,null,null,null,null,null,null,null,null,null,null,null,null,null,null,null,null,null,null,null,null,null,null,null,null,{"$f":"FJ19","v":44.9},{"$f":"FG46+'طراحی همه الگوها'!U271","v":22.9},26,null,null,null,null,null,{"$f":"FR51","v":32.627499999999998},{"$f":"FS51","v":107.52706077625875},"41 شبیه ساز",null,null,null,null,null,null,null,null,null,null,null,null,null,null,null,null,null,null,null,null,null,null,null,null,null,null,null,null,null,null,null,null,null,null,null,null,null,null,null,null,null,null,null,null,null,null,{"$f":"-HK53+HP9","v":0},0,null,null,null,null,null,null,null,null,null,null,null,null,null,null,null,null,null,null,null,null,null,null,null,null,null,null,null,null,null,null,null,null,null,null,null,null,null,null,null,null,null,null,null,null,null,null,null,null,null,null,null,null,null,null,null,null,null,null,null,null,null,null,null,null,null,null,null,null,null,null,null,null,null,null,null,null,null,null,null,null,null,null,null,null,null,null,null,null,null,null,null,null,null,null,null,null,null,null,null,null,null,null,null,null,null,null,null,null,null,null,null,null,null,null,null,null,null,null,null,null,null,null,null,null,null,null,null,null,null,null,null,null,null,null,null,null,null,null,null,null,null,null,null,null,null,null,null,null,null,null,null,null,null,null,null,null,null,null,null,null,{"$f":"NV30+0.1*(NU49-NV30)","v":-20.217788461538461},{"$f":"NV31","v":5},"w6",null,"نقطه شروع رج(چپ)","مولفه افقی","مولفه عمودی",null,null,null,null,"m30",0.25,"فاصله فلش کم کردن",null,"f2",{"$f":"OK52+1*OK50","v":-19.02472850678733},{"$f":"OL52-OK49*OK50","v":5.2964705882352945},{"$f":"OK52","v":-19.278846153846153},{"$f":"OL52","v":5.4235294117647062},{"$f":"OJ52","v":"m5"},null,"m30",{"$f":"OG53","v":0.25},"فاصله فلش کم کردن",null,"f2",{"$f":"OV52+1*OV50","v":-19.406138763197585},{"$f":"OW52-OV49*OV50","v":5.2964705882352945},{"$f":"OV52","v":-19.660256410256409},{"$f":"OW52","v":5.4235294117647062},{"$f":"OU52","v":"m5"},null,"n61",0.03,"فاصله فلش کم کردن",null,"f2",{"$f":"PG52+1*PG50","v":-18.834023378582202},{"$f":"PH52-PG49*PG50","v":5.2964705882352945},{"$f":"PG52","v":-19.088141025641026},{"$f":"PH52","v":5.4235294117647062},{"$f":"PF52","v":"n6"},null,"n61",0.11,"فاصله فلش کم کردن",null,"f2",{"$f":"PR52+1*PR50","v":-17.956779788838613},{"$f":"PS52-PR49*PR50","v":5.2964705882352945},{"$f":"PR52","v":-18.210897435897436},{"$f":"PS52","v":5.4235294117647062},{"$f":"PQ52","v":"n6"},null,{"$f":"PX49","v":-45},{"$f":"PY51","v":23.571428571428569},"t25",null,"g7",{"$f":"QC48+0.7*QD45*SIN(RADIANS(30)-2*ATAN((QC48-QC51)/(QD48-QD51+0.0001)))","v":-48.699016253334193},{"$f":"QD48-0.7*QD45*COS(RADIANS(30)-2*ATAN((QC48-QC51)/(QD48-QD51+0.0001)))","v":10.03786989006514},{"$f":"QC48","v":-48.993499999999997},{"$f":"QD48","v":10.30857142857143},{"$f":"QB48","v":"g11"},null,3.9924597960639367,149.00366937543481,"28پ ق"]
[null,null,null,null,null,null,null,null,null,null,null,null,null,null,null,null,null,null,null,null,null,null,null,null,null,null,null,null,null,null,null,null,null,{"$error":"#DIV/0!"},0,{"$f":"(10/3)*((AM54/AL54)*(1/I6)-1)","v":-3.3333333333333335},{"$f":"(100/68)*((AO54/AN54)*(1/I7)-1)","v":{"$error":"#DIV/0!"}},13.5,null,null,36,null,48,null,null,null,null,null,null,null,null,null,null,null,null,null,null,null,null,null,null,null,null,null,null,null,null,null,null,null,null,null,null,null,null,null,null,null,null,null,null,null,null,null,null,null,null,null,null,null,null,null,null,null,null,null,null,null,null,null,null,null,null,null,null,null,null,null,null,null,null,null,null,null,null,null,null,null,null,null,null,null,null,null,null,null,null,null,null,null,null,null,null,null,null,null,null,null,null,null,null,null,null,null,null,null,null,null,null,null,null,null,null,{"$f":"EP29","v":12},{"$f":"EQ29","v":172.7},1,null,null,null,null,null,null,null,null,null,{"$f":"FF46+'طراحی همه الگوها'!U260","v":56.1},{"$f":"FG46+'طراحی همه الگوها'!U261","v":26.9},17,null,null,null,null,null,{"$f":"FO31","v":12},{"$f":"FP31","v":107.52706077625875},"s''12",null,null,null,null,null,null,null,null,null,null,null,null,null,null,null,null,null,null,null,null,null,null,null,null,null,null,null,null,null,null,null,null,null,null,null,null,null,null,null,null,null,null,null,null,null,null,{"$f":"-HK54+HP9","v":0},0,null,null,null,null,null,null,null,null,null,null,null,null,null,null,null,null,null,null,null,null,null,null,null,null,null,null,null,null,null,null,null,null,null,null,null,null,null,null,null,null,null,null,null,null,null,null,null,null,null,null,null,null,null,null,null,null,null,null,null,null,null,null,null,null,null,null,null,null,null,null,null,null,null,null,null,null,null,null,null,null,null,null,null,null,null,null,null,null,null,null,null,null,null,null,null,null,null,null,null,null,null,null,null,null,null,null,null,null,null,null,null,null,null,null,null,null,null,null,null,null,null,null,null,null,null,null,null,null,null,null,null,null,null,null,null,null,null,null,null,null,null,null,null,null,null,null,null,null,null,null,null,null,null,null,null,null,null,null,null,null,{"$f":"NU55+0.1*(NU52-NU55)","v":-20.217788461538461},{"$f":"NV52","v":5.6},"w7",null,"w8",{"$f":"NU55","v":-25},{"$f":"NV55","v":5.6},{"$f":"NZ61","v":-3.5639423076923031},{"$f":"OA61","v":5.85},{"$f":"NY61","v":"h10"},null,"m40",0.35,"فاصله فلش کم کردن",null,"f3",{"$f":"OK53","v":-19.02472850678733},{"$f":"OL52+OK49*OK50","v":5.5505882352941178},{"$f":"OK53","v":-19.02472850678733},{"$f":"OL53","v":5.2964705882352945},{"$f":"OJ53","v":"f2"},null,"m40",{"$f":"OG54","v":0.35},"فاصله فلش کم کردن",null,"f3",{"$f":"OV53","v":-19.406138763197585},{"$f":"OW52+OV49*OV50","v":5.5505882352941178},{"$f":"OV53","v":-19.406138763197585},{"$f":"OW53","v":5.2964705882352945},{"$f":"OU53","v":"f2"},null,"n62",0.4,"فاصله فلش کم کردن",null,"f3",{"$f":"PG53","v":-18.834023378582202},{"$f":"PH52+PG49*PG50","v":5.5505882352941178},{"$f":"PG53","v":-18.834023378582202},{"$f":"PH53","v":5.2964705882352945},{"$f":"PF53","v":"f2"},null,"n62",0.3,"فاصله فلش کم کردن",null,"f3",{"$f":"PR53","v":-17.956779788838613},{"$f":"PS52+PR49*PR50","v":5.5505882352941178},{"$f":"PR53","v":-17.956779788838613},{"$f":"PS53","v":5.2964705882352945},{"$f":"PQ53","v":"f2"},null,{"$f":"PX50","v":-38.5},{"$f":"PY51","v":23.571428571428569},"t26",null,"g8",{"$f":"QC48-0.7*QD45*SIN(RADIANS(30)-ATAN((QC48-QC51)/(QD48-QD51+0.0001)))","v":-49.243622955421095},{"$f":"QD48-0.7*QD45*COS(RADIANS(30)-ATAN((QC48-QC51)/(QD48-QD51+0.0001)))","v":9.9964200115132726},{"$f":"QC53","v":-48.699016253334193},{"$f":"QD53","v":10.03786989006514},{"$f":"QB53","v":"g7"},null,6.7959785579007672,148.22167102553573,"26پ ق"]
[null,null,null,null,null,null,null,null,null,null,null,null,null,null,null,null,null,null,null,null,null,null,null,null,null,null,null,null,null,null,null,null,null,{"$error":"#DIV/0!"},0,{"$f":"(10/3)*((AM55/AL55)*(1/I6)-1)","v":-3.3333333333333335},{"$f":"(100/68)*((AO55/AN55)*(1/I7)-1)","v":{"$error":"#DIV/0!"}},13.5,null,null,36,null,49,null,null,null,null,null,null,null,null,null,null,null,null,null,null,null,null,null,null,null,null,null,null,null,null,null,null,null,null,null,null,null,null,null,null,null,null,null,null,null,null,null,null,null,null,null,null,null,null,null,null,null,null,null,null,null,null,null,null,null,null,null,null,null,null,null,null,null,null,null,null,null,null,null,null,null,null,null,null,null,null,null,null,null,null,null,null,null,null,null,null,null,null,null,null,null,null,null,null,null,null,null,null,null,null,null,null,null,null,null,null,{"$f":"EP31","v":20.7},{"$f":"EQ31","v":7},5,null,null,null,null,null,null,null,null,null,null,null,null,null,null,null,null,null,null,null,null,null,null,null,null,null,null,null,null,null,null,null,null,null,null,null,null,null,null,null,null,null,null,null,null,null,null,null,null,null,null,null,null,null,null,null,null,null,null,null,null,null,null,null,null,null,null,{"$f":"-HK55+HP9","v":0},0,null,null,null,null,null,null,null,null,null,null,null,null,null,null,null,null,null,null,null,null,null,null,null,null,null,null,null,null,null,null,null,null,null,null,null,null,null,null,null,null,null,null,null,null,null,null,null,null,null,null,null,null,null,null,null,null,null,null,null,null,null,null,null,null,null,null,null,null,null,null,null,null,null,null,null,null,null,null,null,null,null,null,null,null,null,null,null,null,null,null,null,null,null,null,null,null,null,null,null,null,null,null,null,null,null,null,null,null,null,null,null,null,null,null,null,null,null,null,null,null,null,null,null,null,null,null,null,null,null,null,null,null,null,null,null,null,null,null,null,null,null,null,null,null,null,null,null,null,null,null,null,null,null,null,null,null,null,null,null,null,{"$f":"NV30","v":-25},{"$f":"NV52","v":5.6},"w8",null,"نقطه پایان رج(راست)","مولفه افقی","مولفه عمودی",{"$f":"NZ64","v":1.386057692307697},{"$f":"OA64","v":5.85},{"$f":"NY64","v":"h13"},null,"m50",0.42,"فاصله فلش کم کردن",null,null,null,null,null,null,null,null,"m50",{"$f":"OG55","v":0.42},"فاصله فلش کم کردن",null,null,null,null,null,null,null,null,null,null,null,null,null,null,null,null,null,null,null,null,null,null,null,null,null,null,null,null,null,null,{"$f":"PX34-1","v":-49.5},{"$f":"PY51+2","v":25.571428571428569},"t27",null,null,null,null,null,null,null,null,10.000000000000002,147.96100490890271,"24پ ق"]
[null,null,null,null,null,null,null,null,null,null,null,null,null,null,null,null,null,null,null,null,null,null,null,null,null,null,null,null,null,null,null,null,null,{"$error":"#DIV/0!"},0,{"$f":"(10/3)*((AM56/AL56)*(1/I6)-1)","v":-3.3333333333333335},{"$f":"(100/68)*((AO56/AN56)*(1/I7)-1)","v":{"$error":"#DIV/0!"}},13.5,null,null,36,null,50,null,null,null,null,null,null,null,null,null,null,null,null,null,null,null,null,null,null,null,null,null,null,null,null,null,null,null,null,null,null,null,null,null,null,null,null,null,null,null,null,null,null,null,null,null,null,null,null,null,null,null,null,null,null,null,null,null,null,null,null,null,null,null,null,null,null,null,null,null,null,null,null,null,null,null,null,null,null,null,null,null,null,null,null,null,null,null,null,null,null,null,null,null,null,null,null,null,null,null,null,null,null,null,null,null,null,null,null,null,null,null,null,null,null,null,null,null,null,null,null,null,null,null,null,null,null,null,null,null,null,null,null,null,null,null,null,null,null,null,null,null,null,null,null,null,null,null,null,null,null,null,null,null,null,null,null,null,null,null,null,null,null,null,null,null,null,null,null,null,null,null,null,null,null,null,null,null,null,null,{"$f":"-HK56+HP9","v":0},0,null,null,null,null,null,null,null,null,null,null,null,null,null,null,null,null,null,null,null,null,null,null,null,null,null,null,null,null,null,null,null,null,null,null,null,null,null,null,null,null,null,null,null,null,null,null,null,null,null,null,null,null,null,null,null,null,null,null,null,null,null,null,null,null,null,null,null,null,null,null,null,null,null,null,null,null,null,null,null,null,null,null,null,null,null,null,null,null,null,null,null,null,null,null,null,null,null,null,null,null,null,null,null,null,null,null,null,null,null,null,null,null,null,null,null,null,null,null,null,null,null,null,null,null,null,null,null,null,null,null,null,null,null,null,null,null,null,null,null,null,null,null,null,null,null,null,null,null,null,null,null,null,null,null,null,null,null,null,null,null,{"$f":"NU50+0.1*(NU51-NU50)","v":-20.217788461538461},{"$f":"NV50","v":9.8000000000000007},"w9",null,"w5",{"$f":"NU52","v":22.822115384615394},{"$f":"NV52","v":5.6},null,null,null,null,null,{"$f":"S17","v":4.7222222222222223}," ea0 تعداد رج در یک سانت",null,"نسبت سایز افقی",{"$f":"OG37","v":42},"انحنا راستگرد ",null,null,{"$f":"OL56","v":"انحنا راستگرد "},null,null,{"$f":"S17","v":4.7222222222222223}," ea0 تعداد رج در یک سانت",null,"نسبت سایز افقی",{"$f":"OR37","v":42},"انحنا راستگرد ",null,null,{"$f":"OW56","v":"انحنا راستگرد "},null,null,null,null,null,"بزرگی خط عمودی دانه",{"$f":"PC41","v":0.30000000000000004},"f9",null,null,"فلش به سمت بالا",null,null,null,null,null,"بزرگی خط عمودی دانه",{"$f":"PN41","v":0.30000000000000004},"f9",null,null,"فلش به سمت بالا",null,{"$f":"PX35+4","v":-32.5},{"$f":"PY55","v":25.571428571428569},"t28",null,null,null,null,{"$f":"PX38","v":-48.5},10.714285714285715,"t10"]
[null,null,null,null,null,null,null,null,null,null,null,null,null,null,null,null,null,null,null,null,null,null,null,null,null,null,null,null,null,null,null,null,null,{"$error":"#DIV/0!"},0,{"$f":"(10/3)*((AM57/AL57)*(1/I6)-1)","v":-3.3333333333333335},{"$f":"(100/68)*((AO57/AN57)*(1/I7)-1)","v":{"$error":"#DIV/0!"}},13.5,null,null,36,null,51,null,null,null,null,null,null,null,null,null,null,null,null,null,null,null,null,null,null,null,null,null,null,null,null,null,null,null,null,null,null,null,null,null,null,null,null,null,null,null,null,null,null,null,null,null,null,null,null,null,null,null,null,null,null,null,null,null,null,null,null,null,null,null,null,null,null,null,null,null,null,null,null,null,null,null,null,null,null,null,null,null,null,null,null,null,null,null,null,null,null,null,null,null,null,null,null,null,null,null,null,null,null,null,null,null,null,null,null,null,null,null,null,null,null,null,null,null,null,null,null,null,null,null,null,null,null,null,null,null,null,null,null,null,null,null,null,null,null,null,null,null,null,null,null,null,null,null,null,null,null,null,null,null,null,null,null,null,null,null,null,null,null,null,null,null,null,null,null,null,null,null,null,null,null,null,null,null,null,null,{"$f":"-HK57+HP9","v":0},0,null,null,null,null,null,null,null,null,null,null,null,null,null,null,null,null,null,null,null,null,null,null,null,null,null,null,null,null,null,null,null,null,null,null,null,null,null,null,null,null,null,null,null,null,null,null,null,null,null,null,null,null,null,null,null,null,null,null,null,null,null,null,null,null,null,null,null,null,null,null,null,null,null,null,null,null,null,null,null,null,null,null,null,null,null,null,null,null,null,null,null,null,null,null,null,null,null,null,null,null,null,null,null,null,null,null,null,null,null,null,null,null,null,null,null,null,null,null,null,null,null,null,null,null,null,null,null,null,null,null,null,null,null,null,null,null,null,null,null,null,null,null,null,null,null,null,null,null,null,null,null,null,null,null,null,null,null,null,null,null,{"$f":"NU51","v":22.822115384615394},{"$f":"NV51+NV33","v":10.4},"w10",null,"نقاط خروجی","مولفه افقی","مولفه عمودی",{"$f":"NZ62","v":-3.5639423076923031},{"$f":"OA62","v":5.35},{"$f":"NY62","v":"h11"},null,null,{"$f":"S18","v":2.7529411764705882},"تعداد دانه در یک سانت eb0 ",null,"ارتفاع نیم دایره",{"$f":"OG49","v":0.42352941176470588},"بزرگی فلش",{"$f":"OK60","v":-25},{"$f":"OL60","v":5.4235294117647062},{"$f":"OJ60","v":"m6"},null,null,{"$f":"S18","v":2.7529411764705882},"تعداد دانه در یک سانت eb0 ",null,"ارتفاع نیم دایره",{"$f":"OR49","v":0.42352941176470588},"بزرگی فلش",{"$f":"OV60","v":-25},{"$f":"OW60","v":5.4235294117647062},{"$f":"OU60","v":"m6"},null,null,null,null,null,"بزرگی فلش دانه",{"$f":"PC42","v":0.5},"f10",{"$f":"PG64","v":-24.809294871794872},{"$f":"PH64","v":6.0235294117647058},{"$f":"PF64","v":"f8"},null,null,null,null,null,"بزرگی فلش دانه",{"$f":"PN42","v":0.5},"f10",{"$f":"PR64","v":-25},{"$f":"PS64","v":6.0235294117647058},{"$f":"PQ64","v":"f8"},null,{"$f":"PX56","v":-32.5},{"$f":"PY56+2","v":27.571428571428569},"t29",null,null,null,null,-41.5,10.714285714285715,"t11",null,{"$f":"-QJ11+QJ5+(QI61-QI81)","v":2.0008027436459983},"شیفت افقی"]
[null,null,null,null,null,null,null,null,null,null,null,null,null,null,null,null,null,null,null,null,null,null,null,null,null,null,null,null,null,null,null,null,null,{"$error":"#DIV/0!"},0,{"$f":"(10/3)*((AM58/AL58)*(1/I6)-1)","v":-3.3333333333333335},{"$f":"(100/68)*((AO58/AN58)*(1/I7)-1)","v":{"$error":"#DIV/0!"}},13.5,null,null,36,null,52,null,null,null,null,null,null,null,null,null,null,null,null,null,null,null,null,null,null,null,null,null,null,null,null,null,null,null,null,null,null,null,null,null,null,null,null,null,null,null,null,null,null,null,null,null,null,null,null,null,null,null,null,null,null,null,null,null,null,null,null,null,null,null,null,null,null,null,null,null,null,null,null,null,null,null,null,null,null,null,null,null,null,null,null,null,null,null,null,null,null,null,null,null,null,null,null,null,null,null,null,null,null,null,null,null,null,null,null,null,null,null,null,null,null,null,null,null,null,null,null,null,null,null,null,null,null,null,null,null,null,null,null,null,null,null,null,null,null,null,null,null,null,null,null,null,null,null,null,null,null,null,null,null,null,null,null,null,null,null,null,null,null,null,null,null,null,null,null,null,null,null,null,null,null,null,null,null,null,null,{"$f":"-HK58+HP9","v":0},0,null,null,null,null,null,null,null,null,null,null,null,null,null,null,null,null,null,null,null,null,null,null,null,null,null,null,null,null,null,null,null,null,null,null,null,null,null,null,null,null,null,null,null,null,null,null,null,null,null,null,null,null,null,null,null,null,null,null,null,null,null,null,null,null,null,null,null,null,null,null,null,null,null,null,null,null,null,null,null,null,null,null,null,null,null,null,null,null,null,null,null,null,null,null,null,null,null,null,null,null,null,null,null,null,null,null,null,null,null,null,null,null,null,null,null,null,null,null,null,null,null,null,null,null,null,null,null,null,null,null,null,null,null,null,null,null,null,null,null,null,null,null,null,null,null,null,null,null,null,null,null,null,null,null,null,null,null,null,null,null,{"$f":"NU57-NV7/NV46","v":17.40384615384616},{"$f":"NV57","v":10.4},"w13",null,"h5",{"$f":"NZ54+0.5*(NZ56-NZ54)","v":-1.088942307692303},{"$f":"OA54","v":5.6},{"$f":"NZ63","v":1.386057692307697},{"$f":"OA63","v":5.35},{"$f":"NY63","v":"h12"},null,null,{"$f":"IF(OG59<11,\" مخصوص \",F8)","v":2},"انتخاب ضخامت میل بافتنی   f1",null,"پهنای نیم دایره",{"$f":"OG39","v":0.5},{"$f":"OG51","v":0.25411764705882356},{"$f":"OK64","v":-25.3675},{"$f":"OL64","v":5.4828235294117649},{"$f":"OJ64","v":"g5"},null,null,{"$f":"IF(OR59<11,\" مخصوص \",F8)","v":2},"انتخاب ضخامت میل بافتنی   f1",null,"پهنای نیم دایره",{"$f":"OR39","v":0.5},{"$f":"OR51","v":0.25411764705882356},{"$f":"OV64","v":-25.3675},{"$f":"OW64","v":5.4828235294117649},{"$f":"OU64","v":"g5"},null,null,null,null,null,"زاویه فلش دانه",{"$f":"PC43","v":0.75},"f11",{"$f":"PG61","v":-24.809294871794872},{"$f":"PH61","v":5.4235294117647062},{"$f":"PF61","v":"n7"},null,null,null,null,null,"زاویه فلش دانه",{"$f":"PN43","v":0.75},"f11",{"$f":"PR61","v":-25},{"$f":"PS61","v":5.4235294117647062},{"$f":"PQ61","v":"n7"},null,{"$f":"PX55","v":-49.5},{"$f":"PY57","v":27.571428571428569},"t30",null,"زاویه فلش",{"$f":"PY10","v":0.5},"f5",null,null,"فلش به سمت راست",null,{"$f":"-QJ12+QJ6+(QJ61-QJ81)","v":-4.7971051164063567},"شیفت عمودی"]
[null,null,null,null,null,null,null,null,null,null,null,null,null,null,null,null,null,null,null,null,null,null,null,null,null,null,null,null,null,null,null,null,null,{"$error":"#DIV/0!"},0,{"$f":"(10/3)*((AM59/AL59)*(1/I6)-1)","v":-3.3333333333333335},{"$f":"(100/68)*((AO59/AN59)*(1/I7)-1)","v":{"$error":"#DIV/0!"}},13.5,null,null,36,null,53,null,null,null,null,null,null,null,null,null,null,null,null,null,null,null,null,null,null,null,null,null,null,null,null,null,null,null,null,null,null,null,null,null,null,null,null,null,null,null,null,null,null,null,null,null,null,null,null,null,null,null,null,null,null,null,null,null,null,null,null,null,null,null,null,null,null,null,null,null,null,null,null,null,null,null,null,null,null,null,null,null,null,null,null,null,null,null,null,null,null,null,null,null,null,null,null,null,null,null,null,null,null,null,null,null,null,null,null,null,null,null,null,null,null,null,null,null,null,null,null,null,null,null,null,null,null,null,null,null,null,null,null,null,null,null,null,null,null,null,null,null,null,null,null,null,null,null,null,null,null,null,null,null,null,null,null,null,null,null,null,null,null,null,null,null,null,null,null,null,null,null,null,null,null,null,null,null,null,null,{"$f":"-HK59+HP9","v":0},0,null,null,null,null,null,null,null,null,null,null,null,null,null,null,null,null,null,null,null,null,null,null,null,null,null,null,null,null,null,null,null,null,null,null,null,null,null,null,null,null,null,null,null,null,null,null,null,null,null,null,null,null,null,null,null,null,null,null,null,null,null,null,null,null,null,null,null,null,null,null,null,null,null,null,null,null,null,null,null,null,null,null,null,null,null,null,null,null,null,null,null,null,null,null,null,null,null,null,null,null,null,null,null,null,null,null,null,null,null,null,null,null,null,null,null,null,null,null,null,null,null,null,null,null,null,null,null,null,null,null,null,null,null,null,null,null,null,null,null,null,null,null,null,null,null,null,null,null,null,null,null,null,null,null,null,null,null,null,null,null,{"$f":"NU58","v":17.40384615384616},{"$f":"NV58+NV33","v":11},"w14",null,"h8",{"$f":"NZ58-0.5*NZ49","v":-3.5639423076923031},{"$f":"OA54","v":5.6},null,null,null,null,{"$f":"S21","v":"همه از زیر"},{"$f":"S20","v":12},"بافت انتخابی یقه شومیزیه",null,"نقطه شروع انحنا","مولفه افقی","مولفه عمودی",{"$f":"OK63","v":-25.524999999999999},{"$f":"OL63","v":5.6352941176470592},{"$f":"OJ63","v":"g4"},null,{"$f":"S21","v":"همه از زیر"},{"$f":"S20","v":12},"بافت انتخابی یقه شومیزیه",null,"نقطه شروع انحنا","مولفه افقی","مولفه عمودی",{"$f":"OV63","v":-25.524999999999999},{"$f":"OW63","v":5.6352941176470592},{"$f":"OU63","v":"g4"},null,null,"نقاط خروجی ",null,null,"ارتفاع هر رج",{"$f":"PC35","v":0.42352941176470588},"w11",null,null,null,null,null,"نقاط خروجی ",null,null,"ارتفاع هر رج",{"$f":"PN35","v":0.42352941176470588},"w11",null,null,null,null,{"$f":"PX55+0.5*(PX56-PX55)","v":-41},{"$f":"PY56+0.5*(PY57-PY56)","v":26.571428571428569},"t31",null,"بزرگی فلش",{"$f":"PY16","v":0.57142857142857151},"f4",{"$f":"QC61","v":-45},{"$f":"QD61","v":10.714285714285715},{"$f":"QB61","v":"t12"}]
[null,null,null,null,null,null,null,null,null,null,null,null,null,null,null,null,null,null,null,null,null,null,null,null,null,null,null,null,null,null,null,null,null,{"$error":"#DIV/0!"},0,{"$f":"(10/3)*((AM60/AL60)*(1/I6)-1)","v":-3.3333333333333335},{"$f":"(100/68)*((AO60/AN60)*(1/I7)-1)","v":{"$error":"#DIV/0!"}},13.5,null,null,36,null,54,null,null,null,null,null,null,null,null,null,null,null,null,null,null,null,null,null,null,null,null,null,null,null,null,null,null,null,null,null,null,null,null,null,null,null,null,null,null,null,null,null,null,null,null,null,null,null,null,null,null,null,null,null,null,null,null,null,null,null,null,null,null,null,null,null,null,null,null,null,null,null,null,null,null,null,null,null,null,null,null,null,null,null,null,null,null,null,null,null,null,null,null,null,null,null,null,null,null,null,null,null,null,null,null,null,null,null,null,null,null,null,null,null,null,null,null,null,null,null,null,null,null,null,null,null,null,null,null,null,null,null,null,null,null,null,null,null,null,null,null,null,null,null,null,null,null,null,null,null,null,null,null,null,null,null,null,null,null,null,null,null,null,null,null,null,null,null,null,null,null,null,null,null,null,null,null,null,null,null,{"$f":"-HK60+HP9","v":0},0,null,null,null,null,null,null,null,null,null,null,null,null,null,null,null,null,null,null,null,null,null,null,null,null,null,null,null,null,null,null,null,null,null,null,null,null,null,null,null,null,null,null,null,null,null,null,null,null,null,null,null,null,null,null,null,null,null,null,null,null,null,null,null,null,null,null,null,null,null,null,null,null,null,null,null,null,null,null,null,null,null,null,null,null,null,null,null,null,null,null,null,null,null,null,null,null,null,null,null,null,null,null,null,null,null,null,null,null,null,null,null,null,null,null,null,null,null,null,null,null,null,null,null,null,null,null,null,null,null,null,null,null,null,null,null,null,null,null,null,null,null,null,null,null,null,null,null,null,null,null,null,null,null,null,null,null,null,null,null,null,{"$f":"NU57","v":22.822115384615394},{"$f":"NV59","v":11},"w15",null,"h9",{"$f":"NZ58+0.5*NZ49","v":1.386057692307697},{"$f":"OA54","v":5.6},{"$f":"NZ63","v":1.386057692307697},{"$f":"OA63","v":5.35},{"$f":"NY63","v":"h12"},null,null,"نقاط خروجی ",null,null,"m6",{"$f":"OF65","v":-25},{"$f":"OG65","v":5.4235294117647062},{"$f":"OK65","v":-25.3675},{"$f":"OL65","v":5.7877647058823536},{"$f":"OJ65","v":"g6"},null,null,"نقاط خروجی ",null,null,"m6",{"$f":"OQ65","v":-25},{"$f":"OR65","v":5.4235294117647062},{"$f":"OV65","v":-25.3675},{"$f":"OW65","v":5.7877647058823536},{"$f":"OU65","v":"g6"},null,{"$f":"PC32","v":-25},{"$f":"PC33","v":5},"n1",null,"نقطه ورودی سر فلش","مولفه افقی","مولفه عمودی",{"$f":"PG64","v":-24.809294871794872},{"$f":"PH64","v":6.0235294117647058},{"$f":"PF64","v":"f8"},null,{"$f":"PN32","v":-25},{"$f":"PN33","v":5},"n1",null,"نقطه ورودی سر فلش","مولفه افقی","مولفه عمودی",{"$f":"PR64","v":-25},{"$f":"PS64","v":6.0235294117647058},{"$f":"PQ64","v":"f8"},null,{"$f":"PX55","v":-49.5},{"$f":"PY29-1","v":4},"t32",null,"نقطه ورودی سر فلش","مولفه افقی","مولفه عمودی",{"$f":"QC63","v":-45.571428571428569},{"$f":"QD63","v":11.000000000000002},{"$f":"QB63","v":"f3"},null,null,"نقاط خروجی "]
[null,null,null,null,null,null,null,null,null,null,null,null,null,null,null,null,null,null,null,null,null,null,null,null,null,null,null,null,null,null,null,null,null,{"$error":"#DIV/0!"},0,{"$f":"(10/3)*((AM61/AL61)*(1/I6)-1)","v":-3.3333333333333335},{"$f":"(100/68)*((AO61/AN61)*(1/I7)-1)","v":{"$error":"#DIV/0!"}},13.5,null,null,36,null,55,null,null,null,null,null,null,null,null,null,null,null,null,null,null,null,null,null,null,null,null,null,null,null,null,null,null,null,null,null,null,null,null,null,null,null,null,null,null,null,null,null,null,null,null,null,null,null,null,null,null,null,null,null,null,null,null,null,null,null,null,null,null,null,null,null,null,null,null,null,null,null,null,null,null,null,null,null,null,null,null,null,null,null,null,null,null,null,null,null,null,null,null,null,null,null,null,null,null,null,null,null,null,null,null,null,null,null,null,null,null,null,null,null,null,null,null,null,null,null,null,null,null,null,null,null,null,null,null,null,null,null,null,null,null,null,null,null,null,null,null,null,null,null,null,null,null,null,null,null,null,null,null,null,null,null,null,null,null,null,null,null,null,null,null,null,null,null,null,null,null,null,null,null,null,null,null,null,null,null,{"$f":"-HK61+HP9","v":0},0,null,null,null,null,null,null,null,null,null,null,null,null,null,null,null,null,null,null,null,null,null,null,null,null,null,null,null,null,null,null,null,null,null,null,null,null,null,null,null,null,null,null,null,null,null,null,null,null,null,null,null,null,null,null,null,null,null,null,null,null,null,null,null,null,null,null,null,null,null,null,null,null,null,null,null,null,null,null,null,null,null,null,null,null,null,null,null,null,null,null,null,null,null,null,null,null,null,null,null,null,null,null,null,null,null,null,null,null,null,null,null,null,null,null,null,null,null,null,null,null,null,null,null,null,null,null,null,null,null,null,null,null,null,null,null,null,null,null,null,null,null,null,null,null,null,null,null,null,null,null,null,null,null,null,null,null,null,null,null,null,{"$f":"NU59+0.5*(NU60-NU59)","v":20.112980769230777},{"$f":"NV59","v":11},"w16",null,"h10",{"$f":"NZ59","v":-3.5639423076923031},{"$f":"OA59+0.5*NZ50","v":5.85},{"$f":"NZ64","v":1.386057692307697},{"$f":"OA64","v":5.85},{"$f":"NY64","v":"h13"},null,{"$f":"OG35+OG5/OG50","v":32.21153846153846},{"$f":"OG36","v":5},"m2",null,"g11",{"$f":"OK65+0.8*(OK63-OK65)","v":-25.493499999999997},{"$f":"OL63+0.6*(OL65-OL63)","v":5.726776470588236},{"$f":"OK62","v":-25},{"$f":"OL62","v":5.8470588235294123},{"$f":"OJ62","v":"g2"},null,{"$f":"OR35+OR5/OR50","v":28.397435897435898},{"$f":"OR36","v":5},"m2",null,"g11",{"$f":"OV65+0.8*(OV63-OV65)","v":-25.493499999999997},{"$f":"OW63+0.6*(OW65-OW63)","v":5.726776470588236},{"$f":"OV62","v":-25},{"$f":"OW62","v":5.8470588235294123},{"$f":"OU62","v":"g2"},null,{"$f":"PB60+PC5/PC47","v":34.118589743589745},{"$f":"PC60","v":5},"n2",null,"n7",{"$f":"PB66","v":-24.809294871794872},{"$f":"PC66","v":5.4235294117647062},{"$f":"PG62","v":-24.968118401206638},{"$f":"PH62","v":5.8117647058823527},{"$f":"PF62","v":"f6"},null,{"$f":"PM60+PN5/PN47","v":42.891025641025635},{"$f":"PN60","v":5},"n2",null,"n7",{"$f":"PM66","v":-25},{"$f":"PN66","v":5.4235294117647062},{"$f":"PR62","v":-25.158823529411766},{"$f":"PS62","v":5.8117647058823527},{"$f":"PQ62","v":"f6"},null,{"$f":"PX56","v":-32.5},{"$f":"PY60","v":4},"t33",null,{"$f":"PZ40","v":"t12"},{"$f":"PX40","v":-45},{"$f":"PY40","v":10.714285714285715},null,null,null,null,{"$f":"QI18-QJ9+QJ5","v":20.010856348894084},{"$f":"QJ18-QJ10+QJ6","v":145.77056095882656},25]
[null,null,null,null,null,null,null,null,null,null,null,null,null,null,null,null,null,null,null,null,null,null,null,null,null,null,null,null,null,null,null,null,null,{"$error":"#DIV/0!"},0,{"$f":"(10/3)*((AM62/AL62)*(1/I6)-1)","v":-3.3333333333333335},{"$f":"(100/68)*((AO62/AN62)*(1/I7)-1)","v":{"$error":"#DIV/0!"}},13.5,null,null,36,null,56,null,null,null,null,null,null,null,null,null,null,null,null,null,null,null,null,null,null,null,null,null,null,null,null,null,null,null,null,null,null,null,null,null,null,null,null,null,null,null,null,null,null,null,null,null,null,null,null,null,null,null,null,null,null,null,null,null,null,null,null,null,null,null,null,null,null,null,null,null,null,null,null,null,null,null,null,null,null,null,null,null,null,null,null,null,null,null,null,null,null,null,null,null,null,null,null,null,null,null,null,null,null,null,null,null,null,null,null,null,null,null,null,null,null,null,null,null,null,null,null,null,null,null,null,null,null,null,null,null,null,null,null,null,null,null,null,null,null,null,null,null,null,null,null,null,null,null,null,null,null,null,null,null,null,null,null,null,null,null,null,null,null,null,null,null,null,null,null,null,null,null,null,null,null,null,null,null,null,null,{"$f":"-HK62+HP9","v":0},0,null,null,null,null,null,null,null,null,null,null,null,null,null,null,null,null,null,null,null,null,null,null,null,null,null,null,null,null,null,null,null,null,null,null,null,null,null,null,null,null,null,null,null,null,null,null,null,null,null,null,null,null,null,null,null,null,null,null,null,null,null,null,null,null,null,null,null,null,null,null,null,null,null,null,null,null,null,null,null,null,null,null,null,null,null,null,null,null,null,null,null,null,null,null,null,null,null,null,null,null,null,null,null,null,null,null,null,null,null,null,null,null,null,null,null,null,null,null,null,null,null,null,null,null,null,null,null,null,null,null,null,null,null,null,null,null,null,null,null,null,null,null,null,null,null,null,null,null,null,null,null,null,null,null,null,null,null,null,null,null,{"$f":"NU60","v":22.822115384615394},{"$f":"NV60+NV33","v":11.6},"w17",null,"h11",{"$f":"NZ59","v":-3.5639423076923031},{"$f":"OA59-0.5*NZ50","v":5.35},null,null,null,null,{"$f":"OG35+0.1*(OF61-OG35)","v":-19.278846153846153},{"$f":"OG36","v":5},"m3",null,"g2",{"$f":"OK60","v":-25},{"$f":"OL60+OK57","v":5.8470588235294123},null,null,null,null,{"$f":"OR35+0.1*(OQ61-OR35)","v":-19.660256410256409},{"$f":"OR36","v":5},"m3",null,"g2",{"$f":"OV60","v":-25},{"$f":"OW60+OV57","v":5.8470588235294123},null,null,null,null,{"$f":"PB60+0.1*(PB61-PB60)","v":-19.088141025641026},{"$f":"PC60","v":5},"n3",null,"f6",{"$f":"PG61-PG58*PG57*PG59","v":-24.968118401206638},{"$f":"PH64-PG57*PG59","v":5.8117647058823527},null,null,null,null,{"$f":"PM60+0.1*(PM61-PM60)","v":-18.210897435897436},{"$f":"PN60","v":5},"n3",null,"f6",{"$f":"PR61-PR58*PR57*PR59","v":-25.158823529411766},{"$f":"PS64-PR57*PR59","v":5.8117647058823527},null,null,null,null,null,null,null,null,"f2",{"$f":"QC61-1*QC59","v":-45.571428571428569},{"$f":"QD61-QC58*QC59","v":10.428571428571429},{"$f":"QC61","v":-45},{"$f":"QD61","v":10.714285714285715},{"$f":"QB61","v":"t12"},null,{"$f":"QI19-QJ9+QJ5","v":18.408685079115266},{"$f":"QJ19-QJ10+QJ6","v":140.49996654552029},30]
[null,null,null,null,null,null,null,null,null,null,null,null,null,null,null,null,null,null,null,null,null,null,null,null,null,null,null,null,null,null,null,null,null,null,null,null,null,null,null,null,null,null,null,null,null,null,null,null,null,null,null,null,null,null,null,null,null,null,null,null,null,null,null,null,null,null,null,null,null,null,null,null,null,null,null,null,null,null,null,null,null,null,null,null,null,null,null,null,null,null,null,null,null,null,null,null,null,null,null,null,null,null,null,null,null,null,null,null,null,null,null,null,null,null,null,null,null,null,null,null,null,null,null,null,null,null,null,null,null,null,null,null,null,null,null,null,null,null,null,null,null,null,null,null,null,null,null,null,null,null,null,null,null,null,null,null,null,null,null,null,null,null,null,null,null,null,null,null,null,null,null,null,null,null,null,null,null,null,null,null,null,null,null,null,null,null,null,null,null,null,null,null,null,null,null,null,null,null,null,null,null,null,null,null,null,null,null,null,null,null,null,null,null,null,null,null,null,null,null,null,null,null,{"$f":"-HK72+HP9","v":0},0,null,null,null,null,null,null,null,null,null,null,null,null,null,null,null,null,null,null,null,null,null,null,null,null,null,null,null,null,null,null,null,null,null,null,null,null,null,null,null,null,null,null,null,null,null,null,null,null,null,null,null,null,null,null,null,null,null,null,null,null,null,null,null,null,null,null,null,null,null,null,null,null,null,null,null,null,null,null,null,null,null,null,null,null,null,null,null,null,null,null,null,null,null,null,null,null,null,null,null,null,null,null,null,null,null,null,null,null,null,null,null,null,null,null,null,null,null,null,null,null,null,null,null,null,null,null,null,null,null,null,null,null,null,null,null,null,null,null,null,null,null,null,null,null,null,null,null,null,null,null,null,null,null,null,null,null,null,null,null,null,{"$f":"NU63","v":-20.217788461538461},{"$f":"NV70","v":13.399999999999999},"w27",null,"f2",{"$f":"NZ71+1*NZ69","v":-19.857788461538462},{"$f":"OA71-NZ68*NZ69","v":5.42},{"$f":"NZ71","v":-20.217788461538461},{"$f":"OA71","v":5.6},{"$f":"NY71","v":"w7"},null,{"$f":"OF69","v":31.830128205128204},{"$f":"OG69+OG38","v":6.2705882352941176},"m13",null,"بزرگی فلش",{"$f":"OG51","v":0.25411764705882356},"f4",{"$f":"OK74","v":-19.278846153846153},{"$f":"OL74","v":5.8470588235294114},{"$f":"OJ74","v":"m11"},null,{"$f":"OQ69","v":28.20673076923077},{"$f":"OR69+OR38","v":6.2705882352941176},"m13",null,"بزرگی فلش",{"$f":"OR51","v":0.25411764705882356},"f4",{"$f":"OV74","v":-19.660256410256409},{"$f":"OW74","v":5.8470588235294114},{"$f":"OU74","v":"m11"},null,{"$f":"PB68-1/PC47","v":34.309294871794876},{"$f":"PC67","v":5.8470588235294123},"n13",null,"g2",{"$f":"PG70","v":-25.190705128205128},{"$f":"PH70+PG67","v":5.8470588235294123},null,null,null,null,{"$f":"PM68-1/PN47","v":42.891025641025635},{"$f":"PN67","v":5.8470588235294123},"n13",null,"g2",{"$f":"PR70","v":-25.381410256410255},{"$f":"PS70+PR67","v":5.8470588235294123},null,null,null,null,null,null,null,null,"f7",{"$f":"QC70+QC70-QC71","v":-47.128571428571433},{"$f":"QD71","v":9.8571428571428577},{"$f":"QC73","v":-47.45},{"$f":"QD73","v":10.285714285714286},{"$f":"QB73","v":"f8"},null,{"$f":"QI33-QJ9+QJ5","v":23.367102039204799},{"$f":"QJ33-QJ10+QJ6","v":133.75574637521188},"5'"]
[null,null,null,null,null,null,null,null,null,null,null,null,null,null,null,null,null,null,null,null,null,null,null,null,null,null,null,null,null,null,null,null,null,null,null,null,null,null,null,null,null,null,null,null,null,null,null,null,null,null,null,null,null,null,null,null,null,null,null,null,null,null,null,null,null,null,null,null,null,null,null,null,null,null,null,null,null,null,null,null,null,null,null,null,null,null,null,null,null,null,null,null,null,null,null,null,null,null,null,null,null,null,null,null,null,null,null,null,null,null,null,null,null,null,null,null,null,null,null,null,null,null,null,null,null,null,null,null,null,null,null,null,null,null,null,null,null,null,null,null,null,null,null,null,null,null,null,null,null,null,null,null,null,null,null,null,null,null,null,null,null,null,null,null,null,null,null,null,null,null,null,null,null,null,null,null,null,null,null,null,null,null,null,null,null,null,null,null,null,null,null,null,null,null,null,null,null,null,null,null,null,null,null,null,null,null,null,null,null,null,null,null,null,null,null,null,null,null,null,null,null,null,{"$f":"-HK83+HP9","v":0},0,null,null,null,null,null,null,null,null,null,null,null,null,null,null,null,null,null,null,null,null,null,null,null,null,null,null,null,null,null,null,null,null,null,null,null,null,null,null,null,null,null,null,null,null,null,null,null,null,null,null,null,null,null,null,null,null,null,null,null,null,null,null,null,null,null,null,null,null,null,null,null,null,null,null,null,null,null,null,null,null,null,null,null,null,null,null,null,null,null,null,null,null,null,null,null,null,null,null,null,null,null,null,null,null,null,null,null,null,null,null,null,null,null,null,null,null,null,null,null,null,null,null,null,null,null,null,null,null,null,null,null,null,null,null,null,null,null,null,null,null,null,null,null,null,null,null,null,null,null,null,null,null,null,null,null,null,null,null,null,null,{"$f":"NU82","v":-13.927884615384613},{"$f":"NV82+NV33","v":16.399999999999999},"w38",null,"g5",{"$f":"NZ79+0.7*(NZ82-NZ79)","v":-25.3675},{"$f":"OA79+0.28*(OA82-OA79)","v":6.1879999999999997},{"$f":"NZ80","v":-25.493499999999997},{"$f":"OA80","v":8.6072000000000006},{"$f":"NY80","v":"g11"},null,{"$f":"OF82+2*(OF71-OF82)-1/OG50","v":29.160256410256409},{"$f":"OG82","v":9.6588235294117659},"m25",null,"m8",{"$f":"OF67","v":-24.618589743589745},{"$f":"OG67","v":5.8470588235294114},{"$f":"OK84","v":-24.77741327300151},{"$f":"OL84","v":6.0588235294117645},{"$f":"OJ84","v":"f6"},null,{"$f":"OQ82+2*(OQ71-OQ82)-1/OR50","v":26.681089743589745},{"$f":"OR82","v":9.6588235294117659},"m25",null,"m8",{"$f":"OQ67","v":-24.618589743589745},{"$f":"OR67","v":5.8470588235294114},{"$f":"OV84","v":-24.77741327300151},{"$f":"OW84","v":6.0588235294117645},{"$f":"OU84","v":"f6"},null,{"$f":"PB82","v":34.881410256410255},{"$f":"PC82+PC35*PC6","v":8.3882352941176475},"n25",null,"نقطه ورودی سر فلش","مولفه افقی","مولفه عمودی",{"$f":"PG86","v":-19.456681749622923},{"$f":"PH86","v":5.974117647058824},{"$f":"PF86","v":"f3"},null,{"$f":"PM79+PN52*(PM78-PM79)","v":2.0038461538461547},{"$f":"PN79","v":7.9647058823529422},"n'30",null,"نقطه ورودی سر فلش","مولفه افقی","مولفه عمودی",{"$f":"PR86","v":-18.770143288084466},{"$f":"PS86","v":5.974117647058824},{"$f":"PQ86","v":"f3"},null,null,null,null,null,"زاویه فلش دانه",{"$f":"PY13","v":0.75},"f11",{"$f":"QC86","v":-45},{"$f":"QD86","v":15},{"$f":"QB86","v":"t17"},null,{"$f":"QI49+QI57","v":15.204824185745231},{"$f":"QJ49+QI58","v":143.42456590912937},"26پ"]
[null,"شیفت افقی جلو",{"$f":"GM359","v":12},null,"دور کمر","a",null,{"$f":"'متغیرها '!U52+0.3*'متغیرها '!C60*('متغیرها '!U52+'متغیرها '!U54+'متغیرها '!U72)","v":77.286000000000001},{"$f":"'متغیرها '!U52","v":75},null,"نقطه دوم از خط دوم","اسم نقطه",4,4,null,null,{"$f":"L145","v":2.7268800000000004},{"$f":"L114-L146","v":31.645344880830102},28,null,{"$f":"L120","v":8.9137599999999999},0,8,null,null,null,null,null,null,null,null,null,null,null,null,{"$f":"Y121+Y123","v":9.5874999999999986},0,10,null,null,null,null,null,null,null,null,null,{"$f":"AV156+AV157+AV158+1*(IF(('متغیرها '!U54-'متغیرها '!U55)>('متغیرها '!U52-'متغیرها '!U53),0.5*('متغیرها '!U54-'متغیرها '!U55),0.5*('متغیرها '!U52-'متغیرها '!U53))-AV156-AV158)-IF('متغیرها '!C125=1,2*AV150,AV157)","v":22.002500000000001},"(1 → 44)   با شرط  x5=1",{"$f":"AX156+AX157+AX158+1*(IF((H102-H103)>(H100-H101),0.5*(H102-H103),0.5*(H100-H101))+'متغیرها '!C62*H120-AX156-AX158)-IF('متغیرها '!C125=1,2*AX150,AX157)","v":22.71705},null,{"$f":"BD156","v":36.584636494360943},{"$f":"BE156","v":121.99283712961564},"شیفت13",null,{"$f":"AZ106","v":12},{"$f":"BA106","v":52.7},1,null,"زاویه خط پهلو پشت",{"$f":"ATAN((BI106-BI108)/(BI110-BI112-BI107))","v":2.2771482264341423E-2},null,null,null,null,null,"انحنای حلقه آستین   پشت",null,null,null," انتقال قسمتی از ساسون سرشانه به خط مرکزی جلو و حلقه آستین با ساسون زیر بغل و خط رگلان",null,null,null,null,null,null,null," انتقال قسمتی از ساسون سرشانه به خط مرکزی پشت و حلقه آستین با ساسون زیر بغل",null,null,null,null,null,null,null," حلقه آستین و سرشانه و رگلان بدون ساسون ",null,null,null,null,null,null,null,"حلقه آستین و سرشانه و رگلان بدون ساسون ",null,null,null,null,null,null,null,null,null,null,null,"جیب با ساسون",null,null,null,null,null,null,null,"تکه پهلو جدا  ",null,null,null,null,null,null,null,null,null,null,null,null,"سرشانه حلقه آستین پهلو ترک و پایین کنترل گشادی",null,null,null,null,null,null,null,null,null,null,null,null,null,null,null,null,null,null,null,"کنترل گودی حلقه آستین ",null,null,null,null,null,null,null,null,null,null,null,"حلقه آستین با ساسون متغیر",null,null,null,"انگلیسی و آرشال چرخیده",null,null,null,"پهلو ترک ",null,null,null,"پهلو برای جیب با ساسون",null,null,null,"اطلاعات اندام",null,null,null,"پهلو جدا در پیراهن",null,null,null,"رسم انحنا جلو آستر کت ",null,null,null,"3حلقه آستین با ساسون متغیر",null,null,null,"حلقه آستین با ساسون متغیر",null,null,null,"17یقه گرد ",null,null,null,"یقه گرد ",null,null,null,"11پهلو جدا و ترک وسط و نیمی از حلقه آستین عصایی",null,null,null,"پهلو جدا و ترک وسط و نیمی از حلقه آستین عصایی",null,null,null,"12پهلو جدا و ترک وسط و حلقه آستین عصایی در آستر کت",null,null,null,"پهلو جدا و ترک وسط و حلقه آستین عصایی در آستر کت",null,null,null,null,null,null,"رسم قرینه جلو پیراهن ",null,null,null,null,null,null,null,null,null,null,null,null,null,null,null,null,null,null,null,null,null,null,null,null,null,null,null,null,null,null,null,null,null,null,null,null,null,null,null,null,null,null,null,null,null,null,null,null,null,null,null,null,null,null,null,null,null,null,null,null,null,null,null,null,null,null,null,null,null,null,null,null,null,null,null,null,null,null,null,null,null,null,null,null,null,null,null,null,null,null,null,null,null,null,null,null,null,null,null,null,null,null,null,null,null,null,null,null,null,null,null,null,null,null,null,null,null,null,null,null,null,null,null,null,null,null,null,null,null,null,null,null,null,null,null,null,null,null,null,null,null,null,null,null,null,null,null,null,null,null,null,null,null,null,null,null,null,null,null,null,null,{"$f":"NU97","v":-25},{"$f":"NV99","v":20.000000000000007},"w55",null,"نقطه شروع انحنا","مولفه افقی","مولفه عمودی",{"$f":"NZ104","v":23.347115384615392},{"$f":"OA104","v":10.100000000000001},{"$f":"NY104","v":"g4"},null,{"$f":"OF97","v":-21.567307692307693},{"$f":"OG99","v":11.776470588235297},"m44",null,"پهنای نیم دایره",{"$f":"OG39","v":0.5},{"$f":"OG51","v":0.25411764705882356},{"$f":"OK106","v":32.197628205128204},{"$f":"OL106","v":5.9063529411764701},{"$f":"OJ106","v":"g5"},null,{"$f":"OQ97","v":-22.902243589743591},{"$f":"OR99","v":11.776470588235297},"m44",null,"f12",{"$f":"OV97","v":-14.517477375565608},{"$f":"OW97+0.4*(OW99-OW97)","v":6.2141176470588233},null,null,null,null,{"$f":"PB99","v":27.157852564102562},{"$f":"PC99+PC35*PC8","v":20.670588235294119},"n43",null,"زاویه فلش دانه",{"$f":"PC43","v":0.75},"f11",{"$f":"PG103","v":34.309294871794876},{"$f":"PH103","v":5.8470588235294123},{"$f":"PF103","v":"n13"},null,{"$f":"PM99","v":-17.335448717948719},{"$f":"PN99+PN35","v":21.517647058823528},"n'48",null,"زاویه فلش دانه",{"$f":"PN43","v":0.75},"f11",{"$f":"PR103","v":42.891025641025635},{"$f":"PS103","v":5.8470588235294123},{"$f":"PQ103","v":"n13"},null,null,null,null,null,"زاویه فلش دانه",{"$f":"PY13","v":0.75},"f11",{"$f":"QC103","v":-45},{"$f":"QD103","v":19.285714285714285},{"$f":"QB103","v":"t21"},null,null,null,"تعداد دانه های اضافه شده زیر بغل   b8",12,{"$f":"TEXT(0,QL100)&\" دانه\"","v":"12 دانه"}]
[null,null,null,null,"دور کمر","a",null,{"$f":"'متغیرها '!U70+0.3*'متغیرها '!C60*('متغیرها '!U52+'متغیرها '!U54+'متغیرها '!U72)","v":77.286000000000001},null,"(5 → 6)",{"$f":"'متغیرها '!C90*(H124-H123)","v":0},{"$f":"0.2*(H124-H123)","v":3.3600000000000012},null,null,null,null,{"$f":"AN122","v":9.193757298872189},0,8,null,{"$f":"AN134","v":17.34687729887219},{"$f":"AO134","v":18.192593129615631},20,null,{"$f":"H148*'متغیرها '!U73","v":10.75},"(4 → 6)",{"$f":"G148*H121","v":11.040475000000001},null,null,null,null,{"$f":"AR123","v":0},0,9,null,{"$f":"AR136","v":19.533768096834333},{"$f":"AS136","v":19.087171411376435},22,null,0,{"$f":"K116+AP111","v":16.800000000000004},4,null,0,{"$f":"AA116+AT111","v":16.299999999999997},4,null,6.6000000000000005,"(15 → 16)",7.7493899999999991,null,{"$f":"AX104-AX119+AX99","v":31.429293247180475},{"$f":"AX113+AX120+AX98","v":123.15524562961564},18,null,null,null,"کش سویشرت",3.0997104007070915,"(8 → 15)",3.4002922259467767,null,null,null,null,null,null,null,null,null,{"$f":"J239","v":24.997245355968868},{"$f":"K239","v":152.85831063346438},"a2",null,{"$f":"BS104+SQRT(POWER(BS118-BS104,2)+POWER(BT118-BT104,2))*SIN(BT103-ATAN((BS104-BS118)/(BT118-BT104)))","v":24.997245355968868},{"$f":"BT104+SQRT(POWER(BS118-BS104,2)+POWER(BT118-BT104,2))*COS(BT103-ATAN((BS104-BS118)/(BT118-BT104)))","v":152.85831063346438},"a2",null,{"$f":"BO103-CB112","v":28.156677468473561},{"$f":"BP103-CB113","v":135.80856183345853},12,"نقطه حلقه آستین",{"$f":"CA104+SQRT(POWER(CA118-CA104,2)+POWER(CB118-CB104,2))*SIN(ATAN((CA118-CA104)/(CB118-CB104))-CB114)","v":27.305882727045201},{"$f":"CB104+SQRT(POWER(CA118-CA104,2)+POWER(CB118-CB104,2))*COS(ATAN((CA118-CA104)/(CB118-CB104))-CB114)","v":136.41728473961638},"b6",null,{"$f":"CI119+IF(CI117>CI119,0.3,0.7)*(CI117-CI119)","v":28.254637939974543},{"$f":"CJ119+0.5*(CJ117-CJ119)","v":136.31214394785326},"24f",null,null,null,null,null,"نقاط حلقه آستین پشت بدون ساسون سرشانه",null,null,null,{"$f":"CQ104","v":21.040475000000001},{"$f":"CR104","v":126.76137476501766},40,null,{"$f":"-CU118+CZ101","v":-1.0404750000000007},{"$f":"CV118","v":126.76137476501766},40,null,{"$f":"BW133","v":31.431906768405351},{"$f":"BX133","v":124.19763403050808},"b8",null,{"$f":"DC105+(DC115-DC105+3)*COS(DD136-RADIANS('متغیرها '!C187))","v":32.915771053545015},{"$f":"DD105-(DC115-DC105+3)*SIN(DD136-RADIANS('متغیرها '!C187))","v":80.461328817990449},"s''2",null,null,{"$f":"'متغیرها '!C55","v":0},"شیفت افقی تکه پهلو",null,{"$f":"BO101-DP120","v":30.178257468473561},{"$f":"BP101","v":145.80222698887854},18,null,{"$f":"DS104+DD148*SIN(DD143)","v":37.883324149644189},{"$f":"DT104-DD148*COS(DD143)","v":93.362991649884435},"s'2m",null,null,null,null,"پهلو ترک ",null,null,null,"پهلو ترک ",null,{"$f":"BO170-EA138","v":33.014237791254672},{"$f":"BP170-EA139","v":120.30978183345853},10,null,{"$f":"-EF118+ED138","v":-13.014237791254672},{"$f":"EG118","v":120.30978183345853},10,null,null,null,null,null,"αb12g",{"$f":"ES110*EW118","v":0.13969856482256093},null,null,"αb12p",{"$f":"(RADIANS(180)-ES117-EW117+ES109)*(1/(1+ES110))","v":6.9849282411280467E-2},null,null,null,null,null,null,null,null,null,null,null,null,{"$f":"AZ167+BT130","v":22.873757298872189},{"$f":"BA167","v":106.9},"شیفت 40",null,{"$f":"DG112","v":35.494253152640752},{"$f":"DH112","v":119.0729542265578},"b2s",null,{"$f":"FR112","v":34.71705},{"$f":"BE178-(H105-H107)","v":53.227060776258753},"g49",null,null,null,null,null,{"$f":"FZ115","v":31.24635675281953},{"$f":"GA115","v":53.227060776258753},"49'm",null,{"$f":"CE105","v":18.010053605248086},{"$f":"CF105","v":150.56766607523292},23,null,{"$f":"-GD118+FK99","v":1.9899463947519145},{"$f":"GE118","v":150.56766607523292},23,null,28.845807625000003,55.823252514055902,"41'''",null,{"$f":"-GL118+FS99","v":-8.8458076250000026},55.823252514055902,"41'''",null,null,null,null,null,null,null,null,null,{"$f":"DO103","v":28.156677468473561},{"$f":"DP103","v":135.80856183345853},{"$f":"DQ103","v":"شیفت12p"},null,{"$f":"-HB118+GI99","v":-8.1566774684735606},{"$f":"HC118","v":135.80856183345853},{"$f":"DU103","v":"شیفت10m"},null,null,null,null,null,null,null,null,null,null,null,{"$f":"-FV117-HY101","v":-7.5222065311809523},{"$f":"FW117","v":91.569766921703916},"شیفت37'",null,{"$f":"-FB116-HY101","v":-0.84518944549050445},{"$f":"FC116","v":144.704792549335},"شیفت 34b",null,null,null,null,null,{"$f":"-FN118-HY101","v":-11.494253152640752},{"$f":"FO118","v":119.0729542265578},"b2s",null,{"$f":"-CR170-HY101","v":1.2929092575652739},{"$f":"CS170","v":109.9}," dd5",null,{"$f":"-FI264-HY101","v":12},{"$f":"FJ264","v":100.34847138860366},"p26",null,{"$f":"-FN156-HY101","v":2.6395761446903485},109.9,"d5",null,{"$f":"-DN246-HY101","v":12},{"$f":"DO246","v":85.880130696720286},"m9",null,{"$f":"-EX247-HY101","v":12},{"$f":"EY247","v":80.400000000000006},"p3",null,null,null,null,null,null,null,null,null,null,null,null,null,null,null,null,null,null,null,null,null,null,null,null,null,null,null,null,null,null,null,null,null,null,null,null,null,null,null,null,null,null,null,null,null,null,null,null,null,null,null,null,null,null,null,null,null,null,null,null,null,null,null,null,null,null,null,null,null,null,null,null,null,null,null,null,null,null,null,null,null,null,null,null,null,null,null,null,null,null,null,null,null,null,null,null,null,null,null,null,null,null,null,null,null,null,null,null,null,null,null,null,null,null,null,null,null,null,null,null,null,null,{"$f":"NU113","v":-25},{"$f":"NV116","v":27.800000000000011},"w73",null,"نقطه پایان رج(راست)","مولفه افقی","مولفه عمودی",{"$f":"NZ127","v":20.787980769230778},{"$f":"OA127","v":10.65},{"$f":"NY127","v":"h13"},null,{"$f":"OF117+OG9/OG50","v":-4.7852564102564124},{"$f":"OG117","v":13.894117647058827},"m63",null,"m16",{"$f":"OF75","v":-22.330128205128204},{"$f":"OG75","v":6.2705882352941176},{"$f":"OK125","v":2.5},{"$f":"OL125","v":6.5205882352941176},{"$f":"OJ125","v":"h10"},null,{"$f":"OQ117+OR9/OR50","v":-3.4503205128205146},{"$f":"OR117","v":13.894117647058827},"m63",null,null,"متغیرهای ورودی",null,{"$f":"OV124","v":-23.665064102564102},{"$f":"OW124","v":6.2705882352941176},{"$f":"OU124","v":"m16"},null,null,null,null,null,"g7",{"$f":"PG113+0.7*PH110*SIN(RADIANS(30)+2*ATAN((PG113-PG116)/(PH113-PH116+0.0001)))","v":35.361301807116973},{"$f":"PH113-0.7*PH110*COS(RADIANS(30)+2*ATAN((PG113-PG116)/(PH113-PH116+0.0001)))","v":6.1336056486335266},{"$f":"PG113","v":35.184205128205129},{"$f":"PH113","v":6.1503058823529422},{"$f":"PF113","v":"g11"},null,null,null,null,null,"g7",{"$f":"PR113+0.7*PS110*SIN(RADIANS(30)+2*ATAN((PR113-PR116)/(PS113-PS116+0.0001)))","v":43.943032576347733},{"$f":"PS113-0.7*PS110*COS(RADIANS(30)+2*ATAN((PR113-PR116)/(PS113-PS116+0.0001)))","v":6.1336056486335266},{"$f":"PR113","v":43.765935897435888},{"$f":"PS113","v":6.1503058823529422},{"$f":"PQ113","v":"g11"},null,null,null,null,null,"f6",{"$f":"QC117-QC114*QC113*QC115","v":-45.321428571428569},{"$f":"QD120-QC113*QC115","v":24.142857142857142}]
[null,null,null,null,"زاویه خام سرشانه پشت",{"$f":"ATAN((I126-I125)/(0.52*H168-H163))","v":0.32789688185806187},{"$f":"ROUND(DEGREES(F135),0)","v":19},null,null,"(17 → 18)",{"$f":"0.15*K133","v":1.1624084999999997},{"$f":"0.15*L133","v":0.99},null,"(36 → 32')",{"$f":"O130/COS(O133)","v":13.702288098549383},{"$f":"P130/COS(P133)","v":13.528725251766629},{"$f":"AN135","v":20.675620000000002},{"$f":"AO135","v":22.84222712961563},21,null,{"$f":"AN123","v":10.873757298872189},{"$f":"AO123","v":0},9,null,{"$f":"H155+AE127","v":4.4281577152958453},"(14 → 17)",{"$f":"G155+0.25*'متغیرها '!C76*G167*COS(AD140)+'متغیرها '!C61*H120-1.2*0.5*'متغیرها '!C78*G167*COS(AD140)+AD127-'متغیرها '!C77*O128*H130*((Y115-Y121-Y123-Y124-Y127)/(Y130))","v":4.8575603227811097},null,"(38 → 34')",{"$f":"AD130/COS(AD133)","v":7.5466729519130364},{"$f":"AE130/COS(AE133)","v":7.260909912225495},{"$f":"AR132","v":18.076500000000003},{"$f":"AS132","v":25.758385411376434},18,null,{"$f":"AR122","v":11.040475000000001},{"$f":"AS122","v":16.661374765017666},8,null,{"$f":"K115-K132+K138","v":20.675620000000002},{"$f":"K127+K133+AP111","v":22.84222712961563},21,null,{"$f":"AA115-AA139","v":19.533768096834333},{"$f":"AA130+AT111","v":14.639695411376433},21,null,{"$f":"L150","v":5.7247546665307887},"(25 → 31)",{"$f":"K150","v":4.7746253955763303},null,{"$f":"AX104-AX117+AX123-AX138+AX99","v":27.057917109273465},{"$f":"AX113+AX118+AX124+AX98","v":141.40480762910443},33,null,{"$f":"BD125","v":12},{"$f":"BE125","v":50.7},null,{"$f":"Y154","v":1.5551138351315452},"(29 → 30)",{"$f":"AA154","v":1.3293356990681831},null,{"$f":"BI131+BI98","v":16.007540203936063},{"$f":"BI103-BI132+BI97","v":149.00366937543481},28,null,null,null,null,null,{"$f":"AZ96-BT130","v":27.958600000000004},{"$f":"BA96","v":129.74222712961563},16,"نقطه حلقه آستین",{"$f":"BS104+SQRT(POWER(BS135-BS104,2)+POWER(BT135-BT104,2))*SIN(ATAN((BS135-BS104)/(BT135-BT104))-IF(AND(BX101=1,BX102=0),(ATAN((BS138-BS104)/(BT138-BT104))-ATAN((BS109-BS104)/(BT109-BT104))),BT131))","v":27.254051603562317},{"$f":"BT104+SQRT(POWER(BS135-BS104,2)+POWER(BT135-BT104,2))*COS(ATAN((BS135-BS104)/(BT135-BT104))-IF(AND(BX101=1,BX102=0),(ATAN((BS138-BS104)/(BT138-BT104))-ATAN((BS109-BS104)/(BT109-BT104))),BT131))","v":130.360390160598},"b6",null,{"$f":"BO102-CB112","v":28.763151468473559},{"$f":"BP102-CB113","v":141.30507766893953},20,"نقطه حلقه آستین",{"$f":"CA104+SQRT(POWER(CA135-CA104,2)+POWER(CB135-CB104,2))*SIN(ATAN((CA135-CA104)/(CB135-CB104))-CB130)","v":27.410816976328945},{"$f":"CB104+SQRT(POWER(CA135-CA104,2)+POWER(CB135-CB104,2))*COS(ATAN((CA135-CA104)/(CB135-CB104))-CB130)","v":141.94616218858346},"b12",null,"نقطه تقاطع","g1",{"$f":"(CL133-CL131+CK131*((CL132-CL131)/(CK132-CK131))-CK133*((CL134-CL133)/(CK134-CK133)))/(((CL132-CL131)/(CK132-CK131))-((CL134-CL133)/(CK134-CK133)))","v":23.850873080466648},{"$f":"CL131+(CK135-CK131)*((CL132-CL131)/(CK132-CK131))","v":134.26150477140411},{"$f":"CI109","v":20.010856348894084},{"$f":"CJ109","v":145.77056095882656},25,null,"نقطه اول از خط دوم",40,{"$f":"CU118","v":21.040475000000001},{"$f":"CV118","v":126.76137476501766},{"$f":"CU105","v":28.738738779125466},{"$f":"CV105","v":130.28265458797262},"16fشیفت",null,{"$f":"-CU135+CZ101","v":-8.738738779125466},{"$f":"CV135","v":130.28265458797262},"16fشیفت",null,"(45→s'2)",{"$f":"SQRT(POWER((DC115-DG119),2)+POWER((DD115-DH119),2))*IF('متغیرها '!C187>0,1,-1)","v":-12.329410472967405},null,null,null,null,null,null,{"$f":"DK121","v":31.429293247180475},{"$f":"DL121","v":117.61274712961564},"شیفت 14m",null,null,{"$f":"SQRT(POWER(DK112-DK111,2)+POWER(DL112-DL111,2))","v":145.73314286265301},"m''",null,null,null,null,null,null,null,null,null,null,null,null,null,null,null,null,null,null,null,null,null,null,null,null,null,null,{"$f":"BW136","v":28.015598523388661},{"$f":"BX136","v":136.31240807529744},24,"نقطه حلقه آستین",null,{"$f":"CE119","v":27.410816976328945},{"$f":"CF119","v":141.94616218858346},20,"نقطه حلقه آستین",null,{"$f":"BW105","v":20.010856348894084},{"$f":"BX105","v":145.77056095882656},"چرخیده25",null,30.964142761812347,149.45524984239913,"p6",null,null,null,null,null,{"$f":"DC107","v":21.193757298872189},{"$f":"DD107","v":106.9},39,null,{"$f":"BD97","v":10.410015},{"$f":"BE97","v":52.7},"1'",null,{"$f":"DG126","v":31.539168244847623},{"$f":"DH126","v":124.17450697338275},{"$f":"DI126","v":"b'8s"},null,null,null,null,null,null,null,null,null,null,null,null,null,null,null,null,null,null,null,null,null,{"$f":"BO178","v":10},{"$f":"BP178","v":110.1},44,null,{"$f":"-GT135+GA99","v":10},{"$f":"GU135","v":110.1},44,null,null,null,null,null,null,null,null,null,null,null,{"$f":"HL129","v":-12.584636494360943},{"$f":"DT173","v":121.99283712961564},13,null,{"$f":"-CM143-HY101","v":5.5913149208847344},{"$f":"CN143","v":140.49996654552029},30,null,null,null,null,null,null,null,null,null,{"$f":"IB132","v":2.118742701127811},{"$f":"IC132","v":52.7},52,null,{"$f":"-FR135-HY101","v":13.589985},{"$f":"FS135","v":52.7},"1'",null,null,null,null,null,{"$f":"-AR279-HY101","v":12},{"$f":"AS279","v":52.7},1,null,{"$f":"-DN282-HY101","v":12},{"$f":"DO282","v":118.66000000000001},"e'1",null,{"$f":"-DR267-HY101","v":12},{"$f":"DS267","v":102.67500000000001},"s1",null,null,null,null,null,null,null,null,null,null,null,null,null,null,null,null,null,null,null,null,null,null,null,null,null,null,null,null,null,null,null,null,null,null,null,null,null,null,null,null,null,null,null,null,null,null,null,null,null,null,null,null,null,null,null,null,null,null,null,null,null,null,null,null,null,null,null,null,null,null,null,null,null,null,null,null,null,null,null,null,null,null,null,null,null,null,null,null,null,null,null,null,null,null,null,null,null,null,null,null,null,null,null,null,null,null,null,null,null,null,null,null,null,null,null,null,null,null,null,null,null,null,null,null,null,null,null,null,null,null,"w13",{"$f":"NU58","v":17.40384615384616},{"$f":"NV58","v":10.4},{"$f":"NZ140","v":17.036346153846161},{"$f":"OA140","v":10.916},{"$f":"NY140","v":"g6"},null,{"$f":"OF132-OG55*(OF132-OF133)","v":7.6105769230769234},{"$f":"OG132","v":16.011764705882356},"m80",null,"ارتفاع هر رج",{"$f":"OG38","v":0.42352941176470588},"w11",null,null,null,null,{"$f":"OQ132-OR55*(OQ132-OQ133)","v":5.6119871794871798},{"$f":"OR132","v":16.011764705882356},"m80",null,null,null,null,null,null,null,null,null,null,null,null,"n16",{"$f":"PB75","v":34.309294871794876},{"$f":"PC75","v":6.2705882352941185},{"$f":"PG136","v":34.150471342383113},{"$f":"PH136","v":6.658823529411765},{"$f":"PF136","v":"f6"},null,null,null,null,null,"نقطه ورودی سر فلش","مولفه افقی","مولفه عمودی",{"$f":"PR136","v":32.974358974358971},{"$f":"PS136","v":5.8470588235294123},{"$f":"PQ136","v":"n'19"},null,null,null,null,null,null,null,null,-49.5,27.571428571428569,"t30"]
[null,null,null,null,"نصف پهنای ساسون جلو کمر","y''",{"$f":"0.5*'متغیرها '!C87*(H120-H121-H118+H119)","v":0.83999999999999964},{"$f":"0.5*'متغیرها '!C87*('متغیرها '!U72-'متغیرها '!U73-'متغیرها '!U70+'متغیرها '!U71)","v":0.83999999999999964},null,"(25 → 32)","وصل",null,null,"(36' → 36)",{"$f":"SIN(G161)*K159","v":2.4570060389651518},{"$f":"SIN(H161)*L159","v":2.8969893741320449},{"$f":"AN116","v":0},{"$f":"AO116","v":38.870560958826566},2,null,null,null,"دکلته ساسون سرشانه",null,null,"(27→32→30→28)","هلال وصل",null,"(38' → 38)",{"$f":"IF((4*G170)<G172,SIN(G159)*(4*G170),SIN(G159)*G172)","v":1.0864395182575941},{"$f":"IF((4*H170)<H172,SIN(H159)*(4*H170),SIN(H159)*H172)","v":1.0783489618926552},{"$f":"AR141","v":8.0100536052480855},{"$f":"AS141","v":40.467666075232948},27,null,null,null,null,null,{"$f":"K162","v":-1.5899849999999998},{"$f":"K114-K144+AP111","v":28.329372132214026},38,null,{"$f":"AA115-AA135+AA141-AA156","v":14.70968001033021},{"$f":"AA130+AA136+AA142+AA157+AT111","v":38.801441420546929},36,null,{"$f":"MIN(AV150,AV151)+0.5*ABS((AV150-AV151))","v":0.76374999999999982},"*",{"$f":"MIN(AX150,AX151)+0.5*ABS((AX150-AX151))","v":0.76374999999999982},null,null,null,null,null,{"$f":"0.42*AX104+AX99","v":21.617994327631596},{"$f":"0+AX98","v":52.7},"3'",{"$f":"BG148-1*('متغیرها '!U58-'متغیرها '!U60)","v":37.299999999999997},"(1 → 37)",{"$f":"BI148-'متغیرها '!C96*(H106-H108)","v":39.01},null,"ساسون کمر",null,null,null,{"$f":"BK126","v":33.631125648446869},{"$f":"BL126","v":93.224095480101624},"6شیفت",null,null,"به دست آوردن نقطه تقاطع دو خط (رگلان بدون درز)","مولفه افقی","مولفه عمودی",{"$f":"BW136","v":28.015598523388661},{"$f":"BX136","v":136.31240807529744},"b12",null,null,"به دست آوردن نقطه تقاطع دو خط (رگلان بدون درز)","مولفه افقی","مولفه عمودی",null,null,null,null,"نقاط  ورودی",null,null,null,null,"بعضی نقاط  ورودی جلو",null,null,null,null,null," جلو بالاتنه کمر جناقی ",null,null,null," 15پشت بالاتنه کمر جناقی ",null,null,null,null,null,null,null,null,null,null,null,null,null,null,null,null,"نقاط  ورودی",null,null,null,null,null,"حلقه آستین عصایی",null,"نقاط  ورودی",null,null,null,null,null,"حلقه آستین عصایی",null,"قرینه",{"$f":"2*C102","v":20},null,null,null,null,null,null,null,null,null,null,null,null,null,null,null,null,{"$f":"EW151+EX142*COS(EX147-RADIANS(EX137))","v":28.607124313486189},{"$f":"EX151-EX142*SIN(EX147-RADIANS(EX137))","v":147.2414516700089},"18b",null,null,{"$f":"BW140+BT130","v":35.494253152640752},{"$f":"BX140","v":119.0729542265578},"شیفت b2",null,15.204342539557633,136.28349101487527,28,null,{"$f":"BW112","v":10.410015043015406},{"$f":"BX112","v":123.70099999999631},"چرخیده 4'",null,{"$f":"CE184","v":10.410015},{"$f":"CF184","v":123.83115467271772},"8n",null,{"$f":"BD175","v":22.033757298872189},{"$f":"BE175","v":122.02},43,null,{"$f":"ES161","v":17.435688644539475},{"$f":"ET161","v":48.7},"a'5",null,{"$f":"FF116","v":24.997245355968868},{"$f":"FG116","v":152.85831063346438},"a2",null,{"$f":"BK159","v":19.877974999999999},{"$f":"BL159","v":110.1},34,null,{"$f":"-GD152+FK99","v":0.12202500000000072},{"$f":"GE152","v":110.1},34,null,{"$f":"BK129","v":34.480648779339106},{"$f":"BL129","v":55.924095480101634},"4شیفت",null,{"$f":"-GL152+FS99","v":-14.480648779339106},{"$f":"GM152","v":55.924095480101634},"4شیفت",null,{"$f":"EX180","v":16.640475000000002},{"$f":"EY180","v":51.7},"a'26",null,{"$f":"-GT152+GA99","v":3.3595249999999979},{"$f":"GU152","v":51.7},"a'26",null,{"$f":"BK165","v":34.430950000000003},{"$f":"BL162-(H105-H108)","v":93.224095480101639},"b42",null,{"$f":"-HB152+GI99","v":-14.430950000000003},{"$f":"HC152","v":93.224095480101639},"b42",null,null,null,null,null,"خطوط برش پیش سینه",null,null,null,null,null,{"$f":"-FR147-HY101","v":1.1262427011278113},{"$f":"FS147","v":106.9},"40شیفت",null,null,null,null,null,null,null,null,null,{"$f":"-FR108-HY101","v":12},{"$f":"FS108","v":90},"g46",null,{"$f":"-CR204-HY101","v":12},{"$f":"CS204","v":109.9},"d4",null,null,null,null,null,null,null,null,null,null,null,null,null,{"$f":"-DP482-HY101","v":-3.4171020379132457},{"$f":"DQ482","v":105.77225322162174},"β11",null,null,null,null,null,null,null,null,null,null,null,null,null,null,null,null,null,null,null,null,null,null,null,null,null,null,null,null,null,null,null,null,null,null,null,null,null,null,null,null,null,null,null,null,null,null,null,null,null,null,null,null,null,null,null,null,null,null,null,null,null,null,null,null,null,null,null,null,null,null,null,null,null,null,null,null,null,null,null,null,null,null,null,null,null,null,null,null,null,null,null,null,null,null,null,null,null,null,null,null,null,null,null,null,null,null,null,null,null,null,null,null,null,null,null,null,null,null,null,null,null,null,null,null,null,null,null,null,null,null,null,null,null,{"$f":"OF150+0.1*(OF151-OF150)","v":-15.750801282051285},{"$f":"OG150","v":21.517647058823528},"m97",null,"زاویه فلش",{"$f":"OG43","v":0.5},"f5",null,null,"فلش به سمت چپ",null,{"$f":"OQ150+0.1*(OQ151-OQ150)","v":-17.734134615384619},{"$f":"OR150","v":21.517647058823528},"m97",null,"بزرگی فلش دانه",{"$f":"OR45","v":0.5},"f10",{"$f":"OV159","v":17.832371794871793},{"$f":"OW159","v":6.8705882352941181},{"$f":"OU159","v":"f8"},null,null,null,null,null,"زاویه فلش دانه",{"$f":"PC43","v":0.75},"f11",{"$f":"PG155","v":25.679887820512825},{"$f":"PH155","v":6.2705882352941185},{"$f":"PF155","v":"n19"},null,null,null,null,null,null,"متغیرهای ورودی",null,{"$f":"PR158","v":-25.381410256410255},{"$f":"PS158","v":6.2705882352941185},{"$f":"PQ158","v":"n'23"},null,{"$f":"PX148+0.5*(PX149-PX148)","v":42.5},{"$f":"PY149+0.5*(PY150-PY149)","v":21},"t38",null,null,null,null,{"$f":"PX148","v":35},{"$f":"PY148","v":20},{"$f":"PZ148","v":"t34"}]
[null,null,null,null,"پهنای ساسون سرشانه پشت",null,{"$f":"(G181/COS(G158))-G167","v":1.8250367772467762},{"$f":"(H181/COS(H158))-H167","v":1.7577200246500659},null,null,null,null,null,null,null,null,null,null,null,null,null,null,null,null,null,null,null,null,null,null,null,null,null,null,null,null,null,null,null,null,null,null,null,null,null,null,null,null,"(52→52')",{"$f":"0.25*'متغیرها '!C130*(H102-H103)","v":0},null,{"$f":"0+AX99","v":12},{"$f":"AX155+(H124-H123)+AX98","v":123.7},"خط سینه",null,"خطوط برش ساسون کمر ",null,null,null,"(50→50')",{"$f":"BI169","v":0},null,{"$f":"-BI165+BI98","v":10},{"$f":"BI167+BI97","v":93},48,null,{"$f":"BI108+BI98+'متغیرها '!C56","v":33.014237791254672},{"$f":"BI110-BI112+BI97+'متغیرها '!C57","v":120.30978183345853},"10شیفت",null,"متغیرهای محاسبه ای چرخش کامل به ساسون زیر بغل",null,null,null,null,null,null,null,null,null,null,null,null,null,null,null,{"$f":"ER423","v":10},{"$f":"ES415","v":150.89999999999998},2,null,null,{"$f":"J309","v":10},{"$f":"K309","v":113.1},"d1",null,{"$f":"CN159","v":22.707090742434726},{"$f":"CO159","v":109.9}," dd5",null,{"$f":"CN173","v":32.434334283798201},{"$f":"CO173","v":113.22409548010164},"d3",null,{"$f":"-CV170+DA153","v":-12.434334283798201},{"$f":"CW170","v":113.22409548010164},"d3",null,null,null,null,null,null,null,null,null,null,null,null,"نقاط  خروجی ",null,null,"شیفت",{"$f":"DO159+DP160","v":29.34687729887219},{"$f":"DP159","v":125.09259312961564},{"$f":"DQ159","v":"20g"},null,"(1 → 34)",{"$f":"DX154+0.75*(DX155-DX154)","v":134.00330724596671},null,"شیفت",{"$f":"CA122+DX161","v":34.69888779125467},{"$f":"CB122+DX162","v":124.68987183345853},{"$f":"CC122","v":9},null,{"$f":"-EA170+EF152","v":-14.69888779125467},{"$f":"EB170","v":124.68987183345853},{"$f":"CG122","v":"b14"},null,null,null,null,null,null,null,{"$f":"EO169+0.3*(EO166-EO169)","v":21.809249759430429},{"$f":"EP169+0.9*(EP166-EP169)","v":109.92981089868562},"a6",null,{"$f":"DL118","v":0},"شیفت افقی",null,null,null,"αa23",{"$f":"ATAN((EX158-EX157)/(EY157-EY158))","v":0},null,null,15.601291496489075,57.713470165904653,"6n'",null,null,null,null,null,null,null,null,null,null,null,null,null,null,null,null,null,null,null,null,null,null,null,null,null,null,null,null,null,null,null,null,null,null,null,null,null,null,null,null,null,null,null,null,null,null,null,null,null,{"$f":"'متغیرها '!C53","v":10},{"$f":"'متغیرها '!C54","v":10},null,null,{"$f":"-HB170+GI99","v":10},{"$f":"HC170","v":10},null,null,null,null,null,null,null,null,{"$f":"-FF147-HY101","v":13.589985},{"$f":"FG147","v":118.66000000000001},"e1",null,{"$f":"-CA191-HY101","v":11.643256313816597},{"$f":"CB191","v":70.05109598743087},"7n'",null,{"$f":"-FN175-HY101","v":-11.516874351553142},{"$f":"FO175","v":90.52706077625875},"شیفت9",null,{"$f":"-FF156-HY101","v":-12.366397482445379},{"$f":"FG156","v":53.227060776258753},"شیفت7",null,null,null,"70'",null,null,null,null,null,null,null,null,null,null,null,null,null,null,null,null,null,null,null,null,null,null,null,null,null,null,null,null,null,null,null,null,null,null,null,null,null,null,null,null,null,null,null,null,null,null,null,null,null,null,null,null,null,null,null,null,null,null,null,null,null,null,null,null,null,null,null,null,null,null,null,null,null,null,null,null,null,null,null,null,null,null,null,null,null,null,null,null,null,null,null,null,null,null,null,null,null,null,null,null,null,null,null,null,null,null,null,null,null,null,null,null,null,null,null,null,null,null,null,null,null,null,null,null,null,null,null,null,null,null,null,null,null,null,null,null,null,null,null,null,null,null,null,null,null,null,"نقطه ورودی سر فلش","مولفه افقی","مولفه عمودی",{"$f":"NZ173","v":-19.857788461538462},{"$f":"OA173","v":11.78},{"$f":"NY173","v":"f3"},null,null,null,null,null,"g8",{"$f":"OK164-0.7*OL161*SIN(RADIANS(30)-ATAN((OK164-OK167)/(OL164-OL167+0.0001)))","v":-22.925452969422139},{"$f":"OL164-0.7*OL161*COS(RADIANS(30)-ATAN((OK164-OK167)/(OL164-OL167+0.0001)))","v":7.9442150128726308},{"$f":"OK169","v":-22.709670119235298},{"$f":"OL169","v":7.9534847685192096},{"$f":"OJ169","v":"g7"},null,null,null,null,null,null,null,null,null,null,null,null,null,null,null,null,"f7",{"$f":"PG168+PG168-PG169","v":-2.3951828808446485},{"$f":"PH169","v":6.4823529411764715},{"$f":"PG168","v":-2.5540064102564131},{"$f":"PH168","v":6.2705882352941185},{"$f":"PF168","v":"n21"},null,null,null,null,null,null,null,null,{"$f":"PR162","v":8.9455128205128176},{"$f":"PS162","v":6.2705882352941185},{"$f":"PQ162","v":"h5"}]
[null,null,null,null,null,null,null,null,null,null,null,null,null,null,null,null,null,null,null,null,null,null,null,null,null,null,null,null,null,null,null,null,null,null,null,null,null,null,null,null,null,null,null,null,null,null,null,null,null,null,null,null,null,null,null,{"$f":"AZ106","v":12},{"$f":"BA106","v":52.7},1,null,null,null,null,null,null,null,null,{"$f":"BI168+BI98","v":21.440474999999999},{"$f":"BL155","v":94.710000000000008},"38'",null,null,null,null,null,null,null,null,null,"مولفه افقی","مولفه عمودی","اسم نقطه ",null,null,null,null,null,null,null,null,null,null,null,null,null,null,null,null,null,null,null,null,null,null,null,null,null,null,null,null,null,null,null,null,null,null,null,null,null,null,null,null,null,null,null,null,null,null,null,null,null,null,null,null,null,null,null,null,null,null,null,null,null,null,null,null,null,null,null,null,null,null,null,null,null,null,null,null,null,null,null,null,null,null,null,null,null,null,null,null,null,null,null,null,null,null,null,null,null,null,null,null,null,null,null,null,null,null,null,null,null,null,null,null,null,null,null,null,null,null,null,null,null,null,null,null,null,null,null,null,null,null,null,null,null,null,null,null,null,null,{"$f":"-BD134+HM191","v":12},{"$f":"BE134","v":24.062939223741253},null,null,null,null,null,null,null,null,null,null,null,null,null,null,null,null,null,null,null,null,null,null,null,null,null,null,null,null,null,null,null,null,null,null,null,null,null,null,null,null,null,null,null,null,null,null,null,null,null,null,null,null,null,null,null,null,null,null,null,null,null,null,null,null,null,null,null,null,null,null,null,null,null,null,null,null,null,null,null,null,null,null,null,null,null,null,null,null,null,null,null,null,null,null,null,null,null,null,null,null,{"$f":"LJ186","v":-4.8090375000000023},{"$f":"LK185","v":48.572878759446823},"j53",null,-4.8090375000000023,48.572878759446823,"j53",null,null,null,null,null,null,null,null,null,null,null,null,null,null,null,null,null,null,null,null,null,null,null,null,null,null,null,null,null,null,null,null,null,null,null,null,null,null,null,null,null,null,null,null,null,null,null,null,null,null,null,null,null,null,null,null,null,null,null,null,null,null,null,null,null,null,null,null,null,null,null,"h11",{"$f":"OK184","v":-20.144551282051282},{"$f":"OL184-0.5*OK175","v":8.5617647058823536},null,null,null,null,null,null,null,null,"پهنای باکس نوشته",{"$f":"OR41","v":0.5},"h4",null,null,null,null,null,null,null,null,null,null,null,{"$f":"PG186","v":-16.211769419306183},{"$f":"PH186","v":6.8705882352941181},{"$f":"PF186","v":"f13"},null,null,null,null,null,"بزرگی خط عمودی دانه",{"$f":"PN41","v":0.30000000000000004},"f9",null,null,"فلش به سمت بالا"]
[null,null,null,null,null,null,null,null,null,null,null,null,null,null,null,null,null,null,null,null,null,null,null,null,null,null,null,null,null,null,null,null,null,null,null,null,null,null,null,null,null,null,null,null,null,null,null,null,null,null,null,null,null,null,null,null,null,null,null,null,null,null,null,null,null,null,null,null,null,null,null,null,null,null,null,null,null,null,null,null,null,null,null,null,null,null,null,null,null,null,null,null,null,null,null,null,null,null,null,null,null,null,null,null,null,null,null,null,null,null,null,null,null,null,null,null,null,null,null,null,null,null,null,null,null,null,null,null,null,null,null,null,null,null,null,null,null,null,null,null,null,null,null,null,null,null,null,null,null,null,null,null,null,null,null,null,null,null,null,null,null,null,null,null,null,null,null,null,null,null,null,null,null,null,null,null,null,null,null,null,null,null,null,null,null,null,null,null,null,null,null,null,null,null,null,null,null,null,null,null,null,null,null,null,null,null,null,null,null,null,null,null,null,null,null,null,null,null,null,null,null,null,null,null,null,null,null,null,null,null,null,null,null,null,null,null,null,null,null,null,null,null,null,null,null,null,null,null,null,null,null,null,null,null,null,null,null,null,null,null,null,null,null,null,null,null,null,null,null,null,null,null,null,{"$f":"JJ273","v":10},{"$f":"JK273","v":113.80446703813109},"e41",null,{"$f":"-JN205+JS198","v":10},{"$f":"JO205","v":113.80446703813109},"e41",null,null,null,null,null,null,null,null,null,null,null,null,null,null,null,null,null,null,null,null,null,null,null,null,null,null,null,null,null,null,null,null,null,null,null,null,null,null,null,null,null,{"$f":"-LJ203+2*LJ193","v":-21.618075000000005},{"$f":"LK193","v":41.275000000000006},"j72",null,-32.824100000000001,29.85,"j64",null,null,null,null,null,null,null,null,null,null,null,null,null,null,null,null,null,null,null,null,null,null,null,null,null,null,null,null,null,null,null,null,null,null,null,null,null,null,null,null,null,null,null,null,null,null,null,null,null,null,null,null,null,null,null,null,null,null,null,null,"h13",{"$f":"NZ201","v":-21.615865384615383},{"$f":"OA202","v":12.45},{"$f":"NZ197","v":-19.581730769230766},{"$f":"OA197","v":12.2},{"$f":"NY197","v":"w21"},null,null,null,null,null,null,null,null,null,null,null,null,null,null,null,null,"نسبت سایز افقی",{"$f":"OR37","v":42},"انحنا چپگرد ",null,null,{"$f":"OW205","v":"انحنا چپگرد "},null,null,null,null,null,"پهنای باکس نوشته",{"$f":"PC38","v":0.5},"h4",null,null,null,null,null,null,null,null,"f8",{"$f":"PR202","v":-21.273621794871794},{"$f":"PS202+2*PR197","v":8.5647058823529427},{"$f":"PR204","v":-21.114798265460028},{"$f":"PS204","v":8.1764705882352953},{"$f":"PQ204","v":"f7"}]
[null,null,null,null,null,null,null,null,null,null,null,null,null,null,null,null,null,null,null,null,null,null,null,null,null,null,null,null,null,null,null,null,null,null,null,null,null,null,null,null,null,null,null,null,null,null,null,null,null,null,null,null,null,null,null,null,null,null,null,null,null,null,null,null,null,null,null,null,null,null,null,null,null,null,null,null,null,null,null,null,null,null,null,null,null,"m12",{"$f":"0.2*IF(POWER((CI219/(1.1*8)),2)>POWER((0.5*CI223),2),SQRT(POWER((CI219/(1.1*8)),2)-POWER((0.5*CI223),2)),0)","v":0.34456969197624554},null,null,{"$f":"BK289-BI266","v":10.410015},{"$f":"BL289-BI267","v":52.7},29,null,{"$f":"CH283-BI266","v":20.350422821570554},{"$f":"CI283-BI267","v":62.255680510025563},"m13",null,null,"m11",{"$f":"ATAN((CV235-CV236)/(CU235-CU236))","v":0.10225424166729741},null,null,{"$f":"CU241-CV253","v":35.932642980854929},{"$f":"CV241-CV254","v":57.402249924291127},"m15",null,null,null,null,null,null,null,null,null,null,null,null,null,null,null,null,null,null,null,null,null,null,null,null,null,null,null,null,null,null,null,null,null,null,null,null,null,null,null,null,null,null,null,null,null,null,null,null,null,null,null,null,null,null,null,null,null,null,null,null,null,null,null,null,null,null,null,null,null,null,null,null,null,null,null,null,null,null,null,null,null,null,null,null,null,null,null,null,null,null,null,null,null,null,null,null,null,null,null,null,null,null,null,null,null,null,null,null,null,null,null,null,null,null,null,null,null,null,null,null,null,null,null,null,null,null,null,null,null,null,null,null,null,null,null,null,null,null,null,null,null,null,null,null,null,null,null,null,null,null,null,null,null,null,null,null,null,null,null,null,null,null,null,null,null,null,null,null,null,null,null,null,null,null,null,null,null,null,null,null,{"$f":"JN263","v":29.701677924861443},{"$f":"JO263","v":125.35891242804361},"e65",null,{"$f":"-JN263+JD263","v":-5.7016779248614426},{"$f":"JO263","v":125.35891242804361},"e65",null,null,null,null,null,null,null,null,null,null,null,null,null,null,null,null,null,null,null,null,null,null,null,null,null,null,null,null,null,{"$f":"LJ218+0.5*(LJ213-LJ218)","v":45.618075000000005},{"$f":"LK212","v":29.85},"j90",null,{"$f":"LJ207","v":23.206025},41.275000000000006,"j74",null,null,40,{"$f":"BO164","v":21.040475000000001},{"$f":"BP164","v":126.76137476501766},null,"نقطه دوم از خط دوم",40,{"$f":"BO164","v":21.040475000000001},{"$f":"BP164","v":126.76137476501766},null,"d4  b12ʻ",22.31454339526579,136.08987544046778,null,{"$f":"MC278","v":13.179969999999999},{"$f":"MD278","v":96.599276384081293},"m12",null,{"$f":"-MF222+MK212","v":6.8200300000000009},{"$f":"MG222","v":96.599276384081293},"m12",null,{"$f":"MC278","v":13.179969999999999},{"$f":"MD278","v":96.599276384081293},"m12",null,{"$f":"-MN222+MS212","v":6.8200300000000009},{"$f":"MO222","v":96.599276384081293},"m12",null,{"$f":"MC278","v":13.179969999999999},{"$f":"MD278","v":96.599276384081293},"m12",null,{"$f":"-MV222+NA212","v":6.8200300000000009},{"$f":"MW222","v":96.599276384081293},"m12",null,{"$f":"MC278","v":13.179969999999999},{"$f":"MD278","v":96.599276384081293},"m12",null,{"$f":"-ND222+NI212","v":6.8200300000000009},{"$f":"NE222","v":96.599276384081293},"m12",null,{"$f":"MC278","v":13.179969999999999},{"$f":"MD278","v":96.599276384081293},"m12",null,{"$f":"-NL222+NQ212","v":6.8200300000000009},{"$f":"NM222","v":96.599276384081293},"m12",null,null,null,null,null,null,null,null,null,{"$f":"NU67","v":-19.581730769230766},{"$f":"NV67","v":12.799999999999999},"w22",null,null,null,null,null,"g4",{"$f":"OK219-OK217*OK215/40","v":-22.855128205128203},{"$f":"OL219+0.5*OK216","v":9.447058823529412},{"$f":"OK226","v":-22.973328968026447},{"$f":"OL226","v":9.4424588520005166},{"$f":"OJ226","v":"g8"},null,null,null,null,null,"نقطه ورودی سر فلش","مولفه افقی","مولفه عمودی",{"$f":"OV225","v":-20.359664404223228},{"$f":"OW225","v":9.3623529411764714},{"$f":"OU225","v":"f3"},null,null,null,null,null,null,null,null,null,null,null,null,null,null,null,null,"f3",{"$f":"PR221","v":-18.789213800904978},{"$f":"PS220+PR217*PR218","v":8.0917647058823547},{"$f":"PR221","v":-18.789213800904978},{"$f":"PS221","v":7.8376470588235305},{"$f":"PQ221","v":"f2"}]
[null,null,null,null,null,"(a2 → a4)",{"$f":"2.4*G242*'متغیرها '!C164","v":5.4434034770387942},null,null,{"$f":"G245+AX99","v":24.997245355968868},{"$f":"AX103+G244+AX98","v":152.85831063346438},"a2",null,"(e → e4)",{"$f":"O236*G262/G260","v":7.5720700309328652},null,null,null,null,null,{"$f":"U249","v":10.410015},{"$f":"V249","v":123.37056095882657},"49''",null,{"$f":"-U239+S257","v":13.589985},{"$f":"V239","v":123.37056095882657},"49''",null,"نقاط  ورودی",null,null,null,"محاسبات",null,null,"پشت یقه پروانه ای ",null,null,"قرینه",{"$f":"2*C102","v":20},null,null,"d2",{"$f":"'متغیرها '!C455","v":0.9},null,null,null,null,null,null,null,null,null,null,null,{"$f":"IU315","v":34.412050000000001},{"$f":"IV315","v":52.7},"a9",null,"(8 → 13)",{"$f":"BE249*COS(2*BI264+BE246)","v":4.1294854285815381},null,null,null," انحنا لبه دامن فون روی خط مرکزی جلو",null,null,null,"قرینه انحنا لبه دامن فون روی خط مرکزی جلو",null,null,{"$f":"'متغیرها '!C56","v":0},"شیفت افقی تکه پهلو پیراهن",null,"(8 → 13)",{"$f":"BT248*COS(2*BT241+BT245)","v":4.0127765124933648},null,null,null,"انحنا بالا",null,null,null,"انحنا بالا",null,{"$f":"CH235+0.5*CI223","v":37.054713535332823},{"$f":"CI235+0.5*CI223*TAN(CI221)+CI222","v":49.316259112177896},"m15",null,{"$f":"CH233-BI266","v":49.528012223527419},{"$f":"CI233-BI267","v":55.242269669531659},"m3",null,{"$f":"CH289-BI266","v":20.970284858853095},{"$f":"CI289-BI267","v":110.02541215525176},"m22",null,null,{"$f":"BZ228+0.5*(CU236-BZ228)","v":18.48018551462156},{"$f":"CA228+0.5*CV223","v":48.88014847087188},"m13",null,{"$f":"CU249-CV253","v":27.947467427038557},{"$f":"CV249-CV254","v":113.17445728806098},"m26",null,"(m7→ m8)",{"$f":"0.28*(DD235-DD233)+DD233","v":9.6805656931764723},null,null,{"$f":"DD234","v":40.68},"(1 → m3)",null,{"$f":"DD241+AX99","v":17.907641423294116},{"$f":"DD240+AX98","v":85.880130696720286},"m10",null,{"$f":"DJ231","v":16.649999999999999},{"$f":"DK231","v":81.841739533415819},"m2",null,{"$f":"DJ260","v":14.65},{"$f":"DK260","v":70.106645581128944},"m2",null,{"$f":"-DR239+DW229","v":5.35},{"$f":"DS239","v":70.106645581128944},"m2",null,{"$f":"BO178","v":10},{"$f":"BP178","v":110.1},44,null,{"$f":"-DZ239+EE229","v":10},{"$f":"EA239","v":110.1},44,null,null,null,null,null,"نقاط تکه وسط پا ",null,null,null,{"$f":"EL237","v":31.148017036426747},{"$f":"EM237","v":55.7},"p14",null,{"$f":"-EP239+EU230","v":-11.148017036426747},{"$f":"EQ239","v":55.7},"p14",null,{"$f":"EL273","v":31.407611007571219},{"$f":"EM273","v":52.7},"p8",null,"(p19 → p20)",{"$f":"IF('متغیرها '!C434=1,0.85,0.5)*FC235","v":-2.1377906443608414},null,{"$f":"AZ99","v":34.899986494360945},{"$f":"BA99","v":121.99283712961564},12,null,{"$f":"AZ99-'متغیرها '!C55","v":34.899986494360945},{"$f":"BA99","v":121.99283712961564},12,null,"(p14 → p15)",{"$f":"IF('متغیرها '!C445=1,0.75,0.45)*FN235","v":5.9243327440848912},null,{"$f":"BK122-'متغیرها '!C56","v":33.014237791254672},{"$f":"BL122-'متغیرها '!C57","v":124.68987183345853},8,null,{"$f":"-FP239+FU230","v":-13.014237791254672},{"$f":"FQ239","v":124.68987183345853},8,null,null,{"$f":"O140","v":0.43388999203906164},"β4",null,"yd3",{"$f":"IF(FY240<3,'متغیرها '!U60+(FY240-2)*('متغیرها '!U56-'متغیرها '!U60),'متغیرها '!U56+(FY240-3)*(I124-I123))","v":108.30000000000001},"شیفت",{"$f":"FX249+'متغیرها '!C51","v":36.584636494360943},{"$f":"FY249+FY242+'متغیرها '!C52","v":121.99283712961564},13,null,null,{"$f":"AD140","v":0.51498189299722452},"β8","شیفت",{"$f":"GI248+'متغیرها '!C53","v":34.69888779125467},{"$f":"GJ248+GJ242+'متغیرها '!C54","v":124.68987183345853},{"$f":"GK248","v":9},null,null,null,{"$f":"AZ165","v":12},{"$f":"BA165","v":106.9},38,null,"(dp'5 →dp5)",{"$f":"2*(HA253-GS239)-4*GX237","v":42.158090960932135},null,null,null,null,null,null,null,"انحنا یقه",null,{"$f":"CR170","v":22.707090742434726},{"$f":"CS170","v":109.9},{"$f":"CT170","v":" dd5"},null,null,{"$f":"H123","v":22.4},"t2",null,"c8",{"$f":"IF(HT245>HT254,ATAN((HS254-HS235)/(HT235-HT254)),ATAN((HS255-HS235)/(HT235-HT255)))","v":0.77185539646559997},null,{"$f":"HS234+HQ236*COS(HQ232)","v":33.05547501673486},{"$f":"HT234-HQ236*SIN(HQ232)","v":123.08868239775346},"a7",null,{"$f":"HW238+(0.5-HN254)*(HW240-HW238)","v":22.052732204882112},{"$f":"HX240+0.5*(HX238-HX240)","v":121.69267943775523},"a44",null,{"$f":"HS243","v":19.676329484553786},{"$f":"HT243+HN260","v":122.23955873274302},"a11",null,{"$f":"HS243","v":19.676329484553786},{"$f":"HT243+HN260","v":122.23955873274302},"a11",null,null,null,null,null,{"$f":"-HS243+HM242","v":4.3236705154462136},{"$f":"HT243+HN260","v":122.23955873274302},"a11",null,null,7,0.12217304763960307,{"$f":"HS240+HQ247*SIN(HQ250+IS239)","v":23.289058854464951},{"$f":"HT240+HQ247*COS(HQ250+IS239)","v":125.53043788149493},{"$f":"ATAN((IU239-HT235)/(IT239-HS235))","v":0.16193422100586968},{"$f":"(IT239-HS235)/COS(IV239)","v":10.422031643970666},null,null,{"$f":"HS234","v":22.033757298872189},{"$f":"HT234","v":123.70000000000002},"a2",null,"d8",{"$f":"'متغیرها '!C482","v":1.2},null,"yf6",{"$f":"JA240+5","v":123.37639304127642},null,{"$f":"JJ237+IZ237-IZ234","v":18.370930733867279},{"$f":"JK237+JA237-JA234","v":130.91056184279364},"e7",null,null,null,null,null,{"$f":"JJ288","v":30.053780944117268},{"$f":"JK288","v":122.90062395774417},"e56",null,{"$f":"-JJ288+JD263","v":-6.0537809441172676},{"$f":"JK288","v":122.90062395774417},"e56",null,null,null,null,null,null,null,null,null,null,2,{"$f":"KJ235+KM235*SIN(RADIANS(KI239)+KI237)","v":20.699397734282059},{"$f":"KK235+KM235*COS(RADIANS(KI239)+KI237)","v":129.59905468683402},{"$f":"IF(KJ236>KJ239,ATAN((KK236-KK239)/(KJ236-KJ239)),ATAN((KK236-KK239)/(KJ239-KJ236)))","v":-1.5350412787933077},{"$f":"IF(KJ236>KJ239,(KJ236-KJ239)/COS(KL239),(KJ239-KJ236)/COS(KL239))","v":0.99033674868791688},null,null,{"$f":"BD228","v":12},109.9,"d4",null,{"$f":"KP284","v":56.824100000000001},{"$f":"KQ284","v":41.275000000000006},"j22",null,{"$f":"-KT239+KW231","v":-32.824100000000001},{"$f":"KU239","v":41.275000000000006},"j''22",null,null,null,null,null,{"$f":"LB262","v":60.4619},{"$f":"LC262","v":44.275000000000006},"j'22",null,{"$f":"-LJ237+2*LJ231","v":-10.412050000000001},{"$f":"LK231","v":18.425000000000001},"j108",null,null,null,null,null,null,"d6  b6",{"$f":"0.6*(LT215-LT222)+LT222","v":24.79971963622712},{"$f":"LU227+((LT239-LT227)/(LT215-LT227))*(LU215-LU227)+0.5*'متغیرها '!C360*(LT214-LT227)","v":134.09608403827428},null,null,"به دست آوردن نقطه تقاطع دو خط (d''4b14)","مولفه افقی","مولفه عمودی",null,"d5  b14",14.96821375,125.2630099317452,null,{"$f":"MC278+MC263","v":43.179969999999997},{"$f":"MD278","v":96.599276384081293},"جدا m12",null,{"$f":"-MF239+MK212","v":-23.179969999999997},{"$f":"MG239","v":96.599276384081293},"جدا m12",null,{"$f":"MC278+MC263","v":43.179969999999997},{"$f":"MD278","v":96.599276384081293},"جدا m12",null,{"$f":"-MN239+MS212","v":-23.179969999999997},{"$f":"MO239","v":96.599276384081293},"جدا m12",null,{"$f":"MC278+MC263","v":43.179969999999997},{"$f":"MD278","v":96.599276384081293},"جدا m12",null,{"$f":"-MV239+NA212","v":-23.179969999999997},{"$f":"MW239","v":96.599276384081293},"جدا m12",null,{"$f":"MC278+MC263","v":43.179969999999997},{"$f":"MD278","v":96.599276384081293},"جدا m12",null,{"$f":"-ND239+NI212","v":-23.179969999999997},{"$f":"NE239","v":96.599276384081293},"جدا m12",null,{"$f":"MC278+MC263","v":43.179969999999997},{"$f":"MD278","v":96.599276384081293},"جدا m12",null,{"$f":"-NL239+NQ212","v":-23.179969999999997},{"$f":"NM239","v":96.599276384081293},"جدا m12",null,null,null,null,null,null,"g5",{"$f":"NZ235+0.7*(NZ238-NZ235)","v":-25.3675},{"$f":"OA235+0.28*(OA238-OA235)","v":12.883999999999999},{"$f":"NZ236","v":-25.493499999999997},{"$f":"OA236","v":13.2296},{"$f":"NY236","v":"g11"},null,null,null,null,null,"زاویه فلش دانه",{"$f":"OG46","v":0.75},"f11",{"$f":"OK242","v":-21.948717948717949},{"$f":"OL242","v":9.6588235294117659},{"$f":"OJ242","v":"m27"},null,null,null,null,null,null,null,null,null,null,null,null,null,null,null,null,"بزرگی فلش",{"$f":"PC48","v":0.25411764705882356},"f4",{"$f":"PG241","v":-19.355128205128203},{"$f":"PH241","v":8.3882352941176475},{"$f":"PF241","v":"n30"},null,null,null,null,null,"طول باکس نوشته",{"$f":"1.3*PN37","v":5.8500000000000005},"h3",{"$f":"PR249","v":6.7833333333333314},{"$f":"PS249","v":8.3882352941176475},{"$f":"PQ249","v":"h8"}]
[null,null,null,null,null,"یقه انگلیسی در مانتو راسته ",null,null,null,{"$f":"N256","v":19.080274036418},{"$f":"O256","v":146.88460063207864},"a15",null,{"$f":"N256+0.25*(N255-N256)","v":20.17177423610735},{"$f":"O256+0.45*(O255-O256)","v":150.40829988764131},"a16",null,"قرینه",{"$f":"2*C100","v":24},null,{"$f":"CR182","v":12},{"$f":"CS182","v":109.9},"d4",null,{"$f":"-U257+S257","v":12},{"$f":"V257","v":109.9},"d4",null,null,"(1 → b9)",{"$f":"AD241-AD245+'متغیرها '!C391*AD236*COS(AD233)+'متغیرها '!C391*AD236*TAN(AH227-AD233)*SIN(AD233)","v":93.244958378503114},null,null,null,{"$f":"AE256+AC245","v":18.669880054445013},{"$f":"AE255+AD245","v":152.40328682596652},"b8",null,{"$f":"-AI257+AN252","v":1.330119945554987},{"$f":"AJ257","v":152.40328682596652},"b8",null,null,null,null,null,null,{"$f":"BO170-AW260-AW262","v":23.014237791254672},{"$f":"BP170-AW261-AW263","v":110.30978183345853},10,null,null,null,null,null,{"$f":"KP278","v":24.37660860018147},"j17",null,null,null,null,null,{"$f":"BI230+BI233+BK290","v":20.414308955555896},{"$f":"BI227+BI234+BI229+BE252","v":105.34867871196161},8,null,{"$f":"-BK257-BN226","v":3.5856910444441041},105.34867871196161,8,null,null,null,null,null,"شیفت عمودی خط مرکزی پشت",{"$f":"'متغیرها '!C328","v":-7},null,{"$f":"BV286","v":35.614717332603412},{"$f":"BW286","v":98.114658074663112},"c3",null,{"$f":"-BZ257+CE227","v":-15.614717332603412},{"$f":"CA257","v":98.114658074663112},"c3",null,"m7",{"$f":"SQRT(POWER((CH299-CH279),2)+POWER((CI299-CI279),2))","v":33.397533956049763},null,null,{"$f":"-CL216-CI249","v":12},{"$f":"CM216","v":109.9},2,null,{"$f":"-CP222-CI249","v":3.6495771784294462},62.255680510025563,"m13",null,null,null,null,null,null,{"$f":"-CY230-CV255","v":5.5131331432403599},{"$f":"CZ230","v":113.1},"m20",null,"(m9→ m10)",{"$f":"0.12*(DD251-DD249)+DD249","v":6.9765968570055934},null,null,{"$f":"DD257","v":6.9765968570055934},"(m9→ m10)",null,null,null,null,null,{"$f":"DJ250","v":54.492148395882353},{"$f":"DK250","v":80.698148783455849},"s10",null,{"$f":"DF265","v":10},{"$f":"DG265","v":105.29609118042343},"s5",null,{"$f":"-DR257+DW229","v":10},{"$f":"DS257","v":105.29609118042343},"s5",null,null,null,null,null,null,null,null,null,null,"(38→p3)",{"$f":"H110","v":26.5},null,{"$f":"EL256-EH263+EH264","v":14.795623558169446},{"$f":"EM256","v":10},"p''14",null,{"$f":"EL242","v":50.703889223741257},{"$f":"EM242","v":83.224095480101624},"p16",null,{"$f":"-EP257+EU230","v":-30.703889223741257},{"$f":"EQ257","v":83.224095480101624},"p16",null,null,null,null,null,null,null,null,null,null,null,null,null,null,"جلو جادکمه پیش سینه در بالاتنه",{"$f":"FN240+BI98","v":13.272256},{"$f":"FN231-FN241+BI97","v":137.4744473922209},"p23",null,{"$f":"FP231","v":10},{"$f":"FQ231","v":137.353830435801},"p21",null,{"$f":"-FP257+FU230","v":10},{"$f":"FQ257","v":137.353830435801},"p21",null,{"$f":"FX258+0.6*(FX256-FX258)","v":4.8065138093364501},{"$f":"FY258+0.3*(FY256-FY258)","v":126.27376028667497},null,null,"(d3 → d5)",{"$f":"((GC261-GC256)-(GC260-GC255)*TAN(RADIANS(GJ241)))*COS(RADIANS(GJ241))*COS(RADIANS(GJ241))","v":25.944482130368932},null,{"$f":"GC251+'متغیرها '!C51","v":2.0869285574196255},{"$f":"GC252+FY242+'متغیرها '!C52","v":138.76721834027043},"d'4 شیفت",null,"yd9",{"$f":"GJ259-GJ254*COS(GJ255)","v":122.19055418225021},null,null,{"$f":"GC268+'متغیرها '!C53","v":-0.65961370969534272},{"$f":"GC269+GJ242+'متغیرها '!C54","v":143.75167795582865},"d'4 شیفت",null,"بهینه α1",65,1.1344640137963142,{"$f":"HA255+GX241*COS(GS257)","v":7.3910669730826974},{"$f":"HB255-GX241*SIN(GS257)","v":72.318854651766543},{"$f":"SQRT(POWER((HA252-GT257),2)+POWER((HB252-GU257),2))","v":50.393754035825225},{"$f":"ABS(GX238-GV257)","v":34.160865859146782},null,null,null,null,null,null,null,null,null,"قرینه",{"$f":"IJ106","v":2.6395761446903485},{"$f":"IK106","v":109.9},{"$f":"IL106","v":"d5"},null,null,"b17",{"$f":"'متغیرها '!C472","v":0.70000000000000018},null,null,null,null,{"$f":"HL238","v":22.873757298872189},{"$f":"HM238","v":106.9},"a25",null,{"$f":"HS258+0.3*(HS239-HS258)+HM241","v":25.928272614230991},{"$f":"HT258+0.05*(HT239-HT258)","v":117.94940224194745},"a63",null,{"$f":"HW237","v":21.761736992204213},{"$f":"HX237+HN259","v":125.84294601170569},"a42",null,{"$f":"HS247","v":19.676329484553786},{"$f":"HT247+HN259","v":125.16044126725701},"a15",null,null,null,"قرینه پایه کرست روی جلو لباس ",null,{"$f":"-HW237+HM242","v":2.238263007795787},{"$f":"HX237+HN259","v":125.84294601170569},"a42",null,"راس پایین","a50",{"$f":"HW245","v":22.45687282808769},{"$f":"HX245","v":121.69355493718408},"ضلع پایین",{"$f":"HQ253","v":11.740395624680669},null,null,null,{"$f":"HW237","v":21.761736992204213},{"$f":"HX237+JD254","v":125.84294601170569},"a42",null,{"$f":"HQ237","v":4.6633312423842922E-2},"c6",null,"f21",{"$f":"(IZ246-IZ241+IZ249-IZ251)/SQRT(POWER((IZ251-IZ249),2)+POWER((JA249-JA251),2))","v":0.31087108367982647},null,{"$f":"IZ260","v":22.45687282808769},{"$f":"JA260+JD256","v":121.69355493718408},"e25",null,"مولفه افقی","مولفه عمودی","اسم نقطه ",null,28.009411639194866,123.90851469877008,"e51",null,{"$f":"-JJ283+JD263","v":-4.009411639194866},{"$f":"JK283","v":123.90851469877008},"e51",null,{"$f":"JJ253","v":24.910846790176308},{"$f":"JK253","v":132.22886766422545},"e21",null,{"$f":"-JJ253+JD263","v":-0.91084679017630776},{"$f":"JK253","v":132.22886766422545},"e21",null,null,38,{"$f":"KJ235+KM235*SIN(RADIANS(KI257)+KI237)","v":25.681781774854301},{"$f":"KK235+KM235*COS(RADIANS(KI257)+KI237)","v":129.12225652508806},{"$f":"IF(KJ236>KJ257,ATAN((KK236-KK257)/(KJ236-KJ257)),ATAN((KK236-KK257)/(KJ257-KJ236)))","v":-0.101863726485553},{"$f":"IF(KJ236>KJ257,(KJ236-KJ257)/COS(KL257),(KJ257-KJ236)/COS(KL257))","v":5.0439318850134187},null,null,{"$f":"'متغیرها '!C801","v":0.75},"j2",null,null,{"$f":"KP289","v":56.824100000000001},{"$f":"KQ289","v":29.85},"j27",null,{"$f":"-KT257+KW231","v":-32.824100000000001},{"$f":"KU257","v":29.85},"j''27",null,{"$f":"SQRT(POWER((LB242-LB243),2)+POWER((LC242-LC243),2))+SQRT(POWER((LB244-LB245),2)+POWER((LC244-LC245),2))","v":20.528704413582133},"j'18",null,null,{"$f":"LB267","v":60.4619},{"$f":"LC267","v":32.85},"j'27",null,null,null,null,null,null,null,null,null,null,null,null,null,null,"نقطه دوم از خط دوم",40,{"$f":"BO164","v":21.040475000000001},{"$f":"BP164","v":126.76137476501766},null,"شیفت10",{"$f":"BO170","v":33.014237791254672},{"$f":"BP170","v":120.30978183345853},null,{"$f":"IF(OR(MC259=2,MC259=3,MC259=4),MC239,MC275)+MC263","v":44.968213750000004},{"$f":"IF(OR(MC259=2,MC259=3,MC259=4),MD239,MD275)","v":125.2630099317452},"جدا m9 یا d5b14",null,{"$f":"-MF257+MK212","v":-24.968213750000004},{"$f":"MG257","v":125.2630099317452},"جدا m9 یا d5b14",null,{"$f":"IF(OR(MC259=2,MC259=3,MC259=4),MC233,MC274)+MC263","v":44.968213750000004},{"$f":"IF(OR(MC259=2,MC259=3,MC259=4),MD233,MD274)","v":126.25492093735586},"جدا m8 یا d5b10",null,{"$f":"-MN257+MS212","v":-24.968213750000004},{"$f":"MO257","v":126.25492093735586},"جدا m8 یا d5b10",null,{"$f":"IF(OR(MC259=2,MC259=3,MC259=4),MC227,MC273)+MC263","v":44.968213750000004},{"$f":"IF(OR(MC259=2,MC259=3,MC259=4),MD227,MD273)","v":128.23113678015625},"جدا m7 یا d5b6",null,{"$f":"-MV257+NA212","v":-24.968213750000004},{"$f":"MW257","v":128.23113678015625},"جدا m7 یا d5b6",null,{"$f":"IF(OR(MC259=2,MC259=3,MC259=4),MC221,MC272)+MC263","v":44.968213750000004},{"$f":"IF(OR(MC259=2,MC259=3,MC259=4),MD221,MD272)","v":129.7914815116566},"جدا m6 یا d5b12",null,{"$f":"-ND257+NI212","v":-24.968213750000004},{"$f":"NE257","v":129.7914815116566},"جدا m6 یا d5b12",null,{"$f":"IF(OR(MC259=2,MC259=3,MC259=4),MC215,MC271)+MC263","v":44.968213750000004},{"$f":"IF(OR(MC259=2,MC259=3,MC259=4),MD215,MD271)","v":130.79347299179602},"جدا m5 یا d5b16",null,{"$f":"-NL257+NQ212","v":-24.968213750000004},{"$f":"NM257","v":130.79347299179602},"جدا m5 یا d5b16",null,null,null,null,null,null,"w26",{"$f":"NU71","v":22.822115384615394},{"$f":"NV71","v":13.399999999999999},{"$f":"NZ262","v":23.189615384615394},{"$f":"OA262","v":13.915999999999999},{"$f":"NY262","v":"g6"},null,null,null,null,null,"نسبت سایز افقی",{"$f":"OG37","v":42},"انحنا چپگرد ",null,null,{"$f":"OL257","v":"انحنا چپگرد "},null,null,null,null,null,"f8",{"$f":"OV254","v":-23.283653846153847},{"$f":"OW254+2*OV249","v":10.258823529411766},{"$f":"OV256","v":-23.124830316742081},{"$f":"OW256","v":9.8705882352941181},{"$f":"OU256","v":"f7"},null,null,null,null,null,"زاویه فلش دانه",{"$f":"PC43","v":0.75},"f11",{"$f":"PG260","v":31.868269230769229},{"$f":"PH260","v":8.3882352941176475},{"$f":"PF260","v":"n28"}]
[null,null,null,null,null,{"$f":"J232","v":19.209770714004677},{"$f":"K232","v":142.60820431084281},"e7",null,null,null,null,null,"α17",{"$f":"ATAN((O247-O246)/(N246-N247))","v":0.87488531292004545},null,null,null,null,null,null,null,null,null,null,null,null,"c2",{"$f":"(1+'متغیرها '!C498)*((AC269-AX99)+0.27*H130)+AX99","v":67.49898019377315},{"$f":"BE182+AC266","v":63.631729112509312},null,{"$f":"AC273","v":44.558487260702378},{"$f":"AD273","v":55.979518733752798},"c5",null,{"$f":"-M279-AK265","v":-1.1005061177241053},{"$f":"N279","v":140.78421479715414},"b4  ..",null,null,{"$f":"AX101","v":2.2771482264341426E-2},"زاویه پهلو با عمود",null,null,null,null,null,{"$f":"AV257+AW260+AW262","v":33.014237791254672},{"$f":"AW257+AW261+AW263","v":120.30978183345853},{"$f":"AX257","v":10},null,{"$f":"-AV271+BA270","v":-13.014237791254672},{"$f":"AW271","v":120.30978183345853},10,null,{"$f":"BK230","v":26.127537019704707},{"$f":"BL230","v":48.406966087604694},10,null,null,null,null,{"$f":"BV270","v":37.737626592236637},{"$f":"BW270","v":96.629127771936425},"c2",null,{"$f":"-BK271-BN226","v":-13.737626592236637},{"$f":"BL271","v":96.629127771936425},"c2",null,null,"نقطه خروجی میانه","c3",{"$f":"BV263+BV266*BW268*SIN(BU268)/BW267","v":37.737626592236637},{"$f":"BW263-BV266*BW268*COS(BU268)/BW267","v":96.629127771936425},null,null,null,null,null,null,null,null,null,null,"m39",{"$f":"CI270/CI269","v":0.18224586154130312},null,null,{"$f":"-CL230-CI249","v":3.6052011039755918},52.872284845988126,"m13",null,{"$f":"-CP236-CI249","v":7.5148575705734544},{"$f":"CQ236","v":109.9},"m20",null,null,null,null,null,null,null,null,null,null,null,null,null,"محاسبات از شلوار جلو و پشت",null,null,null,{"$f":"BK170","v":10},{"$f":"DD248+BI97","v":70.106645581128944},"m'1",null,null,null,"خط مرغک در جلو",null,{"$f":"DJ233","v":34.616306047058828},{"$f":"DK233","v":93.38},"m4",null,null,null,null,null,{"$f":"DJ247","v":10.410015},{"$f":"DK247","v":102.67500000000001},"s'1",null,null,null,null,null,null,{"$f":"'متغیرها '!C414","v":2},"جابجایی افقی وسط پا",null,{"$f":"EL255-0.25*EJ259*(EI267-1)","v":11.884829199543304},{"$f":"EI249","v":52.7},"p6",null,null,null,null,null,null,null,null,null,null,null,null,null,null,null,null,null,null,null,null,null,null,null,null,null,null,null,{"$f":"CV179","v":10},{"$f":"CW179","v":113.1},{"$f":"CX179","v":"d1"},null,{"$f":"-FP271+FU230","v":10},{"$f":"FQ271","v":113.1},{"$f":"DB179","v":"d1"},null,{"$f":"C101","v":7},"شیفت عمودی کل جلو",null,null,null,null,null,null,null,null,null,null,null,null,null,null,null,null,null,null,null,null,null,null,null,null,null,null,null,null,null,null,null,null,null,null,{"$f":"HH269","v":1.2929092575652739},{"$f":"HI269","v":109.9},{"$f":"HJ269","v":" dd5"},null,null,"نقطه دوم از خط اول","a36",{"$f":"HW233","v":34.331173854573763},{"$f":"HX233","v":124.62900459623548},null,null,null,null,null,null,null,null,null,null,{"$f":"HW235","v":22.45687282808769},{"$f":"HX235+HN259","v":125.70644506281596},"a40",null,{"$f":"HS234","v":22.033757298872189},{"$f":"HT234+HN259","v":123.70000000000002},"a2",null,null,null,null,null,{"$f":"-HW235+HM242","v":1.5431271719123103},{"$f":"HX235+HN259","v":125.70644506281596},"a40",null,null,22,{"$f":"IS257+IV257*SIN(RADIANS(IR271)+IR259)","v":33.823705090692386},{"$f":"IT257+IV257*COS(RADIANS(IR271)+IR259)","v":118.75552605069741},{"$f":"IF(IS258>IS271,ATAN((IT258-IT271)/(IS258-IS271)),ATAN((IT258-IT271)/(IS271-IS258)))","v":1.1988892738726202},{"$f":"IF(IS258>IS271,(IS258-IS271)/COS(IU271),(IS271-IS258)/COS(IU271))","v":4.5287745216895852},null,null,null,null,null,null,null,null,null,null,null,null,null,{"$f":"IZ263-JD261*JD262*SIN(JH256)","v":32.608032569311355},{"$f":"JA263-JD261*JD262*COS(JH256)","v":116.71226210747687},"e39",null,{"$f":"IZ249","v":22.45687282808769},{"$f":"JA249","v":125.70644506281596},"a40","نقطه مرکزی چرخش","مولفه افقی","مولفه عمودی","اسم نقطه ",null,null,null,null,null,null,null,null,null,null,null,null,null,null,"بهینه α",{"$f":"IF(KM236<KM239,KI239,IF(KM236<KM240,KI240,IF(KM236<KM241,KI241,IF(KM236<KM242,KI242,IF(KM236<KM243,KI243,IF(KM236<KM244,KI244,IF(KM236<KM245,KI245,IF(KM236<KM246,KI246,IF(KM236<KM247,KI247,IF(KM236<KM248,KI248,IF(KM236<KM249,KI249,IF(KM236<KM250,KI250,IF(KM236<KM251,KI251,IF(KM236<KM252,KI252,IF(KM236<KM253,KI253,IF(KM236<KM254,KI254,IF(KM236<KM255,KI255,IF(KM236<KM256,KI256,IF(KM236<KM257,KI257,IF(KM236<KM258,KI258,IF(KM236<KM259,KI259,IF(KM236<KM260,KI260,IF(KM236<KM261,KI261,IF(KM236<KM262,KI262,IF(KM236<KM263,KI263,IF(KM236<KM264,KI264,IF(KM236<KM265,KI265,IF(KM236<KM266,KI266,IF(KM236<KM267,KI267,IF(KM236<KM268,KI268,IF(KM236<KM269,KI269,KI270)))))))))))))))))))))))))))))))","v":64},{"$f":"RADIANS(KJ271)","v":1.1170107212763709},"c21",{"$f":"IF(KJ236>KJ273,ATAN((KK236-KK273)/(KJ236-KJ273)),ATAN((KK236-KK273)/(KJ273-KJ236)))","v":0.20501075922587134},null,null,{"$f":"IF(KP257<1,KP257*I107,IF(KP257<2,I107+(KP257-1)*(I108-I107),IF(KP257<3,I108+(KP257-2)*(I105-I108),I105+(KP257-3)*(I127-I126))))","v":34.275000000000006},"j02",null,null,{"$f":"KP292","v":56.824100000000001},{"$f":"KQ292","v":18.425000000000001},"j30",null,{"$f":"-KT271+KW231","v":-32.824100000000001},{"$f":"KU271","v":18.425000000000001},"j''30",null,{"$f":"LB270","v":60.4619},{"$f":"KP274+KQ250+KP268","v":10},"j'31",null,{"$f":"LB270","v":60.4619},{"$f":"LC270","v":21.425000000000001},"j'30",null,null,null,null,null,-32.824100000000001,7,"j104",null,null,null,null,null,null,"نقطه دوم از خط دوم",40,{"$f":"BO164","v":21.040475000000001},{"$f":"BP164","v":126.76137476501766},null,"m5",{"$f":"IF(MC259=1,MC215,IF(MC259=2,MC214,IF(MC259=3,MC216,IF(MC259=4,MC217,MC213))))","v":18.832380000000001},{"$f":"IF(MC259=1,MD215,IF(MC259=2,MD214,IF(MC259=3,MD216,IF(MC259=4,MD217,MD213))))","v":134.67490710478393},null,{"$f":"MC247+MC250","v":21.040475000000001},{"$f":"MD247+MC251","v":126.76137476501766}," شیفت 40",null,{"$f":"-MF271+MK212","v":-1.0404750000000007},{"$f":"MG271","v":126.76137476501766}," شیفت 40",null,{"$f":"MC247+MC250","v":21.040475000000001},{"$f":"MD247+MC251","v":126.76137476501766}," شیفت 40",null,{"$f":"-MN271+MS212","v":-1.0404750000000007},{"$f":"MO271","v":126.76137476501766}," شیفت 40",null,{"$f":"MC247+MC250","v":21.040475000000001},{"$f":"MD247+MC251","v":126.76137476501766}," شیفت 40",null,{"$f":"-MV271+NA212","v":-1.0404750000000007},{"$f":"MW271","v":126.76137476501766}," شیفت 40",null,{"$f":"MC247+MC250","v":21.040475000000001},{"$f":"MD247+MC251","v":126.76137476501766}," شیفت 40",null,{"$f":"-ND271+NI212","v":-1.0404750000000007},{"$f":"NE271","v":126.76137476501766}," شیفت 40",null,{"$f":"MC247+MC250","v":21.040475000000001},{"$f":"MD247+MC251","v":126.76137476501766}," شیفت 40",null,{"$f":"-NL271+NQ212","v":-1.0404750000000007},{"$f":"NM271","v":126.76137476501766}," شیفت 40",null,null,null,null,null,null,null,null,null,{"$f":"NZ281","v":16.6110576923077},{"$f":"OA281","v":13.749999999999998},{"$f":"NY281","v":"h11"},null,null,null,null,null,null,"متغیرهای ورودی",null,{"$f":"OK277","v":23.439102564102562},{"$f":"OL277","v":10.082352941176472},{"$f":"OJ277","v":"m31"},null,null,null,null,null,"پهنای نیم دایره",{"$f":"OR39","v":0.5},{"$f":"OR51","v":0.25411764705882356},{"$f":"OV277","v":27.048589743589744},{"$f":"OW277","v":9.7181176470588237},{"$f":"OU277","v":"g5"},null,null,null,null,null,"ارتفاع هر رج",{"$f":"PC35","v":0.42352941176470588},"w11",null,null,null,null,null,null,null,null,null,null,null,{"$f":"PM87","v":41.174679487179482},{"$f":"PN87","v":11.776470588235295},"n'34"]
[null,null,null,null,null,null,{"$f":"'متغیرها '!B245","v":0.32009079810115021},"زاویه سرشانه با افق",null,"(b5 →b6)",{"$f":"0.4*K286","v":6.9866154986611235},null,{"$f":"K290+BI98","v":16.986615498661124},{"$f":"BI97+K289","v":147.82898721547883},"b6",null,{"$f":"-M290+R284","v":-16.986615498661124},{"$f":"N290","v":147.82898721547883},"b6",null,null,null,null,null,null,null,null,null,"یقه مربعی جلو",null,null,null,null,null,null,null,null,null,null,null,null,null,null,{"$f":"AN270+AO272+AO274","v":12},{"$f":"AO270+AO275","v":52.7},1,null,null,null,null,0,{"$f":"ROUND(-AW280-AW281,1)","v":-83.7},3,null,null,null,null,null,null,{"$f":"BF279+BF280","v":70.400000000000006},0,7,{"$f":"BD232+BE254","v":12},{"$f":"0+BE252","v":47.7},1,null,{"$f":"-BK290-BN226","v":12},{"$f":"BL290","v":47.7},1,null,null,null,null,null,null,null,null,{"$f":"IF(BI265=1,KM329,BZ260)+BX256","v":10},{"$f":"IF(BI265=1,KN329,CA260)+BX257","v":48.7},"b24",null,{"$f":"-BZ290+CE227","v":10},{"$f":"CA290","v":48.7},"b24",null,{"$f":"CH289","v":20.970284858853095},{"$f":"CI289-0.8*CI263*CI264","v":105.02541215525176},"m23",null,{"$f":"-CL249-CI249","v":-1.455427288279644},{"$f":"CM249","v":110.15082431050351},"m25",null,null,"به دست آوردن نقطه تقاطع دو خط ","مولفه افقی","مولفه عمودی",null,null,null,null,null,null,null,null,null,null,null,null,null,null,null,null,null,null,null,null,{"$f":"DJ247","v":10.410015},{"$f":"DK247","v":102.67500000000001},"s'1",null,null,null,null,null,null,null,null,null,{"$f":"-DR283+DS289","v":13.589985},{"$f":"DS283","v":102.67500000000001},"s'1",null,null,null,null,null,null,null,null,null,null,null,null,null,null,null,null,null,null,null,null,null,null,null,null,null,null,null,null,null,null,null,null,null,null,null,null,null,null,null,null,null,null,null,null,null,null,null,null,null,null,null,null,null,null,null,null,null,null,null,null,null,null,null,null,null,null,null,null,null,null,null,null,null,null,null,null,null,null,null,null,null,null,null,null,null,null,null,null,null,null,null,null,null,null,null,null,null,null,null,null,null,null,null,null,null,null,null,null,null,null,null,null,null,null,null,null,null,null,null,60,{"$f":"IS257+IV257*SIN(RADIANS(IR290)+IR259)","v":29.605227686660236},{"$f":"IT257+IV257*COS(RADIANS(IR290)+IR259)","v":112.38023585965091},{"$f":"IF(IS258>IS290,ATAN((IT258-IT290)/(IS258-IS290)),ATAN((IT258-IT290)/(IS290-IS258)))","v":1.3325682126380372},{"$f":"IF(IS258>IS290,(IS258-IS290)/COS(IU290),(IS290-IS258)/COS(IU290))","v":10.902368414751106},null,null,null,null,{"$f":"JJ245","v":31.556937691384558},{"$f":"JK245","v":121.9102518893019},"e13","نقطه قبل از چرخش",{"$f":"IF(JB290>JB289,IF(JA290>JA289,JA289+SQRT(POWER(JA290-JA289,2)+POWER(JB290-JB289,2))*COS(ATAN((JB290-JB289)/(JA290-JA289+0.000123))+JB287),JA289-SQRT(POWER(JA290-JA289,2)+POWER(JB290-JB289,2))*COS(ATAN((JB290-JB289)/(JA289-JA290+0.000123))-JB287)),IF(JA290>JA289,JA289+SQRT(POWER(JA290-JA289,2)+POWER(JB290-JB289,2))*COS(ATAN((JB289-JB290)/(JA290-JA289+0.000123))-JB287),JA289-SQRT(POWER(JA290-JA289,2)+POWER(JB290-JB289,2))*COS(ATAN((JB289-JB290)/(JA289-JA290+0.000123))+JB287)))","v":30.050853609539402},{"$f":"IF(JB290>JB289,IF(JA290>JA289,JB289+SQRT(POWER(JA290-JA289,2)+POWER(JB290-JB289,2))*SIN(ATAN((JB290-JB289)/(JA290-JA289+0.000123))+JB287),JB289+SQRT(POWER(JA290-JA289,2)+POWER(JB290-JB289,2))*SIN(ATAN((JB290-JB289)/(JA289-JA290+0.000123))-JB287)),IF(JA290>JA289,JB289-SQRT(POWER(JA290-JA289,2)+POWER(JB290-JB289,2))*SIN(ATAN((JB289-JB290)/(JA290-JA289+0.000123))-JB287),JB289-SQRT(POWER(JA290-JA289,2)+POWER(JB290-JB289,2))*SIN(ATAN((JB289-JB290)/(JA289-JA290+0.000123))+JB287)))","v":124.14351992558846},"e64",null,null,{"$f":"IZ255+0.3*(JJ282-IZ255)","v":20.510492487613959},{"$f":"JS252+0.8*(JK282-JS252)","v":125.59724430370417},"e57",null,{"$f":"JJ250","v":20.663995740543395},{"$f":"JK250","v":128.60935090557365},"e18","نقطه قبل از چرخش",{"$f":"IF(JO290>JO289,IF(JN290>JN289,JN289+SQRT(POWER(JN290-JN289,2)+POWER(JO290-JO289,2))*COS(ATAN((JO290-JO289)/(JN290-JN289+0.000123))+JO287),JN289-SQRT(POWER(JN290-JN289,2)+POWER(JO290-JO289,2))*COS(ATAN((JO290-JO289)/(JN289-JN290+0.000123))-JO287)),IF(JN290>JN289,JN289+SQRT(POWER(JN290-JN289,2)+POWER(JO290-JO289,2))*COS(ATAN((JO289-JO290)/(JN290-JN289+0.000123))-JO287),JN289-SQRT(POWER(JN290-JN289,2)+POWER(JO290-JO289,2))*COS(ATAN((JO289-JO290)/(JN289-JN290+0.000123))+JO287)))","v":24.910846790176308},{"$f":"IF(JO290>JO289,IF(JN290>JN289,JO289+SQRT(POWER(JN290-JN289,2)+POWER(JO290-JO289,2))*SIN(ATAN((JO290-JO289)/(JN290-JN289+0.000123))+JO287),JO289+SQRT(POWER(JN290-JN289,2)+POWER(JO290-JO289,2))*SIN(ATAN((JO290-JO289)/(JN289-JN290+0.000123))-JO287)),IF(JN290>JN289,JO289-SQRT(POWER(JN290-JN289,2)+POWER(JO290-JO289,2))*SIN(ATAN((JO289-JO290)/(JN290-JN289+0.000123))-JO287),JO289-SQRT(POWER(JN290-JN289,2)+POWER(JO290-JO289,2))*SIN(ATAN((JO289-JO290)/(JN289-JN290+0.000123))+JO287)))","v":132.22886766422545},"e21","نقطه اول از خط اول","f5",{"$f":"JH236","v":31.556852352796078},{"$f":"JH237","v":113.37639304127642},null,24.248272614230991,117.94940224194745,"e35",null,{"$f":"-JJ267+JD263","v":-0.24827261423099145},{"$f":"JK267","v":117.94940224194745},"e35",null,null,null,null,null,null,null,null,null,{"$f":"KP289","v":56.824100000000001},{"$f":"KP273+KQ248+KP266","v":18.425000000000001},"j28",null,null,null,null,null,null,null,null,null,null,null,null,null,null,null,null,null,null,null,null,null,null,null,null,null,null,{"$f":"BK170","v":10},{"$f":"BL170","v":93},48,null,{"$f":"-LS290+LX282","v":10},{"$f":"LT290","v":93},48,null,null,{"$f":"IF(LU227<BL167,LT227,BK167)","v":10},{"$f":"IF(LU227<BL167,LU227,BL167)","v":126.39999999999999},"45 یا d3",null,{"$f":"-MB290+MG286","v":10},{"$f":"MC290","v":126.39999999999999},"45 یا d3",null,null,null,null,null,null,null,null,null,null,null,null,null,null,null,null,null,null,null,null,null,null,null,null,null,null,null,null,null,null,null,null,null,null,null,null,null,null,null,null,null,null,"نقطه شروع انحنا","مولفه افقی","مولفه عمودی",{"$f":"NZ294","v":11.225000000000007},{"$f":"OA294","v":14.299999999999999},{"$f":"NY294","v":"g4"},null,null,null,null,null,null,null,null,null,null,null,null,null,null,null,null,"نقطه پایان رج(راست)","مولفه افقی","مولفه عمودی",{"$f":"OV299","v":24.304807692307694},{"$f":"OW299","v":10.332352941176472},{"$f":"OU299","v":"h13"},null,null,null,null,null,"f12",{"$f":"PG287","v":-22.527092760180995},{"$f":"PH287+0.4*(PH289-PH287)","v":8.7552941176470593},null,null,null,null,null,null,null,null,"f7",{"$f":"PR288+PR288-PR289","v":-4.0543174962292605},{"$f":"PS289","v":11.988235294117647},{"$f":"PR288","v":-4.2131410256410255},{"$f":"PS288","v":11.776470588235295},{"$f":"PQ288","v":"n'37"}]
[null,null,null,null,null,{"$f":"BK167","v":10},{"$f":"BL167","v":140.69999999999999},45,null,{"$f":"F309-ABS(I314)*TAN(IF(I314>0,K314,K315))","v":10},{"$f":"G309+I314","v":113.1},"u1",null,{"$f":"J308","v":10},{"$f":"K308","v":113.1},{"$f":"L308","v":"u1"},null,{"$f":"BD150","v":12},{"$f":"BE150","v":52.7},1,null,"sf1",null,{"$f":"R308","v":12},{"$f":"S308","v":52.7},null,{"$f":"X323","v":33.079045260007661},{"$f":"Y323","v":109.90000000000002},"su3",null,{"$f":"X322","v":33.079045260007661},{"$f":"Y322","v":109.9},"sd3",null,{"$f":"AA354","v":33.079045260007661},{"$f":"AB354","v":64.900000000000006},"sd3",null,{"$f":"AA343","v":-9.0790452600076605},{"$f":"AB343","v":64.900000000000006},"s'd3",null,{"$f":"BK168","v":10},{"$f":"BL168","v":55.7},1,null,"sf1",null,{"$f":"AQ308","v":10},{"$f":"AR308","v":55.7},null,{"$f":"AW323","v":30.527966954393793},{"$f":"AX323","v":113.09999999999998},"su3",null,{"$f":"AW322","v":30.527966954393793},{"$f":"AX322","v":113.1},"sd3",null,{"$f":"BD357","v":30.527966954393793},{"$f":"BE357","v":68.099999999999994},"sd3",null,{"$f":"AW329","v":11},{"$f":"AX329","v":74.349999999999994},"sp12",null,"مولفه افقی","مولفه عمودی","اسم نقطه ",null,"مولفه افقی","مولفه عمودی","اسم نقطه ",null,{"$f":"BP309","v":2.118742701127811},{"$f":"BQ309","v":91.69},{"$f":"BR309","v":"47'"},null,"مولفه افقی","مولفه عمودی","اسم نقطه ",null,{"$f":"CB309","v":21.881257298872189},{"$f":"CC309","v":91.69},{"$f":"CD309","v":"47'"},null,"مولفه افقی","مولفه عمودی","اسم نقطه ",null,null,"اوزمان",null,{"$f":"CJ309","v":22.186257298872189},{"$f":"CK309","v":91.69},{"$f":"CL309","v":"47''"},null,null,"مولفه افقی","مولفه عمودی","اسم نقطه ",null,"مولفه افقی","مولفه عمودی","اسم نقطه ",null,{"$f":"CV309","v":12},{"$f":"CW309","v":91.69},{"$f":"CX309","v":46},null,"مولفه افقی","مولفه عمودی","اسم نقطه ",null,"مولفه افقی","مولفه عمودی","اسم نقطه ",null,{"$f":"DL314","v":34.430950000000003},74.349999999999994,"e25",null,{"$f":"-DP308+DU307","v":-14.430950000000003},{"$f":"DQ308","v":74.349999999999994},"e25",null,"مولفه افقی","مولفه عمودی","اسم نقطه ",null,{"$f":"DX309","v":21.440474999999999},{"$f":"DY309","v":94.710000000000008},{"$f":"DZ309","v":"38'"},null,{"$f":"-EB308+EG307","v":-1.4404749999999993},{"$f":"EC308","v":94.710000000000008},"38'",null,"مولفه افقی","مولفه عمودی","اسم نقطه ",null,{"$f":"EJ309","v":20.640475000000002},{"$f":"EK309","v":94.710000000000008},{"$f":"EL309","v":"38''شیفت"},null,{"$f":"-EN308+ES307","v":-0.64047500000000213},{"$f":"EO308","v":94.710000000000008},"38''شیفت",null,{"$f":"-CQ308-HY101","v":1.8137427011278113},{"$f":"CR308","v":91.69},"47''",null,"b10",{"$f":"BW134-FA376","v":17.148013833381352},{"$f":"BX134-FA377","v":118.8928049891056},null,null,null,null,null,null,"جادکمه دکلته در پیراهن",null,{"$f":"FA356+FA376+FA378","v":30.652380096886574},{"$f":"FB356+FA377","v":142.47308701303001},{"$f":"EZ356","v":"b16"},null,{"$f":"FA340+FA376+FA378","v":27.254051603562317},{"$f":"FB340+FA377","v":130.360390160598},{"$f":"EZ340","v":"b6"},null,{"$f":"-FG309-GA306","v":12},{"$f":"FH309","v":123.7},"d3",null,{"$f":"-FK308-GA306","v":-6.6523800968865743},{"$f":"FL308","v":142.47308701303001},"b16",null,{"$f":"-FO308-GA306","v":-3.254051603562317},{"$f":"FP308","v":130.360390160598},"b6",null,"b10",{"$f":"BW162-GM359","v":17.148013833381352},{"$f":"BX162-GM360","v":118.8928049891056},null,null,null,null,{"$f":"GF356-GM358+GM357","v":17.764961787586024},{"$f":"GG356","v":135.47308701303001},{"$f":"GE356","v":"b16"},null,{"$f":"GL308+GP354","v":29.764961787586024},{"$f":"GM308+GP355","v":142.47308701303001},"b16",null,null,null,null,null,null,null,null,null,null,null,null,null,null,null,null,null,null,null,null,null,null,null,null,null,null,null,null,null,"اسم نقطه","مولفه افقی","مولفه عمودی",null,"نقطه اول از خط اول","d4b10",{"$f":"HW354","v":8.8323800000000006},{"$f":"HX354","v":116.60637011911254},null,{"$f":"HW309","v":18.411777172879255},{"$f":"HX309","v":136.55321717870305}," شیفت b16",null,{"$f":"HW310","v":17.410816976328945},{"$f":"HX310","v":131.94616218858346},"شیفتb12",null,{"$f":"HW312-HW341+HW319","v":19.362819422517525},{"$f":"HX312","v":119.90593019768991},"شیفتb10",null,{"$f":"J338","v":12},{"$f":"K338","v":109.9},"d4",null,{"$f":"IQ309","v":21.360423855309651},{"$f":"IR309","v":109.9},"a2",null,{"$f":"-IU308+IR325","v":2.6395761446903485},109.9,"a'2",null,{"$f":"IU313","v":12},{"$f":"IV313","v":52.7},"a7",null,{"$f":"IY312","v":-10.412050000000001},{"$f":"IZ312","v":89.9},"d'62",null,null,null,"پیلی 5",null,null,null,"پیلی 5",null,{"$f":"IU313","v":12},{"$f":"IV313","v":52.7},"a7",null,{"$f":"IY313","v":12},{"$f":"IZ313","v":52.7},"a'7",null,{"$f":"IR360","v":10.410015},84.160000000000011,"8n'",null,{"$f":"-KA308+IR325","v":13.589985},84.160000000000011,"8n'",null,{"$f":"J309","v":10},{"$f":"K309","v":113.1},"d1",null,{"$f":"KI309","v":20.087291335297795},{"$f":"KJ309","v":113.1},"b2",null,{"$f":"-KM308+KJ323+KJ324+KJ334","v":-8.7291335297795314E-2},113.1,"b'2",null,{"$f":"KM319","v":34.432303713519282},{"$f":"KN319","v":103.04999999999998},"b13",null,{"$f":"KQ311+0.5*(KQ310-KQ311)","v":-8.0139964742502006},{"$f":"KR311+0.5*(KR310-KR311)","v":113.05},"d'52",null,null,null,"پیلی 13",null,null,null,"پیلی 12",null,{"$f":"KM358","v":34.432303713519282},{"$f":"KN358","v":103.04999999999998},"b63",null,{"$f":"KQ358","v":-14.432303713519282},{"$f":"KR358","v":103.04999999999998},"b'13",null,null,{"$f":"IU307","v":12},109.9,"a1",null,{"$f":"LT316+(LU331-1)*(LT309-LT316)/39","v":12.937032428148381},{"$f":"LU308+IF(LX308<LT308,0,(LX308-LT308)*((LU309-LU308)/(LT309-LT308)))","v":109.9},"an3",null,{"$f":"LT309","v":21.360423855309651},{"$f":"LU309","v":109.9},"a2",null,null,null,"کمر دامن دراپه",null,null,{"$f":"GN393","v":18.8172},{"$f":"GO393","v":146.10000000000002},"25شبیه",null,{"$f":"MK325+(MP316-1)*(MK316-MK325)/29","v":21.475856480425218},{"$f":"ML308-(MO308-MK308)*TAN(MP312)","v":145.21868149083699},"a4",null,{"$f":"MK310","v":20.010856348894084},{"$f":"ML310","v":145.77056095882656},25,null,{"$f":"-MS308+ML327","v":3.9891436511059162},{"$f":"MT308","v":145.77056095882656},25,null,null,{"$f":"GR403","v":16.8172},{"$f":"GS403","v":150.89999999999998},"23شبیه",null,{"$f":"NB325+(NG316-1)*(NB316-NB325)/29","v":20.220229430864002},{"$f":"NC308-(NF308-NB308)*TAN(NG312)","v":149.74236870286956},"a4",null,{"$f":"NB310","v":18.010053605248086},{"$f":"NC310","v":150.56766607523292},25,null,{"$f":"-NJ308+NG326","v":1.9899463947519145},{"$f":"NK308","v":150.56766607523292},25,null,null,null,null,null,null,null,null,null,null,null,null,null,null,null,null,null,null,null,"نقطه ورودی سر فلش","مولفه افقی","مولفه عمودی",{"$f":"OK311","v":26.045561840120662},{"$f":"OL311","v":10.63294117647059},{"$f":"OJ311","v":"f3"},null,null,null,null,null,"g11",{"$f":"OV312+0.8*(OV310-OV312)","v":20.085025641025645},{"$f":"OW310+0.6*(OW312-OW310)","v":10.385600000000002},{"$f":"OV309","v":20.578525641025642},{"$f":"OW309","v":10.505882352941178},{"$f":"OU309","v":"g2"},null,null,null,null,null,null,"متغیرهای ورودی",null,{"$f":"PG314","v":-25.381410256410255},{"$f":"PH314","v":8.8117647058823536},{"$f":"PF314","v":"n32"},null,null,null,null,null,"g5",{"$f":"PR304+0.7*(PR307-PR304)","v":41.542179487179482},{"$f":"PS304+0.28*(PS307-PS304)","v":11.835764705882353},{"$f":"PR305","v":41.668179487179479},{"$f":"PS305","v":12.079717647058825},{"$f":"PQ305","v":"g11"}]
[null,null,null,null,null,{"$f":"BK165","v":34.430950000000003},{"$f":"BL165","v":93.224095480101624},42,"محاسبات",null,"محاسبات",null,null,{"$f":"-N312+O320","v":-8.7291335297795314E-2},{"$f":"O312","v":113.1},"d2",null,{"$f":"J354","v":34.425712147132735},{"$f":"K354","v":110.52706077625875},"d3",null,null,null,null,null,null,null,null,null,null,{"$f":"X308","v":12},{"$f":"Y308","v":52.7},"sf1",null,{"$f":"AA350","v":33.079045260007661},{"$f":"AB350","v":64.90000000000002},"su3",null,{"$f":"AA345","v":-9.0790452600076605},{"$f":"AB345","v":64.90000000000002},"s'u3",null,{"$f":"J320","v":21.993658664702206},{"$f":"K320","v":113.1}," پشت پهلوu2 ",null,null,null,null,null,null,null,null,null,null,{"$f":"AW308","v":10},{"$f":"AX308","v":55.7},"sf1",null,{"$f":"BD360","v":29.864581046871315},{"$f":"BE360","v":65.099999999999994},"sfp16",null,{"$f":"AW338","v":35.23095},{"$f":"AX338","v":55.924095480101627},"sp33",null,"(47'→e22)",{"$f":"SQRT(POWER((BQ323),2)-POWER((BQ324),2))","v":38.989999999999995},null,null,{"$f":"BT310-1.5*BQ318*COS(BQ328)","v":2.118742701127811},{"$f":"BU310-1.5*BQ318*SIN(BQ328)","v":52.7},"e217",null,{"$f":"BT322","v":2.118742701127811},{"$f":"BU322","v":71.349999999999994},{"$f":"BV322","v":"e215"},null,{"$f":"CB310+0.6*(CB323-CB310)","v":21.881257298872189},{"$f":"CC310+0.4*(CC323-CC310)","v":52.7},"e24",null,{"$f":"CB335","v":21.881257298872189},{"$f":"CC335","v":71.349999999999994},{"$f":"CD335","v":"e215"},null,{"$f":"CJ310+0.6*(CJ323-CJ310)","v":22.186257298872189},{"$f":"CK310+0.4*(CK323-CK310)","v":52.7},"e24",null,null,null,null,null,null,null,null,null,"(47'→e22)",{"$f":"SQRT(POWER((CW323),2)-POWER((CW324),2))","v":38.989999999999995},null,null,{"$f":"CZ310-1.5*CW318*COS(CW328)","v":12},{"$f":"DA310-1.5*CW318*SIN(CW328)","v":52.7},"e217",null,{"$f":"CZ322","v":12},{"$f":"DA322","v":71.349999999999994},{"$f":"DB322","v":"e215"},null,"(e22→e21)",{"$f":"DI311*0.25*DI312+DH310-DH309","v":0},null,null,{"$f":"DL310+1.5*DI319*COS(DI329)","v":34.430950000000003},{"$f":"DM310+1.5*DI319*SIN(DI329)","v":55.924095480101634},"e217",null,{"$f":"DL320","v":34.430950000000003},{"$f":"DM320","v":74.349999999999994},{"$f":"DN320","v":"e213"},null,{"$f":"-DP325+DU307","v":-14.430950000000003},74.349999999999994,"e213",null,{"$f":"DX310+0.3*(DX324-DX310)","v":21.440474999999999},{"$f":"DY310+0.12*(DY324-DY310)","v":55.7},"e23",null,{"$f":"DX336","v":25.440474999999999},{"$f":"DY336","v":74.349999999999994},{"$f":"DZ336","v":"e215"},null,{"$f":"-EB325+EG307","v":-5.4404749999999993},74.349999999999994,"e215",null,{"$f":"EJ309+EL345","v":20.640475000000002},{"$f":"EK309-EL346","v":55.7},"e21",null,{"$f":"EJ337","v":16.640475000000002},{"$f":"EK337","v":74.349999999999994},{"$f":"EL337","v":"e215"},null,{"$f":"-EN325+ES307","v":3.3595249999999979},74.349999999999994,"e215",null,{"$f":"-CQ330-HY101","v":1.8137427011278113},{"$f":"CR330","v":52.7},"e21",null,"به دست آوردن مختصات نقطه تقاطع دو خط با داشتن دونقطه از یک خط",null,null,null,null,null,null,{"$f":"FA372+FA376","v":12},{"$f":"FB372+FA377","v":123.7},"d3",null,null,null,"ساسون سرشانه",null,{"$f":"FA373+FA376+FA378","v":22.033757298872189},{"$f":"FB373+FA377","v":123.70000000000002},"شیفت بالاتنه 5",null,{"$f":"-FG326-GA306","v":12},{"$f":"FH326","v":109.9},"d4",null,null,null,"قرینه ساسون سرشانه",null,{"$f":"-FK327-GA306","v":1.9662427011278112},{"$f":"FL327","v":123.70000000000002},"شیفت بالاتنه 5",null,"به دست آوردن مختصات نقطه تقاطع دو خط با داشتن دونقطه از یک خط",null,null,null,null,null,null,{"$f":"-GL320","v":-11.016581838998238},125.54523451541431,"g7",null,{"$f":"GL325+GP354","v":0.9834181610017616},{"$f":"GM325+GP355","v":132.54523451541431},"g7",null,null,null,null,null,null,null,null,null,null,null,null,null,null,null,null,null,null,null,null,null,null,null,null,null,null,null,null,null,"m5",{"$f":"MC271-HW320-HW341","v":8.8323800000000006},{"$f":"MD271-HW321","v":124.67490710478393},null,"نقطه دوم از خط دوم",40,{"$f":"HW317","v":11.040475000000001},{"$f":"HX317","v":116.76137476501766},null,{"$f":"-IE309","v":-15.463256303727553},{"$f":"IF309","v":132.45527568985051},"شیفتd6  b16",null,{"$f":"-II309","v":-14.862680185797368},{"$f":"IJ309","v":128.80038360232152},"شیفتd6  b12",null,{"$f":"-IM309","v":-16.033881653510516},{"$f":"IN309","v":118.43263500840693},"شیفتd6  b10",null,"قرینه",{"$f":"-HY101","v":24},null,null,null,null,null,null,null,null,null,null,null,null,null,null,{"$f":"JG324","v":2.118742701127811},{"$f":"JH323","v":52.7},"c'48",null,{"$f":"IU331","v":16.680211927654824},{"$f":"IV331","v":52.7},"a45",null,{"$f":"IY331","v":7.3197880723451743},{"$f":"IZ331","v":52.7},"a'45",null,null,null,null,null,null,null,null,null,{"$f":"IU351","v":34.353782429426545},{"$f":"IV351","v":93.92},"a65",null,{"$f":"IY351","v":-10.353782429426545},{"$f":"IZ351","v":93.92},"a'27",null,"شیفت افقی قرینه طراحی دامن",{"$f":"-KJ334","v":0},null,null,{"$f":"KQ374","v":10},{"$f":"KR374","v":113.1},"b20",null,{"$f":"-KM325+KJ323+KJ324+KJ334","v":10},{"$f":"KN325","v":113.1},"b'20",null,null,null,null,null,{"$f":"KY324","v":4.9563543323511023},{"$f":"KZ323","v":55.7},"c'43",null,{"$f":"KM340","v":15.043645667648898},{"$f":"KN340","v":55.7},"b45",null,{"$f":"KQ345","v":-1.4404749999999993},{"$f":"KR345","v":55.7},"b'50",null,null,null,null,null,null,null,null,null,null,"n6",{"$f":"9*LU328/(SQRT(POWER(LX308-LX307,2)+POWER(LY308-LY307,2))+SQRT(POWER(LX309-LT314,2)+POWER(LY309-LU314,2))+SQRT(POWER(LX310-LX311,2)+POWER(LY310-LY311,2)))","v":0.16309212535391082},null,null,null,null,null,null,{"$f":"LT318","v":34.353782429426545},{"$f":"LU318","v":93.92},"a27",null,{"$f":"LX371","v":11.64367829213354},{"$f":"LY371","v":106.74300642868732},"g10",null,null,{"$f":"BD150","v":12},{"$f":"BE150","v":52.7},1,null,null,null,null,null,{"$f":"MO360","v":44.732635304878784},{"$f":"MP360","v":93.439837697897929},"c9",null,{"$f":"-MS325+ML327","v":-20.732635304878784},{"$f":"MT325","v":93.439837697897929},"c9",null,null,{"$f":"BK168","v":10},{"$f":"BL168","v":55.7},1,null,"شیفت عمودی تکه پشت",{"$f":"C106","v":0},null,null,{"$f":"NF360","v":43.13437717833267},{"$f":"NG360","v":95.872851622050575},"c9",null,{"$f":"-NJ325+NG326","v":-23.13437717833267},{"$f":"NK325","v":95.872851622050575},"c9",null,null,null,null,null,null,null,null,"بزرگی فلش",{"$f":"NV47","v":0.3600000000000001},"f4",{"$f":"NZ327","v":-20.217788461538461},{"$f":"OA327","v":15.199999999999998},{"$f":"NY327","v":"w35"},null,null,null,null,null,null,null,null,null,null,null,null,null,null,null,null,"نسبت سایز افقی",{"$f":"OR37","v":42},"انحنا چپگرد ",null,null,{"$f":"OW325","v":"انحنا چپگرد "},null,null,null,null,null,null,null,null,null,null,null,null,null,null,null,null,"h8",{"$f":"PR324-0.5*PR315","v":9.8346153846153825},{"$f":"PS320","v":12.200000000000001}]
[null,null,null,null,null,null,{"$f":"I105","v":100},"f","محاسبات",null,"محاسبات",null,null,{"$f":"J341","v":12},{"$f":"K341","v":109.9},{"$f":"L341","v":"u5"},null,"ys3",{"$f":"I105","v":100},null,{"$f":"S344+'متغیرها '!C51","v":31.1},{"$f":"S343+'متغیرها '!C52","v":107},"s4",null,null,null,{"$f":"-X322+R336+2*X308","v":-9.0790452600076605},{"$f":"Y322-S333+R337","v":64.900000000000006},"s'd3",null,{"$f":"X330","v":12},{"$f":"Y330","v":52.7},"sp13",null,{"$f":"AA358","v":10.410015},{"$f":"AB358","v":64.900000000000006},"sd6",null,{"$f":"AA345","v":-9.0790452600076605},{"$f":"AB345","v":64.90000000000002},"s'u3",null,"xs10",{"$f":"0.5*'متغیرها '!U53","v":18.399999999999999},null,{"$f":"AR344+'متغیرها '!C53","v":34.65},{"$f":"AR340+'متغیرها '!C54","v":55.7},"s12",null,null,null,null,null,null,"مولفه افقی","مولفه عمودی",null,null,null,{"$f":"BD354","v":30.527966954393793},{"$f":"BE354","v":68.09999999999998},"su3",null,null,null,null,null,null,null,null,null,null,null,null,null,{"$f":"BT310","v":2.118742701127811},{"$f":"BU310","v":52.7},{"$f":"BV310","v":"e21"},null,"(47'→52)",{"$f":"SQRT(POWER((CC309-CC310),2)+POWER((CB310-CB309),2))","v":38.989999999999995},"e210",{"$f":"ATAN((CB323-CB309)/(CC309-CC323))","v":0},{"$f":"CB323","v":21.881257298872189},{"$f":"CC323","v":52.7},{"$f":"CD323","v":"e21"},null,null,{"$f":"'متغیرها '!C143","v":0},"e211",null,{"$f":"CN337+0.3*(CN342-CN337)","v":1.8137427011278113},{"$f":"CO337+0.12*(CO342-CO337)","v":52.7},"e27",null,{"$f":"CN341","v":1.8137427011278113},71.349999999999994,"e25",null,null,null,null,null,null,null,null,null,{"$f":"CZ310","v":12},{"$f":"DA310","v":52.7},{"$f":"DB310","v":"e21"},null,{"$f":"BO176","v":10},{"$f":"BP176","v":55.7},47,null,{"$f":"DH342+DI357","v":10},{"$f":"DI342-DI358","v":55.7},"e21",null,null,null,null,null,null,null,null,null,null,"(47'→52)",{"$f":"SQRT(POWER((DY309-DY310),2)+POWER((DX310-DX309),2))","v":39.010000000000005},null,{"$f":"DX324","v":21.440474999999999},{"$f":"DY324","v":55.7},{"$f":"DZ324","v":"e21"},null,{"$f":"-EB343+EG307","v":-1.4404749999999993},55.7,"e21",null,null,null,"اوزمان",null,{"$f":"EJ325","v":20.640475000000002},{"$f":"EK325","v":55.7},{"$f":"EL325","v":"e21"},null,{"$f":"-EN343+ES307","v":-0.64047500000000213},55.7,"e21",null,{"$f":"-CF321-HY101","v":2.118742701127811},{"$f":"CG321","v":52.7},"e27",null,"خط اول","نقطه اول","d3",{"$f":"FA372","v":0},{"$f":"FB372","v":116.7},null,null,null,null,null,null,{"$f":"FD335+FA376","v":23.016581838998238},{"$f":"FE335+FA377","v":132.54523451541431},"g7",null,{"$f":"FD320+FA376","v":17.089577411835709},{"$f":"FE320+FA377","v":124.35427507774941},"g8",null,null,null,null,null,{"$f":"-FK343-GA306","v":0.9834181610017616},{"$f":"FL343","v":132.54523451541431},"g7",null,{"$f":"-FO342-GA306","v":1.8208451763285822},{"$f":"FP342","v":125.0085501554988},"g7",null,"خط اول","نقطه اول","d3",{"$f":"GM355","v":0},{"$f":"GN355","v":116.7},null,null,{"$f":"GI320","v":5.0895774118357098},{"$f":"GJ320","v":117.35427507774941},"g8",null,{"$f":"GL343+GP354","v":17.089577411835709},{"$f":"GM343+GP355","v":124.35427507774941},"g8",null,null,null,null,null,null,null,null,null,null,null,null,null,null,null,null,null,null,null,null,null,null,null,null,null,null,null,null,null,"d5  b16",{"$f":"0.45*(HW317-HW341)+HW341","v":4.9682137500000003},{"$f":"HX341+((HW343-HW341)/(HW309-HW341))*(HX309-HX341)+0.6*'متغیرها '!C360*(HW310-HW341)","v":120.79347299179602},null,"نقطه اول از خط اول","d4b10",{"$f":"HW354","v":8.8323800000000006},{"$f":"HX354","v":116.60637011911254},null,null,null,null,null,{"$f":"HW352-HW341+HW319","v":12.293556545409041},{"$f":"HX352","v":122.21015376134039},"شیفتd4  b6'",null,{"$f":"HW360-HW341+HW319","v":13.798490412539319},{"$f":"HX360","v":114.83772490441561},"شیفتd4  b14'",null,"a36",{"$f":"-2*'متغیرها '!C777","v":0},"پیلی 2",null,{"$f":"IU318+IR334+IR335+IR336+IR337","v":26.517650598289478},{"$f":"IV318","v":52.7},"a57",null,{"$f":"IY318+IR340+IR341+IR342+IR343","v":-2.5176505982894781},{"$f":"IZ318","v":52.7},"a'57",null,null,null,"پایین ",null,{"$f":"IU307+0.5*(IU308-IU307)","v":16.680211927654824},{"$f":"IV307+0.5*(IV308-IV307)","v":109.9},"d42",null,{"$f":"IU333","v":21.881257298872189},{"$f":"IV333","v":91.69},"a47",null,{"$f":"IY333","v":2.118742701127811},{"$f":"IZ333","v":91.69},"a'47",null,null,null,null,null,null,null,null,null,{"$f":"IU337","v":22.402090742434726},{"$f":"IV337","v":109.9},"a51",null,{"$f":"IY337","v":1.5979092575652736},{"$f":"IZ337","v":109.9},"a'51",null,"b36",{"$f":"-2*'متغیرها '!C790","v":0},"پیلی 10",null,{"$f":"KM342","v":21.440474999999999},{"$f":"KN340","v":55.7},"b48",null,{"$f":"KQ342","v":-1.4404749999999993},{"$f":"KR340","v":55.7},"b'48",null,null,null,"خط مرکزی پشت",null,{"$f":"KM309","v":21.440474999999999},{"$f":"KN309","v":94.710000000000008},"d47",null,{"$f":"KM342","v":21.440474999999999},{"$f":"KN342","v":94.710000000000008},"b47",null,{"$f":"KQ347","v":-8.0139964742502006},{"$f":"KR347","v":113.05},"b'52",null,null,null,null,null,null,null,null,null,null,15.210422000000001,56.103400000000008,"6n'","نقطه قبل از چرخش",{"$f":"IF(LU343>LU338,IF(LT343>LT338,LT338+SQRT(POWER(LT343-LT338,2)+POWER(LU343-LU338,2))*COS(ATAN((LU343-LU338)/(LT343-LT338+0.000123))+LU336),LT338-SQRT(POWER(LT343-LT338,2)+POWER(LU343-LU338,2))*COS(ATAN((LU343-LU338)/(LT338-LT343+0.000123))-LU336)),IF(LT343>LT338,LT338+SQRT(POWER(LT343-LT338,2)+POWER(LU343-LU338,2))*COS(ATAN((LU338-LU343)/(LT343-LT338+0.000123))-LU336),LT338-SQRT(POWER(LT343-LT338,2)+POWER(LU343-LU338,2))*COS(ATAN((LU338-LU343)/(LT338-LT343+0.000123))+LU336)))","v":14.805851484615227},{"$f":"IF(LU343>LU338,IF(LT343>LT338,LU338+SQRT(POWER(LT343-LT338,2)+POWER(LU343-LU338,2))*SIN(ATAN((LU343-LU338)/(LT343-LT338+0.000123))+LU336),LU338+SQRT(POWER(LT343-LT338,2)+POWER(LU343-LU338,2))*SIN(ATAN((LU343-LU338)/(LT338-LT343+0.000123))-LU336)),IF(LT343>LT338,LU338-SQRT(POWER(LT343-LT338,2)+POWER(LU343-LU338,2))*SIN(ATAN((LU338-LU343)/(LT343-LT338+0.000123))-LU336),LU338-SQRT(POWER(LT343-LT338,2)+POWER(LU343-LU338,2))*SIN(ATAN((LU338-LU343)/(LT338-LT343+0.000123))+LU336)))","v":54.246755641648022},"e6",null,{"$f":"LT314","v":34.412050000000001},{"$f":"LU314","v":52.7},"a9",null,{"$f":"LX378","v":-9.7783057772539621},{"$f":"LY378","v":94.476133577099475},"efg3",null,null,28.610160934369134,52.858118232877629,"7''","نقطه قبل از چرخش",{"$f":"IF(ML343>ML331,IF(MK343>MK331,MK331+SQRT(POWER(MK343-MK331,2)+POWER(ML343-ML331,2))*COS(ATAN((ML343-ML331)/(MK343-MK331+0.000123))+ML329),MK331-SQRT(POWER(MK343-MK331,2)+POWER(ML343-ML331,2))*COS(ATAN((ML343-ML331)/(MK331-MK343+0.000123))-ML329)),IF(MK343>MK331,MK331+SQRT(POWER(MK343-MK331,2)+POWER(ML343-ML331,2))*COS(ATAN((ML331-ML343)/(MK343-MK331+0.000123))-ML329),MK331-SQRT(POWER(MK343-MK331,2)+POWER(ML343-ML331,2))*COS(ATAN((ML331-ML343)/(MK331-MK343+0.000123))+ML329)))","v":36.53384197643939},{"$f":"IF(ML343>ML331,IF(MK343>MK331,ML331+SQRT(POWER(MK343-MK331,2)+POWER(ML343-ML331,2))*SIN(ATAN((ML343-ML331)/(MK343-MK331+0.000123))+ML329),ML331+SQRT(POWER(MK343-MK331,2)+POWER(ML343-ML331,2))*SIN(ATAN((ML343-ML331)/(MK331-MK343+0.000123))-ML329)),IF(MK343>MK331,ML331-SQRT(POWER(MK343-MK331,2)+POWER(ML343-ML331,2))*SIN(ATAN((ML331-ML343)/(MK343-MK331+0.000123))-ML329),ML331-SQRT(POWER(MK343-MK331,2)+POWER(ML343-ML331,2))*SIN(ATAN((ML331-ML343)/(MK331-MK343+0.000123))+ML329)))","v":53.482293509217811},"b5",null,{"$f":"MO367","v":29.539268351838132},{"$f":"MP367","v":53.052050795151359},"c10",null,{"$f":"-MS343+ML327","v":-5.5392683518381318},{"$f":"MT343","v":53.052050795151359},"c10",null,null,27.003973011735642,55.760505779627444,"7''","نقطه قبل از چرخش",{"$f":"IF(NC343>NC331,IF(NB343>NB331,NB331+SQRT(POWER(NB343-NB331,2)+POWER(NC343-NC331,2))*COS(ATAN((NC343-NC331)/(NB343-NB331+0.000123))+NC329),NB331-SQRT(POWER(NB343-NB331,2)+POWER(NC343-NC331,2))*COS(ATAN((NC343-NC331)/(NB331-NB343+0.000123))-NC329)),IF(NB343>NB331,NB331+SQRT(POWER(NB343-NB331,2)+POWER(NC343-NC331,2))*COS(ATAN((NC331-NC343)/(NB343-NB331+0.000123))-NC329),NB331-SQRT(POWER(NB343-NB331,2)+POWER(NC343-NC331,2))*COS(ATAN((NC331-NC343)/(NB331-NB343+0.000123))+NC329)))","v":35.015269202644518},{"$f":"IF(NC343>NC331,IF(NB343>NB331,NC331+SQRT(POWER(NB343-NB331,2)+POWER(NC343-NC331,2))*SIN(ATAN((NC343-NC331)/(NB343-NB331+0.000123))+NC329),NC331+SQRT(POWER(NB343-NB331,2)+POWER(NC343-NC331,2))*SIN(ATAN((NC343-NC331)/(NB331-NB343+0.000123))-NC329)),IF(NB343>NB331,NC331-SQRT(POWER(NB343-NB331,2)+POWER(NC343-NC331,2))*SIN(ATAN((NC331-NC343)/(NB343-NB331+0.000123))-NC329),NC331-SQRT(POWER(NB343-NB331,2)+POWER(NC343-NC331,2))*SIN(ATAN((NC331-NC343)/(NB331-NB343+0.000123))+NC329)))","v":56.182066614296616},"b5",null,{"$f":"NF367","v":28.416439392956832},{"$f":"NG367","v":56.057848885005569},"c10",null,{"$f":"-NJ343+NG326","v":-8.416439392956832},{"$f":"NK343","v":56.057848885005569},"c10",null,null,null,null,null,null,null,null,null,null,null,null,null,null,null,null,null,null,null,"f8",{"$f":"OK340","v":28.778846153846153},{"$f":"OL340+2*OK335","v":11.529411764705884},{"$f":"OK342","v":28.937669683257919},{"$f":"OL342","v":11.141176470588237},{"$f":"OJ342","v":"f7"},null,null,null,null,null,"m37",{"$f":"OQ94","v":-17.943910256410255},{"$f":"OR94","v":10.929411764705884},null,null,null,null,null,null,null,null,"زاویه فلش",{"$f":"PC40","v":0.5},"f5",null,null,"فلش به سمت چپ",null,null,null,null,null,"g6",{"$f":"PR342","v":-16.022948717948719},{"$f":"PS340-PS342+PS338","v":19.484705882352941}]
[null,null,null,null,null,"u30",{"$f":"'متغیرها '!C342","v":3},null,{"$f":"G362*G357*0.01","v":-3},"d3 d'3",{"$f":"ATAN((F356-F355)/(G355-G356+0.00001))","v":2.8941311617917683E-2},"αd3",null,{"$f":"-J341+G364","v":12},{"$f":"K341","v":109.9},"u5",null,null,null,null,null,null,null,null,null,null,{"$f":"-(X318-R308+R334)+R336+2*X308","v":13.589985},{"$f":"AB358","v":64.900000000000006},"s'd6",null,null,null,null,null,null,null,null,null,null,null,null,null,null,"متغیر ورودی طول","a21",1,null,null,null,null,null,null,null,null,null,{"$f":"AW314+BA353","v":29.864581046871315},{"$f":"AX314-BA354+BA352","v":65.099999999999994},"sfp16",null,null,null,null,null,{"$f":"BD359","v":10},{"$f":"BE359","v":68.099999999999994},"sd1",null,null,{"$f":"'متغیرها '!C134","v":0},"انتخاب ترک گشاد",null,{"$f":"BT354+1*BQ358*COS(BQ368)","v":34.71705},{"$f":"BU354+1*BQ358*SIN(BQ368)","v":71.349999999999994},"e213",null,{"$f":"BT366","v":34.71705},{"$f":"BU366","v":53.227060776258753},{"$f":"BV366","v":"e216"},null,null,null,null,null,null,null,null,null,null,null,null,null,null,null,null,null,null,null,null,null,null,{"$f":"'متغیرها '!C134","v":0},"انتخاب ترک گشاد",null,{"$f":"CZ354-1*CW358*COS(CW368)","v":-10.71705},{"$f":"DA354-1*CW358*SIN(CW368)","v":71.349999999999994},"e213",null,{"$f":"CZ366","v":-10.71705},{"$f":"DA366","v":53.227060776258753},{"$f":"DB366","v":"e216"},null,"e01",{"$f":"IF(DI347<1,DI347*DI349,DI349+(DI347-1)*(DI350-DI349))+DI346","v":74.349999999999994},null,null,null,null,null,null,null,null,null,null,null,null,null,null,null,null,null,null,null,null,null,null,null,null,null,null,null,null,null,null,null,null,null,null,null,null,null,null,null,null,null,null,null,"نقطه دوم",{"$f":"EZ356","v":"b16"},{"$f":"FA356","v":18.652380096886574},{"$f":"FB356","v":135.47308701303001},null,null,null,null,null,null,{"$f":"FA373+FA376","v":22.033757298872189},{"$f":"FB373+FA377","v":123.70000000000002},{"$f":"EZ373","v":" بالاتنه 5"},null,{"$f":"BS104+BT130","v":22.033757298872189},{"$f":"BT104","v":123.70000000000002},"شیفت 5 بالاتنه",null,null,null,null,null,{"$f":"-FK329-GA306","v":1.9662427011278112},{"$f":"FL329","v":123.70000000000002}," بالاتنه 5",null,null,null,null,null,null,"نقطه دوم",{"$f":"GE356","v":"b16"},{"$f":"GF356","v":18.652380096886574},{"$f":"GG356","v":135.47308701303001},null,null,"شیفت عمودی کل",{"$f":"'متغیرها '!C52","v":7},null,null,null,null,null,null,null,null,null,null,null,null,null,null,null,null,null,null,null,null,null,null,null,null,null,null,null,null,null,null,null,null,null,null,"d4  b14ʻ",{"$f":"0.2*(HW313-HW317)+HW317","v":13.798490412539319},{"$f":"HX341+((HW360-HW341)/(HW313-HW341))*(HX313-HX341)+0.75*'متغیرها '!C360*(HW310-HW341)","v":114.83772490441561},null,"نقطه دوم از خط دوم",40,{"$f":"HW317","v":11.040475000000001},{"$f":"HX317","v":116.76137476501766},null,null,null,null,null,{"$f":"-II344","v":-11.49983691823741},{"$f":"IJ344","v":121.73075618777339},"شیفتd4  b6''",null,{"$f":"-IM344","v":-11.174498724624458},{"$f":"IN344","v":114.84049777287004},"شیفتd4  b14''",null,null,{"$f":"IR354","v":10.410015},{"$f":"IS354+IS355*(IS353-IS354)","v":84.160000000000011},"8n'",null,"نقطه ورودی بالا","a5",{"$f":"IU311","v":34.120712147132735},{"$f":"IV311","v":110},null,null,null,{"$f":"IY321","v":13.589985},{"$f":"IZ321","v":109.9},"a'15",null,{"$f":"JG359","v":28.261401444783729},{"$f":"JH358","v":52.7},"c53",null,{"$f":"IU353","v":34.412050000000001},{"$f":"IV353","v":89.9},"a67",null,{"$f":"IY353","v":-10.412050000000001},{"$f":"IZ353","v":89.9},"a'67",null,{"$f":"IU339","v":28.261401444783729},{"$f":"IV339","v":52.7},"a53",null,{"$f":"IY339","v":-4.261401444783731},{"$f":"IZ339","v":52.7},"a'53",null,null,null,null,null,null,null,null,null,null,null,null,null,{"$f":"KM323+KJ333+KJ335+KJ336+KJ337","v":34.831626856759641},{"$f":"KN323","v":97.079999999999984},"b65",null,{"$f":"KQ323+KJ340+KJ341+KJ342+KJ343","v":-14.831626856759641},{"$f":"KR323","v":97.079999999999984},"b'65",null,{"$f":"KM330","v":10},{"$f":"KN330","v":55.7},"b25",null,null,null,null,null,null,null,null,null,null,null,null,null,{"$f":"KM320","v":10},{"$f":"KN320","v":93},"b14",null,{"$f":"KQ320","v":10},{"$f":"KR320","v":93},"b'14",null,null,{"$f":"LX308","v":12.937032428148381},{"$f":"LY308","v":109.9},"an3","نقطه قبل از چرخش",{"$f":"IF(LU360>LU352,IF(LT360>LT352,LT352+SQRT(POWER(LT360-LT352,2)+POWER(LU360-LU352,2))*COS(ATAN((LU360-LU352)/(LT360-LT352+0.000123))+LU350),LT352-SQRT(POWER(LT360-LT352,2)+POWER(LU360-LU352,2))*COS(ATAN((LU360-LU352)/(LT352-LT360+0.000123))-LU350)),IF(LT360>LT352,LT352+SQRT(POWER(LT360-LT352,2)+POWER(LU360-LU352,2))*COS(ATAN((LU352-LU360)/(LT360-LT352+0.000123))-LU350),LT352-SQRT(POWER(LT360-LT352,2)+POWER(LU360-LU352,2))*COS(ATAN((LU352-LU360)/(LT352-LT360+0.000123))+LU350)))","v":3.9343395139082382},{"$f":"IF(LU360>LU352,IF(LT360>LT352,LU352+SQRT(POWER(LT360-LT352,2)+POWER(LU360-LU352,2))*SIN(ATAN((LU360-LU352)/(LT360-LT352+0.000123))+LU350),LU352+SQRT(POWER(LT360-LT352,2)+POWER(LU360-LU352,2))*SIN(ATAN((LU360-LU352)/(LT352-LT360+0.000123))-LU350)),IF(LT360>LT352,LU352-SQRT(POWER(LT360-LT352,2)+POWER(LU360-LU352,2))*SIN(ATAN((LU352-LU360)/(LT360-LT352+0.000123))-LU350),LU352-SQRT(POWER(LT360-LT352,2)+POWER(LU360-LU352,2))*SIN(ATAN((LU352-LU360)/(LT352-LT360+0.000123))+LU350)))","v":105.65399459188427},"f3",null,null,null,null,null,null,null,null,null,null,40.131202936824458,91.609871819152914,"b9","نقطه قبل از چرخش",{"$f":"IF(ML360>ML351,IF(MK360>MK351,MK351+SQRT(POWER(MK360-MK351,2)+POWER(ML360-ML351,2))*COS(ATAN((ML360-ML351)/(MK360-MK351+0.000123))+ML349),MK351-SQRT(POWER(MK360-MK351,2)+POWER(ML360-ML351,2))*COS(ATAN((ML360-ML351)/(MK351-MK360+0.000123))-ML349)),IF(MK360>MK351,MK351+SQRT(POWER(MK360-MK351,2)+POWER(ML360-ML351,2))*COS(ATAN((ML351-ML360)/(MK360-MK351+0.000123))-ML349),MK351-SQRT(POWER(MK360-MK351,2)+POWER(ML360-ML351,2))*COS(ATAN((ML351-ML360)/(MK351-MK360+0.000123))+ML349)))","v":44.732635304878784},{"$f":"IF(ML360>ML351,IF(MK360>MK351,ML351+SQRT(POWER(MK360-MK351,2)+POWER(ML360-ML351,2))*SIN(ATAN((ML360-ML351)/(MK360-MK351+0.000123))+ML349),ML351+SQRT(POWER(MK360-MK351,2)+POWER(ML360-ML351,2))*SIN(ATAN((ML360-ML351)/(MK351-MK360+0.000123))-ML349)),IF(MK360>MK351,ML351-SQRT(POWER(MK360-MK351,2)+POWER(ML360-ML351,2))*SIN(ATAN((ML351-ML360)/(MK360-MK351+0.000123))-ML349),ML351-SQRT(POWER(MK360-MK351,2)+POWER(ML360-ML351,2))*SIN(ATAN((ML351-ML360)/(MK351-MK360+0.000123))+ML349)))","v":93.439837697897929},"c9",null,null,null,null,null,null,null,null,null,null,38.352032955469426,94.080705608253197,"b9","نقطه قبل از چرخش",{"$f":"IF(NC360>NC351,IF(NB360>NB351,NB351+SQRT(POWER(NB360-NB351,2)+POWER(NC360-NC351,2))*COS(ATAN((NC360-NC351)/(NB360-NB351+0.000123))+NC349),NB351-SQRT(POWER(NB360-NB351,2)+POWER(NC360-NC351,2))*COS(ATAN((NC360-NC351)/(NB351-NB360+0.000123))-NC349)),IF(NB360>NB351,NB351+SQRT(POWER(NB360-NB351,2)+POWER(NC360-NC351,2))*COS(ATAN((NC351-NC360)/(NB360-NB351+0.000123))-NC349),NB351-SQRT(POWER(NB360-NB351,2)+POWER(NC360-NC351,2))*COS(ATAN((NC351-NC360)/(NB351-NB360+0.000123))+NC349)))","v":43.13437717833267},{"$f":"IF(NC360>NC351,IF(NB360>NB351,NC351+SQRT(POWER(NB360-NB351,2)+POWER(NC360-NC351,2))*SIN(ATAN((NC360-NC351)/(NB360-NB351+0.000123))+NC349),NC351+SQRT(POWER(NB360-NB351,2)+POWER(NC360-NC351,2))*SIN(ATAN((NC360-NC351)/(NB351-NB360+0.000123))-NC349)),IF(NB360>NB351,NC351-SQRT(POWER(NB360-NB351,2)+POWER(NC360-NC351,2))*SIN(ATAN((NC351-NC360)/(NB360-NB351+0.000123))-NC349),NC351-SQRT(POWER(NB360-NB351,2)+POWER(NC360-NC351,2))*SIN(ATAN((NC351-NC360)/(NB351-NB360+0.000123))+NC349)))","v":95.872851622050575},"c9",null,null,null,null,null,null,null,null,null,null,null,null,null,null,null,null,"h12",{"$f":"NZ357","v":-18.788942307692306},{"$f":"OA359","v":15.549999999999997},{"$f":"NZ357","v":-18.788942307692306},{"$f":"OA357","v":15.799999999999997},{"$f":"NY357","v":"h9"},null,null,null,null,null,"g11",{"$f":"OK364+0.8*(OK362-OK364)","v":-22.060807692307691},{"$f":"OL362+0.6*(OL364-OL362)","v":11.232658823529414},{"$f":"OK361","v":-21.567307692307693},{"$f":"OL361","v":11.352941176470591},{"$f":"OJ361","v":"g2"},null,null,null,null,null,"ارتفاع هر رج",{"$f":"OR38","v":0.42352941176470588},"w11",null,null,null,null,null,null,null,null,"f13",{"$f":"PG357","v":32.179656862745105},{"$f":"PH358","v":12.8},{"$f":"PG359","v":31.86200980392157},{"$f":"PH359","v":12.567058823529413},{"$f":"PF359","v":"f12"},null,null,null,null,null,"h9",{"$f":"PR358+0.5*PR349","v":15.695512820512814},{"$f":"PS354","v":20.670588235294119},{"$f":"PR363","v":15.695512820512814},{"$f":"PS363","v":20.420588235294119},{"$f":"PQ363","v":"h12"}]
[null,null,null,null,null,null,null,null,null,null,null,null,null,null,null,null,null,null,null,null,null,null,null,"نقطه خروجی پایین","s'd8",{"$f":"Z378-Z372*COS(Y375)","v":-9.0790452600076605},{"$f":"AA378+Z372*SIN(Y375)","v":64.900000000000006},null,null,null,null,null,null,null,null,null,null,null,null,null,null,null,null,null,null,null,null,null,null,null,null,null,null,null,null,null,null,null,null,null,null,null,null,{"$f":"BD375","v":-10.527966954393793},{"$f":"BE375","v":68.099999999999966},"s'd8",null,null,null,null,null,null,null,null,null,null,null,null,null,{"$f":"-BX375-HY101","v":-10.71705},{"$f":"BY375","v":53.227060776258753},"e21",null,null,null,null,null,null,null,null,null,null,null,null,null,null,null,null,null,null,null,null,null,null,null,null,null,null,null,null,null,null,null,null,null,null,null,null,null,null,null,null,null,null,null,null,null,null,null,null,null,null,null,null,null,null,null,null,null,null,null,null,null,null,null,null,null,null,null,null,null,null,null,null,null,"شیفت عمودی کل",{"$f":"'متغیرها '!C52","v":7},null,"اسم نقطه","مولفه افقی","مولفه عمودی",null,null,null,null,null,null,null,null,null,null,null,null,null,null,null,null,null,null,null,null,null,null,null,null,null,null,null,null,null,null,null,null,null,null,null,null,null,null,null,null,null,null,null,null,null,null,null,null,null,null,null,null,null,null,null,null,null,null,null,null,null,null,null,null,null,null,null,null,null,null,null,null,null,null,null,null,null,null,null,null,null,null,null,null,null,null,null,null,null,null,null,null,null,null,null,null,null,null,null,null,null,null,null,"بالا کمر ",null,null,null,null,null,null,null,null,null,null,null,null,null,null,null,null,null,null,null,null,null,null,null,null,null,null,null,null,null,null,null,null,null,null,null,null,null,null,null,null,null,{"$f":"KQ324+KJ325","v":-13.234334283798198},{"$f":"KR324","v":113},"b'28",null,null,null,null,null,null,null,null,null,null,null,null,null,null,null,null,null,null,null,null,null,null,{"$f":"LX360","v":3.9343395139082382},{"$f":"LY360","v":105.65399459188427},"f3","نقطه قبل از چرخش",{"$f":"IF(LU377>LU370,IF(LT377>LT370,LT370+SQRT(POWER(LT377-LT370,2)+POWER(LU377-LU370,2))*COS(ATAN((LU377-LU370)/(LT377-LT370+0.000123))+LU368),LT370-SQRT(POWER(LT377-LT370,2)+POWER(LU377-LU370,2))*COS(ATAN((LU377-LU370)/(LT370-LT377+0.000123))-LU368)),IF(LT377>LT370,LT370+SQRT(POWER(LT377-LT370,2)+POWER(LU377-LU370,2))*COS(ATAN((LU370-LU377)/(LT377-LT370+0.000123))-LU368),LT370-SQRT(POWER(LT377-LT370,2)+POWER(LU377-LU370,2))*COS(ATAN((LU370-LU377)/(LT370-LT377+0.000123))+LU368)))","v":-2.091164683240045},{"$f":"IF(LU377>LU370,IF(LT377>LT370,LU370+SQRT(POWER(LT377-LT370,2)+POWER(LU377-LU370,2))*SIN(ATAN((LU377-LU370)/(LT377-LT370+0.000123))+LU368),LU370+SQRT(POWER(LT377-LT370,2)+POWER(LU377-LU370,2))*SIN(ATAN((LU377-LU370)/(LT370-LT377+0.000123))-LU368)),IF(LT377>LT370,LU370-SQRT(POWER(LT377-LT370,2)+POWER(LU377-LU370,2))*SIN(ATAN((LU370-LU377)/(LT377-LT370+0.000123))-LU368),LU370-SQRT(POWER(LT377-LT370,2)+POWER(LU377-LU370,2))*SIN(ATAN((LU370-LU377)/(LT370-LT377+0.000123))+LU368)))","v":100.17975875084448},"fg3",null,null,null,null,null,{"$f":"LT312","v":34.120712147132735},{"$f":"LU312","v":110},"a5",null,null,null,null,null,null,null,null,null,null,null,null,null,null,null,null,null,null,null,null,null,null,null,null,null,null,null,null,null,null,null,null,null,null,null,null,null,null,null,null,null,null,null,null,null,null,null,null,null,null,null,null,null,"m42",{"$f":"OF98","v":-11.26923076923077},{"$f":"OG98","v":11.352941176470591},null,null,null,null,null,null,null,null,"g7",{"$f":"OV372+0.7*OW369*SIN(RADIANS(30)-2*ATAN((OV372-OV375)/(OW372-OW375+0.0001)))","v":-23.21864691083174},{"$f":"OW372-0.7*OW369*COS(RADIANS(30)-2*ATAN((OV372-OV375)/(OW372-OW375+0.0001)))","v":11.215958589809999},{"$f":"OV372","v":-23.395743589743589},{"$f":"OW372","v":11.232658823529414},{"$f":"OU372","v":"g11"},null,null,null,null,null,"بزرگی فلش دانه",{"$f":"PC42","v":0.5},"f10",{"$f":"PG384","v":-21.758012820512821},{"$f":"PH384","v":12.8},{"$f":"PF384","v":"f8"},null,null,null,null,null,"n'43",{"$f":"PM95","v":35.22647435897435},{"$f":"PN95","v":20.670588235294119}]
[null,null,null,null,null,{"$f":"DX395","v":33.5},{"$f":"DY395","v":123.72723904923924},{"$f":"AZ113","v":34.899986494360945},{"$f":"BA113","v":121.99283712961564},12,null,"آستین کیمونو و سرخود",null,null,null,null,{"$f":"Q440","v":34.430950000000003},{"$f":"R440","v":93.224095480101624},42,null,{"$f":"-Q395+V382","v":-14.430950000000003},{"$f":"R395","v":93.224095480101624},42,null,null,null,null,null,null,null,null,null,null,{"$f":"AP395","v":34.71705},{"$f":"AQ395","v":90.52706077625875},45,null,{"$f":"AT395","v":-10.71705},{"$f":"AU395","v":90.52706077625875},45,null,{"$f":"AZ172-'متغیرها '!C55","v":34.71705},{"$f":"BA172","v":90.52706077625875},45,null,{"$f":"-AP395-HY101","v":-10.71705},{"$f":"AQ395","v":90.52706077625875},45,null,null,{"$f":"AY394+AX391","v":-92},-1.6057029118347832,{"$f":"BF393+BF390*COS(AZ395)","v":33.69044566967515},{"$f":"BG393-BF390*SIN(AZ395)","v":114.42936504037985},{"$f":"SQRT(POWER((BF392-BA395),2)+POWER((BG392-BB395),2))","v":13.416812364971562},{"$f":"ABS(BF389-BC395)","v":4.8519913825744378},"رسم مثلث",null,null,null,null,null,{"$f":"BK394+BJ391","v":-92},-1.6057029118347832,{"$f":"BR393+BR390*COS(BL395)","v":31.844932814046224},{"$f":"BS393-BR390*SIN(BL395)","v":120.07144967529031},{"$f":"SQRT(POWER((BR392-BM395),2)+POWER((BS392-BN395),2))","v":13.417326820952784},{"$f":"ABS(BR389-BO395)","v":3.7035936028594474},"رسم مثلث",null,null,null,null,null,{"$f":"BW394+BV391","v":-86},-1.5009831567151235,{"$f":"CD393+CD390*COS(BX395)","v":37.663420237623136},{"$f":"CE393-CD390*SIN(BX395)","v":102.15057353310443},{"$f":"SQRT(POWER((CD392-BY395),2)+POWER((CE392-BZ395),2))","v":20.596685628006764},{"$f":"ABS(CD389-CA395)","v":1.7554867321582037},"رسم مثلث",null,null,null,null,null,{"$f":"CI394+CH391","v":-88},-1.5358897417550099,{"$f":"CP393+CP390*COS(CJ395)","v":32.420006900851412},{"$f":"CQ393-CP390*SIN(CJ395)","v":116.84470849110758},{"$f":"SQRT(POWER((CP392-CK395),2)+POWER((CQ392-CL395),2))","v":9.9520088886453113},{"$f":"ABS(CP389-CM395)","v":3.3567651603816699},"رسم مثلث",null,null,null,null,null,null,"آرنج",null,{"$f":"F396","v":32.627499999999998},{"$f":"G396","v":107.52706077625875},{"$f":"J396","v":41},null,null,null,null,null,null,null,"آرنج",null,null,{"$f":"I127","v":40.799999999999997},"t6","کمر تا سرشانه ",null,null,null,null,null,null,{"$f":"AV156+AV157+AV158+DV382","v":32.627499999999998},{"$f":"DU385+L125","v":107.52706077625875},41,null,{"$f":"AV104+DV382","v":33.5},{"$f":"AV113+DZ382","v":123.72723904923924},12,null,{"$f":"-DT395+EC383","v":-8.6274999999999977},{"$f":"EC385+L125","v":107.52706077625875},41,null,{"$f":"-DX395+EC383","v":-9.5},{"$f":"AV113+DZ382","v":123.72723904923924},12,null,{"$f":"BG156+EL382","v":34.65},{"$f":"BG157+ET382","v":93.224095480101624},42,null,{"$f":"-EJ395+EK402","v":-14.649999999999999},{"$f":"EK395","v":93.224095480101624},42,null,{"$f":"ER425","v":31.978157715295847},{"$f":"ES425","v":126.42427375308213},8,null,{"$f":"-ER395+EK402","v":-11.978157715295847},126.42427375308213,8,null,null,null,null,{"$f":"BD97-'متغیرها '!C51","v":-1.5899850000000004},{"$f":"BE97-'متغیرها '!C52","v":45.7},"1'","پایین لباس روی خط جادکمه",{"$f":"FC398-0.3*FD397","v":7.2850692186222439},{"$f":"FD398","v":138.77056095882656},"e'25",null,null,null,null,null,{"$f":"FK399+FG406","v":19.285069218622244},{"$f":"FL399+FG407","v":145.77056095882656},"e'25",null,null,{"$f":"DP410","v":18.037179013042625},{"$f":"DQ410","v":135.38068716307652},"پایین شبیه ساز سرشانه",null,{"$f":"FT399-0.3*FU398","v":7.2850692186222439},{"$f":"FU399","v":138.77056095882656},"e'25",null,null,null,null,null,null,null,null,null,{"$f":"GJ400+GK403*COS(GK402)","v":30.037179013042625},{"$f":"GK400-GK403*SIN(GK402)","v":142.38068716307652},"22f",null,14.726880000000001,138.5453448808301,28,null,{"$f":"GR403+GS402*COS(GS401)","v":28.007804197716858},{"$f":"GS403-GS402*SIN(GS401)","v":147.09321727411941},"18f",null,{"$f":"BG131+EL382","v":15.1129},{"$f":"BG103-BG132+ET382","v":149.69383043580098},28,null,{"$f":"-GV395+GS413","v":4.8871000000000002},{"$f":"GW395","v":149.69383043580098},28,null,{"$f":"HD394+H167*COS('متغیرها '!B315)","v":18.037179013042625},{"$f":"HE394-H167*SIN('متغیرها '!B315)","v":137.18068716307647},"سرشانه",null,{"$f":"DT395","v":32.627499999999998},{"$f":"DU395","v":107.52706077625875},41,null,32.228262452057997,66.550000000000011,"q3",null,{"$f":"EJ398","v":31.125},{"$f":"EK398","v":110.1},36,null,32.867950690313698,68.654840648673684,"r3",null,{"$f":"-HT395+HQ412","v":-12.867950690313698},68.654840648673684,"r3",null,null,null," باکس راست زیپ در پهلو دامن جلو","مولفه افقی","مولفه عمودی",null,null,null,null,null,null,null,null,null,null,null,null,null,null,null,null,null,null,null,null,null,null,{"$f":"IY317","v":-5.3370789560432357},{"$f":"IZ317","v":52.7},"a'11",null,22.402090742434726,109.9,"a4",null,{"$f":"JK398+0.55*(JK394-JK398)","v":-9.0048053522242242},{"$f":"JL398-0.85*(JL398-JL394)","v":36.268112347947081},"w18",null,{"$f":"JG394","v":21.881257298872189},{"$f":"JH394","v":91.69},"a3",null,{"$f":"JK415","v":28.348083007476962},{"$f":"JL415","v":66.305405622037171},"w40",null,null,null,null,null,null,null,null,null,null,null,null,null,null,null,null,null,null,null,null,null,null,null,null,null,{"$f":"KQ311+KJ325","v":-13.234334283798198},{"$f":"KR311","v":113},"b'5",null,null,null,null,null,null,null,null,null,null,null,null,null,null,null,null,null,null,null,null,null,null,null,null,null,null,null,null,null,null,null,null,null,null,null,null,null,null,null,null,null,null,null,null,null,null,null,null,null,null,null,null,null,null,null,null,null,null,null,null,null,null,null,null,null,null,null,null,null,null,null,null,null,null,null,null,null,null,null,"g5",{"$f":"NZ391+0.7*(NZ394-NZ391)","v":-25.3675},{"$f":"OA391+0.28*(OA394-OA391)","v":16.483999999999998},{"$f":"NZ392","v":-25.493499999999997},{"$f":"OA392","v":16.829599999999999},{"$f":"NY392","v":"g11"},null,null,null,null,null,"g2",{"$f":"OK393","v":-11.26923076923077},{"$f":"OL393+OK390","v":11.776470588235297},null,null,null,null,null,null,null,null,"h11",{"$f":"OV392","v":-17.47467948717949},{"$f":"OW392-0.5*OV383","v":11.102941176470591},null,null,null,null,null,null,null,null,"g2",{"$f":"PG393","v":-23.474358974358974},{"$f":"PH393+PG390","v":12.623529411764707},null,null,null,null,null,null,null,null,"g2",{"$f":"PR393","v":35.22647435897435},{"$f":"PS393+PR390","v":21.094117647058823}]
[null,null,null,null,null,{"$f":"F395+0.15*(G395-G396)*SIN(0.5*(F423-F424))","v":35.016359286220343},"k6",{"$f":"H395+'متغیرها '!C397*(I395-I396)*SIN(0.5*(H423-H424))","v":37.49605569428136},{"$f":"I395-'متغیرها '!C397*(I395-I396)*COS(0.5*(H423-H424))","v":116.82158830654795},{"$f":"G395-0.15*(G395-G396)*COS(0.5*(F423-F424))","v":121.82837505284266},null,"k15",{"$f":"L430+0.4*(M400-L430)","v":30.466007131597507},{"$f":"M430+0.13*(N400-M430)","v":64.230232407839537},null,null,{"$f":"Q442","v":34.430950000000003},{"$f":"R442","v":93.224095480101624},42,null,{"$f":"-Q412+V382","v":-14.430950000000003},{"$f":"R412","v":93.224095480101624},42,null,{"$f":"-L424+AD382","v":1.9899463947519145},{"$f":"M424","v":150.56766607523292},{"$f":"N424","v":23},null,{"$f":"-H393-HY101","v":3.9891436511059162},{"$f":"I393","v":145.77056095882656},{"$f":"J393","v":25},null,null,{"$f":"AH388","v":47.205108072639767},{"$f":"AI388","v":116.52006725159009},"k''5",null,{"$f":"AL388","v":-23.205108072639767},{"$f":"AM388","v":116.52006725159009},"k5",null,null,null,null,null,null,null,null,null,null,{"$f":"AY411+AX391","v":-58},-1.0122909661567112,{"$f":"BF393+BF390*COS(AZ412)","v":45.674880341812816},{"$f":"BG393-BF390*SIN(AZ412)","v":111.21814544823701},{"$f":"SQRT(POWER((BF392-BA412),2)+POWER((BG392-BB412),2))","v":10.109984449479423},{"$f":"ABS(BF389-BC412)","v":1.5451634670822987},null,null,null,null,null,null,{"$f":"BK411+BJ391","v":-58},-1.0122909661567112,{"$f":"BR393+BR390*COS(BL412)","v":37.410293476412214},{"$f":"BS393-BR390*SIN(BL412)","v":118.58021578022141},{"$f":"SQRT(POWER((BR392-BM412),2)+POWER((BS392-BN412),2))","v":8.2606024066981352},{"$f":"ABS(BR389-BO412)","v":1.4531308113952015},null,null,null,null,null,null,{"$f":"BW411+BV391","v":-69},-1.2042771838760873,{"$f":"CD393+CD390*COS(BX412)","v":51.037490853432587},{"$f":"CE393-CD390*SIN(BX412)","v":99.185613459769712},{"$f":"SQRT(POWER((CD392-BY412),2)+POWER((CE392-BZ412),2))","v":22.887375408089792},{"$f":"ABS(CD389-CA412)","v":4.0461765122412316},null,null,null,null,null,null,{"$f":"CI411+CH391","v":-37},-0.64577182323790194,{"$f":"CP393+CP390*COS(CJ412)","v":37.479489587926068},{"$f":"CQ393-CP390*SIN(CJ412)","v":114.2109085113795},{"$f":"SQRT(POWER((CP392-CK412),2)+POWER((CQ392-CL412),2))","v":7.8903025381638594},{"$f":"ABS(CP389-CM412)","v":1.295058809900218},null,null,null,null,null,{"$f":"-CT383+2*CT434","v":3.1828000000000003},{"$f":"CU383","v":150.89999999999998},23,null,{"$f":"DB412","v":17.134203148043607},{"$f":"DC412","v":148.91800000000001},"g2","گردن",{"$f":"DK402+I403","v":17.134203148043607},{"$f":"DL402+I402","v":148.91800000000001},"g2","گردن",{"$f":"DB406","v":12},167.98,"s15",null,null,null,null,null,null,null,null,null,"گردن",null,null,null,null,null,{"$f":"DX398","v":21.75376},{"$f":"DY398","v":123.7},43,null,null,null,null,null,{"$f":"-DX412+EC383","v":2.2462400000000002},{"$f":"EG398","v":123.7},43,null,null,null,null,null,null,null,null,null,{"$f":"ER410","v":22.095251038107346},{"$f":"ES410","v":141.56749432283283},22,null,{"$f":"-ER412+EK402","v":-2.0952510381073459},{"$f":"ES412","v":141.56749432283283},22,null,null,null,null,null,null,null,null,null,null,null,null,{"$f":"-FC399","v":1.5899850000000004},{"$f":"FD399","v":111.66000000000001},"e1",null,null,null,"قرینه",null,null,null,null,null,null,null,null,null,null,{"$f":"-FT397","v":1.5899850000000004},{"$f":"FU397","v":45.7},{"$f":"FV397","v":"1'"},null,{"$f":"-GF404+FX409","v":3.1909314492519698},{"$f":"GG404","v":145.26537014939197},"e'9",null,{"$f":"-GJ395+EC383","v":-6.0371790130426248},{"$f":"GK395","v":142.38068716307652},"22f",null,{"$f":"DX404","v":20.990009999999998},{"$f":"DY404","v":106.9},39,null,null,null,null,null,{"$f":"GV423+BG155","v":20.75},{"$f":"EK385+BG154","v":130.62016044568244},40,null,{"$f":"-GV412+GS413","v":-0.75},{"$f":"GW412","v":130.62016044568244},40,null,null,null,null,null,{"$f":"HH395","v":32.627499999999998},{"$f":"HI395","v":107.52706077625875},"q1",null,12,80.400000000000006,"q16",null,"قرینه",{"$f":"2*C102","v":20},null,null,10,83.09703470384288,"r16",null,{"$f":"-HT412+HQ412","v":10},83.09703470384288,"r16",null,null,null,null,"ماکزیمم متغیر ورودی  ضریب طول",20,null,{"$f":"IF(CO160<CO156,CN160,CN156)","v":34.224910000000001},{"$f":"IF(CO160<CO156,CO160,CO156)","v":107.52706077625875}," شیفت41 یا d3",null,{"$f":"-IF(CO160<CO156,CN160,CN156)+IR325","v":-10.224910000000001},{"$f":"IF(CO160<CO156,CO160,CO156)","v":107.52706077625875}," شیفت41 یا d3",null,{"$f":"IF(CO160<CO156,CN160,CN156)","v":34.224910000000001},{"$f":"IF(CO160<CO156,CO160,CO156)","v":107.52706077625875}," شیفت41 یا d3",null,{"$f":"-IF(CO160<CO156,CN160,CN156)+IR325","v":-10.224910000000001},{"$f":"IF(CO160<CO156,CO160,CO156)","v":107.52706077625875}," شیفت41 یا d3",null,{"$f":"KM330","v":10},{"$f":"KN330","v":55.7},"b25",null,null,{"$f":"JG310","v":-10.412050000000001},{"$f":"JH310","v":89.9},{"$f":"JI310","v":"c'62"},null,-13.234334283798198,113,"b'5",null,{"$f":"JK409","v":31.825726226117879},{"$f":"JL404+(JK412-JK404)*TAN(JG446)","v":66.305405622037171},"w37",null,{"$f":"JG400","v":34.353782429426545},{"$f":"JH400","v":93.92},"a26",null,{"$f":"-JS394+JG432","v":-10.412050000000001},{"$f":"JT394","v":71.349999999999994},"w'29",null,null,null,null,null,null,null,null,null,null,null,null,null,null,null,null,null,null,null,null,null,null,null,null,null,{"$f":"KQ307+KJ325","v":10},{"$f":"KR307","v":113.1},"b'1",null,null,null,null,null,null,null,null,null,null,null,null,null,null,null,null,null,null,null,null,null,null,null,null,null,null,null,null,null,null,null,null,null,null,null,null,null,null,null,null,null,null,null,null,null,null,null,null,null,null,null,null,null,null,null,null,null,null,null,null,null,null,null,null,null,null,null,null,null,null,null,null,null,null,null,null,null,null,null,"نقطه شروع انحنا","مولفه افقی","مولفه عمودی",{"$f":"NZ416","v":23.347115384615392},{"$f":"OA416","v":17.3},{"$f":"NY416","v":"g4"},null,null,null,null,null,"ارتفاع نیم دایره",{"$f":"OG49","v":0.42352941176470588},"بزرگی فلش",{"$f":"OK415","v":-21.567307692307693},{"$f":"OL415","v":11.776470588235297},{"$f":"OJ415","v":"m44"},null,null,null,null,null,"g8",{"$f":"OV406-0.7*OW403*SIN(RADIANS(30)+ATAN((OV406-OV409)/(OW406-OW409+0.0001)))","v":-10.353316147513633},{"$f":"OW406-0.7*OW403*COS(RADIANS(30)+ATAN((OV406-OV409)/(OW406-OW409+0.0001)))","v":11.560105910824049},{"$f":"OV411","v":-10.026518705703538},{"$f":"OW411","v":11.639488001574708},{"$f":"OU411","v":"g7"},null,null,null,null,null,"نقاط خروجی","مولفه افقی","مولفه عمودی",{"$f":"PG417","v":-1.0832532051282082},{"$f":"PH417","v":12.373529411764707},{"$f":"PF417","v":"h11"},null,null,null,null,null,null,"متغیرهای ورودی",null,{"$f":"PR418","v":-17.335448717948719},{"$f":"PS418","v":21.094117647058823},{"$f":"PQ418","v":"n'47"}]
[null,null,null,null,null,"انحنا پایین پانچو",null,null,null,null,null,{"$f":"BO192-'متغیرها '!C56","v":20.640475000000002},{"$f":"BP192-'متغیرها '!C57","v":55.7},50,null,null,{"$f":"M406","v":49.165830255659678},{"$f":"N406","v":130.78678358353145},"k13",null,{"$f":"-Q430+V382","v":-29.165830255659678},{"$f":"R430","v":130.78678358353145},"k13",null,null,null,null,null,null,null,null,null,null,53.336940479219045,124.27322048774177,"k''4",null,-29.336940479219045,124.27322048774177,"k4",null,"αk2",{"$f":"ATAN((L426-L428)/(M426-M428))","v":-4.4993521163970887E-2},{"$f":"N428","v":42},"مربوط به نقطه ","k6",{"$f":"L426+'متغیرها '!C397*(M426-M428)*SIN(0.5*(O385-AQ430))","v":39.383064615861173},{"$f":"M426-'متغیرها '!C397*(M426-M428)*COS(0.5*(O385-AQ430))","v":113.83384779510597},null,null,{"$f":"AY429+AX391","v":-22},-0.38397243543875248,{"$f":"BF393+BF390*COS(AZ430)","v":54.104117930378507},{"$f":"BG393-BF390*SIN(AZ430)","v":101.1725712692337},{"$f":"SQRT(POWER((BF392-BA430),2)+POWER((BG392-BB430),2))","v":22.022979311801581},{"$f":"ABS(BF389-BC430)","v":13.458158329404457},null,null,null,null,null,null,{"$f":"BK429+BJ391","v":-22},-0.38397243543875248,{"$f":"BR393+BR390*COS(BL430)","v":41.324683147057613},{"$f":"BS393-BR390*SIN(BL430)","v":113.91522782741608},{"$f":"SQRT(POWER((BR392-BM430),2)+POWER((BS392-BN430),2))","v":8.3570479989287403},{"$f":"ABS(BR389-BO430)","v":1.3566852191645964},null,null,null,null,null,null,{"$f":"BW429+BV391","v":-51},-0.89011791851710809,{"$f":"CD393+CD390*COS(BX430)","v":63.593253149953512},{"$f":"CE393-CD390*SIN(BX430)","v":91.936540717992386},{"$f":"SQRT(POWER((CD392-BY430),2)+POWER((CE392-BZ430),2))","v":34.660855703735898},{"$f":"ABS(CD389-CA430)","v":15.819656807887338},null,null,null,null,null,null,{"$f":"CI429+CH391","v":17},0.29670597283903605,{"$f":"CP393+CP390*COS(CJ430)","v":38.523992932087054},{"$f":"CQ393-CP390*SIN(CJ430)","v":108.28723568510939},{"$f":"SQRT(POWER((CP392-CK430),2)+POWER((CQ392-CL430),2))","v":13.074068192288808},{"$f":"ABS(CP389-CM430)","v":6.4788244640251662},null,null,null,null,null,{"$f":"HD440+CT434","v":4.865796851956393},{"$f":"HE440+CT435","v":156.53599999999997},"قرینه g1",null,null,null,null,null,null,null,null,null,null,null,null,null,null,null,null,null,null,null,null,null,null,null,null,null,null,null,null,null,null,null,null,null,null,null,null,null,null,null,null,null,null,null,null,null,null,null,null,null,null,null,null,null,null,null,null,null,null,{"$f":"GF692","v":3.5041831348607126},{"$f":"GG692","v":12.994329128315444},8,"تکه پشت یقه",null,{"$f":"RADIANS(90)-RADIANS(FD431)-FH426","v":1.2507055286937467},"m5",null,{"$f":"-FG397","v":-8.024856807116274},{"$f":"FH397","v":138.52532863964984},{"$f":"FI397","v":"e'9"},null,{"$f":"-FO401+FG408","v":3.9751431928837277},{"$f":"FP401","v":145.52532863964984},"e'9",null,null,null,null,null,null,null,{"$f":"IF(FY426>FY424,ASIN(FY431/FY426),0)","v":0},"m8",null,null,null,"قرینه",null,null,null,null,null,{"$f":"-DX408+EC383","v":1.4824900000000021},{"$f":"DY408","v":106.9},40,null,null,null,null,null,null,null,null,null,null,null,null,null,null,null,null,null,{"$f":"-DK409","v":-5.7733168519563947},{"$f":"DL409","v":158.3544},"قرینهs16",null,null,null,null,null,{"$f":"-HH420+EC383","v":6.3665687593465705},{"$f":"HI420","v":7},"q9",null,{"$f":"HP407","v":11.79725},{"$f":"HQ407","v":82.198409703842884},"r15",null,null,null,null,null,null,null,null,null,null,null,null,null,null,null,{"$f":"BD183","v":32.461507313796993},53.174354698632875,"شیفت50'''",null,{"$f":"-BD183+IR325","v":-8.4615073137969929},{"$f":"BE183","v":53.174354698632875},"شیفت50'''",null,{"$f":"BD183","v":32.461507313796993},53.174354698632875,"شیفت50'''",null,{"$f":"-BD183+IR325","v":-8.4615073137969929},{"$f":"BE183","v":53.174354698632875},"شیفت50'''",null,{"$f":"BO188","v":21.440474999999999},{"$f":"BP188","v":55.7},49,null,null,2.118742701127811,52.7,"d'48",null,"w5",{"$f":"'متغیرها '!C828","v":1.5},null,null,null,null,null,null,{"$f":"JG408+JG435","v":59.643000000000001},{"$f":"JH408+JG436","v":110.1},"b'1",null,null,null,null,null,null,null,null,null,null,null,null,null,null,null,null,null,null,null,null,null,null,null,null,null,null,null,null,null,{"$f":"KY308+KJ325","v":-8.0139964742502006},{"$f":"KZ308","v":113.05},{"$f":"LA308","v":"d'52"},null,null,null,null,null,null,null,null,null,null,null,null,null,null,null,null,null,null,null,null,null,null,null,null,null,null,null,null,null,null,null,null,null,null,null,null,null,null,null,null,null,null,null,null,null,null,null,null,null,null,null,null,null,null,null,null,null,null,null,null,null,null,null,null,null,null,null,null,null,null,null,null,null,null,null,null,null,null,null,"نقطه پایان رج(راست)","مولفه افقی","مولفه عمودی",{"$f":"NZ439","v":15.134134615384625},{"$f":"OA439","v":17.850000000000001},{"$f":"NY439","v":"h13"},null,null,null,null,null,"نقطه ورودی سر فلش","مولفه افقی","مولفه عمودی",{"$f":"OK431","v":-21.185897435897438},{"$f":"OL431","v":12.200000000000003},{"$f":"OJ431","v":"m48"},null,null,null,null,null,"g4",{"$f":"OV427-OV425*OV423/40","v":-23.42724358974359},{"$f":"OW427+0.5*OV424","v":11.988235294117649},{"$f":"OV434","v":-23.545444352641834},{"$f":"OW434","v":11.983635322588754},{"$f":"OU434","v":"g8"},null,null,null,null,null,"g4",{"$f":"PG427+PG425*PG423/40","v":27.682852564102561},{"$f":"PH427+0.5*PG424","v":16.647058823529413},{"$f":"PG434","v":27.558258178091748},{"$f":"PH434","v":18.233646595872525},{"$f":"PF434","v":"g8"},null,null,null,null,null,null,null,null,{"$f":"PR422","v":-16.495448717948719},{"$f":"PS422","v":21.094117647058823},{"$f":"PQ422","v":"h5"}]
[null,null,null,null,null,null,null,"پهلو جلو منها پهلو پشت تا کمر",{"$f":"G446+G445-J446-J445","v":-1.0113638683955699},"آستین سرخود",null,null,null,null,null,null,null,null,null,null,null,null,null,null,null,null,null,null,null,null,null,null,null,null,null,null,null,null,null,null,null,null,null,null,null,null,null,null,null,null,null,null,null,null,null,null,null,null,null,null,null,null,null,null,null,null,null,null,null,null,null,null,null,null,null,null,null,null,null,null,null,null,null,null,null,null,null,null,null,null,null,null,null,null,null,null,null,null,null,null,null,null,null,null,null,null,null,null,null,null,null,null,null,null,null,null,null,null,null,null,null,null,null,null,null,null,null,null,null,null,null,null,null,null,null,null,null,null,null,null,null,null,null,null,null,null,null,null,null,null,null,null,null,null,null,null,null,null,null,null,null,null,null,null,null,null,{"$f":"-FC437","v":-7.2850692186222439},{"$f":"FD437","v":141.68985139306602},"e''9",null,null,null,null,null,null,null,null,null,null,null,null,null,null,null,null,null,null,null,null,null,null,null,null,null,null,null,null,null,null,null,null,null,null,null,null,null,null,null,null,null,null,null,null,null,null,null,null,null,null,null,null,null,null,null,null,null,null,null,null,null,null,null,null,null,null,null,null,null,null,null,null,null,"جادکمه  جلو دامن",null,null,null,"جادکمه  جلو دامن",null,null,{"$f":"CA183","v":11.270358172415413},{"$f":"CB183","v":69.721683002269145},"7n",null,{"$f":"-IP447+IR325","v":12.729641827584587},69.721683002269145,"7n",null,{"$f":"BK165","v":34.430950000000003},{"$f":"BL165","v":93.224095480101624},"شیفت 42",null,null,{"$f":"JG331","v":7.3197880723451743},{"$f":"JH331","v":109.9},{"$f":"JI331","v":"c'42"},null,{"$f":"0.25*(JG396-JG392-JG392+JK392-JH425)","v":2.2949859210148613},"w45",null,"نقطه اول از خط دوم","w17",{"$f":"JK394","v":34.412050000000001},{"$f":"JL394","v":18.425000000000001},null,null,null,null,null,{"$f":"JK394","v":34.412050000000001},{"$f":"JL394","v":18.425000000000001},"w17",null,null,null,null,null,null,null,null,null,null,null,null,null,null,null,null,null,null,null,null,null,null,null,null,null,null,null,null,null,null,null,null,null,null,null,null,null,null,null,null,null,null,null,null,null,null,null,null,null,null,null,null,null,null,null,null,null,null,null,null,null,null,null,null,null,null,null,null,null,null,null,null,null,null,null,null,null,null,null,null,null,null,null,null,null,null,null,null,null,null,null,null,null,null,null,null,null,null,null,null,null,null,null,null,null,null,null,"w45",{"$f":"NU90","v":6.0961538461538538},{"$f":"NV90","v":17.600000000000001},{"$f":"NZ452","v":5.7286538461538532},{"$f":"OA452","v":18.116000000000003},{"$f":"NY452","v":"g6"},null,null,null,null,null,"بزرگی فلش",{"$f":"OG51","v":0.25411764705882356},"f4",{"$f":"OK449","v":-16.570833333333333},{"$f":"OL449","v":12.200000000000003},{"$f":"OJ449","v":"m49"},null,null,null,null,null,null,null,null,null,null,null,null,null,null,null,null,"h5",{"$f":"PG443+0.5*(PG445-PG443)","v":4.5592948717948723},{"$f":"PH443","v":20.670588235294119},{"$f":"PG452","v":11.309294871794872},{"$f":"PH452","v":20.420588235294119},{"$f":"PF452","v":"h12"},null,null,null,null,null,"طول باکس نوشته",{"$f":"1*PN37","v":4.5},"h3",{"$f":"PR457","v":5.8555128205128177},{"$f":"PS457","v":21.517647058823528},{"$f":"PQ457","v":"h8"}]
[null,null,null,null,null,null,{"$f":"BW134","v":29.148013833381352},{"$f":"BX134","v":125.8928049891056},"b10",{"$f":"SQRT(POWER(G463-G464,2)+POWER(H463-H464,2))","v":4.8524643422203413},"نقطه دوم از خط دوم",{"$f":"I467","v":32},{"$f":"G467","v":24.785481744470413},{"$f":"H467","v":144.45280479413282},null,{"$f":"G469+Q462*COS(Q463)","v":23.58272867332925},{"$f":"H469+Q462*SIN(Q463)","v":133.22599479684777},"g4",null,{"$f":"CE117","v":29.362819422517525},{"$f":"CF117","v":129.90593019768991},"b10",{"$f":"SQRT(POWER(T463-T464,2)+POWER(U463-U464,2))","v":6.8285230130568513},"نقطه دوم از خط دوم",{"$f":"V467","v":30},{"$f":"T467","v":22.781468026240429},{"$f":"U467","v":149.23833037616475},null,{"$f":"T469+AD462*COS(AD463)","v":22.395623783144899},{"$f":"U469+AD462*SIN(AD463)","v":141.64515914557441},"g4",null,null,{"$f":"O139","v":0.26928779390827778},"β3",null,"نقطه تقاطع","g2",{"$f":"(AN462-AN460+AM460*((AN461-AN460)/(AM461-AM460))-AM462*((AN463-AN462)/(AM463-AM462)))/(((AN461-AN460)/(AM461-AM460))-((AN463-AN462)/(AM463-AM462)))","v":24.191289609215971},{"$f":"AN460+(AM464-AM460)*((AN461-AN460)/(AM461-AM460))","v":138.90401667800063},null,null,{"$f":"0.5*(P139+0.3*(P140-P139)+AE139+0.3*(AE140-AE139))","v":0.32009079810115021},"α2",null,"نقطه دوم از خط دوم",{"$f":"AR474","v":"g1"},{"$f":"AP474","v":25.14067248694084},{"$f":"AQ474","v":138.26837884336618},null,31.077019048961631,123.24797008426299,"18f",null,"نقطه دوم از خط دوم",{"$f":"BA466","v":" وسط 22f"},{"$f":"AY466","v":25.300097870248578},{"$f":"AZ466","v":144.01722934696753},null,28.738738779125466,130.28265458797262,"16f",null,"نقطه دوم از خط دوم",{"$f":"BJ467","v":"وسط 18f"},{"$f":"BH467","v":23.29929512660258},{"$f":"BI467","v":148.81433446337388},null,{"$f":"AZ168","v":34.224910000000001},{"$f":"BA168","v":107.52706077625875},41,null,null,{"$f":"BK114-'متغیرها '!C56","v":34.69888779125467},{"$f":"BL114-'متغیرها '!C57","v":124.68987183345853},9,null,null,null,{"$f":"O139","v":0.26928779390827778},"β3",null,null,null,null,"(5 → 6)",{"$f":"G163+CL464*COS(CL462)*(1-0.5*'متغیرها '!C76+0.5*'متغیرها '!C78)","v":18.571070047454427},null,"پهنا یقه روی خط سرشانه",{"$f":"IF('متغیرها '!C282=1,CP461,IF('متغیرها '!C282=2,CO461,CN461))","v":12.382833121319305},null,{"$f":"IF('متغیرها '!C283=2,IF(Q460>H469,(M465-P460)+SQRT(POWER(P471-P464,2)+POWER(Q464-Q471,2)),(M486-P460)+SQRT(POWER(P476-M486,2)+POWER(N486-Q476,2))),IF(AZ477>AZ468,(BE465-AY477)+SQRT(POWER(AY488-AY481,2)+POWER(AZ481-AZ488,2)),(BE486-AY477)+(BE479-BE486)))","v":15.73579679562695},{"$f":"CN464","v":15.73579679562695},{"$f":"'متغیرها '!C293*G168","v":16.814676600000002},"نصف جلو کارور",null,null,{"$f":"SQRT(POWER(CS462-CS463,2)+POWER(CT462-CT463,2))","v":5.5087310923006525},"(25→30)",null,null,null,null,null,null,null,null,null,null,null,null,null,null,null,null,"افقی بالای جیب",{"$f":"DM477-0.5*SIN(RADIANS('متغیرها '!C198))*'متغیرها '!C197*(0.5*'متغیرها '!U84+0.06*H105)","v":26.477409417127337},null,null,{"$f":"DM466+DM462","v":32.461899151966861},{"$f":"DM467+DM463","v":91.9117870650296},"β5",null,"افقی بالای جیب",{"$f":"DU477-0.5*SIN(RADIANS('متغیرها '!C206))*IF('متغیرها '!C209=0,'متغیرها '!C205*(0.5*'متغیرها '!U84+0.06*H105),DU479)","v":33.902709686307468},null,null,{"$f":"DU466+DU462","v":39.547290313692535},{"$f":"DU467+DU463","v":91.686388447729257},"β5",null,"عمودی بالای جیب",{"$f":"EC477+'متغیرها '!C215*0.5*COS(RADIANS('متغیرها '!C216))*(0.5*'متغیرها '!U84+0.06*H105)","v":128.19},null,null,{"$f":"EC465+EC461","v":30.125},{"$f":"EC466+EC462","v":129.19},"β5",null,"افقی پایین جیب",{"$f":"2*EK468-EK462","v":22.75},null,null,{"$f":"EN480","v":22.75},{"$f":"EO480","v":128.19},"β3",null,"ضریب طول پاکت جادکمه یا عرض جیب مستطیل",{"$f":"'متغیرها '!C223","v":0},null,"افقی پایین جیب",{"$f":"2*EV468-EV462","v":14.918749999999999},null,null,{"$f":"EY482","v":14.918749999999999},{"$f":"EZ482","v":115.78},"β3",null,"ضریب طول پاکت جادکمه یا عرض جیب مستطیل",{"$f":"'متغیرها '!C231","v":0.25},null,"متغیر محاسبه ای محلی",null,null,null,{"$f":"FG469+FG467","v":13.589985},{"$f":"FG470+FG468","v":123.82937213221402},"β5",null,null,null,null,null,null,null,null,null,null,null,null,null,null,null,null,null,null,null,null,null,null,null,null,null,null,null,null,null,null,null,null,null,null,null,null,null,null,null,null,null,null,null,null,null,null,null,null,null,null,null,null,null,null,null,null,null,null,null,null,null,null,null,null,null,null,null,null,null,null,null,null,null,null,null,null,null,null,null,null,null,null,null,null,null,null,null,null,null,{"$f":"IE414","v":32.434334283798201},{"$f":"IF414","v":113.22409548010164},"c1",null,null,null,null,null,null,null,null,null,null,null,null,null,null,-59.41659851119568,112.10133982672218,"w20",null,null,null,null,null,null,null,null,null,null,null,null,null,null,null,null,null,null,null,null,null,null,null,null,null,null,null,null,null,{"$f":"KY326+KJ325","v":4.9563543323511023},{"$f":"KZ326","v":113.1},{"$f":"LA326","v":"c'44"},null,null,null,null,null,null,null,null,null,null,null,null,null,null,null,null,null,null,null,null,null,null,null,null,null,null,null,null,null,null,null,null,null,null,null,null,null,null,null,null,null,null,null,null,null,null,null,null,null,null,null,null,null,null,null,null,null,null,null,null,null,null,null,null,null,null,null,null,null,null,null,null,null,null,null,null,null,null,null,null,null,null,null,null,null,null,null,null,null,null,"g8",{"$f":"OK458-0.7*OL455*SIN(RADIANS(30)+ATAN((OK458-OK461)/(OL458-OL461+0.0001)))","v":28.74123513453765},{"$f":"OL458-0.7*OL455*COS(RADIANS(30)+ATAN((OK458-OK461)/(OL458-OL461+0.0001)))","v":12.40716473435346},{"$f":"OK463","v":29.068032576347743},{"$f":"OL463","v":12.486546825104117},{"$f":"OJ463","v":"g7"},null,null,null,null,null,null,null,null,null,null,null,null,null,null,null,null,"n45",{"$f":"PB102","v":-19.719262820512817},{"$f":"PC102","v":20.670588235294119},{"$f":"PG471","v":-19.554262820512818},{"$f":"PH471","v":20.920588235294119},{"$f":"PF471","v":"h10"},null,null,null,null,null,null,null,null,{"$f":"PR456","v":8.1055128205128177},{"$f":"PS456","v":21.517647058823528},{"$f":"PQ456","v":"h5"}]
[null,null,null,null,null,null,{"$f":"DX388","v":12},{"$f":"DY388","v":137.70593875647791},"26شبیه ساز",null,"نقطه اول از خط دوم","نقطه بالایی",{"$f":"IF(Q465>H462,G461,IF(Q465>H463,G462,IF(Q465>H464,G463,IF(Q465>H465,G464,IF(Q465>H466,G465,G466)))))","v":28.015598523388661},{"$f":"IF(Q465>H462,H461,IF(Q465>H463,H462,IF(Q465>H464,H463,IF(Q465>H465,H464,IF(Q465>H466,H465,H466)))))","v":136.31240807529744},null,null,{"$f":"Q468/COS(RADIANS(90)-Q466*(Q467-Q463)-Q469)","v":0.13997127597847386},"(g7→g10)",null,{"$f":"ER423","v":10},{"$f":"ES423","v":148.88971739300166},"24شبیه ساز",null,"نقطه اول از خط دوم","نقطه بالایی",{"$f":"IF(AD465>U462,T461,IF(AD465>U463,T462,IF(AD465>U464,T463,IF(AD465>U465,T464,IF(AD465>U466,T465,T466)))))","v":27.410816976328945},{"$f":"IF(AD465>U462,U461,IF(AD465>U463,U462,IF(AD465>U464,U463,IF(AD465>U465,U464,IF(AD465>U466,U465,U466)))))","v":141.94616218858346},null,null,{"$f":"AD468/COS(RADIANS(90)-AD466*(AD467-AD463)-AD469)","v":-1.7967685592220641E-3},"(g7→g10)",null,null,{"$f":"O140","v":0.43388999203906164},"β4",null,"نقطه دوم از خط دوم",{"$f":"AI469","v":"b12"},{"$f":"AG469","v":28.015598523388661},{"$f":"AH469","v":136.31240807529744},null,null,{"$f":"0.5*(P139+0.3*(P140-P139)+AE139+0.3*(AE140-AE139))","v":0.32009079810115021},"α2",null,"نقطه اول از خط دوم",{"$f":"AR468","v":"22f"},{"$f":"AP468","v":30.589339391603069},{"$f":"AQ468","v":142.26389773510849},null,null,{"$f":"CN463","v":4.4799999999999978},"جلو یقه روی خط مرکزی",null,"نقطه اول از خط دوم","نقطه بالایی",{"$f":"IF(AZ482>AZ461,AY460,IF(AZ482>AZ462,AY461,IF(AZ482>AZ463,AY462,IF(AZ482>AZ464,AY463,IF(AZ482>AZ465,AY464,AY465)))))","v":28.254637939974543},{"$f":"IF(AZ482>AZ461,AZ460,IF(AZ482>AZ462,AZ461,IF(AZ482>AZ463,AZ462,IF(AZ482>AZ464,AZ463,IF(AZ482>AZ465,AZ464,AZ465)))))","v":136.31214394785326},null,{"$f":"ER423","v":10},{"$f":"ES423","v":148.88971739300166},"24شبیه ساز",null,"نقطه اول از خط دوم","نقطه بالایی",{"$f":"IF(BI485>BI462,BH461,IF(BI485>BI463,BH462,IF(BI485>BI464,BH463,IF(BI485>BI465,BH464,IF(BI485>BI466,BH465,BH466)))))","v":28.588536647957071},{"$f":"IF(BI485>BI462,BI461,IF(BI485>BI463,BI462,IF(BI485>BI464,BI463,IF(BI485>BI465,BI464,IF(BI485>BI466,BI465,BI466)))))","v":147.06100285151484},null,{"$f":"BQ469+0.6*BR467","v":33.691800000000001},{"$f":"BR469","v":133.22593875647792},"g2",null,null,{"$f":"BV469+0.6*BW467","v":31.691799999999997},{"$f":"BW469","v":140.66920883300168},"g2",null,null,"به دست آوردن مختصات نقطه تقاطع دو خط با داشتن دونقطه از یک خط",null,null,null,null,null,null,"(1 → 12)",{"$f":"CL465+G166-(AA146-G163)*TAN(CL462)","v":9.835371913413951},null,null,null,null,null,"اسم نقطه ","مولفه افقی","مولفه عمودی",null,"برش سرشانه در پیراهن مردانه",null,null,null,null,null,null,null,null,null,null,null,{"$f":"DF462","v":12.586773521210604},{"$f":"DG462","v":49.570346525040144},"sq2",null,null,null,null,"(وسط جیب→β16)",{"$f":"'متغیرها '!C197*(0.5*'متغیرها '!U84+0.18*'متغیرها '!U83)*COS(0.5*(RADIANS(90)-RADIANS('متغیرها '!C198)))","v":16.014422465849787},null,null,{"$f":"DM466-DM462","v":30.582513910395043},{"$f":"DM467-DM463","v":91.227746778378261},"β3",null,"(وسط جیب→β16)",{"$f":"'متغیرها '!C205*(0.5*'متغیرها '!U84+(0.18-'متغیرها '!C208*0.08)*'متغیرها '!U83)*COS((0.5*'متغیرها '!C208+0.5)*(RADIANS(90)-RADIANS('متغیرها '!C206)))","v":16.255230920514759},null,null,{"$f":"DU466-DU462","v":39.547290313692535},{"$f":"DU467-DU463","v":91.686388447729257},"β3",null,"(β9→β15)",{"$f":"SQRT(POWER(EF487-EF489,2)+POWER(EG487-EG489,2))","v":15.602984490154439},null,null,{"$f":"EC465-EC461","v":30.125},{"$f":"EC466-EC462","v":127.19},"β3",null,null,null,null,null,{"$f":"EN481-EK472*COS(RADIANS(ES465))","v":22.75},{"$f":"EO481-EK472*SIN(RADIANS(ES465))","v":128.19},"β''3",null,"h",{"$f":"'متغیرها '!U59","v":45.7},null,null,null,null,null,{"$f":"EV464+EV460","v":14.918749999999999},{"$f":"EV465+EV461","v":117.78},"β5",null,"h",45.7,null,"عمودی پایین جادکمه",{"$f":"FG462-'متغیرها '!B239","v":123.82937213221402},null,null,{"$f":"FG469-FG467","v":10.410015},{"$f":"FG470-FG468","v":123.82937213221402},"β3",null,null,null,null,null,null,null,null,null,null,null,null,null,null,null,null,null,null,null,null,null,null,null,null,null,null,null,null,null,null,null,null,null,null,null,null,null,null,null,null,null,null,null,null,null,null,null,null,null,null,null,null,null,null,null,null,null,null,null,null,null,null,null,null,null,null,null,null,null,null,null,null,null,null,null,null,null,null,null,null,null,null,null,null,null,null,null,null,null,{"$f":"IE416","v":34.031626856759644},{"$f":"IF416","v":97.224095480101624},"c3",null,null,null,null,null,null,null,null,null,null,null,null,null,null,{"$f":"JK399","v":-23.419850782720484},137.37908231964721,"w22",null,null,null,null,null,null,null,null,null,null,null,null,null,null,null,null,null,null,null,null,null,null,null,null,null,null,null,null,null,{"$f":"KY325+KJ325","v":4.9563543323511023},{"$f":"KZ325","v":55.7},{"$f":"LA325","v":"c'43"},null,null,null,null,null,null,null,null,null,null,null,null,null,null,null,null,null,null,null,null,null,null,null,null,null,null,null,null,null,null,null,null,null,null,null,null,null,null,null,null,null,null,null,null,null,null,null,null,null,null,null,null,null,null,null,null,null,null,null,null,null,null,null,null,null,null,null,null,null,null,null,null,null,null,null,null,null,null,null,"g11",{"$f":"NZ474+0.8*(NZ472-NZ474)","v":23.315615384615391},{"$f":"OA472+0.6*(OA474-OA472)","v":18.629600000000003},{"$f":"NZ471","v":22.822115384615394},{"$f":"OA471","v":18.800000000000004},{"$f":"NY471","v":"g2"},null,null,null,null,null,null,null,null,{"$f":"OK480","v":22.573397435897437},{"$f":"OL480","v":12.873529411764709},{"$f":"OJ480","v":"h10"},null,null,null,null,null,"g11",{"$f":"OV474+0.8*(OV472-OV474)","v":26.411769230769231},{"$f":"OW472+0.6*(OW474-OW472)","v":12.503247058823533},{"$f":"OV471","v":25.918269230769234},{"$f":"OW471","v":12.623529411764709},{"$f":"OU471","v":"g2"},null,null,null,null,null,"h9",{"$f":"PG468+0.5*PG459","v":-18.204262820512817},{"$f":"PH464","v":20.670588235294119},{"$f":"PG473","v":-18.204262820512817},{"$f":"PH473","v":20.420588235294119},{"$f":"PF473","v":"h12"},null,null,null,null,null,"n'1",{"$f":"PM60","v":-25},{"$f":"PN60-2*PN35","v":4.1529411764705886},{"$f":"PR476","v":-10.277243589743591},{"$f":"PS476","v":4.4029411764705886},{"$f":"PQ476","v":"h10"}]
[null,null,null,null,null,null,null,null,null,null,null,null,null,null,null,null,null,null,null,null,null,null,null,null,null,null,null,null,null,null,"نقاط  ورودی از جلو",null,null,null,null,null," حلقه آستین بدون ساسون سرشانه",null,null,null," حلقه آستین پیراهن با ساسون سرشانه",null,null,null," حلقه آستین با ساسون و اپل و کنترل گودی",null,null,null," حلقه آستین با ساسون عصایی",null,null,null," شبیه ساز حلقه آستین بدون ساسون سرشانه",null,null,null," شبیه ساز حلقه آستین پیراهن با ساسون سرشانه",null,null,null,null,"متغیرهای خروجی آستین ",null,"شبیه ساز",null,"رسم آستین بلند یا کوتاه",null,null,null,null,null,"نقاط آستین ساده",null,null,null,{"$f":"AH522-AI522","v":1.8760006050270235},null,null,null,"نقاط  خروجی مچ",null,"جادکمه آستین بلند",null,null,"هلال پایین آستین بلند یا کوتاه",null,null,null,null,null,null,null,null,null,null,"آستین کتی با آستر",null,null,null,null,null,null,null,null,null,null,null,"نقاط  ورودی رگلان بدون درز  و  با درز",null,null,null,null,null,null,"متغیرهای خروجی آستین رگلان",null,null,"متغیرهای خروجی آستین رگلان با درز ",null,null,"متغیرهای محاسبه ای آستین رگلان با درز",null,null,null,"رسم الگو آستین رگلان با درز",null,null,null,"رسم الگو آستین رگلان بدون درز",null,null,null,"آستین لاله ای",null,null,null,null,null,null,null,null,null,null,null,null,null,null,null,null,null,null,null,null,null,null,null,null,null,null,null,null,null,null,null,null,null,null,null,null,null,null,null,null,null,null,null,null,null,null,null,null,null,null,null,null,null,null,null,null,null,null,null,null,null,null,null,null,null,null,null,null,null,null,null,null,null,null,null,null,null,null,null,null,null,null,null,null,null,null,null,null,null,null,null,null,null,null,null,null,null,null,null,null,null,null,null,null,null,null,null,null,null,null,null,null,null,null,null,null,null,null,null,null,null,null,null,null,null,null,null,null,null,{"$f":"JG355","v":21.881257298872189},{"$f":"JH355","v":52.7},{"$f":"JI355","v":"c50"},null,null,null,null,null,null,null,null,null,null,null,null,null,null,null,null,null,null,null,null,null,null,null,null,null,null,null,null,null,null,null,null,null,null,null,null,null,null,null,null,null,null,null,null,null,null,null,null,null,null,null,null,null,null,null,null,null,null,null,null,null,null,null,null,null,null,null,null,null,null,null,null,null,null,null,null,null,null,null,null,null,null,null,null,null,null,null,null,null,null,null,null,null,null,null,null,null,null,null,null,null,null,null,null,null,null,null,null,null,null,null,null,null,null,null,null,null,null,null,null,null,null,null,"g8",{"$f":"NZ492-0.7*OA489*SIN(RADIANS(30)-ATAN((NZ492-NZ495)/(OA492-OA495+0.0001)))","v":-25.686615777801588},{"$f":"OA492-0.7*OA489*COS(RADIANS(30)-ATAN((NZ492-NZ495)/(OA492-OA495+0.0001)))","v":19.067704056986948},{"$f":"NZ497","v":-25.256620298030192},{"$f":"OA497","v":19.143623219444457},{"$f":"NY497","v":"g7"},null,null,null,null,null,"g8",{"$f":"OK492-0.7*OL489*SIN(RADIANS(30)-ATAN((OK492-OK495)/(OL492-OL495+0.0001)))","v":17.456158211460732},{"$f":"OL492-0.7*OL489*COS(RADIANS(30)-ATAN((OK492-OK495)/(OL492-OL495+0.0001)))","v":12.830694146118166},{"$f":"OK497","v":17.782955653270825},{"$f":"OL497","v":12.910076236868823},{"$f":"OJ497","v":"g7"},null,null,null,null,null,null,null,null,null,null,null,null,null,null,null,null,"f3",{"$f":"PG497","v":-13.773668929110102},{"$f":"PH496+PG493*PG494","v":21.221176470588237},{"$f":"PG497","v":-13.773668929110102},{"$f":"PH497","v":20.96705882352941},{"$f":"PF497","v":"f2"}]
[null,null,null,null,null,"m'11",{"$f":"G500+BK508","v":23.909799919747158},null,"k11",{"$f":"J510-G520*COS(2*RADIANS('متغیرها '!C582))","v":28.365772425177497},{"$f":"K510+G520*SIN(2*RADIANS('متغیرها '!C582))","v":44.747970738366831},null,{"$f":"J510","v":35.103527594920699},{"$f":"K510","v":42.295628410807083},"m9",null,{"$f":"BN502","v":51.672533995340423},{"$f":"BO502","v":48.911214896875556},3,null,"en''15n''13",{"$f":"ATAN((R520-R521)/(Q520-Q521))","v":0.97814698747364193},null,null,"e7, 9",{"$f":"ATAN((R537-R536)/(Q536-Q537))","v":1.1566261063733321},null,"e7, 9",{"$f":"ATAN((BO505-BO504)/(BN504-BN505))","v":0.98209318117389932},null,{"$f":"BK122-'متغیرها '!C56","v":33.014237791254672},{"$f":"BL122-'متغیرها '!C57","v":124.68987183345853},8,null,null,null,"متغیر های محاسبه ای برای رسم آستین ",null,null,null,"متغیر های محاسبه ای برای رسم آستین ",null,null,null,"متغیر های محاسبه ای برای رسم آستین ",null,null,null,{"$f":"EA170-DX161","v":34.69888779125467},{"$f":"EB170-DX162","v":124.68987183345853},9,"نقطه انتهایی\n زیر حلقه","متغیر های محاسبه ای برای رسم شبیه ساز آستین",null,null,null,"متغیر های محاسبه ای برای رسم شبیه ساز آستین ",null,null,null,null,"(3 → 18)",{"$f":"AH520-BK500","v":34.863884600367449},{"$f":"AI520-BL500","v":30.611755260091051},null,{"$f":"BK499-BX498+'متغیرها '!C532","v":53.357183995340421},{"$f":"BK517+'متغیرها '!C533","v":48.911214896875556},1,null,{"$f":"BK499-BK500-BK507-BX498+'متغیرها '!C532","v":33.747110775276965},{"$f":"BK517+'متغیرها '!C533","v":48.911214896875556},10,null,{"$f":"BV513","v":46.600388293670441},{"$f":"BW513","v":31},25,null,"رسم مچ آستین",null,null,null,"(b1 →b2)",{"$f":"CE514*TAN(CE512)","v":2.0519482197025884},null,{"$f":"BK499-BK500-CE515-BX498-CE508-CE503+'متغیرها '!C532","v":25.894344654916132},{"$f":"BK517-CE514-CE510+CE502+'متغیرها '!C533","v":42.850000000000009},"c9",null,"(a17 →a14)",{"$f":"CL510","v":6.722006863157139},null,{"$f":"CV506","v":27.446562551678213},{"$f":"CW506","v":34.696788286789371},"a26",null,{"$f":"BN505+CK554","v":40.91728006330235},{"$f":"BO505","v":61.524411256965919},9,null,"(a13→a23)",{"$f":"SQRT(POWER(CV503-CV502,2)+POWER(CW503-CW502,2))","v":2.6250000000000004},null,null,{"$f":"CR532","v":6.4780431943410139},54.381998860288242,"7''",null,{"$f":"IF('متغیرها '!C511=3,BK114-DE524,CE138)","v":34.83055206269659},{"$f":"IF('متغیرها '!C511=3,BL114-DE525,CF138)","v":125.93849021864635},9,"نقطه انتهایی\n زیر حلقه","b14",null,null,"(16 →17)",{"$f":"DL505+0.2*(DL511-DL505)","v":17.341486889392936},null,"(r19 →r23)",{"$f":"DR517*BL520-(DE552-1)*0.5*H132*(1-DE560)","v":3.1513143410318669},null,"(39→ 41)",{"$f":"DE534","v":2.5408946454769876},null,null,{"$f":"DU561","v":34.237920277683806},{"$f":"DV561","v":35.050000000000004},"چپ z2",null,null,null,null,null,null,{"$f":"'متغیرها '!C569","v":0.7},"q21",null,{"$f":"IF(ED530>(ED533+ED534),EO513,EO516)","v":-13.7996428752028},{"$f":"IF(ED530>(ED533+ED534),EP513,EP516)","v":47.684818185378404},"q46 یا q15",null,{"$f":"EC510-EL501","v":-23.109185205394468},48.911214896875556,2,null,{"$f":"EK505+SQRT(POWER(EK515-EK505,2)+POWER(EL515-EL505,2))*SIN(EL502-ATAN((EK505-EK515)/(EL515-EL505+0.0001)))","v":-18.856965878011515},{"$f":"EL505+SQRT(POWER(EK515-EK505,2)+POWER(EL515-EL505,2))*COS(EL502-ATAN((EK505-EK515)/(EL515-EL505+0.0001)))","v":31.387790465503805},"q1",null,null,null,null,null,null,null,null,null,null,null,null,null,null,null,null,null,null,null,null,null,null,null,null,null,null,null,null,null,null,null,null,null,null,null,null,null,null,null,null,null,null,null,null,null,null,null,null,null,null,null,null,null,null,null,null,null,null,null,null,null,null,null,null,null,null,null,null,null,null,null,null,null,null,null,null,null,null,null,null,null,null,null,null,null,null,null,null,null,null,null,null,null,null,null,null,null,null,null,null,null,null,null,null,null,null,null,null,null,null,null,null,null,null,null,null,null,null,null,null,null,null,null,null,null,null,null,null,null,null,null,null,null,null,null,null,null,null,null,null,null,null,null,null,null,null,null,null,null,null,null,null,null,null,null,null,null,null,null,{"$f":"KY346","v":21.440474999999999},{"$f":"KZ346","v":55.7},{"$f":"LA346","v":"c48"},null,null,null,null,null,null,null,null,null,null,null,null,null,null,null,null,null,null,null,null,null,null,null,null,null,null,null,null,null,null,null,null,null,null,null,null,null,null,null,null,null,null,null,null,null,null,null,null,null,null,null,null,null,null,null,null,null,null,null,null,null,null,null,null,null,null,null,null,null,null,null,null,null,null,null,null,null,null,null,"h11",{"$f":"NZ512","v":-17.312019230769231},{"$f":"OA512-0.5*NZ503","v":19.150000000000006},null,null,null,null,null,null,null,null,"g2",{"$f":"OK513","v":28.397435897435898},{"$f":"OL513+OK510","v":13.470588235294121},null,null,null,null,null,null,null,null,"بزرگی فلش",{"$f":"OR51","v":0.25411764705882356},"f4",{"$f":"OV517","v":19.815705128205131},{"$f":"OW517","v":13.047058823529415},{"$f":"OU517","v":"m56"},null,null,null,null,null,"طول باکس نوشته",{"$f":"0.3*PC37","v":1.3499999999999999},"h3",{"$f":"PG525","v":27.322852564102561},{"$f":"PH525","v":21.094117647058823},{"$f":"PF525","v":"h8"}]
[null,null,null,null,null,"m'13",{"$f":"G528+BK510","v":30.652796126428768},null,"n''13",{"$f":"J523-G533*SIN(4*RADIANS('متغیرها '!C586))","v":17.096641040874214},{"$f":"K523+G533*COS(4*RADIANS('متغیرها '!C586))","v":55.971105545212247},null,null,null,null,null,"محاسبات کاپ آستین کلوش",null,null,null,"محاسبات کاپ آستین کلوش",null,null,null,null,"رسم خطوط کاپ در آستین ساده",null,null,null,null,null,null,"β1",{"$f":"ATAN(BK520/BK516)","v":0.14696786647555143},{"$f":"ATAN(BL520/BL516)","v":0.14199569952305607},null,null,"طول حلقه پشت تا نقطه 12f",{"$f":"SQRT(POWER(AK511-AK510,2)+POWER(AL510-AL511,2))+SQRT(POWER(AK512-AK511,2)+POWER(AL511-AL512,2))+SQRT(POWER(AK513-AK512,2)+POWER(AL512-AL513,2))","v":12.9490375983926},null,null,"طول حلقه پشت تا نقطه 18",{"$f":"SQRT(POWER(AO511-AO510,2)+POWER(AP510-AP511,2))+SQRT(POWER(AO512-AO511,2)+POWER(AP511-AP512,2))+SQRT(POWER(AO513-AO512,2)+POWER(AP512-AP513,2))","v":13.8341768969537},null,null,"طول حلقه پشت تا نقطه b6",{"$f":"SQRT(POWER(AS511-AS510,2)+POWER(AT510-AT511,2))+SQRT(POWER(AS512-AS511,2)+POWER(AT511-AT512,2))+SQRT(POWER(AS513-AS512,2)+POWER(AT512-AT513,2))","v":13.639812988832976},null,null,"طول حلقه جلو تا نقطه 20",{"$f":"SQRT(POWER(AW506-AW505,2)+POWER(AX505-AX506,2))+SQRT(POWER(AW507-AW506,2)+POWER(AX506-AX507,2))","v":6.5044306583493459},null,null,null,null,null,null,null,null,null,null,null,null,null,null,{"$f":"BN531","v":18.457476296865501},{"$f":"BO531","v":35.174012570086319},"26 یا z2",null,{"$f":"BK499-BK500-BK524-BX498+'متغیرها '!C532","v":45.024091695156699},{"$f":"0+'متغیرها '!C533","v":4},27,null,{"$f":"BV528","v":21.380666966420605},{"$f":"BW528","v":31},26,null,null,null,{"$f":"IF(BZ535=1,IF(CG539<CG532,IF(CG541<CG532,CF541,CF532),CF539),CF539)","v":45.46557756026921},{"$f":"IF(CG539<CG532,IF(CG541<CG532,CG541,CG532),CG539)","v":4},"z14 یا 28' یا z12",null,{"$f":"CF531","v":22.612844441729255},{"$f":"CG532","v":4},"30'",null,null,"(a'22→a22)",{"$f":"CL531-CL529*COS(CL503+RADIANS('متغیرها '!C575))","v":2.1351349745325243},null,null,"نقطه","مولفه افقی","مولفه عمودی",{"$f":"BR537-CL522-0.03*BK515","v":10.278063025651484},{"$f":"BS537+CL523","v":50.005371689558096},"5'",null,{"$f":"CV503+CW515*COS(CW520)","v":31.171457933788609},{"$f":"CW503+CW515*SIN(CW520)","v":35.130392051231446},"a''13",null,{"$f":"CV538+CK554","v":27.998880490559245},{"$f":"CW538","v":46.932747696862762},{"$f":"CX538","v":"a''11"},null,"γ4",{"$f":"RADIANS(180)-DE532-DE519","v":1.4975753778465184},{"$f":"DEGREES(DE533)","v":85.804748653315073},null,null,null,null,null,null,null,null,"به دست آوردن z1 در کوتاهی آستین رگلان بدون درز",null,"جلو",null,null,null,{"$f":"DU549","v":39.808497115730944},{"$f":"DV549","v":35.050000000000004},"راست z2",null,null,null,null,null,null,{"$f":"SQRT(POWER((EC506-EC507),2)+POWER((ED506-ED507),2))","v":7.128977583329716},"q32",null,null,null,null,null,null,null,null,null,null,null,null,null,{"$f":"EC546","v":42.51613477579793},{"$f":"ED546","v":59.129765578885497},"q24",null,null,null,null,null,null,null,null,null,null,null,null,null,null,null,null,null,null,null,null,null,null,null,null,null,null,null,null,null,null,null,null,null,null,null,null,null,null,null,null,null,null,null,null,null,null,null,null,null,null,null,null,null,null,null,null,null,null,null,null,null,null,null,null,null,null,null,null,null,null,null,null,null,null,null,null,null,null,null,null,null,null,null,null,null,null,null,null,null,null,null,null,null,null,null,null,null,null,null,null,null,null,null,null,null,null,null,null,null,null,null,null,null,null,null,null,null,null,null,null,null,null,null,null,null,null,null,null,null,null,null,null,null,null,null,null,null,null,null,null,null,null,null,null,null,null,null,null,null,null,null,null,null,null,null,{"$f":"KY352","v":28.013996474250199},{"$f":"KZ352","v":113.05},{"$f":"LA352","v":"c52"},null,null,null,null,null,null,null,null,null,null,null,null,null,null,null,null,null,null,null,null,null,null,null,null,null,null,null,null,null,null,null,null,null,null,null,null,null,null,null,null,null,null,null,null,null,null,null,null,null,null,null,null,null,null,null,null,null,null,null,null,null,null,null,null,null,null,null,null,null,null,null,null,null,null,null,null,null,null,null,null,null,null,null,null,null,null,null,null,null,null,"زاویه فلش دانه",{"$f":"OG46","v":0.75},"f11",{"$f":"OK536","v":28.016025641025642},{"$f":"OL536","v":13.470588235294121},{"$f":"OJ536","v":"m59"}]
[null,null,null,null,null,null,null,null,null,null,null,null,null,null,null,null,null,null,null,null,null,null,null,null,null,null,null,null,null,null,null,null,null,null,null,null,null,null,null,null,null,null,null,null,null,null,null,null,null,null,null,null,null,null,null,null,null,null,null,null,null,null,null,null,null,null,null,null,null,null,null,null,null,null,null,null,null,null,null,null,null,null,null,null,null,null,null,null,{"$f":"BR537-CL524+CL518-0.03*BK515","v":8.9376144417954109},{"$f":"BK517-CL507-CL509+CL512+'متغیرها '!C533","v":5.6999954216865891},"a'8",null,null,null,"به دست آوردن z4 در کوتاهی آستین کتی",null,null,null,null,null,null,null,null,null,null,null,null,"شیفت افقی نقطه 11",{"$f":"DE540+DE544-SQRT(POWER(DI538-DY499,2)+POWER(DZ499-DJ538,2))-SQRT(POWER(DI539-DI538,2)+POWER(DJ538-DJ539,2))-SQRT(POWER(DY542-DI539,2)+POWER(DJ539-DZ542,2))","v":-2.1291734152850239E-2},null,null,null,null,null,null,null,null,null,null,null,{"$f":"BV506+DO525","v":34.543156954432149},{"$f":"DR546","v":4},"35'",null,null,null,null,null,{"$f":"-DL509+DE528+'متغیرها '!C532","v":10.623999394972973},{"$f":"DL499-DL506-DL508+'متغیرها '!C533","v":51.18596281856653},13,null,{"$f":"EC549-0.5*(EC549-EC551)","v":36.114499661627448},{"$f":"ED549+0.5*(ED551-ED549)","v":48.125897133321502},"q40",null,null,null,null,null,null,null,null,null,null,null,null,null,null,null,null,null,null,null,null,null,null,null,null,null,null,null,null,null,null,null,null,null,null,null,null,null,null,null,null,null,null,null,null,null,null,null,null,null,null,null,null,null,null,null,null,null,null,null,null,null,null,null,null,null,null,null,null,null,null,null,null,null,null,null,null,null,null,null,null,null,null,null,null,null,null,null,null,null,null,null,null,null,null,null,null,null,null,null,null,null,null,null,null,null,null,null,null,null,null,null,null,null,null,null,null,null,null,null,null,null,null,null,null,null,null,null,null,null,null,null,null,null,null,null,null,null,null,null,null,null,null,null,null,null,null,null,null,null,null,null,null,null,null,null,null,null,null,null,null,null,null,null,null,null,null,null,null,null,null,null,null,null,null,null,null,null,null,null,null,null,null,null,null,null,null,null,null,null,null,null,null,null,null,null,null,null,null,null,null,null,null,null,null,null,null,null,null,null,null,null,null,null,null,null,null,null,null,null,null,null,null,null,null,null,null,null,null,null,null,null,null,null,null,null,null,null,null,null,null,null,null,null,null,null,null,null,null,null,null,null,null,null,"g4",{"$f":"NZ547-NZ545*NZ543/40","v":-25.524999999999999},{"$f":"OA547+0.5*NZ544","v":20.300000000000008},{"$f":"NZ554","v":-25.686615777801588},{"$f":"OA554","v":20.26770405698695},{"$f":"NY554","v":"g8"},null,null,null,null,null,null,null,null,null,null,null,null,null,null,null,null,"f7",{"$f":"OV548+OV548-OV549","v":25.695682503770744},{"$f":"OW549","v":13.682352941176473},{"$f":"OV548","v":25.536858974358978},{"$f":"OW548","v":13.470588235294121},{"$f":"OU548","v":"m59"},null,null,null,null,null,"h12",{"$f":"PG547","v":7.6492948717948721},{"$f":"PH549","v":21.267647058823528},{"$f":"PG547","v":7.6492948717948721},{"$f":"PH547","v":21.517647058823528},{"$f":"PF547","v":"h9"}]
[null,null,null,null,null,"t2",{"$f":"'متغیرها '!C593","v":1.8000000000000007},null,null,"t34",{"$f":"'متغیرها '!C656","v":0},null,null,"s2",{"$f":"G571*G568*L591/(G571+1)","v":21.34472727272728},{"$f":"H571*1*K591/(H571+1)","v":12.872727272727271},null,"s33",{"$f":"1.5*L592*G584","v":26.25},null,{"$f":"U567+P567","v":20.727272727272727},2,{"$f":"W567+O567","v":32.787272727272736},{"$f":"X567","v":45.7},{"$f":"Y567","v":0},null,42,{"$f":"W578+S573","v":14.453280549312971},{"$f":"X578","v":83},null,{"$f":"AE567+P568","v":22.872727272727271},"p2",{"$f":"AG567+O568","v":31.34472727272728},{"$f":"AH567","v":45.7},{"$f":"AI567","v":0},null,"p37",{"$f":"AG616+0.5*K582*G591*SIN(O572-O581-RADIANS(G592)+RADIANS(G589))","v":20.637560899671588},{"$f":"AH616-0.5*K582*G591*COS(O572-O581-RADIANS(G592)+RADIANS(G589))","v":74.964277479573227},null,1,{"$f":"RADIANS(1)+O581","v":0.12694960615075759},{"$f":"AG574-O576*SIN(AP568)","v":5.2490361468442792},{"$f":"AH574+O576*COS(AP568)","v":82.922753453509301},{"$f":"AG573+O575*SIN(O573+(AP568-O581)*G579)","v":35.932772911790963},{"$f":"AH573+O575*COS(O573+(AP568-O581)*G579)","v":73.589175219224401},{"$f":"AQ568+0.5*L582*COS(AP568-O581)","v":28.732958886830016},{"$f":"AR568+0.5*L582*SIN(AP568-O581)","v":83.332666849704992},{"$f":"SQRT(POWER((AS568-AU568),2)+POWER((AT568-AV568),2))","v":12.114988697777216},null,"(β3→β4)",{"$f":"0.5*'متغیرها '!C692*SIN(RADIANS('متغیرها '!C694)+RADIANS('متغیرها '!C695))","v":1},{"$f":"0.5*'متغیرها '!C692*SIN(RADIANS('متغیرها '!C694))","v":1},"(41→β8)","(β3→β4)",{"$f":"0.5*'متغیرها '!C683*SIN(RADIANS('متغیرها '!C685)+RADIANS('متغیرها '!C686))","v":1},{"$f":"0.5*'متغیرها '!C683*SIN(RADIANS('متغیرها '!C685))","v":1},null,{"$f":"AE567","v":10},{"$f":"AI567","v":0},{"$f":"AF567","v":"p1"},null,{"$f":"U567","v":10},{"$f":"Y567","v":0},{"$f":"V567","v":1},null,{"$f":"W584","v":23.311886363636368},{"$f":"X584","v":94.9},{"$f":"V584","v":16},null,31.084994044858394,99.995438581689868,{"$f":"V601","v":24},null,{"$f":"W606","v":11.408341931526596},{"$f":"X606","v":78.38891267467676},{"$f":"V606","v":29},null,{"$f":"AB569","v":15.019351269038205},{"$f":"AC569","v":94.966807936310957},{"$f":"AA569","v":43},null,{"$f":"AG587","v":1.2762416413928794},{"$f":"AH587","v":94.354654231557404},{"$f":"AF587","v":"p20"},null,{"$f":"AG599","v":21.200910019117767},{"$f":"AH599","v":102.18035357720711},{"$f":"AF599","v":"p22"},null,{"$f":"AZ571-BA568","v":21.413021291769496},{"$f":"AZ572+BA567","v":83},"β7",null,{"$f":"AG605","v":13.169199426113815},{"$f":"AH605","v":88.604390147932918},{"$f":"AF605","v":"p26"},null,{"$f":"AG568","v":31.34472727272728},{"$f":"AH568","v":45.7},"p2",null,null,{"$f":"AZ166","v":21.193757298872189},{"$f":"BA166","v":106.9},39,null,{"$f":"CZ569","v":21.881257298872189},{"$f":"DE583","v":52.7},"52r",null,9.886285911602215,88.132999999999996,{"$f":"DF577","v":"14r"},null,30.630875227894151,52.7,{"$f":"DF573","v":"7r"},null,{"$f":"DH612","v":7.8186754760218982},93.419889213740618,{"$f":"DJ612","v":"p12r"},null,{"$f":"DX401","v":20.990009999999998},{"$f":"DY401","v":106.9},39,null,{"$f":"DX567-DT582+DT581","v":28.567664123348372},{"$f":"DY576","v":52.7},"7r",null,null,null,null,null,{"$f":"DX571","v":11.242189006750241},98.45,{"$f":"DZ571","v":"12r"},null,null,null,null,null,null,null,null,null,null,null,null,null,null,null,null,null,null,null,null,null,null,null,null,null,null,null,null,null,null,null,null,null,null,null,null,null,null,null,null,null,null,null,null,null,null,null,null,null,null,null,null,null,null,null,null,null,null,null,null,null,null,null,null,null,null,null,null,null,null,null,null,null,null,null,null,null,null,null,null,null,null,null,null,null,null,null,null,null,null,null,null,null,null,null,null,null,null,null,null,null,null,null,null,null,null,null,null,null,null,null,null,null,null,null,null,null,null,null,null,null,null,null,null,null,null,null,null,null,null,null,null,null,null,null,null,null,null,null,null,null,null,null,null,null,null,null,null,null,null,null,null,null,null,null,null,null,null,null,null,null,null,null,null,null,null,null,null,null,null,null,null,null,null,null,null,null,null,null,null,null,null,null,null,null,null,null,null,null,null,null,null,null,null,null,null,null,null,null,null,null,null,null,null,null,null,null,null,null,null,null,null,null,null,null,null,null,null,null,null,null,null,null,null,null,null,null,null,null,null,null,null,null,null,null,null,null,null,null,null,null,null,null,null,null,null,null,null,null,null,"نقطه شروع انحنا","مولفه افقی","مولفه عمودی",{"$f":"NZ572","v":23.347115384615392},{"$f":"OA572","v":20.900000000000009},{"$f":"NY572","v":"g4"},null,null,null,null,null,null,null,null,{"$f":"OK578","v":-13.469871794871798},{"$f":"OL578","v":14.144117647058827},{"$f":"OJ578","v":"h10"},null,null,null,null,null,"g11",{"$f":"OV572+0.8*(OV570-OV572)","v":-22.632923076923078},{"$f":"OW570+0.6*(OW572-OW570)","v":13.773835294117651},{"$f":"OV569","v":-22.13942307692308},{"$f":"OW569","v":13.894117647058827},{"$f":"OU569","v":"g2"},null,null,null,null,null,"h13",{"$f":"PG564","v":-7.9703525641025639},{"$f":"PH565","v":4.4029411764705886},{"$f":"PG562","v":-10.220352564102564},{"$f":"PH562","v":4.1529411764705886},{"$f":"PF562","v":"h5"}]
[null,null,null,null,null,"t19",{"$f":"'متغیرها '!C642","v":0.5},null,null,{"$f":"'متغیرها '!T58","v":"g"},100.1,{"$f":"K585+G606*K585","v":100.1},null,"s19",{"$f":"(L582-L580)/8","v":1.44625},{"$f":"(K582-K580)/8","v":1.5625},null,"s50",{"$f":"AC600-AC601","v":49.2},null,{"$f":"U580-(Y585-Y580)*(U582-U580)/(Y580-Y582)-(4-2*H609-2*H610)*P583","v":22.740825370386609},"15a",{"$f":"W580-(X585-X580)*(W582-W580)/(X580-X582)-(4-2*G609-2*G610)*O583","v":30.35667227523858},{"$f":"X576","v":99.9},{"$f":"Y576","v":99.9},null,59,{"$f":"W611+S573","v":23.457816498963119},{"$f":"X611","v":90.479419828967352},null,{"$f":"AE581","v":19.856311418948309},"p15c",{"$f":"AG581+G573*SIN(O572-O581)","v":24.127429732557655},{"$f":"AH581-G573*COS(O572-O581)","v":96.756410880791407},{"$f":"AI581","v":101.7506791303512},null,"p53",{"$f":"AG568","v":31.34472727272728},{"$f":"AM583","v":45.7},null,null,"شبیه ساز محاسبه s6 به روش تخمین",null,null,null,null,null,null,"شبیه ساز",null,null,null,null,"پروسیجر یافتن راس سوم مثلث با داشتن دو راس و دو ضلع",null,null,null,null,{"$f":"AE584","v":24.256820925936196},{"$f":"AI584","v":78.175586660794863},{"$f":"AF584","v":"p14"},null,{"$f":"U582","v":24.428636363636368},{"$f":"Y582","v":81.08},{"$f":"V582","v":14},null,{"$f":"W579","v":36.887886363636369},{"$f":"X579","v":73.665000000000006},{"$f":"V579","v":11},null,{"$f":"W579","v":36.887886363636369},{"$f":"X579","v":73.665000000000006},{"$f":"V579","v":11},null,{"$f":"BD569+BD567","v":14.605636363636368},{"$f":"BD570+BD568","v":84},"β11",null,{"$f":"AB571","v":5.6763334564746728},{"$f":"AC571","v":45.7},{"$f":"AA571","v":45},null,null,null,"خط اتو",null,{"$f":"AG607","v":1.0502090390408156},{"$f":"AH607","v":88.360845043465275},{"$f":"AF607","v":"p27"},null,{"$f":"AZ569-AZ567","v":7.6630212917694962},{"$f":"AZ570-AZ568","v":82},"β9",null,{"$f":"AG608","v":24.21575869975651},{"$f":"AH608","v":90.76543031270613},{"$f":"AF608","v":"p28"},null,{"$f":"AL596","v":11.814219616637336},{"$f":"AM596","v":91.386877773395327},"p82",null,null,{"$f":"W609","v":10.999745829204807},{"$f":"X609","v":87.522501923533966},32,null,{"$f":"CZ571-CZ595+CZ583","v":24.215234836197741},{"$f":"DA571-DA583+DA595","v":107.44641888168633},"31r",null,{"$f":"CZ570","v":22.873757298872189},{"$f":"DA570","v":106.9},"40b",null,null,null,null,null,{"$f":"DD615","v":21.440474999999999},{"$f":"DE615","v":94.710000000000008},"38'b",null,{"$f":"U573","v":24.022727272727273},{"$f":"Y573","v":45.7},6,null,{"$f":"DX584-(DT603-DT601)+(DU601-DU603)*TAN(DU607-DU608)","v":28.46106633228441},{"$f":"DY584-(DU601-DU603)","v":10.762621765340739},"p1 r",null,null,null,null,null,25.272209577893825,16.14,{"$f":"DZ569","v":"5r"},null,null,null,null,null,null,null,null,null,null,null,null,null,null,null,null,null,null,null,null,null,null,null,null,null,null,null,null,null,null,null,null,null,null,null,null,null,null,null,null,null,null,null,null,null,null,null,null,null,null,null,null,null,null,null,null,null,null,null,null,null,null,null,null,null,null,null,null,null,null,null,null,null,null,null,null,null,null,null,null,null,null,null,null,null,null,null,null,null,null,null,null,null,null,null,null,null,null,null,null,null,null,null,null,null,null,null,null,null,null,null,null,null,null,null,null,null,null,null,null,null,null,null,null,null,null,null,null,null,null,null,null,null,null,null,null,null,null,null,null,null,null,null,null,null,null,null,null,null,null,null,null,null,null,null,null,null,null,null,null,null,null,null,null,null,null,null,null,null,null,null,null,null,null,null,null,null,null,null,null,null,null,null,null,null,null,null,null,null,null,null,null,null,null,null,null,null,null,null,null,null,null,null,null,null,null,null,null,null,null,null,null,null,null,null,null,null,null,null,null,null,null,null,null,null,null,null,null,null,null,null,null,null,null,null,null,null,null,null,null,null,null,null,null,null,null,null,null,null,null,"نسبت سایز افقی",{"$f":"NV32","v":42},"انحنا راستگرد ",null,null,{"$f":"OA585","v":"انحنا راستگرد "},null,null,null,null,null,"نسبت سایز افقی",{"$f":"OG37","v":42},"انحنا چپگرد ",null,null,{"$f":"OL585","v":"انحنا چپگرد "},null,null,null,null,null,"m63",{"$f":"OQ118","v":-3.4503205128205146},{"$f":"OR118","v":13.894117647058827},null,null,null,null,null,null,null,null,null,null,null,{"$f":"PB60+0.5*(PB71-PB60)","v":-10.220352564102564},{"$f":"PC60-PC35","v":4.5764705882352938},"n''1"]
[null,null,null,null,null,"t37",{"$f":"'متغیرها '!C661","v":0},null,null,null,null,null,"مولفه افقی","مولفه عمودی",null,null,null,null,null,null,null,25,{"$f":"W601","v":31.084994044858394},{"$f":"X601+G574","v":103.49543858168987},null,null,76,{"$f":"AB601-S585*SIN(RADIANS(G612))","v":18.940152995963231},{"$f":"AC601+S585*(1-COS(RADIANS(G612)))","v":46.17881101791474},null,null,"p25a",{"$f":"AG588+0.7*(L584-L587)*SIN(O572-O581)","v":13.169259620373305},{"$f":"AH588-0.7*(L584-L587)*COS(O572-O581)","v":88.666653662250823},null,null,"p87",{"$f":"AL600-S594*COS(O572-O581)*COS(3*RADIANS(G613))","v":-18.508175820423958},{"$f":"AM600+S594*COS(O572-O581)*SIN(3*RADIANS(G613))","v":54.660911915881691},null,null,{"$f":"IF(AW587>P579,AP587,IF(AW588>P579,AP588,IF(AW589>P579,AP589,IF(AW590>P579,AP590,IF(AW591>P579,AP591,IF(AW592>P579,AP592,IF(AW593>P579,AP593,IF(AW594>P579,AP594,IF(AW595>P579,AP595,IF(AW596>P579,AP596,IF(AW597>P579,AP597,IF(AW598>P579,AP598,IF(AW599>P579,AP599,AP600)))))))))))))","v":0.23944581113894547},null,null,null,null,null,null,null,null,null,null,null,22,{"$f":"BC588+BF588*SIN(RADIANS(BB602)+BB590)","v":6.0572287296251126},{"$f":"BD588+BF588*COS(RADIANS(BB602)+BB590)","v":94.928781269778383},{"$f":"IF(BC589>BC602,ATAN((BD589-BD602)/(BC589-BC602)),ATAN((BD589-BD602)/(BC602-BC589)))","v":5.6255891038672109E-2},{"$f":"IF(BC589>BC602,(BC589-BC602)/COS(BE602),(BC602-BC589)/COS(BE602))","v":5.2993708031957238},null,null,"اطلاعات اندام در شلوار",null,{"$f":"U593","v":8.7980997565076322},{"$f":"Y593","v":99.953256205342456},{"$f":"V593","v":18},null,{"$f":"AB593","v":20.691927272727273},{"$f":"AC593","v":45.7},{"$f":"AA593","v":67},null,{"$f":"AB609","v":17.060700375708727},{"$f":"AC609","v":96.697002226937002},{"$f":"AA609","v":81},null,null,null,null,null,{"$f":"AB580","v":15.019351269038205},{"$f":"AC580","v":94.966807936310957},{"$f":"AA580","v":54},null,null,null,null,null,{"$f":"AG612","v":2.7342925972592038},{"$f":"AH612","v":97.7232466364121},{"$f":"AF612","v":"p32"},null,{"$f":"AG616","v":20.44397008126602},{"$f":"AH616","v":86.055088038095491},{"$f":"AF616","v":"p35"},null,null,null,null,null,{"$f":"AG589","v":12.983590937494137},{"$f":"AH589","v":90.433173178898713},"p19",null,null,null,null,"نقاط ورودی از پشت شلوار",null,null,null,null,null,null,null,null,null,{"$f":"CZ574","v":12},{"$f":"DA574","v":135.22937213221402},26,null,{"$f":"DD617","v":32.188810000000004},{"$f":"DE617","v":110.22409548010164},"36b",null,{"$f":"AE568","v":22.872727272727271},{"$f":"AI568","v":0},"p2",null,{"$f":"BS116","v":10.410015},{"$f":"BT116","v":118.66000000000001},"e1",null,{"$f":"FG332","v":10.410015},{"$f":"FH332","v":123.7},"d3'",null,{"$f":"DX589","v":-3.414447226224679},81.232416687511986,{"$f":"DZ589","v":"p11r"},null,null,null,null,null,null,null,null,null,null,null,null,null,null,null,null,null,null,null,null,null,null,null,null,null,null,null,null,null,null,null,null,null,null,null,null,null,null,null,null,null,null,null,null,null,null,null,null,null,null,null,null,null,null,null,null,null,null,null,null,null,null,null,null,null,null,null,null,null,null,null,null,null,null,null,null,null,null,null,null,null,null,null,null,null,null,null,null,null,null,null,null,null,null,null,null,null,null,null,null,null,null,null,null,null,null,null,null,null,null,null,null,null,null,null,null,null,null,null,null,null,null,null,null,null,null,null,null,null,null,null,null,null,null,null,null,null,null,null,null,null,null,null,null,null,null,null,null,null,null,null,null,null,null,null,null,null,null,null,null,null,null,null,null,null,null,null,null,null,null,null,null,null,null,null,null,null,null,null,null,null,null,null,null,null,null,null,null,null,null,null,null,null,null,null,null,null,null,null,null,null,null,null,null,null,null,null,null,null,null,null,null,null,null,null,null,null,null,null,null,null,null,null,null,null,null,null,null,null,null,null,null,null,null,null,null,null,null,null,null,null,null,null,null,null,null,null,null,null,null,null,null,null,{"$f":"NZ612","v":-3.113942307692303},{"$f":"OA612","v":21.45000000000001},{"$f":"NY612","v":"h10"},null,null,null,null,null,"نقطه ورودی سر فلش","مولفه افقی","مولفه عمودی",{"$f":"OK605","v":-12.540754147812974},{"$f":"OL605","v":14.444705882352945},{"$f":"OJ605","v":"f3"},null,null,null,null,null,"g11",{"$f":"OV606+0.8*(OV604-OV606)","v":-2.9568205128205145},{"$f":"OW604+0.6*(OW606-OW604)","v":14.197364705882357},{"$f":"OV603","v":-3.4503205128205146},{"$f":"OW603","v":14.317647058823534},{"$f":"OU603","v":"g2"}]
[null,null,null,null,null,null,null,null,null,null,null,null,null,null,null,null,null,null,null,null,null,null,null,null,null,null,null,null,null,null,null,null,null,null,null,null,null,null,null,null,null,"نقطه دوم","p15b",{"$f":"AE593","v":18.302370957435382},{"$f":"AI593","v":101.5873534064955},null,null,"نقطه دوم",{"$f":"AF591","v":"p17"},{"$f":"AG591","v":13.175967732596952},{"$f":"AH591","v":95.605365842244424},null,null,58,{"$f":"BC588+BF588*SIN(RADIANS(BB620)+BB590)","v":13.335412610355839},{"$f":"BD588+BF588*COS(RADIANS(BB620)+BB590)","v":93.47116544048086},{"$f":"IF(BC589>BC620,ATAN((BD589-BD620)/(BC589-BC620)),ATAN((BD589-BD620)/(BC620-BC589)))","v":0.13877564720648186},{"$f":"IF(BC589>BC620,(BC589-BC620)/COS(BE620),(BC620-BC589)/COS(BE620))","v":12.691183083279519},null,null,null,null,null,null,null,null,{"$f":"W567","v":15},{"$f":"X567","v":45.7},{"$f":"V567","v":1},null,null,null,null,null,null,null,null,null,null,null,null,null,null,null,"لبه پایین",null,null,null,null,null,null,null,null,null,null,null,null,null,null,null,null,null,null,null,null,null,null,null,null,null,null,null,null,null,"نقطه تقاطع",null,{"$f":"(DN618-DN616+DM616*((DN617-DN616)/(DM617-DM616+0.0001))-DM618*((DN619-DN618)/(DM619-DM618+0.0001)))/(((DN617-DN616)/(DM617-DM616+0.0001))-((DN619-DN618)/(DM619-DM618+0.0001)))","v":21.040478720531876},{"$f":"DN616+(DM620-DM616)*((DN617-DN616)/(DM617-DM616))","v":55.801295439389996},null,{"$f":"FP231","v":10},{"$f":"FQ231","v":137.353830435801},"p21",null,{"$f":"DT618","v":10},{"$f":"DU618","v":126.39999999999999},"45 یا d3",null,null,null,null,null,null,null,null,null,null,null,null,null,null,null,null,null,null,null,null,null,null,null,null,null,null,null,null,null,null,null,null,null,null,null,null,null,null,null,null,null,null,null,null,null,null,null,null,null,null,null,null,null,null,null,null,null,null,null,null,null,null,null,null,null,null,null,null,null,null,null,null,null,null,null,null,null,null,null,null,null,null,null,null,null,null,null,null,null,null,null,null,null,null,null,null,null,null,null,null,null,null,null,null,null,null,null,null,null,null,null,null,null,null,null,null,null,null,null,null,null,null,null,null,null,null,null,null,null,null,null,null,null,null,null,null,null,null,null,null,null,null,null,null,null,null,null,null,null,null,null,null,null,null,null,null,null,null,null,null,null,null,null,null,null,null,null,null,null,null,null,null,null,null,null,null,null,null,null,null,null,null,null,null,null,null,null,null,null,null,null,null,null,null,null,null,null,null,null,null,null,null,null,null,null,null,null,null,null,null,null,null,null,null,null,null,null,null,null,null,null,null,null,null,null,null,null,null,null,null,null,null,null,null,null,null,null,null,null,null,null,null,null,null,null,null,null,null,null,null,null,null,null,null,null,null,null,null,null,null,null,null,"بزرگی فلش",{"$f":"NV47","v":0.3600000000000001},"f4",{"$f":"NZ622","v":-20.217788461538461},{"$f":"OA622","v":26.600000000000009},{"$f":"NY622","v":"w65"},null,null,null,null,null,null,null,null,{"$f":"OF122","v":-20.804487179487182},{"$f":"OG122","v":14.74117647058824},"m67",null,null,null,null,null,"ارتفاع نیم دایره",{"$f":"OR49","v":0.42352941176470588},"بزرگی فلش",{"$f":"OV623","v":-22.13942307692308},{"$f":"OW623","v":14.317647058823534},{"$f":"OU623","v":"m65"}]
[null,null,null,null,null,null,null,null,null,null,null,null,null,null,null,null,null,null,null,null,null,null,null,null,null,null,null,null,null,null,null,null,null,null,null,null,null,null,null,null,null,null,null,null,null,null,null,null,null,null,null,null,null,null,null,null,null,null,null,null,null,null,null,null,null,null,null,null,null,null,null,null,null,null,null,null,null,null,null,null,null,null,null,null,null,null,null,null,null,null,null,null,null,null,null,null,null,null,null,null,null,null,null,null,null,null,null,null,null,null,null,null,null,null,null,null,null,null,null,null,null,null,null,null,null,null,null,null,null,null,null,null,null,null,null,null,null,null,null,null,null,null,null,null,null,null,null,null,null,null,null,null,null,null,null,null,null,null,null,null,null,null,null,null,null,null,null,null,null,null,null,null,null,null,null,null,null,null,null,null,null,null,null,null,null,null,null,null,null,null,null,null,null,null,null,null,null,null,null,null,null,null,null,null,null,null,null,null,null,null,null,null,null,null,null,null,null,null,null,null,null,null,null,null,null,null,null,null,null,null,null,null,null,null,null,null,null,null,null,null,null,null,null,null,null,null,null,null,null,null,null,null,null,null,null,null,null,null,null,null,null,null,null,null,null,null,null,null,null,null,null,null,null,null,null,null,null,null,null,null,null,null,null,null,null,null,null,null,null,null,null,null,null,null,null,null,null,null,null,null,null,null,null,null,null,null,null,null,null,null,null,null,null,null,null,null,null,null,null,null,null,null,null,null,null,null,null,null,null,null,null,null,null,null,null,null,null,null,null,null,null,null,null,null,null,null,null,null,null,null,null,null,null,null,null,null,null,null,null,null,null,null,null,null,null,null,null,null,null,null,null,null,null,null,null,null,null,null,null,null,null,null,null,null,null,null,null,null,"h5",{"$f":"NZ633+0.5*(NZ635-NZ633)","v":-1.088942307692303},{"$f":"OA633","v":26.600000000000009},{"$f":"NZ642","v":5.661057692307697},{"$f":"OA642","v":26.350000000000009},{"$f":"NY642","v":"h12"},null,null,null,null,null,"f8",{"$f":"OK634","v":-20.423076923076927},{"$f":"OL634+2*OK629","v":15.341176470588239},{"$f":"OK636","v":-20.264253393665161},{"$f":"OL636","v":14.952941176470592},{"$f":"OJ636","v":"f7"},null,null,null,null,null,"m71",{"$f":"OQ126","v":-17.409935897435901},{"$f":"OR126","v":14.74117647058824}]
[null,null,null,null,null,null,null,null,null,null,null,null,null,null,null,null,null,null,null,null,null,null,null,null,null,null,null,null,null,null,null,null,null,null,null,null,null,null,null,null,null,null,null,null,null,null,null,null,null,null,null,null,null,null,null,null,null,null,null,null,null,null,null,null,null,null,null,null,null,null,null,null,null,null,null,null,null,null,null,null,null,null,null,null,null,null,null,null,null,null,null,null,null,null,null,null,null,null,null,null,null,null,null,null,null,null,null,null,null,null,null,null,null,null,null,null,null,null,null,null,null,null,null,null,null,null,null,null,null,null,null,null,null,null,null,null,null,null,null,null,null,null,null,null,null,null,null,null,null,null,null,null,null,null,null,null,null,null,null,null,null,null,null,null,null,null,null,null,null,null,null,null,null,null,null,null,null,null,null,null,null,null,null,null,null,null,null,null,null,null,null,null,null,null,null,null,null,null,null,null,null,null,null,null,null,null,null,null,null,null,null,null,null,null,null,null,null,null,null,null,null,null,null,null,null,null,null,null,null,null,null,null,null,null,null,null,null,null,null,null,null,null,null,null,null,null,null,null,null,null,null,null,null,null,null,null,null,null,null,null,null,null,null,null,null,null,null,null,null,null,null,null,null,null,null,null,null,null,null,null,null,null,null,null,null,null,null,null,null,null,null,null,null,null,null,null,null,null,null,null,null,null,null,null,null,null,null,null,null,null,null,null,null,null,null,null,null,null,null,null,null,null,null,null,null,null,null,null,null,null,null,null,null,null,null,null,null,null,null,null,null,null,null,null,null,null,null,null,null,null,null,null,null,null,null,null,null,null,null,null,null,null,null,null,null,null,null,null,null,null,null,null,null,null,null,null,null,null,null,null,null,null,null,null,null,null,null,null,"w64",{"$f":"NU109","v":22.822115384615394},{"$f":"NV109","v":26.600000000000009},{"$f":"NZ661","v":23.267115384615394},{"$f":"OA661","v":26.850000000000009},{"$f":"NY661","v":"h10"},null,null,null,null,null,"g11",{"$f":"OK658+0.8*(OK656-OK658)","v":28.128115384615384},{"$f":"OL656+0.6*(OL658-OL656)","v":15.04442352941177},{"$f":"OK655","v":27.634615384615387},{"$f":"OL655","v":15.164705882352946},{"$f":"OJ655","v":"g2"},null,null,null,null,null,"ارتفاع هر رج",{"$f":"OR38","v":0.42352941176470588},"w11"]
[null,null,null,null,null,null,null,null,null,null,null,null,null,null,null,null,null,null,null,null,null,null,null,null,null,null,null,null,null,null,null,null,null,null,null,null,null,null,null,null,null,null,null,null,null,null,null,null,null,null,null,null,null,null,null,null,null,null,null,null,null,null,null,null,null,null,null,null,null,null,null,null,null,null,null,null,null,null,null,null,null,null,null,null,null,null,null,null,null,null,null,null,null,null,null,null,null,null,null,null,null,null,null,null,null,null,null,null,null,null,null,null,null,null,null,null,null,null,null,null,null,null,null,null,null,null,null,null,null,null,null,null,null,null,null,null,null,null,null,null,null,null,null,null,null,null,null,null,null,null,null,null,null,null,null,null,null,null,null,null,null,null,null,null,null,null,null,null,null,null,null,null,null,null,null,null,null,null,null,null,null,null,null,null,null,null,null,null,null,null,null,null,null,null,null,null,null,null,null,null,null,null,null,null,null,null,null,null,null,null,null,null,null,null,null,null,null,null,null,null,null,null,null,null,null,null,null,null,null,null,null,null,null,null,null,null,null,null,null,null,null,null,null,null,null,null,null,null,null,null,null,null,null,null,null,null,null,null,null,null,null,null,null,null,null,null,null,null,null,null,null,null,null,null,null,null,null,null,null,null,null,null,null,null,null,null,null,null,null,null,null,null,null,null,null,null,null,null,null,null,null,null,null,null,null,null,null,null,null,null,null,null,null,null,null,null,null,null,null,null,null,null,null,null,null,null,null,null,null,null,null,null,null,null,null,null,null,null,null,null,null,null,null,null,null,null,null,null,null,null,null,null,null,null,null,null,null,null,null,null,null,null,null,null,null,null,null,null,null,null,null,null,null,null,null,null,null,null,null,null,null,null,null,null,null,null,null,null,"نقطه پایان رج(راست)","مولفه افقی","مولفه عمودی",{"$f":"NZ664","v":24.617115384615396},{"$f":"OA664","v":26.850000000000009},{"$f":"NY664","v":"h13"},null,null,null,null,null,"g2",{"$f":"OK653","v":27.634615384615387},{"$f":"OL653+OK650","v":15.164705882352946},null,null,null,null,null,null,null,null,"نقطه ورودی سر فلش","مولفه افقی","مولفه عمودی",{"$f":"OV656","v":-2.2755769230769225},{"$f":"OW656","v":14.74117647058824},{"$f":"OU656","v":"m70"}]
[null,null,null,null,null,null,null,null,null,null,null,null,null,null,null,null,null,null,null,null,null,null,null,null,null,null,null,null,null,null,null,null,null,null,null,null,null,null,null,null,null,null,null,null,null,null,null,null,null,null,null,null,null,null,null,null,null,null,null,null,null,null,null,null,null,null,null,null,null,null,null,null,null,null,null,null,null,null,null,null,null,null,null,null,null,null,null,null,null,null,null,null,null,null,null,null,null,null,null,null,null,null,null,null,null,null,null,null,null,null,null,null,null,null,null,null,null,null,null,null,null,null,null,null,null,null,null,null,null,null,null,null,null,null,null,null,null,null,null,null,null,null,null,null,null,null,null,null,null,null,null,null,null,null,null,null,null,null,null,null,null,null,null,null,null,null,null,null,null,null,null,null,null,null,null,null,null,null,null,null,null,null,null,null,null,null,null,null,null,null,null,null,null,null,null,null,null,null,null,null,null,null,null,null,null,null,null,null,null,null,null,null,null,null,null,null,null,null,null,null,null,null,null,null,null,null,null,null,null,null,null,null,null,null,null,null,null,null,null,null,null,null,null,null,null,null,null,null,null,null,null,null,null,null,null,null,null,null,null,null,null,null,null,null,null,null,null,null,null,null,null,null,null,null,null,null,null,null,null,null,null,null,null,null,null,null,null,null,null,null,null,null,null,null,null,null,null,null,null,null,null,null,null,null,null,null,null,null,null,null,null,null,null,null,null,null,null,null,null,null,null,null,null,null,null,null,null,null,null,null,null,null,null,null,null,null,null,null,null,null,null,null,null,null,null,null,null,null,null,null,null,null,null,null,null,null,null,null,null,null,null,null,null,null,null,null,null,null,null,null,null,null,null,null,null,null,null,null,null,null,null,null,null,null,null,null,null,null,"w66",{"$f":"NU111","v":25.062115384615396},{"$f":"NV111","v":26.600000000000009},{"$f":"NZ677","v":25.429615384615396},{"$f":"OA677","v":27.11600000000001},{"$f":"NY677","v":"g6"},null,null,null,null,null,"نقاط خروجی","مولفه افقی","مولفه عمودی",{"$f":"OK677","v":18.95},{"$f":"OL677","v":14.914705882352946},{"$f":"OJ677","v":"h11"},null,null,null,null,null,"g8",{"$f":"OV666-0.7*OW663*SIN(RADIANS(30)+ATAN((OV666-OV669)/(OW666-OW669+0.0001)))","v":25.499247955050475},{"$f":"OW666-0.7*OW663*COS(RADIANS(30)+ATAN((OV666-OV669)/(OW666-OW669+0.0001)))","v":14.948341204941697},{"$f":"OV671","v":25.826045396860568},{"$f":"OW671","v":15.027723295692354},{"$f":"OU671","v":"g7"}]
[null,null,null,null,null,null,{"$f":"G708","v":0},{"$f":"H708","v":128.22937213221402},"m3",null,null,null,null,null,null,null,null,null,null,{"$f":"T702+0.65*U689*U691*SIN(RADIANS(15))*IF(U688=-1,1,U688)","v":-1.1778944766647856},{"$f":"U702-0.65*U689*U691*COS(RADIANS(15))*IF(U688=-1,1,U688)","v":129.41313110032874},"m3",null,null,null,null,null,null,null,null,null,{"$f":"AF708","v":0},{"$f":"AG708","v":128.22937213221402},"m3",null,null,null,null,null,null,null,null,null,null,{"$f":"AS702+0.7*AT689*AT691*SIN(RADIANS(10))*(1.5*IF(AT688=-1,1,AT688)-0.5)","v":0.10292581691241631},{"$f":"AT702-0.7*AT689*AT691*COS(RADIANS(10))*IF(AT688=-1,1,AT688)","v":131.87940907790841},"m3",null,{"$f":"-AS701","v":-6.3906672061842063},{"$f":"AT701","v":142.68204356076637},"قرینهm1",null,{"$f":"AW703+AS725","v":5.6093327938157937},{"$f":"AX703+AS726","v":149.68204356076637},"قرینهm1",null,null,{"$f":"C101","v":7},"شیفت عمودی کل جلو",null,3.2043425395576328,129.28349101487527,28,null,{"$f":"BI703+BF702","v":15.204342539557633},{"$f":"BJ703+BF703","v":136.28349101487527},28,null,null,{"$f":"'متغیرها '!B245","v":0.32009079810115021},"زاویه سرشانه با افق",null,13.532144889390691,133.87180686813016,"bs4",null,null,{"$f":"CW680","v":7.4296998727915824},"پهنا یقه ب ب",null,{"$f":"BY705","v":0},{"$f":"BZ705","v":130.53130503611112},{"$f":"CA705","v":"m3"},null,null,null,null,null,null,null,null,null,null,{"$f":"-CP689+CH702","v":5.1828000000000003},{"$f":"CQ689","v":146.10000000000002},"25 شبیه ساز",null,null,null,"(1 → 23)",{"$f":"CW686+0.3*(K144-CW680*SIN(EY679)+CW680)*COS(EY679+EY678)+(1-0.95)*(AA146+CW680*COS(EY679))*SIN(EY679+EY678)","v":10.917923997143932},null,0,{"$f":"CW693","v":9.0445632262055344},13,null,{"$f":"CW694+CW677","v":3.0100536052480855},{"$f":"CW693+CW678","v":49.044563226205533},14,null,null,null,null,null,{"$f":"DG701","v":8.31395569245419},{"$f":"DH701","v":43.125620380246517},{"$f":"DI701","v":13},null,null,null,null,null,{"$f":"DO701","v":7.9750379079917657},{"$f":"DP701","v":45.495886793480871},{"$f":"DQ701","v":13},null,{"$f":"DW702","v":-1.4958168651392874},{"$f":"DX701","v":46.653048694158528},4,null,null,null,null,null,{"$f":"EE705+IF(EF688>=0,EF692*EF688*EF681,EF692*EF681+EF686)*COS(EF684)","v":17.479494322343779},{"$f":"EF701+IF(EF688>=0,EF679*EF688*'متغیرها '!C744,'متغیرها '!C744*EF679)","v":37.09012392688004},7,null,{"$f":"EE702","v":4.3584649757396887},{"$f":"EF702","v":46.133421948663269},{"$f":"EG702","v":6},null,"(1 → 23)",{"$f":"EN705-0.65*(EN705-EN678)","v":20.349379898957928},null,null,null,null,null,null,"(22 → 23)",{"$f":"EV686+0.3*(EV705-EV686)","v":25.182251891936428},null,{"$f":"EX692","v":28.5},{"$f":"EY692","v":1.2374720530054504},4,null,null,null,"سرشانه",null,"(21 → 10)","وصل",null,null,-10,9,33,null,"(14 → 15)",{"$f":"G264","v":8.7997557140046752},null,{"$f":"FO707","v":11.621854619797695},{"$f":"FO708","v":8.7997557140046752},19,null,null,null,null,null,null,null,"رسم انحنا پایه",null,"(22 → 23)",{"$f":"GD700+(O238-H232*H124)*SIN(RADIANS(90)-O233-2*O232)","v":12.553453928880355},null,{"$f":"GF679","v":-0.21490680198309769},{"$f":"GG679","v":16.729164307885355},24,null,null,null,null,null,{"$f":"GJ699","v":6.6218546197976949},{"$f":"GK699","v":48.799755714004675},19,null,null,null,null,null,null,null,null,null,null,null,null,null,null,null,null,null,null,null,null,null,null,null,null,null,null,null,null,null,null,null,null,null,null,null,null,null,null,null,null,null,null,null,null,null,null,null,null,null,null,null,null,null,null,null,null,null,null,null,null,null,null,null,null,null,null,null,null,null,null,null,null,null,null,null,null,null,null,null,null,null,null,null,null,null,null,null,null,null,null,null,null,null,null,null,null,null,null,null,null,null,null,null,null,null,null,null,null,null,null,null,null,null,null,null,null,null,null,null,null,null,null,null,null,null,null,null,null,null,null,null,null,null,null,null,null,null,null,null,null,null,null,null,null,null,null,null,null,null,null,null,null,null,null,null,null,null,null,null,null,null,null,null,null,null,null,null,null,null,null,null,null,null,null,null,null,null,null,null,null,null,null,null,null,null,null,null,null,null,null,"h9",{"$f":"NZ701+0.5*NZ692","v":-25.445},{"$f":"OA697","v":27.20000000000001},{"$f":"NZ706","v":-25.445},{"$f":"OA706","v":26.95000000000001},{"$f":"NY706","v":"h12"},null,null,null,null,null,null,null,null,{"$f":"OF129","v":11.615384615384617},{"$f":"OG129","v":15.588235294117652},"m74",null,null,null,null,null,"g5",{"$f":"OV699+0.7*(OV702-OV699)","v":6.0988461538461562},{"$f":"OW699+0.28*(OW702-OW699)","v":15.224000000000004},{"$f":"OV700","v":5.9728461538461568},{"$f":"OW700","v":15.467952941176476},{"$f":"OU700","v":"g11"}]
[null,null,null,null,null,null,{"$f":"G702+0.5*(G701-G702)","v":4.0054281744470419},{"$f":"H702+0.2*(H701-H702)","v":130.8819502452404},"m6",null,null,null,null,null,null,null,null,null,null,{"$f":"T702+0.65*(T701-T702)","v":4.4196471899941931},{"$f":"U702+0.28*(U701-U702)","v":133.89608707219671},"m6",null,null,null,null,null,null,null,null,null,{"$f":"AF702+0.5*(AF701-AF702)","v":4.0054281744470419},{"$f":"AG702+0.2*(AG701-AG702)","v":130.86985379306921},"m6",null,null,null,null,null,null,null,null,null,null,{"$f":"AS702+0.45*(1.2*IF(AT688=-1,1,AT688)-0.2)*(AS701-AS702)","v":2.8758002427828928},{"$f":"AT702+(0.1/(1.2*IF(AT688=-1,1,AT688)-0.2))*(AT701-AT702)","v":133.48502170899641},"m6",null,{"$f":"-AS704","v":-0.25945975908160585},{"$f":"AT704","v":132.24541780398235},"قرینهm4",null,{"$f":"AW706+AS725","v":11.740540240918394},{"$f":"AX706+AS726","v":139.24541780398235},"قرینهm4",null,null,null,null,null,-6.4086850791152656,133.49996654552029,"قرینه 30",null,{"$f":"BI706+BF702","v":5.5913149208847344},{"$f":"BJ706+BF703","v":140.49996654552029},"قرینه 30",null,{"$f":"BQ702+0.8*(BQ705-BQ702)","v":13.532144889390691},{"$f":"BR702+0.75*(BR705-BR702)","v":133.87180686813016},"bs4",null,{"$f":"-BQ707","v":-6.7660724446953457},{"$f":"BR707","v":129.50832400568834},"قرینه bs6",null,{"$f":"BY699+BZ703*COS(BZ702)","v":15.062375633720741},{"$f":"BZ699-BZ703*SIN(BZ702)","v":138.2298905927542},"m4",null,{"$f":"BY710","v":-15.062375633720741},{"$f":"BZ710","v":138.2298905927542},{"$f":"CA710","v":"قرینهm4"},null,null,null,null,null,"قرینه",{"$f":"-CG689","v":-17.01025943477449},{"$f":"CH689","v":119.10750354121627},{"$f":"CI689","v":"d8"},null,null,null,null,null,null,null,"(25 → 26)",{"$f":"CW687+0.5*(K144-CW680*SIN(EY679)+CW680)*SIN(EY679+EY678)-(1-0.86)*(AA146+CW680*COS(EY679))*COS(EY679+EY678)","v":18.040349323593375},null,0,{"$f":"CW695","v":11.819969791252358},15,null,{"$f":"CW702+CW677","v":2.8827775853323301},{"$f":"CW701+CW678","v":62.283196896339447},22,null,"نقاط  ورودی و محاسبات برگردان",null,null,null,{"$f":"DG696","v":19.303981821489444},{"$f":"DH696","v":41.643463388956938},{"$f":"DI696","v":7},null,null,null,null,null,{"$f":"DO696","v":16.921951925269902},{"$f":"DP696","v":44.930390166870822},{"$f":"DQ696","v":7},null,{"$f":"DW708+IF(DX687>=0,DX691*DX687*DX681,DX691*DX681+DX686)*COS(DX684)","v":16.711245206527263},{"$f":"DX704+IF(DX687>=0,DX679*DX687*'متغیرها '!C702,'متغیرها '!C702*DX679)","v":35.271451381180057},7,null,{"$f":"DW701","v":-5},{"$f":"DX701","v":46.653048694158528},{"$f":"DY701","v":2},null,{"$f":"EE703-EF682*SIN(EF684)","v":17.556407136358857},{"$f":"EF703+EF682*COS(EF684)","v":43.742728029476616},14,null,{"$f":"EE703","v":17.479494322343779},{"$f":"EF703","v":37.09012392688004},{"$f":"EG703","v":7},null,"(25→ 26)",{"$f":"EN698","v":5.2705944133062692},"عمود",null,null,null,null,null,"(1 → 26)",{"$f":"EV700+(G165+EV678-K144)*COS(EY679+EY678)","v":51.613430473765661},null,null,null,"سرشانه",null,null,null,null,null,"انحنا جلو صورت",null,null,null,{"$f":"EQ725","v":-10},{"$f":"ER725","v":9},1,null,"(17 → 21)",{"$f":"MIN(FO713,FO701)+0.4*ABS(FO701-FO713)*(FO712-FO705)/(FO712-FO698)","v":15.810423311974526},null,{"$f":"FO712","v":21.363547597573085},{"$f":"FO713","v":15.587984888209498},26,null,null,null,"رسم انحنا پایه",null,{"$f":"FQ716+FO729","v":4.4567566331813424},{"$f":"FR716+FO730","v":41.45157426054368},"p7",null,"(3 → 24')",{"$f":"(GD683-GD684)*SIN(RADIANS(GD708))*SIN(RADIANS(GD708))","v":7.5047108942604274E-3},null,null,null,"خطوط برش یفه دوبل",null,null,null,null,null,{"$f":"GJ702","v":17.154823691533309},{"$f":"GK702","v":52.553453928880359},23,null,null,null,null,null,null,null,null,null,null,null,null,null,null,null,null,null,null,null,null,null,null,null,null,null,null,null,null,null,null,null,null,null,null,null,null,null,null,null,null,null,null,null,null,null,null,null,null,null,null,null,null,null,null,null,null,null,null,null,null,null,null,null,null,null,null,null,null,null,null,null,null,null,null,null,null,null,null,null,null,null,null,null,null,null,null,null,null,null,null,null,null,null,null,null,null,null,null,null,null,null,null,null,null,null,null,null,null,null,null,null,null,null,null,null,null,null,null,null,null,null,null,null,null,null,null,null,null,null,null,null,null,null,null,null,null,null,null,null,null,null,null,null,null,null,null,null,null,null,null,null,null,null,null,null,null,null,null,null,null,null,null,null,null,null,null,null,null,null,null,null,null,null,null,null,null,null,null,null,null,null,null,null,null,null,null,null,null,null,null,"h12",{"$f":"NZ703","v":-25.445},{"$f":"OA705","v":26.95000000000001},{"$f":"NZ703","v":-25.445},{"$f":"OA703","v":27.20000000000001},{"$f":"NY703","v":"h9"},null,null,null,null,null,"ارتفاع نیم دایره",{"$f":"OG49","v":0.42352941176470588},"بزرگی فلش",{"$f":"OK709","v":27.634615384615387},{"$f":"OL709","v":15.588235294117652},{"$f":"OJ709","v":"m75"},null,null,null,null,null,"g8",{"$f":"OV700-0.7*OW697*SIN(RADIANS(30)-ATAN((OV700-OV703)/(OW700-OW703+0.0001)))","v":5.8231453909479107},{"$f":"OW700-0.7*OW697*COS(RADIANS(30)-ATAN((OV700-OV703)/(OW700-OW703+0.0001)))","v":15.371870616706403},{"$f":"OV705","v":6.149942832758005},{"$f":"OW705","v":15.451252707457062},{"$f":"OU705","v":"g7"}]
[null,null,null,null,null,null,null,{"$f":"ATAN((H705-H704)/(G705-G704))","v":0.82898210630986269},"m11",null,null,null,null,null,null,null,null,null,null,null,{"$f":"ATAN((U705-U704)/(T705-T704))","v":0.82700044129828765},"m11",null,null,null,null,null,null,null,null,null,null,{"$f":"ATAN((AG705-AG704)/(AF705-AF704))","v":0.82670499192345048},"m11",null,null,null,null,null,null,null,null,null,null,{"$f":"BW113-'متغیرها '!C51","v":7.2097707140046765},{"$f":"BX113-'متغیرها '!C52","v":135.60820431084281},"e7",null,-3.2043425395576328,129.28349101487527,"قرینه 28",null,{"$f":"AW723+AS725","v":8.7956574604423672},{"$f":"AX723+AS726","v":136.28349101487527},"قرینه 28",null,null,null,null,null,null,null,null,null,null,null,null,null,null,null,null,null,null,null,null,null,null,null,null,null,{"$f":"BY706+BZ714","v":25.062375633720741},{"$f":"BZ706+BZ715","v":148.2298905927542},{"$f":"CA706","v":"m4"},null,{"$f":"-CG717","v":-8.0100536052480855},{"$f":"BL104-'متغیرها '!C54","v":140.56766607523292},"23قرینه",null,null,null,null,null,null,null,null,null,null,null,null,"خروجی",null,null,null,null,null,null,null,null,null,null,{"$f":"DG722-DH710*SIN(DH713)","v":3.9032494071526815},{"$f":"DH722+DH710*COS(DH713)","v":54.678714775892487},6,null,{"$f":"DG720","v":-1.4958168651392874},{"$f":"DH720","v":50},{"$f":"DI720","v":3},null,null,null,null,null,{"$f":"DS685","v":-13.745653716899128},{"$f":"DT685","v":40.39422060267183},{"$f":"DU685","v":"قرینه5"},null,null,null,null,null,{"$f":"DW716","v":9.4797424493377402},{"$f":"DX716","v":34},21,null,null,null,null,null,null,null,null,null,null,null,null,null,{"$f":"0+'متغیرها '!C729","v":-10},{"$f":"EN679+'متغیرها '!C730","v":39.568832178628774},3,null,"محاسبات کلاه ملوانی ",null,null,null,null,null,null,{"$f":"EX720+EY728","v":6.5051966085948898},{"$f":"EY720+EY729","v":67.583484164580824},17,null,null,null,null,null,-6.2379999999999995,45.135332178628772,41,null,"(p3 → p2)",{"$f":"SQRT(POWER((FO717-FO722),2)+POWER((FO719),2))+SQRT(POWER((FO722-FO721),2)+POWER((FO720-FO719),2))+SQRT(POWER((FO721),2)+POWER((FO718-FO720),2))","v":12.309463464082263},null,{"$f":"0+FO724","v":0},{"$f":"FO717+FO725","v":2.4192904342394641},"p3",null,null,null,"پایه مستطیل",null,{"$f":"FQ698+FO729","v":2.5630188773292044},{"$f":"FR698+FO730","v":52.28421593628692},12,null,null,null,null,null,null,null,null,null,null,null,null,null,null,null,null,null,null,null,null,null,null,null,null,null,null,null,null,null,null,null,null,null,null,null,null,null,null,null,null,null,null,null,null,null,null,null,null,null,null,null,null,null,null,null,null,null,null,null,null,null,null,null,null,null,null,null,null,null,null,null,null,null,null,null,null,null,null,null,null,null,null,null,null,null,null,null,null,null,null,null,null,null,null,null,null,null,null,null,null,null,null,null,null,null,null,null,null,null,null,null,null,null,null,null,null,null,null,null,null,null,null,null,null,null,null,null,null,null,null,null,null,null,null,null,null,null,null,null,null,null,null,null,null,null,null,null,null,null,null,null,null,null,null,null,null,null,null,null,null,null,null,null,null,null,null,null,null,null,null,null,null,null,null,null,null,null,null,null,null,null,null,null,null,null,null,null,null,null,null,null,null,null,null,null,null,null,null,null,null,null,null,null,null,null,null,null,null,null,null,null,null,null,null,null,null,"ارتفاع هر رج",{"$f":"OG38","v":0.42352941176470588},"w11",null,null,null,null,null,null,null,null,"g2",{"$f":"OV721","v":25.155448717948723},{"$f":"OW721+OV718","v":16.011764705882356}]
[null,null,null,null,null,null,null,null,null,null,null,null,null,null,null,null,null,null,null,null,null,null,null,null,null,null,null,null,null,null,null,null,null,null,null,null,null,null,null,null,null,null,null,null,null,null,null,null,null,null,null,null,null,null,null,null,null,null,null,null,null,null,null,null,null,null,null,null,null,null,null,null,null,null,null,null,null,null,null,null,null,null,null,null,null,null,null,null,null,null,null,null,null,null,null,null,null,null,null,null,null,null,null,null,null,null,null,null,null,null,null,null,null,null,{"$f":"DK729","v":-28.03629848350965},{"$f":"DL729","v":54.856659465688544},"قرینه15",null,null,null,null,null,null,null,null,null,null,null,null,null,null,null,null,null,null,null,null,null,null,null,null,null,{"$f":"EM727+EN735*(EM729-EM727)","v":-7.0929999999999991},{"$f":"EN728+(EM741-EM728)*(EN729-EN728)/(EM729-EM728)","v":39.697082178628776},41,null,-6.1239999999999988,22.450286158596661,40,null,null,null,null,null,null,null,null,null,null,null,null,null,null,null,null,null,null,null,null,{"$f":"FN739","v":0},{"$f":"FO739+FO733","v":2.4192904342394641},"p10",null,"γ18",{"$f":"'متغیرها '!C157","v":5},null,{"$f":"FN744+FO729","v":9.5828249222529127},{"$f":"FO744+FO730","v":42.821734351067093},"p13",null,null,null,null,null,null,null,null,null,null,null,null,null,null,null,null,null,null,null,null,null,null,null,null,null,null,null,null,null,null,null,null,null,null,null,null,null,null,null,null,null,null,null,null,null,null,null,null,null,null,null,null,null,null,null,null,null,null,null,null,null,null,null,null,null,null,null,null,null,null,null,null,null,null,null,null,null,null,null,null,null,null,null,null,null,null,null,null,null,null,null,null,null,null,null,null,null,null,null,null,null,null,null,null,null,null,null,null,null,null,null,null,null,null,null,null,null,null,null,null,null,null,null,null,null,null,null,null,null,null,null,null,null,null,null,null,null,null,null,null,null,null,null,null,null,null,null,null,null,null,null,null,null,null,null,null,null,null,null,null,null,null,null,null,null,null,null,null,null,null,null,null,null,null,null,null,null,null,null,null,null,null,null,null,null,null,null,null,null,null,null,null,null,null,null,null,null,null,null,null,null,null,null,null,null,null,null,null,null,"w73",{"$f":"NU118","v":-25},{"$f":"NV118","v":27.800000000000011},{"$f":"NZ748","v":-5.8139423076923036},{"$f":"OA748","v":28.050000000000011},{"$f":"NY748","v":"h10"},null,null,null,null,null,"بزرگی فلش",{"$f":"OG51","v":0.25411764705882356},"f4",{"$f":"OK743","v":-15.274038461538465},{"$f":"OL743","v":16.011764705882356},{"$f":"OJ743","v":"m81"}]
[null,null,null,null,null,null,null,null,null,null,null,null,null,null,null,null,null,null,null,null,null,null,null,null,null,null,null,null,null,null,null,null,null,null,null,null,null,null,null,null,null,null,null,null,null,null,null,null,null,null,null,null,null,null,null,null,null,null,null,null,null,null,null,null,null,null,null,null,null,null,null,null,null,null,null,null,null,null,null,null,null,null,null,null,null,null,null,null,null,null,null,null,null,null,null,null,null,null,null,null,null,null,null,null,null,null,null,null,null,null,null,null,null,null,null,null,null,null,null,null,null,null,null,null,null,null,null,null,null,null,null,null,null,null,null,null,null,null,null,null,null,null,null,null,null,null,null,null,null,null,null,null,null,null,null,null,null,null,null,null,null,null,null,null,null,null,null,null,null,null,null,null,null,null,null,null,null,null,null,null,null,null,null,null,null,null,null,null,null,null,null,null,null,null,null,null,null,null,null,null,null,null,null,null,null,null,null,null,null,null,null,null,null,null,null,null,null,null,null,null,null,null,null,null,null,null,null,null,null,null,null,null,null,null,null,null,null,null,null,null,null,null,null,null,null,null,null,null,null,null,null,null,null,null,null,null,null,null,null,null,null,null,null,null,null,null,null,null,null,null,null,null,null,null,null,null,null,null,null,null,null,null,null,null,null,null,null,null,null,null,null,null,null,null,null,null,null,null,null,null,null,null,null,null,null,null,null,null,null,null,null,null,null,null,null,null,null,null,null,null,null,null,null,null,null,null,null,null,null,null,null,null,null,null,null,null,null,null,null,null,null,null,null,null,null,null,null,null,null,null,null,null,null,null,null,null,null,null,null,null,null,null,null,null,null,null,null,null,null,null,null,null,null,null,null,null,null,null,null,null,null,null,null,null,null,null,null,null,"نقطه شروع رج(چپ)","مولفه افقی","مولفه عمودی",null,null,null,null,null,null,null,null,"g8",{"$f":"OK752-0.7*OL749*SIN(RADIANS(30)-ATAN((OK752-OK755)/(OL752-OL755+0.0001)))","v":-20.684867429564914},{"$f":"OL752-0.7*OL749*COS(RADIANS(30)-ATAN((OK752-OK755)/(OL752-OL755+0.0001)))","v":16.218929440235812},{"$f":"OK757","v":-20.358069987754821},{"$f":"OL757","v":16.298311530986471},{"$f":"OJ757","v":"g7"}]
[null,null,null,null,null,null,null,null,null,null,null,null,null,null,null,null,null,null,null,null,null,null,null,null,null,null,null,null,null,null,null,null,null,null,null,null,null,null,null,null,null,null,null,null,null,null,null,null,null,null,null,null,null,null,null,null,null,null,null,null,null,null,null,null,null,null,null,null,null,null,null,null,null,null,null,null,null,null,null,null,null,null,null,null,null,null,null,null,null,null,null,null,null,null,null,null,null,null,null,null,null,null,null,null,null,null,null,null,null,null,null,null,null,null,null,null,null,null,null,null,null,null,null,null,null,null,null,null,null,null,null,null,null,null,null,null,null,null,null,null,null,null,null,null,null,null,null,null,null,null,null,null,null,null,null,null,null,null,null,null,null,null,null,null,null,null,null,null,null,null,null,null,null,null,null,null,null,null,null,null,null,null,null,null,null,null,null,null,null,null,null,null,null,null,null,null,null,null,null,null,null,null,null,null,null,null,null,null,null,null,null,null,null,null,null,null,null,null,null,null,null,null,null,null,null,null,null,null,null,null,null,null,null,null,null,null,null,null,null,null,null,null,null,null,null,null,null,null,null,null,null,null,null,null,null,null,null,null,null,null,null,null,null,null,null,null,null,null,null,null,null,null,null,null,null,null,null,null,null,null,null,null,null,null,null,null,null,null,null,null,null,null,null,null,null,null,null,null,null,null,null,null,null,null,null,null,null,null,null,null,null,null,null,null,null,null,null,null,null,null,null,null,null,null,null,null,null,null,null,null,null,null,null,null,null,null,null,null,null,null,null,null,null,null,null,null,null,null,null,null,null,null,null,null,null,null,null,null,null,null,null,null,null,null,null,null,null,null,null,null,null,null,null,null,null,null,null,null,null,null,null,null,null,null,null,null,null,null,"w2",{"$f":"NU49","v":22.822115384615394},{"$f":"NV49-2*NV33","v":3.8},null,null,null,null,null,null,null,null,"f7",{"$f":"OK774+OK774-OK775","v":-19.50143288084465},{"$f":"OL775","v":16.647058823529413},{"$f":"OK774","v":-19.660256410256416},{"$f":"OL774","v":16.435294117647061},{"$f":"OJ774","v":"m84"},null,null,null,null,null,"نقطه ورودی سر فلش","مولفه افقی","مولفه عمودی",{"$f":"OV779","v":-16.977515082956263},{"$f":"OW779","v":16.562352941176474},{"$f":"OU779","v":"f3"}]
[null,null,null,null,null,null,null,null,null,null,null,null,null,null,null,null,null,null,null,null,null,null,null,null,null,null,null,null,null,null,null,null,null,null,null,null,null,null,null,null,null,null,null,null,null,null,null,null,null,null,null,null,null,null,null,null,null,null,null,null,null,null,null,null,null,null,null,null,null,null,null,null,null,null,null,null,null,null,null,null,null,null,null,null,null,null,null,null,null,null,null,null,null,null,null,null,null,null,null,null,null,null,null,null,null,null,null,null,null,null,null,null,null,null,null,null,null,null,null,null,null,null,null,null,null,null,null,null,null,null,null,null,null,null,null,null,null,null,null,null,null,null,null,null,null,null,null,null,null,null,null,null,null,null,null,null,null,null,null,null,null,null,null,null,null,null,null,null,null,null,null,null,null,null,null,null,null,null,null,null,null,null,null,null,null,null,null,null,null,null,null,null,null,null,null,null,null,null,null,null,null,null,null,null,null,null,null,null,null,null,null,null,null,null,null,null,null,null,null,null,null,null,null,null,null,null,null,null,null,null,null,null,null,null,null,null,null,null,null,null,null,null,null,null,null,null,null,null,null,null,null,null,null,null,null,null,null,null,null,null,null,null,null,null,null,null,null,null,null,null,null,null,null,null,null,null,null,null,null,null,null,null,null,null,null,null,null,null,null,null,null,null,null,null,null,null,null,null,null,null,null,null,null,null,null,null,null,null,null,null,null,null,null,null,null,null,null,null,null,null,null,null,null,null,null,null,null,null,null,null,null,null,null,null,null,null,null,null,null,null,null,null,null,null,null,null,null,null,null,null,null,null,null,null,null,null,null,null,null,null,null,null,null,null,null,null,null,null,null,null,null,null,null,null,null,null,null,null,null,null,null,null,null,null,null,null,null,null,null,null,null,null,null,null,null,null,null,null,null,null,"متغیرهای ورودی",null,{"$f":"OK799","v":-18.706730769230774},{"$f":"OL799","v":16.858823529411765},{"$f":"OJ799","v":"m87"}]
[null,null,null,null,null,null,null,null,null,null,null,null,null,null,null,null,null,null,null,null,null,null,null,null,null,null,null,null,null,null,null,null,null,null,null,null,null,null,null,null,null,null,null,null,null,null,null,null,null,null,null,null,null,null,null,null,null,null,null,null,null,null,null,null,null,null,null,null,null,null,null,null,null,null,null,null,null,null,null,null,null,null,null,null,null,null,null,null,null,null,null,null,null,null,null,null,null,null,null,null,null,null,null,null,null,null,null,null,null,null,null,null,null,null,null,null,null,null,null,null,null,null,null,null,null,null,null,null,null,null,null,null,null,null,null,null,null,null,null,null,null,null,null,null,null,null,null,null,null,null,null,null,null,null,null,null,null,null,null,null,null,null,null,null,null,null,null,null,null,null,null,null,null,null,null,null,null,null,null,null,null,null,null,null,null,null,null,null,null,null,null,null,null,null,null,null,null,null,null,null,null,null,null,null,null,null,null,null,null,null,null,null,null,null,null,null,null,null,null,null,null,null,null,null,null,null,null,null,null,null,null,null,null,null,null,null,null,null,null,null,null,null,null,null,null,null,null,null,null,null,null,null,null,null,null,null,null,null,null,null,null,null,null,null,null,null,null,null,null,null,null,null,null,null,null,null,null,null,null,null,null,null,null,null,null,null,null,null,null,null,null,null,null,null,null,null,null,null,null,null,null,null,null,null,null,null,null,null,null,null,null,null,null,null,null,null,null,null,null,null,null,null,null,null,null,null,null,null,null,null,null,null,null,null,null,null,null,null,null,null,null,null,null,null,null,null,null,null,null,null,null,null,null,null,null,null,null,null,null,null,null,null,null,null,null,null,null,null,null,null,null,null,null,null,null,null,null,null,null,null,null,null,null,null,null,null,null,null,null,null,null,null,null,null,null,null,null,null,null,null,null,null,null,null,null,null,null,null,null,null,"پهنای باکس نوشته",{"$f":"OR41","v":0.5},"h4"]
[null,null,null,null,null,null,null,null,null,null,null,null,null,null,null,null,null,null,null,null,null,null,null,null,null,null,null,null,null,null,null,null,null,null,null,null,null,null,null,null,null,null,null,null,null,null,null,null,null,null,null,null,null,null,null,null,null,null,null,null,null,null,null,null,null,null,null,null,null,null,null,null,null,null,null,null,null,null,null,null,null,null,null,null,null,null,null,null,null,null,null,null,null,null,null,null,null,null,null,null,null,null,null,null,null,null,null,null,null,null,null,null,null,null,null,null,null,null,null,null,null,null,null,null,null,null,null,null,null,null,null,null,null,null,null,null,null,null,null,null,null,null,null,null,null,null,null,null,null,null,null,null,null,null,null,null,null,null,null,null,null,null,null,null,null,null,null,null,null,null,null,null,null,null,null,null,null,null,null,null,null,null,null,null,null,null,null,null,null,null,null,null,null,null,null,null,null,null,null,null,null,null,null,null,null,null,null,null,null,null,null,null,null,null,null,null,null,null,null,null,null,null,null,null,null,null,null,null,null,null,null,null,null,null,null,null,null,null,null,null,null,null,null,null,null,null,null,null,null,null,null,null,null,null,null,null,null,null,null,null,null,null,null,null,null,null,null,null,null,null,null,null,null,null,null,null,null,null,null,null,null,null,null,null,null,null,null,null,null,null,null,null,null,null,null,null,null,null,null,null,null,null,null,null,null,null,null,null,null,null,null,null,null,null,null,null,null,null,null,null,null,null,null,null,null,null,null,null,null,null,null,null,null,null,null,null,null,null,null,null,null,null,null,null,null,null,null,null,null,null,null,null,null,null,null,null,null,null,null,null,null,null,null,null,null,null,null,null,null,null,null,null,null,null,null,null,null,null,null,null,null,null,null,null,null,null,null,null,null,null,null,null,null,null,null,null,null,null,null,"نقطه ورودی سر فلش","مولفه افقی","مولفه عمودی",{"$f":"OK831","v":-14.46020739064857},{"$f":"OL831","v":19.527058823529412},{"$f":"OJ831","v":"f3"},null,null,null,null,null,"نسبت سایز افقی",{"$f":"OR37","v":42},"انحنا راستگرد ",null,null,{"$f":"OW828","v":"انحنا راستگرد "}]
[null,null,null,null,null,null,null,null,null,null,null,null,null,null,null,null,null,null,null,null,null,null,null,null,null,null,null,null,null,null,null,null,null,null,null,null,null,null,null,null,null,null,null,null,null,null,null,null,null,null,null,null,null,null,null,null,null,null,null,null,null,null,null,null,null,null,null,null,null,null,null,null,null,null,null,null,null,null,null,null,null,null,null,null,null,null,null,null,null,null,null,null,null,null,null,null,null,null,null,null,null,null,null,null,null,null,null,null,null,null,null,null,null,null,null,null,null,null,null,null,null,null,null,null,null,null,null,null,null,null,null,null,null,null,null,null,null,null,null,null,null,null,null,null,null,null,null,null,null,null,null,null,null,null,null,null,null,null,null,null,null,null,null,null,null,null,null,null,null,null,null,null,null,null,null,null,null,null,null,null,null,null,null,null,null,null,null,null,null,null,null,null,null,null,null,null,null,null,null,null,null,null,null,null,null,null,null,null,null,null,null,null,null,null,null,null,null,null,null,null,null,null,null,null,null,null,null,null,null,null,null,null,null,null,null,null,null,null,null,null,null,null,null,null,null,null,null,null,null,null,null,null,null,null,null,null,null,null,null,null,null,null,null,null,null,null,null,null,null,null,null,null,null,null,null,null,null,null,null,null,null,null,null,null,null,null,null,null,null,null,null,null,null,null,null,null,null,null,null,null,null,null,null,null,null,null,null,null,null,null,null,null,null,null,null,null,null,null,null,null,null,null,null,null,null,null,null,null,null,null,null,null,null,null,null,null,null,null,null,null,null,null,null,null,null,null,null,null,null,null,null,null,null,null,null,null,null,null,null,null,null,null,null,null,null,null,null,null,null,null,null,null,null,null,null,null,null,null,null,null,null,null,null,null,null,null,null,null,null,null,null,null,null,null,null,null,null,null,null,"بزرگی خط عمودی دانه",{"$f":"OG44","v":0.30000000000000004},"f9",null,null,"فلش به سمت بالا",null,null,null,null,null,"f2",{"$f":"OV844-1*OV842","v":-16.443540723981904},{"$f":"OW844-OV841*OV842","v":19.272941176470585},{"$f":"OV844","v":-16.189423076923081},{"$f":"OW844","v":19.399999999999999},{"$f":"OU844","v":"m90"}]
[null,null,null,null,null,null,null,null,null,null,null,null,null,null,null,null,null,null,null,null,null,null,null,null,null,null,null,null,null,null,null,null,null,null,null,null,null,null,null,null,null,null,null,null,null,null,null,null,null,null,null,null,null,null,null,null,null,null,null,null,null,null,null,null,null,null,null,null,null,null,null,null,null,null,null,null,null,null,null,null,null,null,null,null,null,null,null,null,null,null,null,null,null,null,null,null,null,null,null,null,null,null,null,null,null,null,null,null,null,null,null,null,null,null,null,null,null,null,null,null,null,null,null,null,null,null,null,null,null,null,null,null,null,null,null,null,null,null,null,null,null,null,null,null,null,null,null,null,null,null,null,null,null,null,null,null,null,null,null,null,null,null,null,null,null,null,null,null,null,null,null,null,null,null,null,null,null,null,null,null,null,null,null,null,null,null,null,null,null,null,null,null,null,null,null,null,null,null,null,null,null,null,null,null,null,null,null,null,null,null,null,null,null,null,null,null,null,null,null,null,null,null,null,null,null,null,null,null,null,null,null,null,null,null,null,null,null,null,null,null,null,null,null,null,null,null,null,null,null,null,null,null,null,null,null,null,null,null,null,null,null,null,null,null,null,null,null,null,null,null,null,null,null,null,null,null,null,null,null,null,null,null,null,null,null,null,null,null,null,null,null,null,null,null,null,null,null,null,null,null,null,null,null,null,null,null,null,null,null,null,null,null,null,null,null,null,null,null,null,null,null,null,null,null,null,null,null,null,null,null,null,null,null,null,null,null,null,null,null,null,null,null,null,null,null,null,null,null,null,null,null,null,null,null,null,null,null,null,null,null,null,null,null,null,null,null,null,null,null,null,null,null,null,null,null,null,null,null,null,null,null,null,null,null,null,null,null,null,null,null,null,null,null,null,null,null,null,null,null,"g4",{"$f":"OK859+OK857*OK855/40","v":26.824679487179488},{"$f":"OL859+0.5*OK856","v":19.611764705882351},{"$f":"OK866","v":26.643478724281241},{"$f":"OL866","v":19.607164734353454},{"$f":"OJ866","v":"g8"},null,null,null,null,null,"زاویه فلش دانه",{"$f":"OR46","v":0.75},"f11",{"$f":"OV865","v":24.106570512820518},{"$f":"OW865","v":19.399999999999999},{"$f":"OU865","v":"m92"}]
[null,null,null,null,null,null,null,null,null,null,null,null,null,null,null,null,null,null,null,null,null,null,null,null,null,null,null,null,null,null,null,null,null,null,null,null,null,null,null,null,null,null,null,null,null,null,null,null,null,null,null,null,null,null,null,null,null,null,null,null,null,null,null,null,null,null,null,null,null,null,null,null,null,null,null,null,null,null,null,null,null,null,null,null,null,null,null,null,null,null,null,null,null,null,null,null,null,null,null,null,null,null,null,null,null,null,null,null,null,null,null,null,null,null,null,null,null,null,null,null,null,null,null,null,null,null,null,null,null,null,null,null,null,null,null,null,null,null,null,null,null,null,null,null,null,null,null,null,null,null,null,null,null,null,null,null,null,null,null,null,null,null,null,null,null,null,null,null,null,null,null,null,null,null,null,null,null,null,null,null,null,null,null,null,null,null,null,null,null,null,null,null,null,null,null,null,null,null,null,null,null,null,null,null,null,null,null,null,null,null,null,null,null,null,null,null,null,null,null,null,null,null,null,null,null,null,null,null,null,null,null,null,null,null,null,null,null,null,null,null,null,null,null,null,null,null,null,null,null,null,null,null,null,null,null,null,null,null,null,null,null,null,null,null,null,null,null,null,null,null,null,null,null,null,null,null,null,null,null,null,null,null,null,null,null,null,null,null,null,null,null,null,null,null,null,null,null,null,null,null,null,null,null,null,null,null,null,null,null,null,null,null,null,null,null,null,null,null,null,null,null,null,null,null,null,null,null,null,null,null,null,null,null,null,null,null,null,null,null,null,null,null,null,null,null,null,null,null,null,null,null,null,null,null,null,null,null,null,null,null,null,null,null,null,null,null,null,null,null,null,null,null,null,null,null,null,null,null,null,null,null,null,null,null,null,null,null,null,null,null,null,null,null,null,null,null,null,null,null,"h8",{"$f":"OK879-0.5*OK870","v":0.59294871794871895},{"$f":"OL875","v":19.823529411764703},null,null,null,null,null,null,null,null,"g7",{"$f":"OV875+0.7*OW872*SIN(RADIANS(30)+2*ATAN((OV875-OV878)/(OW875-OW878+0.0001)))","v":25.158577448142619},{"$f":"OW875-0.7*OW872*COS(RADIANS(30)+2*ATAN((OV875-OV878)/(OW875-OW878+0.0001)))","v":19.686546825104113},{"$f":"OV875","v":24.981480769230771},{"$f":"OW875","v":19.703247058823525},{"$f":"OU875","v":"g11"}]
[null,null,null,null,null,null,null,null,null,null,null,null,null,null,null,null,null,null,null,null,null,null,null,null,null,null,null,null,null,null,null,null,null,null,null,null,null,null,null,null,null,null,null,null,null,null,null,null,null,null,null,null,null,null,null,null,null,null,null,null,null,null,null,null,null,null,null,null,null,null,null,null,null,null,null,null,null,null,null,null,null,null,null,null,null,null,null,null,null,null,null,null,null,null,null,null,null,null,null,null,null,null,null,null,null,null,null,null,null,null,null,null,null,null,null,null,null,null,null,null,null,null,null,null,null,null,null,null,null,null,null,null,null,null,null,null,null,null,null,null,null,null,null,null,null,null,null,null,null,null,null,null,null,null,null,null,null,null,null,null,null,null,null,null,null,null,null,null,null,null,null,null,null,null,null,null,null,null,null,null,null,null,null,null,null,null,null,null,null,null,null,null,null,null,null,null,null,null,null,null,null,null,null,null,null,null,null,null,null,null,null,null,null,null,null,null,null,null,null,null,null,null,null,null,null,null,null,null,null,null,null,null,null,null,null,null,null,null,null,null,null,null,null,null,null,null,null,null,null,null,null,null,null,null,null,null,null,null,null,null,null,null,null,null,null,null,null,null,null,null,null,null,null,null,null,null,null,null,null,null,null,null,null,null,null,null,null,null,null,null,null,null,null,null,null,null,null,null,null,null,null,null,null,null,null,null,null,null,null,null,null,null,null,null,null,null,null,null,null,null,null,null,null,null,null,null,null,null,null,null,null,null,null,null,null,null,null,null,null,null,null,null,null,null,null,null,null,null,null,null,null,null,null,null,null,null,null,null,null,null,null,null,null,null,null,null,null,null,null,null,null,null,null,null,null,null,null,null,null,null,null,null,null,null,null,null,null,null,null,null,null,null,null,null,null,null,null,null,null,"زاویه فلش",{"$f":"OG43","v":0.5},"f5",null,null,"فلش به سمت راست",null,null,null,null,null,null,null,null,{"$f":"OV894","v":0.93589743589743435},{"$f":"OW894","v":19.823529411764703},{"$f":"OU894","v":"h5"}]
[null,null,null,null,null,null,null,null,null,null,null,null,null,null,null,null,null,null,null,null,null,null,null,null,null,null,null,null,null,null,null,null,null,null,null,null,null,null,null,null,null,null,null,null,null,null,null,null,null,null,null,null,null,null,null,null,null,null,null,null,null,null,null,null,null,null,null,null,null,null,null,null,null,null,null,null,null,null,null,null,null,null,null,null,null,null,null,null,null,null,null,null,null,null,null,null,null,null,null,null,null,null,null,null,null,null,null,null,null,null,null,null,null,null,null,null,null,null,null,null,null,null,null,null,null,null,null,null,null,null,null,null,null,null,null,null,null,null,null,null,null,null,null,null,null,null,null,null,null,null,null,null,null,null,null,null,null,null,null,null,null,null,null,null,null,null,null,null,null,null,null,null,null,null,null,null,null,null,null,null,null,null,null,null,null,null,null,null,null,null,null,null,null,null,null,null,null,null,null,null,null,null,null,null,null,null,null,null,null,null,null,null,null,null,null,null,null,null,null,null,null,null,null,null,null,null,null,null,null,null,null,null,null,null,null,null,null,null,null,null,null,null,null,null,null,null,null,null,null,null,null,null,null,null,null,null,null,null,null,null,null,null,null,null,null,null,null,null,null,null,null,null,null,null,null,null,null,null,null,null,null,null,null,null,null,null,null,null,null,null,null,null,null,null,null,null,null,null,null,null,null,null,null,null,null,null,null,null,null,null,null,null,null,null,null,null,null,null,null,null,null,null,null,null,null,null,null,null,null,null,null,null,null,null,null,null,null,null,null,null,null,null,null,null,null,null,null,null,null,null,null,null,null,null,null,null,null,null,null,null,null,null,null,null,null,null,null,null,null,null,null,null,null,null,null,null,null,null,null,null,null,null,null,null,null,null,null,null,null,null,null,null,null,null,null,null,null,null,null,"ارتفاع هر رج",{"$f":"OG38","v":0.42352941176470588},"w11",null,null,null,null,null,null,null,null,"g7",{"$f":"OV909+0.7*OW906*SIN(RADIANS(30)-2*ATAN((OV909-OV912)/(OW909-OW912+0.0001)))","v":-22.984534549529425},{"$f":"OW909-0.7*OW906*COS(RADIANS(30)-2*ATAN((OV909-OV912)/(OW909-OW912+0.0001)))","v":20.910108503382101},{"$f":"OV909","v":-23.109685897435899},{"$f":"OW909","v":21.036517647058822},{"$f":"OU909","v":"g11"}]
[null,null,null,null,null,null,null,null,null,null,null,null,null,null,null,null,null,null,null,null,null,null,null,null,null,null,null,null,null,null,null,null,null,null,null,null,null,null,null,null,null,null,null,null,null,null,null,null,null,null,null,null,null,null,null,null,null,null,null,null,null,null,null,null,null,null,null,null,null,null,null,null,null,null,null,null,null,null,null,null,null,null,null,null,null,null,null,null,null,null,null,null,null,null,null,null,null,null,null,null,null,null,null,null,null,null,null,null,null,null,null,null,null,null,null,null,null,null,null,null,null,null,null,null,null,null,null,null,null,null,null,null,null,null,null,null,null,null,null,null,null,null,null,null,null,null,null,null,null,null,null,null,null,null,null,null,null,null,null,null,null,null,null,null,null,null,null,null,null,null,null,null,null,null,null,null,null,null,null,null,null,null,null,null,null,null,null,null,null,null,null,null,null,null,null,null,null,null,null,null,null,null,null,null,null,null,null,null,null,null,null,null,null,null,null,null,null,null,null,null,null,null,null,null,null,null,null,null,null,null,null,null,null,null,null,null,null,null,null,null,null,null,null,null,null,null,null,null,null,null,null,null,null,null,null,null,null,null,null,null,null,null,null,null,null,null,null,null,null,null,null,null,null,null,null,null,null,null,null,null,null,null,null,null,null,null,null,null,null,null,null,null,null,null,null,null,null,null,null,null,null,null,null,null,null,null,null,null,null,null,null,null,null,null,null,null,null,null,null,null,null,null,null,null,null,null,null,null,null,null,null,null,null,null,null,null,null,null,null,null,null,null,null,null,null,null,null,null,null,null,null,null,null,null,null,null,null,null,null,null,null,null,null,null,null,null,null,null,null,null,null,null,null,null,null,null,null,null,null,null,null,null,null,null,null,null,null,null,null,null,null,null,null,null,null,null,null,null,null,"g7",{"$f":"OK926+0.7*OL923*SIN(RADIANS(30)+2*ATAN((OK926-OK929)/(OL926-OL929+0.0001)))","v":28.686622319937488},{"$f":"OL926-0.7*OL923*COS(RADIANS(30)+2*ATAN((OK926-OK929)/(OL926-OL929+0.0001)))","v":21.804193883927642},{"$f":"OK926","v":28.50952564102564},{"$f":"OL926","v":21.820894117647054},{"$f":"OJ926","v":"g11"},null,null,null,null,null,"m98",{"$f":"OQ153","v":-22.234775641025646},{"$f":"OR153","v":21.517647058823528},{"$f":"OV932","v":-22.393599170437412},{"$f":"OW932","v":21.905882352941177},{"$f":"OU932","v":"f6"}]
[null,null,null,null,null,null,null,null,null,null,null,null,null,null,null,null,null,null,null,null,null,null,null,null,null,null,null,null,null,null,null,null,null,null,null,null,null,null,null,null,null,null,null,null,null,null,null,null,null,null,null,null,null,null,null,null,null,null,null,null,null,null,null,null,null,null,null,null,null,null,null,null,null,null,null,null,null,null,null,null,null,null,null,null,null,null,null,null,null,null,null,null,null,null,null,null,null,null,null,null,null,null,null,null,null,null,null,null,null,null,null,null,null,null,null,null,null,null,null,null,null,null,null,null,null,null,null,null,null,null,null,null,null,null,null,null,null,null,null,null,null,null,null,null,null,null,null,null,null,null,null,null,null,null,null,null,null,null,null,null,null,null,null,null,null,null,null,null,null,null,null,null,null,null,null,null,null,null,null,null,null,null,null,null,null,null,null,null,null,null,null,null,null,null,null,null,null,null,null,null,null,null,null,null,null,null,null,null,null,null,null,null,null,null,null,null,null,null,null,null,null,null,null,null,null,null,null,null,null,null,null,null,null,null,null,null,null,null,null,null,null,null,null,null,null,null,null,null,null,null,null,null,null,null,null,null,null,null,null,null,null,null,null,null,null,null,null,null,null,null,null,null,null,null,null,null,null,null,null,null,null,null,null,null,null,null,null,null,null,null,null,null,null,null,null,null,null,null,null,null,null,null,null,null,null,null,null,null,null,null,null,null,null,null,null,null,null,null,null,null,null,null,null,null,null,null,null,null,null,null,null,null,null,null,null,null,null,null,null,null,null,null,null,null,null,null,null,null,null,null,null,null,null,null,null,null,null,null,null,null,null,null,null,null,null,null,null,null,null,null,null,null,null,null,null,null,null,null,null,null,null,null,null,null,null,null,null,null,null,null,null,null,null,null,null,null,null,null,null,"h10",{"$f":"OK946","v":0.97435897435897445},{"$f":"OL946+0.5*OK937","v":22.191176470588232},{"$f":"OK951","v":5.4743589743589745},{"$f":"OL951","v":22.191176470588232},{"$f":"OJ951","v":"h13"}]
[null,null,null,null,null,null,null,null,null,null,null,null,null,null,null,null,null,null,null,null,null,null,null,null,null,null,null,null,null,null,null,null,null,null,null,null,null,null,null,null,null,null,null,null,null,null,null,null,null,null,null,null,null,null,null,null,null,null,null,null,null,null,null,null,null,null,null,null,null,null,null,null,null,null,null,null,null,null,null,null,null,null,null,null,null,null,null,null,null,null,null,null,null,null,null,null,null,null,null,null,null,null,null,null,null,null,null,null,null,null,null,null,null,null,null,null,null,null,null,null,null,null,null,null,null,null,null,null,null,null,null,null,null,null,null,null,null,null,null,null,null,null,null,null,null,null,null,null,null,null,null,null,null,null,null,null,null,null,null,null,null,null,null,null,null,null,null,null,null,null,null,null,null,null,null,null,null,null,null,null,null,null,null,null,null,null,null,null,null,null,null,null,null,null,null,null,null,null,null,null,null,null,null,null,null,null,null,null,null,null,null,null,null,null,null,null,null,null,null,null,null,null,null,null,null,null,null,null,null,null,null,null,null,null,null,null,null,null,null,null,null,null,null,null,null,null,null,null,null,null,null,null,null,null,null,null,null,null,null,null,null,null,null,null,null,null,null,null,null,null,null,null,null,null,null,null,null,null,null,null,null,null,null,null,null,null,null,null,null,null,null,null,null,null,null,null,null,null,null,null,null,null,null,null,null,null,null,null,null,null,null,null,null,null,null,null,null,null,null,null,null,null,null,null,null,null,null,null,null,null,null,null,null,null,null,null,null,null,null,null,null,null,null,null,null,null,null,null,null,null,null,null,null,null,null,null,null,null,null,null,null,null,null,null,null,null,null,null,null,null,null,null,null,null,null,null,null,null,null,null,null,null,null,null,null,null,null,null,null,null,null,null,null,null,null,null,null,null,null,"m100",{"$f":"OF155","v":-21.567307692307693},{"$f":"OG155","v":21.941176470588232},{"$f":"OK971","v":-21.934807692307693},{"$f":"OL971","v":23.398117647058822},{"$f":"OJ971","v":"g6"},null,null,null,null,null,"h13",{"$f":"OV962","v":3.5673076923076934},{"$f":"OW963","v":22.191176470588232},{"$f":"OV958","v":26.204326923076927},{"$f":"OW958","v":21.941176470588232},{"$f":"OU958","v":"m99"}]
[null,null,null,null,null,null,null,null,null,null,null,null,null,null,null,null,null,null,null,null,null,null,null,null,null,null,null,null,null,null,null,null,null,null,null,null,null,null,null,null,null,null,null,null,null,null,null,null,null,null,null,null,null,null,null,null,null,null,null,null,null,null,null,null,null,null,null,null,null,null,null,null,null,null,null,null,null,null,null,null,null,null,null,null,null,null,null,null,null,null,null,null,null,null,null,null,null,null,null,null,null,null,null,null,null,null,null,null,null,null,null,null,null,null,null,null,null,null,null,null,null,null,null,null,null,null,null,null,null,null,null,null,null,null,null,null,null,null,null,null,null,null,null,null,null,null,null,null,null,null,null,null,null,null,null,null,null,null,null,null,null,null,null,null,null,null,null,null,null,null,null,null,null,null,null,null,null,null,null,null,null,null,null,null,null,null,null,null,null,null,null,null,null,null,null,null,null,null,null,null,null,null,null,null,null,null,null,null,null,null,null,null,null,null,null,null,null,null,null,null,null,null,null,null,null,null,null,null,null,null,null,null,null,null,null,null,null,null,null,null,null,null,null,null,null,null,null,null,null,null,null,null,null,null,null,null,null,null,null,null,null,null,null,null,null,null,null,null,null,null,null,null,null,null,null,null,null,null,null,null,null,null,null,null,null,null,null,null,null,null,null,null,null,null,null,null,null,null,null,null,null,null,null,null,null,null,null,null,null,null,null,null,null,null,null,null,null,null,null,null,null,null,null,null,null,null,null,null,null,null,null,null,null,null,null,null,null,null,null,null,null,null,null,null,null,null,null,null,null,null,null,null,null,null,null,null,null,null,null,null,null,null,null,null,null,null,null,null,null,null,null,null,null,null,null,null,null,null,null,null,null,null,null,null,null,null,null,null,null,null,null,null,null,null,null,null,null,null,null,"g2",{"$f":"OK981","v":28.778846153846153},{"$f":"OL981+OK978","v":24.058823529411761},null,null,null,null,null,null,null,null,"g2",{"$f":"OV981","v":-23.56971153846154},{"$f":"OW981+OV978","v":23.635294117647057}]
[null,null,null,null,null,null,null,null,null,null,null,null,null,null,null,null,null,null,null,null,null,null,null,null,null,null,null,null,null,null,null,null,null,null,null,null,null,null,null,null,null,null,null,null,null,null,null,null,null,null,null,null,null,null,null,null,null,null,null,null,null,null,null,null,null,null,null,null,null,null,null,null,null,null,null,null,null,null,null,null,null,null,null,null,null,null,null,null,null,null,null,null,null,null,null,null,null,null,null,null,null,null,null,null,null,null,null,null,null,null,null,null,null,null,null,null,null,null,null,null,null,null,null,null,null,null,null,null,null,null,null,null,null,null,null,null,null,null,null,null,null,null,null,null,null,null,null,null,null,null,null,null,null,null,null,null,null,null,null,null,null,null,null,null,null,null,null,null,null,null,null,null,null,null,null,null,null,null,null,null,null,null,null,null,null,null,null,null,null,null,null,null,null,null,null,null,null,null,null,null,null,null,null,null,null,null,null,null,null,null,null,null,null,null,null,null,null,null,null,null,null,null,null,null,null,null,null,null,null,null,null,null,null,null,null,null,null,null,null,null,null,null,null,null,null,null,null,null,null,null,null,null,null,null,null,null,null,null,null,null,null,null,null,null,null,null,null,null,null,null,null,null,null,null,null,null,null,null,null,null,null,null,null,null,null,null,null,null,null,null,null,null,null,null,null,null,null,null,null,null,null,null,null,null,null,null,null,null,null,null,null,null,null,null,null,null,null,null,null,null,null,null,null,null,null,null,null,null,null,null,null,null,null,null,null,null,null,null,null,null,null,null,null,null,null,null,null,null,null,null,null,null,null,null,null,null,null,null,null,null,null,null,null,null,null,null,null,null,null,null,null,null,null,null,null,null,null,null,null,null,null,null,null,null,null,null,null,null,null,null,null,null,null,null,null,null,null,null,null,"h5",{"$f":"OK997+0.5*(OK999-OK997)","v":3.6057692307692299},{"$f":"OL997","v":24.058823529411761},{"$f":"OK1006","v":5.8557692307692299},{"$f":"OL1006","v":23.808823529411761},{"$f":"OJ1006","v":"h12"},null,null,null,null,null,"g6",{"$f":"OV1000","v":27.334647435897438},{"$f":"OW998-OW1000+OW996","v":23.999529411764701}]
[null,null,null,null,null,null,null,null,null,null,null,null,null,null,null,null,null,null,null,null,null,null,null,null,null,null,null,null,null,null,null,null,null,null,null,null,null,null,null,null,null,null,null,null,null,null,null,null,null,null,null,null,null,null,null,null,null,null,null,null,null,null,null,null,null,null,null,null,null,null,null,null,null,null,null,null,null,null,null,null,null,null,null,null,null,null,null,null,null,null,null,null,null,null,null,null,null,null,null,null,null,null,null,null,null,null,null,null,null,null,null,null,null,null,null,null,null,null,null,null,null,null,null,null,null,null,null,null,null,null,null,null,null,null,null,null,null,null,null,null,null,null,null,null,null,null,null,null,null,null,null,null,null,null,null,null,null,null,null,null,null,null,null,null,null,null,null,null,null,null,null,null,null,null,null,null,null,null,null,null,null,null,null,null,null,null,null,null,null,null,null,null,null,null,null,null,null,null,null,null,null,null,null,null,null,null,null,null,null,null,null,null,null,null,null,null,null,null,null,null,null,null,null,null,null,null,null,null,null,null,null,null,null,null,null,null,null,null,null,null,null,null,null,null,null,null,null,null,null,null,null,null,null,null,null,null,null,null,null,null,null,null,null,null,null,null,null,null,null,null,null,null,null,null,null,null,null,null,null,null,null,null,null,null,null,null,null,null,null,null,null,null,null,null,null,null,null,null,null,null,null,null,null,null,null,null,null,null,null,null,null,null,null,null,null,null,null,null,null,null,null,null,null,null,null,null,null,null,null,null,null,null,null,null,null,null,null,null,null,null,null,null,null,null,null,null,null,null,null,null,null,null,null,null,null,null,null,null,null,null,null,null,null,null,null,null,null,null,null,null,null,null,null,null,null,null,null,null,null,null,null,null,null,null,null,null,null,null,null,null,null,null,null,null,null,null,null,null,null,"g4",{"$f":"OK1015-OK1013*OK1011/40","v":-22.092307692307692},{"$f":"OL1015+0.5*OK1012","v":24.482352941176465},{"$f":"OK1022","v":-22.185436646898719},{"$f":"OL1022","v":24.538393436738502},{"$f":"OJ1022","v":"g8"},null,null,null,null,null,"h9",{"$f":"OV1016+0.5*OV1007","v":3.9487179487179489},{"$f":"OW1012","v":24.058823529411761},{"$f":"OV1021","v":3.9487179487179489},{"$f":"OW1021","v":23.808823529411761},{"$f":"OU1021","v":"h12"}]
[null,null,null,null,null,null,null,null,null,null,null,null,null,null,null,null,null,null,null,null,null,null,null,null,null,null,null,null,null,null,null,null,null,null,null,null,null,null,null,null,null,null,null,null,null,null,null,null,null,null,null,null,null,null,null,null,null,null,null,null,null,null,null,null,null,null,null,null,null,null,null,null,null,null,null,null,null,null,null,null,null,null,null,null,null,null,null,null,null,null,null,null,null,null,null,null,null,null,null,null,null,null,null,null,null,null,null,null,null,null,null,null,null,null,null,null,null,null,null,null,null,null,null,null,null,null,null,null,null,null,null,null,null,null,null,null,null,null,null,null,null,null,null,null,null,null,null,null,null,null,null,null,null,null,null,null,null,null,null,null,null,null,null,null,null,null,null,null,null,null,null,null,null,null,null,null,null,null,null,null,null,null,null,null,null,null,null,null,null,null,null,null,null,null,null,null,null,null,null,null,null,null,null,null,null,null,null,null,null,null,null,null,null,null,null,null,null,null,null,null,null,null,null,null,null,null,null,null,null,null,null,null,null,null,null,null,null,null,null,null,null,null,null,null,null,null,null,null,null,null,null,null,null,null,null,null,null,null,null,null,null,null,null,null,null,null,null,null,null,null,null,null,null,null,null,null,null,null,null,null,null,null,null,null,null,null,null,null,null,null,null,null,null,null,null,null,null,null,null,null,null,null,null,null,null,null,null,null,null,null,null,null,null,null,null,null,null,null,null,null,null,null,null,null,null,null,null,null,null,null,null,null,null,null,null,null,null,null,null,null,null,null,null,null,null,null,null,null,null,null,null,null,null,null,null,null,null,null,null,null,null,null,null,null,null,null,null,null,null,null,null,null,null,null,null,null,null,null,null,null,null,null,null,null,null,null,null,null,null,null,null,null,null,null,null,null,null,null,null,"h5",{"$f":"OK1031+0.5*(OK1033-OK1031)","v":3.6057692307692299},{"$f":"OL1031","v":24.905882352941173},{"$f":"OK1040","v":10.35576923076923},{"$f":"OL1040","v":24.655882352941173},{"$f":"OJ1040","v":"h12"},null,null,null,null,null,"g6",{"$f":"OV1034","v":-23.93721153846154},{"$f":"OW1032-OW1034+OW1030","v":24.787294117647058}]
[null,null,null,null,null,null,null,null,null,null,null,null,null,null,null,null,null,null,null,null,null,null,null,null,null,null,null,null,null,null,null,null,null,null,null,null,null,null,null,null,null,null,null,null,null,null,null,null,null,null,null,null,null,null,null,null,null,null,null,null,null,null,null,null,null,null,null,null,null,null,null,null,null,null,null,null,null,null,null,null,null,null,null,null,null,null,null,null,null,null,null,null,null,null,null,null,null,null,null,null,null,null,null,null,null,null,null,null,null,null,null,null,null,null,null,null,null,null,null,null,null,null,null,null,null,null,null,null,null,null,null,null,null,null,null,null,null,null,null,null,null,null,null,null,null,null,null,null,null,null,null,null,null,null,null,null,null,null,null,null,null,null,null,null,null,null,null,null,null,null,null,null,null,null,null,null,null,null,null,null,null,null,null,null,null,null,null,null,null,null,null,null,null,null,null,null,null,null,null,null,null,null,null,null,null,null,null,null,null,null,null,null,null,null,null,null,null,null,null,null,null,null,null,null,null,null,null,null,null,null,null,null,null,null,null,null,null,null,null,null,null,null,null,null,null,null,null,null,null,null,null,null,null,null,null,null,null,null,null,null,null,null,null,null,null,null,null,null,null,null,null,null,null,null,null,null,null,null,null,null,null,null,null,null,null,null,null,null,null,null,null,null,null,null,null,null,null,null,null,null,null,null,null,null,null,null,null,null,null,null,null,null,null,null,null,null,null,null,null,null,null,null,null,null,null,null,null,null,null,null,null,null,null,null,null,null,null,null,null,null,null,null,null,null,null,null,null,null,null,null,null,null,null,null,null,null,null,null,null,null,null,null,null,null,null,null,null,null,null,null,null,null,null,null,null,null,null,null,null,null,null,null,null,null,null,null,null,null,null,null,null,null,null,null,null,null,null,null,null,"g5",{"$f":"OK1049+0.7*(OK1052-OK1049)","v":29.146346153846153},{"$f":"OL1049+0.28*(OL1052-OL1049)","v":24.965176470588233},{"$f":"OK1050","v":29.272346153846151},{"$f":"OL1050","v":25.2091294117647},{"$f":"OJ1050","v":"g11"},null,null,null,null,null,"h10",{"$f":"OV1051","v":-5.0512820512820511},{"$f":"OW1051+0.5*OV1042","v":25.155882352941173},{"$f":"OV1056","v":8.4487179487179489},{"$f":"OW1056","v":25.155882352941173},{"$f":"OU1056","v":"h13"}]
[null,null,null,null,null,null,null,null,null,null,null,null,null,null,null,null,null,null,null,null,null,null,null,null,null,null,null,null,null,null,null,null,null,null,null,null,null,null,null,null,null,null,null,null,null,null,null,null,null,null,null,null,null,null,null,null,null,null,null,null,null,null,null,null,null,null,null,null,null,null,null,null,null,null,null,null,null,null,null,null,null,null,null,null,null,null,null,null,null,null,null,null,null,null,null,null,null,null,null,null,null,null,null,null,null,null,null,null,null,null,null,null,null,null,null,null,null,null,null,null,null,null,null,null,null,null,null,null,null,null,null,null,null,null,null,null,null,null,null,null,null,null,null,null,null,null,null,null,null,null,null,null,null,null,null,null,null,null,null,null,null,null,null,null,null,null,null,null,null,null,null,null,null,null,null,null,null,null,null,null,null,null,null,null,null,null,null,null,null,null,null,null,null,null,null,null,null,null,null,null,null,null,null,null,null,null,null,null,null,null,null,null,null,null,null,null,null,null,null,null,null,null,null,null,null,null,null,null,null,null,null,null,null,null,null,null,null,null,null,null,null,null,null,null,null,null,null,null,null,null,null,null,null,null,null,null,null,null,null,null,null,null,null,null,null,null,null,null,null,null,null,null,null,null,null,null,null,null,null,null,null,null,null,null,null,null,null,null,null,null,null,null,null,null,null,null,null,null,null,null,null,null,null,null,null,null,null,null,null,null,null,null,null,null,null,null,null,null,null,null,null,null,null,null,null,null,null,null,null,null,null,null,null,null,null,null,null,null,null,null,null,null,null,null,null,null,null,null,null,null,null,null,null,null,null,null,null,null,null,null,null,null,null,null,null,null,null,null,null,null,null,null,null,null,null,null,null,null,null,null,null,null,null,null,null,null,null,null,null,null,null,null,null,null,null,null,null,null,null,"h8",{"$f":"OK1069-0.5*OK1060","v":1.3557692307692299},{"$f":"OL1065","v":25.329411764705878},null,null,null,null,null,null,null,null,"g7",{"$f":"OV1065+0.7*OW1062*SIN(RADIANS(30)+2*ATAN((OV1065-OV1068)/(OW1065-OW1068+0.0001)))","v":27.637744114809284},{"$f":"OW1065-0.7*OW1062*COS(RADIANS(30)+2*ATAN((OV1065-OV1068)/(OW1065-OW1068+0.0001)))","v":25.192429178045288},{"$f":"OV1065","v":27.460647435897435},{"$f":"OW1065","v":25.2091294117647},{"$f":"OU1065","v":"g11"}]
[null,null,null,null,null,null,null,null,null,null,null,null,null,null,null,null,null,null,null,null,null,null,null,null,null,null,null,null,null,null,null,null,null,null,null,null,null,null,null,null,null,null,null,null,null,null,null,null,null,null,null,null,null,null,null,null,null,null,null,null,null,null,null,null,null,null,null,null,null,null,null,null,null,null,null,null,null,null,null,null,null,null,null,null,null,null,null,null,null,null,null,null,null,null,null,null,null,null,null,null,null,null,null,null,null,null,null,null,null,null,null,null,null,null,null,null,null,null,null,null,null,null,null,null,null,null,null,null,null,null,null,null,null,null,null,null,null,null,null,null,null,null,null,null,null,null,null,null,null,null,null,null,null,null,null,null,null,null,null,null,null,null,null,null,null,null,null,null,null,null,null,null,null,null,null,null,null,null,null,null,null,null,null,null,null,null,null,null,null,null,null,null,null,null,null,null,null,null,null,null,null,null,null,null,null,null,null,null,null,null,null,null,null,null,null,null,null,null,null,null,null,null,null,null,null,null,null,null,null,null,null,null,null,null,null,null,null,null,null,null,null,null,null,null,null,null,null,null,null,null,null,null,null,null,null,null,null,null,null,null,null,null,null,null,null,null,null,null,null,null,null,null,null,null,null,null,null,null,null,null,null,null,null,null,null,null,null,null,null,null,null,null,null,null,null,null,null,null,null,null,null,null,null,null,null,null,null,null,null,null,null,null,null,null,null,null,null,null,null,null,null,null,null,null,null,null,null,null,null,null,null,null,null,null,null,null,null,null,null,null,null,null,null,null,null,null,null,null,null,null,null,null,null,null,null,null,null,null,null,null,null,null,null,null,null,null,null,null,null,null,null,null,null,null,null,null,null,null,null,null,null,null,null,null,null,null,null,null,null,null,null,null,null,null,null,null,null,null,null,"h8",{"$f":"OK1086-0.5*OK1080","v":-12.947115384615385},{"$f":"OL1083","v":4.1529411764705886},{"$f":"OK1091","v":-8.447115384615385},{"$f":"OL1091","v":3.9029411764705886},{"$f":"OJ1091","v":"h12"},null,null,null,null,null,"h10",{"$f":"OV1085","v":-0.5512820512820511},{"$f":"OW1085+0.5*OV1076","v":25.579411764705878},{"$f":"OV1090","v":3.9487179487179489},{"$f":"OW1090","v":25.579411764705878},{"$f":"OU1090","v":"h13"}]
[null,null,null,null,null,null,null,null,null,null,null,null,null,null,null,null,null,null,null,null,null,null,null,null,null,null,null,null,null,null,null,null,null,null,null,null,null,null,null,null,null,null,null,null,null,null,null,null,null,null,null,null,null,null,null,null,null,null,null,null,null,null,null,null,null,null,null,null,null,null,null,null,null,null,null,null,null,null,null,null,null,null,null,null,null,null,null,null,null,null,null,null,null,null,null,null,null,null,null,null,null,null,null,null,null,null,null,null,null,null,null,null,null,null,null,null,null,null,null,null,null,null,null,null,null,null,null,null,null,null,null,null,null,null,null,null,null,null,null,null,null,null,null,null,null,null,null,null,null,null,null,null,null,null,null,null,null,null,null,null,null,null,null,null,null,null,null,null,null,null,null,null,null,null,null,null,null,null,null,null,null,null,null,null,null,null,null,null,null,null,null,null,null,null,null,null,null,null,null,null,null,null,null,null,null,null,null,null,null,null,null,null,null,null,null,null,null,null,null,null,null,null,null,null,null,null,null,null,null,null,null,null,null,null,null,null,null,null,null,null,null,null,null,null,null,null,null,null,null,null,null,null,null,null,null,null,null,null,null,null,null,null,null,null,null,null,null,null,null,null,null,null,null,null,null,null,null,null,null,null,null,null,null,null,null,null,null,null,null,null,null,null,null,null,null,null,null,null,null,null,null,null,null,null,null,null,null,null,null,null,null,null,null,null,null,null,null,null,null,null,null,null,null,null,null,null,null,null,null,null,null,null,null,null,null,null,null,null,null,null,null,null,null,null,null,null,null,null,null,null,null,null,null,null,null,null,null,null,null,null,null,null,null,null,null,null,null,null,null,null,null,null,null,null,null,null,null,null,null,null,null,null,null,null,null,null,null,null,null,null,null,null,null,null,null,null,null,null,null,"h11",{"$f":"OK1102","v":11.158653846153847},{"$f":"OL1102-0.5*OK1096","v":3.9029411764705886},{"$f":"OK1107","v":24.658653846153847},{"$f":"OL1107","v":4.4029411764705886},{"$f":"OJ1107","v":"h13"},null,null,null,null,null,"h11",{"$f":"OV1102","v":-13.900641025641026},{"$f":"OW1102-0.5*OV1096","v":3.9029411764705886},{"$f":"OV1107","v":-9.4006410256410255},{"$f":"OW1107","v":4.4029411764705886},{"$f":"OU1107","v":"h13"}]
[null,null,null,null,null,null,null,null,null,null,null,null,null,null,null,null,null,null,null,null,null,null,null,null,null,null,null,null,null,null,null,null,null,null,null,null,null,null,null,null,null,null,null,null,null,null,null,null,null,null,null,null,null,null,null,null,null,null,null,null,null,null,null,null,null,null,null,null,null,null,null,null,null,null,null,null,null,null,null,null,null,null,null,null,null,null,null,null,null,null,null,null,null,null,null,null,null,null,null,null,null,null,null,null,null,null,null,null,null,null,null,null,null,null,null,null,null,null,null,null,null,null,null,null,null,null,null,null,null,null,null,null,null,null,null,null,null,null,null,null,null,null,null,null,null,null,null,null,null,null,null,null,null,null,null,null,null,null,null,null,null,null,null,null,null,null,null,null,null,null,null,null,null,null,null,null,null,null,null,null,null,null,null,null,null,null,null,null,null,null,null,null,null,null,null,null,null,null,null,null,null,null,null,null,null,null,null,null,null,null,null,null,null,null,null,null,null,null,null,null,null,null,null,null,null,null,null,null,null,null,null,null,null,null,null,null,null,null,null,null,null,null,null,null,null,null,null,null,null,null,null,null,null,null,null,null,null,null,null,null,null,null,null,null,null,null,null,null,null,null,null,null,null,null,null,null,null,null,null,null,null,null,null,null,null,null,null,null,null,null,null,null,null,null,null,null,null,null,null,null,null,null,null,null,null,null,null,null,null,null,null,null,null,null,null,null,null,null,null,null,null,null,null,null,null,null,null,null,null,null,null,null,null,null,null,null,null,null,null,null,null,null,null,null,null,null,null,null,null,null,null,null,null,null,null,null,null,null,null,null,null,null,null,null,null,null,null,null,null,null,null,null,null,null,null,null,null,null,null,null,null,null,null,null,null,null,null,null,null,null,null,null,null,null,null,null,null,null,null,null,null,null,null,null,null,null,null,null,null,null,"نقطه شروع رج(چپ)","مولفه افقی","مولفه عمودی"]
[null,null,null,null,null,null,null,null,null,null,null,null,null,null,null,null,null,null,null,null,null,null,null,null,null,null,null,null,null,null,null,null,null,null,null,null,null,null,null,null,null,null,null,null,null,null,null,null,null,null,null,null,null,null,null,null,null,null,null,null,null,null,null,null,null,null,null,null,null,null,null,null,null,null,null,null,null,null,null,null,null,null,null,null,null,null,null,null,null,null,null,null,null,null,null,null,null,null,null,null,null,null,null,null,null,null,null,null,null,null,null,null,null,null,null,null,null,null,null,null,null,null,null,null,null,null,null,null,null,null,null,null,null,null,null,null,null,null,null,null,null,null,null,null,null,null,null,null,null,null,null,null,null,null,null,null,null,null,null,null,null,null,null,null,null,null,null,null,null,null,null,null,null,null,null,null,null,null,null,null,null,null,null,null,null,null,null,null,null,null,null,null,null,null,null,null,null,null,null,null,null,null,null,null,null,null,null,null,null,null,null,null,null,null,null,null,null,null,null,null,null,null,null,null,null,null,null,null,null,null,null,null,null,null,null,null,null,null,null,null,null,null,null,null,null,null,null,null,null,null,null,null,null,null,null,null,null,null,null,null,null,null,null,null,null,null,null,null,null,null,null,null,null,null,null,null,null,null,null,null,null,null,null,null,null,null,null,null,null,null,null,null,null,null,null,null,null,null,null,null,null,null,null,null,null,null,null,null,null,null,null,null,null,null,null,null,null,null,null,null,null,null,null,null,null,null,null,null,null,null,null,null,null,null,null,null,null,null,null,null,null,null,null,null,null,null,null,null,null,null,null,null,null,null,null,null,null,null,null,null,null,null,null,null,null,null,null,null,null,null,null,null,null,null,null,null,null,null,null,null,null,null,null,null,null,null,null,null,null,null,null,null,null,null,null,null,null,null,null,null,null,null,null,null,null,null,null,null,null,null,"m'2",{"$f":"OR35+0.5*(OQ61-OR35)","v":1.6987179487179489},{"$f":"OR61-2*OR38","v":4.1529411764705886},{"$f":"OV1119","v":8.2980769230769234},{"$f":"OW1119","v":4.4029411764705886},{"$f":"OU1119","v":"h10"}]
[null,null,null,null,null,null,null,null,null,null,null,null,null,null,null,null,null,null,null,null,null,null,null,null,null,null,null,null,null,null,null,null,null,null,null,null,null,null,null,null,null,null,null,null,null,null,null,null,null,null,null,null,null,null,null,null,null,null,null,null,null,null,null,null,null,null,null,null,null,null,null,null,null,null,null,null,null,null,null,null,null,null,null,null,null,null,null,null,null,null,null,null,null,null,null,null,null,null,null,null,null,null,null,null,null,null,null,null,null,null,null,null,null,null,null,null,null,null,null,null,null,null,null,null,null,null,null,null,null,null,null,null,null,null,null,null,null,null,null,null,null,null,null,null,null,null,null,null,null,null,null,null,null,null,null,null,null,null,null,null,null,null,null,null,null,null,null,null,null,null,null,null,null,null,null,null,null,null,null,null,null,null,null,null,null,null,null,null,null,null,null,null,null,null,null,null,null,null,null,null,null,null,null,null,null,null,null,null,null,null,null,null,null,null,null,null,null,null,null,null,null,null,null,null,null,null,null,null,null,null,null,null,null,null,null,null,null,null,null,null,null,null,null,null,null,null,null,null,null,null,null,null,null,null,null,null,null,null,null,null,null,null,null,null,null,null,null,null,null,null,null,null,null,null,null,null,null,null,null,null,null,null,null,null,null,null,null,null,null,null,null,null,null,null,null,null,null,null,null,null,null,null,null,null,null,null,null,null,null,null,null,null,null,null,null,null,null,null,null,null,null,null,null,null,null,null,null,null,null,null,null,null,null,null,null,null,null,null,null,null,null,null,null,null,null,null,null,null,null,null,null,null,null,null,null,null,null,null,null,null,null,null,null,null,null,null,null,null,null,null,null,null,null,null,null,null,null,null,null,null,null,null,null,null,null,null,null,null,null,null,null,null,null,null,null,null,null,null,null,null,null,null,null,null,null,null,null,null,null,null,"نقطه پایان رج(راست)","مولفه افقی","مولفه عمودی",{"$f":"OV1122","v":21.798076923076923},{"$f":"OW1122","v":4.4029411764705886},{"$f":"OU1122","v":"h13"}]
[null,null,null,null,null,null,null,null,null,null,null,null,null,null,null,null,null,null,null,null,null,null,null,null,null,null,null,null,null,null,null,null,null,null,null,null,null,null,null,null,null,null,null,null,null,null,null,null,null,null,null,null,null,null,null,null,null,null,null,null,null,null,null,null,null,null,null,null,null,null,null,null,null,null,null,null,null,null,null,null,null,null,null,null,null,null,null,null,null,null,null,null,null,null,null,null,null,null,null,null,null,null,null,null,null,null,null,null,null,null,null,null,null,null,null,null,null,null,null,null,null,null,null,null,null,null,null,null,null,null,null,null,null,null,null,null,null,null,null,null,null,null,null,null,null,null,null,null,null,null,null,null,null,null,null,null,null,null,null,null,null,null,null,null,null,null,null,null,null,null,null,null,null,null,null,null,null,null,null,null,null,null,null,null,null,null,null,null,null,null,null,null,null,null,null,null,null,null,null,null,null,null,null,null,null,null,null,null,null,null,null,null,null,null,null,null,null,null,null,null,null,null,null,null,null,null,null,null,null,null,null,null,null,null,null,null,null,null,null,null,null,null,null,null,null,null,null,null,null,null,null,null,null,null,null,null,null,null,null,null,null,null,null,null,null,null,null,null,null,null,null,null,null,null,null,null,null,null,null,null,null,null,null,null,null,null,null,null,null,null,null,null,null,null,null,null,null,null,null,null,null,null,null,null,null,null,null,null,null,null,null,null,null,null,null,null,null,null,null,null,null,null,null,null,null,null,null,null,null,null,null,null,null,null,null,null,null,null,null,null,null,null,null,null,null,null,null,null,null,null,null,null,null,null,null,null,null,null,null,null,null,null,null,null,null,null,null,null,null,null,null,null,null,null,null,null,null,null,null,null,null,null,null,null,null,null,null,null,null,null,null,null,null,null,null,null,null,null,null,null,null,null,null,null,null,null,null,null,null,null,"m2",{"$f":"OQ61","v":28.397435897435898},{"$f":"OR61-2*OR38","v":4.1529411764705886}]
[null,null,null,null,null,null,null,null,null,null,null,null,null,null,null,null,null,null,null,null,null,null,null,null,null,null,null,null,null,null,null,null,null,null,null,null,null,null,null,null,null,null,null,null,null,null,null,null,null,null,null,null,null,null,null,null,null,null,null,null,null,null,null,null,null,null,null,null,null,null,null,null,null,null,null,null,null,null,null,null,null,null,null,null,null,null,null,null,null,null,null,null,null,null,null,null,null,null,null,null,null,null,null,null,null,null,null,null,null,null,null,null,null,null,null,null,null,null,null,null,null,null,null,null,null,null,null,null,null,null,null,null,null,null,null,null,null,null,null,null,null,null,null,null,null,null,null,null,null,null,null,null,null,null,null,null,null,null,null,null,null,null,null,null,null,null,null,null,null,null,null,null,null,null,null,null,null,null,null,null,null,null,null,null,null,null,null,null,null,null,null,null,null,null,null,null,null,null,null,null,null,null,null,null,null,null,null,null,null,null,null,null,null,null,null,null,null,null,null,null,null,null,null,null,null,null,null,null,null,null,null,null,null,null,null,null,null,null,null,null,null,null,null,null,null,null,null,null,null,null,null,null,null,null,null,null,null,null,null,null,null,null,null,null,null,null,null,null,null,null,null,null,null,null,null,null,null,null,null,null,null,null,null,null,null,null,null,null,null,null,null,null,null,null,null,null,null,null,null,null,null,null,null,null,null,null,null,null,null,null,null,null,null,null,null,null,null,null,null,null,null,null,null,null,null,null,null,null,null,null,null,null,null,null,null,null,null,null,null,null,null,null,null,null,null,null,null,null,null,null,null,null,null,null,null,null,null,null,null,null,null,null,null,null,null,null,null,null,null,null,null,null,null,null,null,null,null,null,null,null,null,null,null,null,null,null,null,null,null,null,null,null,null,null,null,null,null,null,null,null,null,null,null,null,null,null,null,null,null,null,"h5",{"$f":"OV1113+0.5*(OV1115-OV1113)","v":15.048076923076923},{"$f":"OW1113","v":4.1529411764705886},{"$f":"OV1120","v":8.2980769230769234},{"$f":"OW1120","v":3.9029411764705886},{"$f":"OU1120","v":"h11"}]
[null,null,null,null,null,null,null,null,null,null,null,null,null,null,null,null,null,null,null,null,null,null,null,null,null,null,null,null,null,null,null,null,null,null,null,null,null,null,null,null,null,null,null,null,null,null,null,null,null,null,null,null,null,null,null,null,null,null,null,null,null,null,null,null,null,null,null,null,null,null,null,null,null,null,null,null,null,null,null,null,null,null,null,null,null,null,null,null,null,null,null,null,null,null,null,null,null,null,null,null,null,null,null,null,null,null,null,null,null,null,null,null,null,null,null,null,null,null,null,null,null,null,null,null,null,null,null,null,null,null,null,null,null,null,null,null,null,null,null,null,null,null,null,null,null,null,null,null,null,null,null,null,null,null,null,null,null,null,null,null,null,null,null,null,null,null,null,null,null,null,null,null,null,null,null,null,null,null,null,null,null,null,null,null,null,null,null,null,null,null,null,null,null,null,null,null,null,null,null,null,null,null,null,null,null,null,null,null,null,null,null,null,null,null,null,null,null,null,null,null,null,null,null,null,null,null,null,null,null,null,null,null,null,null,null,null,null,null,null,null,null,null,null,null,null,null,null,null,null,null,null,null,null,null,null,null,null,null,null,null,null,null,null,null,null,null,null,null,null,null,null,null,null,null,null,null,null,null,null,null,null,null,null,null,null,null,null,null,null,null,null,null,null,null,null,null,null,null,null,null,null,null,null,null,null,null,null,null,null,null,null,null,null,null,null,null,null,null,null,null,null,null,null,null,null,null,null,null,null,null,null,null,null,null,null,null,null,null,null,null,null,null,null,null,null,null,null,null,null,null,null,null,null,null,null,null,null,null,null,null,null,null,null,null,null,null,null,null,null,null,null,null,null,null,null,null,null,null,null,null,null,null,null,null,null,null,null,null,null,null,null,null,null,null,null,null,null,null,null,null,null,null,null,null,null,null,null,null,null,null,"h8",{"$f":"OV1116-0.5*OV1110","v":8.2980769230769234},{"$f":"OW1113","v":4.1529411764705886},{"$f":"OV1121","v":21.798076923076923},{"$f":"OW1121","v":3.9029411764705886},{"$f":"OU1121","v":"h12"}]
[null,null,null,null,null,null,null,null,null,null,null,null,null,null,null,null,null,null,null,null,null,null,null,null,null,null,null,null,null,null,null,null,null,null,null,null,null,null,null,null,null,null,null,null,null,null,null,null,null,null,null,null,null,null,null,null,null,null,null,null,null,null,null,null,null,null,null,null,null,null,null,null,null,null,null,null,null,null,null,null,null,null,null,null,null,null,null,null,null,null,null,null,null,null,null,null,null,null,null,null,null,null,null,null,null,null,null,null,null,null,null,null,null,null,null,null,null,null,null,null,null,null,null,null,null,null,null,null,null,null,null,null,null,null,null,null,null,null,null,null,null,null,null,null,null,null,null,null,null,null,null,null,null,null,null,null,null,null,null,null,null,null,null,null,null,null,null,null,null,null,null,null,null,null,null,null,null,null,null,null,null,null,null,null,null,null,null,null,null,null,null,null,null,null,null,null,null,null,null,null,null,null,null,null,null,null,null,null,null,null,null,null,null,null,null,null,null,null,null,null,null,null,null,null,null,null,null,null,null,null,null,null,null,null,null,null,null,null,null,null,null,null,null,null,null,null,null,null,null,null,null,null,null,null,null,null,null,null,null,null,null,null,null,null,null,null,null,null,null,null,null,null,null,null,null,null,null,null,null,null,null,null,null,null,null,null,null,null,null,null,null,null,null,null,null,null,null,null,null,null,null,null,null,null,null,null,null,null,null,null,null,null,null,null,null,null,null,null,null,null,null,null,null,null,null,null,null,null,null,null,null,null,null,null,null,null,null,null,null,null,null,null,null,null,null,null,null,null,null,null,null,null,null,null,null,null,null,null,null,null,null,null,null,null,null,null,null,null,null,null,null,null,null,null,null,null,null,null,null,null,null,null,null,null,null,null,null,null,null,null,null,null,null,null,null,null,null,null,null,null,null,null,null,null,null,null,null,null,null,null,"h9",{"$f":"OV1116+0.5*OV1110","v":21.798076923076923},{"$f":"OW1113","v":4.1529411764705886}]
[null,null,null,null,null,null,null,null,null,null,null,null,null,null,null,null,null,null,null,null,null,null,null,null,null,null,null,null,null,null,null,null,null,null,null,null,null,null,null,null,null,null,null,null,null,null,null,null,null,null,null,null,null,null,null,null,null,null,null,null,null,null,null,null,null,null,null,null,null,null,null,null,null,null,null,null,null,null,null,null,null,null,null,null,null,null,null,null,null,null,null,null,null,null,null,null,null,null,null,null,null,null,null,null,null,null,null,null,null,null,null,null,null,null,null,null,null,null,null,null,null,null,null,null,null,null,null,null,null,null,null,null,null,null,null,null,null,null,null,null,null,null,null,null,null,null,null,null,null,null,null,null,null,null,null,null,null,null,null,null,null,null,null,null,null,null,null,null,null,null,null,null,null,null,null,null,null,null,null,null,null,null,null,null,null,null,null,null,null,null,null,null,null,null,null,null,null,null,null,null,null,null,null,null,null,null,null,null,null,null,null,null,null,null,null,null,null,null,null,null,null,null,null,null,null,null,null,null,null,null,null,null,null,null,null,null,null,null,null,null,null,null,null,null,null,null,null,null,null,null,null,null,null,null,null,null,null,null,null,null,null,null,null,null,null,null,null,null,null,null,null,null,null,null,null,null,null,null,null,null,null,null,null,null,null,null,null,null,null,null,null,null,null,null,null,null,null,null,null,null,null,null,null,null,null,null,null,null,null,null,null,null,null,null,null,null,null,null,null,null,null,null,null,null,null,null,null,null,null,null,null,null,null,null,null,null,null,null,null,null,null,null,null,null,null,null,null,null,null,null,null,null,null,null,null,null,null,null,null,null,null,null,null,null,null,null,null,null,null,null,null,null,null,null,null,null,null,null,null,null,null,null,null,null,null,null,null,null,null,null,null,null,null,null,null,null,null,null,null,null,null,null,null,null,null,null,null,null,null,null,"h10",{"$f":"OV1117","v":8.2980769230769234},{"$f":"OW1117+0.5*OV1111","v":4.4029411764705886},{"$f":"OV1121","v":21.798076923076923},{"$f":"OW1121","v":3.9029411764705886},{"$f":"OU1121","v":"h12"}]
[null,null,null,null,null,null,null,null,null,null,null,null,null,null,null,null,null,null,null,null,null,null,null,null,null,null,null,null,null,null,null,null,null,null,null,null,null,null,null,null,null,null,null,null,null,null,null,null,null,null,null,null,null,null,null,null,null,null,null,null,null,null,null,null,null,null,null,null,null,null,null,null,null,null,null,null,null,null,null,null,null,null,null,null,null,null,null,null,null,null,null,null,null,null,null,null,null,null,null,null,null,null,null,null,null,null,null,null,null,null,null,null,null,null,null,null,null,null,null,null,null,null,null,null,null,null,null,null,null,null,null,null,null,null,null,null,null,null,null,null,null,null,null,null,null,null,null,null,null,null,null,null,null,null,null,null,null,null,null,null,null,null,null,null,null,null,null,null,null,null,null,null,null,null,null,null,null,null,null,null,null,null,null,null,null,null,null,null,null,null,null,null,null,null,null,null,null,null,null,null,null,null,null,null,null,null,null,null,null,null,null,null,null,null,null,null,null,null,null,null,null,null,null,null,null,null,null,null,null,null,null,null,null,null,null,null,null,null,null,null,null,null,null,null,null,null,null,null,null,null,null,null,null,null,null,null,null,null,null,null,null,null,null,null,null,null,null,null,null,null,null,null,null,null,null,null,null,null,null,null,null,null,null,null,null,null,null,null,null,null,null,null,null,null,null,null,null,null,null,null,null,null,null,null,null,null,null,null,null,null,null,null,null,null,null,null,null,null,null,null,null,null,null,null,null,null,null,null,null,null,null,null,null,null,null,null,null,null,null,null,null,null,null,null,null,null,null,null,null,null,null,null,null,null,null,null,null,null,null,null,null,null,null,null,null,null,null,null,null,null,null,null,null,null,null,null,null,null,null,null,null,null,null,null,null,null,null,null,null,null,null,null,null,null,null,null,null,null,null,null,null,null,null,null,null,null,null,null,null,null,"h11",{"$f":"OV1117","v":8.2980769230769234},{"$f":"OW1117-0.5*OV1111","v":3.9029411764705886},{"$f":"OV1122","v":21.798076923076923},{"$f":"OW1122","v":4.4029411764705886},{"$f":"OU1122","v":"h13"}]
[null,null,null,null,null,null,null,null,null,null,null,null,null,null,null,null,null,null,null,null,null,null,null,null,null,null,null,null,null,null,null,null,null,null,null,null,null,null,null,null,null,null,null,null,null,null,null,null,null,null,null,null,null,null,null,null,null,null,null,null,null,null,null,null,null,null,null,null,null,null,null,null,null,null,null,null,null,null,null,null,null,null,null,null,null,null,null,null,null,null,null,null,null,null,null,null,null,null,null,null,null,null,null,null,null,null,null,null,null,null,null,null,null,null,null,null,null,null,null,null,null,null,null,null,null,null,null,null,null,null,null,null,null,null,null,null,null,null,null,null,null,null,null,null,null,null,null,null,null,null,null,null,null,null,null,null,null,null,null,null,null,null,null,null,null,null,null,null,null,null,null,null,null,null,null,null,null,null,null,null,null,null,null,null,null,null,null,null,null,null,null,null,null,null,null,null,null,null,null,null,null,null,null,null,null,null,null,null,null,null,null,null,null,null,null,null,null,null,null,null,null,null,null,null,null,null,null,null,null,null,null,null,null,null,null,null,null,null,null,null,null,null,null,null,null,null,null,null,null,null,null,null,null,null,null,null,null,null,null,null,null,null,null,null,null,null,null,null,null,null,null,null,null,null,null,null,null,null,null,null,null,null,null,null,null,null,null,null,null,null,null,null,null,null,null,null,null,null,null,null,null,null,null,null,null,null,null,null,null,null,null,null,null,null,null,null,null,null,null,null,null,null,null,null,null,null,null,null,null,null,null,null,null,null,null,null,null,null,null,null,null,null,null,null,null,null,null,null,null,null,null,null,null,null,null,null,null,null,null,null,null,null,null,null,null,null,null,null,null,null,null,null,null,null,null,null,null,null,null,null,null,null,null,null,null,null,null,null,null,null,null,null,null,null,null,null,null,null,null,null,null,null,null,null,null,null,null,null,null,null,"h12",{"$f":"OV1118","v":21.798076923076923},{"$f":"OW1120","v":3.9029411764705886}]
[null,null,null,null,null,null,null,null,null,null,null,null,null,null,null,null,null,null,null,null,null,null,null,null,null,null,null,null,null,null,null,null,null,null,null,null,null,null,null,null,null,null,null,null,null,null,null,null,null,null,null,null,null,null,null,null,null,null,null,null,null,null,null,null,null,null,null,null,null,null,null,null,null,null,null,null,null,null,null,null,null,null,null,null,null,null,null,null,null,null,null,null,null,null,null,null,null,null,null,null,null,null,null,null,null,null,null,null,null,null,null,null,null,null,null,null,null,null,null,null,null,null,null,null,null,null,null,null,null,null,null,null,null,null,null,null,null,null,null,null,null,null,null,null,null,null,null,null,null,null,null,null,null,null,null,null,null,null,null,null,null,null,null,null,null,null,null,null,null,null,null,null,null,null,null,null,null,null,null,null,null,null,null,null,null,null,null,null,null,null,null,null,null,null,null,null,null,null,null,null,null,null,null,null,null,null,null,null,null,null,null,null,null,null,null,null,null,null,null,null,null,null,null,null,null,null,null,null,null,null,null,null,null,null,null,null,null,null,null,null,null,null,null,null,null,null,null,null,null,null,null,null,null,null,null,null,null,null,null,null,null,null,null,null,null,null,null,null,null,null,null,null,null,null,null,null,null,null,null,null,null,null,null,null,null,null,null,null,null,null,null,null,null,null,null,null,null,null,null,null,null,null,null,null,null,null,null,null,null,null,null,null,null,null,null,null,null,null,null,null,null,null,null,null,null,null,null,null,null,null,null,null,null,null,null,null,null,null,null,null,null,null,null,null,null,null,null,null,null,null,null,null,null,null,null,null,null,null,null,null,null,null,null,null,null,null,null,null,null,null,null,null,null,null,null,null,null,null,null,null,null,null,null,null,null,null,null,null,null,null,null,null,null,null,null,null,null,null,null,null,null,null,null,null,null,null,null,null,null,null,"h13",{"$f":"OV1118","v":21.798076923076923},{"$f":"OW1119","v":4.4029411764705886},{"$f":"OV1116","v":15.048076923076923},{"$f":"OW1116","v":4.1529411764705886},{"$f":"OU1116","v":"h5"}]
[]
[null,null,null,null,null,null,null,null,null,null,null,null,null,null,null,null,null,null,null,null,null,null,null,null,null,null,null,null,null,null,null,null,null,null,null,null,null,null,null,null,null,null,null,null,null,null,null,null,null,null,null,null,null,null,null,null,null,null,null,null,null,null,null,null,null,null,null,null,null,null,null,null,null,null,null,null,null,null,null,null,null,null,null,null,null,null,null,null,null,null,null,null,null,null,null,null,null,null,null,null,null,null,null,null,null,null,null,null,null,null,null,null,null,null,null,null,null,null,null,null,null,null,null,null,null,null,null,null,null,null,null,null,null,null,null,null,null,null,null,null,null,null,null,null,null,null,null,null,null,null,null,null,null,null,null,null,null,null,null,null,null,null,null,null,null,null,null,null,null,null,null,null,null,null,null,null,null,null,null,null,null,null,null,null,null,null,null,null,null,null,null,null,null,null,null,null,null,null,null,null,null,null,null,null,null,null,null,null,null,null,null,null,null,null,null,null,null,null,null,null,null,null,null,null,null,null,null,null,null,null,null,null,null,null,null,null,null,null,null,null,null,null,null,null,null,null,null,null,null,null,null,null,null,null,null,null,null,null,null,null,null,null,null,null,null,null,null,null,null,null,null,null,null,null,null,null,null,null,null,null,null,null,null,null,null,null,null,null,null,null,null,null,null,null,null,null,null,null,null,null,null,null,null,null,null,null,null,null,null,null,null,null,null,null,null,null,null,null,null,null,null,null,null,null,null,null,null,null,null,null,null,null,null,null,null,null,null,null,null,null,null,null,null,null,null,null,null,null,null,null,null,null,null,null,null,null,null,null,null,null,null,null,null,null,null,null,null,null,null,null,null,null,null,null,null,null,null,null,null,null,null,null,null,null,null,null,null,null,null,null,null,null,null,null,null,null,null,null,null,null,null,null,null,null,null,null,null,null,null,null,null,null,null,{"$f":"OR35+0.25*(OQ61-OR35)","v":-11.650641025641026},{"$f":"OR61-1*OR38","v":4.5764705882352938},"m'1"]
[]
[null,null,null,null,null,null,null,null,null,null,null,null,null,null,null,null,null,null,null,null,null,null,null,null,null,null,null,null,null,null,null,null,null,null,null,null,null,null,null,null,null,null,null,null,null,null,null,null,null,null,null,null,null,null,null,null,null,null,null,null,null,null,null,null,null,null,null,null,null,null,null,null,null,null,null,null,null,null,null,null,null,null,null,null,null,null,null,null,null,null,null,null,null,null,null,null,null,null,null,null,null,null,null,null,null,null,null,null,null,null,null,null,null,null,null,null,null,null,null,null,null,null,null,null,null,null,null,null,null,null,null,null,null,null,null,null,null,null,null,null,null,null,null,null,null,null,null,null,null,null,null,null,null,null,null,null,null,null,null,null,null,null,null,null,null,null,null,null,null,null,null,null,null,null,null,null,null,null,null,null,null,null,null,null,null,null,null,null,null,null,null,null,null,null,null,null,null,null,null,null,null,null,null,null,null,null,null,null,null,null,null,null,null,null,null,null,null,null,null,null,null,null,null,null,null,null,null,null,null,null,null,null,null,null,null,null,null,null,null,null,null,null,null,null,null,null,null,null,null,null,null,null,null,null,null,null,null,null,null,null,null,null,null,null,null,null,null,null,null,null,null,null,null,null,null,null,null,null,null,null,null,null,null,null,null,null,null,null,null,null,null,null,null,null,null,null,null,null,null,null,null,null,null,null,null,null,null,null,null,null,null,null,null,null,null,null,null,null,null,null,null,null,null,null,null,null,null,null,null,null,null,null,null,null,null,null,null,null,null,null,null,null,null,null,null,null,null,null,null,null,null,null,null,null,null,null,null,null,null,null,null,null,null,null,null,null,null,null,null,null,null,null,null,null,null,null,null,null,null,null,null,null,null,null,null,null,null,null,null,null,null,null,null,null,null,null,null,null,null,null,null,null,null,null,null,null,null,null,null,null,null,null,null,{"$f":"OR35+0.75*(OQ61-OR35)","v":15.04807692307692},{"$f":"OR61-1*OR38","v":4.5764705882352938},"m''1"]

{"sheet":"متغیرها ","index":2,"n_rows":872,"n_cols":149,"rows_kept":872,"cut":false,"hidden":true,"merged":[]}
[]
[]
["متغیرهای ورودی چادر",null,null,null,"تبدیل رنج متغیر ورودی","توضیح متغیر ورودی برای صفحه نمایش"]
[" متغیر ورودی چادر شماره 1 یا مقنعه ",null,null,null,null," متغیر ورودی چادر شماره 1 یا مقنعه ","x1","y1","x2","y2(بهینه)","a","b",null,"کمترین",null,"بیشترین",null,null,null,null,"انتخاب ستون سلول مرجع برای انتخاب سایز در رسم الگو","انتخاب نوع الگو","انتخاب نوع اندازه گیری","اندازه جدید یا اندازه موجود","انتخاب ستون سلول مرجع برای انتخاب سایز در بررسی اندازه ها"]
["ضریب فاصله لبه چادر یا مقنعه تا زمین   j0","(از -0.1 الی 4.5)",{"$f":"K5*E5+L5","v":3},"خط زمین=0 \nخط زانو=1 \nخط باسن=2 \nخط کمر=3 \nخط سینه=4  ",{"$f":"'طراحی همه الگوها'!Q177","v":70},"ضریب فاصله لبه چادر یا مقنعه تا زمین   ",10,0,30,1,{"$f":"(J5-H5)/(I5-G5)","v":0.05},{"$f":"H5-G5*K5","v":-0.5},2,{"$f":"(M5-L5)/K5","v":50},4,{"$f":"(O5-L5)/K5","v":90},3,{"$f":"(Q5-L5)/K5","v":70},null,"سلول مرجع",{"$f":"MATCH('طراحی مدل 213'!A325,'متغیرها '!AJ51:AJ179,0)","v":18},1,3,2,32]
["انتخاب چادر تا پایین پیشانی=1    انتخاب چادر تا بالای پیشانی=0\nانتخاب چادر روی سر = -1"," -1 یا 0 یا 1",{"$f":"K6*E6+L6","v":0},null,{"$f":"'طراحی همه الگوها'!Q178","v":2},"انتخاب چادر تا پایین پیشانی=3    انتخاب چادر تا بالای پیشانی=2\nانتخاب چادر روی سر = 1",2,0,1,-1,{"$f":"(J6-H6)/(I6-G6)","v":1},{"$f":"H6-G6*K6","v":-2},0,{"$f":"(M6-L6)/K6","v":2},2,{"$f":"(O6-L6)/K6","v":4},1,{"$f":"(Q6-L6)/K6","v":3},null,null," 1ماهه","1 تا 3 ماهه"," 3 تا 6 ماهه","6ماهه تا یکساله","بچگانه 1 ساله","بچگانه 2 ساله","بچگانه 3 ساله","بچگانه 4 ساله","بچگانه 5 ساله","بچگانه 6 ساله","بچگانه 7 ساله","بچگانه 8 ساله","بچگانه 9 ساله","بچگانه 10 ساله","بچگانه 11 ساله","بچگانه 12 ساله","بچگانه 13 ساله","بچگانه 14 ساله","34زنانه","36زنانه","38زنانه","40زنانه","42زنانه","44زنانه","46زنانه","48زنانه","50زنانه","52زنانه","54زنانه","56زنانه","58زنانه","60زنانه","37 مردانه","38 مردانه","39 مردانه","40 مردانه","41 مردانه","42 مردانه","43 مردانه","44 مردانه","45 مردانه","46 مردانه","47 مردانه","48 مردانه","49 مردانه","50 مردانه","6ماهه تا یکساله کت","1ساله کت","2ساله کت","3ساله کت","4ساله کت","5ساله کت","6ساله کت","7ساله کت","8ساله کت","9ساله کت","10ساله کت","11ساله کت","12ساله کت","13ساله کت","14ساله کت","34زنانه کمر پهن","36زنانه کمر پهن","38زنانه کمر پهن","40زنانه کمر پهن","42زنانه کمر پهن","44زنانه کمر پهن","46زنانه کمر پهن","48زنانه کمر پهن","50زنانه کمر پهن","52زنانه کمر پهن","54زنانه کمر پهن","56زنانه کمر پهن","58زنانه کمر پهن","60زنانه کمر پهن","37مردانه کت","38مردانه کت","39مردانه کت","40مردانه کت","41مردانه کت","42مردانه کت","43مردانه کت","44مردانه کت","45مردانه کت","46 مردانه کت","47 مردانه کت","48 مردانه کت","49 مردانه کت","50 مردانه کت",{"$f":"'اندازه های شخصی'!G5","v":"عنوان 1"},{"$f":"'اندازه های شخصی'!I5","v":"عنوان 2"},{"$f":"'اندازه های شخصی'!K5","v":"عنوان 3"},{"$f":"'اندازه های شخصی'!M5","v":"عنوان 4"},{"$f":"'اندازه های شخصی'!O5","v":"عنوان 5"},{"$f":"'اندازه های شخصی'!Q5","v":"عنوان 6"},{"$f":"'اندازه های شخصی'!S5","v":"عنوان 7"},{"$f":"'اندازه های شخصی'!U5","v":"عنوان 8"},{"$f":"'اندازه های شخصی'!W5","v":"عنوان 9"},{"$f":"'اندازه های شخصی'!Y5","v":"عنوان 10"},{"$f":"'اندازه های شخصی'!AA5","v":"عنوان 11"},{"$f":"'اندازه های شخصی'!AC5","v":"عنوان 12"},{"$f":"'اندازه های شخصی'!AE5","v":"عنوان 13"},{"$f":"'اندازه های شخصی'!AG5","v":"عنوان 14"},{"$f":"'اندازه های شخصی'!AI5","v":"عنوان 15"},{"$f":"'اندازه های شخصی'!AK5","v":"عنوان 16"},{"$f":"'اندازه های شخصی'!AM5","v":"عنوان 17"},{"$f":"'اندازه های شخصی'!AO5","v":"عنوان 18"},{"$f":"'اندازه های شخصی'!AQ5","v":"عنوان 19"},{"$f":"'اندازه های شخصی'!AS5","v":"عنوان 20"},{"$f":"'اندازه های شخصی'!AU5","v":"عنوان 21"},{"$f":"'اندازه های شخصی'!AW5","v":"عنوان 22"},{"$f":"'اندازه های شخصی'!AY5","v":"عنوان 23"},{"$f":"'اندازه های شخصی'!BA5","v":"عنوان 24"},{"$f":"'اندازه های شخصی'!BC5","v":"عنوان 25"},{"$f":"'اندازه های شخصی'!BE5","v":"عنوان 26"},{"$f":"'اندازه های شخصی'!BG5","v":"عنوان 27"},{"$f":"'اندازه های شخصی'!BI5","v":"عنوان 28"},{"$f":"'اندازه های شخصی'!BK5","v":"عنوان 29"},{"$f":"'اندازه های شخصی'!BM5","v":"عنوان 30"},{"$f":"'اندازه های شخصی'!BO5","v":"عنوان 31"},{"$f":"'اندازه های شخصی'!BQ5","v":"عنوان 32"},{"$f":"'اندازه های شخصی'!BS5","v":"عنوان 33"},{"$f":"'اندازه های شخصی'!BU5","v":"عنوان 34"},{"$f":"'اندازه های شخصی'!BW5","v":"عنوان 35"},{"$f":"'اندازه های شخصی'!BY5","v":"عنوان 36"},{"$f":"'اندازه های شخصی'!CA5","v":"عنوان 37"},{"$f":"'اندازه های شخصی'!CC5","v":"عنوان 38"},{"$f":"'اندازه های شخصی'!CE5","v":"عنوان 39"},{"$f":"'اندازه های شخصی'!CG5","v":"عنوان 40"}]
[null,null,null,null,null,null,null,null,null,null,null,null,null,null,null,null,null,null,null,"a",41,42,45,47,48,49,51,53,55,57,59,61,63,65.5,68,71,73,75,63,65,68,72,77,82,87,92,97,103,110,117,124,131,74,78,82,86,90,94,98,102,106,111,116,121,126,131,47,48,49,51,53,55,57,59,61,63,65.5,68,71,73,75,67,69,72,76,81,86,91,96,101,107,114,121,127,135,75.5,79.599999999999994,83.6,87.7,91.8,95.9,100,104,108.1,113.2,118.3,123.4,128.5,133.6,{"$f":"'اندازه های شخصی'!G8","v":0},{"$f":"'اندازه های شخصی'!I8","v":0},{"$f":"'اندازه های شخصی'!K8","v":0},{"$f":"'اندازه های شخصی'!M8","v":0},{"$f":"'اندازه های شخصی'!O8","v":0},{"$f":"'اندازه های شخصی'!Q8","v":0},{"$f":"'اندازه های شخصی'!S8","v":0},{"$f":"'اندازه های شخصی'!U8","v":0},{"$f":"'اندازه های شخصی'!W8","v":0},{"$f":"'اندازه های شخصی'!Y8","v":0},{"$f":"'اندازه های شخصی'!AA8","v":0},{"$f":"'اندازه های شخصی'!AC8","v":0},{"$f":"'اندازه های شخصی'!AE8","v":0},{"$f":"'اندازه های شخصی'!AG8","v":0},{"$f":"'اندازه های شخصی'!AI8","v":0},{"$f":"'اندازه های شخصی'!AK8","v":0},{"$f":"'اندازه های شخصی'!AM8","v":0},{"$f":"'اندازه های شخصی'!AO8","v":0},{"$f":"'اندازه های شخصی'!AQ8","v":0},{"$f":"'اندازه های شخصی'!AS8","v":0},{"$f":"'اندازه های شخصی'!AU8","v":0},{"$f":"'اندازه های شخصی'!AW8","v":0},{"$f":"'اندازه های شخصی'!AY8","v":0},{"$f":"'اندازه های شخصی'!BA8","v":0},{"$f":"'اندازه های شخصی'!BC8","v":0},{"$f":"'اندازه های شخصی'!BE8","v":0},{"$f":"'اندازه های شخصی'!BG8","v":0},{"$f":"'اندازه های شخصی'!BI8","v":0},{"$f":"'اندازه های شخصی'!BK8","v":0},{"$f":"'اندازه های شخصی'!BM8","v":0},{"$f":"'اندازه های شخصی'!BO8","v":0},{"$f":"'اندازه های شخصی'!BQ8","v":0},{"$f":"'اندازه های شخصی'!BS8","v":0},{"$f":"'اندازه های شخصی'!BU8","v":0},{"$f":"'اندازه های شخصی'!BW8","v":0},{"$f":"'اندازه های شخصی'!BY8","v":0},{"$f":"'اندازه های شخصی'!CA8","v":0},{"$f":"'اندازه های شخصی'!CC8","v":0},{"$f":"'اندازه های شخصی'!CE8","v":0},{"$f":"'اندازه های شخصی'!CG8","v":0}]
[" متغیرهای ورودی چادر شماره 2",null,null,null,null," متغیرهای ورودی چادر شماره 2","x1","y1","x2","y2(بهینه)","a","b",null,"کمترین",null,"بیشترین",null,null,null,"b",20.100000000000001,20.6,22.1,23,23.5,24,25,26,27,27.9,28.9,29.9,30.9,32.1,33.299999999999997,34.799999999999997,35.799999999999997,36.799999999999997,32.200000000000003,32.700000000000003,33.700000000000003,35.200000000000003,36.9,38.700000000000003,40.6,42.3,44.3,47.5,51,54.8,59.2,63.6,37,39,41,43,45,47,49,51,53,55.5,58,60.5,63,65.5,23,23.5,24,25,26,27,27.9,28.9,29.9,30.9,32.1,33.299999999999997,34.799999999999997,35.799999999999997,36.799999999999997,34.200000000000003,34.700000000000003,35.700000000000003,37.1,38.799999999999997,40.6,42.4,44.2,46.1,49.4,52.8,56.7,60.7,64.5,37.799999999999997,39.799999999999997,41.8,43.9,45.9,48,50,52,54.1,56.6,59.2,61.7,64.3,66.8,{"$f":"'اندازه های شخصی'!G9","v":0},{"$f":"'اندازه های شخصی'!I9","v":0},{"$f":"'اندازه های شخصی'!K9","v":0},{"$f":"'اندازه های شخصی'!M9","v":0},{"$f":"'اندازه های شخصی'!O9","v":0},{"$f":"'اندازه های شخصی'!Q9","v":0},{"$f":"'اندازه های شخصی'!S9","v":0},{"$f":"'اندازه های شخصی'!U9","v":0},{"$f":"'اندازه های شخصی'!W9","v":0},{"$f":"'اندازه های شخصی'!Y9","v":0},{"$f":"'اندازه های شخصی'!AA9","v":0},{"$f":"'اندازه های شخصی'!AC9","v":0},{"$f":"'اندازه های شخصی'!AE9","v":0},{"$f":"'اندازه های شخصی'!AG9","v":0},{"$f":"'اندازه های شخصی'!AI9","v":0},{"$f":"'اندازه های شخصی'!AK9","v":0},{"$f":"'اندازه های شخصی'!AM9","v":0},{"$f":"'اندازه های شخصی'!AO9","v":0},{"$f":"'اندازه های شخصی'!AQ9","v":0},{"$f":"'اندازه های شخصی'!AS9","v":0},{"$f":"'اندازه های شخصی'!AU9","v":0},{"$f":"'اندازه های شخصی'!AW9","v":0},{"$f":"'اندازه های شخصی'!AY9","v":0},{"$f":"'اندازه های شخصی'!BA9","v":0},{"$f":"'اندازه های شخصی'!BC9","v":0},{"$f":"'اندازه های شخصی'!BE9","v":0},{"$f":"'اندازه های شخصی'!BG9","v":0},{"$f":"'اندازه های شخصی'!BI9","v":0},{"$f":"'اندازه های شخصی'!BK9","v":0},{"$f":"'اندازه های شخصی'!BM9","v":0},{"$f":"'اندازه های شخصی'!BO9","v":0},{"$f":"'اندازه های شخصی'!BQ9","v":0},{"$f":"'اندازه های شخصی'!BS9","v":0},{"$f":"'اندازه های شخصی'!BU9","v":0},{"$f":"'اندازه های شخصی'!BW9","v":0},{"$f":"'اندازه های شخصی'!BY9","v":0},{"$f":"'اندازه های شخصی'!CA9","v":0},{"$f":"'اندازه های شخصی'!CC9","v":0},{"$f":"'اندازه های شخصی'!CE9","v":0},{"$f":"'اندازه های شخصی'!CG9","v":0}]
["ضریب فاصله لبه چادر تا زمین   j0","(از -0.1 الی 0.5)",{"$f":"K9*E9+L9","v":0},"خط زمین=0 \nخط زانو=1  ",{"$f":"'طراحی همه الگوها'!Q188","v":10},"ضریب فاصله لبه چادر تا زمین   ",10,0,30,1,{"$f":"(J9-H9)/(I9-G9)","v":0.05},{"$f":"H9-G9*K9","v":-0.5},-0.1,{"$f":"(M9-L9)/K9","v":8},0.5,{"$f":"(O9-L9)/K9","v":20},0,{"$f":"(Q9-L9)/K9","v":10},null,"c",43,45,48,50,53,56,59,62,65,68,71,74,77,80,83,85,89,93,85,89,93,97,102,107,112,117,122,126,132,138,144,150,92,96,100,104,108,112,116,120,124,128,132,136,140,144,50,53,56,59,62,65,68,71,74,77,80,83,85,89,93,85,89,93,97,102,107,112,117,122,126,132,138,144,150,92,96,100,104,108,112,116,120,124,128,132,136,140,144,{"$f":"'اندازه های شخصی'!G10","v":0},{"$f":"'اندازه های شخصی'!I10","v":0},{"$f":"'اندازه های شخصی'!K10","v":0},{"$f":"'اندازه های شخصی'!M10","v":0},{"$f":"'اندازه های شخصی'!O10","v":0},{"$f":"'اندازه های شخصی'!Q10","v":0},{"$f":"'اندازه های شخصی'!S10","v":0},{"$f":"'اندازه های شخصی'!U10","v":0},{"$f":"'اندازه های شخصی'!W10","v":0},{"$f":"'اندازه های شخصی'!Y10","v":0},{"$f":"'اندازه های شخصی'!AA10","v":0},{"$f":"'اندازه های شخصی'!AC10","v":0},{"$f":"'اندازه های شخصی'!AE10","v":0},{"$f":"'اندازه های شخصی'!AG10","v":0},{"$f":"'اندازه های شخصی'!AI10","v":0},{"$f":"'اندازه های شخصی'!AK10","v":0},{"$f":"'اندازه های شخصی'!AM10","v":0},{"$f":"'اندازه های شخصی'!AO10","v":0},{"$f":"'اندازه های شخصی'!AQ10","v":0},{"$f":"'اندازه های شخصی'!AS10","v":0},{"$f":"'اندازه های شخصی'!AU10","v":0},{"$f":"'اندازه های شخصی'!AW10","v":0},{"$f":"'اندازه های شخصی'!AY10","v":0},{"$f":"'اندازه های شخصی'!BA10","v":0},{"$f":"'اندازه های شخصی'!BC10","v":0},{"$f":"'اندازه های شخصی'!BE10","v":0},{"$f":"'اندازه های شخصی'!BG10","v":0},{"$f":"'اندازه های شخصی'!BI10","v":0},{"$f":"'اندازه های شخصی'!BK10","v":0},{"$f":"'اندازه های شخصی'!BM10","v":0},{"$f":"'اندازه های شخصی'!BO10","v":0},{"$f":"'اندازه های شخصی'!BQ10","v":0},{"$f":"'اندازه های شخصی'!BS10","v":0},{"$f":"'اندازه های شخصی'!BU10","v":0},{"$f":"'اندازه های شخصی'!BW10","v":0},{"$f":"'اندازه های شخصی'!BY10","v":0},{"$f":"'اندازه های شخصی'!CA10","v":0},{"$f":"'اندازه های شخصی'!CC10","v":0},{"$f":"'اندازه های شخصی'!CE10","v":0},{"$f":"'اندازه های شخصی'!CG10","v":0}]
["ضریب قرارگیری نقطه اتصال جلو چادر به پشت چادر  a0","(از 0.5 الی 1.2)",1,"روی پیشانی=0.5 \nبالای گوش=1  ",{"$f":"'طراحی همه الگوها'!Q189","v":20},"مکان نقطه اتصال جلو چادر به پشت چادر  ",10,0.5,20,1,0.05,0,0.5,10,1.2,23.999999999999996,0.5,10,null,"d",24.1,25.2,26.9,28,29.7,31.4,31.3,32.9,34.5,36,37.6,39.200000000000003,40.799999999999997,42.4,44,45.1,47.2,49.3,47.5,49,50.4,51.9,53.6,55.4,57.2,59,61,63.7,67,70.8,75.3,79.8,50.6,52.8,55,57.2,59.4,61.6,63.8,66,68.2,70.400000000000006,72.599999999999994,74.8,77,79.2,28,29.7,31.4,31.3,33.5,35.1,36.700000000000003,38.299999999999997,40,41.6,43.2,44,45.1,47.2,49.3,47.5,49,50.4,51.9,53.6,55.4,57.2,59,61,63.7,67,70.8,75.3,79.8,48.3,50.4,52.5,54.6,56.7,58.8,60.9,63,65.099999999999994,67.2,69.3,71.400000000000006,73.5,75.599999999999994,{"$f":"'اندازه های شخصی'!G11","v":0},{"$f":"'اندازه های شخصی'!I11","v":0},{"$f":"'اندازه های شخصی'!K11","v":0},{"$f":"'اندازه های شخصی'!M11","v":0},{"$f":"'اندازه های شخصی'!O11","v":0},{"$f":"'اندازه های شخصی'!Q11","v":0},{"$f":"'اندازه های شخصی'!S11","v":0},{"$f":"'اندازه های شخصی'!U11","v":0},{"$f":"'اندازه های شخصی'!W11","v":0},{"$f":"'اندازه های شخصی'!Y11","v":0},{"$f":"'اندازه های شخصی'!AA11","v":0},{"$f":"'اندازه های شخصی'!AC11","v":0},{"$f":"'اندازه های شخصی'!AE11","v":0},{"$f":"'اندازه های شخصی'!AG11","v":0},{"$f":"'اندازه های شخصی'!AI11","v":0},{"$f":"'اندازه های شخصی'!AK11","v":0},{"$f":"'اندازه های شخصی'!AM11","v":0},{"$f":"'اندازه های شخصی'!AO11","v":0},{"$f":"'اندازه های شخصی'!AQ11","v":0},{"$f":"'اندازه های شخصی'!AS11","v":0},{"$f":"'اندازه های شخصی'!AU11","v":0},{"$f":"'اندازه های شخصی'!AW11","v":0},{"$f":"'اندازه های شخصی'!AY11","v":0},{"$f":"'اندازه های شخصی'!BA11","v":0},{"$f":"'اندازه های شخصی'!BC11","v":0},{"$f":"'اندازه های شخصی'!BE11","v":0},{"$f":"'اندازه های شخصی'!BG11","v":0},{"$f":"'اندازه های شخصی'!BI11","v":0},{"$f":"'اندازه های شخصی'!BK11","v":0},{"$f":"'اندازه های شخصی'!BM11","v":0},{"$f":"'اندازه های شخصی'!BO11","v":0},{"$f":"'اندازه های شخصی'!BQ11","v":0},{"$f":"'اندازه های شخصی'!BS11","v":0},{"$f":"'اندازه های شخصی'!BU11","v":0},{"$f":"'اندازه های شخصی'!BW11","v":0},{"$f":"'اندازه های شخصی'!BY11","v":0},{"$f":"'اندازه های شخصی'!CA11","v":0},{"$f":"'اندازه های شخصی'!CC11","v":0},{"$f":"'اندازه های شخصی'!CE11","v":0},{"$f":"'اندازه های شخصی'!CG11","v":0}]
["ضریب گشادی عرضی چادر  a1","(از 0.35 الی 0.53)",0.45,"بهینه=0.45",{"$f":"'طراحی همه الگوها'!Q190","v":20},"ضریب گشادی عرضی چادر  ",21,0.46,20,0.45,1.0000000000000009E-2,0.24999999999999983,0.35,10.000000000000005,0.53,27.999999999999993,0.45,20,null,"e",23,25,32,38,42,48,53.9,60.4,66.400000000000006,70.400000000000006,74.400000000000006,77.900000000000006,80.900000000000006,84.4,87.9,91.9,95.9,99.9,101,102,103,104,104.4,104.9,105.4,105.9,106.4,106.9,107.4,107.9,108.4,108.9,103.8,105.1,106.5,107.2,107.8,108.4,109,109.6,110.2,110.7,111.2,111.7,112.2,112.7,38,42,48,53.9,60.4,66.400000000000006,70.400000000000006,74.400000000000006,77.900000000000006,80.900000000000006,84.4,87.9,91.9,95.9,99.9,101,102,103,104,104.4,104.9,105.4,105.9,106.4,106.9,107.4,107.9,108.4,108.9,104.7,106.1,107.5,108.2,108.8,109.4,110,110.6,111.2,111.7,112.2,112.7,113.2,113.7,{"$f":"'اندازه های شخصی'!G12","v":0},{"$f":"'اندازه های شخصی'!I12","v":0},{"$f":"'اندازه های شخصی'!K12","v":0},{"$f":"'اندازه های شخصی'!M12","v":0},{"$f":"'اندازه های شخصی'!O12","v":0},{"$f":"'اندازه های شخصی'!Q12","v":0},{"$f":"'اندازه های شخصی'!S12","v":0},{"$f":"'اندازه های شخصی'!U12","v":0},{"$f":"'اندازه های شخصی'!W12","v":0},{"$f":"'اندازه های شخصی'!Y12","v":0},{"$f":"'اندازه های شخصی'!AA12","v":0},{"$f":"'اندازه های شخصی'!AC12","v":0},{"$f":"'اندازه های شخصی'!AE12","v":0},{"$f":"'اندازه های شخصی'!AG12","v":0},{"$f":"'اندازه های شخصی'!AI12","v":0},{"$f":"'اندازه های شخصی'!AK12","v":0},{"$f":"'اندازه های شخصی'!AM12","v":0},{"$f":"'اندازه های شخصی'!AO12","v":0},{"$f":"'اندازه های شخصی'!AQ12","v":0},{"$f":"'اندازه های شخصی'!AS12","v":0},{"$f":"'اندازه های شخصی'!AU12","v":0},{"$f":"'اندازه های شخصی'!AW12","v":0},{"$f":"'اندازه های شخصی'!AY12","v":0},{"$f":"'اندازه های شخصی'!BA12","v":0},{"$f":"'اندازه های شخصی'!BC12","v":0},{"$f":"'اندازه های شخصی'!BE12","v":0},{"$f":"'اندازه های شخصی'!BG12","v":0},{"$f":"'اندازه های شخصی'!BI12","v":0},{"$f":"'اندازه های شخصی'!BK12","v":0},{"$f":"'اندازه های شخصی'!BM12","v":0},{"$f":"'اندازه های شخصی'!BO12","v":0},{"$f":"'اندازه های شخصی'!BQ12","v":0},{"$f":"'اندازه های شخصی'!BS12","v":0},{"$f":"'اندازه های شخصی'!BU12","v":0},{"$f":"'اندازه های شخصی'!BW12","v":0},{"$f":"'اندازه های شخصی'!BY12","v":0},{"$f":"'اندازه های شخصی'!CA12","v":0},{"$f":"'اندازه های شخصی'!CC12","v":0},{"$f":"'اندازه های شخصی'!CE12","v":0},{"$f":"'اندازه های شخصی'!CG12","v":0}]
["ضریب گشادی دور مچ  a2","(از 1.1 الی 2)",1.7000000000000006,"بهینه=1.7",{"$f":"'طراحی همه الگوها'!Q191","v":7},"ضریب گشادی دور مچ  ",1,1.1000000000000001,0,1,0.10000000000000009,1,1.1000000000000001,1,2,9.9999999999999911,1.7,6.9999999999999938,null,"f",23,25,32,38,42,48,54,60.5,66.5,70.5,74.5,78,81,84.5,88,92,96,100,102,103,104,105,105.5,106,106.5,107,107.5,108,108.5,109,109.5,110,104.8,106.2,107.6,108.3,108.9,109.5,110.1,110.7,111.3,111.8,112.3,112.8,113.3,113.8,38,42,48,54,60.5,66.5,70.5,74.5,78,81,84.5,88,92,96,100,102,103,104,105,105.5,106,106.5,107,107.5,108,108.5,109,109.5,110,104.8,106.2,107.6,108.3,108.9,109.5,110.1,110.7,111.3,111.8,112.3,112.8,113.3,113.8,{"$f":"'اندازه های شخصی'!G13","v":0},{"$f":"'اندازه های شخصی'!I13","v":0},{"$f":"'اندازه های شخصی'!K13","v":0},{"$f":"'اندازه های شخصی'!M13","v":0},{"$f":"'اندازه های شخصی'!O13","v":0},{"$f":"'اندازه های شخصی'!Q13","v":0},{"$f":"'اندازه های شخصی'!S13","v":0},{"$f":"'اندازه های شخصی'!U13","v":0},{"$f":"'اندازه های شخصی'!W13","v":0},{"$f":"'اندازه های شخصی'!Y13","v":0},{"$f":"'اندازه های شخصی'!AA13","v":0},{"$f":"'اندازه های شخصی'!AC13","v":0},{"$f":"'اندازه های شخصی'!AE13","v":0},{"$f":"'اندازه های شخصی'!AG13","v":0},{"$f":"'اندازه های شخصی'!AI13","v":0},{"$f":"'اندازه های شخصی'!AK13","v":0},{"$f":"'اندازه های شخصی'!AM13","v":0},{"$f":"'اندازه های شخصی'!AO13","v":0},{"$f":"'اندازه های شخصی'!AQ13","v":0},{"$f":"'اندازه های شخصی'!AS13","v":0},{"$f":"'اندازه های شخصی'!AU13","v":0},{"$f":"'اندازه های شخصی'!AW13","v":0},{"$f":"'اندازه های شخصی'!AY13","v":0},{"$f":"'اندازه های شخصی'!BA13","v":0},{"$f":"'اندازه های شخصی'!BC13","v":0},{"$f":"'اندازه های شخصی'!BE13","v":0},{"$f":"'اندازه های شخصی'!BG13","v":0},{"$f":"'اندازه های شخصی'!BI13","v":0},{"$f":"'اندازه های شخصی'!BK13","v":0},{"$f":"'اندازه های شخصی'!BM13","v":0},{"$f":"'اندازه های شخصی'!BO13","v":0},{"$f":"'اندازه های شخصی'!BQ13","v":0},{"$f":"'اندازه های شخصی'!BS13","v":0},{"$f":"'اندازه های شخصی'!BU13","v":0},{"$f":"'اندازه های شخصی'!BW13","v":0},{"$f":"'اندازه های شخصی'!BY13","v":0},{"$f":"'اندازه های شخصی'!CA13","v":0},{"$f":"'اندازه های شخصی'!CC13","v":0},{"$f":"'اندازه های شخصی'!CE13","v":0},{"$f":"'اندازه های شخصی'!CG13","v":0}]
["ضریب بلند شدن آستین نسبت به مچ  a4","(از -0.4 الی 0.4)",0,"آستین تا مچ=0 \nآستین کوتاه تر از مچ = منفی \nآستین بلند تر از مچ = مثبت   ",{"$f":"'طراحی همه الگوها'!Q192","v":10},"بلند شدن آستین چادر نسبت به مچ اندام ",30,-0.45,10,0,-2.2499999999999999E-2,0.22499999999999992,-0.4,27.777777777777779,0.4,-7.7777777777777821,0,9.9999999999999964,null,"g",23,25,32,38,42,48,54.1,60.6,66.599999999999994,70.599999999999994,74.599999999999994,78.099999999999994,81.099999999999994,84.6,88.1,92.1,96.1,100.1,103,104,105,106.1,106.6,107.1,107.6,108.1,108.6,109.1,109.6,110.1,110.6,111.1,105.8,107.3,108.7,109.4,110,110.6,111.2,111.8,112.4,112.9,113.4,113.9,114.4,114.9,38,42,48,54.1,60.6,66.599999999999994,70.599999999999994,74.599999999999994,78.099999999999994,81.099999999999994,84.6,88.1,92.1,96.1,100.1,103,104,105,106.1,106.6,107.1,107.6,108.1,108.6,109.1,109.6,110.1,110.6,111.1,104.9,106.3,107.7,108.4,109,109.6,110.2,110.8,111.4,111.9,112.4,112.9,113.4,113.9,{"$f":"'اندازه های شخصی'!G14","v":0},{"$f":"'اندازه های شخصی'!I14","v":0},{"$f":"'اندازه های شخصی'!K14","v":0},{"$f":"'اندازه های شخصی'!M14","v":0},{"$f":"'اندازه های شخصی'!O14","v":0},{"$f":"'اندازه های شخصی'!Q14","v":0},{"$f":"'اندازه های شخصی'!S14","v":0},{"$f":"'اندازه های شخصی'!U14","v":0},{"$f":"'اندازه های شخصی'!W14","v":0},{"$f":"'اندازه های شخصی'!Y14","v":0},{"$f":"'اندازه های شخصی'!AA14","v":0},{"$f":"'اندازه های شخصی'!AC14","v":0},{"$f":"'اندازه های شخصی'!AE14","v":0},{"$f":"'اندازه های شخصی'!AG14","v":0},{"$f":"'اندازه های شخصی'!AI14","v":0},{"$f":"'اندازه های شخصی'!AK14","v":0},{"$f":"'اندازه های شخصی'!AM14","v":0},{"$f":"'اندازه های شخصی'!AO14","v":0},{"$f":"'اندازه های شخصی'!AQ14","v":0},{"$f":"'اندازه های شخصی'!AS14","v":0},{"$f":"'اندازه های شخصی'!AU14","v":0},{"$f":"'اندازه های شخصی'!AW14","v":0},{"$f":"'اندازه های شخصی'!AY14","v":0},{"$f":"'اندازه های شخصی'!BA14","v":0},{"$f":"'اندازه های شخصی'!BC14","v":0},{"$f":"'اندازه های شخصی'!BE14","v":0},{"$f":"'اندازه های شخصی'!BG14","v":0},{"$f":"'اندازه های شخصی'!BI14","v":0},{"$f":"'اندازه های شخصی'!BK14","v":0},{"$f":"'اندازه های شخصی'!BM14","v":0},{"$f":"'اندازه های شخصی'!BO14","v":0},{"$f":"'اندازه های شخصی'!BQ14","v":0},{"$f":"'اندازه های شخصی'!BS14","v":0},{"$f":"'اندازه های شخصی'!BU14","v":0},{"$f":"'اندازه های شخصی'!BW14","v":0},{"$f":"'اندازه های شخصی'!BY14","v":0},{"$f":"'اندازه های شخصی'!CA14","v":0},{"$f":"'اندازه های شخصی'!CC14","v":0},{"$f":"'اندازه های شخصی'!CE14","v":0},{"$f":"'اندازه های شخصی'!CG14","v":0}]
["انتخاب چادر تا پایین پیشانی=1    انتخاب چادر تا بالای پیشانی=0\nانتخاب چادر روی سر = -1"," -1 یا 0 یا 1",0,null,{"$f":"'طراحی همه الگوها'!Q193","v":2},"انتخاب چادر تا پایین پیشانی=3    انتخاب چادر تا بالای پیشانی=2\nانتخاب چادر روی سر = 1",2,0,1,-1,1,-2,0,2,1,3,1,3,null,"h",7.4,8.4,11.1,13.4,14.9,17.2,24.9,27.4,30.3,32.1,33.9,35.4,36.6,38.200000000000003,39.700000000000003,41.4,43.5,45.7,44.5,45,45.5,46,46,46,46,46,46.3,46.3,46.4,46.5,46.6,46.7,48.1,48.8,49.6,50,50.4,50.8,51.2,51.5,51.9,52.3,52.6,53,53.2,53.6,13.4,14.9,17.2,24.9,27.4,30.3,32.1,33.9,35.4,36.6,38.200000000000003,39.700000000000003,41.4,43.5,45.7,44.5,45,45.5,46,46,46,46,46,46.3,46.3,46.4,46.5,46.6,46.7,48.1,48.8,49.6,50,50.3,50.8,51.2,51.5,51.9,52.3,52.6,52.9,53.3,53.6,{"$f":"'اندازه های شخصی'!G15","v":0},{"$f":"'اندازه های شخصی'!I15","v":0},{"$f":"'اندازه های شخصی'!K15","v":0},{"$f":"'اندازه های شخصی'!M15","v":0},{"$f":"'اندازه های شخصی'!O15","v":0},{"$f":"'اندازه های شخصی'!Q15","v":0},{"$f":"'اندازه های شخصی'!S15","v":0},{"$f":"'اندازه های شخصی'!U15","v":0},{"$f":"'اندازه های شخصی'!W15","v":0},{"$f":"'اندازه های شخصی'!Y15","v":0},{"$f":"'اندازه های شخصی'!AA15","v":0},{"$f":"'اندازه های شخصی'!AC15","v":0},{"$f":"'اندازه های شخصی'!AE15","v":0},{"$f":"'اندازه های شخصی'!AG15","v":0},{"$f":"'اندازه های شخصی'!AI15","v":0},{"$f":"'اندازه های شخصی'!AK15","v":0},{"$f":"'اندازه های شخصی'!AM15","v":0},{"$f":"'اندازه های شخصی'!AO15","v":0},{"$f":"'اندازه های شخصی'!AQ15","v":0},{"$f":"'اندازه های شخصی'!AS15","v":0},{"$f":"'اندازه های شخصی'!AU15","v":0},{"$f":"'اندازه های شخصی'!AW15","v":0},{"$f":"'اندازه های شخصی'!AY15","v":0},{"$f":"'اندازه های شخصی'!BA15","v":0},{"$f":"'اندازه های شخصی'!BC15","v":0},{"$f":"'اندازه های شخصی'!BE15","v":0},{"$f":"'اندازه های شخصی'!BG15","v":0},{"$f":"'اندازه های شخصی'!BI15","v":0},{"$f":"'اندازه های شخصی'!BK15","v":0},{"$f":"'اندازه های شخصی'!BM15","v":0},{"$f":"'اندازه های شخصی'!BO15","v":0},{"$f":"'اندازه های شخصی'!BQ15","v":0},{"$f":"'اندازه های شخصی'!BS15","v":0},{"$f":"'اندازه های شخصی'!BU15","v":0},{"$f":"'اندازه های شخصی'!BW15","v":0},{"$f":"'اندازه های شخصی'!BY15","v":0},{"$f":"'اندازه های شخصی'!CA15","v":0},{"$f":"'اندازه های شخصی'!CC15","v":0},{"$f":"'اندازه های شخصی'!CE15","v":0},{"$f":"'اندازه های شخصی'!CG15","v":0}]
[null,null,null,null,null,null,null,null,null,null,null,null,null,null,null,null,null,null,null,"j",15.8,17.899999999999999,23.8,28.7,31.8,36.700000000000003,45.2,49.8,55.1,58.3,61.6,64.3,66.5,69.400000000000006,72.099999999999994,75.3,79.099999999999994,83,82.5,82.7,83.4,84.1,84.3,84.5,84.7,85,85.3,85.7,86.1,86.5,86.9,87.3,87.4,88.8,90.2,90.9,91.6,92.3,93,93.7,94.3,95,95.7,96.3,96.8,97.5,28.7,31.8,36.700000000000003,45.2,49.8,55.1,58.3,61.6,64.3,66.5,69.400000000000006,72.099999999999994,75.3,79.099999999999994,83,82.5,82.7,83.4,84.1,84.3,84.5,84.7,85,85.3,85.7,86.1,86.5,86.9,87.3,87.4,88.8,90.2,90.9,91.5,92.3,93,93.6,94.4,95,95.7,96.2,96.9,97.5,{"$f":"'اندازه های شخصی'!G16","v":0},{"$f":"'اندازه های شخصی'!I16","v":0},{"$f":"'اندازه های شخصی'!K16","v":0},{"$f":"'اندازه های شخصی'!M16","v":0},{"$f":"'اندازه های شخصی'!O16","v":0},{"$f":"'اندازه های شخصی'!Q16","v":0},{"$f":"'اندازه های شخصی'!S16","v":0},{"$f":"'اندازه های شخصی'!U16","v":0},{"$f":"'اندازه های شخصی'!W16","v":0},{"$f":"'اندازه های شخصی'!Y16","v":0},{"$f":"'اندازه های شخصی'!AA16","v":0},{"$f":"'اندازه های شخصی'!AC16","v":0},{"$f":"'اندازه های شخصی'!AE16","v":0},{"$f":"'اندازه های شخصی'!AG16","v":0},{"$f":"'اندازه های شخصی'!AI16","v":0},{"$f":"'اندازه های شخصی'!AK16","v":0},{"$f":"'اندازه های شخصی'!AM16","v":0},{"$f":"'اندازه های شخصی'!AO16","v":0},{"$f":"'اندازه های شخصی'!AQ16","v":0},{"$f":"'اندازه های شخصی'!AS16","v":0},{"$f":"'اندازه های شخصی'!AU16","v":0},{"$f":"'اندازه های شخصی'!AW16","v":0},{"$f":"'اندازه های شخصی'!AY16","v":0},{"$f":"'اندازه های شخصی'!BA16","v":0},{"$f":"'اندازه های شخصی'!BC16","v":0},{"$f":"'اندازه های شخصی'!BE16","v":0},{"$f":"'اندازه های شخصی'!BG16","v":0},{"$f":"'اندازه های شخصی'!BI16","v":0},{"$f":"'اندازه های شخصی'!BK16","v":0},{"$f":"'اندازه های شخصی'!BM16","v":0},{"$f":"'اندازه های شخصی'!BO16","v":0},{"$f":"'اندازه های شخصی'!BQ16","v":0},{"$f":"'اندازه های شخصی'!BS16","v":0},{"$f":"'اندازه های شخصی'!BU16","v":0},{"$f":"'اندازه های شخصی'!BW16","v":0},{"$f":"'اندازه های شخصی'!BY16","v":0},{"$f":"'اندازه های شخصی'!CA16","v":0},{"$f":"'اندازه های شخصی'!CC16","v":0},{"$f":"'اندازه های شخصی'!CE16","v":0},{"$f":"'اندازه های شخصی'!CG16","v":0}]
[" متغیرهای ورودی چادر شماره 3",null,null,null,null," متغیرهای ورودی چادر شماره 3","x1","y1","x2","y2(بهینه)","a","b",null,"کمترین",null,"بیشترین",null,null,null,"L",17.600000000000001,18.5,19.7,20.5,21.7,23,24.2,25.4,26.7,27.9,29.1,30.3,31.6,32.799999999999997,34,34.9,36.5,38.1,34.9,36.5,38.1,39.799999999999997,41.8,43.9,45.9,48,50,51.7,54.1,56.6,59,61.5,37.700000000000003,39.4,41,42.6,44.3,45.9,47.6,49.2,50.8,52.5,54.1,55.8,57.4,59,20.5,21.7,23,24.2,25.4,26.7,27.9,29.1,30.3,31.6,32.799999999999997,34,34.9,36.5,38.1,34.9,36.5,38.1,39.799999999999997,41.8,43.9,45.9,48,50,51.7,54.1,56.6,59,61.5,37.700000000000003,39.4,41,42.6,44.3,45.9,47.6,49.2,50.8,52.5,54.1,55.8,57.4,59,{"$f":"'اندازه های شخصی'!G17","v":0},{"$f":"'اندازه های شخصی'!I17","v":0},{"$f":"'اندازه های شخصی'!K17","v":0},{"$f":"'اندازه های شخصی'!M17","v":0},{"$f":"'اندازه های شخصی'!O17","v":0},{"$f":"'اندازه های شخصی'!Q17","v":0},{"$f":"'اندازه های شخصی'!S17","v":0},{"$f":"'اندازه های شخصی'!U17","v":0},{"$f":"'اندازه های شخصی'!W17","v":0},{"$f":"'اندازه های شخصی'!Y17","v":0},{"$f":"'اندازه های شخصی'!AA17","v":0},{"$f":"'اندازه های شخصی'!AC17","v":0},{"$f":"'اندازه های شخصی'!AE17","v":0},{"$f":"'اندازه های شخصی'!AG17","v":0},{"$f":"'اندازه های شخصی'!AI17","v":0},{"$f":"'اندازه های شخصی'!AK17","v":0},{"$f":"'اندازه های شخصی'!AM17","v":0},{"$f":"'اندازه های شخصی'!AO17","v":0},{"$f":"'اندازه های شخصی'!AQ17","v":0},{"$f":"'اندازه های شخصی'!AS17","v":0},{"$f":"'اندازه های شخصی'!AU17","v":0},{"$f":"'اندازه های شخصی'!AW17","v":0},{"$f":"'اندازه های شخصی'!AY17","v":0},{"$f":"'اندازه های شخصی'!BA17","v":0},{"$f":"'اندازه های شخصی'!BC17","v":0},{"$f":"'اندازه های شخصی'!BE17","v":0},{"$f":"'اندازه های شخصی'!BG17","v":0},{"$f":"'اندازه های شخصی'!BI17","v":0},{"$f":"'اندازه های شخصی'!BK17","v":0},{"$f":"'اندازه های شخصی'!BM17","v":0},{"$f":"'اندازه های شخصی'!BO17","v":0},{"$f":"'اندازه های شخصی'!BQ17","v":0},{"$f":"'اندازه های شخصی'!BS17","v":0},{"$f":"'اندازه های شخصی'!BU17","v":0},{"$f":"'اندازه های شخصی'!BW17","v":0},{"$f":"'اندازه های شخصی'!BY17","v":0},{"$f":"'اندازه های شخصی'!CA17","v":0},{"$f":"'اندازه های شخصی'!CC17","v":0},{"$f":"'اندازه های شخصی'!CE17","v":0},{"$f":"'اندازه های شخصی'!CG17","v":0}]
["ضریب فاصله لبه چادر تا زمین   j0","(از -0.1 الی 0.5)",{"$f":"K17*E17+L17","v":0},"خط زمین=0 \nخط زانو=1  ",{"$f":"'طراحی همه الگوها'!Q210","v":10},"ضریب فاصله لبه چادر تا زمین   ",10,0,30,1,{"$f":"(J17-H17)/(I17-G17)","v":0.05},{"$f":"H17-G17*K17","v":-0.5},-0.1,{"$f":"(M17-L17)/K17","v":8},0.5,{"$f":"(O17-L17)/K17","v":20},0,{"$f":"(Q17-L17)/K17","v":10},null,"m",10,10,11,12,13,14,14,16,17,18,19,20,21,22,23,24,24.5,25,25.1,25.8,26.4,27.1,27.8,28.4,29.1,29.7,30.3,31,31.6,32.299999999999997,32.9,33.5,23.1,23.5,23.8,24.2,24.5,24.7,25,25.3,25.6,25.8,26.1,26.4,26.7,26.9,12,13,14,14,16,17,18,19,20,21,22,23,24,24.5,25,25.1,25.8,26.4,27.1,27.8,28.4,29.1,29.7,30.3,31,31.6,32.299999999999997,32.9,33.5,23.1,23.5,23.8,24.2,24.5,24.7,25,25.3,25.5,25.8,26.1,26.4,26.6,26.9,{"$f":"'اندازه های شخصی'!G18","v":0},{"$f":"'اندازه های شخصی'!I18","v":0},{"$f":"'اندازه های شخصی'!K18","v":0},{"$f":"'اندازه های شخصی'!M18","v":0},{"$f":"'اندازه های شخصی'!O18","v":0},{"$f":"'اندازه های شخصی'!Q18","v":0},{"$f":"'اندازه های شخصی'!S18","v":0},{"$f":"'اندازه های شخصی'!U18","v":0},{"$f":"'اندازه های شخصی'!W18","v":0},{"$f":"'اندازه های شخصی'!Y18","v":0},{"$f":"'اندازه های شخصی'!AA18","v":0},{"$f":"'اندازه های شخصی'!AC18","v":0},{"$f":"'اندازه های شخصی'!AE18","v":0},{"$f":"'اندازه های شخصی'!AG18","v":0},{"$f":"'اندازه های شخصی'!AI18","v":0},{"$f":"'اندازه های شخصی'!AK18","v":0},{"$f":"'اندازه های شخصی'!AM18","v":0},{"$f":"'اندازه های شخصی'!AO18","v":0},{"$f":"'اندازه های شخصی'!AQ18","v":0},{"$f":"'اندازه های شخصی'!AS18","v":0},{"$f":"'اندازه های شخصی'!AU18","v":0},{"$f":"'اندازه های شخصی'!AW18","v":0},{"$f":"'اندازه های شخصی'!AY18","v":0},{"$f":"'اندازه های شخصی'!BA18","v":0},{"$f":"'اندازه های شخصی'!BC18","v":0},{"$f":"'اندازه های شخصی'!BE18","v":0},{"$f":"'اندازه های شخصی'!BG18","v":0},{"$f":"'اندازه های شخصی'!BI18","v":0},{"$f":"'اندازه های شخصی'!BK18","v":0},{"$f":"'اندازه های شخصی'!BM18","v":0},{"$f":"'اندازه های شخصی'!BO18","v":0},{"$f":"'اندازه های شخصی'!BQ18","v":0},{"$f":"'اندازه های شخصی'!BS18","v":0},{"$f":"'اندازه های شخصی'!BU18","v":0},{"$f":"'اندازه های شخصی'!BW18","v":0},{"$f":"'اندازه های شخصی'!BY18","v":0},{"$f":"'اندازه های شخصی'!CA18","v":0},{"$f":"'اندازه های شخصی'!CC18","v":0},{"$f":"'اندازه های شخصی'!CE18","v":0},{"$f":"'اندازه های شخصی'!CG18","v":0}]
["ضریب گشادی دور مچ  b2","(از 1.1 الی 2)",1.5000000000000004,"بهینه=1.5",{"$f":"'طراحی همه الگوها'!Q211","v":5},"ضریب گشادی دور مچ  ",1,1.1000000000000001,0,1,0.10000000000000009,1,1.1000000000000001,1,2,9.9999999999999911,1.5,4.9999999999999956,null,"q",29.1,29.6,32.799999999999997,35.700000000000003,38.5,41.7,37.700000000000003,42.6,45,47.6,50,52.7,55.3,57.7,60.3,62.6,64.400000000000006,66,65.2,67.2,69.2,71.099999999999994,73.400000000000006,75.2,77.3,79.400000000000006,81.2,83.3,85.3,87.5,89.7,91.7,66.5,67.8,69.2,70.5,71.599999999999994,72.8,73.900000000000006,75.099999999999994,76.400000000000006,77.400000000000006,78.5,79.599999999999994,80.900000000000006,81.8,35.700000000000003,38.5,41.7,37.700000000000003,42.6,45,47.6,50.1,52.7,55.3,57.7,60.3,62.6,64.400000000000006,66,65.2,67.2,69.2,71.099999999999994,73.400000000000006,75.2,77.3,79.400000000000006,81.2,83.3,85.3,87.5,89.7,91.7,66.3,67.7,69,70.3,71.7,72.599999999999994,73.8,75.099999999999994,76.099999999999994,77.2,78.3,79.599999999999994,80.5,81.7,{"$f":"'اندازه های شخصی'!G19","v":0},{"$f":"'اندازه های شخصی'!I19","v":0},{"$f":"'اندازه های شخصی'!K19","v":0},{"$f":"'اندازه های شخصی'!M19","v":0},{"$f":"'اندازه های شخصی'!O19","v":0},{"$f":"'اندازه های شخصی'!Q19","v":0},{"$f":"'اندازه های شخصی'!S19","v":0},{"$f":"'اندازه های شخصی'!U19","v":0},{"$f":"'اندازه های شخصی'!W19","v":0},{"$f":"'اندازه های شخصی'!Y19","v":0},{"$f":"'اندازه های شخصی'!AA19","v":0},{"$f":"'اندازه های شخصی'!AC19","v":0},{"$f":"'اندازه های شخصی'!AE19","v":0},{"$f":"'اندازه های شخصی'!AG19","v":0},{"$f":"'اندازه های شخصی'!AI19","v":0},{"$f":"'اندازه های شخصی'!AK19","v":0},{"$f":"'اندازه های شخصی'!AM19","v":0},{"$f":"'اندازه های شخصی'!AO19","v":0},{"$f":"'اندازه های شخصی'!AQ19","v":0},{"$f":"'اندازه های شخصی'!AS19","v":0},{"$f":"'اندازه های شخصی'!AU19","v":0},{"$f":"'اندازه های شخصی'!AW19","v":0},{"$f":"'اندازه های شخصی'!AY19","v":0},{"$f":"'اندازه های شخصی'!BA19","v":0},{"$f":"'اندازه های شخصی'!BC19","v":0},{"$f":"'اندازه های شخصی'!BE19","v":0},{"$f":"'اندازه های شخصی'!BG19","v":0},{"$f":"'اندازه های شخصی'!BI19","v":0},{"$f":"'اندازه های شخصی'!BK19","v":0},{"$f":"'اندازه های شخصی'!BM19","v":0},{"$f":"'اندازه های شخصی'!BO19","v":0},{"$f":"'اندازه های شخصی'!BQ19","v":0},{"$f":"'اندازه های شخصی'!BS19","v":0},{"$f":"'اندازه های شخصی'!BU19","v":0},{"$f":"'اندازه های شخصی'!BW19","v":0},{"$f":"'اندازه های شخصی'!BY19","v":0},{"$f":"'اندازه های شخصی'!CA19","v":0},{"$f":"'اندازه های شخصی'!CC19","v":0},{"$f":"'اندازه های شخصی'!CE19","v":0},{"$f":"'اندازه های شخصی'!CG19","v":0}]
["ضریب بلندی طول مچ  b3  معادل ضریب تنگی پایین چادر","(از0 الی 0.4)",0.15,"بهینه=0.15",{"$f":"'طراحی همه الگوها'!Q212","v":15},"گشادی پایین چادر (معادل بلندی طول مچ)",1,0.01,0,0,0.01,0,0,0,0.4,40,0.15,15,null,"r",13.5,13.5,14.2,14.9,16.2,16.2,17.600000000000001,17.600000000000001,17.600000000000001,18.899999999999999,18.899999999999999,20.3,21.6,20.3,21.6,22.3,23,23.6,23,23.5,24,24.5,25.1,25.7,26.3,26.9,27.5,28,28.5,29,29.5,30,24,25,26,27,28,29,29,29,29,29.4,29.8,30.2,32.6,31,14.9,16.2,16.2,17.600000000000001,17.600000000000001,17.600000000000001,18.899999999999999,18.899999999999999,20.3,21.6,20.3,21.6,22.3,23,23.6,23,23.5,24,24.5,25.1,25.7,26.3,26.9,27.5,28,28.5,29,29.5,30,24,25,26,27,28,29,29,29,29,29.4,29.8,30.2,32.6,31,{"$f":"'اندازه های شخصی'!G20","v":0},{"$f":"'اندازه های شخصی'!I20","v":0},{"$f":"'اندازه های شخصی'!K20","v":0},{"$f":"'اندازه های شخصی'!M20","v":0},{"$f":"'اندازه های شخصی'!O20","v":0},{"$f":"'اندازه های شخصی'!Q20","v":0},{"$f":"'اندازه های شخصی'!S20","v":0},{"$f":"'اندازه های شخصی'!U20","v":0},{"$f":"'اندازه های شخصی'!W20","v":0},{"$f":"'اندازه های شخصی'!Y20","v":0},{"$f":"'اندازه های شخصی'!AA20","v":0},{"$f":"'اندازه های شخصی'!AC20","v":0},{"$f":"'اندازه های شخصی'!AE20","v":0},{"$f":"'اندازه های شخصی'!AG20","v":0},{"$f":"'اندازه های شخصی'!AI20","v":0},{"$f":"'اندازه های شخصی'!AK20","v":0},{"$f":"'اندازه های شخصی'!AM20","v":0},{"$f":"'اندازه های شخصی'!AO20","v":0},{"$f":"'اندازه های شخصی'!AQ20","v":0},{"$f":"'اندازه های شخصی'!AS20","v":0},{"$f":"'اندازه های شخصی'!AU20","v":0},{"$f":"'اندازه های شخصی'!AW20","v":0},{"$f":"'اندازه های شخصی'!AY20","v":0},{"$f":"'اندازه های شخصی'!BA20","v":0},{"$f":"'اندازه های شخصی'!BC20","v":0},{"$f":"'اندازه های شخصی'!BE20","v":0},{"$f":"'اندازه های شخصی'!BG20","v":0},{"$f":"'اندازه های شخصی'!BI20","v":0},{"$f":"'اندازه های شخصی'!BK20","v":0},{"$f":"'اندازه های شخصی'!BM20","v":0},{"$f":"'اندازه های شخصی'!BO20","v":0},{"$f":"'اندازه های شخصی'!BQ20","v":0},{"$f":"'اندازه های شخصی'!BS20","v":0},{"$f":"'اندازه های شخصی'!BU20","v":0},{"$f":"'اندازه های شخصی'!BW20","v":0},{"$f":"'اندازه های شخصی'!BY20","v":0},{"$f":"'اندازه های شخصی'!CA20","v":0},{"$f":"'اندازه های شخصی'!CC20","v":0},{"$f":"'اندازه های شخصی'!CE20","v":0},{"$f":"'اندازه های شخصی'!CG20","v":0}]
["ضریب بلند شدن آستین نسبت به مچ  b5","(از -0.4 الی 0.4)",0,"آستین تا مچ=0 \nآستین کوتاه تر از مچ = منفی \nآستین بلند تر از مچ = مثبت   ",{"$f":"'طراحی همه الگوها'!Q213","v":10},"بلند شدن آستین چادر نسبت به مچ اندام ",30,-0.45,10,0,-2.2499999999999999E-2,0.22499999999999992,-0.4,27.777777777777779,0.4,-7.7777777777777821,0,9.9999999999999964]
["عرض پارچه به سانتیمتر b1","(از 90 الی 200)",110," 90 یا 100 یا 110 \n115 یا 120 یا ...",{"$f":"'طراحی همه الگوها'!Q214","v":110},"عرض پارچه ",2,2,1,1,1,0,90,90,200,200,100,100,null,null,2,2,2,2,2,2,0,0,0,0,0,0,0,0,0,0,0,0,0,0,0,0,0,0,0,0,0,0,0,0,0,0,1,1,1,1,1,1,1,1,1,1,1,1,1,1,2,2,2,0,0,0,0,0,0,0,0,0,0,0,0,0,0,0,0,0,0,0,0,0,0,0,0,0,0,1,1,1,1,1,1,1,1,1,1,1,1,1,1,{"$f":"'اندازه های شخصی'!G21","v":0},{"$f":"'اندازه های شخصی'!I21","v":0},{"$f":"'اندازه های شخصی'!K21","v":0},{"$f":"'اندازه های شخصی'!M21","v":0},{"$f":"'اندازه های شخصی'!O21","v":0},{"$f":"'اندازه های شخصی'!Q21","v":0},{"$f":"'اندازه های شخصی'!S21","v":0},{"$f":"'اندازه های شخصی'!U21","v":0},{"$f":"'اندازه های شخصی'!W21","v":0},{"$f":"'اندازه های شخصی'!Y21","v":0},{"$f":"'اندازه های شخصی'!AA21","v":0},{"$f":"'اندازه های شخصی'!AC21","v":0},{"$f":"'اندازه های شخصی'!AE21","v":0},{"$f":"'اندازه های شخصی'!AG21","v":0},{"$f":"'اندازه های شخصی'!AI21","v":0},{"$f":"'اندازه های شخصی'!AK21","v":0},{"$f":"'اندازه های شخصی'!AM21","v":0},{"$f":"'اندازه های شخصی'!AO21","v":0},{"$f":"'اندازه های شخصی'!AQ21","v":0},{"$f":"'اندازه های شخصی'!AS21","v":0},{"$f":"'اندازه های شخصی'!AU21","v":0},{"$f":"'اندازه های شخصی'!AW21","v":0},{"$f":"'اندازه های شخصی'!AY21","v":0},{"$f":"'اندازه های شخصی'!BA21","v":0},{"$f":"'اندازه های شخصی'!BC21","v":0},{"$f":"'اندازه های شخصی'!BE21","v":0},{"$f":"'اندازه های شخصی'!BG21","v":0},{"$f":"'اندازه های شخصی'!BI21","v":0},{"$f":"'اندازه های شخصی'!BK21","v":0},{"$f":"'اندازه های شخصی'!BM21","v":0},{"$f":"'اندازه های شخصی'!BO21","v":0},{"$f":"'اندازه های شخصی'!BQ21","v":0},{"$f":"'اندازه های شخصی'!BS21","v":0},{"$f":"'اندازه های شخصی'!BU21","v":0},{"$f":"'اندازه های شخصی'!BW21","v":0},{"$f":"'اندازه های شخصی'!BY21","v":0},{"$f":"'اندازه های شخصی'!CA21","v":0},{"$f":"'اندازه های شخصی'!CC21","v":0},{"$f":"'اندازه های شخصی'!CE21","v":0},{"$f":"'اندازه های شخصی'!CG21","v":0}]
["انتخاب چادر تا پایین پیشانی=1    انتخاب چادر تا بالای پیشانی=0\nانتخاب چادر روی سر = -1"," -1 یا 0 یا 1",0,null,{"$f":"'طراحی همه الگوها'!Q215","v":2},"انتخاب چادر تا پایین پیشانی=3    انتخاب چادر تا بالای پیشانی=2\nانتخاب چادر روی سر = 1",2,0,1,-1,1,-2,0,2,2,4,1,3]
[]
[" متغیرهای ورودی چادر شماره 4",null,null,null,null," متغیرهای ورودی چادر شماره 4","x1","y1","x2","y2(بهینه)","a","b",null,"کمترین",null,"بیشترین",null,null,null,null,"اندازه شخص","اندازه شخص","اندازه شخص","اندازه شخص","اندازه شخص","اندازه شخص","اندازه شخص","اندازه شخص","اندازه شخص","اندازه شخص","اندازه شخص","اندازه شخص","اندازه شخص","اندازه شخص","اندازه شخص","اندازه شخص","اندازه شخص","اندازه شخص","اندازه شخص","اندازه شخص","اندازه شخص","اندازه شخص","اندازه شخص","اندازه شخص","اندازه شخص","اندازه شخص","اندازه شخص","اندازه شخص","اندازه شخص","اندازه شخص","اندازه شخص","اندازه شخص","اندازه شخص","اندازه شخص","اندازه شخص","اندازه شخص","اندازه شخص","اندازه شخص","اندازه شخص","اندازه شخص","اندازه شخص","اندازه شخص","اندازه شخص","اندازه شخص","اندازه شخص","اندازه شخص","اندازه شخص","اندازه شخص","اندازه شخص","اندازه شخص","اندازه شخص","اندازه شخص","اندازه شخص","اندازه شخص","اندازه شخص","اندازه شخص","اندازه شخص","اندازه شخص","اندازه شخص","اندازه شخص","اندازه شخص","اندازه شخص","اندازه شخص","اندازه شخص","اندازه شخص","اندازه شخص","اندازه شخص","اندازه شخص","اندازه شخص","اندازه شخص","اندازه شخص","اندازه شخص","اندازه شخص","اندازه شخص","اندازه شخص","اندازه شخص","اندازه شخص","اندازه شخص","اندازه شخص","اندازه شخص","اندازه شخص","اندازه شخص","اندازه شخص","اندازه شخص","اندازه شخص","اندازه شخص","اندازه شخص","اندازه شخص","اندازه شخص"]
["ضریب فاصله لبه چادر تا زمین   j0","(از -0.1 الی 0.5)",{"$f":"K25*E25+L25","v":0},"خط زمین=0 \nخط زانو=1  ",{"$f":"'طراحی همه الگوها'!Q232","v":10},"ضریب فاصله لبه چادر تا زمین   ",10,0,30,1,{"$f":"(J25-H25)/(I25-G25)","v":0.05},{"$f":"H25-G25*K25","v":-0.5},-0.1,{"$f":"(M25-L25)/K25","v":8},0.5,{"$f":"(O25-L25)/K25","v":20},0,{"$f":"(Q25-L25)/K25","v":10},null,"a",41,42,45,47,48,49,51,53,55,57,59,61,63,65.5,68,71,73,75,63,65,68,72,77,82,87,92,97,103,110,117,124,131,74,78,82,86,90,94,98,102,106,111,116,121,126,131,47,48,49,51,53,55,57,59,61,63,65.5,68,71,73,75,67,69,72,76,81,86,91,96,101,107,114,121,127,135,75.5,79.599999999999994,83.6,87.7,91.8,95.9,100,104,108.1,113.2,118.3,123.4,128.5,133.6,{"$f":"DF7","v":0},0,0,0,0,0,0,0,0,0,0,0,0,0,0,0,0,0,0,0,{"$f":"DZ7","v":0},0,0,{"$f":"EC7","v":0},{"$f":"ED7","v":0},0,0,{"$f":"EG7","v":0},{"$f":"EH7","v":0},0,0,{"$f":"EK7","v":0},{"$f":"EL7","v":0},0,0,{"$f":"EO7","v":0},{"$f":"EP7","v":0},0,0,0]
["ضریب گشادی پشت چادر نسبت به جلو چادر (به درجه)  c1","(از -5 الی 5)",3,"بهینه=3",{"$f":"'طراحی همه الگوها'!Q233","v":3},"ضریب گشادی پشت چادر نسبت به جلو چادر (درجه)  ",1,1,0,0,1,0,-5,-5,5,5,3,3,null,"b",20.100000000000001,20.6,22.1,23,23.5,24,25,26,27,27.9,28.9,29.9,30.9,32.1,33.299999999999997,34.799999999999997,35.799999999999997,36.799999999999997,32.200000000000003,32.700000000000003,33.700000000000003,35.200000000000003,36.9,38.700000000000003,40.6,42.3,44.3,47.5,51,54.8,59.2,63.6,37,39,41,43,45,47,49,51,53,55.5,58,60.5,63,65.5,23,23.5,24,25,26,27,27.9,28.9,29.9,30.9,32.1,33.299999999999997,34.799999999999997,35.799999999999997,36.799999999999997,34.200000000000003,34.700000000000003,35.700000000000003,37.1,38.799999999999997,40.6,42.4,44.2,46.1,49.4,52.8,56.7,60.7,64.5,37.799999999999997,39.799999999999997,41.8,43.9,45.9,48,50,52,54.1,56.6,59.2,61.7,64.3,66.8,{"$f":"DF8","v":0},0,0,0,0,0,0,0,0,0,0,0,0,0,0,0,0,0,0,0,0,0,0,{"$f":"EC8","v":0},0,0,0,{"$f":"EG8","v":0},0,0,0,{"$f":"EK8","v":0},0,0,0,{"$f":"EO8","v":0},0,0,0,0]
["ضریب بلند شدن آستین نسبت به مچ  c2","(از -0.4 الی 0.4)",0,"آستین تا مچ=0 \nآستین کوتاه تر از مچ = منفی \nآستین بلند تر از مچ = مثبت   ",{"$f":"'طراحی همه الگوها'!Q234","v":10},"بلند شدن آستین چادر نسبت به مچ اندام ",30,-0.45,10,0,-2.2499999999999999E-2,0.22499999999999992,-0.4,27.777777777777779,0.4,-7.7777777777777821,0,9.9999999999999964,null,"s1",43,45,47,50,52,54,56,58,60,62,64,66,68,71,75,78,82,86,80,84,88,92,97,102,107,112,117,122,128,134,140,146,88,92,96,100,104,108,112,116,120,124,128,132,136,140,50,52,54,56,58,60,62,64,66,68,71,75,78,82,86,80,84,88,92,97,102,107,112,117,122,128,134,140,146,88,92,96,100,104,108,112,116,120,124,128,132,136,140,{"$f":"'اندازه های شخصی'!G22","v":0},{"$f":"'اندازه های شخصی'!I22","v":0},{"$f":"'اندازه های شخصی'!K22","v":0},{"$f":"'اندازه های شخصی'!M22","v":0},{"$f":"'اندازه های شخصی'!O22","v":0},{"$f":"'اندازه های شخصی'!Q22","v":0},{"$f":"'اندازه های شخصی'!S22","v":0},{"$f":"'اندازه های شخصی'!U22","v":0},{"$f":"'اندازه های شخصی'!W22","v":0},{"$f":"'اندازه های شخصی'!Y22","v":0},{"$f":"'اندازه های شخصی'!AA22","v":0},{"$f":"'اندازه های شخصی'!AC22","v":0},{"$f":"'اندازه های شخصی'!AE22","v":0},{"$f":"'اندازه های شخصی'!AG22","v":0},{"$f":"'اندازه های شخصی'!AI22","v":0},{"$f":"'اندازه های شخصی'!AK22","v":0},{"$f":"'اندازه های شخصی'!AM22","v":0},{"$f":"'اندازه های شخصی'!AO22","v":0},{"$f":"'اندازه های شخصی'!AQ22","v":0},{"$f":"'اندازه های شخصی'!AS22","v":0},{"$f":"'اندازه های شخصی'!AU22","v":0},{"$f":"'اندازه های شخصی'!AW22","v":0},{"$f":"'اندازه های شخصی'!AY22","v":0},{"$f":"'اندازه های شخصی'!BA22","v":0},{"$f":"'اندازه های شخصی'!BC22","v":0},{"$f":"'اندازه های شخصی'!BE22","v":0},{"$f":"'اندازه های شخصی'!BG22","v":0},{"$f":"'اندازه های شخصی'!BI22","v":0},{"$f":"'اندازه های شخصی'!BK22","v":0},{"$f":"'اندازه های شخصی'!BM22","v":0},{"$f":"'اندازه های شخصی'!BO22","v":0},{"$f":"'اندازه های شخصی'!BQ22","v":0},{"$f":"'اندازه های شخصی'!BS22","v":0},{"$f":"'اندازه های شخصی'!BU22","v":0},{"$f":"'اندازه های شخصی'!BW22","v":0},{"$f":"'اندازه های شخصی'!BY22","v":0},{"$f":"'اندازه های شخصی'!CA22","v":0},{"$f":"'اندازه های شخصی'!CC22","v":0},{"$f":"'اندازه های شخصی'!CE22","v":0},{"$f":"'اندازه های شخصی'!CG22","v":0}]
["ضریب گشادی دور مچ  c3","(از 1.1 الی 3)",1.7000000000000006,"بدون گشادی=1",{"$f":"'طراحی همه الگوها'!Q235","v":7},"ضریب گشادی دور مچ  ",1,1.1000000000000001,0,1,0.10000000000000009,1,1.1000000000000001,1,3,19.999999999999982,1,0,null,"s2",21.5,22.5,23.5,25,26,27,28,29,30,31,32,33,34,35.5,37.5,39,41,43,38.9,40.200000000000003,41.5,42.8,44.3,45.9,47.5,49.1,50.9,53.6,56.5,59.8,63.7,67.5,44,46,48,50,52,54,56,58,60,62,64,66,68,70,25,26,27,28,29,30,31,32,33,34,35.5,37.5,39,41,43,38.9,40.200000000000003,41.5,42.8,44.3,45.9,47.5,49.1,50.9,53.6,56.5,59.8,63.7,67.5,44,46,48,50,52,54,56,58,60,62,64,66,68,70,{"$f":"'اندازه های شخصی'!G23","v":0},{"$f":"'اندازه های شخصی'!I23","v":0},{"$f":"'اندازه های شخصی'!K23","v":0},{"$f":"'اندازه های شخصی'!M23","v":0},{"$f":"'اندازه های شخصی'!O23","v":0},{"$f":"'اندازه های شخصی'!Q23","v":0},{"$f":"'اندازه های شخصی'!S23","v":0},{"$f":"'اندازه های شخصی'!U23","v":0},{"$f":"'اندازه های شخصی'!W23","v":0},{"$f":"'اندازه های شخصی'!Y23","v":0},{"$f":"'اندازه های شخصی'!AA23","v":0},{"$f":"'اندازه های شخصی'!AC23","v":0},{"$f":"'اندازه های شخصی'!AE23","v":0},{"$f":"'اندازه های شخصی'!AG23","v":0},{"$f":"'اندازه های شخصی'!AI23","v":0},{"$f":"'اندازه های شخصی'!AK23","v":0},{"$f":"'اندازه های شخصی'!AM23","v":0},{"$f":"'اندازه های شخصی'!AO23","v":0},{"$f":"'اندازه های شخصی'!AQ23","v":0},{"$f":"'اندازه های شخصی'!AS23","v":0},{"$f":"'اندازه های شخصی'!AU23","v":0},{"$f":"'اندازه های شخصی'!AW23","v":0},{"$f":"'اندازه های شخصی'!AY23","v":0},{"$f":"'اندازه های شخصی'!BA23","v":0},{"$f":"'اندازه های شخصی'!BC23","v":0},{"$f":"'اندازه های شخصی'!BE23","v":0},{"$f":"'اندازه های شخصی'!BG23","v":0},{"$f":"'اندازه های شخصی'!BI23","v":0},{"$f":"'اندازه های شخصی'!BK23","v":0},{"$f":"'اندازه های شخصی'!BM23","v":0},{"$f":"'اندازه های شخصی'!BO23","v":0},{"$f":"'اندازه های شخصی'!BQ23","v":0},{"$f":"'اندازه های شخصی'!BS23","v":0},{"$f":"'اندازه های شخصی'!BU23","v":0},{"$f":"'اندازه های شخصی'!BW23","v":0},{"$f":"'اندازه های شخصی'!BY23","v":0},{"$f":"'اندازه های شخصی'!CA23","v":0},{"$f":"'اندازه های شخصی'!CC23","v":0},{"$f":"'اندازه های شخصی'!CE23","v":0},{"$f":"'اندازه های شخصی'!CG23","v":0}]
["ضریب بلند شدن آستین به سمت زیر بغل c4","(از 0 الی 1)",0.7,"آستین تا زیر بغل=0 \nبدون آستین= 1  ",{"$f":"'طراحی همه الگوها'!Q236","v":30}," بلند شدن آستین به سمت زیر بغل ",30,0.7,10,0.1,0.03,-0.19999999999999996,0,6.6666666666666652,1,40,0,6.6666666666666652,null,"t1",15.8,16.2,18.3,20.3,21.3,24.4,26.5,26.9,28.6,30.2,31.8,33.299999999999997,35.5,36.5,37.299999999999997,38.200000000000003,39,39.799999999999997,43.6,43.8,44.1,44.4,44.8,45,45,45.6,45.9,46.3,46.3,46.6,46.3,46.5,43.9,44.2,44.3,44.5,44.8,44.8,44.9,44.9,45.2,45.1,45.3,45.6,45.5,45.7,21.8,22.8,25.8,28.2,28.4,30.2,31.7,33.299999999999997,34.9,37.200000000000003,38.200000000000003,39.1,39.700000000000003,40.5,40.9,43.6,43.8,44.1,44.4,44.8,45,45,45.6,45.9,46.3,46.3,46.6,46.3,46.5,46.3,46.3,46,46,45.6,45.6,45.4,45,44.8,44.4,44.4,44.2,44,43.6,{"$f":"'اندازه های شخصی'!G24","v":0},{"$f":"'اندازه های شخصی'!I24","v":0},{"$f":"'اندازه های شخصی'!K24","v":0},{"$f":"'اندازه های شخصی'!M24","v":0},{"$f":"'اندازه های شخصی'!O24","v":0},{"$f":"'اندازه های شخصی'!Q24","v":0},{"$f":"'اندازه های شخصی'!S24","v":0},{"$f":"'اندازه های شخصی'!U24","v":0},{"$f":"'اندازه های شخصی'!W24","v":0},{"$f":"'اندازه های شخصی'!Y24","v":0},{"$f":"'اندازه های شخصی'!AA24","v":0},{"$f":"'اندازه های شخصی'!AC24","v":0},{"$f":"'اندازه های شخصی'!AE24","v":0},{"$f":"'اندازه های شخصی'!AG24","v":0},{"$f":"'اندازه های شخصی'!AI24","v":0},{"$f":"'اندازه های شخصی'!AK24","v":0},{"$f":"'اندازه های شخصی'!AM24","v":0},{"$f":"'اندازه های شخصی'!AO24","v":0},{"$f":"'اندازه های شخصی'!AQ24","v":0},{"$f":"'اندازه های شخصی'!AS24","v":0},{"$f":"'اندازه های شخصی'!AU24","v":0},{"$f":"'اندازه های شخصی'!AW24","v":0},{"$f":"'اندازه های شخصی'!AY24","v":0},{"$f":"'اندازه های شخصی'!BA24","v":0},{"$f":"'اندازه های شخصی'!BC24","v":0},{"$f":"'اندازه های شخصی'!BE24","v":0},{"$f":"'اندازه های شخصی'!BG24","v":0},{"$f":"'اندازه های شخصی'!BI24","v":0},{"$f":"'اندازه های شخصی'!BK24","v":0},{"$f":"'اندازه های شخصی'!BM24","v":0},{"$f":"'اندازه های شخصی'!BO24","v":0},{"$f":"'اندازه های شخصی'!BQ24","v":0},{"$f":"'اندازه های شخصی'!BS24","v":0},{"$f":"'اندازه های شخصی'!BU24","v":0},{"$f":"'اندازه های شخصی'!BW24","v":0},{"$f":"'اندازه های شخصی'!BY24","v":0},{"$f":"'اندازه های شخصی'!CA24","v":0},{"$f":"'اندازه های شخصی'!CC24","v":0},{"$f":"'اندازه های شخصی'!CE24","v":0},{"$f":"'اندازه های شخصی'!CG24","v":0}]
["ضریب گشادی پایین چادر (به درجه) c5","(از 0 الی حداکثر)",20,"چادر راسته بدون گشادی=0  ",{"$f":"'طراحی همه الگوها'!Q237","v":20},"ضریب گشادی پایین چادر (درجه) ",21,21,20,20,1,0,0,0,2,2,0,0,null,"t2",19.399999999999999,19.899999999999999,22.2,24.5,25.7,28.7,31,31.6,33.4,35.200000000000003,36.9,38.6,40.9,42.1,43.3,44.5,45.7,46.9,50.8,51.4,51.9,52.5,53.5,54.3,55.1,56.4,57.5,58.7,59.8,61,62.1,63.3,50.7,51.3,51.7,52.3,52.7,53,53.6,54,54.6,55,55.4,56,56.4,56.9,26.6,27.9,31.1,33.6,34.200000000000003,36.1,37.9,39.799999999999997,41.8,44.3,45.5,46.9,48,49.4,50.6,50.8,51.4,51.9,52.5,53.5,54.3,55.1,56.4,57.5,58.7,59.8,61,62.1,63.3,55.9,56.4,56.7,57.3,57.7,58.3,58.9,59.3,59.9,60.2,60.8,61.4,62,62.4,{"$f":"'اندازه های شخصی'!G25","v":0},{"$f":"'اندازه های شخصی'!I25","v":0},{"$f":"'اندازه های شخصی'!K25","v":0},{"$f":"'اندازه های شخصی'!M25","v":0},{"$f":"'اندازه های شخصی'!O25","v":0},{"$f":"'اندازه های شخصی'!Q25","v":0},{"$f":"'اندازه های شخصی'!S25","v":0},{"$f":"'اندازه های شخصی'!U25","v":0},{"$f":"'اندازه های شخصی'!W25","v":0},{"$f":"'اندازه های شخصی'!Y25","v":0},{"$f":"'اندازه های شخصی'!AA25","v":0},{"$f":"'اندازه های شخصی'!AC25","v":0},{"$f":"'اندازه های شخصی'!AE25","v":0},{"$f":"'اندازه های شخصی'!AG25","v":0},{"$f":"'اندازه های شخصی'!AI25","v":0},{"$f":"'اندازه های شخصی'!AK25","v":0},{"$f":"'اندازه های شخصی'!AM25","v":0},{"$f":"'اندازه های شخصی'!AO25","v":0},{"$f":"'اندازه های شخصی'!AQ25","v":0},{"$f":"'اندازه های شخصی'!AS25","v":0},{"$f":"'اندازه های شخصی'!AU25","v":0},{"$f":"'اندازه های شخصی'!AW25","v":0},{"$f":"'اندازه های شخصی'!AY25","v":0},{"$f":"'اندازه های شخصی'!BA25","v":0},{"$f":"'اندازه های شخصی'!BC25","v":0},{"$f":"'اندازه های شخصی'!BE25","v":0},{"$f":"'اندازه های شخصی'!BG25","v":0},{"$f":"'اندازه های شخصی'!BI25","v":0},{"$f":"'اندازه های شخصی'!BK25","v":0},{"$f":"'اندازه های شخصی'!BM25","v":0},{"$f":"'اندازه های شخصی'!BO25","v":0},{"$f":"'اندازه های شخصی'!BQ25","v":0},{"$f":"'اندازه های شخصی'!BS25","v":0},{"$f":"'اندازه های شخصی'!BU25","v":0},{"$f":"'اندازه های شخصی'!BW25","v":0},{"$f":"'اندازه های شخصی'!BY25","v":0},{"$f":"'اندازه های شخصی'!CA25","v":0},{"$f":"'اندازه های شخصی'!CC25","v":0},{"$f":"'اندازه های شخصی'!CE25","v":0},{"$f":"'اندازه های شخصی'!CG25","v":0}]
["حداکثر مقدار  c5  برای اندام شما",{"$f":"ROUND(DEGREES(محاسبات!ER46-RADIANS(45)+محاسبات!ER42),0)","v":54},null,null,null,"حداکثر مقدار ضریب گشادی پایین چادر  برای اندام شما",null,null,null,null,null,null,null,null,null,null,null,null,null,"t3",33,34,38,42,44,49,53,54,57,60,63,66,70,72,74,76,78,80,80,81,82,83,84.4,85.7,87,88.9,90.8,92.6,94.5,96.3,98.2,100,86.8,87.6,88.4,89.2,90,90.8,91.6,92.4,93.2,94,94.8,95.6,96.4,97.2,42,44,49,53,54,57,60,63,66,70,72,74,76,78,80,80,81,82,83,84.4,85.7,87,88.9,90.8,92.6,94.5,96.3,98.2,100,88.2,89,89.7,90.5,91.3,92.1,92.9,93.7,94.5,95.3,96.1,97.1,97.9,98.7,{"$f":"'اندازه های شخصی'!G26","v":0},{"$f":"'اندازه های شخصی'!I26","v":0},{"$f":"'اندازه های شخصی'!K26","v":0},{"$f":"'اندازه های شخصی'!M26","v":0},{"$f":"'اندازه های شخصی'!O26","v":0},{"$f":"'اندازه های شخصی'!Q26","v":0},{"$f":"'اندازه های شخصی'!S26","v":0},{"$f":"'اندازه های شخصی'!U26","v":0},{"$f":"'اندازه های شخصی'!W26","v":0},{"$f":"'اندازه های شخصی'!Y26","v":0},{"$f":"'اندازه های شخصی'!AA26","v":0},{"$f":"'اندازه های شخصی'!AC26","v":0},{"$f":"'اندازه های شخصی'!AE26","v":0},{"$f":"'اندازه های شخصی'!AG26","v":0},{"$f":"'اندازه های شخصی'!AI26","v":0},{"$f":"'اندازه های شخصی'!AK26","v":0},{"$f":"'اندازه های شخصی'!AM26","v":0},{"$f":"'اندازه های شخصی'!AO26","v":0},{"$f":"'اندازه های شخصی'!AQ26","v":0},{"$f":"'اندازه های شخصی'!AS26","v":0},{"$f":"'اندازه های شخصی'!AU26","v":0},{"$f":"'اندازه های شخصی'!AW26","v":0},{"$f":"'اندازه های شخصی'!AY26","v":0},{"$f":"'اندازه های شخصی'!BA26","v":0},{"$f":"'اندازه های شخصی'!BC26","v":0},{"$f":"'اندازه های شخصی'!BE26","v":0},{"$f":"'اندازه های شخصی'!BG26","v":0},{"$f":"'اندازه های شخصی'!BI26","v":0},{"$f":"'اندازه های شخصی'!BK26","v":0},{"$f":"'اندازه های شخصی'!BM26","v":0},{"$f":"'اندازه های شخصی'!BO26","v":0},{"$f":"'اندازه های شخصی'!BQ26","v":0},{"$f":"'اندازه های شخصی'!BS26","v":0},{"$f":"'اندازه های شخصی'!BU26","v":0},{"$f":"'اندازه های شخصی'!BW26","v":0},{"$f":"'اندازه های شخصی'!BY26","v":0},{"$f":"'اندازه های شخصی'!CA26","v":0},{"$f":"'اندازه های شخصی'!CC26","v":0},{"$f":"'اندازه های شخصی'!CE26","v":0},{"$f":"'اندازه های شخصی'!CG26","v":0}]
["انتخاب چادر تا پایین پیشانی=1    انتخاب چادر تا بالای پیشانی=0\nانتخاب چادر روی سر = -1"," -1 یا 0 یا 1",{"$f":"K32*E32+L32","v":0},null,{"$f":"'طراحی همه الگوها'!Q239","v":2},"انتخاب چادر تا پایین پیشانی=3    انتخاب چادر تا بالای پیشانی=2\nانتخاب چادر روی سر = 1",2,0,1,-1,{"$f":"(J32-H32)/(I32-G32)","v":1},{"$f":"H32-G32*K32","v":-2},0,{"$f":"(M32-L32)/K32","v":2},1,{"$f":"(O32-L32)/K32","v":3},0,{"$f":"(Q32-L32)/K32","v":2},null,"t4",8.1,8.3000000000000007,9.4,10.4,10.9,12.5,13.6,13.8,14.7,15.5,16.3,17.100000000000001,18.2,18.7,19.100000000000001,19.600000000000001,20,20.399999999999999,21.9,22.1,22.3,22.5,22.8,23,23.1,23.5,23.7,23.9,23.9,24,23.8,23.8,21.9,22,22,22.1,22.2,22.2,22.2,22.2,22.3,22.2,22.3,22.4,22.3,22.4,10.8,11.3,12.8,14,14.1,15,15.8,16.600000000000001,17.399999999999999,18.600000000000001,19,19.399999999999999,19.7,20.100000000000001,20.3,21.9,22.1,22.3,22.5,22.8,23,23.1,23.5,23.7,23.9,23.9,24,23.8,23.8,22.9,22.9,22.7,22.7,22.5,22.5,22.4,22.2,22.1,21.9,21.9,21.8,21.7,21.5,{"$f":"'اندازه های شخصی'!G27","v":0},{"$f":"'اندازه های شخصی'!I27","v":0},{"$f":"'اندازه های شخصی'!K27","v":0},{"$f":"'اندازه های شخصی'!M27","v":0},{"$f":"'اندازه های شخصی'!O27","v":0},{"$f":"'اندازه های شخصی'!Q27","v":0},{"$f":"'اندازه های شخصی'!S27","v":0},{"$f":"'اندازه های شخصی'!U27","v":0},{"$f":"'اندازه های شخصی'!W27","v":0},{"$f":"'اندازه های شخصی'!Y27","v":0},{"$f":"'اندازه های شخصی'!AA27","v":0},{"$f":"'اندازه های شخصی'!AC27","v":0},{"$f":"'اندازه های شخصی'!AE27","v":0},{"$f":"'اندازه های شخصی'!AG27","v":0},{"$f":"'اندازه های شخصی'!AI27","v":0},{"$f":"'اندازه های شخصی'!AK27","v":0},{"$f":"'اندازه های شخصی'!AM27","v":0},{"$f":"'اندازه های شخصی'!AO27","v":0},{"$f":"'اندازه های شخصی'!AQ27","v":0},{"$f":"'اندازه های شخصی'!AS27","v":0},{"$f":"'اندازه های شخصی'!AU27","v":0},{"$f":"'اندازه های شخصی'!AW27","v":0},{"$f":"'اندازه های شخصی'!AY27","v":0},{"$f":"'اندازه های شخصی'!BA27","v":0},{"$f":"'اندازه های شخصی'!BC27","v":0},{"$f":"'اندازه های شخصی'!BE27","v":0},{"$f":"'اندازه های شخصی'!BG27","v":0},{"$f":"'اندازه های شخصی'!BI27","v":0},{"$f":"'اندازه های شخصی'!BK27","v":0},{"$f":"'اندازه های شخصی'!BM27","v":0},{"$f":"'اندازه های شخصی'!BO27","v":0},{"$f":"'اندازه های شخصی'!BQ27","v":0},{"$f":"'اندازه های شخصی'!BS27","v":0},{"$f":"'اندازه های شخصی'!BU27","v":0},{"$f":"'اندازه های شخصی'!BW27","v":0},{"$f":"'اندازه های شخصی'!BY27","v":0},{"$f":"'اندازه های شخصی'!CA27","v":0},{"$f":"'اندازه های شخصی'!CC27","v":0},{"$f":"'اندازه های شخصی'!CE27","v":0},{"$f":"'اندازه های شخصی'!CG27","v":0}]
["ضریب فاصله افقی مرغک از خط مرکزی جلو","(از -1 الی 4)",{"$f":"K33*E33+L33","v":2},"خط مرکزی جلو=0 \nخط پهلو=1  ",{"$f":"'طراحی همه الگوها'!Q240","v":40},"ضریب فاصله افقی مرغک از خط مرکزی جلو",20,1,0,0,{"$f":"(J33-H33)/(I33-G33)","v":0.05},{"$f":"H33-G33*K33","v":0},-1,{"$f":"(M33-L33)/K33","v":-20},4,{"$f":"(O33-L33)/K33","v":80},0,{"$f":"(Q33-L33)/K33","v":0},null,"t5",10.1,10.4,11.6,12.8,13.4,15,16.2,16.5,17.5,18.399999999999999,19.3,20.2,21.4,22,22.6,23.3,23.9,24.5,25.4,25.7,26,26.3,26.7,27,27.3,27.8,28.2,28.7,29.1,29.6,30,30.5,26,26.3,26.5,26.8,27,27.2,27.5,27.7,28,28.2,28.4,28.7,28.9,29.2,13.7,14.4,16,17.3,17.600000000000001,18.600000000000001,19.600000000000001,20.6,21.6,22.9,23.5,24.2,24.8,25.5,26.1,25.4,25.7,26,26.3,26.7,27,27.3,27.8,28.2,28.7,29.1,29.6,30,30.5,28.8,29.1,29.3,29.6,29.8,30.1,30.4,30.6,30.9,31.1,31.4,31.7,32,32.200000000000003,{"$f":"'اندازه های شخصی'!G28","v":0},{"$f":"'اندازه های شخصی'!I28","v":0},{"$f":"'اندازه های شخصی'!K28","v":0},{"$f":"'اندازه های شخصی'!M28","v":0},{"$f":"'اندازه های شخصی'!O28","v":0},{"$f":"'اندازه های شخصی'!Q28","v":0},{"$f":"'اندازه های شخصی'!S28","v":0},{"$f":"'اندازه های شخصی'!U28","v":0},{"$f":"'اندازه های شخصی'!W28","v":0},{"$f":"'اندازه های شخصی'!Y28","v":0},{"$f":"'اندازه های شخصی'!AA28","v":0},{"$f":"'اندازه های شخصی'!AC28","v":0},{"$f":"'اندازه های شخصی'!AE28","v":0},{"$f":"'اندازه های شخصی'!AG28","v":0},{"$f":"'اندازه های شخصی'!AI28","v":0},{"$f":"'اندازه های شخصی'!AK28","v":0},{"$f":"'اندازه های شخصی'!AM28","v":0},{"$f":"'اندازه های شخصی'!AO28","v":0},{"$f":"'اندازه های شخصی'!AQ28","v":0},{"$f":"'اندازه های شخصی'!AS28","v":0},{"$f":"'اندازه های شخصی'!AU28","v":0},{"$f":"'اندازه های شخصی'!AW28","v":0},{"$f":"'اندازه های شخصی'!AY28","v":0},{"$f":"'اندازه های شخصی'!BA28","v":0},{"$f":"'اندازه های شخصی'!BC28","v":0},{"$f":"'اندازه های شخصی'!BE28","v":0},{"$f":"'اندازه های شخصی'!BG28","v":0},{"$f":"'اندازه های شخصی'!BI28","v":0},{"$f":"'اندازه های شخصی'!BK28","v":0},{"$f":"'اندازه های شخصی'!BM28","v":0},{"$f":"'اندازه های شخصی'!BO28","v":0},{"$f":"'اندازه های شخصی'!BQ28","v":0},{"$f":"'اندازه های شخصی'!BS28","v":0},{"$f":"'اندازه های شخصی'!BU28","v":0},{"$f":"'اندازه های شخصی'!BW28","v":0},{"$f":"'اندازه های شخصی'!BY28","v":0},{"$f":"'اندازه های شخصی'!CA28","v":0},{"$f":"'اندازه های شخصی'!CC28","v":0},{"$f":"'اندازه های شخصی'!CE28","v":0},{"$f":"'اندازه های شخصی'!CG28","v":0}]
["ضریب فاصله عمودی مرغک از زمین","(از 0 الی 5)",{"$f":"K34*E34+L34","v":1.25},"خط زمین=0 \nخط زانو=1 \nخط باسن=2 \nخط کمر=3 \nخط سینه=4  ",{"$f":"'طراحی همه الگوها'!Q241","v":35},"ضریب فاصله عمودی مرغک از زمین",10,0,30,1,{"$f":"(J34-H34)/(I34-G34)","v":0.05},{"$f":"H34-G34*K34","v":-0.5},0,{"$f":"(M34-L34)/K34","v":10},5,{"$f":"(O34-L34)/K34","v":110},0,{"$f":"(Q34-L34)/K34","v":10},null,"t6",16.8,17.3,19.399999999999999,21.4,22.4,25,27,27.5,29.1,30.6,32.1,33.700000000000003,35.700000000000003,36.700000000000003,37.700000000000003,38.799999999999997,39.799999999999997,40.799999999999997,39,39.5,40,40.5,41,41.5,42,42.7,43.4,44.1,44.8,45.5,46.2,46.9,43.4,43.8,44.2,44.6,45,45.4,45.8,46.2,46.6,47,47.4,47.8,48.2,48.6,21.1,22.1,24.6,26.6,27.1,28.6,30.2,31.7,33.200000000000003,35.200000000000003,36.200000000000003,37.200000000000003,38.200000000000003,39.200000000000003,40.200000000000003,39,39.5,40,40.5,41,41.5,42,42.7,43.4,44.1,44.8,45.5,46.2,46.9,44.3,44.7,45.1,45.5,45.9,46.3,46.7,47.1,47.5,47.9,48.3,48.8,49.2,49.6,{"$f":"'اندازه های شخصی'!G29","v":0},{"$f":"'اندازه های شخصی'!I29","v":0},{"$f":"'اندازه های شخصی'!K29","v":0},{"$f":"'اندازه های شخصی'!M29","v":0},{"$f":"'اندازه های شخصی'!O29","v":0},{"$f":"'اندازه های شخصی'!Q29","v":0},{"$f":"'اندازه های شخصی'!S29","v":0},{"$f":"'اندازه های شخصی'!U29","v":0},{"$f":"'اندازه های شخصی'!W29","v":0},{"$f":"'اندازه های شخصی'!Y29","v":0},{"$f":"'اندازه های شخصی'!AA29","v":0},{"$f":"'اندازه های شخصی'!AC29","v":0},{"$f":"'اندازه های شخصی'!AE29","v":0},{"$f":"'اندازه های شخصی'!AG29","v":0},{"$f":"'اندازه های شخصی'!AI29","v":0},{"$f":"'اندازه های شخصی'!AK29","v":0},{"$f":"'اندازه های شخصی'!AM29","v":0},{"$f":"'اندازه های شخصی'!AO29","v":0},{"$f":"'اندازه های شخصی'!AQ29","v":0},{"$f":"'اندازه های شخصی'!AS29","v":0},{"$f":"'اندازه های شخصی'!AU29","v":0},{"$f":"'اندازه های شخصی'!AW29","v":0},{"$f":"'اندازه های شخصی'!AY29","v":0},{"$f":"'اندازه های شخصی'!BA29","v":0},{"$f":"'اندازه های شخصی'!BC29","v":0},{"$f":"'اندازه های شخصی'!BE29","v":0},{"$f":"'اندازه های شخصی'!BG29","v":0},{"$f":"'اندازه های شخصی'!BI29","v":0},{"$f":"'اندازه های شخصی'!BK29","v":0},{"$f":"'اندازه های شخصی'!BM29","v":0},{"$f":"'اندازه های شخصی'!BO29","v":0},{"$f":"'اندازه های شخصی'!BQ29","v":0},{"$f":"'اندازه های شخصی'!BS29","v":0},{"$f":"'اندازه های شخصی'!BU29","v":0},{"$f":"'اندازه های شخصی'!BW29","v":0},{"$f":"'اندازه های شخصی'!BY29","v":0},{"$f":"'اندازه های شخصی'!CA29","v":0},{"$f":"'اندازه های شخصی'!CC29","v":0},{"$f":"'اندازه های شخصی'!CE29","v":0},{"$f":"'اندازه های شخصی'!CG29","v":0}]
[null,null,null,null,null,null,null,null,null,null,null,null,null,null,null,null,null,null,null,"v",25,27,27,28,28,30,30,31,31,32,32,33,34,35,36,37,38,39,36,37,38,39,40.200000000000003,41.4,42.6,43.8,45,46,47,48,49,50,39,40,41,42,43,44,45,46,47,48,49,50,51,52,28,28,30,30,31,31,32,32,33,34,35,36,37,38,39,36,37,38,39,40.200000000000003,41.4,42.6,43.8,45,46,47,48,49,50,39,40,41,42,43,44,45,46,47,48,49,50,51,52,{"$f":"'اندازه های شخصی'!G30","v":0},{"$f":"'اندازه های شخصی'!I30","v":0},{"$f":"'اندازه های شخصی'!K30","v":0},{"$f":"'اندازه های شخصی'!M30","v":0},{"$f":"'اندازه های شخصی'!O30","v":0},{"$f":"'اندازه های شخصی'!Q30","v":0},{"$f":"'اندازه های شخصی'!S30","v":0},{"$f":"'اندازه های شخصی'!U30","v":0},{"$f":"'اندازه های شخصی'!W30","v":0},{"$f":"'اندازه های شخصی'!Y30","v":0},{"$f":"'اندازه های شخصی'!AA30","v":0},{"$f":"'اندازه های شخصی'!AC30","v":0},{"$f":"'اندازه های شخصی'!AE30","v":0},{"$f":"'اندازه های شخصی'!AG30","v":0},{"$f":"'اندازه های شخصی'!AI30","v":0},{"$f":"'اندازه های شخصی'!AK30","v":0},{"$f":"'اندازه های شخصی'!AM30","v":0},{"$f":"'اندازه های شخصی'!AO30","v":0},{"$f":"'اندازه های شخصی'!AQ30","v":0},{"$f":"'اندازه های شخصی'!AS30","v":0},{"$f":"'اندازه های شخصی'!AU30","v":0},{"$f":"'اندازه های شخصی'!AW30","v":0},{"$f":"'اندازه های شخصی'!AY30","v":0},{"$f":"'اندازه های شخصی'!BA30","v":0},{"$f":"'اندازه های شخصی'!BC30","v":0},{"$f":"'اندازه های شخصی'!BE30","v":0},{"$f":"'اندازه های شخصی'!BG30","v":0},{"$f":"'اندازه های شخصی'!BI30","v":0},{"$f":"'اندازه های شخصی'!BK30","v":0},{"$f":"'اندازه های شخصی'!BM30","v":0},{"$f":"'اندازه های شخصی'!BO30","v":0},{"$f":"'اندازه های شخصی'!BQ30","v":0},{"$f":"'اندازه های شخصی'!BS30","v":0},{"$f":"'اندازه های شخصی'!BU30","v":0},{"$f":"'اندازه های شخصی'!BW30","v":0},{"$f":"'اندازه های شخصی'!BY30","v":0},{"$f":"'اندازه های شخصی'!CA30","v":0},{"$f":"'اندازه های شخصی'!CC30","v":0},{"$f":"'اندازه های شخصی'!CE30","v":0},{"$f":"'اندازه های شخصی'!CG30","v":0}]
[" متغیرهای ورودی چادر شماره 5",null,null,null,null," متغیرهای ورودی چادر شماره 5","x1","y1","x2","y2(بهینه)","a","b",null,"کمترین",null,"بیشترین",null,null,null,"v3",17.7,18.399999999999999,19.2,20.399999999999999,21.2,22,22.7,23.5,24.2,25.2,26,27,27.8,28.9,30.5,31.8,33.4,35.1,31.9,32.9,33.9,34.799999999999997,36,37.1,38.299999999999997,39.5,40.9,43.2,45.7,48.6,52.1,55.5,35.200000000000003,36.9,38.6,40.200000000000003,41.9,43.6,45.4,47.3,49.1,51.8,52.8,54.6,56.5,58.3,20.399999999999999,21.2,22,22.7,23.5,24.2,25.2,26,27,27.8,28.9,30.5,31.8,33.4,35.1,31.9,32.9,33.9,34.799999999999997,36,37.1,38.299999999999997,39.5,40.9,43.2,45.7,48.6,52.1,55.5,35.5,37.200000000000003,38.9,40.6,42.3,44,45.8,47.7,49.5,51.4,53.2,55.1,56.9,58.8,{"$f":"'اندازه های شخصی'!G31","v":0},{"$f":"'اندازه های شخصی'!I31","v":0},{"$f":"'اندازه های شخصی'!K31","v":0},{"$f":"'اندازه های شخصی'!M31","v":0},{"$f":"'اندازه های شخصی'!O31","v":0},{"$f":"'اندازه های شخصی'!Q31","v":0},{"$f":"'اندازه های شخصی'!S31","v":0},{"$f":"'اندازه های شخصی'!U31","v":0},{"$f":"'اندازه های شخصی'!W31","v":0},{"$f":"'اندازه های شخصی'!Y31","v":0},{"$f":"'اندازه های شخصی'!AA31","v":0},{"$f":"'اندازه های شخصی'!AC31","v":0},{"$f":"'اندازه های شخصی'!AE31","v":0},{"$f":"'اندازه های شخصی'!AG31","v":0},{"$f":"'اندازه های شخصی'!AI31","v":0},{"$f":"'اندازه های شخصی'!AK31","v":0},{"$f":"'اندازه های شخصی'!AM31","v":0},{"$f":"'اندازه های شخصی'!AO31","v":0},{"$f":"'اندازه های شخصی'!AQ31","v":0},{"$f":"'اندازه های شخصی'!AS31","v":0},{"$f":"'اندازه های شخصی'!AU31","v":0},{"$f":"'اندازه های شخصی'!AW31","v":0},{"$f":"'اندازه های شخصی'!AY31","v":0},{"$f":"'اندازه های شخصی'!BA31","v":0},{"$f":"'اندازه های شخصی'!BC31","v":0},{"$f":"'اندازه های شخصی'!BE31","v":0},{"$f":"'اندازه های شخصی'!BG31","v":0},{"$f":"'اندازه های شخصی'!BI31","v":0},{"$f":"'اندازه های شخصی'!BK31","v":0},{"$f":"'اندازه های شخصی'!BM31","v":0},{"$f":"'اندازه های شخصی'!BO31","v":0},{"$f":"'اندازه های شخصی'!BQ31","v":0},{"$f":"'اندازه های شخصی'!BS31","v":0},{"$f":"'اندازه های شخصی'!BU31","v":0},{"$f":"'اندازه های شخصی'!BW31","v":0},{"$f":"'اندازه های شخصی'!BY31","v":0},{"$f":"'اندازه های شخصی'!CA31","v":0},{"$f":"'اندازه های شخصی'!CC31","v":0},{"$f":"'اندازه های شخصی'!CE31","v":0},{"$f":"'اندازه های شخصی'!CG31","v":0}]
["ضریب فاصله لبه چادر تا زمین   j0","(از -0.1 الی 0.5)",{"$f":"K37*E37+L37","v":0},"خط زمین=0 \nخط زانو=1  ",{"$f":"'طراحی همه الگوها'!Q249","v":10},"ضریب فاصله لبه چادر تا زمین   ",10,0,30,1,{"$f":"(J37-H37)/(I37-G37)","v":0.05},{"$f":"H37-G37*K37","v":-0.5},-0.1,{"$f":"(M37-L37)/K37","v":8},0.5,{"$f":"(O37-L37)/K37","v":20},0,{"$f":"(Q37-L37)/K37","v":10},null,"w2",16,17,18,19,20,21,22,23,24,24,25,25,26,27.5,29,30,31.5,33,27,28.2,29.4,30.6,32,33.799999999999997,35.4,37,38.5,40,41.5,43,44.5,46,33.9,35.1,36.299999999999997,37.6,38.799999999999997,40,40.700000000000003,41.3,41.9,42.5,43.1,43.7,44.4,45,19,20,21,22,23,24,24,25,25,26,27.5,29,30,31.5,33,27,28.2,29.4,30.6,32,33.799999999999997,35.4,37,38.5,40,41.5,43,44.5,46,33.9,35.1,36.299999999999997,37.6,38.799999999999997,40,40.700000000000003,41.3,41.9,42.5,43.1,43.7,44.4,45,{"$f":"'اندازه های شخصی'!G32","v":0},{"$f":"'اندازه های شخصی'!I32","v":0},{"$f":"'اندازه های شخصی'!K32","v":0},{"$f":"'اندازه های شخصی'!M32","v":0},{"$f":"'اندازه های شخصی'!O32","v":0},{"$f":"'اندازه های شخصی'!Q32","v":0},{"$f":"'اندازه های شخصی'!S32","v":0},{"$f":"'اندازه های شخصی'!U32","v":0},{"$f":"'اندازه های شخصی'!W32","v":0},{"$f":"'اندازه های شخصی'!Y32","v":0},{"$f":"'اندازه های شخصی'!AA32","v":0},{"$f":"'اندازه های شخصی'!AC32","v":0},{"$f":"'اندازه های شخصی'!AE32","v":0},{"$f":"'اندازه های شخصی'!AG32","v":0},{"$f":"'اندازه های شخصی'!AI32","v":0},{"$f":"'اندازه های شخصی'!AK32","v":0},{"$f":"'اندازه های شخصی'!AM32","v":0},{"$f":"'اندازه های شخصی'!AO32","v":0},{"$f":"'اندازه های شخصی'!AQ32","v":0},{"$f":"'اندازه های شخصی'!AS32","v":0},{"$f":"'اندازه های شخصی'!AU32","v":0},{"$f":"'اندازه های شخصی'!AW32","v":0},{"$f":"'اندازه های شخصی'!AY32","v":0},{"$f":"'اندازه های شخصی'!BA32","v":0},{"$f":"'اندازه های شخصی'!BC32","v":0},{"$f":"'اندازه های شخصی'!BE32","v":0},{"$f":"'اندازه های شخصی'!BG32","v":0},{"$f":"'اندازه های شخصی'!BI32","v":0},{"$f":"'اندازه های شخصی'!BK32","v":0},{"$f":"'اندازه های شخصی'!BM32","v":0},{"$f":"'اندازه های شخصی'!BO32","v":0},{"$f":"'اندازه های شخصی'!BQ32","v":0},{"$f":"'اندازه های شخصی'!BS32","v":0},{"$f":"'اندازه های شخصی'!BU32","v":0},{"$f":"'اندازه های شخصی'!BW32","v":0},{"$f":"'اندازه های شخصی'!BY32","v":0},{"$f":"'اندازه های شخصی'!CA32","v":0},{"$f":"'اندازه های شخصی'!CC32","v":0},{"$f":"'اندازه های شخصی'!CE32","v":0},{"$f":"'اندازه های شخصی'!CG32","v":0}]
["ضریب گشادی دامن چادر  d1","(از 1.5 الی 2.3)",{"$f":"K38*E38+L38","v":1.8},"بهینه=1.8",{"$f":"'طراحی همه الگوها'!Q250","v":20},"ضریب گشادی دامن چادر  ",21,1.85,20,1.8,{"$f":"(J38-H38)/(I38-G38)","v":5.0000000000000044E-2},{"$f":"H38-G38*K38","v":0.79999999999999916},1.5,{"$f":"(M38-L38)/K38","v":14.000000000000004},2.2999999999999998,{"$f":"(O38-L38)/K38","v":29.999999999999986},1.8,{"$f":"(Q38-L38)/K38","v":20},null,"w10",17,18,21,23,27,31,35,38,41,44,46,48,50,52,54,56,58,60,57.2,57.8,58.4,59,59.5,60,60.5,61,61.2,62,62.5,63,63.5,64,60,60.3,60.8,61.4,62,62.5,63,63.5,64,64.400000000000006,64.8,65.2,65.599999999999994,66,23,27,31,35,38,41,44,46,48,50,52,54,56,58,60,57.2,57.8,58.4,59,59.5,60,60.5,61,61.2,62,62.5,63,63.5,64,60,60.3,60.8,61.4,62,62.5,63,63.5,64,64.400000000000006,64.8,65.2,65.599999999999994,66,{"$f":"'اندازه های شخصی'!G33","v":0},{"$f":"'اندازه های شخصی'!I33","v":0},{"$f":"'اندازه های شخصی'!K33","v":0},{"$f":"'اندازه های شخصی'!M33","v":0},{"$f":"'اندازه های شخصی'!O33","v":0},{"$f":"'اندازه های شخصی'!Q33","v":0},{"$f":"'اندازه های شخصی'!S33","v":0},{"$f":"'اندازه های شخصی'!U33","v":0},{"$f":"'اندازه های شخصی'!W33","v":0},{"$f":"'اندازه های شخصی'!Y33","v":0},{"$f":"'اندازه های شخصی'!AA33","v":0},{"$f":"'اندازه های شخصی'!AC33","v":0},{"$f":"'اندازه های شخصی'!AE33","v":0},{"$f":"'اندازه های شخصی'!AG33","v":0},{"$f":"'اندازه های شخصی'!AI33","v":0},{"$f":"'اندازه های شخصی'!AK33","v":0},{"$f":"'اندازه های شخصی'!AM33","v":0},{"$f":"'اندازه های شخصی'!AO33","v":0},{"$f":"'اندازه های شخصی'!AQ33","v":0},{"$f":"'اندازه های شخصی'!AS33","v":0},{"$f":"'اندازه های شخصی'!AU33","v":0},{"$f":"'اندازه های شخصی'!AW33","v":0},{"$f":"'اندازه های شخصی'!AY33","v":0},{"$f":"'اندازه های شخصی'!BA33","v":0},{"$f":"'اندازه های شخصی'!BC33","v":0},{"$f":"'اندازه های شخصی'!BE33","v":0},{"$f":"'اندازه های شخصی'!BG33","v":0},{"$f":"'اندازه های شخصی'!BI33","v":0},{"$f":"'اندازه های شخصی'!BK33","v":0},{"$f":"'اندازه های شخصی'!BM33","v":0},{"$f":"'اندازه های شخصی'!BO33","v":0},{"$f":"'اندازه های شخصی'!BQ33","v":0},{"$f":"'اندازه های شخصی'!BS33","v":0},{"$f":"'اندازه های شخصی'!BU33","v":0},{"$f":"'اندازه های شخصی'!BW33","v":0},{"$f":"'اندازه های شخصی'!BY33","v":0},{"$f":"'اندازه های شخصی'!CA33","v":0},{"$f":"'اندازه های شخصی'!CC33","v":0},{"$f":"'اندازه های شخصی'!CE33","v":0},{"$f":"'اندازه های شخصی'!CG33","v":0}]
["ضریب بلند شدن دسته چادر d2","(از 0.1 الی 1)",{"$f":"K39*E39+L39","v":0.5},"بهینه=0.5",{"$f":"'طراحی همه الگوها'!Q251","v":20},"ضریب بلند شدن دسته چادر ",21,0.55000000000000004,20,0.5,{"$f":"(J39-H39)/(I39-G39)","v":5.0000000000000044E-2},{"$f":"H39-G39*K39","v":-0.50000000000000089},0.1,{"$f":"(M39-L39)/K39","v":12.000000000000007},1,{"$f":"(O39-L39)/K39","v":29.999999999999993},0.5,{"$f":"(Q39-L39)/K39","v":20},null,"w11",10,10,10.5,11,12,12,13,13,13,14,14,15,16,15,16,16.5,17,17.5,16.5,17,17.5,18,18.5,19,19.5,20,20.5,21,21.5,22,22.5,23,17.899999999999999,18.3,18.7,19.100000000000001,19.5,19.899999999999999,20.3,20.7,21.1,21.5,21.9,22.3,22.7,23.1,11,12,12,13,13,13,14,14,15,16,15,16,16.5,17,17.5,16.5,17,17.5,18,18.5,19,19.5,20,20.5,21,21.5,22,22.5,23,17.899999999999999,18.3,18.7,19.100000000000001,19.5,19.899999999999999,20.3,20.7,21.1,21.5,21.9,22.3,22.7,23.1,{"$f":"'اندازه های شخصی'!G34","v":0},{"$f":"'اندازه های شخصی'!I34","v":0},{"$f":"'اندازه های شخصی'!K34","v":0},{"$f":"'اندازه های شخصی'!M34","v":0},{"$f":"'اندازه های شخصی'!O34","v":0},{"$f":"'اندازه های شخصی'!Q34","v":0},{"$f":"'اندازه های شخصی'!S34","v":0},{"$f":"'اندازه های شخصی'!U34","v":0},{"$f":"'اندازه های شخصی'!W34","v":0},{"$f":"'اندازه های شخصی'!Y34","v":0},{"$f":"'اندازه های شخصی'!AA34","v":0},{"$f":"'اندازه های شخصی'!AC34","v":0},{"$f":"'اندازه های شخصی'!AE34","v":0},{"$f":"'اندازه های شخصی'!AG34","v":0},{"$f":"'اندازه های شخصی'!AI34","v":0},{"$f":"'اندازه های شخصی'!AK34","v":0},{"$f":"'اندازه های شخصی'!AM34","v":0},{"$f":"'اندازه های شخصی'!AO34","v":0},{"$f":"'اندازه های شخصی'!AQ34","v":0},{"$f":"'اندازه های شخصی'!AS34","v":0},{"$f":"'اندازه های شخصی'!AU34","v":0},{"$f":"'اندازه های شخصی'!AW34","v":0},{"$f":"'اندازه های شخصی'!AY34","v":0},{"$f":"'اندازه های شخصی'!BA34","v":0},{"$f":"'اندازه های شخصی'!BC34","v":0},{"$f":"'اندازه های شخصی'!BE34","v":0},{"$f":"'اندازه های شخصی'!BG34","v":0},{"$f":"'اندازه های شخصی'!BI34","v":0},{"$f":"'اندازه های شخصی'!BK34","v":0},{"$f":"'اندازه های شخصی'!BM34","v":0},{"$f":"'اندازه های شخصی'!BO34","v":0},{"$f":"'اندازه های شخصی'!BQ34","v":0},{"$f":"'اندازه های شخصی'!BS34","v":0},{"$f":"'اندازه های شخصی'!BU34","v":0},{"$f":"'اندازه های شخصی'!BW34","v":0},{"$f":"'اندازه های شخصی'!BY34","v":0},{"$f":"'اندازه های شخصی'!CA34","v":0},{"$f":"'اندازه های شخصی'!CC34","v":0},{"$f":"'اندازه های شخصی'!CE34","v":0},{"$f":"'اندازه های شخصی'!CG34","v":0}]
["انتخاب چادر تا پایین پیشانی=1    انتخاب چادر تا بالای پیشانی=0\nانتخاب چادر روی سر = -1"," -1 یا 0 یا 1",{"$f":"K40*E40+L40","v":0},null,{"$f":"'طراحی همه الگوها'!Q252","v":2},"انتخاب چادر تا پایین پیشانی=3    انتخاب چادر تا بالای پیشانی=2\nانتخاب چادر روی سر = 1",2,0,1,-1,{"$f":"(J40-H40)/(I40-G40)","v":1},{"$f":"H40-G40*K40","v":-2},0,{"$f":"(M40-L40)/K40","v":2},1,{"$f":"(O40-L40)/K40","v":3},0,{"$f":"(Q40-L40)/K40","v":2},null,"w12",37,38,42,45,47,49,50,51,52,53,53.5,54,54.5,55,55.5,56,56.5,57,57,57,57,57,57,57,57,57,57,57,57,57,57,57,59,59,59,59,59,59,59,59,59,59,59,59,59,59,45,47,49,50,51,52,53,53.5,54,54.5,55,55.5,56,56.5,57,57,57,57,57,57,57,57,57,57,57,57,57,57,57,59,59,59,59,59,59,59,59,59,59,59,59,59,59,{"$f":"'اندازه های شخصی'!G35","v":0},{"$f":"'اندازه های شخصی'!I35","v":0},{"$f":"'اندازه های شخصی'!K35","v":0},{"$f":"'اندازه های شخصی'!M35","v":0},{"$f":"'اندازه های شخصی'!O35","v":0},{"$f":"'اندازه های شخصی'!Q35","v":0},{"$f":"'اندازه های شخصی'!S35","v":0},{"$f":"'اندازه های شخصی'!U35","v":0},{"$f":"'اندازه های شخصی'!W35","v":0},{"$f":"'اندازه های شخصی'!Y35","v":0},{"$f":"'اندازه های شخصی'!AA35","v":0},{"$f":"'اندازه های شخصی'!AC35","v":0},{"$f":"'اندازه های شخصی'!AE35","v":0},{"$f":"'اندازه های شخصی'!AG35","v":0},{"$f":"'اندازه های شخصی'!AI35","v":0},{"$f":"'اندازه های شخصی'!AK35","v":0},{"$f":"'اندازه های شخصی'!AM35","v":0},{"$f":"'اندازه های شخصی'!AO35","v":0},{"$f":"'اندازه های شخصی'!AQ35","v":0},{"$f":"'اندازه های شخصی'!AS35","v":0},{"$f":"'اندازه های شخصی'!AU35","v":0},{"$f":"'اندازه های شخصی'!AW35","v":0},{"$f":"'اندازه های شخصی'!AY35","v":0},{"$f":"'اندازه های شخصی'!BA35","v":0},{"$f":"'اندازه های شخصی'!BC35","v":0},{"$f":"'اندازه های شخصی'!BE35","v":0},{"$f":"'اندازه های شخصی'!BG35","v":0},{"$f":"'اندازه های شخصی'!BI35","v":0},{"$f":"'اندازه های شخصی'!BK35","v":0},{"$f":"'اندازه های شخصی'!BM35","v":0},{"$f":"'اندازه های شخصی'!BO35","v":0},{"$f":"'اندازه های شخصی'!BQ35","v":0},{"$f":"'اندازه های شخصی'!BS35","v":0},{"$f":"'اندازه های شخصی'!BU35","v":0},{"$f":"'اندازه های شخصی'!BW35","v":0},{"$f":"'اندازه های شخصی'!BY35","v":0},{"$f":"'اندازه های شخصی'!CA35","v":0},{"$f":"'اندازه های شخصی'!CC35","v":0},{"$f":"'اندازه های شخصی'!CE35","v":0},{"$f":"'اندازه های شخصی'!CG35","v":0}]
[]
[null,null,null,null,null,null,null,null,null,null,null,null,null,null,null,null,null,null,null,null,"سایز مناسب برای الگوهای شلوار",{"$f":"IF(W43=1,(IF(Y43<U9-1,\" کوچکتر از یک ماهه \",IF(Y43<V9-1,U6,IF(Y43<W9-1,V6,IF(Y43<X9-1,W6,IF(Y43<Y9-1,X6,IF(Y43<Z9-1,Y6,IF(Y43<AA9-1,Z6,IF(Y43<AB9-1,AA6,IF(Y43<AC9-1,AB6,IF(Y43<AD9-1,AC6,IF(Y43<AE9-1,AD6,IF(Y43<AF9-1,AE6,IF(Y43<AG9-1,AF6,IF(Y43<AH9-1,AG6,IF(Y43<AI9-1,AH6,IF(Y43<AJ9-1,AI6,IF(Y43<AK9-1,AJ6,IF(Y43<AL9-1,AK6,IF(Y43<AL9+3,AL6,\" بزرگتر از 14 ساله \")))))))))))))))))))),IF(W43=2,(IF(Y43<AM9-1,\" کوچکتر از سایز 34 \",IF(Y43<AN9-1,AM6,IF(Y43<AO9-1,AN6,IF(Y43<AP9-1,AO6,IF(Y43<AQ9-1,AP6,IF(Y43<AR9-1,AQ6,IF(Y43<AS9-1,AR6,IF(Y43<AT9-1,AS6,IF(Y43<AU9-1,AT6,IF(Y43<AV9-1,AU6,IF(Y43<AW9-1,AV6,IF(Y43<AX9-1,AW6,IF(Y43<AY9-1,AX6,IF(Y43<AZ9-1,AY6,IF(Y43<AZ9+3,AZ6,\" بزرگتر از سایز 60 \")))))))))))))))),IF(Y43<BA9-1,\"  کوچکتراز سایز 37  \",IF(Y43<BB9-1,BA6,IF(Y43<BC9-1,BB6,IF(Y43<BD9-1,BC6,IF(Y43<BE9-1,BD6,IF(Y43<BF9-1,BE6,IF(Y43<BG9-1,BF6,IF(Y43<BH9-1,BG6,IF(Y43<BI9-1,BH6,IF(Y43<BJ9-1,BI6,IF(Y43<BK9-1,BJ6,IF(Y43<BL9-1,BK6,IF(Y43<BM9-1,BL6,IF(Y43<BN9-1,BM6,IF(Y43<BN9+3,BN6,\" بزرگتر از سایز 50 \")))))))))))))))))","v":" کوچکتر از سایز 34 "},"انتخاب نوع اندازه گیری","کمر اندام","باسن اندام","دور سینه اندام"]
[null,null,null,null,null,null,null,null,null,null,null,null,null,null,null,null,null,null,null,null,"سایز مناسب برای الگوهای دامن",{"$f":"IF(W43=1,(IF(X43<U7-1,\" کوچکتر از یک ماهه \",IF(X43<V7-1,U6,IF(X43<W7-1,V6,IF(X43<X7-1,W6,IF(X43<Y7-1,X6,IF(X43<Z7-1,Y6,IF(X43<AA7-1,Z6,IF(X43<AB7-1,AA6,IF(X43<AC7-1,AB6,IF(X43<AD7-1,AC6,IF(X43<AE7-1,AD6,IF(X43<AF7-1,AE6,IF(X43<AG7-1,AF6,IF(X43<AH7-1,AG6,IF(X43<AI7-1,AH6,IF(X43<AJ7-1,AI6,IF(X43<AK7-1,AJ6,IF(X43<AL7-1,AK6,IF(X43<AL7+3,AL6,\" بزرگتر از 14 ساله \")))))))))))))))))))),IF(W43=2,(IF(X43<AM7-1,\" کوچکتر از سایز 34 \",IF(X43<AN7-1,AM6,IF(X43<AO7-1,AN6,IF(X43<AP7-1,AO6,IF(X43<AQ7-1,AP6,IF(X43<AR7-1,AQ6,IF(X43<AS7-1,AR6,IF(X43<AT7-1,AS6,IF(X43<AU7-1,AT6,IF(X43<AV7-1,AU6,IF(X43<AW7-1,AV6,IF(X43<AX7-1,AW6,IF(X43<AY7-1,AX6,IF(X43<AZ7-1,AY6,IF(X43<AZ7+3,AZ6,\" بزرگتر از سایز 60 \")))))))))))))))),IF(X43<BA7-1,\" کوچکتر از سایز 37 \",IF(X43<BB7-1,BA6,IF(X43<BC7-1,BB6,IF(X43<BD7-1,BC6,IF(X43<BE7-1,BD6,IF(X43<BF7-1,BE6,IF(X43<BG7-1,BF6,IF(X43<BH7-1,BG6,IF(X43<BI7-1,BH6,IF(X43<BJ7-1,BI6,IF(X43<BK7-1,BJ6,IF(X43<BL7-1,BK6,IF(X43<BM7-1,BL6,IF(X43<BN7-1,BM6,IF(X43<BN7+3,BN6,\" بزرگتر از سایز 50 \")))))))))))))))))","v":" کوچکتر از سایز 34 "},2,{"$f":"'اندازه گیری و تحلیل'!E275","v":0},{"$f":"'اندازه گیری و تحلیل'!E272","v":0},{"$f":"'اندازه گیری و تحلیل'!E269","v":0}]
[null,null,null,null,null,null,null,null,null,null,null,null,null,null,null,null,null,null,null,null,"سایز مناسب برای الگوهای پیراهن",{"$f":"IF(W43=1,(IF(Z43<U27-1,\" کوچکتر از یک ماهه \",IF(Z43<V27-1,U6,IF(Z43<W27-1,V6,IF(Z43<X27-1,W6,IF(Z43<Y27-1,X6,IF(Z43<Z27-1,Y6,IF(Z43<AA27-1,Z6,IF(Z43<AB27-1,AA6,IF(Z43<AC27-1,AB6,IF(Z43<AD27-1,AC6,IF(Z43<AE27-1,AD6,IF(Z43<AF27-1,AE6,IF(Z43<AG27-1,AF6,IF(Z43<AH27-1,AG6,IF(Z43<AI27-1,AH6,IF(Z43<AJ27-1,AI6,IF(Z43<AK27-1,AJ6,IF(Z43<AL27-1,AK6,IF(Z43<AL27+3,AL6,\" بزرگتر از 14 ساله \")))))))))))))))))))),IF(W43=2,(IF(Z43<AM27-1,\" کوچکتر از سایز 34 \",IF(Z43<AN27-1,AM6,IF(Z43<AO27-1,AN6,IF(Z43<AP27-1,AO6,IF(Z43<AQ27-1,AP6,IF(Z43<AR27-1,AQ6,IF(Z43<AS27-1,AR6,IF(Z43<AT27-1,AS6,IF(Z43<AU27-1,AT6,IF(Z43<AV27-1,AU6,IF(Z43<AW27-1,AV6,IF(Z43<AX27-1,AW6,IF(Z43<AY27-1,AX6,IF(Z43<AZ27-1,AY6,IF(Z43<AZ27+3,AZ6,\" بزرگتر از سایز 60 \")))))))))))))))),IF(Z43<BA27-1,\" کوچکتر از سایز 37 \",IF(Z43<BB27-1,BA6,IF(Z43<BC27-1,BB6,IF(Z43<BD27-1,BC6,IF(Z43<BE27-1,BD6,IF(Z43<BF27-1,BE6,IF(Z43<BG27-1,BF6,IF(Z43<BH27-1,BG6,IF(Z43<BI27-1,BH6,IF(Z43<BJ27-1,BI6,IF(Z43<BK27-1,BJ6,IF(Z43<BL27-1,BK6,IF(Z43<BM27-1,BL6,IF(Z43<BN27-1,BM6,IF(Z43<BN27+3,BN6,\" بزرگتر از سایز 50 \")))))))))))))))))","v":" کوچکتر از سایز 34 "}]
[]
["متغیرهای ورودی پیراهن ",null,null,null,null,"متغیرهای ورودی پیراهن "]
[]
[null,"برچسب الگو :",null,null,null," پنج ساله میل سه"]
[]
[" متغیرهای ورودی - شیفت الگو پیراهن",null,null,null,null," متغیرهای ورودی - شیفت الگو پیراهن","x1","y1","x2","y2(بهینه)","a","b","کمترین قبلی","کمترین جدید","بیشترین قبلی","بیشترین جدید",null,null,"اندازه های خوانده شده در محاسبه الگوها",null,null,null,"اندازه های خوانده شده برای بررسی اندازه ها",null,null,null,null,null,null,null,null,null,null,null,null,"رنج تغییرات اندزه ها","رنج تغییرات متغیرها مثبت و منفی","رنج تغییرات متغیرها مثبت",null,null,"انتخاب نوع سایزبندی","رنج تغییرات  کوچک متغیرها مثبت و منفی","دامن فون"]
["شیفت افقی کل الگو جلو پیراهن  برحسب سانتیمتر","(از -100 الی100)",{"$f":"K51*E51+L51","v":12},"بدون شیفت=0 ",{"$f":"'طراحی مدل 213'!B331","v":12},"شیفت افقی کل الگو جلو پیراهن  (سانتیمتر)",1,1,0,0,{"$f":"(J51-H51)/(I51-G51)","v":1},{"$f":"H51-G51*K51","v":0},-100,{"$f":"(M51-L51)/K51","v":-100},100,{"$f":"(O51-L51)/K51","v":100},null,null,"اندازه ها در دامن و شلوار",null,"اندازه شخص",null,"اندازه شخص",null,null,null,null,null,null,null,null,null,null,null,null,{"$f":"U6","v":" 1ماهه"},-100,1,"اندازه جدید",null,"سایزبندی بچگانه",-50,1]
["شیفت عمودی کل الگو جلو پیراهن   برحسب سانتیمتر","(از -100 الی100)",7,"بدون شیفت =0  ",{"$f":"'طراحی مدل 213'!B332","v":7},"شیفت عمودی کل الگو جلو پیراهن   (سانتیمتر)",1,1,0,0,1,0,-100,-100,100,100,null,null,"دور کمر","a",{"$f":"OFFSET('متغیرها '!T5,2,'متغیرها '!U5)","v":75},null,{"$f":"OFFSET('متغیرها '!T5,2,'متغیرها '!Y5)","v":131},null,null,null,null,null,null,null,null,null,null,null,null,{"$f":"V6","v":"1 تا 3 ماهه"},-99,2,"اندازه های موجود",null,"سایزبندی زنانه",-49.5,{"$f":"AQ51+0.5","v":1.5}]
["شیفت افقی کل الگو پشت پیراهن  برحسب سانتیمتر","(از -100 الی100)",10,"بدون شیفت=0 ",{"$f":"'طراحی مدل 213'!B333","v":10},"شیفت افقی کل الگو پشت پیراهن  (سانتیمتر)",1,1,0,0,1,0,-100,-100,100,100,null,null,"نوار کمر از پشت بین دو خط پهلو","b",{"$f":"OFFSET('متغیرها '!T5,3,'متغیرها '!U5)","v":36.799999999999997},null,{"$f":"OFFSET('متغیرها '!T5,3,'متغیرها '!Y5)","v":63.6},null,null,null,null,null,null,null,null,null,null,null,null,{"$f":"W6","v":" 3 تا 6 ماهه"},-98,3,"انتخاب نوع اندازه گیری",null,"سایزبندی مردانه",-49,2]
["شیفت عمودی کل الگو پشت پیراهن  برحسب سانتیمتر","(از -100 الی100)",10,"بدون شیفت =0  ",{"$f":"'طراحی مدل 213'!B334","v":10},"شیفت عمودی کل الگو پشت پیراهن  (سانتیمتر)",1,1,0,0,1,0,-100,-100,100,100,null,null,"دور باسن","c",{"$f":"OFFSET('متغیرها '!T5,4,'متغیرها '!U5)","v":93},null,{"$f":"OFFSET('متغیرها '!T5,4,'متغیرها '!Y5)","v":150},null,null,null,null,null,null,null,null,null,null,null,null,{"$f":"X6","v":"6ماهه تا یکساله"},-97,4,"اندازه گیری پیشرفته و با جزئیات",null,null,-48.5,2.5]
["شیفت افقی تکه  پهلو جلو   برحسب سانتیمتر","(از -100 الی100)",0,"بدون شیفت=0 ",{"$f":"'طراحی مدل 213'!B335","v":0},"شیفت افقی تکه  پهلو جلو   (سانتیمتر)",1,1,0,0,1,0,-100,-100,100,100,null,null,"نوار باسن از پشت بین دو خط پهلو","d",{"$f":"OFFSET('متغیرها '!T5,5,'متغیرها '!U5)","v":49.3},null,{"$f":"OFFSET('متغیرها '!T5,5,'متغیرها '!Y5)","v":79.8},null,null,null,null,null,null,null,null,null,null,null,null,{"$f":"Y6","v":"بچگانه 1 ساله"},-96,5,"اندازه گیری مردان و بچه ها",null,null,-48,3]
["شیفت افقی تکه پهلو پشت  برحسب سانتیمتر","(از -100 الی100)",0,"بدون شیفت=0 ",{"$f":"'طراحی مدل 213'!B336","v":0},"شیفت افقی تکه پهلو پشت  (سانتیمتر)",1,1,0,0,1,0,-100,-100,100,100,null,null,"فاصله نوار کمر تا زمین، از قسمت جلو","e",{"$f":"OFFSET('متغیرها '!T5,6,'متغیرها '!U5)","v":99.9},null,{"$f":"OFFSET('متغیرها '!T5,6,'متغیرها '!Y5)","v":108.9},null,null,null,null,null,null,null,null,null,null,null,null,{"$f":"Z6","v":"بچگانه 2 ساله"},-95,6,"اندازه گیری زنان",null,null,-47.5,3.5]
["شیفت عمودی تکه پهلو پشت  برحسب سانتیمتر","(از -100 الی100)",0,"بدون شیفت=0 ",{"$f":"'طراحی مدل 213'!B337","v":0},"شیفت عمودی تکه پهلو پشت  (سانتیمتر)",1,1,0,0,1,0,-100,-100,100,100,null,null,"فاصله نوار کمر تا زمین، از قسمت پهلو","f",{"$f":"OFFSET('متغیرها '!T5,7,'متغیرها '!U5)","v":100},null,{"$f":"OFFSET('متغیرها '!T5,7,'متغیرها '!Y5)","v":110},null,null,null,null,null,null,null,null,null,null,null,null,{"$f":"AA6","v":"بچگانه 3 ساله"},-94,7,"اندازه گیری پیشرفته زنان",null,null,-47,4]
[null,null,null,null,null,null,null,null,null,null,null,null,null,null,null,null,null,null,"فاصله نوار کمر تا زمین، از قسمت پشت","g",{"$f":"OFFSET('متغیرها '!T5,8,'متغیرها '!U5)","v":100.1},null,{"$f":"OFFSET('متغیرها '!T5,8,'متغیرها '!Y5)","v":111.1},null,null,null,null,null,null,null,null,null,null,null,null,{"$f":"AB6","v":"بچگانه 4 ساله"},-93,8,null,null,null,-46.5,4.5]
[" متغیرهای ورودی - گشاد یا تنگ شدن پیراهن",null,null,null,null," متغیرهای ورودی - گشاد یا تنگ شدن پیراهن","x1","y1","x2","y2(بهینه)","a","b","کمترین قبلی","کمترین جدید","بیشترین قبلی","بیشترین جدید",null,null,"فاصله نوار زانو تا زمین","h",{"$f":"OFFSET('متغیرها '!T5,9,'متغیرها '!U5)","v":45.7},null,{"$f":"OFFSET('متغیرها '!T5,9,'متغیرها '!Y5)","v":46.7},null,null,null,null,null,null,null,null,null,null,null,null,{"$f":"AC6","v":"بچگانه 5 ساله"},-92,9,null,null,null,-46,5]
["ضریب تغییر اندازه های عرضی در پیراهن f2  ","(از -0.2 الی 0.2)",{"$f":"K60*E60+L60","v":0.03},"اندامی =0",{"$f":"'طراحی مدل 213'!B340","v":3}," اندازه های عرضی در پیراهن   ",1,0.01,0,0,{"$f":"(J60-H60)/(I60-G60)","v":0.01},{"$f":"H60-G60*K60","v":0},-0.2,{"$f":"(M60-L60)/K60","v":-20},0.2,{"$f":"(O60-L60)/K60","v":20},null,null,"فاصله نوار باسن تا زمین","j",{"$f":"OFFSET('متغیرها '!T5,10,'متغیرها '!U5)","v":83},null,{"$f":"OFFSET('متغیرها '!T5,10,'متغیرها '!Y5)","v":87.3},null,null,null,null,null,null,null,null,null,null,null,null,{"$f":"AD6","v":"بچگانه 6 ساله"},-91,10,"انتخاب نوع الگو",null,null,-45.5,5.5]
["ضریب گشاد یا تنگ شدن از خط پهلو زیر حلقهf3 ","(از -0.03 الی 0.03)",{"$f":"K61*E61+L61","v":0.01},"اندامی =0",{"$f":"'طراحی مدل 213'!B341","v":2}," گشاد یا تنگ شدن از خط پهلو زیر حلقه ",1,5.0000000000000001E-3,0,0,{"$f":"(J61-H61)/(I61-G61)","v":5.0000000000000001E-3},{"$f":"H61-G61*K61","v":0},-0.03,{"$f":"(M61-L61)/K61","v":-6},0.03,{"$f":"(O61-L61)/K61","v":6},null,null,"دور زانو","L",{"$f":"OFFSET('متغیرها '!T5,11,'متغیرها '!U5)","v":38.1},null,{"$f":"OFFSET('متغیرها '!T5,11,'متغیرها '!Y5)","v":61.5},null,null,null,null,null,null,null,null,null,null,null,null,{"$f":"AE6","v":"بچگانه 7 ساله"},-90,11,"فاق معمولی مناسب زنان و بچه ها",null,null,-45,6]
["ضریب گشاد یا تنگ شدن از خط پهلو دور باسن f4 ","(از -0.03 الی 0.08)",{"$f":"K62*E62+L62","v":0},"اندامی =0",{"$f":"'طراحی مدل 213'!B342","v":0}," گشاد یا تنگ شدن از خط پهلو دور باسن  ",1,5.0000000000000001E-3,0,0,{"$f":"(J62-H62)/(I62-G62)","v":5.0000000000000001E-3},{"$f":"H62-G62*K62","v":0},-0.03,{"$f":"(M62-L62)/K62","v":-6},0.08,{"$f":"(O62-L62)/K62","v":16},null,null,"بلندی فاق","m",{"$f":"OFFSET('متغیرها '!T5,12,'متغیرها '!U5)","v":25},null,{"$f":"OFFSET('متغیرها '!T5,12,'متغیرها '!Y5)","v":33.5},null,null,null,null,null,null,null,null,null,null,null,null,{"$f":"AF6","v":"بچگانه 8 ساله"},-89,12,"فاق کمی بلند مناسب مردان",null,null,-44.5,6.5]
["ضریب تغییر اندازه های طولی در پیراهن f5 ","(از -0.2 الی 0.2)",{"$f":"K63*E63+L63","v":0},"اندامی =0",{"$f":"'طراحی همه الگوها'!B259","v":0}," اندازه های طولی در پیراهن  ",1,0.01,0,0,{"$f":"(J63-H63)/(I63-G63)","v":0.01},{"$f":"H63-G63*K63","v":0},-0.2,{"$f":"(M63-L63)/K63","v":-20},0.2,{"$f":"(O63-L63)/K63","v":20},null,null,"آنفورشور","q",{"$f":"OFFSET('متغیرها '!T5,13,'متغیرها '!U5)","v":66},null,{"$f":"OFFSET('متغیرها '!T5,13,'متغیرها '!Y5)","v":91.7},null,null,null,null,null,null,null,null,null,null,null,null,{"$f":"AG6","v":"بچگانه 9 ساله"},-88,13,"فاق کاملا بلند مناسب بچه با پوشک",null,null,-44,7]
[null,null,null,null,null,null,null,null,null,null,null,null,null,null,null,null,null,null,"دور مچ پا","r",{"$f":"OFFSET('متغیرها '!T5,14,'متغیرها '!U5)","v":23.6},null,{"$f":"OFFSET('متغیرها '!T5,14,'متغیرها '!Y5)","v":30},null,null,null,null,null,null,null,null,null,null,null,null,{"$f":"AH6","v":"بچگانه 10 ساله"},-87,14,null,null,null,-43.5,7.5]
[" متغیرهای ورودی - جادکمه و پایین لباس",null,null,null,null," متغیرهای ورودی - جادکمه و پایین لباس","x1","y1","x2","y2(بهینه)","a","b","کمترین قبلی","کمترین جدید","بیشترین قبلی","بیشترین جدید",null,null,null,null,null,null,null,null,null,null,null,null,null,null,null,null,null,null,null,{"$f":"AI6","v":"بچگانه 11 ساله"},-86,15,"ارتفاع یقه گرد کش",null,null,-43,8]
["ضریب بزرگی پهنای جادکمه جلو    مرحله اول","(از 0 الی 0.1)",{"$f":"K66*E66+L66","v":1.4999999999999999E-2},"بهینه=0.015",{"$f":"'طراحی مدل 213'!B345","v":3},"پهنای جادکمه جلو      مرحله اول در طراحی یقه انگلیسی",0,0,1,5.0000000000000001E-3,{"$f":"(J66-H66)/(I66-G66)","v":5.0000000000000001E-3},{"$f":"H66-G66*K66","v":0},0,{"$f":"(M66-L66)/K66","v":0},0.1,{"$f":"(O66-L66)/K66","v":20},null,null,"شلوار زنانه و بچگانه = 0       مردانه=1      بچه با پوشک=2",null,{"$f":"OFFSET('متغیرها '!T5,16,'متغیرها '!U5)","v":0},null,{"$f":"OFFSET('متغیرها '!T5,16,'متغیرها '!Y5)","v":0},null,null,null,null,null,null,null,null,null,null,null,null,{"$f":"AJ6","v":"بچگانه 12 ساله"},-85,16,0.5,"نوع آستین",null,-42.5,8.5]
["ضریب فاصله لبه دامن یا پیراهن تا زمین   k0","(از 0 الی 4)",{"$f":"K67*E67+L67","v":1},"خط زمین=0 \nخط زانو=1 \nخط باسن=2 \nخط کمر=3 \nخط سینه=4  ",{"$f":"'طراحی مدل 213'!B354","v":30},"لبه پایین لباس",10,0,30,1,{"$f":"(J67-H67)/(I67-G67)","v":0.05},{"$f":"H67-G67*K67","v":-0.5},0,{"$f":"(M67-L67)/K67","v":10},4,{"$f":"(O67-L67)/K67","v":90},null,null,null,null,null,null,null,null,null,null,null,null,null,null,null,null,null,null,null,{"$f":"AK6","v":"بچگانه 13 ساله"},-84,17,1,1,null,-42,9]
["ضریب انحنا لبه پایین لباس ","(از 0 الی 0.9)",{"$f":"K68*E68+L68","v":0},"بهینه =0.1",{"$f":"'طراحی همه الگوها'!B206","v":0}," انحنا لبه پایین لباس نزدیک خط پهلو",0,0,1,0.05,{"$f":"(J68-H68)/(I68-G68)","v":0.05},{"$f":"H68-G68*K68","v":0},0,{"$f":"(M68-L68)/K68","v":0},0.9,{"$f":"(O68-L68)/K68","v":18},null,null,null,null,null,null,null,null,null,null,null,null,null,null,null,null,null,null,null,{"$f":"AL6","v":"بچگانه 14 ساله"},-83,18,1.5,2,null,-41.5,9.5]
[" ضریب طول انحنا لبه پایین لباس نزدیک خط پهلو","(از 0 الی 1)",{"$f":"K69*E69+L69","v":0.9},"بهینه =0.9",{"$f":"'طراحی همه الگوها'!B207","v":18}," طول انحنا لبه پایین لباس نزدیک خط پهلو",0,0,1,0.05,{"$f":"(J69-H69)/(I69-G69)","v":0.05},{"$f":"H69-G69*K69","v":0},0,{"$f":"(M69-L69)/K69","v":0},1,{"$f":"(O69-L69)/K69","v":20},null,null,"اندازه ها در بالاتنه",null,"اندازه شخص",null,"اندازه شخص",null,null,null,null,null,null,null,null,null,null,null,null,{"$f":"AM6","v":"34زنانه"},-82,19,2,4,null,-41,10]
[" متغیرهای ورودی - یقه",null,null,null,null," متغیرهای ورودی - یقه","x1","y1","x2","y2(بهینه)","a","b","کمترین قبلی","کمترین جدید","بیشترین قبلی","بیشترین جدید",null,null,"دور کمر","a",{"$f":"OFFSET('متغیرها '!T5,20,'متغیرها '!U5)","v":75},null,{"$f":"OFFSET('متغیرها '!T5,20,'متغیرها '!Y5)","v":131},null,null,null,null,null,null,null,null,null,null,null,null,{"$f":"AN6","v":"36زنانه"},-81,20,2.5,null,null,-40.5,10.5]
["ضریب باز شدن یقه روی سرشانه (گرد یا مربعی یا دلبری)   مرحله دوم   x6 ","(از 0 الی 0.99)",{"$f":"K71*E71+L71","v":0.2},"یقه کیپ=0",{"$f":"'طراحی مدل 213'!E319","v":4},"باز شدن یقه روی سرشانه (گرد یا مربعی یا دلبری)   مرحله دوم در طراحی یقه انگلیسی    ",0,0,1,0.05,{"$f":"(J71-H71)/(I71-G71)","v":0.05},{"$f":"H71-G71*K71","v":0},0,{"$f":"(M71-L71)/K71","v":0},0.95,{"$f":"(O71-L71)/K71","v":18.999999999999996},null,null,"نوار کمر از پشت بین دو خط پهلو","b",{"$f":"OFFSET('متغیرها '!T5,21,'متغیرها '!U5)","v":36.799999999999997},null,{"$f":"OFFSET('متغیرها '!T5,21,'متغیرها '!Y5)","v":63.6},null,null,null,null,null,null,null,null,null,null,null,null,{"$f":"AO6","v":"38زنانه"},-80,21,3,null,null,-40,11]
["ضریب باز شدن یقه روی خط مرکزی جلو (گرد یا مربعی یا قایقی یا پروانه ای)  x'6","(از 0 الی 3)",{"$f":"K72*E72+L72","v":0.4},"یقه کیپ=0",{"$f":"'طراحی مدل 213'!E320","v":8},"باز شدن یقه روی خط مرکزی جلو (گرد یا مربعی یا قایقی یا پروانه ای)  ",0,0,1,0.05,{"$f":"(J72-H72)/(I72-G72)","v":0.05},{"$f":"H72-G72*K72","v":0},0,{"$f":"(M72-L72)/K72","v":0},3,{"$f":"(O72-L72)/K72","v":60},null,null,"دور سینه : از برجسته ترین قسمت سینه","s1",{"$f":"OFFSET('متغیرها '!T5,22,'متغیرها '!U5)","v":86},null,{"$f":"OFFSET('متغیرها '!T5,22,'متغیرها '!Y5)","v":146},null,null,null,null,null,null,null,null,null,null,null,null,{"$f":"AP6","v":"40زنانه"},-79,22,3.5,null,null,-39.5,11.5]
["ضریب باز شدن یقه روی خط مرکزی پشت  (گرد یا مربعی یا قایقی یا پروانه ای) مرحله دوم    x7","(از 0 الی 3)",{"$f":"K73*E73+L73","v":0.15000000000000002},"یقه کیپ=0",{"$f":"'طراحی مدل 213'!E321","v":3},"باز شدن یقه روی خط مرکزی پشت(گرد؛ مربعی؛ قایقی؛ پروانه ای)مرحله دوم در طراحی یقه انگلیسی    ",0,0,1,0.05,{"$f":"(J73-H73)/(I73-G73)","v":0.05},{"$f":"H73-G73*K73","v":0},0,{"$f":"(M73-L73)/K73","v":0},3,{"$f":"(O73-L73)/K73","v":60},null,null,"پشت نوار سینه، بین دو خط پهلو","s2",{"$f":"OFFSET('متغیرها '!T5,23,'متغیرها '!U5)","v":43},null,{"$f":"OFFSET('متغیرها '!T5,23,'متغیرها '!Y5)","v":67.5},null,null,null,null,null,null,null,null,null,null,null,null,{"$f":"AQ6","v":"42زنانه"},-78,23,4,null,null,-39,12]
[null,null,null,null,null,null,null,null,null,null,null,null,null,null,null,null,null,null,"فاصله عمودی از خط سینه جلو تا خط سینه پشت که از کنار حلقه آستین بگذرد","t1",{"$f":"OFFSET('متغیرها '!T5,24,'متغیرها '!U5)","v":39.799999999999997},null,{"$f":"OFFSET('متغیرها '!T5,24,'متغیرها '!Y5)","v":46.5},null,null,null,null,null,null,null,null,null,null,null,null,{"$f":"AR6","v":"44زنانه"},-77,24,4.5,null,null,-38.5,12.5]
[" متغیرهای ورودی - سرشانه و حلقه آستین",null,null,null,null," متغیرهای ورودی - سرشانه و حلقه آستین","x1","y1","x2","y2(بهینه)","a","b","کمترین قبلی","کمترین جدید","بیشترین قبلی","بیشترین جدید",null,null,"فاصله عمودی از خط سینه جلو تا خط سینه پشت که از کنارگردن بگذرد","t2",{"$f":"OFFSET('متغیرها '!T5,25,'متغیرها '!U5)","v":46.9},null,{"$f":"OFFSET('متغیرها '!T5,25,'متغیرها '!Y5)","v":63.3},null,null,null,null,null,null,null,null,null,null,null,null,{"$f":"AS6","v":"46زنانه"},-76,25,5,null,null,-38,13]
["میزان کم شدن سرشانه x8 ","(از -0.5 الی 0.9)",{"$f":"K76*E76+L76","v":0},"اندامی =0",{"$f":"'طراحی مدل 213'!B348","v":0},"ضریب کم شدن سرشانه  ",0,0,1,0.05,{"$f":"(J76-H76)/(I76-G76)","v":0.05},{"$f":"H76-G76*K76","v":0},-0.5,{"$f":"(M76-L76)/K76","v":-10},0.9,{"$f":"(O76-L76)/K76","v":18},null,null,"فاصله عمودی از خط کمر جلو تا خط کمر پشت که از کنار گردن بگذرد","t3",{"$f":"OFFSET('متغیرها '!T5,26,'متغیرها '!U5)","v":80},null,{"$f":"OFFSET('متغیرها '!T5,26,'متغیرها '!Y5)","v":100},null,null,null,null,null,null,null,null,null,null,null,null,{"$f":"AT6","v":"48زنانه"},-75,26,null,null,null,-37.5,13.5]
["میزان بزرگ شدن زیر حلقه آستین x9 ","(از -0.5 الی 1.5)",{"$f":"K77*E77+L77","v":0.15000000000000002},"اندامی =0",{"$f":"'طراحی مدل 213'!B349","v":3},"ضریب بزرگ شدن زیر حلقه آستین  ",0,0,1,0.05,{"$f":"(J77-H77)/(I77-G77)","v":0.05},{"$f":"H77-G77*K77","v":0},-0.5,{"$f":"(M77-L77)/K77","v":-10},1.5,{"$f":"(O77-L77)/K77","v":30},null,null,"فاصله عمودی بین خط سینه پشت و سرشانه، نزدیک دست","t4",{"$f":"OFFSET('متغیرها '!T5,27,'متغیرها '!U5)","v":20.399999999999999},null,{"$f":"OFFSET('متغیرها '!T5,27,'متغیرها '!Y5)","v":23.8},null,null,null,null,null,null,null,null,null,null,null,null,{"$f":"AU6","v":"50زنانه"},-74,27,"متغیر ورودی به سانتیمتر","متغیر ورودی به سانتیمتر",null,-37,14]
["میزان زیاد شدن سرشانه x10 ","(از -0.5 الی 0.5)",{"$f":"K78*E78+L78","v":0},"اندامی =0",{"$f":"'طراحی مدل 213'!B350","v":0},"ضریب زیاد شدن سرشانه  ",0,0,1,0.05,{"$f":"(J78-H78)/(I78-G78)","v":0.05},{"$f":"H78-G78*K78","v":0},-0.5,{"$f":"(M78-L78)/K78","v":-10},0.5,{"$f":"(O78-L78)/K78","v":10},null,null,"فاصله عمودی بین خط سینه پشت و سرشانه، نزدیک گردن","t5",{"$f":"OFFSET('متغیرها '!T5,28,'متغیرها '!U5)","v":24.5},null,{"$f":"OFFSET('متغیرها '!T5,28,'متغیرها '!Y5)","v":30.5},null,null,null,null,null,null,null,null,null,null,null,null,{"$f":"AV6","v":"52زنانه"},-73,28,-10,0,null,-36.5,14.5]
["انتخاب آستین حلقه ای یا پیش سینه رکابی یا تکه پهلو جدا=0        و انتخاب آستین دیگر=1","0 یا 1 ",{"$f":"K79*E79+L79","v":1},null,{"$f":"'طراحی مدل 213'!B351","v":2},"انتخاب آستین حلقه ای یا پیش سینه رکابی یا تکه پهلو جدا=1        و انتخاب آستین دیگر=2",1,0,2,1,{"$f":"(J79-H79)/(I79-G79)","v":1},{"$f":"H79-G79*K79","v":-1},null,1,null,2,null,null,"فاصله عمودی بین خط کمرپشت و سرشانه، نزدیک گردن","t6",{"$f":"OFFSET('متغیرها '!T5,29,'متغیرها '!U5)","v":40.799999999999997},null,{"$f":"OFFSET('متغیرها '!T5,29,'متغیرها '!Y5)","v":46.9},null,null,null,null,null,null,null,null,null,null,null,null,{"$f":"AW6","v":"54زنانه"},-72,29,-9.5,0.1,null,-36,15]
[null,null,null,null,null,null,null,null,null,null,null,null,null,null,null,null,null,null,"دور گردن (متر به طور عمودی دور گردن قرار می گیرد و از روی استخوان ترقوه می گذرد)","v",{"$f":"OFFSET('متغیرها '!T5,30,'متغیرها '!U5)","v":39},null,{"$f":"OFFSET('متغیرها '!T5,30,'متغیرها '!Y5)","v":50},null,null,null,null,null,null,null,null,null,null,null,null,{"$f":"AX6","v":"56زنانه"},-71,30,-9,0.2,null,-35.5,15.5]
[" متغیرهای ورودی - تنظیم ساسون های بالای کمر\nمجموع ضرایب پهنای دو ساسون پشت باید کمتر از یک یا مساوی یک باشد.\nبا تغییر ضرایب پهنای ساسون، باقیمانده ساسون ها روی خط پهلو قرار میگیرد.",null,null,null,null," متغیرهای ورودی - تنظیم ساسون های بالای کمر\nمجموع ضرایب پهنای دو ساسون پشت باید کمتر از یک یا مساوی یک باشد.\nبا تغییر ضرایب پهنای ساسون، باقیمانده ساسون ها روی خط پهلو قرار میگیرد.","x1","y1","x2","y2","a","b",null,"کمترین",null,"بیشترین",null,"تست جدید","کارور پشت (بین دو خط امتداد زیر بغل)","v3",{"$f":"OFFSET('متغیرها '!T5,31,'متغیرها '!U5)","v":35.1},null,{"$f":"OFFSET('متغیرها '!T5,31,'متغیرها '!Y5)","v":55.5},null,null,null,null,null,null,null,null,null,null,null,null,{"$f":"AY6","v":"58زنانه"},-70,31,-8.5,0.3,null,-35,16]
[" ضریب پهنای ساسون روی خط مرکزی پشت بالاتنه   y'1","(از 0 الی 1)",{"$f":"K82*E82+L82","v":0},"بدون ساسون=0 \nبهینه=0.5  ",{"$f":"'طراحی مدل 213'!B415","v":0}," ضریب پهنای ساسون روی خط مرکزی پشت بالاتنه   ",0,0,1,0.05,{"$f":"(J82-H82)/(I82-G82)","v":0.05},{"$f":"H82-G82*K82","v":0},0,{"$f":"(M82-L82)/K82","v":0},1,{"$f":"(O82-L82)/K82","v":20},0.5,{"$f":"(Q82-L82)/K82","v":10},"دور بازو از ناحیه زیر بغل","w2",{"$f":"OFFSET('متغیرها '!T5,32,'متغیرها '!U5)","v":33},null,{"$f":"OFFSET('متغیرها '!T5,32,'متغیرها '!Y5)","v":46},null,null,null,null,null,null,null,null,null,null,null,null,{"$f":"AZ6","v":"60زنانه"},-69,32,-8,0.4,"متغیر ورودی خاص شلوار",-34.5,16.5]
[" ضریب طول ساسون روی خط مرکزی پشت بالاتنه   y'3","(از0.1 الی 0.9)",0.75,"بهینه=0.75 ",{"$f":"'طراحی مدل 213'!B416","v":15}," ضریب طول ساسون روی خط مرکزی پشت بالاتنه   ",0,0,1,0.05,{"$f":"(J83-H83)/(I83-G83)","v":0.05},{"$f":"H83-G83*K83","v":0},0.1,2,0.9,18,0.75,15,"قد آستین (دست به طور خمیده، قد از سرشانه تا مچ)","w10",{"$f":"OFFSET('متغیرها '!T5,33,'متغیرها '!U5)","v":60},null,{"$f":"OFFSET('متغیرها '!T5,33,'متغیرها '!Y5)","v":64},null,null,null,null,null,null,null,null,null,null,null,null,{"$f":"BA6","v":"37 مردانه"},-68,33,-7.5,0.5,0.5,-34,17]
[" ضریب پهنای ساسون میانی پشت بالاتنه   y'2","(از 0 الی 1)",0.75,"بدون ساسون=0\nبهینه=0.5",{"$f":"'طراحی مدل 213'!B417","v":15}," ضریب پهنای ساسون میانی پشت بالاتنه   ",0,0,1,0.05,{"$f":"(J84-H84)/(I84-G84)","v":0.05},{"$f":"H84-G84*K84","v":0},0,0,1,20,0.5,10,"دور مچ دست","w11",{"$f":"OFFSET('متغیرها '!T5,34,'متغیرها '!U5)","v":17.5},null,{"$f":"OFFSET('متغیرها '!T5,34,'متغیرها '!Y5)","v":23},null,null,null,null,null,null,null,null,null,null,null,null,{"$f":"BB6","v":"38 مردانه"},-67,34,-7,0.6,0.55000000000000004,-33.5,17.5]
[" ضریب طول ساسون میانی پشت بالاتنه   y'4","(از 0.3 الی 1)",0.75,"بهینه =0.9",{"$f":"'طراحی مدل 213'!B418","v":15}," ضریب طول ساسون میانی پشت بالاتنه   ",0,0,1,0.05,0.05,0,0.3,5.9999999999999991,1,20,0.9,18,"دور سر","w12",{"$f":"OFFSET('متغیرها '!T5,35,'متغیرها '!U5)","v":57},null,{"$f":"OFFSET('متغیرها '!T5,35,'متغیرها '!Y5)","v":57},null,null,null,null,null,null,null,null,null,null,null,null,{"$f":"BC6","v":"39 مردانه"},-66,35,-6.5,0.7,0.6,-33,18]
[" ضریب فاصله افقی ساسون وسط بالاتنه از خط مرکزی پشت   y'5","(از0.2 الی 0.8)",0.5,"بهینه=0.5",{"$f":"'طراحی مدل 213'!B419","v":25}," ضریب فاصله افقی ساسون وسط بالاتنه از خط مرکزی پشت   ",0,0,1,0.02,0.02,0,0.2,10,0.8,40,0.5,25,null,null,null,null,null,null,null,null,null,null,null,null,null,null,null,null,null,{"$f":"BD6","v":"40 مردانه"},-65,36,-6,0.8,0.65,-32.5,18.5]
[" ضریب پهنای ساسون میانی جلو بالاتنه    y'6","(از 0 الی 0.5)",0.35000000000000003,"بدون ساسون=0\nبهینه=0.333",{"$f":"'طراحی مدل 213'!B420","v":7}," ضریب پهنای ساسون میانی جلو بالاتنه    ",0,0,1,0.05,0.05,0,0,0,0.5,10,0.35,6.9999999999999991,null,null,null,null,null,null,null,null,null,null,null,null,null,null,null,null,null,{"$f":"BE6","v":"41 مردانه"},-64,37,-5.5,0.9,0.7,-32,19]
[" ضریب طول ساسون میانی جلو بالاتنه  y'7","(از 0 الی 0.5)",9.9999999999999978E-2,"بهینه =0.2\nتا خط سینه=0",{"$f":"'طراحی مدل 213'!B421","v":18}," ضریب طول ساسون میانی جلو بالاتنه  ",20,0,0,1,-0.05,1,0,20,0.5,10,0.2,16,null,null,null,null,null,null,null,null,null,null,null,null,null,null,null,null,null,{"$f":"BF6","v":"42 مردانه"},-63,38,-5,1,0.75,-31.5,19.5]
[" ضریب فاصله افقی ساسون میانی بالاتنه از خط مرکزی جلو   y'8","(از0.2 الی 0.8)",0.5,"بهینه=0.5",{"$f":"'طراحی مدل 213'!B422","v":25}," ضریب فاصله افقی ساسون میانی بالاتنه از خط مرکزی جلو   ",0,0,1,0.02,0.02,0,0.2,10,0.8,40,0.5,25,null,null,null,null,null,null,null,null,null,null,null,null,null,null,null,null,null,{"$f":"BG6","v":"43 مردانه"},-62,39,-4.5,1.1000000000000001,0.8,-31,20]
[" ضریب نوک ساسون سرشانه جلو تا نوک سینه  y'15","(از 0 الی 0.5)",0,"بهینه =0.2\nتا خط سینه=0",{"$f":"'طراحی مدل 213'!B423","v":20}," ضریب نوک ساسون سرشانه جلو تا نوک سینه  ",20,0,0,1,{"$f":"(J90-H90)/(I90-G90)","v":-0.05},{"$f":"H90-G90*K90","v":1},0,20,0.5,10,0.2,16,null,null,null,null,null,null,null,null,null,null,null,null,null,null,null,null,null,{"$f":"BH6","v":"44 مردانه"},-61,40,-4,1.2,0.85,-30.5,20.5]
[null,null,null,null,null,null,null,null,null,null,null,null,null,null,null,null,null,null,null,null,null,null,null,null,null,null,null,null,null,null,null,null,null,null,null,{"$f":"BI6","v":"45 مردانه"},-60,41,-3.5,1.3,0.9,-30,21]
[" متغیرهای ورودی - تنظیم ساسون های پایین کمر\nمجموع پهنای دو ساسون پشت باید کمتر از یک یا مساوی یک باشد.\nبا تغییر ضرایب پهنای ساسون، باقیمانده ساسون ها روی خط پهلو قرار میگیرد.",null,null,null,null," متغیرهای ورودی - تنظیم ساسون های پایین کمر\nمجموع پهنای دو ساسون پشت باید کمتر از یک یا مساوی یک باشد.\nبا تغییر ضرایب پهنای ساسون، باقیمانده ساسون ها روی خط پهلو قرار میگیرد.","x1","y1","x2","y2(بهینه)","a","b",null,"کمترین",null,"بیشترین",null,null,null,null,null,null,null,null,null,null,null,null,null,null,null,null,null,null,null,{"$f":"BJ6","v":"46 مردانه"},-59,42,-3,1.4,0.95,-29.5,21.5]
[" ضریب پهنای ساسون روی خط مرکزی پشت دامن   y'9","(از 0 الی 1)",{"$f":"K93*E93+L93","v":0},"بدون ساسون=0 \nبهینه=025  ",{"$f":"'طراحی مدل 213'!B428","v":0}," ضریب پهنای ساسون روی خط مرکزی پشت دامن   ",0,0,1,0.05,{"$f":"(J93-H93)/(I93-G93)","v":0.05},{"$f":"H93-G93*K93","v":0},0,{"$f":"(M93-L93)/K93","v":0},1,{"$f":"(O93-L93)/K93","v":20},0.25,{"$f":"(Q93-L93)/K93","v":5},null,null,null,null,null,null,null,null,null,null,null,null,null,null,null,null,null,{"$f":"BK6","v":"47 مردانه"},-58,43,-2.5,1.5,1,-29,22]
[" ضریب طول ساسون روی خط مرکزی پشت دامن   y'10     غیر فعال","(از0.1 الی 0.9)",1,"بهینه=0.9 ",{"$f":"'طراحی همه الگوها'!B221","v":20}," ضریب طول ساسون روی خط مرکزی پشت دامن        غیر فعال",0,0,1,0.05,0.05,0,0.1,2,0.9,18,0.9,18,null,null,null,null,null,null,null,null,null,null,null,null,null,null,null,null,null,{"$f":"BL6","v":"48 مردانه"},-57,44,-2,1.6,1.05,-28.5,22.5]
[" ضریب پهنای ساسون میانی پشت دامن   y'11","(از 0 الی 1)",0.5,"بدون ساسون=0\nبهینه=0.5",{"$f":"'طراحی مدل 213'!B429","v":10}," ضریب پهنای ساسون میانی پشت دامن   ",0,0,1,0.05,0.05,0,0,0,1,20,0.5,10,null,null,null,null,null,null,null,null,null,null,null,null,null,null,null,null,null,{"$f":"BM6","v":"49 مردانه"},-56,45,-1.5,1.7,1.1000000000000001,-28,23]
[" ضریب طول ساسون میانی پشت دامن   y'12    ","(از 0.3 الی 1)",0.9,"بلندی ساسون تا خط باسن=1\nبهینه =0.9",{"$f":"'طراحی مدل 213'!B430","v":18}," ضریب طول ساسون میانی پشت دامن       ",0,0,1,0.05,0.05,0,0.3,5.9999999999999991,1,20,0.9,18,null,null,null,null,null,null,null,null,null,null,null,null,null,null,null,null,null,{"$f":"BN6","v":"50 مردانه"},-55,46,-1,1.8,1.1499999999999999,-27.5,23.5]
[" ضریب پهنای ساسون میانی جلو دامن    y'13","(از 0 الی 0.5)",0.25,"بدون ساسون=0\nبهینه=0.25",{"$f":"'طراحی مدل 213'!B431","v":5}," ضریب پهنای ساسون میانی جلو دامن    ",0,0,1,0.05,0.05,0,0,0,0.5,10,0.25,5,null,null,null,null,null,null,null,null,null,null,null,null,null,null,null,null,null,{"$f":"BO6","v":"6ماهه تا یکساله کت"},-54,47,-0.5,1.9,1.2,-27,24]
[" ضریب طول ساسون میانی جلو دامن  y'14     ","(از 0.3 الی 0.99)",0.9,"بلندی ساسون تا خط باسن=1\nبهینه =0.9",{"$f":"'طراحی مدل 213'!B432","v":18}," ضریب طول ساسون میانی جلو دامن       ",0,0,1,0.05,0.05,0,0.3,5.9999999999999991,0.95,18.999999999999996,0.9,18,null,null,null,null,null,null,null,null,null,null,null,null,null,null,null,null,null,{"$f":"BP6","v":"1ساله کت"},-53,48,0,2,1.25,-26.5,24.5]
[null,null,null,null,null,null,null,null,null,null,null,null,null,null,null,null,null,null,null,null,null,null,null,null,null,null,null,null,null,null,null,null,null,null,null,{"$f":"BQ6","v":"2ساله کت"},-52,49,0.5,2.1,1.3,-26,25]
[" متغیرهای ورودی-بالاتنه عصایی ساسون ها",null,null,null,null," متغیرهای ورودی-بالاتنه عصایی ساسون ها","x1","y1","x2","y2(بهینه)","a","b",null,"کمترین",null,"بیشترین",null,null,null,null,null,null,null,null,null,null,null,null,null,null,null,null,null,null,null,{"$f":"BR6","v":"3ساله کت"},-51,50,1,2.2000000000000002,1.35,-25.5,25.5]
["انتخاب بالاتنه عصایی=1        انتخاب دیگر=0","0 یا 1 ",{"$f":"K101*E101+L101","v":1},null,{"$f":"'طراحی مدل 213'!B435","v":2},"انتخاب بالاتنه عصایی=2        انتخاب دیگر=1",1,0,2,1,{"$f":"(J101-H101)/(I101-G101)","v":1},{"$f":"H101-G101*K101","v":-1},0,{"$f":"(M101-L101)/K101","v":1},1,{"$f":"(O101-L101)/K101","v":2},1,{"$f":"(Q101-L101)/K101","v":2},null,null,null,null,null,null,null,null,null,null,null,null,null,null,null,null,null,{"$f":"BS6","v":"4ساله کت"},-50,51,1.5,2.2999999999999998,1.4,-25,26]
["ضریب مکان ساسون جلو عصایی در بالاتنه","(از 0.1 الی 0.3)",{"$f":"K102*E102+L102","v":0.2},"بهینه عصایی=0.2",{"$f":"'طراحی مدل 213'!B436","v":4},"مکان ساسون عصایی جلو در حلقه آستین بالاتنه",0,0,1,0.05,{"$f":"(J102-H102)/(I102-G102)","v":0.05},{"$f":"H102-G102*K102","v":0},0.1,{"$f":"(M102-L102)/K102","v":2},0.3,{"$f":"(O102-L102)/K102","v":5.9999999999999991},0.2,{"$f":"(Q102-L102)/K102","v":4},null,null,null,null,null,null,null,null,null,null,null,null,null,null,null,null,null,{"$f":"BT6","v":"5ساله کت"},-49,52,2,2.4,1.45,-24.5,26.5]
["ضریب مکان ساسون پشت عصایی در بالاتنه","(از 0.1 الی 0.4)",{"$f":"K103*E103+L103","v":0.30000000000000004},"بهینه عصایی=0.3",{"$f":"'طراحی مدل 213'!B437","v":6},"مکان ساسون عصایی پشت در حلقه آستین بالاتنه",0,0,1,0.05,{"$f":"(J103-H103)/(I103-G103)","v":0.05},{"$f":"H103-G103*K103","v":0},0.1,{"$f":"(M103-L103)/K103","v":2},0.4,{"$f":"(O103-L103)/K103","v":8},0.3,{"$f":"(Q103-L103)/K103","v":5.9999999999999991},null,null,null,null,null,null,null,null,null,null,null,null,null,null,null,null,null,{"$f":"BU6","v":"6ساله کت"},-48,53,2.5,2.5,1.5,-24,27]
[null,null,null,null,null,null,null,null,null,null,null,null,null,null,null,null,null,null,null,null,null,null,null,null,null,null,null,null,null,null,null,null,null,null,null,{"$f":"BV6","v":"7ساله کت"},-47,54,3,2.6,1.55,-23.5,27.5]
[" متغیرهای ورودی- انتقال ساسون سرشانه به زیر بغل، عصایی یا خط مرکزی جلو\nبرای حذف کامل ساسون سرشانه مجموع c1 و c2 باید 1 شود.",null,null,null,null," متغیرهای ورودی- انتقال ساسون سرشانه به زیر بغل، عصایی یا خط مرکزی جلو\nبرای حذف کامل ساسون سرشانه مجموع c1 و c2 باید 30 شود.","x1","y1","x2","y2(بهینه)","a","b",null,"کمترین",null,"بیشترین",null,null,null,null,null,null,null,null,null,null,null,null,null,null,null,null,null,null,null,{"$f":"BW6","v":"8ساله کت"},-46,55,3.5,2.7,1.6,-23,28]
["ضریب انتقال ساسون سرشانه جلو به ساسون زیر بغل یا ساسون عصایی  c1","(از 0 الی 1)",{"$f":"K106*E106+L106","v":1},"بدون انتقال=0 \nبهیه برای کت جلو باز=0.8 ",{"$f":"'طراحی مدل 213'!B399","v":10},"انتقال ساسون سرشانه جلو به ساسون زیر بغل یا ساسون عصایی  c1",0,0,10,1,{"$f":"(J106-H106)/(I106-G106)","v":0.1},{"$f":"H106-G106*K106","v":0},0,{"$f":"(M106-L106)/K106","v":0},1,{"$f":"(O106-L106)/K106","v":10},null,null,null,null,null,null,null,null,null,null,null,null,null,null,null,null,null,null,null,{"$f":"BX6","v":"9ساله کت"},-45,56,4,2.8,1.65,-22.5,28.5]
["ضریب انتقال ساسون سرشانه به خط مرکزی جلو c2","(از 0 الی 1)",{"$f":"K107*E107+L107","v":0},"بدون انتقال=0 \nبهیه برای کت جلو باز=0.2 ",{"$f":"'طراحی مدل 213'!B400","v":0},"انتقال ساسون سرشانه به خط مرکزی جلو c2",0,0,10,1,{"$f":"(J107-H107)/(I107-G107)","v":0.1},{"$f":"H107-G107*K107","v":0},0,{"$f":"(M107-L107)/K107","v":0},1,{"$f":"(O107-L107)/K107","v":10},null,null,null,null,null,null,null,null,null,null,null,null,null,null,null,null,null,null,null,{"$f":"BY6","v":"10ساله کت"},-44,57,4.5,2.9,1.7,-22,29]
["انتخاب (اصلاح سرشانه و حلقه آستین برای c1 >1 ) = 1         و انتخاب دیگر=0","0 یا 1 ",{"$f":"K108*E108+L108","v":0},null,{"$f":"'طراحی مدل 213'!B401","v":1},"انتخاب (اصلاح سرشانه و حلقه آستین برای c1 >30 ) = 2        انتخاب دیگر=1",1,0,2,1,{"$f":"(J108-H108)/(I108-G108)","v":1},{"$f":"H108-G108*K108","v":-1},0,{"$f":"(M108-L108)/K108","v":1},1,{"$f":"(O108-L108)/K108","v":2},null,null,null,null,null,null,null,null,null,null,null,null,null,null,null,null,null,null,null,{"$f":"BZ6","v":"11ساله کت"},-43,58,5,3,1.75,-21.5,29.5]
[null,null,null,null,null,null,null,null,null,null,null,null,null,null,null,null,null,null,null,null,null,null,null,null,null,null,null,null,null,null,null,null,null,null,null,{"$f":"CA6","v":"12ساله کت"},-42,59,5.5,3.1,1.8,-21,30]
[" متغیرهای ورودی- انتقال ساسون سرشانه به زیر بغل، عصایی یا خط مرکزی پشت\nبرای حذف کامل ساسون سرشانه مجموع c1 و c2 باید 1 شود.",null,null,null,null," متغیرهای ورودی- انتقال ساسون سرشانه به زیر بغل، عصایی یا خط مرکزی پشت\nبرای حذف کامل ساسون سرشانه مجموع c1 و c2 باید 30 شود.","x1","y1","x2","y2(بهینه)","a","b",null,"کمترین",null,"بیشترین",null,null,null,null,null,null,null,null,null,null,null,null,null,null,null,null,null,null,null,{"$f":"CB6","v":"13ساله کت"},-41,60,6,3.2,null,-20.5,30.5]
["ضریب انتقال ساسون سرشانه پشت به ساسون زیر بغل یا عصایی  c1","(از 0 الی 1)",{"$f":"K111*E111+L111","v":1},"بدون انتقال=0 \nبهیه برای کت پشت باز=0.8 ",{"$f":"'طراحی مدل 213'!B405","v":10},"انتقال ساسون سرشانه پشت به ساسون زیر بغل یا عصایی  c1",0,0,10,1,{"$f":"(J111-H111)/(I111-G111)","v":0.1},{"$f":"H111-G111*K111","v":0},0,{"$f":"(M111-L111)/K111","v":0},1,{"$f":"(O111-L111)/K111","v":10},null,null,null,null,null,null,null,null,null,null,null,null,null,null,null,null,null,null,null,{"$f":"CC6","v":"14ساله کت"},-40,61,6.5,3.3,null,-20,31]
["ضریب انتقال ساسون سرشانه به خط مرکزی پشت c2","(از 0 الی 1)",{"$f":"K112*E112+L112","v":0},"بدون انتقال=0 \nبهیه برای کت پشت باز=0.2 ",{"$f":"'طراحی مدل 213'!B406","v":0},"انتقال ساسون سرشانه به خط مرکزی پشت c2",0,0,10,1,{"$f":"(J112-H112)/(I112-G112)","v":0.1},{"$f":"H112-G112*K112","v":0},0,{"$f":"(M112-L112)/K112","v":0},1,{"$f":"(O112-L112)/K112","v":10},null,null,null,null,null,null,null,null,null,null,null,null,null,null,null,null,null,null,null,{"$f":"CD6","v":"34زنانه کمر پهن"},-39,62,7,3.4,null,-19.5,31.5]
[null,null,null,null,null,null,null,null,null,null,null,null,null,null,null,null,null,null,null,null,null,null,null,null,null,null,null,null,null,null,null,null,null,null,null,{"$f":"CE6","v":"36زنانه کمر پهن"},-38,63,7.5,3.5,null,-19,32]
[" متغیرهای ورودی-ساسون زیر بغل",null,null,null,null," متغیرهای ورودی-ساسون زیر بغل","x1","y1","x2","y2(بهینه)","a","b",null,"کمترین",null,"بیشترین",null,null,null,null,null,null,null,null,null,null,null,null,null,null,null,null,null,null,null,{"$f":"CF6","v":"38زنانه کمر پهن"},-37,64,8,3.6,null,-18.5,32.5]
["ضریب کوتاه شدن ساسون زیر بغل جلو  c3","(از0.1 الی 1)",{"$f":"K115*E115+L115","v":0.9},"بلندی ساسون تا نوک سینه=1\nبهینه =0.9",{"$f":"'طراحی مدل 213'!B409","v":9},"ضریب کوتاه شدن ساسون زیر بغل جلو  ",0,0,1,0.1,{"$f":"(J115-H115)/(I115-G115)","v":0.1},{"$f":"H115-G115*K115","v":0},0.1,{"$f":"(M115-L115)/K115","v":1},1,{"$f":"(O115-L115)/K115","v":10},null,null,null,null,null,null,null,null,null,null,null,null,null,null,null,null,null,null,null,{"$f":"CG6","v":"40زنانه کمر پهن"},-36,65,8.5,3.7,null,-18,33]
["ضریب کوتاه شدن ساسون زیر بغل پشت  c3","(از 0.1 الی 1)",{"$f":"K116*E116+L116","v":0.5},"بلندی ساسون تا نوک سینه=1\nبهینه =0.9",{"$f":"'طراحی مدل 213'!B410","v":5},"ضریب کوتاه شدن ساسون زیر بغل پشت  ",0,0,1,0.1,{"$f":"(J116-H116)/(I116-G116)","v":0.1},{"$f":"H116-G116*K116","v":0},0.1,{"$f":"(M116-L116)/K116","v":1},1,{"$f":"(O116-L116)/K116","v":10},null,null,null,null,null,null,null,null,null,null,null,null,null,null,null,null,null,null,null,{"$f":"CH6","v":"42زنانه کمر پهن"},-35,66,9,3.8,null,-17.5,{"$f":"AQ115+0.5","v":33.5}]
[null,null,null,null,null,null,null,null,null,null,null,null,null,null,null,null,null,null,null,null,null,null,null,null,null,null,null,null,null,null,null,null,null,null,null,{"$f":"CI6","v":"44زنانه کمر پهن"},-34,67,9.5,3.9,null,-17,34]
[" متغیرهای ورودی - کنترل گودی حلقه آستین و اپل",null,null,null,null," متغیرهای ورودی - کنترل گودی حلقه آستین و اپل","x1","y1","x2","y2(بهینه)","a","b",null,"کمترین",null,"بیشترین",null,null,null,null,null,null,null,null,null,null,null,null,null,null,null,null,null,null,null,{"$f":"CJ6","v":"46زنانه کمر پهن"},-33,68,10,4,null,-16.5,34.5]
["انتخاب کنترل گودی حلقه آستین=1        و انتخاب دیگر=0","0 یا 1 ",{"$f":"K119*E119+L119","v":0},null,{"$f":"'طراحی همه الگوها'!B336","v":1},"انتخاب کنترل گودی حلقه آستین=2        و انتخاب دیگر=1",1,0,2,1,{"$f":"(J119-H119)/(I119-G119)","v":1},{"$f":"H119-G119*K119","v":-1},0,{"$f":"(M119-L119)/K119","v":1},1,{"$f":"(O119-L119)/K119","v":2},4,{"$f":"(Q119-L119)/K119","v":5},null,null,null,null,null,null,null,null,null,null,null,null,null,null,null,null,null,{"$f":"CK6","v":"48زنانه کمر پهن"},-32,69,10.5,4.0999999999999996,null,-16,35]
[" ضریب میزان روی هم آمدن سرشانه پشت و جلو g2","(از 0 الی 1)",{"$f":"K120*E120+L120","v":0.5},"بهینه=0.5",{"$f":"'طراحی همه الگوها'!B337","v":10},"روی هم آمدن سرشانه پشت و جلو ",1,0.05,0,0,{"$f":"(J120-H120)/(I120-G120)","v":0.05},{"$f":"H120-G120*K120","v":0},0,{"$f":"(M120-L120)/K120","v":0},1,{"$f":"(O120-L120)/K120","v":20},0.5,{"$f":"(Q120-L120)/K120","v":10},null,null,null,null,null,null,null,null,null,null,null,null,null,null,null,null,null,{"$f":"CL6","v":"50زنانه کمر پهن"},-31,70,11,4.2,null,-15.5,35.5]
[" نسبت اعمال تغییر در حلقه جلو به حلقه پشت  g1","(از 0.5 الی 5)",{"$f":"K121*E121+L121","v":2},"بهینه=2",{"$f":"'طراحی همه الگوها'!B338","v":20},"نسبت اعمال تغییر در حلقه جلو به حلقه پشت  ",1,0.1,0,0,{"$f":"(J121-H121)/(I121-G121)","v":0.1},{"$f":"H121-G121*K121","v":0},0.5,{"$f":"(M121-L121)/K121","v":5},5,{"$f":"(O121-L121)/K121","v":50},2,{"$f":"(Q121-L121)/K121","v":20},null,null,null,null,null,null,null,null,null,null,null,null,null,null,null,null,null,{"$f":"CM6","v":"52زنانه کمر پهن"},-30,71,11.5,4.3,null,-15,36]
["زاویه اپل  (به درجه)  b","(از 0 الی 10)",{"$f":"K122*E122+L122","v":3},"بهینه =3",{"$f":"'طراحی همه الگوها'!B339","v":15},"زاویه اپل    ",1,0.2,0,0,{"$f":"(J122-H122)/(I122-G122)","v":0.2},{"$f":"H122-G122*K122","v":0},0,{"$f":"(M122-L122)/K122","v":0},10,{"$f":"(O122-L122)/K122","v":50},3,{"$f":"(Q122-L122)/K122","v":15},null,null,null,null,null,null,null,null,null,null,null,null,null,null,null,null,null,{"$f":"CN6","v":"54زنانه کمر پهن"},-29,72,12,4.4000000000000004,null,-14.5,36.5]
[null,null,null,null,null,null,null,null,null,null,null,null,null,null,null,null,null,null,null,null,null,null,null,null,null,null,null,null,null,null,null,null,null,null,null,{"$f":"CO6","v":"56زنانه کمر پهن"},-28,73,12.5,4.5,null,-14,37]
[" متغیرهای ورودی - نوع پیراهن",null,null,null,null," متغیرهای ورودی - نوع پیراهن","x1","y1","x2","y2(بهینه)","a","b",null,"کمترین",null,"بیشترین",null,null,null,null,null,null,null,null,null,null,null,null,null,null,null,null,null,null,null,{"$f":"CP6","v":"58زنانه کمر پهن"},-27,74,13,4.5999999999999996,null,-13.5,37.5]
["انتخاب جلو ترک ( سوتین) =1         انتخاب جلو با ساسون  (مایو) = 0","0 یا 1 ",{"$f":"K125*E125+L125","v":1},null,{"$f":"'طراحی همه الگوها'!B210","v":2},"انتخاب الگو جلو ترک ( سوتین) =2         انتخاب الگو جلو با ساسون  (مایو) = 1",1,0,2,1,{"$f":"(J125-H125)/(I125-G125)","v":1},{"$f":"H125-G125*K125","v":-1},null,1,null,2,null,null,null,null,null,null,null,null,null,null,null,null,null,null,null,null,null,null,null,{"$f":"CQ6","v":"60زنانه کمر پهن"},-26,75,13.5,4.7,null,-13,38]
[null,null,null,null,null,null,null,null,null,null,null,null,null,null,null,null,null,null,null,null,null,null,null,null,null,null,null,null,null,null,null,null,null,null,null,{"$f":"CR6","v":"37مردانه کت"},-25,76,14,4.8,null,-12.5,38.5]
[" متغیر ورودی اوزمان ها",null,null,null,null," متغیر ورودی اوزمان ها","x1","y1","x2","y2(بهینه)","a","b",null,"کمترین",null,"بیشترین",null,null,null,null,null,null,null,null,null,null,null,null,null,null,null,null,null,null,null,{"$f":"CS6","v":"38مردانه کت"},-24,77,14.5,4.9000000000000004,null,-12,39]
["میزان پایین آمدن نقطه شروع اوزمان از خط کمر x5 ","(از 0 الی 1)",{"$f":"K128*E128+L128","v":1},"روی خط باسن=1",{"$f":"'طراحی همه الگوها'!B213","v":30},"میزان پایین آمدن نقطه شروع اوزمان از خط کمر  ",10,0,30,1,{"$f":"(J128-H128)/(I128-G128)","v":0.05},{"$f":"H128-G128*K128","v":-0.5},0,{"$f":"(M128-L128)/K128","v":10},1,{"$f":"(O128-L128)/K128","v":30},null,null,null,null,null,null,null,null,null,null,null,null,null,null,null,null,null,null,null,{"$f":"CT6","v":"39مردانه کت"},-23,78,15,5,"متغیر ورودی خاص چادر",-11.5,39.5]
["ضریب بزرگ شدن اوزمان در خط پهلو جلو دامن f0 ","(از -0.5 الی 2)",0,"بهینه=0.5",{"$f":"'طراحی همه الگوها'!B214","v":0},"اوزمان در خط پهلو جلو دامن  ",0,0,1,0.05,0.05,0,-0.5,-10,2,40,null,null,null,null,null,null,null,null,null,null,null,null,null,null,null,null,null,null,null,{"$f":"CU6","v":"40مردانه کت"},-22,79,15.5,null,70,-11,40]
["ضریب بزرگ شدن اوزمان در خط ترک جلو دامن e20 ","(از -0.5 الی 2)",0,"بهینه=0.5",{"$f":"'طراحی همه الگوها'!B215","v":0},"اوزمان در خط ترک جلو دامن  ",0,0,1,0.05,0.05,0,-0.5,-10,2,40,null,null,null,null,null,null,null,null,null,null,null,null,null,null,null,null,null,null,null,{"$f":"CV6","v":"41مردانه کت"},-21,80,16,null,75,-10.5,40.5]
["ضریب بزرگ شدن اوزمان در خط  پهلو پشت دامن f1  ","(از -0.5 الی 2)",0,"بهینه=0.5",{"$f":"'طراحی همه الگوها'!B216","v":0},"اوزمان در خط  پهلو پشت دامن   ",0,0,1,0.05,0.05,0,-0.5,-10,2,40,null,null,null,null,null,null,null,null,null,null,null,null,null,null,null,null,null,null,null,{"$f":"CW6","v":"42مردانه کت"},-20,81,16.5,null,80,-10,41]
["ضریب بزرگ شدن اوزمان در خط مرکزی پشت دامن e40 ","(از -0.5 الی 2)",0,"بهینه=0.5",{"$f":"'طراحی همه الگوها'!B217","v":0},"اوزمان در خط مرکزی پشت دامن  ",0,0,1,0.05,0.05,0,-0.5,-10,2,40,null,null,null,null,null,null,null,null,null,null,null,null,null,null,null,null,null,null,null,{"$f":"CX6","v":"43مردانه کت"},-19,82,17,null,85,-9.5,41.5]
["ضریب بزرگ شدن اوزمان در خط ترک پشت دامن e50 ","(از -0.5 الی 2)",0,"بهینه=0.5",{"$f":"'طراحی همه الگوها'!B218","v":0},"اوزمان در خط ترک پشت دامن  ",0,0,1,0.05,0.05,0,-0.5,-10,2,40,null,null,null,null,null,null,null,null,null,null,null,null,null,null,null,null,null,null,null,{"$f":"CY6","v":"44مردانه کت"},-18,83,17.5,null,90,-9,42]
["انتخاب پیراهن ترک گشاد=1            انتخاب دیگر=0","0 یا 1 ",0,null,{"$f":"'طراحی همه الگوها'!B219","v":1},"انتخاب پیراهن ترک گشاد=2            انتخاب دیگر=1",1,0,2,1,1,-1,null,1,null,2,null,null,null,null,null,null,null,null,null,null,null,null,null,null,null,null,null,null,null,{"$f":"CZ6","v":"45مردانه کت"},-17,84,18,null,95,-8.5,42.5]
[null,null,null,null,null,null,null,null,null,null,null,null,null,null,null,null,null,null,null,null,null,null,null,null,null,null,null,null,null,null,null,null,null,null,null,{"$f":"DA6","v":"46 مردانه کت"},-16,85,18.5,null,100,-8,43]
[" متغیرهای ورودی - پیلی ها و گوده ها",null,null,null,null," متغیرهای ورودی - پیلی ها و گوده ها","x1","y1","x2","y2(بهینه)","a","b",null,"کمترین",null,"بیشترین",null,null,null,null,null,null,null,null,null,null,null,null,null,null,null,null,null,null,null,{"$f":"DB6","v":"47 مردانه کت"},-15,86,19,null,105,-7.5,43.5]
[" عرض پیلی 1 - روی خط مرکزی جلو  (سانتیمتر)    e119","(از 0 الی 10)",{"$f":"K137*E137+L137","v":0},"بهینه=4",{"$f":"'طراحی همه الگوها'!B304","v":0}," عرض پیلی 1 - روی خط مرکزی جلو  (سانتیمتر)    ",1,1,0,0,{"$f":"(J137-H137)/(I137-G137)","v":1},{"$f":"H137-G137*K137","v":0},0,{"$f":"(M137-L137)/K137","v":0},10,{"$f":"(O137-L137)/K137","v":10},4,{"$f":"(Q137-L137)/K137","v":4},null,null,null,null,null,null,null,null,null,null,null,null,null,null,null,null,null,{"$f":"DC6","v":"48 مردانه کت"},-14,87,19.5,null,110,-7,44]
[" عرض پیلی 2 - روی خط ترک جلو   (سانتیمتر)    e219","(از 0 الی 10)",0,"بهینه=4",{"$f":"'طراحی همه الگوها'!B305","v":0}," عرض پیلی 2 - روی خط ترک جلو   (سانتیمتر)    ",1,1,0,0,1,0,0,0,10,10,4,4,null,null,null,null,null,null,null,null,null,null,null,null,null,null,null,null,null,{"$f":"DD6","v":"49 مردانه کت"},-13,88,20,null,115,-6.5,44.5]
[" عرض پیلی 3 - روی خط پهلو  (سانتیمتر)    e319","(از 0 الی 10",0,"بهینه=4",{"$f":"'طراحی همه الگوها'!B306","v":0}," عرض پیلی 3 - روی خط پهلو  (سانتیمتر)    ",1,1,0,0,1,0,0,0,10,10,4,4,null,null,null,null,null,null,null,null,null,null,null,null,null,null,null,null,null,{"$f":"DE6","v":"50 مردانه کت"},-12,89,null,null,120,-6,45]
[" عرض پیلی 4 - روی خط مرکزی پشت  (سانتیمتر)    e419","(از 0 الی 10",2,"بهینه=4",{"$f":"'طراحی همه الگوها'!B307","v":2}," عرض پیلی 4 - روی خط مرکزی پشت  (سانتیمتر)    ",1,1,0,0,1,0,0,0,10,10,4,4,null,null,null,null,null,null,null,null,null,null,null,null,null,null,null,null,null,{"$f":"DF6","v":"عنوان 1"},-11,90,null,null,125,-5.5,45.5]
[" عرض پیلی 5 و لبه برگردان پایین کت یا پیراهن- روی خط ترک پشت  (سانتیمتر) e519","(از 0 الی 10)",2,"بهینه=4",{"$f":"'طراحی همه الگوها'!B308","v":2}," عرض پیلی 5 و لبه برگردان پایین کت یا پیراهن- روی خط ترک پشت  (سانتیمتر) ",1,1,0,0,1,0,0,0,10,10,4,4,null,null,null,null,null,null,null,null,null,null,null,null,null,null,null,null,null,{"$f":"DG6","v":"عنوان 2"},-10,91,null,null,130,-5,46]
[" عرض گوده 1 - روی خط مرکزی جلو  (سانتیمتر)    e111","(از 0 الی 15)",0,"بهینه=7",{"$f":"'طراحی همه الگوها'!B309","v":0}," عرض گوده 1 - روی خط مرکزی جلو  (سانتیمتر)    ",1,1,0,0,1,0,0,0,15,15,7,7,null,null,null,null,null,null,null,null,null,null,null,null,null,null,null,null,null,{"$f":"DH6","v":"عنوان 3"},-9,92,null,null,135,-4.5,46.5]
[" عرض گوده 2 - روی خط ترک جلو  (سانتیمتر)    e211","(از 0 الی 15)",0,"بهینه=7",{"$f":"'طراحی همه الگوها'!B310","v":0}," عرض گوده 2 - روی خط ترک جلو  (سانتیمتر)    ",1,1,0,0,1,0,0,0,15,15,7,7,null,null,null,null,null,null,null,null,null,null,null,null,null,null,null,null,null,{"$f":"DI6","v":"عنوان 4"},-8,93,null,null,140,-4,47]
[" عرض گوده 3 - روی خط پهلو   (سانتیمتر)    e311","(از 0 الی 15)",5,"بهینه=7",{"$f":"'طراحی همه الگوها'!B311","v":5}," عرض گوده 3 - روی خط پهلو   (سانتیمتر)    ",1,1,0,0,1,0,0,0,15,15,7,7,null,null,null,null,null,null,null,null,null,null,null,null,null,null,null,null,null,{"$f":"DJ6","v":"عنوان 5"},-7,94,null,null,145,-3.5,47.5]
[" عرض گوده 4 - روی خط مرکزی پشت  (سانتیمتر)    e411","(از 0 الی 15)",5,"بهینه=7",{"$f":"'طراحی همه الگوها'!B312","v":5}," عرض گوده 4 - روی خط مرکزی پشت  (سانتیمتر)    ",1,1,0,0,1,0,0,0,15,15,7,7,null,null,null,null,null,null,null,null,null,null,null,null,null,null,null,null,null,{"$f":"DK6","v":"عنوان 6"},-6,95,null,null,150,-3,48]
[" عرض گوده 5 - روی خط ترک پشت  (سانتیمتر)    e511","(از 0 الی 15)",5,"بهینه=7",{"$f":"'طراحی همه الگوها'!B313","v":5}," عرض گوده 5 - روی خط ترک پشت  (سانتیمتر)    ",1,1,0,0,1,0,0,0,15,15,7,7,null,null,null,null,null,null,null,null,null,null,null,null,null,null,null,null,null,{"$f":"DL6","v":"عنوان 7"},-5,96,null,null,155,-2.5,48.5]
["ضریب نقطه شروع گوده و پیلی از زمین    e0","(از 0 الی 2)",1.5,"خط زمین=0 \nخط زانو=1 \nخط باسن=2  ",{"$f":"'طراحی همه الگوها'!B314","v":40},"ضریب نقطه شروع گوده و پیلی از زمین    ",10,0,30,1,0.05,-0.5,null,1,null,50,0,10,null,null,null,null,null,null,null,null,null,null,null,null,null,null,null,null,null,{"$f":"DM6","v":"عنوان 8"},-4,97,null,null,160,-2,49]
[null,null,null,null,null,null,null,null,null,null,null,null,null,null,null,null,null,null,null,null,null,null,null,null,null,null,null,null,null,null,null,null,null,null,null,{"$f":"DN6","v":"عنوان 9"},-3,98,null,null,165,-1.5,49.5]
[" متغیرهای ورودی جزئی - طراحی تکه پشت یقه انگلیسی  ",null,null,null,null," متغیرهای ورودی جزئی - طراحی تکه پشت یقه انگلیسی  ","x1","y1","x2","y2(بهینه)","a","b",null,"کمترین",null,"بیشترین",null,null,null,null,null,null,null,null,null,null,null,null,null,null,null,null,null,null,null,{"$f":"DO6","v":"عنوان 10"},-2,99,null,null,170,-1,50]
["γ11      زاویه تکه پشت یقه روی خط مرکزی ","(از -10 الی 20)",{"$f":"K150*E150+L150","v":2},"بهینه=2",{"$f":"'طراحی مدل 213'!E359","v":20},"زاویه تکه پشت یقه روی خط مرکزی ",19,1,20,2,{"$f":"(J150-H150)/(I150-G150)","v":1},{"$f":"H150-G150*K150","v":-18},-10,{"$f":"(M150-L150)/K150","v":8},20,{"$f":"(O150-L150)/K150","v":38},2,{"$f":"(Q150-L150)/K150","v":20},null,null,null,null,null,null,null,null,null,null,null,null,null,null,null,null,null,{"$f":"DP6","v":"عنوان 11"},-1,100,null,null,175,-0.5,50.5]
["γ12       زاویه تکه پشت یقه با پایه روی خط مرکزی ","(از -10 الی 20)",4,"بهینه=4",{"$f":"'طراحی مدل 213'!E360","v":20},"زاویه تکه پشت یقه با پایه روی خط مرکزی ",19,3,20,4,1,-16,-10,6,20,36,4,20,null,null,null,null,null,null,null,null,null,null,null,null,null,null,null,null,null,{"$f":"DQ6","v":"عنوان 12"},0,101,null,null,180,0,51]
[" ضریب تغییر انحنا بالا سمت چپ     مرحله نهم          γ13","(از -1 الی 1)",0,"بهینه=0",{"$f":"'طراحی مدل 213'!E357","v":20},"ضریب تغییر انحنا بالا سمت چپ     مرحله نهم در طراحی یقه انگلیسی          ",19,-0.1,20,0,0.1,-2,-1,10,1,30,0,20,null,null,null,null,null,null,null,null,null,null,null,null,null,null,null,null,null,{"$f":"DR6","v":"عنوان 13"},1,102,null,null,185,0.5,51.5]
["γ14        ضریب تغییر انحنا بالا    مرحله نهم ","(از 0.5 الی 2)",1.18,"بهینه=1.18",{"$f":"'طراحی مدل 213'!E358","v":40},"ضریب تغییر انحنا بالا    مرحله نهم در طراحی یقه انگلیسی ",39,1.1599999999999999,40,1.18,2.0000000000000018E-2,0.37999999999999923,0.5,6.0000000000000329,2,80.999999999999972,1.18,40,null,null,null,null,null,null,null,null,null,null,null,null,null,null,null,null,null,{"$f":"DS6","v":"عنوان 14"},2,103,null,null,190,1,52]
["γ15        ضریب تغییر انحنا پایین روی خط مرکزی پشت","(از 0 الی 2)",0.5,"بهینه=0.5",{"$f":"'طراحی مدل 213'!E361","v":20},"ضریب تغییر انحنا پایین روی خط مرکزی پشت",19,0.45,20,0.5,4.9999999999999989E-2,-0.49999999999999972,0,9.9999999999999964,2,50,0.5,20,null,null,null,null,null,null,null,null,null,null,null,null,null,null,null,null,null,{"$f":"DT6","v":"عنوان 15"},3,104,null,null,195,1.5,52.5]
["γ16        ضریب تغییر انحنا پایین","(از 0 الی 2)",0.6,"بهینه=0.6",{"$f":"'طراحی مدل 213'!E362","v":20},"ضریب تغییر انحنا پایین",19,0.55000000000000004,20,0.6,4.9999999999999933E-2,-0.39999999999999869,0,7.999999999999984,2,48.000000000000036,0.6,20,null,null,null,null,null,null,null,null,null,null,null,null,null,null,null,null,null,{"$f":"DU6","v":"عنوان 16"},4,105,null,null,200,2,53]
["γ17      ضریب پهنای پشت پایه (انگلیسی و آرشال) مرحله سوم","(از 0.2 الی 2)",0.99999999999999956,"بهینه=1\nبهینه پایه مستطیل=0.7",{"$f":"'طراحی مدل 213'!E353","v":26},"پهنای پشت پایه (انگلیسی و آرشال)    مرحله سوم در طراحی یقه انگلیسی      ",19,0.65,20,0.7,4.9999999999999933E-2,-0.29999999999999871,0.2,9.9999999999999876,2,46.000000000000043,1,26.000000000000011,null,null,null,null,null,null,null,null,null,null,null,null,null,null,null,null,null,{"$f":"DV6","v":"عنوان 17"},5,106,null,null,null,2.5,53.5]
["γ18        زاویه کج شدن پایه مستطیل به قسمت گردن بر حسب درجه  مرحله سوم ","(از -30 الی 30)",5,"بهینه=5",{"$f":"'طراحی مدل 213'!E354","v":40},"زاویه کج شدن پایه مستطیل به قسمت گردن    مرحله سوم در طراحی یقه انگلیسی ",39,4,40,5,1,-35,-30,5,30,65,5,40,null,null,null,null,null,null,null,null,null,null,null,null,null,null,null,null,null,{"$f":"DW6","v":"عنوان 18"},6,107,null,null,null,3,54]
[" ضریب پهنای جلو پایه مستطیل  مرحله سوم       γ19","(از 0 الی 1)",0.7,"بهینه=0.7",{"$f":"'طراحی مدل 213'!E355","v":20},"پهنای جلو پایه مستطیل      مرحله سوم در طراحی یقه انگلیسی       ",19,0.65,20,0.7,4.9999999999999933E-2,-0.29999999999999871,0,5.9999999999999822,1,26.000000000000011,0.7,20,null,null,null,null,null,null,null,null,null,null,null,null,null,null,null,null,null,{"$f":"DX6","v":"عنوان 19"},7,108,null,null,null,3.5,54.5]
["انتخاب یقه انگلیسی با پایه جدا=1            انتخاب دیگر=0  مرحله سوم","0 یا 1 ",0,null,{"$f":"'طراحی مدل 213'!E356","v":1},"انتخاب یقه انگلیسی پایه سرخود یا پایه جدا    مرحله سوم در طراحی یقه انگلیسی",1,0,2,1,1,-1,0,1,1,2,0,1,null,null,null,null,null,null,null,null,null,null,null,null,null,null,null,null,null,{"$f":"DY6","v":"عنوان 20"},8,109,null,null,null,4,55]
["γ20        جابجایی عمودی پایه مستطیل","(از -100 الی100)",0,"بهینه=دلخواه",{"$f":"'طراحی مدل 213'!E365","v":0},"جابجایی عمودی پایه مستطیل (سانتیمتر)",1,1,0,0,1,0,-100,{"$f":"(M160-L160)/K160","v":-100},100,{"$f":"(O160-L160)/K160","v":100},null,null,null,null,null,null,null,null,null,null,null,null,null,null,null,null,null,null,null,{"$f":"DZ6","v":"عنوان 21"},9,110,null,null,null,4.5,55.5]
["γ21        جابجایی افقی پایه مستطیل","(از -100 الی100)",0,"بهینه=دلخواه",{"$f":"'طراحی مدل 213'!E364","v":0},"جابجایی افقی پایه مستطیل (سانتیمتر)",1,1,0,0,1,0,-100,{"$f":"(M161-L161)/K161","v":-100},100,{"$f":"(O161-L161)/K161","v":100},null,null,null,null,null,null,null,null,null,null,null,null,null,null,null,null,null,null,null,{"$f":"EA6","v":"عنوان 22"},10,111,null,null,null,5,56]
[null,null,null,null,null,null,null,null,null,null,null,null,null,null,null,null,null,null,null,null,null,null,null,null,null,null,null,null,null,null,null,null,null,null,null,{"$f":"EB6","v":"عنوان 23"},11,112,null,null,null,5.5,56.5]
[" متغیرهای ورودی-طراحی یقه انگلیسی و آرشال و یقه هفت",null,null,null,null," متغیرهای ورودی-طراحی یقه انگلیسی و آرشال و یقه هفت","x1","y1","x2","y2(بهینه)","a","b",null,"کمترین",null,"بیشترین",null,null,"مراحل مختلف در طراحی یقه انگلیسی",null,null,null,null,null,null,null,null,null,null,null,null,null,null,null,null,{"$f":"EC6","v":"عنوان 24"},12,113,null,null,null,6,57]
["پهنای یقه در پشت گردن (انگلیسی یا آرشال)  مرحله سوم","(از 0.7 الی 3)",{"$f":"K164*E164+L164","v":0.74999999999999978},"بهینه=1",{"$f":"'طراحی مدل 213'!E342","v":15},"پهنای یقه در پشت گردن (انگلیسی یا آرشال)  مرحله سوم در طراحی یقه انگلیسی",19,0.95,20,1,{"$f":"(J164-H164)/(I164-G164)","v":5.0000000000000044E-2},{"$f":"H164-G164*K164","v":-8.8817841970012523E-16},0.7,{"$f":"(M164-L164)/K164","v":14.000000000000004},3,{"$f":"(O164-L164)/K164","v":59.999999999999964},1,{"$f":"(Q164-L164)/K164","v":20},"پهنای جادکمه جلو - میزان روی هم آمدن یقه انگلیسی","مرحله اول",null,null,null,null,null,null,null,null,null,null,null,null,null,null,null,{"$f":"ED6","v":"عنوان 25"},13,114,null,null,null,6.5,57.5]
["γ1      باز بودن یقه انگلیسی یا آرشال یا هفت   مرحله چهارم ","(از 0.5 الی 1.5)",0.7,"بهینه=0.7",{"$f":"'طراحی مدل 213'!E343","v":20}," باز بودن یقه انگلیسی یا آرشال یا هفت   مرحله چهارم در طراحی یقه انگلیسی ",19,0.65,20,0.7,4.9999999999999933E-2,-0.29999999999999871,0.5,15.999999999999995,1.5,36.000000000000021,0.7,20,"میزان باز بودن یقه گرد - نشان میدهد یقه چقدر به گردن میچسبد","مرحله دوم",null,null,null,null,null,null,null,null,null,null,null,null,null,null,null,{"$f":"EE6","v":"عنوان 26"},14,115,null,null,null,7,58]
["γ7        پهنای بالای دال   مرحله پنجم ","(از 0.01 الی 0.4)",0.08,"بهینه=0.1",{"$f":"'طراحی مدل 213'!E344","v":18}," پهنای بالای دال   مرحله پنجم در طراحی یقه انگلیسی ",21,0.11,20,0.1,9.999999999999995E-3,-9.9999999999999908E-2,0.01,10.999999999999996,0.4,50.000000000000021,0.1,20,"پهنای تکه پشت یقه انگلیسی","مرحله سوم",null,null,null,null,null,null,null,null,null,null,null,null,null,null,null,{"$f":"EF6","v":"عنوان 27"},15,116,null,null,null,7.5,58.5]
[" پهنای پایین دال   مرحله پنجم         γ6","(از 0.01 الی 0.4)",0.08,"بهینه=0.1",{"$f":"'طراحی مدل 213'!E345","v":18}," پهنای پایین دال   مرحله پنجم در طراحی یقه انگلیسی      ",21,0.11,20,0.1,9.999999999999995E-3,-9.9999999999999908E-2,0.01,10.999999999999996,0.4,50.000000000000021,0.1,20,"باز بودن یقه انگلیسی","مرحله چهارم",null,null,null,null,null,null,null,null,null,null,null,null,null,null,null,{"$f":"EG6","v":"عنوان 28"},16,117,null,null,null,8,59]
["γ4          پهنای یقه انگلیسی یا آرشال   مرحله ششم ","(از -5 الی 40)",8,"بهینه=8",{"$f":"'طراحی مدل 213'!E346","v":20}," پهنای یقه انگلیسی یا آرشال   مرحله ششم در طراحی یقه انگلیسی ",19,7,20,8,1,-12,-5,7,40,52,8,20,"پهنای بالا و پایین دال","مرحله پنجم",null,null,null,null,null,null,null,null,null,null,null,null,null,null,null,{"$f":"EH6","v":"عنوان 29"},17,118,null,null,null,8.5,59.5]
["γ5        وسط دال پایین یا بالا رود (انگلیسی یا آرشال)  مرحله هفتم","(از -0.2 الی 0.3)",4.9999999999999989E-2,"عدد منفی یعنی دال رو به سرشانه برود\nبهینه=0",{"$f":"'طراحی مدل 213'!E347","v":25}," وسط دال پایین یا بالا رود (انگلیسی یا آرشال)  مرحله هفتم در طراحی یقه انگلیسی",19,-0.01,20,0,0.01,-0.2,-0.2,0,0.3,50,0,20,"پهنای یقه انگلیسی","مرحله ششم",null,null,null,null,null,null,null,null,null,null,null,null,null,null,null,{"$f":"EI6","v":"عنوان 30"},18,119,"متغیر ورودی خاص یقه","متغیر ورودی خاص شلوار","متغیر ورودی خاص کیمونو",9,60]
["γ9       زاویه بالای دال   مرحله هشتم","(از 90 الی 180)",95,"بهینه=130",{"$f":"'طراحی مدل 213'!E348","v":13}," زاویه بالای دال   مرحله هشتم در طراحی یقه انگلیسی",19,125,20,130,5,30,90,12,180,30,130,20,"بالا و پایین رفتن نقطه وسط دال","مرحله هفتم",null,null,null,null,null,null,null,null,null,null,null,null,null,null,null,{"$f":"EJ6","v":"عنوان 31"},19,120,"خط جادکمه","روش مولر",-10,9.5,60.5]
["γ10       زاویه پایین دال    مرحله هشتم ","(از 90 الی 180)",180,"بهینه=160",{"$f":"'طراحی مدل 213'!E349","v":24}," زاویه پایین دال    مرحله هشتم در طراحی یقه انگلیسی ",19,155,20,160,5,60,90,6,180,24,160,20,"تنظیم زاویه های نوک دال","مرحله هشتم",null,null,null,null,null,null,null,null,null,null,null,null,null,null,null,{"$f":"EK6","v":"عنوان 32"},20,121,"مرکزی جلو",0,-9,10,61]
["  γ3  دال رو به پایین شود یا رو به بالا شود مرحله هشتم  (در آستین رگلان = 0.05)","(از 0.01 الی 0.3)",0,"بهینه=0.05",{"$f":"'طراحی مدل 213'!E350","v":15}," دال رو به پایین یا رو به بالا شود مرحله هشتم در طراحی یقه انگلیسی  ",19,0.04,20,0.05,{"$f":"(J172-H172)/(I172-G172)","v":1.0000000000000002E-2},{"$f":"H172-G172*K172","v":-0.15000000000000002},0.01,{"$f":"(M172-L172)/K172","v":16},0.3,{"$f":"(O172-L172)/K172","v":44.999999999999993},0.05,{"$f":"(Q172-L172)/K172","v":19.999999999999996},"اصلاح انحنای بالای تکه پشت یقه انگلیسی","مرحله نهم",null,null,null,null,null,null,null,null,null,null,null,null,null,null,null,{"$f":"EL6","v":"عنوان 33"},21,122,1,0.5,-8,10.5,61.5]
["γ1      محاسبه در یقه شکاری متصل به یقه هفت   ",{"$f":"ROUND(1-(محاسبات!AX103-محاسبات!AX129-محاسبات!AX155-'متغیرها '!C169*محاسبات!H124)/محاسبات!H124,2)","v":0.33},null,null,null,"   محاسبه در یقه شکاری متصل به یقه هفت   ",null,null,null,null,null,null,null,null,null,null,null,null,null,null,null,null,null,null,null,null,null,null,null,null,null,null,null,null,null,{"$f":"EM6","v":"عنوان 34"},22,123,2,1,-7,11,62]
[null,null,null,null,null,null,null,null,null,null,null,null,null,null,null,null,null,null,null,null,null,null,null,null,null,null,null,null,null,null,null,null,null,null,null,{"$f":"EN6","v":"عنوان 35"},23,124,3,1.5,-6,11.5,62.5]
[" متغیرهای ورودی -ضخیم دوزی در سجاف یقه انگلیسی و آرشال",null,null,null,null," متغیرهای ورودی -ضخیم دوزی در سجاف یقه انگلیسی و آرشال","x1","y1","x2","y2(بهینه)","a","b",null,"کمترین",null,"بیشترین",null,null,null,null,null,null,null,null,null,null,null,null,null,null,null,null,null,null,null,{"$f":"EO6","v":"عنوان 36"},24,125,4,2,-5,12,63]
["ضریب اعمال ضخیم دوزی در سجاف  (سانتیمتر) a'0","(از 0 الی 1)",{"$f":"K176*E176+L176","v":0.5},"بهینه کت مردانه=0.5",{"$f":"'طراحی مدل 213'!E363","v":20},"ضریب اعمال ضخیم دوزی در سجاف  (سانتیمتر) ",19,0.45,20,0.5,{"$f":"(J176-H176)/(I176-G176)","v":4.9999999999999989E-2},{"$f":"H176-G176*K176","v":-0.49999999999999972},0,{"$f":"(M176-L176)/K176","v":9.9999999999999964},1,{"$f":"(O176-L176)/K176","v":30.000000000000004},0.5,{"$f":"(Q176-L176)/K176","v":20},null,null,null,null,null,null,null,null,null,null,null,null,null,null,null,null,null,{"$f":"EP6","v":"عنوان 37"},25,126,5,2.5,-4,12.5,63.5]
[null,null,null,null,null,null,null,null,null,null,null,null,null,null,null,null,null,null,null,null,null,null,null,null,null,null,null,null,null,null,null,null,null,null,null,{"$f":"EQ6","v":"عنوان 38"},26,127,6,3,-3,13,64]
[" متغیرهای ورودی - پایه یقه انگلیسی  ",null,null,null,null," متغیرهای ورودی - پایه یقه انگلیسی  ","x1","y1","x2","y2(بهینه)","a","b",null,"کمترین",null,"بیشترین",null,null,null,null,null,null,null,null,null,null,null,null,null,null,null,null,null,null,null,{"$f":"ER6","v":"عنوان 39"},27,128,7,3.5,-2,13.5,64.5]
["شیفت افقی پایه (به سانتیمتر)","(از -100 الی100)",{"$f":"K179*E179+L179","v":0},"بهینه=دلخواه",{"$f":"'طراحی مدل 213'!E366","v":0},"شیفت افقی پایه (سانتیمتر)",1,1,0,0,{"$f":"(J179-H179)/(I179-G179)","v":1},{"$f":"H179-G179*K179","v":0},-100,{"$f":"(M179-L179)/K179","v":-100},100,{"$f":"(O179-L179)/K179","v":100},null,null,null,null,null,null,null,null,null,null,null,null,null,null,null,null,null,null,null,{"$f":"ES6","v":"عنوان 40"},28,129,8,4,-1,14,65]
["شیفت عمودی پایه (به سانتیمتر)","(از -100 الی100)",{"$f":"K180*E180+L180","v":0},"بهینه=دلخواه",{"$f":"'طراحی مدل 213'!E367","v":0},"شیفت عمودی پایه (سانتیمتر)",1,1,0,0,{"$f":"(J180-H180)/(I180-G180)","v":1},{"$f":"H180-G180*K180","v":0},-100,{"$f":"(M180-L180)/K180","v":-100},100,{"$f":"(O180-L180)/K180","v":100},null,null,null,null,null,null,null,null,null,null,null,null,null,null,null,null,null,null,null,null,29,130,9,4.5,0,14.5,{"$f":"AQ179+0.5","v":65.5}]
[null,null,null,null,null,null,null,null,null,null,null,null,null,null,null,null,null,null,null,null,null,null,null,null,null,null,null,null,null,null,null,null,null,null,null,null,30,131,10,5,1,15,66]
[" متغیرهای ورودی - پایه یقه آرشال  ",null,null,null,null," متغیرهای ورودی - پایه یقه آرشال  ","x1","y1","x2","y2(بهینه)","a","b",null,"کمترین",null,"بیشترین",null,null,null,null,null,null,null,null,null,null,null,null,null,null,null,null,null,null,null,null,31,132,11,5.5,2,15.5,66.5]
["شیفت افقی پایه (به سانتیمتر)","(از -100 الی100)",{"$f":"K183*E183+L183","v":25},"بهینه=دلخواه",{"$f":"'طراحی مدل 213'!E368","v":25},"شیفت افقی پایه (سانتیمتر)",1,1,0,0,{"$f":"(J183-H183)/(I183-G183)","v":1},{"$f":"H183-G183*K183","v":0},-100,{"$f":"(M183-L183)/K183","v":-100},100,{"$f":"(O183-L183)/K183","v":100},null,null,null,null,null,null,null,null,null,null,null,null,null,null,null,null,null,null,null,null,32,133,12,6,3,16,67]
["شیفت عمودی پایه (به سانتیمتر)","(از -100 الی100)",{"$f":"K184*E184+L184","v":-10},"بهینه=دلخواه",{"$f":"'طراحی مدل 213'!E369","v":-10},"شیفت عمودی پایه (سانتیمتر)",1,1,0,0,{"$f":"(J184-H184)/(I184-G184)","v":1},{"$f":"H184-G184*K184","v":0},-100,{"$f":"(M184-L184)/K184","v":-100},100,{"$f":"(O184-L184)/K184","v":100},null,null,null,null,null,null,null,null,null,null,null,null,null,null,null,null,null,null,null,null,33,134,13,6.5,4,16.5,67.5]
[null,null,null,null,null,null,null,null,null,null,null,null,null,null,null,null,null,null,null,null,null,null,null,null,null,null,null,null,null,null,null,null,null,null,null,null,34,135,14,7,5,17,68]
[" متغیرهای ورودی-انتقال ساسون زیر بغل بر روی جیب در تکه پهلو جدا",null,null,null,null," متغیرهای ورودی-انتقال ساسون زیر بغل بر روی جیب در تکه پهلو جدا","x1","y1","x2","y2(بهینه)","a","b",null,"کمترین",null,"بیشترین",null,null,null,null,null,null,null,null,null,null,null,null,null,null,null,null,null,null,null,null,35,136,15,7.5,6,17.5,68.5]
["تغییر زاویه جیب با افق  (درجه)","(از -45 الی 45)",{"$f":"K187*E187+L187","v":-41},"بهینه =دلخواه",{"$f":"'طراحی همه الگوها'!B342","v":40},"تغییر زاویه جیب با افق  (درجه)",-2,1,-1,0,{"$f":"(J187-H187)/(I187-G187)","v":-1},{"$f":"H187-G187*K187","v":-1},-45,{"$f":"(M187-L187)/K187","v":44},45,{"$f":"(O187-L187)/K187","v":-46},0,{"$f":"(Q187-L187)/K187","v":-1},null,null,null,null,null,null,null,null,null,null,null,null,null,null,null,null,null,null,36,137,16,8,7,18,69]
["ضریب پهنای جیب در مدل تکه پهلو جدا","(از 0.01 الی 1.5)",{"$f":"K188*E188+L188","v":1},"بهینه=1",{"$f":"'طراحی همه الگوها'!B343","v":20},"ضریب پهنای جیب در مدل تکه پهلو جدا",19,0.95,20,1,{"$f":"(J188-H188)/(I188-G188)","v":5.0000000000000044E-2},{"$f":"H188-G188*K188","v":-8.8817841970012523E-16},0.01,{"$f":"(M188-L188)/K188","v":0.20000000000001758},1.5,{"$f":"(O188-L188)/K188","v":29.999999999999993},1,{"$f":"(Q188-L188)/K188","v":20},null,null,null,null,null,null,null,null,null,null,null,null,null,null,null,null,null,null,37,138,17,8.5,8,18.5,69.5]
[null,null,null,null,null,null,null,null,null,null,null,null,null,null,null,null,null,null,null,null,null,null,null,null,null,null,null,null,null,null,null,null,null,null,null,null,38,139,18,9,9,19,70]
[" متغیرهای ورودی-انحنا لبه پیراهن روی خط مرکزی جلو ",null,null,null,null," متغیرهای ورودی-انحنا لبه پیراهن روی خط مرکزی جلو ","x1","y1","x2","y2(بهینه)","a","b",null,"کمترین",null,"بیشترین",null,null,null,null,null,null,null,null,null,null,null,null,null,null,null,null,null,null,null,null,39,140,19,9.5,10,19.5,70.5]
["ضریب انحنا بالای لبه پیراهن  روی خط مرکزی جلو n11","(از 0.01 الی 0.9)",{"$f":"K191*E191+L191","v":0.55000000000000004},"بهینه کت مردانه=0.45",{"$f":"'طراحی مدل 213'!B389","v":11},"ضریب انحنا بالای لبه پیراهن  روی خط مرکزی جلو ",1,0.05,0,0,{"$f":"(J191-H191)/(I191-G191)","v":0.05},{"$f":"H191-G191*K191","v":0},0.01,{"$f":"(M191-L191)/K191","v":0.19999999999999998},0.9,{"$f":"(O191-L191)/K191","v":18},0.45,{"$f":"(Q191-L191)/K191","v":9},null,null,null,null,null,null,null,null,null,null,null,null,null,null,null,null,null,null,40,141,20,10,11,20,71]
["ضریب انحنا میانی لبه پیراهن  روی خط مرکزی جلو n13","(از 0.5 الی 1.7)",{"$f":"K192*E192+L192","v":1.25},"بهینه کت مردانه=1.3",{"$f":"'طراحی مدل 213'!B390","v":25},"ضریب انحنا میانی لبه پیراهن  روی خط مرکزی جلو ",1,0.05,0,0,{"$f":"(J192-H192)/(I192-G192)","v":0.05},{"$f":"H192-G192*K192","v":0},0.5,{"$f":"(M192-L192)/K192","v":10},1.7,{"$f":"(O192-L192)/K192","v":34},1.3,{"$f":"(Q192-L192)/K192","v":26},null,null,null,null,null,null,null,null,null,null,null,null,null,null,null,null,null,null,41,142,null,10.5,12,20.5,71.5]
["ضریب انحنا پایین لبه پیراهن روی خط مرکزی جلو n12","(از 0.3 الی 1)",{"$f":"K193*E193+L193","v":0.4},"بهینه کت مردانه=0.8",{"$f":"'طراحی مدل 213'!B391","v":8},"ضریب انحنا پایین لبه پیراهن روی خط مرکزی جلو ",1,0.05,0,0,{"$f":"(J193-H193)/(I193-G193)","v":0.05},{"$f":"H193-G193*K193","v":0},0.3,{"$f":"(M193-L193)/K193","v":5.9999999999999991},1,{"$f":"(O193-L193)/K193","v":20},0.8,{"$f":"(Q193-L193)/K193","v":16},null,null,null,null,null,null,null,null,null,null,null,null,null,null,null,null,null,null,42,143,null,11,13,21,72]
[null,null,null,null,null,null,null,null,null,null,null,null,null,null,null,null,null,null,null,null,null,null,null,null,null,null,null,null,null,null,null,null,null,null,null,null,43,144,null,11.5,14,21.5,72.5]
[" متغیرهای ورودی - جیب پهلو",null,null,null,null," متغیرهای ورودی - جیب پهلو آبی با بلیطی  (جلو)","x1","y1","x2","y2(بهینه)","a","b",null,"کمترین",null,"بیشترین",null,null,null,null,null,null,null,null,null,null,null,null,null,null,null,null,null,null,null,null,44,145,null,12,15,22,73]
["عرض پاکت جیب به سانتیمتر","(از 0 الی 4)",{"$f":"K196*E196+L196","v":2},"بهینه=2",{"$f":"'طراحی همه الگوها'!E326","v":2},"پهنای بلیطی جیب  (سانتیمتر)",1,1,0,0,{"$f":"(J196-H196)/(I196-G196)","v":1},{"$f":"H196-G196*K196","v":0},0,{"$f":"(M196-L196)/K196","v":0},4,{"$f":"(O196-L196)/K196","v":4},2,{"$f":"(Q196-L196)/K196","v":2},null,null,null,null,null,null,null,null,null,null,null,null,null,null,null,null,null,null,45,146,null,12.5,16,22.5,73.5]
["ضریب طول پاکت جیب","(از 0.01 الی 1.5)",{"$f":"K197*E197+L197","v":1},"بهینه=1",{"$f":"'طراحی همه الگوها'!E327","v":20},"ضریب طول بلیطی جیب",19,0.95,20,1,{"$f":"(J197-H197)/(I197-G197)","v":5.0000000000000044E-2},{"$f":"H197-G197*K197","v":-8.8817841970012523E-16},0.01,{"$f":"(M197-L197)/K197","v":0.20000000000001758},1.5,{"$f":"(O197-L197)/K197","v":29.999999999999993},1,{"$f":"(Q197-L197)/K197","v":20},null,null,null,null,null,null,null,null,null,null,null,null,null,null,null,null,null,null,46,147,null,13,17,23,74]
["زاویه جیب با عمود به درجه","(از 0 الی 90)",{"$f":"K198*E198+L198","v":20},"بهینه=20",{"$f":"'طراحی همه الگوها'!E328","v":4},"زاویه جیب با عمود ",1,5,0,0,{"$f":"(J198-H198)/(I198-G198)","v":5},{"$f":"H198-G198*K198","v":0},0,{"$f":"(M198-L198)/K198","v":0},90,{"$f":"(O198-L198)/K198","v":18},20,{"$f":"(Q198-L198)/K198","v":4},null,null,null,null,null,null,null,null,null,null,null,null,null,null,null,null,null,null,47,148,null,13.5,18,23.5,74.5]
["زاویه چرخش پاکت جیب از مستطیل به متوازی الاضلاع (به درجه)","(از -90 الی 90)",{"$f":"K199*E199+L199","v":0},"پاکت مستطیل=0  ",{"$f":"'طراحی همه الگوها'!E329","v":20},"زاویه چرخش بلیطی جیب از مستطیل به متوازی الاضلاع ",21,5,20,0,{"$f":"(J199-H199)/(I199-G199)","v":5},{"$f":"H199-G199*K199","v":-100},-90,{"$f":"(M199-L199)/K199","v":2},90,{"$f":"(O199-L199)/K199","v":38},0,{"$f":"(Q199-L199)/K199","v":20},null,null,null,null,null,null,null,null,null,null,null,null,null,null,null,null,null,null,48,149,null,14,19,24,75]
[null,null,null,null,null,null,null,null,null,null,null,null,null,null,null,null,null,null,null,null,null,null,null,null,null,null,null,null,null,null,null,null,null,null,null,null,49,150,null,14.5,20,24.5,75.5]
[" متغیرهای ورودی - جیب اول درمکان دلخواه",null,null,null,null," متغیرهای ورودی - جیب اول سبز با بلیطی  (جلو)","x1","y1","x2","y2(بهینه)","a","b",null,"کمترین",null,"بیشترین",null,null,null,null,null,null,null,null,null,null,null,null,null,null,null,null,null,null,null,null,50,null,null,15,21,25,76]
["ضریب فاصله افقی وسط جیب از خط مرکزی جلو ","(از 0 الی 1)",{"$f":"K202*E202+L202","v":1.1500000000000001},"خط مرکزی جلو=0 \nخط پهلو=1  ",{"$f":"'طراحی مدل 213'!E396","v":23},"ضریب فاصله افقی وسط جیب از خط مرکزی جلو ",20,1,0,0,{"$f":"(J202-H202)/(I202-G202)","v":0.05},{"$f":"H202-G202*K202","v":0},0,{"$f":"(M202-L202)/K202","v":0},1,{"$f":"(O202-L202)/K202","v":20},0.5,{"$f":"(Q202-L202)/K202","v":10},null,null,null,null,null,null,null,null,null,null,null,null,null,null,null,null,null,null,51,null,null,null,22,25.5,76.5]
["ضریب فاصله عمودی بالای جیب از زمین ","(از0 الی 5)",2.5,"خط زمین=0 \nخط زانو=1 \nخط باسن=2 \nخط کمر=3 \nخط سینه=4  ",{"$f":"'طراحی مدل 213'!E397","v":60},"ضریب فاصله عمودی بالای جیب از زمین ",10,0,30,1,0.05,-0.5,0,10,5,110,2,50,null,null,null,null,null,null,null,null,null,null,null,null,null,null,null,null,null,null,52,null,null,null,23,26,77]
["عرض پاکت جیب به سانتیمتر","(از 0 الی 4)",0,"بهینه=2",{"$f":"'طراحی مدل 213'!E391","v":0},"پهنای بلیطی جیب  (سانتیمتر)",1,1,0,0,1,0,0,0,4,4,2,2,null,null,null,null,null,null,null,null,null,null,null,null,null,null,null,null,null,null,53,null,null,"متغیر ورودی بافت یقه شکاری",24,26.5,77.5]
["ضریب طول پاکت جیب","(از 0.01 الی 2)",1,"بهینه=1",{"$f":"'طراحی مدل 213'!E392","v":20},"ضریب طول بلیطی جیب",19,0.95,20,1,5.0000000000000044E-2,-8.8817841970012523E-16,0.01,0.20000000000001758,2,39.999999999999986,1,20,null,null,null,null,null,null,null,null,null,null,null,null,null,null,null,null,null,null,54,null,null,0,25,27,78]
["زاویه جیب با عمود به درجه","(از 0 الی 180)",22.5,"بهینه=دلخواه",{"$f":"'طراحی مدل 213'!E393","v":4.5},"زاویه جیب با عمود ",1,5,0,0,5,0,0,0,180,36,20,4,null,null,null,null,null,null,null,null,null,null,null,null,null,null,null,null,null,null,55,null,null,5,26,27.5,78.5]
["زاویه چرخش پاکت جیب از مستطیل به متوازی الاضلاع (به درجه)","(از -90 الی 90)",0,"پاکت مستطیل=0  ",{"$f":"'طراحی مدل 213'!E394","v":20},"زاویه چرخش بلیطی جیب از مستطیل به متوازی الاضلاع ",21,5,20,0,5,-100,-90,2,90,38,0,20,null,null,null,null,null,null,null,null,null,null,null,null,null,null,null,null,null,null,56,null,null,8,27,28,79]
["انتخاب جیب روکار=1        انتخاب دیگر=0","0 یا 1 ",0,null,{"$f":"'طراحی مدل 213'!E395","v":1},"انتخاب جیب روکار=2        انتخاب دیگر=1",1,0,2,1,1,-1,0,1,1,2,0,1,null,null,null,null,null,null,null,null,null,null,null,null,null,null,null,null,null,null,57,null,null,10,28,28.5,79.5]
["انتخاب طول جیب منطبق با جیب با ساسون=1        انتخاب طول جیب دستی=0","0 یا 1 ",0,null,{"$f":"'طراحی همه الگوها'!E337","v":1},"انتخاب طول جیب منطبق با جیب با ساسون=2        انتخاب طول جیب دستی=1",1,0,2,1,{"$f":"(J209-H209)/(I209-G209)","v":1},{"$f":"H209-G209*K209","v":-1},0,1,1,2,0,1,null,null,null,null,null,null,null,null,null,null,null,null,null,null,null,null,null,null,58,null,null,12,29,29,80]
[null,null,null,null,null,null,null,null,null,null,null,null,null,null,null,null,null,null,null,null,null,null,null,null,null,null,null,null,null,null,null,null,null,null,null,null,59,null,null,15,30,29.5,80.5]
[" متغیرهای ورودی - جیب دوم درمکان دلخواه",null,null,null,null," متغیرهای ورودی - جیب دوم سیاه با بلیطی (جلو)","x1","y1","x2","y2(بهینه)","a","b",null,"کمترین",null,"بیشترین",null,null,null,null,null,null,null,null,null,null,null,null,null,null,null,null,null,null,null,null,60,null,null,20,31,30,81]
["ضریب فاصله افقی وسط جیب از خط مرکزی جلو ","(از 0 الی 1)",{"$f":"K212*E212+L212","v":0.5},"خط مرکزی جلو=0 \nخط پهلو=1  ",{"$f":"'طراحی همه الگوها'!E347","v":10},"ضریب فاصله افقی وسط جیب از خط مرکزی جلو ",20,1,0,0,{"$f":"(J212-H212)/(I212-G212)","v":0.05},{"$f":"H212-G212*K212","v":0},0,{"$f":"(M212-L212)/K212","v":0},1,{"$f":"(O212-L212)/K212","v":20},0.5,{"$f":"(Q212-L212)/K212","v":10},null,null,null,null,null,null,null,null,null,null,null,null,null,null,null,null,null,null,61,null,null,null,32,30.5,81.5]
["ضریب فاصله عمودی بالای جیب از زمین ","(از0 الی 5)",4.3000000000000007,"خط زمین=0 \nخط زانو=1 \nخط باسن=2 \nخط کمر=3 \nخط سینه=4  ",{"$f":"'طراحی همه الگوها'!E348","v":96},"ضریب فاصله عمودی بالای جیب از زمین ",10,0,30,1,0.05,-0.5,0,10,5,110,2,50,null,null,null,null,null,null,null,null,null,null,null,null,null,null,null,null,null,null,62,null,null,null,33,31,82]
["عرض پاکت جیب به سانتیمتر","(از 0 الی 4)",2,"بهینه=2",{"$f":"'طراحی همه الگوها'!E342","v":2},"پهنای بلیطی جیب  (سانتیمتر)",1,1,0,0,1,0,0,0,4,4,2,2,null,null,null,null,null,null,null,null,null,null,null,null,null,null,null,null,null,null,63,null,null,null,34,31.5,82.5]
["ضریب طول پاکت جیب","(از 0.01 الی 2)",1,"بهینه=1",{"$f":"'طراحی همه الگوها'!E343","v":20},"ضریب طول بلیطی جیب",19,0.95,20,1,5.0000000000000044E-2,-8.8817841970012523E-16,0.01,0.20000000000001758,2,39.999999999999986,1,20,null,null,null,null,null,null,null,null,null,null,null,null,null,null,null,null,null,null,64,null,null,null,35,32,83]
["زاویه جیب با عمود به درجه","(از 0 الی 180)",90,"بهینه=دلخواه",{"$f":"'طراحی همه الگوها'!E344","v":18},"زاویه جیب با عمود ",1,5,0,0,5,0,0,0,180,36,20,4,null,null,null,null,null,null,null,null,null,null,null,null,null,null,null,null,null,null,65,null,null,null,36,32.5,83.5]
["زاویه چرخش پاکت جیب از مستطیل به متوازی الاضلاع (به درجه)","(از -90 الی 90)",0,"پاکت مستطیل=0  ",{"$f":"'طراحی همه الگوها'!E345","v":20},"زاویه چرخش بلیطی جیب از مستطیل به متوازی الاضلاع ",21,5,20,0,5,-100,-90,2,90,38,0,20,null,null,null,null,null,null,null,null,null,null,null,null,null,null,null,null,null,null,66,null,null,null,37,33,84]
["انتخاب جیب روکار=1        انتخاب دیگر=0","0 یا 1 ",1,null,{"$f":"'طراحی همه الگوها'!E346","v":2},"انتخاب جیب روکار=2        انتخاب دیگر=1",1,0,2,1,1,-1,0,1,1,2,0,1,null,null,null,null,null,null,null,null,null,null,null,null,null,null,null,null,null,null,67,null,null,null,38,33.5,84.5]
[null,null,null,null,null,null,null,null,null,null,null,null,null,null,null,null,null,null,null,null,null,null,null,null,null,null,null,null,null,null,null,null,null,null,null,null,68,null,null,null,39,34,85]
["متغیرهای ورودی -  جیب مستطیل",null,null,null,null,"متغیرهای ورودی -  جیب مستطیل قرمز   (جلو)","x1","y1","x2","y2(بهینه)","a","b",null,"کمترین",null,"بیشترین",null,null,null,null,null,null,null,null,null,null,null,null,null,null,null,null,null,null,null,null,69,null,null,null,40,34.5,85.5]
["ضریب فاصله افقی وسط  جیب از خط مرکزی جلو لباس ","(از 0 الی 1)",{"$f":"K221*E221+L221","v":0.5},"لبه جلو=0 \nلبه کناری=1  ",{"$f":"'طراحی همه الگوها'!E354","v":10},"ضریب فاصله افقی وسط  جیب از خط مرکزی جلو لباس ",20,1,0,0,{"$f":"(J221-H221)/(I221-G221)","v":0.05},{"$f":"H221-G221*K221","v":0},0,{"$f":"(M221-L221)/K221","v":0},1,{"$f":"(O221-L221)/K221","v":20},0.5,{"$f":"(Q221-L221)/K221","v":10},null,null,null,null,null,null,null,null,null,null,null,null,null,null,null,null,null,null,70,null,null,null,41,35,86]
["ضریب فاصله عمودی بالای  جیب از زمین ","(از0 الی 5)",{"$f":"K222*E222+L222","v":4.3000000000000007},"خط زمین=0 \nخط زانو=1 \nخط باسن=2 \nخط کمر=3 \nخط سینه=4  ",{"$f":"'طراحی همه الگوها'!E355","v":96},"ضریب فاصله عمودی بالای  جیب از زمین ",10,0,30,1,{"$f":"(J222-H222)/(I222-G222)","v":0.05},{"$f":"H222-G222*K222","v":-0.5},0,{"$f":"(M222-L222)/K222","v":10},5,{"$f":"(O222-L222)/K222","v":110},2,{"$f":"(Q222-L222)/K222","v":50},null,null,null,null,null,null,null,null,null,null,null,null,null,null,null,null,null,null,71,null,null,null,42,35.5,86.5]
["ضریب عرض جیب مستطیل","(از 0.01 الی 1.5)",{"$f":"K223*E223+L223","v":0},"بهینه جیب=1.2",{"$f":"'طراحی همه الگوها'!E351","v":0},"ضریب عرض جیب مستطیل",1,0.05,0,0,{"$f":"(J223-H223)/(I223-G223)","v":0.05},{"$f":"H223-G223*K223","v":0},0.01,{"$f":"(M223-L223)/K223","v":0.19999999999999998},1.5,{"$f":"(O223-L223)/K223","v":30},1.2,{"$f":"(Q223-L223)/K223","v":23.999999999999996},null,null,null,null,null,null,null,null,null,null,null,null,null,null,null,null,null,null,72,null,null,null,43,36,87]
["زاویه  جیب با عمود (به درجه)","(از 0 الی 180)",{"$f":"K224*E224+L224","v":0},"افقی=90",{"$f":"'طراحی همه الگوها'!E352","v":0},"زاویه  جیب با عمود ",1,5,0,0,{"$f":"(J224-H224)/(I224-G224)","v":5},{"$f":"H224-G224*K224","v":0},0,{"$f":"(M224-L224)/K224","v":0},180,{"$f":"(O224-L224)/K224","v":36},90,{"$f":"(Q224-L224)/K224","v":18},null,null,null,null,null,null,null,null,null,null,null,null,null,null,null,null,null,null,73,null,null,null,44,36.5,87.5]
["ضریب ارتفاع جیب مستطیل","(از 0 الی 1.5)",{"$f":"K225*E225+L225","v":0},"بهینه جیب=1.1",{"$f":"'طراحی همه الگوها'!E353","v":0},"ضریب ارتفاع جیب مستطیل",1,0.05,0,0,{"$f":"(J225-H225)/(I225-G225)","v":0.05},{"$f":"H225-G225*K225","v":0},0,{"$f":"(M225-L225)/K225","v":0},1.5,{"$f":"(O225-L225)/K225","v":30},1.1000000000000001,{"$f":"(Q225-L225)/K225","v":22},null,null,null,null,null,null,null,null,null,null,null,null,null,null,null,null,null,null,74,null,null,null,45,37,88]
[null,null,null,null,null,null,null,null,null,null,null,null,null,null,null,null,null,null,null,null,null,null,null,null,null,null,null,null,null,null,null,null,null,null,null,null,75,null,null,null,46,37.5,88.5]
["متغیرهای ورودی -  جادکمه با بلیطی",null,null,null,null,"متغیرهای ورودی -  جادکمه با بلیطی (جلو)","x1","y1","x2","y2(بهینه)","a","b",null,"کمترین",null,"بیشترین",null,null,null,null,null,null,null,null,null,null,null,null,null,null,null,null,null,null,null,null,76,null,null,null,47,38,89]
["ضریب فاصله افقی وسط جادکمه  از خط مرکزی جلو لباس ","(از 0 الی 1)",{"$f":"K228*E228+L228","v":0.05},"لبه جلو=0 \nلبه کناری=1  ",{"$f":"'طراحی مدل 213'!E403","v":1},"ضریب فاصله افقی وسط جادکمه  از خط مرکزی جلو لباس ",20,1,0,0,{"$f":"(J228-H228)/(I228-G228)","v":0.05},{"$f":"H228-G228*K228","v":0},0,{"$f":"(M228-L228)/K228","v":0},1,{"$f":"(O228-L228)/K228","v":20},0.5,{"$f":"(Q228-L228)/K228","v":10},null,null,null,null,null,null,null,null,null,null,null,null,null,null,null,null,null,null,77,null,null,null,48,38.5,89.5]
["ضریب فاصله عمودی بالای جادکمه از زمین ","(از0 الی 5)",{"$f":"K229*E229+L229","v":3.6000000000000005},"خط زمین=0 \nخط زانو=1 \nخط باسن=2 \nخط کمر=3 \nخط سینه=4  ",{"$f":"'طراحی مدل 213'!E404","v":82},"ضریب فاصله عمودی بالای جادکمه از زمین ",10,0,30,1,{"$f":"(J229-H229)/(I229-G229)","v":0.05},{"$f":"H229-G229*K229","v":-0.5},0,{"$f":"(M229-L229)/K229","v":10},5,{"$f":"(O229-L229)/K229","v":110},2,{"$f":"(Q229-L229)/K229","v":50},null,null,null,null,null,null,null,null,null,null,null,null,null,null,null,null,null,null,78,null,null,null,49,39,90]
["عرض پاکت جادکمه به سانتیمتر","(از 0 الی 4)",{"$f":"K230*E230+L230","v":2},"بهینه جادکمه=2",{"$f":"'طراحی مدل 213'!E400","v":2},"پهنای جادکمه  (سانتیمتر)",1,1,0,0,{"$f":"(J230-H230)/(I230-G230)","v":1},{"$f":"H230-G230*K230","v":0},0,{"$f":"(M230-L230)/K230","v":0},4,{"$f":"(O230-L230)/K230","v":4},2,{"$f":"(Q230-L230)/K230","v":2},null,null,null,null,null,null,null,null,null,null,null,null,null,null,null,null,null,null,79,null,null,null,50,39.5,90.5]
["ضریب طول پاکت جادکمه ","(از 0.01 الی 1.5)",{"$f":"K231*E231+L231","v":0.25},"بهینه جادکمه=0.3",{"$f":"'طراحی مدل 213'!E401","v":19},"ضریب طول جادکمه ",19,0.25,20,0.3,{"$f":"(J231-H231)/(I231-G231)","v":4.9999999999999989E-2},{"$f":"H231-G231*K231","v":-0.69999999999999973},0.01,{"$f":"(M231-L231)/K231","v":14.199999999999998},1.5,{"$f":"(O231-L231)/K231","v":44.000000000000007},0.3,{"$f":"(Q231-L231)/K231","v":20},null,null,null,null,null,null,null,null,null,null,null,null,null,null,null,null,null,null,80,null,null,null,"منطبق",40,91]
["زاویه جادکمه با عمود (به درجه)","(از 0 الی 180)",{"$f":"K232*E232+L232","v":90},"افقی=90",{"$f":"'طراحی مدل 213'!E402","v":18},"زاویه جادکمه با عمود ",1,5,0,0,{"$f":"(J232-H232)/(I232-G232)","v":5},{"$f":"H232-G232*K232","v":0},0,{"$f":"(M232-L232)/K232","v":0},180,{"$f":"(O232-L232)/K232","v":36},90,{"$f":"(Q232-L232)/K232","v":18},null,null,null,null,null,null,null,null,null,null,null,null,null,null,null,null,null,null,81,null,null,null,null,40.5,91.5]
[null,null,null,null,null,null,null,null,null,null,null,null,null,null,null,null,null,null,null,null,null,null,null,null,null,null,null,null,null,null,null,null,null,null,null,null,82,null,null,null,null,41,92]
[" متغیرهای ورودی - جادکمه با طول دلخواه",null,null,null,null,"جادکمه متصل به یقه گرد","x1","y1","x2","y2(بهینه)","a","b",null,"کمترین",null,"بیشترین",null,null,null,null,null,null,null,null,null,null,null,null,null,null,null,null,null,null,null,null,83,null,null,null,null,41.5,92.5]
["ضریب عرض جادکمه به سانتیمتر","(از 0 الی 0.03)",{"$f":"K235*E235+L235","v":1.4999999999999999E-2},"بهینه=0.01",{"$f":"'طراحی همه الگوها'!E365","v":30},"ضریب عرض جادکمه ",1,5.0000000000000001E-4,0,0,{"$f":"(J235-H235)/(I235-G235)","v":5.0000000000000001E-4},{"$f":"H235-G235*K235","v":0},0,{"$f":"(M235-L235)/K235","v":0},0.03,{"$f":"(O235-L235)/K235","v":60},0.01,{"$f":"(Q235-L235)/K235","v":20},null,null,null,null,null,null,null,null,null,null,null,null,null,null,null,null,null,null,84,null,null,null,null,42,93]
["ضریب طول جادکمه ","(از 0.7 الی 2.5)",{"$f":"K236*E236+L236","v":1.5600000000000005},"حداقل طول جادکمه با پارچه کش برای رد شدن از سر=0.7 \nحداقل طول جادکمه با پارچه غیر کش برای رد شدن از سر=1 \nجادکمه بلند  >1 ",{"$f":"'طراحی همه الگوها'!E366","v":28},"ضریب طول جادکمه ",1,1.02,0,1,{"$f":"(J236-H236)/(I236-G236)","v":2.0000000000000018E-2},{"$f":"H236-G236*K236","v":1},1,{"$f":"(M236-L236)/K236","v":0},2.5,{"$f":"(O236-L236)/K236","v":74.999999999999929},1,{"$f":"(Q236-L236)/K236","v":0},null,null,null,null,null,null,null,null,null,null,null,null,null,null,null,null,null,null,85,null,null,null,null,42.5,93.5]
["حداقل طول جادکمه با پارچه غیر کش به سانتیمتر (عدد منفی یعنی دور یقه بزرگتر از دور سر میباشد)  *",{"$f":"ROUND(محاسبات!FH465,0)","v":6},null,null,{"$f":"IF((B261+B239)<B260,\"خیر\",\"بله \")","v":"بله "},"آیا یقه گرد متصل به جادکمه با پارچه غیر کش از سر رد میشود؟",null,null,null,null,null,null,null,null,null,null,null,null,null,null,null,null,null,null,null,null,null,null,null,null,null,null,null,null,null,null,86,null,null,null,null,43,94]
["حداقل طول جادکمه با پارچه کش به سانتیمتر (عدد منفی یعنی دور یقه بزرگتر از حد لازم برای رد شدن از دور سر میباشد)  '*",{"$f":"ROUND(0.5*('متغیرها '!U85-1.2*(2.12*SQRT(محاسبات!K144*محاسبات!K144+محاسبات!K143*محاسبات!K143)+2.08*SQRT(محاسبات!AA147*محاسبات!AA147+محاسبات!AA146*محاسبات!AA146))),0)","v":1},null,null,{"$f":"IF((B261+B239)<0.85*B260,\"خیر\",\"بله \")","v":"بله "},"آیا یقه گرد متصل به جادکمه با پارچه نیم کش از سر رد میشود؟",null,null,null,null,null,null,null,null,null,null,null,null,null,null,null,null,null,null,null,null,null,null,null,null,null,null,null,null,null,null,87,null,null,null,null,43.5,94.5]
[" طول جادکمه اختیار شده برای لباس شما به سانتیمتر",{"$f":"ROUND((C236-1)*'متغیرها '!U77,1)","v":11.4},null,null,{"$f":"IF((B261+B239)<0.7*B260,\"خیر\",\"بله \")","v":"بله "},"آیا یقه گرد متصل به جادکمه با پارچه کش زیاد از سر رد میشود؟",null,null,null,null,null,null,null,null,null,null,null,null,null,null,null,null,null,null,null,null,null,null,null,null,null,null,null,null,null,null,88,null,null,null,null,44,95]
[" عرض جادکمه اختیار شده برای لباس شما به سانتیمتر",{"$f":"ROUND(محاسبات!FH471,1)","v":3.2},null,null,null,null,null,null,null,null,null,null,null,null,null,null,null,null,null,null,null,null,null,null,null,null,null,null,null,null,null,null,null,null,null,null,89,null,null,null,null,44.5,95.5]
[null,null,null,null,null,null,null,null,null,null,null,null,null,null,null,null,null,null,null,null,null,null,null,null,null,null,null,null,null,null,null,null,null,null,null,null,90,null,null,null,null,45,96]
[" مشخصات مستطیل با پارچه کش برای یقه گرد کیپ :",null,null,null,null," مشخصات مستطیل با پارچه کش برای یقه گرد کیپ :",null,null,null,null,null,null,null,null,null,null,null,null,null,null,null,null,null,null,null,null,null,null,null,null,null,null,null,null,null,null,91,null,null,null,null,45.5,96.5]
["طول",{"$f":"'متغیرها '!U80","v":39},null,null,null,"طول",null,null,null,null,null,null,null,null,null,null,null,null,null,null,null,null,null,null,null,null,null,null,null,null,null,null,null,null,null,null,92,null,null,null,null,46,97]
["عرض",{"$f":"0.5*'متغیرها '!C72*محاسبات!G167","v":2.4765666242638611},null,null,null,"عرض",null,null,null,null,null,null,null,null,null,null,null,null,null,null,null,null,null,null,null,null,null,null,null,null,null,null,null,null,null,null,93,null,null,null,null,46.5,{"$f":"AQ243+0.5","v":97.5}]
["زاویه متوسط سرشانه",{"$f":"0.5*(محاسبات!P139+0.3*(محاسبات!P140-محاسبات!P139)+محاسبات!AE139+0.3*(محاسبات!AE140-محاسبات!AE139))","v":0.32009079810115021},null,null,null,"زاویه متوسط سرشانه",null,null,null,null,null,null,null,null,null,null,null,null,null,null,null,null,null,null,null,null,null,null,null,null,null,null,null,null,null,null,94,null,null,null,null,47,98]
[null,null,null,null,null,null,null,null,null,null,null,null,null,null,null,null,null,null,null,null,null,null,null,null,null,null,null,null,null,null,null,null,null,null,null,null,95,null,null,null,null,47.5,98.5]
["متغیر ورودی یقه گرد کش :",null,null,null,null,"متغیر ورودی یقه گرد کش :","x1","y1","x2","y2(بهینه)","a","b",null,"کمترین",null,"بیشترین",null,null,null,null,null,null,null,null,null,null,null,null,null,null,null,null,null,null,null,null,96,null,null,null,null,48,99]
["ارتفاع یقه گرد کش  به سانتیمتر - متغیر ورودی","(از 0.5 الی 5)",{"$f":"K248*E248+L248","v":1},"cm",{"$f":"'طراحی مدل 213'!E331","v":1},"ارتفاع یقه گرد کش  به سانتیمتر - متغیر ورودی",0,0,0.5,0.5,{"$f":"(J248-H248)/(I248-G248)","v":1},{"$f":"H248-G248*K248","v":0},0.5,{"$f":"(M248-L248)/K248","v":0.5},5,{"$f":"(O248-L248)/K248","v":5},1,{"$f":"(Q248-L248)/K248","v":1},null,null,null,null,null,null,null,null,null,null,null,null,null,null,null,null,null,null,97,null,null,null,null,48.5,99.5]
["طول (دور تا دور) یقه گرد کش به سانتیمتر",{"$f":"ROUND(2.12*SQRT(POWER((محاسبات!K144-C248*(1-SIN(B245))),2)+POWER((محاسبات!K143-C248*COS(B245)),2))+2.08*SQRT(POWER((محاسبات!AA147-C248*(1-SIN(B245))),2)+POWER((محاسبات!AA146-C248*COS(B245)),2)),0)","v":41},null,null,null,"طول (دور تا دور) یقه گرد کش به سانتیمتر",null,null,null,null,null,null,null,null,null,null,null,null,null,null,null,null,null,null,null,null,null,null,null,null,null,null,null,null,null,null,98,null,null,null,null,49,100]
[null,null,null,null,null,null,null,null,null,null,null,null,null,null,null,null,null,null,null,null,null,null,null,null,null,null,null,null,null,null,null,null,null,null,null,null,99,null,null,null,null,49.5,100.5]
[" مشخصات نوار دور یقه گرد کش :",null,null,null,null," مشخصات نوار دور یقه گرد کش :",null,null,null,null,null,null,null,null,null,null,null,null,null,null,null,null,null,null,null,null,null,null,null,null,null,null,null,null,null,null,100,null,null,null,null,50,101]
["ارتفاع نوار  (بعد از دوخت)",0.5,"cm",null,null,"ارتفاع نوار  (بعد از دوخت)",null,null,null,null,null,null,null,null,null,null,null,null,null,null,null,null,null,null,null,null,null,null,null,null,null,null,null,null,null,null,101,null,null,null,null,null,101.5]
["طول  نوار  (بعد از دوخت)",{"$f":"ROUND(2.12*SQRT(POWER((محاسبات!K144-B252*(1-SIN(محاسبات!BI101))),2)+POWER((محاسبات!K143-B252*COS(محاسبات!BI101)),2))+2.08*SQRT(POWER((محاسبات!AA147-B252*(1-SIN(محاسبات!BI101))),2)+POWER((محاسبات!AA146-B252*COS(محاسبات!BI101)),2)),0)","v":43},"cm",null,null,"طول  نوار  (بعد از دوخت)",null,null,null,null,null,null,null,null,null,null,null,null,null,null,null,null,null,null,null,null,null,null,null,null,null,null,null,null,null,null,102,null,null,null,null,null,102]
[null,null,null,null,null,null,null,null,null,null,null,null,null,null,null,null,null,null,null,null,null,null,null,null,null,null,null,null,null,null,null,null,null,null,null,null,103,null,null,null,null,null,102.5]
[" مشخصات نوار دور یقه گرد کش :",null,null,null,null," مشخصات نوار دور یقه گرد کش :",null,null,null,null,null,null,null,null,null,null,null,null,null,null,null,null,null,null,null,null,null,null,null,null,null,null,null,null,null,null,104,null,null,null,null,null,103]
["ارتفاع نوار  (بعد از دوخت)",1,"cm",null,null,"ارتفاع نوار  (بعد از دوخت)",null,null,null,null,null,null,null,null,null,null,null,null,null,null,null,null,null,null,null,null,null,null,null,null,null,null,null,null,null,null,105,null,null,null,null,null,103.5]
["طول  نوار  (بعد از دوخت)",{"$f":"ROUND(2.12*SQRT(POWER((محاسبات!K144-B256*(1-SIN(محاسبات!BI101))),2)+POWER((محاسبات!K143-B256*COS(محاسبات!BI101)),2))+2.08*SQRT(POWER((محاسبات!AA147-B256*(1-SIN(محاسبات!BI101))),2)+POWER((محاسبات!AA146-B256*COS(محاسبات!BI101)),2)),0)","v":41},"cm",null,null,"طول  نوار  (بعد از دوخت)",null,null,null,null,null,null,null,null,null,null,null,null,null,null,null,null,null,null,null,null,null,null,null,null,null,null,null,null,null,null,106,null,null,null,null,null,104]
[null,null,null,null,null,null,null,null,null,null,null,null,null,null,null,null,null,null,null,null,null,null,null,null,null,null,null,null,null,null,null,null,null,null,null,null,107,null,null,null,null,null,104.5]
[" کنترل یقه گرد بدون زیپ ",null,null,null,null," کنترل یقه گرد بدون زیپ ",null,null,null,null,null,null,null,null,null,null,null,null,null,null,null,null,null,null,null,null,null,null,null,null,null,null,null,null,null,null,108,null,null,null,null,null,105]
["دور سر",{"$f":"'متغیرها '!U85","v":57},null,null,null,"دور سر",null,null,null,null,null,null,null,null,null,null,null,null,null,null,null,null,null,null,null,null,null,null,null,null,null,null,null,null,null,null,109,null,null,null,null,null,105.5]
[" دور یقه گرد لباس",{"$f":"ROUND(2.12*SQRT(محاسبات!K144*محاسبات!K144+محاسبات!K143*محاسبات!K143)+2.08*SQRT(محاسبات!AA147*محاسبات!AA147+محاسبات!AA146*محاسبات!AA146)+2*'متغیرها '!C66*محاسبات!H129,1)","v":46.7},null,null,null," دور یقه گرد لباس",null,null,null,null,null,null,null,null,null,null,null,null,null,null,null,null,null,null,null,null,null,null,null,null,null,null,null,null,null,null,110,null,null,null,null,null,106]
["حداقل دور یقه گرد با پارچه غیر کش ",{"$f":"'متغیرها '!U85","v":57},null,{"$f":"IF(B261<B262,\"خطا\",\"صحیح \")","v":"خطا"},{"$f":"IF(B261<B262,\"خیر\",\"بله \")","v":"خیر"},"حداقل دور یقه گرد با پارچه غیر کش ",null,null,null,null,null,null,null,null,null,null,null,null,null,null,null,null,null,null,null,null,null,null,null,null,null,null,null,null,null,null,111,null,null,null,null,null,106.5]
[" حداقل دور یقه گرد با پارچه نیم کش ",{"$f":"ROUND(0.85*'متغیرها '!U85,1)","v":48.5},null,{"$f":"IF(B261<B263,\"خطا\",\"صحیح \")","v":"خطا"},{"$f":"IF(B261<B263,\"خیر\",\"بله \")","v":"خیر"}," حداقل دور یقه گرد با پارچه نیم کش ",null,null,null,null,null,null,null,null,null,null,null,null,null,null,null,null,null,null,null,null,null,null,null,null,null,null,null,null,null,null,112,null,null,null,null,null,107]
["حداقل دور یقه گرد با پارچه کش زیاد ",{"$f":"ROUND(0.7*'متغیرها '!U85,1)","v":39.9},null,{"$f":"IF(B261<B264,\"خطا\",\"صحیح \")","v":"صحیح "},{"$f":"IF(B261<B264,\"خیر\",\"بله \")","v":"بله "},"حداقل دور یقه گرد با پارچه کش زیاد ",null,null,null,null,null,null,null,null,null,null,null,null,null,null,null,null,null,null,null,null,null,null,null,null,null,null,null,null,null,null,113,null,null,null,null,null,107.5]
[null,null,null,null,null,null,null,null,null,null,null,null,null,null,null,null,null,null,null,null,null,null,null,null,null,null,null,null,null,null,null,null,null,null,null,null,114,null,null,null,null,null,108]
[" کنترل یقه هفت بدون زیپ ",null,null,null,null," کنترل یقه هفت بدون زیپ ",null,null,null,null,null,null,null,null,null,null,null,null,null,null,null,null,null,null,null,null,null,null,null,null,null,null,null,null,null,null,115,null,null,null,null,null,108.5]
["دور سر",{"$f":"'متغیرها '!U85","v":57},null,null,null,"دور سر",null,null,null,null,null,null,null,null,null,null,null,null,null,null,null,null,null,null,null,null,null,null,null,null,null,null,null,null,null,null,116,null,null,null,null,null,109]
[" دور یقه هفت لباس",{"$f":"ROUND(2.08*SQRT(محاسبات!AA147*محاسبات!AA147+محاسبات!AA146*محاسبات!AA146)+2*(('متغیرها '!C169*محاسبات!H124+محاسبات!K144)/SIN(محاسبات!O233)),1)","v":55.9},null,null,null," دور یقه هفت لباس",null,null,null,null,null,null,null,null,null,null,null,null,null,null,null,null,null,null,null,null,null,null,null,null,null,null,null,null,null,null,117,null,null,null,null,null,109.5]
["حداقل دور یقه هفت با پارچه غیر کش ",{"$f":"'متغیرها '!U85","v":57},null,{"$f":"IF(B268<B269,\"خطا\",\"صحیح \")","v":"خطا"},{"$f":"IF(B268<B269,\"خیر\",\"بله \")","v":"خیر"},"حداقل دور یقه هفت با پارچه غیر کش ",null,null,null,null,null,null,null,null,null,null,null,null,null,null,null,null,null,null,null,null,null,null,null,null,null,null,null,null,null,null,118,null,null,null,null,null,110]
[" حداقل دور یقه هفت با پارچه نیم کش ",{"$f":"ROUND(0.85*'متغیرها '!U85,1)","v":48.5},null,{"$f":"IF(B268<B270,\"خطا\",\"صحیح \")","v":"صحیح "},{"$f":"IF(B268<B270,\"خیر\",\"بله \")","v":"بله "}," حداقل دور یقه هفت با پارچه نیم کش ",null,null,null,null,null,null,null,null,null,null,null,null,null,null,null,null,null,null,null,null,null,null,null,null,null,null,null,null,null,null,119,null,null,null,null,null,110.5]
[null,null,null,null,null,null,null,null,null,null,null,null,null,null,null,null,null,null,null,null,null,null,null,null,null,null,null,null,null,null,null,null,null,null,null,null,120,null,null,null,null,null,111]
[" مشخصات کمربند به شکل مستطیل (مناسب برای لباس شما)",null,null,null,null," مشخصات کمربند به شکل مستطیل (مناسب برای لباس شما)",null,null,null,null,null,null,null,null,null,null,null,null,null,null,null,null,null,null,null,null,null,null,null,null,null,null,null,null,null,null,null,null,null,null,null,null,111.5]
["طول کمربند به سانتیمتر",{"$f":"ROUND(3*(محاسبات!K120+محاسبات!K124)+2*(محاسبات!AA123+محاسبات!AA127),1)","v":101.4},null,null,null,"طول کمربند به سانتیمتر",null,null,null,null,null,null,null,null,null,null,null,null,null,null,null,null,null,null,null,null,null,null,null,null,null,null,null,null,null,null,null,null,null,null,null,null,112]
["عرض کمربند به سانتیمتر",{"$f":"ROUND(0.07*'متغیرها '!U83,1)","v":4.2},null,null,null,"عرض کمربند به سانتیمتر",null,null,null,null,null,null,null,null,null,null,null,null,null,null,null,null,null,null,null,null,null,null,null,null,null,null,null,null,null,null,null,null,null,null,null,null,112.5]
[null,null,null,null,null,null,null,null,null,null,null,null,null,null,null,null,null,null,null,null,null,null,null,null,null,null,null,null,null,null,null,null,null,null,null,null,null,null,null,null,null,null,113]
[" مشخصات کش یا پارچه پایین سویشرت :",null,null,null,null," مشخصات کش پایین سویشرت :",null,null,null,null,null,null,null,null,null,null,null,null,null,null,null,null,null,null,null,null,null,null,null,null,null,null,null,null,null,null,null,null,null,null,null,null,113.5]
["طول  کش از ساسون جلو- دور باسن -تا ساسون دیگر جلو",{"$f":"ROUND(C279*2*(محاسبات!AV110-محاسبات!AV164+محاسبات!BG106+محاسبات!BG165),0)","v":47},"cm",null,null,"طول  کش از ساسون جلو- دور باسن -تا ساسون دیگر جلو",null,null,null,null,null,null,null,null,null,null,null,null,null,null,null,null,null,null,null,null,null,null,null,null,null,null,null,null,null,null,null,null,null,null,null,null,114]
["ضریب پهنای کش","(از -0.1 الی 0.1)",{"$f":"K278*E278+L278","v":-0.29999999999999982},"بهینه=   - 0.05 ",{"$f":"'طراحی همه الگوها'!B326","v":45},"ضریب پهنای کش",50,-0.05,51,0,{"$f":"(J278-H278)/(I278-G278)","v":0.05},{"$f":"H278-G278*K278","v":-2.5499999999999998},-0.1,{"$f":"(M278-L278)/K278","v":48.999999999999993},0.1,{"$f":"(O278-L278)/K278","v":52.999999999999993},-0.05,{"$f":"(Q278-L278)/K278","v":50},null,null,null,null,null,null,null,null,null,null,null,null,null,null,null,null,null,null,null,null,null,null,null,null,114.5]
["ضریب کوچک شدن کش","(از 0.5  الی 1)",{"$f":"K279*E279+L279","v":0.64999999999999969},"بهینه=   0.9 ",{"$f":"'طراحی همه الگوها'!B327","v":8},"ضریب کوچک شدن کش",2,0.95,1,1,{"$f":"(J279-H279)/(I279-G279)","v":-5.0000000000000044E-2},{"$f":"H279-G279*K279","v":1.05},0.5,{"$f":"(M279-L279)/K279","v":10.999999999999991},1,{"$f":"(O279-L279)/K279","v":1},0.9,{"$f":"(Q279-L279)/K279","v":2.9999999999999978},null,null,null,null,null,null,null,null,null,null,null,null,null,null,null,null,null,null,null,null,null,null,null,null,115]
[null,null,null,null,null,null,null,null,null,null,null,null,null,null,null,null,null,null,null,null,null,null,null,null,null,null,null,null,null,null,null,null,null,null,null,null,null,null,null,null,null,null,115.5]
[" متغیرهای ورودی-طراحی یقه مربعی یا برش سرشانه در پیراهن",null,null,null,null," متغیرهای ورودی-طراحی یقه مربعی یا برش سرشانه در پیراهن","x1","y1","x2","y2(بهینه)","a","b",null,"کمترین",null,"بیشترین",null,null,null,null,null,null,null,null,null,null,null,null,null,null,null,null,null,null,null,null,null,null,null,null,null,null,116]
["انتخاب یقه مربعی=1         انتخاب برش سرشانه در پیراهن مردانه=2  \nانتخاب برش سرشانه در پیراهن برش از کارور=3","1 یا 2 یا 3",{"$f":"K282*E282+L282","v":2},null,{"$f":"'طراحی همه الگوها'!E249","v":2},"انتخاب یقه مربعی=1         انتخاب برش سرشانه در پیراهن مردانه=2  \nانتخاب برش سرشانه در پیراهن برش از کارور=3",2,2,1,1,{"$f":"(J282-H282)/(I282-G282)","v":1},{"$f":"H282-G282*K282","v":0},1,{"$f":"(M282-L282)/K282","v":1},3,{"$f":"(O282-L282)/K282","v":3},1,{"$f":"(Q282-L282)/K282","v":1},null,null,null,null,null,null,null,null,null,null,null,null,null,null,null,null,null,null,null,null,null,null,null,null,116.5]
["  انتخاب آستین با هر نوع ساسون=2    \n  انتخاب آستین بدون ساسون=3           ","2 یا 3",{"$f":"K283*E283+L283","v":3},null,{"$f":"'طراحی همه الگوها'!E250","v":2},"  انتخاب آستین با هر نوع ساسون=1    \n  انتخاب آستین بدون ساسون=2           ",1,2,2,3,{"$f":"(J283-H283)/(I283-G283)","v":1},{"$f":"H283-G283*K283","v":1},2,{"$f":"(M283-L283)/K283","v":1},3,{"$f":"(O283-L283)/K283","v":2},2,{"$f":"(Q283-L283)/K283","v":1},null,null,null,null,null,null,null,null,null,null,null,null,null,null,null,null,null,null,null,null,null,null,null,null,117]
["پهنا یقه روی خط سرشانه  (فقط موثر در انتخاب یقه مربعی) ","(از 0.2 الی 1.2)",{"$f":"K284*E284+L284","v":1},"بهینه=1",{"$f":"'طراحی همه الگوها'!E257","v":20},"پهنا یقه روی خط سرشانه  (فقط موثر در انتخاب یقه مربعی) ",19,0.95,20,1,{"$f":"(J284-H284)/(I284-G284)","v":5.0000000000000044E-2},{"$f":"H284-G284*K284","v":-8.8817841970012523E-16},0.2,{"$f":"(M284-L284)/K284","v":4.0000000000000142},1.2,{"$f":"(O284-L284)/K284","v":23.999999999999996},1,{"$f":"(Q284-L284)/K284","v":20},null,null,null,null,null,null,null,null,null,null,null,null,null,null,null,null,null,null,null,null,null,null,null,null,117.5]
["ضریب پایین آمدن خط کارور پشت","(از0.01 الی 0.6)",{"$f":"K285*E285+L285","v":0.22},"بهینه مربعی=0.4 \nبهینه مردانه=0.22 \nبهینه برش از کارور=0.25",{"$f":"'طراحی مدل 213'!E383","v":20},"ضریب پایین آمدن خط کارور پشت",19,0.21,20,0.22,{"$f":"(J285-H285)/(I285-G285)","v":1.0000000000000009E-2},{"$f":"H285-G285*K285","v":1.9999999999999823E-2},0.01,{"$f":"(M285-L285)/K285","v":-0.99999999999998146},0.6,{"$f":"(O285-L285)/K285","v":57.999999999999964},0.4,{"$f":"(Q285-L285)/K285","v":37.999999999999986},null,null,null,null,null,null,null,null,null,null,null,null,null,null,null,null,null,null,null,null,null,null,null,null,118]
[{"$f":"IF(محاسبات!AD460<محاسبات!U466+1,\"ضریب خط کارور پشت کم شود\",\" \")","v":" "},{"$f":"IF(محاسبات!AD460<محاسبات!U466+1,\" خطا - خط کارور پشت بالا برود \",\"عدم خطا\")","v":"عدم خطا"},"حلقه آستین با ساسون سرشانه یا بدون ساسون : ",null,null,{"$f":"IF(محاسبات!AI460<محاسبات!Z466+1,\"ضریب خط کارور پشت کم شود\",\" \")","v":" "},null,null,null,null,null,null,null,null,null,null,null,null,null,null,null,null,null,null,null,null,null,null,null,null,null,null,null,null,null,null,null,null,null,null,null,null,118.5]
[{"$f":"IF(محاسبات!BW469<محاسبات!BW463,\"ضریب خط کارور پشت کم شود\",\" \")","v":" "},{"$f":"IF(محاسبات!BW469<محاسبات!BW463,\"  خطا - خط کارور پشت بالا برود \",\"عدم خطا\")","v":"عدم خطا"},"حلقه آستین با ساسون عصایی : ",null,null,null,null,null,null,null,null,null,null,null,null,null,null,null,null,null,null,null,null,null,null,null,null,null,null,null,null,null,null,null,null,null,null,null,null,null,null,null,119]
[null,null,null,null,null,null,null,null,null,null,null,null,null,null,null,null,null,null,null,null,null,null,null,null,null,null,null,null,null,null,null,null,null,null,null,null,null,null,null,null,null,null,119.5]
["ضریب پایین آمدن خط کارور جلو","(از 0.1 الی 0.45)",{"$f":"K289*E289+L289","v":0.1999999999999999},"بهینه مربعی=0.3 \nبهینه برش از کارور=0.3",{"$f":"'طراحی همه الگوها'!E254","v":10},"ضریب پایین آمدن خط کارور جلو",19,0.28999999999999998,20,0.3,{"$f":"(J289-H289)/(I289-G289)","v":1.0000000000000009E-2},{"$f":"H289-G289*K289","v":9.9999999999999811E-2},0.1,{"$f":"(M289-L289)/K289","v":1.9428902930940224E-14},0.45,{"$f":"(O289-L289)/K289","v":34.999999999999986},0.3,{"$f":"(Q289-L289)/K289","v":20},null,null,null,null,null,null,null,null,null,null,null,null,null,null,null,null,null,null,null,null,null,null,null,null,120]
[{"$f":"IF(محاسبات!Q460<محاسبات!H466+1,\"ضریب خط کارور جلو کم شود\",\" \")","v":" "},{"$f":"IF(محاسبات!Q460<محاسبات!H466+1,\" خطا - خط کارور جلو بالا برود \",\"عدم خطا\")","v":"عدم خطا"},"حلقه آستین با ساسون سرشانه یا بدون ساسون : ",null,null,{"$f":"IF(محاسبات!V460<محاسبات!M466+1,\"ضریب خط کارور جلو کم شود\",\" \")","v":" "},null,null,null,null,null,null,null,null,null,null,null,null,null,null,null,null,null,null,null,null,null,null,null,null,null,null,null,null,null,null,null,null,null,null,null,null,120.5]
[{"$f":"IF(محاسبات!BR470<محاسبات!BR463,\"ضریب خط کارور جلو کم شود\",\" \")","v":" "},{"$f":"IF(محاسبات!BR470<محاسبات!BR463,\" خطا - خط کارور جلو بالا برود \",\"عدم خطا\")","v":"عدم خطا"},"حلقه آستین با ساسون عصایی : ",null,null,{"$f":"IF(محاسبات!BW470<محاسبات!BW463,\"ضریب خط کارور جلو کم شود\",\" \")","v":" "},null,null,null,null,null,null,null,null,null,null,null,null,null,null,null,null,null,null,null,null,null,null,null,null,null,null,null,null,null,null,null,null,null,null,null,null,121]
[null,null,null,null,null,null,null,null,null,null,null,null,null,null,null,null,null,null,null,null,null,null,null,null,null,null,null,null,null,null,null,null,null,null,null,null,null,null,null,null,null,null,121.5]
["نصف جلو کارور  (فقط موثر در انتخاب یقه مربعی) ","(از 0.2 الی 0.55)",{"$f":"K293*E293+L293","v":0.45000000000000007},"بهینه=0.45",{"$f":"'طراحی همه الگوها'!E258","v":20},"نصف جلو کارور  (فقط موثر در انتخاب یقه مربعی) ",19,0.4,20,0.45,{"$f":"(J293-H293)/(I293-G293)","v":4.9999999999999989E-2},{"$f":"H293-G293*K293","v":-0.54999999999999971},0.2,{"$f":"(M293-L293)/K293","v":14.999999999999998},0.55000000000000004,{"$f":"(O293-L293)/K293","v":21.999999999999996},0.45,{"$f":"(Q293-L293)/K293","v":20},null,null,null,null,null,null,null,null,null,null,null,null,null,null,null,null,null,null,null,null,null,null,null,null,122]
["نصف پشت کارور  (فقط موثر در انتخاب یقه مربعی) ","(از 0.2 الی 0.6)",{"$f":"K294*E294+L294","v":0.5},"بهینه=0.5",{"$f":"'طراحی همه الگوها'!E259","v":20},"نصف پشت کارور  (فقط موثر در انتخاب یقه مربعی) ",19,0.45,20,0.5,{"$f":"(J294-H294)/(I294-G294)","v":4.9999999999999989E-2},{"$f":"H294-G294*K294","v":-0.49999999999999972},0.2,{"$f":"(M294-L294)/K294","v":13.999999999999998},0.6,{"$f":"(O294-L294)/K294","v":21.999999999999996},0.5,{"$f":"(Q294-L294)/K294","v":20},null,null,null,null,null,null,null,null,null,null,null,null,null,null,null,null,null,null,null,null,null,null,null,null,122.5]
[null,null,null,null,null,null,null,null,null,null,null,null,null,null,null,null,null,null,null,null,null,null,null,null,null,null,null,null,null,null,null,null,null,null,null,null,null,null,null,null,null,null,123]
["بررسی خطا گردی یقه تا خط کارور جلو",null,null,null,null,"بررسی خطا گردی یقه تا خط کارور جلو",null,null,null,null,null,null,null,null,null,null,null,null,null,null,null,null,null,null,null,null,null,null,null,null,null,null,null,null,null,null,null,null,null,null,null,null,123.5]
[{"$f":"IF((محاسبات!H474-محاسبات!H475)/محاسبات!H474>0.1,\"دور یقه گشاد شود یا ضریب خط کارور جلو زیاد شود\",\"  \")","v":"دور یقه گشاد شود یا ضریب خط کارور جلو زیاد شود"},{"$f":"IF((محاسبات!H474-محاسبات!H475)/محاسبات!H474>0.1,\"خطا\",\"صحیح \")","v":"خطا"}," پارچه کش   ",null,{"$f":"IF((محاسبات!H474-محاسبات!H475)/محاسبات!H474>0.1,\"خیر- گردی یقه زیاد شود یا کارور جلو پایین بیاید\",\" بله \")","v":"خیر- گردی یقه زیاد شود یا کارور جلو پایین بیاید"},null,null,null,null,null,null,null,null,null,null,null,null,null,null,null,null,null,null,null,null,null,null,null,null,null,null,null,null,null,null,null,null,null,null,null,null,null,124]
[{"$f":"IF((محاسبات!H474-محاسبات!H475)/محاسبات!H474>0.05,\"دور یقه گشاد شود یا ضریب خط کارور جلو زیاد شود\",\"  \")","v":"دور یقه گشاد شود یا ضریب خط کارور جلو زیاد شود"},{"$f":"IF((محاسبات!H474-محاسبات!H475)/محاسبات!H474>0.05,\"خطا\",\"صحیح \")","v":"خطا"}," پارچه غیر کش ",null,{"$f":"IF((محاسبات!H474-محاسبات!H475)/محاسبات!H474>0.05,\"خیر- گردی یقه زیاد شود یا کارور جلو پایین بیاید\",\" بله \")","v":"خیر- گردی یقه زیاد شود یا کارور جلو پایین بیاید"},null,null,null,null,null,null,null,null,null,null,null,null,null,null,null,null,null,null,null,null,null,null,null,null,null,null,null,null,null,null,null,null,null,null,null,null,null,124.5]
[null,null,null,null,null,null,null,null,null,null,null,null,null,null,null,null,null,null,null,null,null,null,null,null,null,null,null,null,null,null,null,null,null,null,null,null,null,null,null,null,null,null,125]
[" متغیرهای ورودی شیفت افقی برش سرشانه و یقه مربعی و ملوانی",null,null,null,null," متغیرهای ورودی شیفت افقی برش سرشانه و یقه مربعی و ملوانی","x1","y1","x2","y2(بهینه)","a","b",null,"کمترین",null,"بیشترین",null,null,null,null,null,null,null,null,null,null,null,null,null,null,null,null,null,null,null,null,null,null,null,null,null,null,125.5]
["شیفت افقی   (به سانتیمتر)   ","(از -100 الی100)",{"$f":"K301*E301+L301","v":0},"بهینه=دلخواه",{"$f":"'طراحی مدل 213'!E385","v":0},"شیفت افقی   (به سانتیمتر)   ",1,1,0,0,{"$f":"(J301-H301)/(I301-G301)","v":1},{"$f":"H301-G301*K301","v":0},-100,{"$f":"(M301-L301)/K301","v":-100},100,{"$f":"(O301-L301)/K301","v":100},null,null,null,null,null,null,null,null,null,null,null,null,null,null,null,null,null,null,null,null,null,null,null,null,null,null,126]
["شیفت عمودی  (به سانتیمتر)  ","(از -100 الی100)",{"$f":"K302*E302+L302","v":30},"بهینه=دلخواه",{"$f":"'طراحی مدل 213'!E386","v":30},"شیفت عمودی  (به سانتیمتر)  ",1,1,0,0,{"$f":"(J302-H302)/(I302-G302)","v":1},{"$f":"H302-G302*K302","v":0},-100,{"$f":"(M302-L302)/K302","v":-100},100,{"$f":"(O302-L302)/K302","v":100},null,null,null,null,null,null,null,null,null,null,null,null,null,null,null,null,null,null,null,null,null,null,null,null,null,null,126.5]
[null,null,null,null,null,null,null,null,null,null,null,null,null,null,null,null,null,null,null,null,null,null,null,null,null,null,null,null,null,null,null,null,null,null,null,null,null,null,null,null,null,null,127]
[" متغیرهای ورودی - دراپه از پهلو",null,null,null,null," متغیرهای ورودی - دراپه از پهلو","x1","y1","x2","y2(بهینه)","a","b",null,"کمترین",null,"بیشترین",null,null,null,null,null,null,null,null,null,null,null,null,null,null,null,null,null,null,null,null,null,null,null,null,null,null,127.5]
["حد بالا برش دراپه   dp1","(از 3 الی 4)",{"$f":"K305*E305+L305","v":3.5},"زیر بغل=4 \nخط کمر=3 ",{"$f":"'طراحی همه الگوها'!B331","v":80},"حد بالا برش دراپه   ",10,0,30,1,{"$f":"(J305-H305)/(I305-G305)","v":0.05},{"$f":"H305-G305*K305","v":-0.5},3,{"$f":"(M305-L305)/K305","v":70},4,{"$f":"(O305-L305)/K305","v":90},-0.05,{"$f":"(Q305-L305)/K305","v":9},null,null,null,null,null,null,null,null,null,null,null,null,null,null,null,null,null,null,null,null,null,null,null,null,128]
["پهنای هر دراپه به سانتیمتر   dp3","(از 2 الی 8)",{"$f":"K306*E306+L306","v":6},"بدون دراپه=0",{"$f":"'طراحی همه الگوها'!B332","v":6},"پهنای هر دراپه  (سانتیمتر)   ",2,2,1,1,{"$f":"(J306-H306)/(I306-G306)","v":1},{"$f":"H306-G306*K306","v":0},2,{"$f":"(M306-L306)/K306","v":2},8,{"$f":"(O306-L306)/K306","v":8},0.9,{"$f":"(Q306-L306)/K306","v":0.9},null,null,null,null,null,null,null,null,null,null,null,null,null,null,null,null,null,null,null,null,null,null,null,null,128.5]
["تعداد دراپه ها      -      خط بالای برش دراپه با هر طراحی می تواند باشد.",{"$f":"محاسبات!GX236","v":2},null,null,null,"تعداد دراپه ها     ",null,null,null,null,null,null,null,null,null,null,null,null,null,null,null,null,null,null,null,null,null,null,null,null,null,null,null,null,null,null,null,null,null,null,null,null,129]
[" متغیرهای ورودی- یقه دراپه ",null,null,null,null," متغیرهای ورودی- یقه دراپه ","x1","y1","x2","y2(بهینه)","a","b",null,"کمترین",null,"بیشترین",null,null,null,null,null,null,null,null,null,null,null,null,null,null,null,null,null,null,null,null,null,null,null,null,null,null,{"$f":"AQ307+0.5","v":129.5}]
["نقطه شروع دراپه جلو    d1","(از 2 الی 4)",{"$f":"K309*E309+L309","v":3.5},"خط باسن=2 \nخط کمر=3 \nخط سینه=4  ",{"$f":"'طراحی همه الگوها'!E268","v":80},"نقطه شروع دراپه جلو    ",10,0,30,1,{"$f":"(J309-H309)/(I309-G309)","v":0.05},{"$f":"H309-G309*K309","v":-0.5},2,{"$f":"(M309-L309)/K309","v":50},4,{"$f":"(O309-L309)/K309","v":90},3,{"$f":"(Q309-L309)/K309","v":70},null,null,null,null,null,null,null,null,null,null,null,null,null,null,null,null,null,null,null,null,null,null,null,null,130]
["میزان باز بودن یقه جلو به سمت  خط سینه    d2","(از 0 الی 50)",20,"یقه کیپ=0",{"$f":"'طراحی همه الگوها'!E269","v":20},"میزان باز بودن یقه جلو به سمت  خط سینه    ",1,1,0,0,1,0,0,0,5,5,0,{"$f":"(Q310-L310)/K310","v":0},null,null,null,null,null,null,null,null,null,null,null,null,null,null,null,null,null,null,null,null,null,null,null,null,130.5]
["شیفت عمودی یقه دراپه جلو","(از -100 الی100)",0,"بدون شیفت=0 ",{"$f":"'طراحی همه الگوها'!E270","v":0},"شیفت عمودی یقه دراپه جلو (سانتیمتر)",1,1,0,0,1,0,-100,-100,100,100,null,null,null,null,null,null,null,null,null,null,null,null,null,null,null,null,null,null,null,null,null,null,null,null,null,null,131]
["نقطه شروع دراپه پشت    d1","(از 2 الی 4)",3.5,"خط باسن=2 \nخط کمر=3 \nخط سینه=4  ",{"$f":"'طراحی همه الگوها'!E271","v":80},"نقطه شروع دراپه پشت    ",10,0,30,1,0.05,-0.5,2,50,4,90,3,{"$f":"(Q312-L312)/K312","v":70},null,null,null,null,null,null,null,null,null,null,null,null,null,null,null,null,null,null,null,null,null,null,null,null,131.5]
["میزان باز بودن یقه پشت به سمت  خط سینه    d2","(از 0 الی 50)",20,"یقه کیپ=0",{"$f":"'طراحی همه الگوها'!E272","v":20},"میزان باز بودن یقه پشت به سمت  خط سینه    ",1,1,0,0,1,0,0,0,50,50,0,{"$f":"(Q313-L313)/K313","v":0},null,null,null,null,null,null,null,null,null,null,null,null,null,null,null,null,null,null,null,null,null,null,null,null,132]
["شیفت عمودی یقه دراپه پشت","(از -100 الی100)",0,"بدون شیفت=0 ",{"$f":"'طراحی همه الگوها'!E273","v":0},"شیفت عمودی یقه دراپه پشت (سانتیمتر)",1,1,0,0,1,0,-100,-100,100,100,null,null,null,null,null,null,null,null,null,null,null,null,null,null,null,null,null,null,null,null,null,null,null,null,null,null,132.5]
["زاویه متوسط سرشانه",{"$f":"0.5*(محاسبات!P139+0.3*(محاسبات!P140-محاسبات!P139)+محاسبات!AE139+0.3*(محاسبات!AE140-محاسبات!AE139))","v":0.32009079810115021},null,null,null,"زاویه متوسط سرشانه",null,null,null,null,null,null,null,null,null,null,null,null,null,null,null,null,null,null,null,null,null,null,null,null,null,null,null,null,null,null,null,null,null,null,null,null,133]
[null,null,null,null,null,null,null,null,null,null,null,null,null,null,null,null,null,null,null,null,null,null,null,null,null,null,null,null,null,null,null,null,null,null,null,null,null,null,null,null,null,null,133.5]
[" متغیرهای ورودی-طراحی دامن فون",null,null,null,null," متغیرهای ورودی-طراحی دامن فون","x1","y1","x2","y2(بهینه)","a","b",null,"کمترین",null,"بیشترین",null,null,null,null,null,null,null,null,null,null,null,null,null,null,null,null,null,null,null,null,null,null,null,null,null,null,134]
["اتصال آزاد = 3   اتصال به دامن تنگ = 2    اتصال به بالاتنه با ساسون=1   اتصال به پیراهن راسته=0","0 یا 1 یا 2 یا 3",{"$f":"K318*E318+L318","v":1},null,{"$f":"'طراحی همه الگوها'!B265","v":2},"اتصال به دامن تنگ = 2    اتصال به بالاتنه با ساسون=1   اتصال به پیراهن راسته=0",1,0,2,1,{"$f":"(J318-H318)/(I318-G318)","v":1},{"$f":"H318-G318*K318","v":-1},null,1,null,2,null,null,null,null,null,null,null,null,null,null,null,null,null,null,null,null,null,null,null,null,null,null,null,null,null,null,134.5]
["دور تا دور کمر دراتصال آزاد   (سانتیمتر)  ","(از 0 الی 150)",100,"بهینه=دلخواه",{"$f":"'طراحی همه الگوها'!B266","v":100},"دور تا دور کمر دراتصال آزاد   (سانتیمتر)  ",1,1,0,0,1,0,-7,{"$f":"(M319-L319)/K319","v":-7},7,{"$f":"(O319-L319)/K319","v":7},0.25,{"$f":"(Q319-L319)/K319","v":0.25},null,null,null,null,null,null,null,null,null,null,null,null,null,null,null,null,null,null,null,null,null,null,null,null,{"$f":"AQ318+0.5","v":135}]
["قد دامن دراتصال آزاد  (سانتیمتر)   ","(از 0 الی 150)",40,"بهینه=دلخواه",{"$f":"'طراحی همه الگوها'!B267","v":40},"قد دامن دراتصال آزاد  (سانتیمتر)   ",1,1,0,0,1,0,-7,{"$f":"(M320-L320)/K320","v":-7},7,{"$f":"(O320-L320)/K320","v":7},0.25,0.25,null,null,null,null,null,null,null,null,null,null,null,null,null,null,null,null,null,null,null,null,null,null,null,null,135.5]
["ضریب پایین دامن فون تا زمین \nدرانتخاب دامن فون متصل به پیراهن راسته    k'1","(از 0 الی 4)",-0.45,"خط زمین=0 \nخط زانو=1 \nخط باسن=2 \nخط کمر=3 \nخط سینه=4  ",{"$f":"'طراحی همه الگوها'!B268","v":1},"مکان پایین دامن فون \nدرانتخاب دامن فون متصل به پیراهن راسته    ",10,0,30,1,0.05,-0.5,0,{"$f":"(M321-L321)/K321","v":10},4,100,0.25,15,null,null,null,null,null,null,null,null,null,null,null,null,null,null,null,null,null,null,null,null,null,null,null,null,136]
["ضریب چین در دامن فون","(از 0 الی 3)",0,null,{"$f":"'طراحی مدل 213'!B355","v":1},"چین در دامن فون",2,1,1,0,1,-1,0,1,3,{"$f":"(O322-L322)/K322","v":4},0.9,1.9,null,null,null,null,null,null,null,null,null,null,null,null,null,null,null,null,null,null,null,null,null,null,null,null,136.5]
["  مقدار اوزمان در جلو دامن فون    β1","(از 0 الی 0.5",0.1,"بهینه=تامین دور باسن",{"$f":"'طراحی مدل 213'!B356","v":10},"  اوزمان در جلو دامن فون    ",1,0.01,0,0,0.01,0,0,0,0.5,50,0.25,25,null,null,null,null,null,null,null,null,null,null,null,null,null,null,null,null,null,null,null,null,null,null,null,null,137]
["  مقدار اوزمان در پشت دامن فون   β4","(از 0 الی 0.5)",0.11,"بهینه=تامین دور باسن",{"$f":"'طراحی مدل 213'!B357","v":11},"  اوزمان در پشت دامن فون   ",1,0.01,0,0,0.01,0,0,0,0.5,50,0.9,90,null,null,null,null,null,null,null,null,null,null,null,null,null,null,null,null,null,null,null,null,null,null,null,null,137.5]
["شیفت افقی جلو دامن فون (به سانتیمتر)","(از -100 الی100)",0,"بهینه=دلخواه",{"$f":"'طراحی مدل 213'!B359","v":0},"شیفت افقی جلو دامن فون (به سانتیمتر)",1,1,0,0,1,0,-100,-100,100,100,null,null,null,null,null,null,null,null,null,null,null,null,null,null,null,null,null,null,null,null,null,null,null,null,null,null,138]
["شیفت عمودی جلو دامن فون (به سانتیمتر)","(از -100 الی100)",-5,"بهینه=دلخواه",{"$f":"'طراحی مدل 213'!B360","v":-5},"شیفت عمودی جلو دامن فون (به سانتیمتر)",1,1,0,0,1,0,-100,-100,100,100,null,null,null,null,null,null,null,null,null,null,null,null,null,null,null,null,null,null,null,null,null,null,null,null,null,null,138.5]
["شیفت افقی پشت دامن فون (به سانتیمتر)","(از -100 الی100)",0,"بهینه=دلخواه",{"$f":"'طراحی مدل 213'!B361","v":0},"شیفت افقی پشت دامن فون (به سانتیمتر)",1,1,0,0,1,0,-100,-100,100,100,null,null,null,null,null,null,null,null,null,null,null,null,null,null,null,null,null,null,null,null,null,null,null,null,null,null,139]
["شیفت عمودی پشت دامن فون (به سانتیمتر)","(از -100 الی100)",-7,"بهینه=دلخواه",{"$f":"'طراحی مدل 213'!B362","v":-7},"شیفت عمودی پشت دامن فون (به سانتیمتر)",1,1,0,0,1,0,-100,-100,100,100,null,null,null,null,null,null,null,null,null,null,null,null,null,null,null,null,null,null,null,null,null,null,null,null,null,null,139.5]
[null,null,null,null,null,null,null,null,null,null,null,null,null,null,null,null,null,null,null,null,null,null,null,null,null,null,null,null,null,null,null,null,null,null,null,null,null,null,null,null,null,null,140]
[" متغیرهای ورودی - جلو کمر پهن",null,null,null,null,"  جلو کمر پهن","x1","y1","x2","y2(بهینه)","a","b",null,"کمترین",null,"بیشترین",null,null,null,null,null,null,null,null,null,null,null,null,null,null,null,null,null,null,null,null,null,null,null,null,null,null,140.5]
["انتخاب کمر برای جلیقه =1         انتخاب دیگر = 0","0 یا 1 ",{"$f":"K331*E331+L331","v":0},null,{"$f":"'طراحی همه الگوها'!B274","v":1},"انتخاب کمر برای جلیقه =2         انتخاب دیگر = 1",1,0,2,1,{"$f":"(J331-H331)/(I331-G331)","v":1},{"$f":"H331-G331*K331","v":-1},null,{"$f":"(M331-L331)/K331","v":1},null,{"$f":"(O331-L331)/K331","v":1},null,null,null,null,null,null,null,null,null,null,null,null,null,null,null,null,null,null,null,null,null,null,null,null,null,null,141]
["بالای کمر روی خط مرکزی جلو -  ضریب فاصله u4 از خط کمر","(از -7 الی 7)",3,"بهینه=دلخواه",{"$f":"'طراحی مدل 213'!B367","v":3},"بالای کمر پهن یکسره روی خط مرکزی جلو ",1,1,0,0,1,0,-7,-7,7,7,0.25,{"$f":"(Q332-L332)/K332","v":0.25},null,null,null,null,null,null,null,null,null,null,null,null,null,null,null,null,null,null,null,null,null,null,null,null,141.5]
["پایین کمر روی خط مرکزی جلو -  ضریب فاصله d4 از خط کمر  -  (کمر جناقی و حد پایین برش دراپه)","(از -10 الی 30)",-3,"مثبت= پایین خط کمر\nمنفی= بالای خط کمر",{"$f":"'طراحی مدل 213'!B368","v":3},"پایین کمر روی خط مرکزی جلو  (کمر جناقی و حد پایین برش دراپه)",1,-1,0,0,-1,0,-10,10,30,-30,0.9,-0.9,null,null,null,null,null,null,null,null,null,null,null,null,null,null,null,null,null,null,null,null,null,null,null,null,142]
["فاصله عمودی دال جلو -  ضریب فاصله u5 از خط کمر - (جلیقه)","(از -10 الی 30)",3,"بهینه=دلخواه",{"$f":"'طراحی مدل 213'!B369","v":3},"فاصله عمودی دال جلو   (جلیقه)",1,1,0,0,1,0,-10,-10,30,30,0.25,0.25,null,null,null,null,null,null,null,null,null,null,null,null,null,null,null,null,null,null,null,null,null,null,null,null,142.5]
["فاصله افقی دال جلو -  ضریب فاصله u5 از خط مرکزی جلو - (جلیقه)","(از 0 الی 10)",0,"بهینه=دلخواه",{"$f":"'طراحی مدل 213'!B370","v":0},"فاصله افقی دال جلو  (جلیقه)",1,0.5,0,0,0.5,0,0,0,10,20,0.9,1.8,null,null,null,null,null,null,null,null,null,null,null,null,null,null,null,null,null,null,null,null,null,null,null,null,143]
["پایین کمر روی خط ترک جلو -  ضریب فاصله d5 از خط کمر -  (کمر جناقی و حد پایین برش دراپه)","(از -10 الی 30)",-3,"مثبت= پایین خط کمر\nمنفی= بالای خط کمر",{"$f":"'طراحی مدل 213'!B371","v":3},"پایین کمر روی خط ترک جلو   (کمر جناقی و حد پایین برش دراپه)",1,-1,0,0,-1,0,-10,10,30,-30,0.25,-0.25,null,null,null,null,null,null,null,null,null,null,null,null,null,null,null,null,null,null,null,null,null,null,null,null,143.5]
["بالای کمر روی خط ترک جلو -  ضریب فاصله u6 از خط کمر","(از -7 الی 7)",3,"بهینه=دلخواه",{"$f":"'طراحی مدل 213'!B372","v":3},"بالای کمر پهن یکسره روی خط ترک جلو ",1,1,0,0,1,0,-7,-7,7,7,0.9,0.9,null,null,null,null,null,null,null,null,null,null,null,null,null,null,null,null,null,null,null,null,null,null,null,null,144]
["شیفت عمودی کمر پهن یکسره نسبت به زمین (به سانتیمتر)","(از -100 الی100)",{"$f":"K338*E338+L338","v":5},"بهینه=دلخواه",{"$f":"'طراحی مدل 213'!B374","v":-45},"شیفت عمودی کمر پهن یکسره  (به سانتیمتر)",1,51,0,50,1,50,-100,-150,100,50,null,null,null,null,null,null,null,null,null,null,null,null,null,null,null,null,null,null,null,null,null,null,null,null,null,null,144.5]
["شیفت افقی کمر پهن یکسره (به سانتیمتر)","(از -100 الی100)",{"$f":"K339*E339+L339","v":0},"بهینه=دلخواه",{"$f":"'طراحی مدل 213'!B373","v":0},"شیفت افقی کمر پهن یکسره (به سانتیمتر)",1,1,0,0,1,0,-100,-100,100,100,null,null,null,null,null,null,null,null,null,null,null,null,null,null,null,null,null,null,null,null,null,null,null,null,null,null,145]
[null,null,null,null,null,null,null,null,null,null,null,null,null,null,null,null,null,null,null,null,null,null,null,null,null,null,null,null,null,null,null,null,null,null,null,null,null,null,null,null,null,null,145.5]
[" متغیرهای ورودی - پهلو کمر پهن",null,null,null,null,"  پهلو کمر پهن","x1","y1","x2","y2(بهینه)","a","b",null,"کمترین",null,"بیشترین",null,null,null,null,null,null,null,null,null,null,null,null,null,null,null,null,null,null,null,null,null,null,null,null,null,null,146]
["بالای کمر روی خط پهلو -  ضریب فاصله u3 از خط کمر","(از -7 الی 7)",{"$f":"K342*E342+L342","v":3},"بهینه=دلخواه",{"$f":"'طراحی مدل 213'!B377","v":3},"بالای کمر پهن یکسره روی خط پهلو ",1,1,0,0,{"$f":"(J342-H342)/(I342-G342)","v":1},{"$f":"H342-G342*K342","v":0},-7,{"$f":"(M342-L342)/K342","v":-7},7,{"$f":"(O342-L342)/K342","v":7},0.25,{"$f":"(Q342-L342)/K342","v":0.25},null,null,null,null,null,null,null,null,null,null,null,null,null,null,null,null,null,null,null,null,null,null,null,null,146.5]
["پایین کمر روی خط پهلو -  ضریب فاصله d3 از خط کمر -  (کمر جناقی و حد پایین برش دراپه)","(از -10 الی 30)",{"$f":"K343*E343+L343","v":-3},"مثبت= پایین خط کمر\nمنفی= بالای خط کمر",{"$f":"'طراحی مدل 213'!B378","v":3},"پایین کمر روی خط پهلو   (کمر جناقی و حد پایین برش دراپه)",1,-1,0,0,{"$f":"(J343-H343)/(I343-G343)","v":-1},{"$f":"H343-G343*K343","v":0},-10,{"$f":"(M343-L343)/K343","v":10},30,{"$f":"(O343-L343)/K343","v":-30},0.9,{"$f":"(Q343-L343)/K343","v":-0.9},null,null,null,null,null,null,null,null,null,null,null,null,null,null,null,null,null,null,null,null,null,null,null,null,147]
[null,null,null,null,null,null,null,null,null,null,null,null,null,null,null,null,null,null,null,null,null,null,null,null,null,null,null,null,null,null,null,null,null,null,null,null,null,null,null,null,null,null,147.5]
[" متغیرهای ورودی - پشت کمر پهن",null,null,null,null," پشت کمر پهن","x1","y1","x2","y2(بهینه)","a","b",null,"کمترین",null,"بیشترین",null,null,null,null,null,null,null,null,null,null,null,null,null,null,null,null,null,null,null,null,null,null,null,null,null,null,148]
["بالای کمر روی خط مرکزی پشت -  ضریب فاصله u1 از خط کمر","(از -7 الی 7)",{"$f":"K346*E346+L346","v":3},"بهینه=دلخواه",{"$f":"'طراحی مدل 213'!B381","v":3},"بالای کمر پهن یکسره روی خط مرکزی پشت ",1,1,0,0,{"$f":"(J346-H346)/(I346-G346)","v":1},{"$f":"H346-G346*K346","v":0},-7,{"$f":"(M346-L346)/K346","v":-7},7,{"$f":"(O346-L346)/K346","v":7},0.25,{"$f":"(Q346-L346)/K346","v":0.25},null,null,null,null,null,null,null,null,null,null,null,null,null,null,null,null,null,null,null,null,null,null,null,null,148.5]
["پایین کمر روی خط مرکزی پشت -  ضریب فاصله d1 از خط کمر -  (کمر جناقی)","(از -10 الی 30)",-3,"مثبت= پایین خط کمر\nمنفی= بالای خط کمر",{"$f":"'طراحی مدل 213'!B382","v":3},"پایین کمر روی خط مرکزی پشت   (کمر جناقی)",1,-1,0,0,-1,0,-10,10,30,-30,0.9,{"$f":"(Q347-L347)/K347","v":-0.9},null,null,null,null,null,null,null,null,null,null,null,null,null,null,null,null,null,null,null,null,null,null,null,null,149]
["بالای کمر روی خط ترک پشت -  ضریب فاصله u2 از خط کمر","(از -7 الی 7)",3,"بهینه=دلخواه",{"$f":"'طراحی مدل 213'!B383","v":3},"بالای کمر پهن یکسره روی خط ترک پشت ",1,1,0,0,1,0,-7,-7,7,7,0.25,{"$f":"(Q348-L348)/K348","v":0.25},null,null,null,null,null,null,null,null,null,null,null,null,null,null,null,null,null,null,null,null,null,null,null,null,149.5]
["پایین کمر روی خط ترک پشت -  ضریب فاصله d2 از خط کمر -  (کمر جناقی)","(از -10 الی 30)",-3,"مثبت= پایین خط کمر\nمنفی= بالای خط کمر",{"$f":"'طراحی مدل 213'!B384","v":3},"پایین کمر روی خط ترک پشت   (کمر جناقی)",1,-1,0,0,-1,0,-10,10,30,-30,0.9,{"$f":"(Q349-L349)/K349","v":-0.9},null,null,null,null,null,null,null,null,null,null,null,null,null,null,null,null,null,null,null,null,null,null,null,null,150]
["شیفت عمودی کمر پهن یکسره نسبت به زمین (به سانتیمتر)","(از -100 الی100)",5,"بهینه=دلخواه",{"$f":"'طراحی مدل 213'!B386","v":-45},"شیفت عمودی کمر پهن یکسره  (سانتیمتر)",1,51,0,50,1,50,-100,-150,100,50,null,null,null,null,null,null,null,null,null,null,null,null,null,null,null,null,null,null,null,null,null,null,null,null,null,null,{"$f":"AQ349+0.5","v":150.5}]
["شیفت افقی کمر پهن یکسره (به سانتیمتر)","(از -100 الی100)",0,"بهینه=دلخواه",{"$f":"'طراحی مدل 213'!B385","v":0},"شیفت افقی کمر پهن یکسره (سانتیمتر)",1,1,0,0,1,0,-100,-100,100,100,null,null,null,null,null,null,null,null,null,null,null,null,null,null,null,null,null,null,null,null,null,null,null,null,null,null,151]
[null,null,null,null,null,null,null,null,null,null,null,null,null,null,null,null,null,null,null,null,null,null,null,null,null,null,null,null,null,null,null,null,null,null,null,null,null,null,null,null,null,null,151.5]
["متغیرهای ورودی-یقه دکلته جلو",null,null,null,null,"متغیرهای ورودی-یقه دکلته جلو","x1","y1","x2","y2(بهینه)","a","b",null,"کمترین",null,"بیشترین",null,null,null,null,null,null,null,null,null,null,null,null,null,null,null,null,null,null,null,null,null,null,null,null,null,null,152]
["میزان باز بودن یقه در خط مرکزی جلو  d1","(از 3.5 الی 5)",{"$f":"K354*E354+L354","v":4},"خط کمر=3 \nخط سینه=4  ",{"$f":"'طراحی همه الگوها'!E276","v":90},"میزان باز بودن یقه در خط مرکزی جلو  ",10,0,30,1,{"$f":"(J354-H354)/(I354-G354)","v":0.05},{"$f":"H354-G354*K354","v":-0.5},3.5,{"$f":"(M354-L354)/K354","v":80},5,{"$f":"(O354-L354)/K354","v":110},3,{"$f":"(Q354-L354)/K354","v":70},null,null,null,null,null,null,null,null,null,null,null,null,null,null,null,null,null,null,null,null,null,null,null,null,152.5]
["میزان اضافه شدن ساسون سرشانه  ","(از 0 الی 0.5)",{"$f":"K355*E355+L355","v":0.2},"بدون اضافه شدن=0 \nبهینه=0.2  ",{"$f":"'طراحی همه الگوها'!E277","v":20},"میزان اضافه شدن ساسون سرشانه  ",19,0.18,20,0.2,{"$f":"(J355-H355)/(I355-G355)","v":2.0000000000000018E-2},{"$f":"H355-G355*K355","v":-0.20000000000000034},0,{"$f":"(M355-L355)/K355","v":10.000000000000009},0.5,{"$f":"(O355-L355)/K355","v":34.999999999999986},0.2,{"$f":"(Q355-L355)/K355","v":20},null,null,null,null,null,null,null,null,null,null,null,null,null,null,null,null,null,null,null,null,null,null,null,null,153]
["میزان انحنا یقه  d2","(از -0.5 الی 0.5)",{"$f":"K356*E356+L356","v":0},"خط محدب =+ \nخط صاف =0 \nخط مقعر= - ",{"$f":"'طراحی همه الگوها'!E278","v":20},"میزان انحنا یقه  ",19,-0.1,20,0,{"$f":"(J356-H356)/(I356-G356)","v":0.1},{"$f":"H356-G356*K356","v":-2},-0.5,{"$f":"(M356-L356)/K356","v":15},0.5,{"$f":"(O356-L356)/K356","v":25},0,{"$f":"(Q356-L356)/K356","v":20},null,null,null,null,null,null,null,null,null,null,null,null,null,null,null,null,null,null,null,null,null,null,null,null,153.5]
[null,null,null,null,null,null,null,null,null,null,null,null,null,null,null,null,null,null,null,null,null,null,null,null,null,null,null,null,null,null,null,null,null,null,null,null,null,null,null,null,null,null,154]
[" متغیرهای ورودی-یقه دکلته پشت",null,null,null,null," متغیرهای ورودی-یقه دکلته پشت","x1","y1","x2","y2(بهینه)","a","b",null,"کمترین",null,"بیشترین",null,null,null,null,null,null,null,null,null,null,null,null,null,null,null,null,null,null,null,null,null,null,null,null,null,null,154.5]
["میزان باز بودن یقه در خط مرکزی پشت  d1","(از 3 الی 5.5)",{"$f":"K359*E359+L359","v":4},"خط کمر=3 \nخط سینه=4  ",{"$f":"'طراحی همه الگوها'!E281","v":90},"میزان باز بودن یقه در خط مرکزی پشت  ",10,0,30,1,{"$f":"(J359-H359)/(I359-G359)","v":0.05},{"$f":"H359-G359*K359","v":-0.5},3,{"$f":"(M359-L359)/K359","v":70},5.5,{"$f":"(O359-L359)/K359","v":120},3.5,{"$f":"(Q359-L359)/K359","v":80},null,null,null,null,null,null,null,null,null,null,null,null,null,null,null,null,null,null,null,null,null,null,null,null,155]
["میزان انحنا یقه  d2","(از -1 الی 0.5)",{"$f":"K360*E360+L360","v":-9.9999999999999867E-2},"خط صاف =0 \nخط مقعر= -  ",{"$f":"'طراحی همه الگوها'!E282","v":19},"میزان انحنا یقه  ",19,-0.1,20,0,{"$f":"(J360-H360)/(I360-G360)","v":0.1},{"$f":"H360-G360*K360","v":-2},-1,{"$f":"(M360-L360)/K360","v":10},0.5,{"$f":"(O360-L360)/K360","v":25},0,{"$f":"(Q360-L360)/K360","v":20},null,null,null,null,null,null,null,null,null,null,null,null,null,null,null,null,null,null,null,null,null,null,null,null,155.5]
[null,null,null,null,null,null,null,null,null,null,null,null,null,null,null,null,null,null,null,null,null,null,null,null,null,null,null,null,null,null,null,null,null,null,null,null,null,null,null,null,null,null,156]
[" طول بند برای لباس دکلته از جلو تا پشت به سانتیمتر",null,null,null,null," طول بند برای لباس دکلته از جلو تا پشت به سانتیمتر",null,null,null,null,null,null,null,null,null,null,null,null,null,null,null,null,null,null,null,null,null,null,null,null,null,null,null,null,null,null,null,null,null,null,null,null,156.5]
["دکلته آبی جلو     به     دکلته آبی پشت",{"$f":"ROUND(محاسبات!FB356-محاسبات!FB324+محاسبات!LU213-محاسبات!LU214,0)","v":11},null,null,null,"دکلته آبی جلو     به     دکلته آبی پشت",null,null,null,null,null,null,null,null,null,null,null,null,null,null,null,null,null,null,null,null,null,null,null,null,null,null,null,null,null,null,null,null,null,null,null,null,157]
["دکلته آبی جلو     به     دکلته سبز پشت",{"$f":"ROUND(محاسبات!FB356-محاسبات!FB324+محاسبات!LU213-محاسبات!LU215,0)","v":16},null,null,null,"دکلته آبی جلو     به     دکلته سبز پشت",null,null,null,null,null,null,null,null,null,null,null,null,null,null,null,null,null,null,null,null,null,null,null,null,null,null,null,null,null,null,null,null,null,null,null,null,157.5]
["دکلته آبی جلو     به     دکلته بنفش پشت",{"$f":"ROUND(محاسبات!FB356-محاسبات!FB324+محاسبات!LU213-محاسبات!LU216,0)","v":23},null,null,null,"دکلته آبی جلو     به     دکلته بنفش پشت",null,null,null,null,null,null,null,null,null,null,null,null,null,null,null,null,null,null,null,null,null,null,null,null,null,null,null,null,null,null,null,null,null,null,null,null,158]
["دکلته آبی جلو     به     دکلته سیاه پشت",{"$f":"ROUND(محاسبات!FB356-محاسبات!FB324+محاسبات!LU213-محاسبات!LU247,0)","v":28},null,null,null,"دکلته آبی جلو     به     دکلته سیاه پشت",null,null,null,null,null,null,null,null,null,null,null,null,null,null,null,null,null,null,null,null,null,null,null,null,null,null,null,null,null,null,null,null,null,null,null,null,158.5]
["دکلته سبز جلو     به     دکلته آبی پشت",{"$f":"ROUND(محاسبات!FB356-محاسبات!FB340+محاسبات!LU213-محاسبات!LU214,0)","v":17},null,null,null,"دکلته سبز جلو     به     دکلته آبی پشت",null,null,null,null,null,null,null,null,null,null,null,null,null,null,null,null,null,null,null,null,null,null,null,null,null,null,null,null,null,null,null,null,null,null,null,null,159]
["دکلته سبز جلو     به     دکلته سبز پشت",{"$f":"ROUND(محاسبات!FB356-محاسبات!FB340+محاسبات!LU213-محاسبات!LU215,0)","v":22},null,null,null,"دکلته سبز جلو     به     دکلته سبز پشت",null,null,null,null,null,null,null,null,null,null,null,null,null,null,null,null,null,null,null,null,null,null,null,null,null,null,null,null,null,null,null,null,null,null,null,null,159.5]
["دکلته سبز جلو     به     دکلته بنفش پشت",{"$f":"ROUND(محاسبات!FB356-محاسبات!FB340+محاسبات!LU213-محاسبات!LU216,0)","v":29},null,null,null,"دکلته سبز جلو     به     دکلته بنفش پشت",null,null,null,null,null,null,null,null,null,null,null,null,null,null,null,null,null,null,null,null,null,null,null,null,null,null,null,null,null,null,null,null,null,null,null,null,160]
["دکلته سبز جلو     به     دکلته سیاه پشت",{"$f":"ROUND(محاسبات!FB356-محاسبات!FB340+محاسبات!LU213-محاسبات!LU247,0)","v":33},null,null,null,"دکلته سبز جلو     به     دکلته سیاه پشت",null,null,null,null,null,null,null,null,null,null,null,null,null,null,null,null,null,null,null,null,null,null,null,null,null,null,null,null,null,null,null,null,null,null,null,null,160.5]
["دکلته سیاه جلو     به     دکلته آبی پشت",{"$f":"ROUND(محاسبات!FB356-محاسبات!FB308+محاسبات!LU213-محاسبات!LU214,0)","v":21},null,null,null,"دکلته سیاه جلو     به     دکلته آبی پشت",null,null,null,null,null,null,null,null,null,null,null,null,null,null,null,null,null,null,null,null,null,null,null,null,null,null,null,null,null,null,null,null,null,null,null,null,161]
["دکلته سیاه جلو     به     دکلته سبز پشت",{"$f":"ROUND(محاسبات!FB356-محاسبات!FB308+محاسبات!LU213-محاسبات!LU215,0)","v":27},null,null,null,"دکلته سیاه جلو     به     دکلته سبز پشت",null,null,null,null,null,null,null,null,null,null,null,null,null,null,null,null,null,null,null,null,null,null,null,null,null,null,null,null,null,null,null,null,null,null,null,null,161.5]
["دکلته سیاه جلو     به     دکلته بنفش پشت",{"$f":"ROUND(محاسبات!FB356-محاسبات!FB308+محاسبات!LU213-محاسبات!LU216,0)","v":33},null,null,null,"دکلته سیاه جلو     به     دکلته بنفش پشت",null,null,null,null,null,null,null,null,null,null,null,null,null,null,null,null,null,null,null,null,null,null,null,null,null,null,null,null,null,null,null,null,null,null,null,null,162]
["دکلته سیاه جلو     به     دکلته سیاه پشت",{"$f":"ROUND(محاسبات!FB356-محاسبات!FB308+محاسبات!LU213-محاسبات!LU247,0)","v":38},null,null,null,"دکلته سیاه جلو     به     دکلته سیاه پشت",null,null,null,null,null,null,null,null,null,null,null,null,null,null,null,null,null,null,null,null,null,null,null,null,null,null,null,null,null,null,null,null,null,null,null,null,162.5]
[null,null,null,null,null,null,null,null,null,null,null,null,null,null,null,null,null,null,null,null,null,null,null,null,null,null,null,null,null,null,null,null,null,null,null,null,null,null,null,null,null,null,163]
[" متغیرهای ورودی رگلاژ یقه دکلته پشت",null,null,null,null," متغیرهای ورودی رگلاژ یقه دکلته پشت","x1","y1","x2","y2(بهینه)","a","b",null,"کمترین",null,"بیشترین",null,null,null,null,null,null,null,null,null,null,null,null,null,null,null,null,null,null,null,null,null,null,null,null,null,null,163.5]
["نقطه بالای رگلاژ روی یقه دکلته   m1 ","(0 یا 1 یا 2 یا 3 یا 4)",{"$f":"K377*E377+L377","v":2},"نقطه روی خط مرکزی پشت=0\nبهینه = 2",{"$f":"'طراحی همه الگوها'!E299","v":2},"نقطه بالای رگلاژ روی یقه دکلته    ",1,1,0,0,{"$f":"(J377-H377)/(I377-G377)","v":1},{"$f":"H377-G377*K377","v":0},0,{"$f":"(M377-L377)/K377","v":0},4,{"$f":"(O377-L377)/K377","v":4},0,{"$f":"(Q377-L377)/K377","v":0},null,null,null,null,null,null,null,null,null,null,null,null,null,null,null,null,null,null,null,null,null,null,null,null,164]
["نقطه وسط رگلاژ روی خط کمر   m2 ","(از 0 الی 1)",{"$f":"K378*E378+L378","v":0.8},"نقطه روی خط مرکزی پشت=0\nنقطه روی ساسون میانی پشت=1",{"$f":"'طراحی همه الگوها'!E300","v":16},"نقطه وسط رگلاژ روی خط کمر    ",1,0.05,0,0,{"$f":"(J378-H378)/(I378-G378)","v":0.05},{"$f":"H378-G378*K378","v":0},0,{"$f":"(M378-L378)/K378","v":0},1,{"$f":"(O378-L378)/K378","v":20},0.8,{"$f":"(Q378-L378)/K378","v":16},null,null,null,null,null,null,null,null,null,null,null,null,null,null,null,null,null,null,null,null,null,null,null,null,164.5]
["نقطه پایین رگلاژ روی خط مرکزی پشت   m3","(از 0 الی 1)",{"$f":"K379*E379+L379","v":0.8},"نقطه روی خط  کمر=0 \nنقطه روی خط باسن=1 ",{"$f":"'طراحی همه الگوها'!E301","v":16},"نقطه پایین رگلاژ روی خط مرکزی پشت   ",1,0.05,0,0,{"$f":"(J379-H379)/(I379-G379)","v":0.05},{"$f":"H379-G379*K379","v":0},0,{"$f":"(M379-L379)/K379","v":0},1,{"$f":"(O379-L379)/K379","v":20},0.8,{"$f":"(Q379-L379)/K379","v":16},null,null,null,null,null,null,null,null,null,null,null,null,null,null,null,null,null,null,null,null,null,null,null,null,165]
["پهنای جادکمه برای تکه رگلاژ m4","(از 0 الی 0.08)",{"$f":"K380*E380+L380","v":0.03},"بدون جادکمه =0  \nبهینه =0.03  ",{"$f":"'طراحی همه الگوها'!E302","v":6},"پهنای جادکمه برای تکه رگلاژ ",1,5.0000000000000001E-3,0,0,{"$f":"(J380-H380)/(I380-G380)","v":5.0000000000000001E-3},{"$f":"H380-G380*K380","v":0},0,{"$f":"(M380-L380)/K380","v":0},0.08,{"$f":"(O380-L380)/K380","v":16},0.03,{"$f":"(Q380-L380)/K380","v":6},null,null,null,null,null,null,null,null,null,null,null,null,null,null,null,null,null,null,null,null,null,null,null,null,165.5]
["شیفت افقی تکه رگلاژ جدا (به سانتیمتر)  m21","(از -100 الی100)",{"$f":"K381*E381+L381","v":30},"بهینه=دلخواه",{"$f":"'طراحی همه الگوها'!E303","v":30},"شیفت افقی تکه رگلاژ جدا (سانتیمتر)  ",1,1,0,0,{"$f":"(J381-H381)/(I381-G381)","v":1},{"$f":"H381-G381*K381","v":0},-100,{"$f":"(M381-L381)/K381","v":-100},100,{"$f":"(O381-L381)/K381","v":100},null,null,null,null,null,null,null,null,null,null,null,null,null,null,null,null,null,null,null,null,null,null,null,null,null,null,166]
[null,null,null,null,null,null,null,null,null,null,null,null,null,null,null,null,null,null,null,null,null,null,null,null,null,null,null,null,null,null,null,null,null,null,null,null,null,null,null,null,null,null,166.5]
["متغیرهای ورودی-یقه قایقی بدون شیفت تکه پهلو",null,null,null,null,"متغیرهای ورودی-یقه قایقی بدون شیفت تکه پهلو","x1","y1","x2","y2(بهینه)","a","b",null,"کمترین",null,"بیشترین",null,null,null,null,null,null,null,null,null,null,null,null,null,null,null,null,null,null,null,null,null,null,null,null,null,null,167]
["ضریب بزرگ شدن سرشانه  b7","(از 0 الی 0.5)",{"$f":"K384*E384+L384","v":9.9999999999999978E-2},"بهینه=0.1",{"$f":"'طراحی همه الگوها'!E246","v":20},"باز شدن یقه روی سرشانه  ",19,0.05,20,0.1,{"$f":"(J384-H384)/(I384-G384)","v":0.05},{"$f":"H384-G384*K384","v":-0.9},0,{"$f":"(M384-L384)/K384","v":18},0.5,{"$f":"(O384-L384)/K384","v":27.999999999999996},0,{"$f":"(Q384-L384)/K384","v":18},null,null,null,null,null,null,null,null,null,null,null,null,null,null,null,null,null,null,null,null,null,null,null,null,167.5]
[null,null,null,null,null,null,null,null,null,null,null,null,null,null,null,null,null,null,null,null,null,null,null,null,null,null,null,null,null,null,null,null,null,null,null,null,null,null,null,null,null,null,168]
[" متغیرهای ورودی-یقه پروانه ای متصل به حلقه آستین بدون ساسون\nبدون شیفت تکه پهلو",null,null,null,null,"یقه پروانه ای متصل به حلقه آستین بدون ساسون  \nبدون شیفت تکه پهلو","x1","y1","x2","y2(بهینه)","a","b",null,"کمترین",null,"بیشترین",null,null,null,null,null,null,null,null,null,null,null,null,null,null,null,null,null,null,null,null,null,null,null,null,null,null,168.5]
["ضریب پهنای سرشانه به سمت پشت    ζ3","(از 0 الی 1)",{"$f":"K387*E387+L387","v":1},"بهینه=1",{"$f":"'طراحی همه الگوها'!E309","v":20},"پهنای سرشانه به سمت پشت    ",19,0.9,20,1,{"$f":"(J387-H387)/(I387-G387)","v":9.9999999999999978E-2},{"$f":"H387-G387*K387","v":-0.99999999999999944},0,{"$f":"(M387-L387)/K387","v":9.9999999999999964},30,{"$f":"(O387-L387)/K387","v":310.00000000000006},0,{"$f":"(Q387-L387)/K387","v":9.9999999999999964},null,null,null,null,null,null,null,null,null,null,null,null,null,null,null,null,null,null,null,null,null,null,null,null,169]
["ضریب پهنای سرشانه به سمت جلو   ζ4","(از 0 الی 1)",{"$f":"K388*E388+L388","v":0.8},"بهینه=0.8",{"$f":"'طراحی همه الگوها'!E310","v":20},"پهنای سرشانه به سمت جلو   ",19,0.7,20,0.8,{"$f":"(J388-H388)/(I388-G388)","v":0.10000000000000009},{"$f":"H388-G388*K388","v":-1.2000000000000017},0.3,{"$f":"(M388-L388)/K388","v":15.000000000000004},1.2,{"$f":"(O388-L388)/K388","v":23.999999999999996},0.3,{"$f":"(Q388-L388)/K388","v":15.000000000000004},null,null,null,null,null,null,null,null,null,null,null,null,null,null,null,null,null,null,null,null,null,null,null,null,169.5]
[null,null,null,null,null,null,null,null,null,null,null,null,null,null,null,null,null,null,null,null,null,null,null,null,null,null,null,null,null,null,null,null,null,null,null,null,null,null,null,null,null,null,170]
[" متغیرهای ورودی-سرشانه دکمه خور متصل به حلقه آستین بدون ساسون\nبدون شیفت تکه پهلو",null,null,null,null,"سرشانه پشت دکمه خور متصل به حلقه آستین بدون ساسون \nبدون شیفت تکه پهلو","x1","y1","x2","y2(بهینه)","a","b",null,"کمترین",null,"بیشترین",null,null,null,null,null,null,null,null,null,null,null,null,null,null,null,null,null,null,null,null,null,null,null,null,null,null,170.5]
["ضریب پهنای جادکمه سرشانه","(از 0 الی 0.1)",{"$f":"K391*E391+L391","v":0.05},"بهینه=0.05",{"$f":"'طراحی همه الگوها'!B346","v":5},"ضریب پهنای جادکمه سرشانه",1,0.01,0,0,{"$f":"(J391-H391)/(I391-G391)","v":0.01},{"$f":"H391-G391*K391","v":0},0,{"$f":"(M391-L391)/K391","v":0},0.1,{"$f":"(O391-L391)/K391","v":10},0.05,{"$f":"(Q391-L391)/K391","v":5},null,null,null,null,null,null,null,null,null,null,null,null,null,null,null,null,null,null,null,null,null,null,null,null,171]
[null,null,null,null,null,null,null,null,null,null,null,null,null,null,null,null,null,null,null,null,null,null,null,null,null,null,null,null,null,null,null,null,null,null,null,null,null,null,null,null,null,null,171.5]
[" متغیرهای ورودی - آستین کیمونو و آستین سرخود بدون شیفت تکه پهلو",null,null,null,null," متغیرهای ورودی - آستین کیمونو و آستین سرخود بدون شیفت تکه پهلو","x1","y1","x2","y2(بهینه)","a","b",null,"کمترین",null,"بیشترین",null,null,null,null,null,null,null,null,null,null,null,null,null,null,null,null,null,null,null,null,null,null,null,null,null,null,172]
["میزان خمیدگی آستین کیمونو نسبت به خط سرشانه (به درجه)   k1","(از 0 الی 30)",{"$f":"K394*E394+L394","v":20},"آستین در امتداد سرشانه=0",{"$f":"'طراحی همه الگوها'!B349","v":20},"میزان خمیدگی آستین کیمونو نسبت به خط سرشانه   ",1,1,0,0,{"$f":"(J394-H394)/(I394-G394)","v":1},{"$f":"H394-G394*K394","v":0},0,{"$f":"(M394-L394)/K394","v":0},30,{"$f":"(O394-L394)/K394","v":30},0,{"$f":"(Q394-L394)/K394","v":0},null,null,null,null,null,null,null,null,null,null,null,null,null,null,null,null,null,null,null,null,null,null,null,null,172.5]
["ضریب کوتاهی آستین کیمونو   k16","(از 0.3 الی 1.2)",{"$f":"IF(E395<51,K395*E395+L395,20)","v":20},"آستین تا مچ=1",{"$f":"'طراحی همه الگوها'!B350","v":"منطبق"},"کوتاهی آستین کیمونو   ",11,0.97750000000000004,10,1,-2.2499999999999964E-2,1.2249999999999996,0.3,41.111111111111157,1.2,1.1111111111110989,1,10,null,null,null,null,null,null,null,null,null,null,null,null,null,null,null,null,null,null,null,null,null,null,null,null,173]
["ضریب گشادی دور مچ   k2","(از 1 الی 2)",{"$f":"IF(E396<51,K396*E396+L396,20)","v":20},"بدون گشادی مچ=1",{"$f":"'طراحی همه الگوها'!B351","v":"منطبق"},"گشادی دور مچ   ",1,1.05,0,1,5.0000000000000044E-2,1,1,0,2,19.999999999999982,1,0,null,null,null,null,null,null,null,null,null,null,null,null,null,null,null,null,null,null,null,null,null,null,null,null,173.5]
["ضریب انحنا پهلو برای آستین کیمونو   k3","(از 0.2 الی 0.8) ",0.4,"بهینه=0.4",{"$f":"'طراحی همه الگوها'!B352","v":8},"انحنا پهلو برای آستین کیمونو   ",1,0.05,0,0,0.05,0,0.2,4,0.8,16,0.4,8,null,null,null,null,null,null,null,null,null,null,null,null,null,null,null,null,null,null,null,null,null,null,null,null,174]
["ضریب انحنا پهلو برای آستین سرخود   k14","(از 0 الی 0.2)",9.9999999999999978E-2,"بدون انحنا=0",{"$f":"'طراحی همه الگوها'!B353","v":5},"انحنا پهلو برای آستین سرخود   ",9,0.02,10,0,-0.02,0.19999999999999998,0,9.9999999999999982,0.2,-1.3877787807814457E-15,0,9.9999999999999982,null,null,null,null,null,null,null,null,null,null,null,null,null,null,null,null,null,null,null,null,null,null,null,null,174.5]
["ضریب کوتاهی آستین سرخود   k9","(از 0.35 الی 2)",0.79500000000000037,"لبه آستین روی خط آرنج=1",{"$f":"'طراحی همه الگوها'!B354","v":35},"کوتاهی آستین سرخود   ",29,1.0409999999999999,30,1,-4.0999999999999925E-2,2.2299999999999978,0.35,45.853658536585392,2,5.6097560975609309,1,30,null,null,null,null,null,null,null,null,null,null,null,null,null,null,null,null,null,null,null,null,null,null,null,null,175]
["ضریب کوتاهی تاج آستین سرخود   k12","(از 0 الی 0.25)",0,"بدون کوتاهی=0",{"$f":"'طراحی همه الگوها'!B355","v":0},"کوتاهی تاج آستین سرخود   ",1,0.05,0,0,0.05,0,0,0,0.25,5,0,0,null,null,null,null,null,null,null,null,null,null,null,null,null,null,null,null,null,null,null,null,null,null,null,null,175.5]
["گشادی لبه آستین : در طراحی آستین سرخود",{"$f":"IF(محاسبات!O393<محاسبات!O392,\" \",\"مقدار x9 زیاد شود \")","v":"مقدار x9 زیاد شود "},null,{"$f":"IF(محاسبات!O393<محاسبات!O392,\"صحیح \",\"خطا\")","v":"خطا"},{"$f":"IF(محاسبات!O393<محاسبات!O392,\" صحیح\",\" گشاد تر شود \")","v":" گشاد تر شود "},"گشادی لبه آستین : در طراحی آستین سرخود",null,null,null,null,null,null,null,null,null,null,null,null,null,null,null,null,null,null,null,null,null,null,null,null,null,null,null,null,null,null,null,null,null,null,null,null,176]
[null,null,null,null,null,null,null,null,null,null,null,null,null,null,null,null,null,null,null,null,null,null,null,null,null,null,null,null,null,null,null,null,null,null,null,null,null,null,null,null,null,null,176.5]
[" متغیرهای ورودی-شورت بدون شیفت تکه پهلو",null,null,null,null," متغیرهای ورودی-شورت بدون شیفت تکه پهلو","x1","y1","x2","y2(بهینه)","a","b",null,"کمترین",null,"بیشترین",null,null,null,null,null,null,null,null,null,null,null,null,null,null,null,null,null,null,null,null,null,null,null,null,null,null,177]
["ضریب فاصله کمر شورت تا زمین s0","(از 2.2 الی 3.5)",{"$f":"K404*E404+L404","v":2.75},"خط باسن=2 \nخط کمر=3 \nخط سینه=4  ",{"$f":"'طراحی همه الگوها'!B359","v":65},"ضریب فاصله کمر شورت تا زمین ",10,0,30,1,{"$f":"(J404-H404)/(I404-G404)","v":0.05},{"$f":"H404-G404*K404","v":-0.5},2.2000000000000002,{"$f":"(M404-L404)/K404","v":54},3.5,{"$f":"(O404-L404)/K404","v":80},0,{"$f":"(Q404-L404)/K404","v":10},null,null,null,null,null,null,null,null,null,null,null,null,null,null,null,null,null,null,null,null,null,null,null,null,177.5]
["میزان انحنا جلو شورت مردانه s9","(از 0 الی 0.6)",{"$f":"K405*E405+L405","v":0.4},"بدون انحنا (زنانه)=0 \nبهیه مردانه =0.4 ",{"$f":"'طراحی همه الگوها'!B360","v":8},"میزان انحنا جلو شورت مردانه ",1,0.05,0,0,{"$f":"(J405-H405)/(I405-G405)","v":0.05},{"$f":"H405-G405*K405","v":0},0,{"$f":"(M405-L405)/K405","v":0},0.6,{"$f":"(O405-L405)/K405","v":11.999999999999998},0.4,{"$f":"(Q405-L405)/K405","v":8},null,null,null,null,null,null,null,null,null,null,null,null,null,null,null,null,null,null,null,null,null,null,null,null,178]
["ضریب حرکت افقی مرغک","(از -1 الی 3)",{"$f":"K406*E406+L406","v":1.5},"خط مرکزی جلو=0 \nخط پهلو=1  ",{"$f":"'طراحی همه الگوها'!B361","v":30},"ضریب شیفت افقی مرغک",20,1,0,0,{"$f":"(J406-H406)/(I406-G406)","v":0.05},{"$f":"H406-G406*K406","v":0},-1,{"$f":"(M406-L406)/K406","v":-20},3,{"$f":"(O406-L406)/K406","v":60},0,{"$f":"(Q406-L406)/K406","v":0},null,null,null,null,null,null,null,null,null,null,null,null,null,null,null,null,null,null,null,null,null,null,null,null,178.5]
["ضریب حرکت عمودی مرغک","(از -3 الی 3)",{"$f":"K407*E407+L407","v":0},null,{"$f":"'طراحی همه الگوها'!B362","v":0},"ضریب شیفت عمودی مرغک",1,0.1,0,0,{"$f":"(J407-H407)/(I407-G407)","v":0.1},{"$f":"H407-G407*K407","v":0},-3,{"$f":"(M407-L407)/K407","v":-30},3,{"$f":"(O407-L407)/K407","v":30},0.3,{"$f":"(Q407-L407)/K407","v":2.9999999999999996},null,null,null,null,null,null,null,null,null,null,null,null,null,null,null,null,null,null,null,null,null,null,null,null,179]
[null,null,null,null,null,null,null,null,null,null,null,null,null,null,null,null,null,null,null,null,null,null,null,null,null,null,null,null,null,null,null,null,null,null,null,null,null,null,null,null,null,null,179.5]
[" متغیرهای ورودی - مایو پادار",null,null,null,null," متغیرهای ورودی - مایو پادار","x1","y1","x2","y2(بهینه)","a","b",null,"کمترین",null,"بیشترین",null,null,null,null,null,null,null,null,null,null,null,null,null,null,null,null,null,null,null,null,null,null,null,null,null,null,180]
["ضریب گشادی دور مچ پا    p1  ","(از 1 الی 2.5)",{"$f":"K410*E410+L410","v":1.1500000000000001},"بهینه=1.7",{"$f":"'طراحی همه الگوها'!B365","v":3},"ضریب گشادی دور مچ پا      ",1,1.05,0,1,{"$f":"(J410-H410)/(I410-G410)","v":5.0000000000000044E-2},{"$f":"H410-G410*K410","v":1},1,{"$f":"(M410-L410)/K410","v":0},2.5,{"$f":"(O410-L410)/K410","v":29.999999999999975},1.7,{"$f":"(Q410-L410)/K410","v":13.999999999999988},null,null,null,null,null,null,null,null,null,null,null,null,null,null,null,null,null,null,null,null,null,null,null,null,180.5]
["ضریب ارتفاع راسته بودن پایین پاچه   p2 ","(از 0 الی 0.5)",0.2,"بهینه=0.2",{"$f":"'طراحی همه الگوها'!B366","v":10},"ضریب ارتفاع راسته بودن پایین پاچه    ",1,0.02,0,0,0.02,0,0,0,0.5,25,0.2,{"$f":"(Q411-L411)/K411","v":10},null,null,null,null,null,null,null,null,null,null,null,null,null,null,null,null,null,null,null,null,null,null,null,null,181]
["ضریب عرض جادکمه وسط پا  p20","(از 0 الی 0.1)",1.4999999999999999E-2,"بهینه=0.015",{"$f":"'طراحی همه الگوها'!B367","v":3},"ضریب عرض جادکمه وسط پا  ",1,5.0000000000000001E-3,0,0,5.0000000000000001E-3,0,0,0,0.1,20,1.4999999999999999E-2,{"$f":"(Q412-L412)/K412","v":3},null,null,null,null,null,null,null,null,null,null,null,null,null,null,null,null,null,null,null,null,null,null,null,null,181.5]
["زاویه خط پهلو شلوار  برحسب درجه   p23","(از -5 الی 10)",5,"بهینه=3",{"$f":"'طراحی همه الگوها'!B368","v":5},"زاویه خط پهلو شلوار    ",1,1,0,0,1,0,-5,-5,10,10,3,{"$f":"(Q413-L413)/K413","v":3},null,null,null,null,null,null,null,null,null,null,null,null,null,null,null,null,null,null,null,null,null,null,null,null,182]
["ضریب افقی شیفت تکه وسط پا  ","(از -100 الی100)",2,"بدون شیفت=0 ",{"$f":"'طراحی همه الگوها'!B369","v":2},"ضریب شیفت افقی تکه وسط پا  ",1,1,0,0,1,0,-100,-100,100,100,null,null,null,null,null,null,null,null,null,null,null,null,null,null,null,null,null,null,null,null,null,null,null,null,null,null,{"$f":"AQ413+0.5","v":182.5}]
["ضریب عمودی شیفت تکه وسط پا","(از -100 الی100)",-10,"بدون شیفت=0 ",{"$f":"'طراحی همه الگوها'!B370","v":-10},"ضریب شیفت عمودی تکه وسط پا",1,1,0,0,1,0,-100,-100,100,100,null,null,null,null,null,null,null,null,null,null,null,null,null,null,null,null,null,null,null,null,null,null,null,null,null,null,183]
[null,null,null,null,null,null,null,null,null,null,null,null,null,null,null,null,null,null,null,null,null,null,null,null,null,null,null,null,null,null,null,null,null,null,null,null,null,null,null,null,null,null,183.5]
[" متغیرهای ورودی-مایو بدون شیفت تکه پهلو      باید  x5=1",null,null,null,null," متغیرهای ورودی-مایو بدون شیفت تکه پهلو      باید  شروع اوزمان = خط باسن","x1","y1","x2","y2(بهینه)","a","b",null,"کمترین",null,"بیشترین",null,null,null,null,null,null,null,null,null,null,null,null,null,null,null,null,null,null,null,null,null,null,null,null,null,null,184]
[" ضریب بالا آمدن خط مایو در پهلو   mx","(از 0 الی 0.7)",{"$f":"K418*E418+L418","v":0.2},"بهینه مایو=0.3\nبهینه شورت زنانه=0.2\nبهینه شورت مردانه=0.2\nبهینه زیردکمه دار بچه=0",{"$f":"'طراحی همه الگوها'!B373","v":10}," ضریب بالا آمدن خط مایو در پهلو   ",1,0.02,0,0,{"$f":"(J418-H418)/(I418-G418)","v":0.02},{"$f":"H418-G418*K418","v":0},0,{"$f":"(M418-L418)/K418","v":0},0.7,{"$f":"(O418-L418)/K418","v":35},0.3,{"$f":"(Q418-L418)/K418","v":15},null,null,null,null,null,null,null,null,null,null,null,null,null,null,null,null,null,null,null,null,null,null,null,null,184.5]
["انتخاب مایو دکمه دار از وسط پا=1            انتخاب مایو بدون دکمه=0","0 یا 1 ",{"$f":"K419*E419+L419","v":1},null,{"$f":"'طراحی همه الگوها'!B374","v":2},"انتخاب مایو دکمه دار از وسط پا=2            انتخاب مایو بدون دکمه=1",1,0,2,1,{"$f":"(J419-H419)/(I419-G419)","v":1},{"$f":"H419-G419*K419","v":-1},0,{"$f":"(M419-L419)/K419","v":1},1,{"$f":"(O419-L419)/K419","v":2},0,{"$f":"(Q419-L419)/K419","v":1},null,null,null,null,null,null,null,null,null,null,null,null,null,null,null,null,null,null,null,null,null,null,null,null,185]
["شیفت محل دکمه از پشت به جلو برای پوشک بچه در انتخاب مایو دکمه دار  (cm)","(از 0 الی 4)",{"$f":"K420*E420+L420","v":2},"بهینه=2",{"$f":"'طراحی همه الگوها'!B375","v":2},"شیفت محل دکمه از پشت به جلو برای پوشک بچه در انتخاب مایو دکمه دار  ",0.5,0.5,0,0,{"$f":"(J420-H420)/(I420-G420)","v":1},{"$f":"H420-G420*K420","v":0},0,{"$f":"(M420-L420)/K420","v":0},4,{"$f":"(O420-L420)/K420","v":4},2,{"$f":"(Q420-L420)/K420","v":2},null,null,null,null,null,null,null,null,null,null,null,null,null,null,null,null,null,null,null,null,null,null,null,null,185.5]
["اضافه پهنا وسط پا برای پوشک بچه در انتخاب مایو دکمه دار  (cm)","(از0 الی 4)",{"$f":"K421*E421+L421","v":1.5},"بهینه=1.5",{"$f":"'طراحی همه الگوها'!B376","v":1.5},"اضافه پهنا وسط پا برای پوشک بچه در انتخاب مایو دکمه دار  ",0.5,0.5,0,0,{"$f":"(J421-H421)/(I421-G421)","v":1},{"$f":"H421-G421*K421","v":0},0,{"$f":"(M421-L421)/K421","v":0},4,{"$f":"(O421-L421)/K421","v":4},1.5,{"$f":"(Q421-L421)/K421","v":1.5},null,null,null,null,null,null,null,null,null,null,null,null,null,null,null,null,null,null,null,null,null,null,null,null,186]
["اضافه جادکمه وسط پا در انتخاب مایو دکمه دار  (cm)","(از 0 الی 4)",{"$f":"K422*E422+L422","v":2},"بهینه=2",{"$f":"'طراحی همه الگوها'!B377","v":2},"اضافه جادکمه وسط پا در انتخاب مایو دکمه دار  ",0.5,0.5,0,0,{"$f":"(J422-H422)/(I422-G422)","v":1},{"$f":"H422-G422*K422","v":0},0,{"$f":"(M422-L422)/K422","v":0},4,{"$f":"(O422-L422)/K422","v":4},2,{"$f":"(Q422-L422)/K422","v":2},null,null,null,null,null,null,null,null,null,null,null,null,null,null,null,null,null,null,null,null,null,null,null,null,186.5]
[null,null,null,null,null,null,null,null,null,null,null,null,null,null,null,null,null,null,null,null,null,null,null,null,null,null,null,null,null,null,null,null,null,null,null,null,null,null,null,null,null,null,187]
[" متغیر ورودی پیش بند حمام بچه یا انحنا لبه پیراهن",null,null,null,null," متغیر ورودی پیش بند حمام بچه یا انحنا لبه پیراهن","x1","y1","x2","y2(بهینه)","a","b",null,"کمترین",null,"بیشترین",null,null,null,null,null,null,null,null,null,null,null,null,null,null,null,null,null,null,null,null,null,null,null,null,null,null,187.5]
["ضریب بزرگی کلاه بچه   n10","(از 0.8 الی 1.3)",{"$f":"K425*E425+L425","v":1},"بهینه برای نوزاد=1\nبهینه یک ساله=1.2",{"$f":"'طراحی همه الگوها'!B380","v":20},"ضریب بزرگی کلاه بچه   ",19,0.95,20,1,{"$f":"(J425-H425)/(I425-G425)","v":5.0000000000000044E-2},{"$f":"H425-G425*K425","v":-8.8817841970012523E-16},0.8,{"$f":"(M425-L425)/K425","v":16.000000000000004},1.3,{"$f":"(O425-L425)/K425","v":25.999999999999996},1,{"$f":"(Q425-L425)/K425","v":20},null,null,null,null,null,null,null,null,null,null,null,null,null,null,null,null,null,null,null,null,null,null,null,null,188]
["ضریب انحنا بالای لبه پیراهن  n11","(از 0.1 الی 0.9)",{"$f":"K426*E426+L426","v":0.4},"بهینه=0.4",{"$f":"'طراحی همه الگوها'!B381","v":20},"ضریب انحنا بالای لبه پیراهن  ",19,0.35,20,0.4,{"$f":"(J426-H426)/(I426-G426)","v":5.0000000000000044E-2},{"$f":"H426-G426*K426","v":-0.60000000000000087},0.1,{"$f":"(M426-L426)/K426","v":14.000000000000004},0.9,{"$f":"(O426-L426)/K426","v":29.999999999999993},0.4,{"$f":"(Q426-L426)/K426","v":20},null,null,null,null,null,null,null,null,null,null,null,null,null,null,null,null,null,null,null,null,null,null,null,null,188.5]
["ضریب انحنا پایین لبه پیراهن  n12","(از 0.3 الی 0.9)",{"$f":"K427*E427+L427","v":0.6},"بهینه=0.6",{"$f":"'طراحی همه الگوها'!B382","v":20},"ضریب انحنا پایین لبه پیراهن  ",19,0.55000000000000004,20,0.6,{"$f":"(J427-H427)/(I427-G427)","v":4.9999999999999933E-2},{"$f":"H427-G427*K427","v":-0.39999999999999869},0.3,{"$f":"(M427-L427)/K427","v":13.999999999999991},0.9,{"$f":"(O427-L427)/K427","v":26.000000000000011},0.6,{"$f":"(Q427-L427)/K427","v":20},null,null,null,null,null,null,null,null,null,null,null,null,null,null,null,null,null,null,null,null,null,null,null,null,189]
[null,null,null,null,null,null,null,null,null,null,null,null,null,null,null,null,null,null,null,null,null,null,null,null,null,null,null,null,null,null,null,null,null,null,null,null,null,null,null,null,null,null,189.5]
[" متغیرهای ورودی- جلو پیش سینه رکابی بدون شیفت تکه پهلو",null,null,null,null," متغیرهای ورودی- جلو پیش سینه رکابی بدون شیفت تکه پهلو","x1","y1","x2","y2(بهینه)","a","b",null,"کمترین",null,"بیشترین",null,null,null,null,null,null,null,null,null,null,null,null,null,null,null,null,null,null,null,null,null,null,null,null,null,null,190]
["ضریب پایین آمدن پیش سینه از خط سرشانه      γ0","(از 0.2 الی 0.8)",{"$f":"K430*E430+L430","v":0.71999999999999831},null,{"$f":"'طراحی همه الگوها'!B385","v":57},"بالا یا پایین رفتن بند پیش سینه جلو",19,0.34,20,0.35,{"$f":"(J430-H430)/(I430-G430)","v":9.9999999999999534E-3},{"$f":"H430-G430*K430","v":0.15000000000000091},0.8,{"$f":"(M430-L430)/K430","v":65.000000000000213},1.3,{"$f":"(O430-L430)/K430","v":115.00000000000044},1,{"$f":"(Q430-L430)/K430","v":85.000000000000298},null,null,null,null,null,null,null,null,null,null,null,null,null,null,null,null,null,null,null,null,null,null,null,null,190.5]
["ضریب بزرگ شدن پهنای کف حلقه آستین      γ1","(از 1 الی 2.5)",{"$f":"K431*E431+L431","v":1.8},null,{"$f":"'طراحی همه الگوها'!B386","v":20},"فاصله بند تا زیر حلقه آستین",19,1.75,20,1.8,{"$f":"(J431-H431)/(I431-G431)","v":5.0000000000000044E-2},{"$f":"H431-G431*K431","v":0.79999999999999916},0.1,{"$f":"(M431-L431)/K431","v":-13.999999999999972},0.9,{"$f":"(O431-L431)/K431","v":2.0000000000000155},0.4,{"$f":"(Q431-L431)/K431","v":-7.999999999999976},null,null,null,null,null,null,null,null,null,null,null,null,null,null,null,null,null,null,null,null,null,null,null,null,191]
["ضریب کوچک شدن ارتفاع یقه      γ2","(از 0 الی 1.5)",{"$f":"K432*E432+L432","v":2.0999999999999979},"صاف=0",{"$f":"'طراحی همه الگوها'!B387","v":50},"گودی بین دو بند در جلو سینه",19,0.55000000000000004,20,0.6,{"$f":"(J432-H432)/(I432-G432)","v":4.9999999999999933E-2},{"$f":"H432-G432*K432","v":-0.39999999999999869},0.3,{"$f":"(M432-L432)/K432","v":13.999999999999991},0.9,{"$f":"(O432-L432)/K432","v":26.000000000000011},0.6,{"$f":"(Q432-L432)/K432","v":20},null,null,null,null,null,null,null,null,null,null,null,null,null,null,null,null,null,null,null,null,null,null,null,null,191.5]
["ضریب بزرگ شدن پهنای یقه      γ3","(از 0.5 الی 2.5)",{"$f":"K433*E433+L433","v":1.4},null,{"$f":"'طراحی همه الگوها'!B388","v":20},"فاصله بند تا خط مرکزی جلو",19,1.35,20,1.4,{"$f":"(J433-H433)/(I433-G433)","v":4.9999999999999822E-2},{"$f":"H433-G433*K433","v":0.40000000000000346},0.8,{"$f":"(M433-L433)/K433","v":7.99999999999996},1.3,{"$f":"(O433-L433)/K433","v":17.999999999999996},1,{"$f":"(Q433-L433)/K433","v":11.999999999999973},null,null,null,null,null,null,null,null,null,null,null,null,null,null,null,null,null,null,null,null,null,null,null,null,192]
["انتخاب خط راست پهلو جلو=1        انتخاب دیگر=0","0 یا 1 ",{"$f":"K434*E434+L434","v":0},null,{"$f":"'طراحی همه الگوها'!B389","v":1},"انتخاب خط راست پهلو جلو=2        انتخاب دیگر=1",1,0,2,1,{"$f":"(J434-H434)/(I434-G434)","v":1},{"$f":"H434-G434*K434","v":-1},0.1,{"$f":"(M434-L434)/K434","v":1.1000000000000001},0.9,{"$f":"(O434-L434)/K434","v":1.9},0.4,{"$f":"(Q434-L434)/K434","v":1.4},null,null,null,null,null,null,null,null,null,null,null,null,null,null,null,null,null,null,null,null,null,null,null,null,192.5]
[null,null,null,null,null,null,null,null,null,null,null,null,null,null,null,null,null,null,null,null,null,null,null,null,null,null,null,null,null,null,null,null,null,null,null,null,null,null,null,null,null,null,193]
[" متغیرهای ورودی-مکان بندینک در پیش سینه یا پیش بند",null,null,null,null," متغیرهای ورودی-مکان بندینک در پیش سینه یا پیش بند","x1","y1","x2","y2(بهینه)","a","b",null,"کمترین",null,"بیشترین",null,null,null,null,null,null,null,null,null,null,null,null,null,null,null,null,null,null,null,null,null,null,null,null,null,null,193.5]
["ضریب فاصله افقی نقطه پایین بندینک از خط مرکزی جلو ","(از 0 الی 2)",{"$f":"K437*E437+L437","v":1},"خط مرکزی جلو=0 \nخط پهلو=1  ",{"$f":"'طراحی همه الگوها'!B392","v":20},"شیفت افقی بند جدا",20,1,0,0,{"$f":"(J437-H437)/(I437-G437)","v":0.05},{"$f":"H437-G437*K437","v":0},0.8,{"$f":"(M437-L437)/K437","v":16},1.3,{"$f":"(O437-L437)/K437","v":26},1,{"$f":"(Q437-L437)/K437","v":20},null,null,null,null,null,null,null,null,null,null,null,null,null,null,null,null,null,null,null,null,null,null,null,null,194]
["ضریب فاصله عمودی نقطه پایین بندینک از زمین ","(از0 الی 5)",{"$f":"K438*E438+L438","v":2},"خط زمین=0 \nخط زانو=1 \nخط باسن=2 \nخط کمر=3 \nخط سینه=4  ",{"$f":"'طراحی همه الگوها'!B393","v":50},"شیفت عمودی بند جدا",10,0,30,1,{"$f":"(J438-H438)/(I438-G438)","v":0.05},{"$f":"H438-G438*K438","v":-0.5},0.1,{"$f":"(M438-L438)/K438","v":11.999999999999998},0.9,{"$f":"(O438-L438)/K438","v":27.999999999999996},0.4,{"$f":"(Q438-L438)/K438","v":18},null,null,null,null,null,null,null,null,null,null,null,null,null,null,null,null,null,null,null,null,null,null,null,null,194.5]
[null,null,null,null,null,null,null,null,null,null,null,null,null,null,null,null,null,null,null,null,null,null,null,null,null,null,null,null,null,null,null,null,null,null,null,null,null,null,null,null,null,null,195]
[" متغیرهای ورودی- پشت پیش سینه رکابی بدون شیفت تکه پهلو",null,null,null,null," متغیرهای ورودی- پشت پیش سینه رکابی بدون شیفت تکه پهلو","x1","y1","x2","y2(بهینه)","a","b",null,"کمترین",null,"بیشترین",null,null,null,null,null,null,null,null,null,null,null,null,null,null,null,null,null,null,null,null,null,null,null,null,null,null,195.5]
["ضریب پایین آمدن پیش سینه از خط سرشانه      γ0","(از 0.2 الی 0.8)",{"$f":"K441*E441+L441","v":0.3},null,{"$f":"'طراحی همه الگوها'!B396","v":20},"بالا یا پایین رفتن بند پیش سینه پشت",19,0.28999999999999998,20,0.3,{"$f":"(J441-H441)/(I441-G441)","v":1.0000000000000009E-2},{"$f":"H441-G441*K441","v":9.9999999999999811E-2},0.8,{"$f":"(M441-L441)/K441","v":69.999999999999957},1.3,{"$f":"(O441-L441)/K441","v":119.99999999999991},1,{"$f":"(Q441-L441)/K441","v":89.999999999999929},null,null,null,null,null,null,null,null,null,null,null,null,null,null,null,null,null,null,null,null,null,null,null,null,196]
["ضریب بزرگ شدن پهنای کف حلقه آستین      γ1","(از 1 الی 4)",{"$f":"K442*E442+L442","v":2.6},null,{"$f":"'طراحی همه الگوها'!B397","v":20},"فاصله بند تا زیر حلقه آستین",19,2.5,20,2.6,{"$f":"(J442-H442)/(I442-G442)","v":0.10000000000000009},{"$f":"H442-G442*K442","v":0.59999999999999831},0.1,{"$f":"(M442-L442)/K442","v":-4.9999999999999787},0.9,{"$f":"(O442-L442)/K442","v":3.0000000000000142},0.4,{"$f":"(Q442-L442)/K442","v":-1.9999999999999811},null,null,null,null,null,null,null,null,null,null,null,null,null,null,null,null,null,null,null,null,null,null,null,null,196.5]
["ضریب کوچک شدن ارتفاع یقه      γ2","(از 0 الی 3)",{"$f":"K443*E443+L443","v":0.60000000000000009},"صاف=0",{"$f":"'طراحی همه الگوها'!B398","v":20},"گودی بین دو بند در پشت سینه",19,0.5,20,0.6,{"$f":"(J443-H443)/(I443-G443)","v":9.9999999999999978E-2},{"$f":"H443-G443*K443","v":-1.3999999999999995},0.3,{"$f":"(M443-L443)/K443","v":17},0.9,{"$f":"(O443-L443)/K443","v":23},0.6,{"$f":"(Q443-L443)/K443","v":20},null,null,null,null,null,null,null,null,null,null,null,null,null,null,null,null,null,null,null,null,null,null,null,null,197]
["ضریب بزرگ شدن پهنای یقه      γ3","(از 0.5 الی 2.5)",{"$f":"K444*E444+L444","v":1.2},null,{"$f":"'طراحی همه الگوها'!B399","v":20},"فاصله بند تا خط مرکزی پشت",19,1.1000000000000001,20,1.2,{"$f":"(J444-H444)/(I444-G444)","v":9.9999999999999867E-2},{"$f":"H444-G444*K444","v":-0.79999999999999738},0.8,{"$f":"(M444-L444)/K444","v":15.999999999999995},1.3,{"$f":"(O444-L444)/K444","v":21.000000000000004},1,{"$f":"(Q444-L444)/K444","v":17.999999999999996},null,null,null,null,null,null,null,null,null,null,null,null,null,null,null,null,null,null,null,null,null,null,null,null,197.5]
["انتخاب خط راست پهلو پشت=1        انتخاب دیگر=0","0 یا 1 ",{"$f":"K445*E445+L445","v":0},null,{"$f":"'طراحی همه الگوها'!B400","v":1},"انتخاب خط راست پهلو پشت=2        انتخاب دیگر=1",1,0,2,1,{"$f":"(J445-H445)/(I445-G445)","v":1},{"$f":"H445-G445*K445","v":-1},0.1,{"$f":"(M445-L445)/K445","v":1.1000000000000001},0.9,{"$f":"(O445-L445)/K445","v":1.9},0.4,{"$f":"(Q445-L445)/K445","v":1.4},null,null,null,null,null,null,null,null,null,null,null,null,null,null,null,null,null,null,null,null,null,null,null,null,198]
[null,null,null,null,null,null,null,null,null,null,null,null,null,null,null,null,null,null,null,null,null,null,null,null,null,null,null,null,null,null,null,null,null,null,null,null,null,null,null,null,null,null,198.5]
[" متغیرهای ورودی-طراحی یقه دلبری",null,null,null,null," متغیرهای ورودی-طراحی یقه دلبری","x1","y1","x2","y2(بهینه)","a","b",null,"کمترین",null,"بیشترین",null,null,null,null,null,null,null,null,null,null,null,null,null,null,null,null,null,null,null,null,null,null,null,null,null,null,199]
["γ1         باز شدن یقه نسبت به وسط گردن       ","(از 0.3 الی 1.5)",{"$f":"K448*E448+L448","v":0.99999999999999978},"بهینه=1",{"$f":"'طراحی همه الگوها'!E313","v":14}," باز شدن یقه نسبت به وسط گردن       ",1,0.35,0,0.3,{"$f":"(J448-H448)/(I448-G448)","v":4.9999999999999989E-2},{"$f":"H448-G448*K448","v":0.3},0.3,{"$f":"(M448-L448)/K448","v":0},1.5,{"$f":"(O448-L448)/K448","v":24.000000000000004},1,{"$f":"(Q448-L448)/K448","v":14.000000000000002},null,null,null,null,null,null,null,null,null,null,null,null,null,null,null,null,null,null,null,null,null,null,null,null,199.5]
["γ2       فاصله عمودی نقطه شکست یقه دلبری   ","(از 0.1 الی 0.9)",{"$f":"K449*E449+L449","v":0.5},"بهینه=0.5",{"$f":"'طراحی همه الگوها'!E314","v":20},"  فاصله عمودی نقطه شکست یقه دلبری   ",19,0.45,20,0.5,{"$f":"(J449-H449)/(I449-G449)","v":4.9999999999999989E-2},{"$f":"H449-G449*K449","v":-0.49999999999999972},0.1,{"$f":"(M449-L449)/K449","v":11.999999999999998},0.9,{"$f":"(O449-L449)/K449","v":28},0.4,{"$f":"(Q449-L449)/K449","v":17.999999999999996},null,null,null,null,null,null,null,null,null,null,null,null,null,null,null,null,null,null,null,null,null,null,null,null,200]
["γ3        فاصله افقی نقطه شکست یقه دلبری","(از 0.3 الی 2)",{"$f":"K450*E450+L450","v":1},"بهینه=1",{"$f":"'طراحی همه الگوها'!E315","v":20}," فاصله افقی نقطه شکست یقه دلبری",19,0.95,20,1,{"$f":"(J450-H450)/(I450-G450)","v":5.0000000000000044E-2},{"$f":"H450-G450*K450","v":-8.8817841970012523E-16},0.3,{"$f":"(M450-L450)/K450","v":6.0000000000000124},0.9,{"$f":"(O450-L450)/K450","v":18.000000000000004},0.6,{"$f":"(Q450-L450)/K450","v":12.000000000000007},null,null,null,null,null,null,null,null,null,null,null,null,null,null,null,null,null,null,null,null,null,null,null,null,200.5]
[null,null,null,null,null,null,null,null,null,null,null,null,null,null,null,null,null,null,null,null,null,null,null,null,null,null,null,null,null,null,null,null,null,null,null,null,null,null,null,null,null,null,201]
[" متغیرهای ورودی - یقه پشت گردنی بدون شیفت تکه پهلو - روی حلقه آستین با ساسون",null,null,null,null," متغیرهای ورودی - یقه پشت گردنی بدون شیفت تکه پهلو - روی حلقه آستین با ساسون","x1","y1","x2","y2(بهینه)","a","b",null,"کمترین",null,"بیشترین",null,null,null,null,null,null,null,null,null,null,null,null,null,null,null,null,null,null,null,null,null,null,null,null,null,null,201.5]
["ضریب طول یقه پشت گردن  d0","(از 0.5 الی 1.3)",{"$f":"K453*E453+L453","v":0.9},"بهینه=0.9",{"$f":"'طراحی همه الگوها'!E319","v":20}," طول یقه پشت گردن  ",19,0.85,20,0.9,{"$f":"(J453-H453)/(I453-G453)","v":5.0000000000000044E-2},{"$f":"H453-G453*K453","v":-0.10000000000000087},0.5,{"$f":"(M453-L453)/K453","v":12.000000000000007},1.3,{"$f":"(O453-L453)/K453","v":27.999999999999993},0.9,{"$f":"(Q453-L453)/K453","v":20},null,null,null,null,null,null,null,null,null,null,null,null,null,null,null,null,null,null,null,null,null,null,null,null,202]
["ضریب پهنای یقه پشت گردن  d1","(از 0 الی 3)",{"$f":"K454*E454+L454","v":1.5},"بهینه=1.5",{"$f":"'طراحی همه الگوها'!E318","v":20}," پهنای یقه پشت گردن  ",0,0,20,1.5,{"$f":"(J454-H454)/(I454-G454)","v":7.4999999999999997E-2},{"$f":"H454-G454*K454","v":0},0,{"$f":"(M454-L454)/K454","v":0},3,{"$f":"(O454-L454)/K454","v":40},1.5,{"$f":"(Q454-L454)/K454","v":20},null,null,null,null,null,null,null,null,null,null,null,null,null,null,null,null,null,null,null,null,null,null,null,null,202.5]
["ضریب افقی انحنا یقه جلو   d2    ","(از 0 الی 1.5)",{"$f":"K455*E455+L455","v":0.9},"بهینه=0.9",{"$f":"'طراحی همه الگوها'!E320","v":20},"  انحنا افقی یقه جلو       ",19,0.85,20,0.9,{"$f":"(J455-H455)/(I455-G455)","v":5.0000000000000044E-2},{"$f":"H455-G455*K455","v":-0.10000000000000087},0,{"$f":"(M455-L455)/K455","v":2.0000000000000155},1.5,{"$f":"(O455-L455)/K455","v":31.999999999999993},0.9,{"$f":"(Q455-L455)/K455","v":20},null,null,null,null,null,null,null,null,null,null,null,null,null,null,null,null,null,null,null,null,null,null,null,null,203]
["ضریب عمودی انحنا یقه جلو     d3","(از 0 الی 1)",{"$f":"K456*E456+L456","v":0.5},"بهینه=0.5",{"$f":"'طراحی همه الگوها'!E321","v":20}," انحنا عمودی یقه جلو    ",19,0.55000000000000004,20,0.5,{"$f":"(J456-H456)/(I456-G456)","v":-5.0000000000000044E-2},{"$f":"H456-G456*K456","v":1.5000000000000009},0,{"$f":"(M456-L456)/K456","v":29.999999999999993},1,{"$f":"(O456-L456)/K456","v":10.000000000000009},0.5,{"$f":"(Q456-L456)/K456","v":20},null,null,null,null,null,null,null,null,null,null,null,null,null,null,null,null,null,null,null,null,null,null,null,null,203.5]
[null,null,null,null,null,null,null,null,null,null,null,null,null,null,null,null,null,null,null,null,null,null,null,null,null,null,null,null,null,null,null,null,null,null,null,null,null,null,null,null,null,null,204]
[" متغیرهای ورودی - سوتین کلی",null,null,null,null," متغیرهای ورودی - سوتین کلی","x1","y1","x2","y2(بهینه)","a","b",null,"کمترین",null,"بیشترین",null,null,null,null,null,null,null,null,null,null,null,null,null,null,null,null,null,null,null,null,null,null,null,null,null,null,204.5]
["ضریب ساسون وسط سینه    b1  ","(از -1 الی 2)",{"$f":"K459*E459+L459","v":-0.29999999999999982},"بهینه= - 0.3",{"$f":"'طراحی همه الگوها'!B403","v":20},"ضریب ساسون وسط سینه      ",19,-0.4,20,-0.3,{"$f":"(J459-H459)/(I459-G459)","v":0.10000000000000003},{"$f":"H459-G459*K459","v":-2.3000000000000007},0,{"$f":"(M459-L459)/K459","v":23},0.7,{"$f":"(O459-L459)/K459","v":30},1,{"$f":"(Q459-L459)/K459","v":32.999999999999993},null,null,null,null,null,null,null,null,null,null,null,null,null,null,null,null,null,null,null,null,null,null,null,null,205]
["ضریب پایین آمدن از خط پهلو   b2 ","(از 0 الی 0.5)",0.25,"زیر بغل منطبق با بالاتنه=0 \nخط کمر=1  \nبهینه = 0.25",{"$f":"'طراحی همه الگوها'!B404","v":20},"ضریب پایین آمدن از خط پهلو    ",19,0.2,20,0.25,4.9999999999999989E-2,-0.74999999999999978,0,14.999999999999998,1,35,0.4,23.000000000000004,null,null,null,null,null,null,null,null,null,null,null,null,null,null,null,null,null,null,null,null,null,null,null,null,205.5]
["ضریب بزرگ شدن کاسه در خط مرکزی جلو    b3  ","(از0.5 الی 1.5)",0.9,"بهینه= 0.9",{"$f":"'طراحی همه الگوها'!B405","v":20},"ضریب بزرگ شدن کاسه در خط مرکزی جلو      ",19,0.88,20,0.9,2.0000000000000018E-2,0.49999999999999967,0,-24.999999999999961,4,174.99999999999986,0.6,5.0000000000000107,null,null,null,null,null,null,null,null,null,null,null,null,null,null,null,null,null,null,null,null,null,null,null,null,206]
["ضریب بزرگ شدن کاسه زیر نوک سینه   b4 ","(از0.4 الی 1.3)",0.6,"بهینه= 0.6",{"$f":"'طراحی همه الگوها'!B406","v":20},"ضریب بزرگ شدن کاسه زیر نوک سینه    ",19,0.57999999999999996,20,0.6,2.0000000000000018E-2,0.19999999999999962,0,-9.9999999999999716,4,189.99999999999986,1,39.999999999999986,null,null,null,null,null,null,null,null,null,null,null,null,null,null,null,null,null,null,null,null,null,null,null,null,206.5]
["ضریب بزرگ شدن کاسه در پهلو    b5  ","(از0.7 الی 1.7)",1.1000000000000001,"بهینه= 1.1",{"$f":"'طراحی همه الگوها'!B407","v":20},"ضریب بزرگ شدن کاسه در پهلو      ",19,1.08,20,1.1000000000000001,2.0000000000000018E-2,0.69999999999999973,0,-34.999999999999957,0.7,1.1102230246251556E-14,0.4,-14.999999999999972,null,null,null,null,null,null,null,null,null,null,null,null,null,null,null,null,null,null,null,null,null,null,null,null,207]
["ضریب بالا یا پایین آمدن یقه روی خط مرکزی جلو   b6 ","(از -0.7 الی 0.5)",0,"بالای خط سینه =+ \nروی خط سینه =0 \nپایین خط سینه= - ",{"$f":"'طراحی همه الگوها'!B408","v":20},"ضریب بالا یا پایین آمدن یقه روی خط مرکزی جلو    ",19,-0.05,20,0,0.05,-1,0,20,1,40,1,40,null,null,null,null,null,null,null,null,null,null,null,null,null,null,null,null,null,null,null,null,null,null,null,null,207.5]
["ضریب عمودی نقطه اتصال بند جلو    b7  ","(از 0.1 الی 1)",0.25,"بهینه=0.25",{"$f":"'طراحی همه الگوها'!B409","v":20},"ضریب عمودی نقطه اتصال بند جلو      ",19,0.2,20,0.25,4.9999999999999989E-2,-0.74999999999999978,0,14.999999999999998,4,95.000000000000014,0.4,23.000000000000004,null,null,null,null,null,null,null,null,null,null,null,null,null,null,null,null,null,null,null,null,null,null,null,null,208]
["ضریب افقی نقطه اتصال بند جلو   b8 ","(از 0.5 الی 3)",1.4,"بهینه=1.4",{"$f":"'طراحی همه الگوها'!B410","v":20},"ضریب افقی نقطه اتصال بند جلو    ",19,1.3,20,1.4,9.9999999999999867E-2,-0.59999999999999742,0,5.9999999999999822,4,46.000000000000043,0.6,11.999999999999991,null,null,null,null,null,null,null,null,null,null,null,null,null,null,null,null,null,null,null,null,null,null,null,null,208.5]
["میزان انحنا یقه جلو  b9 ","(از -0.5 الی 0.5)",0,"خط محدب =+ \nخط صاف =0 \nخط مقعر= - ",{"$f":"'طراحی همه الگوها'!B411","v":20},"میزان انحنا یقه جلو   ",19,-0.05,20,0,0.05,-1,0,20,0.7,34,1,40,null,null,null,null,null,null,null,null,null,null,null,null,null,null,null,null,null,null,null,null,null,null,null,null,209]
["ضریب گودی خطوط افقی کاسه    b10  ","(از 0 الی 0.5)",0.25,"بهینه=0.25",{"$f":"'طراحی همه الگوها'!B412","v":20},"ضریب گودی خطوط افقی کاسه      ",19,0.2,20,0.25,4.9999999999999989E-2,-0.74999999999999978,0,14.999999999999998,1,35,0.4,23.000000000000004,null,null,null,null,null,null,null,null,null,null,null,null,null,null,null,null,null,null,null,null,null,null,null,null,209.5]
["ضریب گودی خطوط عمودی کاسه   b11 ","(از 0 الی 0.5)",0.15000000000000002,"بهینه=0.15",{"$f":"'طراحی همه الگوها'!B413","v":20},"ضریب گودی خطوط عمودی کاسه    ",19,0.1,20,0.15,4.9999999999999989E-2,-0.84999999999999976,0,17,4,97.000000000000014,1,37,null,null,null,null,null,null,null,null,null,null,null,null,null,null,null,null,null,null,null,null,null,null,null,null,210]
["میزان انحنا یقه در پهلو   b12 ","(از -0.5 الی 0.5)",0,"خط محدب =+ \nخط صاف =0 \nخط مقعر= - ",{"$f":"'طراحی همه الگوها'!B414","v":20},"انحنا یقه در پهلو    ",19,-0.05,20,0,0.05,-1,0,20,4,100,0.4,27.999999999999996,null,null,null,null,null,null,null,null,null,null,null,null,null,null,null,null,null,null,null,null,null,null,null,null,210.5]
["ضریب افزایش یا کاهش ساسون زیر بغل    b15 ","(از -0.5 الی 2)",0,"اندامی=0",{"$f":"'طراحی همه الگوها'!B415","v":20},"ضریب افزایش یا کاهش ساسون زیر بغل     ",19,-0.1,20,0,{"$f":"(J471-H471)/(I471-G471)","v":0.1},{"$f":"H471-G471*K471","v":-2},0,20,4,60,0.6,26,null,null,null,null,null,null,null,null,null,null,null,null,null,null,null,null,null,null,null,null,null,null,null,null,211]
["ضریب افزایش یا کاهش طول عمودی کاسه    b17 ","(از 0.1 الی 2)",0.70000000000000018,"بهینه=0.7",{"$f":"'طراحی همه الگوها'!B416","v":20},"ضریب افزایش یا کاهش طول عمودی کاسه     ",19,0.6,20,0.7,9.9999999999999978E-2,-1.2999999999999994,0,12.999999999999996,4,53,1,23,null,null,null,null,null,null,null,null,null,null,null,null,null,null,null,null,null,null,null,null,null,null,null,null,211.5]
["ضریب افزایش یا کاهش طول افقی کاسه    b18 ","(از 0.1 الی 2)",0.5,"بهینه=0.5",{"$f":"'طراحی همه الگوها'!B417","v":20},"ضریب افزایش یا کاهش طول افقی کاسه     ",19,0.4,20,0.5,9.9999999999999978E-2,-1.4999999999999996,0,{"$f":"(M473-L473)/K473","v":14.999999999999998},4,{"$f":"(O473-L473)/K473","v":55.000000000000014},0.4,19,null,null,null,null,null,null,null,null,null,null,null,null,null,null,null,null,null,null,null,null,null,null,null,null,212]
["شیفت عمودی کاسه پایین به سانتیمتر   b13 ","(از -100 الی100)",0,"بدون شیفت=0",{"$f":"'طراحی همه الگوها'!B419","v":0},"شیفت عمودی کاسه پایین (سانتیمتر)    ",1,1,0,0,1,0,-100,{"$f":"(M474-L474)/K474","v":-100},100,{"$f":"(O474-L474)/K474","v":100},null,null,null,null,null,null,null,null,null,null,null,null,null,null,null,null,null,null,null,null,null,null,null,null,null,null,212.5]
["شیفت عمودی کاسه بالا به سانتیمتر   b14 ","(از -100 الی100)",0,"بدون شیفت=0",{"$f":"'طراحی همه الگوها'!B420","v":0},"شیفت عمودی کاسه بالا (سانتیمتر)    ",1,1,0,0,1,0,-100,{"$f":"(M475-L475)/K475","v":-100},100,{"$f":"(O475-L475)/K475","v":100},null,null,null,null,null,null,null,null,null,null,null,null,null,null,null,null,null,null,null,null,null,null,null,null,null,null,213]
["شیفت افقی کاسه پایین راست به سانتیمتر   b16 ","(از -100 الی100)",0,"بدون شیفت=0",{"$f":"'طراحی همه الگوها'!B418","v":0},"شیفت افقی کاسه پایین راست (سانتیمتر)    ",1,1,0,0,1,0,-100,{"$f":"(M476-L476)/K476","v":-100},100,{"$f":"(O476-L476)/K476","v":100},null,null,null,null,null,null,null,null,null,null,null,null,null,null,null,null,null,null,null,null,null,null,null,null,null,null,213.5]
[null,null,null,null,null,null,null,null,null,null,null,null,null,null,null,null,null,null,null,null,null,null,null,null,null,null,null,null,null,null,null,null,null,null,null,null,null,null,null,null,null,null,214]
[" متغیرهای ورودی -  اختصاصی سوتین 6 تکه",null,null,null,null," متغیرهای ورودی -  اختصاصی سوتین 6 تکه","x1","y1","x2","y2(بهینه)","a","b",null,"کمترین",null,"بیشترین",null,null,null,null,null,null,null,null,null,null,null,null,null,null,null,null,null,null,null,null,null,null,null,null,null,null,{"$f":"AQ477+0.5","v":214.5}]
["انتقال ساسون روی خط سینه به زیر سینه   d17 ","(از 0 الی 1)",{"$f":"K479*E479+L479","v":0.9},"بدون انتقال=0 \nانتقال کامل=1  ",{"$f":"'طراحی همه الگوها'!B423","v":9},"انتقال ساسون روی خط سینه به زیر سینه    ",1,0.1,0,0,{"$f":"(J479-H479)/(I479-G479)","v":0.1},{"$f":"H479-G479*K479","v":0},0,{"$f":"(M479-L479)/K479","v":0},1,{"$f":"(O479-L479)/K479","v":10},0.9,{"$f":"(Q479-L479)/K479","v":9},null,null,null,null,null,null,null,null,null,null,null,null,null,null,null,null,null,null,null,null,null,null,null,null,215]
["ضریب چرخش تکه پهلو به درجه    d2 ","(از0 الی 100)",20,"بهینه= 20",{"$f":"'طراحی همه الگوها'!B424","v":20},"چرخش تکه پهلو     ",19,19,20,20,{"$f":"(J480-H480)/(I480-G480)","v":1},{"$f":"H480-G480*K480","v":0},0,0,1,1,0.4,0.4,null,null,null,null,null,null,null,null,null,null,null,null,null,null,null,null,null,null,null,null,null,null,null,null,215.5]
["پهنای بند جلو به سانتیمتر    d3  ","(از0 الی 5)",1.5,"بهینه= 1.5",{"$f":"'طراحی همه الگوها'!B425","v":1.5},"پهنای بند جلو       ",1,1,0,0,{"$f":"(J481-H481)/(I481-G481)","v":1},{"$f":"H481-G481*K481","v":0},0,{"$f":"(M481-L481)/K481","v":0},5,{"$f":"(O481-L481)/K481","v":5},1.5,{"$f":"(Q481-L481)/K481","v":1.5},null,null,null,null,null,null,null,null,null,null,null,null,null,null,null,null,null,null,null,null,null,null,null,null,216]
["ضریب عمودی برش جلو بند   d8 ","(از 0.1 الی 2)",1.2,"بهینه=1.2",{"$f":"'طراحی همه الگوها'!B426","v":20},"بالا یا پایین رفتن مکان بند جلو",19,1.1000000000000001,20,1.2,{"$f":"(J482-H482)/(I482-G482)","v":9.9999999999999867E-2},{"$f":"H482-G482*K482","v":-0.79999999999999738},0,7.999999999999984,4,48.000000000000036,1,17.999999999999996,null,null,null,null,null,null,null,null,null,null,null,null,null,null,null,null,null,null,null,null,null,null,null,null,216.5]
["ضریب افقی برش جلو بند   d14 ","(از 0.1 الی 2)",0.8,"بهینه=0.8",{"$f":"'طراحی همه الگوها'!B427","v":20},"چپ و راست رفتن مکان بند جلو",19,0.75,20,0.8,{"$f":"(J483-H483)/(I483-G483)","v":5.0000000000000044E-2},{"$f":"H483-G483*K483","v":-0.20000000000000084},0,4.0000000000000133,0.7,18,0.4,12.000000000000007,null,null,null,null,null,null,null,null,null,null,null,null,null,null,null,null,null,null,null,null,null,null,null,null,217]
["ضریب پهنای افقی برش جلو بند   d9 ","(از 0 الی 1)",0.30000000000000004,"بهینه=0.3",{"$f":"'طراحی همه الگوها'!B428","v":20},"پهنای افقی برش جلو بند    ",19,0.25,20,0.3,4.9999999999999989E-2,-0.69999999999999973,0,13.999999999999998,1,34,1,34,null,null,null,null,null,null,null,null,null,null,null,null,null,null,null,null,null,null,null,null,null,null,null,null,217.5]
["ضریب پهنای برش کاسه در پهلو    d10  ","(از 0.1 الی 0.7)",0.25,"بهینه=0.25",{"$f":"'طراحی همه الگوها'!B429","v":20},"پهنای برش کاسه در پهلو      ",19,0.2,20,0.25,4.9999999999999989E-2,-0.74999999999999978,0,14.999999999999998,4,95.000000000000014,0.4,23.000000000000004,null,null,null,null,null,null,null,null,null,null,null,null,null,null,null,null,null,null,null,null,null,null,null,null,218]
["ضریب بالا یا پایین رفتن خط پایین پایه    d1  ","(از 0.2 الی 0.7)",0.5,"خط کمر=0 \nخط سینه=1  ",{"$f":"'طراحی همه الگوها'!B430","v":80},"بالا یا پایین رفتن خط پایین پایه      ",79,0.45,80,0.5,4.9999999999999989E-2,-3.4999999999999991,0.2,74,0.7,84,0,70,null,null,null,null,null,null,null,null,null,null,null,null,null,null,null,null,null,null,null,null,null,null,null,null,218.5]
["پهنای بند پشت به سانتیمتر   d4 ","(از0 الی 5)",1.5,"بهینه= 1.5",{"$f":"'طراحی همه الگوها'!B431","v":1.5},"پهنای بند پشت     ",1,1,0,0,1,0,0,0,5,5,1.5,1.5,null,null,null,null,null,null,null,null,null,null,null,null,null,null,null,null,null,null,null,null,null,null,null,null,219]
["ضریب عمودی نقطه اتصال بند پشت    d5  ","(از0 الی 1)",0.38,"خط کمر =0 \nخط سرشانه= 1 \nبهینه = 0.38",{"$f":"'طراحی همه الگوها'!B432","v":20},"بالا یا پایین رفتن مکان بند پشت",21,0.4,20,0.38,2.0000000000000018E-2,-2.0000000000000351E-2,0,1.0000000000000167,1,50.999999999999979,0.4,21,null,null,null,null,null,null,null,null,null,null,null,null,null,null,null,null,null,null,null,null,null,null,null,null,219.5]
["ضریب افقی نقطه اتصال بند پشت    d6 ","(از0.1 الی 0.9)",0.45,"خط مرکزی پشت =0 \nخط پهلو= 1 \nبهینه = 0.45",{"$f":"'طراحی همه الگوها'!B433","v":9},"چپ و راست رفتن مکان بند پشت",1,0.05,0,0,0.05,0,0.1,2,0.9,18,0.45,9,null,null,null,null,null,null,null,null,null,null,null,null,null,null,null,null,null,null,null,null,null,null,null,null,220]
["میزان انحنا یقه پشت پهلو    d7  ","(از -0.5 الی 0.5)",0,"خط محدب =+ \nخط صاف =0 \nخط مقعر= - ",{"$f":"'طراحی همه الگوها'!B434","v":20},"انحنا یقه پشت پهلو      ",19,-0.05,20,0,0.05,-1,0,20,4,100,0.4,27.999999999999996,null,null,null,null,null,null,null,null,null,null,null,null,null,null,null,null,null,null,null,null,null,null,null,null,220.5]
["پهنای قزن در پشت به سانتیمتر   d11 ","(از 0 الی 10)",3,"بهینه=3",{"$f":"'طراحی همه الگوها'!B435","v":3},"پهنای قزن در پشت (سانتیمتر)    ",2,2,3,3,{"$f":"(J491-H491)/(I491-G491)","v":1},{"$f":"H491-G491*K491","v":0},0,{"$f":"(M491-L491)/K491","v":0},10,{"$f":"(O491-L491)/K491","v":10},3,3,null,null,null,null,null,null,null,null,null,null,null,null,null,null,null,null,null,null,null,null,null,null,null,null,221]
["میزان انحنا یقه پشت مرکزی    d15  ","(از -0.5 الی 0.5)",0,"خط محدب =+ \nخط صاف =0 \nخط مقعر= - ",{"$f":"'طراحی همه الگوها'!B436","v":20},"انحنا یقه پشت مرکزی      ",19,-0.05,20,0,{"$f":"(J492-H492)/(I492-G492)","v":0.05},{"$f":"H492-G492*K492","v":-1},0,{"$f":"(M492-L492)/K492","v":20},4,{"$f":"(O492-L492)/K492","v":100},1,40,null,null,null,null,null,null,null,null,null,null,null,null,null,null,null,null,null,null,null,null,null,null,null,null,221.5]
["شیفت افقی تکه جلو مرکزی به سانتیمتر   d12 ","(از -100 الی100)",0,"بدون شیفت=0",{"$f":"'طراحی همه الگوها'!B437","v":0},"شیفت افقی تکه جلو مرکزی (سانتیمتر)    ",1,1,0,0,{"$f":"(J493-H493)/(I493-G493)","v":1},{"$f":"H493-G493*K493","v":0},-100,{"$f":"(M493-L493)/K493","v":-100},100,{"$f":"(O493-L493)/K493","v":100},0.4,0.4,null,null,null,null,null,null,null,null,null,null,null,null,null,null,null,null,null,null,null,null,null,null,null,null,222]
["شیفت عمودی کاسه یک تکه زیرین به سانتیمتر   d16 ","(از -100 الی100)",0,"بدون شیفت=0",{"$f":"'طراحی همه الگوها'!B439","v":0},"شیفت عمودی کاسه یک تکه زیرین (سانتیمتر)    ",1,1,0,0,{"$f":"(J494-H494)/(I494-G494)","v":1},{"$f":"H494-G494*K494","v":0},-100,{"$f":"(M494-L494)/K494","v":-100},100,{"$f":"(O494-L494)/K494","v":100},null,null,null,null,null,null,null,null,null,null,null,null,null,null,null,null,null,null,null,null,null,null,null,null,null,null,222.5]
["شیفت افقی تکه پهلوجلو به سانتیمتر   d13 ","(از -100 الی100)",0,"بدون شیفت=0",{"$f":"'طراحی همه الگوها'!B438","v":0},"شیفت افقی تکه پهلوجلو (سانتیمتر)    ",1,1,0,0,{"$f":"(J495-H495)/(I495-G495)","v":1},{"$f":"H495-G495*K495","v":0},-100,{"$f":"(M495-L495)/K495","v":-100},100,{"$f":"(O495-L495)/K495","v":100},null,null,null,null,null,null,null,null,null,null,null,null,null,null,null,null,null,null,null,null,null,null,null,null,null,null,223]
[null,null,null,null,null,null,null,null,null,null,null,null,null,null,null,null,null,null,null,null,null,null,null,null,null,null,null,null,null,null,null,null,null,null,null,null,null,null,null,null,null,null,223.5]
[" متغیرهای ورودی- شنل بدون شیفت تکه پهلو",null,null,null,null," متغیرهای ورودی- شنل بدون شیفت تکه پهلو","x1","y1","x2","y2(بهینه)","a","b",null,"کمترین",null,"بیشترین",null,null,null,null,null,null,null,null,null,null,null,null,null,null,null,null,null,null,null,null,null,null,null,null,null,null,224]
["ضریب بزرگ شدن اوزمان در شنل  c1","(از 0.5 الی 2)",{"$f":"K498*E498+L498","v":1},"بهینه=1",{"$f":"'طراحی همه الگوها'!B442","v":20},"ضریب بزرگ شدن اوزمان در شنل  ",19,0.95,20,1,{"$f":"(J498-H498)/(I498-G498)","v":5.0000000000000044E-2},{"$f":"H498-G498*K498","v":-8.8817841970012523E-16},0.5,{"$f":"(M498-L498)/K498","v":10.000000000000009},2,{"$f":"(O498-L498)/K498","v":39.999999999999986},1,{"$f":"(Q498-L498)/K498","v":20},null,null,null,null,null,null,null,null,null,null,null,null,null,null,null,null,null,null,null,null,null,null,null,null,224.5]
[null,null,null,null,null,null,null,null,null,null,null,null,null,null,null,null,null,null,null,null,null,null,null,null,null,null,null,null,null,null,null,null,null,null,null,null,null,null,null,null,null,null,225]
["پیراهن کلوش (با حلقه آستین بدون ساسون سرشانه)",null,null,null,null,null,null,null,null,null,null,null,null,null,null,null,null,null,null,null,null,null,null,null,null,null,null,null,null,null,null,null,null,null,null,null,null,null,null,null,null,null,225.5]
[" اوزمان در جلو پیراهن کلوش   a1","(از 1 الی 50)",{"$f":"K501*E501+L501","v":5},null,{"$f":"'طراحی همه الگوها'!B445","v":5},null,1,1,2,2,{"$f":"(J501-H501)/(I501-G501)","v":1},{"$f":"H501-G501*K501","v":0},null,1,null,2,null,null,null,null,null,null,null,null,null,null,null,null,null,null,null,null,null,null,null,null,null,null,null,null,null,null,226]
[" فاصله اوزمان اول از خط مرکزی جلو  a6   ","(از 1 الی 30)",13,null,{"$f":"'طراحی همه الگوها'!B446","v":13},null,1,1,2,2,1,0,null,1,null,2,null,null,null,null,null,null,null,null,null,null,null,null,null,null,null,null,null,null,null,null,null,null,null,null,null,null,226.5]
[" فاصله اوزمان اول از خط مرکزی جلو  a8   ","(از 1 الی 30)",18,null,{"$f":"'طراحی همه الگوها'!B447","v":18},null,1,1,2,2,1,0,null,1,null,2,null,null,null,null,null,null,null,null,null,null,null,null,null,null,null,null,null,null,null,null,null,null,null,null,null,null,227]
[" اوزمان در پشت پیراهن کلوش   a2","(از 1 الی 50)",5,null,{"$f":"'طراحی همه الگوها'!B448","v":5},null,1,1,2,2,1,0,null,1,null,2,null,null,null,null,null,null,null,null,null,null,null,null,null,null,null,null,null,null,null,null,null,null,null,null,null,null,227.5]
[" فاصله اوزمان اول از خط مرکزی پشت  a7   ","(از 1 الی 30)",13,null,{"$f":"'طراحی همه الگوها'!B449","v":13},null,1,1,2,2,1,0,null,1,null,2,null,null,null,null,null,null,null,null,null,null,null,null,null,null,null,null,null,null,null,null,null,null,null,null,null,null,228]
[" فاصله اوزمان اول از خط مرکزی پشت  a9   ","(از 1 الی 30)",20,null,{"$f":"'طراحی همه الگوها'!B450","v":20},null,1,1,2,2,1,0,null,1,null,2,null,null,null,null,null,null,null,null,null,null,null,null,null,null,null,null,null,null,null,null,null,null,null,null,null,null,228.5]
[null,null,null,null,null,null,null,null,null,null,null,null,null,null,null,null,null,null,null,null,null,null,null,null,null,null,null,null,null,null,null,null,null,null,null,null,null,null,null,null,null,null,229]
["متغیرهای ورودی آستین",null,null,null,null,"متغیرهای ورودی آستین",null,null,null,null,null,null,null,null,null,null,null,null,null,null,null,null,null,null,null,null,null,null,null,null,null,null,null,null,null,null,null,null,null,null,null,null,229.5]
[null,null,null,null,"x",null,"x1","y1","x2","y2(بهینه)","a","b",null,"کمترین",null,"بیشترین",null,null,null,null,null,null,null,null,null,null,null,null,null,null,null,null,null,null,null,null,null,null,null,null,null,null,230]
[" متغیر ورودی نوع آستین :",null,null,null,null," متغیر ورودی نوع آستین :","x1","y1","x2","y2(بهینه)","a","b",null,"کمترین",null,"بیشترین",null,null,null,null,null,null,null,null,null,null,null,null,null,null,null,null,null,null,null,null,null,null,null,null,null,null,230.5]
["انتخاب آستین با ساسون سرشانه یا زیر بغل یا عصایی = 0\nانتخاب آستین رگلان (بدون درز یا با درز) برای حلقه آستین با ساسون = 0   \nانتخاب آستین با هر نوع ساسون و اپل و کنترل گودی حلقه آستین = 1\n انتخاب آستین بدون ساسون سرشانه = 3 \n انتخاب آستین رگلان (بدون درز یا با درز) برای حلقه آستین بدون ساسون سرشانه = 3 ","0 یا 1 یا 3",{"$f":"K511*E511+L511","v":0},null,{"$f":"'طراحی همه الگوها'!K177","v":1},"انتخاب آستین با ساسون سرشانه یا زیر بغل یا عصایی = 0\nانتخاب آستین رگلان (بدون درز یا با درز) برای حلقه آستین با ساسون = 0   \nانتخاب آستین با هر نوع ساسون و اپل و کنترل گودی حلقه آستین = 1\n انتخاب آستین بدون ساسون سرشانه = 3 \n انتخاب آستین رگلان (بدون درز یا با درز) برای حلقه آستین بدون ساسون سرشانه = 3 ",1,0,4,3,{"$f":"(J511-H511)/(I511-G511)","v":1},{"$f":"H511-G511*K511","v":-1},null,1,null,4,0.15,{"$f":"(Q511-L511)/K511","v":1.1499999999999999},null,null,null,null,null,null,null,null,null,null,null,null,null,null,null,null,null,null,null,null,null,null,null,null,231]
[null,null,null,null,null,null,null,null,null,null,null,null,null,null,null,null,null,null,null,null,null,null,null,null,null,null,null,null,null,null,null,null,null,null,null,null,null,null,null,null,null,null,231.5]
[" متغیرهای ورودی - آستین رگلان درز دار",null,null,null,null," متغیرهای ورودی - آستین رگلان درز دار","x1","y1","x2","y2(بهینه)","a","b",null,"کمترین",null,"بیشترین",null,null,null,null,null,null,null,null,null,null,null,null,null,null,null,null,null,null,null,null,null,null,null,null,null,null,232]
["میزان خمیدگی بدن به سمت جلو - زاویه به درجه  α1","(از -20 الی 20)",{"$f":"K514*E514+L514","v":3},"بهینه=3",{"$f":"'طراحی همه الگوها'!K251","v":3},"میزان خمیدگی بدن به سمت جلو   ",1,1,0,0,{"$f":"(J514-H514)/(I514-G514)","v":1},{"$f":"H514-G514*K514","v":0},-20,{"$f":"(M514-L514)/K514","v":-20},20,{"$f":"(O514-L514)/K514","v":20},3,{"$f":"(Q514-L514)/K514","v":3},null,null,null,null,null,null,null,null,null,null,null,null,null,null,null,null,null,null,null,null,null,null,null,null,232.5]
["میزان خم شدن سرشانه در آستین - زاویه به درجه  α2","(از -20 الی 20)",3,"بهینه=3",{"$f":"'طراحی همه الگوها'!K252","v":3},"میزان خم شدن سرشانه در آستین  ",1,1,0,0,1,0,-20,-20,20,20,3,3,null,null,null,null,null,null,null,null,null,null,null,null,null,null,null,null,null,null,null,null,null,null,null,null,233]
["پهنای ساسون مچ روی درز آستین  α3","(از 0 الی 2)",0.70000000000000007,"بهینه=0.7\nبدون ساسون=1",{"$f":"'طراحی همه الگوها'!K253","v":3},"پهنای ساسون مچ روی درز آستین  ",1,0.9,0,1,-9.9999999999999978E-2,1,0,10.000000000000002,2,-10.000000000000002,0.7,3.0000000000000013,null,null,null,null,null,null,null,null,null,null,null,null,null,null,null,null,null,null,null,null,null,null,null,null,233.5]
["میزان روی هم آمدن سرشانه در دو تکه آستین رگلان  α4","(از 0 الی 2)",1,"بهینه=1\nروی هم نمی آید=0",{"$f":"'طراحی همه الگوها'!K254","v":10},"میزان روی هم آمدن سرشانه در دو تکه آستین رگلان  ",1,0.1,0,0,0.1,0,0,0,2,20,1,10,null,null,null,null,null,null,null,null,null,null,null,null,null,null,null,null,null,null,null,null,null,null,null,null,234]
["زاویه درز روی آستین نسبت به عمود به درجه  α5","(از -20 الی 20)",3,"بهینه=3",{"$f":"'طراحی همه الگوها'!K255","v":3},"زاویه درز روی آستین نسبت به عمود  ",1,1,0,0,{"$f":"(J518-H518)/(I518-G518)","v":1},{"$f":"H518-G518*K518","v":0},-20,-20,20,20,3,3,null,null,null,null,null,null,null,null,null,null,null,null,null,null,null,null,null,null,null,null,null,null,null,null,234.5]
["میزان انحنا لبه جلو آستین  α6","(از -20 الی 20)",1,"بهینه=1",{"$f":"'طراحی همه الگوها'!K256","v":1},"میزان انحنا لبه جلو آستین  ",1,1,0,0,{"$f":"(J519-H519)/(I519-G519)","v":1},{"$f":"H519-G519*K519","v":0},-20,-20,20,20,1,1,null,null,null,null,null,null,null,null,null,null,null,null,null,null,null,null,null,null,null,null,null,null,null,null,235]
["میزان انحنا لبه پشت آستین  α7","(از -20 الی 20)",1,"بهینه=1",{"$f":"'طراحی همه الگوها'!K257","v":1},"میزان انحنا لبه پشت آستین  ",1,1,0,0,1,0,-20,-20,20,20,1,1,null,null,null,null,null,null,null,null,null,null,null,null,null,null,null,null,null,null,null,null,null,null,null,null,235.5]
["سهم گشادی مچ آستین بر روی درز  α8","(از 0 الی 1)",0.2,"بهینه=0.2",{"$f":"'طراحی همه الگوها'!K258","v":4},"سهم گشادی مچ آستین بر روی درز  ",1,0.05,0,0,0.05,0,0,0,1,20,0.2,4,null,null,null,null,null,null,null,null,null,null,null,null,null,null,null,null,null,null,null,null,null,null,null,null,236]
["شیفت افقی تکه جلو آستین رگلان درز دار    به سانتیمتر","(از -100 الی100)",5,"بدون شیفت=0",{"$f":"'طراحی همه الگوها'!K259","v":5},"شیفت افقی تکه جلو آستین رگلان درز دار    به سانتیمتر",1,1,0,0,1,0,null,1,null,100,0,null,null,null,null,null,null,null,null,null,null,null,null,null,null,null,null,null,null,null,null,null,null,null,null,null,236.5]
["شیفت افقی کل آستین رگلان بدون درز   به سانتیمتر","(از -100 الی100)",-4.5,"بدون شیفت=0",{"$f":"'طراحی همه الگوها'!K248","v":-4.5},"شیفت افقی کل آستین رگلان بدون درز   به سانتیمتر",1,1,0,0,{"$f":"(J523-H523)/(I523-G523)","v":1},{"$f":"H523-G523*K523","v":0},null,1,null,100,0,null,null,null,null,null,null,null,null,null,null,null,null,null,null,null,null,null,null,null,null,null,null,null,null,null,237]
[null,null,null,null,null,null,null,null,null,null,null,null,null,null,null,null,null,null,null,null,null,null,null,null,null,null,null,null,null,null,null,null,null,null,null,null,null,null,null,null,null,null,237.5]
[" متغیرهای ورودی کلی آستین ساده (بلند یا کوتاه)",null,null,null,null," متغیرهای ورودی کلی آستین ساده (بلند یا کوتاه)","x1","y1","x2","y2(بهینه)","a","b",null,"کمترین",null,"بیشترین",null,null,null,null,null,null,null,null,null,null,null,null,null,null,null,null,null,null,null,null,null,null,null,null,null,null,238]
["ضریب پهنای مچ در آستین ساده و مچ بلند","(از 0 الی 0.5)",{"$f":"K526*E526+L526","v":0},"بهینه=0.15",{"$f":"'طراحی مدل 213'!K324","v":10},"ضریب پهنای مچ در آستین ساده و مچ بلند",11,0.05,10,0,{"$f":"(J526-H526)/(I526-G526)","v":0.05},{"$f":"H526-G526*K526","v":-0.5},0,{"$f":"(M526-L526)/K526","v":10},0.5,{"$f":"(O526-L526)/K526","v":20},0.15,{"$f":"(Q526-L526)/K526","v":13},null,null,null,null,null,null,null,null,null,null,null,null,null,null,null,null,null,null,null,null,null,null,null,null,238.5]
["ضریب گشادی مچ آستین  ζ4","(از 0.1 الی 4)",1.2000000000000002,"اندامی=1",{"$f":"'طراحی مدل 213'!K320","v":2},"ضریب گشادی مچ آستین  ",1,1.1000000000000001,0,1,0.10000000000000009,1,0.1,-8.9999999999999929,4,29.999999999999975,1,0,null,null,null,null,null,null,null,null,null,null,null,null,null,null,null,null,null,null,null,null,null,null,null,null,239]
["ضریب بلند یا کوتاه شدن اندازه های طولی در آستین","(از -0.2 الی 0.2)",0,"بدون تغییر=0",{"$f":"'طراحی مدل 213'!K321","v":0},"ضریب بلند یا کوتاه شدن اندازه های طولی در آستین",1,0.01,0,0,0.01,0,-0.2,-20,0.2,20,0,0,null,null,null,null,null,null,null,null,null,null,null,null,null,null,null,null,null,null,null,null,null,null,null,null,239.5]
["ضریب بلندی تاج آستین","(از -1 الی 1)",0,"اندامی=0",{"$f":"'طراحی مدل 213'!K322","v":0},"ضریب بلندی تاج آستین",1,0.05,0,0,0.05,0,-1,-20,1,20,0,0,null,null,null,null,null,null,null,null,null,null,null,null,null,null,null,null,null,null,null,null,null,null,null,null,240]
["ضریب گشادی تاج آستین","(از 0 الی 1)",0.05,"اندامی=0",{"$f":"'طراحی مدل 213'!K323","v":1},"ضریب گشادی تاج آستین",1,0.05,0,0,0.05,0,0,0,1,20,0,0,null,null,null,null,null,null,null,null,null,null,null,null,null,null,null,null,null,null,null,null,null,null,null,null,240.5]
["ضریب کوتاهی آستین  (آستین پفی > 0.6)","(از -0.45 الی 1.7)",{"$f":"K531*E531+L531","v":1.1500000000000001},"آستین تا مچ=0 \nآستین تا آرنج=1 \nآستین کوتاه بالای آرنج بزرگتر از یک",{"$f":"'طراحی مدل 213'!K319","v":33},"بلندی پایین آستین",10,0,30,1,0.05,-0.5,-0.45,0.99999999999999978,1.7,44,0.3,16,null,null,null,null,null,null,null,null,null,null,null,null,null,null,null,null,null,null,null,null,null,null,null,null,241]
["شیفت افقی کل الگو آستین به سانتیمتر","(از -100 الی100)",17,"بدون شیفت=0",{"$f":"'طراحی مدل 213'!K325","v":17},"شیفت افقی کل الگو آستین (سانتیمتر)",1,1,0,0,1,0,null,1,null,100,0,null,null,null,null,null,null,null,null,null,null,null,null,null,null,null,null,null,null,null,null,null,null,null,null,null,241.5]
["شیفت عمودی کل الگو آستین به سانتیمتر","(از -100 الی100)",{"$f":"K533*E533+L533","v":4},"بدون شیفت=0",{"$f":"'طراحی مدل 213'!K326","v":4},"شیفت عمودی کل الگو آستین (سانتیمتر)",1,1,0,0,1,0,null,1,null,100,0,null,null,null,null,null,null,null,null,null,null,null,null,null,null,null,null,null,null,null,null,null,null,null,null,null,242]
[null,null,null,null,null,null,null,null,null,null,null,null,null,null,null,null,null,null,null,null,null,null,null,null,null,null,null,null,null,null,null,null,null,null,null,null,null,null,null,null,null,null,242.5]
["اطلاعات طول حلقه آستین و طول تاج آستین",null,null,null,null,"اطلاعات طول حلقه آستین و طول تاج آستین",null,null,null,null,null,null,null,null,null,null,null,null,null,null,null,null,null,null,null,null,null,null,null,null,null,null,null,null,null,null,null,null,null,null,null,null,243]
["طول کل حلقه آستین با اپل",{"$f":"محاسبات!BL538","v":48.5},null,null,null,"طول کل حلقه آستین با اپل (سانتیمتر)",null,null,null,null,null,null,null,null,null,null,null,null,null,null,null,null,null,null,null,null,null,null,null,null,null,null,null,null,null,null,null,null,null,null,null,null,243.5]
["طول کل حلقه آستین با ساسون",{"$f":"محاسبات!BL539","v":48.4},null,null,null,"طول کل حلقه آستین با ساسون (سانتیمتر)",null,null,null,null,null,null,null,null,null,null,null,null,null,null,null,null,null,null,null,null,null,null,null,null,null,null,null,null,null,null,null,null,null,null,null,null,244]
["طول کل حلقه آستین بدون ساسون",{"$f":"محاسبات!BL540","v":50.3},null,null,null,"طول کل حلقه آستین بدون ساسون (سانتیمتر)",null,null,null,null,null,null,null,null,null,null,null,null,null,null,null,null,null,null,null,null,null,null,null,null,null,null,null,null,null,null,null,null,null,null,null,null,244.5]
["طول حلقه آستین مدل 85",{"$f":"محاسبات!BL541","v":48.2},null,null,null,"طول حلقه آستین مدل 85  (سانتیمتر)",null,null,null,null,null,null,null,null,null,null,null,null,null,null,null,null,null,null,null,null,null,null,null,null,null,null,null,null,null,null,null,null,null,null,null,null,245]
["طول حلقه آستین مدل 83 کت مردانه",{"$f":"محاسبات!BL542","v":47.6},null,null,null,"طول حلقه آستین مدل 83 کت مردانه  (سانتیمتر)",null,null,null,null,null,null,null,null,null,null,null,null,null,null,null,null,null,null,null,null,null,null,null,null,null,null,null,null,null,null,null,null,null,null,null,null,245.5]
["طول تاج آستین کتی",{"$f":"محاسبات!BL543","v":50.6},null,null,null,"طول تاج آستین کتی (سانتیمتر)",null,null,null,null,null,null,null,null,null,null,null,null,null,null,null,null,null,null,null,null,null,null,null,null,null,null,null,null,null,null,null,null,null,null,null,null,246]
["طول تاج آستین ساده",{"$f":"محاسبات!BL544","v":50.7},null,null,null,"طول تاج آستین ساده (سانتیمتر) ",null,null,null,null,null,null,null,null,null,null,null,null,null,null,null,null,null,null,null,null,null,null,null,null,null,null,null,null,null,null,null,null,null,null,null,null,{"$f":"AQ541+0.5","v":246.5}]
[null,null,null,null,null,null,null,null,null,null,null,null,null,null,null,null,null,null,null,null,null,null,null,null,null,null,null,null,null,null,null,null,null,null,null,null,null,null,null,null,null,null,247]
[" متغیرهای ورودی- جادکمه آستین بلند یا کوتاه",null,null,null,null," متغیرهای ورودی- جادکمه آستین بلند یا کوتاه","x1","y1","x2","y2(بهینه)","a","b",null,"کمترین",null,"بیشترین",null,null,null,null,null,null,null,null,null,null,null,null,null,null,null,null,null,null,null,null,null,null,null,null,null,null,247.5]
["ضریب طول مستطیل ","(از 0 الی 0.5)",{"$f":"K545*E545+L545","v":0.35000000000000003},"بهینه=0.35",{"$f":"'طراحی همه الگوها'!K204","v":7},"ضریب طول مستطیل ",1,0.05,0,0,{"$f":"(J545-H545)/(I545-G545)","v":0.05},{"$f":"H545-G545*K545","v":0},0,{"$f":"(M545-L545)/K545","v":0},0.5,{"$f":"(O545-L545)/K545","v":10},0.35,{"$f":"(Q545-L545)/K545","v":6.9999999999999991},null,null,null,null,null,null,null,null,null,null,null,null,null,null,null,null,null,null,null,null,null,null,null,null,248]
["ضریب عرض مستطیل ","(از 0 الی 0.4)",{"$f":"K546*E546+L546","v":0.25},"بهینه=0.25",{"$f":"'طراحی همه الگوها'!K205","v":5},"ضریب عرض مستطیل ",1,0.05,0,0,{"$f":"(J546-H546)/(I546-G546)","v":0.05},{"$f":"H546-G546*K546","v":0},0,{"$f":"(M546-L546)/K546","v":0},0.4,{"$f":"(O546-L546)/K546","v":8},0.25,{"$f":"(Q546-L546)/K546","v":5},null,null,null,null,null,null,null,null,null,null,null,null,null,null,null,null,null,null,null,null,null,null,null,null,248.5]
[null,null,null,null,null,null,null,null,null,null,null,null,null,null,null,null,null,null,null,null,null,null,null,null,null,null,null,null,null,null,null,null,null,null,null,null,null,null,null,null,null,null,249]
[" متغیرهای ورودی - مچ آستین",null,null,null,null," متغیرهای ورودی - مچ آستین","x1","y1","x2","y2(بهینه)","a","b",null,"کمترین",null,"بیشترین",null,null,null,null,null,null,null,null,null,null,null,null,null,null,null,null,null,null,null,null,null,null,null,null,null,null,249.5]
["انتخاب مچ اندامی=1        انتخاب مچ مستطیل یا مچ پفی=0","0 یا 1 ",{"$f":"K549*E549+L549","v":0},null,{"$f":"'طراحی مدل 213'!K329","v":1},"انتخاب مچ اندامی=2        انتخاب مچ مستطیل یا مچ پفی=1",1,0,2,1,{"$f":"(J549-H549)/(I549-G549)","v":1},{"$f":"H549-G549*K549","v":-1},0,{"$f":"(M549-L549)/K549","v":1},1,{"$f":"(O549-L549)/K549","v":2},0,{"$f":"(Q549-L549)/K549","v":1},null,null,null,null,null,null,null,null,null,null,null,null,null,null,null,null,null,null,null,null,null,null,null,null,250]
["ضریب گشادی بالای مچ  z3","(از 0.8 الی 3)",1,"اندامی=1",{"$f":"'طراحی مدل 213'!K330","v":0},"ضریب گشادی بالای مچ  ",1,1.1000000000000001,0,1,0.10000000000000009,1,0.8,{"$f":"(M550-L550)/K550","v":-1.9999999999999978},3,{"$f":"(O550-L550)/K550","v":19.999999999999982},1,{"$f":"(Q550-L550)/K550","v":0},null,null,null,null,null,null,null,null,null,null,null,null,null,null,null,null,null,null,null,null,null,null,null,null,250.5]
["ضریب گشادی پایین مچ یا مچ مستطیل یا مچ پفی  z4","(از 0.8 الی 3)",3.0000000000000018,"اندامی=1",{"$f":"'طراحی مدل 213'!K331","v":20},"ضریب گشادی پایین مچ یا مچ مستطیل یا مچ پفی  ",1,1.1000000000000001,0,1,0.10000000000000009,1,0.8,{"$f":"(M551-L551)/K551","v":-1.9999999999999978},3,{"$f":"(O551-L551)/K551","v":19.999999999999982},1,{"$f":"(Q551-L551)/K551","v":0},null,null,null,null,null,null,null,null,null,null,null,null,null,null,null,null,null,null,null,null,null,null,null,null,251]
["ضریب ارتفاع بالای مچ    z5","(از 0 الی 1.7)",1.25,"ارتفاع تا مچ دست =0 \nارتفاع تا آرنج=1 \nارتفاع بالای آرنج بزرگتر از یک",{"$f":"'طراحی مدل 213'!K332","v":35},"ضریب ارتفاع بالای مچ    ",10,0,30,1,0.05,-0.5,0,{"$f":"(M552-L552)/K552","v":10},1.7,{"$f":"(O552-L552)/K552","v":44},1,{"$f":"(Q552-L552)/K552","v":30},null,null,null,null,null,null,null,null,null,null,null,null,null,null,null,null,null,null,null,null,null,null,null,null,251.5]
["ضریب ارتفاع پایین مچ   z6","(از 0 الی 1.7)",-0.25,"ارتفاع تا مچ دست =0 \nارتفاع تا آرنج=1 \nارتفاع بالای آرنج بزرگتر از یک",{"$f":"'طراحی مدل 213'!K333","v":5},"ضریب ارتفاع پایین مچ   ",10,0,30,1,0.05,-0.5,0,{"$f":"(M553-L553)/K553","v":10},1.7,{"$f":"(O553-L553)/K553","v":44},1,{"$f":"(Q553-L553)/K553","v":30},null,null,null,null,null,null,null,null,null,null,null,null,null,null,null,null,null,null,null,null,null,null,null,null,252]
["شیفت افقی مچ  به سانتیمتر   z7","(از -100 الی100)",0,"بدون شیفت=0",{"$f":"'طراحی مدل 213'!K334","v":0},"شیفت افقی مچ  (سانتیمتر)   ",1,1,0,0,1,0,null,1,null,100,0,null,null,null,null,null,null,null,null,null,null,null,null,null,null,null,null,null,null,null,null,null,null,null,null,null,252.5]
["شیفت عمودی مچ  به سانتیمتر  z8","(از -100 الی100)",-4,"بدون شیفت=0",{"$f":"'طراحی مدل 213'!K335","v":-4},"شیفت عمودی مچ  (سانتیمتر)  ",1,1,0,0,1,0,null,1,null,100,0,null,null,null,null,null,null,null,null,null,null,null,null,null,null,null,null,null,null,null,null,null,null,null,null,null,253]
[null,null,null,null,null,null,null,null,null,null,null,null,null,null,null,null,null,null,null,null,null,null,null,null,null,null,null,null,null,null,null,null,null,null,null,null,null,null,null,null,null,null,253.5]
[" متغیرهای ورودی - آستر مچ آستین",null,null,null,null," متغیرهای ورودی - آستر مچ آستین","x1","y1","x2","y2(بهینه)","a","b",null,"کمترین",null,"بیشترین",null,null,null,null,null,null,null,null,null,null,null,null,null,null,null,null,null,null,null,null,null,null,null,null,null,null,254]
["انتخاب مچ اندامی=1        انتخاب مچ مستطیل یا مچ پفی=0","0 یا 1 ",{"$f":"K558*E558+L558","v":0},null,{"$f":"'طراحی مدل 213'!K344","v":1},"انتخاب مچ اندامی=2        انتخاب مچ مستطیل یا مچ پفی=1",1,0,2,1,{"$f":"(J558-H558)/(I558-G558)","v":1},{"$f":"H558-G558*K558","v":-1},0,{"$f":"(M558-L558)/K558","v":1},1,{"$f":"(O558-L558)/K558","v":2},0,{"$f":"(Q558-L558)/K558","v":1},null,null,null,null,null,null,null,null,null,null,null,null,null,null,null,null,null,null,null,null,null,null,null,null,254.5]
["ضریب گشادی بالای مچ  z3","(از 0.8 الی 3)",1.4000000000000004,"اندامی=1",{"$f":"'طراحی مدل 213'!K345","v":4},"ضریب گشادی بالای مچ  ",1,1.1000000000000001,0,1,0.10000000000000009,1,0.8,{"$f":"(M559-L559)/K559","v":-1.9999999999999978},3,{"$f":"(O559-L559)/K559","v":19.999999999999982},1,{"$f":"(Q559-L559)/K559","v":0},null,null,null,null,null,null,null,null,null,null,null,null,null,null,null,null,null,null,null,null,null,null,null,null,255]
["ضریب گشادی پایین مچ یا مچ مستطیل یا مچ پفی  z4","(از 0.8 الی 3)",1.2000000000000002,"اندامی=1",{"$f":"'طراحی مدل 213'!K346","v":2},"ضریب گشادی پایین مچ یا مچ مستطیل یا مچ پفی  ",1,1.1000000000000001,0,1,0.10000000000000009,1,0.8,{"$f":"(M560-L560)/K560","v":-1.9999999999999978},3,{"$f":"(O560-L560)/K560","v":19.999999999999982},1,{"$f":"(Q560-L560)/K560","v":0},null,null,null,null,null,null,null,null,null,null,null,null,null,null,null,null,null,null,null,null,null,null,null,null,255.5]
["ضریب ارتفاع بالای مچ    z5","(از 0 الی 1.7)",0.25,"ارتفاع تا مچ دست =0 \nارتفاع تا آرنج=1 \nارتفاع بالای آرنج بزرگتر از یک",{"$f":"'طراحی مدل 213'!K347","v":15},"ضریب ارتفاع بالای مچ    ",10,0,30,1,0.05,-0.5,0,{"$f":"(M561-L561)/K561","v":10},1.7,{"$f":"(O561-L561)/K561","v":44},1,{"$f":"(Q561-L561)/K561","v":30},null,null,null,null,null,null,null,null,null,null,null,null,null,null,null,null,null,null,null,null,null,null,null,null,256]
["ضریب ارتفاع پایین مچ   z6","(از 0 الی 1.7)",0,"ارتفاع تا مچ دست =0 \nارتفاع تا آرنج=1 \nارتفاع بالای آرنج بزرگتر از یک",{"$f":"'طراحی مدل 213'!K348","v":10},"ضریب ارتفاع پایین مچ   ",10,0,30,1,0.05,-0.5,0,{"$f":"(M562-L562)/K562","v":10},1.7,{"$f":"(O562-L562)/K562","v":44},1,{"$f":"(Q562-L562)/K562","v":30},null,null,null,null,null,null,null,null,null,null,null,null,null,null,null,null,null,null,null,null,null,null,null,null,256.5]
["شیفت افقی آستر مچ  به سانتیمتر   z7","(از -100 الی100)",0,"بدون شیفت=0",{"$f":"'طراحی مدل 213'!K349","v":0},"شیفت افقی آستر مچ  (سانتیمتر)   ",1,1,0,0,1,0,null,1,null,100,0,null,null,null,null,null,null,null,null,null,null,null,null,null,null,null,null,null,null,null,null,null,null,null,null,null,257]
["شیفت عمودی آستر مچ  به سانتیمتر  z8","(از -100 الی100)",0,"بدون شیفت=0",{"$f":"'طراحی مدل 213'!K350","v":0},"شیفت عمودی آستر مچ  (سانتیمتر)  ",1,1,0,0,1,0,null,1,null,100,0,null,null,null,null,null,null,null,null,null,null,null,null,null,null,null,null,null,null,null,null,null,null,null,null,null,257.5]
[null,null,null,null,null,null,null,null,null,null,null,null,null,null,null,null,null,null,null,null,null,null,null,null,null,null,null,null,null,null,null,null,null,null,null,null,null,null,null,null,null,null,258]
[" متغیرهای ورودی آستین لاله ای",null,null,null,null," متغیرهای ورودی آستین لاله ای","x1","y1","x2","y2(بهینه)","a","b",null,"کمترین",null,"بیشترین",null,null,null,null,null,null,null,null,null,null,null,null,null,null,null,null,null,null,null,null,null,null,null,null,null,null,258.5]
["ضریب قرارگیری نقطه بالای جلو انحنا آستین  q20 ","(از 0 الی 1)",{"$f":"K567*E567+L567","v":0.4},"نقطه بالا روی سرشانه=0 \nنقطه بالا زیر بغل=1 ",{"$f":"'طراحی مدل 213'!K357","v":20},"ضریب قرارگیری نقطه بالای جلو انحنا آستین   ",19,0.35,20,0.4,{"$f":"(J567-H567)/(I567-G567)","v":5.0000000000000044E-2},{"$f":"H567-G567*K567","v":-0.60000000000000087},0,{"$f":"(M567-L567)/K567","v":12.000000000000007},1,{"$f":"(O567-L567)/K567","v":31.999999999999993},1,{"$f":"(Q567-L567)/K567","v":31.999999999999993},null,null,null,null,null,null,null,null,null,null,null,null,null,null,null,null,null,null,null,null,null,null,null,null,259]
["ضریب قرارگیری نقطه بالای پشت انحنا آستین  q'20 ","(از 0 الی 1)",0.30000000000000004,"نقطه بالا روی سرشانه=0 \nنقطه بالا زیر بغل=1 ",{"$f":"'طراحی مدل 213'!K358","v":20},"ضریب قرارگیری نقطه بالای پشت انحنا آستین   ",19,0.25,20,0.3,4.9999999999999989E-2,-0.69999999999999973,0,13.999999999999998,1,34,1,34,null,null,null,null,null,null,null,null,null,null,null,null,null,null,null,null,null,null,null,null,null,null,null,null,259.5]
["ضریب قرارگیری نقطه پایین جلو انحنا آستین  q21 ","(از 0 الی 1)",0.7,"نقطه پایین وسط آستین=0 \nنقطه پایین روی خط پهلو=1 ",{"$f":"'طراحی مدل 213'!K359","v":20},"ضریب قرارگیری نقطه پایین جلو انحنا آستین   ",19,0.65,20,0.7,4.9999999999999933E-2,-0.29999999999999871,0,5.9999999999999822,1,26.000000000000011,1,26.000000000000011,null,null,null,null,null,null,null,null,null,null,null,null,null,null,null,null,null,null,null,null,null,null,null,null,260]
["ضریب قرارگیری نقطه پایین پشت انحنا آستین  q'21 ","(از 0 الی 1)",0.7,"نقطه پایین وسط آستین=0 \nنقطه پایین روی خط پهلو=1 ",{"$f":"'طراحی مدل 213'!K360","v":20},"ضریب قرارگیری نقطه پایین پشت انحنا آستین   ",19,0.65,20,0.7,4.9999999999999933E-2,-0.29999999999999871,0,5.9999999999999822,1,26.000000000000011,2,46.000000000000043,null,null,null,null,null,null,null,null,null,null,null,null,null,null,null,null,null,null,null,null,null,null,null,null,260.5]
["ضریب انحنا جلو  q22 ","(از -0.5 الی 0.5)",0.15000000000000013,"خط محدب =+ \nخط صاف =0 \nخط مقعر= - ",{"$f":"'طراحی مدل 213'!K361","v":23},"ضریب انحنا جلو   ",21,0.05,20,0,0.05,-1,-0.5,10,0.5,30,0.15,22.999999999999996,null,null,null,null,null,null,null,null,null,null,null,null,null,null,null,null,null,null,null,null,null,null,null,null,261]
["ضریب انحنا پشت  q'22 ","(از -0.5 الی 0.5)",0.15000000000000013,"خط محدب =+ \nخط صاف =0 \nخط مقعر= - ",{"$f":"'طراحی مدل 213'!K362","v":23},"ضریب انحنا پشت   ",21,0.05,20,0,0.05,-1,-0.5,10,0.5,30,0.15,22.999999999999996,null,null,null,null,null,null,null,null,null,null,null,null,null,null,null,null,null,null,null,null,null,null,null,null,261.5]
[null,null,null,null,null,null,null,null,null,null,null,null,null,null,null,null,null,null,null,null,null,null,null,null,null,null,null,null,null,null,null,null,null,null,null,null,null,null,null,null,null,null,262]
["متغیرهای ورودی آستین کتی",null,null,null,null,"متغیرهای ورودی آستین کتی","x1","y1","x2","y2(بهینه)","a","b",null,"کمترین",null,"بیشترین",null,null,null,null,null,null,null,null,null,null,null,null,null,null,null,null,null,null,null,null,null,null,null,null,null,null,262.5]
["میزان خمیدگی آستین کتی - زاویه به درجه  ζ2","(از 0 الی 7)",{"$f":"K575*E575+L575","v":5},"بهینه=3",{"$f":"'طراحی مدل 213'!K338","v":5},"میزان خمیدگی آستین کتی - زاویه به درجه  ",1,1,0,0,{"$f":"(J575-H575)/(I575-G575)","v":1},{"$f":"H575-G575*K575","v":0},0,{"$f":"(M575-L575)/K575","v":0},7,{"$f":"(O575-L575)/K575","v":7},3,{"$f":"(Q575-L575)/K575","v":3},null,null,null,null,null,null,null,null,null,null,null,null,null,null,null,null,null,null,null,null,null,null,null,null,263]
["ضریب طول مستطیل جادکمه کتی","(از 0.01 الی 0.5)",{"$f":"K576*E576+L576","v":0.4},"بهینه=0.4",{"$f":"'طراحی مدل 213'!K339","v":20},"ضریب طول مستطیل جادکمه کتی",1,0.02,0,0,{"$f":"(J576-H576)/(I576-G576)","v":0.02},{"$f":"H576-G576*K576","v":0},0.01,{"$f":"(M576-L576)/K576","v":0.5},0.5,{"$f":"(O576-L576)/K576","v":25},0.4,{"$f":"(Q576-L576)/K576","v":20},null,null,null,null,null,null,null,null,null,null,null,null,null,null,null,null,null,null,null,null,null,null,null,null,263.5]
["ضریب عرض مستطیل جادکمه کتی","(از 0 الی 0.5)",{"$f":"K577*E577+L577","v":0.3},"بهینه=0.3",{"$f":"'طراحی مدل 213'!K340","v":15},"ضریب عرض مستطیل جادکمه کتی",1,0.02,0,0,{"$f":"(J577-H577)/(I577-G577)","v":0.02},{"$f":"H577-G577*K577","v":0},0,{"$f":"(M577-L577)/K577","v":0},0.5,{"$f":"(O577-L577)/K577","v":25},0.3,{"$f":"(Q577-L577)/K577","v":15},null,null,null,null,null,null,null,null,null,null,null,null,null,null,null,null,null,null,null,null,null,null,null,null,264]
["شیفت افقی تکه جلو آستین کتی به سانتیمتر","(از -100 الی100)",{"$f":"K578*E578+L578","v":0},"بهینه=دلخواه",{"$f":"'طراحی مدل 213'!K341","v":0},"شیفت افقی تکه جلو آستین کتی (سانتیمتر)",1,1,0,0,{"$f":"(J578-H578)/(I578-G578)","v":1},{"$f":"H578-G578*K578","v":0},null,1,null,100,0,null,null,null,null,null,null,null,null,null,null,null,null,null,null,null,null,null,null,null,null,null,null,null,null,null,264.5]
[null,null,null,null,null,null,null,null,null,null,null,null,null,null,null,null,null,null,null,null,null,null,null,null,null,null,null,null,null,null,null,null,null,null,null,null,null,null,null,null,null,null,265]
[" متغیر ورودی آستین کلوش :",null,null,null,null," متغیر ورودی آستین کلوش :","x1","y1","x2","y2(بهینه)","a","b",null,"کمترین",null,"بیشترین",null,null,null,null,null,null,null,null,null,null,null,null,null,null,null,null,null,null,null,null,null,null,null,null,null,null,265.5]
["بلندی آستین","(از 0 الی 1)",{"$f":"K581*E581+L581","v":0.18999999999999995},"بدون بلندی=0 \nآستین تا مچ=1 ",{"$f":"'طراحی مدل 213'!K353","v":37},"بلندی پایین آستین کلوش",30,0.4,10,1,{"$f":"(J581-H581)/(I581-G581)","v":-0.03},{"$f":"H581-G581*K581","v":1.2999999999999998},0,{"$f":"(M581-L581)/K581","v":43.333333333333329},1,{"$f":"(O581-L581)/K581","v":9.9999999999999947},1,{"$f":"(Q581-L581)/K581","v":9.9999999999999947},null,null,null,null,null,null,null,null,null,null,null,null,null,null,null,null,null,null,null,null,null,null,null,null,266]
["زاویه اوزمان آستین (برحسب درجه)","(از 0 الی 30)",{"$f":"K582*E582+L582","v":10},"بدون کلوش=0 \nبهینه=15 ",{"$f":"'طراحی مدل 213'!K354","v":10}," اوزمان آستین کلوش ",1,1,0,0,{"$f":"(J582-H582)/(I582-G582)","v":1},{"$f":"H582-G582*K582","v":0},0,{"$f":"(M582-L582)/K582","v":0},30,{"$f":"(O582-L582)/K582","v":30},15,{"$f":"(Q582-L582)/K582","v":15},null,null,null,null,null,null,null,null,null,null,null,null,null,null,null,null,null,null,null,null,null,null,null,null,266.5]
[null,null,null,null,null,null,null,null,null,null,null,null,null,null,null,null,null,null,null,null,null,null,null,null,null,null,null,null,null,null,null,null,null,null,null,null,null,null,null,null,null,null,267]
[" متغیر ورودی آستین کلوش معکوس :",null,null,null,null," متغیر ورودی آستین کلوش معکوس :","x1","y1","x2","y2(بهینه)","a","b",null,"کمترین",null,"بیشترین",null,null,null,null,null,null,null,null,null,null,null,null,null,null,null,null,null,null,null,null,null,null,null,null,null,null,267.5]
["بلندی آستین","(از 0 الی 1)",{"$f":"K585*E585+L585","v":0.39999999999999991},"بدون بلندی=0 \nآستین تا مچ=1 ",{"$f":"'طراحی همه الگوها'!K230","v":30},"بلندی پایین آستین کلوش معکوس",30,0.4,10,1,{"$f":"(J585-H585)/(I585-G585)","v":-0.03},{"$f":"H585-G585*K585","v":1.2999999999999998},0,{"$f":"(M585-L585)/K585","v":43.333333333333329},1,{"$f":"(O585-L585)/K585","v":9.9999999999999947},1,{"$f":"(Q585-L585)/K585","v":9.9999999999999947},null,null,null,null,null,null,null,null,null,null,null,null,null,null,null,null,null,null,null,null,null,null,null,null,268]
["زاویه اوزمان آستین (برحسب درجه)","(از 0 الی 10)",{"$f":"K586*E586+L586","v":5},"بدون کلوش=0 \nبهینه=5 ",{"$f":"'طراحی همه الگوها'!K231","v":5}," اوزمان آستین کلوش معکوس ",1,1,0,0,{"$f":"(J586-H586)/(I586-G586)","v":1},{"$f":"H586-G586*K586","v":0},0,{"$f":"(M586-L586)/K586","v":0},10,{"$f":"(O586-L586)/K586","v":10},5,{"$f":"(Q586-L586)/K586","v":5},null,null,null,null,null,null,null,null,null,null,null,null,null,null,null,null,null,null,null,null,null,null,null,null,268.5]
["متغیرهای ورودی شلوار",null,null,null,null,"متغیرهای ورودی شلوار",null,null,null,null,null,null,null,null,null,null,null,null,null,null,null,null,null,null,null,null,null,null,null,null,null,null,null,null,null,null,null,null,null,null,null,null,269]
[null,null,null,null,null,null,null,null,null,null,null,null,null,null,null,null,null,null,null,null,null,null,null,null,null,null,null,null,null,null,null,null,null,null,null,null,null,null,null,null,null,null,269.5]
[" متغیرهای ورودی کلی شلوار",null,null,null,null," متغیرهای ورودی کلی شلوار","x1","y1","x2","y2(بهینه)","a","b",null,"کمترین",null,"بیشترین",null,null,null,null,null,null,null,null,null,null,null,null,null,null,null,null,null,null,null,null,null,null,null,null,null,null,270]
["ضریب گشاد یا تنگ شدن اندازه های عرضی در شلوار   t4 ","(از -0.2 الی 0.3)",{"$f":"K590*E590+L590","v":-0.05},"اندامی=0\nرکاب دار= - 0.15",{"$f":"'طراحی همه الگوها'!N177","v":-5},"ضریب گشاد یا تنگ شدن اندازه های عرضی در شلوار    ",1,0.01,0,0,{"$f":"(J590-H590)/(I590-G590)","v":0.01},{"$f":"H590-G590*K590","v":0},-0.2,{"$f":"(M590-L590)/K590","v":-20},0.3,{"$f":"(O590-L590)/K590","v":30},-0.15,{"$f":"(Q590-L590)/K590","v":-15},null,null,null,null,null,null,null,null,null,null,null,null,null,null,null,null,null,null,null,null,null,null,null,null,270.5]
["ضریب گشاد یا تنگ شدن اندازه های طولی در شلوار   t41 ","(از -0.2 الی 0.2)",0,"اندامی=0\nرکاب دار= - 0.07",{"$f":"'طراحی همه الگوها'!N178","v":0},"ضریب گشاد یا تنگ شدن اندازه های طولی در شلوار    ",1,0.01,0,0,0.01,0,-0.2,-20,0.2,20,-7.0000000000000007E-2,-7.0000000000000009,null,null,null,null,null,null,null,null,null,null,null,null,null,null,null,null,null,null,null,null,null,null,null,null,271]
["ضریب کوتاهی لبه شلوار تا زمین  (قد شلوار)   t1","(از -0.1 الی 1.8)",1,"خط زمین=0 \nخط زانو=1 \nخط باسن = 2",{"$f":"'طراحی همه الگوها'!N179","v":30},"ضریب کوتاهی پایین شلوار  (قد شلوار)   ",10,0,30,1,0.05,-0.5,-0.1,8,1.8,45.999999999999993,1,30,null,null,null,null,null,null,null,null,null,null,null,null,null,null,null,null,null,null,null,null,null,null,null,null,271.5]
["ضریب گشادی پاچه شلوار t2","(از 0.8 الی 3)",1.8000000000000007,"بهینه=1.6",{"$f":"'طراحی همه الگوها'!N180","v":16},"ضریب گشادی پاچه شلوار ",1,1.05,0,1,5.0000000000000044E-2,1,0.8,-3.9999999999999956,3,39.999999999999964,1.6,11.999999999999991,null,null,null,null,null,null,null,null,null,null,null,null,null,null,null,null,null,null,null,null,null,null,null,null,272]
["ضریب گشادی دور زانو t3","(از 0.8 الی 2)",1.2000000000000002,"بهینه=1.2",{"$f":"'طراحی همه الگوها'!N181","v":4},"ضریب گشادی دور زانو ",1,1.05,0,1,5.0000000000000044E-2,1,0.8,-3.9999999999999956,2,19.999999999999982,1.2,3.9999999999999956,null,null,null,null,null,null,null,null,null,null,null,null,null,null,null,null,null,null,null,null,null,null,null,null,272.5]
["ضریب عرض زیپ  t14 ","(از 0 الی 0.5)",0.30000000000000004,"بهینه=0.3",{"$f":"'طراحی همه الگوها'!N182","v":6},"ضریب عرض زیپ   ",1,0.05,0,0,0.05,0,0,0,0.5,10,0.3,5.9999999999999991,null,null,null,null,null,null,null,null,null,null,null,null,null,null,null,null,null,null,null,null,null,null,null,null,273]
["شیفت افقی کل الگو جلو شلوار (به سانتیمتر)  x1","(از -100 الی100)",15,"بهینه=دلخواه",{"$f":"'طراحی همه الگوها'!N183","v":15},"شیفت افقی کل الگو جلو شلوار (سانتیمتر)  ",1,1,0,0,1,0,-100,-100,100,100,null,null,null,null,null,null,null,null,null,null,null,null,null,null,null,null,null,null,null,null,null,null,null,null,null,null,273.5]
["شیفت عمودی کل الگو جلو شلوار (به سانتیمتر)  y1","(از -100 الی100)",0,"بهینه=دلخواه",{"$f":"'طراحی همه الگوها'!N184","v":0},"شیفت عمودی کل الگو جلو شلوار (سانتیمتر)  ",1,1,0,0,1,0,-100,-100,100,100,null,null,null,null,null,null,null,null,null,null,null,null,null,null,null,null,null,null,null,null,null,null,null,null,null,null,274]
["شیفت افقی کل الگو پشت شلوار (به سانتیمتر)  xp1","(از -100 الی100)",10,"بهینه=دلخواه",{"$f":"'طراحی همه الگوها'!N185","v":10},"شیفت افقی کل الگو پشت شلوار (سانتیمتر)  ",1,1,0,0,1,0,-100,-100,100,100,null,null,null,null,null,null,null,null,null,null,null,null,null,null,null,null,null,null,null,null,null,null,null,null,null,null,274.5]
["شیفت عمودی کل الگو پشت شلوار (به سانتیمتر)  yp1","(از -100 الی100)",0,"بهینه=دلخواه",{"$f":"'طراحی همه الگوها'!N186","v":0},"شیفت عمودی کل الگو پشت شلوار (سانتیمتر)  ",1,1,0,0,1,0,-100,-100,100,100,null,null,null,null,null,null,null,null,null,null,null,null,null,null,null,null,null,null,null,null,null,null,null,null,null,null,275]
[null,null,null,null,null,null,null,null,null,null,null,null,null,null,null,null,null,null,null,null,null,null,null,null,null,null,null,null,null,null,null,null,null,null,null,null,null,null,null,null,null,null,275.5]
[" متغیرهای ورودی - شلوار متصل به بالاتنه",null,null,null,null," متغیرهای ورودی - شلوار متصل به بالاتنه","x1","y1","x2","y2(بهینه)","a","b",null,"کمترین",null,"بیشترین",null,null,null,null,null,null,null,null,null,null,null,null,null,null,null,null,null,null,null,null,null,null,null,null,null,null,276]
[" ضریب بلند شدن فاق در شلوار متصل به بالاتنه   t53 ","(از 0 الی 4)",{"$f":"K602*E602+L602","v":0},"بهینه شلوار متصل به بالاتنه=1\nغیر از آن= 0",{"$f":"'طراحی همه الگوها'!N205","v":10}," ضریب بلند شدن فاق در شلوار متصل به بالاتنه    ",11,0.1,10,0,{"$f":"(J602-H602)/(I602-G602)","v":0.1},{"$f":"H602-G602*K602","v":-1},0,{"$f":"(M602-L602)/K602","v":10},4,{"$f":"(O602-L602)/K602","v":50},1,{"$f":"(Q602-L602)/K602","v":20},null,null,null,null,null,null,null,null,null,null,null,null,null,null,null,null,null,null,null,null,null,null,null,null,276.5]
["ضریب بزرگی پهنای جادکمه پهلو","(از 0 الی 0.1)",{"$f":"K603*E603+L603","v":0.04},"بهینه=0.04",{"$f":"'طراحی همه الگوها'!N206","v":4},"ضریب بزرگی پهنای جادکمه پهلو",1,0.01,0,0,{"$f":"(J603-H603)/(I603-G603)","v":0.01},{"$f":"H603-G603*K603","v":0},0,{"$f":"(M603-L603)/K603","v":0},0.1,{"$f":"(O603-L603)/K603","v":10},0.04,{"$f":"(Q603-L603)/K603","v":4},null,null,null,null,null,null,null,null,null,null,null,null,null,null,null,null,null,null,null,null,null,null,null,null,277]
[null,null,null,null,null,null,null,null,null,null,null,null,null,null,null,null,null,null,null,null,null,null,null,null,null,null,null,null,null,null,null,null,null,null,null,null,null,null,null,null,null,null,277.5]
[" متغیرهای ورودی کمر شلوار",null,null,null,null," متغیرهای ورودی کمر شلوار","x1","y1","x2","y2(بهینه)","a","b",null,"کمترین",null,"بیشترین",null,null,null,null,null,null,null,null,null,null,null,null,null,null,null,null,null,null,null,null,null,null,null,null,null,null,278]
[" پایین آمدن کمر لباس نسبت به کمر اندام به سانتیمتر  t7","(از -2 الی 10)",{"$f":"K606*E606+L606","v":5},"پهنای کش=2الی3  ",{"$f":"'طراحی همه الگوها'!N196","v":-5}," پایین آمدن کمر شلوار نسبت به کمر اندام   ",1,-1,0,0,{"$f":"(J606-H606)/(I606-G606)","v":-1},{"$f":"H606-G606*K606","v":0},-2,{"$f":"(M606-L606)/K606","v":2},10,{"$f":"(O606-L606)/K606","v":-10},2,{"$f":"(Q606-L606)/K606","v":-2},null,null,null,null,null,null,null,null,null,null,null,null,null,null,null,null,null,null,null,null,null,null,null,null,{"$f":"AQ605+0.5","v":278.5}]
[" پهنای کمر شلوار به سانتیمتر  t8","(از 0 الی 10)",3.5,"پهنای کش=2الی3  ",{"$f":"'طراحی همه الگوها'!N197","v":3.5}," پهنای کمر جدا در شلوار  (cm) ",1,1,0,0,1,0,0,0,10,10,2,{"$f":"(Q607-L607)/K607","v":2},null,null,null,null,null,null,null,null,null,null,null,null,null,null,null,null,null,null,null,null,null,null,null,null,279]
["کوتاهی جلو کمر شلوار به سانتیمتر t9","(از -2 الی 10)",0,"بدون کوتاهی=0",{"$f":"'طراحی همه الگوها'!N198","v":0},"کوتاهی جلو کمر شلوار نسبت به پشت کمر شلوار (cm) ",1,-1,0,0,-1,0,-2,2,10,-10,0,{"$f":"(Q608-L608)/K608","v":0},null,null,null,null,null,null,null,null,null,null,null,null,null,null,null,null,null,null,null,null,null,null,null,null,279.5]
["شیفت افقی  جلو کمر شلوار (به سانتیمتر)  t49","(از -100 الی100)",0,"بهینه=دلخواه",{"$f":"'طراحی همه الگوها'!N199","v":0},"شیفت افقی  جلو کمر شلوار (سانتیمتر)  ",1,1,0,0,1,0,-100,-100,100,100,null,null,null,null,null,null,null,null,null,null,null,null,null,null,null,null,null,null,null,null,null,null,null,null,null,null,280]
["شیفت عمودی  جلو کمر شلوار (به سانتیمتر)  t50","(از -100 الی100)",5,"بهینه=دلخواه",{"$f":"'طراحی همه الگوها'!N200","v":5},"شیفت عمودی  جلو کمر شلوار (سانتیمتر)  ",1,1,0,0,1,0,-100,-100,100,100,null,null,null,null,null,null,null,null,null,null,null,null,null,null,null,null,null,null,null,null,null,null,null,null,null,null,280.5]
["شیفت افقی  پشت کمر شلوار (به سانتیمتر)  t51","(از -100 الی100)",0,"بهینه=دلخواه",{"$f":"'طراحی همه الگوها'!N201","v":0},"شیفت افقی  پشت کمر شلوار (سانتیمتر)  ",1,1,0,0,1,0,-100,-100,100,100,null,null,null,null,null,null,null,null,null,null,null,null,null,null,null,null,null,null,null,null,null,null,null,null,null,null,281]
["شیفت عمودی  پشت کمر شلوار (به سانتیمتر)  t52","(از -100 الی100)",5,"بهینه=دلخواه",{"$f":"'طراحی همه الگوها'!N202","v":5},"شیفت عمودی  پشت کمر شلوار (سانتیمتر)  ",1,1,0,0,1,0,-100,-100,100,100,null,null,null,null,null,null,null,null,null,null,null,null,null,null,null,null,null,null,null,null,null,null,null,null,null,null,281.5]
[null,null,null,null,null,null,null,null,null,null,null,null,null,null,null,null,null,null,null,null,null,null,null,null,null,null,null,null,null,null,null,null,null,null,null,null,null,null,null,null,null,null,282]
["اطلاعات شلوار و اندام",null,null,null,null,"اطلاعات شلوار و اندام",null,null,null,null,null,null,null,null,null,null,null,null,null,null,null,null,null,null,null,null,null,null,null,null,null,null,null,null,null,null,null,null,null,null,null,null,282.5]
["گشادی لبه شلوار (محاسبه شده)",{"$f":"ROUND(محاسبات!W568-محاسبات!W567+محاسبات!AG568-محاسبات!AG567,1)","v":39.1},null,null,null,"گشادی لبه شلوار (سانتیمتر) (محاسبه شده)",null,null,null,null,null,null,null,null,null,null,null,null,null,null,null,null,null,null,null,null,null,null,null,null,null,null,null,null,null,null,null,null,null,null,null,null,283]
["دور کمر (اندازه گیری شده)",{"$f":"'متغیرها '!U52","v":75},null,null,null,"دور کمر (سانتیمتر) (اندازه گیری شده)",null,null,null,null,null,null,null,null,null,null,null,null,null,null,null,null,null,null,null,null,null,null,null,null,null,null,null,null,null,null,null,null,null,null,null,null,283.5]
["طول کش برای کل کمر شلوار (محاسبه شده)",{"$f":"ROUND(0.8*B616,1)","v":60},null,null,null,"طول کش برای کل کمر شلوار (سانتیمتر) (محاسبه شده)",null,null,null,null,null,null,null,null,null,null,null,null,null,null,null,null,null,null,null,null,null,null,null,null,null,null,null,null,null,null,null,null,null,null,null,null,{"$f":"AQ616+0.5","v":284}]
["طول کش برای پشت کمر بین دو خط پهلو (محاسبه شده)",{"$f":"ROUND(0.8*'متغیرها '!U53,1)","v":29.4},null,null,null,"طول کش برای پشت کمر بین دو خط پهلو (سانتیمتر) (محاسبه شده)",null,null,null,null,null,null,null,null,null,null,null,null,null,null,null,null,null,null,null,null,null,null,null,null,null,null,null,null,null,null,null,null,null,null,null,null,284.5]
["طول کش از ساسون جلو - پشت - تا ساسون دیگر جلو (محاسبه شده)",{"$f":"ROUND(0.8*('متغیرها '!U53+0.3*('متغیرها '!U52-'متغیرها '!U53)),1)","v":38.6},null,null,null,"طول کش از ساسون جلو - پشت - تا ساسون دیگر جلو (سانتیمتر) (محاسبه شده)",null,null,null,null,null,null,null,null,null,null,null,null,null,null,null,null,null,null,null,null,null,null,null,null,null,null,null,null,null,null,null,null,null,null,null,null,285]
[null,null,null,null,null,null,null,null,null,null,null,null,null,null,null,null,null,null,null,null,null,null,null,null,null,null,null,null,null,null,null,null,null,null,null,null,null,null,null,null,null,null,285.5]
[" متغیرهای ورودی جزئی شلوار",null,null,null,null," متغیرهای ورودی جزئی شلوار","x1","y1","x2","y2(بهینه)","a","b",null,"کمترین",null,"بیشترین",null,null,null,null,null,null,null,null,null,null,null,null,null,null,null,null,null,null,null,null,null,null,null,null,null,null,286]
["ضریب گشادی دور ران یا نسبت گشادی پشت پاچه به جلو پاچه  t5","(از 1 الی 1.5)",{"$f":"K622*E622+L622","v":1.2},"بهینه=1.2",{"$f":"'طراحی همه الگوها'!N209","v":1.2},"ضریب گشادی دور ران یا نسبت گشادی پشت پاچه به جلو پاچه  ",2,2,1,1,{"$f":"(J622-H622)/(I622-G622)","v":1},{"$f":"H622-G622*K622","v":0},1,{"$f":"(M622-L622)/K622","v":1},1.5,{"$f":"(O622-L622)/K622","v":1.5},1.2,{"$f":"(Q622-L622)/K622","v":1.2},null,null,null,null,null,null,null,null,null,null,null,null,null,null,null,null,null,null,null,null,null,null,null,null,286.5]
["زاویه خط پهلو جلو به درجه  t6","(از 0 الی 10)",-1,"بهینه=7\nبهينه پا پرانتزی=4\nکد برای اعمال روش مولر= -1",{"$f":"IF('طراحی همه الگوها'!N210=AN170,-1,'طراحی همه الگوها'!N210)","v":-1},"زاویه خط پهلو جلو به درجه  ",1,1,0,0,1,0,0,0,10,10,7,7,null,null,null,null,null,null,null,null,null,null,null,null,null,null,null,null,null,null,null,null,null,null,null,null,287]
["ضریب پهنای صافی لبه پایین شلوار  t10 ","(از 0 الی 0.5)",0,"بهینه=0.1",{"$f":"'طراحی همه الگوها'!N211","v":0},"ضریب پهنای صافی لبه پایین شلوار   ",1,0.05,0,0,0.05,0,0,0,0.5,10,0.1,2,null,null,null,null,null,null,null,null,null,null,null,null,null,null,null,null,null,null,null,null,null,null,null,null,287.5]
["ضریب بالا یا پایین رفتن خط زانو  t11 ","(از -0.4 الی 0.6)",0,"بدون تغییر=0\nمنفی به سمت بالای زانو\nمثبت به سمت پایین زانو",{"$f":"'طراحی همه الگوها'!N212","v":0},"ضریب بالا یا پایین رفتن خط زانو   ",-1,0.05,0,0,-0.05,0,-0.4,8,0.6,-11.999999999999998,0,0,null,null,null,null,null,null,null,null,null,null,null,null,null,null,null,null,null,null,null,null,null,null,null,null,288]
["ضریب پهنای فاق جلو (در روش مولر این ضریب ثابت مساوی 0.06 می باشد)  t12 ","(از 0.03 الی 0.08)",0.05,"بهینه=0.05",{"$f":"'طراحی همه الگوها'!N213","v":5},"ضریب پهنای فاق جلو (در روش مولر این ضریب ثابت مساوی 0.06 می باشد)   ",1,0.01,0,0,0.01,0,0.03,3,0.08,8,0.05,5,null,null,null,null,null,null,null,null,null,null,null,null,null,null,null,null,null,null,null,null,null,null,null,null,288.5]
["تغییر زاویه خط وسط پا در پشت شلوار  t13 ","(از 0 الی 5)",1,"بهینه=1",{"$f":"'طراحی همه الگوها'!N214","v":2},"تغییر زاویه خط وسط پا در پشت شلوار   ",1,0.5,0,0,0.5,0,0,0,5,10,1,2,null,null,null,null,null,null,null,null,null,null,null,null,null,null,null,null,null,null,null,null,null,null,null,null,289]
["ضریب کوتاه شدن ساسون پشت شلوار  t20 ","(از 0.07 الی 1.5)",1,"بهینه=1",{"$f":"'طراحی همه الگوها'!N215","v":20},"ضریب کوتاه شدن ساسون پشت شلوار   ",1,0.05,0,0,0.05,0,7.0000000000000007E-2,1.4000000000000001,1.5,30,1,20,null,null,null,null,null,null,null,null,null,null,null,null,null,null,null,null,null,null,null,null,null,null,null,null,289.5]
["ضریب کوتاه شدن ساسون جلو شلوار  t21 ","(از 0.1 الی 1.5)",1,"بهینه=1",{"$f":"'طراحی همه الگوها'!N216","v":20},"ضریب کوتاه شدن ساسون جلو شلوار   ",1,0.05,0,0,0.05,0,0.1,2,1.5,30,1,20,null,null,null,null,null,null,null,null,null,null,null,null,null,null,null,null,null,null,null,null,null,null,null,null,290]
["ضریب پهنای ساسون وسط پشت شلوار  t42 ","(از 0 الی 1.5)",1,"بهینه=1\nبهینه جین=0.5\nحذف ساسون وسط=0",{"$f":"'طراحی همه الگوها'!N217","v":10},"ضریب پهنای ساسون وسط پشت شلوار   ",1,0.1,0,0,0.1,0,0,0,1.5,15,0.5,5,null,null,null,null,null,null,null,null,null,null,null,null,null,null,null,null,null,null,null,null,null,null,null,null,290.5]
["ضریب پهنای ساسون پهلو پشت شلوار  t43 ","(از 0 الی 3)",0.5,"بهینه=1\nبهینه جین=1.5\nانتقال ساسون وسط به پهلو=3",{"$f":"'طراحی همه الگوها'!N218","v":5},"ضریب پهنای ساسون پهلو پشت شلوار   ",1,0.1,0,0,0.1,0,0,0,3,30,1,10,null,null,null,null,null,null,null,null,null,null,null,null,null,null,null,null,null,null,null,null,null,null,null,null,291]
["ضریب پهنای ساسون وسط جلو شلوار  t44 ","(از 0 الی 1.5)",1,"بهینه=1\nحذف ساسون وسط=0",{"$f":"'طراحی همه الگوها'!N219","v":10},"ضریب پهنای ساسون وسط جلو شلوار   ",1,0.1,0,0,0.1,0,0,0,1.5,15,1,10,null,null,null,null,null,null,null,null,null,null,null,null,null,null,null,null,null,null,null,null,null,null,null,null,291.5]
["ضریب پهنای ساسون پهلو جلو شلوار  t45 ","(از 0 الی 2)",0.5,"بهینه=1\nانتقال ساسون وسط به پهلو=2",{"$f":"'طراحی همه الگوها'!N220","v":5},"ضریب پهنای ساسون پهلو جلو شلوار   ",1,0.1,0,0,0.1,0,0,0,2,20,1,10,null,null,null,null,null,null,null,null,null,null,null,null,null,null,null,null,null,null,null,null,null,null,null,null,292]
["ضریب حذف ساسون پهلو در کمر جدا شلوار   t15","(از 0 الی 1)",0,"ساسون حذف شود=0\nساسون حذف نشود=1",{"$f":"'طراحی همه الگوها'!N221","v":0},"ضریب حذف ساسون پهلو در کمر جدا شلوار   ",1,0.1,0,0,{"$f":"(J634-H634)/(I634-G634)","v":0.1},{"$f":"H634-G634*K634","v":0},0,0,1,10,1,10,null,null,null,null,null,null,null,null,null,null,null,null,null,null,null,null,null,null,null,null,null,null,null,null,292.5]
[" شبیه ساز   فاق اندازه گیری منهای فاق پشت و جلو",{"$f":"ROUND(محاسبات!L597,1)","v":0.3},null,null,null,null,null,null,null,null,null,null,null,null,null,null,null,null,null,null,null,null,null,null,null,null,null,null,null,null,null,null,null,null,null,null,null,null,null,null,null,null,293]
[" زاویه خط پهلو جلوبه درجه",{"$f":"ROUND(محاسبات!K598,1)","v":6.3},null,null,null,null,null,null,null,null,null,null,null,null,null,null,null,null,null,null,null,null,null,null,null,null,null,null,null,null,null,null,null,null,null,null,null,null,null,null,null,null,293.5]
[" شبیه ساز   زاویه خط پهلو جلوبه درجه",{"$f":"ROUND(محاسبات!L598,1)","v":7.7},null,null,null,null,null,null,null,null,null,null,null,null,null,null,null,null,null,null,null,null,null,null,null,null,null,null,null,null,null,null,null,null,null,null,null,null,null,null,null,null,294]
["زاویه خط پهلو پشت به درجه",{"$f":"ROUND(محاسبات!K599,1)","v":12.3},null,null,null,null,null,null,null,null,null,null,null,null,null,null,null,null,null,null,null,null,null,null,null,null,null,null,null,null,null,null,null,null,null,null,null,null,null,null,null,null,294.5]
[" شبیه ساز   زاویه خط پهلو پشت به درجه",{"$f":"ROUND(محاسبات!L599,1)","v":13.7},null,null,null,null,null,null,null,null,null,null,null,null,null,null,null,null,null,null,null,null,null,null,null,null,null,null,null,null,null,null,null,null,null,null,null,null,null,null,null,null,295]
[null,null,null,null,null,null,null,null,null,null,null,null,null,null,null,null,null,null,null,null,null,null,null,null,null,null,null,null,null,null,null,null,null,null,null,null,null,null,null,null,null,null,295.5]
[" متغیرهای ورودی شلوار - برش پشت جین",null,null,null,null," متغیرهای ورودی شلوار - برش پشت جین","x1","y1","x2","y2(بهینه)","a","b",null,"کمترین",null,"بیشترین",null,null,null,null,null,null,null,null,null,null,null,null,null,null,null,null,null,null,null,null,null,null,null,null,null,null,296]
["ضریب بالا یا پایین شدن خط برش در قسمت پهلو پشت شلوار جین  t19 ","(از 0.01 الی 1",{"$f":"K642*E642+L642","v":0.5},"بهینه=0.5",{"$f":"'طراحی همه الگوها'!N224","v":20},"ضریب بالا یا پایین شدن خط برش در قسمت پهلو پشت شلوار جین   ",19,0.45,20,0.5,{"$f":"(J642-H642)/(I642-G642)","v":4.9999999999999989E-2},{"$f":"H642-G642*K642","v":-0.49999999999999972},0.01,{"$f":"(M642-L642)/K642","v":10.199999999999996},1,{"$f":"(O642-L642)/K642","v":30.000000000000004},0.5,{"$f":"(Q642-L642)/K642","v":20},null,null,null,null,null,null,null,null,null,null,null,null,null,null,null,null,null,null,null,null,null,null,null,null,296.5]
["ضریب بالا یا پایین شدن خط برش در قسمت مرکزی پشت شلوار جین  t28 ","(از 0.01 الی 1",{"$f":"K643*E643+L643","v":0.6},"بهینه=0.6",{"$f":"'طراحی همه الگوها'!N225","v":20},"ضریب بالا یا پایین شدن خط برش در قسمت مرکزی پشت شلوار جین   ",19,0.55000000000000004,20,0.6,{"$f":"(J643-H643)/(I643-G643)","v":4.9999999999999933E-2},{"$f":"H643-G643*K643","v":-0.39999999999999869},0.01,{"$f":"(M643-L643)/K643","v":8.1999999999999851},1,{"$f":"(O643-L643)/K643","v":28.000000000000011},0.6,{"$f":"(Q643-L643)/K643","v":20},null,null,null,null,null,null,null,null,null,null,null,null,null,null,null,null,null,null,null,null,null,null,null,null,297]
[null,null,null,null,null,null,null,null,null,null,null,null,null,null,null,null,null,null,null,null,null,null,null,null,null,null,null,null,null,null,null,null,null,null,null,null,null,null,null,null,null,null,297.5]
[" متغیرهای ورودی دامن شلواری",null,null,null,null," متغیرهای ورودی دامن شلواری","x1","y1","x2","y2(بهینه)","a","b",null,"کمترین",null,"بیشترین",null,null,null,null,null,null,null,null,null,null,null,null,null,null,null,null,null,null,null,null,null,null,null,null,null,null,298]
[" ضریب بلند شدن فاق در دامن شلواری   t46 ","(از 0 الی 2)",{"$f":"K646*E646+L646","v":0},"بهینه دامن شلواری=1\nغیر از دامن شلواری = 0",{"$f":"'طراحی همه الگوها'!N228","v":10}," ضریب بلند شدن فاق در دامن شلواری    ",11,0.1,10,0,{"$f":"(J646-H646)/(I646-G646)","v":0.1},{"$f":"H646-G646*K646","v":-1},0,{"$f":"(M646-L646)/K646","v":10},2,{"$f":"(O646-L646)/K646","v":30},1,{"$f":"(Q646-L646)/K646","v":20},null,null,null,null,null,null,null,null,null,null,null,null,null,null,null,null,null,null,null,null,null,null,null,null,298.5]
["زاویه اوزمان در جلو دامن شلواری به درجه    t47 ","(از 0 الی 30)",{"$f":"K647*E647+L647","v":8},"بهینه=8",{"$f":"'طراحی همه الگوها'!N229","v":8},"زاویه اوزمان در جلو دامن شلواری به درجه     ",1,1,0,0,{"$f":"(J647-H647)/(I647-G647)","v":1},{"$f":"H647-G647*K647","v":0},0,{"$f":"(M647-L647)/K647","v":0},30,{"$f":"(O647-L647)/K647","v":30},8,{"$f":"(Q647-L647)/K647","v":8},null,null,null,null,null,null,null,null,null,null,null,null,null,null,null,null,null,null,null,null,null,null,null,null,299]
["زاویه اوزمان در پشت دامن شلواری به درجه    t48 ","(از 0 الی 30)",{"$f":"K648*E648+L648","v":8},"بهینه=8",{"$f":"'طراحی همه الگوها'!N230","v":8},"زاویه اوزمان در پشت دامن شلواری به درجه     ",1,1,0,0,{"$f":"(J648-H648)/(I648-G648)","v":1},{"$f":"H648-G648*K648","v":0},0,{"$f":"(M648-L648)/K648","v":0},30,{"$f":"(O648-L648)/K648","v":30},8,{"$f":"(Q648-L648)/K648","v":8},null,null,null,null,null,null,null,null,null,null,null,null,null,null,null,null,null,null,null,null,null,null,null,null,299.5]
[null,null,null,null,null,null,null,null,null,null,null,null,null,null,null,null,null,null,null,null,null,null,null,null,null,null,null,null,null,null,null,null,null,null,null,null,null,null,null,null,null,null,300]
[" متغیرهای ورودی شلوار با تکه پهلو جدا",null,null,null,null," متغیرهای ورودی شلوار با تکه پهلو جدا","x1","y1","x2","y2(بهینه)","a","b",null,"کمترین",null,"بیشترین"]
["ضریب پهنای تکه پهلو جلو شلوار  t29 ","(از 0 الی 0.9)",{"$f":"K651*E651+L651","v":0.60000000000000009},"بهینه=0.6",{"$f":"'طراحی همه الگوها'!N233","v":12},"ضریب پهنای تکه پهلو جلو شلوار   ",1,0.05,0,0,{"$f":"(J651-H651)/(I651-G651)","v":0.05},{"$f":"H651-G651*K651","v":0},0,{"$f":"(M651-L651)/K651","v":0},0.9,{"$f":"(O651-L651)/K651","v":18},0.6,{"$f":"(Q651-L651)/K651","v":11.999999999999998}]
["ضریب پهنای تکه پهلو پشت شلوار  t30 ","(از 0 الی 0.9)",0.30000000000000004,"بهینه=0.3",{"$f":"'طراحی همه الگوها'!N234","v":6},"ضریب پهنای تکه پهلو پشت شلوار   ",1,0.05,0,0,0.05,0,0,0,0.9,18,0.3,{"$f":"(Q652-L652)/K652","v":5.9999999999999991}]
["ضریب باریک شدن پایین تکه پهلو جلو شلوار  t31 ","(از 0 الی 4)",0.5,"بهینه=0.5",{"$f":"'طراحی همه الگوها'!N235","v":5},"ضریب باریک شدن پایین تکه پهلو جلو شلوار   ",1,0.1,0,0,0.1,0,0,0,4,40,0.5,{"$f":"(Q653-L653)/K653","v":5}]
["ضریب باریک شدن پایین تکه پهلو پشت شلوار  t32 ","(از 0 الی 4)",0.5,"بهینه=0.5",{"$f":"'طراحی همه الگوها'!N236","v":5},"ضریب باریک شدن پایین تکه پهلو پشت شلوار   ",1,0.1,0,0,0.1,0,0,0,4,40,0.5,{"$f":"(Q654-L654)/K654","v":5}]
["شیفت افقی تکه پهلو شلوار (به سانتیمتر)  t33","(از -100 الی100)",7,"بهینه=3",{"$f":"'طراحی همه الگوها'!N237","v":7},"شیفت افقی تکه پهلو شلوار (سانتیمتر)  ",1,1,0,0,1,0,-100,-100,100,100]
["شیفت عمودی تکه پهلو شلوار (به سانتیمتر)  t34","(از -100 الی100)",0,"بهینه=3",{"$f":"'طراحی همه الگوها'!N238","v":0},"شیفت عمودی تکه پهلو شلوار (سانتیمتر)  ",1,1,0,0,1,0,-100,-100,100,100]
[]
[" متغیرهای ورودی شلوار - رکاب دار",null,null,null,null," متغیرهای ورودی شلوار - رکاب دار","x1","y1","x2","y2(بهینه)","a","b",null,"کمترین",null,"بیشترین"]
["ضریب پهنای رکاب جلو شلوار  t35 ","(از 0.1 الی 2)",{"$f":"K659*E659+L659","v":1},"بهینه=1",{"$f":"'طراحی همه الگوها'!N241","v":20},"ضریب پهنای رکاب جلو شلوار   ",1,0.05,0,0,{"$f":"(J659-H659)/(I659-G659)","v":0.05},{"$f":"H659-G659*K659","v":0},0.1,{"$f":"(M659-L659)/K659","v":2},2,{"$f":"(O659-L659)/K659","v":40},1,{"$f":"(Q659-L659)/K659","v":20}]
["ضریب پهنای رکاب پشت شلوار  t36 ","(از 0.1 الی 2)",1,"بهینه=1",{"$f":"'طراحی همه الگوها'!N242","v":20},"ضریب پهنای رکاب پشت شلوار   ",1,0.05,0,0,0.05,0,0.1,2,2,40,1,20]
["ضریب قله رکاب جلو شلوار  t37 ","(از 0 الی 2)",0,"بهینه=1\nبدون رکاب = 0",{"$f":"'طراحی همه الگوها'!N243","v":0},"ضریب قله رکاب جلو شلوار   ",1,0.05,0,0,0.05,0,0,0,2,40,1,20]
["ضریب قله رکاب پشت شلوار  t38 ","(از 0 الی 2)",0,"بهینه=1\nبدون رکاب = 0",{"$f":"'طراحی همه الگوها'!N244","v":0},"ضریب قله رکاب پشت شلوار   ",1,0.05,0,0,0.05,0,0,0,2,40,1,20]
["ضریب ارتفاع رکاب جلو شلوار  t39 ","(از 0 الی 2)",0,"بهینه=1\nبدون رکاب = 0",{"$f":"'طراحی همه الگوها'!N245","v":0},"ضریب ارتفاع رکاب جلو شلوار   ",1,0.05,0,0,0.05,0,0,0,2,40,1,20]
["ضریب ارتفاع رکاب پشت شلوار  t40 ","(از 0 الی 2)",0,"بهینه=1\nبدون رکاب = 0",{"$f":"'طراحی همه الگوها'!N246","v":0},"ضریب ارتفاع رکاب پشت شلوار   ",1,0.05,0,0,0.05,0,0,0,2,40,1,20]
[]
[" متغیرهای ورودی شلوار - جیب پشت جین",null,null,null,null," متغیرهای ورودی شلوار - جیب پشت جین","x1","y1","x2","y2(بهینه)","a","b",null,"کمترین",null,"بیشترین"]
["ضریب بالا یا پایین شدن جیب پشت شلوار  t22 ","(از 0 الی 4)",{"$f":"K667*E667+L667","v":0.75},"بهینه=0.75",{"$f":"'طراحی همه الگوها'!N255","v":20},"ضریب بالا یا پایین شدن جیب پشت شلوار   ",19,0.7,20,0.75,{"$f":"(J667-H667)/(I667-G667)","v":5.0000000000000044E-2},{"$f":"H667-G667*K667","v":-0.25000000000000089},0,{"$f":"(M667-L667)/K667","v":5.0000000000000133},4,{"$f":"(O667-L667)/K667","v":84.999999999999943},0.75,{"$f":"(Q667-L667)/K667","v":20}]
["زاویه چرخش کل جیب پشت شلوار به درجه t'22 ","(از -90 الی 90)",0,"بهینه=0",{"$f":"'طراحی همه الگوها'!N253","v":45},"زاویه چرخش کل جیب پشت شلوار به درجه  ",46,2,45,0,2,-90,-90,0,90,90,0,45]
["ضریب پهنای جیب پشت شلوار  t23 ","(از 0 الی 1)",0.55000000000000004,"بهینه=0.55",{"$f":"'طراحی همه الگوها'!N249","v":11},"ضریب پهنای جیب پشت شلوار   ",1,0.05,0,0,0.05,0,0,0,1,20,0.55000000000000004,11]
["ضریب ارتفاع جیب پشت شلوار  t24 ","(از 0 الی 1)",0.45,"بهینه=0.45",{"$f":"'طراحی همه الگوها'!N250","v":9},"ضریب ارتفاع جیب پشت شلوار   ",1,0.05,0,0,0.05,0,0,0,1,20,0.45,9]
["زاویه خط پهلو جیب پشت شلوار به درجه t25 ","(از 0 الی 45",5,"بهینه=5",{"$f":"'طراحی همه الگوها'!N251","v":5},"زاویه خط پهلو جیب پشت شلوار به درجه  ",1,1,0,0,1,0,0,0,45,45,5,5]
["زاویه مثلث پایین جیب پشت شلوار به درجه t26 ","(از 0 الی 45)",20,"بهینه=20",{"$f":"'طراحی همه الگوها'!N252","v":20},"زاویه مثلث پایین جیب پشت شلوار به درجه  ",1,1,0,0,1,0,0,0,45,45,20,20]
["چپ و راست رفتن جیب پشت شلوار به سانتی متر   t27 ","(از -100 الی100)",0,"بهینه=0",{"$f":"'طراحی همه الگوها'!N254","v":0},"چپ و راست رفتن جیب پشت شلوار به سانتی متر    ",1,1,0,0,1,0,-100,-100,100,100]
[]
[" متغیرهای ورودی شلوار - جیب جلو مردانه و جین",null,null,null,null," متغیرهای ورودی شلوار - جیب جلو مردانه و جین","x1","y1","x2","y2(بهینه)","a","b",null,"کمترین",null,"بیشترین"]
["ضریب بزرگی عمودی جیب جلو مردانه و جیب جین  t16 ","(از 0.5 الی 1.5)",{"$f":"K676*E676+L676","v":1},"بهینه=1",{"$f":"'طراحی همه الگوها'!N258","v":10},"ضریب بزرگی عمودی جیب جلو مردانه و جیب جین   ",1,0.1,0,0,{"$f":"(J676-H676)/(I676-G676)","v":0.1},{"$f":"H676-G676*K676","v":0},0.5,{"$f":"(M676-L676)/K676","v":5},1.5,{"$f":"(O676-L676)/K676","v":15},1,{"$f":"(Q676-L676)/K676","v":10}]
["ضریب بزرگی افقی جیب جلو مردانه و جیب جین  t17 ","(از 0.5 الی 1.5)",{"$f":"K677*E677+L677","v":1},"بهینه=1",{"$f":"'طراحی همه الگوها'!N259","v":10},"ضریب بزرگی افقی جیب جلو مردانه و جیب جین   ",1,0.1,0,0,{"$f":"(J677-H677)/(I677-G677)","v":0.1},{"$f":"H677-G677*K677","v":0},0.5,{"$f":"(M677-L677)/K677","v":5},1.5,{"$f":"(O677-L677)/K677","v":15},1,{"$f":"(Q677-L677)/K677","v":10}]
["ضریب بزرگی کیسه جیب جلو  t18 ","(از 0.5 الی 1.5)",{"$f":"K678*E678+L678","v":1},"بهینه=1",{"$f":"'طراحی همه الگوها'!N260","v":10},"ضریب بزرگی کیسه جیب جلو   ",1,0.1,0,0,{"$f":"(J678-H678)/(I678-G678)","v":0.1},{"$f":"H678-G678*K678","v":0},0.5,{"$f":"(M678-L678)/K678","v":5},1.5,{"$f":"(O678-L678)/K678","v":15},1,{"$f":"(Q678-L678)/K678","v":10}]
[]
[" متغیرهای ورودی شلوار - جیب جلو درمکان دلخواه",null,null,null,null," متغیرهای ورودی شلوار - جیب جلو درمکان دلخواه","x1","y1","x2","y2(بهینه)","a","b",null,"کمترین",null,"بیشترین"]
["ضریب فاصله افقی وسط جیب از خط مرکزی جلو ","(از 0 الی 1)",{"$f":"K681*E681+L681","v":0.5},"خط مرکزی جلو=0 \nخط پهلو=1  ",{"$f":"'طراحی همه الگوها'!N268","v":10},"ضریب فاصله افقی وسط جیب از خط مرکزی جلو ",20,1,0,0,{"$f":"(J681-H681)/(I681-G681)","v":0.05},{"$f":"H681-G681*K681","v":0},0,{"$f":"(M681-L681)/K681","v":0},1,{"$f":"(O681-L681)/K681","v":20},1,{"$f":"(Q681-L681)/K681","v":20}]
["ضریب فاصله عمودی بالای جیب از زمین ","(از0 الی 5)",2,"خط زمین=0 \nخط زانو=1 \nخط باسن=2 \nخط کمر=3 \nخط سینه=4  ",{"$f":"'طراحی همه الگوها'!N269","v":50},"ضریب فاصله عمودی بالای جیب از زمین ",10,0,30,1,0.05,-0.5,0,10,5,110,1,30]
["عرض پاکت جیب به سانتیمتر","(از 0 الی 4)",2,"بهینه=2",{"$f":"'طراحی همه الگوها'!N263","v":2},"پهنای بلیطی جیب  (سانتیمتر)",1,1,0,0,1,0,0,0,4,4,2,2]
["ضریب طول پاکت جیب","(از 0.01 الی 2)",0.89999999999999991,"بهینه=1",{"$f":"'طراحی همه الگوها'!N264","v":18},"ضریب طول پاکت جیب",19,0.95,20,1,5.0000000000000044E-2,-8.8817841970012523E-16,0.01,0.20000000000001758,2,39.999999999999986,1,20]
["زاویه جیب با عمود به درجه","(از 0 الی 180)",90,"بهینه=دلخواه",{"$f":"'طراحی همه الگوها'!N265","v":18},"زاویه جیب با عمود ",1,5,0,0,5,0,0,0,180,36,20,4]
["زاویه چرخش پاکت جیب از مستطیل به متوازی الاضلاع (به درجه)","(از -90 الی 90)",0,"پاکت مستطیل=0  ",{"$f":"'طراحی همه الگوها'!N266","v":20},"زاویه چرخش پاکت جیب از مستطیل به متوازی الاضلاع ",21,5,20,0,5,-100,-90,2,90,38,0,20]
["انتخاب جیب روکار=1        انتخاب دیگر=0","0 یا 1 ",1,null,{"$f":"'طراحی همه الگوها'!N267","v":2},"انتخاب جیب روکار=2        انتخاب دیگر=1",1,0,2,1,1,-1,0,1,1,2,0,1]
[]
[" متغیرهای ورودی شلوار - جیب پشت درمکان دلخواه",null,null,null,null," متغیرهای ورودی شلوار - جیب پشت درمکان دلخواه","x1","y1","x2","y2(بهینه)","a","b",null,"کمترین",null,"بیشترین"]
["ضریب فاصله افقی وسط جیب از خط مرکزی جلو ","(از 0 الی 1)",{"$f":"K690*E690+L690","v":0.5},"خط مرکزی پشت=0 \nخط پهلو=1  ",{"$f":"'طراحی همه الگوها'!N277","v":10},"ضریب فاصله افقی وسط جیب از خط مرکزی جلو ",20,1,0,0,{"$f":"(J690-H690)/(I690-G690)","v":0.05},{"$f":"H690-G690*K690","v":0},0,{"$f":"(M690-L690)/K690","v":0},1,{"$f":"(O690-L690)/K690","v":20},1,{"$f":"(Q690-L690)/K690","v":20}]
["ضریب فاصله عمودی بالای جیب از زمین ","(از0 الی 5)",2,"خط زمین=0 \nخط زانو=1 \nخط باسن=2 \nخط کمر=3 \nخط سینه=4  ",{"$f":"'طراحی همه الگوها'!N278","v":50},"ضریب فاصله عمودی بالای جیب از زمین ",10,0,30,1,0.05,-0.5,0,10,5,110,1,30]
["عرض پاکت جیب به سانتیمتر","(از 0 الی 4)",2,"بهینه=2",{"$f":"'طراحی همه الگوها'!N272","v":2},"پهنای بلیطی جیب  (سانتیمتر)",1,1,0,0,1,0,0,0,4,4,2,2]
["ضریب طول پاکت جیب","(از 0.01 الی 2)",1,"بهینه=1",{"$f":"'طراحی همه الگوها'!N273","v":20},"ضریب طول پاکت جیب",19,0.95,20,1,5.0000000000000044E-2,-8.8817841970012523E-16,0.01,0.20000000000001758,2,39.999999999999986,1,20]
["زاویه جیب با عمود به درجه","(از 0 الی 180)",90,"بهینه=دلخواه",{"$f":"'طراحی همه الگوها'!N274","v":18},"زاویه جیب با عمود ",1,5,0,0,5,0,0,0,180,36,20,4]
["زاویه چرخش پاکت جیب از مستطیل به متوازی الاضلاع (به درجه)","(از -90 الی 90)",0,"پاکت مستطیل=0  ",{"$f":"'طراحی همه الگوها'!N275","v":20},"زاویه چرخش پاکت جیب از مستطیل به متوازی الاضلاع ",21,5,20,0,5,-100,-90,2,90,38,0,20]
["انتخاب جیب روکار=1        انتخاب دیگر=0","0 یا 1 ",1,null,{"$f":"'طراحی همه الگوها'!N276","v":2},"انتخاب جیب روکار=2        انتخاب دیگر=1",1,0,2,1,1,-1,0,1,1,2,0,1]
["متغیرهای ورودی یقه",null,null,null,null,"متغیرهای ورودی یقه"]
[null,null,"y",null,"x",null,"x1","y1","x2","y2(بهینه)","a","b",null,"کمترین",null,"بیشترین"]
[" متغیرهای ورودی یقه شکاری با پایه",null,null,null,null," متغیرهای ورودی یقه شکاری با پایه"]
["ضریب قد پایه یقه   c20","(از 0.5 الی 2)",{"$f":"K700*E700+L700","v":0.8},"بهینه =0.8",{"$f":"'طراحی مدل 213'!H348","v":8},"ضریب قد پایه یقه   ",1,0.1,0,0,{"$f":"(J700-H700)/(I700-G700)","v":0.1},{"$f":"H700-G700*K700","v":0},0.5,{"$f":"(M700-L700)/K700","v":5},2,{"$f":"(O700-L700)/K700","v":20},0.8,{"$f":"(Q700-L700)/K700","v":8}]
["ضریب قد پشت برگردان یقه   c1","(از 0.5 الی 3)",2.2000000000000002,"بهینه =2",{"$f":"'طراحی مدل 213'!H349","v":22},"ضریب قد پشت برگردان یقه   ",1,0.1,0,0,0.1,0,0.5,5,3,30,2,20]
["ضریب کج شدن یقه به سمت گردن   c2","(از- 2 الی 0)",-1.3,"بهینه = - 1.3",{"$f":"'طراحی مدل 213'!H350","v":-13},"ضریب کج شدن یقه به سمت گردن   ",1,0.1,0,0,0.1,0,-2,-20,0,0,-1.3,-13]
["ضریب قرار گرفتن لبه یقه نسبت به لباس   c3","(از 0.3 الی 1)\n- 1 و ",1,"لبه یقه روی خط جادکمه= - 1\nلبه یقه روی خط سرشانه=0\nلبه یقه روی خط مرکزی جلو=1\nبین خط مرکزی جلو تا سرشانه= \nبین 0 تا 1",{"$f":"IF('طراحی مدل 213'!H351='متغیرها '!AM170,58,IF('طراحی مدل 213'!H351='متغیرها '!AM171,0,'طراحی مدل 213'!H351))","v":0},"ضریب قرار گرفتن لبه یقه نسبت به لباس   ",58,-1,0,1,-3.4482758620689655E-2,1,0.3,20.3,1,0,0.3,20.3]
["زاویه لبه برگردان یقه نسبت به عمود  (به درجه)   c14","(از- 40 الی 60)",20,"بهینه =17 \nلبه برگردان عمود به پایه=0",{"$f":"'طراحی مدل 213'!H352","v":60},"زاویه لبه برگردان یقه نسبت به عمود    ",1,-39,57,17,1,-40,-40,0,60,100,17,57]
["ضریب قد لبه برگردان یقه   c15","(از0.5 الی 4)",2.6,"بهینه =2.3",{"$f":"'طراحی مدل 213'!H353","v":26},"ضریب قد لبه برگردان یقه   ",1,0.1,0,0,0.1,0,0.5,5,4,40,2.2999999999999998,22.999999999999996]
["شیفت افقی پایه یقه  (به سانتیمتر)   c23","(از -100 الی100)",0,"بهینه=دلخواه",{"$f":"'طراحی مدل 213'!H354","v":0},"شیفت افقی پایه یقه  (سانتیمتر)   ",1,1,0,0,1,0,null,1,null,100,0]
["شیفت عمودی پایه یقه  (به سانتیمتر)  c24","(از -100 الی100)",-6,"بهینه=دلخواه",{"$f":"'طراحی مدل 213'!H355","v":-6},"شیفت عمودی پایه یقه  (سانتیمتر)  ",1,1,0,0,1,0,null,1,null,100,0]
[]
[" متغیرهای ورودی یقه فرنچی ایستاده و کاسبرگی",null,null,null,null," متغیرهای ورودی یقه فرنچی ایستاده و کاسبرگی","x1","y1","x2","y2(بهینه)","a","b",null,"کمترین",null,"بیشترین"]
["ضریب قد یقه    c1","(از 0.5 الی 2)",{"$f":"K710*E710+L710","v":1.4000000000000001},"بهینه فرنچی=1.2\nبهینه ایستاده=1.4\nبهینه کاسبرگی=1.8",{"$f":"'طراحی مدل 213'!H330","v":14},"ضریب قد یقه    ",1,0.1,0,0,{"$f":"(J710-H710)/(I710-G710)","v":0.1},{"$f":"H710-G710*K710","v":0},0.5,{"$f":"(M710-L710)/K710","v":5},2,{"$f":"(O710-L710)/K710","v":20},1.4,{"$f":"(Q710-L710)/K710","v":13.999999999999998}]
["ضریب کج شدن یقه به سمت گردن   c2","(از -2 الی 2)",{"$f":"K711*E711+L711","v":1.5},"بهینه فرنچی=1.5\nبهینه ایستاده=0\nبهینه کاسبرگی= - 1\nیقه فرنچی= + \nیقه کاسبرگی= -   ",{"$f":"'طراحی مدل 213'!H331","v":15},"ضریب کج شدن یقه به سمت گردن  ",1,0.1,0,0,{"$f":"(J711-H711)/(I711-G711)","v":0.1},{"$f":"H711-G711*K711","v":0},-2,{"$f":"(M711-L711)/K711","v":-20},2,{"$f":"(O711-L711)/K711","v":20},-1,{"$f":"(Q711-L711)/K711","v":-10}]
["ضریب قرار گرفتن لبه یقه نسبت به لباس   c3     یقه هفت","(از 0.2 الی 1)\n- 1 و ",{"$f":"K712*E712+L712","v":1},"لبه یقه روی خط جادکمه= - 1\nلبه یقه روی خط سرشانه=0\nلبه یقه روی خط مرکزی جلو=1\nبین خط مرکزی جلو تا سرشانه= \nبین 0 تا 1\nبهینه یقه هفت=0.2",{"$f":"IF('طراحی مدل 213'!H332='متغیرها '!AM170,58,IF('طراحی مدل 213'!H332='متغیرها '!AM171,0,'طراحی مدل 213'!H332))","v":0},"ضریب قرار گرفتن لبه یقه نسبت به لباس        ",58,-1,0,1,{"$f":"(J712-H712)/(I712-G712)","v":-3.4482758620689655E-2},{"$f":"H712-G712*K712","v":1},0.2,{"$f":"(M712-L712)/K712","v":23.200000000000003},1,{"$f":"(O712-L712)/K712","v":0},-1,{"$f":"(Q712-L712)/K712","v":58}]
["ضریب انحنا لبه یقه  c4","(از 0.2 الی 1.2)",{"$f":"K713*E713+L713","v":0.2},"بهینه انحنا=0.9",{"$f":"'طراحی مدل 213'!H333","v":5},"ضریب انحنا لبه یقه  ",5,0.2,20,0.9,{"$f":"(J713-H713)/(I713-G713)","v":4.6666666666666662E-2},{"$f":"H713-G713*K713","v":-3.3333333333333298E-2},0.2,{"$f":"(M713-L713)/K713","v":5},1.2,{"$f":"(O713-L713)/K713","v":26.428571428571427},0.01,{"$f":"(Q713-L713)/K713","v":0.92857142857142794}]
[]
[" متغیرهای ورودی شیفت افقی یقه",null,null,null,null," متغیرهای ورودی شیفت افقی یقه"]
["شیفت افقی همه یقه های جدا  (به سانتیمتر)   c5","(از -100 الی100)",{"$f":"K716*E716+L716","v":-5},"بهینه=دلخواه",{"$f":"'طراحی مدل 213'!H319","v":-5},"شیفت افقی همه یقه های جدا  (سانتیمتر)   ",1,1,0,0,{"$f":"(J716-H716)/(I716-G716)","v":1},{"$f":"H716-G716*K716","v":0},null,1,null,100,0]
["شیفت عمودی همه یقه های جدا  (به سانتیمتر)  c6","(از -100 الی100)",{"$f":"K717*E717+L717","v":40},"بهینه=دلخواه",{"$f":"'طراحی مدل 213'!H320","v":40},"شیفت عمودی همه یقه های جدا  (سانتیمتر)  ",1,1,0,0,{"$f":"(J717-H717)/(I717-G717)","v":1},{"$f":"H717-G717*K717","v":0},null,1,null,100,0]
[]
[" متغیرهای ورودی کلاه کلی",null,null,null,null," متغیرهای ورودی کلاه کلی","x1","y1","x2","y2(بهینه)","a","b",null,"کمترین",null,"بیشترین"]
["ضریب بزرگ یا کوچک شدن کلاه","(از -0.2 الی 0.2)",{"$f":"K720*E720+L720","v":0},"بدون تغییر = 0\nکلاه بزرگتر = + \nکلاه کوچکتر =  -  ",{"$f":"'طراحی مدل 213'!H367","v":0},"ضریب بزرگ یا کوچک شدن کلاه",1,0.01,0,0,{"$f":"(J720-H720)/(I720-G720)","v":0.01},{"$f":"H720-G720*K720","v":0},-0.2,{"$f":"(M720-L720)/K720","v":-20},0.2,{"$f":"(O720-L720)/K720","v":20},0,{"$f":"(Q720-L720)/K720","v":0}]
["انتخاب کلاه برای موهای دم اسبی که از پشت بسته شود =1      انتخاب دیگر=0","0 یا 1 ",0,null,{"$f":"'طراحی مدل 213'!H368","v":1},"انتخاب کلاه ملوانی برای موهای دم اسبی که از پشت بسته شود ",1,0,2,1,1,-1,0,1,1,2,1,2]
["ضریب پهنای بلیطی جلو کلاه","(از 0  الی 0.8)",0,"بهینه=0.4",{"$f":"'طراحی مدل 213'!H369","v":0},"ضریب پهنای بلیطی جلو کلاه",1,0.05,0,0,0.05,0,0,0,0.8,16,0.4,8]
["ضریب بلندی بلیطی جلو کلاه","(از 0 الی 1.6)",0,"بهینه=0.7",{"$f":"'طراحی مدل 213'!H370","v":0},"ضریب بلندی بلیطی جلو کلاه",1,0.05,0,0,0.05,0,0,0,1.6,32,0.7,13.999999999999998]
["ضریب بلندی انحنا جلو کلاه","(از 0  الی 1)",0.2,"بهینه=0.2",{"$f":"'طراحی مدل 213'!H371","v":4},"ضریب بلندی انحنا جلو کلاه",1,0.05,0,0,0.05,0,0,0,1,20,0.2,4]
["ضریب پهنای انحنا روی صورت","(از 0  الی 1)",0.4,"بهینه=0.4",{"$f":"'طراحی مدل 213'!H372","v":8},"ضریب پهنای انحنا روی صورت",1,0.05,0,0,0.05,0,0,0,1,20,0.4,8]
["ضریب پهنای انحنا بالای پیشانی","(از 0 الی 1)",0.30000000000000004,"بهینه=0.3",{"$f":"'طراحی مدل 213'!H373","v":6},"ضریب پهنای انحنا بالای پیشانی",1,0.05,0,0,{"$f":"(J726-H726)/(I726-G726)","v":0.05},{"$f":"H726-G726*K726","v":0},0,0,1,20,0.3,5.9999999999999991]
[]
[" متغیرهای ورودی شیفت افقی کلاه",null,null,null,null," متغیرهای ورودی شیفت افقی کلاه","x1","y1","x2","y2(بهینه)","a","b",null,"کمترین",null,"بیشترین"]
["شیفت افقی کلاه  (به سانتیمتر)","(از -100 الی100)",{"$f":"K729*E729+L729","v":-10},"بهینه=دلخواه",{"$f":"'طراحی مدل 213'!H362","v":-10},"شیفت افقی کلاه  (سانتیمتر)",1,1,0,0,{"$f":"(J729-H729)/(I729-G729)","v":1},{"$f":"H729-G729*K729","v":0},null,1,null,100,0]
["شیفت عمودی کلاه (به سانتیمتر)","(از -100 الی100)",{"$f":"K730*E730+L730","v":9},"بهینه=دلخواه",{"$f":"'طراحی مدل 213'!H363","v":9},"شیفت عمودی کلاه (سانتیمتر)",1,1,0,0,{"$f":"(J730-H730)/(I730-G730)","v":1},{"$f":"H730-G730*K730","v":0},null,1,null,100,0]
["جابجایی افقی تکه پشت سر در کلاه سه تکه  (سانتیمتر)","(از -20 الی20)",{"$f":"K731*E731+L731","v":3},"بهینه=دلخواه",{"$f":"'طراحی مدل 213'!H364","v":3},"جابجایی افقی تکه پشت سر در کلاه سه تکه  (سانتیمتر)",1,1,0,0,{"$f":"(J731-H731)/(I731-G731)","v":1},{"$f":"H731-G731*K731","v":0},null,1,null,100,0]
[]
[" متغیرهای ورودی کلاه متصل به یقه مربعی",null,null,null,null," متغیرهای ورودی کلاه متصل به یقه مربعی","x1","y1","x2","y2(بهینه)","a","b",null,"کمترین",null,"بیشترین"]
["ضریب جلو یقه روی خط مرکزی","(از 0.1 الی 0.45)",{"$f":"K734*E734+L734","v":0.3},"بهینه=0.3",{"$f":"'طراحی مدل 213'!H376","v":30},"ضریب جلو یقه روی خط مرکزی",1,0.01,0,0,{"$f":"(J734-H734)/(I734-G734)","v":0.01},{"$f":"H734-G734*K734","v":0},0.1,{"$f":"(M734-L734)/K734","v":10},0.45,{"$f":"(O734-L734)/K734","v":45},0.3,{"$f":"(Q734-L734)/K734","v":30}]
["ضریب نصف جلو کارور","(از 0.2 الی 0.55)",{"$f":"K735*E735+L735","v":0.48},"بهینه=0.48",{"$f":"'طراحی مدل 213'!H377","v":48},"ضریب نصف جلو کارور",1,0.01,0,0,{"$f":"(J735-H735)/(I735-G735)","v":0.01},{"$f":"H735-G735*K735","v":0},0.2,{"$f":"(M735-L735)/K735","v":20},0.55000000000000004,{"$f":"(O735-L735)/K735","v":55},0.48,{"$f":"(Q735-L735)/K735","v":48}]
[]
[" متغیرهای ورودی کلاه ملوانی",null,null,null,null," متغیرهای ورودی کلاه ملوانی","x1","y1","x2","y2(بهینه)","a","b",null,"کمترین",null,"بیشترین"]
["  باز شدن یقه هفت γ1   تعیین شده در یقه انگلیسی لباس","(از 0.6 الی 0.99)",{"$f":"C165","v":0.7}]
["ضریب جلو یقه روی خط مرکزی","(از 0.4 الی 0.99)",{"$f":"K739*E739+L739","v":0.65},null,{"$f":"'طراحی مدل 213'!H380","v":13},"ضریب جلو یقه روی خط مرکزی",1,0.05,0,0,{"$f":"(J739-H739)/(I739-G739)","v":0.05},{"$f":"H739-G739*K739","v":0},0.4,{"$f":"(M739-L739)/K739","v":8},0.99,{"$f":"(O739-L739)/K739","v":19.799999999999997},0.5,{"$f":"(Q739-L739)/K739","v":10}]
["ضریب نصف جلو کارور","(از 0.01 الی 0.1)",{"$f":"K740*E740+L740","v":0.01},null,{"$f":"'طراحی مدل 213'!H381","v":2},"ضریب نصف جلو کارور",1,5.0000000000000001E-3,0,0,{"$f":"(J740-H740)/(I740-G740)","v":5.0000000000000001E-3},{"$f":"H740-G740*K740","v":0},0.01,{"$f":"(M740-L740)/K740","v":2},0.1,{"$f":"(O740-L740)/K740","v":20},0.02,{"$f":"(Q740-L740)/K740","v":4}]
[]
[" متغیرهای ورودی یقه شکاری ",null,null,null,null," متغیرهای ورودی یقه شکاری ","x1","y1","x2","y2(بهینه)","a","b",null,"کمترین",null,"بیشترین"]
["ضریب قد پشت یقه   c1","(از 0.5 الی 3)",{"$f":"K743*E743+L743","v":2.2000000000000002},"بهینه =2",{"$f":"'طراحی مدل 213'!H323","v":22},"ضریب قد پشت یقه   ",1,0.1,0,0,{"$f":"(J743-H743)/(I743-G743)","v":0.1},{"$f":"H743-G743*K743","v":0},0.5,{"$f":"(M743-L743)/K743","v":5},3,{"$f":"(O743-L743)/K743","v":30},2,{"$f":"(Q743-L743)/K743","v":20}]
["ضریب کج شدن  یقه به سمت گردن   c2","(از- 2 الی 0)",{"$f":"K744*E744+L744","v":-0.8},"بهینه = - 0.8",{"$f":"'طراحی مدل 213'!H324","v":-8},"ضریب کج شدن  یقه به سمت گردن   ",1,0.1,0,0,{"$f":"(J744-H744)/(I744-G744)","v":0.1},{"$f":"H744-G744*K744","v":0},-2,{"$f":"(M744-L744)/K744","v":-20},0,{"$f":"(O744-L744)/K744","v":0},-0.8,{"$f":"(Q744-L744)/K744","v":-8}]
["ضریب قرار گرفتن لبه یقه نسبت به لباس   c3","(از 0.3 الی 1)\n- 1 و ",{"$f":"K745*E745+L745","v":1},"لبه یقه روی خط جادکمه= - 1\nلبه یقه روی خط سرشانه=0\nلبه یقه روی خط مرکزی جلو=1\nبین خط مرکزی جلو تا سرشانه= \nبین 0 تا 1",{"$f":"IF('طراحی مدل 213'!H325='متغیرها '!AM170,58,IF('طراحی مدل 213'!H325='متغیرها '!AM171,0,'طراحی مدل 213'!H325))","v":0},"ضریب قرار گرفتن لبه یقه نسبت به لباس   ",58,-1,0,1,{"$f":"(J745-H745)/(I745-G745)","v":-3.4482758620689655E-2},{"$f":"H745-G745*K745","v":1},0.3,{"$f":"(M745-L745)/K745","v":20.3},1,{"$f":"(O745-L745)/K745","v":0},-1,{"$f":"(Q745-L745)/K745","v":58}]
["زاویه لبه برگردان یقه نسبت به عمود  (به درجه)   c14","(از- 40 الی 60)",{"$f":"K746*E746+L746","v":15},"بهینه =17 \nلبه برگردان عمود به پایه=0",{"$f":"'طراحی مدل 213'!H326","v":55},"زاویه لبه برگردان یقه نسبت به عمود     ",1,-39,57,17,{"$f":"(J746-H746)/(I746-G746)","v":1},{"$f":"H746-G746*K746","v":-40},-40,{"$f":"(M746-L746)/K746","v":0},60,{"$f":"(O746-L746)/K746","v":100},17,{"$f":"(Q746-L746)/K746","v":57}]
["ضریب قد لبه برگردان یقه   c15","(از0.5 الی 4)",{"$f":"K747*E747+L747","v":2.6},"بهینه =2.3",{"$f":"'طراحی مدل 213'!H327","v":26},"ضریب قد لبه برگردان یقه   ",1,0.1,0,0,{"$f":"(J747-H747)/(I747-G747)","v":0.1},{"$f":"H747-G747*K747","v":0},0.5,{"$f":"(M747-L747)/K747","v":5},4,{"$f":"(O747-L747)/K747","v":40},2.2999999999999998,{"$f":"(Q747-L747)/K747","v":22.999999999999996}]
[]
[" متغیرهای ورودی یقه شومیزیه ",null,null,null,null," متغیرهای ورودی یقه شومیزیه ","x1","y1","x2","y2(بهینه)","a","b",null,"کمترین",null,"بیشترین"]
["ضریب قد پایه یقه   c1","(از 0.5 الی 2)",{"$f":"K750*E750+L750","v":0.9},"بهینه =1.5",{"$f":"'طراحی مدل 213'!H336","v":9},"ضریب قد پایه یقه   ",1,0.1,0,0,{"$f":"(J750-H750)/(I750-G750)","v":0.1},{"$f":"H750-G750*K750","v":0},0.5,{"$f":"(M750-L750)/K750","v":5},2,{"$f":"(O750-L750)/K750","v":20},1.5,{"$f":"(Q750-L750)/K750","v":15}]
["ضریب کج شدن پایه یقه به سمت گردن   c2","پایه جدا :\n(از0.1 الی 2)\nپایه سرخود :\n(از 0 الی -1 )",0.5,"بهینه پایه جدا =0.5 \nبهینه پایه سرخود= - 0.4",{"$f":"'طراحی مدل 213'!H337","v":5},"ضریب کج شدن پایه یقه به سمت گردن   ",1,0.1,0,0,{"$f":"(J751-H751)/(I751-G751)","v":0.1},{"$f":"H751-G751*K751","v":0},-1,-10,2,20,-0.4,-4]
["ضریب قرار گرفتن لبه پایه یقه نسبت به لباس   c3","(از 0.3 الی 1)\n- 1 و ",-1,"لبه یقه روی خط جادکمه= - 1\nلبه یقه روی خط سرشانه=0\nلبه یقه روی خط مرکزی جلو=1\nبین خط مرکزی جلو تا سرشانه= \nبین 0 تا 1",{"$f":"IF('طراحی مدل 213'!H338='متغیرها '!AM170,58,IF('طراحی مدل 213'!H338='متغیرها '!AM171,0,'طراحی مدل 213'!H338))","v":58},"ضریب قرار گرفتن لبه پایه یقه نسبت به لباس   ",58,-1,0,1,{"$f":"(J752-H752)/(I752-G752)","v":-3.4482758620689655E-2},{"$f":"H752-G752*K752","v":1},0.3,20.3,1,0,1,0]
["ضریب انحنا لبه پایه یقه  c4","(از 0.2 الی 1.2)",0.89999999999999991,"بهینه انحنا=0.9",{"$f":"'طراحی مدل 213'!H339","v":20},"ضریب انحنا لبه پایه یقه  ",5,0.2,20,0.9,{"$f":"(J753-H753)/(I753-G753)","v":4.6666666666666662E-2},{"$f":"H753-G753*K753","v":-3.3333333333333298E-2},0.2,5,1.2,26.428571428571427,0.9,20.000000000000004]
["ضریب قد پشت برگردان یقه   c1","(از 0.5 الی 3)",1.6,"بهینه =2.1",{"$f":"'طراحی مدل 213'!H340","v":16},"ضریب قد پشت برگردان یقه   ",1,0.1,0,0,{"$f":"(J754-H754)/(I754-G754)","v":0.1},{"$f":"H754-G754*K754","v":0},0.5,5,3,30,2.1,21]
["ضریب کج شدن برگردان یقه به سمت گردن   c2","پایه جدا :\n(از - 0.1 الی -2 )\nپایه سرخود :\n(از 0 الی  -1  )",-0.60000000000000009,"بهینه پایه جدا =  - 0.7 \nبهینه پایه سرخود= - 0.4",{"$f":"'طراحی مدل 213'!H341","v":-6},"ضریب کج شدن برگردان یقه به سمت گردن   ",1,0.1,0,0,0.1,0,-2,-20,0,0,-0.7,-6.9999999999999991]
["زاویه لبه برگردان یقه نسبت به عمود  (به درجه)   c14","(از- 40 الی 60)",0,"بهینه =5 \nلبه برگردان عمود به پایه=0",{"$f":"'طراحی مدل 213'!H342","v":40},"زاویه لبه برگردان یقه نسبت به عمود    ",1,-39,57,17,1,-40,-40,0,60,100,5,45]
["ضریب قد لبه برگردان یقه   c15","(از0.5 الی 4)",2.3000000000000003,"بهینه =2",{"$f":"'طراحی مدل 213'!H343","v":23},"ضریب قد لبه برگردان یقه   ",1,0.1,0,0,0.1,0,0.5,5,4,40,2,20]
["شیفت افقی برگردان یقه  (به سانتیمتر)   c16","(از -100 الی100)",-5,"بهینه=دلخواه",{"$f":"'طراحی مدل 213'!H344","v":-5},"شیفت افقی برگردان یقه  (سانتیمتر)   ",1,1,0,0,1,0,null,1,null,100,0]
["شیفت عمودی برگردان یقه  (به سانتیمتر)  c17","(از -100 الی100)",50,"بهینه=دلخواه",{"$f":"'طراحی مدل 213'!H345","v":50},"شیفت عمودی برگردان یقه  (سانتیمتر)  ",1,1,0,0,1,0,null,1,null,100,0]
[]
[" متغیرهای ورودی یقه ب ب مثلثی و گرد",null,null,null,null," متغیرهای ورودی یقه ب ب مثلثی و گرد","x1","y1","x2","y2(بهینه)","a","b",null,"کمترین",null,"بیشترین"]
["زاویه جلو یقه ب ب مثلثی","(از 0 الی 50)",{"$f":"K762*E762+L762","v":25},"بهینه=25",{"$f":"'طراحی مدل 213'!H358","v":25},"زاویه جلو یقه ب ب مثلثی",19,19,20,20,{"$f":"(J762-H762)/(I762-G762)","v":1},{"$f":"H762-G762*K762","v":0},0,{"$f":"(M762-L762)/K762","v":0},50,{"$f":"(O762-L762)/K762","v":50},25,{"$f":"(Q762-L762)/K762","v":25}]
["ضریب پهنای یقه ب ب مثلثی و گرد ","(از 0.3 الی 1)",{"$f":"K763*E763+L763","v":0.6},"بهینه=0.5",{"$f":"'طراحی مدل 213'!H359","v":25},"ضریب پهنای یقه ب ب مثلثی و گرد ",10,0.3,20,0.5,{"$f":"(J763-H763)/(I763-G763)","v":0.02},{"$f":"H763-G763*K763","v":9.9999999999999978E-2},0.3,{"$f":"(M763-L763)/K763","v":10},1,{"$f":"(O763-L763)/K763","v":45},0.5,{"$f":"(Q763-L763)/K763","v":20}]
[]
[]
["متغیرهای ورودی دامن",null,null,null,null,"متغیرهای ورودی یقه"]
[null,null,"y",null,"x",null,"x1","y1","x2","y2(بهینه)","a","b",null,"کمترین",null,"بیشترین"]
[" متغیرهای ورودی زیپ و چاک دامن",null,null,null,null," متغیرهای ورودی یقه شکاری با پایه"]
["عرض (پهنا) زیپ در خط پهلو  (سانتیمتر)   ","(از 0 الی 10)",{"$f":"K769*E769+L769","v":0},"بهینه =3",{"$f":"'طراحی همه الگوها'!E376","v":0},"ضریب قد پایه یقه   ",1,1,0,0,{"$f":"(J769-H769)/(I769-G769)","v":1},{"$f":"H769-G769*K769","v":0},0,{"$f":"(M769-L769)/K769","v":0},10,{"$f":"(O769-L769)/K769","v":10},3,{"$f":"(Q769-L769)/K769","v":3}]
["ضریب طول (بلندی) زیپ در خط پهلو  ","(از 0 الی 20)",16,"بهینه =16",{"$f":"'طراحی همه الگوها'!E377","v":16},"ضریب قد پشت برگردان یقه   ",1,1,0,0,1,0,0,0,20,20,16,16]
["عرض (پهنا) زیپ در خط مرکزی پشت  (سانتیمتر)   ","(از 0 الی 10)",0,"بهینه =3",{"$f":"'طراحی همه الگوها'!E378","v":0},"ضریب کج شدن یقه به سمت گردن   ",1,1,0,0,1,0,0,0,10,10,3,3]
["ضریب طول (بلندی) زیپ در خط مرکزی پشت  ","(از 0 الی 20)",16,"بهینه =16",{"$f":"'طراحی همه الگوها'!E379","v":16},"ضریب قرار گرفتن لبه یقه نسبت به لباس   ",1,1,0,0,1,0,0,0,20,20,16,16]
["عرض (پهنا) چاک در خط مرکزی پشت  (سانتیمتر)   ","(از 0 الی 10)",0,"بهینه =4",{"$f":"'طراحی همه الگوها'!E380","v":0},"زاویه لبه برگردان یقه نسبت به عمود    ",1,1,0,0,1,0,0,0,10,10,4,4]
["ضریب طول (بلندی) چاک در خط مرکزی پشت  ","(از 0 الی 20)",0,"بهینه =16",{"$f":"'طراحی همه الگوها'!E381","v":0},"ضریب قد لبه برگردان یقه   ",1,1,0,0,1,0,0,0,20,20,16,16]
[]
[" پیلی ها  (متقارن یا نامتقارن در جلو دامن)",null,null,null,null," پیلی ها  (متقارن یا نامتقارن در جلو دامن)"]
[" عرض پیلی 2 (بعد از دوخت) - جلو  (سانتیمتر)     ","(از 0 الی 10)",{"$f":"K777*E777+L777","v":0},"بهینه =3",{"$f":"'طراحی همه الگوها'!E384","v":0}," عرض پیلی 2 (بعد از دوخت) - جلو  (سانتیمتر)     ",1,1,0,0,{"$f":"(J777-H777)/(I777-G777)","v":1},{"$f":"H777-G777*K777","v":0},0,{"$f":"(M777-L777)/K777","v":0},10,{"$f":"(O777-L777)/K777","v":10},3,{"$f":"(Q777-L777)/K777","v":3}]
[" عرض پیلی 3 (بعد از دوخت) - جلو  (سانتیمتر)   ","(از 0 الی 10)",0,"بهینه =3",{"$f":"'طراحی همه الگوها'!E385","v":0}," عرض پیلی 3 (بعد از دوخت) - جلو  (سانتیمتر)   ",1,1,0,0,1,0,0,0,20,20,16,16]
[" عرض پیلی 4 (بعد از دوخت) - جلو   (سانتیمتر)   ","(از 0 الی 10)",0,"بهینه =3",{"$f":"'طراحی همه الگوها'!E386","v":0}," عرض پیلی 4 (بعد از دوخت) - جلو   (سانتیمتر)   ",1,1,0,0,1,0,0,0,10,10,3,3]
[" عرض پیلی 5 (بعد از دوخت) - روی خط مرکزی جلو  (سانتیمتر)    ","(از 0 الی 10)",0,"بهینه =3",{"$f":"'طراحی همه الگوها'!E387","v":0}," عرض پیلی 5 (بعد از دوخت) - روی خط مرکزی جلو  (سانتیمتر)    ",1,1,0,0,1,0,0,0,20,20,16,16]
[" عرض پیلی 6 (بعد از دوخت) -  جلو  (سانتیمتر)     ","(از 0 الی 10)",0,"بهینه =3",{"$f":"'طراحی همه الگوها'!E388","v":0}," عرض پیلی 6 (بعد از دوخت) -  جلو  (سانتیمتر)     ",1,1,0,0,1,0,0,0,10,10,4,4]
[" عرض پیلی 7 (بعد از دوخت) - جلو   (سانتیمتر)   ","(از 0 الی 10)",0,"بهینه =3",{"$f":"'طراحی همه الگوها'!E389","v":0}," عرض پیلی 7 (بعد از دوخت) - جلو   (سانتیمتر)   ",1,1,0,0,1,0,0,0,20,20,16,16]
[" عرض پیلی 8 (بعد از دوخت) - جلو   (سانتیمتر)   ","(از 0 الی 10)",0,"بهینه =3",{"$f":"'طراحی همه الگوها'!E390","v":0}," عرض پیلی 8 (بعد از دوخت) - جلو   (سانتیمتر)   ",1,1,0,0,1,0,0,0,10,10,4,4]
[]
[" پیلی ها  (متقارن یا نامتقارن در پهلو دامن)",null,null,null,null," پیلی ها  (متقارن یا نامتقارن در پهلو دامن)"]
[" عرض پیلی 1 (بعد از دوخت) - روی پهلو چپ  (سانتیمتر)    ","(از 0 الی 10)",{"$f":"K786*E786+L786","v":0},"بهینه =3",{"$f":"'طراحی همه الگوها'!E393","v":0}," عرض پیلی 1 (بعد از دوخت) - روی پهلو چپ  (سانتیمتر)    ",1,1,0,0,{"$f":"(J786-H786)/(I786-G786)","v":1},{"$f":"H786-G786*K786","v":0},0,{"$f":"(M786-L786)/K786","v":0},10,{"$f":"(O786-L786)/K786","v":10},4,{"$f":"(Q786-L786)/K786","v":4}]
[" عرض پیلی 9 (بعد از دوخت) - روی پهلو راست   (سانتیمتر)   ","(از 0 الی 10)",{"$f":"K787*E787+L787","v":0},"بهینه =3",{"$f":"'طراحی همه الگوها'!E394","v":0}," عرض پیلی 9 (بعد از دوخت) - روی پهلو راست   (سانتیمتر)   ",1,1,0,0,{"$f":"(J787-H787)/(I787-G787)","v":1},{"$f":"H787-G787*K787","v":0},0,{"$f":"(M787-L787)/K787","v":0},20,{"$f":"(O787-L787)/K787","v":20},16,{"$f":"(Q787-L787)/K787","v":16}]
[]
[" پیلی ها  (متقارن یا نامتقارن در پشت دامن)",null,null,null,null," پیلی ها  (متقارن یا نامتقارن در پشت دامن)"]
[" عرض پیلی 10 (بعد از دوخت) - پشت  (سانتیمتر)     ","(از 0 الی 10)",{"$f":"K790*E790+L790","v":0},"بهینه =3",{"$f":"'طراحی همه الگوها'!E397","v":0}," عرض پیلی 10 (بعد از دوخت) - پشت  (سانتیمتر)     ",1,1,0,0,{"$f":"(J790-H790)/(I790-G790)","v":1},{"$f":"H790-G790*K790","v":0},0,{"$f":"(M790-L790)/K790","v":0},10,{"$f":"(O790-L790)/K790","v":10},3,{"$f":"(Q790-L790)/K790","v":3}]
[" عرض پیلی 11 (بعد از دوخت) - پشت  (سانتیمتر)   ","(از 0 الی 10)",0,"بهینه =3",{"$f":"'طراحی همه الگوها'!E398","v":0}," عرض پیلی 11 (بعد از دوخت) - پشت  (سانتیمتر)   ",1,1,0,0,1,0,0,0,20,20,16,16]
[" عرض پیلی 12 (بعد از دوخت) - پشت   (سانتیمتر)   ","(از 0 الی 10)",0,"بهینه =3",{"$f":"'طراحی همه الگوها'!E399","v":0}," عرض پیلی 12 (بعد از دوخت) - پشت   (سانتیمتر)   ",1,1,0,0,1,0,0,0,10,10,3,3]
[" عرض پیلی 13 (بعد از دوخت) - روی خط مرکزی پشت  (سانتیمتر)    ","(از 0 الی 10)",0,"بهینه =3",{"$f":"'طراحی همه الگوها'!E400","v":0}," عرض پیلی 13 (بعد از دوخت) - روی خط مرکزی پشت  (سانتیمتر)    ",1,1,0,0,1,0,0,0,20,20,16,16]
[" عرض پیلی 14 (بعد از دوخت) -  پشت  (سانتیمتر)     ","(از 0 الی 10)",0,"بهینه =3",{"$f":"'طراحی همه الگوها'!E401","v":0}," عرض پیلی 14 (بعد از دوخت) -  پشت  (سانتیمتر)     ",1,1,0,0,1,0,0,0,10,10,4,4]
[" عرض پیلی 15 (بعد از دوخت) - پشت   (سانتیمتر)   ","(از 0 الی 10)",0,"بهینه =3",{"$f":"'طراحی همه الگوها'!E402","v":0}," عرض پیلی 15 (بعد از دوخت) - پشت   (سانتیمتر)   ",1,1,0,0,1,0,0,0,20,20,16,16]
[" عرض پیلی 16 (بعد از دوخت) - پشت   (سانتیمتر)   ","(از 0 الی 10)",0,"بهینه =3",{"$f":"'طراحی همه الگوها'!E403","v":0}," عرض پیلی 16 (بعد از دوخت) - پشت   (سانتیمتر)   ",1,1,0,0,1,0,0,0,10,10,4,4]
["جابجایی افقی قرینه پشت دامن (سانتیمتر)","(از -50 الی50)",0,"بهینه=دلخواه",{"$f":"'طراحی همه الگوها'!E404","v":0},"جابجایی افقی قرینه پشت دامن (سانتیمتر)",1,1,0,0,1,0,null,1,null,100,0]
[]
["طراحی دامن چند طبقه چین"]
["j0   اتصال به دامن تنگ = 3    اتصال به بالاتنه با ساسون=2   اتصال به پیراهن راسته=1","1 یا 2 یا 3 ",{"$f":"K800*E800+L800","v":3},null,{"$f":"'طراحی همه الگوها'!E407","v":3},"اتصال به دامن تنگ = 3    اتصال به بالاتنه با ساسون=2   اتصال به پیراهن راسته=1",1,1,2,2,{"$f":"(J800-H800)/(I800-G800)","v":1},{"$f":"H800-G800*K800","v":0},null,1,null,2]
["مکان پایین دامن طبقه اول   j2 ","(از 0 الی 4)",0.75,"خط زمین=0 \nخط زانو=1 \nخط باسن=2 \nخط کمر=3 \nخط سینه=4  ",{"$f":"'طراحی همه الگوها'!E408","v":25},"مکان پایین دامن طبقه اول    ",10,0,30,1,0.05,-0.5,0,{"$f":"(M801-L801)/K801","v":10},4,100,0.25,{"$f":"(Q801-L801)/K801","v":15}]
["چین در دامن طبقه اول   j3","(از 0 الی 3)",1,null,{"$f":"'طراحی همه الگوها'!E409","v":2},"چین در دامن طبقه اول",2,1,1,0,1,-1,0,1,3,{"$f":"(O802-L802)/K802","v":4},0.9,1.9]
["مکان پایین دامن طبقه دوم    j4","(از 0 الی 4)",0.5,"خط زمین=0 \nخط زانو=1 \nخط باسن=2 \nخط کمر=3 \nخط سینه=4  ",{"$f":"'طراحی همه الگوها'!E410","v":20},"مکان پایین دامن طبقه دوم    ",10,0,30,1,0.05,-0.5,0,10,4,100,0.25,15]
["چین در دامن طبقه دوم    j5","(از 0 الی 3)",0,null,{"$f":"'طراحی همه الگوها'!E411","v":1},"چین در دامن طبقه دوم",2,1,1,0,1,-1,0,1,3,{"$f":"(O804-L804)/K804","v":4},0.9,1.9]
["مکان پایین دامن طبقه سوم    j6","(از 0 الی 4)",0.25,"خط زمین=0 \nخط زانو=1 \nخط باسن=2 \nخط کمر=3 \nخط سینه=4  ",{"$f":"'طراحی همه الگوها'!E412","v":15},"مکان پایین دامن طبقه سوم    ",10,0,30,1,0.05,-0.5,0,10,4,100,0.25,15]
["چین در دامن طبقه سوم   j7","(از 0 الی 3)",0,null,{"$f":"'طراحی همه الگوها'!E413","v":1},"چین در دامن طبقه سوم",2,1,1,0,1,-1,0,1,3,{"$f":"(O806-L806)/K806","v":4},0.9,1.9]
["مکان پایین دامن طبقه چهارم    j8","(از 0 الی 4)",0,"خط زمین=0 \nخط زانو=1 \nخط باسن=2 \nخط کمر=3 \nخط سینه=4  ",{"$f":"'طراحی همه الگوها'!E414","v":10},"مکان پایین دامن طبقه چهارم    ",10,0,30,1,0.05,-0.5,0,10,4,100,0.25,15]
["چین در دامن طبقه چهارم    j9","(از 0 الی 3)",0,null,{"$f":"'طراحی همه الگوها'!E415","v":1},"چین در دامن طبقه چهارم",2,1,1,0,1,-1,0,1,3,{"$f":"(O808-L808)/K808","v":4},0.9,1.9]
["جابجایی افقی جلو دامن چند طبقه (سانتیمتر)  j10","(از -100 الی100)",0,"بهینه=دلخواه",{"$f":"'طراحی همه الگوها'!E416","v":0},"جابجایی افقی جلو دامن چند طبقه (سانتیمتر)",1,1,0,0,1,0,-100,-100,100,{"$f":"(O809-L809)/K809","v":100}]
["جابجایی عمودی جلو دامن چند طبقه (سانتیمتر)  j11","(از -100 الی100)",0,"بهینه=دلخواه",{"$f":"'طراحی همه الگوها'!E417","v":0},"جابجایی عمودی جلو دامن چند طبقه (سانتیمتر)",1,1,0,0,1,0,-100,-100,100,{"$f":"(O810-L810)/K810","v":100}]
["جابجایی افقی پشت دامن چند طبقه (سانتیمتر)   j12","(از -100 الی100)",0,"بهینه=دلخواه",{"$f":"'طراحی همه الگوها'!E418","v":0},"جابجایی افقی پشت دامن چند طبقه (سانتیمتر)",1,1,0,0,1,0,-100,-100,100,{"$f":"(O811-L811)/K811","v":100}]
["جابجایی عمودی پشت دامن چند طبقه (سانتیمتر)  j13","(از -100 الی100)",0,"بهینه=دلخواه",{"$f":"'طراحی همه الگوها'!E419","v":0},"جابجایی عمودی پشت دامن چند طبقه (سانتیمتر)",1,1,0,0,1,0,-100,-100,100,{"$f":"(O812-L812)/K812","v":100}]
[]
["طراحی دامن لنگی دراپه"]
["پهنای هر دراپه (پیلی) به سانتیمتر   n0","(از 0 الی 20)",{"$f":"K815*E815+L815","v":3},null,{"$f":"'طراحی همه الگوها'!E422","v":3},null,1,1,2,2,{"$f":"(J815-H815)/(I815-G815)","v":1},{"$f":"H815-G815*K815","v":0},null,1,null,2]
["مکان نقطه شروع دراپه روی خط پهلو  n1 ","(از 1 الی 40)",26,null,{"$f":"'طراحی همه الگوها'!E423","v":26},null,1,1,2,2,1,0,null,1,null,2]
["مکان نقطه شروع دراپه در پایین لباس   n2","(از 1 الی 40)",26,null,{"$f":"'طراحی همه الگوها'!E424","v":26},null,1,1,2,2,1,0,null,1,null,2]
["مکان پیلی اول روی خط کمر  n3","(از 1 الی 40)",10,null,{"$f":"'طراحی همه الگوها'!E425","v":10},null,1,1,2,2,1,0,null,1,null,2]
["مکان پیلی دوم روی خط کمر  n4","(از 1 الی 40)",20,null,{"$f":"'طراحی همه الگوها'!E426","v":20},null,1,1,2,2,1,0,null,1,null,2]
["مکان پیلی سوم روی خط کمر  n5","(از 1 الی 40)",30,null,{"$f":"'طراحی همه الگوها'!E427","v":30},null,1,1,2,2,1,0,null,1,null,2]
["پهنای هر دراپه به درجه   n0",{"$f":"ROUND(DEGREES(محاسبات!LU325),1)","v":9.3000000000000007}]
[]
[" دامن با والان"]
["پهنای هر یک از پیلی ها روی کمر  (سانتیمتر)  w1","(از 0 الی 20)",{"$f":"K824*E824+L824","v":5},null,{"$f":"'طراحی همه الگوها'!E430","v":5},null,1,1,2,2,{"$f":"(J824-H824)/(I824-G824)","v":1},{"$f":"H824-G824*K824","v":0},null,1,null,2]
["فاصله  پیلی اول تا خط مرکزی جلو   w0","(از 0 الی 40)",{"$f":"K825*E825+L825","v":15},null,{"$f":"'طراحی همه الگوها'!E431","v":15},null,1,1,2,2,{"$f":"(J825-H825)/(I825-G825)","v":1},{"$f":"H825-G825*K825","v":0},null,1,null,2]
[" لبه پایینی دامن والان روی خط مرکزی پشت    w2","(از 0 الی 4)",{"$f":"K826*E826+L826","v":0},"خط زمین=0 \nخط زانو=1 \nخط باسن=2 \nخط کمر=3 \nخط سینه=4  ",{"$f":"'طراحی همه الگوها'!E432","v":10},null,10,0,30,1,{"$f":"(J826-H826)/(I826-G826)","v":0.05},{"$f":"H826-G826*K826","v":-0.5},0,{"$f":"(M826-L826)/K826","v":10},4,100,0.25,{"$f":"(Q826-L826)/K826","v":15}]
[" لبه پایینی دامن والان روی درز پهلو  w3  ","(از 0 الی 4)",{"$f":"K827*E827+L827","v":0.25},"خط زمین=0 \nخط زانو=1 \nخط باسن=2 \nخط کمر=3 \nخط سینه=4  ",{"$f":"'طراحی همه الگوها'!E433","v":15},null,10,0,30,1,{"$f":"(J827-H827)/(I827-G827)","v":0.05},{"$f":"H827-G827*K827","v":-0.5},0,{"$f":"(M827-L827)/K827","v":10},4,100,0.25,{"$f":"(Q827-L827)/K827","v":15}]
[" لبه بالایی دامن والان روی درز پهلو   w5","(از 0 الی 4)",{"$f":"K828*E828+L828","v":1.5},"خط زمین=0 \nخط زانو=1 \nخط باسن=2 \nخط کمر=3 \nخط سینه=4  ",{"$f":"'طراحی همه الگوها'!E434","v":40},null,10,0,30,1,{"$f":"(J828-H828)/(I828-G828)","v":0.05},{"$f":"H828-G828*K828","v":-0.5},0,{"$f":"(M828-L828)/K828","v":10},4,100,0.25,{"$f":"(Q828-L828)/K828","v":15}]
[]
[]
[]
["متغیرهای ورودی بافت ",null,null,null,null,"متغیرهای ورودی بافت ","x1","y1","x2","y2(بهینه)","a","b",null,"کمترین",null,"بیشترین"]
["طراحی بافت جلو پشت آستین"]
["انتخاب ضخامت میل و کاموا بافتنی","(2 یا 3 یا 4) ",{"$f":"K834*E834+L834","v":2},null,{"$f":"'طراحی همه الگوها'!H274","v":2},"انتخاب ضخامت میل بافتنی",3,3,2,2,{"$f":"(J834-H834)/(I834-G834)","v":1},{"$f":"H834-G834*K834","v":0},2,{"$f":"(M834-L834)/K834","v":2},4,{"$f":"(O834-L834)/K834","v":4},3,{"$f":"(Q834-L834)/K834","v":3}]
["شماره بافت انتخابی جادکمه","(1 الی 50) ",{"$f":"K835*E835+L835","v":1},null,{"$f":"'طراحی همه الگوها'!H275","v":1},"شماره بافت انتخابی جلو",3,3,2,2,{"$f":"(J835-H835)/(I835-G835)","v":1},{"$f":"H835-G835*K835","v":0},2,{"$f":"(M835-L835)/K835","v":2},4,{"$f":"(O835-L835)/K835","v":4},3,{"$f":"(Q835-L835)/K835","v":3}]
["شماره بافت انتخابی جلو","(1 الی 50) ",{"$f":"K836*E836+L836","v":1},null,{"$f":"'طراحی همه الگوها'!H276","v":1},"شماره بافت انتخابی جلو",3,3,2,2,{"$f":"(J836-H836)/(I836-G836)","v":1},{"$f":"H836-G836*K836","v":0},2,{"$f":"(M836-L836)/K836","v":2},4,{"$f":"(O836-L836)/K836","v":4},3,{"$f":"(Q836-L836)/K836","v":3}]
["شماره بافت انتخابی پشت","(1 الی 50) ",{"$f":"K837*E837+L837","v":1},null,{"$f":"'طراحی همه الگوها'!H277","v":1},"شماره بافت انتخابی پشت",3,3,2,2,{"$f":"(J837-H837)/(I837-G837)","v":1},{"$f":"H837-G837*K837","v":0},2,{"$f":"(M837-L837)/K837","v":2},4,{"$f":"(O837-L837)/K837","v":4},3,{"$f":"(Q837-L837)/K837","v":3}]
["شماره بافت انتخابی آستین","(1 الی 50) ",{"$f":"K838*E838+L838","v":1},null,{"$f":"'طراحی همه الگوها'!H278","v":1},"شماره بافت انتخابی آستین",3,3,2,2,{"$f":"(J838-H838)/(I838-G838)","v":1},{"$f":"H838-G838*K838","v":0},2,{"$f":"(M838-L838)/K838","v":2},4,{"$f":"(O838-L838)/K838","v":4},3,{"$f":"(Q838-L838)/K838","v":3}]
[]
["طراحی بافت یقه شکاری"]
["شماره مدل یقه شکاری","(1 الی 50) ",{"$f":"K841*E841+L841","v":14},null,{"$f":"'طراحی همه الگوها'!H284","v":14},"شماره مدل یقه شکاری",3,3,2,2,{"$f":"(J841-H841)/(I841-G841)","v":1},{"$f":"H841-G841*K841","v":0},2,{"$f":"(M841-L841)/K841","v":2},4,{"$f":"(O841-L841)/K841","v":4},3,{"$f":"(Q841-L841)/K841","v":3}]
[]
["طراحی بافت یقه شومیزیه"]
["شماره مدل یقه شومیزیه","(1 الی 50) ",{"$f":"K844*E844+L844","v":12},null,{"$f":"'طراحی همه الگوها'!H287","v":12},"شماره مدل یقه شومیزیه",3,3,2,2,{"$f":"(J844-H844)/(I844-G844)","v":1},{"$f":"H844-G844*K844","v":0},2,{"$f":"(M844-L844)/K844","v":2},4,{"$f":"(O844-L844)/K844","v":4},3,{"$f":"(Q844-L844)/K844","v":3}]
[]
["طراحی بافت یقه ب ب "]
["شماره مدل یقه ب ب","(1 الی 50) ",{"$f":"K847*E847+L847","v":12},null,{"$f":"'طراحی همه الگوها'!H290","v":12},"شماره مدل یقه ب ب",3,3,2,2,{"$f":"(J847-H847)/(I847-G847)","v":1},{"$f":"H847-G847*K847","v":0},2,{"$f":"(M847-L847)/K847","v":2},4,{"$f":"(O847-L847)/K847","v":4},3,{"$f":"(Q847-L847)/K847","v":3}]
[]
[]
[]
[]
["طراحی نقشه بافت"]
["جابجایی افقی کل نقشه  (سانتیمتر)   ","(از -100 الی100)",{"$f":"K853*E853+L853","v":-5},"بهینه=دلخواه",{"$f":"'طراحی همه الگوها'!H248","v":-5},"جابجایی افقی کل نقشه  (سانتیمتر)   ",1,1,0,0,{"$f":"(J853-H853)/(I853-G853)","v":1},{"$f":"H853-G853*K853","v":0},-100,{"$f":"(M853-L853)/K853","v":-100},100,{"$f":"(O853-L853)/K853","v":100}]
["جابجایی عمودی کل نقشه  (سانتیمتر)  ","(از -100 الی100)",0,"بهینه=دلخواه",{"$f":"'طراحی همه الگوها'!H249","v":0},"جابجایی عمودی کل نقشه  (سانتیمتر)  ",1,1,0,0,{"$f":"(J854-H854)/(I854-G854)","v":1},{"$f":"H854-G854*K854","v":0},-100,{"$f":"(M854-L854)/K854","v":-100},100,{"$f":"(O854-L854)/K854","v":100}]
["نسبت نقشه بافت به سایز واقعی","(1 الی 40) ",42,"بهینه=20",{"$f":"'طراحی همه الگوها'!H250","v":42},"نسبت نقشه بافت به سایز واقعی",3,3,2,2,{"$f":"(J855-H855)/(I855-G855)","v":1},{"$f":"H855-G855*K855","v":0},2,{"$f":"(M855-L855)/K855","v":2},4,{"$f":"(O855-L855)/K855","v":4},3,{"$f":"(Q855-L855)/K855","v":3}]
["ارتفاع هر رج","(0.05 الی 3) ",2,"بهینه=0.8",{"$f":"'طراحی همه الگوها'!H251","v":40},"ارتفاع هر رج",1,0.05,0,0,{"$f":"(J856-H856)/(I856-G856)","v":0.05},{"$f":"H856-G856*K856","v":0},0,{"$f":"(M856-L856)/K856","v":0},2,{"$f":"(O856-L856)/K856","v":40},1,{"$f":"(Q856-L856)/K856","v":20}]
["پهنای نیم دایره","(0 الی 3) ",0.5,"بهینه=0.5",{"$f":"'طراحی همه الگوها'!H252","v":10},"پهنای نیم دایره",1,0.05,0,0,0.05,0,0,0,2,40,1,20]
["طول باکس نوشته","(2 الی 20) ",4.5,"بهینه=4.5",{"$f":"'طراحی همه الگوها'!H253","v":9},"طول باکس نوشته",1,0.5,0,0,{"$f":"(J858-H858)/(I858-G858)","v":0.5},{"$f":"H858-G858*K858","v":0},0,{"$f":"(M858-L858)/K858","v":0},2,{"$f":"(O858-L858)/K858","v":4},1,{"$f":"(Q858-L858)/K858","v":2}]
["پهنای باکس نوشته","(0.2 الی 2) ",0.5,"بهینه=0.6",{"$f":"'طراحی همه الگوها'!H254","v":10},"پهنای باکس نوشته",1,0.05,0,0,0.05,0,0,0,2,40,1,20]
["بزرگی فلش رج","(0 الی 2) ",0.60000000000000009,"بهینه=0.3",{"$f":"'طراحی همه الگوها'!H255","v":12},"بزرگی فلش",1,0.05,0,0,0.05,0,0,0,2,40,1,20]
["زاویه فلش رج","(0 الی 2) ",0.5,"بهینه=0.5",{"$f":"'طراحی همه الگوها'!H256","v":10},"زاویه فلش",1,0.05,0,0,{"$f":"(J861-H861)/(I861-G861)","v":0.05},{"$f":"H861-G861*K861","v":0},0,{"$f":"(M861-L861)/K861","v":0},2,{"$f":"(O861-L861)/K861","v":40},1,{"$f":"(Q861-L861)/K861","v":20}]
["بزرگی خط عمودی دانه","(0 الی 2) ",{"$f":"K862*E862+L862","v":0.30000000000000004},"بهینه=0.3",{"$f":"'طراحی همه الگوها'!H257","v":6},"بزرگی فلش",1,0.05,0,0,0.05,0,0,0,2,40,1,20]
["بزرگی فلش دانه","(0 الی 2) ",{"$f":"K863*E863+L863","v":0.5},"بهینه=0.3",{"$f":"'طراحی همه الگوها'!H258","v":10},"بزرگی فلش",1,0.05,0,0,0.05,0,0,0,2,40,1,20]
["زاویه فلش دانه","(0 الی 2) ",{"$f":"K864*E864+L864","v":0.75},"بهینه=0.5",{"$f":"'طراحی همه الگوها'!H259","v":15},"زاویه فلش",1,0.05,0,0,{"$f":"(J864-H864)/(I864-G864)","v":0.05},{"$f":"H864-G864*K864","v":0},0,{"$f":"(M864-L864)/K864","v":0},2,{"$f":"(O864-L864)/K864","v":40},1,{"$f":"(Q864-L864)/K864","v":20}]
["جابجایی افقی راهنمای نقشه  (سانتیمتر)   ","(از -100 الی100)",{"$f":"K865*E865+L865","v":-45},"بهینه=دلخواه",{"$f":"'طراحی همه الگوها'!H260","v":-45},"جابجایی افقی راهنمای نقشه  (سانتیمتر)   ",1,1,0,0,{"$f":"(J865-H865)/(I865-G865)","v":1},{"$f":"H865-G865*K865","v":0},-100,{"$f":"(M865-L865)/K865","v":-100},100,{"$f":"(O865-L865)/K865","v":100}]
["جابجایی عمودی راهنمای نقشه  (سانتیمتر)  ","(از -100 الی100)",{"$f":"K866*E866+L866","v":5},"بهینه=دلخواه",{"$f":"'طراحی همه الگوها'!H261","v":5},"جابجایی عمودی راهنمای نقشه  (سانتیمتر)  ",1,1,0,0,{"$f":"(J866-H866)/(I866-G866)","v":1},{"$f":"H866-G866*K866","v":0},-100,{"$f":"(M866-L866)/K866","v":-100},100,{"$f":"(O866-L866)/K866","v":100}]
[]
["توضیح کاربر:"]
["پهنای باکس توضیحات (سانتیمتر)","(1 الی 30) ",{"$f":"K869*E869+L869","v":15},"بهینه=20",{"$f":"'طراحی همه الگوها'!H268","v":15},"پهنای باکس توضیحات (سانتیمتر)",3,3,2,2,{"$f":"(J869-H869)/(I869-G869)","v":1},{"$f":"H869-G869*K869","v":0},2,{"$f":"(M869-L869)/K869","v":2},4,{"$f":"(O869-L869)/K869","v":4},3,{"$f":"(Q869-L869)/K869","v":3}]
["ارتفاع باکس توضیحات (سانتیمتر)","(1 الی 30) ",{"$f":"K870*E870+L870","v":15},"بهینه=20",{"$f":"'طراحی همه الگوها'!H269","v":15},"ارتفاع باکس توضیحات (سانتیمتر)",3,3,2,2,{"$f":"(J870-H870)/(I870-G870)","v":1},{"$f":"H870-G870*K870","v":0},2,{"$f":"(M870-L870)/K870","v":2},4,{"$f":"(O870-L870)/K870","v":4},3,{"$f":"(Q870-L870)/K870","v":3}]
["جابجایی افقی توضیحات کاربر  (سانتیمتر)   ","(از -100 الی100)",{"$f":"K871*E871+L871","v":35},"بهینه=دلخواه",{"$f":"'طراحی همه الگوها'!H270","v":35},"جابجایی افقی توضیحات کاربر  (سانتیمتر)   ",1,1,0,0,{"$f":"(J871-H871)/(I871-G871)","v":1},{"$f":"H871-G871*K871","v":0},-100,{"$f":"(M871-L871)/K871","v":-100},100,{"$f":"(O871-L871)/K871","v":100}]
["جابجایی عمودی توضیحات کاربر  (سانتیمتر)  ","(از -100 الی100)",{"$f":"K872*E872+L872","v":20},"بهینه=دلخواه",{"$f":"'طراحی همه الگوها'!H271","v":20},"جابجایی عمودی توضیحات کاربر  (سانتیمتر)  ",1,1,0,0,{"$f":"(J872-H872)/(I872-G872)","v":1},{"$f":"H872-G872*K872","v":0},-100,{"$f":"(M872-L872)/K872","v":-100},100,{"$f":"(O872-L872)/K872","v":100}]

{"sheet":"رسم دستی دامن نیم کلوش","index":3,"n_rows":33,"n_cols":3,"rows_kept":33,"cut":false,"hidden":false,"merged":[]}
[]
[]
[]
[]
[]
[]
[]
[]
[]
[]
[]
[]
[]
[]
[]
[]
[]
[]
[]
[null,"رسم دستی الگو جلو و پشت "]
[null," دامن نیم کلوش"]
["(1 → 2)",{"$f":"محاسبات!AW280","v":26.5},"(cm)"]
["(1 → 3)",{"$f":"محاسبات!AW286","v":83.7},"(cm)"]
["(1 → 4)",{"$f":"B22","v":26.5},"عمود (cm)"]
["(1 → 5)",{"$f":"B23","v":83.7},"(cm)"]
["(2 →4)","هلال دایروی"]
["(3 →5)","هلال دایروی"]
[]
[]
[]
["اندازه های ورودی"]
["دور کمر",{"$f":"محاسبات!BF287","v":83.2},"cm"]
["قد دامن",{"$f":"محاسبات!BF288","v":57.2},"cm"]

{"sheet":"رسم دستی دامن کلوش","index":4,"n_rows":40,"n_cols":9,"rows_kept":40,"cut":false,"hidden":false,"merged":[]}
[]
[]
[]
[]
[]
[]
[]
[]
[]
[]
[]
[]
[]
[]
[]
[]
[]
[]
[null,null,null,null,null,null,null,null,"رسم دستی الگو جلو و پشت "]
[null,null,null,null,null,null,null," دامن کلوش"]
[null,null,null,null,null,null,"(1 → 2)",{"$f":"محاسبات!BF279","v":13.2},"cm"]
[null,null,null,null,null,null,"(1 → 3)",{"$f":"H21","v":13.2},"cm"]
[null,null,null,null,null,null,"(1 → 4)",{"$f":"H21","v":13.2},"cm"]
[null,null,null,null,null,null,"(1 → 5)",{"$f":"محاسبات!BF285","v":70.400000000000006},"cm"]
[null,null,null,null,null,null,"(1 →6)",{"$f":"H24","v":70.400000000000006},"cm"]
[null,null,null,null,null,null,"(1 →7)",{"$f":"H24","v":70.400000000000006},"cm"]
[null,null,null,null,null,null,"(2 →3 →4)","هلال دایروی"]
[null,null,null,null,null,null,"(5 →6 →7)","هلال دایروی"]
[]
[]
[]
[]
[]
[]
[]
[]
[]
[null,null,null,null,null,null,"اندازه های ورودی"]
[null,null,null,null,null,null,"دور کمر",{"$f":"محاسبات!BF287","v":83.2},"cm"]
[null,null,null,null,null,null,"قد دامن",{"$f":"محاسبات!BF288","v":57.2},"cm"]

{"sheet":"نمونه بافت","index":5,"n_rows":0,"n_cols":0,"rows_kept":0,"cut":false,"hidden":true,"merged":[]}

{"sheet":"راهنما ","index":6,"n_rows":0,"n_cols":0,"rows_kept":0,"cut":false,"hidden":false,"merged":[]}

{"sheet":"اندازه های شخصی","index":7,"n_rows":35,"n_cols":85,"rows_kept":35,"cut":false,"hidden":false,"merged":[]}
[]
[]
[]
[]
[null,null,null,null,"عنوان مورد نظر خود را در قسمت سبز رنگ وارد کنید",null,"عنوان 1",null,"عنوان 2",null,"عنوان 3",null,"عنوان 4",null,"عنوان 5",null,"عنوان 6",null,"عنوان 7",null,"عنوان 8",null,"عنوان 9",null,"عنوان 10",null,"عنوان 11",null,"عنوان 12",null,"عنوان 13",null,"عنوان 14",null,"عنوان 15",null,"عنوان 16",null,"عنوان 17",null,"عنوان 18",null,"عنوان 19",null,"عنوان 20",null,"عنوان 21",null,"عنوان 22",null,"عنوان 23",null,"عنوان 24",null,"عنوان 25",null,"عنوان 26",null,"عنوان 27",null,"عنوان 28",null,"عنوان 29",null,"عنوان 30",null,"عنوان 31",null,"عنوان 32",null,"عنوان 33",null,"عنوان 34",null,"عنوان 35",null,"عنوان 36",null,"عنوان 37",null,"عنوان 38",null,"عنوان 39",null,"عنوان 40"]
[]
[null,null,null,null,null,null,"اندازه شخصی 1",null,"اندازه شخصی 2",null,"اندازه شخصی 3",null,"اندازه شخصی 3",null,"اندازه شخصی 5",null,"اندازه شخصی 6",null,"اندازه شخصی 7",null,"اندازه شخصی 8",null,"اندازه شخصی 9",null,"اندازه شخصی 10",null,"اندازه شخصی 11",null,"اندازه شخصی 12",null,"اندازه شخصی 13",null,"اندازه شخصی 14",null,"اندازه شخصی 15",null,"اندازه شخصی 16",null,"اندازه شخصی 17",null,"اندازه شخصی 18",null,"اندازه شخصی 19",null,"اندازه شخصی 20",null,"اندازه شخصی 21",null,"اندازه شخصی 22",null,"اندازه شخصی 23",null,"اندازه شخصی 24",null,"اندازه شخصی 25",null,"اندازه شخصی 26",null,"اندازه شخصی 27",null,"اندازه شخصی 28",null,"اندازه شخصی 29",null,"اندازه شخصی 30",null,"اندازه شخصی 31",null,"اندازه شخصی 32",null,"اندازه شخصی 33",null,"اندازه شخصی 34",null,"اندازه شخصی 35",null,"اندازه شخصی 36",null,"اندازه شخصی 37",null,"اندازه شخصی 38",null,"اندازه شخصی 39",null,"اندازه شخصی 40"]
[null,null,null,null,"دور کمر","a"]
[null,null,null,null,"نوار کمر از پشت بین دو خط پهلو","b"]
[null,null,null,null,"دور باسن","c"]
[null,null,null,null,"نوار باسن از پشت بین دو خط پهلو","d"]
[null,null,null,null,"فاصله نوار کمر تا زمین، از قسمت جلو","e"]
[null,null,null,null,"فاصله نوار کمر تا زمین، از قسمت پهلو","f"]
[null,null,null,null,"فاصله نوار کمر تا زمین، از قسمت پشت","g"]
[null,null,null,null,"فاصله نوار زانو تا زمین","h"]
[null,null,null,null,"فاصله نوار باسن تا زمین","j"]
[null,null,null,null,"دور زانو","L"]
[null,null,null,null,"بلندی فاق","m"]
[null,null,null,null,"آنفورشور","q"]
[null,null,null,null,"دور مچ پا","r"]
[null,null,null,null,"شلوار زنانه و بچگانه = 0       مردانه=1      بچه با پوشک=2"]
[null,null,null,null,"دور سینه : از برجسته ترین قسمت سینه","s1"]
[null,null,null,null,"پشت نوار سینه، بین دو خط پهلو","s2"]
[null,null,null,null,"فاصله عمودی از خط سینه جلو تا خط سینه پشت که از کنار حلقه آستین بگذرد","t1"]
[null,null,null,null,"فاصله عمودی از خط سینه جلو تا خط سینه پشت که از کنارگردن بگذرد","t2"]
[null,null,null,null,"فاصله عمودی از خط کمر جلو تا خط کمر پشت که از کنار گردن بگذرد","t3"]
[null,null,null,null,"فاصله عمودی بین خط سینه پشت و سرشانه، نزدیک دست","t4"]
[null,null,null,null,"فاصله عمودی بین خط سینه پشت و سرشانه، نزدیک گردن","t5"]
[null,null,null,null,"فاصله عمودی بین خط کمرپشت و سرشانه، نزدیک گردن","t6"]
[null,null,null,null,"دور گردن (متر به طور عمودی دور گردن قرار می گیرد و از روی استخوان ترقوه می گذرد)","v"]
[null,null,null,null,"کارور پشت (بین دو خط امتداد زیر بغل)","v3"]
[null,null,null,null,"دور بازو از ناحیه زیر بغل","w2"]
[null,null,null,null,"قد آستین (دست به طور خمیده، قد از سرشانه تا مچ)","w10"]
[null,null,null,null,"دور مچ دست","w11"]
[null,null,null,null,"دور سر","w12"]

{"sheet":"اندازه گیری و تحلیل","index":8,"n_rows":487,"n_cols":26,"rows_kept":487,"cut":false,"hidden":false,"merged":[[401,25,402,25],[222,8,222,13]]}
[]
[]
[]
[null,null,null,null,null,"0 الی 30","خیلی کم"]
[null,null,null,"برای اندام شما :",null,"30 الی 50","کم",null,null,null,"قد سرشانه تا زمین",{"$f":"L419","v":160}]
[null,null,null,"برجستگی سینه جلو",null,"50 الی 70","متوسط",null,null,null,"تمام قد (تقریبی)",{"$f":"L420","v":180}]
[null,null,null,{"$f":"L479","v":73},null,"70 الی 90","زیاد"]
[null,null,null,null,null,"90 الی 200","خیلی زیاد"]
[]
[]
[]
[null,null,null,null,null,"0 الی 20","خیلی کم"]
[null,null,null,"برای اندام شما :",null,"20 الی 40","کم"]
[null,null,null,"برجستگی باسن",null,"40 الی 60","متوسط"]
[null,null,null,{"$f":"L476","v":57},null,"60 الی 80","زیاد"]
[null,null,null,null,null,"80 الی 200","خیلی زیاد"]
[]
[]
[]
[null,null,null,null,null,"3 الی - 20","شکم تخت"]
[null,null,null,"برای اندام شما :",null,"3 الی 6"]
[null,null,null,"برجستگی شکم نسبت به سینه",null,"6 الی 10"]
[null,null,null,{"$f":"L484","v":5},null,"10 الی 20","شکم در امتداد سینه"]
[null,null,null,null,null,"20 الی 30","شکم برجسته تراز سینه"]
[null,null,null,null,null,"30 الی 40","شکم حاملگی"]
[null,null,null,null,null,"40 الی 150","شکم حاملگی بزرگ"]
[]
[]
[]
[null,null,null,null,null,"0الی 10","خیلی کم"]
[null,null,null,"برای اندام شما :",null,"10 الی 15","کم"]
[null,null,null,"افتادگی سرشانه",null,"15 الی 20","متوسط"]
[null,null,null,{"$f":"L474","v":20},null,"20 الی 25","زیاد"]
[null,null,null,null,null,"25 الی 50","خیلی زیاد"]
[]
[]
[]
[]
[]
[]
[]
[]
[]
[]
[]
[]
[]
[]
[]
[]
[]
[]
[null,null,null,"خطای درجه 1 "]
[null,null,null,{"$f":"IF(AND(V404>20,V404<200),\" \",\" اندازه  a تکرار شود.\")","v":" "}]
[null,null,null,{"$f":"IF(AND(V405>10,V405<100),\" \",\" اندازه  b تکرار شود.\")","v":" "}]
[null,null,null,{"$f":"IF(AND(V406>20,V406<200),\" \",\" اندازه  c تکرار شود.\")","v":" "}]
[null,null,null,{"$f":"IF(AND(V407>10,V407<100),\" \",\" اندازه  d تکرار شود.\")","v":" "}]
[null,null,null,{"$f":"IF(AND(V408>15,V408<140),\" \",\" اندازه  e تکرار شود.\")","v":" "}]
[]
[null,null,null,{"$f":"IF(AND(V410>15,V410<140),\" \",\" اندازه  g تکرار شود.\")","v":" "}]
[null,null,null,{"$f":"IF(AND(V411>5,V411<70),\" \",\" اندازه  h تکرار شود.\")","v":" "}]
[null,null,null,{"$f":"IF(AND(V412>10,V412<120),\" \",\" اندازه  j تکرار شود.\")","v":" "}]
[null,null,null,{"$f":"IF(AND(V413>15,V413<70),\" \",\" اندازه  L تکرار شود.\")","v":" "}]
[null,null,null,{"$f":"IF(AND(W414>10,W414<50),\" \",\" اندازه  m تکرار شود.\")","v":" "}]
[null,null,null,{"$f":"IF(AND(V415>25,V415<140),\" \",\" اندازه  q تکرار شود.\")","v":" "}]
[null,null,null,{"$f":"IF(AND(V416>10,V416<80),\" \",\" اندازه  r تکرار شود.\")","v":" "}]
[null,null,null,{"$f":"IF(AND(V424>20,V424<200),\" \",\" اندازه  s1 تکرار شود.\")","v":" "}]
[null,null,null,{"$f":"IF(AND(V425>10,V425<100),\" \",\" اندازه  s2 تکرار شود.\")","v":" "}]
[null,null,null,{"$f":"IF(AND(V426>12,V426<75),\" \",\" اندازه  t1 تکرار شود.\")","v":" "}]
[null,null,null,{"$f":"IF(AND(V427>13,V427<80),\" \",\" اندازه  t2 تکرار شود.\")","v":" "}]
[null,null,null,{"$f":"IF(AND(V428>20,V428<120),\" \",\" اندازه  t3 تکرار شود.\")","v":" "}]
[null,null,null,{"$f":"IF(AND(V429>6,V429<40),\" \",\" اندازه  t4 تکرار شود.\")","v":" "}]
[null,null,null,{"$f":"IF(AND(V430>7,V430<50),\" \",\" اندازه  t5 تکرار شود.\")","v":" "}]
[null,null,null,{"$f":"IF(AND(V431>10,V431<70),\" \",\" اندازه  t6 تکرار شود.\")","v":" "}]
[null,null,null,{"$f":"IF(AND(V432>15,V432<55),\" \",\" اندازه  v  تکرار شود.\")","v":" "}]
[null,null,null,{"$f":"IF(AND(V433>10,V433<80),\" \",\" اندازه  v3 تکرار شود.\")","v":" "}]
[null,null,null,{"$f":"IF(AND(V434>10,V434<70),\" \",\" اندازه  w2 تکرار شود.\")","v":" "}]
[null,null,null,{"$f":"IF(AND(V435>10,V435<80),\" \",\" اندازه  w10 تکرار شود.\")","v":" "}]
[null,null,null,{"$f":"IF(AND(V436>8,V436<30),\" \",\" اندازه  w11 تکرار شود.\")","v":" "}]
[null,null,null,{"$f":"IF(AND(V437>20,V437<70),\" \",\" اندازه  w12 تکرار شود.\")","v":" "}]
[]
[null,null,null,"خطای درجه 2 "]
[null,null,null,{"$f":"IF(W412>0.9*W410,\"اندازه  j  را دوباره تکرار کنید - j کم شود.\",\"  \")","v":"  "}]
[null,null,null,{"$f":"IF(W411>0.65*W412,\"اندازه گیری h را دوباره تکرار کنید - h کم شود.\",\"  \")","v":"  "}]
[null,null,null,{"$f":"IF(W414>0.45*W415,\"یا m کم شود یا q زیاد شود.\",\"  \")","v":"  "}]
[null,null,null,{"$f":"IF(V413>0.47*V406,\"اندازه گیری  L را دوباره تکرار کنید - L کم شود.\",\"  \")","v":"  "}]
[null,null,null,{"$f":"IF(V416>1.7*V436,\"دور مچ پا (r)  کم شود\",\"  \")","v":"  "}]
[null,null,null,{"$f":"IF(V416<1.2*V436,\"دور مچ پا (r)  زیاد شود\",\"  \")","v":"  "}]
[null,null,null,{"$f":"IF(V413<0.3*V406,\"اندازه گیری  L را دوباره تکرار کنید - زیاد شود.\",\"  \")","v":"  "}]
[null,null,null,{"$f":"IF(W412<0.65*W410,\"اندازه  j  را دوباره تکرار کنید - j زیاد شود.\",\"  \")","v":"  "}]
[null,null,null,{"$f":"IF(W415<0.5*V406,\"اندازه گیری  q را دوباره تکرار کنید - q زیاد شود.\",\"  \")","v":"  "}]
[null,null,null,{"$f":"IF(W414<0.3*W415,\"یا m زیاد شود یا q کم شود.\",\"  \")","v":"  "}]
[null,null,null,{"$f":"IF(V407>0.7*V406,\"نوار پهلو در قسمت باسن به سمت پشت متمایل شود و اندازه های d و c تکرار شود\",\"  \")","v":"  "}]
[null,null,null,{"$f":"IF(V405>0.7*V404,\"نوار پهلو در قسمت کمر به سمت پشت متمایل شود و اندازه های a و b تکرار شود\",\"  \")","v":"  "}]
[null,null,null,{"$f":"IF(W427>0.8*W428,\"نوار سینه و نوار کمر در جلو از هم دور شود و اندازه های t2 و t3 و t5 و t6 تکرار شود.\",\"  \")","v":"  "}]
[null,null,null,{"$f":"IF(V430>0.75*V431,\"نوار کمر و نوار سینه در پشت از هم دور شود و اندازه های t6  و t5 تکرار شود.\",\"  \")","v":"  "}]
[null,null,null,{"$f":"IF(W426>0.99*W427,\"اندام با سینه تو رفته، نوار سینه و نوار سرشانه افقی و صاف شود و اندازه های t1 و t2 و t4 و t5 تکرار شود.\",\"  \")","v":"  "}]
[null,null,null,{"$f":"IF(V429>V430,\"نوار سینه و نوار سرشانه افقی و صاف شود و اندازه های t5  و t4 تکرار شود.\",\"  \")","v":"  "}]
[null,null,null,{"$f":"IF(V432>0.6*V424,\"اندازه های s1  و v تکرار شود.\",\"  \")","v":"  "}]
[null,null,null,{"$f":"IF(V434>0.6*V424,\"اندازه های s1  و w2 تکرار شود.\",\"  \")","v":"  "}]
[null,null,null,{"$f":"IF(V435<0.5*V428,\"اندازه های t3  و w10 تکرار شود.\",\"  \")","v":"  "}]
[null,null,null,{"$f":"IF(V436>V434,\"اندازه های w2  و w11 تکرار شود.\",\"  \")","v":"  "}]
[null,null,null,{"$f":"IF((V433)>V425,\"اندازه - کارور پشت - باید کوچکتر از اندازه - سینه از پشت - باشد.\",\"  \")","v":"  "}]
[null,null,null,{"$f":"IF(V425>0.6*V424,\"نوار پهلو در قسمت سینه به سمت پشت متمایل شود و اندازه های s2 و s1 تکرار شود\",\"  \")","v":"  "}]
[null,null,null,{"$f":"IF(V425<0.35*V424,\"نوار پهلو در قسمت سینه به سمت جلو متمایل شود و اندازه های s2 و s1 تکرار شود\",\"  \")","v":"  "}]
[]
[null,null,null,"خطای درجه 3 "]
[null,null,null,{"$f":"IF(((V415-2*W414-0.03*V406)/(V406))<0.1,\" یا m کم شود و یا q زیاد شود\",\"  \")","v":"  "}]
[null,null,null,{"$f":"IF(((V415-2*W414-0.03*V406)/(V406))>0.16,\"یا m زیاد شود و یا q کم شود\",\"  \")","v":"  "}]
[null,null,null,{"$f":"IF(V412>(W409-0.5*W414),\"یا اندازه j کم شود یا اندازه m کم شود.\",\"  \")","v":"  "}]
[null,null,null,{"$f":"IF(V412<(W409-0.8*W414),\"یا اندازه j زیاد شود یا اندازه m زیاد شود.\",\"  \")","v":"  "}]
[null,null,null,{"$f":"IF(((V415-2*W414-0.03*V406)/(V406))<0.105,\" بهتر است یا m کم شود و یا q زیاد شود\",\"  \")","v":"  "}]
[null,null,null,{"$f":"IF(((V415-2*W414-0.03*V406)/(V406))>0.14,\"بهتر است یا m زیاد شود و یا q کم شود\",\"  \")","v":"  "}]
[null,null,null,{"$f":"IF((0.5*(V425-V433))<(0.05*V434),\"نوار پهلو در قسمت سینه به سمت جلو متمایل شود تا اندازه   s2  زیاد شود.\",\"  \")","v":"  "}]
[null,null,null,{"$f":"IF((0.5*(V425-V433))>(0.15*V434),\"نوار پهلو در قسمت سینه به سمت پشت متمایل شود تا اندازه  s2  کم شود.\",\"  \")","v":"  "}]
[null,null,null,{"$f":"IF(L470<-0.22,\"برای کاهش اختلاف بین افتادگی سرشانه پشت و جلو،اندازه t5 کم شود.\",\"  \")","v":"  "}]
[null,null,null,{"$f":"IF(AND(L469<30,L468<30,L470>0,L470>0.22),\"برای کاهش اختلاف بین افتادگی سرشانه پشت و جلو اندازه t5 زیاد شود.\",\"  \")","v":"  "}]
[null,null,null,{"$f":"IF(OR(L470>0.22,L470<-0.22,L469>30,L468>30),\" \",IF(L472<-3,\"اندازه t3 زیاد شود.\",\"  \"))","v":"  "}]
[null,null,null,{"$f":"IF(OR(L469>30,L468>30,L470>0.22,L470<-0.22),\" \",IF(L472>30,\"شکم برجسته تر از سینه است (در حد بارداری) برای کم کردن برجستگی t3 کم شود.\",\"  \"))","v":"  "}]
[null,null,null,{"$f":"IF(OR(L468>30,L469>30,L470>0.22,L470<-0.22),\" \",IF(AND(L472>15,L472<30),\"شکم برجسته تر از سینه است - برای کم کردن برجستگی t3 کم شود.\",\"  \"))","v":"  "}]
[null,null,null,{"$f":"IF(L469>30,\"سرشانه جلو بیش از حد افتاده است.  t2 کم شود.\",\"  \")","v":"  "}]
[null,null,null,{"$f":"IF(L468>30,\"سرشانه پشت بیش از حد افتاده است.  t5 کم شود.\",\"  \")","v":"  "}]
[null,null,null,{"$f":"IF(M433>1.14*M432-0.14*M425,\"اندازه کارور پشت کم شود\",\"  \")","v":"  "}]
[null,null,null,{"$f":"IF(L478<1,\"اندازه کارور پشت کم شود\",\"  \")","v":"  "}]
[]
[]
[]
[]
[]
[]
[]
[]
[]
[]
[]
[]
[]
[]
[]
[]
[]
[]
[null,null,null,"انتخاب نوع اندازه گیری"]
[null,null,null,"انتخاب بلندی فاق"]
[null,null,null,"گزینه \" اندازه جدید \" را انتخاب کنید"]
[]
[]
[]
[null,null,null,"a   دور کمر",0]
[]
[]
[null,null,null," c   دور باسن",0]
[]
[]
[null,null,null," s1    دور سینه : از برجسته ترین قسمت سینه",0]
[]
[]
[null,null,null," w10   قد آستین (دست به طور خمیده، قد از سرشانه تا مچ)",0]
[]
[]
[null,null,null," f    فاصله نوار کمر تا زمین، از قسمت پهلو",0]
[]
[]
[null,null,null," m   بلندی فاق",0]
[]
[]
[null,null,null," w2   دور بازو از ناحیه زیر بغل",0]
[]
[]
[null,null,null," w11   دور مچ دست",0]
[]
[]
[null,null,null," V    دور گردن (متر به طور عمودی دور گردن قرار می گیرد و از روی استخوان ترقوه می گذرد)",0]
[]
[]
[null,null,null," w12   دور سر",0]
[]
[]
[null,null,null," t3     فاصله عمودی از خط کمر جلو تا خط کمر پشت که از کنار گردن بگذرد",0]
[]
[]
[null,null,null,{"$f":"IF(OR('متغیرها '!W5=1,'متغیرها '!W5=3,'متغیرها '!W5=4),\" t2    فاصله عمودی از خط سینه جلو تا خط سینه پشت که از کنارگردن بگذرد  \",\"   \")","v":" t2    فاصله عمودی از خط سینه جلو تا خط سینه پشت که از کنارگردن بگذرد  "},0]
[]
[]
[null,null,null,{"$f":"IF(OR('متغیرها '!W5=1,'متغیرها '!W5=3,'متغیرها '!W5=4),\"V3   کارور پشت (بین دو خط امتداد زیر بغل)  \",\"   \")","v":"V3   کارور پشت (بین دو خط امتداد زیر بغل)  "},0]
[]
[]
[null,null,null,{"$f":"IF(OR('متغیرها '!W5=1,'متغیرها '!W5=4),\" g    فاصله نوار کمر تا زمین، از قسمت پشت  \",\"   \")","v":"   "}]
[]
[]
[null,null,null,{"$f":"IF(OR('متغیرها '!W5=1,'متغیرها '!W5=4),\" e   فاصله نوار کمر تا زمین، از قسمت جلو  \",\"   \")","v":"   "}]
[]
[]
[null,null,null,{"$f":"IF(OR('متغیرها '!W5=1,'متغیرها '!W5=4),\" j    فاصله نوار باسن تا زمین  \",\"   \")","v":"   "}]
[]
[]
[null,null,null,{"$f":"IF(OR('متغیرها '!W5=1,'متغیرها '!W5=4),\" h    فاصله نوار زانو تا زمین  \",\"   \")","v":"   "}]
[]
[]
[null,null,null,{"$f":"IF(OR('متغیرها '!W5=1,'متغیرها '!W5=4),\"  L   دور زانو  \",\"   \")","v":"   "}]
[]
[]
[null,null,null,{"$f":"IF(OR('متغیرها '!W5=1,'متغیرها '!W5=4),\" r    دور مچ پا  \",\"   \")","v":"   "}]
[]
[]
[null,null,null,{"$f":"IF(OR('متغیرها '!W5=1,'متغیرها '!W5=4),\"  q    آنفورشور  \",\"   \")","v":"   "}]
[]
[]
[null,null,null,{"$f":"IF(OR('متغیرها '!W5=1,'متغیرها '!W5=4),\" b   نوار کمر از پشت بین دو خط پهلو  \",\"   \")","v":"   "}]
[]
[]
[null,null,null,{"$f":"IF(OR('متغیرها '!W5=1,'متغیرها '!W5=4),\" s2    پشت نوار سینه، بین دو خط پهلو  \",\"   \")","v":"   "}]
[]
[]
[null,null,null,{"$f":"IF(OR('متغیرها '!W5=1,'متغیرها '!W5=4),\"  d   نوار باسن از پشت بین دو خط پهلو  \",\"   \")","v":"   "}]
[]
[]
[null,null,null,{"$f":"IF('متغیرها '!W5=1,\" t1    فاصله عمودی از خط سینه جلو تا خط سینه پشت که از کنار حلقه آستین بگذرد  \",\"   \")","v":"   "}]
[]
[]
[null,null,null,{"$f":"IF('متغیرها '!W5=1,\"t4     فاصله عمودی بین خط سینه پشت و سرشانه، نزدیک دست  \",\"   \")","v":"   "}]
[]
[null,null,null,null,null,null,null,null,"اگر تحلیل اندام با شکل واقعی اندام که مشاهده میکنید متفاوت است، میتوانید تغییرات زیر را در اندازه هایی که وارد کردید اعمال کنید :"]
[null,null,null,{"$f":"IF('متغیرها '!W5=1,\"t5     فاصله عمودی بین خط سینه پشت و سرشانه، نزدیک گردن  \",\"   \")","v":"   "},null,null,null,null,"برای افزایش برجستگی سینه ،  v3 (کارور پشت) کم شود."]
[null,null,null,null,null,null,null,null,"برای افزایش برجستگی باسن ،  d  زیاد شود."]
[null,null,null,null,null,null,null,null,"برای کاهش برجستگی شکم، t3 کم شود."]
[null,null,null,{"$f":"IF('متغیرها '!W5=1,\" t6    فاصله عمودی بین خط کمر و سرشانه، نزدیک گردن  \",\"   \")","v":"   "},null,null,null,null,{"$f":"ROUND(L469,0)","v":22},"زاویه سرشانه جلو",null,"برای کاهش افتادگی سرشانه جلو، t2 کم شود."]
[null,null,null,null,null,null,null,null,{"$f":"ROUND(L468,0)","v":18},"زاویه سرشانه پشت",null,"برای کاهش افتادگی سرشانه پشت، t5 کم شود."]
[]
[]
[]
[]
[]
[]
[]
[]
[]
[]
[]
[]
[]
[]
[]
[]
[]
[]
[]
[]
[]
[]
[]
[]
[]
[]
[]
[]
[]
[]
[]
[]
[]
[]
[]
[]
[]
[null,null,null,"انتخاب نوع سایزبندی"]
[]
[]
[null,null,null,"    دور سینه : از برجسته ترین قسمت سینه",0,null,null,null,null,{"$f":"'متغیرها '!V44","v":" کوچکتر از سایز 34 "}]
[]
[]
[null,null,null,"    دور باسن",0,null,null,null,null,{"$f":"'متغیرها '!V42","v":" کوچکتر از سایز 34 "}]
[]
[]
[null,null,null,"   دور کمر",0,null,null,null,null,{"$f":"'متغیرها '!V43","v":" کوچکتر از سایز 34 "}]
[]
[]
[]
[]
[]
[]
[]
[]
[]
[]
[]
[]
[]
[]
[]
[]
[]
[]
[]
[]
[]
[]
[]
[]
[]
[]
[null,null,null,null,null,"ستون آبی رنگ را کپی کرده بعد به صورت عدد در صفحه اندازه های شخصی ذخیره کنید"]
[]
[null,null,null,"دور کمر","a",{"$f":"V404","v":131}]
[null,null,null,"نوار کمر از پشت بین دو خط پهلو","b",63.6]
[null,null,null,"دور باسن","c",150]
[null,null,null,"نوار باسن از پشت بین دو خط پهلو","d",79.8]
[null,null,null,"فاصله نوار کمر تا زمین، از قسمت جلو","e",108.9]
[null,null,null,"فاصله نوار کمر تا زمین، از قسمت پهلو","f",110]
[null,null,null,"فاصله نوار کمر تا زمین، از قسمت پشت","g",111.1]
[null,null,null,"فاصله نوار زانو تا زمین","h",46.7]
[null,null,null,"فاصله نوار باسن تا زمین","j",87.3]
[null,null,null,"دور زانو","L",61.5]
[null,null,null,"بلندی فاق","m",33.5]
[null,null,null,"آنفورشور","q",91.7]
[null,null,null,"دور مچ پا","r",30]
[null,null,null,"شلوار زنانه و بچگانه = 0       مردانه=1      بچه با پوشک=2",null,{"$f":"V418","v":0}]
[null,null,null,"دور سینه : از برجسته ترین قسمت سینه","s1",{"$f":"V424","v":146}]
[null,null,null,"پشت نوار سینه، بین دو خط پهلو","s2",67.5]
[null,null,null,"فاصله عمودی از خط سینه جلو تا خط سینه پشت که از کنار حلقه آستین بگذرد","t1",46.5]
[null,null,null,"فاصله عمودی از خط سینه جلو تا خط سینه پشت که از کنارگردن بگذرد","t2",63.3]
[null,null,null,"فاصله عمودی از خط کمر جلو تا خط کمر پشت که از کنار گردن بگذرد","t3",100]
[null,null,null,"فاصله عمودی بین خط سینه پشت و سرشانه، نزدیک دست","t4",23.8]
[null,null,null,"فاصله عمودی بین خط سینه پشت و سرشانه، نزدیک گردن","t5",30.5]
[null,null,null,"فاصله عمودی بین خط کمرپشت و سرشانه، نزدیک گردن","t6",46.9]
[null,null,null,"دور گردن (متر به طور عمودی دور گردن قرار می گیرد و از روی استخوان ترقوه می گذرد)","v",50]
[null,null,null,"کارور پشت (بین دو خط امتداد زیر بغل)","v3",55.5]
[null,null,null,"دور بازو از ناحیه زیر بغل","w2",46]
[null,null,null,"قد آستین (دست به طور خمیده، قد از سرشانه تا مچ)","w10",64]
[null,null,null,"دور مچ دست","w11",23]
[null,null,null,"دور سر","w12",57]
[]
[]
[]
[]
[]
[]
[]
[]
[]
[]
[]
[]
[]
[]
[]
[]
[]
[]
[]
[]
[null,null,null,"گزینه \" اندازه های موجود \" را انتخاب کنید"]
[null,null,null,"سایز یا اندازه شخصی خود را انتخاب کنید"]
[]
[null,null,null,"دور کمر","a",{"$f":"'متغیرها '!W52","v":131}]
[null,null,null,"نوار کمر از پشت بین دو خط پهلو","b",{"$f":"'متغیرها '!W53","v":63.6}]
[null,null,null,"دور باسن","c",{"$f":"'متغیرها '!W54","v":150}]
[null,null,null,"نوار باسن از پشت بین دو خط پهلو","d",{"$f":"'متغیرها '!W55","v":79.8}]
[null,null,null,"فاصله نوار کمر تا زمین، از قسمت جلو","e",{"$f":"'متغیرها '!W56","v":108.9}]
[null,null,null,"فاصله نوار کمر تا زمین، از قسمت پهلو","f",{"$f":"'متغیرها '!W57","v":110}]
[null,null,null,"فاصله نوار کمر تا زمین، از قسمت پشت","g",{"$f":"'متغیرها '!W58","v":111.1}]
[null,null,null,"فاصله نوار زانو تا زمین","h",{"$f":"'متغیرها '!W59","v":46.7}]
[null,null,null,"فاصله نوار باسن تا زمین","j",{"$f":"'متغیرها '!W60","v":87.3}]
[null,null,null,"دور زانو","L",{"$f":"'متغیرها '!W61","v":61.5}]
[null,null,null,"بلندی فاق","m",{"$f":"'متغیرها '!W62","v":33.5}]
[null,null,null,"آنفورشور","q",{"$f":"'متغیرها '!W63","v":91.7}]
[null,null,null,"دور مچ پا","r",{"$f":"'متغیرها '!W64","v":30}]
[null,null,null,"شلوار زنانه و بچگانه = 0       مردانه=1      بچه با پوشک=2",null,{"$f":"'متغیرها '!W66","v":0}]
[null,null,null,"دور سینه : از برجسته ترین قسمت سینه","s1",{"$f":"'متغیرها '!W72","v":146}]
[null,null,null,"پشت نوار سینه، بین دو خط پهلو","s2",{"$f":"'متغیرها '!W73","v":67.5}]
[null,null,null,"فاصله عمودی از خط سینه جلو تا خط سینه پشت که از کنار حلقه آستین بگذرد","t1",{"$f":"'متغیرها '!W74","v":46.5}]
[null,null,null,"فاصله عمودی از خط سینه جلو تا خط سینه پشت که از کنارگردن بگذرد","t2",{"$f":"'متغیرها '!W75","v":63.3}]
[null,null,null,"فاصله عمودی از خط کمر جلو تا خط کمر پشت که از کنار گردن بگذرد","t3",{"$f":"'متغیرها '!W76","v":100}]
[null,null,null,"فاصله عمودی بین خط سینه پشت و سرشانه، نزدیک دست","t4",{"$f":"'متغیرها '!W77","v":23.8}]
[null,null,null,"فاصله عمودی بین خط سینه پشت و سرشانه، نزدیک گردن","t5",{"$f":"'متغیرها '!W78","v":30.5}]
[null,null,null,"فاصله عمودی بین خط کمرپشت و سرشانه، نزدیک گردن","t6",{"$f":"'متغیرها '!W79","v":46.9}]
[null,null,null,"دور گردن (متر به طور عمودی دور گردن قرار می گیرد و از روی استخوان ترقوه می گذرد)","v",{"$f":"'متغیرها '!W80","v":50}]
[null,null,null,"کارور پشت (بین دو خط امتداد زیر بغل)","v3",{"$f":"'متغیرها '!W81","v":55.5}]
[null,null,null,"دور بازو از ناحیه زیر بغل","w2",{"$f":"'متغیرها '!W82","v":46}]
[null,null,null,"قد آستین (دست به طور خمیده، قد از سرشانه تا مچ)","w10",{"$f":"'متغیرها '!W83","v":64}]
[null,null,null,"دور مچ دست","w11",{"$f":"'متغیرها '!W84","v":23}]
[null,null,null,"دور سر","w12",{"$f":"'متغیرها '!W85","v":57}]
[]
[]
[]
[]
[]
[]
[]
[]
[]
[]
[]
[]
[]
[]
[]
[]
[]
[]
[]
[null,null,null,null,null,null,null,null,null,null,null,null,null,"کپی شود",null,"کپی شود",null,"کپی شود",null,"کپی شود",null,"اندازه جدید یا اندازه قبلی",null,null,null,"کپی اندازه های قبلی از فایل دیگر"]
[null,null,null,null,null,null,null,null,null,null,null,"اندازه ها در دامن و شلوار","اندازه جدید","اندازه گیری پیشرفته و با جزییات",null,"اندازه گیری مردان و بچه ها",null,"اندازه گیری زنان",null,"اندازه گیری پیشرفته زنان",null,"اندازه گیری تحلیل شده"," اندازه محاسبه شده برای تحلیل"]
[null,null,null,null,null,null,null,null,null,null,null,"دور کمر",{"$f":"E149","v":0},{"$f":"ROUND(M404,1)","v":0},{"$f":"ROUND(N404-0.02*N404*N418,1)","v":0},{"$f":"ROUND(M404,1)","v":0},{"$f":"ROUND(P404-0.02*P404*P418,1)","v":0},{"$f":"ROUND(M404,1)","v":0},{"$f":"ROUND(R404-0.02*R404*R418,1)","v":0},{"$f":"ROUND(M404,1)","v":0},{"$f":"ROUND(T404-0.02*T404*T418,1)","v":0},{"$f":"IF('متغیرها '!X5=2,'اندازه گیری و تحلیل'!F355,IF('متغیرها '!W5=1,'اندازه گیری و تحلیل'!N404,(IF('متغیرها '!W5=2,'اندازه گیری و تحلیل'!P404,(IF('متغیرها '!W5=3,'اندازه گیری و تحلیل'!R404,'اندازه گیری و تحلیل'!T404))))))","v":131},{"$f":"ROUND(V404-0.02*V404*V418,1)","v":131}]
[null,null,null,null,null,null,null,null,null,null,null,"نوار کمر از پشت بین دو خط پهلو",{"$f":"E209","v":0},0,{"$f":"ROUND(N405-0.02*N405*N418,1)","v":0},{"$f":"ROUND(0.49*P404,1)","v":0},{"$f":"ROUND(P405-0.02*P405*P418,1)","v":0},{"$f":"ROUND(0.46*R404,1)","v":0},{"$f":"ROUND(R405-0.02*R405*R418,1)","v":0},0,{"$f":"ROUND(T405-0.02*T405*T418,1)","v":0},{"$f":"IF('متغیرها '!X5=2,'اندازه گیری و تحلیل'!F356,IF('متغیرها '!W5=1,'اندازه گیری و تحلیل'!N405,(IF('متغیرها '!W5=2,'اندازه گیری و تحلیل'!P405,(IF('متغیرها '!W5=3,'اندازه گیری و تحلیل'!R405,'اندازه گیری و تحلیل'!T405))))))","v":63.6},{"$f":"ROUND(V405-0.02*V405*V418,1)","v":63.6}]
[null,null,null,null,null,null,null,null,null,null,null,"دور باسن",{"$f":"E152","v":0},0,{"$f":"ROUND(N406+0.01*N406*N418,1)","v":0},{"$f":"ROUND(M406,1)","v":0},{"$f":"ROUND(P406+0.01*P406*P418,1)","v":0},{"$f":"ROUND(M406,1)","v":0},{"$f":"ROUND(R406+0.01*R406*R418,1)","v":0},0,{"$f":"ROUND(T406+0.01*T406*T418,1)","v":0},{"$f":"IF('متغیرها '!X5=2,'اندازه گیری و تحلیل'!F357,IF('متغیرها '!W5=1,'اندازه گیری و تحلیل'!N406,(IF('متغیرها '!W5=2,'اندازه گیری و تحلیل'!P406,(IF('متغیرها '!W5=3,'اندازه گیری و تحلیل'!R406,'اندازه گیری و تحلیل'!T406))))))","v":150},{"$f":"ROUND(V406+0.01*V406*V418,1)","v":150}]
[null,null,null,null,null,null,null,null,null,null,null,"نوار باسن از پشت بین دو خط پهلو",{"$f":"E215","v":0},0,{"$f":"ROUND(N407+0.01*N406*N418,1)","v":0},{"$f":"ROUND(0.53*P406+0.03*P406*IF(P418=2,1,0),1)","v":0},{"$f":"ROUND(P407+0.01*P406*P418,1)","v":0},{"$f":"ROUND(0.51*R406,1)","v":0},{"$f":"ROUND(R407+0.01*R406*R418,1)","v":0},0,{"$f":"ROUND(T407+0.01*T406*T418,1)","v":0},{"$f":"IF('متغیرها '!X5=2,'اندازه گیری و تحلیل'!F358,IF('متغیرها '!W5=1,'اندازه گیری و تحلیل'!N407,(IF('متغیرها '!W5=2,'اندازه گیری و تحلیل'!P407,(IF('متغیرها '!W5=3,'اندازه گیری و تحلیل'!R407,'اندازه گیری و تحلیل'!T407))))))","v":79.8},{"$f":"ROUND(V407+0.01*V406*V418,1)","v":79.8}]
[null,null,null,null,null,null,null,null,null,null,null,"فاصله نوار کمر تا زمین، از قسمت جلو",{"$f":"E191","v":0},0,{"$f":"ROUND(N408,1)","v":0},{"$f":"ROUND(0.999*P409,1)","v":0},{"$f":"ROUND(P408,1)","v":0},{"$f":"ROUND(0.995*R409,1)","v":0},{"$f":"ROUND(R408,1)","v":0},0,{"$f":"ROUND(T408,1)","v":0},{"$f":"IF('متغیرها '!X5=2,'اندازه گیری و تحلیل'!F359,IF('متغیرها '!W5=1,'اندازه گیری و تحلیل'!N408,(IF('متغیرها '!W5=2,'اندازه گیری و تحلیل'!P408,(IF('متغیرها '!W5=3,'اندازه گیری و تحلیل'!R408,'اندازه گیری و تحلیل'!T408))))))","v":108.9},{"$f":"ROUND(V408,1)","v":108.9}]
[null,null,null,null,null,null,null,null,null,null,null,"فاصله نوار کمر تا زمین، از قسمت پهلو",{"$f":"E161","v":0},0,0,{"$f":"ROUND(M409,1)","v":0},0,{"$f":"ROUND(M409,1)","v":0},0,0,0,{"$f":"IF('متغیرها '!X5=2,'اندازه گیری و تحلیل'!F360,IF('متغیرها '!W5=1,'اندازه گیری و تحلیل'!N409,(IF('متغیرها '!W5=2,'اندازه گیری و تحلیل'!P409,(IF('متغیرها '!W5=3,'اندازه گیری و تحلیل'!R409,'اندازه گیری و تحلیل'!T409))))))","v":110},{"$f":"ROUND(0.5*(V408+V410),1)","v":110}]
[null,null,null,null,null,null,null,null,null,null,null,"فاصله نوار کمر تا زمین، از قسمت پشت",{"$f":"E188","v":0},0,0,{"$f":"ROUND(1.001*P409,1)","v":0},0,{"$f":"ROUND(1.005*R409,1)","v":0},0,0,0,{"$f":"IF('متغیرها '!X5=2,'اندازه گیری و تحلیل'!F361,IF('متغیرها '!W5=1,'اندازه گیری و تحلیل'!N410,(IF('متغیرها '!W5=2,'اندازه گیری و تحلیل'!P410,(IF('متغیرها '!W5=3,'اندازه گیری و تحلیل'!R410,'اندازه گیری و تحلیل'!T410))))))","v":111.1},{"$f":"ROUND(V410,1)","v":111.1}]
[null,null,null,null,null,null,null,null,null,null,null,"فاصله نوار زانو تا زمین",{"$f":"E197","v":0},0,0,{"$f":"ROUND(0.55*P412*(1-0.15*IF(M418=2,1,0)),1)","v":0},0,{"$f":"ROUND(0.53*R412,1)","v":0},0,0,0,{"$f":"IF('متغیرها '!X5=2,'اندازه گیری و تحلیل'!F362,IF('متغیرها '!W5=1,'اندازه گیری و تحلیل'!N411,(IF('متغیرها '!W5=2,'اندازه گیری و تحلیل'!P411,(IF('متغیرها '!W5=3,'اندازه گیری و تحلیل'!R411,'اندازه گیری و تحلیل'!T411))))))","v":46.7},{"$f":"ROUND(V411,1)","v":46.7}]
[null,null,null,null,null,null,null,null,null,null,null,"فاصله نوار باسن تا زمین",{"$f":"E194","v":0},0,0,{"$f":"ROUND(P409-Q414+L445+0.1*L446,1)","v":0},0,{"$f":"ROUND(R409-S414+L445-0.3*L446,1)","v":0},0,0,0,{"$f":"IF('متغیرها '!X5=2,'اندازه گیری و تحلیل'!F363,IF('متغیرها '!W5=1,'اندازه گیری و تحلیل'!N412,(IF('متغیرها '!W5=2,'اندازه گیری و تحلیل'!P412,(IF('متغیرها '!W5=3,'اندازه گیری و تحلیل'!R412,'اندازه گیری و تحلیل'!T412))))))","v":87.3},{"$f":"ROUND(V412,1)","v":87.3}]
[null,null,null,null,null,null,null,null,null,null,null,"دور زانو",{"$f":"E200","v":0},0,0,{"$f":"ROUND(0.41*M406,1)","v":0},0,{"$f":"ROUND(0.39*M406,1)","v":0},0,0,0,{"$f":"IF('متغیرها '!X5=2,'اندازه گیری و تحلیل'!F364,IF('متغیرها '!W5=1,'اندازه گیری و تحلیل'!N413,(IF('متغیرها '!W5=2,'اندازه گیری و تحلیل'!P413,(IF('متغیرها '!W5=3,'اندازه گیری و تحلیل'!R413,'اندازه گیری و تحلیل'!T413))))))","v":61.5},{"$f":"ROUND(V413,1)","v":61.5}]
[null,null,null,null,null,null,null,null,null,null,null,"بلندی فاق",{"$f":"E164","v":0},0,{"$f":"ROUND(1.06*N414+0.022*N408*N418,1)","v":0},{"$f":"ROUND(M414,1)","v":0},{"$f":"ROUND(1.06*P414+0.022*P408*P418,1)","v":0},{"$f":"ROUND(M414,1)","v":0},{"$f":"ROUND(1.06*R414+0.022*R408*R418,1)","v":0},0,{"$f":"ROUND(1.06*T414+0.022*T408*T418,1)","v":0},{"$f":"IF('متغیرها '!X5=2,'اندازه گیری و تحلیل'!F365,IF('متغیرها '!W5=1,'اندازه گیری و تحلیل'!N414,(IF('متغیرها '!W5=2,'اندازه گیری و تحلیل'!P414,(IF('متغیرها '!W5=3,'اندازه گیری و تحلیل'!R414,'اندازه گیری و تحلیل'!T414))))))","v":33.5},{"$f":"ROUND(1.06*V414+0.022*V408*V418,1)","v":35.5}]
[null,null,null,null,null,null,null,null,null,null,null,"آنفورشور",{"$f":"E206","v":0},0,{"$f":"ROUND(N415,1)","v":0},{"$f":"ROUND(1.02*(SQRT(POWER((Q414+0.5*(Q410-Q408)-L445),2)+2.25*L448*L448)+1.45*L445+L446+1.45*L444+SQRT(POWER((Q414-0.5*(Q410-Q408)-L444),2)+POWER(IF(L447>1,(0.25*L448+(5/4)*L447),IF(L447>0,(0.25*L448+(7/4)*L447),0.2*L444)),2))),1)","v":5.7},{"$f":"ROUND(P415,1)","v":5.7},{"$f":"ROUND(1.02*(SQRT(POWER((S414+0.5*(S410-S408)-L445),2)+2.25*L448*L448)+1.45*L445+L446+1.45*L444+SQRT(POWER((S414-0.5*(S410-S408)-L444),2)+POWER(IF(L447>1,(0.25*L448+(5/4)*L447),IF(L447>0,(0.25*L448+(7/4)*L447),0.2*L444)),2))),1)","v":5.7},{"$f":"ROUND(R415,1)","v":5.7},0,{"$f":"ROUND(T415,1)","v":0},{"$f":"IF('متغیرها '!X5=2,'اندازه گیری و تحلیل'!F366,IF('متغیرها '!W5=1,'اندازه گیری و تحلیل'!N415,(IF('متغیرها '!W5=2,'اندازه گیری و تحلیل'!P415,(IF('متغیرها '!W5=3,'اندازه گیری و تحلیل'!R415,'اندازه گیری و تحلیل'!T415))))))","v":91.7},{"$f":"ROUND(V415,1)","v":91.7}]
[null,null,null,null,null,null,null,null,null,null,null,"دور مچ پا",{"$f":"E203","v":0},0,{"$f":"ROUND(N416,1)","v":0},{"$f":"ROUND(1.35*P436,1)","v":0},{"$f":"ROUND(P416,1)","v":0},{"$f":"ROUND(1.4*R436,1)","v":0},{"$f":"ROUND(R416,1)","v":0},0,{"$f":"ROUND(T416,1)","v":0},{"$f":"IF('متغیرها '!X5=2,'اندازه گیری و تحلیل'!F367,IF('متغیرها '!W5=1,'اندازه گیری و تحلیل'!N416,(IF('متغیرها '!W5=2,'اندازه گیری و تحلیل'!P416,(IF('متغیرها '!W5=3,'اندازه گیری و تحلیل'!R416,'اندازه گیری و تحلیل'!T416))))))","v":30},{"$f":"ROUND(V416,1)","v":30}]
[]
[null,null,null,null,null,null,null,null,null,null,null,"شلوار زنانه و بچگانه = 0       مردانه=1      بچه با پوشک=2",{"$f":"'متغیرها '!V5-1","v":0},{"$f":"ROUND(M418,1)","v":0},null,{"$f":"ROUND(M418,1)","v":0},null,0,null,{"$f":"ROUND(M418,1)","v":0},null,{"$f":"IF('متغیرها '!X5=2,'اندازه گیری و تحلیل'!F368,IF('متغیرها '!W5=1,'اندازه گیری و تحلیل'!N418,(IF('متغیرها '!W5=2,'اندازه گیری و تحلیل'!P418,(IF('متغیرها '!W5=3,'اندازه گیری و تحلیل'!R418,'اندازه گیری و تحلیل'!T418))))))","v":0}]
[null,null,null,null,null,null,null,null,null,null,"قد سرشانه تا زمین",{"$f":"0.5*(V428+V408+V410)","v":160}]
[null,null,null,null,null,null,null,null,null,null,"تمام قد (تقریبی)",{"$f":"ROUND(L419+IF(V437>51.5,0.35,IF(V437>50.5,0.33,0.31))*V437,0)","v":180}]
[null,null,null,null,null,null,null,null,null,null,null,"اندازه ها در بالاتنه","اندازه شخص","اندازه شخص",null,"اندازه شخص",null,"اندازه شخص",null,"اندازه شخص",null,"اندازه شخص"]
[null,null,null,null,null,null,null,null,null,null,null,"دور کمر",null,{"$f":"ROUND(N404,1)","v":0},{"$f":"N422","v":0},{"$f":"P404","v":0},{"$f":"P422","v":0},{"$f":"R404","v":0},{"$f":"R422","v":0},{"$f":"T404","v":0},{"$f":"T422","v":0},{"$f":"IF('متغیرها '!X5=2,V404,IF('متغیرها '!W5=1,'اندازه گیری و تحلیل'!N422,(IF('متغیرها '!W5=2,'اندازه گیری و تحلیل'!P422,(IF('متغیرها '!W5=3,'اندازه گیری و تحلیل'!R422,'اندازه گیری و تحلیل'!T422))))))","v":131},{"$f":"V422","v":131}]
[null,null,null,null,null,null,null,null,null,null,null,"نوار کمر از پشت بین دو خط پهلو",null,{"$f":"ROUND(N405,1)","v":0},{"$f":"N423","v":0},{"$f":"P405","v":0},{"$f":"P423","v":0},{"$f":"R405","v":0},{"$f":"R423","v":0},{"$f":"T405","v":0},{"$f":"T423","v":0},{"$f":"IF('متغیرها '!X5=2,V405,IF('متغیرها '!W5=1,'اندازه گیری و تحلیل'!N423,(IF('متغیرها '!W5=2,'اندازه گیری و تحلیل'!P423,(IF('متغیرها '!W5=3,'اندازه گیری و تحلیل'!R423,'اندازه گیری و تحلیل'!T423))))))","v":63.6},{"$f":"V423","v":63.6}]
[null,null,null,null,null,null,null,null,null,null,null,"دور سینه : از برجسته ترین قسمت سینه",{"$f":"E155","v":0},{"$f":"ROUND(M424,1)","v":0},{"$f":"N424","v":0},{"$f":"ROUND(M424,1)","v":0},{"$f":"P424","v":0},{"$f":"ROUND(M424,1)","v":0},{"$f":"R424","v":0},{"$f":"ROUND(M424,1)","v":0},{"$f":"T424","v":0},{"$f":"IF('متغیرها '!X5=2,'اندازه گیری و تحلیل'!F369,IF('متغیرها '!W5=1,'اندازه گیری و تحلیل'!N424,(IF('متغیرها '!W5=2,'اندازه گیری و تحلیل'!P424,(IF('متغیرها '!W5=3,'اندازه گیری و تحلیل'!R424,'اندازه گیری و تحلیل'!T424))))))","v":146},{"$f":"V424","v":146}]
[null,null,null,null,null,null,null,null,null,null,null,"پشت نوار سینه، بین دو خط پهلو",{"$f":"E212","v":0},0,{"$f":"N425","v":0},{"$f":"ROUND(0.5*P424,1)","v":0},{"$f":"P425","v":0},{"$f":"ROUND(M433+0.24*M434,1)","v":0},{"$f":"R425","v":0},{"$f":"ROUND(M425,1)","v":0},{"$f":"T425","v":0},{"$f":"IF('متغیرها '!X5=2,'اندازه گیری و تحلیل'!F370,IF('متغیرها '!W5=1,'اندازه گیری و تحلیل'!N425,(IF('متغیرها '!W5=2,'اندازه گیری و تحلیل'!P425,(IF('متغیرها '!W5=3,'اندازه گیری و تحلیل'!R425,'اندازه گیری و تحلیل'!T425))))))","v":67.5},{"$f":"V425","v":67.5}]
[null,null,null,null,null,null,null,null,null,null,null,"فاصله عمودی از خط سینه جلو تا خط سینه پشت که از کنار حلقه آستین بگذرد",{"$f":"E218","v":0},0,{"$f":"N426-N429","v":0},{"$f":"ROUND(2*P429-0.5*(2*P430-P427),1)","v":{"$error":"#DIV/0!"}},{"$f":"P426-P429","v":{"$error":"#DIV/0!"}},{"$f":"ROUND(M427-R430+R429-(L462+L458)*SIN(RADIANS(L461)),1)","v":-14.5},{"$f":"R426-R429","v":-7.3},{"$f":"ROUND(M427-T430+T429-(L462+L458)*SIN(RADIANS(L461)),1)","v":-14.5},{"$f":"T426-T429","v":-7.3},{"$f":"IF('متغیرها '!X5=2,'اندازه گیری و تحلیل'!F371,IF('متغیرها '!W5=1,'اندازه گیری و تحلیل'!N426,(IF('متغیرها '!W5=2,'اندازه گیری و تحلیل'!P426,(IF('متغیرها '!W5=3,'اندازه گیری و تحلیل'!R426,'اندازه گیری و تحلیل'!T426))))))","v":46.5},{"$f":"V426-V429","v":22.7}]
[null,null,null,null,null,null,null,null,null,null,null,"فاصله عمودی از خط سینه جلو تا خط سینه پشت که از کنارگردن بگذرد",{"$f":"E182","v":0},0,{"$f":"N427-N430","v":0},{"$f":"ROUND(P430+(P428-P431)*0.95*P430/P431,1)","v":{"$error":"#DIV/0!"}},{"$f":"P427-P430","v":{"$error":"#DIV/0!"}},{"$f":"ROUND(M427,1)","v":0},{"$f":"R427-R430","v":1.3},{"$f":"ROUND(M427,1)","v":0},{"$f":"T427-T430","v":1.3},{"$f":"IF('متغیرها '!X5=2,'اندازه گیری و تحلیل'!F372,IF('متغیرها '!W5=1,'اندازه گیری و تحلیل'!N427,(IF('متغیرها '!W5=2,'اندازه گیری و تحلیل'!P427,(IF('متغیرها '!W5=3,'اندازه گیری و تحلیل'!R427,'اندازه گیری و تحلیل'!T427))))))","v":63.3},{"$f":"V427-V430","v":32.799999999999997}]
[null,null,null,null,null,null,null,null,null,null,null,"فاصله عمودی از خط کمر جلو تا خط کمر پشت که از کنار گردن بگذرد",{"$f":"E179","v":0},0,{"$f":"N428-N431","v":0},{"$f":"ROUND(M428,1)","v":0},{"$f":"P428-P431","v":0},{"$f":"ROUND(M428,1)","v":0},{"$f":"R428-R431","v":2.4},{"$f":"ROUND(M428,1)","v":0},{"$f":"T428-T431","v":1.3},{"$f":"IF('متغیرها '!X5=2,'اندازه گیری و تحلیل'!F373,IF('متغیرها '!W5=1,'اندازه گیری و تحلیل'!N428,(IF('متغیرها '!W5=2,'اندازه گیری و تحلیل'!P428,(IF('متغیرها '!W5=3,'اندازه گیری و تحلیل'!R428,'اندازه گیری و تحلیل'!T428))))))","v":100},{"$f":"V428-V431","v":53.1}]
[null,null,null,null,null,null,null,null,null,null,null,"فاصله عمودی بین خط سینه پشت و سرشانه، نزدیک دست",{"$f":"E221","v":0},0,{"$f":"N429","v":0},{"$f":"ROUND(P430-(P433-0.036*P434)*SIN(0.12),1)","v":0},{"$f":"P429","v":0},{"$f":"ROUND(R430-0.5*0.01*M428-L462*SIN(RADIANS(L461)),1)","v":-7.2},{"$f":"R429","v":-7.2},{"$f":"ROUND(T430-0.5*0.01*M428-L462*SIN(RADIANS(L461)),1)","v":-7.2},{"$f":"T429","v":-7.2},{"$f":"IF('متغیرها '!X5=2,'اندازه گیری و تحلیل'!F374,IF('متغیرها '!W5=1,'اندازه گیری و تحلیل'!N429,(IF('متغیرها '!W5=2,'اندازه گیری و تحلیل'!P429,(IF('متغیرها '!W5=3,'اندازه گیری و تحلیل'!R429,'اندازه گیری و تحلیل'!T429))))))","v":23.8},{"$f":"V429","v":23.8}]
[null,null,null,null,null,null,null,null,null,null,null,"فاصله عمودی بین خط سینه پشت و سرشانه، نزدیک گردن",{"$f":"E224","v":0},0,0,{"$f":"ROUND(0.6*P431,1)","v":0},0,{"$f":"ROUND(0.5*M427+0.01*M428-0.5*(L458-0.05*M434)*SIN(RADIANS(L461)),1)","v":-1.3},-1.3,{"$f":"ROUND(0.5*M427+0.01*M428-0.5*(L458-0.05*M434)*SIN(RADIANS(L461)),1)","v":-1.3},-1.3,{"$f":"IF('متغیرها '!X5=2,'اندازه گیری و تحلیل'!F375,IF('متغیرها '!W5=1,'اندازه گیری و تحلیل'!N430,(IF('متغیرها '!W5=2,'اندازه گیری و تحلیل'!P430,(IF('متغیرها '!W5=3,'اندازه گیری و تحلیل'!R430,'اندازه گیری و تحلیل'!T430))))))","v":30.5},30.5]
[null,null,null,null,null,null,null,null,null,null,null,"فاصله عمودی بین خط کمرپشت و سرشانه، نزدیک گردن",{"$f":"E227","v":0},0,0,{"$f":"ROUND(0.51*P428,1)","v":0},0,{"$f":"ROUND(0.5*R428-0.5*L460-0.9*(L458-0.05*R434)*SIN(RADIANS(L461)),1)","v":-2.4},-2.4,{"$f":"ROUND(0.51*T428-0.5*L460-0.5*(L458-0.05*T434)*SIN(RADIANS(L461)),1)","v":-1.3},-1.3,{"$f":"IF('متغیرها '!X5=2,'اندازه گیری و تحلیل'!F376,IF('متغیرها '!W5=1,'اندازه گیری و تحلیل'!N431,(IF('متغیرها '!W5=2,'اندازه گیری و تحلیل'!P431,(IF('متغیرها '!W5=3,'اندازه گیری و تحلیل'!R431,'اندازه گیری و تحلیل'!T431))))))","v":46.9},46.9]
[null,null,null,null,null,null,null,null,null,null,null,"دور گردن (متر به طور عمودی دور گردن قرار می گیرد و از روی استخوان ترقوه می گذرد)",{"$f":"E173","v":0},0,0,{"$f":"ROUND(M432,1)","v":0},0,{"$f":"ROUND(M432,1)","v":0},0,{"$f":"ROUND(M432,1)","v":0},0,{"$f":"IF('متغیرها '!X5=2,'اندازه گیری و تحلیل'!F377,IF('متغیرها '!W5=1,'اندازه گیری و تحلیل'!N432,(IF('متغیرها '!W5=2,'اندازه گیری و تحلیل'!P432,(IF('متغیرها '!W5=3,'اندازه گیری و تحلیل'!R432,'اندازه گیری و تحلیل'!T432))))))","v":50},50]
[null,null,null,null,{"$f":"V425-0.26*V434","v":55.54},":(زنانه)   v3  محاسبه ",null,null,null,null,null,"کارور پشت (بین دو خط امتداد زیر بغل)",{"$f":"E185","v":0},0,0,{"$f":"ROUND(P425-0.24*P434,1)","v":0},0,0,0,0,0,{"$f":"IF('متغیرها '!X5=2,'اندازه گیری و تحلیل'!F378,IF('متغیرها '!W5=1,'اندازه گیری و تحلیل'!N433,(IF('متغیرها '!W5=2,'اندازه گیری و تحلیل'!P433,(IF('متغیرها '!W5=3,'اندازه گیری و تحلیل'!R433,'اندازه گیری و تحلیل'!T433))))))","v":55.5},55.5]
[null,null,null,null,{"$f":"V425-0.23*V434","v":56.92}," :( بچگانه و مردانه)   v3  محاسبه ",null,null,null,null,null,"دور بازو از ناحیه زیر بغل",{"$f":"E167","v":0},0,0,{"$f":"ROUND(M434,1)","v":0},0,0,0,0,0,{"$f":"IF('متغیرها '!X5=2,'اندازه گیری و تحلیل'!F379,IF('متغیرها '!W5=1,'اندازه گیری و تحلیل'!N434,(IF('متغیرها '!W5=2,'اندازه گیری و تحلیل'!P434,(IF('متغیرها '!W5=3,'اندازه گیری و تحلیل'!R434,'اندازه گیری و تحلیل'!T434))))))","v":46},46]
[null,null,null,null,null,null,null,null,null,null,null,"قد آستین (دست به طور خمیده، قد از سرشانه تا مچ)",{"$f":"E158","v":0},0,0,{"$f":"ROUND(M435,1)","v":0},0,0,0,0,0,{"$f":"IF('متغیرها '!X5=2,'اندازه گیری و تحلیل'!F380,IF('متغیرها '!W5=1,'اندازه گیری و تحلیل'!N435,(IF('متغیرها '!W5=2,'اندازه گیری و تحلیل'!P435,(IF('متغیرها '!W5=3,'اندازه گیری و تحلیل'!R435,'اندازه گیری و تحلیل'!T435))))))","v":64},64]
[null,null,null,null,null,null,null,null,null,null,null,"دور مچ دست",{"$f":"E170","v":0},0,{"$f":"1.2*N436","v":0},{"$f":"ROUND(M436,1)","v":0},{"$f":"1.2*P436","v":0},0,{"$f":"1.2*R436","v":0},0,{"$f":"1.2*T436","v":0},{"$f":"IF('متغیرها '!X5=2,'اندازه گیری و تحلیل'!F381,IF('متغیرها '!W5=1,'اندازه گیری و تحلیل'!N436,(IF('متغیرها '!W5=2,'اندازه گیری و تحلیل'!P436,(IF('متغیرها '!W5=3,'اندازه گیری و تحلیل'!R436,'اندازه گیری و تحلیل'!T436))))))","v":23},{"$f":"1.2*V436","v":27.599999999999998}]
[null,null,null,null,null,null,null,null,null,null,null,"دور سر",{"$f":"E176","v":0},0,null,{"$f":"ROUND(M437,1)","v":0},null,0,null,0,null,{"$f":"IF('متغیرها '!X5=2,'اندازه گیری و تحلیل'!F382,IF('متغیرها '!W5=1,'اندازه گیری و تحلیل'!N437,(IF('متغیرها '!W5=2,'اندازه گیری و تحلیل'!P437,(IF('متغیرها '!W5=3,'اندازه گیری و تحلیل'!R437,'اندازه گیری و تحلیل'!T437))))))","v":57}]
[null,null,null,null,null,null,null,null,null,null,"زاویه سرشانه با افق       کم = 1       متوسط=2     زیاد=3","p",2]
[null,null,null,null,null,null,null,null,null,null,"شکم جلوتر از سینه است = 1       شکم در امتداد سینه است=2      شکم عقب تر از سینه است=3","p3",2]
[]
[]
[]
[]
[null,null,null,null,null,null,null,null,null,null,"x1",{"$f":"(2*0.35)*M406/(3.5*3.14)","v":0},null,null,null,null,null,null,null,"اضافه طول عمودی ناشی از برجستگی شکم (ناشی از محاسبه)",null,{"$f":"L485","v":-0.8}]
[null,null,null,null,null,null,null,null,null,null,"x2",{"$f":"1.5*L444","v":0},null,null,null,null,null,null,null,"اضافه طول عمودی ناشی از برجستگی شکم (ناشی از اندازه گیری t3)    s'3 ",null,{"$f":"L487","v":2.2000000000000002}]
[null,null,null,null,null,null,null,null,null,null,"x'2",{"$f":"1*L444","v":0}]
[null,null,null,null,null,null,null,null,null,null,"y",{"$f":"0.167*(W406-W407-W404+W405)","v":0.46760000000000074}]
[null,null,null,null,null,null,null,null,null,null,"x",{"$f":"0.167*(V407-V405)","v":2.7053999999999996}]
[null,null,null,null,null,null,null,null,null,null,"نسبت برای x1",{"$f":"((V415-2*W414)/(0.28*(V406-V407)))","v":1.0531135531135531}]
[null,null,null,null,null,null,null,null,null,null,"زاویه خام سرشانه پشت",{"$f":"DEGREES(ATAN((V430-V429)/(0.5*V433+0.018*V434-0.16*V432)))","v":18.034753931062454}]
[null,null,null,null,null,null,null,null,null,null,"زاویه خام سرشانه جلو",{"$f":"DEGREES(ATAN((V427-V430-V426+V429-0.15*(V424-2*V425))/(0.5*V433+0.018*V434-0.16*V432)))","v":22.324657171603633}]
[null,null,null,null,null,null,null,null,null,null,"اختلاف نسبی زاویه سرشانه",{"$f":"(L451-L450)/(L451+L450)","v":0.10629251327846539}]
[null,null,null,null,null,null,null,null,null,null,"α'6",{"$f":"IF(ATAN((0.5*(V424-V425-V404+V405))/(V431-V430))>0,ATAN((0.5*(V424-V425-V404+V405))/(V431-V430)),0)","v":0.32631673270712425}]
[null,null,null,null,null,null,null,null,null,null,"زاویه s'3 با خط افق به درجه",{"$f":"ROUND(DEGREES(ATAN((V428-V427-V431+V430-((V431-V430)/COS(L453)))/(0.25*(V404-V405)))),1)","v":10.1}]
[null,null,null,null,null,null,null,null,null,null," w1 محاسبه",{"$f":"V425-0.23*V434","v":56.92}]
[null,null,null,null,null,null,null,null,null,null,"زاویه خام متوسط سرشانه ",{"$f":"ROUND(0.5*(L450+L451),0)","v":20}]
[]
[null,null,null,null,null,null,null,null,null,null,"پهنای ساسون سرشانه جلو   p1",{"$f":"(1/COS(RADIANS(L461)))*(0.5*V424+(0.122-0.3)*V434-V433)","v":9.6872683467432346}]
[null,null,null,null,null,null,null,null,null,null,"α'6",{"$f":"ATAN((V424-V425-V404+V405)/(V428-V427))","v":0.29370510445421028}]
[null,null,null,null,null,null,null,null,null,null,"s'3",{"$f":"IF(M439=3,0.5*(V428-V427)*((1/COS(L459))-1),IF(M439=1,0.2*0.5*(V428-V427),0))","v":0}]
[null,null,null,null,null,null,null,null,null,null,"p2",{"$f":"IF(M438=1,10,IF(M438=3,23,16))","v":16}]
[null,null,null,null,null,null,null,null,null,null,"w",{"$f":"(1/COS(RADIANS(L461)))*(0.5*V433+0.018*V434-0.16*V432)","v":21.407281791160045}]
[]
[]
[null,null,null,null,null,null,null,null,null,null,"y",{"$f":"0.167*(W406-W407-W404+W405)","v":0.46760000000000074}]
[null,null,null,null,null,null,null,null,null,null,"x",{"$f":"0.167*(V407-V405)","v":2.7053999999999996}]
[]
[null,null,null,null,null,null,null,null,null,null,"زاویه خام سرشانه پشت",{"$f":"DEGREES(ATAN((V430-V429)/(0.5*V433+0.018*V434-0.16*V432)))","v":18.034753931062454}]
[null,null,null,null,null,null,null,null,null,null,"زاویه خام سرشانه جلو",{"$f":"DEGREES(ATAN((V427-V430-V426+V429-0.15*(V424-2*V425))/(0.5*V433+0.018*V434-0.16*V432)))","v":22.324657171603633}]
[null,null,null,null,null,null,null,null,null,null,"اختلاف نسبی زاویه سرشانه",{"$f":"(L469-L468)/(L469+L468)","v":0.10629251327846539}]
[null,null,null,null,null,null,null,null,null,null,"α'6",{"$f":"ATAN((0.5*(V424-V425-V404+V405))/(V431-V430))","v":0.32631673270712425},{"$f":"DEGREES(L471)","v":18.696571568616811}]
[null,null,null,null,null,null,null,null,null,null,"زاویه s'3 با خط افق به درجه",{"$f":"ROUND(DEGREES(ATAN((V428-V427-V431+V430-((V431-V430)/COS(L471)))/(0.25*(V404-V405)))),1)","v":10.1}]
[]
[null,null,null,null,null,null,null,null,null,null,"زاویه خام متوسط سرشانه p2",{"$f":"ROUND(0.5*(L468+L469),0)","v":20}]
[]
[null,null,null,null,null,null,null,null,null,null,"میزان برجستگی باسن",{"$f":"ROUND(500*(L466/(V410-V412)),0)","v":57}]
[]
[null,null,null,null,null,null,null,null,null,null,"پهنای ساسون سرشانه جلو  p1",{"$f":"(1/COS(RADIANS(L474)))*(0.5*V424+(0.122-0.3)*V434-V433)","v":9.9096234172956912}]
[null,null,null,null,null,null,null,null,null,null,"میزان برجستگی سینه",{"$f":"ROUND(500*(L478/V425),0)","v":73}]
[]
[null,null,null,null,null,null,null,null,null,null,"  ناشی از ساسون کمر    α''6",{"$f":"ATAN((0.5*(V424-V425-V405))/(V431-V430))","v":0.42639776650560146},{"$f":"DEGREES(L481)","v":24.430792414575699}]
[null,null,null,null,null,null,null,null,null,null,"  ناشی از ساسون سرشانه    α''6",{"$f":"ATAN((L478)/(V428-V431-V427+V430))","v":0.45412984553313457},{"$f":"DEGREES(L482)","v":26.01972349997661}]
[null,null,null,null,null,null,null,null,null,null,"متوسط    α''6",{"$f":"0.5*(L481+L482)","v":0.44026380601936799},{"$f":"DEGREES(L483)","v":25.225257957276153}]
[null,null,null,null,null,null,null,null,null,null,"میزان برجستگی عمودی شکم",{"$f":"ROUND(IF(L471>0,20*(L483-L471)/L483,20+150*(L483-L471)*L483),0)","v":5}]
[null,null,null,null,null,null,null,null,null,null,"اضافه طول عمودی ناشی از برجستگی شکم (ناشی از محاسبه)",{"$f":"ROUND(IF(L471>0,(V431-V430)*(-(1/COS(L483))+(1/COS(L471))),(V431-V430)*((1/COS(L483))+(1/COS(L471))-2)),1)","v":-0.8}]
[null,null,null,null,null,null,null,null,null,null,"اضافه طول عمودی ناشی از برجستگی سینه",{"$f":"ROUND((V431-V430)*((1/COS(L483))-1),1)","v":1.7}]
[null,null,null,null,null,null,null,null,null,null,"اضافه طول عمودی ناشی از برجستگی شکم (ناشی از اندازه گیری t3)    s'3 ",{"$f":"ROUND(V428-V427-V431+V430-((V431-V430)/COS(L483)),1)","v":2.2000000000000002}]

{"sheet":"طراحی همه الگوها","index":9,"n_rows":519,"n_cols":22,"rows_kept":519,"cut":false,"hidden":true,"merged":[]}
[]
[]
[]
[]
[null,null,null,null,null,null,null,null,null,null,null,null,null,null,null,null,null,null,""]
[]
[]
[]
[]
[]
[]
[]
[]
[]
[]
[]
[]
[]
[]
[]
[]
[]
[]
[]
[]
[]
[]
[]
[]
[]
[]
[]
[]
[]
[]
[]
[]
[]
[]
[]
[]
[]
[]
[]
[]
[]
[]
[]
[]
[]
[]
[]
[]
[]
[]
[]
[]
[]
[]
[]
[]
[]
[]
[]
[]
[]
[]
[]
[]
[]
[]
[]
[]
[]
[]
[]
[]
[]
[]
[]
[]
[]
[]
[]
[]
[]
[]
[]
[]
[]
[]
[]
[]
[]
[]
[]
[]
[]
[]
[]
[]
[]
[]
[]
[]
[]
[]
[]
[]
[]
[]
[]
[]
[]
[]
[]
[]
[]
[]
[]
[]
[]
[]
[]
[]
[]
[]
[]
[]
[]
[]
[]
[]
[]
[]
[]
[]
[]
[]
[]
[]
[]
[]
[]
[]
[]
[]
[]
[]
[]
[{"$f":"'طراحی مدل 213'!A328","v":"بچگانه 14 ساله"},null,null,{"$f":"'طراحی مدل 213'!A328","v":"بچگانه 14 ساله"},null,null,{"$f":"'طراحی مدل 213'!A328","v":"بچگانه 14 ساله"},null,null,{"$f":"'طراحی مدل 213'!A328","v":"بچگانه 14 ساله"}]
["محاسبات در بافت بالاتنه و آستین (بافت انتخابی) ",null,null,"یقه شکاری  - بافت انتخابی ",null,null,"یقه شومیزیه تا خط جادکمه - بافت انتخابی",null,null,"یقه انگلیسی - بافت جودانه","تعداد دانه"]
[" b6   تعداد دانه های جادکمه  ",{"$f":"محاسبات!G42","v":6},null,"a1",{"$f":"محاسبات!O33","v":203},null,"e1",{"$f":"محاسبات!R34","v":150},null,"d1",{"$f":"محاسبات!AF19","v":129}]
[" b3  تعداد دانه های جلو بدون جادکمه (بین خط رگلان و خط مرکزی جلو که نیمه جادکمه از آن کم شود) ",{"$f":"محاسبات!G43","v":14},null,"a2",{"$f":"محاسبات!O34","v":7},null,"e2",{"$f":"محاسبات!R35","v":6},null,"d2",{"$f":"محاسبات!AF20","v":11}]
["b4   تعداد دانه های آستین",{"$f":"محاسبات!G44","v":15},null,"a3",{"$f":"محاسبات!O35","v":23},null,"e3",{"$f":"محاسبات!R36","v":15},null,"d3",{"$f":"محاسبات!AF21","v":8}]
["b5  تعداد دانه های پشت",{"$f":"محاسبات!G45","v":22},null,"a4",{"$f":"محاسبات!O36","v":47},null,"e4",{"$f":"محاسبات!R37","v":27},null,"d4",{"$f":"محاسبات!AF22","v":7}]
["تعداد دانه ها  دور گردن + دو تا نیمه جادکمه که از خط مرکزی جلو اضافه شده",{"$f":"محاسبات!G46","v":92},null,"a5",{"$f":"محاسبات!O37","v":71},null,"e5",{"$f":"محاسبات!R38","v":42},null,"d5",{"$f":"محاسبات!AF23","v":145}]
[" b2  تعداد دانه های اضافه شده  از خط مرکزی جلو تا خط جادکمه = نیمه جادکمه",{"$f":"ROUND(B153/2,0)","v":3},null,"a6",{"$f":"محاسبات!O38","v":9},null,"e6",{"$f":"محاسبات!R39","v":6},null,"d6",{"$f":"محاسبات!AF24","v":31}]
["تعداد رج دوبل برای گودی گردن جلو b13",{"$f":"محاسبات!F27","v":6},null,"a10",{"$f":"محاسبات!O39","v":5},null,"e7",{"$f":"محاسبات!R40","v":4},null,"d7",{"$f":"محاسبات!AF25","v":20}]
["تعداد رج سوبل برای گودی گردن جلو b13",{"$f":"محاسبات!F28","v":3},null,"a11",{"$f":"محاسبات!O40","v":2},null,"e8",{"$f":"محاسبات!R41","v":4},null,"d8",{"$f":"محاسبات!AF26","v":37}]
["فاصله  گردن تا محل جدا شدن آستین در قسمت جلو (cm)     b7",{"$f":"محاسبات!F29","v":22},null,"a25",{"$f":"محاسبات!O41","v":4},null,"e9",{"$f":"محاسبات!R42","v":2},null,"d9",{"$f":"محاسبات!AF27","v":4}]
["تعداد دانه های اضافه شده زیر بغل   b8",{"$f":"محاسبات!F30","v":12},null,"خطا",null,null,"e10",{"$f":"محاسبات!R43","v":6},null,"d10",{"$f":"محاسبات!AF28","v":10}]
["تعداد دانه های سرتاسر آستین در قسمت زیر بغل   b20",{"$f":"محاسبات!F31","v":95},null,null,null,null,"e11",{"$f":"محاسبات!R44","v":4},null,"d12",{"$f":"محاسبات!AF29","v":84}]
["فاصله زیر بغل تا پایین لباس (cm)     b9",{"$f":"محاسبات!F32","v":69},null,{"$f":"'طراحی مدل 213'!A328","v":"بچگانه 14 ساله"},null,null,"خطا"]
["فاصله زیر بغل تا لبه پایین آستین (cm)     b10",{"$f":"محاسبات!F33","v":17},null,"یقه ب ب گرد تا خط مرکزی جلو - بافت انتخابی",null,null,"خطا"]
["گشادی لبه پایین آستین (cm)     b'11",{"$f":"محاسبات!F34","v":32},null,"c1",{"$f":"محاسبات!X33","v":155}]
["تعداد دانه ها  لبه پایین آستین      b'12",{"$f":"محاسبات!F35","v":60},null,"c2",{"$f":"محاسبات!X34","v":4}]
["پهنای مچ جدا در پایین آستین (cm)     b14",{"$f":"محاسبات!F36","v":41},null,"c3",{"$f":"محاسبات!X35","v":8}]
["گشادی مچ جدا در پایین آستین (cm)     b15",{"$f":"محاسبات!F37","v":57},null,"c4",{"$f":"محاسبات!X36","v":19}]
["در بالای مچ جدا هر b12   دانه یکی کم شود",{"$f":"محاسبات!F38","v":-1},null,"c10",{"$f":"محاسبات!X37","v":6}]
["هر b11   رج در بافت آستین یکدانه از ابتدا و یکدانه از انتها کم شود",{"$f":"محاسبات!F39","v":3},null,"c11",{"$f":"محاسبات!X38","v":4}]
[null,null,null,"خطا"]
[]
["طراحی الگو جلو و پشت",null,null,"طراحی یقه و جیب و دامن در الگو جلو و پشت",null,null,"طراحی الگو یقه جدا و کلاه و بافت ",null,null,"طراحی الگو آستین ",null,null,"طراحی الگو شلوار",null,null,"طراحی الگو چادر یا مقنعه",null,null,null,null,"رسم الگو چادر یا مقنعه"]
[]
[null,null,null,null,null,null,null,null,null,null,null,null,"طراحی کلی شلوار",null,null,"طراحی چادر شماره 1 یا مقنعه ","عکس راهنما",null,null,"رسم دستی چادر 1 یا مقنعه چانه دار(بر حسب سانتیمتر)"]
[null,null,null,null,null,null,null,null,null,"انتخاب نوع آستین و سرشانه",1,null," گشاد یا تنگ شدن اندازه های عرضی در شلوار    ",-5,null,"لبه پایین چادر یا مقنعه",70,null,null,"(j1 → j2)",{"$f":"ROUND(محاسبات!CJ22+0.1*محاسبات!CJ16-محاسبات!CJ23,1)","v":65.7}]
[null,null,null,null,null,null,null,null,null,null,null,null," گشاد یا تنگ شدن اندازه های طولی در شلوار    ",0,null,"انتخاب چادر تا پایین پیشانی یا بالای پیشانی یا روی سر",2,null,null,"(j1 → j3)",{"$f":"ROUND((0.21+'متغیرها '!C6*0.1)*محاسبات!CJ16,1)","v":12}]
[null,null,null,null,null,null,null,null,null,null,null,null,"کوتاهی پایین شلوار  (قد شلوار)   ",30,null,null,null,null,null,"(j1 → j6)",{"$f":"ROUND(0.1*محاسبات!CJ16,1)","v":5.7}]
[null,null,null,null,null,null,null,null,null,null,null,null," گشادی پاچه شلوار ",16,null,null,null,null,null,"(j1 → j7)",{"$f":"ROUND(0.28*محاسبات!CJ16,1)","v":16}]
[null,null,null,null,null,null,null,null,null,null,null,null," گشادی دور زانو ",4,null,null,null,null,null,"(j7 → j8)",{"$f":"ROUND(1+0.2*U179,1)","v":2.1}]
[null,null,null,null,null,null,null,null,null,null,null,null,"ضریب عرض زیپ   ",6,null,null,null,null,null,"(j7 → j9)",{"$f":"ROUND(0.3*محاسبات!CJ16+20,1)","v":37.1}]
[null,null,null,null,null,null,null,null,null,null,null,null,"جابجایی افقی کل الگو جلو شلوار (سانتیمتر)  ",15,null,null,null,null,null,"(j3 → j11)",{"$f":"ROUND(0.18*محاسبات!CJ16,1)","v":10.3}]
[null,null,null,null,null,null,null,null,null,null,null,null,"جابجایی عمودی کل الگو جلو شلوار (سانتیمتر)  ",0,null,null,null,null,null,"(j3 → j12)",{"$f":"ROUND(0.15*محاسبات!CJ16,1)","v":8.6}]
[null,null,null,null,null,null,null,null,null,null,null,null,"جابجایی افقی کل الگو پشت شلوار (سانتیمتر)  ",10,null,null,null,null,null,{"$f":"'طراحی مدل 213'!A328","v":"بچگانه 14 ساله"}]
[null,null,null,null,null,null,null,null,null,null,null,null,"جابجایی عمودی کل الگو پشت شلوار (سانتیمتر)  ",0]
[null,null,null,null,null,null,null,null,null,null,null,null,null,null,null,"طراحی چادر شماره 2",null,null,null,"رسم دستی چادر 2 (بر حسب سانتیمتر)"]
[null,null,null,null,null,null,null,null,null,null,null,null,"اطلاعات شلوار و اندام",null,null,"لبه پایین چادر",10,null,null,"(1 →2)",{"$f":"ROUND(محاسبات!DM46+محاسبات!DM47-0.07*'متغیرها '!U85+0.1*'متغیرها '!C14*'متغیرها '!U85,1)","v":173.7}]
[null,null,null,null,null,null,null,null,null,null,null,null,"گشادی لبه شلوار (سانتیمتر) (محاسبه شده)",{"$f":"'متغیرها '!B615","v":39.1},null,"مکان نقطه اتصال جلو چادر به پشت چادر  ",20,null,null,"(1 →3)",{"$f":"ROUND('متغیرها '!C11*((محاسبات!DM46+محاسبات!DM47-0.07*'متغیرها '!U85)+محاسبات!DM45),1)","v":78.2}]
[null,null,null,null,null,null,null,null,null,null,null,null,"دور کمر (سانتیمتر) (اندازه گیری شده)",{"$f":"'متغیرها '!B616","v":75},null,"گشادی عرضی چادر  ",20,null,null,"(1 → 4)",{"$f":"ROUND(0.26*'متغیرها '!U85*'متغیرها '!C10,1)","v":14.8}]
[null,null,null,null,null,null,null,null,null,null,null,null,"طول کش برای کل کمر شلوار (سانتیمتر) (محاسبه شده)",{"$f":"'متغیرها '!B617","v":60},null,"گشادی لبه پایینی مچ  ",7,null,null,"(6→7)",{"$f":"0.93*U201","v":27.621000000000002}]
[null,null,null,null,null,null,null,null,null,null,null,null,"طول کش برای پشت کمر بین دو خط پهلو (سانتیمتر) (محاسبه شده)",{"$f":"'متغیرها '!B618","v":29.4},null,"مکان لبه پایینی آستین چادر ",10,null,null,"(5 →8)",{"$f":"ROUND(0.73*U189-U190,1)","v":42.3}]
[null,null,null,"طراحی یقه هفت",null,null,null,null,null,null,null,null,"طول کش از ساسون جلو - پشت - تا ساسون دیگر جلو (سانتیمتر) (محاسبه شده)",{"$f":"'متغیرها '!B619","v":38.6},null,"انتخاب چادر تا پایین پیشانی یا بالای پیشانی یا روی سر",2,null,null,"(8 →9)",{"$f":"ROUND(0.5*U191,1)","v":13.8}]
[null,null,null,"باز شدن یقه هفت روی سرشانه     ",null,null,null,null,null,null,null,null,null,null,null,null,null,null,null,"(8 →10)",{"$f":"ROUND(U195+(U188-U195-محاسبات!DB38+'متغیرها '!U83)*(1-COS(ASIN(U192/(U188-U195-محاسبات!DB38+'متغیرها '!U83)))),1)","v":35.200000000000003}]
[null,null,null,"باز شدن یقه هفت روی خط مرکزی جلو ",null,null,null,null,null,null,null,null," کمر شلوار",null,null,null,null,null,null,"(5 →11)",{"$f":"ROUND('طراحی همه الگوها'!U178+U190+0.1*'متغیرها '!C14*'متغیرها '!U85*1.5,1)","v":26.8}]
[null,null,null,null,null,null,null,null,null,null,null,null," پایین آمدن کمر شلوار نسبت به کمر اندام   (سانتیمتر)",-5,null,null,null,null,null,"(3 →12)",{"$f":"ROUND(محاسبات!DB38-U189+'متغیرها '!C13*'متغیرها '!U83,1)","v":18.399999999999999}]
[null,null,null,null,null,null,null,null,null,null,null,null," پهنای کمر جدا در شلوار  (سانتیمتر) ",3.5,null,null,null,null,null,"(12 →13)",{"$f":"ROUND(محاسبات!F425*'متغیرها '!C12,1)","v":15.1}]
[null,null,null,null,null,null,null,null,null,null,null,null,"کوتاهی جلو کمر شلوار نسبت به پشت کمر شلوار (سانتیمتر) ",0,null,null,null,null,null,"(3 →14)",{"$f":"ROUND(U197+U196*TAN(محاسبات!F423-RADIANS(90)+'متغیرها '!B245),1)","v":17.899999999999999}]
[null,null,null,null,null,null,null,null,null,null,null,null,"جابجایی افقی  جلو کمر شلوار (سانتیمتر)  ",0,null,null,null,null,null,"(5 →15)",{"$f":"ROUND(0.5*(محاسبات!DD19-محاسبات!DD18),1)","v":21.2}]
[null,null,null,null,null,null,null,null,null,null,null,null,"جابجایی عمودی  جلو کمر شلوار (سانتیمتر)  ",5,null,null,null,null,null,"(15 →16)",{"$f":"ROUND(0.35*(محاسبات!DE20-محاسبات!DE19),1)","v":4.8}]
[null,null,null,null,null,null,null,null,null,null,null,null,"جابجایی افقی  پشت کمر شلوار (سانتیمتر)  ",0,null,null,null,null,null,"(15 →17)",{"$f":"ROUND(محاسبات!DE17+0.35*(محاسبات!DE21-محاسبات!DE17),1)","v":29.7}]
[null,null,null,null,null,null,null,null,null,null,null,null,"جابجایی عمودی  پشت کمر شلوار (سانتیمتر)  ",5,null,null,null,null,null,"(8 →18)",{"$f":"ROUND(0.5*(محاسبات!DD24-محاسبات!DD23),1)","v":10.6}]
[null,null,null,null,null,null,null,null,null," جادکمه آستین بلند یا کوتاه",null,null,null,null,null,null,null,null,null,"(18 →19)",{"$f":"ROUND(محاسبات!DE20+0.45*(محاسبات!DE25-محاسبات!DE20),1)","v":20}]
[null,null,null,"پهنای جادکمه جلو      مرحله اول در طراحی یقه انگلیسی",null,null,null,null,null,"ضریب طول مستطیل ",7,null,"  شلوار متصل به بالاتنه",null,null,null,null,null,null,"(18 →20)",{"$f":"ROUND(محاسبات!DE25+0.8*(محاسبات!DE21-محاسبات!DE25),1)","v":33.700000000000003}]
[null,null,null,"باز شدن یقه روی سرشانه    مرحله دوم در طراحی یقه انگلیسی    ",null,null,null,null,null,"ضریب عرض مستطیل ",5,null," بلند شدن فاق در شلوار متصل به بالاتنه    ",10,null,null,null,null,null,"(1 →21)",{"$f":"ROUND(0.1*'متغیرها '!U85,1)","v":5.7}]
[" ارتفاع انحنا لبه پایین لباس نزدیک خط پهلو",0,null,"باز شدن یقه روی خط مرکزی پشت   مرحله دوم در طراحی یقه انگلیسی    ",null,null,null,null,null,null,null,null," بزرگی پهنای جادکمه پهلو",4,null,null,null,null,null,"(4 →22)",{"$f":"ROUND(0.7*U205,1)","v":4}]
[" طول انحنا لبه پایین لباس نزدیک خط پهلو",18,null,null,null,null,null,null,null,null,null,null,null,null,null,null,null,null,null,{"$f":"'طراحی مدل 213'!A328","v":"بچگانه 14 ساله"}]
[null,null,null,null,null,null,null,null,null,"طول کل حلقه آستین با اپل (سانتیمتر)",{"$f":"'متغیرها '!B536","v":48.5},null," جزئی شلوار"]
["  نوع پیراهن",null,null,null,null,null,null,null,null,null,null,null,"ضریب گشادی دور ران یا نسبت گشادی پشت پاچه به جلو پاچه  ",1.2,null,"طراحی چادر شماره 3",null,null,null,"رسم دستی چادر 3 (بر حسب سانتیمتر)"]
["انتخاب الگو جلو ترک (دامن،سوتین)=2    انتخاب الگو جلو با ساسون (مایو)=1",2,null,null,null,null,null,null,null,"طول کل حلقه آستین بدون ساسون (سانتیمتر) ",{"$f":"'متغیرها '!B538","v":50.3},null,"زاویه خط پهلو جلو   ","روش مولر",null,"لبه پایین چادر",10,null,null,"(1 →2)",{"$f":"ROUND(محاسبات!CJ22+0.1*'متغیرها '!U85-محاسبات!EC35,1)","v":165.7}]
[null,null,null,null,null,null,null,null,null,"طول حلقه آستین مدل 85 (سانتیمتر)",{"$f":"'متغیرها '!B539","v":48.2},null," پهنای صافی لبه پایین شلوار   ",0,null,"گشادی لبه پایینی مچ  ",5,null,null,"(1 →3)",{"$f":"ROUND('متغیرها '!C21,1)","v":110}]
[" اوزمان ها در دامن (پایین تنه ترک)",null,null,null,null,null,null,null,null,"طول حلقه آستین مدل 83 کت مردانه (سانتیمتر)",{"$f":"'متغیرها '!B540","v":47.6},null," بالا یا پایین رفتن خط زانو   ",0,null,"گشادی پایین چادر (معادل کوتاهی طول مچ چادر)",15,null,null,"(1 → 4)",{"$f":"ROUND(محاسبات!EC36*COS(RADIANS(محاسبات!EC34)),1)","v":73.400000000000006}]
["میزان پایین آمدن نقطه شروع اوزمان از خط کمر  ",30,null,null,null,null,null,null,null,null,null,null," پهنای فاق جلو (در روش مولر این ضریب ثابت مساوی 0.06 می باشد)   ",5,null,"مکان لبه پایینی آستین چادر ",10,null,null,"(4→5)",{"$f":"ROUND(محاسبات!EC36*SIN(RADIANS(محاسبات!EC34)),1)","v":47.7}]
["اوزمان در خط پهلو جلو دامن  ",0,null,null,null,null,null,null,null,null,null,null," زاویه خط وسط پا در پشت شلوار   ",2,null,"عرض پارچه  (سانتیمتر)",110,null,null,"(5 →6)",{"$f":"ROUND(U225*COS(RADIANS(محاسبات!EC37)),1)","v":14.2}]
["اوزمان در خط ترک جلو دامن  ",0,null,null,null,null,null,null,null,null,null,null," بلندی ساسون پشت شلوار   ",20,null,"انتخاب چادر تا پایین پیشانی یا بالای پیشانی یا روی سر",2,null,null,"(6 →7)",{"$f":"ROUND(U225*SIN(RADIANS(محاسبات!EC37)),1)","v":3.8}]
["اوزمان در خط  پهلو پشت دامن   ",0,null,"   محاسبه در یقه شکاری متصل به یقه هفت   ",{"$f":"'متغیرها '!B173","v":0.33},null,null,null,null,null,null,null,"بلندی ساسون جلو شلوار   ",20,null,null,null,null,null,"(2 →8)",{"$f":"ROUND(U211,1)","v":110}]
["اوزمان در خط مرکزی پشت دامن  ",0,null,null,null,null,null,null,null,null,null,null," پهنای ساسون وسط پشت شلوار   ",10,null,null,null,null,null,"(8 →9)",{"$f":"ROUND(U219,1)","v":67.7}]
["اوزمان در خط ترک پشت دامن  ",0,null,null,null,null,null,null,null,null,null,null," پهنای ساسون پهلو پشت شلوار   ",5,null,null,null,null,null,"(9→10)",{"$f":"ROUND(2*(U210-U212+U215-U217),1)","v":56.8}]
["انتخاب پیراهن ترک گشاد=2            انتخاب دیگر=1",1,null,null,null,null,null,null,null,null,null,null," پهنای ساسون وسط جلو شلوار   ",10,null,null,null,null,null,"(3→11)",{"$f":"ROUND(U210+محاسبات!DM47-U211+0.1*'متغیرها '!C22*'متغیرها '!U85,1)","v":67.7}]
[null,null,null,null,null,null,null,null,null,null,null,null," پهنای ساسون پهلو جلو شلوار   ",5,null,null,null,null,null,"(12 →13)",{"$f":"ROUND(1+1.5*(U211+U219-محاسبات!DM47-((U210-U217-U218)/TAN((U210-U217-U218)/(U211+U219-محاسبات!DM47)))),1)","v":6.1}]
[" ضریب طول ساسون روی خط مرکزی پشت پایین تنه        غیر فعال",20,null,null,null,null,null,null,null,null,null,null," ساسون پهلو در کمر جدا شلوار   ",0,null,null,null,null,null,"(8 →14)",{"$f":"U220","v":6.1}]
[null,null,null,null,null,null,null,null,null,null,null,null,null,null,null,null,null,null,null,"(2→15)",{"$f":"0.4*(U211+U210-U217-U218)","v":60.48}]
[null,null,null,null,null,null,null,null,null,null,null,null," برش پشت  شلوار جین",null,null,null,null,null,null,"(15→16)",{"$f":"ROUND((U210-محاسبات!DB38+'متغیرها '!U83)*(1-COS(ASIN((U222)/(U210-محاسبات!DB38+'متغیرها '!U83)))),1)","v":15}]
[null,null,null,null,null,null,null,null,null,null,null,null," بالا یا پایین شدن خط برش در قسمت پهلو پشت شلوار جین   ",20,null,null,null,null,null,"(17 →18)",{"$f":"ROUND(('متغیرها '!C20+'متغیرها '!C19)*'متغیرها '!U83,1)","v":9}]
[null,null,null,null,null,null,null,null,null,null,null,null," بالا یا پایین شدن خط برش در قسمت مرکزی پشت شلوار جین   ",20,null,null,null,null,null,"(17→19)",{"$f":"ROUND(U226+U224*TAN(محاسبات!EC38-RADIANS(90)+محاسبات!DM17),1)","v":14.7}]
[null,null,null,null,null,null,null,null,null,null,null,null,null,null,null,null,null,null,null,"(18→20)",{"$f":"ROUND(محاسبات!EC39*'متغیرها '!C18,1)","v":13.3}]
[null,null,null,null,null,null,null,null,null,null,null,null,"  دامن شلواری",null,null,null,null,null,null,"(2→21)",{"$f":"0.6*U222","v":36.287999999999997}]
[null,null,null,null,null,null,null,null,null,null,null,null," بلند شدن فاق در دامن شلواری    ",10,null,null,null,null,null,"(21→22)",{"$f":"ROUND(0.45*U223,1)","v":6.8}]
[null,null,null,null,null,null,null,null,null," آستین کلوش معکوس ",null,null," اوزمان در جلو دامن شلواری      ",8,null,null,null,null,null,{"$f":"'طراحی مدل 213'!A328","v":"بچگانه 14 ساله"}]
[null,null,null,null,null,null,null,null,null,"بلندی پایین آستین کلوش معکوس",30,null," اوزمان در پشت دامن شلواری      ",8]
[null,null,null,null,null,null,null,null,null," اوزمان آستین کلوش معکوس ",5,null,null,null,null,"طراحی چادر شماره 4",null,null,null,"رسم دستی چادر  4  (بر حسب سانتیمتر)"]
[null,null,null,null,null,null,null,null,null,null,null,null," شلوار با تکه پهلو جدا",null,null,"لبه پایین چادر",10,null,null,"(1 →2)",{"$f":"ROUND(U233+محاسبات!DM47+0.1*'متغیرها '!C32*'متغیرها '!U85,1)","v":177.7}]
[null,null,null,null,null,null,null,null,null,null,null,null," پهنای تکه پهلو جلو شلوار   ",12,null,"گشادی پشت چادر نسبت به جلو چادر  ",3,null,null,"(1 →4)",{"$f":"ROUND(محاسبات!CJ22+0.1*'متغیرها '!U85-محاسبات!ER39,1)","v":165.7}]
[null,null,null,null,null,null,null,null,null,null,null,null," پهنای تکه پهلو پشت شلوار   ",6,null,"مکان لبه پایینی آستین چادر ",10,null,null,"(2 → 3)",{"$f":"ROUND(U232*TAN(RADIANS('متغیرها '!C26)),1)","v":9.3000000000000007},"عمود"]
[null,null,null,null,null,null,null,null,null,null,null,null," باریک شدن پایین تکه پهلو جلو شلوار   ",5,null,"گشادی لبه پایینی آستین چادر ",7,null,null,"(4→5)",{"$f":"ROUND(U233*TAN(RADIANS('متغیرها '!C26)),1)","v":8.6999999999999993},"عمود"]
[null,null,null,null,null,null,null,null,null,null,null,null," باریک شدن پایین تکه پهلو پشت شلوار   ",5,null,"مکان لبه بالایی آستین چادر ",30,null,null,"(1 →10)",{"$f":"ROUND(محاسبات!DB38+'متغیرها '!C27*'متغیرها '!U83,1)","v":96.6},"زاویه 45"]
[null,null,null,null,null,null,null,null,null,null,null,null,"جابجایی افقی تکه پهلو شلوار (سانتیمتر)  ",7,null,"گشادی پایین چادر  ",20,null,null,"(10 →11)",{"$f":"ROUND('متغیرها '!C28*'متغیرها '!U84*0.5,1)","v":14.9},"عمود"]
[null,null,null,null,null,null,null,null,null,null,null,null,"جابجایی عمودی تکه پهلو شلوار (سانتیمتر)  ",0,null," بیشترین مقدار گشادی پایین چادر  برای اندام شما",{"$f":"'متغیرها '!B31","v":54},null,null,"(12 →13)",{"$f":"ROUND(محاسبات!EQ35-محاسبات!EQ37,1)","v":19}]
[null,null,null,null,null,null,null,null,null,null,null,null,null,null,null,"انتخاب چادر تا پایین پیشانی یا بالای پیشانی یا روی سر",2,null,null,"(13 →9)",{"$f":"ROUND(محاسبات!EP35-محاسبات!EP29,1)","v":31.9},"عمود"]
[null,null,null,null,null,null,null,null,null,null,null,null,"  شلوار رکاب دار",null,null,"مکان افقی الگو مرغک",40,null,null,"(12 →14)",{"$f":"ROUND(محاسبات!EQ37-محاسبات!EQ34,1)","v":78.8}]
[null,null,null,null,null,null,null,null,null,null,null,null," پهنای رکاب جلو شلوار   ",20,null,"مکان عمودی الگو مرغک",35,null,null,"(14 →8)",{"$f":"ROUND(محاسبات!EP34-محاسبات!EP29,1)","v":67.5},"عمود"]
[null,null,null,null,null,null,null,null,null,null,null,null," پهنای رکاب پشت شلوار   ",20,null,null,null,null,null,"(15 →16)",{"$f":"ROUND(0.33*U244,1)","v":7.5}]
[null,null,null,null,null,null,null,null,null,null,null,null," قله رکاب جلو شلوار   ",0,null,null,null,null,null,"(16 →17)",{"$f":"U242","v":7.5}]
[null,null,null,null,null,null,null,null,null,null,null,null," قله رکاب پشت شلوار   ",0,null,null,null,null,null,"(16 →18)",{"$f":"ROUND(محاسبات!ER40-3-0.2*محاسبات!ER40,1)","v":22.7},"عمود"]
[null,null,null,"طراحی اختصاصی یقه قایقی بدون جابجایی تکه پهلو",null,null,"طراحی بافت ",null,null,null,null,null," ارتفاع رکاب جلو شلوار   ",0,null,null,null,null,null,"(16 →19)",{"$f":"U244","v":22.7}]
[null,null,null,"باز شدن یقه قایقی روی سرشانه  ",20,null,null,null,null,null,null,null," ارتفاع رکاب پشت شلوار   ",0,null,null,null,null,null,{"$f":"'طراحی مدل 213'!A328","v":"بچگانه 14 ساله"}]
[null,null,null,null,null,null,"طراحی نقشه بافت"]
[null,null,null,null,null,null,"جابجایی افقی کل نقشه  (سانتیمتر)   ",-5,null,"جابجایی افقی کل آستین رگلان بدون درز (سانتیمتر)",-4.5,null," جیب جین پشت شلوار یا پیراهن ",null,null,"طراحی چادر شماره 5",null,null,null,"رسم دستی چادر 5 (بر حسب سانتیمتر)"]
[null,null,null,"انتخاب یقه مربعی یا برش سرشانه",2,null,"جابجایی عمودی کل نقشه  (سانتیمتر)  ",0,null,null,null,null,"ضریب پهنای جیب    ",11,null,"لبه پایین چادر",10,null,null,"(1 →2)",{"$f":"ROUND(0.5*'متغیرها '!C38*'متغیرها '!U54,1)","v":83.7}]
[null,null,null,"  انتخاب آستین با هر نوع ساسون=1    انتخاب آستین بدون ساسون=2           ",2,null,"نسبت افقی نقشه بافت به سایز واقعی الگو",42,null," آستین رگلان درز دار",null,null,"ضریب ارتفاع جیب    ",9,null,"گشادی دامن چادر  ",20,null,null,"(1 →3)",{"$f":"ROUND('متغیرها '!U56-محاسبات!FC42,1)","v":99.9},"عمود"]
[null,null,null,null,null,null,"ارتفاع هر رج (نسبت عمودی نقشه بافت به سایز واقعی الگو)",40,null,"میزان خمیدگی بدن به سمت جلو   ",3,null,"زاویه خط پهلو جیب    ",5,null,"بلند شدن دسته چادر ",20,null,null,"(2 → 4)",{"$f":"U250","v":99.9},"عمود"]
[null,null,null,null,null,null,"پهنای نیم دایره",10,null,"میزان خم شدن سرشانه در آستین  ",3,null,"زاویه مثلث پایین جیب    ",20,null,"انتخاب چادر تا پایین پیشانی یا بالای پیشانی یا روی سر",2,null,null,"(3→5)",{"$f":"ROUND(0.14*'متغیرها '!U56,1)","v":14}]
[null,null,null,"  حلقه آستین با ساسون عصایی  ",{"$f":"'متغیرها '!B287","v":"عدم خطا"},null,"طول باکس نوشته",9,null,"پهنای ساسون مچ روی درز آستین  ",3,null,"زاویه چرخش کل جیب    ",45,null,null,null,null,null,"(4 →6)",{"$f":"ROUND(0.33*U249,1)","v":27.6},"عمود"]
[null,null,null,"بالا یا پایین آمدن خط کارور جلو",10,null,"پهنای باکس نوشته",10,null,"میزان روی هم آمدن سرشانه در دو تکه آستین رگلان  ",10,null,"مکان افقی جیب  (سانتیمتر)    ",0,null,null,null,null,null,"(6 →7)",{"$f":"U261","v":22.9},"عمود"]
[null,null,null,"  حلقه آستین با ساسون سرشانه یا حلقه آستین بدون ساسون ",{"$f":"'متغیرها '!B290","v":"عدم خطا"},null,"بزرگی فلش رج",12,null,"زاویه درز روی آستین نسبت به عمود  ",3,null,"مکان عمودی جیب    ",20,null,null,null,null,null,"(4→8)",{"$f":"ROUND(0.2*('متغیرها '!U52-'متغیرها '!U53),1)","v":7.6}]
[null,null,null,"  حلقه آستین با ساسون عصایی  ",{"$f":"'متغیرها '!B291","v":"عدم خطا"},null,"زاویه فلش رج",10,null,"میزان انحنا لبه جلو آستین  ",1,null,null,null,null,null,null,null,null,"(4 →11)",{"$f":"ROUND(3*U255+'متغیرها '!U52+10,1)","v":107.8}]
[null,null,null,"پهنا یقه روی خط سرشانه  (فقط موثر در انتخاب یقه مربعی) ",20,null,"بزرگی خط عمودی دانه",6,null,"میزان انحنا لبه پشت آستین  ",1,null," جیب جلو شلوار مردانه و جیب جین جلو شلوار",null,null,null,null,null,null,"(4 →9)",{"$f":"ROUND(1+0.03*'متغیرها '!U56,1)","v":4},"عمود"]
[null,null,null,"پهنای کارور جلو  (فقط موثر در انتخاب یقه مربعی و ملوانی) ",20,null,"بزرگی فلش دانه",10,null,"سهم گشادی مچ آستین بر روی درز  ",4,null," بزرگی عمودی دهانه جیب   ",10,null,null,null,null,null,"(12 →18)",{"$f":"U252","v":14}]
[" اندازه های طولی در پیراهن  ",0,null,"پهنای کارور پشت  (فقط موثر در انتخاب یقه مربعی و ملوانی) ",20,null,"زاویه فلش دانه",15,null,"جابجایی افقی تکه جلو آستین رگلان درز دار (سانتیمتر)",5,null," بزرگی افقی دهانه جیب   ",10,null,null,null,null,null,"(18 →14)",{"$f":"ROUND(محاسبات!DM47+محاسبات!CJ22+0.1*'متغیرها '!U85-'متغیرها '!U56+U252+0.1*'متغیرها '!C40*'متغیرها '!U85,1)","v":91.8}]
[null,null,null,null,null,null,"جابجایی افقی راهنمای نقشه  (سانتیمتر)   ",-45,null,null,null,null," بزرگی کیسه جیب    ",10,null,null,null,null,null,"(12 →16)",{"$f":"U249-U253","v":56.1},"عمود"]
[null,null,null,null,null,null,"جابجایی عمودی راهنمای نقشه  (سانتیمتر)  ",5,null,null,null,null,null,null,null,null,null,null,null,"(16 →17)",{"$f":"ROUND(U258+0.5*(SQRT(POWER(U259-محاسبات!FC43,2)+U260*U260)-U259+محاسبات!FC43),1)","v":22.9},"عمود"]
[null,null,null,null,null,null,null,null,null,null,null,null,"  جیب جلو شلوار با بلیطی",null,null,null,null,null,null,"(16 →13)",{"$f":"ROUND(1.9*(U253-U255),1)","v":38}]
[null,null,null,"بررسی خطای گردی یقه تا خط کارور جلو",null,null,null,null,null,null,null,null,"پهنای بلیطی جیب  (سانتیمتر)",2,null,null,null,null,null,"(14 →15)",{"$f":"ROUND(U260+U262+0.5*'متغیرها '!C39*'متغیرها '!U56,1)","v":119.1},"عمود"]
[null,null,null,"آیا یقه گرد که تا خط کارور جلو باز شده، با پارچه کش از سر رد میشود؟",{"$f":"'متغیرها '!E297","v":"خیر- گردی یقه زیاد شود یا کارور جلو پایین بیاید"},null,null,null,null,null,null,null,"ضریب طول بلیطی جیب",18,null,null,null,null,null,"(3→19)",{"$f":"ROUND(0.4*(محاسبات!FJ25-محاسبات!FJ22),1)","v":22.4}]
["اتصال آزاد=4   اتصال به دامن تنگ=3  اتصال به بالاتنه با ساسون=2   اتصال به پیراهن راسته=1",2,null,"آیا یقه گرد که تا خط کارور جلو باز شده، با پارچه غیر کش از سر رد میشود؟",{"$f":"'متغیرها '!E298","v":"خیر- گردی یقه زیاد شود یا کارور جلو پایین بیاید"},null,null,null,null,null,null,null,"زاویه جیب با عمود ",18,null,null,null,null,null,"(19 →20)",{"$f":"ROUND(محاسبات!FG17-(محاسبات!FK25+0.9*(محاسبات!FK22-محاسبات!FK25)),1)","v":14.9},"عمود"]
["دور تا دور کمر دراتصال آزاد   (سانتیمتر)  ",100,null,null,null,null,"توضیح کاربر:",null,null,null,null,null,"تبدیل بلیطی جیب از مستطیل به متوازی الاضلاع ",20,null,null,null,null,null,"(3 →21)",{"$f":"ROUND(0.8*(محاسبات!FJ25-محاسبات!FJ22),1)","v":44.9}]
["قد دامن دراتصال آزاد  (سانتیمتر)   ",40,null," یقه دراپه ",null,null,"نقشه بافت مخصوص کاربر",null,null,null,null,null,"انتخاب جیب روکار=2        انتخاب دیگر=1",2,null,null,null,null,null,"(21→22)",{"$f":"ROUND(محاسبات!FG17-(محاسبات!FK25+0.45*(محاسبات!FK22-محاسبات!FK25)),1)","v":18.899999999999999},"عمود"]
["مکان پایین دامن فون دراتصال پیراهن راسته یا دامن تنگ   ",1,null,"نقطه شروع دراپه جلو    ",80,null,"پهنای باکس توضیحات (سانتیمتر)",15,null,null,null,null,"مکان افقی وسط جیب",10,null,null,null,null,null,"(12 →23)",{"$f":"U264","v":22.4}]
[null,null,null,"میزان باز بودن یقه جلو به سمت  خط سینه    ",20,null,"ارتفاع باکس توضیحات (سانتیمتر)",15,null,null,null,null,"مکان عمودی بالای جیب  ",50,null,null,null,null,null,"(23 →24)",{"$f":"U265","v":14.9},"عمود"]
[null,null,null,"جابجایی عمودی یقه دراپه جلو (سانتیمتر)",0,null,"جابجایی افقی توضیحات کاربر  (سانتیمتر)   ",35,null,null,null,null,null,null,null,null,null,null,null,"(12 →25)",{"$f":"U266","v":44.9}]
[null,null,null,"نقطه شروع دراپه پشت    ",80,null,"جابجایی عمودی توضیحات کاربر  (سانتیمتر)  ",20,null,null,null,null," جیب پشت شلوار یا پیراهن با بلیطی",null,null,null,null,null,null,"(25 →26)",{"$f":"U267","v":18.899999999999999},"عمود"]
[null,null,null,"میزان باز بودن یقه پشت به سمت  خط سینه    ",20,null,null,null,null,null,null,null,"پهنای بلیطی جیب  (سانتیمتر)",2,null,null,null,null,null,"(15 →27)",{"$f":"ROUND(محاسبات!FJ15-(محاسبات!FJ11+0.75*(محاسبات!FJ15-محاسبات!FJ11)),1)","v":6.3}]
[null,null,null,"جابجایی عمودی یقه دراپه پشت (سانتیمتر)",0,null,"طراحی بافت جلو پشت آستین","نمونه بافت",null,null,null,null,"ضریب طول بلیطی جیب",20,null,null,null,null,null,"(27 →28)",{"$f":"ROUND(محاسبات!FK15-محاسبات!FK13,1)","v":52.9},"عمود"]
["انتخاب کمر برای جلیقه =2         انتخاب دیگر = 1",1,null,null,null,null,"انتخاب ضخامت میل و کاموا بافتنی",2,null,null,null,null,"زاویه جیب با عمود ",18,null,null,null,null,null,"(4 →29)",{"$f":"ROUND(0.5*('متغیرها '!U52-'متغیرها '!U53),1)","v":19.100000000000001},"نقطه انتهای اتصال به کمر-خط پهلو"]
[null,null,null,"یقه دکلته جلو",null,null,"شماره بافت انتخابی جادکمه",1,null,null,null,null,"تبدیل بلیطی جیب از مستطیل به متوازی الاضلاع ",20,null,null,null,null,null,{"$f":"'طراحی مدل 213'!A328","v":"بچگانه 14 ساله"}]
[null,null,null,"میزان باز بودن یقه در خط مرکزی جلو  ",90,null,"شماره بافت انتخابی جلو",1,null,null,null,null,"انتخاب جیب روکار=2        انتخاب دیگر=1",2]
[null,null,null,"میزان اضافه شدن ساسون سرشانه  ",20,null,"شماره بافت انتخابی پشت",1,null,null,null,null,"مکان افقی وسط جیب",10]
[null,null,null,"میزان انحنا یقه  ",20,null,"شماره بافت انتخابی آستین",1,null,null,null,null,"مکان عمودی بالای جیب  ",50]
[]
[null,null,null,"یقه دکلته پشت",null,null,"طراحی بافت یقه انگلیسی","نمونه بافت"]
[null,null,null,"میزان باز بودن یقه در خط مرکزی پشت  ",90,null,"شماره بافت انتخابی یقه انگلیسی",13]
[null,null,null,"میزان انحنا یقه  ",19]
[null,null,null,null,null,null,"طراحی بافت یقه شکاری","نمونه بافت"]
[null,null,null," طول بند برای لباس دکلته از جلو تا پشت (سانتیمتر)",null,null,"شماره بافت انتخابی یقه شکاری",14]
[null,null,null,"دکلته آبی جلو     به     دکلته آبی پشت",{"$f":"'متغیرها '!B363","v":11}]
[null,null,null,"دکلته آبی جلو     به     دکلته سبز پشت",{"$f":"'متغیرها '!B364","v":16},null,"طراحی بافت یقه شومیزیه","نمونه بافت"]
[null,null,null,"دکلته آبی جلو     به     دکلته بنفش پشت",{"$f":"'متغیرها '!B365","v":23},null,"شماره بافت انتخابی یقه شومیزیه",12]
[null,null,null,"دکلته آبی جلو     به     دکلته سیاه پشت",{"$f":"'متغیرها '!B366","v":28}]
[null,null,null,"دکلته سبز جلو     به     دکلته آبی پشت",{"$f":"'متغیرها '!B367","v":17},null,"طراحی بافت یقه ب ب","نمونه بافت"]
[null,null,null,"دکلته سبز جلو     به     دکلته سبز پشت",{"$f":"'متغیرها '!B368","v":22},null,"شماره بافت انتخابی یقه ب ب ",12]
[null,null,null,"دکلته سبز جلو     به     دکلته بنفش پشت",{"$f":"'متغیرها '!B369","v":29}]
[null,null,null,"دکلته سبز جلو     به     دکلته سیاه پشت",{"$f":"'متغیرها '!B370","v":33},null," اول مخصوص کاربر","برچسب بافت :"]
[null,null,null,"دکلته سیاه جلو     به     دکلته آبی پشت",{"$f":"'متغیرها '!B371","v":21},null,"پهنای 30 دانه بافت مخصوص کاربر ( سانتیمتر)",16]
[null,null,null,"دکلته سیاه جلو     به     دکلته سبز پشت",{"$f":"'متغیرها '!B372","v":27},null,"ارتفاع 20 رج بافت مخصوص کاربر ( سانتیمتر)",6]
[null,null,null,"دکلته سیاه جلو     به     دکلته بنفش پشت",{"$f":"'متغیرها '!B373","v":33}]
[null,null,null,"دکلته سیاه جلو     به     دکلته سیاه پشت",{"$f":"'متغیرها '!B374","v":38},null," دوم مخصوص کاربر","برچسب بافت :"]
[null,null,null,null,null,null,"پهنای 30 دانه بافت مخصوص کاربر ( سانتیمتر)",1]
[null,null,null," رگلاژ یقه دکلته پشت",null,null,"ارتفاع 20 رج بافت مخصوص کاربر ( سانتیمتر)",1]
[null,null,null,"نقطه بالای رگلاژ روی یقه دکلته    ",2]
[null,null,null,"نقطه وسط رگلاژ روی خط کمر    ",16,null," سوم مخصوص کاربر","برچسب بافت :"]
[null,null,null,"نقطه پایین رگلاژ روی خط مرکزی پشت   ",16,null,"پهنای 30 دانه بافت مخصوص کاربر ( سانتیمتر)",1]
[null,null,null,"ضریب پهنای جادکمه برای تکه رگلاژ ",6,null,"ارتفاع 20 رج بافت مخصوص کاربر ( سانتیمتر)",1]
[" پیلی ها و گوده ها (متقارن در پیراهن)","عکس راهنما",null,"جابجایی افقی تکه رگلاژ جدا (سانتیمتر)  ",30]
[" عرض پیلی 1 (بعد از دوخت) - روی خط مرکزی جلو  (سانتیمتر)    ",0,null,null,null,null," چهارم مخصوص کاربر","برچسب بافت :"]
[" عرض پیلی 2 (بعد از دوخت) - روی خط ترک جلو  (سانتیمتر)     ",0,null,null,null,null,"پهنای 30 دانه بافت مخصوص کاربر ( سانتیمتر)",1]
[" عرض پیلی 3 (بعد از دوخت) - روی خط پهلو   (سانتیمتر)   ",0,null,null,null,null,"ارتفاع 20 رج بافت مخصوص کاربر ( سانتیمتر)",1]
[" عرض پیلی 4 (بعد از دوخت) - روی خط مرکزی پشت   (سانتیمتر)   ",2]
[" عرض پیلی 5 (بعد از دوخت)  روی خط ترک پشت (سانتیمتر) و نصف پهنای لبه برگرد پایین کت",2,null,"یقه پروانه ای متصل به حلقه آستین بدون ساسون بدون جابجایی تکه پهلو",null,null," پنجم مخصوص کاربر","برچسب بافت :"]
[" عرض پایین گوده 1 - روی خط مرکزی جلو  (سانتیمتر)    ",0,null,"پهنای سرشانه به سمت پشت    ",20,null,"پهنای 30 دانه بافت مخصوص کاربر ( سانتیمتر)",1]
[" عرض پایین گوده 2 - روی خط ترک جلو  (سانتیمتر)    ",0,null,"پهنای سرشانه به سمت جلو   ",20,null,"ارتفاع 20 رج بافت مخصوص کاربر ( سانتیمتر)",1]
[" عرض پایین گوده 3 - روی خط پهلو  (سانتیمتر)    ",5]
[" عرض پایین گوده 4 - روی خط مرکزی پشت  (سانتیمتر)   ",5,null," طراحی یقه دلبری",null,null," ششم مخصوص کاربر","برچسب بافت :"]
[" عرض پایین گوده 5 - روی خط ترک پشت   (سانتیمتر)  ",5,null," باز شدن یقه نسبت به وسط گردن       ",14,null,"پهنای 30 دانه بافت مخصوص کاربر ( سانتیمتر)",1]
[" نقطه شروع گوده یا پیلی ",40,null,"  فاصله عمودی نقطه شکست یقه دلبری   ",20,null,"ارتفاع 20 رج بافت مخصوص کاربر ( سانتیمتر)",1]
[null,null,null," فاصله افقی نقطه شکست یقه دلبری",20]
[null,null,null,null,null,null," هفتم مخصوص کاربر","برچسب بافت :"]
[null,null,null," یقه پشت گردنی متصل به حلقه آستین با ساسون بدون جابجایی تکه پهلو ",null,null,"پهنای 30 دانه بافت مخصوص کاربر ( سانتیمتر)",1]
[null,null,null," پهنای یقه پشت گردن  ",20,null,"ارتفاع 20 رج بافت مخصوص کاربر ( سانتیمتر)",1]
[null,null,null," طول یقه پشت گردن  ",20]
[null,null,null,"  انحنا افقی یقه جلو       ",20,null," هشتم مخصوص کاربر","برچسب بافت :"]
[null,null,null," انحنا عمودی یقه جلو    ",20,null,"پهنای 30 دانه بافت مخصوص کاربر ( سانتیمتر)",1]
[null,null,null,null,null,null,"ارتفاع 20 رج بافت مخصوص کاربر ( سانتیمتر)",1]
[null,null,null,"طراحی جیب و جادکمه"]
[null,null,null,null,null,null," نهم مخصوص کاربر","برچسب بافت :"]
[" طراحی کش پایین سویشرت ",null,null,"  جیب پهلو با بلیطی  (جلو) (آبی)",null,null,"پهنای 30 دانه بافت مخصوص کاربر ( سانتیمتر)",1]
["بالا یا پایین رفتن برش پایین سویشرت",45,null,"پهنای بلیطی جیب  (سانتیمتر)",2,null,"ارتفاع 20 رج بافت مخصوص کاربر ( سانتیمتر)",1]
["ضریب کوچک شدن کش",8,null,"ضریب طول بلیطی جیب",20]
["طول  کش از ساسون جلو- دور باسن - تا ساسون دیگر جلو (سانتیمتر)",{"$f":"'متغیرها '!B277","v":47},null,"زاویه جیب با عمود ",4,null," دهم مخصوص کاربر","برچسب بافت :"]
[null,null,null,"زاویه چرخش بلیطی جیب از مستطیل به متوازی الاضلاع ",20,null,"پهنای 30 دانه بافت مخصوص کاربر ( سانتیمتر)",1]
[" دراپه از پهلو",null,null,null,null,null,"ارتفاع 20 رج بافت مخصوص کاربر ( سانتیمتر)",1]
["حد بالا برش دراپه   ",80]
["پهنای هر دراپه به سانتیمتر   ",6]
["تعداد دراپه ها    ",{"$f":"'متغیرها '!B307","v":2}]
[]
["  کنترل گودی حلقه آستین و اپل"]
["انتخاب کنترل گودی حلقه آستین=2        و انتخاب دیگر=1",1]
["روی هم آمدن سرشانه پشت و جلو ",10,null,"انتخاب طول جیب منطبق با جیب با ساسون=2     انتخاب طول جیب دستی=1",1]
["نسبت اعمال تغییر در حلقه جلو به حلقه پشت  ",20]
["زاویه اپل    ",15]
[]
[" انتقال ساسون زیر بغل بر روی جیب در تکه پهلو جدا",null,null,"جیب دوم با بلیطی (جلو) (سیاه)"]
[" زاویه جیب با افق  ",40,null,"پهنای بلیطی جیب  (سانتیمتر)",2]
[" پهنای جیب در مدل تکه پهلو جدا",20,null,"ضریب طول بلیطی جیب",20]
[null,null,null,"زاویه جیب با عمود ",18]
["سرشانه دکمه خور متصل به حلقه آستین بدون ساسون\nبدون شیفت تکه پهلو",null,null,"زاویه چرخش بلیطی جیب از مستطیل به متوازی الاضلاع ",20]
["پهنای جادکمه سرشانه",5,null,"انتخاب جیب روکار=2        انتخاب دیگر=1",2]
[null,null,null,"مکان افقی وسط جیب",10]
["  آستین کیمونو و آستین سرخود بدون شیفت تکه پهلو",null,null,"مکان عمودی بالای جیب  ",96]
["میزان خمیدگی آستین کیمونو نسبت به خط سرشانه   ",20]
["کوتاهی آستین کیمونو   ","منطبق",null,"  جیب مستطیل  (جلو)  (قرمز)"]
["گشادی دور مچ   (کیمونو و سرخود)","منطبق",null,"ضریب عرض جیب مستطیل",0]
["انحنا پهلو برای آستین کیمونو   ",8,null,"زاویه  جیب با عمود ",0]
["انحنا پهلو برای آستین سرخود   ",5,null,"ضریب ارتفاع جیب مستطیل",0]
["کوتاهی آستین سرخود   ",35,null,"مکان افقی وسط جیب",10]
["کوتاهی تاج آستین سرخود   ",0,null,"مکان عمودی بالای جیب  ",96]
[" : گشادی لبه آستین سرخود",{"$f":"'متغیرها '!E401","v":" گشاد تر شود "}]
[]
[" شورت بدون شیفت تکه پهلو"]
["ضریب فاصله کمر شورت تا زمین ",65]
["میزان انحنا جلو شورت مردانه ",8]
["مکان افقی مرغک",30]
["مکان عمودی مرغک",0]
[]
[" مایو پادار",null,null,"جادکمه متصل به یقه  (جلو)"]
["گشادی پایین پاچه     ",3,null,"ضریب عرض جادکمه ",30]
["پهنای صافی لبه پایین پاچه",10,null,"ضریب طول جادکمه ",28]
["ضریب عرض جادکمه وسط پا  ",3,null," طول جادکمه  (سانتیمتر)",{"$f":"'متغیرها '!B239","v":11.4}]
["زاویه خط پهلو پاچه  ",5,null," عرض جادکمه  (سانتیمتر)",{"$f":"'متغیرها '!B240","v":3.2}]
["جابجایی افقی تکه وسط پا (سانتیمتر)",2,null,"آیا یقه گرد متصل به جادکمه با پارچه غیر کش از سر رد میشود؟",{"$f":"'متغیرها '!E237","v":"بله "}]
["جابجایی عمودی تکه وسط پا (سانتیمتر)",-10,null,"آیا یقه گرد متصل به جادکمه با پارچه نیم کش از سر رد میشود؟",{"$f":"'متغیرها '!E238","v":"بله "}]
[null,null,null,"آیا یقه گرد متصل به جادکمه با پارچه کش زیاد از سر رد میشود؟",{"$f":"'متغیرها '!E239","v":"بله "}]
[" مایو بدون شیفت تکه پهلو      باید  شروع اوزمان = خط باسن"]
[" ضریب بالا آمدن خط مایو در پهلو   ",10,null,"طراحی دامن"]
["انتخاب مایو دکمه دار از وسط پا=2            انتخاب مایو بدون دکمه=1",2]
["جابجایی محل دکمه از پشت به جلو برای پوشک بچه در انتخاب مایو دکمه دار (سانتیمتر)",2,null,"طراحی زیپ و چاک دامن"]
["اضافه پهنا وسط پا برای پوشک بچه در انتخاب مایو دکمه دار (سانتیمتر) ",1.5,null,"عرض (پهنا) زیپ در خط پهلو  (سانتیمتر)   ",0]
["اضافه جادکمه وسط پا در انتخاب مایو دکمه دار  (سانتیمتر)",2,null,"ضریب طول (بلندی) زیپ در خط پهلو  ",16]
[null,null,null,"عرض (پهنا) زیپ در خط مرکزی پشت  (سانتیمتر)   ",0]
["  پیش بند حمام بچه و طراحی اانحنا روی خط پهلو پیراهن",null,null,"ضریب طول (بلندی) زیپ در خط مرکزی پشت  ",16]
[" بزرگی کلاه بچه   ",20,null,"عرض (پهنا) چاک در خط مرکزی پشت  (سانتیمتر)   ",0]
["نقطه بالای انحنا روی خط پهلو",20,null,"ضریب طول (بلندی) چاک در خط مرکزی پشت  ",0]
["نقطه پایین انحنا روی خط پهلو",20]
[null,null,null," پیلی ها  (متقارن یا نامتقارن در جلو دامن)"]
["  جلو پیش سینه رکابی بدون شیفت تکه پهلو",null,null," عرض پیلی 2 (بعد از دوخت) - جلو  (سانتیمتر)     ",0]
["بالا یا پایین رفتن بند پیش سینه جلو",57,null," عرض پیلی 3 (بعد از دوخت) - جلو  (سانتیمتر)   ",0]
["فاصله بند تا زیر حلقه آستین",20,null," عرض پیلی 4 (بعد از دوخت) - جلو   (سانتیمتر)   ",0]
["گودی بین دو بند در جلو سینه",50,null," عرض پیلی 5 (بعد از دوخت) - روی خط مرکزی جلو  (سانتیمتر)    ",0]
["فاصله بند تا خط مرکزی جلو",20,null," عرض پیلی 6 (بعد از دوخت) -  جلو  (سانتیمتر)     ",0]
["انتخاب خط راست پهلو جلو=2        انتخاب دیگر=1",1,null," عرض پیلی 7 (بعد از دوخت) - جلو   (سانتیمتر)   ",0]
[null,null,null," عرض پیلی 8 (بعد از دوخت) - جلو   (سانتیمتر)   ",0]
["مکان بند جدا پیش سینه یا پیش بند در الگو پشت"]
["مکان افقی بند جدا",20,null," پیلی ها  (متقارن یا نامتقارن در پهلو دامن)"]
["مکان عمودی بند جدا",50,null," عرض پیلی 1 (بعد از دوخت) - درز پهلو چپ  (سانتیمتر)    ",0]
[null,null,null," عرض پیلی 9 (بعد از دوخت) - درز پهلو راست   (سانتیمتر)   ",0]
[" پشت پیش سینه رکابی بدون شیفت تکه پهلو"]
["بالا یا پایین رفتن بند پیش سینه پشت",20,null," پیلی ها  (متقارن یا نامتقارن در پشت دامن)"]
["فاصله بند تا زیر حلقه آستین",20,null," عرض پیلی 10 (بعد از دوخت) - پشت  (سانتیمتر)     ",0]
["گودی بین دو بند در پشت سینه",20,null," عرض پیلی 11 (بعد از دوخت) - پشت  (سانتیمتر)   ",0]
["فاصله بند تا خط مرکزی پشت",20,null," عرض پیلی 12 (بعد از دوخت) - پشت   (سانتیمتر)   ",0]
["انتخاب خط راست پهلو پشت=2        انتخاب دیگر=1",1,null," عرض پیلی 13 (بعد از دوخت) - روی خط مرکزی پشت  (سانتیمتر)    ",0]
[null,null,null," عرض پیلی 14 (بعد از دوخت) -  پشت  (سانتیمتر)     ",0]
["  طراحی سوتین کلی",null,null," عرض پیلی 15 (بعد از دوخت) - پشت   (سانتیمتر)   ",0]
["ضریب ساسون وسط سینه      ",20,null," عرض پیلی 16 (بعد از دوخت) - پشت   (سانتیمتر)   ",0]
["ضریب پایین آمدن از خط پهلو    ",20,null,"جابجایی افقی قرینه پشت دامن (سانتیمتر)",0]
[" بزرگ شدن کاسه در خط مرکزی جلو      ",20]
[" بزرگ شدن کاسه زیر نوک سینه    ",20,null," دامن چند طبقه چین"]
[" بزرگ شدن کاسه در پهلو      ",20,null,"اتصال به دامن تنگ = 3    اتصال به بالاتنه با ساسون=2   اتصال به پیراهن راسته=1",3]
[" بالا یا پایین آمدن یقه روی خط مرکزی جلو    ",20,null,"مکان پایین دامن طبقه اول    ",25]
["حرکت عمودی نقطه اتصال بند جلو      ",20,null,"چین در دامن طبقه اول",2]
["حرکت افقی نقطه اتصال بند جلو    ",20,null,"مکان پایین دامن طبقه دوم    ",20]
["میزان انحنا یقه جلو   ",20,null,"چین در دامن طبقه دوم",1]
["ضریب گودی خطوط افقی کاسه      ",20,null,"مکان پایین دامن طبقه سوم    ",15]
["ضریب گودی خطوط عمودی کاسه    ",20,null,"چین در دامن طبقه سوم",1]
["میزان انحنا یقه در پهلو    ",20,null,"مکان پایین دامن طبقه چهارم    ",10]
[" افزایش یا کاهش ساسون زیر بغل     ",20,null,"چین در دامن طبقه چهارم",1]
[" افزایش یا کاهش طول عمودی کاسه     ",20,null,"جابجایی افقی جلو دامن چند طبقه (سانتیمتر)",0]
[" افزایش یا کاهش طول افقی کاسه     ",20,null,"جابجایی عمودی جلو دامن چند طبقه (سانتیمتر)",0]
["جابجایی افقی کاسه پایین راست (سانتیمتر)    ",0,null,"جابجایی افقی پشت دامن چند طبقه (سانتیمتر)",0]
["جابجایی عمودی کاسه پایین (سانتیمتر)    ",0,null,"جابجایی عمودی پشت دامن چند طبقه (سانتیمتر)",0]
["جابجایی عمودی کاسه بالا (سانتیمتر)    ",0]
[null,null,null," دامن لنگی دراپه"]
["  طراحی اختصاصی سوتین 6 تکه",null,null,"پهنای هر دراپه (پیلی) (سانتیمتر)  ",3]
["انتقال ساسون روی خط سینه به زیر سینه    ",9,null,"مکان نقطه شروع دراپه روی خط پهلو   ",26]
["چرخش تکه پهلو     ",20,null,"مکان نقطه شروع دراپه در پایین لباس   ",26]
["پهنای بند جلو       ",1.5,null,"مکان پیلی اول روی کمر دامن",10]
["بالا یا پایین رفتن مکان بند جلو",20,null,"مکان پیلی دوم روی کمر دامن",20]
["چپ و راست رفتن مکان بند جلو",20,null,"مکان پیلی سوم روی کمر دامن",30]
["پهنای افقی برش جلو بند    ",20]
["پهنای برش کاسه در پهلو      ",20,null," دامن با والان"]
["بالا یا پایین رفتن خط پایین پایه      ",80,null,"پهنای هر یک از 3 تا پیلی (بعد از دوخت) روی کمر  (سانتیمتر)  ",5]
["پهنای بند پشت  (سانتیمتر)   ",1.5,null,"فاصله  پیلی اول تا خط مرکزی جلو   ",15]
["بالا یا پایین رفتن مکان بند پشت",20,null," لبه پایینی دامن والان روی خط مرکزی پشت    ",10]
["چپ و راست رفتن مکان بند پشت",9,null," لبه پایینی دامن والان روی درز پهلو    ",15]
["انحنا یقه پشت پهلو      ",20,null," لبه بالایی دامن والان روی درز پهلو   ",40]
["پهنای قزن در پشت (سانتیمتر)    ",3]
["انحنا یقه پشت مرکزی      ",20]
["جابجایی افقی تکه جلو مرکزی (سانتیمتر)    ",0]
["جابجایی افقی تکه پهلوجلو (سانتیمتر)    ",0]
["جابجایی عمودی کاسه یک تکه زیرین (سانتیمتر)    ",0]
[]
[" شنل  بدون شیفت تکه پهلو"]
["اوزمان در شنل  ",20]
[]
["پیراهن کلوش (با حلقه آستین بدون ساسون سرشانه)"]
[" اوزمان در جلو پیراهن کلوش   ",5]
[" فاصله اوزمان اول از خط مرکزی جلو     ",13]
[" فاصله اوزمان دوم از خط مرکزی جلو     ",18]
[" اوزمان در پشت پیراهن کلوش",5]
[" فاصله اوزمان اول از خط مرکزی پشت     ",13]
[" فاصله اوزمان دوم از خط مرکزی پشت     ",20]
[]
[]
[]
[]
[]
[]
[]
[]
[]
[]
[]
[]
[]
[]
[]
[]
[]
[]
[]
[]
[]
[]
[]
[]
[]
[]
[]
[]
[]
[]
[]
[]
[]
[]
[]
[]
[]
[]
[]
[]
[]
[]
[]
[]
[]
[]
[]
[]
[]
[]
[]
[]
[]
[]
[]
[]
[]
[]
[]
[]
[]
[]
[]
[]
[]
[]
[]
[]
[null,null,null,null,{"$f":"'طراحی همه الگوها'!J349","v":0}]

{"sheet":"طراحی مدل 213","index":10,"n_rows":437,"n_cols":11,"rows_kept":437,"cut":false,"hidden":false,"merged":[]}
[]
[]
[]
[null," "]
[]
[]
[]
[]
[]
[]
[]
[]
[]
[]
[]
[]
[]
[]
["in"]
[]
[]
[]
[]
[]
[]
[]
[]
[]
[]
[]
[]
[]
[]
[]
[]
[]
[]
[]
[]
[]
[]
[]
[]
[]
[]
[]
[]
[]
[]
[]
[]
[]
[]
[]
[]
[]
[]
[]
[]
[]
[]
[]
[]
[]
[]
[]
[]
[]
[]
[]
[]
[]
[]
[]
[]
[]
[]
[]
[]
[]
[]
[]
[]
[]
[]
[]
[]
[]
[]
[]
[]
[]
[]
[]
[]
[]
[]
[]
[]
[]
[]
[]
[]
[]
[]
[]
[]
[]
[]
[]
[]
[]
[]
[]
[]
[]
[]
[]
[]
[]
[]
[]
[]
[]
[]
[]
[]
[]
[]
[]
[]
[]
[]
[]
[]
[]
[]
[]
[]
[]
[]
[]
[]
[]
[]
[]
[]
[]
[]
[]
[]
[]
[]
[]
[]
[]
[]
[]
[]
[]
[]
[]
[]
[]
[]
[]
[]
[]
[]
[]
[]
[]
[]
[]
[]
[]
[]
[]
[]
[]
[]
[]
[]
[]
[]
[]
[]
[]
[]
[]
[]
[]
[]
[]
[]
[]
[]
[]
[]
[]
[]
[]
[]
[]
[]
[]
[]
[]
[]
[]
[]
[]
[]
[]
[]
[]
[]
[]
[]
[]
[]
[]
[]
[]
[]
[]
[]
[]
[]
[]
[]
[]
[]
[]
[]
[]
[]
[]
[]
[]
[]
[]
[]
[]
[]
[]
[]
[]
[]
[]
[]
[]
[]
[]
[]
[]
[]
[]
[]
[]
[]
[]
[]
[]
[]
[]
[]
[]
[]
[]
[]
[]
[]
[]
[]
[]
[]
[]
[]
[]
[]
[]
[]
[]
[]
[]
[]
[]
[]
[]
[]
[]
[]
[]
[]
[]
[]
[]
[]
[]
[]
[]
[]
[]
[]
[]
[]
[]
[]
[]
[]
[]
[]
[]
[]
["طراحی الگو جلو و پشت",null,null,"طراحی یقه و جیب در الگو جلو و پشت",null,null,"طراحی الگو یقه جدا و کلاه  ",null,null,"طراحی الگو آستین "]
[]
[null,null,null," طراحی یقه گرد و ...",null,null," جابجایی همه الگوهای یقه",null,null," طراحی کلی آستین "]
[null,null,null,"باز شدن یقه روی سرشانه (گرد، هفت، انگلیسی)  مرحله دوم در طراحی یقه انگلیسی",4,null,"جابجایی افقی همه یقه های جدا  (سانتیمتر)   ",-5,null,"بلندی پایین آستین",33]
[null,null,null,"باز شدن یقه روی خط مرکزی جلو (گرد)  ",8,null,"جابجایی عمودی همه یقه های جدا  (سانتیمتر)  ",40,null,"گشادی لبه پایین آستین",2]
[null,null,null,"باز شدن یقه روی خط مرکزی پشت (گرد، انگلیسی) مرحله دوم در طراحی یقه انگلیسی",3,null,null,null,null,"ضریب بلند یا کوتاه شدن اندازه های طولی در آستین",0]
["اندازه نوشته ها هنگام چاپ به سایز واقعی",8,null,null,null,null,"  یقه شکاری ",null,null,"ضریب بلندی تاج آستین",0]
[null,null,null," کنترل یقه گرد بدون زیپ ",null,null," قد پشت یقه   ",22,null,"ضریب گشادی تاج آستین",1]
["انتخاب سایز :","سایز من",null,"دور سر  (سانتیمتر)",{"$f":"'متغیرها '!B260","v":57},null," کج شدن  یقه به سمت گردن   ",-8,null,"مکان لبه بالایی صافی سرآستین ",10]
["بچگانه 14 ساله",null,null," دور یقه گرد لباس  (سانتیمتر)",{"$f":"'متغیرها '!B261","v":46.7},null,"مکان لبه یقه نسبت به جلو لباس        ","مرکزی جلو",null,"جابجایی افقی کل الگو آستین (سانتیمتر)",17]
[null,null,null,"آیا یقه گرد با پارچه غیر کش از سر رد میشود؟",{"$f":"'متغیرها '!E262","v":"خیر"},null,"زاویه لبه برگردان یقه (میزان نوک تیز بودن لبه)     ",55,null,"جابجایی عمودی کل الگو آستین (سانتیمتر)",4]
["برچسب الگو : ",null,null,"آیا یقه گرد با پارچه نیم کش از سر رد میشود؟",{"$f":"'متغیرها '!E263","v":"خیر"},null," قد لبه برگردان یقه   ",26]
[{"$f":"A325","v":"بچگانه 14 ساله"},null,null,"آیا یقه گرد با پارچه کش زیاد از سر رد میشود؟",{"$f":"'متغیرها '!E264","v":"بله "},null,null,null,null,"  مچ جدا در آستین"]
[null,null,null,null,null,null,"  یقه فرنچی ایستاده و کاسبرگی",null,null,"انتخاب مچ اندامی=2    انتخاب مچ مستطیل، مچ پفی یا مچ بافت=1",1]
[" جابجایی الگو جلو و پشت پیراهن",null,null,"طراحی نوار یقه گرد کش ",null,null," قد یقه    ",14,null,"گشادی لبه بالایی مچ ",0]
["جابجایی افقی کل الگو جلو پیراهن (سانتیمتر)",12,null,"ارتفاع نوار یقه گرد کش به سانتیمتر (بعد از دوخت)",1,null," کج شدن یقه به سمت گردن  ",15,null,"گشادی لبه پایینی مچ یا (گشادی مچ مستطیل، مچ پفی )  ",20]
["جابجایی عمودی کل الگو جلو پیراهن (سانتیمتر)",7,null,"طول مستطیل (بدون جای دوخت) برای دوخت یقه گرد کش (سانتیمتر)",{"$f":"'متغیرها '!B249","v":41},null,"مکان لبه یقه نسبت به جلو لباس        ","مرکزی جلو",null,"مکان لبه بالایی مچ",35]
["جابجایی افقی کل الگو پشت پیراهن  (سانتیمتر)",10,null,"عرض مستطیل (بدون جای دوخت) که در موقع دوخت باید دولا شود  (سانتیمتر)",{"$f":"2*'متغیرها '!C248","v":2},null," انحنا لبه یقه  ",5,null,"مکان لبه پایینی مچ",5]
["جابجایی عمودی کل الگو پشت پیراهن  (سانتیمتر)",10,null,null,null,null,null,null,null,"جابجایی افقی مچ  (سانتیمتر)   ",0]
["جابجایی افقی تکه  پهلو جلو   (سانتیمتر)",0,null," کنترل یقه هفت بدون زیپ ",null,null," یقه شومیزیه ",null,null,"جابجایی عمودی مچ  (سانتیمتر)  ",-4]
["جابجایی افقی تکه پهلو پشت  (سانتیمتر)",0,null,"دور سر  (سانتیمتر)",{"$f":"'متغیرها '!B267","v":57},null," قد پایه یقه   ",9]
["جابجایی عمودی تکه پهلو پشت  (سانتیمتر)",0,null," دور یقه هفت لباس  (سانتیمتر)",{"$f":"'متغیرها '!B268","v":55.9},null," کج شدن پایه یقه به سمت گردن   ",5,null," آستین کتی"]
[null,null,null,"آیا یقه هفت با پارچه غیر کش از سر رد میشود؟",{"$f":"'متغیرها '!E269","v":"خیر"},null,"مکان لبه پایه یقه نسبت به جلو لباس   ","خط جادکمه",null,"میزان خمیدگی آستین کتی  ",5]
[" گشاد یا تنگ شدن پیراهن",null,null,"آیا یقه هفت با پارچه نیم کش از سر رد میشود؟",{"$f":"'متغیرها '!E270","v":"بله "},null," انحنا لبه پایه یقه  ",20,null,"ضریب طول مستطیل جادکمه کتی",20]
[" اندازه های عرضی در پیراهن   ",3,null,null,null,null," قد پشت برگردان یقه   ",16,null,"ضریب عرض مستطیل جادکمه کتی",15]
[" گشاد یا تنگ شدن از خط پهلو زیر حلقه ",2,null,"طراحی یقه انگلیسی و آرشال ","عکس راهنما",null," کج شدن برگردان یقه به سمت گردن   ",-6,null,"جابجایی افقی تکه جلو آستین کتی (سانتیمتر)",0]
[" گشاد یا تنگ شدن از خط پهلو دور باسن  ",0,null,"پهنای یقه در پشت گردن (انگلیسی، آرشال)    مرحله سوم در طراحی یقه انگلیسی",15,null,"زاویه لبه برگردان یقه (میزان نوک تیز بودن لبه)     ",40]
[null,null,null,"باز بودن جلو یقه (انگلیسی، آرشال، هفت) مرحله چهارم در طراحی یقه انگلیسی ",20,null," قد لبه برگردان یقه   ",23,null,"  آستر مچ جدا در آستین"]
[" جادکمه ","عکس راهنما",null,"پهنای بالای دال   مرحله پنجم در طراحی یقه انگلیسی ",18,null,"جابجایی افقی برگردان یقه  (سانتیمتر)   ",-5,null,"انتخاب مچ اندامی=2        انتخاب مچ مستطیل یا مچ پفی=1",1]
["پهنای جادکمه جلو       مرحله اول در طراحی یقه انگلیسی   ",3,null,"پهنای پایین دال   مرحله پنجم در طراحی یقه انگلیسی      ",18,null,"جابجایی عمودی برگردان یقه  (سانتیمتر)  ",50,null,"گشادی لبه بالایی مچ ",4]
[null,null,null,"پهنای جلو یقه (انگلیسی، آرشال)   مرحله ششم در طراحی یقه انگلیسی ",20,null,null,null,null,"گشادی لبه پایینی مچ یا (گشادی مچ مستطیل یا مچ پفی)  ",2]
[" سرشانه و حلقه آستین",null,null,"وسط دال پایین یا بالا رود (انگلیسی، آرشال)   مرحله هفتم در طراحی یقه انگلیسی",25,null," یقه شکاری با پایه",null,null,"مکان لبه بالایی مچ",15]
["ضریب کم شدن سرشانه  ",0,null," زاویه بالای دال     مرحله هشتم در طراحی یقه انگلیسی",13,null," قد پایه یقه   ",8,null,"مکان لبه پایینی مچ",10]
["ضریب بزرگ شدن زیر حلقه آستین  ",3,null," زاویه پایین دال      مرحله هشتم در طراحی یقه انگلیسی ",24,null," قد پشت برگردان یقه   ",22,null,"جابجایی افقی آستر مچ  (سانتیمتر)   ",0]
["ضریب زیاد شدن سرشانه  ",0,null," دال رو به پایین یا رو به بالا شود    مرحله هشتم در طراحی یقه انگلیسی  ",15,null," کج شدن یقه به سمت گردن   ",-13,null,"جابجایی عمودی آستر مچ  (سانتیمتر)  ",0]
["انتخاب آستین حلقه ای یا پیش سینه رکابی یا تکه پهلو جدا=1   انتخاب دیگر=2",2,null,null,null,null,"مکان لبه یقه نسبت به جلو لباس   ","مرکزی جلو"]
[null,null,null," طراحی تکه پشت یقه انگلیسی و آرشال  ","عکس راهنما",null,"زاویه لبه برگردان یقه (میزان نوک تیز بودن لبه)     ",60,null,"  آستین کلوش "]
["طراحی دامن فون",null,null,"پهنای پشت پایه (انگلیسی، آرشال)    مرحله سوم در طراحی یقه انگلیسی      ",26,null," قد لبه برگردان یقه   ",26,null,"بلندی پایین آستین کلوش",37]
["لبه پایین لباس",30,null,"زاویه کج شدن پایه مستطیل به قسمت گردن    مرحله سوم در طراحی یقه انگلیسی ",40,null,"جابجایی افقی پایه یقه  (سانتیمتر)   ",0,null," اوزمان آستین کلوش ",10]
["چین در دامن فون",1,null,"پهنای جلو پایه مستطیل      مرحله سوم در طراحی یقه انگلیسی       ",20,null,"جابجایی عمودی پایه یقه  (سانتیمتر)  ",-6]
[" اوزمان در جلو دامن فون ",10,null,"انتخاب یقه انگلیسی پایه سرخود یا پایه جدا    مرحله سوم در طراحی یقه انگلیسی",1,null,null,null,null," آستین لاله ای"]
[" اوزمان در پشت دامن فون   ",11,null,"تغییر انحنا بالا سمت چپ     مرحله نهم در طراحی یقه انگلیسی          ",20,null," یقه ب ب مثلثی و گرد",null,null,"مکان نقطه بالای انحنا جلو آستین   ",20]
["میزان ریزش پارچه در طراحی دامن فون",5,null,"تغییر انحنا بالا    مرحله نهم در طراحی یقه انگلیسی ",40,null,"زاویه جلو یقه ب ب مثلثی",25,null,"مکان نقطه بالای انحنا پشت آستین   ",20]
["جابجایی افقی جلو دامن فون (سانتیمتر)",0,null,"زاویه تکه پشت یقه روی خط مرکزی پشت",20,null,"ضریب پهنای یقه ب ب مثلثی و گرد ",25,null,"مکان نقطه پایین انحنا جلو آستین   ",20]
["جابجایی عمودی جلو دامن فون (سانتیمتر)",-5,null,"زاویه تکه پشت یقه با پایه روی خط مرکزی پشت",20,null,null,null,null,"مکان نقطه پایین انحنا پشت آستین   ",20]
["جابجایی افقی پشت دامن فون (سانتیمتر)",0,null,"تغییر انحنا پایین روی خط مرکزی پشت",20,null," جابجایی کلاه",null,null,"ضریب انحنا جلو   ",23]
["جابجایی عمودی پشت دامن فون (سانتیمتر)",-7,null,"تغییر انحنا پایین",20,null,"جابجایی افقی کلاه  (سانتیمتر)",-10,null,"ضریب انحنا پشت   ",23]
["رسم دستی دامن کلوش",null,null,"اعمال ضخیم دوزی در سجاف یقه انگلیسی و آرشال  ",20,null,"جابجایی عمودی کلاه (سانتیمتر)",9]
["رسم دستی دامن نیم کلوش",null,null,"جابجایی افقی پایه مستطیل  (سانتیمتر)",0,null,"جابجایی افقی تکه پشت سر در کلاه سه تکه  (سانتیمتر)",3,null,"اطلاعات طول حلقه آستین و طول تاج آستین"]
[null,null,null,"جابجایی عمودی پایه مستطیل  (سانتیمتر)",0,null,null,null,null,"طول کل حلقه آستین با ساسون (سانتیمتر)",{"$f":"'متغیرها '!B537","v":48.4}]
["  جلو کمر پهن","عکس راهنما",null,"جابجایی افقی پایه لبه گرد یقه انگلیسی (سانتیمتر)",0,null,"طراحی کلی کلاه ",null,null,"طول تاج آستین کتی (سانتیمتر)",{"$f":"'متغیرها '!B541","v":50.6}]
["بالای کمر پهن یکسره روی خط مرکزی جلو (ضریب فاصله نقطه u4 از خط کمر)",3,null,"جابجایی عمودی پایه لبه گرد یقه انگلیسی (سانتیمتر)",0,null,"ضریب بزرگ یا کوچک شدن کلاه",0,null,"طول تاج آستین ساده (سانتیمتر)",{"$f":"'متغیرها '!B542","v":50.7}]
["پایین کمر روی خط مرکزی جلو (ضریب فاصله نقطه d4 از خط کمر)  ",3,null,"جابجایی افقی پایه یقه آرشال (سانتیمتر)",25,null,"انتخاب کلاه ملوانی برای موهای دم اسبی که از پشت بسته شود ",1]
["ضریب فاصله عمودی دال جلو  (جلیقه) - (ضریب فاصله نقطه u5 از خط کمر)",3,null,"جابجایی عمودی پایه یقه آرشال (سانتیمتر)",-10,null," پهنای بلیطی جلو کلاه",0]
["ضریب فاصله افقی دال جلو  (جلیقه) - (ضریب فاصله نقطه u5 از خط مرکزی جلو)",0,null,null,null,null," بلندی بلیطی جلو کلاه",0]
["پایین کمر روی خط ترک جلو (ضریب فاصله نقطه d5 از خط کمر)  ",3,null,"مراحل مختلف در طراحی یقه انگلیسی","عکس راهنما",null," بلندی انحنا جلو کلاه",4]
["بالای کمر پهن یکسره روی خط ترک جلو (ضریب فاصله نقطه u6 از خط کمر)",3,null,"پهنای جادکمه جلو - میزان روی هم آمدن یقه انگلیسی","مرحله اول",null," پهنای انحنا روی صورت",8]
["جابجایی افقی کمر پهن یکسره (سانتیمتر)",0,null,"میزان باز بودن یقه گرد - نشان میدهد یقه چقدر به گردن میچسبد","مرحله دوم",null," پهنای انحنا بالای پیشانی",6]
["جابجایی عمودی کمر پهن یکسره  (سانتیمتر)",-45,null,"پهنای تکه پشت یقه انگلیسی","مرحله سوم"]
[null,null,null,"باز بودن یقه انگلیسی","مرحله چهارم",null," کلاه متصل به یقه مربعی"]
["  پهلو کمر پهن",null,null,"پهنای بالا و پایین دال","مرحله پنجم",null,"بالا یا پایین رفتن خط کارور جلو",30]
["بالای کمر پهن یکسره روی خط پهلو (ضریب فاصله نقطه u3 از خط کمر)",3,null,"پهنای یقه انگلیسی","مرحله ششم",null,"پهنای کارور جلو",48]
["پایین کمر روی خط پهلو (ضریب فاصله نقطه d3 از خط کمر)  ",3,null,"بالا و پایین رفتن نقطه وسط دال","مرحله هفتم"]
[null,null,null,"تنظیم زاویه های نوک دال","مرحله هشتم",null," کلاه ملوانی"]
[" پشت کمر پهن","عکس راهنما",null,"اصلاح انحنای بالای تکه پشت یقه انگلیسی","مرحله نهم",null,"بالا یا پایین رفتن قسمت پایین کلاه روی خط مرکزی جلو",13]
["بالای کمر پهن یکسره روی خط مرکزی پشت (ضریب فاصله نقطه u1 از خط کمر)",3,null,null,null,null,"پهنای قسمت پایین کلاه",2]
["پایین کمر روی خط مرکزی پشت (ضریب فاصله نقطه d1 از خط کمر) ",3,null,"طراحی  برش سرشانه"]
["بالای کمر پهن یکسره روی خط ترک پشت (ضریب فاصله نقطه u2 از خط کمر)",3,null,"بالا یا پایین آمدن خط کارور پشت",20]
["پایین کمر روی خط ترک پشت (ضریب فاصله نقطه d2 از خط کمر)",3,null,"حلقه آستین با ساسون سرشانه",{"$f":"'متغیرها '!B286","v":"عدم خطا"}]
["جابجایی افقی کمر پهن یکسره (سانتیمتر)",0,null,"جابجایی افقی   (سانتیمتر)   ",0]
["جابجایی عمودی کمر پهن یکسره  (سانتیمتر)",-45,null,"جابجایی عمودی  (سانتیمتر)  ",30]
[]
["انحنا لبه پیراهن یا دامن روی خط مرکزی جلو ",null,null,"طراحی جیب و جادکمه"]
["انحنا نقطه بالایی روی خط مرکزی جلو ",11]
["انحنا نقطه میانی روی خط مرکزی جلو ",25,null," جیب اول با بلیطی  (جلو) (سبز)"]
["انحنا نقطه پایینی روی خط مرکزی جلو ",8,null,"پهنای بلیطی جیب  (سانتیمتر)",0]
[null,null,null,"ضریب طول بلیطی جیب",20]
[" مشخصات کمربند به شکل مستطیل (مناسب برای لباس شما)",null,null,"زاویه جیب با عمود ",4.5]
["طول کمربند (سانتیمتر)",{"$f":"'متغیرها '!B273","v":101.4},null,"زاویه چرخش بلیطی جیب از مستطیل به متوازی الاضلاع ",20]
["عرض کمربند (سانتیمتر)",{"$f":"'متغیرها '!B274","v":4.2},null,"انتخاب جیب روکار=2        انتخاب دیگر=1",1]
[null,null,null,"مکان افقی وسط جیب",23]
[" انتقال ساسون سرشانه به زیر بغل، عصایی یا خط مرکزی جلو",null,null,"مکان عمودی بالای جیب  ",60]
[" برای حذف کامل ساسون سرشانه مجموع c1 و c2 باید 10 شود."]
["انتقال ساسون سرشانه جلو به ساسون زیر بغل یا ساسون عصایی  c1",10,null," جادکمه با بلیطی (جلو)"]
["انتقال ساسون سرشانه به خط مرکزی جلو c2",0,null,"پهنای جادکمه  (سانتیمتر)",2]
["انتخاب (اصلاح سرشانه و حلقه آستین برای c1 >10 ) = 2     انتخاب دیگر=1",1,null,"ضریب طول جادکمه ",19]
[null,null,null,"زاویه جادکمه با عمود ",18]
[" انتقال ساسون سرشانه به زیر بغل، عصایی یا خط مرکزی پشت",null,null,"مکان افقی وسط جادکمه",1]
[" برای حذف کامل ساسون سرشانه مجموع c1 و c2 باید 10 شود.",null,null,"مکان عمودی بالای جادکمه ",82]
["انتقال ساسون سرشانه پشت به ساسون زیر بغل یا عصایی  c1",10]
["انتقال ساسون سرشانه به خط مرکزی پشت c2",0]
[]
[" ساسون زیر بغل"]
["ضریب کوتاه شدن ساسون زیر بغل جلو  ",9]
["ضریب کوتاه شدن ساسون زیر بغل پشت  ",5]
[]
["  تنظیم ساسون های بالای کمر"]
["مجموع ضرایب پهنای دو ساسون پشت باید کمتر از 20 یا مساوی 20 باشد."]
["اگر مجموع پهنای ساسون ها کمتر از 20 باشد، باقیمانده ساسون ها روی خط پهلو قرار میگیرد."]
[" ضریب پهنای ساسون روی خط مرکزی پشت بالاتنه   ",0]
[" ضریب طول ساسون روی خط مرکزی پشت بالاتنه   ",15]
[" ضریب پهنای ساسون میانی پشت بالاتنه   ",15]
[" ضریب طول ساسون میانی پشت بالاتنه   ",15]
[" ضریب فاصله افقی ساسون وسط بالاتنه از خط مرکزی پشت   ",25]
[" ضریب پهنای ساسون میانی جلو بالاتنه    ",7]
[" ضریب طول ساسون میانی جلو بالاتنه  ",18]
[" ضریب فاصله افقی ساسون میانی بالاتنه از خط مرکزی جلو   ",25]
[" ضریب نوک ساسون سرشانه جلو تا نوک سینه  ",20]
[]
[" تنظیم ساسون های پایین کمر"]
["مجموع ضرایب پهنای دو ساسون پشت باید کمتر از 20 یا مساوی 20 باشد."]
["اگر مجموع پهنای ساسون ها کمتراز20 باشد، باقیمانده ساسون ها روی خط پهلوقرارمیگیرد."]
[" ضریب پهنای ساسون روی خط مرکزی پشت پایین تنه   ",0]
[" ضریب پهنای ساسون میانی پشت پایین تنه   ",10]
[" ضریب طول ساسون میانی پشت پایین تنه       ",18]
[" ضریب پهنای ساسون میانی جلو پایین تنه    ",5]
[" ضریب طول ساسون میانی جلو پایین تنه       ",18]
[]
["ساسون ها در بالاتنه عصایی "]
["انتخاب بالاتنه عصایی=2        انتخاب دیگر=1",2]
["مکان ساسون عصایی جلو در حلقه آستین بالاتنه",4]
["مکان ساسون عصایی پشت در حلقه آستین بالاتنه",6]

{"sheet":"temp_print_sheet","index":11,"n_rows":0,"n_cols":0,"rows_kept":0,"cut":false,"hidden":true,"merged":[]}