{"text_format":"1","workbook":"xlsx","n_sheets":9,"sheets":["Chart Index","محاسبات","متغیرها ","راهنما","اندازه های شخصی","اندازه گیری و تحلیل","طراحی همه الگوها","الگوهای مدل 216","temp_print_sheet"],"not_rendered":{"charts":28,"images":53,"macros":1,"external_links":0,"defined_names":2,"comments":2,"pivot_tables":0},"unopened":[],"bounds":{"document_bytes":16777216,"sheet_cells":100000,"rows_first":2000,"rows_last":500,"rows_between":2000,"halvings":0,"cell_chars":16384,"cell_head_chars":4096},"cells_cut":0,"cells_raw":0,"read":"whole","date_system":"1900"}

{"sheet":"Chart Index","index":0,"n_rows":22,"n_cols":4,"rows_kept":22,"cut":false,"hidden":true,"merged":[]}
[]
[]
[]
[]
[]
[]
["Preview","Sheet (and graph link)","Chart Title","Chart Series"]
[null,"طراحی همه الگوها","رسم دستی چادر2","انحنا, صاف"]
[null,"طراحی همه الگوها","رسم دستی چادر 3","انحنا, صاف"]
[null,"طراحی همه الگوها","رسم دستی چادر 5","انحنا, صاف"]
[null,"طراحی همه الگوها","طراحی چادرها و رسم چادر 4","شبیه ساز دست خمیده و سر, شبیه ساز دامن, رسم یا طراحی چادر4"]
[null,"طراحی همه الگوها","  چادر1 و مقنعه برای پرینت ","شبیه ساز دست خمیده و سر, شبیه ساز دامن, چادر 1 با نقطه گذاری"]
[null,"طراحی همه الگوها","شلوار پشت","1شبیه ساز, 2کمر شلوار,  3وسط شلوار و خط اتو, 4پهلو, 6فاق, 7لبه پایین, 9کمر جدا, اطلاعات اندام در شلوار"]
[null,"طراحی همه الگوها","طراحی پشت یقه ","شبیه ساز برش, شبیه ساز انحنا, طراحی یقه گرد"]
[null,"طراحی همه الگوها","طراحی جلو یقه","شبیه ساز اندام, طراحی یقه شکاری"]
[null,"طراحی همه الگوها","شلوار جلو","1شبیه ساز جلو, 2کمر شلوار, 3وسط شلوار, 4پهلو, 6فاق, 7لبه پایین شلوار, 8زیپ, 9کمر جدا, 10جیب مردانه, 11جیب جین, اطلاعات اندام در شلوار"]
[null,"طراحی همه الگوها","طراحی جلو دامن ترک با کمر پهن","شبیه ساز دامن تنگ, کمر پهن, خط مرکزی جلو کمر, خطوط اصلی دامن ترک, خطوط فرعی دامن ترک, خط اوزمان, پیلی"]
[null,"طراحی همه الگوها","طراحی پشت دامن ترک با کمر پهن","شبیه ساز دامن تنگ, کمر یکسره, خطوط اصلی دامن ترک, خطوط فرعی دامن ترک, پیلی"]
[null,"طراحی همه الگوها"," آستین ","شبیه ساز آستین, آستین بلند یا کوتاه, مچ آستین بلند یا کوتاه"]
[null,"طراحی همه الگوها","الگو پشت","0 اطلاعات اندام, 72شبیه ساز بالاتنه بدون ساسون, 2شبیه ساز دامن, 5حلقه آستین بدون ساسون, 6سرشانه بدون ساسون, 10پهلو صاف وپایین لباس, 17یقه گرد , 18خط پشت در پیراهن, 24بدون شیفت ساسون کمر"]
[null,"طراحی همه الگوها","یقه و کلاه","شومیزیه"]
[null,"طراحی همه الگوها","الگو جلو","0اطلاعات اندام, 1شبیه ساز بالاتنه, 2شبیه ساز دامن, 6حلقه آستین بدون ساسون  , 7سرشانه بدون ساسون, 11پهلو صاف , 22یقه گرد چرخیده, 23جادکمه یقه گرد در پیراهن, 29پایین پیراهن بدون ترک, 70ساسون کمر, 76جادکمه متصل به یقه"]

{"sheet":"محاسبات","index":1,"n_rows":785,"n_cols":394,"rows_kept":281,"cut":true,"hidden":true,"merged":[[9,73,9,75],[144,5,144,6],[86,31,86,34],[8,48,8,49],[8,59,8,61],[95,16,95,22],[112,25,112,26],[8,9,8,11],[8,17,8,19],[8,24,8,30],[8,21,8,22]],"bounds":{"rows_first":125,"rows_last":31,"rows_between":125,"halvings":4}}
["height_print ",30.236947994667826]
["width_print ",30.623780540051243]
["charts_resized ",1]
["print_body_chartS"]
["ActiveWindow.Zoom",15]
["per_font_size_chart",{"$f":"0.1*'طراحی همه الگوها'!E172","v":2}]
["ChartFieldRange( باید خالی باشد )"]
["show_temp_print_sheet ",0]
["per_line_size_chart",null,null,null,null,"نقاط ورودی",null,null,null,"رسم چادر شماره 1 و مقنعه چانه دار",null,null,null,"نقاط ورودی",null,null,null,"رسم مقنعه دراپه",null,null,null,"رسم دستی چادر 2 (بر حسب سانتیمتر)",null,null,"رسم چادر شماره 2",null,null,null,null,null,null,null,"نقاط ورودی",null,null,null," طراحی چادر شماره 2",null,null,null,null,null,null,null," طراحی چادر شماره 3",null,null,null,"رسم دستی چادر 3 (بر حسب سانتیمتر)",null,null,"رسم چادر شماره 3",null,null,null,null,null,null,null,"رسم دستی چادر  4",null,null,null,null,null,"رسم و طراحی چادر شماره 4",null,null,null,null,null,null,null,null,null,null,null,"رسم چادر شماره 5",null,null,null,null,null,null,null,"طراحی چادر شماره 5",null,null,null," طراحی چادر شماره 5",null,null,null,null,null,null,null,null,"پروسیجر یافتن راس سوم مثلث با داشتن دو راس و دو ضلع",null,null,null,null,null,"پروسیجر چرخش یک نقطه حول نقطه دیگر",null,null,null,null,null,"کامل شده",null,null,"رسم باکس زیپ دامن- باکس دوطرفه راست و چپ","مولفه افقی","مولفه عمودی",null,null,"به دست آوردن راس سوم مثلث وقتی دو راس و دو ضلع را داریم",null,null,null,null,null,"جلو(k''5 →k6)",{"$f":"SQRT(POWER((#REF!-#REF!),2)+POWER((#REF!-#REF!),2))","v":{"$error":"#REF!"}},"ضلع راست",null,null,null,null,null,null,null,null,null,null,null,"قرینه"]
[null,null,null,null,null,"مولفه افقی","مولفه عمودی","اسم نقطه",null,"مولفه افقی","مولفه عمودی","اسم نقطه",null,"مولفه افقی","مولفه عمودی","اسم نقطه",null,"مولفه افقی","مولفه عمودی","اسم نقطه",null,null,null,null,null,"صاف",null,null,null,"انحنا",null,null,"اسم نقطه ","مولفه افقی","مولفه عمودی",null,{"$f":"AH21","v":0},89.030291999999989,"s6",null,"طراحی چادر شماره 3",null,null,null,{"$f":"AP12","v":0},89.030291999999989,"s'6",null,null,null,null,null,"صاف",null,null,null,"انحنا",null,null,null,null,null,null,null,null,"رسم دستی چادر4 با نقطه گذاری",null,null,null,null,"خطوط پرینت الگو یا طراحی چادر4",null,null,"رسم دستی چادر 5 (بر حسب سانتیمتر)",null,null,null,null,"صاف",null,null,null,"انحنا",null,null,"اسم نقطه ","مولفه افقی","مولفه عمودی",null,{"$f":"CI14","v":0},{"$f":"CJ14","v":89.030291999999989},"s'6",null,null,null,null,null,null,null,null,"اطلاعات ورودی",null,null,null,"رادیان",{"$f":"-#REF!","v":{"$error":"#REF!"}},"زاویه چرخش","چرخش مخالف عقربه های ساعت",null,null,null,null,"نقطه ورودی بالا","b5",{"$f":"#REF!","v":{"$error":"#REF!"}},{"$f":"#REF!","v":{"$error":"#REF!"}},null,null," درجه α1"," رادیان α1","xdp'6","ydp'6","(dp4→dp'6)","(dp4→dp6)-(dp4→dp'6) ","(k6 →45)جلو",{"$f":"SQRT(POWER((#REF!-#REF!),2)+POWER((#REF!-#REF!),2))","v":{"$error":"#REF!"}},"ضلع چپ",null,null,null,null,null,null,null,null,null,null,null,{"$f":"-EE10+EJ9","v":0},{"$f":"EF10","v":0}]
[null,null,null,null,null,{"$f":"DB406","v":0},{"$f":"DC406","v":88.763999999999996},"شبیه ساز s15",null,{"$f":"F36","v":55.2},{"$f":"G36","v":92.9},"j5",null,{"$f":"DB404","v":0},{"$f":"DC404","v":73.28},"شبیه ساز s5",null,{"$f":"N24","v":0},{"$f":"O24","v":37.345500000000015},"d6",null,null,null,null,{"$f":"W35+'طراحی همه الگوها'!U190","v":12.7},{"$f":"Z12","v":0},5,null,{"$f":"Y15","v":12.7},{"$f":"Z15","v":23},11,null,"s2",{"$f":"DB401","v":3.3037200000000002},{"$f":"DC401","v":85.634},null,3.2128831562967313,87.550858202315951,"s7",null,"اسم نقطه ","مولفه افقی","مولفه عمودی",null,3.5937110689137155,87.139626850075786,"s'7",null,null,null,null,{"$f":"W35","v":0},{"$f":"'طراحی همه الگوها'!U210+AX33","v":92.9},1,null,{"$f":"AZ30","v":103.2},{"$f":"BA30","v":92.9},11,null,null,null,null,null,null,null,{"$f":"BJ29","v":0},{"$f":"BK30","v":-10.299999999999997},2,null,{"$f":"BJ30","v":-5.4},{"$f":"BK30","v":-10.299999999999997},3,null,null,null,null,null,{"$f":"BZ15-'طراحی همه الگوها'!U274","v":37.9},{"$f":"CA15","v":48},"خط پهلو",null,{"$f":"BZ30","v":55.8},{"$f":"CA30","v":57.4},13,null,"s1",{"$f":"DB400","v":0},{"$f":"DC400","v":87.2},null,4.3277365095162725,87.194427625617749,"s''7",null,null,null,null,null,null,"اسم نقطه ","مولفه افقی","مولفه عمودی",null,null,null,"مولفه افقی","مولفه عمودی","اسم نقطه ",null,"نقطه  خروجی چرخیده",null,null,null,"نقطه ورودی پایین","b6",{"$f":"#REF!","v":{"$error":"#REF!"}},{"$f":"#REF!","v":{"$error":"#REF!"}},null,2,-100,{"$f":"RADIANS(DO11)","v":-1.7453292519943295},{"$f":"DV13+DV10*COS(DP11)","v":{"$error":"#REF!"}},{"$f":"DW13-DV10*SIN(DP11)","v":{"$error":"#REF!"}},{"$f":"SQRT(POWER((DV12-DQ11),2)+POWER((DW12-DR11),2))","v":{"$error":"#REF!"}},{"$f":"ABS(DV9-DS11)","v":{"$error":"#REF!"}},"اسم نقطه ","مولفه افقی","مولفه عمودی",null,null,null,null,null,null,null,null,null,null,null,{"$f":"-EE11+EJ9","v":0},0]
[null,null,null,null,null,null,{"$f":"'متغیرها '!C52","v":0},"شیفت عمودی",null,{"$f":"F33","v":0},{"$f":"G33","v":92.9},"j1",null,{"$f":"F34","v":0},{"$f":"G34","v":48.000000000000007},"j2",null,{"$f":"N22","v":0},{"$f":"O22","v":101.94050000000001},"d3",null,null,null,null,{"$f":"W35","v":0},{"$f":"O33","v":0},2,null,{"$f":"'طراحی همه الگوها'!U190+'طراحی همه الگوها'!U199","v":22.799999999999997},{"$f":"Z12+'طراحی همه الگوها'!U201","v":24.5},17,null,"s3",{"$f":"DB402","v":4.7196000000000007},{"$f":"DC402","v":80.936000000000007},null,10.709610520989106,76.701677019299652,"s8",null,"s'6",{"$f":"AH14","v":0},{"$f":"1.003*AI14","v":89.030291999999989},null,11.979036896379053,73.904970800606421,"s'8",null,null,null,null,{"$f":"W35","v":0},{"$f":"BA11-'طراحی همه الگوها'!U212","v":46.900000000000006},4,null,{"$f":"BD13+0.7*(BD11-BD13)","v":102.63},{"$f":"BE13+0.4*(BE11-BE13)","v":100.64},"13'",null,null,null,null,null,null,null,{"$f":"BJ29","v":0},{"$f":"BK29","v":92.9},1,null,{"$f":"BJ32","v":3.6875287662666203},{"$f":"BK32","v":-10.776257201810786},6,null,null,null,null,null,null,null,null,null,{"$f":"CD11+0.45*(CD15-CD11)","v":61.199999999999996},{"$f":"CE11+0.25*(CE15-CE11)","v":74.55},"13'",null,"s3",{"$f":"DB402","v":4.7196000000000007},{"$f":"DC402","v":80.936000000000007},null,11.540630692043393,74.343377004942084,"s''8",null,null,null,null,null,"راس پایین","منهای شیفتa50",{"$f":"BL37","v":42.369450887432734},{"$f":"BM37","v":0},"ضلع پایین",{"$f":"BT25","v":8},null,{"$f":"#REF!","v":{"$error":"#REF!"}},{"$f":"#REF!","v":{"$error":"#REF!"}},"a40","نقطه مرکزی چرخش","مولفه افقی","مولفه عمودی","اسم نقطه ",null,"متغیر ورودی پهنا","a20",{"$f":"#REF!","v":{"$error":"#REF!"}},"(سانتیمتر)",null,null,{"$f":"DO11+DN11","v":-98},{"$f":"RADIANS(DO12)","v":-1.7104226669544429},{"$f":"DV13+DV10*COS(DP12)","v":{"$error":"#REF!"}},{"$f":"DW13-DV10*SIN(DP12)","v":{"$error":"#REF!"}},{"$f":"SQRT(POWER((DV12-DQ12),2)+POWER((DW12-DR12),2))","v":{"$error":"#REF!"}},{"$f":"ABS(DV9-DS12)","v":{"$error":"#REF!"}},"پشتk''5",{"$f":"DK33","v":{"$error":"#REF!"}},{"$f":"DL33","v":{"$error":"#REF!"}},"راس راست",null,null,null,null,null,null,null,null,null,null,{"$f":"-EE12+EJ9","v":0},0]
[null,null,null,null,null,"دور سر",{"$f":"'متغیرها '!U85","v":49},"w12",null,null,null,null,null,null,{"$f":"G19","v":88},"تمام قد",null,null,null,null,null,null,null,null,{"$f":"W35","v":0},{"$f":"'طراحی همه الگوها'!U188+O33","v":99.8},1,null,{"$f":"Y19","v":32.799999999999997},{"$f":"Z19","v":27.4},10,null,"خط سینه",{"$f":"DT400","v":0},{"$f":"DU400","v":58.3},null,18.741818411730932,69.304508030879447,"s9",null,"s'7",{"$f":"AP12+0.12*(AP16-AP12)","v":3.5937110689137155},{"$f":"AQ16+0.95*(AQ12-AQ16)","v":87.139626850075786},null,20.963314568663343,62.560979901061252,"s'9",null,null,null,null,{"$f":"W35","v":0},{"$f":"AX33","v":0},2,null,{"$f":"AZ29-'طراحی همه الگوها'!U220","v":101.3},{"$f":"BA29","v":105.8},13,null,null,null,null,null,null,null,null,null,null,null,null,null,null,null,null,null,null,null,0,{"$f":"BW42","v":0},1,null,{"$f":"CD11+0.75*(CD15-CD11)","v":64.8},{"$f":"CE11+0.5*(CE15-CE11)","v":91.699999999999989},28,null,"s5",{"$f":"DB404","v":0},{"$f":"DC404","v":73.28},null,20.196103711075938,62.593845008895762,"s''9",null,null,null,null,null,"راس بالا "," منهای شیفتe18",{"$f":"BV27-BQ21","v":0},{"$f":"BW27","v":0},"ضلع بالا",{"$f":"BT26","v":0},null,{"$f":"#REF!-#REF!+#REF!","v":{"$error":"#REF!"}},{"$f":"#REF!","v":{"$error":"#REF!"}},"a48-b16+f22","نقطه قبل از چرخش",{"$f":"IF(DB13>DB12,IF(DA13>DA12,DA12+SQRT(POWER(DA13-DA12,2)+POWER(DB13-DB12,2))*COS(ATAN((DB13-DB12)/(DA13-DA12+0.000123))+DB10),DA12-SQRT(POWER(DA13-DA12,2)+POWER(DB13-DB12,2))*COS(ATAN((DB13-DB12)/(DA12-DA13+0.000123))-DB10)),IF(DA13>DA12,DA12+SQRT(POWER(DA13-DA12,2)+POWER(DB13-DB12,2))*COS(ATAN((DB12-DB13)/(DA13-DA12+0.000123))-DB10),DA12-SQRT(POWER(DA13-DA12,2)+POWER(DB13-DB12,2))*COS(ATAN((DB12-DB13)/(DA12-DA13+0.000123))+DB10)))","v":{"$error":"#REF!"}},{"$f":"IF(DB13>DB12,IF(DA13>DA12,DB12+SQRT(POWER(DA13-DA12,2)+POWER(DB13-DB12,2))*SIN(ATAN((DB13-DB12)/(DA13-DA12+0.000123))+DB10),DB12+SQRT(POWER(DA13-DA12,2)+POWER(DB13-DB12,2))*SIN(ATAN((DB13-DB12)/(DA12-DA13+0.000123))-DB10)),IF(DA13>DA12,DB12-SQRT(POWER(DA13-DA12,2)+POWER(DB13-DB12,2))*SIN(ATAN((DB12-DB13)/(DA13-DA12+0.000123))-DB10),DB12-SQRT(POWER(DA13-DA12,2)+POWER(DB13-DB12,2))*SIN(ATAN((DB12-DB13)/(DA12-DA13+0.000123))+DB10)))","v":{"$error":"#REF!"}},"e52",null,"متغیر ورودی طول","a21",{"$f":"#REF!","v":{"$error":"#REF!"}},null,null,null,{"$f":"DO12+DN11","v":-96},-1.6755160819145565,{"$f":"DV13+DV10*COS(DP13)","v":{"$error":"#REF!"}},{"$f":"DW13-DV10*SIN(DP13)","v":{"$error":"#REF!"}},{"$f":"SQRT(POWER((DV12-DQ13),2)+POWER((DW12-DR13),2))","v":{"$error":"#REF!"}},{"$f":"ABS(DV9-DS13)","v":{"$error":"#REF!"}},"42پشت",{"$f":"DK35","v":1},{"$f":"DL35","v":0},"راس چپ",null,null,null,null,null,null,null,null,null,null,{"$f":"-EE13+EJ9","v":0},0]
[null,null,null,null,null,null,{"$f":"'متغیرها '!U76","v":49},"t3",null,{"$f":"F33","v":0},{"$f":"G33","v":92.9},"j1",null,null,{"$f":"'متغیرها '!C52","v":0},"شیفت عمودی",null,{"$f":"N22","v":0},{"$f":"O22","v":101.94050000000001},"d3",null,null,null,null,{"$f":"W35+'طراحی همه الگوها'!U190","v":12.7},{"$f":"Z13","v":99.8},4,null,{"$f":"'طراحی همه الگوها'!U190+'طراحی همه الگوها'!U192+'طراحی همه الگوها'!U202","v":38.9},{"$f":"Z12+'طراحی همه الگوها'!U204","v":26.5},20,null,"s15",{"$f":"DB406","v":0},{"$f":"DC406","v":88.763999999999996},null,26.774026302472762,64.373062038599315,"s10",null,"s'8",{"$f":"AP12+0.4*(AP16-AP12)","v":11.979036896379053},{"$f":"AQ16+0.6*(AQ12-AQ16)","v":73.904970800606421},null,29.947592240947632,51.216989001516083,"s'10",null,null,null,null,{"$f":"W35+'طراحی همه الگوها'!U216","v":110},{"$f":"BA13","v":0},8,null,null,null,null,null,null,null,null,null,null,null,{"$f":"BJ31","v":4.9000000000000004},{"$f":"BK31","v":0},5,null,{"$f":"BJ32","v":3.6875287662666203},{"$f":"BK32","v":-10.776257201810786},6,null,null,null,null,null,{"$f":"BZ13+'طراحی همه الگوها'!U249","v":50.4},{"$f":"CA13","v":0},2,null,{"$f":"CD11+0.95*(CD15-CD11)","v":67.199999999999989},{"$f":"CE11+0.8*(CE15-CE11)","v":112.28},"13'''",null,"s'6",{"$f":"AP12","v":0},{"$f":"AQ12","v":89.030291999999989},null,28.851576730108484,52.313004512355228,"s''10",null,null,null,null,null,"c19",{"$f":"ATAN((CV13-CV12)/(CW13-CW12))","v":{"$error":"#DIV/0!"}},null,"محاسبات",null,null,null,null,null,null,null,null,null,null,null,null,null,"ماکزیمم متغیر ورودی  ضریب طول",20,null,null,{"$f":"DO13+DN11","v":-94},-1.6406094968746698,{"$f":"DV13+DV10*COS(DP14)","v":{"$error":"#REF!"}},{"$f":"DW13-DV10*SIN(DP14)","v":{"$error":"#REF!"}},{"$f":"SQRT(POWER((DV12-DQ14),2)+POWER((DW12-DR14),2))","v":{"$error":"#REF!"}},{"$f":"ABS(DV9-DS14)","v":{"$error":"#REF!"}},"k6",{"$f":"DV13+DV10*COS(RADIANS(DN24))","v":{"$error":"#REF!"}},{"$f":"DW13-DV10*SIN(RADIANS(DN24))","v":{"$error":"#REF!"}},"راس سوم",null,null,null,null,null,null,null,null,null,null,{"$f":"-EE14+EJ9","v":0},0]
[null,null,null,null,null,null,{"$f":"'متغیرها '!U56","v":48},"e",null,{"$f":"F34","v":0},{"$f":"G34","v":48.000000000000007},"j2",null,"محاسبات",null,null,null,{"$f":"N23","v":54.074999999999996},{"$f":"O23","v":47.865500000000019},"d4",null,null,null,null,{"$f":"W35+'طراحی همه الگوها'!U190","v":12.7},{"$f":"Z12+'طراحی همه الگوها'!U195","v":23},11,null,{"$f":"Y23","v":44.9},{"$f":"Z23","v":22.785},7,null,"زاویه متوسط سرشانه",{"$f":"'متغیرها '!B245","v":0.34045293430977369},"α2",null,null,null,null,null,"s'9",{"$f":"AP12+0.7*(AP16-AP12)","v":20.963314568663343},{"$f":"AQ16+0.3*(AQ12-AQ16)","v":62.560979901061252},null,null,null,null,null,null,null,null,{"$f":"AZ14","v":110},{"$f":"BA14+'طراحی همه الگوها'!U221","v":1.9},14,null,{"$f":"AZ13","v":0},{"$f":"BA13","v":0},2,null,null,null,null,null,null,null,{"$f":"BJ29","v":0},{"$f":"BK31","v":0},4,null,{"$f":"BR14+0.3*(BR17-BR14)","v":14.585844089150994},{"$f":"BS14+0.05*(BS17-BS14)","v":-10.021039628040814},"6''",null,null,null,null,null,{"$f":"BZ13+'طراحی همه الگوها'!U249","v":50.4},{"$f":"CA13+'طراحی همه الگوها'!U251","v":48},4,null,{"$f":"BZ34","v":67.8},{"$f":"CA34","v":126},15,null,"s''7",{"$f":"CI14+0.15*(CI18-CI14)","v":4.3277365095162725},{"$f":"CJ18+0.95*(CJ14-CJ18)","v":87.194427625617749},null,33.235638773465077,47.928942468998635,"k4 شبیه ساز",null,null,null,null,null,null," درجه α","x","y","c21","c'17",null,"پروسیجر چرخش چند نقطه حول نقطه دیگر",null,null,null,null,null,"کامل شده",null,"m1",{"$f":"ATAN(IF(DK11>DK10,1,-1)*(DK11-DK10)/(DL10-DL11))","v":{"$error":"#REF!"}},"m2",{"$f":"SQRT(POWER(DK10-DK11,2)+POWER(DL10-DL11,2))","v":{"$error":"#REF!"}},null,null,{"$f":"DO14+DN11","v":-92},-1.6057029118347832,{"$f":"DV13+DV10*COS(DP15)","v":{"$error":"#REF!"}},{"$f":"DW13-DV10*SIN(DP15)","v":{"$error":"#REF!"}},{"$f":"SQRT(POWER((DV12-DQ15),2)+POWER((DW12-DR15),2))","v":{"$error":"#REF!"}},{"$f":"ABS(DV9-DS15)","v":{"$error":"#REF!"}},"رسم مثلث",null,null,null,null,null,null,null,null,null,null,null,null,null,{"$f":"-EE15+EJ9","v":0},0]
[null,null,null,null,null,null,{"$f":"'متغیرها '!U58","v":48},"g",null,null,null,null,null,"(d1 → d2)",{"$f":"0.45*'متغیرها '!U85","v":22.05},null,null,null,null,null,null,null,null,null,{"$f":"W35+'طراحی همه الگوها'!U190","v":12.7},{"$f":"Z12","v":0},5,null,null,null,null,null,"دست صاف شبیه ساز k4",{"$f":"F406","v":40.536037710310787},{"$f":"J406","v":59.497916706351667},null,{"$f":"AH26","v":22.466534878774496},{"$f":"AI26","v":52.21347661660544},"s12",null,"s'10",{"$f":"AX39-('متغیرها '!C19*'متغیرها '!U83)*COS(AH15+RADIANS(AX38))","v":29.947592240947632},{"$f":"AY39+('متغیرها '!C19*'متغیرها '!U83)*SIN(AH15+RADIANS(AX38))","v":51.216989001516083},null,{"$f":"AP18","v":22.947235107200811},44.216631867769266,"s'12",null,null,null,null,{"$f":"W35+'طراحی همه الگوها'!U216","v":110},{"$f":"BA13+'طراحی همه الگوها'!U217","v":-6.8},9,null,{"$f":"BD15+0.3*(BD18-BD15)","v":11.652000000000003},{"$f":"BE15+0.15*(BE18-BE15)","v":1.95},"16'",null,null,null,null,null,null,null,{"$f":"BJ29","v":0},{"$f":"BK30","v":-10.299999999999997},2,null,{"$f":"BR14+0.7*(BR17-BR14)","v":29.116931186330156},{"$f":"BS14+0.4*(BS17-BS14)","v":-4.7345166116510038},"6'''",null,null,null,null,null,{"$f":"BZ13+'طراحی همه الگوها'!U249-'طراحی همه الگوها'!U255","v":45.4},{"$f":"CA15","v":48},8,null,null,null,null,null,"s''8",{"$f":"CI14+0.4*(CI18-CI14)","v":11.540630692043393},{"$f":"CJ18+0.6*(CJ14-CJ18)","v":74.343377004942084},null,null,null,null,null,null,null,null,null,null,2,{"$f":"CV12+CY12*SIN(RADIANS(CU16)+CU14)","v":{"$error":"#DIV/0!"}},{"$f":"CW12+CY12*COS(RADIANS(CU16)+CU14)","v":{"$error":"#DIV/0!"}},{"$f":"IF(CV13>CV16,ATAN((CW13-CW16)/(CV13-CV16)),ATAN((CW13-CW16)/(CV16-CV13)))","v":{"$error":"#DIV/0!"}},{"$f":"IF(CV13>CV16,(CV13-CV16)/COS(CX16),(CV16-CV13)/COS(CX16))","v":{"$error":"#DIV/0!"}},null,"رادیان",1,"زاویه چرخش","چرخش مخالف عقربه های ساعت",null,null,null,null,"نقطه خروجی بالا","b28",{"$f":"DK10+IF(DK11>DK10,1,-1)*DK12*COS(DJ15)","v":{"$error":"#REF!"}},{"$f":"DL10+DK12*SIN(DJ15)","v":{"$error":"#REF!"}},null,null,{"$f":"DO15+DN11","v":-90},-1.5707963267948966,{"$f":"DV13+DV10*COS(DP16)","v":{"$error":"#REF!"}},{"$f":"DW13-DV10*SIN(DP16)","v":{"$error":"#REF!"}},{"$f":"SQRT(POWER((DV12-DQ16),2)+POWER((DW12-DR16),2))","v":{"$error":"#REF!"}},{"$f":"ABS(DV9-DS16)","v":{"$error":"#REF!"}},{"$f":"DU12","v":"پشتk''5"},{"$error":"#REF!"},{"$error":"#REF!"},null,null,null,null,null,null,null,null,null,null,null,{"$f":"-EE16+EJ9","v":0},0]
[null,null,null,null,null,"محاسبات",null,null,null,{"$f":"F34","v":0},{"$f":"G34","v":48.000000000000007},"j2",null,"(d1 →d4)",{"$f":"'طراحی همه الگوها'!U178+'طراحی همه الگوها'!U177","v":55.2},null,null,{"$f":"N28","v":0},{"$f":"O28","v":46.16026500000001},"j'2",null,null,null,null,{"$f":"Y16+'طراحی همه الگوها'!U192","v":32.799999999999997},{"$f":"Z12","v":0},8,null,{"$f":"Y16","v":12.7},{"$f":"Z16","v":0},5,null,"شبیه ساز 26",{"$f":"DX388","v":0},{"$f":"DY388","v":65.5430298126753},null,{"$f":"AK16+0.25*(AK19-AK16)","v":26.487401159080871},{"$f":"AL19+0.5*(AL16-AL19)","v":26.10673830830272},"s12'",null,"s'11",{"$f":"AP27-'طراحی همه الگوها'!U226*SIN(AH15+RADIANS(AX38))","v":26.800967064667496},{"$f":"AQ27-'طراحی همه الگوها'!U226*COS(AH15+RADIANS(AX38))","v":41.494270760201054},null,30.628064575040572,22.108315933884633,"s''13",null,null,null,null,{"$f":"AZ24","v":39.5},{"$f":"BA12+'طراحی همه الگوها'!U215","v":49.500000000000007},7,null,{"$f":"W35+'طراحی همه الگوها'!U227","v":23.304000000000006},{"$f":"BE15+'طراحی همه الگوها'!U228","v":5.9},22,null,null,null,null,null,null,null,{"$f":"BJ30","v":-5.4},{"$f":"BK30","v":-10.299999999999997},3,null,{"$f":"BJ34","v":40.015246509214535},{"$f":"BK34","v":4.3280942735886683},8,null,null,null,null,null,{"$f":"BZ13","v":0},{"$f":"CA15","v":48},3,null,{"$f":"BZ32","v":0},{"$f":"CA32","v":64.099999999999994},18,null,"s''9",{"$f":"CI14+0.7*(CI18-CI14)","v":20.196103711075938},{"$f":"CJ18+0.28*(CJ14-CJ18)","v":62.593845008895762},null,{"$f":"CI19","v":33.235638773465077},47.928942468998635,"k4 شبیه ساز",null,null,null,null,null,null,4,{"$f":"CV12+CY12*SIN(RADIANS(CU17)+CU14)","v":{"$error":"#DIV/0!"}},{"$f":"CW12+CY12*COS(RADIANS(CU17)+CU14)","v":{"$error":"#DIV/0!"}},{"$f":"IF(CV13>CV17,ATAN((CW13-CW17)/(CV13-CV17)),ATAN((CW13-CW17)/(CV17-CV13)))","v":{"$error":"#DIV/0!"}},{"$f":"IF(CV13>CV17,(CV13-CV17)/COS(CX17),(CV17-CV13)/COS(CX17))","v":{"$error":"#DIV/0!"}},null,"مولفه افقی","مولفه عمودی","اسم نقطه ",null,"نقطه  خروجی چرخیده",null,null,null,"نقطه خروجی پایین","b27",{"$f":"DK18+IF(DK11>DK10,1,-1)*DK12*COS(DJ15)","v":{"$error":"#REF!"}},{"$f":"DL18+DK12*SIN(DJ15)","v":{"$error":"#REF!"}},null,null,{"$f":"DO16+DN11","v":-88},-1.5358897417550099,{"$f":"DV13+DV10*COS(DP17)","v":{"$error":"#REF!"}},{"$f":"DW13-DV10*SIN(DP17)","v":{"$error":"#REF!"}},{"$f":"SQRT(POWER((DV12-DQ17),2)+POWER((DW12-DR17),2))","v":{"$error":"#REF!"}},{"$f":"ABS(DV9-DS17)","v":{"$error":"#REF!"}},"42پشت",1,0,null,null,null,null,null,null,null,null,null,null,null,{"$f":"-EE17+EJ9","v":0},0]
[null,null,null,null,null,"قد سرشانه تا زمین",{"$f":"0.5*(G14+G15+G16)","v":72.5},null,null,{"$f":"F44","v":10.3},{"$f":"G44","v":48.000000000000007},"j13",null,"(d5 →d6)",{"$f":"5+0.1*O17","v":10.52},null,null,null,null,null,null,null,null,null,{"$f":"Y16+'طراحی همه الگوها'!U192","v":32.799999999999997},{"$f":"Z12+'طراحی همه الگوها'!U193","v":11.4},9,null,{"$f":"'طراحی همه الگوها'!U190+'طراحی همه الگوها'!U199","v":22.799999999999997},{"$f":"Z12+'طراحی همه الگوها'!U200","v":4},16,null,null,null,null,null,{"$f":"AK16+0.6*(AK19-AK16)","v":32.116613951509798},{"$f":"AL19+0.2*(AL16-AL19)","v":10.44269532332109},"s12''",null,"s'12",{"$f":"AP16-'طراحی همه الگوها'!U225*SIN(AH15+RADIANS(AX38))","v":22.947235107200811},{"$f":"AQ16-'طراحی همه الگوها'!U225*COS(AH15+RADIANS(AX38))","v":44.216631867769266},null,37.028755798240368,11.054157966942316,"s'''13",null,null,null,null,{"$f":"W35+'طراحی همه الگوها'!U216","v":110},{"$f":"BA16+'طراحی همه الگوها'!U218","v":105.8},10,null,{"$f":"W35+'طراحی همه الگوها'!U222","v":38.840000000000011},{"$f":"BA13+'طراحی همه الگوها'!U223","v":13},16,null,null,null,null,null,null,null,null,null,null,null,null,null,null,null,null,null,null,null,{"$f":"BZ13","v":0},{"$f":"CA17-'طراحی همه الگوها'!U252","v":41.3},5,null,{"$f":"CD17+'طراحی همه الگوها'!U268","v":13.5},{"$f":"CA31+'طراحی همه الگوها'!U269","v":64.599999999999994},24,null,"s''10",{"$f":"AX39-0.2*'متغیرها '!U83*COS(AH15+RADIANS(AX38))","v":28.851576730108484},{"$f":"AY39+0.2*'متغیرها '!U83*SIN(AH15+RADIANS(AX38))","v":52.313004512355228},null,27.194394130104342,36.482304211054576,"s''11",null,null,null,null,null,null,6,{"$f":"CV12+CY12*SIN(RADIANS(CU18)+CU14)","v":{"$error":"#DIV/0!"}},{"$f":"CW12+CY12*COS(RADIANS(CU18)+CU14)","v":{"$error":"#DIV/0!"}},{"$f":"IF(CV13>CV18,ATAN((CW13-CW18)/(CV13-CV18)),ATAN((CW13-CW18)/(CV18-CV13)))","v":{"$error":"#DIV/0!"}},{"$f":"IF(CV13>CV18,(CV13-CV18)/COS(CX18),(CV18-CV13)/COS(CX18))","v":{"$error":"#DIV/0!"}},null,2,1,"a40","نقطه مرکزی چرخش","مولفه افقی","مولفه عمودی","اسم نقطه ",null,"نقطه خروجی میانه","b26",{"$f":"DK10+IF(DK11>DK10,1,-1)*DK13*DL15*SIN(DJ15)/DL14","v":{"$error":"#REF!"}},{"$f":"DL10-DK13*DL15*COS(DJ15)/DL14","v":{"$error":"#REF!"}},null,null,{"$f":"DO17+DN11","v":-86},-1.5009831567151235,{"$f":"DV13+DV10*COS(DP18)","v":{"$error":"#REF!"}},{"$f":"DW13-DV10*SIN(DP18)","v":{"$error":"#REF!"}},{"$f":"SQRT(POWER((DV12-DQ18),2)+POWER((DW12-DR18),2))","v":{"$error":"#REF!"}},{"$f":"ABS(DV9-DS18)","v":{"$error":"#REF!"}},null,null,null,null,null,null,null,null,null,null,null,null,null,null,{"$f":"-EE18+EJ9","v":0},0]
[null,null,null,null,null,"تمام قد",{"$f":"ROUND(G18+IF(G13>51.5,0.35,IF(G13>50.5,0.33,0.31))*G13,0)","v":88},null,null,null,null,null,null,"نقاط خروجی در مقنعه دراپه",null,null,null,{"$f":"N21","v":0},{"$f":"O21","v":70.850000000000009},"d2",null,null,null,null,{"$f":"Y16+'طراحی همه الگوها'!U192","v":32.799999999999997},{"$f":"Z12+'طراحی همه الگوها'!U194","v":27.4},10,null,{"$f":"Y18","v":32.799999999999997},{"$f":"Z18","v":11.4},9,null,"طراحی چادر شماره 2",null,null,null,{"$f":"AH28","v":38.549999999999997},{"$f":"AI28","v":0},"s13",null,"s''13",{"$f":"AP18+0.3*(AP21-AP18)","v":30.628064575040572},{"$f":"AQ21+0.5*(AQ18-AQ21)","v":22.108315933884633},null,48.550000000000011,0,"s'13",null,null,null,null,{"$f":"W35+'طراحی همه الگوها'!U216","v":110},{"$f":"BA16","v":-6.8},9,null,{"$f":"BD18+0.5*(BD20-BD18)","v":74.420000000000016},{"$f":"BE20+0.8*(BE18-BE20)","v":10.780000000000001},"14'",null,null,null,null,null,null,null,{"$f":"BJ29","v":0},{"$f":"BK35","v":52.364785027866077},13,null,{"$f":"BJ31","v":4.9000000000000004},{"$f":"BK31","v":0},5,null,null,null,null,null,{"$f":"BZ13","v":0},{"$f":"CA13","v":0},1,null,{"$f":"CD17+'طراحی همه الگوها'!U270","v":27},{"$f":"CA31+'طراحی همه الگوها'!U271","v":66.900000000000006},26,null,"k4 شبیه ساز",{"$f":"K384","v":33.235638773465077},{"$f":"L384","v":47.928942468998635},null,15.111904843382867,27.32499360469933,"s'11",null,null,null,null,null,null,8,{"$f":"CV12+CY12*SIN(RADIANS(CU19)+CU14)","v":{"$error":"#DIV/0!"}},{"$f":"CW12+CY12*COS(RADIANS(CU19)+CU14)","v":{"$error":"#DIV/0!"}},{"$f":"IF(CV13>CV19,ATAN((CW13-CW19)/(CV13-CV19)),ATAN((CW13-CW19)/(CV19-CV13)))","v":{"$error":"#DIV/0!"}},{"$f":"IF(CV13>CV19,(CV13-CV19)/COS(CX19),(CV19-CV13)/COS(CX19))","v":{"$error":"#DIV/0!"}},null,1,2,"نقطه 1","نقطه قبل از چرخش",{"$f":"IF(DB19>DB18,IF(DA19>DA18,DA18+SQRT(POWER(DA19-DA18,2)+POWER(DB19-DB18,2))*COS(ATAN((DB19-DB18)/(DA19-DA18+0.000123))+DB16),DA18-SQRT(POWER(DA19-DA18,2)+POWER(DB19-DB18,2))*COS(ATAN((DB19-DB18)/(DA18-DA19+0.000123))-DB16)),IF(DA19>DA18,DA18+SQRT(POWER(DA19-DA18,2)+POWER(DB19-DB18,2))*COS(ATAN((DB18-DB19)/(DA19-DA18+0.000123))-DB16),DA18-SQRT(POWER(DA19-DA18,2)+POWER(DB19-DB18,2))*COS(ATAN((DB18-DB19)/(DA18-DA19+0.000123))+DB16)))","v":0.61824523267144293},{"$f":"IF(DB19>DB18,IF(DA19>DA18,DB18+SQRT(POWER(DA19-DA18,2)+POWER(DB19-DB18,2))*SIN(ATAN((DB19-DB18)/(DA19-DA18+0.000123))+DB16),DB18+SQRT(POWER(DA19-DA18,2)+POWER(DB19-DB18,2))*SIN(ATAN((DB19-DB18)/(DA18-DA19+0.000123))-DB16)),IF(DA19>DA18,DB18-SQRT(POWER(DA19-DA18,2)+POWER(DB19-DB18,2))*SIN(ATAN((DB18-DB19)/(DA19-DA18+0.000123))-DB16),DB18-SQRT(POWER(DA19-DA18,2)+POWER(DB19-DB18,2))*SIN(ATAN((DB18-DB19)/(DA18-DA19+0.000123))+DB16)))","v":0.69874634779839551},"نقطه چرخیده",null,null,null,null,null,null,null,{"$f":"DO18+DN11","v":-84},-1.4660765716752369,{"$f":"DV13+DV10*COS(DP19)","v":{"$error":"#REF!"}},{"$f":"DW13-DV10*SIN(DP19)","v":{"$error":"#REF!"}},{"$f":"SQRT(POWER((DV12-DQ19),2)+POWER((DW12-DR19),2))","v":{"$error":"#REF!"}},{"$f":"ABS(DV9-DS19)","v":{"$error":"#REF!"}},{"$f":"DU13","v":"42پشت"},{"$f":"DV13","v":1},{"$f":"DW13","v":0},null,null,null,null,null,null,null,null,null,null,null,{"$f":"-EE19+EJ9","v":0},0]
[null,null,null,null,null,"j4",{"$f":"IF('متغیرها '!C5<1,'متغیرها '!C5*'متغیرها '!U59,IF('متغیرها '!C5<2,'متغیرها '!U59+('متغیرها '!C5-1)*('متغیرها '!U60-'متغیرها '!U59),IF('متغیرها '!C5<3,'متغیرها '!U60+('متغیرها '!C5-2)*(I105-'متغیرها '!U60),I105+('متغیرها '!C5-3)*(H127-H126))))","v":48},null,null,{"$f":"F43","v":10.3},{"$f":"G43","v":85.5},"j12",null,"مولفه افقی","مولفه عمودی","اسم نقطه",null,null,null,null,null,null,null,null,null,null,null,null,{"$f":"'طراحی همه الگوها'!U190+'طراحی همه الگوها'!U192+'طراحی همه الگوها'!U202","v":38.9},{"$f":"Z12+'طراحی همه الگوها'!U203","v":16.5},19,null,"اسم نقطه ","مولفه افقی","مولفه عمودی",null,null,null,null,null,"s'''13",{"$f":"AP18+0.55*(AP21-AP18)","v":37.028755798240368},{"$f":"AQ21+0.25*(AQ18-AQ21)","v":11.054157966942316},null,null,null,null,null,null,null,null,null,null,null,null,{"$f":"AZ14","v":110},{"$f":"BA14+'طراحی همه الگوها'!U221","v":1.9},14,null,null,null,null,null,null,null,{"$f":"BJ35","v":22.531320922007076},{"$f":"BK35","v":52.364785027866077},9,null,{"$f":"BJ33","v":11.890406743282018},{"$f":"BK33","v":0.36635169370060683},7,null,null,null,null,null,null,null,null,null,{"$f":"BZ37","v":33.799999999999997},{"$f":"CA37","v":69.099999999999994},17,null,"s''11",{"$f":"CI22+0.8*(CI19-CI22)","v":27.194394130104342},{"$f":"CJ22+0.5*(CJ19-CJ22)","v":36.482304211054576},null,3.0294155566613905,25.03566595311052,"s11",null,null,null,null,null,null,10,{"$f":"CV12+CY12*SIN(RADIANS(CU20)+CU14)","v":{"$error":"#DIV/0!"}},{"$f":"CW12+CY12*COS(RADIANS(CU20)+CU14)","v":{"$error":"#DIV/0!"}},{"$f":"IF(CV13>CV20,ATAN((CW13-CW20)/(CV13-CV20)),ATAN((CW13-CW20)/(CV20-CV13)))","v":{"$error":"#DIV/0!"}},{"$f":"IF(CV13>CV20,(CV13-CV20)/COS(CX20),(CV20-CV13)/COS(CX20))","v":{"$error":"#DIV/0!"}},null,1,2,"نقطه2","نقطه قبل از چرخش",{"$f":"IF(DB20>DB18,IF(DA20>DA18,DA18+SQRT(POWER(DA20-DA18,2)+POWER(DB20-DB18,2))*COS(ATAN((DB20-DB18)/(DA20-DA18+0.000123))+DB16),DA18-SQRT(POWER(DA20-DA18,2)+POWER(DB20-DB18,2))*COS(ATAN((DB20-DB18)/(DA18-DA20+0.000123))-DB16)),IF(DA20>DA18,DA18+SQRT(POWER(DA20-DA18,2)+POWER(DB20-DB18,2))*COS(ATAN((DB18-DB20)/(DA20-DA18+0.000123))-DB16),DA18-SQRT(POWER(DA20-DA18,2)+POWER(DB20-DB18,2))*COS(ATAN((DB18-DB20)/(DA18-DA20+0.000123))+DB16)))","v":0.61824523267144293},{"$f":"IF(DB20>DB18,IF(DA20>DA18,DB18+SQRT(POWER(DA20-DA18,2)+POWER(DB20-DB18,2))*SIN(ATAN((DB20-DB18)/(DA20-DA18+0.000123))+DB16),DB18+SQRT(POWER(DA20-DA18,2)+POWER(DB20-DB18,2))*SIN(ATAN((DB20-DB18)/(DA18-DA20+0.000123))-DB16)),IF(DA20>DA18,DB18-SQRT(POWER(DA20-DA18,2)+POWER(DB20-DB18,2))*SIN(ATAN((DB18-DB20)/(DA20-DA18+0.000123))-DB16),DB18-SQRT(POWER(DA20-DA18,2)+POWER(DB20-DB18,2))*SIN(ATAN((DB18-DB20)/(DA18-DA20+0.000123))+DB16)))","v":0.69874634779839551},"نقطه چرخیده",null,null,"رسم باکس زیپ دامن- باکس راست","مولفه افقی","مولفه عمودی",null,null,{"$f":"DO19+DN11","v":-82},-1.4311699866353502,{"$f":"DV13+DV10*COS(DP20)","v":{"$error":"#REF!"}},{"$f":"DW13-DV10*SIN(DP20)","v":{"$error":"#REF!"}},{"$f":"SQRT(POWER((DV12-DQ20),2)+POWER((DW12-DR20),2))","v":{"$error":"#REF!"}},{"$f":"ABS(DV9-DS20)","v":{"$error":"#REF!"}},{"$f":"DU14","v":"k6"},{"$f":"#REF!","v":{"$error":"#REF!"}},{"$f":"#REF!","v":{"$error":"#REF!"}},null,null,null,null,null,null,null,null,null,null,null,{"$f":"-EE20+EJ9","v":0},0]
[null,null,null,null,null,"رسم دستی چادر 1 یا مقنعه چانه دار(بر حسب سانتیمتر)",null,null,null,{"$f":"F35","v":10.3},{"$f":"G35","v":92.9},"j3",null,{"$f":"N11","v":0},{"$f":"O13+0.1*'متغیرها '!U85-O16+O14","v":70.850000000000009},"d2",null,null,null,"انحنا",null,null,null,null,{"$f":"Y16+'طراحی همه الگوها'!U192","v":32.799999999999997},{"$f":"Z12","v":0},8,null,{"$f":"Y23","v":44.9},{"$f":"Z23","v":22.785},7,null,"s6",{"$f":"AH14","v":0},{"$f":"1.003*AI14","v":89.030291999999989},null,{"$f":"AH32","v":0},{"$f":"AI32","v":87.100000000000009},"s17",null,"s'13",{"$f":"AH17+0.5*('طراحی همه الگوها'!U216+'طراحی همه الگوها'!U210-'طراحی همه الگوها'!U217-'طراحی همه الگوها'!U218)","v":48.550000000000011},{"$f":"AX33+AH42","v":0},null,{"$f":"AP25","v":0},{"$f":"AQ25","v":87.100000000000009},"s'17",null,null,null,null,{"$f":"W35","v":0},{"$f":"BA12","v":46.900000000000006},4,null,null,null,null,null,null,null,null,null,null,null,null,null,null,null,null,null,null,null,null,null,null,null,{"$f":"BZ13+'طراحی همه الگوها'!U249-'طراحی همه الگوها'!U253","v":33.799999999999997},{"$f":"CA15","v":48},6,null,null,null,null,null,"s'11",{"$f":"CI22+0.4*(CI19-CI22)","v":15.111904843382867},{"$f":"CJ22+0.1*(CJ19-CJ22)","v":27.32499360469933},null,null,null,null,null,null,null,null,null,null,12,{"$f":"CV12+CY12*SIN(RADIANS(CU21)+CU14)","v":{"$error":"#DIV/0!"}},{"$f":"CW12+CY12*COS(RADIANS(CU21)+CU14)","v":{"$error":"#DIV/0!"}},{"$f":"IF(CV13>CV21,ATAN((CW13-CW21)/(CV13-CV21)),ATAN((CW13-CW21)/(CV21-CV13)))","v":{"$error":"#DIV/0!"}},{"$f":"IF(CV13>CV21,(CV13-CV21)/COS(CX21),(CV21-CV13)/COS(CX21))","v":{"$error":"#DIV/0!"}},null,1,2,"نقطه 3","نقطه قبل از چرخش",{"$f":"IF(DB21>DB18,IF(DA21>DA18,DA18+SQRT(POWER(DA21-DA18,2)+POWER(DB21-DB18,2))*COS(ATAN((DB21-DB18)/(DA21-DA18+0.000123))+DB16),DA18-SQRT(POWER(DA21-DA18,2)+POWER(DB21-DB18,2))*COS(ATAN((DB21-DB18)/(DA18-DA21+0.000123))-DB16)),IF(DA21>DA18,DA18+SQRT(POWER(DA21-DA18,2)+POWER(DB21-DB18,2))*COS(ATAN((DB18-DB21)/(DA21-DA18+0.000123))-DB16),DA18-SQRT(POWER(DA21-DA18,2)+POWER(DB21-DB18,2))*COS(ATAN((DB18-DB21)/(DA18-DA21+0.000123))+DB16)))","v":0.61824523267144293},{"$f":"IF(DB21>DB18,IF(DA21>DA18,DB18+SQRT(POWER(DA21-DA18,2)+POWER(DB21-DB18,2))*SIN(ATAN((DB21-DB18)/(DA21-DA18+0.000123))+DB16),DB18+SQRT(POWER(DA21-DA18,2)+POWER(DB21-DB18,2))*SIN(ATAN((DB21-DB18)/(DA18-DA21+0.000123))-DB16)),IF(DA21>DA18,DB18-SQRT(POWER(DA21-DA18,2)+POWER(DB21-DB18,2))*SIN(ATAN((DB18-DB21)/(DA21-DA18+0.000123))-DB16),DB18-SQRT(POWER(DA21-DA18,2)+POWER(DB21-DB18,2))*SIN(ATAN((DB18-DB21)/(DA18-DA21+0.000123))+DB16)))","v":0.69874634779839551},"نقطه چرخیده",null,"نقطه ورودی بالا","su3",{"$f":"#REF!","v":{"$error":"#REF!"}},{"$f":"#REF!","v":{"$error":"#REF!"}},null,null,{"$f":"DO20+DN11","v":-80},-1.3962634015954636,{"$f":"DV13+DV10*COS(DP21)","v":{"$error":"#REF!"}},{"$f":"DW13-DV10*SIN(DP21)","v":{"$error":"#REF!"}},{"$f":"SQRT(POWER((DV12-DQ21),2)+POWER((DW12-DR21),2))","v":{"$error":"#REF!"}},{"$f":"ABS(DV9-DS21)","v":{"$error":"#REF!"}},null,null,null,null,null,null,null,null,null,null,null,null,null,null,{"$f":"-EE21+EJ9","v":0},0]
[null,null,null,null,null,null,null,null,null,null,null,null,null,{"$f":"N21","v":0},{"$f":"O21+1.41*O16","v":101.94050000000001},"d3",null,{"$f":"N24","v":0},{"$f":"O24","v":37.345500000000015},"d6",null,null,null,null,{"$f":"W35+'طراحی همه الگوها'!U189","v":44.9},{"$f":"Z12","v":0},6,null,null,null,null,null,"s7",{"$f":"AH21+0.12*(AH25-AH21)","v":3.2128831562967313},{"$f":"AI25+0.94*(AI21-AI25)","v":87.550858202315951},null,{"$f":"AH33","v":2.3598000000000003},{"$f":"AI33","v":85.250800000000012},"s18",null,"s'14",{"$f":"AH11+AH40*COS(AH38)","v":4.7196000000000007},{"$f":"AI11-AH40*SIN(AH38)","v":80.936000000000007},null,{"$f":"AP26","v":2.8317600000000005},{"$f":"AQ26","v":85.250800000000012},"s'18",null,null,null,null,{"$f":"W35+'طراحی همه الگوها'!U213","v":29.9},{"$f":"BA12","v":46.900000000000006},5,null,{"$f":"BD18","v":38.840000000000011},{"$f":"BE18","v":13},16,null,null,null,null,null,null,null,{"$f":"BJ29","v":0},{"$f":"BK37","v":43.614657351297645},12,null,{"$f":"BJ33","v":11.890406743282018},{"$f":"BK33","v":0.36635169370060683},7,null,null,null,null,null,{"$f":"BZ13+'طراحی همه الگوها'!U249-'طراحی همه الگوها'!U253","v":33.799999999999997},{"$f":"CA15-'طراحی همه الگوها'!U254","v":36.299999999999997},7,null,{"$f":"BZ18","v":0},{"$f":"CA18","v":41.3},5,null,"s11",{"$f":"0.7*CI15","v":3.0294155566613905},{"$f":"CJ15-'طراحی همه الگوها'!U263+1.2*SQRT(POWER(CI15-CI14,2)+POWER(CJ15-CJ14,2))","v":25.03566595311052},null,{"$f":"CI28","v":0},{"$f":"CJ28","v":87.100000000000009},"s''17",null,null,null,null,null,null,14,{"$f":"CV12+CY12*SIN(RADIANS(CU22)+CU14)","v":{"$error":"#DIV/0!"}},{"$f":"CW12+CY12*COS(RADIANS(CU22)+CU14)","v":{"$error":"#DIV/0!"}},{"$f":"IF(CV13>CV22,ATAN((CW13-CW22)/(CV13-CV22)),ATAN((CW13-CW22)/(CV22-CV13)))","v":{"$error":"#DIV/0!"}},{"$f":"IF(CV13>CV22,(CV13-CV22)/COS(CX22),(CV22-CV13)/COS(CX22))","v":{"$error":"#DIV/0!"}},null,1,2,"نقطه 4","نقطه قبل از چرخش",{"$f":"IF(DB22>DB18,IF(DA22>DA18,DA18+SQRT(POWER(DA22-DA18,2)+POWER(DB22-DB18,2))*COS(ATAN((DB22-DB18)/(DA22-DA18+0.000123))+DB16),DA18-SQRT(POWER(DA22-DA18,2)+POWER(DB22-DB18,2))*COS(ATAN((DB22-DB18)/(DA18-DA22+0.000123))-DB16)),IF(DA22>DA18,DA18+SQRT(POWER(DA22-DA18,2)+POWER(DB22-DB18,2))*COS(ATAN((DB18-DB22)/(DA22-DA18+0.000123))-DB16),DA18-SQRT(POWER(DA22-DA18,2)+POWER(DB22-DB18,2))*COS(ATAN((DB18-DB22)/(DA18-DA22+0.000123))+DB16)))","v":0.61824523267144293},{"$f":"IF(DB22>DB18,IF(DA22>DA18,DB18+SQRT(POWER(DA22-DA18,2)+POWER(DB22-DB18,2))*SIN(ATAN((DB22-DB18)/(DA22-DA18+0.000123))+DB16),DB18+SQRT(POWER(DA22-DA18,2)+POWER(DB22-DB18,2))*SIN(ATAN((DB22-DB18)/(DA18-DA22+0.000123))-DB16)),IF(DA22>DA18,DB18-SQRT(POWER(DA22-DA18,2)+POWER(DB22-DB18,2))*SIN(ATAN((DB18-DB22)/(DA22-DA18+0.000123))-DB16),DB18-SQRT(POWER(DA22-DA18,2)+POWER(DB22-DB18,2))*SIN(ATAN((DB18-DB22)/(DA18-DA22+0.000123))+DB16)))","v":0.69874634779839551},"نقطه چرخیده",null,"نقطه ورودی پایین","sd3",{"$f":"#REF!","v":{"$error":"#REF!"}},{"$f":"#REF!","v":{"$error":"#REF!"}},null,"به روش تخمین",{"$f":"DO21+DN11","v":-78},-1.3613568165555769,{"$f":"DV13+DV10*COS(DP22)","v":{"$error":"#REF!"}},{"$f":"DW13-DV10*SIN(DP22)","v":{"$error":"#REF!"}},{"$f":"SQRT(POWER((DV12-DQ22),2)+POWER((DW12-DR22),2))","v":{"$error":"#REF!"}},{"$f":"ABS(DV9-DS22)","v":{"$error":"#REF!"}},{"$f":"DU14","v":"k6"},{"$f":"#REF!","v":{"$error":"#REF!"}},{"$f":"#REF!","v":{"$error":"#REF!"}},null,null,null,null,null,null,null,null,null,null,null,{"$f":"-EE22+EJ9","v":0},0]
[null,null,null,null,null,null,null,null,null,{"$f":"F42","v":19.100000000000001},{"$f":"G42","v":92.9},"j11",null,{"$f":"0.7*(O17+O16)+N21","v":54.074999999999996},{"$f":"O22-0.7*(O16+O17)","v":47.865500000000019},"d4",null,{"$f":"N25","v":10.815},{"$f":"O25","v":37.345500000000015},"d7",null,null,null,null,{"$f":"W35+'طراحی همه الگوها'!U189","v":44.9},{"$f":"Z12+'طراحی همه الگوها'!U191","v":22.785},7,null,{"$f":"Y13","v":0},{"$f":"Z13","v":99.8},1,null,"s8",{"$f":"AH21+0.4*(AH25-AH21)","v":10.709610520989106},{"$f":"AI25+0.5*(AI21-AI25)","v":76.701677019299652},null,{"$f":"AH29","v":4.7196000000000007},{"$f":"AI29","v":80.936000000000007},"s14",null,"s'16",{"$f":"AH13","v":0},{"$f":"AI13","v":58.3},null,{"$f":"AP22","v":4.7196000000000007},{"$f":"AQ22","v":80.936000000000007},"s'14",null,null,null,null,{"$f":"W35+'طراحی همه الگوها'!U213+'طراحی همه الگوها'!U214","v":39.5},{"$f":"BA12","v":46.900000000000006},6,null,{"$f":"BD18","v":38.840000000000011},{"$f":"BA13","v":0},15,null,null,null,null,null,null,null,{"$f":"BJ37","v":34.860364312496799},{"$f":"BK37","v":43.614657351297645},11,null,{"$f":"BR22+0.3*(BR25-BR22)","v":20.327858673061773},{"$f":"MIN(BS22,BS25)+IF(BS25>BS22,0.15,0.9)*ABS(BS25-BS22)","v":0.96061308068381601},"7''",null,null,null,null,null,null,null,null,null,{"$f":"CD22+'طراحی همه الگوها'!U264","v":13.5},{"$f":"CA17-'طراحی همه الگوها'!U265","v":40.799999999999997},20,null,"s12",{"$f":"CI24","v":12.5},{"$f":"CJ24+'طراحی همه الگوها'!U257","v":50.743380736880852},null,{"$f":"CI29","v":2.3598000000000003},{"$f":"CJ29","v":85.250800000000012},"s''18",null,null,null,null,null,null,16,{"$f":"CV12+CY12*SIN(RADIANS(CU23)+CU14)","v":{"$error":"#DIV/0!"}},{"$f":"CW12+CY12*COS(RADIANS(CU23)+CU14)","v":{"$error":"#DIV/0!"}},{"$f":"IF(CV13>CV23,ATAN((CW13-CW23)/(CV13-CV23)),ATAN((CW13-CW23)/(CV23-CV13)))","v":{"$error":"#DIV/0!"}},{"$f":"IF(CV13>CV23,(CV13-CV23)/COS(CX23),(CV23-CV13)/COS(CX23))","v":{"$error":"#DIV/0!"}},null,1,2,"نقطه 5","نقطه قبل از چرخش",{"$f":"IF(DB23>DB18,IF(DA23>DA18,DA18+SQRT(POWER(DA23-DA18,2)+POWER(DB23-DB18,2))*COS(ATAN((DB23-DB18)/(DA23-DA18+0.000123))+DB16),DA18-SQRT(POWER(DA23-DA18,2)+POWER(DB23-DB18,2))*COS(ATAN((DB23-DB18)/(DA18-DA23+0.000123))-DB16)),IF(DA23>DA18,DA18+SQRT(POWER(DA23-DA18,2)+POWER(DB23-DB18,2))*COS(ATAN((DB18-DB23)/(DA23-DA18+0.000123))-DB16),DA18-SQRT(POWER(DA23-DA18,2)+POWER(DB23-DB18,2))*COS(ATAN((DB18-DB23)/(DA18-DA23+0.000123))+DB16)))","v":0.61824523267144293},{"$f":"IF(DB23>DB18,IF(DA23>DA18,DB18+SQRT(POWER(DA23-DA18,2)+POWER(DB23-DB18,2))*SIN(ATAN((DB23-DB18)/(DA23-DA18+0.000123))+DB16),DB18+SQRT(POWER(DA23-DA18,2)+POWER(DB23-DB18,2))*SIN(ATAN((DB23-DB18)/(DA18-DA23+0.000123))-DB16)),IF(DA23>DA18,DB18-SQRT(POWER(DA23-DA18,2)+POWER(DB23-DB18,2))*SIN(ATAN((DB18-DB23)/(DA23-DA18+0.000123))-DB16),DB18-SQRT(POWER(DA23-DA18,2)+POWER(DB23-DB18,2))*SIN(ATAN((DB18-DB23)/(DA18-DA23+0.000123))+DB16)))","v":0.69874634779839551},"نقطه چرخیده",null,"متغیر ورودی پهنا","a20",{"$f":"#REF!","v":{"$error":"#REF!"}},"(سانتیمتر)",null,"بهینه α1",{"$f":"DO22+DN11","v":-76},-1.3264502315156905,{"$f":"DV13+DV10*COS(DP23)","v":{"$error":"#REF!"}},{"$f":"DW13-DV10*SIN(DP23)","v":{"$error":"#REF!"}},{"$f":"SQRT(POWER((DV12-DQ23),2)+POWER((DW12-DR23),2))","v":{"$error":"#REF!"}},{"$f":"ABS(DV9-DS23)","v":{"$error":"#REF!"}},{"$f":"DU12","v":"پشتk''5"},{"$f":"DV12","v":{"$error":"#REF!"}},{"$f":"DW12","v":{"$error":"#REF!"}},null,null,null,null,null,null,null,null,null,null,null,{"$f":"-EE23+EJ9","v":0},0]
[null,null,null,null,null,null,null,null,null,{"$f":"F43","v":10.3},{"$f":"G43","v":85.5},"j12",null,{"$f":"N21","v":0},{"$f":"O23-O18+'متغیرها '!C6*0.1*'متغیرها '!U85*0.7","v":37.345500000000015},"d6",null,{"$f":"N27","v":37.852499999999992},{"$f":"O27","v":38.397500000000015},"d9",null,null,null,null,{"$f":"W35+'طراحی همه الگوها'!U189","v":44.9},{"$f":"Z13-'طراحی همه الگوها'!U198","v":86.899999999999991},14,null,null,null,null,null,"s9",{"$f":"AH21+0.7*(AH25-AH21)","v":18.741818411730932},{"$f":"AI25+0.2*(AI21-AI25)","v":69.304508030879447},null,null,null,null,null,"s'15",{"$f":"AP23+0.7*(AP22-AP23)","v":3.3037200000000002},{"$f":"AQ23+0.5*(AQ22-AQ23)","v":69.617999999999995},null,{"$f":"AP24","v":3.3037200000000002},{"$f":"AQ24","v":69.617999999999995},"s'15",null,null,null,null,{"$f":"AZ23","v":39.5},{"$f":"BA17","v":49.500000000000007},7,null,null,null,null,null,null,null,null,null,null,null,null,null,null,null,{"$f":"BR22+0.7*(BR25-BR22)","v":31.57779457943478},{"$f":"MIN(BS22,BS25)+0.5*ABS(BS25-BS22)","v":2.3472229836446372},"7'''",null,null,null,null,null,{"$f":"BZ15","v":50.4},{"$f":"CA15","v":48},4,null,{"$f":"CD22+'طراحی همه الگوها'!U266","v":27},{"$f":"CA17-'طراحی همه الگوها'!U267","v":38.5},22,null,"41 شبیه ساز",{"$f":"DT395","v":12.5},{"$f":"DU395","v":48.343380736880853},null,{"$f":"CI12","v":4.7196000000000007},{"$f":"CJ12","v":80.936000000000007},"s3",null,null,null,null,null,null,18,{"$f":"CV12+CY12*SIN(RADIANS(CU24)+CU14)","v":{"$error":"#DIV/0!"}},{"$f":"CW12+CY12*COS(RADIANS(CU24)+CU14)","v":{"$error":"#DIV/0!"}},{"$f":"IF(CV13>CV24,ATAN((CW13-CW24)/(CV13-CV24)),ATAN((CW13-CW24)/(CV24-CV13)))","v":{"$error":"#DIV/0!"}},{"$f":"IF(CV13>CV24,(CV13-CV24)/COS(CX24),(CV24-CV13)/COS(CX24))","v":{"$error":"#DIV/0!"}},null,1,2,"نقطه 6","نقطه قبل از چرخش",{"$f":"IF(DB24>DB18,IF(DA24>DA18,DA18+SQRT(POWER(DA24-DA18,2)+POWER(DB24-DB18,2))*COS(ATAN((DB24-DB18)/(DA24-DA18+0.000123))+DB16),DA18-SQRT(POWER(DA24-DA18,2)+POWER(DB24-DB18,2))*COS(ATAN((DB24-DB18)/(DA18-DA24+0.000123))-DB16)),IF(DA24>DA18,DA18+SQRT(POWER(DA24-DA18,2)+POWER(DB24-DB18,2))*COS(ATAN((DB18-DB24)/(DA24-DA18+0.000123))-DB16),DA18-SQRT(POWER(DA24-DA18,2)+POWER(DB24-DB18,2))*COS(ATAN((DB18-DB24)/(DA18-DA24+0.000123))+DB16)))","v":0.61824523267144293},{"$f":"IF(DB24>DB18,IF(DA24>DA18,DB18+SQRT(POWER(DA24-DA18,2)+POWER(DB24-DB18,2))*SIN(ATAN((DB24-DB18)/(DA24-DA18+0.000123))+DB16),DB18+SQRT(POWER(DA24-DA18,2)+POWER(DB24-DB18,2))*SIN(ATAN((DB24-DB18)/(DA18-DA24+0.000123))-DB16)),IF(DA24>DA18,DB18-SQRT(POWER(DA24-DA18,2)+POWER(DB24-DB18,2))*SIN(ATAN((DB18-DB24)/(DA24-DA18+0.000123))-DB16),DB18-SQRT(POWER(DA24-DA18,2)+POWER(DB24-DB18,2))*SIN(ATAN((DB18-DB24)/(DA18-DA24+0.000123))+DB16)))","v":0.69874634779839551},"نقطه چرخیده",null,"متغیر ورودی طول","a21",1,null,null,{"$f":"IF(DT12>DT11,DO11,IF(DT13>DT12,DO12,IF(DT14>DT13,DO13,IF(DT15>DT14,DO14,IF(DT16>DT15,DO15,IF(DT17>DT16,DO16,IF(DT18>DT17,DO17,IF(DT19>DT18,DO18,IF(DT20>DT19,DO19,IF(DT21>DT20,DO20,IF(DT22>DT21,DO21,IF(DT23>DT22,DO22,IF(DT24>DT23,DO23,IF(DT25>DT24,DO24,IF(DT26>DT25,DO25,IF(DT27>DT26,DO26,IF(DT28>DT27,DO27,IF(DT29>DT28,DO28,IF(DT30>DT29,DO29,IF(DT31>DT30,DO30,IF(DT32>DT31,DO31,IF(DT33>DT32,DO32,IF(DT34>DT33,DO33,IF(DT35>DT34,DO34,IF(DT36>DT35,DO35,IF(DT37>DT36,DO36,IF(DT38>DT37,DO37,IF(DT39>DT38,DO38,IF(DT40>DT39,DO39,IF(DT41>DT40,DO40,IF(DT42>DT41,DO41,IF(DT43>DT42,DO42,IF(DT44>DT43,DO43,IF(DT45>DT44,DO44,IF(DT46>DT45,DO45,IF(DT47>DT46,DO46,IF(DT48>DT47,DO47,IF(DT49>DT48,DO48,IF(DT50>DT49,DO49,IF(DT51>DT50,DO50,IF(DT52>DT51,DO51,DO52)))))))))))))))))))))))))))))))))))))))))","v":{"$error":"#REF!"}},{"$f":"DO23+DN11","v":-74},-1.2915436464758039,{"$f":"DV13+DV10*COS(DP24)","v":{"$error":"#REF!"}},{"$f":"DW13-DV10*SIN(DP24)","v":{"$error":"#REF!"}},{"$f":"SQRT(POWER((DV12-DQ24),2)+POWER((DW12-DR24),2))","v":{"$error":"#REF!"}},{"$f":"ABS(DV9-DS24)","v":{"$error":"#REF!"}},null,null,null,null,null,null,null,null,null,null,null,null,null,null,{"$f":"-EE24+EJ9","v":0},0]
[null,null,null,null,null,null,null,null,null,null,null,null,null,{"$f":"0.2*(N23-N21)+N21","v":10.815},{"$f":"O24","v":37.345500000000015},"d7",null,{"$f":"N26","v":48.667499999999997},{"$f":"O26","v":42.605500000000021},"d8",null,null,null,null,{"$f":"Y27+'طراحی همه الگوها'!U196","v":59.5},{"$f":"Z13-'طراحی همه الگوها'!U197","v":89.399999999999991},13,null,null,"صاف",null,null,"s10",{"$f":"AH16-('طراحی همه الگوها'!U196-'متغیرها '!C13*'متغیرها '!U83)*COS(AH15)","v":26.774026302472762},{"$f":"AI16+('طراحی همه الگوها'!U196-'متغیرها '!C13*'متغیرها '!U83)*SIN(AH15)","v":64.373062038599315},null,{"$f":"AH29","v":4.7196000000000007},{"$f":"AI29","v":80.936000000000007},"s14",null,"s'17",{"$f":"DB400","v":0},{"$f":"IF('متغیرها '!C22=-1,AL10,IF('متغیرها '!C22=0,DC400-0.1,DC400-0.25*(DC400-DC404)))","v":87.100000000000009},null,{"$f":"AP23","v":0},{"$f":"AQ23","v":58.3},"s'16",null,null,null,null,{"$f":"AZ22","v":29.9},{"$f":"BA22","v":46.900000000000006},5,null,{"$f":"BD17","v":23.304000000000006},{"$f":"BE15","v":0},21,null,"(3 →6)",{"$f":"ROUND(0.2*(BJ34-BJ30),1)","v":9.1},null,null,null,null,{"$f":"BJ29","v":0},{"$f":"BK34","v":4.3280942735886683},14,null,{"$f":"BJ34","v":40.015246509214535},{"$f":"BK34","v":4.3280942735886683},8,null,null,null,null,null,{"$f":"BZ15","v":50.4},{"$f":"CA15+'طراحی همه الگوها'!U257","v":50.4},9,null,{"$f":"BZ22","v":33.799999999999997},{"$f":"CA22","v":36.299999999999997},7,null,"41'",{"$f":"CI24+0.5*(CI27-CI24)","v":18.850000000000001},{"$f":"CJ27+0.7*(CJ24-CJ27)","v":33.840366515816598},null,null,null,null,null,null,null,null,null,null,20,{"$f":"CV12+CY12*SIN(RADIANS(CU25)+CU14)","v":{"$error":"#DIV/0!"}},{"$f":"CW12+CY12*COS(RADIANS(CU25)+CU14)","v":{"$error":"#DIV/0!"}},{"$f":"IF(CV13>CV25,ATAN((CW13-CW25)/(CV13-CV25)),ATAN((CW13-CW25)/(CV25-CV13)))","v":{"$error":"#DIV/0!"}},{"$f":"IF(CV13>CV25,(CV13-CV25)/COS(CX25),(CV25-CV13)/COS(CX25))","v":{"$error":"#DIV/0!"}},null,1,2,"نقطه 7","نقطه قبل از چرخش",{"$f":"IF(DB25>DB18,IF(DA25>DA18,DA18+SQRT(POWER(DA25-DA18,2)+POWER(DB25-DB18,2))*COS(ATAN((DB25-DB18)/(DA25-DA18+0.000123))+DB16),DA18-SQRT(POWER(DA25-DA18,2)+POWER(DB25-DB18,2))*COS(ATAN((DB25-DB18)/(DA18-DA25+0.000123))-DB16)),IF(DA25>DA18,DA18+SQRT(POWER(DA25-DA18,2)+POWER(DB25-DB18,2))*COS(ATAN((DB18-DB25)/(DA25-DA18+0.000123))-DB16),DA18-SQRT(POWER(DA25-DA18,2)+POWER(DB25-DB18,2))*COS(ATAN((DB18-DB25)/(DA18-DA25+0.000123))+DB16)))","v":0.61824523267144293},{"$f":"IF(DB25>DB18,IF(DA25>DA18,DB18+SQRT(POWER(DA25-DA18,2)+POWER(DB25-DB18,2))*SIN(ATAN((DB25-DB18)/(DA25-DA18+0.000123))+DB16),DB18+SQRT(POWER(DA25-DA18,2)+POWER(DB25-DB18,2))*SIN(ATAN((DB25-DB18)/(DA18-DA25+0.000123))-DB16)),IF(DA25>DA18,DB18-SQRT(POWER(DA25-DA18,2)+POWER(DB25-DB18,2))*SIN(ATAN((DB18-DB25)/(DA25-DA18+0.000123))-DB16),DB18-SQRT(POWER(DA25-DA18,2)+POWER(DB25-DB18,2))*SIN(ATAN((DB18-DB25)/(DA18-DA25+0.000123))+DB16)))","v":0.69874634779839551},"نقطه چرخیده",null,null,null,"ماکزیمم متغیر ورودی  ضریب طول",1,null,null,{"$f":"DO24+DN11","v":-72},-1.2566370614359172,{"$f":"DV13+DV10*COS(DP25)","v":{"$error":"#REF!"}},{"$f":"DW13-DV10*SIN(DP25)","v":{"$error":"#REF!"}},{"$f":"SQRT(POWER((DV12-DQ25),2)+POWER((DW12-DR25),2))","v":{"$error":"#REF!"}},{"$f":"ABS(DV9-DS25)","v":{"$error":"#REF!"}},null,null,null,null,null,null,null,null,null,null,null,null,null,null,{"$f":"-EE25+EJ9","v":0},0]
[null,null,null,null,null,null,null,null,null,{"$f":"F37","v":4.9000000000000004},{"$f":"G37","v":92.9},"j6",null,{"$f":"0.9*(N23-N21)+N21","v":48.667499999999997},{"$f":"O24+0.5*(O23-O24)","v":42.605500000000021},"d8",null,{"$f":"N23","v":54.074999999999996},{"$f":"O23","v":47.865500000000019},"d4",null,null,null,null,{"$f":"Y27+'طراحی همه الگوها'!U196","v":59.5},{"$f":"Z13","v":99.8},12,null,{"$f":"AC18","v":22.799999999999997},{"$f":"Z12","v":0},15,null,"s12",{"$f":"AH25-'طراحی همه الگوها'!U198*SIN(AH15)","v":22.466534878774496},{"$f":"AI25-'طراحی همه الگوها'!U198*COS(AH15)","v":52.21347661660544},null,{"$f":"AH31","v":3.3037200000000002},{"$f":"AI31","v":69.617999999999995},"s15",null,"s'18",{"$f":"AP25+0.6*(AP22-AP25)","v":2.8317600000000005},{"$f":"AQ25-0.3*(AQ25-AQ22)","v":85.250800000000012},null,null,null,null,null,null,null,null,null,null,null,null,{"$f":"BD17","v":23.304000000000006},{"$f":"BE17","v":5.9},22,null,"(5 →7)",{"$f":"ROUND(0.2*(BJ34-BJ31),1)","v":7},null,null,null,null,{"$f":"BJ34","v":40.015246509214535},{"$f":"BK34","v":4.3280942735886683},8,null,null,null,null,null,null,null,null,null,{"$f":"BZ13+'طراحی همه الگوها'!U249-'طراحی همه الگوها'!U256","v":-23.6},{"$f":"CA25","v":50.4},10,null,null,null,null,null,"41''",{"$f":"CI24+0.88*(CI27-CI24)","v":23.676000000000002},{"$f":"CJ27+0.3*(CJ24-CJ27)","v":14.503014221064255},null,{"$f":"CI12","v":4.7196000000000007},{"$f":"CJ12","v":80.936000000000007},"s3",null,null,null,null,null,null,22,{"$f":"CV12+CY12*SIN(RADIANS(CU26)+CU14)","v":{"$error":"#DIV/0!"}},{"$f":"CW12+CY12*COS(RADIANS(CU26)+CU14)","v":{"$error":"#DIV/0!"}},{"$f":"IF(CV13>CV26,ATAN((CW13-CW26)/(CV13-CV26)),ATAN((CW13-CW26)/(CV26-CV13)))","v":{"$error":"#DIV/0!"}},{"$f":"IF(CV13>CV26,(CV13-CV26)/COS(CX26),(CV26-CV13)/COS(CX26))","v":{"$error":"#DIV/0!"}},null,1,2,"نقطه 8","نقطه قبل از چرخش",{"$f":"IF(DB26>DB18,IF(DA26>DA18,DA18+SQRT(POWER(DA26-DA18,2)+POWER(DB26-DB18,2))*COS(ATAN((DB26-DB18)/(DA26-DA18+0.000123))+DB16),DA18-SQRT(POWER(DA26-DA18,2)+POWER(DB26-DB18,2))*COS(ATAN((DB26-DB18)/(DA18-DA26+0.000123))-DB16)),IF(DA26>DA18,DA18+SQRT(POWER(DA26-DA18,2)+POWER(DB26-DB18,2))*COS(ATAN((DB18-DB26)/(DA26-DA18+0.000123))-DB16),DA18-SQRT(POWER(DA26-DA18,2)+POWER(DB26-DB18,2))*COS(ATAN((DB18-DB26)/(DA18-DA26+0.000123))+DB16)))","v":0.61824523267144293},{"$f":"IF(DB26>DB18,IF(DA26>DA18,DB18+SQRT(POWER(DA26-DA18,2)+POWER(DB26-DB18,2))*SIN(ATAN((DB26-DB18)/(DA26-DA18+0.000123))+DB16),DB18+SQRT(POWER(DA26-DA18,2)+POWER(DB26-DB18,2))*SIN(ATAN((DB26-DB18)/(DA18-DA26+0.000123))-DB16)),IF(DA26>DA18,DB18-SQRT(POWER(DA26-DA18,2)+POWER(DB26-DB18,2))*SIN(ATAN((DB18-DB26)/(DA26-DA18+0.000123))-DB16),DB18-SQRT(POWER(DA26-DA18,2)+POWER(DB26-DB18,2))*SIN(ATAN((DB18-DB26)/(DA18-DA26+0.000123))+DB16)))","v":0.69874634779839551},"نقطه چرخیده",null,"m1",{"$f":"ATAN((DK22-DK21)/(DL21-DL22))","v":{"$error":"#REF!"}},"m2",{"$f":"SQRT(POWER(DK21-DK22,2)+POWER(DL21-DL22,2))","v":{"$error":"#REF!"}},null,null,{"$f":"DO25+DN11","v":-70},-1.2217304763960306,{"$f":"DV13+DV10*COS(DP26)","v":{"$error":"#REF!"}},{"$f":"DW13-DV10*SIN(DP26)","v":{"$error":"#REF!"}},{"$f":"SQRT(POWER((DV12-DQ26),2)+POWER((DW12-DR26),2))","v":{"$error":"#REF!"}},{"$f":"ABS(DV9-DS26)","v":{"$error":"#REF!"}},null,null,null,null,null,null,null,null,null,null,null,null,null,null,{"$f":"-EE26+EJ9","v":0},0]
[null,null,null,null,null,null,null,null,null,{"$f":"F39","v":2},{"$f":"G39","v":79.2},"j8",null,{"$f":"0.7*(N23-N21)+N21","v":37.852499999999992},{"$f":"O24+0.1*(O23-O24)","v":38.397500000000015},"d9",null,null,null,null,null,null,null,null,{"$f":"W35+'طراحی همه الگوها'!U189","v":44.9},{"$f":"Z13","v":99.8},3,null,{"$f":"AC18","v":22.799999999999997},{"$f":"AD18","v":4},16,null,"s11",{"$f":"AH34-'طراحی همه الگوها'!U197*SIN(AH15)","v":37.063331446243964},{"$f":"AI34-'طراحی همه الگوها'!U197*COS(AH15)","v":49.694840087069785},null,{"$f":"AH30","v":0},{"$f":"AI30","v":58.3},"s16",null,"s'19",{"$f":"AX39+('متغیرها '!C20*'متغیرها '!U83)*COS(AH15+RADIANS(AX38))","v":33.235638773465077},{"$f":"AY39-('متغیرها '!C20*'متغیرها '!U83)*SIN(AH15+RADIANS(AX38))","v":47.928942468998635},null,{"$f":"AP16","v":29.947592240947632},{"$f":"AQ16","v":51.216989001516083},"s'10",null,null,null,null,{"$f":"W35+'طراحی همه الگوها'!U216","v":110},{"$f":"BA18","v":105.8},10,null,null,null,null,null,null,"نقاط در چادر شماره 4",null,null,null,null,null,null,null,null,{"$f":"BJ29","v":0},{"$f":"BK29","v":92.9},1,null,null,null,null,null,{"$f":"BZ26","v":-23.6},{"$f":"CA17","v":48},11,null,{"$f":"CD23","v":13.5},{"$f":"CA17","v":48},19,null,"s13",{"$f":"CI30+0.5*'طراحی همه الگوها'!U249","v":25.2},{"$f":"CJ30","v":0},null,{"$f":"CI33","v":3.8745077783306954},{"$f":"CJ33","v":58.575866381244211},"s'3",null,null,null,null,null,null,24,{"$f":"CV12+CY12*SIN(RADIANS(CU27)+CU14)","v":{"$error":"#DIV/0!"}},{"$f":"CW12+CY12*COS(RADIANS(CU27)+CU14)","v":{"$error":"#DIV/0!"}},{"$f":"IF(CV13>CV27,ATAN((CW13-CW27)/(CV13-CV27)),ATAN((CW13-CW27)/(CV27-CV13)))","v":{"$error":"#DIV/0!"}},{"$f":"IF(CV13>CV27,(CV13-CV27)/COS(CX27),(CV27-CV13)/COS(CX27))","v":{"$error":"#DIV/0!"}},null,1,2,"نقطه 9","نقطه قبل از چرخش",{"$f":"IF(DB27>DB18,IF(DA27>DA18,DA18+SQRT(POWER(DA27-DA18,2)+POWER(DB27-DB18,2))*COS(ATAN((DB27-DB18)/(DA27-DA18+0.000123))+DB16),DA18-SQRT(POWER(DA27-DA18,2)+POWER(DB27-DB18,2))*COS(ATAN((DB27-DB18)/(DA18-DA27+0.000123))-DB16)),IF(DA27>DA18,DA18+SQRT(POWER(DA27-DA18,2)+POWER(DB27-DB18,2))*COS(ATAN((DB18-DB27)/(DA27-DA18+0.000123))-DB16),DA18-SQRT(POWER(DA27-DA18,2)+POWER(DB27-DB18,2))*COS(ATAN((DB18-DB27)/(DA18-DA27+0.000123))+DB16)))","v":0.61824523267144293},{"$f":"IF(DB27>DB18,IF(DA27>DA18,DB18+SQRT(POWER(DA27-DA18,2)+POWER(DB27-DB18,2))*SIN(ATAN((DB27-DB18)/(DA27-DA18+0.000123))+DB16),DB18+SQRT(POWER(DA27-DA18,2)+POWER(DB27-DB18,2))*SIN(ATAN((DB27-DB18)/(DA18-DA27+0.000123))-DB16)),IF(DA27>DA18,DB18-SQRT(POWER(DA27-DA18,2)+POWER(DB27-DB18,2))*SIN(ATAN((DB18-DB27)/(DA27-DA18+0.000123))-DB16),DB18-SQRT(POWER(DA27-DA18,2)+POWER(DB27-DB18,2))*SIN(ATAN((DB18-DB27)/(DA18-DA27+0.000123))+DB16)))","v":0.69874634779839551},"نقطه چرخیده",null,"نقطه خروجی بالا","su9",{"$f":"DK21+DK23*COS(DJ26)","v":{"$error":"#REF!"}},{"$f":"DL21+DK23*SIN(DJ26)","v":{"$error":"#REF!"}},null,null,{"$f":"DO26+DN11","v":-68},-1.1868238913561442,{"$f":"DV13+DV10*COS(DP27)","v":{"$error":"#REF!"}},{"$f":"DW13-DV10*SIN(DP27)","v":{"$error":"#REF!"}},{"$f":"SQRT(POWER((DV12-DQ27),2)+POWER((DW12-DR27),2))","v":{"$error":"#REF!"}},{"$f":"ABS(DV9-DS27)","v":{"$error":"#REF!"}},null,null,"به دست آوردن نقطه تقاطع دو خط ","مولفه افقی","مولفه عمودی",null,null,null,null,null,null,null,null,null,{"$f":"-EE27+EJ9","v":0},0]
[null,null,null,null,null,null,null,null,null,null,null,null,null,{"$f":"N21","v":0},{"$f":"O12-1-0.013*(O22-O24)","v":46.16026500000001},"j'2",null,null,null,null,null,null,null,null,{"$f":"W35+'طراحی همه الگوها'!U189","v":44.9},{"$f":"Z13-'طراحی همه الگوها'!U198","v":86.899999999999991},14,null,{"$f":"AC12","v":22.799999999999997},{"$f":"AD12","v":24.5},17,null,"s13",{"$f":"AH17+'طراحی همه الگوها'!U189-0.5*'طراحی همه الگوها'!U190","v":38.549999999999997},{"$f":"AH43+AH42","v":0},null,null,null,null,null,"2'",{"$f":"AH17","v":0},{"$f":"AX33+AH42","v":0},null,{"$f":"AP27","v":33.235638773465077},{"$f":"AQ27","v":47.928942468998635},"s'19",null,null,null,null,{"$f":"BD13","v":101.3},{"$f":"BE13","v":105.8},13,null,{"$f":"W35","v":0},{"$f":"BA11","v":92.9},1,null,"افقی شبیه ساز","اسم نقطه ","مولفه افقی","مولفه عمودی","عمودی شبیه ساز",null,{"$f":"BL43","v":27},{"$f":"BL44","v":31.174999999999997},15,null,{"$f":"BJ36","v":42.072853480599584},{"$f":"BK36","v":50.827146519400429},10,null,null,null,null,null,{"$f":"BZ16","v":45.4},{"$f":"CA16","v":48},8,null,{"$f":"CD23","v":13.5},{"$f":"CE23","v":40.799999999999997},20,null,"s''17",{"$f":"CI11","v":0},{"$f":"IF('متغیرها '!C40=-1,CJ14,IF('متغیرها '!C40=0,CJ11-0.1,CJ11-0.25*(CJ11-CJ13)))","v":87.100000000000009},null,{"$f":"CI22","v":3.0294155566613905},{"$f":"CJ22","v":25.03566595311052},"s11",null,null,null,null,null,null,26,{"$f":"CV12+CY12*SIN(RADIANS(CU28)+CU14)","v":{"$error":"#DIV/0!"}},{"$f":"CW12+CY12*COS(RADIANS(CU28)+CU14)","v":{"$error":"#DIV/0!"}},{"$f":"IF(CV13>CV28,ATAN((CW13-CW28)/(CV13-CV28)),ATAN((CW13-CW28)/(CV28-CV13)))","v":{"$error":"#DIV/0!"}},{"$f":"IF(CV13>CV28,(CV13-CV28)/COS(CX28),(CV28-CV13)/COS(CX28))","v":{"$error":"#DIV/0!"}},null,1,2,"نقطه 10","نقطه قبل از چرخش",{"$f":"IF(DB28>DB18,IF(DA28>DA18,DA18+SQRT(POWER(DA28-DA18,2)+POWER(DB28-DB18,2))*COS(ATAN((DB28-DB18)/(DA28-DA18+0.000123))+DB16),DA18-SQRT(POWER(DA28-DA18,2)+POWER(DB28-DB18,2))*COS(ATAN((DB28-DB18)/(DA18-DA28+0.000123))-DB16)),IF(DA28>DA18,DA18+SQRT(POWER(DA28-DA18,2)+POWER(DB28-DB18,2))*COS(ATAN((DB18-DB28)/(DA28-DA18+0.000123))-DB16),DA18-SQRT(POWER(DA28-DA18,2)+POWER(DB28-DB18,2))*COS(ATAN((DB18-DB28)/(DA18-DA28+0.000123))+DB16)))","v":0.61824523267144293},{"$f":"IF(DB28>DB18,IF(DA28>DA18,DB18+SQRT(POWER(DA28-DA18,2)+POWER(DB28-DB18,2))*SIN(ATAN((DB28-DB18)/(DA28-DA18+0.000123))+DB16),DB18+SQRT(POWER(DA28-DA18,2)+POWER(DB28-DB18,2))*SIN(ATAN((DB28-DB18)/(DA18-DA28+0.000123))-DB16)),IF(DA28>DA18,DB18-SQRT(POWER(DA28-DA18,2)+POWER(DB28-DB18,2))*SIN(ATAN((DB18-DB28)/(DA28-DA18+0.000123))-DB16),DB18-SQRT(POWER(DA28-DA18,2)+POWER(DB28-DB18,2))*SIN(ATAN((DB18-DB28)/(DA18-DA28+0.000123))+DB16)))","v":0.69874634779839551},"نقطه چرخیده",null,"نقطه خروجی پایین","sd8",{"$f":"DK29+DK23*COS(DJ26)","v":{"$error":"#REF!"}},{"$f":"DL29+DK23*SIN(DJ26)","v":{"$error":"#REF!"}},null,null,{"$f":"DO27+DN11","v":-66},-1.1519173063162575,{"$f":"DV13+DV10*COS(DP28)","v":{"$error":"#REF!"}},{"$f":"DW13-DV10*SIN(DP28)","v":{"$error":"#REF!"}},{"$f":"SQRT(POWER((DV12-DQ28),2)+POWER((DW12-DR28),2))","v":{"$error":"#REF!"}},{"$f":"ABS(DV9-DS28)","v":{"$error":"#REF!"}},null,"نقطه اول از خط اول","f5",{"$f":"#REF!","v":{"$error":"#REF!"}},{"$f":"#REF!","v":{"$error":"#REF!"}},null,null,null,null,null,null,null,null,null,{"$f":"-EE28+EJ9","v":0},0]
[null,null,null,null,null,null,null,null,null,{"$f":"F39","v":2},{"$f":"G39","v":79.2},"j8",null,null,null,null,null,null,null,null,null,null,null,null,null,null,null,null,null,null,null,null,"s14",{"$f":"AH11+AH40*COS(AH38)","v":4.7196000000000007},{"$f":"AI11-AH40*SIN(AH38)","v":80.936000000000007},null,{"$f":"AK23","v":4.7196000000000007},{"$f":"AL23","v":80.936000000000007},"s14",null,null,null,null,null,null,null,null,null,null,null,null,{"$f":"W35+'طراحی همه الگوها'!U211+'طراحی همه الگوها'!U219","v":103.2},{"$f":"BA18","v":105.8},12,null,{"$f":"W35+'طراحی همه الگوها'!U216","v":110},{"$f":"BA31","v":92.9},3,null,null,1,{"$f":"AH17","v":0},{"$f":"'طراحی همه الگوها'!U233+BL39+AH42","v":92.9},null,null,{"$f":"BN28+'طراحی همه الگوها'!U242","v":30},{"$f":"BO28","v":31.174999999999997},16,null,null,null,null,null,null,null,null,null,null,null,null,null,null,null,null,null,"s''18",{"$f":"CI28+0.5*(CI12-CI28)","v":2.3598000000000003},{"$f":"CJ28-0.3*(CJ28-CJ12)","v":85.250800000000012},null,null,null,null,null,null,null,null,null,null,28,{"$f":"CV12+CY12*SIN(RADIANS(CU29)+CU14)","v":{"$error":"#DIV/0!"}},{"$f":"CW12+CY12*COS(RADIANS(CU29)+CU14)","v":{"$error":"#DIV/0!"}},{"$f":"IF(CV13>CV29,ATAN((CW13-CW29)/(CV13-CV29)),ATAN((CW13-CW29)/(CV29-CV13)))","v":{"$error":"#DIV/0!"}},{"$f":"IF(CV13>CV29,(CV13-CV29)/COS(CX29),(CV29-CV13)/COS(CX29))","v":{"$error":"#DIV/0!"}},null,1,2,"نقطه 11","نقطه قبل از چرخش",{"$f":"IF(DB29>DB18,IF(DA29>DA18,DA18+SQRT(POWER(DA29-DA18,2)+POWER(DB29-DB18,2))*COS(ATAN((DB29-DB18)/(DA29-DA18+0.000123))+DB16),DA18-SQRT(POWER(DA29-DA18,2)+POWER(DB29-DB18,2))*COS(ATAN((DB29-DB18)/(DA18-DA29+0.000123))-DB16)),IF(DA29>DA18,DA18+SQRT(POWER(DA29-DA18,2)+POWER(DB29-DB18,2))*COS(ATAN((DB18-DB29)/(DA29-DA18+0.000123))-DB16),DA18-SQRT(POWER(DA29-DA18,2)+POWER(DB29-DB18,2))*COS(ATAN((DB18-DB29)/(DA18-DA29+0.000123))+DB16)))","v":0.61824523267144293},{"$f":"IF(DB29>DB18,IF(DA29>DA18,DB18+SQRT(POWER(DA29-DA18,2)+POWER(DB29-DB18,2))*SIN(ATAN((DB29-DB18)/(DA29-DA18+0.000123))+DB16),DB18+SQRT(POWER(DA29-DA18,2)+POWER(DB29-DB18,2))*SIN(ATAN((DB29-DB18)/(DA18-DA29+0.000123))-DB16)),IF(DA29>DA18,DB18-SQRT(POWER(DA29-DA18,2)+POWER(DB29-DB18,2))*SIN(ATAN((DB18-DB29)/(DA29-DA18+0.000123))-DB16),DB18-SQRT(POWER(DA29-DA18,2)+POWER(DB29-DB18,2))*SIN(ATAN((DB18-DB29)/(DA18-DA29+0.000123))+DB16)))","v":0.69874634779839551},"نقطه چرخیده",null,"نقطه خروجی میانه",null,{"$f":"DK21+DK24*DL26*SIN(DJ26)/DL25","v":{"$error":"#REF!"}},{"$f":"DL21-DK24*DL26*COS(DJ26)/DL25","v":{"$error":"#REF!"}},null,null,{"$f":"DO28+DN11","v":-64},-1.1170107212763709,{"$f":"DV13+DV10*COS(DP29)","v":{"$error":"#REF!"}},{"$f":"DW13-DV10*SIN(DP29)","v":{"$error":"#REF!"}},{"$f":"SQRT(POWER((DV12-DQ29),2)+POWER((DW12-DR29),2))","v":{"$error":"#REF!"}},{"$f":"ABS(DV9-DS29)","v":{"$error":"#REF!"}},null,"نقطه دوم از خط اول","f6",{"$f":"#REF!","v":{"$error":"#REF!"}},{"$f":"#REF!","v":{"$error":"#REF!"}},null,null,null,null,null,null,null,null,null,{"$f":"-EE29+EJ9","v":0},0]
[null,null,null,null,null,null,null,null,null,{"$f":"F38","v":0},{"$f":"G38","v":79.2},"j7",null,null,null,null,null,null,null,null,null,null,null,null,{"$f":"Y27","v":44.9},{"$f":"Z13","v":99.8},3,null,{"$f":"AC20","v":38.9},{"$f":"Z12","v":0},18,null,"s16",{"$f":"AH13","v":0},{"$f":"AI13","v":58.3},null,{"$f":"AK29+0.32*(AK32-AK29)","v":11.45645891549281},{"$f":"AL32+0.5*(AL29-AL32)","v":71.240625737672474},null,null,null,null,null,null,{"$f":"AS28","v":33.235638773465077},{"$f":"AT28","v":47.928942468998635},"s'19",null,"شیفت افقی مچ",{"$f":"AZ18+10","v":120},null,{"$f":"AZ29","v":103.2},{"$f":"BA11","v":92.9},11,null,null,null,null,null,null,3,{"$f":"BJ29-'طراحی همه الگوها'!U234","v":-5.4},{"$f":"BK29-'طراحی همه الگوها'!U232","v":-10.299999999999997},null,null,{"$f":"BN28+'طراحی همه الگوها'!U242","v":30},{"$f":"BO28-'طراحی همه الگوها'!U245","v":22.074999999999996},19,null,{"$f":"BJ36","v":42.072853480599584},{"$f":"BK36","v":50.827146519400429},10,null,null,null,null,null,{"$f":"BZ13+'طراحی همه الگوها'!U260+'طراحی همه الگوها'!U262","v":55.8},{"$f":"CA25+BW44","v":57.4},13,null,{"$f":"CD24","v":27},{"$f":"CA17","v":48},21,null,2,{"$f":"CI14","v":0},{"$f":"BW42+AH42","v":0},null,{"$f":"CI24","v":12.5},48.343380736880853,"41شبیه ساز",null,null,null,null,null,null,30,{"$f":"CV12+CY12*SIN(RADIANS(CU30)+CU14)","v":{"$error":"#DIV/0!"}},{"$f":"CW12+CY12*COS(RADIANS(CU30)+CU14)","v":{"$error":"#DIV/0!"}},{"$f":"IF(CV13>CV30,ATAN((CW13-CW30)/(CV13-CV30)),ATAN((CW13-CW30)/(CV30-CV13)))","v":{"$error":"#DIV/0!"}},{"$f":"IF(CV13>CV30,(CV13-CV30)/COS(CX30),(CV30-CV13)/COS(CX30))","v":{"$error":"#DIV/0!"}},null,1,2,"نقطه 12","نقطه قبل از چرخش",{"$f":"IF(DB30>DB18,IF(DA30>DA18,DA18+SQRT(POWER(DA30-DA18,2)+POWER(DB30-DB18,2))*COS(ATAN((DB30-DB18)/(DA30-DA18+0.000123))+DB16),DA18-SQRT(POWER(DA30-DA18,2)+POWER(DB30-DB18,2))*COS(ATAN((DB30-DB18)/(DA18-DA30+0.000123))-DB16)),IF(DA30>DA18,DA18+SQRT(POWER(DA30-DA18,2)+POWER(DB30-DB18,2))*COS(ATAN((DB18-DB30)/(DA30-DA18+0.000123))-DB16),DA18-SQRT(POWER(DA30-DA18,2)+POWER(DB30-DB18,2))*COS(ATAN((DB18-DB30)/(DA18-DA30+0.000123))+DB16)))","v":0.61824523267144293},{"$f":"IF(DB30>DB18,IF(DA30>DA18,DB18+SQRT(POWER(DA30-DA18,2)+POWER(DB30-DB18,2))*SIN(ATAN((DB30-DB18)/(DA30-DA18+0.000123))+DB16),DB18+SQRT(POWER(DA30-DA18,2)+POWER(DB30-DB18,2))*SIN(ATAN((DB30-DB18)/(DA18-DA30+0.000123))-DB16)),IF(DA30>DA18,DB18-SQRT(POWER(DA30-DA18,2)+POWER(DB30-DB18,2))*SIN(ATAN((DB18-DB30)/(DA30-DA18+0.000123))-DB16),DB18-SQRT(POWER(DA30-DA18,2)+POWER(DB30-DB18,2))*SIN(ATAN((DB18-DB30)/(DA18-DA30+0.000123))+DB16)))","v":0.69874634779839551},"نقطه چرخیده",null,null,null,null,null,null,null,{"$f":"DO29+DN11","v":-62},-1.0821041362364843,{"$f":"DV13+DV10*COS(DP30)","v":{"$error":"#REF!"}},{"$f":"DW13-DV10*SIN(DP30)","v":{"$error":"#REF!"}},{"$f":"SQRT(POWER((DV12-DQ30),2)+POWER((DW12-DR30),2))","v":{"$error":"#REF!"}},{"$f":"ABS(DV9-DS30)","v":{"$error":"#REF!"}},null,"نقطه اول از خط دوم","f7",{"$f":"#REF!","v":{"$error":"#REF!"}},{"$f":"#REF!","v":{"$error":"#REF!"}},null,null,null,null,null,null,null,null,null,{"$f":"-EE30+EJ9","v":0},0]
[null,null,null,null,null,"نقاط خروجی ",null,null,null,null,null,null,null,null,null,null,null,null,null,null,null,null,null,null,{"$f":"Y14","v":12.7},{"$f":"Z13","v":99.8},4,null,{"$f":"AC20","v":38.9},{"$f":"AD20","v":16.5},19,null,"s15",{"$f":"AH30+0.7*(AH29-AH30)","v":3.3037200000000002},{"$f":"AI30+0.5*(AI29-AI30)","v":69.617999999999995},null,{"$f":"AK29+0.67*(AK32-AK29)","v":18.824898354313071},{"$f":"AL32+0.2*(AL29-AL32)","v":65.423401180275945},null,null,null,null,null,null,{"$f":"AP17","v":26.800967064667496},{"$f":"AQ17","v":41.494270760201054},"s'11",null,"شیفت عمودی مچ",{"$f":"BA18-10","v":95.8},null,{"$f":"W35+'طراحی همه الگوها'!U216","v":110},{"$f":"BA11","v":92.9},3,null,{"$f":"AZ19","v":110},{"$f":"BA19","v":-6.8},9,null,null,5,{"$f":"BJ29+'طراحی همه الگوها'!U235","v":4.9000000000000004},{"$f":"BK29-'طراحی همه الگوها'!U233","v":0},null,null,null,null,null,null,{"$f":"BJ37","v":34.860364312496799},{"$f":"BK37","v":43.614657351297645},11,null,null,null,null,null,{"$f":"BZ13","v":0},{"$f":"CA30","v":57.4},12,null,{"$f":"CD24","v":27},{"$f":"CE24","v":38.5},22,null,"s''12",{"$f":"CI30","v":0},{"$f":"CJ24","v":48.343380736880853},null,18.850000000000001,33.840366515816598,"41'",null,null,null,null,null,null,32,{"$f":"CV12+CY12*SIN(RADIANS(CU31)+CU14)","v":{"$error":"#DIV/0!"}},{"$f":"CW12+CY12*COS(RADIANS(CU31)+CU14)","v":{"$error":"#DIV/0!"}},{"$f":"IF(CV13>CV31,ATAN((CW13-CW31)/(CV13-CV31)),ATAN((CW13-CW31)/(CV31-CV13)))","v":{"$error":"#DIV/0!"}},{"$f":"IF(CV13>CV31,(CV13-CV31)/COS(CX31),(CV31-CV13)/COS(CX31))","v":{"$error":"#DIV/0!"}},null,1,2,"نقطه 13","نقطه قبل از چرخش",{"$f":"IF(DB31>DB18,IF(DA31>DA18,DA18+SQRT(POWER(DA31-DA18,2)+POWER(DB31-DB18,2))*COS(ATAN((DB31-DB18)/(DA31-DA18+0.000123))+DB16),DA18-SQRT(POWER(DA31-DA18,2)+POWER(DB31-DB18,2))*COS(ATAN((DB31-DB18)/(DA18-DA31+0.000123))-DB16)),IF(DA31>DA18,DA18+SQRT(POWER(DA31-DA18,2)+POWER(DB31-DB18,2))*COS(ATAN((DB18-DB31)/(DA31-DA18+0.000123))-DB16),DA18-SQRT(POWER(DA31-DA18,2)+POWER(DB31-DB18,2))*COS(ATAN((DB18-DB31)/(DA18-DA31+0.000123))+DB16)))","v":0.61824523267144293},{"$f":"IF(DB31>DB18,IF(DA31>DA18,DB18+SQRT(POWER(DA31-DA18,2)+POWER(DB31-DB18,2))*SIN(ATAN((DB31-DB18)/(DA31-DA18+0.000123))+DB16),DB18+SQRT(POWER(DA31-DA18,2)+POWER(DB31-DB18,2))*SIN(ATAN((DB31-DB18)/(DA18-DA31+0.000123))-DB16)),IF(DA31>DA18,DB18-SQRT(POWER(DA31-DA18,2)+POWER(DB31-DB18,2))*SIN(ATAN((DB18-DB31)/(DA31-DA18+0.000123))-DB16),DB18-SQRT(POWER(DA31-DA18,2)+POWER(DB31-DB18,2))*SIN(ATAN((DB18-DB31)/(DA18-DA31+0.000123))+DB16)))","v":0.69874634779839551},"نقطه چرخیده",null,null,"رسم باکس زیپ دامن-باکس چپ","مولفه افقی","مولفه عمودی",null,null,{"$f":"DO30+DN11","v":-60},-1.0471975511965976,{"$f":"DV13+DV10*COS(DP31)","v":{"$error":"#REF!"}},{"$f":"DW13-DV10*SIN(DP31)","v":{"$error":"#REF!"}},{"$f":"SQRT(POWER((DV12-DQ31),2)+POWER((DW12-DR31),2))","v":{"$error":"#REF!"}},{"$f":"ABS(DV9-DS31)","v":{"$error":"#REF!"}},null,"نقطه دوم از خط دوم","f8",{"$f":"#REF!","v":{"$error":"#REF!"}},{"$f":"#REF!","v":{"$error":"#REF!"}},null,null,null,null,null,null,null,null,null,{"$f":"-EE31+EJ9","v":0},0]
[null,null,null,null,null,"مولفه افقی","مولفه عمودی","اسم نقطه",null,{"$f":"F39","v":2},{"$f":"G39","v":79.2},"j8",null,null,null,null,null,null,null,null,null,null,null,null,null,null,"نقاب",null,{"$f":"AC14","v":38.9},{"$f":"AD14","v":26.5},20,null,"s17",{"$f":"DB400","v":0},{"$f":"IF('متغیرها '!C14=-1,AL10,IF('متغیرها '!C14=0,DC400-0.1,DC400-0.25*(DC400-DC404)))","v":87.100000000000009},null,{"$f":"AH35","v":25.772284110915027},{"$f":"AI35","v":61.545251475344926},"s20",null,null,null,null,null,null,null,null,null,"زاویه گشادی نسبی جلو به پشت",33,null,{"$f":"W35+'طراحی همه الگوها'!U216","v":110},{"$f":"BA18","v":105.8},10,null,{"$f":"BD20","v":110},{"$f":"BE20","v":1.9},14,null,null,6,{"$f":"BJ30+BI25*COS(RADIANS('متغیرها '!C26))","v":3.6875287662666203},{"$f":"BK30-BI25*SIN(RADIANS('متغیرها '!C26))","v":-10.776257201810786},null,null,{"$f":"BN28+'طراحی همه الگوها'!U242","v":30},{"$f":"BO28+'طراحی همه الگوها'!U244","v":40.274999999999999},18,null,null,null,null,null,null,null,null,null,{"$f":"BZ13","v":0},{"$f":"CA31+'طراحی همه الگوها'!U258","v":64.099999999999994},18,null,null,null,null,null,"s'12",{"$f":"CI30","v":0},{"$f":"CJ23","v":50.743380736880852},null,23.676000000000002,14.503014221064255,"41''",null,null,null,null,null,null,34,{"$f":"CV12+CY12*SIN(RADIANS(CU32)+CU14)","v":{"$error":"#DIV/0!"}},{"$f":"CW12+CY12*COS(RADIANS(CU32)+CU14)","v":{"$error":"#DIV/0!"}},{"$f":"IF(CV13>CV32,ATAN((CW13-CW32)/(CV13-CV32)),ATAN((CW13-CW32)/(CV32-CV13)))","v":{"$error":"#DIV/0!"}},{"$f":"IF(CV13>CV32,(CV13-CV32)/COS(CX32),(CV32-CV13)/COS(CX32))","v":{"$error":"#DIV/0!"}},null,1,2,"نقطه 14","نقطه قبل از چرخش",{"$f":"IF(DB32>DB18,IF(DA32>DA18,DA18+SQRT(POWER(DA32-DA18,2)+POWER(DB32-DB18,2))*COS(ATAN((DB32-DB18)/(DA32-DA18+0.000123))+DB16),DA18-SQRT(POWER(DA32-DA18,2)+POWER(DB32-DB18,2))*COS(ATAN((DB32-DB18)/(DA18-DA32+0.000123))-DB16)),IF(DA32>DA18,DA18+SQRT(POWER(DA32-DA18,2)+POWER(DB32-DB18,2))*COS(ATAN((DB18-DB32)/(DA32-DA18+0.000123))-DB16),DA18-SQRT(POWER(DA32-DA18,2)+POWER(DB32-DB18,2))*COS(ATAN((DB18-DB32)/(DA18-DA32+0.000123))+DB16)))","v":0.61824523267144293},{"$f":"IF(DB32>DB18,IF(DA32>DA18,DB18+SQRT(POWER(DA32-DA18,2)+POWER(DB32-DB18,2))*SIN(ATAN((DB32-DB18)/(DA32-DA18+0.000123))+DB16),DB18+SQRT(POWER(DA32-DA18,2)+POWER(DB32-DB18,2))*SIN(ATAN((DB32-DB18)/(DA18-DA32+0.000123))-DB16)),IF(DA32>DA18,DB18-SQRT(POWER(DA32-DA18,2)+POWER(DB32-DB18,2))*SIN(ATAN((DB18-DB32)/(DA32-DA18+0.000123))-DB16),DB18-SQRT(POWER(DA32-DA18,2)+POWER(DB32-DB18,2))*SIN(ATAN((DB18-DB32)/(DA18-DA32+0.000123))+DB16)))","v":0.69874634779839551},"نقطه چرخیده",null,"نقطه ورودی بالا","s'u3",{"$f":"#REF!","v":{"$error":"#REF!"}},{"$f":"#REF!","v":{"$error":"#REF!"}},null,null,{"$f":"DO31+DN11","v":-58},-1.0122909661567112,{"$f":"DV13+DV10*COS(DP32)","v":{"$error":"#REF!"}},{"$f":"DW13-DV10*SIN(DP32)","v":{"$error":"#REF!"}},{"$f":"SQRT(POWER((DV12-DQ32),2)+POWER((DW12-DR32),2))","v":{"$error":"#REF!"}},{"$f":"ABS(DV9-DS32)","v":{"$error":"#REF!"}},null,"نقطه تقاطع","f10",{"$f":"(DY30-DY28+DX28*((DY29-DY28)/(DX29-DX28+0.0001))-DX30*((DY31-DY30)/(DX31-DX30+0.0001)))/(((DY29-DY28)/(DX29-DX28+0.0001))-((DY31-DY30)/(DX31-DX30+0.0001)))","v":{"$error":"#REF!"}},{"$f":"DY28+(DX32-DX28)*((DY29-DY28)/(DX29-DX28+0.0001))","v":{"$error":"#REF!"}},null,null,null,null,null,null,null,null,null,{"$f":"-EE32+EJ9","v":0},0]
[null,null,null,null,null,{"$f":"F11","v":0},{"$f":"G20+'طراحی همه الگوها'!U177+G12","v":92.9},"j1",null,{"$f":"F41","v":2},{"$f":"G41","v":44.5},"j10",null,null,null,null,null,null,null,null,null,null,null,null,{"$f":"Y13","v":0},{"$f":"Z13","v":99.8},1,null,null,null,null,null,"s18",{"$f":"AH32+0.5*(AH29-AH32)","v":2.3598000000000003},{"$f":"AI32-0.3*(AI32-AI29)","v":85.250800000000012},null,null,null,null,null,null,null,null,null,{"$f":"AS31","v":26.800967064667496},{"$f":"AT31","v":41.494270760201054},"s'11",null,"j4",{"$f":"IF('متغیرها '!C17<1,'متغیرها '!C17*'متغیرها '!U59,IF('متغیرها '!C17<2,'متغیرها '!U59+('متغیرها '!C17-1)*('متغیرها '!U60-'متغیرها '!U59),IF('متغیرها '!C17<3,'متغیرها '!U60+('متغیرها '!C17-2)*(I105-'متغیرها '!U60),I105+('متغیرها '!C17-3)*(H127-H126))))","v":0},"چادر 3",null,null,null,null,null,null,null,null,null,7,{"$f":"BJ31+BI26*COS(RADIANS('متغیرها '!C26))","v":11.890406743282018},{"$f":"BK31+BI26*SIN(RADIANS('متغیرها '!C26))","v":0.36635169370060683},null,null,{"$f":"BN28+'طراحی همه الگوها'!U242","v":30},{"$f":"BO28","v":31.174999999999997},16,null,{"$f":"BJ37","v":34.860364312496799},{"$f":"BK37","v":43.614657351297645},11,null,null,null,null,null,{"$f":"BZ13","v":0},{"$f":"CA32+'طراحی همه الگوها'!U259","v":126},14,null,{"$f":"CD18","v":13.5},{"$f":"CA31","v":57.4},23,null,"s'3",{"$f":"CI22+0.5*(CI12-CI22)","v":3.8745077783306954},{"$f":"CJ22+0.6*(CJ12-CJ22)","v":58.575866381244211},null,25.2,0,"s13",null,null,null,null,null,null,36,{"$f":"CV12+CY12*SIN(RADIANS(CU33)+CU14)","v":{"$error":"#DIV/0!"}},{"$f":"CW12+CY12*COS(RADIANS(CU33)+CU14)","v":{"$error":"#DIV/0!"}},{"$f":"IF(CV13>CV33,ATAN((CW13-CW33)/(CV13-CV33)),ATAN((CW13-CW33)/(CV33-CV13)))","v":{"$error":"#DIV/0!"}},{"$f":"IF(CV13>CV33,(CV13-CV33)/COS(CX33),(CV33-CV13)/COS(CX33))","v":{"$error":"#DIV/0!"}},null,1,2,"نقطه 15","نقطه قبل از چرخش",{"$f":"IF(DB33>DB18,IF(DA33>DA18,DA18+SQRT(POWER(DA33-DA18,2)+POWER(DB33-DB18,2))*COS(ATAN((DB33-DB18)/(DA33-DA18+0.000123))+DB16),DA18-SQRT(POWER(DA33-DA18,2)+POWER(DB33-DB18,2))*COS(ATAN((DB33-DB18)/(DA18-DA33+0.000123))-DB16)),IF(DA33>DA18,DA18+SQRT(POWER(DA33-DA18,2)+POWER(DB33-DB18,2))*COS(ATAN((DB18-DB33)/(DA33-DA18+0.000123))-DB16),DA18-SQRT(POWER(DA33-DA18,2)+POWER(DB33-DB18,2))*COS(ATAN((DB18-DB33)/(DA18-DA33+0.000123))+DB16)))","v":0.61824523267144293},{"$f":"IF(DB33>DB18,IF(DA33>DA18,DB18+SQRT(POWER(DA33-DA18,2)+POWER(DB33-DB18,2))*SIN(ATAN((DB33-DB18)/(DA33-DA18+0.000123))+DB16),DB18+SQRT(POWER(DA33-DA18,2)+POWER(DB33-DB18,2))*SIN(ATAN((DB33-DB18)/(DA18-DA33+0.000123))-DB16)),IF(DA33>DA18,DB18-SQRT(POWER(DA33-DA18,2)+POWER(DB33-DB18,2))*SIN(ATAN((DB18-DB33)/(DA33-DA18+0.000123))-DB16),DB18-SQRT(POWER(DA33-DA18,2)+POWER(DB33-DB18,2))*SIN(ATAN((DB18-DB33)/(DA18-DA33+0.000123))+DB16)))","v":0.69874634779839551},"نقطه چرخیده",null,"نقطه ورودی پایین","s'd3",{"$f":"#REF!","v":{"$error":"#REF!"}},{"$f":"#REF!","v":{"$error":"#REF!"}},null,null,{"$f":"DO32+DN11","v":-56},-0.97738438111682457,{"$f":"DV13+DV10*COS(DP33)","v":{"$error":"#REF!"}},{"$f":"DW13-DV10*SIN(DP33)","v":{"$error":"#REF!"}},{"$f":"SQRT(POWER((DV12-DQ33),2)+POWER((DW12-DR33),2))","v":{"$error":"#REF!"}},{"$f":"ABS(DV9-DS33)","v":{"$error":"#REF!"}},null,null,null,null,null,null,null,null,null,null,null,null,null,null,{"$f":"-EE33+EJ9","v":0},0]
[null,null,null,null,null,{"$f":"F33","v":0},{"$f":"G33-'طراحی همه الگوها'!U177","v":48.000000000000007},"j2",null,null,null,null,null,null,null,null,null,null,null,null,null,"محاسبات",null,null,{"$f":"Y13","v":0},{"$f":"Z13-'طراحی همه الگوها'!U205","v":94.899999999999991},21,null,null,null,null,null,"s19",{"$f":"AH16+'متغیرها '!C13*'متغیرها '!U83*COS(AH15)","v":40.536037710310787},{"$f":"AI16-'متغیرها '!C13*'متغیرها '!U83*SIN(AH15)","v":59.497916706351667},null,{"$f":"AH25","v":26.774026302472762},{"$f":"AI25","v":64.373062038599315},"s10",null,null,null,null,null,{"$f":"AP18","v":22.947235107200811},{"$f":"AQ18","v":44.216631867769266},"s'12",null,"(1 → 5)",{"$f":"W36-'متغیرها '!C19*'متغیرها '!U83","v":54.810987869152406},null,{"$f":"AX30","v":120},{"$f":"AX31","v":95.8},17,null,{"$f":"AZ18","v":110},{"$f":"BA18","v":105.8},10,null,null,8,{"$f":"BJ35+BL41*SIN(RADIANS('متغیرها '!C30))","v":40.015246509214535},{"$f":"BK35-BL41*COS(RADIANS('متغیرها '!C30))","v":4.3280942735886683},null,null,{"$f":"BN28+'طراحی همه الگوها'!U242+'طراحی همه الگوها'!U243","v":33},{"$f":"BO28","v":31.174999999999997},17,null,{"$f":"BJ35","v":22.531320922007076},{"$f":"BK35","v":52.364785027866077},9,null,null,null,null,null,{"$f":"BZ13+'طراحی همه الگوها'!U263","v":67.8},{"$f":"CA33","v":126},15,null,{"$f":"CD18","v":13.5},{"$f":"CE18","v":64.599999999999994},24,null,null,null,null,null,null,null,null,null,null,null,null,null,null,38,{"$f":"CV12+CY12*SIN(RADIANS(CU34)+CU14)","v":{"$error":"#DIV/0!"}},{"$f":"CW12+CY12*COS(RADIANS(CU34)+CU14)","v":{"$error":"#DIV/0!"}},{"$f":"IF(CV13>CV34,ATAN((CW13-CW34)/(CV13-CV34)),ATAN((CW13-CW34)/(CV34-CV13)))","v":{"$error":"#DIV/0!"}},{"$f":"IF(CV13>CV34,(CV13-CV34)/COS(CX34),(CV34-CV13)/COS(CX34))","v":{"$error":"#DIV/0!"}},null,1,2,"نقطه 16","نقطه قبل از چرخش",{"$f":"IF(DB34>DB18,IF(DA34>DA18,DA18+SQRT(POWER(DA34-DA18,2)+POWER(DB34-DB18,2))*COS(ATAN((DB34-DB18)/(DA34-DA18+0.000123))+DB16),DA18-SQRT(POWER(DA34-DA18,2)+POWER(DB34-DB18,2))*COS(ATAN((DB34-DB18)/(DA18-DA34+0.000123))-DB16)),IF(DA34>DA18,DA18+SQRT(POWER(DA34-DA18,2)+POWER(DB34-DB18,2))*COS(ATAN((DB18-DB34)/(DA34-DA18+0.000123))-DB16),DA18-SQRT(POWER(DA34-DA18,2)+POWER(DB34-DB18,2))*COS(ATAN((DB18-DB34)/(DA18-DA34+0.000123))+DB16)))","v":0.61824523267144293},{"$f":"IF(DB34>DB18,IF(DA34>DA18,DB18+SQRT(POWER(DA34-DA18,2)+POWER(DB34-DB18,2))*SIN(ATAN((DB34-DB18)/(DA34-DA18+0.000123))+DB16),DB18+SQRT(POWER(DA34-DA18,2)+POWER(DB34-DB18,2))*SIN(ATAN((DB34-DB18)/(DA18-DA34+0.000123))-DB16)),IF(DA34>DA18,DB18-SQRT(POWER(DA34-DA18,2)+POWER(DB34-DB18,2))*SIN(ATAN((DB18-DB34)/(DA34-DA18+0.000123))-DB16),DB18-SQRT(POWER(DA34-DA18,2)+POWER(DB34-DB18,2))*SIN(ATAN((DB18-DB34)/(DA18-DA34+0.000123))+DB16)))","v":0.69874634779839551},"نقطه چرخیده",null,"متغیر ورودی پهنا","a20",{"$f":"#REF!","v":{"$error":"#REF!"}},"(سانتیمتر)",null,null,{"$f":"DO33+DN11","v":-54},-0.94247779607693793,{"$f":"DV13+DV10*COS(DP34)","v":{"$error":"#REF!"}},{"$f":"DW13-DV10*SIN(DP34)","v":{"$error":"#REF!"}},{"$f":"SQRT(POWER((DV12-DQ34),2)+POWER((DW12-DR34),2))","v":{"$error":"#REF!"}},{"$f":"ABS(DV9-DS34)","v":{"$error":"#REF!"}},null,null,null,null,"قرینه نقطه نسبت به خط با داشتن دو نقطه از یک خط",null,null,null,null,null,null,null,null,null,{"$f":"-EE34+EJ9","v":0},0]
[null,null,null,null,null,{"$f":"F33+'طراحی همه الگوها'!U178","v":10.3},{"$f":"G33","v":92.9},"j3",null,{"$f":"F41","v":2},{"$f":"G41","v":44.5},"j10",null,null,null,null,null,null,null,null,null,"مولفه افقی نقطه 1",{"$f":"0","v":0},null,{"$f":"Y14","v":12.7},{"$f":"Z14-'طراحی همه الگوها'!U206","v":96.399999999999991},22,null,null,null,null,null,"s20",{"$f":"AH25-0.25*'متغیرها '!U84*SIN(AH15)","v":25.772284110915027},{"$f":"AI25-0.25*'متغیرها '!U84*COS(AH15)","v":61.545251475344926},null,{"$f":"AH34","v":40.536037710310787},{"$f":"AI34","v":59.497916706351667},"s19",null,null,null,null,null,null,null,null,null,"زاویه مچ",15,null,{"$f":"AX30+'طراحی همه الگوها'!U224","v":124.7},{"$f":"AX31","v":95.8},18,null,{"$f":"BD13","v":101.3},{"$f":"BE13","v":105.8},13,null,{"$f":"BH37-BL45*SIN(BL46-RADIANS(45)+BL42)","v":15.947067234819098},9,{"$f":"BJ37-BL40*SIN(BL46-RADIANS(45)+BL42)","v":22.531320922007076},{"$f":"BK37+BL40*COS(BL46-RADIANS(45)+BL42)","v":52.364785027866077},{"$f":"BL37+BL45*COS(BL46-RADIANS(45)+BL42)","v":54.869633282530501},null,null,null,null,null,null,null,null,null,null,null,null,null,null,null,null,null,null,null,null,null,null,null,null,null,{"$f":"CI18","v":28.851576730108484},{"$f":"CJ18","v":52.313004512355228},"s''10",null,null,null,null,null,null,40,{"$f":"CV12+CY12*SIN(RADIANS(CU35)+CU14)","v":{"$error":"#DIV/0!"}},{"$f":"CW12+CY12*COS(RADIANS(CU35)+CU14)","v":{"$error":"#DIV/0!"}},{"$f":"IF(CV13>CV35,ATAN((CW13-CW35)/(CV13-CV35)),ATAN((CW13-CW35)/(CV35-CV13)))","v":{"$error":"#DIV/0!"}},{"$f":"IF(CV13>CV35,(CV13-CV35)/COS(CX35),(CV35-CV13)/COS(CX35))","v":{"$error":"#DIV/0!"}},null,null,null,null,null,null,null,null,null,"متغیر ورودی طول","a21",1,null,null,null,{"$f":"DO34+DN11","v":-52},-0.90757121103705141,{"$f":"DV13+DV10*COS(DP35)","v":{"$error":"#REF!"}},{"$f":"DW13-DV10*SIN(DP35)","v":{"$error":"#REF!"}},{"$f":"SQRT(POWER((DV12-DQ35),2)+POWER((DW12-DR35),2))","v":{"$error":"#REF!"}},{"$f":"ABS(DV9-DS35)","v":{"$error":"#REF!"}},null,"مولفه افقی","مولفه عمودی","اسم نقطه ورودی",null,null,null,null,null,null,null,null,null,null,{"$f":"-EE35+EJ9","v":0},0]
[null,null,null,null,null,{"$f":"'طراحی همه الگوها'!U178+'طراحی همه الگوها'!U177+F33","v":55.2},{"$f":"G33","v":92.9},"j5",null,{"$f":"F40","v":0},{"$f":"G40","v":44.5},"j9",null,null,null,null,null,null,null,null,null,"نوک سر تا مچ دست شبیه ساز  a3",{"$f":"1.03*(SQRT(POWER(0.5*H168,2)+POWER((0.47*'متغیرها '!U85+H167*SIN('متغیرها '!B245)),2)))+'متغیرها '!U83","v":59.460987869152405},null,null,null,null,null,null,null,null,null,null,null,null,null,null,null,null,null,null,null,null,null,{"$f":"AS34","v":22.947235107200811},{"$f":"AT34","v":44.216631867769266},"s'12",null," شبیه سازαk1",{"$f":"F423","v":1.3985240580249911},null,{"$f":"AX30+'طراحی همه الگوها'!U224","v":124.7},{"$f":"AX31-'طراحی همه الگوها'!U226","v":86.7},20,null,null,null,null,null,{"$f":"BJ29+W36*COS(RADIANS(45))","v":42.045267738328711},10,{"$f":"BJ29+'طراحی همه الگوها'!U236*COS(RADIANS(45))","v":42.072853480599584},{"$f":"BK29-'طراحی همه الگوها'!U236*SIN(RADIANS(45))","v":50.827146519400429},{"$f":"BK29-W36*SIN(RADIANS(45))","v":50.854732261671302},null,{"$f":"BJ36","v":42.072853480599584},{"$f":"BK36","v":50.827146519400429},10,null,{"$f":"BJ35","v":22.531320922007076},{"$f":"BK35","v":52.364785027866077},9,null,null,null,null,null,{"$f":"BZ31+'طراحی همه الگوها'!U260","v":33.799999999999997},{"$f":"CA31","v":57.4},16,null,{"$f":"CD19","v":27},{"$f":"CA31","v":57.4},25,null,null,null,null,null,{"$f":"CI19","v":33.235638773465077},{"$f":"CJ19","v":47.928942468998635},"k4 شبیه ساز",null,null,null,null,null,null,42,{"$f":"CV12+CY12*SIN(RADIANS(CU36)+CU14)","v":{"$error":"#DIV/0!"}},{"$f":"CW12+CY12*COS(RADIANS(CU36)+CU14)","v":{"$error":"#DIV/0!"}},{"$f":"IF(CV13>CV36,ATAN((CW13-CW36)/(CV13-CV36)),ATAN((CW13-CW36)/(CV36-CV13)))","v":{"$error":"#DIV/0!"}},{"$f":"IF(CV13>CV36,(CV13-CV36)/COS(CX36),(CV36-CV13)/COS(CX36))","v":{"$error":"#DIV/0!"}},null,null,null,null,null,null,null,null,null,null,null,"ماکزیمم متغیر ورودی  ضریب طول",1,null,null,{"$f":"DO35+DN11","v":-50},-0.87266462599716477,{"$f":"DV13+DV10*COS(DP36)","v":{"$error":"#REF!"}},{"$f":"DW13-DV10*SIN(DP36)","v":{"$error":"#REF!"}},{"$f":"SQRT(POWER((DV12-DQ36),2)+POWER((DW12-DR36),2))","v":{"$error":"#REF!"}},{"$f":"ABS(DV9-DS36)","v":{"$error":"#REF!"}},null,0,0,1,"نقطه اول خط تقارن","نقاط قرینه شده نسبت به خط تقارن",null,null,null,null,null,null,null,null,{"$f":"-EE36+EJ9","v":0},0]
[null,null,null,null,null,{"$f":"'طراحی همه الگوها'!U179+F33","v":4.9000000000000004},{"$f":"G33","v":92.9},"j6",null,null,null,null,null,null,null,null,null,null,null,null,null,null,null,null,null,null,null,null,null,null,null,null,"محاسبات طراحی چادر 2",null,null,null,{"$f":"AK35","v":40.536037710310787},{"$f":"AL35","v":59.497916706351667},"s19",null,null,null,null,null,{"$f":"AP16","v":29.947592240947632},{"$f":"AQ16","v":51.216989001516083},"s'10",null,"(k4 →k5)شبیه ساز",{"$f":"F425","v":6.0905592831442119},null,{"$f":"AX30","v":120},{"$f":"AX31-'طراحی همه الگوها'!U225","v":85.899999999999991},19,null,{"$f":"AZ35","v":124.7},{"$f":"BA35","v":95.8},18,null,{"$f":"BH36-'متغیرها '!U84*COS(RADIANS(45))","v":33.559986364090136},11,{"$f":"BJ36-'طراحی همه الگوها'!U237*COS(RADIANS(45))","v":34.860364312496799},{"$f":"BK36-'طراحی همه الگوها'!U237*SIN(RADIANS(45))","v":43.614657351297645},{"$f":"BL36-'متغیرها '!U84*SIN(RADIANS(45))","v":42.369450887432734},null,null,null,null,null,{"$f":"BJ34","v":40.015246509214535},{"$f":"BK34","v":4.3280942735886683},8,null,null,null,null,null,{"$f":"BZ36","v":33.799999999999997},{"$f":"CA31+'طراحی همه الگوها'!U261","v":69.099999999999994},17,null,{"$f":"CD19","v":27},{"$f":"CE19","v":66.900000000000006},26,null,null,null,null,null,null,null,null,null,null,null,null,null,null,44,{"$f":"CV12+CY12*SIN(RADIANS(CU37)+CU14)","v":{"$error":"#DIV/0!"}},{"$f":"CW12+CY12*COS(RADIANS(CU37)+CU14)","v":{"$error":"#DIV/0!"}},{"$f":"IF(CV13>CV37,ATAN((CW13-CW37)/(CV13-CV37)),ATAN((CW13-CW37)/(CV37-CV13)))","v":{"$error":"#DIV/0!"}},{"$f":"IF(CV13>CV37,(CV13-CV37)/COS(CX37),(CV37-CV13)/COS(CX37))","v":{"$error":"#DIV/0!"}},null,null,null,null,null,null,null,null,null,"m1",{"$f":"ATAN((-DK33+DK32)/(DL32-DL33))","v":{"$error":"#REF!"}},"m2",{"$f":"SQRT(POWER(DK32-DK33,2)+POWER(DL32-DL33,2))","v":{"$error":"#REF!"}},null,null,{"$f":"DO36+DN11","v":-48},-0.83775804095727824,{"$f":"DV13+DV10*COS(DP37)","v":{"$error":"#REF!"}},{"$f":"DW13-DV10*SIN(DP37)","v":{"$error":"#REF!"}},{"$f":"SQRT(POWER((DV12-DQ37),2)+POWER((DW12-DR37),2))","v":{"$error":"#REF!"}},{"$f":"ABS(DV9-DS37)","v":{"$error":"#REF!"}},null,{"$f":"DZ29","v":0},{"$f":"EA29","v":0},2,"نقطه دوم خط تقارن","مولفه افقی","مولفه عمودی","اسم نقطه ",null,null,null,null,null,null,{"$f":"-EE37+EJ9","v":0},0]
[null,null,null,null,null,{"$f":"F33","v":0},{"$f":"G39","v":79.2},"j7",null,{"$f":"F40","v":0},{"$f":"G40","v":44.5},"j9",null,null,null,null,null,null,null,null,null,null,null,null,null,null,null,null,null,null,null,null,"αs2",{"$f":"ATAN((AI11-AI12)/(AH12-AH11))","v":1.2780745908627997},null,null,{"$f":"AH27","v":37.063331446243964},{"$f":"AI27","v":49.694840087069785},"s11",null,null,null,null,null,null,null,null,null,"زاویه خم بودن دست",{"$f":"K390","v":25.493483741205306},null,{"$f":"AX30","v":120},{"$f":"AX31","v":95.8},17,null,null,null,null,null,null,null,null,null,null,null,null,null,null,null,null,null,null,null,null,null,null,null,null,null,null,null,null,null,null,null,null,null,null,null,{"$f":"CI27","v":25.2},{"$f":"CJ27","v":0},"s13",null,null,null,null,null,null,46,{"$f":"CV12+CY12*SIN(RADIANS(CU38)+CU14)","v":{"$error":"#DIV/0!"}},{"$f":"CW12+CY12*COS(RADIANS(CU38)+CU14)","v":{"$error":"#DIV/0!"}},{"$f":"IF(CV13>CV38,ATAN((CW13-CW38)/(CV13-CV38)),ATAN((CW13-CW38)/(CV38-CV13)))","v":{"$error":"#DIV/0!"}},{"$f":"IF(CV13>CV38,(CV13-CV38)/COS(CX38),(CV38-CV13)/COS(CX38))","v":{"$error":"#DIV/0!"}},null,null,null,null,null,null,null,null,null,"نقطه خروجی بالا","s'u9",{"$f":"DK32-DK34*COS(DJ37)","v":{"$error":"#REF!"}},{"$f":"DL32+DK34*SIN(DJ37)","v":{"$error":"#REF!"}},null,null,{"$f":"DO37+DN11","v":-46},-0.8028514559173916,{"$f":"DV13+DV10*COS(DP38)","v":{"$error":"#REF!"}},{"$f":"DW13-DV10*SIN(DP38)","v":{"$error":"#REF!"}},{"$f":"SQRT(POWER((DV12-DQ38),2)+POWER((DW12-DR38),2))","v":{"$error":"#REF!"}},{"$f":"ABS(DV9-DS38)","v":{"$error":"#REF!"}},null,0,0,3,null,{"$f":"DV38+2*(SIN(ATAN((DV37-DV36)/(DW37-DW36)))*(DW38-DW36)+COS(ATAN((DV37-DV36)/(DW37-DW36)))*(DV36-DV38))*COS(ATAN((DV37-DV36)/(DW37-DW36)))","v":{"$error":"#DIV/0!"}},{"$f":"DW38-2*(SIN(ATAN((DV37-DV36)/(DW37-DW36)))*(DW38-DW36)+COS(ATAN((DV37-DV36)/(DW37-DW36)))*(DV36-DV38))*SIN(ATAN((DV37-DV36)/(DW37-DW36)))","v":{"$error":"#DIV/0!"}},{"$f":"DX38","v":3},null,null,null,null,null,null,{"$f":"-EE38+EJ9","v":0},0]
[null,null,null,null,null,{"$f":"'طراحی همه الگوها'!U181+F33","v":2},{"$f":"G33-'طراحی همه الگوها'!U180","v":79.2},"j8",null,{"$f":"F38","v":0},{"$f":"G38","v":79.2},"j7",null,null,null,null,null,null,null,null,null,null,null,null,null,null,null,null,null,null,null,null,"(s2 →s3)",{"$f":"SQRT(POWER((AH12-AH11),2)+POWER((AI11-AI12),2))","v":4.9067219377502882},null,null,null,null,null,null,null,null,null,null,{"$f":"AP21","v":48.550000000000011},{"$f":"AQ21","v":0},"s'13",null,"دست خمیده شبیه ساز k4",{"$f":"K384","v":33.235638773465077},{"$f":"L384","v":47.928942468998635},null,null,null,null,null,null,null,null,null,null,null,"j4",{"$f":"IF('متغیرها '!C25<1,'متغیرها '!C25*'متغیرها '!U59,IF('متغیرها '!C25<2,'متغیرها '!U59+('متغیرها '!C25-1)*('متغیرها '!U60-'متغیرها '!U59),IF('متغیرها '!C25<3,'متغیرها '!U60+('متغیرها '!C25-2)*(I105-'متغیرها '!U60),I105+('متغیرها '!C25-3)*(H127-H126))))","v":0},null,null,null,null,null,{"$f":"BJ29","v":0},{"$f":"BK29","v":92.9},1,null,null,null,null,null,{"$f":"BZ13","v":0},{"$f":"CA33-BW43","v":115.71000000000001},"19'",null,{"$f":"CD13","v":64.8},{"$f":"CA33","v":126},27,null,null,null,null,null,{"$f":"CI30","v":0},{"$f":"CJ30","v":0},2,null,null,null,null,null,null,48,{"$f":"CV12+CY12*SIN(RADIANS(CU39)+CU14)","v":{"$error":"#DIV/0!"}},{"$f":"CW12+CY12*COS(RADIANS(CU39)+CU14)","v":{"$error":"#DIV/0!"}},{"$f":"IF(CV13>CV39,ATAN((CW13-CW39)/(CV13-CV39)),ATAN((CW13-CW39)/(CV39-CV13)))","v":{"$error":"#DIV/0!"}},{"$f":"IF(CV13>CV39,(CV13-CV39)/COS(CX39),(CV39-CV13)/COS(CX39))","v":{"$error":"#DIV/0!"}},null,null,null,null,null,null,null,null,null,"نقطه خروجی پایین","s'd8",{"$f":"DK40-DK34*COS(DJ37)","v":{"$error":"#REF!"}},{"$f":"DL40+DK34*SIN(DJ37)","v":{"$error":"#REF!"}},null,null,{"$f":"DO38+DN11","v":-44},{"$f":"RADIANS(DO39)","v":-0.76794487087750496},{"$f":"DV13+DV10*COS(DP39)","v":{"$error":"#REF!"}},{"$f":"DW13-DV10*SIN(DP39)","v":{"$error":"#REF!"}},{"$f":"SQRT(POWER((DV12-DQ39),2)+POWER((DW12-DR39),2))","v":{"$error":"#REF!"}},{"$f":"ABS(DV9-DS39)","v":{"$error":"#REF!"}},null,0,0,4,null,{"$f":"DV39+2*(SIN(ATAN((DV37-DV36)/(DW37-DW36)))*(DW39-DW36)+COS(ATAN((DV37-DV36)/(DW37-DW36)))*(DV36-DV39))*COS(ATAN((DV37-DV36)/(DW37-DW36)))","v":{"$error":"#DIV/0!"}},{"$f":"DW39-2*(SIN(ATAN((DV37-DV36)/(DW37-DW36)))*(DW39-DW36)+COS(ATAN((DV37-DV36)/(DW37-DW36)))*(DV36-DV39))*SIN(ATAN((DV37-DV36)/(DW37-DW36)))","v":{"$error":"#DIV/0!"}},{"$f":"DX39","v":4},null,null,null,null,null,null,{"$f":"-EE39+EJ9","v":0},0]
[null,null,null,null,null,{"$f":"F33","v":0},{"$f":"G41","v":44.5},"j9",null,null,null,"انحنا",null,null,null,null,null,null,null,null,null,null,null,null,null,null,null,null,null,null,null,null,"(s2 →s14)",{"$f":"AH39*2*('متغیرها '!C10-0.5)","v":4.9067219377502882},null,null,{"$f":"AK38","v":37.063331446243964},{"$f":"AL38","v":49.694840087069785},"s11",null,null,null,null,null,{"$f":"AP28","v":0},{"$f":"AQ28","v":0},"2'",null,null,null,null,null,null,null,null,null,null,null,null,null,null,null,"(9→11)",{"$f":"'متغیرها '!C29*BL45+'متغیرها '!C27*'متغیرها '!U83","v":15.11853317226335},null,null,null,null,null,{"$f":"BJ30","v":-5.4},{"$f":"BK30","v":-10.299999999999997},3,null,null,null,null,null,null,null,null,null,{"$f":"CD13","v":64.8},{"$f":"CE13","v":91.699999999999989},28,null,null,null,null,null,null,null,null,null,null,null,null,null,null,50,{"$f":"CV12+CY12*SIN(RADIANS(CU40)+CU14)","v":{"$error":"#DIV/0!"}},{"$f":"CW12+CY12*COS(RADIANS(CU40)+CU14)","v":{"$error":"#DIV/0!"}},{"$f":"IF(CV13>CV40,ATAN((CW13-CW40)/(CV13-CV40)),ATAN((CW13-CW40)/(CV40-CV13)))","v":{"$error":"#DIV/0!"}},{"$f":"IF(CV13>CV40,(CV13-CV40)/COS(CX40),(CV40-CV13)/COS(CX40))","v":{"$error":"#DIV/0!"}},null,null,null,null,null,null,null,null,null,"نقطه خروجی میانه",null,{"$f":"DK32-DK35*DL37*SIN(DJ37)/DL36","v":{"$error":"#REF!"}},{"$f":"DL32-DK35*DL37*COS(DJ37)/DL36","v":{"$error":"#REF!"}},null,null,{"$f":"DO39+DN11","v":-42},-0.73303828583761843,{"$f":"DV13+DV10*COS(DP40)","v":{"$error":"#REF!"}},{"$f":"DW13-DV10*SIN(DP40)","v":{"$error":"#REF!"}},{"$f":"SQRT(POWER((DV12-DQ40),2)+POWER((DW12-DR40),2))","v":{"$error":"#REF!"}},{"$f":"ABS(DV9-DS40)","v":{"$error":"#REF!"}},null,{"$f":"DZ30","v":0},{"$f":"EA30","v":0},5,null,{"$f":"DV40+2*(SIN(ATAN((DV37-DV36)/(DW37-DW36)))*(DW40-DW36)+COS(ATAN((DV37-DV36)/(DW37-DW36)))*(DV36-DV40))*COS(ATAN((DV37-DV36)/(DW37-DW36)))","v":{"$error":"#DIV/0!"}},{"$f":"DW40-2*(SIN(ATAN((DV37-DV36)/(DW37-DW36)))*(DW40-DW36)+COS(ATAN((DV37-DV36)/(DW37-DW36)))*(DV36-DV40))*SIN(ATAN((DV37-DV36)/(DW37-DW36)))","v":{"$error":"#DIV/0!"}},{"$f":"DX40","v":5},null,null,null,null,null,null,{"$f":"-EE40+EJ9","v":0},0]
[null,null,null,null,null,{"$f":"F39","v":2},{"$f":"G38-'طراحی همه الگوها'!U182","v":44.5},"j10",null,{"$f":"F36","v":55.2},{"$f":"G36","v":92.9},"j5",null,null,null,null,null,null,null,null,null,null,null,null,null,null,null,null,null,null,null,null,"شیفت افقی کل ",{"$f":"'متغیرها '!C51","v":0},null,null,{"$f":"AH26","v":22.466534878774496},{"$f":"AI26","v":52.21347661660544},"s12",null,null,null,null,null,null,null,null,null,null,null,null,null,null,null,null,null,null,null,null,null,null,null,"(8→9)",{"$f":"BL37+'متغیرها '!C29*BL45*COS(BL46-RADIANS(45)+BL42)-BK31","v":51.119578564001174},null,null,null,null,null,null,null,null,null,null,null,null,null,null,null,null,null,null,null,null,null,null,null,null,null,{"$f":"CL39","v":0},{"$f":"CM39","v":0},2,null,null,null,null,null,null,52,{"$f":"CV12+CY12*SIN(RADIANS(CU41)+CU14)","v":{"$error":"#DIV/0!"}},{"$f":"CW12+CY12*COS(RADIANS(CU41)+CU14)","v":{"$error":"#DIV/0!"}},{"$f":"IF(CV13>CV41,ATAN((CW13-CW41)/(CV13-CV41)),ATAN((CW13-CW41)/(CV41-CV13)))","v":{"$error":"#DIV/0!"}},{"$f":"IF(CV13>CV41,(CV13-CV41)/COS(CX41),(CV41-CV13)/COS(CX41))","v":{"$error":"#DIV/0!"}},null,null,null,null,null,null,null,null,null,null,null,null,null,null,null,{"$f":"DO40+DN11","v":-40},-0.69813170079773179,{"$f":"DV13+DV10*COS(DP41)","v":{"$error":"#REF!"}},{"$f":"DW13-DV10*SIN(DP41)","v":{"$error":"#REF!"}},{"$f":"SQRT(POWER((DV12-DQ41),2)+POWER((DW12-DR41),2))","v":{"$error":"#REF!"}},{"$f":"ABS(DV9-DS41)","v":{"$error":"#REF!"}},null,null,null,null,null,null,null,null,null,null,null,null,null,null,{"$f":"-EE41+EJ9","v":0},0]
[null,null,null,null,null,{"$f":"F35+'طراحی همه الگوها'!U183","v":19.100000000000001},{"$f":"G33","v":92.9},"j11",null,{"$f":"F45","v":53.853000000000009},83.022000000000006,"j5'",null,null,null,null,null,null,null,null,null,null,null,null,null,null,null,null,null,null,null,null,"شیفت عمودی کل",{"$f":"'متغیرها '!C52","v":0},null,null,null,null,null,null,null,null,null,null,{"$f":"AS40","v":0},{"$f":"AT40","v":0},"2'",null,null,null,null,null,null,null,null,null,null,null,null,null,null,null,"α2",{"$f":"'متغیرها '!B245","v":0.34045293430977369},null,null,null,null,null,{"$f":"BN28","v":27},{"$f":"BO28","v":31.174999999999997},15,null,"j4",{"$f":"IF('متغیرها '!C37<1,'متغیرها '!C37*'متغیرها '!U59,IF('متغیرها '!C37<2,'متغیرها '!U59+('متغیرها '!C37-1)*('متغیرها '!U60-'متغیرها '!U59),IF('متغیرها '!C37<3,'متغیرها '!U60+('متغیرها '!C37-2)*(I105-'متغیرها '!U60),I105+('متغیرها '!C37-3)*(H127-H126))))","v":0},null,null,null,null,null,null,null,null,null,null,null,null,null,null,{"$f":"CI31","v":0},{"$f":"CJ31","v":48.343380736880853},"s''12",null,null,null,null,null,null,54,{"$f":"CV12+CY12*SIN(RADIANS(CU42)+CU14)","v":{"$error":"#DIV/0!"}},{"$f":"CW12+CY12*COS(RADIANS(CU42)+CU14)","v":{"$error":"#DIV/0!"}},{"$f":"IF(CV13>CV42,ATAN((CW13-CW42)/(CV13-CV42)),ATAN((CW13-CW42)/(CV42-CV13)))","v":{"$error":"#DIV/0!"}},{"$f":"IF(CV13>CV42,(CV13-CV42)/COS(CX42),(CV42-CV13)/COS(CX42))","v":{"$error":"#DIV/0!"}},null,null,null,null,null,null,null,null,null,null,null,null,null,null,null,{"$f":"DO41+DN11","v":-38},-0.66322511575784526,{"$f":"DV13+DV10*COS(DP42)","v":{"$error":"#REF!"}},{"$f":"DW13-DV10*SIN(DP42)","v":{"$error":"#REF!"}},{"$f":"SQRT(POWER((DV12-DQ42),2)+POWER((DW12-DR42),2))","v":{"$error":"#REF!"}},{"$f":"ABS(DV9-DS42)","v":{"$error":"#REF!"}},null,null,null,null,"یافتن راس سوم مثلث با داشتن دو راس و یک ضلع و یک زاویه",null,null,null,null,null,null,null,null,null,{"$f":"-EE42+EJ9","v":0},{"$f":"EF42","v":0}]
[null,null,null,null,null,{"$f":"F35","v":10.3},{"$f":"G33-'طراحی همه الگوها'!U184","v":85.5},"j12",null,48.465000000000003,70.45,"j5''",null,null,null,null,null,null,null,null,null,null,null,null,null,null,null,null,null,null,null,null,"j4",{"$f":"IF('متغیرها '!C9<1,'متغیرها '!C9*'متغیرها '!U59,IF('متغیرها '!C9<2,'متغیرها '!U59+('متغیرها '!C9-1)*('متغیرها '!U60-'متغیرها '!U59),IF('متغیرها '!C9<3,'متغیرها '!U60+('متغیرها '!C9-2)*(I105-'متغیرها '!U60),I105+('متغیرها '!C9-3)*(H127-H126))))","v":0},"چادر 2",null,{"$f":"AK41","v":22.466534878774496},{"$f":"AL41","v":52.21347661660544},"s12",null,null,null,null,null,{"$f":"AH13","v":0},{"$f":"AI13","v":58.3},"خط سینه",null,null,null,null,null,null,null,null,null,null,null,null,null,null,null,"شیفت افقی مرغک",{"$f":"'متغیرها '!C33*0.5*('متغیرها '!U72-'متغیرها '!U73)","v":27},null,null,null,null,null,{"$f":"BN32","v":30},{"$f":"BO32","v":40.274999999999999},18,null,"(14 →19')",{"$f":"AH45+0.1*'متغیرها '!C40","v":10.29},null,null,"رسم چادر شماره 5   برای پرینت",null,null,null,null,null,null,null,null,null,null,null,null,null,null,null,null,null,null,null,null,56,{"$f":"CV12+CY12*SIN(RADIANS(CU43)+CU14)","v":{"$error":"#DIV/0!"}},{"$f":"CW12+CY12*COS(RADIANS(CU43)+CU14)","v":{"$error":"#DIV/0!"}},{"$f":"IF(CV13>CV43,ATAN((CW13-CW43)/(CV13-CV43)),ATAN((CW13-CW43)/(CV43-CV13)))","v":{"$error":"#DIV/0!"}},{"$f":"IF(CV13>CV43,(CV13-CV43)/COS(CX43),(CV43-CV13)/COS(CX43))","v":{"$error":"#DIV/0!"}},null,null,null,null,null,null,null,null,null,null,null,null,null,null,null,{"$f":"DO42+DN11","v":-36},-0.62831853071795862,{"$f":"DV13+DV10*COS(DP43)","v":{"$error":"#REF!"}},{"$f":"DW13-DV10*SIN(DP43)","v":{"$error":"#REF!"}},{"$f":"SQRT(POWER((DV12-DQ43),2)+POWER((DW12-DR43),2))","v":{"$error":"#REF!"}},{"$f":"ABS(DV9-DS43)","v":{"$error":"#REF!"}},null,"اطلاعات  ورودی",null,null,null,null,null,null,null,null,null,null,null,null,{"$f":"-EE43+EJ9","v":0},0]
[null,null,null,null,null,{"$f":"F35","v":10.3},{"$f":"G34","v":48.000000000000007},"j13",null,37.24,58.327000000000005,"j5'''",null,null,null,null,null,null,null,null,null,null,null,null,null,null,null,null,null,null,null,null,"(j1 → j2)",{"$f":"ROUND(G19+0.1*'متغیرها '!U85-AH43,1)","v":92.9},null,null,{"$f":"AH25","v":26.774026302472762},{"$f":"AI25","v":64.373062038599315},"s10",null,null,null,null,null,null,null,null,null,null,null,null,null,null,null,null,null,null,null,null,null,null,null,"شیفت عمودی مرغک",{"$f":"IF('متغیرها '!C34<1,'متغیرها '!C34*'متغیرها '!U59,IF('متغیرها '!C34<2,'متغیرها '!U59+('متغیرها '!C34-1)*('متغیرها '!U60-'متغیرها '!U59),IF('متغیرها '!C34<3,'متغیرها '!U60+('متغیرها '!C34-2)*(I105-'متغیرها '!U60),I105+('متغیرها '!C34-3)*(H127-H126))))+'طراحی همه الگوها'!U245","v":31.174999999999997},null,null,null,null,null,null,null,null,null,"شیفت عمودی الگو دسته",7,null,null,null,"صاف","برای پرینت",null,null,"انحنا","برای پرینت",null,null,null,null,null,{"$f":"CL42","v":0},{"$f":"CM42","v":48.343380736880853},"s''12",null,null,null,null,null,null,58,{"$f":"CV12+CY12*SIN(RADIANS(CU44)+CU14)","v":{"$error":"#DIV/0!"}},{"$f":"CW12+CY12*COS(RADIANS(CU44)+CU14)","v":{"$error":"#DIV/0!"}},{"$f":"IF(CV13>CV44,ATAN((CW13-CW44)/(CV13-CV44)),ATAN((CW13-CW44)/(CV44-CV13)))","v":{"$error":"#DIV/0!"}},{"$f":"IF(CV13>CV44,(CV13-CV44)/COS(CX44),(CV44-CV13)/COS(CX44))","v":{"$error":"#DIV/0!"}},null,null,null,null,null,null,null,null,null,null,null,null,null,null,null,{"$f":"DO43+DN11","v":-34},-0.59341194567807209,{"$f":"DV13+DV10*COS(DP44)","v":{"$error":"#REF!"}},{"$f":"DW13-DV10*SIN(DP44)","v":{"$error":"#REF!"}},{"$f":"SQRT(POWER((DV12-DQ44),2)+POWER((DW12-DR44),2))","v":{"$error":"#REF!"}},{"$f":"ABS(DV9-DS44)","v":{"$error":"#REF!"}},null,"مولفه افقی","مولفه عمودی","اسم نقطه ",null,"محاسبات ",null,null,null,null,null,null,null,null,{"$f":"-EE44+EJ9","v":0},0]
[null,null,null,null,null,{"$f":"F44+0.97*(F36-F44)","v":53.853000000000009},{"$f":"G44+0.78*(G36-G44)","v":83.022000000000006},"j5'",null,21.525000000000002,49.796000000000006,"j5''''",null,null,null,null,null,null,null,null,null,null,null,null,null,null,null,null,null,null,null,null,"(j1 → j3)",{"$f":"0.21*G13","v":10.29},"بدون انتخاب",null,null,null,null,null,null,null,null,null,null,null,null,null,null,null,null,null,null,null,null,null,null,null,null,null,null,null,"شبیه ساز آستین(3→19)",{"$f":"BL516","v":21.597904531804787},null,null,null,null,null,{"$f":"BN34","v":33},{"$f":"BO34","v":31.174999999999997},17,null,"شیفت عمودی الگو دسته برای پرینت",{"$f":"-'متغیرها '!U56","v":-48},null,null,{"$f":"BZ13+'طراحی همه الگوها'!U260+'طراحی همه الگوها'!U262","v":55.8},{"$f":"CA25+BW45","v":2.3999999999999986},13,null,{"$f":"BZ45","v":55.8},{"$f":"CA45","v":2.3999999999999986},13,null,null,null,null,null,{"$f":"CI32","v":0},{"$f":"CJ32","v":50.743380736880852},"s'12",null,null,null,null,null,null,60,{"$f":"CV12+CY12*SIN(RADIANS(CU45)+CU14)","v":{"$error":"#DIV/0!"}},{"$f":"CW12+CY12*COS(RADIANS(CU45)+CU14)","v":{"$error":"#DIV/0!"}},{"$f":"IF(CV13>CV45,ATAN((CW13-CW45)/(CV13-CV45)),ATAN((CW13-CW45)/(CV45-CV13)))","v":{"$error":"#DIV/0!"}},{"$f":"IF(CV13>CV45,(CV13-CV45)/COS(CX45),(CV45-CV13)/COS(CX45))","v":{"$error":"#DIV/0!"}},null,null,null,null,null,null,null,null,null,null,null,null,null,null,null,{"$f":"DO44+DN11","v":-32},-0.55850536063818546,{"$f":"DV13+DV10*COS(DP45)","v":{"$error":"#REF!"}},{"$f":"DW13-DV10*SIN(DP45)","v":{"$error":"#REF!"}},{"$f":"SQRT(POWER((DV12-DQ45),2)+POWER((DW12-DR45),2))","v":{"$error":"#REF!"}},{"$f":"ABS(DV9-DS45)","v":{"$error":"#REF!"}},null,5,50,1,"راس بالا",{"$f":"SQRT(POWER(DV46-DV45,2)+POWER(DW45-DW46,2))","v":10.198039027185569},"m2",null,null,null,null,null,null,null,{"$f":"-EE45+EJ9","v":0},0]
[null,null,null,null,null,{"$f":"F44+0.85*(F36-F44)","v":48.465000000000003},{"$f":"G44+0.5*(G36-G44)","v":70.45},"j5''",null,{"$f":"F44","v":10.3},{"$f":"G44","v":48.000000000000007},"j13",null,null,null,null,null,null,null,null,null,null,null,null,null,null,null,null,null,null,null,null,null,null,null,null,{"$f":"AH28","v":38.549999999999997},{"$f":"AI28","v":0},"s13",null,null,null,null,null,null,null,null,null,null,null,null,null,null,null,null,null,null,null,null,null,null,null," شبیه سازαk1",{"$f":"F423","v":1.3985240580249911},null,null,null,null,null,{"$f":"BN30","v":30},{"$f":"BO30","v":22.074999999999996},19,null,null,null,null,null,{"$f":"BZ13","v":0},{"$f":"CA45","v":2.3999999999999986},12,null,{"$f":"CD45+0.45*(CD49-CD45)","v":61.199999999999996},{"$f":"CE45+0.25*(CE49-CE45)","v":19.549999999999997},"13'",null,null,null,null,null,null,null,null,null,null,null,null,null,null,62,{"$f":"CV12+CY12*SIN(RADIANS(CU46)+CU14)","v":{"$error":"#DIV/0!"}},{"$f":"CW12+CY12*COS(RADIANS(CU46)+CU14)","v":{"$error":"#DIV/0!"}},{"$f":"IF(CV13>CV46,ATAN((CW13-CW46)/(CV13-CV46)),ATAN((CW13-CW46)/(CV46-CV13)))","v":{"$error":"#DIV/0!"}},{"$f":"IF(CV13>CV46,(CV13-CV46)/COS(CX46),(CV46-CV13)/COS(CX46))","v":{"$error":"#DIV/0!"}},null,null,null,null,null,null,null,null,null,null,null,null,null,null,null,{"$f":"DO45+DN11","v":-30},-0.52359877559829882,{"$f":"DV13+DV10*COS(DP46)","v":{"$error":"#REF!"}},{"$f":"DW13-DV10*SIN(DP46)","v":{"$error":"#REF!"}},{"$f":"SQRT(POWER((DV12-DQ46),2)+POWER((DW12-DR46),2))","v":{"$error":"#REF!"}},{"$f":"ABS(DV9-DS46)","v":{"$error":"#REF!"}},null,7,40,2,"راس پایین",{"$f":"ATAN((DV46-DV45)/(DW45-DW46))","v":0.19739555984988078},"γ18",null,null,null,null,null,null,null,{"$f":"-EE46+EJ9","v":0},0]
[null,null,null,null,null,{"$f":"F44+0.6*(F36-F44)","v":37.24},{"$f":"G44+0.23*(G36-G44)","v":58.327000000000005},"j5'''",null,{"$f":"F34","v":0},{"$f":"G34","v":48.000000000000007},"j2",null,null,null,null,null,null,null,null,null,null,null,null,null,null,null,null,null,null,null,null,null,null,null,null,{"$f":"AH17","v":0},{"$f":"AI28","v":0},2,null,null,null,null,null,null,null,null,null,null,null,null,null,null,null,null,null,null,null,null,null,null,null,null,null,null,null,null,null,null,null,null,null,null,null,null,null,null,{"$f":"BZ13","v":0},{"$f":"CA46+'طراحی همه الگوها'!U258","v":9.0999999999999979},18,null,{"$f":"CD45+0.75*(CD49-CD45)","v":64.8},{"$f":"CE45+0.5*(CE49-CE45)","v":36.699999999999996},"13''",null,null,null,null,null,{"$f":"CL45","v":0},{"$f":"CM45","v":50.743380736880852},"s'12",null,null,null,null,null,null,64,{"$f":"CV12+CY12*SIN(RADIANS(CU47)+CU14)","v":{"$error":"#DIV/0!"}},{"$f":"CW12+CY12*COS(RADIANS(CU47)+CU14)","v":{"$error":"#DIV/0!"}},{"$f":"IF(CV13>CV47,ATAN((CW13-CW47)/(CV13-CV47)),ATAN((CW13-CW47)/(CV47-CV13)))","v":{"$error":"#DIV/0!"}},{"$f":"IF(CV13>CV47,(CV13-CV47)/COS(CX47),(CV47-CV13)/COS(CX47))","v":{"$error":"#DIV/0!"}},null,null,null,null,null,null,null,null,null,null,null,null,null,null,null,{"$f":"DO46+DN11","v":-28},-0.48869219055841229,{"$f":"DV13+DV10*COS(DP47)","v":{"$error":"#REF!"}},{"$f":"DW13-DV10*SIN(DP47)","v":{"$error":"#REF!"}},{"$f":"SQRT(POWER((DV12-DQ47),2)+POWER((DW12-DR47),2))","v":{"$error":"#REF!"}},{"$f":"ABS(DV9-DS47)","v":{"$error":"#REF!"}},null,10,"m4","ضلع بالا",null,{"$f":"RADIANS(90)-RADIANS(DZ46)-DV48","v":1.829150512145848},"m5",null,null,null,null,null,null,null,{"$f":"-EE47+EJ9","v":0},0]
[null,null,null,null,null,{"$f":"F44+0.25*(F36-F44)","v":21.525000000000002},{"$f":"G44+0.04*(G36-G44)","v":49.796000000000006},"j5''''",null,null,null,null,null,null,null,null,null,null,null,null,null,null,null,null,null,null,null,null,null,null,null,null,null,null,null,null,null,null,null,null,null,null,null,null,null,null,null,null,null,null,null,null,null,null,null,null,null,null,null,null,null,null,null,null,null,null,null,null,null,{"$f":"BN28","v":27},{"$f":"BO28","v":31.174999999999997},15,null,null,null,null,null,{"$f":"BZ13","v":0},{"$f":"CA47+'طراحی همه الگوها'!U259","v":71},14,null,{"$f":"CD45+0.95*(CD49-CD45)","v":67.199999999999989},{"$f":"CE45+0.8*(CE49-CE45)","v":57.279999999999994},"13'''",null,null,null,null,null,{"$f":"CI23","v":12.5},{"$f":"CJ23","v":50.743380736880852},"s12",null,null,null,null,null,null,"بهینه α",{"$f":"IF(CY13<CY16,CU16,IF(CY13<CY17,CU17,IF(CY13<CY18,CU18,IF(CY13<CY19,CU19,IF(CY13<CY20,CU20,IF(CY13<CY21,CU21,IF(CY13<CY22,CU22,IF(CY13<CY23,CU23,IF(CY13<CY24,CU24,IF(CY13<CY25,CU25,IF(CY13<CY26,CU26,IF(CY13<CY27,CU27,IF(CY13<CY28,CU28,IF(CY13<CY29,CU29,IF(CY13<CY30,CU30,IF(CY13<CY31,CU31,IF(CY13<CY32,CU32,IF(CY13<CY33,CU33,IF(CY13<CY34,CU34,IF(CY13<CY35,CU35,IF(CY13<CY36,CU36,IF(CY13<CY37,CU37,IF(CY13<CY38,CU38,IF(CY13<CY39,CU39,IF(CY13<CY40,CU40,IF(CY13<CY41,CU41,IF(CY13<CY42,CU42,IF(CY13<CY43,CU43,IF(CY13<CY44,CU44,IF(CY13<CY45,CU45,IF(CY13<CY46,CU46,CU47)))))))))))))))))))))))))))))))","v":{"$error":"#DIV/0!"}},{"$f":"RADIANS(CV48)","v":{"$error":"#DIV/0!"}},"c21",{"$f":"IF(CV13>CV50,ATAN((CW13-CW50)/(CV13-CV50)),ATAN((CW13-CW50)/(CV50-CV13)))","v":{"$error":"#DIV/0!"}},null,null,null,null,null,null,null,null,null,null,null,null,null,null,null,{"$f":"DO47+DN11","v":-26},-0.4537856055185257,{"$f":"DV13+DV10*COS(DP48)","v":{"$error":"#REF!"}},{"$f":"DW13-DV10*SIN(DP48)","v":{"$error":"#REF!"}},{"$f":"SQRT(POWER((DV12-DQ48),2)+POWER((DW12-DR48),2))","v":{"$error":"#REF!"}},{"$f":"ABS(DV9-DS48)","v":{"$error":"#REF!"}},null,{"$f":"RADIANS(-15)","v":-0.26179938779914941},"m1","زاویه ضلع پایین با افق به رادیان ساعتگرزیر افق عدد مثبت",null,{"$f":"DV47*COS(DZ49)-DZ45*COS(DZ47)","v":4.2754038455317325},"m7",null,null,null,null,null,null,null,{"$f":"-EE48+EJ9","v":0},0]
[null,null,null,null,null,null,null,null,null,null,null,null,null,null,null,null,null,null,null,null,null,null,null,null,null,null,null,null,null,null,null,null,null,null,null,null,{"$f":"AK47","v":0},{"$f":"AL47","v":0},2,null,null,null,null,null,null,null,null,null,null,null,null,null,null,null,null,null,null,null,null,null,null,null,null,null,null,null,null,null,null,{"$f":"BN30","v":30},{"$f":"BO30","v":22.074999999999996},19,null,null,null,null,null,{"$f":"BZ13+'طراحی همه الگوها'!U263","v":67.8},{"$f":"CA48","v":71},15,null,{"$f":"BZ49","v":67.8},{"$f":"CA49","v":71},15,null,null,null,null,null,null,null,null,null,null,null,null,null,null,null,"مولفه افقی","مولفه عمودی",null,null,null,null,null,null,"پروسیجرها",null,null,null,null,null,null,null,null,null,null,{"$f":"DO48+DN11","v":-24},-0.41887902047863912,{"$f":"DV13+DV10*COS(DP49)","v":{"$error":"#REF!"}},{"$f":"DW13-DV10*SIN(DP49)","v":{"$error":"#REF!"}},{"$f":"SQRT(POWER((DV12-DQ49),2)+POWER((DW12-DR49),2))","v":{"$error":"#REF!"}},{"$f":"ABS(DV9-DS49)","v":{"$error":"#REF!"}},null,"راس سوم",null,null,null,{"$f":"ASIN(DZ50/DV47)","v":1.4030193189660189},"m8",null,null,null,null,null,null,null,{"$f":"-EE49+EJ9","v":0},0]
[null,null,null,null,null,null,null,null,null,null,null,null,null,null,null,null,null,null,null,null,null,null,null,null,null,null,null,null,null,null,null,null,null,null,null,null,{"$f":"AH13","v":0},{"$f":"AI13","v":58.3},"خط سینه",null,null,null,null,null,null,null,null,null,null,null,null,null,null,null,null,null,null,null,null,null,null,null,null,null,null,null,null,null,null,null,null,null,null,null,null,null,null,null,null,null,null,null,null,null,null,null,null,null,null,{"$f":"CL48","v":12.5},{"$f":"CM48","v":50.743380736880852},"s12",null,null,null,null,null,null,"e23",{"$f":"CV12+CY12*SIN(CW48+CU14)","v":{"$error":"#DIV/0!"}},{"$f":"CW12+CY12*COS(CW48+CU14)","v":{"$error":"#DIV/0!"}},"راس سوم ",null,null,null,null,null,null,null,null,null,null,null,null,null,null,null,null,{"$f":"DO49+DN11","v":-22},-0.38397243543875248,{"$f":"DV13+DV10*COS(DP50)","v":{"$error":"#REF!"}},{"$f":"DW13-DV10*SIN(DP50)","v":{"$error":"#REF!"}},{"$f":"SQRT(POWER((DV12-DQ50),2)+POWER((DW12-DR50),2))","v":{"$error":"#REF!"}},{"$f":"ABS(DV9-DS50)","v":{"$error":"#REF!"}},null,{"$f":"DV46+DZ48*COS(DV48)","v":11.129722992214699},{"$f":"DW46-DZ48*SIN(DV48)","v":41.106555940728171},3,null,{"$f":"DZ45*SIN(DZ47)","v":9.8595842240901757},"m9",null,null,null,null,null,null,null,{"$f":"-EE50+EJ9","v":0},0]
[null,null,null,null,null,null,null,null,null,null,"محاسبات بافت",null,null,null,null,null,null,null,null,null,null,null,null,null,null,null,null,null,null,null,null,null,null,null,null,null,null,null,null,null,null,null,null,null,null,null,null,null,null,null,null,null,null,null,null,null,null,null,null,null,null,null,null,null,null,null,null,null,null,{"$f":"BN34","v":33},{"$f":"BO34","v":31.174999999999997},17,null,null,null,null,null,{"$f":"CD54","v":33.799999999999997},{"$f":"CA46","v":2.3999999999999986},16,null,{"$f":"BZ47","v":0},{"$f":"CA47","v":9.0999999999999979},18,null,null,null,null,null,{"$f":"CI24","v":12.5},{"$f":"CJ24","v":48.343380736880853},"41 شبیه ساز",null,null,null,null,null,null,null,null,null,null,null,null,null,null,null,null,null,null,null,null,null,null,null,null,null,null,{"$f":"DO50+DN11","v":-20},-0.3490658503988659,{"$f":"DV13+DV10*COS(DP51)","v":{"$error":"#REF!"}},{"$f":"DW13-DV10*SIN(DP51)","v":{"$error":"#REF!"}},{"$f":"SQRT(POWER((DV12-DQ51),2)+POWER((DW12-DR51),2))","v":{"$error":"#REF!"}},{"$f":"ABS(DV9-DS51)","v":{"$error":"#REF!"}},null,null,null,null,null,null,null,null,null,null,null,null,null,null,{"$f":"-EE51+EJ9","v":0},0]
[null,null,null,null,null,null,null,null,null,null,null,null,null,null,null,null,null,null,null,null,null,null,null,null,null,null,null,null,null,null,null,null,null,null,null,null,null,null,null,null,null,null,null,null,null,null,null,null,null,null,null,null,null,null,null,null,null,null,null,null,null,null,null,null,null,null,null,null,null,{"$f":"BN32","v":30},{"$f":"BO32","v":40.274999999999999},18,null,null,null,null,null,null,null,null,null,{"$f":"CD18","v":13.5},{"$f":"CA46+'طراحی همه الگوها'!U269","v":9.5999999999999979},24,null,null,null,null,null,null,null,null,null,null,null,null,null,null,null,null,null,null,null,null,null,null,null,null,null,null,null,null,null,null,null,null,null,null,{"$f":"DO51+DN11","v":-18},-0.31415926535897931,{"$f":"DV13+DV10*COS(DP52)","v":{"$error":"#REF!"}},{"$f":"DW13-DV10*SIN(DP52)","v":{"$error":"#REF!"}},{"$f":"SQRT(POWER((DV12-DQ52),2)+POWER((DW12-DR52),2))","v":{"$error":"#REF!"}},{"$f":"ABS(DV9-DS52)","v":{"$error":"#REF!"}},null,null,null,null,null,null,null,null,null,null,null,null,null,null,{"$f":"-EE52+EJ9","v":0},0]
[null,null,null,null,"متغیرهای ورودی مربوط به ضخامت میل (متناسب با ضخامت نخ)",null,null,"متغیرهای ورودی  یقه ب ب گرد بافت همه از زیر",null,null,"متغیرهای ورودی  یقه شکاری کشباف",null,null,"  متغیر محاسبه ای یقه انگلیسی ",null,null,"متغیرهای ورودی یقه شومیزیه بافت همه از زیر",null,null,null,null,null,null,null,null,null,null,null,null,null,null,null,null,null,null,null,null,null,null,null,null,null,null,null,null,null,null,null,null,null,null,null,null,null,null,null,null,null,null,null,null,null,null,null,null,null,null,null,null,null,null,null,null,null,null,null,null,null,null,null,null,{"$f":"CD19","v":27},{"$f":"CA46+'طراحی همه الگوها'!U271","v":11.899999999999999},26,null,null,null,null,null,{"$f":"CL51","v":12.5},{"$f":"CM51","v":48.343380736880853},"41 شبیه ساز",null,null,null,null,null,null,null,null,null,null,null,null,null,null,null,null,null,null,null,null,null,null,null,null,null,null,null,null,null,null,null,null,null,null,null,null,null,null,null,null,null,null,null,null,null,null,{"$f":"-EE53+EJ9","v":0},0]
[null,null,null,null,"  (بدون احتساب بافت انتخابی)      a'0 ضریب تعداد رج",{"$f":"IF(F56=2,N68,IF(F56=3,O68,P68))","v":2.8},null,{"$f":"ROUND(I60*G167,1)","v":6.9},"پهنا (cm)=",null,{"$f":"ROUND(L59*(0.4*G166+0.037*H131),1)","v":3.5},"پهنا (cm)=",null,"d'3",{"$f":"'متغیرها '!C167*H124","v":2.4},null,{"$f":"ROUND(R61*R57,1)","v":1.4},"پهنا (cm)=",null,null,null,null,null,null,null,null,null,null,null,null,null,null,null,null,null,null,null,null,null,null,null,null,null,null,null,null,null,null,null,null,null,null,null,null,null,null,null,null,null,null,null,null,null,null,null,null,null,null,null,{"$f":"BJ29","v":0},{"$f":"BK29","v":92.9},1,null,null,null,null,null,null,null,null,null,{"$f":"BZ46+'طراحی همه الگوها'!U260","v":33.799999999999997},{"$f":"CA46+'طراحی همه الگوها'!U261","v":14.099999999999998},17,null,null,null,null,null,{"$f":"CI31","v":0},{"$f":"CJ31","v":48.343380736880853},"s''12",null,null,null,null,null,null,null,null,null,null,null,null,null,null,null,null,null,null,null,null,null,null,null,null,null,null,null,null,null,null,null,null,null,null,null,null,null,null,null,null,null,null,null,null,null,null,{"$f":"-EE54+EJ9","v":0},0]
[null,null,null,null,"  (بدون احتساب بافت انتخابی)      b'0 ضریب تعداد دانه",{"$f":"IF(F56=2,N69,IF(F56=3,O69,P69))","v":1.8},null,"متغیر محاسبه ای یقه ب ب گرد",null,null,"  متغیر محاسبه ای یقه شکاری  ",null,null,"d11",{"$f":"(0.95+1.45*'متغیرها '!C164)*(0.4*G166+0.037*H131)","v":4.2373163867064587},null,{"$f":"ROUND(R62*R57,1)","v":3.7},"پهنا (cm)=",null,null,null,null,null,null,null,null,null,null,null,null,null,null,null,null,null,null,null,null,null,null,null,null,null,null,null,null,null,null,null,null,null,null,null,null,null,null,null,null,null,null,null,null,null,null,null,null,null,null,null,{"$f":"BJ31","v":4.9000000000000004},{"$f":"BK31","v":0},5,null,null,null,null,null,null,null,null,null,null,null,null,null,null,null,null,null,null,null,null,null,null,null,null,null,null,null,null,null,null,null,null,null,null,null,null,null,null,null,null,null,null,null,null,null,null,null,null,null,null,null,null,null,null,null,null,null,null,null,null,null,null,null,null,null,null,{"$f":"-EE55+EJ9","v":0},0]
[null,null,null,null,"انتخاب ضخامت میل بافتنی   f1",{"$f":"'متغیرها '!C43","v":3},null,"c6",{"$f":"ROUNDUP(1.3*F54*I57,0)","v":26},null,"   a7",{"$f":"F54*L59*(0.4*G166+0.037*H131)","v":9.887071568981737},null,"d'12",{"$f":"G263-G258","v":14.345523217292971},null,"متغیر محاسبه ای شومیزیه",null,null,null,null,null,null,null,null,null,null,null,null,null,null,null,null,null,null,null,null,null,null,null,null,null,null,null,null,null,null,null,null,null,null,null,null,null,null,null,null,null,null,null,null,null,null,null,null,null,null,null,null,null,null,null,null,null,null,null,null,null,null,null,null,null,null,null,null,null,null,null,null,null,null,null,null,null,null,null,null,null,null,null,null,null,null,null,null,null,null,null,null,null,null,null,null,null,null,null,null,null,null,null,null,null,null,null,null,null,null,null,null,null,null,null,null,null,null,null,null,null,{"$f":"-EE56+EJ9","v":0},0]
[null,null,null,null,"جمع شوندگی عمودی بافت   f2",{"$f":"'متغیرها '!C44","v":0},null,"c'6",{"$f":"I60*G167","v":6.9055592577600846},null,null,null,null,"d12",{"$f":"ROUND(F54*O56,0)","v":40},null,"e'1",{"$f":"(0.4*G166+0.037*H131)","v":1.7655484944610245},null,null,null,null,null,null,null,null,null,null,null,null,null,null,null,null,null,null,null,null,null,null,null,null,null,null,null,null,null,null,null,null,null,null,null,null,null,null,null,null,null,null,null,null,null,null,null,null,null,null,null,null,null,null,null,null,null,null,null,null,null,null,null,null,null,null,null,null,null,null,null,null,null,null,null,null,null,null,null,null,null,null,null,null,null,null,null,null,null,null,null,null,null,null,null,null,null,null,null,null,null,null,null,null,null,null,null,null,null,null,null,null,null,null,null,null,null,null,null,null,{"$f":"-EE57+EJ9","v":0},0]
[null,null,null,null,"جمع شوندگی افقی بافت   f3",{"$f":"'متغیرها '!C45","v":0},null,null,null,null,"متغیرهای ورودی  یقه شکاری کشباف",null,null,"d''12",{"$f":"G264+AX147","v":5.4999112153299867},null,"e''1",{"$f":"R62*R57","v":3.7076518383681516},null,null,null,null,null,null,null,null,null,null,null,null,null,null,null,null,null,null,null,null,null,null,null,null,null,null,null,null,null,null,null,null,null,null,null,null,null,null,null,null,null,null,null,null,null,null,null,null,null,null,null,null,null,null,null,null,null,null,null,null,null,null,null,null,null,null,null,null,null,null,null,null,null,null,null,null,null,null,null,null,null,null,null,null,null,null,null,null,null,null,null,null,null,null,null,null,null,null,null,null,null,null,null,null,null,null,null,null,null,null,null,null,null,null,null,null,null,null,null,null,{"$f":"-EE58+EJ9","v":0},0]
[null,null,null,null," از آستین رگلان   γ9",{"$f":"DE542","v":0.63631884124871174},null,"متغیرهای ورودی  یقه ب ب گرد بافت همه از زیر",null,null,"    ضریب پهنای یقه  (1.5 الی 3)",{"$f":"'متغیرها '!C741","v":2},null,null,null,null,null,null,null,null,null,null,null,null,null,null,null,null,null,null,null,null,null,null,null,null,null,null,null,null,null,null,null,null,null,null,null,null,null,null,null,null,null,null,null,null,null,null,null,null,null,null,null,null,null,null,null,null,null,null,null,null,null,null,null,null,null,null,null,null,null,null,null,null,null,null,null,null,null,null,null,null,null,null,null,null,null,null,null,null,null,null,null,null,null,null,null,null,null,null,null,null,null,null,null,null,null,null,null,null,null,null,null,null,null,null,null,null,null,null,null,null,null,null,null,null,null,null,{"$f":"-EE59+EJ9","v":0},0]
[null,null,null,null,"γ10 از آستین رگلان",{"$f":"DE543","v":0.59250116266516439},null," ضریب پهنای یقه    (0.6 الی 1.2)",{"$f":"1.9*'متغیرها '!C761","v":0.95},null,"یقه شکاری کشباف",null,null,"یقه انگلیسی \n بافت جودانه",null,null,"متغیرهای ورودی یقه شومیزیه بافت همه از زیر",null,null,null,null,null,null,null,null,null,null,null,null,null,null,null,null,null,null,null,null,null,null,null,null,null,null,null,null,null,null,null,null,null,null,null,null,null,null,null,null,null,null,null,null,null,null,null,null,null,null,null,null,null,null,null,null,null,null,null,null,null,null,null,null,null,null,null,null,null,null,null,null,null,null,null,null,null,null,null,null,null,null,null,null,null,null,null,null,null,null,null,null,null,null,null,null,null,null,null,null,null,null,null,null,null,null,null,null,null,null,null,null,null,null,null,null,null,null,null,null,null,{"$f":"-EE60+EJ9","v":0},0]
[null,null,null,null,null,null,null,"یقه ب ب گرد",null,null,null,null,null,null,null,null,"    ضریب پهنای پایه یقه    (1 الی 2)",{"$f":"'متغیرها '!C748","v":0.8},null,null,null,null,null,null,null,null,null,null,null,null,null,null,null,null,null,null,null,null,null,null,null,null,null,null,null,null,null,null,null,null,null,null,null,null,null,null,null,null,null,null,null,null,null,null,null,null,null,null,null,null,null,null,null,null,null,null,null,null,null,null,null,null,null,null,null,null,null,null,null,null,null,null,null,null,null,null,null,null,null,null,null,null,null,null,null,null,null,null,null,null,null,null,null,null,null,null,null,null,null,null,null,null,null,null,null,null,null,null,null,null,null,null,null,null,null,null,null,null,{"$f":"-EE61+EJ9","v":0},0]
[null,null,null,null,"گشادی بالای مچ آستین (cm)     b'11",{"$f":"ROUND(DY522-DY523,0)","v":19},null,null,null,null,null,null,null," b'1    نوار باز شده گردن - دور تا دور گردن",{"$f":"DP680+DP681","v":16.706100869024191},null,"ضریب پهنای برگرد یقه  (1.5 الی 3)",{"$f":"'متغیرها '!C752","v":2.1},null,null,null,null,null,null,null,null,null,null,null,null,null,null,null,null,null,null,null,null,null,null,null,null,null,null,null,null,null,null,null,null,null,null,null,null,null,null,null,null,null,null,null,null,null,null,null,null,null,null,null,null,null,null,null,null,null,null,null,null,null,null,null,null,null,null,null,null,null,null,null,null,null,null,null,null,null,null,null,null,null,null,null,null,null,null,null,null,null,null,null,null,null,null,null,null,null,null,null,null,null,null,null,null,null,null,null,null,null,null,null,null,null,null,null,null,null,null,null,null,{"$f":"-EE62+EJ9","v":0},0]
[null,null,null,null,"تعداد دانه ها  در بالای مچ آستین      b'12",{"$f":"ROUND(O65*F62,0)","v":34},null,null,null,null,null,null,null,"محاسبه شده (با احتساب بافت انتخابی) ",null,null,"یقه شومیزیه",null,null,null,null,null,null,null,null,null,null,null,null,null,null,null,null,null,null,null,null,null,null,null,null,null,null,null,null,null,null,null,null,null,null,null,null,null,null,null,null,null,null,null,null,null,null,null,null,null,null,null,null,null,null,null,null,null,null,null,null,null,null,null,null,null,null,null,null,null,null,null,null,null,null,null,null,null,null,null,null,null,null,null,null,null,null,null,null,null,null,null,null,null,null,null,null,null,null,null,null,null,null,null,null,null,null,null,null,null,null,null,null,null,null,null,null,null,null,null,null,null,{"$f":"-EE63+EJ9","v":0},0]
[null,null,null,null,"تعداد دانه های اضافه شده زیر بغل   b8",{"$f":"ROUNDUP(O65*(AX119+AX114+BI116),0)","v":8},null," b22",{"$f":"SQRT(POWER(F84,2)-POWER(F67,2))","v":24.309920243024703},null,null,null,null," a0 تعداد رج در یک سانت",{"$f":"F54+0.3*F57*F54","v":2.8},null,null,null,null,null,null,null,null,null,null,null,null,null,null,null,null,null,null,null,null,null,null,null,null,null,null,null,null,null,null,null,null,null,null,null,null,null,null,null,null,null,null,null,null,null,null,null,null,null,null,null,null,null,null,null,null,null,null,null,null,null,null,null,null,null,null,null,null,null,null,null,null,null,null,null,null,null,null,null,null,null,null,null,null,null,null,null,null,null,null,null,null,null,null,null,null,null,null,null,null,null,null,null,null,null,null,null,null,null,null,null,null,null,null,null,null,null,null,null,null,null,null,null,{"$f":"-EE64+EJ9","v":0},0]
[null,null,null,null,"تعداد دانه های سرتاسر آستین در قسمت زیر بغل   b20",{"$f":"ROUNDUP(F64+O64*F80*COS(0.4*(F59+F60))+J86+0.5*F78,0)","v":55},null," b'22",{"$f":"I64*O64","v":68.067776680469166},null,null,null,null,"تعداد دانه در یک سانتb0 ",{"$f":"F55+0.68*F58*F55","v":1.8},null,null,null,null,null,null,null,null,null,null,null,null,null,null,null,null,null,null,null,null,null,null,null,null,null,null,null,null,null,null,null,null,null,null,null,null,null,null,null,null,null,null,null,null,null,null,null,null,null,null,null,null,null,null,null,null,null,null,null,null,null,null,null,null,null,null,null,null,null,null,null,null,null,null,null,null,null,null,null,null,null,null,null,null,null,null,null,null,null,null,null,null,null,null,null,null,null,null,null,null,null,null,null,null,null,null,null,null,null,null,null,null,null,null,null,null,null,null,null,null,null,null,null,{"$f":"-EE65+EJ9","v":0},0]
[null,null,null,null,"تعداد دانه های اضافه شده در کنار آستین در هر طرف b21",{"$f":"0.5*(F65-F63)","v":10.5},null," b12",{"$f":"ROUND(F63/((F62-F88)*O65),0)","v":3},null,null,null,null,null,null,null,null,null,null,null,null,null,null,null,null,null,null,null,null,null,null,null,null,null,null,null,null,null,null,null,null,null,null,null,null,null,null,null,null,null,null,null,null,null,null,null,null,null,null,null,null,null,null,null,null,null,null,null,null,null,null,null,null,null,null,null,null,null,null,null,null,null,null,null,null,null,null,null,null,null,null,null,null,null,null,null,null,null,null,null,null,null,null,null,null,null,null,null,null,null,null,null,null,null,null,null,null,null,null,null,null,null,null,null,null,null,null,null,null,null,null,null,null,null,null,null,null,null,{"$f":"-EE66+EJ9","v":0},0]
[null,null,null,null,"طول اضافه شده در کنار آستین در هر طرف b'21",{"$f":"F66/O65","v":5.833333333333333},null,null,null,null,null,null,null,"میل 2 و 2.5","میل  3 و 3.5","میل 4 و 4.5",null,null,null,null,null,null,null,null,null,null,null,null,null,null,null,null,null,null,null,null,null,null,null,null,null,null,null,null,null,null,null,null,null,null,null,null,null,null,null,null,null,null,null,null,null,null,null,null,null,null,null,null,null,null,null,null,null,null,null,null,null,null,null,null,null,null,null,null,null,null,null,null,null,null,null,null,null,null,null,null,null,null,null,null,null,null,null,null,null,null,null,null,null,null,null,null,null,null,null,null,null,null,null,null,null,null,null,null,null,null,null,null,null,null,null,null,null,null,null,null,null,null,{"$f":"-EE67+EJ9","v":0},0]
[null,null,null,null,"هر b11   رج در بافت آستین یکدانه از ابتدا و یکدانه از انتها کم شود",{"$f":"ROUND(I65/F66,0)","v":6},null,null,null,null,null,null,null,3.5,2.8,2.6,"a''0",null,null,null,null,null,null,null,null,null,null,null,null,null,null,null,null,null,null,null,null,null,null,null,null,null,null,null,null,null,null,null,null,null,null,null,null,null,null,null,null,null,null,null,null,null,null,null,null,null,null,null,null,null,null,null,null,null,null,null,null,null,null,null,null,null,null,null,null,null,null,null,null,null,null,null,null,null,null,null,null,null,null,null,null,null,null,null,null,null,null,null,null,null,null,null,null,null,null,null,null,null,null,null,null,null,null,null,null,null,null,null,null,null,null,null,null,null,null,null,null,null,{"$f":"-EE68+EJ9","v":0},0]
[null,null,null,null,null,null,null,null,null,null,null,null,null,2.2999999999999998,1.8,1.7,"b''0",null,null,null,null,null,null,null,null,null,null,null,null,null,null,null,null,null,null,null,null,null,null,null,null,null,null,null,null,null,null,null,null,null,null,null,null,null,null,null,null,null,null,null,null,null,null,null,null,null,null,null,null,null,null,null,null,null,null,null,null,null,null,null,null,null,null,null,null,null,null,null,null,null,null,null,null,null,null,null,null,null,null,null,null,null,null,null,null,null,null,null,null,null,null,null,null,null,null,null,null,null,null,null,null,null,null,null,null,null,null,null,null,null,null,null,null,null,null,null,null,null,{"$f":"-EE69+EJ9","v":0},0]
[null,null,null,null,null,null,null,null,null,null,null,null,null,null,null,null,null,null,null,null,null,null,null,null,null,null,null,null,null,null,null,null,null,null,null,null,null,null,null,null,null,null,null,null,null,null,null,null,null,null,null,null,null,null,null,null,null,null,null,null,null,null,null,null,null,null,null,null,null,null,null,null,null,null,null,null,null,null,null,null,null,null,null,null,null,null,null,null,null,null,null,null,null,null,null,null,null,null,null,null,null,null,null,null,null,null,null,null,null,null,null,null,null,null,null,null,null,null,null,null,null,null,null,null,null,null,null,null,null,null,null,null,null,null,null,null,null,null,{"$f":"-EE70+EJ9","v":0},0]
[null,null,null,null,null,null,null,null,null,null,null,null,null,null,null,null,null,null,null,null,null,null,null,null,null,null,null,null,null,null,null,null,null,null,null,null,null,null,null,null,null,null,null,null,null,null,null,null,null,null,null,null,null,null,null,null,null,null,null,null,null,null,null,null,null,null,null,null,null,null,null,null,null,null,null,null,null,null,null,null,null,null,null,null,null,null,null,null,null,null,null,null,null,null,null,null,null,null,null,null,null,null,null,null,null,null,null,null,null,null,null,null,null,null,null,null,null,null,null,null,null,null,null,null,null,null,null,null,null,null,null,null,null,null,null,null,null,null,{"$f":"-EE71+EJ9","v":0},0]
[null,null,null,null,null,null,null,null,null,null,null,null,null,null,null,null,null,null,null,null,null,null,null,null,null,null,null,null,null,null,null,null,null,null,null,null,null,null,null,null,null,null,null,null,null,null,null,null,null,null,null,null,null,null,null,null,null,null,null,null,null,null,null,null,null,null,null,null,null,null,null,null,null,null,null,null,null,null,null,null,null,null,null,null,null,null,null,null,null,null,null,null,null,null,null,null,null,null,null,null,null,null,null,null,null,null,null,null,null,null,null,null,null,null,null,null,null,null,null,null,null,null,null,null,null,null,null,null,null,null,null,null,null,null,null,null,null,null,{"$f":"-EE72+EJ9","v":0},0]
[null,null,null,null,null,null,null,null,null,"محاسبات بافت",null,null,null,null,null,null,null,null,null,null,null,null,null,null,null,null,null,null,null,null,null,null,null,null,null,null,null,null,null,null,null,null,null,null,null,null,null,null,null,null,null,null,null,null,null,null,null,null,null,null,null,null,null,null,null,null,null,null,null,null,null,null,null,null,null,null,null,null,null,null,null,null,null,null,null,null,null,null,null,null,null,null,null,null,null,null,null,null,null,null,null,null,null,null,null,null,null,null,null,null,null,null,null,null,null,null,null,null,null,null,null,null,null,null,null,null,null,null,null,null,null,null,null,null,null,null,null,null,{"$f":"-EE73+EJ9","v":0},0]
[null,null,null,null,"محاسبات در بافت بالاتنه و آستین (بافت انتخابی) ",null,null,null,null,null,null,null,null,null,null,null,null,null,null,null,null,null,null,null,null,null,null,null,null,null,null,null,null,null,null,null,null,null,null,null,null,null,null,null,null,null,null,null,null,null,null,null,null,null,null,null,null,null,null,null,null,null,null,null,null,null,null,null,null,null,null,null,null,null,null,null,null,null,null,null,null,null,null,null,null,null,null,null,null,null,null,null,null,null,null,null,null,null,null,null,null,null,null,null,null,null,null,null,null,null,null,null,null,null,null,null,null,null,null,null,null,null,null,null,null,null,null,null,null,null,null,null,null,null,null,null,null,null,{"$f":"-EE74+EJ9","v":0},{"$f":"EF74","v":0}]
[null,null,null,null,"تعداد دانه ها  دور گردن + دو تا نیمه جادکمه که از خط مرکزی اضافه شده",{"$f":"F77+2*F76","v":60},null,"یقه ب ب گرد",null,null,"یقه شکاری ",null,null,"یقه شومیزیه",null,null,"یقه انگلیسی ",null,null,null,null,null,null,null,null,null,null,null,null,null,null,null,null,null,null,null,null,null,null,null,null,null,null,null,null,null,null,null,null,null,null,null,null,null,null,null,null,null,null,null,null,null,null,null,null,null,null,null,null,null,null,null,null,null,null,null,null,null,null,null,null,null,null,null,null,null,null,null,null,null,null,null,null,null,null,null,null,null,null,null,null,null,null,null,null,null,null,null,null,null,null,null,null,null,null,null,null,null,null,null,null,null,null,null,null,null,null,null,null,null,null,null,null,null,null,null,null,null,{"$f":"-EE75+EJ9","v":0},0]
[null,null,null,null," b2  تعداد دانه های اضافه شده  از خط مرکزی تا خط جادکمه = نیمه جادکمه",{"$f":"ROUNDUP(F55*'متغیرها '!C66*(2*H129+H130),0)","v":0},null,"بافت همه از زیر",null,null,"بافت کشباف",null,null,"بافت همه از زیر",null,null," بافت جودانه",null,null,null,null,null,null,null,null,null,null,null,null,null,null,null,null,null,null,null,null,null,null,null,null,null,null,null,null,null,null,null,null,null,null,null,null,null,null,null,null,null,null,null,null,null,null,null,null,null,null,null,null,null,null,null,null,null,null,null,null,null,null,null,null,null,null,null,null,null,null,null,null,null,null,null,null,null,null,null,null,null,null,null,null,null,null,null,null,null,null,null,null,null,null,null,null,null,null,null,null,null,null,null,null,null,null,null,null,null,null,null,null,null,null,null,null,null,null,null,null,null,{"$f":"-EE76+EJ9","v":0},0]
[null,null,null,null,"(بدون اعمال بافت اننتخابی)  b1 تعداد دانه ها  دور تا دور گردن ",{"$f":"I87+2*I86+2*I85+I84","v":60},null,"c1",{"$f":"F77+2*(I80+1)+1*(I79+1)-3","v":82},null,"a1",{"$f":"2*F77","v":120},null,"e1",{"$f":"F77-I84+O82+2*O78+15","v":81},null,"d1",{"$f":"I87+2*I86+2*ROUND(F55*O238,0)-2*R79","v":56},null,null,null,null,null,null,null,null,null,null,null,null,null,null,null,null,null,null,null,null,null,null,null,null,null,null,null,null,null,null,null,null,null,null,null,null,null,null,null,null,null,null,null,null,null,null,null,null,null,null,null,null,null,null,null,null,null,null,null,null,null,null,null,null,null,null,null,null,null,null,null,null,null,null,null,null,null,null,null,null,null,null,null,null,null,null,null,null,null,null,null,null,null,null,null,null,null,null,null,null,null,null,null,null,null,null,null,null,null,null,null,null,null,null,null,null,null,null,null,null,{"$f":"-EE77+EJ9","v":0},0]
[null,null,null,null,"تعداد رج دوبل برای ایجاد گودی گردن جلو b13",{"$f":"ROUNDDOWN(0.25*O64*((AX129-BI128)),0)","v":3},null,"c2",{"$f":"ROUND(0.25*1.3*F54*I57,0)-1","v":5},null,"a2",{"$f":"IF((ROUND(0.6*L56,0)-6)<0,\" خطا - قد پشت یقه زیاد شود \",(ROUND(0.6*L56,0)-6))","v":0},null,"e2",{"$f":"ROUNDDOWN(0.5*(1.3*F54*R58-9),0)","v":2},null,"d2",{"$f":"ROUND(F54*O54,0)","v":7},null,null,null,null,null,null,null,null,null,null,null,null,null,null,null,null,null,null,null,null,null,null,null,null,null,null,null,null,null,null,null,null,null,null,null,null,null,null,null,null,null,null,null,null,null,null,null,null,null,null,null,null,null,null,null,null,null,null,null,null,null,null,null,null,null,null,null,null,null,null,null,null,null,null,null,null,null,null,null,null,null,null,null,null,null,null,null,null,null,null,null,null,null,null,null,null,null,null,null,null,null,null,null,null,null,null,null,null,null,null,null,null,null,null,null,null,null,null,null,null,{"$f":"-EE78+EJ9","v":0},0]
[null,null,null,null,"تعداد رج سوبل برای ایجاد گودی گردن جلو b'''13",{"$f":"ROUND((1/8)*O64*((AX129-BI128)),0)","v":2},null,"c3",{"$f":"ROUND(0.45*1.3*F54*I57,0)-1","v":10},null,"a3",{"$f":"ROUND(0.33*L81,0)","v":14},null,"e3",{"$f":"ROUND(0.15*(F77-I84+O82+13),0)","v":11},null,"d3",{"$f":"ROUND(F55*O54,0)","v":4},null,null,null,null,null,null,null,null,null,null,null,null,null,null,null,null,null,null,null,null,null,null,null,null,null,null,null,null,null,null,null,null,null,null,null,null,null,null,null,null,null,null,null,null,null,null,null,null,null,null,null,null,null,null,null,null,null,null,null,null,null,null,null,null,null,null,null,null,null,null,null,null,null,null,null,null,null,null,null,null,null,null,null,null,null,null,null,null,null,null,null,null,null,null,null,null,null,null,null,null,null,null,null,null,null,null,null,null,null,null,null,null,null,null,null,null,null,null,null,null,{"$f":"-EE79+EJ9","v":0},0]
[null,null,null,null,"فاصله  گردن تا محل جدا شدن آستین در قسمت جلو (cm)     b7",{"$f":"ROUNDUP(SQRT(POWER(CI103-CI121,2)+POWER(CJ103-CJ121,2)),0)","v":14},null,"c4",{"$f":"I56-I78-I79-5","v":6},null,"a4",{"$f":"ROUND(0.66*L81,0)","v":28},null,"e4",{"$f":"ROUND(0.24*(F77-I84+O82+9),0)","v":17},null,"d4",{"$f":"IF((ROUND(F54*O55,0)-R78-4)<0,\"خطا - بزرگی پشت یقه زیاد شود\",(ROUND(F54*O55,0)-R78-4))","v":1},null,null,null,null,null,null,null,null,null,null,null,null,null,null,null,null,null,null,null,null,null,null,null,null,null,null,null,null,null,null,null,null,null,null,null,null,null,null,null,null,null,null,null,null,null,null,null,null,null,null,null,null,null,null,null,null,null,null,null,null,null,null,null,null,null,null,null,null,null,null,null,null,null,null,null,null,null,null,null,null,null,null,null,null,null,null,null,null,null,null,null,null,null,null,null,null,null,null,null,null,null,null,null,null,null,null,null,null,null,null,null,null,null,null,null,null,null,null,null,null,{"$f":"-EE80+EJ9","v":0},0]
[null,null,null,null,"تعداد دانه های اضافه شده زیر بغل   b8",{"$f":"F64","v":8},null,null,null,null,"a5",{"$f":"ROUND(0.35*L77,0)","v":42},null,"e5",{"$f":"ROUND(0.35*(F77-I84+O82+3),0)","v":23},null,"d5",{"$f":"R77+2*R79","v":64},null,null,null,null,null,null,null,null,null,null,null,null,null,null,null,null,null,null,null,null,null,null,null,null,null,null,null,null,null,null,null,null,null,null,null,null,null,null,null,null,null,null,null,null,null,null,null,null,null,null,null,null,null,null,null,null,null,null,null,null,null,null,null,null,null,null,null,null,null,null,null,null,null,null,null,null,null,null,null,null,null,null,null,null,null,null,null,null,null,null,null,null,null,null,null,null,null,null,null,null,null,null,null,null,null,null,null,null,null,null,null,null,null,null,null,null,null,null,null,null,{"$f":"-EE81+EJ9","v":0},0]
[null,null,null,null,"تعداد دانه های سرتاسر آستین در قسمت زیر بغل   b20",{"$f":"F65","v":55},null,null,null,null,"a6",{"$f":"ROUND(0.4*L56,0)","v":4},null,"e6",{"$f":"O78","v":2},null,"d6",{"$f":"I87","v":16},null,null,null,null,null,null,null,null,null,null,null,null,null,null,null,null,null,null,null,null,null,null,null,null,null,null,null,null,null,null,null,null,null,null,null,null,null,null,null,null,null,null,null,null,null,null,null,null,null,null,null,null,null,null,null,null,null,null,null,null,null,null,null,null,null,null,null,null,null,null,null,null,null,null,null,null,null,null,null,null,null,null,null,null,null,null,null,null,null,null,null,null,null,null,null,null,null,null,null,null,null,null,null,null,null,null,null,null,null,null,null,null,null,null,null,null,null,null,null,null,{"$f":"-EE82+EJ9","v":0},0]
[null,null,null,null,"فاصله زیر بغل تا پایین لباس (cm)     b9",{"$f":"ROUND(AX113,0)","v":23},null,"تقسیم بندی بالاتنه\n ","تعداد دانه ها\n(بافت جودانه یا ساده)","تعداد دانه ها\n(بافت انتخابی)",null,null,null,"e7",{"$f":"F76","v":0},null,"d7",{"$f":"I86","v":10},null,null,null,null,null,null,null,null,null,null,null,null,null,null,null,null,null,null,null,null,null,null,null,null,null,null,null,null,null,null,null,null,null,null,null,null,null,null,null,null,null,null,null,null,null,null,null,null,null,null,null,null,null,null,null,null,null,null,null,null,null,null,null,null,null,null,null,null,null,null,null,null,null,null,null,null,null,null,null,null,null,null,null,null,null,null,null,null,null,null,null,null,null,null,null,null,null,null,null,null,null,null,null,null,null,null,null,null,null,null,null,null,null,null,null,null,null,null,null,null,{"$f":"-EE83+EJ9","v":0},0]
[null,null,null,null,"فاصله زیر بغل تا بالای مچ آستین (cm)     b10",{"$f":"ROUNDUP(SQRT(POWER(DY513-DY520,2)+POWER(DZ513-DZ520,2)),0)","v":25},null," b6  جادکمه ",{"$f":"2*F76","v":0},null,null,null,null,"e8",{"$f":"2*(F76-2)","v":-4},null,"d8",{"$f":"ROUND(F55*O238,0)","v":14}]
[null,null,null,null,"گشادی لبه پایین آستین (cm)     b'11",{"$f":"F62","v":19},null,"b3  جلو بدون جادکمه",{"$f":"ROUNDUP(F55*(SQRT(POWER(AX129-AX131,2)+POWER(AX130,2))+SQRT(POWER(AX131-AX133,2)+POWER(AX132-AX130,2))),0)-F76","v":12},{"$f":"ROUNDUP(O65*(SQRT(POWER(AX129-AX131,2)+POWER(AX130,2))+SQRT(POWER(AX131-AX133,2)+POWER(AX132-AX130,2))),0)-F76","v":12},null,null,null,"e9",{"$f":"ROUNDUP(R61*1.3*F54*R57,0)-O83-O84-3","v":7},null,"d9",{"$f":"ROUND((F54*O56)/(F55*O58),0)","v":4}]
[null,null,null,null,"تعداد دانه ها  در بالای مچ آستین      b'12",{"$f":"F63","v":34},null,"b4  آستین",{"$f":"ROUNDDOWN(F55*(DE534+DE535),0)","v":10},{"$f":"ROUNDDOWN(O65*(DE534+DE535),0)","v":10},null,null,null,null,null,null,"d10",{"$f":"IF(ROUND((F54*(G259-G258))/(F55*G260),0)>40,\"----\",ROUND((F54*(G259-G258))/(F55*G260),0))","v":11}]
[null,null,null,null,"پهنای مچ آستین (cm)     b14",{"$f":"ROUNDUP(CA513-CA511,0)","v":4},null,"b5  پشت",{"$f":"ROUNDDOWN(F55*2*(SQRT(POWER(BI128-BI130,2)+POWER(BI129,2))+SQRT(POWER(BI130-BI132,2)+POWER(BI131-BI129,2))),0)","v":16},{"$f":"ROUNDDOWN(O65*2*(SQRT(POWER(BI128-BI130,2)+POWER(BI129,2))+SQRT(POWER(BI130-BI132,2)+POWER(BI131-BI129,2))),0)","v":16},null,null,null,null,null,null,"d12",{"$f":"O57","v":40},null,null,null,null,null,null,null,null,null,null,null,null,null,"شبیه ساز بالاتنه پشت"]
[null,null,null,null,"گشادی مچ جدار در پایین آستین (cm)     b15",{"$f":"ROUND(BZ520-BZ519,0)","v":13},null,null,null,null,null,null,null,null,null,null,null,null,null,null,null,null,null,null,null,null,null,null,null,null,null,"انحنا",null,null,null,"خطوط برش"]
[null,null,null,null,"در بالای مچ هر b12   دانه یکی کم شود",{"$f":"I66","v":3},null,null,null,null,null,null,null,null,null,null,null,null,null,null,null,null,null,null,null,null,null,null,null,null,null,{"$f":"Y146","v":5.2440000000000007},{"$f":"Y114","v":25},27,null,{"$f":"Y146","v":5.2440000000000007},{"$f":"Y114","v":25},27]
[null,null,null,null,"هر b11   رج در بافت آستین یکدانه از ابتدا و یکدانه از انتها کم شود",{"$f":"F68","v":6},null,null,null,null,null,null,null,null,null,null,null,null,null,null,null,null,null,null,null,null,null,null,null,null,null,{"$f":"Y150","v":3.9330000000000007},{"$f":"Y114-Y151","v":24.072177258308464},32,null,{"$f":"Y146+Y153","v":8.3376516347742289},{"$f":"Y114-Y154","v":24.105010795674577},34]
[null,null,null,null,null,null,null,null,null,null,null,null,null,null,null,null,null,null,null,null,null,null,null,null,null,null,null,null,null,null,null,{"$f":"Y148","v":2.0976000000000004},{"$f":"Y114-Y149","v":23.608265887462696},30]
[null,null,null,null,null,null,null,null,null,null,null,null,null,null,null,null,null,null,null,null,null,null,null,null,null,null,null,null,null,null,null,0,{"$f":"Y114-Y147","v":23.453628763847441},28,null,{"$f":"Y115-Y135+Y141-Y156","v":9.4761424080610865},{"$f":"Y130+Y136+Y142+Y157","v":23.84765088418526},36]
[null,null,null,null,null,null,null,null,null,null,null,null,null,null,null,null,null,null,null,null,null,null,null,null,null,null,null,null,null,null,null,null,null,null,null,{"$f":"Y115-Y135+Y141","v":12.26},{"$f":"Y130+Y136+Y142","v":22.228446443416775},24,null,null,null,null,null,null,null,null,null,null,null,null,null,"انحنای حلقه آستین جلو"]
[null,null,null,null,null,null,null,null,null,null,null,null,null,null,null,null,null,null,null,null,null,null,null,null,null,null,null,null,null,null,null,{"$f":"Y115-Y135+Y141","v":12.26},{"$f":"Y130+Y136+Y142","v":22.228446443416775},24,null,null,null,null,null,null,null,null,null,null,null,null,null,null,null,null,null,{"$f":"AZ125+'متغیرها '!C55","v":14.023763161951312},{"$f":"BA125","v":68.674873691441505},"شیفت22"]
[null,null,null,null,null,null,null,null,null,null,null,null,null,null,null,null,null,null,null,null,null,null,null,null,null,null,null,null,null,null,null,{"$f":"Y115-Y135+Y143","v":11.378},{"$f":"Y130+Y136+Y144","v":19.000744588284395},26,null,{"$f":"Y115","v":13.653222221952188},{"$f":"Y130","v":9.8057756542337096},14,null,null,null,null,null,null,null,null,null,null,null,null,null,{"$f":"AZ128+'متغیرها '!C55","v":11.955767604624494},{"$f":"BA128","v":65.073936372688891},"شیفت24",null,null,null,"جادکمه در پیراهن"]
[null,null,null,null,null,null,null,null,null,null,null,"به دست آوردن نقطه تقاطع دو خط (نمونه کپی)","مولفه افقی","مولفه عمودی",null,null,"شبیه ساز بالاتنه جلو",null,null,null,null,null,null,null,null,null,null,null,null,null,null,{"$f":"Y115-Y135","v":11},{"$f":"Y130+Y136","v":15.05577565423371},18,null,{"$f":"Y115","v":13.653222221952188},{"$f":"Y130-Y132","v":9.8057756542337096},16,null,null,null,null,null,null,null,null,null,null,null,null,null,{"$f":"AZ115+'متغیرها '!C55","v":11.069483794341572},{"$f":"BA115","v":61.472999053936284},"شیفت16",null,{"$f":"AZ106","v":0},{"$f":"BA106","v":33.775000000000006},1]
[null,null,null,null,null,null,null,null,null,null,"نقطه اول از خط اول","اسم نقطه",1,1,null,null,"انحنا",null,null,null,"خطوط برش",null,null,null,null,null,null,null,null,null,null,{"$f":"Y115-Y139","v":11.795966666585658},{"$f":"Y130+Y140","v":11.905775654233709},22,null,{"$f":"Y121+Y123+Y124+Y127","v":12.742798713283214},{"$f":"Y128","v":4.1895563735970157E-2},13,null,null,null,null,null,null,null,null,null,null,null,null,null,{"$f":"AZ121+'متغیرها '!C55","v":12.000434628197155},{"$f":"BA121","v":58.565171053936282},"شیفت20",null,{"$f":"AX147+AX99","v":0},{"$f":"0+AX98","v":33.775000000000006},"1'",null,"شیفت عمودی پشت پیراهن",{"$f":"BG148+'متغیرها '!U59-BI148+'متغیرها '!C54","v":33.775000000000006}]
[null,null,null,null,null,null,null,null,null,null,"نقطه دوم از خط اول","اسم نقطه",2,2,null,null,{"$f":"L143","v":5.2440000000000007},{"$f":"L114","v":24},25,null,0,{"$f":"L114-L144","v":17.543029812675297},26,null,null,null,null,null,null,null,null,{"$f":"Y115-Y137","v":13.12257777756175},{"$f":"Y130+Y138","v":10.33077565423371},20,null,{"$f":"Y121+Y123+Y124","v":7.125},0,11,null,null,null,null,null,null,null,null,null,null,"شیفت عمودی جلو پیراهن",{"$f":"H114+'متغیرها '!C52+(I104-H104)","v":33.775000000000006},null,{"$f":"AZ118+'متغیرها '!C55","v":13.396860878980531},{"$f":"BA118","v":57.35357605393628},"شیفت18",null,{"$f":"AX148+AX99","v":0},{"$f":"AX103-AX129+AX98","v":64.452678350923691},"26'",null,"شیفت افقی پشت پیراهن",{"$f":"'متغیرها '!C53","v":0}]
[null,null,null,null,"اندازه ها در دامن و شلوار",null,null,"اندازه محاسبه","شبیه ساز",null,"نقطه اول از خط دوم","اسم نقطه",3,2,null,null,{"$f":"L147","v":4.1952000000000007},{"$f":"L114-L148","v":20.77151490633765},30,null,0,0,1,null,null,null,null,null,null,null,null,{"$f":"Y115","v":13.653222221952188},{"$f":"Y130","v":9.8057756542337096},14,null,null,null,null,null,null,null,null,null,null,null,null,null,null,"شیفت افقی جلو پیراهن",{"$f":"'متغیرها '!C51","v":0},null,{"$f":"AZ113+'متغیرها '!C55","v":15.72423796361949},{"$f":"BA113","v":56.626619053936281},"شیفت12",null,{"$f":"AZ102","v":0},{"$f":"BA102","v":64.452678350923691},26,{"$f":"BG149+BG150+BG151+1*(IF('متغیرها '!U55>'متغیرها '!U53,0.5*'متغیرها '!U55,0.5*'متغیرها '!U53)-BG149-BG151+BG163)-1*BG142-IF('متغیرها '!C125=1,2*BG143,BG150)","v":15.7},"(1 → 41)   با شرط  x5=1",{"$f":"BI149+BI150+BI151+1*(IF(H103>H101,0.5*H103,0.5*H101)+'متغیرها '!C62*H120-BI149-BI151+BI163)-1*BI142-IF('متغیرها '!C125=1,2*BI143,BI150)","v":17.998675000000002},null,null,null,null,null,null,null,null,null,null,null,null,null,null,null,null,null,null,null,null,null,null,null,null,null,null,null,null,null,null,null,null,null,null,null,null,null,null,null,null,null,null,null,null,null,null,null,null,null,null,null,null,null,null,null,null,null,null,null,null,null,null,null,null,null,null,null,null,null,null,null,null,null,null,null,null,null,null,null,null,null,null,null,null,null,null,null,null,null,null,null,null,null,null,null,null,null,null,null,null,null,null,null,null,"قرینه",{"$f":"2*C102","v":0},null,null,null,null,null,null,"قرینه",{"$f":"2*C102","v":0},null,null,null,null,null,null,"قرینه",{"$f":"2*C102","v":0},null,null,null,null,null,null,"قرینه",{"$f":"2*C102","v":0}]
[null,"شیفت افقی جلو",{"$f":"GM359","v":0},null,"دور کمر","a",null,{"$f":"'متغیرها '!U52+0.3*'متغیرها '!C60*('متغیرها '!U52+'متغیرها '!U54+'متغیرها '!U72)","v":52.338999999999999},{"$f":"'متغیرها '!U52","v":49},null,"نقطه دوم از خط دوم","اسم نقطه",4,4,null,null,{"$f":"L145","v":2.0976000000000004},{"$f":"L114-L146","v":18.188726831407767},28,null,{"$f":"L120","v":6.5452000000000012},0,8,null,null,null,null,null,null,null,null,null,null,null,null,{"$f":"Y121+Y123","v":6.375},0,10,null,null,null,null,null,null,null,null,null,{"$f":"AV156+AV157+AV158+1*(IF(('متغیرها '!U54-'متغیرها '!U55)>('متغیرها '!U52-'متغیرها '!U53),0.5*('متغیرها '!U54-'متغیرها '!U55),0.5*('متغیرها '!U52-'متغیرها '!U53))-AV156-AV158)-IF('متغیرها '!C125=1,2*AV150,AV157)","v":12.5},"(1 → 44)   با شرط  x5=1",{"$f":"AX156+AX157+AX158+1*(IF((H102-H103)>(H100-H101),0.5*(H102-H103),0.5*(H100-H101))+'متغیرها '!C62*H120-AX156-AX158)-IF('متغیرها '!C125=1,2*AX150,AX157)","v":14.737774999999999},null,{"$f":"BD156","v":16.82568796361949},{"$f":"BE156","v":56.626619053936281},"شیفت13",null,{"$f":"AZ106","v":0},{"$f":"BA106","v":33.775000000000006},1,null,"زاویه خط پهلو پشت",{"$f":"ATAN((BI106-BI108)/(BI110-BI112-BI107))","v":3.28311791818151E-2},null,null,null,null,null,"انحنای حلقه آستین   پشت",null,null,null," انتقال قسمتی از ساسون سرشانه به خط مرکزی جلو و حلقه آستین با ساسون زیر بغل و خط رگلان",null,null,null,null,null,null,null," انتقال قسمتی از ساسون سرشانه به خط مرکزی پشت و حلقه آستین با ساسون زیر بغل",null,null,null,null,null,null,null," حلقه آستین و سرشانه و رگلان بدون ساسون ",null,null,null,null,null,null,null,"حلقه آستین و سرشانه و رگلان بدون ساسون ",null,null,null,null,null,null,null,null,null,null,null,"جیب با ساسون",null,null,null,null,null,null,null,"تکه پهلو جدا  ",null,null,null,null,null,null,null,null,null,null,null,null,"سرشانه حلقه آستین پهلو ترک و پایین کنترل گشادی",null,null,null,null,null,null,null,null,null,null,null,null,null,null,null,null,null,null,null,"کنترل گودی حلقه آستین ",null,null,null,null,null,null,null,null,null,null,null,"حلقه آستین با ساسون متغیر",null,null,null,"انگلیسی و آرشال چرخیده",null,null,null,"پهلو ترک ",null,null,null,"پهلو برای جیب با ساسون",null,null,null,"اطلاعات اندام",null,null,null,"پهلو جدا در پیراهن",null,null,null,"رسم انحنا جلو آستر کت ",null,null,null,"3حلقه آستین با ساسون متغیر",null,null,null,"حلقه آستین با ساسون متغیر",null,null,null,"17یقه گرد ",null,null,null,"یقه گرد ",null,null,null,"11پهلو جدا و ترک وسط و نیمی از حلقه آستین عصایی",null,null,null,"پهلو جدا و ترک وسط و نیمی از حلقه آستین عصایی",null,null,null,"12پهلو جدا و ترک وسط و حلقه آستین عصایی در آستر کت",null,null,null,"پهلو جدا و ترک وسط و حلقه آستین عصایی در آستر کت",null,null,null,null,null,null,"رسم قرینه جلو پیراهن "]
[null,"شیفت عمودی جلو",{"$f":"GM360","v":0},null,"نوار کمر از پشت بین دو خط پهلو","b",null,{"$f":"'متغیرها '!U53+0.3*'متغیرها '!C60*('متغیرها '!U53+'متغیرها '!U55+'متغیرها '!U73)","v":25.730399999999999},{"$f":"'متغیرها '!U53","v":24},null,"نقطه تقاطع","اسم نقطه",{"$f":"(N99-N97+M97*((N98-N97)/(M98-M97))-M99*((N100-N99)/(M100-M99)))/(((N98-N97)/(M98-M97))-((N100-N99)/(M100-M99)))","v":4},{"$f":"N97+(M101-M97)*((N98-N97)/(M98-M97))","v":4},null,null,{"$f":"0","v":0},{"$f":"L114-L144","v":17.543029812675297},26,null,null,null,null,null,null,null,null,null,null,null,null,null,null,null,null,{"$f":"Y121","v":0},0,9,null,null,null,null,null,null,null,null,null,null,"زاویه خط پهلو جلو در پیراهن راسته با ساسون",{"$f":"ATAN((AX110-AX104)/(AX113-AX115-AX111))","v":3.2831179181814996E-2},null,"رسم جلو پیراهن",null,null,null,"انحنای حلقه یقه جلو",null,null,null,"زاویه  متوسط سرشانه پشت و جلو مانتو راسته",{"$f":"0.5*(P139+0.3*(P140-P139)+AE139+0.3*(AE140-AE139))","v":0.34045293430977369},null,{"$f":"BI126+BI98","v":8.1987829808524726},{"$f":"BI125+BI97","v":66.542275796965384},22,null,{"$f":"BK140","v":13.755536587353742},{"$f":"BL140","v":69.396818816424314},"شیفت18",null,"نقاط  ورودی",null,null,null,"انتخاب c1 >1 ",{"$f":"'متغیرها '!C108","v":0},null,null,"نقاط  ورودی",null,null,null,null,null,null,null,"نقاط  ورودی",null,null,null,null,null,"حلقه بدون ساسون",null,"نقاط  ورودی",null,null,null,null,"انحنا",null,null,"قرینه",{"$f":"2*C102","v":0},null,null,"نقاط  ورودی",null,null,null,"نقاط  خروجی",null,null,null,"نقاط  ورودی",null,null,null,"نقاط  ورودی",null,null,null,"نقاط  خروجی",null,null,null,null,null,null,"کنترل گشادی جلو",null,null,null,"قرینه کنترل گشادی جلو",null,null,null,"کنترل گشادی پشت",null,null,null,"قرینه کنترل گشادی پشت",null,null,null,null,null,"نقاط  ورودی",null,null,null,"نقاط  ورودی",null,null,null,null,null,{"$f":"BW139+BT130","v":16.825878698342962},{"$f":"BX139","v":56.627700603276089},"شیفت b14",null,null,null,null,null,{"$f":"BS140+BT130","v":15.72423796361949},{"$f":"BT140","v":53.762849053936286},"شیفت 14",null,"مولفه افقی","مولفه عمودی","اسم نقطه ",null,null,null,"کمر",null,{"$f":"DK103","v":13.396860878980531},{"$f":"DL103","v":57.35357605393628},{"$f":"DM103","v":"18شیفت"},null,{"$f":"BW114","v":5.1717802911879094},{"$f":"BX114","v":68.391257174899948},"e5",null,{"$f":"CE122+CB112","v":17.337604411925593},{"$f":"CF122+CB113","v":57.418508030044734},"شیفت b14",null,{"$f":"-GD101+FK99","v":-17.337604411925593},{"$f":"GE101","v":57.418508030044734},"شیفت b14",null,{"$f":"CE105","v":6.1127198803362468},72.733678063661415,23,null,{"$f":"-GL101+FS99","v":-6.1127198803362468},{"$f":"GM101","v":72.733678063661415},23,null,{"$f":"EA167","v":12.558374718478948},{"$f":"EB167","v":62.272963880791401},"شیفت12p یا 12",null,{"$f":"-GT101+GA99","v":-12.558374718478948},{"$f":"GU101","v":62.272963880791401},"شیفت12p یا 12",null,{"$f":"DO103","v":12.558374718478948},62.272963880791401,"شیفت12p",null,{"$f":"-HB101+GI99","v":-12.558374718478948},{"$f":"HC101","v":62.272963880791401},{"$f":"DU103","v":"شیفت10m"},null,null,null,"مولفه افقی","مولفه عمودی","اسم نقطه ",null,null,{"$f":"AZ106","v":0},"مرجع",null,null,null,"12'",null,null,{"$f":"-2*'متغیرها '!C51","v":0},"شیفت افقی",null,null,{"$f":"'متغیرها '!C52","v":0},"شیفت عمودی",null,null,null,"14'",null,null,null,"19'",null,null,null,"48'",null,null,null,"81'",null,null,null,"64'",null,null,null,"77'"]
[null,"شیفت افقی پشت",{"$f":"HW320","v":0},null,"دور باسن","c",null,{"$f":"'متغیرها '!U54+0.3*'متغیرها '!C60*('متغیرها '!U52+'متغیرها '!U54+'متغیرها '!U72)","v":59.338999999999999},{"$f":"'متغیرها '!U54","v":56},null,null,null,null,null,null,null,null,null,null,null,{"$f":"L120+L121","v":7.2452000000000014},0,9,null,null,null,null,null,null,null,null,null,null,null,null,0,{"$f":"Y117","v":18.75},5,null,null,null,null,null,null,null,null,null,"شبیه ساز","متغیرهای خروجی جلو پیراهن با ساسون کمر",null,null,{"$f":"AX99","v":0},{"$f":"AX103-AX129+AX98","v":64.452678350923691},26,null,{"$f":"AZ140","v":6.1110124614777632},{"$f":"BA140","v":71.728171017165522},25,"شبیه ساز","متغیرهای خروجی پشت پیراهن با ساسون کمر (رسم کاربر)",null,null,{"$f":"0+BI98","v":0},{"$f":"BI125+BI97","v":66.542275796965384},21,null,{"$f":"BK110","v":12.917523279141387},{"$f":"BL110","v":66.191084095389499},"شیفت20",null,"مولفه افقی","مولفه عمودی","اسم نقطه ",null,"انتخاب عصایی ",{"$f":"'متغیرها '!C101","v":0},null,null,"مولفه افقی","مولفه عمودی","اسم نقطه ",null,null,null,null,null,"مولفه افقی","مولفه عمودی","اسم نقطه ",null,{"$f":"CI117+CJ105","v":12.791511787413299},{"$f":"CJ117","v":69.361627047628545},"شیفت 22f",null,"مولفه افقی","مولفه عمودی","اسم نقطه ",null,{"$f":"CQ120+CR105","v":12.793219206271782},{"$f":"CR120+CR106","v":70.367134094124438}," شیفت 18f",null,{"$f":"-CU102+CZ101","v":-12.793219206271782},{"$f":"CV102","v":70.367134094124438}," شیفت 18f",null,"مولفه افقی","مولفه عمودی","اسم نقطه ",null,"مولفه افقی","مولفه عمودی","اسم نقطه ",null,"مولفه افقی","مولفه عمودی","اسم نقطه ",null,"مولفه افقی","مولفه عمودی","اسم نقطه ",null,{"$f":"DO106+DL109","v":18.241354781785279},{"$f":"DP106+DL110","v":57.052090880791397},"شیفت8m","پیراهن",null,{"$f":"CI117","v":12.791511787413299},69.361627047628545,"22f",null,{"$f":"-DX102+ED137","v":-12.791511787413299},{"$f":"DY102","v":69.361627047628545},"22f",null,{"$f":"CQ120","v":12.793219206271782},70.367134094124438," 18f",null,{"$f":"-EF102+ED138","v":-12.793219206271782},{"$f":"EG102","v":70.367134094124438}," 18f",null,null,null,null,null,"مولفه افقی","مولفه عمودی","اسم نقطه ",null,"مولفه افقی","مولفه عمودی","اسم نقطه ",null,null,null,{"$f":"BW140+BT130","v":15.724755228255015},{"$f":"BX140","v":53.763805036216873},"شیفت b2",null,{"$f":"BW105","v":6.1110124614777632},{"$f":"BX105","v":71.728171017165522},"چرخیده 25",null,{"$f":"AZ168+BT130","v":14.737774999999999},{"$f":"BA168","v":48.343380736880853},"شیفت 41",null,{"$f":"DC109","v":6.990047592723899},{"$f":"DD109","v":33.775000000000006},52,null,{"$f":"AZ165","v":0},{"$f":"BA165","v":48},38,null,{"$f":"DK121","v":13.396860878980531},53.762849053936286,"14شیفتm",null,{"$f":"EO168","v":5.9745970541616327},{"$f":"EP168","v":60.674850255401893},"a4",null,{"$f":"CE116+CB112","v":15.510732829046315},{"$f":"CF116+CB113","v":57.816394387709977},"شیفت b8",null,{"$f":"-GD102+FK99","v":-15.510732829046315},57.816394387709977,"شیفت b8",null,4.5845399102521851,71.638543045247559,28,null,{"$f":"-GL102+FS99","v":-4.5845399102521851},{"$f":"GM102","v":71.638543045247559},28,null,{"$f":"EA168","v":13.56505561207916},{"$f":"EB168","v":58.704265880791404},"شیفت16p یا 16",null,{"$f":"-GT102+GA99","v":-13.56505561207916},{"$f":"GU102","v":58.704265880791404},"شیفت16p یا 16",null,13.56505561207916,58.704265880791404,"شیفت16p",null,{"$f":"-HB102+GI99","v":-13.56505561207916},{"$f":"HC102","v":58.704265880791404},{"$f":"DU104","v":"شیفت36m"},null,null,null,null,null,"6'",null,"مولفه افقی","مولفه عمودی","اسم نقطه ",null,{"$f":"-FV101-HY101","v":-13.396860878980531},{"$f":"FW101","v":57.35357605393628},"شیفت 18",null,null,null,"3'",null,null,null,"10'",null,{"$f":"-FN102-HY101","v":-6.990047592723899},{"$f":"FO102","v":33.775000000000006},52,null,{"$f":"-CR154-HY101","v":-7.3400475927238986},{"$f":"CS154","v":56.24},43,null,{"$f":"-FD248-HY101","v":0},{"$f":"FE248","v":41.160362606618179},"p10",null,{"$f":"-AF265-HY101","v":-14.022580190996671},{"$f":"AG265","v":68.675635691210431},"c22",null,{"$f":"-DI230-HY101","v":-3.66},{"$f":"DJ230","v":32.275319517797207},"m2",null,{"$f":"-ES231-HY101","v":-15.72423796361949},{"$f":"ET231","v":53.762849053936286},14]
[null,"شیفت عمودی پشت",{"$f":"HW321","v":0},null,"نوار باسن از پشت بین دو خط پهلو","d",null,{"$f":"'متغیرها '!U55+0.3*'متغیرها '!C60*('متغیرها '!U53+'متغیرها '!U55+'متغیرها '!U73)","v":33.130400000000002},{"$f":"'متغیرها '!U55","v":31.4},null,"به دست آوردن مختصات قرینه یک نقطه نسبت به خط تقارن با داشتن دونقطه از خط تقارن (نمونه کپی)",null,null,null,null,null,{"$f":"L115-L132+L138","v":12.64},{"$f":"L127+L133+L139","v":21.459040763170798},22,null,{"$f":"L120+L121+L124","v":13.2},{"$f":"L125","v":0.34338073688085208},11,null,null,null,null,null,null,null,null,null,null,null,null,0,{"$f":"Y114-Y147","v":23.453628763847441},28,null,null,null,null,null,null,null,null,null,{"$f":"L114+'متغیرها '!U56-H114","v":38.224999999999994},"(1 → 2)",{"$f":"K114+H104-H114","v":37.953171017165516},null,{"$f":"AX99","v":0},{"$f":"AX105+AX98","v":62.247733580884876},4,null,{"$f":"AZ148","v":4.8888099691822111},{"$f":"BA148","v":68.090424684044606},30,{"$f":"'متغیرها '!U58-'متغیرها '!U59+Y114","v":55.8},"(1 → 2)",{"$f":"H106-H114+AA114","v":38.958678063661417},null,{"$f":"0+BI98","v":0},{"$f":"BI103+BI97","v":72.733678063661415},2,null,{"$f":"BK112","v":12.558374718478948},{"$f":"BL112","v":62.272963880791401},"شیفت12",null,null,{"$f":"('متغیرها '!C107/('متغیرها '!C106+0.001))*(BU143-BU142)","v":0},"زاویه چرخش به خط مرکزی جلو",null,"نقاط  خروجی چرخیده",null,null,null,null,{"$f":"('متغیرها '!C112/('متغیرها '!C111+0.001))*(CC126-CC125)","v":0},"زاویه چرخش به خط مرکزی پشت",null,"نقاط  خروجی چرخیده",null,null,null,{"$f":"BW106","v":4.8888099691822111},{"$f":"BX106","v":68.090424684044606},30,null,{"$f":"CI118+CJ105","v":11.316157810070937},{"$f":"CJ118","v":65.619354426295132},"شیفت 24f",null,{"$f":"BK135","v":4.5845399102521851},{"$f":"BL135","v":71.638543045247559},28,null,{"$f":"CQ121+CR105","v":12.207252153094696},{"$f":"CR121+CR106","v":65.733274023724533},"شیفت 20f",null,{"$f":"-CU103+CZ101","v":-12.207252153094696},65.733274023724533,"شیفت 20f",null,{"$f":"AZ161","v":7.3400475927238986},{"$f":"BA161","v":56.24},43,null,{"$f":"DC110-(DC106-DC109)","v":7.6948203334515082},{"$f":"DD110","v":33.775000000000006},"50s",null,{"$f":"AZ98","v":13.396860878980531},{"$f":"BA98","v":57.35357605393628},"18شیفت","پیراهن",{"$f":"EA167","v":12.558374718478948},{"$f":"EB167","v":62.272963880791401},"شیفت12p","پیراهن",{"$f":"DO107+DL109","v":18.241354781785279},{"$f":"DP107","v":53.461363880791403},"شیفت10m",null,null,11.316157810070937,65.619354426295132," 24f",null,{"$f":"-DX103+ED137","v":-11.316157810070937},65.619354426295132," 24f",null,12.207252153094696,65.733274023724533," 20f",null,{"$f":"-EF103+ED138","v":-12.207252153094696},65.733274023724533," 20f",null,null,null,null,null,{"$f":"ER151","v":14.025614535392796},{"$f":"ES151","v":68.686832378035945},"22b","راس حلقه آستین",{"$f":"EW152","v":12.676257676041086},{"$f":"EX152","v":70.107927199272382},"18b","راس حلقه آستین",null,null,null,null,null,null,{"$f":"BW113","v":5.4999112153299867},{"$f":"BX113","v":69.545523217292981},"e7",null,null,null,null,null,{"$f":"DG103","v":7.6948203334515082},33.775000000000006,"50s",null,{"$f":"AZ166","v":7.3400475927238986},{"$f":"BA166","v":48},39,null,12.41039791536104,48.343380736880853,"41شیفتm",null,{"$f":"EO167","v":8.3830473430828008},{"$f":"EP167","v":56.816646795652858},"a3",null,{"$f":"IF('متغیرها '!C119=1,EV123,CE117)+CB112","v":13.648309905038673},{"$f":"IF('متغیرها '!C119=1,EW123,CF117)+CB113","v":59.407086074851811},"شیفت b10 یا b'10p",null,{"$f":"-GD103+FK99","v":-13.648309905038673},59.407086074851811,"شیفت b10 یا b'10p",null,2.4450879521344993,71.090975536040617,26,null,{"$f":"-GL103+FS99","v":-2.4450879521344993},{"$f":"GM103","v":71.090975536040617},26,null,{"$f":"DS109","v":14.504624446106025},{"$f":"DT109","v":57.394091105791397},{"$f":"DU109","v":"شیفت8''m"},null,{"$f":"-GT103+GA99","v":-14.504624446106025},{"$f":"GU103","v":57.394091105791397},{"$f":"ES109","v":0.155},null,{"$f":"DS109","v":14.504624446106025},{"$f":"DT109","v":57.394091105791397},{"$f":"DU109","v":"شیفت8''m"},null,{"$f":"-HB103+GI99","v":-14.504624446106025},{"$f":"HC103","v":57.394091105791397},{"$f":"ES109","v":0.155},null,null,null,{"$f":"-CM102-HY101","v":-12.791511787413299},{"$f":"CN102","v":69.361627047628545},"شیفت 22f",null,null,null,"7'",null,{"$f":"-FV102-HY101","v":-13.396860878980531},{"$f":"FW102","v":53.762849053936286},"شیفت 14m",null,{"$f":"-FB101-HY101","v":-16.825878698342962},{"$f":"FC101","v":56.627700603276089},"شیفت b14",null,{"$f":"-FJ101-HY101","v":-15.72423796361949},{"$f":"FK101","v":53.762849053936286},"شیفت 14",null,{"$f":"-FN103-HY101","v":-7.6948203334515082},33.775000000000006,"50s",null,{"$f":"-CR155-HY101","v":-7.3400475927238986},{"$f":"CS155","v":48},"39 یا d5",null,{"$f":"-FD249-HY101","v":0},{"$f":"FE249","v":33.775000000000006},"1'",null,{"$f":"-AF266-HY101","v":-23.084594845765139},{"$f":"AG266","v":64.217853241975334},"c4",null,{"$f":"-DI231-HY101","v":-4.4354442499999998},{"$f":"DJ231","v":34.614957686568182},"m10",null,{"$f":"-ES232-HY101","v":-14.737774999999999},{"$f":"ET232","v":48.343380736880853},41]
[null,"شیفت افقی تکه جلو",{"$f":"GM361","v":0},null,"فاصله نوار کمر تا زمین، از قسمت جلو","e",null,{"$f":"'متغیرها '!U56+'متغیرها '!C63*'متغیرها '!U56","v":48},{"$f":"'متغیرها '!U56","v":48},null,"مولفه افقی","مولفه عمودی","اسم نقطه ",null,null,null,{"$f":"L115-L132+L140","v":10.581999999999999},{"$f":"L127+L133+L141","v":17.883150795274695},24,null,{"$f":"L115","v":13.5},{"$f":"L127-L129","v":10.107260827378591},14,null,null,null,null,null,null,null,null,null,null,null,null,null,null,null,null,null,null,null,null,null,null,null,null,{"$f":"L115","v":13.5},"(1 → 3)",{"$f":"K115","v":15.72423796361949},null,{"$f":"AX106+AX99","v":7.8544165915675519},{"$f":"AX105+AX98","v":62.247733580884876},5,null,{"$f":"AZ145","v":2.4444049845911056},{"$f":"BA145","v":65.180227617547871},28,null,"(1 → 3)",{"$f":"BI106+(BI107-BI105)*TAN(BI100)","v":16.559160584325234},null,{"$f":"BI127+BI98","v":6.1127198803362468},{"$f":"BI103+BI97","v":72.733678063661415},23,null,{"$f":"BK117","v":13.56505561207916},{"$f":"BL117","v":58.704265880791404},"شیفت16",null,{"$f":"AZ165+AN119","v":7.3400475927238986},{"$f":"BA165+AO119","v":58.3},"5 بالاتنه","نقطه مرکزی چرخش","مولفه افقی","مولفه عمودی","اسم نقطه ",null,{"$f":"BO164","v":7.1825999999999999},{"$f":"BP164","v":59.816656485349888},40,"نقطه مرکزی چرخش","مولفه افقی","مولفه عمودی","اسم نقطه ",null,{"$f":"AZ104","v":7.8544165915675519},{"$f":"BA104","v":62.247733580884876},"5پیراهن",null,{"$f":"CI119+CJ105","v":10.683863248352782},{"$f":"CJ119","v":61.877081804961719},"شیفت 16f",null,{"$f":"BK154","v":7.1825999999999999},{"$f":"BL154","v":59.816656485349888},40,null,{"$f":"CQ122+CR105","v":12.060760389800425},{"$f":"CR122+CR106","v":62.644033976791263},"شیفت 12f",null,{"$f":"-CU104+CZ101","v":-12.060760389800425},62.644033976791263,"شیفت 12f",null,{"$f":"BD168-DD122","v":7.3400475927238986},{"$f":"BE168","v":48},40,null,{"$f":"DC111-(DC106-DC109)","v":9.5977067334160555},{"$f":"DD111","v":33.843676147376179},"50's",null,{"$f":"BD177","v":15.72423796361949},53.762849053936286,"14شیفت",null,{"$f":"EA168","v":13.56505561207916},{"$f":"EB168","v":58.704265880791404},"شیفت16p",null,{"$f":"DO108+DL109","v":17.926052084638961},{"$f":"DP108","v":48.04189556373597},"شیفت36m",null,null,10.683863248352782,61.877081804961719," 16f",null,{"$f":"-DX104+ED137","v":-10.683863248352782},61.877081804961719," 16f",null,12.060760389800425,62.644033976791263," 12f",null,{"$f":"-EF104+ED138","v":-12.060760389800425},62.644033976791263," 12f",null,null,null,null,null,{"$f":"BW105","v":6.1110124614777632},{"$f":"BX105","v":71.728171017165522},25,"راس یقه",{"$f":"CE105","v":6.1127198803362468},{"$f":"CF105","v":72.733678063661415},23,"راس یقه",null,null,{"$f":"BW139+BT130","v":16.825878698342962},{"$f":"BX139","v":56.627700603276089},"شیفتb14",null,{"$f":"BW114","v":5.1717802911879094},{"$f":"BX114","v":68.391257174899948},"e5",null,{"$f":"AZ168+BT130","v":14.737774999999999},{"$f":"BA168","v":48.343380736880853},"شیفت 41",null,9.5977067334160555,33.843676147376179,"50's",null,null,null,null,null,12.41039791536104,37.043380736880856,"45شیفتm",null,{"$f":"EO165","v":13.199947920925139},{"$f":"EP165","v":55.530578975736518},"a1",null,{"$f":"IF('متغیرها '!C119=1,EV122,CE118)+CB112","v":12.25837068641593},{"$f":"IF('متغیرها '!C119=1,EW122,CF118)+CB113","v":62.844684190582925},"شیفت b6 یا b'6p",null,{"$f":"-GD104+FK99","v":-12.25837068641593},62.844684190582925,"شیفت b6 یا b'6p",null,0,70.908453032971636,24,null,{"$f":"-GL104+FS99","v":0},{"$f":"GM104","v":70.908453032971636},24,null,{"$f":"DS107","v":15.91397769714632},{"$f":"DT107","v":56.688612380791398},{"$f":"DU107","v":"شیفت8'm"},null,{"$f":"-GT104+GA99","v":-15.91397769714632},{"$f":"GU104","v":56.688612380791398},{"$f":"ES107","v":58.565702422540063},null,{"$f":"DS107","v":15.91397769714632},{"$f":"DT107","v":56.688612380791398},{"$f":"DU107","v":"شیفت8'm"},null,{"$f":"-HB104+GI99","v":-15.91397769714632},{"$f":"HC104","v":56.688612380791398},{"$f":"ES107","v":58.565702422540063},null,null,null,{"$f":"-CM103-HY101","v":-11.316157810070937},65.619354426295132,"شیفت 24f",null,{"$f":"-CM113-HY101","v":-12.791511787413299},{"$f":"CN113","v":69.361627047628545},"شیفت22f",null,{"$f":"-FV103-HY101","v":-12.41039791536104},{"$f":"FW103","v":48.343380736880853},"شیفت 41m",null,{"$f":"-FB102-HY101","v":-15.724755228255015},{"$f":"FC102","v":53.763805036216873},"شیفت b2",null,{"$f":"-FJ104-HY101","v":-14.737774999999999},{"$f":"FK104","v":48.343380736880853},"شیفت 41",null,{"$f":"-FN104-HY101","v":-9.5977067334160555},33.843676147376179,"50's",null,null,null,null,null,null,null,null,null,{"$f":"-AF267-HY101","v":-30.498970472393882},{"$f":"AG267","v":56.627575017602048},"c12",null,{"$f":"-DI232-HY101","v":-6.7617770000000004},{"$f":"DJ232","v":37.288829879449302},"m8",null,{"$f":"-ES233-HY101","v":-14.737774999999999},{"$f":"ET233","v":37.043380736880856},45]
[null,"شیفت افقی تکه پشت",{"$f":"HW322","v":0},null,"فاصله نوار کمر تا زمین، از قسمت پهلو","f",null,{"$f":"ROUND(0.5*('متغیرها '!U56+'متغیرها '!U58),1)+'متغیرها '!C63*ROUND(0.5*('متغیرها '!U56+'متغیرها '!U58),1)","v":48},{"$f":"ROUND(0.5*('متغیرها '!U56+'متغیرها '!U58),1)","v":48},null,1,1,"e1","نقطه اول خط تقارن",null,null,{"$f":"L115-L132","v":9.6999999999999993},{"$f":"L127+L133","v":14.307260827378592},16,null,{"$f":"L115","v":13.5},{"$f":"L127","v":10.107260827378591},12,null,null,null,null,null,null,null,null,null,null,null,null,"انحنای حلقه آستین و ساسون سرشانه پشت",null,null,null,null,null,null,null,null,null,null,null,null,"(1→ 4)",{"$f":"H104-H114+V142","v":28.472733580884871},null,{"$f":"AZ103","v":0},{"$f":"BA103","v":62.247733580884876},4,null,{"$f":"AZ102","v":0},{"$f":"BA102","v":64.452678350923691},26,null,"(3→ 4)",{"$f":"BI159","v":4.1895563735970157E-2},null,{"$f":"BI127+BI134+BI98","v":8.7188795213449861},{"$f":"BI103+BI97","v":72.733678063661415},29,null,{"$f":"BK120","v":15.242857101412845},{"$f":"BL120","v":56.919916880791405},"شیفت14",null,{"$f":"BD102","v":6.1110124614777632},71.728171017165522,25,"نقطه یقه",{"$f":"BS104+SQRT(POWER(BS105-BS104,2)+POWER(BT105-BT104,2))*SIN(BT103-ATAN((BS104-BS105)/(BT105-BT104)))","v":6.1110124614777632},{"$f":"BT104+SQRT(POWER(BS105-BS104,2)+POWER(BT105-BT104,2))*COS(BT103-ATAN((BS104-BS105)/(BT105-BT104)))","v":71.728171017165522},{"$f":"BU105","v":25},null,{"$f":"BK104","v":6.1127198803362468},{"$f":"BL104","v":72.733678063661415},23,"نقطه یقه",{"$f":"CA104+SQRT(POWER(CA105-CA104,2)+POWER(CB105-CB104,2))*SIN(CB103-ATAN((CA104-CA105)/(CB105-CB104)))","v":6.1127198803362468},{"$f":"CB104+SQRT(POWER(CA105-CA104,2)+POWER(CB105-CB104,2))*COS(CB103-ATAN((CA104-CA105)/(CB105-CB104)))","v":72.733678063661415},{"$f":"CC105","v":23},null,null,{"$f":"'متغیرها '!C55","v":0},"شیفت افقی تکه پهلو",null,{"$f":"CI120+CJ105","v":11.439919455642789},{"$f":"CJ120","v":59.251850429449},"شیفت 20f",null,null,{"$f":"'متغیرها '!C56","v":0},"شیفت افقی تکه پهلو",null,{"$f":"CQ123+CR105","v":12.556227120535015},{"$f":"CR123+CR106","v":59.835633934124658},"شیفت 16f",null,{"$f":"-CU105+CZ101","v":-12.556227120535015},59.835633934124658,"شیفت 16f",null,{"$f":"AZ180-DD122","v":7.6900475927238983},{"$f":"BA180","v":37.83},"47''",null,{"$f":"DC112-(DC106-DC109)","v":11.183445400053179},{"$f":"DD112","v":33.963859405284474},"50''s",null,14.737774999999999,48.343380736880853,"41شیفت",null,{"$f":"BO126","v":7.1825999999999999},{"$f":"BP126","v":59.816656485349888},"شیفت40",null,{"$f":"DO109+DL109","v":20.32605208463896},{"$f":"DP109","v":36.741895563735973},"شیفت42m",null,null,11.439919455642789,59.251850429449,"20f",null,{"$f":"-DX105+ED137","v":-11.439919455642789},59.251850429449,"20f",null,12.556227120535015,59.835633934124658," 16f",null,{"$f":"-EF105+ED138","v":-12.556227120535015},59.835633934124658," 16f",null,null,null,null,null,{"$f":"BW136","v":11.954995220574624},{"$f":"BX136","v":65.074462606118075},"b12","نقطه حلقه آستین",{"$f":"CE119","v":12.187997214444849},{"$f":"CF119","v":66.778600976575078},"b12","نقطه حلقه آستین",null,null,{"$f":"BW132+BT130","v":15.724428705502509},{"$f":"BX132","v":56.627575017602048},"شیفتb4",null,null,null,null,null,{"$f":"AZ172","v":14.737774999999999},{"$f":"BA172","v":37.043380736880856},"شیفت 45",null,11.183445400053179,33.963859405284474,"50''s",null,{"$f":"AZ179","v":7.3400475927238986},{"$f":"BA179","v":48},"شیفت 40",null,12.41039791536104,34.118380736880859,"49'شیفتm",null,null,null,null,null,{"$f":"IF('متغیرها '!C119=1,EV121,CE119)+CB112","v":12.187997214444849},{"$f":"IF('متغیرها '!C119=1,EW121,CF119)+CB113","v":66.778600976575078},"شیفت b12 یا b'12p",null,{"$f":"-GD105+FK99","v":-12.187997214444849},66.778600976575078,"شیفت b12 یا b'12p",null,null,null,null,null,null,null,null,null,{"$f":"DS102","v":18.241354781785279},{"$f":"DT102","v":57.052090880791397},{"$f":"DU102","v":"شیفت8m"},null,{"$f":"-GT105+GA99","v":-18.241354781785279},{"$f":"GU105","v":57.052090880791397},{"$f":"ES102","v":"مولفه عمودی"},null,{"$f":"DS102","v":18.241354781785279},{"$f":"DT102","v":57.052090880791397},{"$f":"DU102","v":"شیفت8m"},null,{"$f":"-HB105+GI99","v":-18.241354781785279},{"$f":"HC105","v":57.052090880791397},{"$f":"ES102","v":"مولفه عمودی"},null,null,null,{"$f":"-CM104-HY101","v":-10.683863248352782},61.877081804961719,"شیفت 16f",null,{"$f":"-CM114-HY101","v":-9.451262124445531},{"$f":"CN114","v":70.544899032397041},"شیفت وسط 22f",null,{"$f":"-FV104-HY101","v":-12.41039791536104},{"$f":"FW104","v":37.043380736880856},"شیفت 45m",null,null,null,null,null,null,null,null,null,{"$f":"-FN105-HY101","v":-11.183445400053179},33.963859405284474,"50''s",null,{"$f":"-CR155-HY101","v":-7.3400475927238986},{"$f":"CS155","v":48},"39 یا d5",null,{"$f":"-FD251-HY101","v":0},{"$f":"FE251","v":33.775000000000006},"1'",null,{"$f":"-AF268-HY101","v":-39.940820381993341},{"$f":"AG268","v":41.614734335159028},"c2",null,{"$f":"-DI233-HY101","v":-10.860553749999999},{"$f":"DJ233","v":38.826306390355946},"m6",null,{"$f":"-ES234-HY101","v":-14.451828737436418},{"$f":"ET234","v":33.306400000000004},"p7"]
[null,"شیفت عمودی تکه پشت",{"$f":"HW323","v":0},null,"فاصله نوار کمر تا زمین، از قسمت پشت","g",null,{"$f":"'متغیرها '!U58+'متغیرها '!C63*'متغیرها '!U58","v":48},{"$f":"'متغیرها '!U58","v":48},null,2,2,"e10","نقطه دوم خط تقارن",null,null,{"$f":"L115-L136","v":10.46},{"$f":"L127+L137","v":11.78726082737859},20,null,null,null,null,null,null,null,null,null,null,null,null,"انحنا ساسون کمر ",null,null,null,{"$f":"AR152","v":9.9772867218698593},23.662473914695777,36,null,null,null,null,null,null,null,null,null,null,"(4 → 5)",{"$f":"U142","v":7.8544165915675519},null,{"$f":"AX99","v":0},{"$f":"0+AX98","v":33.775000000000006},1,null,null,null,null,{"$f":"BG108+0.5*(AV100-AV104+BG99-BG108)","v":14.176611110976093},"(1 → 5)",{"$f":"BI108+0.5*(AX100-AX104+BI99-BI108)","v":16.463094866763416},null,{"$f":"BI127+BI134+BI98","v":8.7188795213449861},{"$f":"BI103-BI135+BI97","v":71.934712254645689},30,null,{"$f":"BK114","v":17.015427697146322},{"$f":"BL114","v":56.325133880791398},"شیفت9",null,4.8888099691822111,68.090424684044606,30,"نقطه یقه",{"$f":"BS104+SQRT(POWER(BS106-BS104,2)+POWER(BT106-BT104,2))*SIN(BT103-ATAN((BS104-BS106)/(BT106-BT104)))","v":4.8888099691822111},{"$f":"BT104+SQRT(POWER(BS106-BS104,2)+POWER(BT106-BT104,2))*COS(BT103-ATAN((BS104-BS106)/(BT106-BT104)))","v":68.090424684044606},30,null,{"$f":"BK135","v":4.5845399102521851},{"$f":"BL135","v":71.638543045247559},28,"نقطه یقه",{"$f":"CA104+SQRT(POWER(CA106-CA104,2)+POWER(CB106-CB104,2))*SIN(CB103-ATAN((CA104-CA106)/(CB106-CB104)))","v":4.5845399102521851},{"$f":"CB104+SQRT(POWER(CA106-CA104,2)+POWER(CB106-CB104,2))*COS(CB103-ATAN((CA104-CA106)/(CB106-CB104)))","v":71.638543045247559},28,null,"نقاط  ورودی",null,null,null,{"$f":"CI121+CJ105","v":13.204050605986136},{"$f":"CJ121","v":57.414188466590097},"شیفت 18f",null,null,{"$f":"'متغیرها '!C57","v":0},"شیفت عمودی تکه پهلو",null,{"$f":"CQ124+CR105","v":14.290360678106079},{"$f":"CR124+CR106","v":57.588913899991368},"شیفت 14f",null,{"$f":"-CU106+CZ101","v":-14.290360678106079},57.588913899991368,"شیفت 14f",null,{"$f":"AZ181-DD122","v":7.6900475927238983},{"$f":"BA181","v":33.775000000000006},53,null,{"$f":"DC113-(DC106-DC109)","v":12.769184066690302},{"$f":"DD113","v":34.084042663192776},"50'''s",null,14.737774999999999,37.043380736880856,"45شیفت",null,{"$f":"BK122","v":15.91397769714632},{"$f":"BL122","v":56.325133880791398},"شیفت8",null,{"$f":"DO110+DL109","v":20.32605208463896},{"$f":"DP110","v":33.816895563735976},"شیفت43''m",null,null,13.204050605986136,57.414188466590097," 18f",null,{"$f":"-DX106+ED137","v":-13.204050605986136},57.414188466590097," 18f",null,14.290360678106079,57.588913899991368," 14f",null,{"$f":"-EF106+ED138","v":-14.290360678106079},57.588913899991368," 14f",null,null,null,null,null,{"$f":"BW135","v":11.069121989515221},{"$f":"BX135","v":61.47342425802357},"b6","نقطه حلقه آستین",{"$f":"CE118","v":12.25837068641593},{"$f":"CF118","v":62.844684190582925},"b6","نقطه حلقه آستین",null,null,{"$f":"BW133+BT130","v":13.396968749446888},{"$f":"BX133","v":57.354266648838504},"شیفتb8",null,{"$f":"BW114","v":5.1717802911879094},{"$f":"BX114","v":68.391257174899948},"e5",null,null,null,null,null,12.769184066690302,34.084042663192776,"50'''s",null,{"$f":"BD178","v":14.737774999999999},{"$f":"BE178","v":48.343380736880853},"شیفت 41",null,null,null,null,null,{"$f":"EO166","v":12.904292371017522},{"$f":"EP166","v":52.795086277899486},"a2",null,{"$f":"EW152+CB112","v":12.676257676041086},{"$f":"EX152+CB113","v":70.107927199272382},"شیفت 18b",null,{"$f":"-GD106+FK99","v":-12.676257676041086},70.107927199272382,"شیفت 18b",null,null,null,"9پهلو ترک",null,null,null,"پهلو ترک",null,null,null,null,null,null,null,null,null,null,null,null,null,null,null,null,null,null,null,{"$f":"-CM105-HY101","v":-11.439919455642789},59.251850429449,"شیفت 20f",null,null,null,null,null,{"$f":"-FV105-HY101","v":-12.41039791536104},{"$f":"FW105","v":34.118380736880859},"شیفت 49'm",null,{"$f":"-FB104-HY101","v":-16.825878698342962},{"$f":"FC104","v":56.627700603276089},"شیفتb14",null,{"$f":"-FJ104-HY101","v":-14.737774999999999},{"$f":"FK104","v":48.343380736880853},"شیفت 41",null,{"$f":"-FN106-HY101","v":-12.769184066690302},34.084042663192776,"50'''s",null,{"$f":"-CR158-HY101","v":-7.2574518037325406},{"$f":"CS158","v":45.6},"d5",null,{"$f":"-FD252-HY101","v":-6.990047592723899},{"$f":"FE252","v":33.775000000000006},52,null,null,null,null,null,{"$f":"-DI234-HY101","v":-14.737774999999999},{"$f":"DJ234","v":38.96},"m4"]
[null,null,null,null,"فاصله نوار زانو تا زمین","h",null,{"$f":"'متغیرها '!U59+'متغیرها '!C63*'متغیرها '!U59","v":17.2},{"$f":"'متغیرها '!U59","v":17.2},null,1,2,"e3","نقطه قرینه خواسته",null,null,{"$f":"L115-L134","v":11.6},{"$f":"L127+L135","v":10.737260827378591},18,null,{"$f":"L143","v":5.2440000000000007},{"$f":"L114","v":24},25,null,null,null,null,null,null,null,null,{"$f":"AR130","v":15.873071765418604},{"$f":"AS130","v":5.4788816871882506},16,null,9.2658852254629043,21.870404573490141,"36-",null,null,null,null,null,null,null,null,null,null,"(1 → 6)",{"$f":"AX110+(AX111-AX108)*TAN(AX101)","v":16.369420850798402},null,{"$f":"AX107+AX99","v":16.369420850798402},{"$f":"0+AX98","v":33.775000000000006},6,null,{"$f":"J236","v":0},{"$f":"K236","v":55.2},"e1",null,"(5 → 6)",{"$f":"H108-H114+Y128+0.5*(H106-H104)","v":2.9668955637359673},null,null,null,null,null,null,null,null,null,2.4444049845911056,65.180227617547871,28,"نقطه یقه",{"$f":"BS104+SQRT(POWER(BS107-BS104,2)+POWER(BT107-BT104,2))*SIN(BT103-ATAN((BS104-BS107)/(BT107-BT104)))","v":2.4444049845911051},{"$f":"BT104+SQRT(POWER(BS107-BS104,2)+POWER(BT107-BT104,2))*COS(BT103-ATAN((BS104-BS107)/(BT107-BT104)))","v":65.180227617547871},28,null,{"$f":"BK132","v":2.4450879521344988},{"$f":"BL132","v":71.090975536040617},26,"نقطه یقه",{"$f":"CA104+SQRT(POWER(CA107-CA104,2)+POWER(CB107-CB104,2))*SIN(CB103-ATAN((CA104-CA107)/(CB107-CB104)))","v":2.4450879521344993},{"$f":"CB104+SQRT(POWER(CA107-CA104,2)+POWER(CB107-CB104,2))*COS(CB103-ATAN((CA104-CA107)/(CB107-CB104)))","v":71.090975536040617},26,null,"مولفه افقی","مولفه عمودی","اسم نقطه ",null,{"$f":"CI110+CJ105","v":15.72423796361949},{"$f":"CJ110","v":56.626619053936281},"شیفت 12",null,null,{"$f":"'متغیرها '!C71","v":0.25},"x6",null,{"$f":"CQ113+CR105","v":17.015427697146322},{"$f":"CR113+CR106","v":56.325133880791398},"شیفت 9",null,{"$f":"-CU107+CZ101","v":-17.015427697146322},56.325133880791398,"شیفت 9",null,{"$f":"AZ166","v":7.3400475927238986},{"$f":"BA166","v":48},39,null,{"$f":"DC114-(DC106-DC109)","v":14.037775},{"$f":"DD114","v":34.118380736880859},"49's",null,14.737774999999999,34.118380736880859,"49'شیفت",null,{"$f":"BO170","v":15.91397769714632},{"$f":"BP170","v":53.461363880791403},"شیفت10",null,{"$f":"DO106","v":15.91397769714632},{"$f":"DP106+0.5*(DT102-DP106)","v":56.688612380791398},"شیفت8'm",null,null,{"$f":"CI110","v":15.72423796361949},{"$f":"CJ110","v":56.626619053936281},12,null,{"$f":"-DX107+ED137","v":-15.72423796361949},56.626619053936281,12,null,{"$f":"CQ113","v":17.015427697146322},{"$f":"CR113","v":56.325133880791398},9,null,{"$f":"-EF107+ED138","v":-17.015427697146322},56.325133880791398,9,null,null,null,null,null,{"$f":"BW134","v":12.000404363498989},{"$f":"BX134","v":58.565702422540063},"b10","نقطه حلقه آستین",{"$f":"CE117","v":13.648309905038673},{"$f":"CF117","v":59.407086074851811},"b10","نقطه حلقه آستین",null,null,{"$f":"IF('متغیرها '!C119=1,ER123,BW134)+BT130","v":12.000404363498989},{"$f":"IF('متغیرها '!C119=1,ES123,BX134)","v":58.565702422540063},"شیفت b10 یا b'10g",null,{"$f":"BW117","v":0.74983757847697419},{"$f":"BX117","v":65.700320692592442},"e9",null,{"$f":"AZ172","v":14.737774999999999},{"$f":"BA172","v":37.043380736880856},"شیفت 45",null,14.037775,34.118380736880859,"49's",null,null,null,"باسن",null,{"$f":"DK124","v":12.41039791536104},{"$f":"DL124","v":34.118380736880859},{"$f":"DM124","v":"49'شیفتm"},null,{"$f":"EO170","v":8.501642146554742},{"$f":"EP170","v":50.893077650109539},"a6",null,null,null,null,null,null,null,null,null,{"$f":"BO170","v":15.91397769714632},{"$f":"BP170","v":53.461363880791403},"شیفت 10",null,{"$f":"-GL107+FS99","v":-15.91397769714632},{"$f":"GM107","v":53.461363880791403},"شیفت 10",null,{"$f":"DS102","v":18.241354781785279},57.052090880791397,"شیفت8m",null,{"$f":"-GT107+GA99","v":-18.241354781785279},{"$f":"GU107","v":57.052090880791397},{"$f":"ES102","v":"مولفه عمودی"},null,{"$f":"DS102","v":18.241354781785279},57.052090880791397,"شیفت8m",null,{"$f":"-HB107+GI99","v":-18.241354781785279},{"$f":"HC107","v":57.052090880791397},{"$f":"ES102","v":"مولفه عمودی"},null,null,null,{"$f":"-CM106-HY101","v":-13.204050605986136},57.414188466590097,"شیفت 18f",null,{"$f":"-CM116-HY101","v":-9.451262124445531},{"$f":"CN116","v":70.544899032397041},"شیفت وسط 22f",null,null,null,null,null,{"$f":"-FB105-HY101","v":-15.724428705502509},56.627575017602048,"شیفتb4",null,{"$f":"-FJ107-HY101","v":-14.737774999999999},{"$f":"FK107","v":37.043380736880856},"شیفت 45",null,{"$f":"-FN107-HY101","v":-14.037775},34.118380736880859,"49's",null,null,null,null,null,null,null,null,null,{"$f":"-AF270-HY101","v":-6.6041799447201859},{"$f":"AG270","v":33.775000000000006},"3'",null,null,null,null,null,{"$f":"-ES236-HY101","v":-14.451828737436418},{"$f":"ET236","v":33.306400000000004},"p7"]
[null,null,null,null,"فاصله نوار باسن تا زمین","j",null,{"$f":"'متغیرها '!U60+'متغیرها '!C63*'متغیرها '!U60","v":36.700000000000003},{"$f":"'متغیرها '!U60","v":36.700000000000003},null,{"$f":"K107+2*(SIN(ATAN((K106-K105)/(L106-L105)))*(L107-L105)+COS(ATAN((K106-K105)/(L106-L105)))*(K105-K107))*COS(ATAN((K106-K105)/(L106-L105)))","v":2},{"$f":"L107-2*(SIN(ATAN((K106-K105)/(L106-L105)))*(L107-L105)+COS(ATAN((K106-K105)/(L106-L105)))*(K105-K107))*SIN(ATAN((K106-K105)/(L106-L105)))","v":1.0000000000000002},"e11","نقطه قرینه شده نسبت به خط تقارن",null,null,{"$f":"L115","v":13.5},{"$f":"L127","v":10.107260827378591},12,null,{"$f":"L143+L150","v":8.3423577789133532},{"$f":"L114-L151","v":23.121441415130775},32,null,null,null,null,null,null,null,null,{"$f":"AR126+0.5*(AR130-AR126)","v":15.4608733827093},{"$f":"IF(G151>0,AS126+0.65*(AS130-AS126),AS126)","v":3.5612730966723629},null,null,8.7323341031576884,20.334345138171027,"36--",null,null,null,null,null,null,null,null,null,null,"(6 → 7)",{"$f":"AX166","v":0.34338073688085208},null,{"$f":"AX107+AX99","v":16.369420850798402},{"$f":"AX108+AX98","v":34.118380736880859},7,null,{"$f":"J232","v":5.4999112153299867},{"$f":"K232","v":69.545523217292981},"e7",{"$f":"0.5*'متغیرها '!U73+AE127","v":13.653222221952188},"(1 → 7)",{"$f":"0.5*H121+'متغیرها '!C61*H120+AD127","v":15.91397769714632},null,null,null,null,null,{"$f":"BK150","v":0},{"$f":"BL150","v":58},"سینه",null,{"$f":"BD105","v":0},{"$f":"BE105","v":64.452678350923691},26,"نقطه یقه",{"$f":"BS104+SQRT(POWER(BS108-BS104,2)+POWER(BT108-BT104,2))*SIN(BT103-ATAN((BS104-BS108)/(BT108-BT104)))","v":0},{"$f":"BT104+SQRT(POWER(BS108-BS104,2)+POWER(BT108-BT104,2))*COS(BT103-ATAN((BS104-BS108)/(BT108-BT104)))","v":64.452678350923691},26,null,{"$f":"BK138","v":0},{"$f":"BL138","v":70.908453032971636},24,"نقطه یقه",{"$f":"CA104+SQRT(POWER(CA108-CA104,2)+POWER(CB108-CB104,2))*SIN(CB103-ATAN((CA104-CA108)/(CB108-CB104)))","v":0},{"$f":"CB104+SQRT(POWER(CA108-CA104,2)+POWER(CB108-CB104,2))*COS(CB103-ATAN((CA104-CA108)/(CB108-CB104)))","v":70.908453032971636},24,null,{"$f":"BW163","v":10.683863248352782},{"$f":"BX163","v":61.877081804961719},"b6","با چرخش کامل",{"$f":"CI111+CJ105","v":16.82568796361949},{"$f":"CJ111","v":56.626619053936281},"شیفت 13",null,null,{"$f":"'متغیرها '!C76","v":0},"x8",null,null,null,null,null,null,null,null,null,{"$f":"AZ176","v":6.990047592723899},{"$f":"BA176","v":37.83},"47'",null,{"$f":"DC115-(DC106-DC109)","v":14.037775},37.043380736880856,"45s",null,{"$f":"AZ181","v":7.6900475927238983},{"$f":"BA181","v":33.775000000000006},"53شیفت",null,{"$f":"BK162","v":15.598675},{"$f":"BL162","v":48.04189556373597},"شیفت36",null,{"$f":"DO103+0.35*(DO104-DO103)","v":12.910713031239021},{"$f":"DP104+0.45*(DP103-DP104)","v":60.310179980791403},"شیفت12m",null,null,{"$f":"CI111","v":16.82568796361949},{"$f":"CJ111","v":56.626619053936281},13,null,{"$f":"-DX108+ED137","v":-16.82568796361949},56.626619053936281,13,null,null,null,null,null,null,null,null,null,null,null,null,null,{"$f":"BW133","v":13.396968749446888},{"$f":"BX133","v":57.354266648838504},"b8","نقطه حلقه آستین",{"$f":"CE116","v":15.510732829046315},{"$f":"CF116","v":57.816394387709977},"b8","نقطه حلقه آستین",null,null,{"$f":"IF('متغیرها '!C119=1,ER122,BW135)+BT130","v":11.069121989515221},{"$f":"IF('متغیرها '!C119=1,ES122,BX135)","v":61.47342425802357},"شیفت b6 یا b'6g",null,null,null,null,null,{"$f":"BD180","v":14.737774999999999},{"$f":"BE180","v":34.118380736880859},"شیفت49'  …",null,null,null,null,null,{"$f":"FR102","v":0},{"$f":"FS102-(H104-H108)","v":36.700000000000003},"g46",null,{"$f":"DG139","v":11.883445400053178},{"$f":"DH139","v":33.963859405284474},"50''شیفت",null,{"$f":"EO171","v":6.2374220311167408},{"$f":"EP171","v":45.187051766739692},"a7",null,{"$f":"CE122+CB112","v":17.337604411925593},{"$f":"CF122+CB113","v":57.418508030044734},"شیفت b14",null,{"$f":"-GD108+FK99","v":-17.337604411925593},{"$f":"GE108","v":57.418508030044734},"شیفت b14",null,{"$f":"BK162","v":15.598675},{"$f":"BL162","v":48.04189556373597},"شیفت 36",null,{"$f":"-GL108+FS99","v":-15.598675},{"$f":"GM108","v":48.04189556373597},"شیفت 36",null,18.241354781785279,53.461363880791403,"شیفت10m",null,{"$f":"-GT108+GA99","v":-18.241354781785279},{"$f":"GU108","v":53.461363880791403},{"$f":"ES103","v":68.686832378035945},null,18.241354781785279,53.461363880791403,"شیفت10m",null,{"$f":"-HB108+GI99","v":-18.241354781785279},{"$f":"HC108","v":53.461363880791403},{"$f":"ES103","v":68.686832378035945},null,null,null,{"$f":"-CM107-HY101","v":-15.72423796361949},56.626619053936281,"شیفت 12",null,{"$f":"-CM117-HY101","v":-7.8544165915675519},{"$f":"CN117","v":62.247733580884876},"شیفت5 پیراهن",null,{"$f":"-FV107-HY101","v":-12.41039791536104},{"$f":"FW107","v":34.118380736880859},"شیفت 49'm",null,{"$f":"-FB106-HY101","v":-13.396968749446888},57.354266648838504,"شیفتb8",null,null,null,null,null,null,null,null,null,{"$f":"-CR158-HY101","v":-7.2574518037325406},{"$f":"CS158","v":45.6},"d5",null,{"$f":"-FD254-HY101","v":0},{"$f":"FE254","v":41.160362606618179},"p26",null,{"$f":"-AF271-HY101","v":-23.272500163356764},{"$f":"AG271","v":36.12692030054771},"c5",null,{"$f":"-DI236-HY101","v":0},{"$f":"DJ236","v":32.275319517797207},"m1",null,{"$f":"-ES237-HY101","v":-14.451828737436418},{"$f":"ET237","v":33.775000000000006},"p8"]
[null,null,null,null,"دور زانو","L",null,{"$f":"'متغیرها '!U61","v":23},{"$f":"'متغیرها '!U61","v":23},null,null,null,null,null,null,null,null,null,null,null,null,null,null,null,null,null,null,null,null,null,null,{"$f":"AR126+0.15*(AR130-AR126)","v":15.172334514812787},{"$f":"IF(G151>0,AS126+0.3*(AS130-AS126),AS126)","v":1.6436645061564752},null,null,{"$f":"AR156","v":8.1987829808524726},{"$f":"AS156","v":18.542275796965392},38,null,null,null,null,null,null,null,null,null,null,"(3 → 7)","هلال وصل",null,null,null,null,null,null,null,null,null,"(4 → 7)","هلال وصل",null,{"$f":"BI108-BI114+BI122+BI98+'متغیرها '!C56","v":12.917523279141387},{"$f":"BI110+BI115+BI97+'متغیرها '!C57","v":62.272963880791401},"شیفت19",null,{"$f":"BK151","v":3.5912999999999999},{"$f":"BL151","v":58},null,null,{"$f":"AZ138","v":8.71204984591105},{"$f":"BA138","v":70.912684068662116},32,"نقطه ساسون سرشانه",{"$f":"BS104+SQRT(POWER(BS109-BS104,2)+POWER(BT109-BT104,2))*SIN(BT103-ATAN((BS104-BS109)/(BT109-BT104)))","v":8.71204984591105},{"$f":"BT104+SQRT(POWER(BS109-BS104,2)+POWER(BT109-BT104,2))*COS(BT103-ATAN((BS104-BS109)/(BT109-BT104)))","v":70.912684068662116},32,null,{"$f":"BK106","v":8.7188795213449861},{"$f":"BL106","v":71.934712254645689},30,"نقطه ساسون سرشانه",{"$f":"CA104+SQRT(POWER(CA109-CA104,2)+POWER(CB109-CB104,2))*SIN(CB103-ATAN((CA104-CA109)/(CB109-CB104)))","v":8.7188795213449861},{"$f":"CB104+SQRT(POWER(CA109-CA104,2)+POWER(CB109-CB104,2))*COS(CB103-ATAN((CA104-CA109)/(CB109-CB104)))","v":71.934712254645689},30,null,{"$f":"BW105","v":6.1110124614777632},{"$f":"BX105","v":71.728171017165522},25,"نقطه اتصال سرشانه به گردن",null,null,null,null,null,{"$f":"'متغیرها '!C78","v":0.2},"x10",null,{"$f":"CQ113+CR105","v":17.015427697146322},{"$f":"CR113+CR106","v":56.325133880791398},"شیفت 9",null,{"$f":"-CU109+CZ101","v":-17.015427697146322},{"$f":"CV109","v":56.325133880791398},"شیفت 9",null,{"$f":"AZ177","v":6.990047592723899},{"$f":"BA177","v":33.775000000000006},52,null,{"$f":"DC118+DD122","v":13.396968749446888},{"$f":"DD118","v":57.354266648838504},"b8s",null,null,{"$f":"AX119","v":2.3273770846389592},"(12 →17)",null,{"$f":"BK165","v":17.998675000000002},{"$f":"BL165","v":36.741895563735973},"شیفت42",null,{"$f":"DO104+0.4*(DS107-DO104)","v":14.504624446106025},{"$f":"DT107+0.35*(DP104-DT107)","v":57.394091105791397},"شیفت8''m",null,null,null,null,null,null,null,null,null,null,{"$f":"CQ113","v":17.015427697146322},{"$f":"CR113","v":56.325133880791398},9,null,{"$f":"-EF109+ED138","v":-17.015427697146322},{"$f":"EG109","v":56.325133880791398},9,null,null,null,null,null,null,{"$f":"'متغیرها '!C120*F137","v":0.155},"g0",null,null,null,null,null,null,null,{"$f":"IF('متغیرها '!C119=1,ER121,BW136)+BT130","v":11.954995220574624},{"$f":"IF('متغیرها '!C119=1,ES121,BX136)","v":65.074462606118075},"شیفت b12 یا b'12g",null,{"$f":"BW117","v":0.74983757847697419},{"$f":"BX117","v":65.700320692592442},"e9",null,null,null,"چیب",null,{"$f":"DG107","v":14.037775},{"$f":"DH107","v":34.118380736880859},"49's",null,{"$f":"AZ176","v":6.990047592723899},{"$f":"FS108","v":36.700000000000003},"g47'",null,{"$f":"DG138","v":10.297706733416055},{"$f":"DH138","v":33.843676147376179},"50'شیفت",null,{"$f":"EO169","v":6.6147920503564075},{"$f":"EP169","v":33.775000000000006},"a5",null,{"$f":"CE123+CB112","v":16.555099607481669},{"$f":"CF123+CB113","v":54.451681957215023},"شیفت b2",null,{"$f":"-GD109+FK99","v":-16.555099607481669},{"$f":"GE109","v":54.451681957215023},"شیفت b2",null,null,null,null,null,null,null,null,null,17.926052084638961,48.04189556373597,"شیفت36m",null,{"$f":"-GT109+GA99","v":-17.926052084638961},{"$f":"GU109","v":48.04189556373597},{"$f":"ES104","v":71.728171017165522},null,{"$f":"DS105","v":20.32605208463896},36.741895563735973,"شیفت42m",null,{"$f":"-HB109+GI99","v":-20.32605208463896},{"$f":"HC109","v":36.741895563735973},{"$f":"ES105","v":65.074462606118075},null,null,null,{"$f":"-CM108-HY101","v":-16.82568796361949},56.626619053936281,"شیفت 13",null,null,null,null,null,{"$f":"-FV108-HY101","v":-11.883445400053178},{"$f":"FW108","v":33.963859405284474},"50''شیفت",null,{"$f":"-FB107-HY101","v":-12.000404363498989},58.565702422540063,"شیفت b10 یا b'10g",null,{"$f":"-FJ107-HY101","v":-14.737774999999999},{"$f":"FK107","v":37.043380736880856},"شیفت 45",null,{"$f":"-FN109-HY101","v":-14.037775},{"$f":"FO109","v":34.118380736880859},"49's",null,{"$f":"-CR161-HY101","v":0},{"$f":"CS161","v":42.24},"_u5",null,{"$f":"-FD255-HY101","v":0},{"$f":"FE255","v":33.775000000000006},1,null,{"$f":"-AF272-HY101","v":-39.940820381993341},{"$f":"AG272","v":41.614734335159028},"c2",null,{"$f":"-DI237-HY101","v":-3.66},{"$f":"DJ237","v":32.275319517797207},"m2"]
[null,null,null,null,"بلندی فاق","m",null,{"$f":"1.06*'متغیرها '!U62+0.03*'متغیرها '!U56*'متغیرها '!U66*IF('متغیرها '!U66=1,0.2,0.6)+'متغیرها '!C63*'متغیرها '!U62","v":16.568000000000001},{"$f":"1.06*'متغیرها '!U62+0.03*'متغیرها '!U56*'متغیرها '!U66*IF('متغیرها '!U66=1,0.2,0.6)","v":16.568000000000001},null,null,null,null,null,null,null,null,null,null,null,{"$f":"L115-L132+L138-L153","v":9.7277173034675428},{"$f":"L127+L133+L139+L154","v":22.83392097929071},34,null,null,null,null,null,null,null,null,{"$f":"AR126","v":15.048674999999996},{"$f":"AS126","v":0},12,null,{"$f":"AR150","v":8.5108409051479814},{"$f":"AS150","v":21.23849402580554},"34--",null,null,null,null,null,null,null,null,null,{"$f":"AV104+0.5*(AV100-AV104+BG99-BG108)","v":14.023388889023906},"(1 → 8)",{"$f":"AX104+0.5*(AX100-AX104+BI99-BI108)","v":16.273355133236585},null,{"$f":"0+AX99","v":0},{"$f":"H104-H114+AX98","v":48},"کمر",null,{"$f":"AZ131","v":11.767696919733259},{"$f":"BA131","v":42.35},"35شیفت",{"$f":"'متغیرها '!U58-'متغیرها '!U59+H153*(I127-I126)+Y128","v":40.60577565423371},"(7→ 8)",{"$f":"H106-H114+G153*(H127-H126)-AX118*'متغیرها '!C77/(1+'متغیرها '!C77)+Y128","v":22.550133880791396},null,{"$f":"BI108-BI114+BI122+BI98+'متغیرها '!C56","v":12.917523279141387},{"$f":"BI110+BI115+BI123+BI97+'متغیرها '!C57","v":66.191084095389499},"شیفت20",null,"انحنای حلقه یقه پشت",null,null,null,{"$f":"BD98","v":0},{"$f":"BE98","v":64.452678350923691},"26'","نقطه جادکمه",{"$f":"BS104+SQRT(POWER(BS110-BS104,2)+POWER(BT110-BT104,2))*SIN(BT103-ATAN((BS104-BS110)/(BT110-BT104)))","v":0},{"$f":"BT104+SQRT(POWER(BS110-BS104,2)+POWER(BT110-BT104,2))*COS(BT103-ATAN((BS104-BS110)/(BT110-BT104)))","v":64.452678350923691},"26'",null,{"$f":"BK153","v":0},{"$f":"BL153","v":59.816656485349888},39,"امتداد نقطه مرکزی چرخش",{"$f":"CA104+SQRT(POWER(CA110-CA104,2)+POWER(CB110-CB104,2))*SIN(CB103-ATAN((CA104-CA110)/(CB110-CB104+0.001)))","v":6.9612673847530004E-8},{"$f":"CB104+SQRT(POWER(CA110-CA104,2)+POWER(CB110-CB104,2))*COS(CB103-ATAN((CA104-CA110)/(CB110-CB104+0.001)))","v":59.817656485340194},39,null,{"$f":"AZ113","v":15.72423796361949},{"$f":"BA113","v":56.626619053936281},12,null,{"$f":"CM108","v":16.82568796361949},{"$f":"CN108","v":56.626619053936281},"شیفت13",null,{"$f":"BK103","v":0},{"$f":"BL103","v":72.733678063661415},2,null,{"$f":"CQ115","v":15.91397769714632},{"$f":"CR115","v":53.461363880791403},"شیفت 10",null,{"$f":"-CU110+CZ101","v":-15.91397769714632},{"$f":"CV110","v":53.461363880791403},"شیفت 10",null,{"$f":"BD186-DD122","v":8.3948203334515075},{"$f":"BE186","v":33.775000000000006},50,null,{"$f":"DC119+DD122","v":15.724428705502509},{"$f":"DD119","v":56.627575017602048},"b4s",null,null,{"$f":"AX120","v":0.72695700000000008},"(17 →18)",null,{"$f":"BK172","v":17.998675000000002},{"$f":"BL172","v":33.816895563735976},"شیفت43''",null,{"$f":"CE108","v":0},{"$f":"CF108","v":70.908453032971636},"24m",null,null,{"$f":"CI111","v":16.82568796361949},{"$f":"DY108","v":56.626619053936281},13,null,{"$f":"-DX110+ED137","v":-16.82568796361949},{"$f":"DY110","v":56.626619053936281},13,null,{"$f":"CQ115-CR105","v":15.91397769714632},{"$f":"CR115-CR106","v":53.461363880791403},10,null,{"$f":"-EF110+ED138","v":-15.91397769714632},{"$f":"EG110","v":53.461363880791403},10,null,null,null,null,null,null,{"$f":"'متغیرها '!C121","v":2},"g1",null,null,null,null,null,null,null,{"$f":"ER151+BT130","v":14.025614535392796},{"$f":"ES151","v":68.686832378035945},"شیفت22b ",null,{"$f":"BW127","v":-1.4148114652261388},{"$f":"BX127","v":65.266906662552117},"e10",null,{"$f":"FN178","v":10.249127483367291},{"$f":"FO178","v":46.522235236289433},"37شیفت ",null,{"$f":"IF(DH108>DH120,DG120,DG108)","v":14.037935790842843},{"$f":"IF(DH108>DH120,DH120,DH108)","v":30.174015495629956},"45s یا s2",null,null,null,null,null,{"$f":"DG137","v":8.3948203334515075},{"$f":"DH137","v":33.775000000000006},"50شیفت",null,null,null,null,null,null,null,null,null,null,null,null,null,{"$f":"BK162","v":15.598675},{"$f":"BL162","v":48.04189556373597},"شیفت 36",null,{"$f":"-GL110+FS99","v":-15.598675},{"$f":"GM110","v":48.04189556373597},"شیفت 36",null,20.32605208463896,36.741895563735973,"شیفت42m",null,{"$f":"-GT110+GA99","v":-20.32605208463896},{"$f":"GU110","v":36.741895563735973},{"$f":"ES105","v":65.074462606118075},null,20.32605208463896,33.816895563735976,"شیفت43''m",null,{"$f":"-HB110+GI99","v":-20.32605208463896},{"$f":"HC110","v":33.816895563735976},{"$f":"ES106","v":61.47342425802357},null,null,null,null,null,null,null,{"$f":"-CM119-HY101","v":-7.8544165915675519},{"$f":"CN119","v":62.247733580884876},"شیفت 5 پیراهن",null,{"$f":"-FV109-HY101","v":-10.297706733416055},{"$f":"FW109","v":33.843676147376179},"50'شیفت",null,{"$f":"-FB108-HY101","v":-11.069121989515221},61.47342425802357,"شیفت b6 یا b'6g",null,{"$f":"-FJ108-HY101","v":-14.737774999999999},{"$f":"FK108","v":34.118380736880859},"شیفت49'  …",null,{"$f":"-FN110-HY101","v":-14.037935790842843},{"$f":"FO110","v":30.174015495629956},"45s یا s2",null,null,null,null,null,null,null,null,null,null,null,null,null,null,null,null,null,{"$f":"-ES239-HY101","v":-14.451828737436418},{"$f":"ET239","v":33.775000000000006},"p8"]
[null,null,null,null,"آنفورشور","q",null,{"$f":"1*'متغیرها '!U63+0.6*'متغیرها '!C63*'متغیرها '!U63+0.3*'متغیرها '!C60*'متغیرها '!U63","v":42.575700000000005},{"$f":"1*'متغیرها '!U63","v":41.7},"s3",{"$f":"((I124-I123-I127+I126)-0.5*(1-H154)*('متغیرها '!U70-'متغیرها '!U71)*TAN(0.5*IF(L121=0,0,H162))+(0.5-G148)*'متغیرها '!U71*TAN(0.5*H157))","v":0.29281208521519053},{"$f":"(I124-I123-I127+I126-0.5*(1-H154)*('متغیرها '!U70-'متغیرها '!U71)*TAN(0.5*IF(L121=0,0,H162))+(0.5-G148)*'متغیرها '!U71*TAN(0.5*H157))","v":0.29281208521519053},null,null,null,null,null,null,null,null,{"$f":"L115-L132+L138","v":12.64},{"$f":"L127+L133+L139","v":21.459040763170798},22,null,null,null,null,null,null,null,null,null,null,null,null,{"$f":"AR149","v":8.6148602132464838},{"$f":"AS149","v":22.3169813173416},"34-",null,null,"شیفت عمودی جلو بالاتنه به سانتیمتر",{"$f":"0","v":0},null,null,"شیفت عمودی پشت بالاتنه به سانتیمتر",{"$f":"0","v":0},null,null,"(8 → 9)",{"$f":"H108-H114+L125-0.5*(H106-H104)","v":3.2683807368808493},null,null,null,null,null,{"$f":"AZ155","v":10.249127483367291},{"$f":"BA155","v":46.522235236289433},"37شیفت",null,"(8 →9)",{"$f":"AA131","v":1.10145},null,null,null,null,null,{"$f":"BK104","v":6.1127198803362468},{"$f":"BL104","v":72.733678063661415},23,null,{"$f":"AZ103","v":0},{"$f":"BT104","v":58.3},4,"امتداد نقطه مرکزی چرخش",{"$f":"BS104+SQRT(POWER(BS111-BS104,2)+POWER(BT111-BT104,2))*SIN(BT103-ATAN((BS104-BS111)/(BT111-BT104+0.001)))","v":6.8119447860226501E-8},{"$f":"BT104+SQRT(POWER(BS111-BS104,2)+POWER(BT111-BT104,2))*COS(BT103-ATAN((BS104-BS111)/(BT111-BT104+0.001)))","v":58.300999999990715},4,null," انتقال قسمتی از ساسون سرشانه به ساسون زیر بغل به روش چرخش",null,null,null,null,null,null,null,{"$f":"BD156-CJ105","v":16.82568796361949},{"$f":"BE156","v":56.626619053936281},13,"نقطه انتهایی\n زیر حلقه",{"$f":"CI112","v":15.72423796361949},{"$f":"CJ112","v":53.762849053936286},"شیفت14",null,"کارور پشت",{"$f":"H129","v":23.54},"v3",null,null,null,null,null,null,null,null,null,{"$f":"BD185-DD122","v":10.297706733416055},{"$f":"BE185","v":33.843676147376179},"50'",null,{"$f":"DC120+DD122","v":16.825878698342962},{"$f":"DD120","v":56.627700603276089},"b14s",null,{"$f":"O168","v":0},{"$f":"P168","v":0},25,null,{"$f":"BK177","v":6.6326000000000001},{"$f":"BL177","v":33.775000000000006},"شیفت50",null,{"$f":"CE105","v":6.1127198803362468},{"$f":"CF105","v":72.733678063661415},"23m",null,null,{"$f":"CI112-EA137","v":15.72423796361949},{"$f":"CJ112","v":53.762849053936286},14,null,{"$f":"-DX111+ED137","v":-15.72423796361949},{"$f":"DY111","v":53.762849053936286},14,null,null,null,null,null,null,null,null,null,null,null,null,null,{"$f":"BS135","v":11.069483794341572},{"$f":"BT135","v":61.472999053936284},16,"نقطه حلقه آستین بدون چرخش",{"$f":"CA118","v":12.558374718478948},{"$f":"CB118","v":62.272963880791401},12,"نقطه حلقه آستین بدون چرخش",null,null,null,null,null,null,null,null,null,null,{"$f":"FN179","v":13.286266356099228},{"$f":"FO179","v":38.17776476371057},"شیفت37'",null,null,null,null,null,{"$f":"AZ180","v":7.6900475927238983},{"$f":"FS109","v":36.700000000000003},"g47''",null,{"$f":"DK108","v":7.6900475927238983},{"$f":"DL108","v":33.775000000000006},"53شیفت",null,{"$f":"DG126-ES170","v":13.39705162086355},{"$f":"DH126","v":57.354240774294539},"بدون شیفتb'8s",null,{"$f":"CE123+CB112","v":16.555099607481669},{"$f":"CF123+CB113","v":54.451681957215023},"شیفت b2",null,{"$f":"-GD111+FK99","v":-16.555099607481669},{"$f":"GE111","v":54.451681957215023},"شیفت b2",null,{"$f":"BK165","v":17.998675000000002},{"$f":"BL165","v":36.741895563735973},"شیفت 42",null,{"$f":"-GL111+FS99","v":-17.998675000000002},{"$f":"GM111","v":36.741895563735973},"شیفت 42",null,20.32605208463896,33.816895563735976,"شیفت43''m",null,{"$f":"-GT111+GA99","v":-20.32605208463896},{"$f":"GU111","v":33.816895563735976},{"$f":"ES106","v":61.47342425802357},null,null,null,null,null,null,null,null,null,null,null,{"$f":"-CM110-HY101","v":-16.82568796361949},{"$f":"CN110","v":56.626619053936281},"شیفت13",null,{"$f":"-CM120-HY101","v":-7.3400475927238986},{"$f":"CN120","v":58.3},"شیفت 5 بالاتنه",null,{"$f":"-FV110-HY101","v":-8.3948203334515075},{"$f":"FW110","v":33.775000000000006},"شیفت 50",null,{"$f":"-FB109-HY101","v":-11.954995220574624},65.074462606118075,"شیفت b12 یا b'12g",null,null,null,"چیب",null,null,null,null,null,{"$f":"-CR161-HY101","v":0},{"$f":"CS161","v":42.24},"_u5",null,null,null,"49'",null,null,null,null,null,{"$f":"-DI239-HY101","v":-3.66},{"$f":"DJ239","v":32.275319517797207},"m2",null,{"$f":"-ES240-HY101","v":1.8666899465981666},{"$f":"ET240","v":33.775000000000006},"p6"]
[null,null,null,null,"دور مچ پا","r",null,{"$f":"'متغیرها '!U64","v":16.2},{"$f":"0.8*'متغیرها '!U61","v":18.400000000000002},"فاصله لبه دامن یا پیراهن تا زمین  (به سانتیمتر)    k",{"$f":"IF('متغیرها '!C67<1,'متغیرها '!C67*I107,IF('متغیرها '!C67<2,I107+('متغیرها '!C67-1)*(I108-I107),IF('متغیرها '!C67<3,I108+('متغیرها '!C67-2)*(I105-I108),I105+('متغیرها '!C67-3)*(H127-H126))))","v":33.775000000000006},null,null,null,null,null,null,null,null,null,null,null,null,null,null,null,null,null,null,null,null,null,null,null,null,{"$f":"AR148","v":8.7188795213449861},{"$f":"AS148","v":23.934712254645689},34,null,null,null,null,null,null,null,null,null,null,"(1 → 10)",{"$f":"AX104-0.85*AX117","v":11.767696919733259},null,{"$f":"AX104+AX99","v":15.72423796361949},{"$f":"0+AX98","v":33.775000000000006},3,null,null,null,null,null,"(8 → 10)",{"$f":"AA132","v":2.8637700000000001},null,{"$f":"BI108-BI114+BI98+'متغیرها '!C56","v":12.558374718478948},{"$f":"BI110+BI115+BI97+'متغیرها '!C57","v":62.272963880791401},"شیفت12",null,{"$f":"BK135","v":4.5845399102521851},{"$f":"BL135","v":71.638543045247559},28,null,{"$f":"BD98","v":0},{"$f":"BT104","v":58.3},"4'",null,{"$f":"BS104+SQRT(POWER(BS112-BS104,2)+POWER(BT112-BT104,2))*SIN(BT103-ATAN((BS104-BS112)/(BT112-BT104+0.001)))","v":6.8119447860226501E-8},{"$f":"BT104+SQRT(POWER(BS112-BS104,2)+POWER(BT112-BT104,2))*COS(BT103-ATAN((BS104-BS112)/(BT112-BT104+0.001)))","v":58.300999999990715},"4'",null,null,{"$f":"'متغیرها '!C56","v":0},"شیفت افقی",null,null,null,null,null,{"$f":"BD155","v":15.72423796361949},{"$f":"BE155","v":53.762849053936286},"شیفت14",null,null,null,"سرشانه بدون ساسون",null,{"$f":"BK104","v":6.1127198803362468},{"$f":"BL104","v":72.733678063661415},23,"نقطه اتصال سرشانه به گردن",{"$f":"CU102","v":12.793219206271782},{"$f":"CV102","v":70.367134094124438}," شیفت 18f",null,{"$f":"-CU112+CZ101","v":-12.793219206271782},{"$f":"CV112","v":70.367134094124438}," شیفت 18f",null,{"$f":"BD184-DD122","v":11.883445400053178},{"$f":"BE184","v":33.963859405284474},"50''",null,{"$f":"DC121+DD122","v":15.724755228255015},{"$f":"DD121","v":53.763805036216873},"b2s",null,{"$f":"BW144","v":14.022580190996671},{"$f":"BX144","v":68.675635691210431},"b16",null,{"$f":"BK161","v":7.8325999999999993},{"$f":"BL161","v":48},"شیفت35",null,{"$f":"CE107","v":2.4450879521344993},{"$f":"CF107","v":71.090975536040617},"26m",null,null,null,null,null,null,null,null,null,null,{"$f":"CQ120","v":12.793219206271782},{"$f":"CR120","v":70.367134094124438},"  18f",null,{"$f":"-EF112+ED138","v":-12.793219206271782},{"$f":"EG112","v":70.367134094124438},"  18f",null,null,null,null,null,{"$f":"BS134","v":12.000434628197155},{"$f":"BT134","v":58.565171053936282},20,"نقطه حلقه آستین بدون چرخش",{"$f":"CA117","v":13.56505561207916},{"$f":"CB117","v":58.704265880791404},16,"نقطه حلقه آستین بدون چرخش",null,null,null,null,"سرشانه با ساسون متغیر",null,{"$f":"BW118","v":9.9891818374612456},{"$f":"BX118","v":76.994693194502617},"a2",null,null,null,null,null,{"$f":"FN110","v":14.037935790842843},{"$f":"FO110","v":30.174015495629956},{"$f":"FP110","v":"45s یا s2"},null,{"$f":"AZ172","v":14.737774999999999},{"$f":"BE178-(H105-H108)","v":37.043380736880856},"g45",null,null,null,"کمر ",null,{"$f":"EO172","v":13.370397915361039},{"$f":"EP172","v":34.118380736880859},"a8",null,{"$f":"CE125+CB112","v":8.0557377697146322},{"$f":"CF125+CB113","v":59.25139592085835},"شیفت b",null,{"$f":"-GD112+FK99","v":-8.0557377697146322},{"$f":"GE112","v":59.25139592085835},"شیفت b",null,null,null,null,null,null,null,null,null,null,null,null,null,null,null,null,null,{"$f":"DS106","v":20.32605208463896},{"$f":"DT106","v":33.816895563735976},{"$f":"DU106","v":"شیفت43''m"},null,{"$f":"-HB112+GI99","v":-20.32605208463896},{"$f":"HC112","v":33.816895563735976},{"$f":"ES106","v":61.47342425802357},null,null,null,{"$f":"-CM111-HY101","v":-15.72423796361949},{"$f":"CN111","v":53.762849053936286},"شیفت14",null,null,null,null,null,{"$f":"-FV111-HY101","v":-7.6900475927238983},{"$f":"FW111","v":33.775000000000006},"53شیفت",null,{"$f":"-FB110-HY101","v":-14.025614535392796},68.686832378035945,"شیفت22b ",null,{"$f":"-FN178-HY101","v":-10.249127483367291},{"$f":"FO178","v":46.522235236289433},"37شیفت ",null,{"$f":"-FN112-HY101","v":-14.037935790842843},{"$f":"FO112","v":30.174015495629956},{"$f":"IH110","v":"45s یا s2"},null,{"$f":"-CR164-HY101","v":0},{"$f":"CS164","v":42.24},"d4",null,{"$f":"-FD258-HY101","v":0},{"$f":"FE258","v":41.160362606618179},"p10",null,null,null,"92'",null,{"$f":"-DI240-HY101","v":-3.66},{"$f":"DJ240","v":30.275319517797207},"m12"]
[null,null,null,null,null,null,null,null,null,"متغیرهای خروجی جلو (رسم کاربر)",null,"شبیه ساز",null,null,null,null,{"$f":"AN120","v":7.3400475927238986},{"$f":"AO120","v":11.33},6,null,null,null,null,null,"شبیه ساز","متغیرهای خروجی پشت بالاتنه (رسم کاربر)",null,null,null,null,null,{"$f":"AR121","v":7.1825999999999999},{"$f":"AS121","v":13.129618317055431},7,null,null,null,null,null,"نقاط جلو بالاتنه",null,null,null,"نقاط پشت بالاتنه",null,null,null,{"$f":"'متغیرها '!U56-H114+H153*(I127-I126)+L125","v":24.332260827378587},"(3 → 12)",{"$f":"H104-H114+G153*(H127-H126)-AX118*'متغیرها '!C77/(1+'متغیرها '!C77)+L125","v":22.851619053936279},null,{"$f":"AX104+AX99","v":15.72423796361949},{"$f":"AX113+AX98","v":56.626619053936281},12,null,{"$f":"AZ131","v":11.767696919733259},{"$f":"BA131","v":42.35},"35شیفت",null,"(9 → 10→ 6→ 4)","وصل",null,{"$f":"BI108-BI114+BI98+'متغیرها '!C56","v":12.558374718478948},{"$f":"BI110+BI97+'متغیرها '!C57","v":56.325133880791398},"شیفت11",null,{"$f":"BK132","v":2.4450879521344988},{"$f":"BL132","v":71.090975536040617},26,null,{"$f":"J232","v":5.4999112153299867},{"$f":"K232","v":69.545523217292981},"e7",null,{"$f":"BS104+SQRT(POWER(BS113-BS104,2)+POWER(BT113-BT104,2))*SIN(BT103-ATAN((BS104-BS113)/(BT113-BT104)))","v":5.4999112153299867},{"$f":"BT104+SQRT(POWER(BS113-BS104,2)+POWER(BT113-BT104,2))*COS(BT103-ATAN((BS104-BS113)/(BT113-BT104)))","v":69.545523217292981},"e7",null,null,{"$f":"'متغیرها '!C57","v":0},"شیفت عمودی",null,null,null,null,null,"α2",{"$f":"0.5*(P139+0.3*(P140-P139)+AE139+0.3*(AE140-AE139))","v":0.34045293430977369},"زاویه سرشانه با افق",null,{"$f":"CM102","v":12.791511787413299},{"$f":"CN102","v":69.361627047628545},"شیفت22f",null,{"$f":"BK114-CR105","v":17.015427697146322},{"$f":"BL114-CR106","v":56.325133880791398},9,"نقطه انتهایی\n زیر حلقه",{"$f":"CU119+CR105","v":9.4529695433040146},{"$f":"CV119+CR106","v":71.550406078892934},"شیفت وسط 18f",null,{"$f":"-CU113+CZ101","v":-9.4529695433040146},{"$f":"CV113","v":71.550406078892934},"شیفت وسط 18f",null,{"$f":"BD183-DD122","v":13.469184066690302},{"$f":"BE183","v":34.084042663192776},"50'''",null,{"$f":"DC103+DD122","v":7.3400475927238986},{"$f":"DD103","v":56.24},"43s",null,{"$f":"DD572","v":14.575121667338284},37.043380736880856,"10r","شلوار",{"$f":"BO191","v":6.6326000000000001},{"$f":"BP191","v":37.83},"شیفت38''",null,{"$f":"CE106","v":4.5845399102521851},{"$f":"CF106","v":71.638543045247559},"28m",null,null,{"$f":"CI117","v":12.791511787413299},{"$f":"CJ117","v":69.361627047628545},"22f",null,{"$f":"-DX113+ED137","v":-12.791511787413299},{"$f":"DY113","v":69.361627047628545},"22f",null,{"$f":"EF115","v":9.4529695433040146},{"$f":"EG115","v":71.550406078892934}," وسط 18f",null,{"$f":"-EF113+ED138","v":-9.4529695433040146},{"$f":"EG113","v":71.550406078892934}," وسط 18f",null,null,null,null,null,null,null,"محاسبات",null,null,null,"محاسبات",null,null,null,{"$f":"ER150+BT130","v":10.131971486812738},{"$f":"ES150","v":70.651878121153771},"شیفت 34b",null,{"$f":"BW119","v":7.6622802118711562},{"$f":"BX119","v":74.361432105834069},"a13",null,null,null," ترک وسط با ساسون",null,{"$f":"DG120","v":14.037935790842843},{"$f":"DH120","v":30.174015495629956},"s2",null,null,null,"زانو",null,{"$f":"DK122","v":12.41039791536104},{"$f":"DL122","v":48.343380736880853},{"$f":"DM122","v":"41شیفتm"},null,null,null,null,null,null,null,null,null,null,null,null,null,{"$f":"BK165","v":17.998675000000002},{"$f":"BL165","v":36.741895563735973},"شیفت 42",null,{"$f":"-GL113+FS99","v":-17.998675000000002},{"$f":"GM113","v":36.741895563735973},"شیفت 42",null,{"$f":"DS106","v":20.32605208463896},{"$f":"DT106","v":33.816895563735976},{"$f":"DU106","v":"شیفت43''m"},null,{"$f":"-GT113+GA99","v":-20.32605208463896},{"$f":"GU113","v":33.816895563735976},{"$f":"ES106","v":61.47342425802357},null,{"$f":"HB115+0.6*(HB112-HB115)","v":15.303314250783377},{"$f":"HC115+0.8*(HC112-HC115)","v":33.808516450988783},null,null,{"$f":"-HB113+GI99","v":-15.303314250783377},{"$f":"HC113","v":33.808516450988783},null,null,null,null,null,null,null,null,{"$f":"-CM122-HY101","v":-7.3400475927238986},{"$f":"CN122","v":58.3},"شیفت 5 بالاتنه",null,null,null,"کمر ",null,null,null,null,null,{"$f":"-FN179-HY101","v":-13.286266356099228},{"$f":"FO179","v":38.17776476371057},"شیفت37'",null,{"$f":"-FN113-HY101","v":-14.037935790842843},{"$f":"FO113","v":30.174015495629956},"s2",null,null,null,null,null,{"$f":"-FD259-HY101","v":0},{"$f":"FE259","v":42.24},"26''",null,{"$f":"-FN151-HY101","v":0},{"$f":"FO151","v":55.2},"e1",null,null,null,null,null,{"$f":"-ES242-HY101","v":1.8666899465981666},{"$f":"ET242","v":33.775000000000006},"p6"]
[null,null,null,null,"شلوار زنانه و بچگانه = 0       مردانه=1      بچه با پوشک=2",null,null,{"$f":"K112","v":33.775000000000006},"K","(1 → 2)",{"$f":"H124-('متغیرها '!C71)*0.5*G167*SIN(O139)","v":23.728171017165529},{"$f":"I124","v":24},null,null,null,null,{"$f":"AN121","v":7.3400475927238986},{"$f":"AO121","v":8.240000000000002},7,null,"انحنای حلقه آستین جلو",null,null,null,{"$f":"I127","v":25},"(1 → 2)",{"$f":"H127-('متغیرها '!C71)*0.5*G167*SIN(AD139)","v":24.733678063661422},null,null,null,null,{"$f":"AR122","v":7.1825999999999999},{"$f":"AS122","v":11.816656485349888},8,null,null,null,null,null,"مولفه افقی","مولفه عمودی","اسم نقطه ",null,"مولفه افقی","مولفه عمودی","اسم نقطه ",null,null,"(12 → 13)",{"$f":"K128","v":1.10145},null,{"$f":"AX104-AX117+AX99","v":11.069483794341572},{"$f":"AX113+AX98","v":56.626619053936281},15,null,{"$f":"AX112+AX144+AX99+'متغیرها '!C55","v":13.286266356099228},{"$f":"AX143-AX145+AX98","v":38.17776476371057}," شیفت 37'",{"$f":"Y135","v":2.6532222219521868},"(8 → 11)",{"$f":"AA135","v":3.3556029786673727},null,{"$f":"BI108+BI111+BI98+'متغیرها '!C56","v":17.015427697146322},{"$f":"BI110+BI97+'متغیرها '!C57","v":56.325133880791398},"شیفت9",null,{"$f":"BK138","v":0},{"$f":"BL138","v":70.908453032971636},24,null,{"$f":"J233","v":5.1717802911879094},{"$f":"K233","v":68.391257174899948},"e5",null,{"$f":"BS104+SQRT(POWER(BS114-BS104,2)+POWER(BT114-BT104,2))*SIN(BT103-ATAN((BS104-BS114)/(BT114-BT104)))","v":5.1717802911879094},{"$f":"BT104+SQRT(POWER(BS114-BS104,2)+POWER(BT114-BT104,2))*COS(BT103-ATAN((BS104-BS114)/(BT114-BT104)))","v":68.391257174899948},"e5",null,null,{"$f":"(CC126-CC125)","v":0.10929504776349822},"زاویه چرخش به ساسون زیر بغل",null,null,null,null,null,{"$f":"H167","v":6.441020451201906},{"$f":"G167","v":7.2690097450106155},"W",null,{"$f":"CM132+CJ105","v":9.451262124445531},{"$f":"CN132","v":70.544899032397041},"شیفت وسط 22f",null,{"$f":"BK122-CR105","v":15.91397769714632},{"$f":"BL122-CR106","v":56.325133880791398},8,null,null,null,null,null,null,null,null,null,{"$f":"BD180-DD122","v":14.737774999999999},{"$f":"BE180","v":34.118380736880859},"49'",null,{"$f":"DC117+DD122","v":15.72423796361949},{"$f":"DD117","v":53.762849053936286},"14s",null,13.348212576429194,17.2,"7r",null,{"$f":"BO114","v":0},{"$f":"BP114","v":70.908453032971636},24,null,{"$f":"EV103","v":12.676257676041086},{"$f":"EW103","v":70.107927199272382},"18m",null,null,{"$f":"CM114-EA137","v":9.451262124445531},{"$f":"DY116","v":70.544899032397041}," وسط 22f",null,{"$f":"-DX114+ED137","v":-9.451262124445531},{"$f":"DY114","v":70.544899032397041}," وسط 22f",null,null,null,null,null,null,null,null,null,null,null,null,null,"(b12→22g)",{"$f":"SQRT(POWER(ER105-ER103,2)+POWER(ES105-ES103,2))","v":4.1637338670914161},null,null,"(b12→18p)",{"$f":"SQRT(POWER(EV105-EV103,2)+POWER(EW105-EW103,2))","v":3.3649385396316038},null,null,null,null,{"$f":"ER151+BT130","v":14.025614535392796},{"$f":"ES151","v":68.686832378035945},"شیفت22b ",null,{"$f":"BW105","v":6.1110124614777632},{"$f":"BX105","v":71.728171017165522},"چرخیده 25",null,{"$f":"AZ181","v":7.6900475927238983},{"$f":"BA181","v":33.775000000000006},"شیفت 53",null,null,null,null,null,{"$f":"FR108","v":0},{"$f":"BA165-(H104-H107)","v":17.2},"g1",null,{"$f":"AZ167+BT130","v":7.3400475927238986},{"$f":"BA167","v":48},"شیفت 40",null,{"$f":"EO172","v":13.370397915361039},{"$f":"EP172","v":34.118380736880859},"a8",null,{"$f":"CE125+CB112","v":8.0557377697146322},{"$f":"CF125+CB113","v":59.25139592085835},"شیفت b",null,{"$f":"-GD114+FK99","v":-8.0557377697146322},{"$f":"GE114","v":59.25139592085835},"شیفت b",null,{"$f":"BK172","v":17.998675000000002},{"$f":"BL172","v":33.816895563735976},"شیفت 43''",null,{"$f":"-GL114+FS99","v":-17.998675000000002},{"$f":"GM114","v":33.816895563735976},"شیفت 43''",null,{"$f":"GT116+0.6*(GT113-GT116)","v":15.303314250783377},{"$f":"GU116+0.8*(GU113-GU116)","v":33.808516450988783},null,null,{"$f":"-GT114+GA99","v":-15.303314250783377},{"$f":"GU114","v":33.808516450988783},null,null,{"$f":"HB115+0.3*(HB112-HB115)","v":11.536260875391688},{"$f":"HC115+0.2*(HC112-HC115)","v":33.783379112747198},null,null,{"$f":"-HB114+GI99","v":-11.536260875391688},{"$f":"HC114","v":33.783379112747198},null,null,null,null,null,null,"8'",null,{"$f":"-CM123-HY101","v":-7.3400475927238986},{"$f":"CN123","v":56.24},"شیفت 43",null,{"$f":"-FV113-HY101","v":-12.41039791536104},{"$f":"FW113","v":48.343380736880853},"شیفت 41m",null,null,null,"5'",null,null,null,null,null,null,null,null,null,{"$f":"-CR166-HY101","v":-7.3400475927238986},{"$f":"CS166","v":56.24},"شیفت 43",null,null,null,null,null,{"$f":"-FN152-HY101","v":0},52.235705257915662,"8n",null,{"$f":"-DI242-HY101","v":-3.66},{"$f":"DJ242","v":30.275319517797207},"m12",null,{"$f":"-ES243-HY101","v":1.8666899465981666},{"$f":"ET243","v":33.306400000000004},"p5"]
[null,null,null,null,null,null,null,null,null,"(1 → 3)",{"$f":"0.5*(H120-H121)+'متغیرها '!C61*H120-'متغیرها '!C77*O128*H130*((L115-L120-L121-L124)/(L127-L125))","v":15.72423796361949},{"$f":"0.5*('متغیرها '!U72-'متغیرها '!U73)","v":13.5},null,null,null,null,{"$f":"AN119","v":7.3400475927238986},{"$f":"AO119","v":10.3},5,null,{"$f":"AN136","v":14.023763161951312},{"$f":"AO136","v":20.674873691441501},22,null,{"$f":"0.5*'متغیرها '!U73+AE127","v":13.653222221952188},"(1 → 3)",{"$f":"0.5*H121+'متغیرها '!C61*H120+AD127-'متغیرها '!C77*O128*H130*((Y115-Y121-Y123-Y124-Y127)/(Y130))","v":15.873071765418604},null,null,null,null,{"$f":"AR120","v":7.1825999999999999},{"$f":"AS120","v":10},6,null,{"$f":"AR138","v":13.714630655626026},{"$f":"AS138","v":21.414336622821164},24,null,0,{"$f":"0+AP111","v":0},1,null,0,{"$f":"AT111","v":0},1,null,{"$f":"L129","v":0},"(12 → 14)",{"$f":"K129","v":2.8637700000000001},null,{"$f":"AX104-AX117+AX99","v":11.069483794341572},{"$f":"AX113+AX118+AX98","v":61.472999053936284},16,null,null,null,null,5.25,"(11 →12)",5.9478300000000006,null,null,null,null,null,null,null,null,null,{"$f":"J250","v":-1.3003791386715629},{"$f":"K250","v":64.452678350923691},"e3",null,{"$f":"BS104+SQRT(POWER(BS115-BS104,2)+POWER(BT115-BT104,2))*SIN(BT103-ATAN((BS104-BS115)/(BT115-BT104)))","v":-1.3003791386715626},{"$f":"BT104+SQRT(POWER(BS115-BS104,2)+POWER(BT115-BT104,2))*COS(BT103-ATAN((BS104-BS115)/(BT115-BT104)))","v":64.452678350923691},"e3",null,{"$f":"BK122-CB112","v":15.91397769714632},{"$f":"BL122-CB113","v":56.325133880791398},8,"نقطه حلقه آستین",{"$f":"CA104+SQRT(POWER(CA115-CA104,2)+POWER(CB115-CB104,2))*SIN(IF(CB115=CB104,RADIANS(90)-CB114,ATAN((CA115-CA104)/ABS(CB115-CB104))+IF(CB115>CB104,-1,1)*CB114))","v":16.242726500353275},{"$f":"CB104+IF(CB115<CB104,-1,1)*SQRT(POWER(CA115-CA104,2)+POWER(CB115-CB104,2))*COS(IF(CB115=CB104,RADIANS(90)-CB114,ATAN((CA115-CA104)/ABS(CB115-CB104))+IF(CB115>CB104,-1,1)*CB114))","v":57.298364527303043},"b4",null,"نقاط حلقه آستین جلو بدون ساسون سرشانه",null,null,null,null,null,null,null,{"$f":"BO170","v":15.91397769714632},{"$f":"BP170","v":53.461363880791403},"شیفت10",null,{"$f":"CU113","v":9.4529695433040146},{"$f":"CV113","v":71.550406078892934},"شیفت وسط 18f",null,{"$f":"-CU115+CZ101","v":-9.4529695433040146},{"$f":"CV115","v":71.550406078892934},"شیفت وسط 18f",null,{"$f":"AZ172-DD122","v":14.737774999999999},{"$f":"BA172","v":37.043380736880856},45,null,{"$f":"DG113+DD127*SIN(DD123+DD131)","v":7.3409871051430695},{"$f":"DH113-DD127*COS(DD123+DD131)","v":48.000000053560896},"40s",null,13.348212576429194,17.2,"5r",null,{"$f":"BO113","v":2.4450879521344988},{"$f":"BP113","v":71.090975536040617},26,null,{"$f":"EV121","v":12.269900002962704},{"$f":"EW121","v":66.767615115495119},"20m",null,null,null,null,null,null,null,null,null,null,{"$f":"CU119","v":9.4529695433040146},{"$f":"CV119","v":71.550406078892934}," وسط 18f",null,{"$f":"-EF115+ED138","v":-9.4529695433040146},{"$f":"EG115","v":71.550406078892934}," وسط 18f",null,null,null,null,null,"α22g1",{"$f":"ATAN((ES104-ES103)/(ER103-ER104))","v":0.36687231723022501},null,null,"α18p1",{"$f":"ATAN((EW104-EW103)/(EV103-EV104))","v":0.38055047393983116},null,null,null,null,null,null,null,null,null,null,null,null,{"$f":"AZ180","v":7.6900475927238983},{"$f":"BA180","v":37.83},"شیفت 47''",null,{"$f":"DG120","v":14.037935790842843},{"$f":"DH120","v":30.174015495629956},"s2",null,{"$f":"FR109","v":6.990047592723899},{"$f":"FS114","v":17.2},"g52",null,null,null,"چیب",null,{"$f":"FV105-'متغیرها '!C55","v":12.41039791536104},{"$f":"FW105","v":34.118380736880859},"49'm",null,{"$f":"BO170","v":15.91397769714632},{"$f":"BP170","v":53.461363880791403},"شیفت 10",null,{"$f":"-GD115+FK99","v":-15.91397769714632},{"$f":"GE115","v":53.461363880791403},"شیفت 10",null,null,null,"22پایین لباس پهلو",null,null,null,"پایین لباس پهلو",null,{"$f":"GT116+0.3*(GT113-GT116)","v":11.536260875391688},{"$f":"GU116+0.2*(GU113-GU116)","v":33.783379112747198},null,null,{"$f":"-GT115+GA99","v":-11.536260875391688},{"$f":"GU115","v":33.783379112747198},null,null,{"$f":"BK176","v":7.7692075000000003},{"$f":"BL176","v":33.775000000000006},"شیفت41'",null,{"$f":"-HB115+GI99","v":-7.7692075000000003},{"$f":"HC115","v":33.775000000000006},"شیفت41'",null,null,null,{"$f":"-DS153-HY101","v":-14.025614535392796},{"$f":"DT153","v":68.686832378035945},39,null,null,null,null,null,{"$f":"-FV114-HY101","v":-7.3400475927238986},{"$f":"FW114","v":48},"شیفت 40",null,{"$f":"-FB113-HY101","v":-10.131971486812738},{"$f":"FC113","v":70.651878121153771},"شیفت 34b",null,null,null,"17'",null,{"$f":"-FN115-HY101","v":-14.037935790842843},{"$f":"FO115","v":30.174015495629956},"s2",null,{"$f":"-CR167-HY101","v":-7.3400475927238986},{"$f":"CS167","v":48}," شیفت40 یا dd5",null,{"$f":"-FD261-HY101","v":0},{"$f":"FE261","v":42.24},"26''",null,{"$f":"-FN153-HY101","v":-1.1321624813822764},46.138325050587106,"7n",null,{"$f":"-DI243-HY101","v":0},{"$f":"DJ243","v":30.275319517797207},"m11"]
[null,null,null,null,null,null,null,null,null,"(1→ 4)",{"$f":"H124-H123","v":10.3},{"$f":"I124-I123","v":10.3},null,null,null,null,{"$f":"AN118","v":0},{"$f":"AO118","v":10.3},4,null,{"$f":"AN138","v":11.955767604624494},{"$f":"AO138","v":17.073936372688891},24,null,{"$f":"I127-I126","v":10},"(1→ 4)",{"$f":"H127-H126","v":10},null,null,null,null,{"$f":"AR118","v":0},{"$f":"AS118","v":10},4,null,{"$f":"AR140","v":12.876617347413671},{"$f":"AS140","v":18.208601901786352},26,null,0,{"$f":"K114+AP111","v":23.728171017165529},2,null,0,{"$f":"AA114+AT111","v":24.733678063661422},2,null,null,"(13 → 14→ 9→ 7)","وصل",null,null,null,null,null,{"$f":"BD155","v":15.72423796361949},{"$f":"BE155","v":53.762849053936286},"14شیفت",0.53064444439043734,"(8 → 13)",0.6711205957334746,null,{"$f":"BI108-BI118+BI98+'متغیرها '!C56","v":13.56505561207916},{"$f":"BI110+BI97+'متغیرها '!C57","v":56.325133880791398},"شیفت15",null,{"$f":"BK101","v":8.1987829808524726},{"$f":"BL101","v":66.542275796965384},22,null,{"$f":"J236","v":0},{"$f":"K236","v":55.2},"e1",null,null,null,null,null,{"$f":"BO105-CB112","v":15.242857101412845},{"$f":"BP105-CB113","v":56.919916880791405},14,"نقطه حلقه آستین",{"$f":"CA104+SQRT(POWER(CA116-CA104,2)+POWER(CB116-CB104,2))*SIN(IF(CB116=CB104,RADIANS(90)-CB114,ATAN((CA116-CA104)/ABS(CB116-CB104))+IF(CB116>CB104,-1,1)*CB114))","v":15.510732829046315},{"$f":"CB104+IF(CB116<CB104,-1,1)*SQRT(POWER(CA116-CA104,2)+POWER(CB116-CB104,2))*COS(IF(CB116=CB104,RADIANS(90)-CB114,ATAN((CA116-CA104)/ABS(CB116-CB104))+IF(CB116>CB104,-1,1)*CB114))","v":57.816394387709977},"b8",null,"مولفه افقی","مولفه عمودی","اسم نقطه ",null,{"$f":"CM114","v":9.451262124445531},{"$f":"CN114","v":70.544899032397041},"شیفت وسط 22f",null,"α4",{"$f":"0.5*(P139+0.3*(P140-P139)+AE139+0.3*(AE140-AE139))","v":0.34045293430977369},"زاویه سرشانه با افق",null,{"$f":"CQ104+CR105","v":7.1825999999999999},{"$f":"CR104+CR106","v":59.816656485349888},"شیفت40",null,{"$f":"-CU116+CZ101","v":-7.1825999999999999},{"$f":"CV116","v":59.816656485349888},"شیفت40",null,{"$f":"AZ168","v":14.737774999999999},{"$f":"BA168","v":48.343380736880853},41,null,{"$f":"DG115+DD128*SIN(DD123-DD132)","v":7.6921466709873236},{"$f":"DH115-DD128*COS(DD123-DD132)","v":37.83004002614112},"47''s",null,13.348212576429194,17.2,"1r",null,{"$f":"BO112","v":4.5845399102521851},{"$f":"BP112","v":71.638543045247559},28,null,{"$f":"DO122","v":0},{"$f":"DP122+0.5*DP121","v":67.093561069433264},"21m",null,null,{"$f":"CM114-EA137","v":9.451262124445531},{"$f":"CN114","v":70.544899032397041}," وسط 22f",null,{"$f":"-DX116+ED137","v":-9.451262124445531},{"$f":"DY116","v":70.544899032397041}," وسط 22f",null,{"$f":"CQ112","v":6.1127198803362468},{"$f":"CR112","v":72.733678063661415},23,null,{"$f":"-EF116+ED138","v":-6.1127198803362468},{"$f":"EG116","v":72.733678063661415},23,null,null,null,null,null,"α22g2",{"$f":"ATAN((ES103-ES105)/(ER103-ER105))","v":1.0503139796663119},null,null,"α18p2",{"$f":"ATAN((EW103-EW105)/(EV103-EV105))","v":1.4251799187256624},null,null,null,null,{"$f":"ER150+BT130","v":10.131971486812738},{"$f":"ES150","v":70.651878121153771},"شیفت 34b",null,{"$f":"BW118","v":9.9891818374612456},{"$f":"BX118","v":76.994693194502617},"a2",null,null,null,null,null,{"$f":"DC108","v":6.990047592723899},{"$f":"DD108","v":37.83},"47'",null,null,null,null,null,{"$f":"FN178","v":10.249127483367291},{"$f":"FO178","v":46.522235236289433},"37شیفت ",null,null,null,null,null,null,null,null,null,null,null,null,null,{"$f":"BK172","v":17.998675000000002},33.816895563735976,"شیفت43''",null,{"$f":"-GL116+FS99","v":-17.998675000000002},{"$f":"GM116","v":33.816895563735976},"شیفت43''",null,{"$f":"BK176","v":7.7692075000000003},{"$f":"BL176","v":33.775000000000006},"شیفت41'",null,{"$f":"-GT116+GA99","v":-7.7692075000000003},{"$f":"GU116","v":33.775000000000006},"شیفت41'",null,{"$f":"DO111","v":6.6326000000000001},{"$f":"DP111","v":33.775000000000006},{"$f":"DQ111","v":"شیفت50"},null,{"$f":"-HB116+GI99","v":-6.6326000000000001},{"$f":"HC116","v":33.775000000000006},{"$f":"DU111","v":"23m"},null,null,null,{"$f":"-DS154-HY101","v":-11.954995220574624},{"$f":"DT154","v":65.074462606118075},37,null,{"$f":"-CM125-HY101","v":-7.3400475927238986},{"$f":"CN125","v":56.24},43,null,null,null,"چیب",null,{"$f":"-FB114-HY101","v":-14.025614535392796},{"$f":"FC114","v":68.686832378035945},"شیفت22b ",null,{"$f":"-FJ114-HY101","v":-7.6900475927238983},{"$f":"FK114","v":33.775000000000006},"شیفت 53",null,{"$f":"-FN116-HY101","v":-6.990047592723899},{"$f":"FO116","v":37.83},"47'",null,null,null,null,null,{"$f":"-FD262-HY101","v":0},{"$f":"FE262","v":42.24},"d4",null,{"$f":"-FN154-HY101","v":-3.0190999503527371},43.539441683529034,"6n",null,null,null,null,null,{"$f":"-ES245-HY101","v":1.8666899465981666},{"$f":"ET245","v":33.306400000000004},"p5"]
[null,null,null,null,"اندازه ها در بالاتنه",null,null,"اندازه محاسبه ",null,"(4 → 5)",{"$f":"0.5*G154*(H120-H121)","v":7.3400475927238986},{"$f":"0.5*H154*('متغیرها '!U72-'متغیرها '!U73)","v":6.8952000000000009},null,null,null,null,{"$f":"AN115","v":0},{"$f":"AO115","v":0},1,null,{"$f":"AN130","v":11.069483794341572},{"$f":"AO130","v":13.472999053936281},16,null,{"$f":"0.75*I127","v":18.75},"(1 → 5)",{"$f":"'متغیرها '!C83*H127","v":18.75},null,null,null,null,{"$f":"AR115","v":0},{"$f":"AS115","v":0},1,null,{"$f":"AR132","v":12.517468786751232},{"$f":"AS132","v":14.290481687188251},18,null,{"$f":"K115","v":15.72423796361949},{"$f":"0+AP111","v":0},3,null,{"$f":"AA115","v":15.873071765418604},{"$f":"AT111","v":0},3,null,{"$f":"L132","v":3.8},"(12 → 15)",{"$f":"K132","v":4.6547541692779184},null,{"$f":"AX104-AX119+AX99","v":13.396860878980531},{"$f":"AX113+AX98","v":56.626619053936281},17,null,{"$f":"BW148+'متغیرها '!C55","v":8.1784666298134567},{"$f":"BX148","v":57.846346698632267}," شیفت b",0.52500000000000002,"(13 → 14)",0.59478300000000006,null,{"$f":"BI108-BI118+BI98+'متغیرها '!C56","v":13.56505561207916},{"$f":"BI110+BI119+BI97+'متغیرها '!C57","v":58.704265880791404},"شیفت16",null,{"$f":"BK154","v":7.1825999999999999},{"$f":"BL154","v":59.816656485349888},40,null,{"$f":"J234","v":0.74983757847697519},{"$f":"K234","v":65.700320692592442},"e9",null,{"$f":"BS104+SQRT(POWER(BS117-BS104,2)+POWER(BT117-BT104,2))*SIN(BT103-ATAN((BS104-BS117)/(BT117-BT104)))","v":0.74983757847697419},{"$f":"BT104+SQRT(POWER(BS117-BS104,2)+POWER(BT117-BT104,2))*COS(BT103-ATAN((BS104-BS117)/(BT117-BT104)))","v":65.700320692592442},{"$f":"BU117","v":"e9"},null,{"$f":"BO104-CB112","v":13.56505561207916},{"$f":"BP104-CB113","v":58.704265880791404},16,"نقطه حلقه آستین",{"$f":"CA104+SQRT(POWER(CA117-CA104,2)+POWER(CB117-CB104,2))*SIN(IF(CB117=CB104,RADIANS(90)-CB114,ATAN((CA117-CA104)/ABS(CB117-CB104))+IF(CB117>CB104,-1,1)*CB114))","v":13.648309905038673},{"$f":"CB104+IF(CB117<CB104,-1,1)*SQRT(POWER(CA117-CA104,2)+POWER(CB117-CB104,2))*COS(IF(CB117=CB104,RADIANS(90)-CB114,ATAN((CA117-CA104)/ABS(CB117-CB104))+IF(CB117>CB104,-1,1)*CB114))","v":59.407086074851811},"b10",null,{"$f":"CI109+CJ114*(1-0.5*'متغیرها '!C76+0.5*'متغیرها '!C78-0.5*'متغیرها '!C71)*COS(CJ113)","v":12.791511787413299},{"$f":"CJ109-CJ114*(1-0.5*'متغیرها '!C76+0.5*'متغیرها '!C78-0.5*'متغیرها '!C71)*SIN(CJ113)","v":69.361627047628545},"22f",null,{"$f":"CI104+CJ105","v":7.8544165915675519},{"$f":"CJ104","v":62.247733580884876},"شیفت5 پیراهن",null,null,{"$f":"G167","v":7.2690097450106155},"w",null,null,null,null,null,null,null,null,null,{"$f":"BD177-DD122","v":15.72423796361949},{"$f":"BE177","v":53.762849053936286},14,null,{"$f":"DG112+DD129*SIN(DD123-DD134)","v":14.738910190682249},{"$f":"DH112-DD129*COS(DD123-DD134)","v":48.344224279363651},"41s",null,{"$f":"DD569","v":7.6900475927238983},{"$f":"DE569","v":17.2},"53r",null,{"$f":"BO111","v":6.1127198803362468},{"$f":"BP111","v":72.733678063661415},23,null,{"$f":"DS118-DD146*COS(DD140)","v":18.723896536526215},{"$f":"DT118+DD146*SIN(DD140)","v":35.304945592061671},"s''2m","امتداد جیب",null,{"$f":"CI109","v":6.1110124614777632},{"$f":"CJ109","v":71.728171017165522},25,null,{"$f":"-DX117+ED137","v":-6.1110124614777632},{"$f":"DY117","v":71.728171017165522},25,null,null,null,"پهلو ترک ",null,null,null,"پهلو ترک ",null,null,null,null,null,"α22g",{"$f":"ES115+ES116","v":1.417186296896537},null,null,"α18p",{"$f":"EW115+EW116","v":1.8057303926654935},null,null,null,null,{"$f":"BS128+BT130","v":7.8544165915675519},{"$f":"BT128","v":62.247733580884876},"شیفت 5 پیراهن",null,{"$f":"BW120","v":7.3437137570236448},{"$f":"BX120","v":80.304730776832585},"a4",null,{"$f":"AZ180","v":7.6900475927238983},{"$f":"BA180","v":37.83},"شیفت 47''",null,null,null,null,null,{"$f":"FR111","v":7.6900475927238983},{"$f":"FS114","v":17.2},"g53",null,{"$f":"FN179","v":13.286266356099228},{"$f":"FO179","v":38.17776476371057},"شیفت37'",null,{"$f":"FZ109","v":6.6147920503564075},{"$f":"GA109","v":33.775000000000006},"a5",null,null,null,"4سرشانه با ساسون ",null,null,null,"سرشانه با ساسون ",null,15.952781500000002,33.81270600736238,"41''''",null,{"$f":"-GL117+FS99","v":-15.952781500000002},33.81270600736238,"41''''",null,{"$f":"DO111","v":6.6326000000000001},{"$f":"DP111","v":33.775000000000006},{"$f":"DQ111","v":"شیفت50"},null,{"$f":"-GT117+GA99","v":-6.6326000000000001},{"$f":"GU117","v":33.775000000000006},{"$f":"DU111","v":"23m"},null,null,null,null,null,null,null,null,null,null,null,{"$f":"-DS155-HY101","v":-11.069121989515221},{"$f":"DT155","v":61.47342425802357},35,null,{"$f":"-CM126-HY101","v":-7.3400475927238986},{"$f":"CN126","v":58.3}," 5 بالاتنه",null,{"$f":"-FV116-HY101","v":-10.249127483367291},{"$f":"FW116","v":46.522235236289433},"37شیفت ",null,null,null,null,null,{"$f":"-FJ115-HY101","v":-7.6900475927238983},{"$f":"FK115","v":37.83},"شیفت 47''",null,null,null,null,null,{"$f":"-CR167-HY101","v":-7.3400475927238986},{"$f":"CS167","v":48}," شیفت40 یا dd5",null,null,null,null,null,{"$f":"-FN155-HY101","v":-5.8059614429860327},42.24,"5n",null,{"$f":"-DI245-HY101","v":0},{"$f":"DJ245","v":30.275319517797207},"m11",null,{"$f":"-ES246-HY101","v":-1.2756000000000001},{"$f":"ET246","v":30.7942},"p4"]
[null,null,null,null,"دور کمر","a",null,{"$f":"'متغیرها '!U70+0.3*'متغیرها '!C60*('متغیرها '!U52+'متغیرها '!U54+'متغیرها '!U72)","v":52.338999999999999},null,"(5 → 6)",{"$f":"'متغیرها '!C90*(H124-H123)","v":1.0299999999999998},{"$f":"0.2*(H124-H123)","v":2.06},null,null,null,null,{"$f":"AN122","v":6.990047592723899},0,8,null,{"$f":"AN134","v":12.000434628197155},{"$f":"AO134","v":10.565171053936282},20,null,{"$f":"H148*'متغیرها '!U73","v":6.75},"(4 → 6)",{"$f":"G148*H121","v":7.1825999999999999},null,null,null,null,{"$f":"AR123","v":0},0,9,null,{"$f":"AR136","v":13.524149680351444},{"$f":"AS136","v":10.721783687188251},22,null,0,{"$f":"K116+AP111","v":10.3},4,null,0,{"$f":"AA116+AT111","v":10},4,null,4.2,"(15 → 16)",4.8463800000000008,null,{"$f":"AX104-AX119+AX99","v":13.396860878980531},{"$f":"AX113+AX120+AX98","v":57.35357605393628},18,null,null,null,"کش سویشرت",1.8572555553665306,"(8 → 15)",2.3489220850671608,null,null,null,null,null,null,null,null,null,{"$f":"J239","v":9.9891818374612456},{"$f":"K239","v":76.994693194502617},"a2",null,{"$f":"BS104+SQRT(POWER(BS118-BS104,2)+POWER(BT118-BT104,2))*SIN(BT103-ATAN((BS104-BS118)/(BT118-BT104)))","v":9.9891818374612456},{"$f":"BT104+SQRT(POWER(BS118-BS104,2)+POWER(BT118-BT104,2))*COS(BT103-ATAN((BS104-BS118)/(BT118-BT104)))","v":76.994693194502617},"a2",null,{"$f":"BO103-CB112","v":12.558374718478948},{"$f":"BP103-CB113","v":62.272963880791401},12,"نقطه حلقه آستین",{"$f":"CA104+SQRT(POWER(CA118-CA104,2)+POWER(CB118-CB104,2))*SIN(ATAN((CA118-CA104)/(CB118-CB104))-CB114)","v":12.25837068641593},{"$f":"CB104+SQRT(POWER(CA118-CA104,2)+POWER(CB118-CB104,2))*COS(ATAN((CA118-CA104)/(CB118-CB104))-CB114)","v":62.844684190582925},"b6",null,{"$f":"CI119+IF(CI117>CI119,0.3,0.7)*(CI117-CI119)","v":11.316157810070937},{"$f":"CJ119+0.5*(CJ117-CJ119)","v":65.619354426295132},"24f",null,null,null,null,null,"نقاط حلقه آستین پشت بدون ساسون سرشانه",null,null,null,{"$f":"CQ104","v":7.1825999999999999},{"$f":"CR104","v":59.816656485349888},40,null,{"$f":"-CU118+CZ101","v":-7.1825999999999999},{"$f":"CV118","v":59.816656485349888},40,null,{"$f":"BW133","v":13.396968749446888},{"$f":"BX133","v":57.354266648838504},"b8",null,{"$f":"DC105+(DC115-DC105+3)*COS(DD136-RADIANS('متغیرها '!C187))","v":14.495164371334038},{"$f":"DD105-(DC115-DC105+3)*SIN(DD136-RADIANS('متغیرها '!C187))","v":30.437624760578903},"s''2",null,null,{"$f":"'متغیرها '!C55","v":0},"شیفت افقی تکه پهلو",null,{"$f":"BO101-DP120","v":13.755536587353742},{"$f":"BP101","v":69.396818816424314},18,null,{"$f":"DS104+DD148*SIN(DD143)","v":20.27368611439201},{"$f":"DT104-DD148*COS(DD143)","v":36.988452006982023},"s'2m",null,null,null,null,"پهلو ترک ",null,null,null,"پهلو ترک ",null,{"$f":"BO170-EA138","v":15.91397769714632},{"$f":"BP170-EA139","v":53.461363880791403},10,null,{"$f":"-EF118+ED138","v":-15.91397769714632},{"$f":"EG118","v":53.461363880791403},10,null,null,null,null,null,"αb12g",{"$f":"ES110*EW118","v":4.9117309351841755E-2},null,null,"αb12p",{"$f":"(RADIANS(180)-ES117-EW117+ES109)*(1/(1+ES110))","v":2.4558654675920878E-2},null,null,null,null,null,null,null,null,null,null,null,null,{"$f":"AZ167+BT130","v":7.3400475927238986},{"$f":"BA167","v":48},"شیفت 40",null,{"$f":"DG112","v":15.724755228255015},{"$f":"DH112","v":53.763805036216873},"b2s",null,{"$f":"FR112","v":14.737774999999999},{"$f":"BE178-(H105-H107)","v":17.543380736880852},"g49",null,null,null,null,null,{"$f":"FZ115","v":12.41039791536104},{"$f":"GA115","v":34.118380736880859},"49'm",null,{"$f":"CE105","v":6.1127198803362468},{"$f":"CF105","v":72.733678063661415},23,null,{"$f":"-GD118+FK99","v":-6.1127198803362468},{"$f":"GE118","v":72.733678063661415},23,null,13.395414625000001,33.798042560054789,"41'''",null,{"$f":"-GL118+FS99","v":-13.395414625000001},33.798042560054789,"41'''",null,null,null,null,null,null,null,null,null,{"$f":"DO103","v":12.558374718478948},{"$f":"DP103","v":62.272963880791401},{"$f":"DQ103","v":"شیفت12p"},null,{"$f":"-HB118+GI99","v":-12.558374718478948},{"$f":"HC118","v":62.272963880791401},{"$f":"DU103","v":"شیفت10m"},null,null,null,null,null,null,null,null,null,null,null,{"$f":"-FV117-HY101","v":-13.286266356099228},{"$f":"FW117","v":38.17776476371057},"شیفت37'",null,{"$f":"-FB116-HY101","v":-10.131971486812738},{"$f":"FC116","v":70.651878121153771},"شیفت 34b",null,null,null,null,null,{"$f":"-FN118-HY101","v":-15.724755228255015},{"$f":"FO118","v":53.763805036216873},"b2s",null,{"$f":"-CR170-HY101","v":-7.4226433817152566},{"$f":"CS170","v":45.6}," dd5",null,{"$f":"-FD264-HY101","v":0},{"$f":"FE264","v":41.160362606618179},"p26",null,{"$f":"-FN156-HY101","v":-7.2574518037325406},45.6,"d5",null,{"$f":"-DI246-HY101","v":0},{"$f":"DJ246","v":34.614957686568182},"m9",null,{"$f":"-ES247-HY101","v":0},{"$f":"ET247","v":31.431999999999999},"p3"]
[null,null,null,null,"نوار کمر از پشت بین دو خط پهلو","b",null,{"$f":"'متغیرها '!U71+0.3*'متغیرها '!C60*('متغیرها '!U53+'متغیرها '!U55+'متغیرها '!U73)","v":25.730399999999999},null,"(5 → 7)",{"$f":"'متغیرها '!C88*(H124-H123)","v":2.0599999999999996},{"$f":"0*(I124-I123)","v":0},null,null,null,null,7.6900475927238992,0,9,null,{"$f":"AN132","v":13.396860878980531},{"$f":"AO132","v":9.3535760539362816},18,null,{"$f":"(H153-1)*(I127-I126)+0.2*'متغیرها '!U82","v":3.9638800904977396},"(6 → 7)",{"$f":"(G153-1)*(H127-H126)+0.2*H130","v":3.1296183170554306},null,null,null,null,6.8075999999999999,0,10,null,{"$f":"AR134","v":15.201951169685129},{"$f":"AS134","v":8.9374346871882508},20,null,{"$f":"K117","v":7.3400475927238986},{"$f":"K116+AP111","v":10.3},5,null,0,{"$f":"AA117+AT111","v":18.75},5,null,1.9,"(12 → 17)",2.3273770846389592,null,null,null,null,null,{"$f":"AZ106","v":0},{"$f":"BA151+'متغیرها '!C278*('متغیرها '!U60-'متغیرها '!U59)","v":37.043380736880856},null,2.1,"(15 →16)",2.3791320000000002,null,{"$f":"BI108-BI116+BI98+'متغیرها '!C56","v":15.242857101412845},{"$f":"BI110+BI97+'متغیرها '!C57","v":56.325133880791398},"شیفت13",null,{"$f":"BK155","v":7.1825999999999999},{"$f":"BL155","v":37.83},38,null,{"$f":"J245","v":7.6622802118711562},{"$f":"K245","v":74.361432105834069},"a13",null,{"$f":"BS104+SQRT(POWER(BS119-BS104,2)+POWER(BT119-BT104,2))*SIN(BT103-ATAN((BS104-BS119)/(BT119-BT104)))","v":7.6622802118711562},{"$f":"BT104+SQRT(POWER(BS119-BS104,2)+POWER(BT119-BT104,2))*COS(BT103-ATAN((BS104-BS119)/(BT119-BT104)))","v":74.361432105834069},"a13",null,{"$f":"BO102-CB112","v":12.917523279141387},{"$f":"BP102-CB113","v":66.191084095389499},20,"نقطه حلقه آستین",{"$f":"CA104+SQRT(POWER(CA119-CA104,2)+POWER(CB119-CB104,2))*SIN(ATAN((CA119-CA104)/(CB119-CB104))-CB114)","v":12.187997214444849},{"$f":"CB104+SQRT(POWER(CA119-CA104,2)+POWER(CB119-CB104,2))*COS(ATAN((CA119-CA104)/(CB119-CB104))-CB114)","v":66.778600976575078},"b12",null,{"$f":"CI108","v":10.683863248352782},{"$f":"CJ108","v":61.877081804961719},"16f",null,{"$f":"BS128+BT130","v":7.8544165915675519},{"$f":"BT128","v":62.247733580884876},"شیفت 5 پیراهن",null,"مولفه افقی","مولفه عمودی","اسم نقطه ",null,{"$f":"CU122+0.5*(CQ120-CU122)","v":9.4529695433040146},{"$f":"CR120+0.5*(CV122-CR120)","v":71.550406078892934}," وسط 18f",null,{"$f":"-CU119+CZ101","v":-9.4529695433040146},{"$f":"CV119","v":71.550406078892934}," وسط 18f",null,{"$f":"BW132","v":15.724428705502509},{"$f":"BX132","v":56.627575017602048},"b4",null,{"$f":"DH134","v":14.737935790842842},{"$f":"DI134","v":30.174015495629956},"s'2",null,"نقاط  خروجی",null,null,null,{"$f":"BO102-DP120","v":12.917523279141387},{"$f":"BP102","v":66.191084095389499},20,null,{"$f":"CE109","v":8.7188795213449861},{"$f":"CF109","v":71.934712254645689},"30m",null,null,{"$f":"CI112-EA137","v":15.72423796361949},{"$f":"CJ112","v":53.762849053936286},14,null,{"$f":"-DX119+ED137","v":-15.72423796361949},{"$f":"DY119","v":53.762849053936286},14,null,{"$f":"BK162-EA138","v":15.598675},{"$f":"BL162-EA139","v":48.04189556373597},36,null,{"$f":"-EF119+ED138","v":-15.598675},{"$f":"EG119","v":48.04189556373597},36,null,null,null,null,null,"نقاط  خروجی ",null,null,null,"نقاط  خروجی ",null,null,null,null,null,{"$f":"BS104+BT130","v":7.3400475927238986},{"$f":"BT104","v":58.3},"شیفت 5 بالاتنه",null,{"$f":"BW120","v":7.3437137570236448},80.304730776832585,"a4",null,null,null,null,null,{"$f":"DG117","v":14.738910190682249},{"$f":"DH117","v":48.344224279363651},"41s",null,null,null,"سینه",null,null,null,"پهلو جدا روی جیب با ساسون",null,null,null,"انگلیسی",null,{"$f":"EW150","v":8.7188795213449861},{"$f":"EX150","v":71.934712254645689},"30b",null,{"$f":"-GD119+FK99","v":-8.7188795213449861},{"$f":"GE119","v":71.934712254645689},"30b",null,10.838047750000001,33.783379112747198,"41''",null,{"$f":"-GL119+FS99","v":-10.838047750000001},33.783379112747198,"41''",null,{"$f":"DO105","v":7.1825999999999999},{"$f":"DP105","v":59.816656485349888},{"$f":"DQ105","v":"شیفت40"},null,{"$f":"-GT119+GA99","v":-7.1825999999999999},{"$f":"GU119","v":59.816656485349888},{"$f":"DU105","v":"شیفت42m"},null,{"$f":"EJ337","v":2.6326000000000001},{"$f":"EK337-0.3*EY167","v":25.750000000000004},"e215",null,{"$f":"-HB119+GI99","v":-2.6326000000000001},{"$f":"HC119","v":25.750000000000004},"e215",null,null,null,{"$f":"-DS157-HY101","v":-11.069121989515221},{"$f":"DT157","v":61.47342425802357},35,null,{"$f":"-CM128-HY101","v":-7.3400475927238986},{"$f":"CN128","v":58.3}," 5 بالاتنه",null,null,null,null,null,{"$f":"-FB117-HY101","v":-7.8544165915675519},{"$f":"FC117","v":62.247733580884876},"شیفت 5 پیراهن",null,{"$f":"-FJ115-HY101","v":-7.6900475927238983},{"$f":"FK115","v":37.83},"شیفت 47''",null,{"$f":"-FN119-HY101","v":-14.738910190682249},{"$f":"FO119","v":48.344224279363651},"41s",null,null,null,null,null,{"$f":"-FD265-HY101","v":0},{"$f":"FE265","v":42.24},"d4"]
[null,null,null,null,"دور سینه : از برجسته ترین قسمت سینه","s1",null,{"$f":"'متغیرها '!U72+0.3*'متغیرها '!C60*('متغیرها '!U52+'متغیرها '!U54+'متغیرها '!U72)","v":57.338999999999999},null,"(1 → 8)",{"$f":"0.5*G154*(H120-H121)-IF(G152>0,G152,0)","v":6.990047592723899},{"$f":"0.5*H154*('متغیرها '!U72-'متغیرها '!U73)-IF(H152>0,H152,0)","v":6.5452000000000012},null,null,null,null,15.437775000000002,0,10,null,{"$f":"AN126","v":15.72423796361949},{"$f":"AO126","v":8.626619053936281},12,null,{"$f":"(H153*(I127-I126)+0.2*'متغیرها '!U82)*0.9-(I127-I126)","v":2.5674920814479645},"(6 → 8)",{"$f":"(G153*(H127-H126)+0.2*H130)*'متغیرها '!C85-(H127-H126)","v":1.8166564853498883},null,null,null,null,7.5575999999999999,0,11,null,{"$f":"AR129","v":16.974521765418604},{"$f":"AS129","v":8.3426516871882512},15,null,{"$f":"K117","v":7.3400475927238986},{"$f":"K116+K118+AP111","v":11.33},6,null,{"$f":"AA118","v":7.1825999999999999},{"$f":"AA116+AT111","v":10},6,null,0.63,"(17 → 18)",0.72695700000000008,null,{"$f":"AX104-AX121+AX99","v":12.000434628197155},{"$f":"AX113+AX98","v":56.626619053936281},19,null,{"$f":"BD154","v":16.273355133236585},{"$f":"BE119","v":37.043380736880856},null,1.26,"(12 → 17)",1.1971618688747943,null,{"$f":"BI108-BI116+BI98+'متغیرها '!C56","v":15.242857101412845},{"$f":"BI110+BI117+BI97+'متغیرها '!C57","v":56.919916880791405},"شیفت14",null,{"$f":"BO119","v":7.1825999999999999},{"$f":"BL168","v":33.775000000000006},"38'''",null,{"$f":"J240","v":7.3437137570236448},{"$f":"K240","v":80.304730776832585},"a4",null,{"$f":"BS104+SQRT(POWER(BS120-BS104,2)+POWER(BT120-BT104,2))*SIN(BT103-ATAN((BS104-BS120)/(BT120-BT104)))","v":7.3437137570236448},{"$f":"BT104+SQRT(POWER(BS120-BS104,2)+POWER(BT120-BT104,2))*COS(BT103-ATAN((BS104-BS120)/(BT120-BT104)))","v":80.304730776832585},"a4",null,{"$f":"BO101-CB112","v":13.755536587353742},{"$f":"BP101-CB113","v":69.396818816424314},18,"نقطه حلقه آستین",{"$f":"CA104+SQRT(POWER(CA120-CA104,2)+POWER(CB120-CB104,2))*SIN(ATAN((CA120-CA104)/(CB120-CB104))-CB114)","v":12.671336505851244},{"$f":"CB104+SQRT(POWER(CA120-CA104,2)+POWER(CB120-CB104,2))*COS(ATAN((CA120-CA104)/(CB120-CB104))-CB114)","v":70.056616311464765},"b16",null,{"$f":"CI110-0.85*(CI110-CI119)+CJ114*0.07*'متغیرها '!C76","v":11.439919455642789},{"$f":"CJ110+0.5*(CJ119-CJ110)","v":59.251850429449},"20f",null,{"$f":"BS104+BT130","v":7.3400475927238986},{"$f":"BT104","v":58.3},"شیفت 5 بالاتنه",null,{"$f":"CQ112+CR117*(1-0.5*CR108+0.5*CR109-0.5*CR107)*COS(CR116)","v":12.793219206271782},{"$f":"CR112-CR117*(1-0.5*CR108+0.5*CR109-0.5*CR107)*SIN(CR116)","v":70.367134094124438},"18f",null,null,null,null,null,null,null,null,null,{"$f":"BW139","v":16.825878698342962},{"$f":"BX139","v":56.627700603276089},"b14",null,{"$f":"DG119-DC106+DC109","v":14.037935790842843},{"$f":"DH119","v":30.174015495629956},"s2",null,"مولفه افقی","مولفه عمودی","اسم نقطه ",null,null,{"$f":"'متغیرها '!C56","v":0},"شیفت افقی",null,{"$f":"CE121","v":8.7110710286090125},{"$f":"CF121","v":71.883679066836009},"32m",null,null,{"$f":"AZ168","v":14.737774999999999},{"$f":"BA168","v":48.343380736880853},41,null,{"$f":"-DX120+ED137","v":-14.737774999999999},{"$f":"DY120","v":48.343380736880853},41,null,null,null,null,null,null,null,null,null,null,null,null,null,"مولفه افقی","مولفه عمودی","اسم نقطه ",null,"مولفه افقی","مولفه عمودی","اسم نقطه ",null,null,null,{"$f":"BS128+BT130","v":7.8544165915675519},{"$f":"BT128","v":62.247733580884876},"شیفت 5 پیراهن",null,3.5566951588635551,76.69427091536933,"a6",null,{"$f":"AZ167+BT130","v":7.3400475927238986},{"$f":"BA167","v":48},"شیفت 40",null,null,null,null,null,{"$f":"FR108","v":0},{"$f":"BA165+(H124-H123)","v":58.3},"g4",null,{"$f":"DG126","v":13.39705162086355},{"$f":"DH126","v":57.354240774294539},"b'8s",null,{"$f":"ET175","v":0},49.365000000000002,"e''1",null,null,null,null,null,null,null,null,null,7.7692075000000003,33.775000000000006,"شیفت41'",null,{"$f":"-GL120+FS99","v":-7.7692075000000003},33.775000000000006,"شیفت41'",null,{"$f":"DO112","v":7.8325999999999993},48,"شیفت35",null,{"$f":"-GT120+GA99","v":-7.8325999999999993},{"$f":"GU120","v":48},{"$f":"DU112","v":"26m"},null,null,null,null,null,null,null,null,null,null,null,{"$f":"-DS158-HY101","v":-9.3910385109591257},{"$f":"DT158","v":60.165068193517676},33,null,{"$f":"-CM129-HY101","v":-7.8544165915675519},{"$f":"CN129","v":62.247733580884876}," 5 پیراهن",null,null,null,"13'",null,null,null,null,null,{"$f":"-FJ118-HY101","v":-7.3400475927238986},{"$f":"FK118","v":48},"شیفت 40",null,null,null,null,null,{"$f":"-CR170-HY101","v":-7.4226433817152566},{"$f":"CS170","v":45.6}," dd5",null,null,null,null,null,null,null,"69'",null,{"$f":"-DI248-HY101","v":0},{"$f":"DJ248","v":30.275319517797207},"m11",null,{"$f":"-ES249-HY101","v":0},{"$f":"ET249","v":31.431999999999999},"p3"]
[null,null,null,null,"پشت نوار سینه، بین دو خط پهلو","s2",null,{"$f":"'متغیرها '!U73+0.3*'متغیرها '!C60*('متغیرها '!U53+'متغیرها '!U55+'متغیرها '!U73)","v":28.730399999999999},null,"(8 → 9)",{"$f":"IF(G152>0,2*G152,0)","v":0.70000000000000007},{"$f":"2*IF(H152>0,H152,0)","v":0.70000000000000007},null,null,null,null,15.437775000000002,0.37503833807644033,11,null,{"$f":"AN127","v":16.82568796361949},{"$f":"AO127","v":8.626619053936281},13,null,{"$f":"H147","v":0},"(1→ 9)",{"$f":"G147","v":0},null,null,null,null,15.048674999999996,0,12,null,null,null,null,null,{"$f":"K117","v":7.3400475927238986},{"$f":"K116-K119+AP111","v":8.240000000000002},7,null,{"$f":"AA118","v":7.1825999999999999},{"$f":"AA116+AA119+AT111","v":13.129618317055431},7,null,3.04,"(12 → 19)",3.723803335422335,null,{"$f":"AX104-AX121+AX99","v":12.000434628197155},{"$f":"AX113+AX122+AX98","v":58.565171053936282},20,null,null,null,null,7.1726707891830648,"(17 → 18)",7.1238549356329131,null,null,null,null,null,null,null,null,null,{"$f":"J241","v":3.5566951588635556},{"$f":"K241","v":76.69427091536933},"a6",null,{"$f":"BS104+SQRT(POWER(BS121-BS104,2)+POWER(BT121-BT104,2))*SIN(BT103-ATAN((BS104-BS121)/(BT121-BT104)))","v":3.5566951588635551},{"$f":"BT104+SQRT(POWER(BS121-BS104,2)+POWER(BT121-BT104,2))*COS(BT103-ATAN((BS104-BS121)/(BT121-BT104)))","v":76.69427091536933},"a6",null,{"$f":"BK146-CB112","v":10.018192653597573},{"$f":"BL146-CB113","v":71.644956108298928},32,"نقطه ساسون سرشانه",{"$f":"CA104+SQRT(POWER(CA121-CA104,2)+POWER(CB121-CB104,2))*SIN(ATAN((CA121-CA104)/(CB121-CB104))-CB114)","v":8.7110710286090125},{"$f":"CB104+SQRT(POWER(CA121-CA104,2)+POWER(CB121-CB104,2))*COS(ATAN((CA121-CA104)/(CB121-CB104))-CB114)","v":71.883679066836009},32,null,{"$f":"CI110-0.5*(CI110-CI119)+CJ114*0.07*'متغیرها '!C76","v":13.204050605986136},{"$f":"CJ110+0.15*(CJ119-CJ110)","v":57.414188466590097},"18f",null,null,null,null,null,{"$f":"CQ122+0.2*(CQ120-CQ122)-CR117*0.05*CR108","v":12.207252153094696},{"$f":"CR122+0.4*(CR120-CR122)","v":65.733274023724533},"20f",null,{"$f":"CU119","v":9.4529695433040146},{"$f":"CV119","v":71.550406078892934}," وسط 18f",null,{"$f":"-CU121+CZ101","v":-9.4529695433040146},{"$f":"CV121","v":71.550406078892934}," وسط 18f",null,{"$f":"BW140","v":15.724755228255015},{"$f":"BX140","v":53.763805036216873},"b2",null,{"$f":"DG117+DD130*SIN(DD123+DD133)","v":14.740198599703685},{"$f":"DH117-DD130*COS(DD123+DD133)","v":37.044224352814886},"45ss",null,{"$f":"DK104-DL109","v":13.396860878980531},{"$f":"DL104","v":53.762849053936286},"14شیفتm",null,null,{"$f":"H170","v":1.1025705449357508},"m'",null,{"$f":"EV122","v":12.356654032637355},{"$f":"EW122","v":62.844684190582925},{"$f":"EX122","v":"b'6p"},"چرخیده",null,null,null,null,null,null,null,null,null,{"$f":"BK162-EA138","v":15.598675},{"$f":"BL162-EA139","v":48.04189556373597},36,null,{"$f":"-EF121+ED138","v":-15.598675},{"$f":"EG121","v":48.04189556373597},36,null,null,null,null,null,{"$f":"ER103-ES114*COS(ES116+ES118)","v":12.134850963743101},{"$f":"ES103-ES114*SIN(ES116+ES118)","v":64.977156808382105},"b'12g",null,{"$f":"EV103-EW114*COS(EW116+EW118)","v":12.269900002962704},{"$f":"EW103-EW114*SIN(EW116+EW118)","v":66.767615115495119},"b'12p",null,null,null,null,null,null,null,0.15674315058897204,70.573474633146517,"a8",null,{"$f":"AZ161+BT130","v":7.3400475927238986},{"$f":"BA161","v":56.24},"شیفت 43",null,{"$f":"DG117","v":14.738910190682249},{"$f":"DH117","v":48.344224279363651},"41s",null,{"$f":"AZ104","v":7.8544165915675519},{"$f":"FS120","v":58.3},"g5",null,{"$f":"DG124","v":12.411533121171495},{"$f":"DH124","v":48.235931781504434},"41m",null,-0.4,55.2,"e'1",null,{"$f":"EW150","v":8.7188795213449861},{"$f":"EX150","v":71.934712254645689},"30b",null,{"$f":"-GD121+FK99","v":-8.7188795213449861},{"$f":"GE121","v":71.934712254645689},"30b",null,6.6326000000000001,33.775000000000006," شیفت50",null,{"$f":"-GL121+FS99","v":-6.6326000000000001},33.775000000000006," شیفت50",null,6.6326000000000001,37.83,"شیفت38''",null,{"$f":"-GT121+GA99","v":-6.6326000000000001},{"$f":"GU121","v":37.83},{"$f":"DU113","v":"28m"},null,{"$f":"EJ337","v":2.6326000000000001},{"$f":"EK337-0.3*EY167","v":25.750000000000004},"e215",null,{"$f":"-HB121+GI99","v":-2.6326000000000001},{"$f":"HC121","v":25.750000000000004},"e215",null,null,null,{"$f":"-DS159-HY101","v":-7.9739902401784235},{"$f":"DT159","v":58.333369703209428},23,null,null,null,null,null,{"$f":"-FV120-HY101","v":-13.39705162086355},{"$f":"FW120","v":57.354240774294539},"b'8s",null,{"$f":"-FB119-HY101","v":-7.3400475927238986},{"$f":"FC119","v":58.3},"شیفت 5 بالاتنه",null,null,null,null,null,{"$f":"-FN121-HY101","v":-14.738910190682249},{"$f":"FO121","v":48.344224279363651},"41s",null,{"$f":"-CR173-HY101","v":-14.737774999999999},{"$f":"CS173","v":48.343380736880853},"d3",null,null,null,"52'",null,{"$f":"-DE278-HY101","v":0},{"$f":"DF278","v":45.174999999999997},"s1",null,{"$f":"-DI249-HY101","v":0},{"$f":"DJ249","v":30.275319517797207},"m'11",null,{"$f":"-ES250-HY101","v":0},{"$f":"ET250","v":31.431999999999999},"p'3"]
[null,null,null,null,"فاصله عمودی از خط سینه جلو تا خط سینه پشت که از کنار حلقه آستین بگذرد","t1",null,{"$f":"('متغیرها '!U74-'متغیرها '!U77)-0.5*'متغیرها '!C60*('متغیرها '!U74-'متغیرها '!U77)+'متغیرها '!C63*('متغیرها '!U75-'متغیرها '!U78)","v":11.483499999999999},{"$f":"('متغیرها '!U74-'متغیرها '!U77)","v":11.899999999999999},"(7 → 8)","وصل",null,null,null,null,null,{"$f":"AN124","v":15.437775000000002},{"$f":"AO124","v":0},10,null,null,null,null,null,null,"(9 →5)","وصل",null,null,null,null,15.048674999999996,5.9413370132822059E-2,13,null,null,null,null,null,{"$f":"K120","v":6.990047592723899},{"$f":"0+AP111","v":0},8,null,{"$f":"AA118","v":7.1825999999999999},{"$f":"AA116+AA120+AT111","v":11.816656485349888},8,null,1.6800000000000002,"(19 → 20)",1.9385520000000005,null,null,null,null,null,{"$f":"AZ162","v":7.3400475927238986},{"$f":"BE119","v":37.043380736880856},null,0.378,"(12 → 19)",0.35914856066243828,null,{"$f":"BI108+BI98+'متغیرها '!C56","v":15.91397769714632},{"$f":"BI110+BI97+'متغیرها '!C57","v":56.325133880791398},"شیفت8",null,{"$f":"BO153","v":15.91397769714632},{"$f":"BP153","v":53.461363880791403},"10 شیفت",null,{"$f":"J249","v":0.15674315058897281},{"$f":"K249","v":70.573474633146517},"a8",null,{"$f":"BS104+SQRT(POWER(BS122-BS104,2)+POWER(BT122-BT104,2))*SIN(BT103-ATAN((BS104-BS122)/(BT122-BT104)))","v":0.15674315058897204},{"$f":"BT104+SQRT(POWER(BS122-BS104,2)+POWER(BT122-BT104,2))*COS(BT103-ATAN((BS104-BS122)/(BT122-BT104)))","v":70.573474633146517},"a8",null,{"$f":"BO106-CB112","v":17.015427697146322},{"$f":"BP106-CB113","v":56.325133880791398},9,"نقطه حلقه آستین",{"$f":"CA104+SQRT(POWER(CA122-CA104,2)+POWER(CB122-CB104,2))*SIN(IF(CB122=CB104,RADIANS(90)-CB114,ATAN((CA122-CA104)/ABS(CB122-CB104))+IF(CB122>CB104,-1,1)*CB114))","v":17.337604411925593},{"$f":"CB104+IF(CB122<CB104,-1,1)*SQRT(POWER(CA122-CA104,2)+POWER(CB122-CB104,2))*COS(IF(CB122=CB104,RADIANS(90)-CB114,ATAN((CA122-CA104)/ABS(CB122-CB104))+IF(CB122>CB104,-1,1)*CB114))","v":57.418508030044734},"b14",null,null,null,null,null,{"$f":"BS104+BT130","v":7.3400475927238986},{"$f":"BT104","v":58.3},"شیفت 5 بالاتنه",null,{"$f":"CQ110+0.5*CR111+CR117*(0.2*CR109-0.3*CR108)","v":12.060760389800425},{"$f":"CR113+0.45*(CR120-CR113)","v":62.644033976791263},"12f",null,{"$f":"CQ112","v":6.1127198803362468},{"$f":"CR112","v":72.733678063661415},23,null,{"$f":"-CU122+CZ101","v":-6.1127198803362468},{"$f":"CV122","v":72.733678063661415},23,null,null,{"$f":"'متغیرها '!C55","v":0},"شیفت افقی تکه پهلو",null,{"$f":"DG121-DD135*SIN(DD123+DD133)","v":14.740981834407295},{"$f":"DH121+DD135*COS(DD123+DD133)","v":30.174859154333795},"ss2",null,{"$f":"DK105-DL109","v":12.41039791536104},{"$f":"DL105","v":48.343380736880853},"41شیفتm",null,{"$f":"BK102","v":0},{"$f":"BL102","v":66.542275796965384},21,null,{"$f":"DO129+DL109","v":18.358880925913333},{"$f":"DP129","v":36.814141581206215},"p10rm","شلوار",null,{"$f":"AZ168","v":14.737774999999999},{"$f":"BA168","v":48.343380736880853},41,null,{"$f":"-DX122+ED137","v":-14.737774999999999},{"$f":"DY122","v":48.343380736880853},41,null,{"$f":"BK165-EA138","v":17.998675000000002},{"$f":"BL165-EA139","v":36.741895563735973},42,null,{"$f":"-EF122+ED138","v":-17.998675000000002},{"$f":"EG122","v":36.741895563735973},42,null,null,null,null,null,{"$f":"ER106+1.2*(ER121-ER105)","v":11.284948881317394},{"$f":"ES106","v":61.47342425802357},"b'6g",null,{"$f":"EV106+1.2*(EV121-EV105)","v":12.356654032637355},{"$f":"EW106","v":62.844684190582925},"b'6p",null,null,null,{"$f":"BS104+BT130","v":7.3400475927238986},{"$f":"BT104","v":58.3},"شیفت 5 بالاتنه",null,{"$f":"BW115","v":-1.3003791386715626},{"$f":"BX115","v":64.452678350923691},"e3",null,null,null,null,null,{"$f":"DG122","v":14.740981834407295},{"$f":"DH122","v":30.174859154333795},"ss2",null,null,null,null,null,null,null,null,null,-1.0244434395678417,58.22007199876564,"e''10",null,{"$f":"BK101","v":8.1987829808524726},{"$f":"BL101","v":66.542275796965384},22,null,{"$f":"-GD122+FK99","v":-8.1987829808524726},{"$f":"GE122","v":66.542275796965384},22,null,{"$f":"BO176","v":0},{"$f":"BP176","v":33.775000000000006},47,null,{"$f":"-GL122+FS99","v":0},33.775000000000006,47,null,{"$f":"DO111","v":6.6326000000000001},{"$f":"DP111","v":33.775000000000006},{"$f":"DQ111","v":"شیفت50"},null,{"$f":"-GT122+GA99","v":-6.6326000000000001},{"$f":"GU122","v":33.775000000000006},{"$f":"DU111","v":"23m"},null,{"$f":"EJ341","v":2.6326000000000001},{"$f":"EK341","v":33.775000000000006},"e216",null,{"$f":"-HB122+GI99","v":-2.6326000000000001},{"$f":"HC122","v":33.775000000000006},"e216",null,null,null,{"$f":"-DS160-HY101","v":-7.3400475927238986},{"$f":"DT160","v":56.24},43,null,{"$f":"-CM131-HY101","v":-7.8544165915675519},{"$f":"CN131","v":62.247733580884876},"5پیراهن",null,{"$f":"-FV121-HY101","v":-12.411533121171495},{"$f":"FW121","v":48.235931781504434},"41m",null,{"$f":"-FB120-HY101","v":-7.8544165915675519},{"$f":"FC120","v":62.247733580884876},"شیفت 5 پیراهن",null,{"$f":"-FJ118-HY101","v":-7.3400475927238986},{"$f":"FK118","v":48},"شیفت 40",null,{"$f":"-FN122-HY101","v":-14.740981834407295},{"$f":"FO122","v":30.174859154333795},"ss2",null,null,null,null,null,{"$f":"-AR266-HY101","v":-6.1110124614777632},{"$f":"AS266","v":71.728171017165522},25,null,{"$f":"-DE279-HY101","v":0},{"$f":"DF279","v":41.160362606618179},"p26"]
[null,null,null,null,"فاصله عمودی از خط سینه جلو تا خط سینه پشت که از کنارگردن بگذرد","t2",null,{"$f":"'متغیرها '!U75-'متغیرها '!U78+'متغیرها '!C63*('متغیرها '!U75-'متغیرها '!U78)","v":13.7},{"$f":"'متغیرها '!U75-'متغیرها '!U78","v":13.7},"(7 → 9)","وصل",null,null,null,null,null,{"$f":"AN117","v":15.72423796361949},{"$f":"AO117","v":0},3,null,null,null,null,null,{"$f":"Y118-H151-H147","v":6.375},"(9 → 10)",{"$f":"AA118-AA121-G151","v":6.8075999999999999},null,null,null,null,{"$f":"AR126","v":15.048674999999996},{"$f":"AS126","v":0},12,null,null,null,null,null,{"$f":"K120+K121","v":7.6900475927238992},{"$f":"0+AP111","v":0},9,null,{"$f":"AA121","v":0},{"$f":"AT111","v":0},9,null,2.9400000000000004,"(16 → 21)",2.9542793676097387,null,{"$f":"AZ115","v":11.069483794341572},{"$f":"BA115","v":61.472999053936284},16,null,{"$f":"BD122","v":7.3400475927238986},{"$f":"BA106","v":33.775000000000006},null,3.9449689340506859,"(19 → 20)",3.9181202145981024,null,{"$f":"BI108+BI98+'متغیرها '!C56","v":15.91397769714632},{"$f":"0+BI97+'متغیرها '!C57","v":33.775000000000006},"شیفت7",null,{"$f":"#REF!+'متغیرها '!C56","v":{"$error":"#REF!"}},{"$f":"#REF!+'متغیرها '!C57","v":{"$error":"#REF!"}},"b شیفت",null,{"$f":"J251","v":-0.91026539707009391},{"$f":"K251","v":59.826339175461854},"a11",null,{"$f":"IF(BS116>BW115,BS116-0.7*(BS116-BW115),BW115-0.7*(BW115-BS116))","v":-0.9102653970700938},{"$f":"BT123","v":59.826339175461854},"a11",null,{"$f":"BO122-CB112","v":15.91397769714632},{"$f":"BP122-CB113","v":53.461363880791403},10,"نقطه زیر حلقه آستین",{"$f":"CA104+SQRT(POWER(CA123-CA104,2)+POWER(CB123-CB104,2))*SIN(IF(CB123=CB104,RADIANS(90)-CB114,ATAN((CA123-CA104)/ABS(CB123-CB104))+IF(CB123>CB104,-1,1)*CB114))","v":16.555099607481669},{"$f":"CB104+IF(CB123<CB104,-1,1)*SQRT(POWER(CA123-CA104,2)+POWER(CB123-CB104,2))*COS(IF(CB123=CB104,RADIANS(90)-CB114,ATAN((CA123-CA104)/ABS(CB123-CB104))+IF(CB123>CB104,-1,1)*CB114))","v":54.451681957215023},"b2",null,null,"به دست آوردن نقطه تقاطع دو خط (وسط 20f)","مولفه افقی","مولفه عمودی",{"$f":"AZ161+BT130","v":7.3400475927238986},{"$f":"BA161","v":56.24},"شیفت 43",null,{"$f":"CQ113-0.9*(CQ113-CQ122)+CR117*0.07*CR108","v":12.556227120535015},{"$f":"CR113+0.25*(CR120-CR113)","v":59.835633934124658},"16f",null,null,null,"رگلان",null,null,null,"رگلان",null,null,{"$f":"BU143-BU142","v":1.1401849771926931E-4},"ζ'2-ζ'1",null,{"$f":"DG112-DD125*COS(DD123)","v":13.39737815874426},{"$f":"DH112-DD125*COS(DD123)*TAN(DD138)","v":54.451132445693304},"b2m",null,{"$f":"DK106-DL109","v":12.41039791536104},{"$f":"DL106","v":37.043380736880856},"45شیفتm",null,{"$f":"BK159","v":6.5325999999999995},{"$f":"BL159","v":48},34,null,{"$f":"DO130+DL109","v":17.116678258855615},{"$f":"DP130","v":17.746149806890383},"p7rm",null,null,{"$f":"AZ172-EA137","v":14.737774999999999},{"$f":"BA172","v":37.043380736880856},45,null,{"$f":"-DX123+ED137","v":-14.737774999999999},{"$f":"DY123","v":37.043380736880856},45,null,null,null,null,null,null,null,null,null,null,null,null,null,{"$f":"ER107+0.5*(ER121-ER105)","v":12.090332235083228},{"$f":"ES107","v":58.565702422540063},"b'10g",null,{"$f":"EV107+0.5*(EV121-EV105)","v":13.6892612992976},{"$f":"EW107","v":59.407086074851811},"b'10p",null,null,null,{"$f":"AZ161+BT130","v":7.3400475927238986},{"$f":"BA161","v":56.24},"شیفت 43",null,{"$f":"BW123","v":-0.9102653970700938},{"$f":"BX123","v":59.826339175461854},"a11",null,{"$f":"AZ161","v":7.3400475927238986},{"$f":"BA161","v":56.24},43,null,null,null,null,null,{"$f":"BD166","v":7.8544165915675519},{"$f":"FS120","v":58.3},"g'5",null,{"$f":"DG124","v":12.411533121171495},{"$f":"DH124","v":48.235931781504434},"41m",null,-1.3488868791356832,61.24014399753127,"e'10",null,null,null,null,null,null,null,null,null,null,null,"14ترک وسط",null,null,null,"ترک وسط",null,null,null,null,null,null,null,null,null,null,null,null,null,null,null,null,null,null,null,null,null,null,null,{"$f":"-CM132-HY101","v":-9.451262124445531},{"$f":"CN132","v":70.544899032397041}," وسط 22f",null,null,null,null,null,null,null,null,null,{"$f":"-FJ121-HY101","v":-7.3400475927238986},{"$f":"FK121","v":56.24},"شیفت 43",null,null,null,null,null,{"$f":"-CR173-HY101","v":-14.737774999999999},{"$f":"CS173","v":48.343380736880853},"d3",null,{"$f":"-AR267-HY101","v":-6.1110124614777632},{"$f":"AS267","v":78.268542073397697},"1n",null,null,null,null,null,{"$f":"-DI251-HY101","v":0},{"$f":"DJ251","v":30.275319517797207},"m'11",null,{"$f":"-ES252-HY101","v":0},{"$f":"ET252","v":31.431999999999999},"p'3"]
[null,null,null,null,"فاصله عمودی از خط کمر جلو تا خط کمر پشت که از کنار گردن بگذرد","t3",null,{"$f":"'متغیرها '!U76-'متغیرها '!U79+'متغیرها '!C63*('متغیرها '!U76-'متغیرها '!U79)","v":24},{"$f":"'متغیرها '!U76-'متغیرها '!U79","v":24},"(9 → 10)",{"$f":"K115-K120-2*G152-0.5*(H120-H121-H118+H119)*(1-2*'متغیرها '!C87)+'متغیرها '!C77*O128*H130*((L115-L120-L121-L124)/(L127-L125))","v":7.747727407276102},{"$f":"L115-L120-2*H152-0.5*('متغیرها '!U72-'متغیرها '!U73-'متغیرها '!U70+'متغیرها '!U71)*(1-2*'متغیرها '!C87)","v":5.9547999999999988},null,"متغیرهای محاسبه ای بالاتنه جلو",null,"شبیه ساز",{"$f":"AN126","v":15.72423796361949},{"$f":"AO126","v":8.626619053936281},12,null,null,null,"انحنای حلقه یقه جلو",null,{"$f":"2*H151","v":0.75},"(10 → 11)",{"$f":"2*G151","v":0.75},null,null,null,null,{"$f":"AR117","v":15.873071765418604},{"$f":"AS117","v":0},3,null,null,null,"انحنای حلقه یقه پشت",null,{"$f":"K120+K121+K124","v":15.437775000000002},{"$f":"0+AP111","v":0},10,null,{"$f":"AA121+AA123","v":6.8075999999999999},{"$f":"AT111","v":0},10,null,7.1517799357922067,"(21 → 22)",7.2018746375052203,null,{"$f":"AX104-AX117+AX123+AX99","v":14.023763161951312},{"$f":"AX113+AX118+AX98","v":61.472999053936284},21,null,null,null,null,null,"(18 → 20→ 12→ 16→ 14→ 8→ 9)","هلال وصل",null,null,null,null,null,null,null,null,null,{"$f":"N255","v":9.3719059520258039},{"$f":"O255","v":77.767035297046277},"a14",null,{"$f":"BS104+SQRT(POWER(BS124-BS104,2)+POWER(BT124-BT104,2))*SIN(BT103-ATAN((BS104-BS124)/(BT124-BT104)))","v":9.3719059520258039},{"$f":"BT104+SQRT(POWER(BS124-BS104,2)+POWER(BT124-BT104,2))*COS(BT103-ATAN((BS104-BS124)/(BT124-BT104)))","v":77.767035297046277},"a14",null,null,"متغیرهای محاسبه ای ساسون زیر بغل",null,null,null,null,null,null,"نقطه اول از خط اول",30,{"$f":"CM137","v":4.8888099691822111},{"$f":"CN137","v":68.090424684044606},null,null,null,null,{"$f":"CQ113-0.55*(CQ113-CQ122)+CR117*0.07*CR108","v":14.290360678106079},{"$f":"CR113+0.09*(CR120-CR113)","v":57.588913899991368},"14f",null,{"$f":"CQ103","v":4.5845399102521851},{"$f":"CR103","v":71.638543045247559},28,null,{"$f":"-CU124+CZ101","v":-4.5845399102521851},{"$f":"CV124","v":71.638543045247559},28,null,{"$f":"BD160","v":7.8544165915675519},{"$f":"BE160","v":62.247733580884876},"شیفت 5",null,{"$f":"DG117-DD125*COS(DD123)","v":12.411533121171495},{"$f":"DH117-DD125*COS(DD123)*TAN(DD137)","v":48.235931781504434},"41m",null,{"$f":"DK107-DL109","v":12.41039791536104},{"$f":"DD114","v":34.118380736880859},"49'شیفتm","پیراهن",{"$f":"BO187","v":7.7325999999999997},{"$f":"BP187","v":37.83},"38'",null,{"$f":"DO131+DL109","v":17.116678258855615},{"$f":"DP131","v":17.746149806890383},"p5rm",null,null,null,null,null,null,null,null,null,null,{"$f":"BK165-EA138","v":17.998675000000002},{"$f":"BL165-EA139","v":36.741895563735973},42,null,{"$f":"-EF124+ED138","v":-17.998675000000002},{"$f":"EG124","v":36.741895563735973},42,null,null,null,null,null,{"$f":"ER111+ER122-ER106","v":11.285310686143745},{"$f":"ES111","v":61.472999053936284},"16g","در مدل عصایی",{"$f":"EV111+EV122-EV106","v":12.656658064700373},{"$f":"EW111","v":62.272963880791401},"12p","در مدل عصایی",null,null,null,null,null,null,{"$f":"BS116","v":0},{"$f":"BT116","v":55.2},"e1",null,{"$f":"AZ166","v":7.3400475927238986},{"$f":"BA166","v":48},39,null,{"$f":"DG122","v":14.740981834407295},{"$f":"DH122","v":30.174859154333795},"ss2",null,{"$f":"CM105","v":11.439919455642789},{"$f":"FS120","v":58.3},"g''5",null,{"$f":"DG125","v":12.41360476489654},{"$f":"DH125","v":32.702438819760026},"ss2m",null,{"$f":"EO177","v":-1.4148114652261388},{"$f":"EP177","v":65.266906662552117},"e10",null,{"$f":"BK101","v":8.1987829808524726},{"$f":"BL101","v":66.542275796965384},22,null,{"$f":"-GD124+FK99","v":-8.1987829808524726},{"$f":"GE124","v":66.542275796965384},22,null,{"$f":"BK179","v":7.1825999999999999},{"$f":"BL179","v":59.816656485349888},"شیفت 40",null,{"$f":"-GL124+FS99","v":-7.1825999999999999},{"$f":"GM124","v":59.816656485349888},"شیفت 40",null,{"$f":"DO105-DP120","v":7.1825999999999999},{"$f":"DP105-DP128","v":59.816656485349888},"بدون شیفت40",null,{"$f":"-GT124+GA99","v":-7.1825999999999999},{"$f":"GU124","v":59.816656485349888},"بدون شیفت40",null,{"$f":"DS121","v":12.356654032637355},{"$f":"DT121","v":62.844684190582925},{"$f":"DU121","v":"b'6p"},null,{"$f":"-HB124+GI99","v":-12.356654032637355},{"$f":"HC124","v":62.844684190582925},{"$f":"ES121","v":64.977156808382105},null,null,null,{"$f":"-DS162-HY101","v":-7.3400475927238986},{"$f":"DT162","v":56.24},43,null,null,null,null,null,{"$f":"-FV123-HY101","v":-12.411533121171495},{"$f":"FW123","v":48.235931781504434},"41m",null,{"$f":"-FB122-HY101","v":-7.3400475927238986},{"$f":"FC122","v":58.3},"شیفت 5 پیراهن",null,null,null,null,null,{"$f":"-FN124-HY101","v":-14.740981834407295},{"$f":"FO124","v":30.174859154333795},"ss2",null,{"$f":"-CR176-HY101","v":-14.737774999999999},{"$f":"CS176","v":48.343380736880853}," شیفت41 یا d3",null,null,null,null,null,{"$f":"-DE279-HY101","v":0},{"$f":"DF279","v":41.160362606618179},"p26",null,{"$f":"-DI252-HY101","v":0},{"$f":"DJ252","v":45.174999999999997},"s'1",null,{"$f":"-ES253-HY101","v":0},{"$f":"ET253","v":45.174999999999997},"s'1"]
[null,null,null,null,"فاصله عمودی بین خط سینه پشت و سرشانه، نزدیک دست","t4",null,{"$f":"'متغیرها '!U77-0.5*'متغیرها '!C60*'متغیرها '!U77+'متغیرها '!C63*('متغیرها '!U78)","v":12.0625},{"$f":"'متغیرها '!U77","v":12.5},"(10 → 11)",{"$f":"K124*TAN(0.5*IF(K121=0,0,G162))+K111","v":0.37503833807644033},{"$f":"L124*TAN(0.5*IF(L121=0,0,H162))+L111","v":0.34338073688085208},null,"γ5",1.3,null,{"$f":"AN129","v":11.069483794341572},{"$f":"AO129","v":8.626619053936281},15,null,{"$f":"AN139","v":6.1110124614777632},{"$f":"AO139","v":23.728171017165529},25,null,null,"(10 → 8)","وصل",null,null,null,null,{"$f":"AR128","v":15.873071765418604},{"$f":"AS128","v":8.3426516871882512},14,null,{"$f":"AR141","v":6.1127198803362468},{"$f":"AS141","v":24.733678063661422},27,null,{"$f":"K120+K121+K124","v":15.437775000000002},{"$f":"K125+AP111","v":0.37503833807644033},11,null,{"$f":"AA121+AA123+AA124","v":7.5575999999999999},{"$f":"AT111","v":0},11,null,0.88200000000000012,"(16 → 23)",0.88628381028292158,null,{"$f":"AX104-AX117+AX123+AX99","v":14.023763161951312},{"$f":"AX113+AX118+AX124+AX98","v":68.674873691441505},22,null,{"$f":"AZ106","v":0},{"$f":"BA106-2","v":31.775000000000006},null,null,"(1 → 21)",{"$f":"H106-H114+AG147","v":32.767275796965386},null,{"$f":"BI106+BI98+'متغیرها '!C56","v":16.463094866763416},{"$f":"0+BI97+'متغیرها '!C57","v":33.775000000000006},"شیفت5",null,{"$f":"BO123","v":{"$error":"#REF!"}},{"$f":"BP123","v":{"$error":"#REF!"}},"b شیفت",null,{"$f":"N257","v":6.648461685668825},{"$f":"O257","v":74.700532836951268},"a16",null,{"$f":"BS104+SQRT(POWER(BS125-BS104,2)+POWER(BT125-BT104,2))*SIN(BT103-ATAN((BS104-BS125)/(BT125-BT104)))","v":6.648461685668825},{"$f":"BT104+SQRT(POWER(BS125-BS104,2)+POWER(BT125-BT104,2))*COS(BT103-ATAN((BS104-BS125)/(BT125-BT104)))","v":74.700532836951268},"a16",null,null,"ζ'1",{"$f":"('متغیرها '!C111+0.001)*ATAN((CA109-CA104)/(CB109-CB104))","v":0.12622946262250606},null,{"$f":"CA104+(1-'متغیرها '!C116)*(CA123-CA104)","v":8.0557377697146322},{"$f":"CB104+(1-'متغیرها '!C116)*(CA123-CA104)*TAN(0.5*CB114-CC127)","v":59.25139592085835},"b",null,"نقطه دوم از خط اول","20f",{"$f":"CI120","v":11.439919455642789},{"$f":"CJ120","v":59.251850429449},{"$f":"AZ161","v":7.3400475927238986},{"$f":"BA161","v":56.24},43,null,null,"به دست آوردن نقطه تقاطع دو خط (وسط 16f)","مولفه افقی","مولفه عمودی",{"$f":"CS130","v":8.3820903402813016},{"$f":"CT130","v":66.015876050395775}," وسط 16f",null,{"$f":"-CU125+CZ101","v":-8.3820903402813016},{"$f":"CV125","v":66.015876050395775}," وسط 16f",null,null,{"$f":"AX119","v":2.3273770846389592},"(12→17)",null,{"$f":"DG122-DD125*COS(DD123)","v":12.41360476489654},{"$f":"DH122-DD125*COS(DD123)*TAN(DD139)","v":32.702438819760026},"ss2m",null,{"$f":"DK113-DL109","v":12.247744582699324},{"$f":"DL113","v":37.043380736880856},"10rm","شلوار",{"$f":"BO188","v":7.7325999999999997},{"$f":"BP188","v":33.775000000000006},49,null,{"$f":"DO132+DL109","v":17.116678258855615},{"$f":"DP132","v":17.746149806890383},"p1rm",null,null,{"$f":"AZ172-EA137","v":14.737774999999999},{"$f":"BA172","v":37.043380736880856},45,null,{"$f":"-DX125+ED137","v":-14.737774999999999},{"$f":"DY125","v":37.043380736880856},45,null,{"$f":"BK172-EA138","v":17.998675000000002},{"$f":"BL172-EA139","v":33.816895563735976}," 43''",null,{"$f":"-EF125+ED138","v":-17.998675000000002},{"$f":"EG125","v":33.816895563735976}," 43''",null,null,null,null,null,{"$f":"ER112+ER123-ER107","v":12.090362499781394},{"$f":"ES112","v":58.565171053936282},"20g","در مدل عصایی",{"$f":"EV112+EV123-EV107","v":13.606007006338089},{"$f":"EW112","v":58.704265880791404},"16p","در مدل عصایی",null,null,{"$f":"AZ161","v":7.3400475927238986},{"$f":"BA161","v":56.24},43,null,null,null,null,null,null,null,null,null,{"$f":"DG116","v":7.6921466709873236},{"$f":"DH116","v":37.83004002614112},"47''s",null,null,null,"باسن",null,null,null,null,null,null,null,null,null,{"$f":"BK154","v":7.1825999999999999},{"$f":"BL154","v":59.816656485349888},40,null,{"$f":"-GD125+FK99","v":-7.1825999999999999},{"$f":"GE125","v":59.816656485349888},40,null,{"$f":"BK180","v":7.8325999999999993},{"$f":"BL180","v":48},"شیفت 35",null,{"$f":"-GL125+FS99","v":-7.8325999999999993},{"$f":"GM125","v":48},"شیفت 35",null,{"$f":"DO123","v":6.5325999999999995},48,34,null,{"$f":"-GT125+GA99","v":-6.5325999999999995},{"$f":"GU125","v":48},{"$f":"DU123","v":"p7rm"},null,{"$f":"CE163","v":3.7325999999999997},{"$f":"CF163-0.3*EY167","v":25.750000000000004},"e'215",null,{"$f":"-HB125+GI99","v":-3.7325999999999997},{"$f":"HC125","v":25.750000000000004},"e'215",null,null,null,{"$f":"-DS163-HY101","v":-7.974051746998903},{"$f":"DT163","v":58.333199621574515},21,null,{"$f":"-CM134-HY101","v":-9.451262124445531},{"$f":"CN134","v":70.544899032397041}," وسط 22f",null,{"$f":"-FV124-HY101","v":-12.41360476489654},{"$f":"FW124","v":32.702438819760026},"ss2m",null,{"$f":"-FB123-HY101","v":-7.3400475927238986},{"$f":"FC123","v":56.24},"شیفت 43",null,{"$f":"-FJ123-HY101","v":-7.3400475927238986},{"$f":"FK123","v":56.24},43,null,{"$f":"-FN125-HY101","v":-7.6921466709873236},{"$f":"FO125","v":37.83004002614112},"47''s",null,null,null,null,null,{"$f":"-AR267-HY101","v":-6.1110124614777632},{"$f":"AS267","v":78.268542073397697},"1n",null,{"$f":"-DE282-HY101","v":0},{"$f":"DF282","v":41.160362606618179},"p10",null,null,null,"خط مرغک در جلو"]
[null,null,null,null,"فاصله عمودی بین خط سینه پشت و سرشانه، نزدیک گردن","t5",null,{"$f":"'متغیرها '!U78+'متغیرها '!C63*'متغیرها '!U78","v":15},{"$f":"'متغیرها '!U78","v":15},"(9 → 11)","وصل",null,null,"γ4",0.3,null,{"$f":"AN130","v":11.069483794341572},{"$f":"AO130","v":13.472999053936281},16,null,{"$f":"AN144","v":4.8888099691822111},{"$f":"AO144","v":20.090424684044617},30,null,null,"(11 → 8)","وصل",null,"متغیرهای محاسبه ای بالاتنه پشت",null,"شبیه ساز",{"$f":"AR131","v":12.517468786751232},{"$f":"AS131","v":8.3426516871882512},17,null,{"$f":"AR146","v":4.5845399102521851},{"$f":"AS146","v":23.638543045247555},32,null,{"$f":"K115","v":15.72423796361949},{"$f":"K127+AP111","v":8.626619053936281},12,null,{"$f":"AA121+AA123+AA124+AA127","v":15.048674999999996},{"$f":"AT111","v":0},12,null,3.5758899678961034,"(23 → 24)",3.6009373187526101,null,null,null,null,null,{"$f":"BD125+'متغیرها '!C279*(AZ151-BD125)","v":13.832351863251095},{"$f":"BE125","v":31.775000000000006},null,null,"(21 → 22)",{"$f":"AF147","v":8.1987829808524726},null,{"$f":"BI106+BI98+'متغیرها '!C56","v":16.463094866763416},{"$f":"BI107+BI97+'متغیرها '!C57","v":36.741895563735973},"شیفت6",null,{"$f":"BK154+'متغیرها '!C56","v":7.1825999999999999},{"$f":"BL179","v":59.816656485349888},"40 شیفت",null,{"$f":"N256","v":5.7406469302164984},{"$f":"O256","v":72.191576278691713},"a15",null,{"$f":"BS104+SQRT(POWER(BS126-BS104,2)+POWER(BT126-BT104,2))*SIN(BT103-ATAN((BS104-BS126)/(BT126-BT104)))","v":5.7406469302164984},{"$f":"BT104+SQRT(POWER(BS126-BS104,2)+POWER(BT126-BT104,2))*COS(BT103-ATAN((BS104-BS126)/(BT126-BT104)))","v":72.191576278691713},"a15",null,null,"ζ'2",{"$f":"('متغیرها '!C111+0.001)*ATAN((CA121-CA104)/(CB121-CB104))","v":0.23552451038600428},null,null,null,null,null,"نقطه اول از خط دوم",5,{"$f":"CM131","v":7.8544165915675519},{"$f":"CN131","v":62.247733580884876},{"$f":"BS104","v":7.3400475927238986},{"$f":"BT104","v":58.3}," 5 بالاتنه",null,"نقطه اول از خط اول",28,{"$f":"CU124","v":4.5845399102521851},{"$f":"CV124","v":71.638543045247559},null,null,null,null,null,null,null,null,"محاسبات",null,null,null,{"$f":"DG110-DD125","v":13.39705162086355},{"$f":"DH110+DD125*TAN(DD141)","v":57.354240774294539},"b'8s",null,{"$f":"DK114-DL109","v":11.020835491790235},{"$f":"DL114","v":17.2},"7rm",null,{"$f":"BK101","v":8.1987829808524726},{"$f":"BL101","v":66.542275796965384},22,null,null,null,null,null,null,{"$f":"BD180-EA137","v":14.737774999999999},{"$f":"BE180","v":34.118380736880859},"49'  …",null,{"$f":"-DX126+ED137","v":-14.737774999999999},{"$f":"DY126","v":34.118380736880859},"49'  …",null,null,null,"پایین پیراهن ترک",null,null,null,"پایین پیراهن ترک",null,null,null,null,null,null,null,null,null,null,null,null,null,null,null,{"$f":"BS104","v":7.3400475927238986},{"$f":"BT104","v":58.3}," 5 بالاتنه",null,{"$f":"BW124","v":9.3719059520258039},77.767035297046277,"a14",null,{"$f":"AZ166","v":7.3400475927238986},{"$f":"BA166","v":48},39,null,null,null,null,null,{"$f":"FR108","v":0},{"$f":"FS108","v":36.700000000000003},"g46",null,{"$f":"DG127","v":11.710558721332088},{"$f":"DH127","v":32.702200148836596},"s2m",null,{"$f":"FF102","v":6.1110124614777632},71.728171017165522,"چرخیده 25",null,null,null,null,null,null,null,null,null,null,null,null,null,null,null,null,null,7.7325999999999997,37.83,"38'",null,{"$f":"-GT126+GA99","v":-7.7325999999999997},{"$f":"GU126","v":37.83},{"$f":"DU124","v":"p5rm"},null,null,null,null,null,null,null,null,null,null,null,{"$f":"-DS164-HY101","v":-9.3912375036136186},{"$f":"DT164","v":60.164749290452214},31,null,{"$f":"-CM135-HY101","v":-6.1110124614777632},{"$f":"CN135","v":71.728171017165522},25,null,null,null,null,null,null,null,null,null,{"$f":"-FJ124-HY101","v":-7.3400475927238986},{"$f":"FK124","v":48},39,null,null,null,null,null,{"$f":"-CR176-HY101","v":-14.737774999999999},{"$f":"CS176","v":48.343380736880853}," شیفت41 یا d3",null,{"$f":"-AR270-HY101","v":-12.791511787413299},{"$f":"AS270","v":78.268542073397697},"2n",null,null,null,null,null,{"$f":"-DI272-HY101","v":-4.4354442499999998},{"$f":"DJ272","v":34.614957686568182},"m10",null,{"$f":"-ES255-HY101","v":0},{"$f":"ET255","v":45.174999999999997},"s1"]
[null,null,null,null,"دور مچ دست","w11",null,{"$f":"'متغیرها '!U84+0.9*'متغیرها '!C60*'متغیرها '!U84","v":12.756},null,"(12 → 15)",{"$f":"G156+0.25*G167*'متغیرها '!C76*COS(O140)+'متغیرها '!C61*H120-1.2*0.5*G167*'متغیرها '!C78*COS(O140)-'متغیرها '!C77*O128*H130*((L115-L120-L121-L124)/(L127-L125))","v":4.6547541692779184},{"$f":"H156","v":3.8},null,"فاصله عمودی بین 36 و 34'",{"$f":"O151-0.5*G169*SIN(G160)","v":8.0119150355780047},{"$f":"P151-0.5*H169*SIN(H160)","v":7.8950207617306862},{"$f":"AN134","v":12.000434628197155},{"$f":"AO134","v":10.565171053936282},20,null,{"$f":"AN115","v":0},{"$f":"AO115","v":0},1,null,{"$f":"L129","v":0},"(14 → 16)",{"$f":"K129","v":2.8637700000000001},null,"فاصله عمودی بین 38 و 36'",{"$f":"AD151-0.5*G170*SIN(G158)","v":4.5236679477874047},{"$f":"AE151-0.5*H170*SIN(H158)","v":4.1157917542220499},{"$f":"AR135","v":13.524149680351444},{"$f":"AS135","v":8.3426516871882512},21,null,{"$f":"AR119","v":0},{"$f":"AS119","v":18.75},5,null,{"$f":"K115-K134-0.6*P123","v":13.396860878980531},{"$f":"K127+K135+AP111","v":9.3535760539362816},18,null,{"$f":"AA115-AA135","v":12.517468786751232},{"$f":"AA130+AA136+AT111","v":14.290481687188251},18,null,4.1952000000000007,"(2 → 29)",4.8888099691822111,null,null,null,null,null,{"$f":"BD125","v":0},{"$f":"BE129","v":28.506619263119156},null,0.92782274169153656,"(27 → 28)",1.0951350184138677,null,{"$f":"BI129+BI98","v":2.4450879521344988},{"$f":"BI103-BI130+BI97","v":71.090975536040617},26,null,null,null,null,null,{"$f":"AZ99-BT130","v":15.72423796361949},{"$f":"BA99","v":56.626619053936281},12,"نقطه حلقه آستین",{"$f":"BS104+SQRT(POWER(BS132-BS104,2)+POWER(BT132-BT104,2))*SIN(IF(BT132=BT104,RADIANS(90)-BT131,ATAN((BS132-BS104)/ABS(BT132-BT104))+IF(BT132>BT104,-1,1)*IF(AND(BX101=1,BX102=0),(ATAN((BS138-BS104)/(BT138-BT104))-ATAN((BS109-BS104)/(BT109-BT104))),BT131)))","v":15.724428705502509},{"$f":"BT104+IF(BT132<BT104,-1,1)*SQRT(POWER(BS132-BS104,2)+POWER(BT132-BT104,2))*COS(IF(BT132=BT104,RADIANS(90)-BT131,ATAN((BS132-BS104)/ABS(BT132-BT104))+IF(BT132>BT104,-1,1)*IF(AND(BX101=1,BX102=0),(ATAN((BS138-BS104)/(BT138-BT104))-ATAN((BS109-BS104)/(BT109-BT104))),BT131)))","v":56.627575017602048},"b4",null,{"$f":"BO105-CB112","v":15.242857101412845},{"$f":"BP105-CB113","v":56.919916880791405},14,"نقطه حلقه آستین",{"$f":"CA104+SQRT(POWER(CA132-CA104,2)+POWER(CB132-CB104,2))*SIN(IF(CB132=CB104,RADIANS(90)-CB130,ATAN((CA132-CA104)/ABS(CB132-CB104))+IF(CB132>CB104,-1,1)*CB130))","v":15.510732829046315},{"$f":"CB104+IF(CB132<CB104,-1,1)*SQRT(POWER(CA132-CA104,2)+POWER(CB132-CB104,2))*COS(IF(CB132=CB104,RADIANS(90)-CB130,ATAN((CA132-CA104)/ABS(CB132-CB104))+IF(CB132>CB104,-1,1)*CB130))","v":57.816394387709977},"b8",null,"نقطه دوم از خط اول","16f",{"$f":"CI119","v":10.683863248352782},{"$f":"CJ119","v":61.877081804961719},{"$f":"CM135+0.5*(CI117-CM135)","v":9.451262124445531},{"$f":"CJ117+0.5*(CN135-CJ117)","v":70.544899032397041}," وسط 22f",null,null,"به دست آوردن نقطه تقاطع دو خط (وسط 12f)","مولفه افقی","مولفه عمودی",null,null,null,null,null,null,null,null,"α40",{"$f":"ATAN((DC104-DC105)/(DD104-DD105))","v":-3.4401368677747561E-2},null,"نقطه اول از خط دوم","47''",{"$f":"DC105","v":7.6900475927238983},{"$f":"DD105","v":37.83},null,null,null,null,null,14.789301174216655,17.746149806890383,"p1 r",null,17.116678258855615,17.746149806890383,{"$f":"DU123","v":"p7rm"},null,null,{"$f":"BD186-EA137","v":8.3948203334515075},{"$f":"BE186","v":33.775000000000006},50,null,{"$f":"-DX132+ED137","v":-8.3948203334515075},33.775000000000006,50,null,{"$f":"BK177-EA138","v":6.6326000000000001},{"$f":"BL177-EA139","v":33.775000000000006},50,null,{"$f":"-EF132+ED138","v":-6.6326000000000001},33.775000000000006,50,null,null,null,null,null,{"$f":"BS128","v":7.8544165915675519},{"$f":"BT128","v":62.247733580884876},5,"نقطه مرکزساسون",null,{"$f":"BK101","v":8.1987829808524726},{"$f":"BL101","v":66.542275796965384},22,"نقطه مرکزساسون",null,{"$f":"ER149","v":8.71204984591105},{"$f":"ES149","v":70.912684068662116},"چرخیده32b",null,{"$f":"BS116","v":0},{"$f":"BT116","v":55.2},"e1",null,null,null,"جادکمه یقه گرد در پیراهن",null,{"$f":"DC108","v":6.990047592723899},{"$f":"DD108","v":37.83},"47'",null,null,null,null,null,{"$f":"FV130","v":11.710558721332088},{"$f":"FW130","v":32.702200148836596},{"$f":"FX130","v":"s2m یا  45m"},null,null,null,null,null,null,null,null,null,null,null,null,null,null,null,null,null,null,null,null,null,{"$f":"DS118","v":20.27368611439201},{"$f":"DT118","v":36.988452006982023},{"$f":"DU118","v":"s'2m"},null,{"$f":"-GT132+GA99","v":-20.27368611439201},{"$f":"GU132","v":36.988452006982023},{"$f":"ES118","v":4.9117309351841755E-2},null,null,null,null,null,null,null,null,null,null,null,{"$f":"-DS170-HY101","v":-12.000434628197155},{"$f":"DT170","v":58.565171053936282},"20g",null,{"$f":"-CM140-HY101","v":-8.1357820082583565},{"$f":"CN140","v":63.709700544220247},"شیفت وسط 20f",null,null,null,null,null,null,null,null,null,{"$f":"-FJ130-HY101","v":-6.990047592723899},{"$f":"FK130","v":33.775000000000006},52,null,{"$f":"-FR134-HY101","v":-6.990047592723899},{"$f":"FS134","v":33.775000000000006},52,null,null,null,null,null,{"$f":"-AR276-HY101","v":-20.478801107224793},{"$f":"AS276","v":48.114410908776158},"4n",null,null,null,null,null,{"$f":"-DI278-HY101","v":0},{"$f":"DJ278","v":45.174999999999997},"s1"]
[null,null,null,null,"زاویه خام سرشانه متوسط",{"$f":"ROUND(0.5*(F135+F136),2)","v":0.31},{"$f":"ROUND(0.5*(G135+G136),1)","v":18},null,null,"(19 → 20)",{"$f":"0.4*K133","v":1.9385520000000005},{"$f":"0.4*L133","v":1.6800000000000002},null,"فاصله افقی بین 22 و 25 بعد از بسته شدن ساسون",{"$f":"0.5*G167*COS(G160)+0.5*G167*COS(O134-O133-G160)","v":6.9795725644726625},{"$f":"0.5*H167*COS(H160)+0.5*H167*COS(P134-P133-H160)","v":6.2219319865317768},null,null,null,null,{"$f":"AN128","v":15.72423796361949},{"$f":"AO128","v":5.7628490539362804},14,null,{"$f":"0.2*Y135","v":0.53064444439043734},"(14 → 19)",{"$f":"0.2*AA135","v":0.6711205957334746},null,"فاصله افقی بین 24 و 27 بعد از بسته شدن ساسون",{"$f":"0.5*G167*COS(G158)+0.5*G167*COS(AD134-AD133-G158)","v":6.9605539988765059},{"$f":"0.5*H167*COS(H158)+0.5*H167*COS(AE134-AE133-H158)","v":6.1881799266254003},{"$f":"AR138","v":13.714630655626026},{"$f":"AS138","v":21.414336622821164},24,null,{"$f":"AR127","v":15.048674999999996},{"$f":"AS127","v":5.9413370132822059E-2},13,null,{"$f":"K115-K132+K140","v":11.955767604624494},{"$f":"K127+K133+AP111","v":13.472999053936281},23,null,{"$f":"AA115-AA135+AA141","v":13.714630655626026},{"$f":"AA130+AA136+AT111","v":14.290481687188251},23,null,null,"(25 → 32)","وصل",null,null,null,null,null,null,null,"یقه هفت",{"$f":"Y157","v":1.6192044407684831},"(31 → 32)",{"$f":"AA157","v":2.2481372918746132},null,{"$f":"0+BI98","v":0},{"$f":"BI125+BI97","v":66.542275796965384},21,null,null,null,null,null,{"$f":"AZ94-BT130","v":14.023763161951312},{"$f":"BA94","v":68.674873691441505},22,"نقطه حلقه آستین",{"$f":"BS104+SQRT(POWER(BS137-BS104,2)+POWER(BT137-BT104,2))*SIN(ATAN((BS137-BS104)/(BT137-BT104))-IF(BX101=1,(ATAN((BS138-BS104)/(BT138-BT104))-ATAN((BS109-BS104)/(BT109-BT104))),BT131))","v":14.022580190996671},{"$f":"BT104+SQRT(POWER(BS137-BS104,2)+POWER(BT137-BT104,2))*COS(ATAN((BS137-BS104)/(BT137-BT104))-IF(BX101=1,(ATAN((BS138-BS104)/(BT138-BT104))-ATAN((BS109-BS104)/(BT109-BT104))),BT131))","v":68.675635691210431},"b16",null,{"$f":"BK146-CB112","v":10.018192653597573},{"$f":"BL146-CB113","v":71.644956108298928},32,"نقطه ساسون سرشانه",{"$f":"CA104+SQRT(POWER(CA137-CA104,2)+POWER(CB137-CB104,2))*SIN(ATAN((CA137-CA104)/(CB137-CB104))-CB130)","v":8.7110710286090125},{"$f":"CB104+SQRT(POWER(CA137-CA104,2)+POWER(CB137-CB104,2))*COS(ATAN((CA137-CA104)/(CB137-CB104))-CB130)","v":71.883679066836009},32,null,null,null,null,null,{"$f":"CI103","v":4.8888099691822111},{"$f":"CJ103","v":68.090424684044606},30,null,"نقطه تقاطع","g1",{"$f":"(CT135-CT133+CS133*((CT134-CT133)/(CS134-CS133))-CS135*((CT136-CT135)/(CS136-CS135)))/(((CT134-CT133)/(CS134-CS133))-((CT136-CT135)/(CS136-CS135)))","v":8.5475043150679397},{"$f":"CT133+(CS137-CS133)*((CT134-CT133)/(CS134-CS133))","v":66.87077042877722},null,null,null,null,null,null,null,null,"α41m",{"$f":"ATAN((DH117-DH115)/(DG117-DG115))","v":4.6496310629714037E-2},null,null,{"$f":"BD186","v":8.3948203334515075},{"$f":"BE186","v":33.775000000000006},"50شیفت",null,{"$f":"DK125","v":12.247744582699324},37.043380736880856,{"$f":"DM125","v":"10rm"},null,null,null,null,null,{"$f":"DH607","v":6.6326000000000001},{"$f":"DI607","v":16.79427803581552},"50r",null,null,null,null,"شیفت افقی تکه جلو",{"$f":"C104","v":0},null,"قرینه جلو",{"$f":"2*C100","v":0},null,null,null,null,null,null,null,null,null,null,null,null,null,null,{"$f":"'متغیرها '!C122","v":0},"b","زاویه اپل",null,null,{"$f":"'متغیرها '!C122","v":0},"b","زاویه اپل",null,null,null,"رگلان با درز",null,8.8069535390312872,80.304730776832585,"p2",null,{"$f":"BS111","v":0},{"$f":"BT111","v":58.3},4,null,null,null,null,null,{"$f":"BD97","v":0},{"$f":"BE97","v":33.775000000000006},"1'",null,null,null,null,null,{"$f":"ET175","v":0},{"$f":"EU175","v":49.365000000000002},"e''1",null,{"$f":"CC150+CB112","v":8.3217161059270879},{"$f":"CD150+CB113","v":67.355910167564147},"شیفت b'6",null,{"$f":"-GD137+FK99","v":-8.3217161059270879},{"$f":"GE137","v":67.355910167564147},"شیفت b'6",null,{"$f":"BO187","v":7.7325999999999997},{"$f":"BP187","v":37.83},"38'",null,{"$f":"-GL137+FS99","v":-7.7325999999999997},{"$f":"GM137","v":37.83},"38'",null,null,null,null,null,null,null,null,null,{"$f":"DS115","v":12.269900002962704},{"$f":"DT115","v":66.767615115495119},"20m",null,{"$f":"-HB137+GI99","v":-12.269900002962704},{"$f":"HC137","v":66.767615115495119},"20m",null,null,null,null,null,null,null,null,null,null,null,{"$f":"-FV136-HY101","v":-13.396968749446888},{"$f":"FW136","v":57.354266648838504},"b8s",null,{"$f":"-FB135-HY101","v":-6.1110124614777632},{"$f":"FC135","v":71.728171017165522},"چرخیده25",null,null,null,null,null,null,null,null,null,{"$f":"-CR189-HY101","v":-7.3400475927238986},{"$f":"CS189","v":58.3},"بالاتنه 5",null,{"$f":"IN122","v":-6.1110124614777632},{"$f":"IO122","v":71.728171017165522},{"$f":"IP122","v":25},null,{"$f":"-DI282-HY101","v":0},{"$f":"DJ282","v":55.2},"e'1",null,null,null,null,null,{"$f":"-DP467-HY101","v":-12.944246212773558},{"$f":"DQ467","v":39.117457384496475},"β7"]
[null,null,null,null,null,null,null,null,null,"(2 → 25)",{"$f":"G163+'متغیرها '!C71*0.5*G167*COS(O139)","v":6.1110124614777632},{"$f":"H163","v":5.2440000000000007},null,"β'1",{"$f":"ATAN((Q149-Q147)/(R149-R147))","v":0.11790348748991168},{"$f":"ATAN((N163-N162)/(O163-O162))","v":0.13367427047735256},{"$f":"AN148","v":10.130344190243452},{"$f":"AO148","v":22.640363369116422},34,null,{"$f":"AN146","v":8.71204984591105},{"$f":"AO146","v":22.912684068662113},32,null,{"$f":"0.3*Y141","v":0.378},"(18 → 25)",{"$f":"0.3*AA141","v":0.35914856066243828},null,"β11",{"$f":"ATAN((AG127-AG113)/(AF127-AF113))","v":0.21425922308423978},{"$f":"ATAN((AD159-AD160)/(AC159-AC160))","v":0.25147773886195268},{"$f":"AR151","v":9.9772867218698593},{"$f":"AS151","v":21.414336622821164},35,null,null,null,null,null,{"$f":"K147","v":4.8888099691822111},{"$f":"K114+AP111","v":23.728171017165529},29,null,{"$f":"AA148","v":2.4450879521344988},{"$f":"AA114+AT111","v":24.733678063661422},29,null,null,"(10 → 35)",{"$f":"H108-H114+0.5*(H105-H108)","v":8.5749999999999957},null,null,null,null,null,null,null,null,{"$f":"IF('متغیرها '!C125=1,H149,IF(H149>0,H149,0))","v":0.92499999999999982},"x",{"$f":"IF('متغیرها '!C125=1,G149,IF(G149>0,G149,0))","v":0.92500000000000027},null,null,null,null,null,null,null,null,null,null,"ζ'2",{"$f":"('متغیرها '!C106+0.001)*ATAN((BS138-BS104)/(BT138-BT104))","v":2.2237201821777777E-4},null,null,null,null,null,null,"ζ1",{"$f":"ATAN((CB104-CB139)/(CA139-CA104))","v":0.6291856801475898},null,null,null,null,null,null,null,null,null,{"$f":"CI103","v":4.8888099691822111},{"$f":"CJ103","v":68.090424684044606},30,null,null,null,null,null,null,null,null,null,null,null,null,null,"α36m",{"$f":"ATAN((DS105-DS104)/(DT104-DT105))","v":0.20927955044754012},null,null,null,null,null,null,{"$f":"DK117","v":7.6900475927238983},{"$f":"DL117","v":17.2},{"$f":"DM117","v":"53r"},null,null,null,null,null,{"$f":"DS107","v":15.91397769714632},{"$f":"DT107","v":56.688612380791398},"شیفت 8'm",null,null,null,null,null,null,null,null,null,null,null,null,null,null,null,null,null,null,null,null,null,null,"b1",{"$f":"ATAN((ER131-ER132)/(ES131-ES132))-ATAN((ER133-ER132)/(ES133-ES132))","v":0.165991210699408},null,null,null,"(30b→22)",{"$f":"SQRT(POWER(EW150-EW132,2)+POWER(EX150-EX132,2))","v":5.417459862477247},null,null,null,{"$f":"BS175","v":8.0377774662319652},{"$f":"BT175","v":64.714163270783203},"34'",null,{"$f":"J269","v":0},{"$f":"K269","v":81.293437933730758},"p3",null,{"$f":"BD97","v":0},{"$f":"BE97","v":33.775000000000006},"1'",null,null,null,null,null,{"$f":"BD150","v":0},{"$f":"BT116","v":55.2},"e'1",null,9.5977067334160555,33.843676147376179,"50's",null,6.9691179743621783,80.773428973556491,"a'4",null,null,null,"رگلان بدون درز",null,null,null,"رگلان بدون درز",null,{"$f":"BO176","v":0},{"$f":"BP176","v":33.775000000000006},47,null,{"$f":"-GL143+FS99","v":0},{"$f":"GM143","v":33.775000000000006},47,null,{"$f":"EX179","v":3.7325999999999997},{"$f":"EY179","v":29.775000000000006},"a''23",null,{"$f":"-GT143+GA99","v":-3.7325999999999997},{"$f":"GU143","v":29.775000000000006},"a''23",null,{"$f":"BK162","v":15.598675},{"$f":"BL162","v":48.04189556373597},"شیفت 36",null,{"$f":"-HB143+GI99","v":-15.598675},{"$f":"HC143","v":48.04189556373597},"شیفت 36",null,null,null,{"$f":"-(0+AX99)+2*HQ101","v":0},{"$f":"EX231-EX232+AX98","v":41.160362606618179},"p26",null,{"$f":"-(AC292)+2*HQ101","v":-6.1110124614777632},{"$f":"AD292","v":71.728171017165522},{"$f":"AE292","v":25},null,{"$f":"-FV142-HY101","v":-7.6948203334515082},{"$f":"FW142","v":33.775000000000006},"50s",null,null,null,null,null,null,null,null,null,null,null,null,null,{"$f":"-CR195-HY101","v":0},{"$f":"CS195","v":64.452678350923691},"26'",null,{"$f":"-AR287-HY101","v":-15.583428563539153},37.872509056056941,"7n",null,{"$f":"-DI288-HY101","v":0},{"$f":"DJ288","v":45.174999999999997},"s'1",null,{"$f":"-DE274-HY101","v":-14.737774999999999},{"$f":"DF274","v":48.343380736880853},"شیفت 41",null,{"$f":"-DP473-HY101","v":-14.225958976885137},{"$f":"DQ473","v":38.519784907036239},"β5"]
[null,null,null,null,"نسبت فاصله دو ساسون پشت به نوار سینه از پشت (بین دو خط پهلو)","z'2",{"$f":"'متغیرها '!C86*0.5","v":0.25},{"$f":"0.5*0.5","v":0.25},null,"(29 → 30)",{"$f":"0.5*K144","v":3.6377463331209121},{"$f":"0.5*L144","v":3.2284850936623517},null,"(22 → 35')",{"$f":"0.5*G179-0.5*G167*'متغیرها '!C76*COS(O140)+0.5*G167*'متغیرها '!C78*COS(O140)","v":4.7143331619513109},{"$f":"COS(H160)*(0.5*H169+0.5*H167*(1))","v":3.698},null,null,null,null,{"$f":"AN152","v":0},{"$f":"AO152","v":16.452678350923705},38,null,{"$f":"0.4*Y146","v":2.0976000000000004},"(2 → 29)",{"$f":"0.4*AA146","v":2.4450879521344988},null,"(24 → 37')",{"$f":"COS(G158)*(0.5*G170+0.5*G167*(1-'متغیرها '!C76+'متغیرها '!C78))","v":4.5966349184333355},{"$f":"COS(H158)*(0.5*H170+0.5*H167)","v":3.5079999999999996},{"$f":"AR121","v":7.1825999999999999},{"$f":"AS121","v":13.129618317055431},7,null,null,null,null,null,{"$f":"K115-K132+K138-K153","v":10.130344190243452},{"$f":"K127+K133+K139+K154+AP111","v":22.640363369116422},34,null,{"$f":"AA146+AA153","v":8.7188795213449861},{"$f":"AA114-AA154+AT111","v":23.934712254645689},34,null,null,"(26 → 26')",{"$f":"AX147","v":0},null,{"$f":"AX132+AX99","v":4.8888099691822111},{"$f":"AX103-AX133+AX98","v":68.090424684044606},30,null,{"$f":"AZ102","v":0},{"$f":"BA102","v":64.452678350923691},26,{"$f":"'متغیرها '!U58-'متغیرها '!U59","v":30.8},"(1 → 33)",{"$f":"H106-H114","v":14.224999999999994},null,{"$f":"0+BI98","v":0},{"$f":"0+'متغیرها '!C54","v":0},"زمین",null,{"$f":"BK168","v":0},{"$f":"BL168","v":33.775000000000006},1,null,"نقطه اول از خط دوم","5 بالاتنه",{"$f":"BS104","v":7.3400475927238986},{"$f":"BT104","v":58.3},{"$f":"BW142","v":8.1784666298134567},{"$f":"BX142","v":57.846346698632267},"b",null,"نقطه اول از خط دوم",22,{"$f":"BK101","v":8.1987829808524726},{"$f":"BL101","v":66.542275796965384},null,null,null,null,null,null,null,null,{"$f":"CM105","v":11.439919455642789},{"$f":"CN105","v":59.251850429449},"شیفت 20f",null,null,null,null,null,null,null,null,null,null,null,null,null,"(41m→s2m)",{"$f":"DD147-DD144","v":11.299999999999997},"(36m→s'2m)",null,null,null,null,null,null,null,null,null,null,null,null,null,null,null,null,null,null,null,null,null,null,null,null,null,null,null,null,null,null,null,null,null,null,null,null,null,null,"مولفه افقی","مولفه عمودی","اسم نقطه ",null,null,"نقاط  خروجی ",null,null,null,null,{"$f":"BW176+BT130","v":8.6373955373023232},{"$f":"BX176","v":64.040692633484525},"5''شیفت ",null,null,null,null,null,{"$f":"BW108","v":0},{"$f":"BX108","v":64.452678350923691},"26 چرخیده",null,{"$f":"AZ166","v":7.3400475927238986},{"$f":"BA166","v":48},39,null,{"$f":"IF(AX152>0,FR150+0.95*(FR147-FR150),FR150)","v":7.3400475927238986},{"$f":"IF(AX152>0,FS150-0.4*(FS150-FS147),FS147)","v":52.944000000000003},"40a",null,{"$f":"DG115","v":7.3409871051430695},{"$f":"DH115","v":48.000000053560896},"40s",null,{"$f":"FF112","v":9.9891818374612456},76.994693194502617,"a2",null,{"$f":"CC157","v":8.2262536545771141},{"$f":"CD157","v":66.72409078224544},"b'10",null,{"$f":"-GD148+FK99","v":-8.2262536545771141},{"$f":"GE148","v":66.72409078224544},"b'10",null,null,null,null,null,null,null,null,null,{"$f":"EX178","v":0},{"$f":"EY178","v":29.775000000000006},"a'6",null,{"$f":"-GT148+GA99","v":0},{"$f":"GU148","v":29.775000000000006},"a'6",null,{"$f":"BK170","v":0},{"$f":"BP178-(H106-H108)","v":36.700000000000003},"b48",null,{"$f":"-HB148+GI99","v":0},{"$f":"HC148","v":36.700000000000003},"b48",null,null,null,{"$f":"-(EZ237)+2*HQ101","v":-5.9196829636194899},{"$f":"FA237","v":55.22370923241688},"p16",null,null,null,null,null,{"$f":"-FV147-HY101","v":-12.411533121171495},{"$f":"FW147","v":48.235931781504434},"41m",null,{"$f":"-FB146-HY101","v":-7.9765110199208493},{"$f":"FC146","v":64.150946753072191},"5'",null,{"$f":"-FJ146-HY101","v":0},{"$f":"FK146","v":33.775000000000006},1,null,null,null,null,null,{"$f":"-CR198-HY101","v":0},{"$f":"CS198","v":64.452678350923691},26,null,null,null,"60'",null,{"$f":"-AL475-HY101","v":-8.3260468829767849},{"$f":"AM475","v":67.012769338185606},"g2",null,{"$f":"-DU263-HY101","v":0},{"$f":"DV263","v":64.452678350923691},"چرخیده 26'",null,{"$f":"-DP478-HY101","v":-9.3094348625813819},{"$f":"DQ478","v":46.180215092963763},"β9"]
[null,null,null,null,"ضریب بالا آمدن کف حلقه آستین از خط سینه ","z1",{"$f":"(H127-H126+H122-O128*H130-O127-(0.5-G148)*H119*((G151)/(I127-I126+0.05*H130)))/(H127-H126)","v":0.87238183170554306},{"$f":"(I127-I126+I122-O128*'متغیرها '!U82-P127-(0.5-G148)*'متغیرها '!U71*((H151)/(I127-I126+0.05*'متغیرها '!U82)))/(I127-I126)","v":0.97638800904977396},null,"(22 → 33)",{"$f":"(1-'متغیرها '!C76+'متغیرها '!C78)*0.5*G167*COS(O140)","v":3.8934189717078596},{"$f":"0.5*H167*COS(P140)","v":2.9122826965324573},null,"(36 → 32)","وصل",null,{"$f":"AN140","v":0},{"$f":"AO140","v":16.452678350923705},26,null,{"$f":"AN148","v":10.130344190243452},{"$f":"AO148","v":22.640363369116422},34,null,{"$f":"0.5*H167*COS(AE139)","v":3.0936516347742273},"(27 → 33)",{"$f":"(1-'متغیرها '!C71)*0.5*G167*COS(AD139)","v":2.6061596410087393},null,"(38 → 36)","وصل",null,{"$f":"AR116","v":0},{"$f":"AS116","v":24.733678063661422},2,null,null,null,null,null,null,null,null,null,{"$f":"AR156+0.6*(AR152-AR156)","v":9.2658852254629043},{"$f":"AS156+0.65*(AS152-AS156)","v":21.870404573490141},"36-",null,null,null,null,null,{"$f":"AZ131","v":11.767696919733259},{"$f":"BA131","v":42.35},35,null,{"$f":"AZ108+'متغیرها '!C55","v":16.369420850798402},{"$f":"BA108","v":34.118380736880859},"7شیفت ",{"$f":"BG155","v":6.75},"(37 → 38)",{"$f":"BI155","v":7.1825999999999999},null,{"$f":"0+BI98","v":0},{"$f":"BI154+BI97","v":59.816656485349888},39,null,{"$f":"BO170","v":15.91397769714632},{"$f":"BP170","v":53.461363880791403},"10شیفت",null,"نقطه اول از خط اول",30,{"$f":"BW106","v":4.8888099691822111},{"$f":"BX106","v":68.090424684044606},{"$f":"BW135","v":11.069121989515221},{"$f":"BX135","v":61.47342425802357},"b6",null,"نقطه اول از خط اول",28,{"$f":"CE106","v":4.5845399102521851},{"$f":"CF106","v":71.638543045247559},null,null,null,null,"مولفه افقی","مولفه عمودی","اسم نقطه ",null,null,"مولفه افقی","مولفه عمودی","اسم نقطه ",null,"مولفه افقی","مولفه عمودی","اسم نقطه ",null,"مولفه افقی","مولفه عمودی","اسم نقطه ",null,"قرینه",{"$f":"2*C102","v":0},null,null,null,null,null,null,null,null,null,null,null,null,null,"مولفه افقی","مولفه عمودی","اسم نقطه ",null,{"$f":"DO157","v":14.025614535392796},{"$f":"DP157","v":68.686832378035945},{"$f":"DQ157","v":39},null,"مولفه افقی","مولفه عمودی","اسم نقطه ",null,{"$f":"DW158+DX161","v":12.558374718478948},{"$f":"DX158+DX162","v":62.272963880791401},"شیفت12p یا 12",null,{"$f":"-EA153+EF152","v":-12.558374718478948},{"$f":"EB153","v":62.272963880791401},"شیفت12p یا 12",null,null,null,null,null,null,null,null,null,null,null,null,null,null,null,null,null,null,null,null,{"$f":"BW142+BT130","v":8.1784666298134567},{"$f":"BX142","v":57.846346698632267},"شیفت b",null,0,64.452678350923691,26,null,null,null,null,null,{"$f":"CE183","v":1.1321624813822764},{"$f":"CF183","v":46.138325050587106},"7n",null,{"$f":"FR152-(FR149-FR150)","v":7.3400475927238986},{"$f":"FS149","v":55.004000000000005},"39aa",null,null,null,null,null,{"$f":"FF117","v":7.3437137570236448},{"$f":"FG117","v":80.304730776832585},"a4",null,null,null,null,null,null,null,null,null,{"$f":"BK182","v":14.976969029146691},{"$f":"BL182","v":33.811868096087657},"4'شیفت",null,{"$f":"-GL153+FS99","v":-14.976969029146691},{"$f":"GM153","v":33.811868096087657},"4'شیفت",null,null,null,null,null,null,null,null,null,null,null,null,null,null,null,null,null,null,null,{"$f":"-(EZ232)+2*HQ101","v":-7.3416000000000006},{"$f":"FA232","v":54.720000000000041},"p25",null,{"$f":"-FN135-HY101","v":-7.3400475927238986},{"$f":"FO135","v":48},39,null,{"$f":"-FR148-HY101","v":-7.3400475927238986},{"$f":"FS148","v":52.944000000000003},"40a",null,null,null,"4'",null,{"$f":"-FJ149-HY101","v":0},{"$f":"FK149","v":64.452678350923691},"چرخیده26'",null,{"$f":"-FR109-HY101","v":-6.990047592723899},{"$f":"FS109","v":36.700000000000003},"g47'",null,null,null,null,null,{"$f":"-AU231-HY101","v":-9.9891818374612456},{"$f":"AV231","v":76.994693194502617},"a2",null,null,null,"42'",null,{"$f":"-DU266-HY101","v":-6.8119447860226501E-8},{"$f":"DV266","v":58.300999999990715},"چرخیده 4'"]
[null,null,null,null,"زاویه خط عمود با وسط ساسون سرشانه پشت","α3",{"$f":"ATAN(G177/G178)","v":0.1910451219504056},{"$f":"ATAN(H177/H178)","v":0.20455225908555205},null,"(35 → 36)",{"$f":"IF((6*G169)<G171,6*G169,G171)","v":8.3807653829377315},{"$f":"IF((6*H169)<H171,6*H169,H171)","v":8.2757531542265301},null,null,null,null,{"$f":"AN143","v":4.8888099691822111},{"$f":"AO143","v":23.728171017165529},29,null,null,null,null,null,null,"(24 → 27)","وصل",null,{"$f":"Y115-Y135","v":11},{"$f":"Y130+Y136","v":15.05577565423371},18,{"$f":"AR144","v":2.4450879521344988},{"$f":"AS144","v":23.09097553604062},30,null,null,null,null,null,null,null,null,null,null,null,null,null,{"$f":"AV155+L116-L119","v":41.1},"(1 → 42)",{"$f":"AX155+K116-K119","v":22.464999999999996},null,"ساسون کمر",null,null,null,{"$f":"AZ136+'متغیرها '!C55","v":10.130344190243452},{"$f":"BA136","v":70.640363369116415},"شیفت34",{"$f":"2*BG144-0.5*BG150","v":0.10000000000000009},"(43 → 43')",{"$f":"'متغیرها '!C68*H127+Y128+0.5*(H106-H104)","v":4.1895563735970157E-2},null,{"$f":"BI149+BI98","v":6.5325999999999995},{"$f":"BI148+BI97","v":48},34,null,null,null,null,null,{"$f":"(BT172-BT171)","v":0.11413251621698858},"زاویه چرخش کامل به ساسون زیر بغل",null,null,"حلقه آستین با چرخش کامل به ساسون زیر بغل",null,null,null,"به دست آوردن مختصات قرینه یک نقطه نسبت به خط تقارن با داشتن دونقطه از خط تقارن ",null,null,null,null,null,"آستر کت پشت",null,null,{"$f":"H167","v":6.441020451201906},"W",null,null,{"$f":"J352","v":7.4226433817152566},{"$f":"K352","v":45.6},"dd5",null,null,null,null,null,null,null,null,null,null,null,null,null,null,null,null,null,null,null,null,null,null,null,null,{"$f":"IF('متغیرها '!C119=1,ER125,AZ121)","v":12.000434628197155},{"$f":"IF('متغیرها '!C119=1,ES125,BA121)","v":58.565171053936282},{"$f":"ET125","v":"20g"},"یا 20",{"$f":"DO173","v":7.9739902401784235},{"$f":"DP173","v":58.333369703209428},{"$f":"DQ173","v":23},null,{"$f":"BK114","v":17.015427697146322},{"$f":"BL114","v":56.325133880791398},"شیفت 9",null,{"$f":"DW177","v":10.177304704985399},{"$f":"DX177","v":62.087677264274667},35,null,{"$f":"-EA159+EF152","v":-10.177304704985399},{"$f":"EB159","v":62.087677264274667},35,null,null,null,null,null,null,null,{"$f":"DG124","v":12.411533121171495},{"$f":"DH124","v":48.235931781504434},"41m","کمر","نقاط  خروجی برگرد لبه پیراهن در رویه کت",null,null,null,null,{"$f":"DX324","v":7.7325999999999997},{"$f":"DY324","v":33.775000000000006},"e21","وسط",{"$f":"BS116","v":0},{"$f":"BT116","v":55.2},"e1",null,{"$f":"BD186","v":8.3948203334515075},{"$f":"BE186","v":33.775000000000006},"شیفت50",null,null,null,null,null,{"$f":"AZ161","v":7.3400475927238986},{"$f":"BA161","v":56.24},43,null,{"$f":"FR160+0.1*(FR157-FR160)","v":14.836421296361948},{"$f":"IF(AX152>0,FS160+0.3*(FS157-FS160),FS160)","v":49.96922123199748},null,null,null,null,null,null,null,null,null,null,null,null,null,null,null,null,null,null,{"$f":"CE108","v":0},{"$f":"CF108","v":70.908453032971636},24,null,{"$f":"-GL159+FS99","v":0},{"$f":"GM159","v":70.908453032971636},24,null,null,null,null,null,null,null,null,null,{"$f":"HB149","v":7.7325999999999997},{"$f":"HC158","v":17.2},"b'49",null,{"$f":"-HB159+GI99","v":-7.7325999999999997},{"$f":"HC159","v":17.2},"b'49",null,null,null,null,null,"58'",null,{"$f":"-FN141-HY101","v":-7.6921466709873236},{"$f":"FO141","v":37.83004002614112},"47''s",null,{"$f":"-FR154-HY101","v":-7.3400475927238986},{"$f":"FS154","v":52.944000000000003},"39a",null,null,null,null,null,{"$f":"-FJ155-HY101","v":-7.3400475927238986},{"$f":"FK155","v":58.3},"بالاتنه 5",null,{"$f":"-FR115-HY101","v":-6.990047592723899},{"$f":"FS115","v":17.2},"g52",null,{"$f":"-CV193-HY101","v":0},{"$f":"CW193","v":55.2},"e1",null,{"$f":"-AU237-HY101","v":-2.9100718963237386},{"$f":"AV237","v":58.428573935941614},"d7",null,null,null,null,null,{"$f":"-DU272-HY101","v":0},{"$f":"DV272","v":45.174999999999997},"s1",null,{"$f":"-DP489-HY101","v":-5.1256817867881459},{"$f":"DQ489","v":32.864219327133476},"β15"]
[null,null,null,null,"نوار گردن از پشت","V2",{"$f":"0.38*H128","v":11.4},{"$f":"0.38*H128","v":11.4},null,null,null,null,null,{"$f":"L115-L132+L138-L153","v":9.7277173034675428},{"$f":"L127+L133+L139+L154","v":22.83392097929071},34,null,null,null,null,null,null,null,null,null,"(34 → 38)","وصل",null,{"$f":"Y118","v":6.75},{"$f":"Y116-Y120","v":7.4325079185520355},8,{"$f":"AR138","v":13.714630655626026},{"$f":"AS138","v":21.414336622821164},24,null,null,null,null,null,null,null,null,null,null,null,null,null,{"$f":"AV160","v":6.8952000000000009},"(46 → 47)",{"$f":"AX160","v":7.3400475927238986},null,null,null,null,null,{"$f":"AZ140","v":6.1110124614777632},{"$f":"BA140","v":71.728171017165522},25,{"$f":"Y117","v":18.75},"(33→45)",{"$f":"AA117","v":18.75},null,{"$f":"BI156+BI98+'متغیرها '!C56","v":17.998675000000002},{"$f":"0+BI97+'متغیرها '!C57","v":33.775000000000006},"شیفت41",null,{"$f":"BK154","v":7.1825999999999999},{"$f":"BL154","v":59.816656485349888},40,null,{"$f":"AZ95-BT130","v":11.955767604624494},{"$f":"BA95","v":65.073936372688891},24,"نقطه حلقه آستین",{"$f":"BS104+SQRT(POWER(BS164-BS104,2)+POWER(BT164-BT104,2))*SIN(ATAN((BS164-BS104)/(BT164-BT104))-BS159)","v":11.154288497400689},{"$f":"BT104+SQRT(POWER(BS164-BS104,2)+POWER(BT164-BT104,2))*COS(ATAN((BS164-BS104)/(BT164-BT104))-BS159)","v":65.555525586102462},"b12",null,null,null,null,null,null,null,null,null,null,{"$f":"CI154","v":9.2282795705957881},{"$f":"CJ154","v":62.549952317496427},"16f",null,"بعضی نقاط  ورودی پشت",null,null,null,{"$f":"CN157","v":0},{"$f":"CO157","v":42.24},"d4",null,{"$f":"IF(CO172>CO167,CN172,CN167)","v":7.8325999999999993},{"$f":"IF(CO172>CO167,CO172,CO167)","v":48}," شیفت35 یا dd2",null,{"$f":"-CV164+DA153","v":-7.8325999999999993},{"$f":"CW164","v":48}," شیفت35 یا dd2",null,null,null,null,null,null,null,null,null,null,null,null,"(1 → 22)",{"$f":"DP154+0.4*(DP155-DP154)","v":58.333369703209428},null,"شیفت",{"$f":"DO174+DP160","v":9.3912375036136186},{"$f":"DP174","v":60.164749290452214},{"$f":"DQ174","v":31},null,"(1 → 7)",{"$f":"DX154+0.4*(DX158-DX154)","v":60.799179443526491},null,null,12.187997214444849,66.778600976575078,39,null,{"$f":"-EA164+EF152","v":-12.187997214444849},{"$f":"EB164","v":66.778600976575078},39,null,null,null,null,null,null,null,"مولفه افقی","مولفه عمودی","اسم نقطه ",null,"نقاط  خروجی برگرد لبه پیراهن ترک ",null,null,null,null,{"$f":"DS106","v":20.32605208463896},{"$f":"DT106","v":33.816895563735976},"43''m","پهلو",{"$f":"AZ177","v":6.990047592723899},{"$f":"BA177","v":33.775000000000006},52,null,{"$f":"BD180","v":14.737774999999999},{"$f":"BE180","v":34.118380736880859},"شیفت49'  …",null,null,null,null,null,null,null,null,null,null,null,null,null,{"$f":"ES166","v":7.6900475927238983},29.775000000000006,"شیفتa53",null,null,null,null,null,{"$f":"BO192","v":6.6326000000000001},{"$f":"BP192","v":33.775000000000006}," شیفت50",null,{"$f":"-GD164+FK99","v":-6.6326000000000001},{"$f":"GE164","v":33.775000000000006}," شیفت50",null,null,null,null,null,null,null,null,null,null,null,null,null,null,null,null,null,{"$f":"BO178-(HC164-BP178)*(BO178-BK167)/(BL167-BP178)","v":0},{"$f":"BP178+(H127-H126)","v":58},"b44",null,{"$f":"-HB164+GI99","v":0},{"$f":"HC164","v":58},"b44",null,null,null,{"$f":"-(AK230+AC232)+2*HQ101","v":-7.5679291634828765},{"$f":"AK229+AD232","v":72.108395927951292},"b4",null,null,null,"کمر",null,{"$f":"-FR159-HY101","v":-14.836421296361948},{"$f":"FS159","v":49.96922123199748},null,null,{"$f":"-FB162-HY101","v":-2.907859798573142},35.569644183529043,"6n",null,null,null,null,null,{"$f":"-FR120-HY101","v":0},{"$f":"FS120","v":58.3},"g4",null,{"$f":"-CV196-HY101","v":0},{"$f":"CW196","v":55.2},"e'1",null,{"$f":"-AU242-HY101","v":-11.879062207892611},{"$f":"AV242","v":58.439646537549663},"d8",null,null,null,"44'",null,null,null,null,null,null,null,null,null,null,null,null,null,null,null,null,null,null,null,null,null,null,null,null,null,null,null,null,null,null,null,null,null,null,null,null,null,null,null,null,null,null,null,null,null,null,null,null,null,null,null,null,null,null,null,null,null,null,null,null,null,null,{"$f":"IF(KK260>0,0.15*KK260,0)","v":0},"j78"]
[null,null,null,null,"پهنای ساسون سرشانه پشت",null,{"$f":"(G181/COS(G158))-G167","v":1.2102222977586052},{"$f":"(H181/COS(H158))-H167","v":1.1025705449357508},null,null,null,null,null,null,null,null,null,null,null,null,null,null,null,null,null,null,null,null,null,null,null,null,null,null,null,null,null,null,null,null,null,null,null,null,null,null,null,null,"(52→52')",{"$f":"0.25*'متغیرها '!C130*(H102-H103)","v":0},null,{"$f":"0+AX99","v":0},{"$f":"AX155+(H124-H123)+AX98","v":58.3},"خط سینه",null,"خطوط برش ساسون کمر ",null,null,null,"(50→50')",{"$f":"BI169","v":0},null,{"$f":"-BI165+BI98","v":0},{"$f":"BI167+BI97","v":36.700000000000003},48,null,{"$f":"BI108+BI98+'متغیرها '!C56","v":15.91397769714632},{"$f":"BI110-BI112+BI97+'متغیرها '!C57","v":53.461363880791403},"10شیفت",null,"متغیرهای محاسبه ای چرخش کامل به ساسون زیر بغل",null,null,null,null,null,null,null,null,null,null,null,null,null,null,null,{"$f":"ER423","v":0},{"$f":"ES415","v":73},2,null,null,{"$f":"J309","v":0},{"$f":"K309","v":46.56},"d1",null,{"$f":"CN159","v":7.4226433817152566},{"$f":"CO159","v":45.6}," dd5",null,{"$f":"CN173","v":15.598675},{"$f":"CO173","v":48.04189556373597},"d3",null,{"$f":"-CV170+DA153","v":-15.598675},{"$f":"CW170","v":48.04189556373597},"d3",null,null,null,null,null,null,null,null,null,null,null,null,"نقاط  خروجی ",null,null,"شیفت",{"$f":"DO159+DP160","v":12.000434628197155},{"$f":"DP159","v":58.565171053936282},{"$f":"DQ159","v":"20g"},null,"(1 → 34)",{"$f":"DX154+0.75*(DX155-DX154)","v":62.087677264274667},null,"شیفت",{"$f":"CA122+DX161","v":17.015427697146322},{"$f":"CB122+DX162","v":56.325133880791398},{"$f":"CC122","v":9},null,{"$f":"-EA170+EF152","v":-17.015427697146322},{"$f":"EB170","v":56.325133880791398},{"$f":"CG122","v":"b14"},null,null,null,null,null,null,null,{"$f":"EO169+0.3*(EO166-EO169)","v":8.501642146554742},{"$f":"EP169+0.9*(EP166-EP169)","v":50.893077650109539},"a6",null,{"$f":"DL118","v":0},"شیفت افقی",null,null,null,"αa23",{"$f":"ATAN((EX158-EX157)/(EY157-EY158))","v":0},null,null,6.809679073932136,35.518384487068481,"6n'",null,null,null,null,null,null,null,null,null,null,null,null,null,null,null,null,null,null,null,null,null,null,null,null,null,null,null,null,null,null,null,null,null,null,null,null,null,null,null,null,null,null,null,null,null,null,null,null,null,{"$f":"'متغیرها '!C53","v":0},{"$f":"'متغیرها '!C54","v":0},null,null,{"$f":"-HB170+GI99","v":0},{"$f":"HC170","v":0},null,null,null,null,null,null,null,null,{"$f":"-FF147-HY101","v":0},{"$f":"FG147","v":55.2},"e1",null,{"$f":"-CA191-HY101","v":-2.5536296527245512},{"$f":"CB191","v":39.368394800084431},"7n'",null,{"$f":"-FN175-HY101","v":-16.273355133236585},{"$f":"FO175","v":37.043380736880856},"شیفت9",null,{"$f":"-FF156-HY101","v":-16.369420850798402},{"$f":"FG156","v":34.118380736880859},"شیفت7",null,null,null,"70'"]
[null,null,null,null,"فاصله افقی بین دو نقطه 6 و 35 در بالاتنه جلو",null,{"$f":"0.5*(H120-H121)-G156+G174-0.5*G179-K117","v":1.9693824072761021},{"$f":"L115-H156+H174-0.5*H179-L117","v":2.0467999999999993},null,null,null,null,null,null,null,null,null,null,null,null,null,null,null,null,null,null,null,null,null,null,null,null,null,null,null,null,null,null,null,null,null,null,null,null,null,null,null,null,null,null,null,{"$f":"AZ166","v":7.3400475927238986},{"$f":"BA166","v":48},39,null,{"$f":"AZ161","v":7.3400475927238986},{"$f":"BA161","v":56.24},43,null,null,null,null,{"$f":"BK176+0.3*(BK172-BK176)","v":10.838047750000001},{"$f":"BL176+0.2*(BL172-BL176)","v":33.783379112747198},"شیفت41''",null,{"$f":"BO188","v":7.7325999999999997},{"$f":"BP188","v":33.775000000000006},49,null,{"$f":"BU150","v":8.0377774662319652},{"$f":"BV150","v":64.714163270783203},"32'","تقاطع رگلان با درز",{"$f":"BS104+SQRT(POWER(BS175-BS104,2)+POWER(BT175-BT104,2))*SIN(IF(BT175=BT104,RADIANS(90)-BT177,ATAN((BS175-BS104)/ABS(BT175-BT104))+IF(BT175>BT104,-1,1)*BT177))","v":8.7622792223608741},{"$f":"BT104+IF(BT175<BT104,-1,1)*SQRT(POWER(BS175-BS104,2)+POWER(BT175-BT104,2))*COS(IF(BT175=BT104,RADIANS(90)-BT177,ATAN((BS175-BS104)/ABS(BT175-BT104))+IF(BT175>BT104,-1,1)*BT177))","v":64.593296007046703},"34''",null,{"$f":"AZ177","v":6.990047592723899},{"$f":"BA177","v":33.775000000000006},52,null,{"$f":"CN158","v":7.2574518037325406},{"$f":"CO158","v":45.6},"d5",null,"α4",{"$f":"'متغیرها '!B245","v":0.34045293430977369},"زاویه سرشانه با افق",null,null,null,{"$f":"'متغیرها '!C57","v":0},"شیفت عمودی تکه پهلو",null,{"$f":"CN160","v":14.737774999999999},{"$f":"CO160","v":48.343380736880853},"d3",null,{"$f":"IF(CO173>CO168,CN173,CN168)","v":15.598675},{"$f":"IF(CO173>CO168,CO173,CO168)","v":48.04189556373597}," شیفت36 یا d3",null,{"$f":"-CV175+DA153","v":-15.598675},{"$f":"CW175","v":48.04189556373597}," شیفت36 یا d3",null,null,null,null,null,null,null,null,null,null,null,null,{"$f":"DP169","v":9.3910385109591257},{"$f":"DP168","v":60.165068193517676},33,null,null,null,null,null,{"$f":"DX167","v":10.676853567011317},{"$f":"DX166","v":61.7817024017031},25,null,null,null,"سرشانه عصایی",null,null,null,"سرشانه عصایی",null,null,null,null,null,null,null,"مولفه افقی","مولفه عمودی","اسم نقطه ",null,null,{"$f":"EO176","v":0},{"$f":"EP176-8*EP184-0.05*'متغیرها '!U60","v":49.365000000000002},"e''1",null,"نقاط  خروجی ",null,null,null,null,null,null,null,null,null,null,null,null,null,null,null,{"$f":"BD154","v":16.273355133236585},{"$f":"BE154","v":37.043380736880856},"شیفت9",null,null,null,null,null,null,null,null,null,null,null,null,null,null,null,null,null,null,null,null,null,null,null,null,null,null,null,null,null,null,null,null,null,null,null,null,null,null,null,null,null,null,null,null,null,null,null,{"$f":"-BD122+HM191","v":-7.3400475927238986},{"$f":"BE122","v":37.043380736880856},null,null,null,null,null,null,null,null,null,null,{"$f":"IB112","v":-10.249127483367291},{"$f":"IC112","v":46.522235236289433},"37شیفت ",null,{"$f":"-FF161-HY101","v":0},{"$f":"FG161","v":33.775000000000006},1,null,{"$f":"-FN163-HY101","v":-7.3400475927238986},{"$f":"FO163","v":37.83},47,null,null,null,null,null,null,null,null,null,{"$f":"-BD491-HY101","v":-7.9019505964197538},{"$f":"BE491","v":62.803029812675305},"g4",null,null,null,null,null,null,null,null,null,null,null,null,null,null,null,null,null,null,null,null,null,null,null,null,null,null,null,null,null,null,null,null,null,null,null,null,null,null,null,null,null,null,null,null,null,null,null,null,null,null,null,null,null,null,null,null,null,null,null,null,null,null,{"$f":"LE174+IF(KK258>0,KK277,(KK283-KK282))","v":14.037775},{"$f":"LF174","v":33.775000000000006},"j41",null,{"$f":"LE179","v":0},{"$f":"LF179","v":21.206997681028788},{"$f":"LG179","v":"j45"}]
[null,null,null,null,"فاصله عمودی بین دو نقطه 22 و 25 در بالاتنه جلو",null,{"$f":"H124-K127-K133-SQRT(O127*O127-G174*G174)","v":2.997544695612679},{"$f":"I124-L127-L133-SQRT(POWER(P127,2)-H174*H174)","v":2.5409592368292016},null,null,null,null,null,null,null,null,null,null,null,null,null,null,null,null,null,null,null,null,null,null,null,null,null,null,null,null,null,null,null,null,null,null,null,null,null,null,null,null,null,null,null,{"$f":"AZ162+AX160-AX169+'متغیرها '!C55","v":7.6900475927238983},{"$f":"BA162","v":37.83},"شیفت47''",null,{"$f":"AX165-AX168+AX99+'متغیرها '!C55","v":14.737774999999999},{"$f":"0+AX98+AX166","v":34.118380736880859},"شیفت49'  …",null,null,null,null,{"$f":"BO165+'متغیرها '!C56","v":7.8325999999999993},{"$f":"BP165+'متغیرها '!C57","v":48},"35 شیفت",null,"انحنا ساسون کمر ",null,null,null,null,null,null,null,null,null,null,null,"نقاط  محاسبه شده",null,null,null,"نقاط  محاسبه شده",null,null,null,null,{"$f":"CJ181+0.2*(CJ179-CJ181)","v":11.063065711336421},{"$f":"CK181+0.4*(CK179-CK181)","v":66.544905265370801},"20f",null,null,null,null,null,null,null,null,null,{"$f":"IF(CO170>CO169,CN170,CN169)","v":0},{"$f":"IF(CO170>CO169,CO170,CO169)","v":48},"44 یا d1",null,{"$f":"-CV180+DA153","v":0},{"$f":"CW180","v":48},"44 یا d1",null,null,null,null,null,null,null,null,null,null,null,null,null,null,null,null,null,null,null,null,null,null,null,null,null,null,null,null,null,null,null,null,null,null,null,null,null,null,{"$f":"BW121","v":3.5566951588635551},{"$f":"BX121","v":76.69427091536933},"a6"," یقه چرخیده",null,{"$f":"EO182-1.1*EP184","v":-1.8503791386715627},{"$f":"EP182","v":64.452678350923691},"e'3",null,{"$f":"EX162-EY167*SIN(EY174)","v":2.6326000000000001},{"$f":"EY162-EY167*COS(EY174)","v":29.775000000000006},"a'26",null,null,null,null,null,null,null,null,null,null,null,null,null,null,null,null,null,null,null,null,null,null,null,null,null,null,null,null,null,null,null,null,null,null,null,null,null,null,null,null,null,null,null,null,null,null,null,null,null,null,null,null,null,null,null,null,null,null,null,null,null,null,null,null,null,null,null,null,null,null,null,null,null,null,null,{"$f":"-FF151-HY101","v":-4.8888099691822111},{"$f":"FG151","v":68.090424684044606},"چرخیده30",null,{"$f":"-FF165-HY101","v":-13.469184066690302},34.084042663192776,"شیفت50'''",null,{"$f":"-FN166-HY101","v":-7.3400475927238986},{"$f":"FO166","v":48},39,null,null,null,null,null,null,null,null,null,null,null,null,null,null,null,null,null,null,null,null,null,null,null,null,null,null,null,null,null,null,null,null,null,null,null,null,null,null,null,null,null,null,null,null,null,null,null,null,null,null,null,null,null,null,null,null,null,null,null,null,null,null,null,null,null,null,null,null,null,null,null,null,null,null,{"$f":"LE174+0.5*(LE175-LE174)","v":7.0188874999999999},{"$f":"LF174","v":33.775000000000006},"j46",null,{"$f":"LE182","v":-7.0188874999999999},33.775000000000006,"j48"]
[null,null,null,null,"فاصله افقی بین دو نقطه 24 و 27 در بالاتنه پشت",null,{"$f":"0.5*H121-G155+G173-G163","v":7.847739999999999},{"$f":"Y115-Y135+Y141-H163","v":7.0159999999999991},null,null,null,null,null,null,null,null,null,null,null,null,null,null,null,null,null,null,null,null,null,null,null,null,null,null,null,null,null,null,null,null,null,null,null,null,null,null,null,null,null,null,null,{"$f":"AZ180-AX171","v":7.6900475927238983},{"$f":"BA106","v":33.775000000000006},"شیفت53",null,null,null,null,null,null,null,null,null,null,null,null,{"$f":"BO170","v":15.91397769714632},{"$f":"BP170","v":53.461363880791403},"10شیفت",null,null,null,"کش سویشرت",null,"قرینه",{"$f":"2*C102","v":0},null,null,{"$f":"CB178*(CA175-CA176)+CA176","v":5.5920380741791194},{"$f":"CB175","v":33.775000000000006},"5n",null,{"$f":"CF178*(CE175-CE176)+CE176","v":5.8059614429860327},{"$f":"CF176","v":42.24},"5n",null,null,{"$f":"CI170+0.5*CJ171","v":11},{"$f":"CJ173+0.45*(CK179-CJ173)","v":63.675340318430266},"12f",null,null,null,null,null,null,null,"جادکمه یقه گرد در بالاتنه",null,null,null,null,null,null,null,null,null,null,null,null,null,null,null,null,null,null,null,null,null,null,null,null,null,null,null,null,null,null,null,null,null,null,null,null,null,null,null,null,null,null,null,null,null,null,{"$f":"BW122","v":0.15674315058897204},{"$f":"BX122","v":70.573474633146517},"a8"," یقه چرخیده",null,{"$f":"EO181-1.1*EP184","v":-0.39325684941102801},{"$f":"EP181","v":70.573474633146517},"a'8",null,{"$f":"EX180+EY169*COS(EY174)","v":20.326101685920609},{"$f":"EY180-EY169*SIN(EY174)","v":29.775000000000006},"a''8",null,null,null,null,null,null,null,null,null,null,null,null,null,null,null,null,null,null,null,null,null,null,null,null,null,null,null,null,null,null,null,null,null,null,null,null,null,null,null,null,null,null,null,null,null,null,null,null,null,null,null,null,null,null,null,null,null,null,null,null,null,null,null,{"$f":"-BD128+HM191","v":-13.832351863251095},{"$f":"BE128","v":31.775000000000006},null,null,null,null,null,null,null,null,null,null,{"$f":"-FF152-HY101","v":-2.4444049845911051},{"$f":"FG152","v":65.180227617547871},"چرخیده28",null,{"$f":"-FF166-HY101","v":-11.883445400053178},33.963859405284474,"شیفت50''",null,{"$f":"-FN169-HY101","v":-7.3400475927238986},{"$f":"FO169","v":56.24},43,null,null,null,null,null,null,null,null,null,null,null,null,null,null,null,null,null,null,null,null,null,null,null,null,null,null,null,null,null,null,null,null,null,null,null,null,null,null,null,null,null,null,null,null,null,null,null,null,null,null,null,null,null,null,null,null,null,null,null,null,null,null,null,null,null,null,null,null,null,null,null,null,null,null,{"$f":"LE180","v":7.0188874999999999},{"$f":"LF174-0.8*LE163*(KL283-KL284)","v":23.720598144823029},"j47",null,-7.0188874999999999,23.720598144823029,"j49"]
[null,null,null,null,"زاویه کج شدن پشت دامن در قسمت کمر","α13",{"$f":"0.3*ATAN((H106-H105)/AA127)","v":0},{"$f":"0.3*ATAN(('متغیرها '!U58-I105)/Y127)","v":0},null,null,null,null,null,null,null,null,null,null,null,null,null,null,null,null,null,null,null,null,null,null,null,null,null,null,null,null,null,null,null,null,null,null,null,null,null,null,null,null,null,null,null,null,null,null,null,{"$f":"AZ181+(1-'متغیرها '!C69)*(BD180-AZ181)","v":8.3948203334515075},{"$f":"0+AX98","v":33.775000000000006},"شیفت50",null,null,null,null,null,null,null,null,{"$f":"BK159","v":6.5325999999999995},{"$f":"BL159","v":48},34,null,{"$f":"BS185+'متغیرها '!C279*(BK126-BO126+BO117-BS185)","v":13.993630636748902},{"$f":"BT185","v":31.775000000000006},null,null,{"$f":"-BS186+BX181","v":-13.993630636748902},{"$f":"BT186","v":31.775000000000006},null,null,"نقاط  ورودی",null,null,null,null,null,null,null,null,null,null,null,null,null,null,null,null,{"$f":"BS112","v":0},{"$f":"BT112","v":58.3},"4'",null,{"$f":"CE108","v":0},{"$f":"CF108","v":70.908453032971636},24,null,{"$f":"-CV186+DA153","v":0},{"$f":"CW186","v":70.908453032971636},24,null,null,null,null,null,null,null,null,null,null,null,null,null,null,null,null,null,null,null,null,null,null,null,null,null,null,null,null,null,null,null,null,null,null,null,null,null,null,null,null,null,null,null,null,null,null,null,null,null,null,null,null,null,null,null,null,null,null,null,null,null,null,null,null,null,null,null,null,null,null,null,null,null,null,null,null,null,null,null,null,null,null,null,null,null,null,null,null,null,null,null,null,null,null,null,null,null,null,null,null,null,null,null,null,null,null,null,null,null,null,null,null,null,null,null,null,null,null,null,null,null,null,null,null,null,null,null,null,null,null,null,null,null,null,null,null,null,null,null,null,null,null,null,null,null,null,null,null,null,null,null,null,null,null,null,null,null,null,null,null,null,null,null,null,null,null,null,null,null,null,null,null,null,null,null,null,null,null,null,null,null,null,null,null,null,null,null,null,null,null,null,null,null,null,null,null,null,null,null,null,null,null,null,null,null,null,null,null,null,null,{"$f":"-LE184+2*LE174","v":-10.528331250000001},{"$f":"LF174","v":33.775000000000006},"j52",null,{"$f":"LE186","v":-10.528331250000001},33.775000000000006,"j52"]
[null,null,null,null,null,null,null,null,null,null,null,null,null,null,null,null,null,null,null,null,null,null,null,null,null,null,null,null,null,null,null,null,null,null,null,null,null,null,null,null,null,null,null,null,null,null,null,null,null,null,null,null,null,null,null,{"$f":"AZ179","v":7.3400475927238986},{"$f":"BA179","v":48},"40شیفت",null,null,null,null,null,null,null,null,{"$f":"BK155+BI155-BI168+'متغیرها '!C56","v":6.6326000000000001},{"$f":"BP187+'متغیرها '!C57","v":37.83},"38'' شیفت",null,{"$f":"BS189","v":13.993630636748902},{"$f":"BT189","v":28.506619263119156},null,null,{"$f":"-BS191+BX181","v":-13.993630636748902},{"$f":"BT191","v":28.506619263119156},null,null,{"$f":"CA190+CB179*0.15*(CA193-CA190)","v":2.5536296527245512},{"$f":"CB193+0.3*CB179*(CB190-CB193)","v":39.368394800084431},"7n'",null,null,null,null,null,null,null,null,null,null,null,null,null,null,{"$f":"BS104","v":7.3400475927238986},{"$f":"BT104","v":58.3},{"$f":"BU106","v":30},null,null,null,null,null,null,null,null,null,null,null,null,null,null,null,null,null,null,null,null,null,null,null,null,null,null,null,null,null,null,null,null,null,null,null,null,null,null,null,null,null,null,null,null,null,null,null,null,null,null,null,null,null,null,null,null,null,null,null,null,null,null,null,null,null,null,null,null,null,null,null,null,null,null,null,null,null,null,null,null,null,null,null,null,null,null,null,null,null,null,null,null,null,null,null,null,null,null,null,null,null,null,null,null,null,null,null,null,null,null,null,null,null,null,null,null,null,null,null,null,null,"قرینه ",{"$f":"2*C100","v":0},null,null,null,null,null,null,null,null,null,null,null,null,null,null,null,null,null,null,null,null,null,null,null,null,null,null,null,null,null,null,null,null,null,null,null,null,null,null,null,null,null,null,null,null,null,null,null,null,null,null,null,null,null,null,null,null,null,null,null,null,null,null,null,null,null,null,null,null,null,null,null,null,null,null,null,null,null,null,null,null,null,null,null,null,null,null,null,null,null,null,null,null,null,null,null,{"$f":"LE190","v":-3.50944375},{"$f":"LF189","v":30.004599304308641},"j57"]
[null,null,null,null,null,null,null,null,null,null,null,null,null,null,null,null,null,null,null,null,null,null,null,null,null,null,null,null,null,null,null,null,null,null,null,null,null,null,null,null,null,null,null,null,null,null,null,null,null,null,null,null,null,null,null,null,null,null,null,null,null,null,null,null,null,null,null,null,null,null,null,null,null,null,null,null,null,null,null,null,null,null,null,null,null,null,null,null,null,null,null,null,null,null,"چرخیده",{"$f":"BW110","v":0},{"$f":"BX110","v":64.452678350923691},{"$f":"BY112","v":"4'"},null,null,null,null,null,null,null,null,null,null,null,null,null,null,null,null,null,null,null,null,null,null,null,null,null,null,null,null,null,null,null,null,null,null,null,null,null,null,null,null,null,null,null,null,null,null,null,null,null,null,null,null,null,null,null,null,null,null,null,null,null,null,null,null,null,null,null,null,null,null,null,null,null,null,null,null,null,null,null,null,null,null,null,null,null,null,null,null,null,null,null,null,null,null,null,null,null,null,null,null,null,null,null,null,null,null,null,null,null,null,null,null,null,null,null,null,null,null,null,null,null,null,null,null,null,null,null,null,null,null,null,null,null,null,null,null,null,null,null,null,null,null,null,null,null,null,null,null,null,null,null,null,null,null,null,null,null,null,null,null,null,null,null,null,null,null,null,null,null,null,"مولفه افقی","مولفه عمودی","اسم نقطه ",null,null,null,null,null,null,null,null,null,"مولفه افقی","مولفه عمودی","اسم نقطه ",null,"مولفه افقی","مولفه عمودی","اسم نقطه ",null,null,null,null,null,null,null,null,null,null,null,null,null,null,null,null,null,null,null,null,null,null,null,null,null,null,null,null,null,{"$f":"-LE196+2*LE193","v":-28.07555},{"$f":"LF196","v":8.6},"j64"]
[null,null,null,null,null,null,null,null,null,null,null,null,null,null,null,null,null,null,null,null,null,null,null,null,null,null,null,null,null,null,null,null,null,null,null,null,null,null,null,null,null,null,null,null,null,null,null,null,null,null,null,null,null,null,null,null,null,null,null,null,null,null,null,null,null,null,null,null,null,null,null,null,null,null,null,null,null,null,null,null,null,null,null,null,null,null,null,null,null,null,null,null,null,null,null,null,null,null,null,null,null,null,null,null,null,null,null,null,null,null,null,null,null,null,null,null,null,null,null,null,null,null,null,null,null,null,null,null,null,null,null,null,null,null,null,null,null,null,null,null,null,null,null,null,null,null,null,null,null,null,null,null,null,null,null,null,null,null,null,null,null,null,null,null,null,null,null,null,null,null,null,null,null,null,null,null,null,null,null,null,null,null,null,null,null,null,null,null,null,null,null,null,null,null,null,null,null,null,null,null,null,null,null,null,null,null,null,null,null,null,null,null,null,null,null,null,null,null,null,null,null,null,null,null,null,null,null,null,null,null,null,null,null,null,null,null,null,null,null,null,null,null,null,null,null,null,null,null,null,null,null,null,null,null,null,null,null,null,null,null,null,null,null,null,null,null,null,null,{"$f":"JE272","v":15.517242705202259},{"$f":"JF272","v":50.106594796197626},"e40",null,{"$f":"-JI202+JN198","v":-15.517242705202259},{"$f":"JJ202","v":50.106594796197626},"e40",null,null,null,null,null,0.10946311794760089,58.529836161268278,"e6",null,{"$f":"-JE238+IY263","v":-0.10946311794760089},{"$f":"JF238","v":58.529836161268278},"e6",null,null,null,null,null,null,null,null,null,null,null,null,null,null,null,null,null,null,null,null,null,null,null,null,null,null,null,null,null,{"$f":"LE201","v":-14.037775},{"$f":"LF200","v":12.899999999999999},"j69",null,{"$f":"LE196","v":28.07555},{"$f":"LF196","v":8.6},{"$f":"LG196","v":"j63"}]
[null,null,null,null,null,null,null,null,null,null,null,null,null,null,null,null,null,null,null,null,null,null,null,null,null,null,null,null,null,null,null,null,null,null,null,null,null,null,null,null,null,null,null,null,null,null,null,null,null,null,null,null,null,null,null,null,null,null,null,null,null,null,null,null,null,null,null,null,null,null,null,null,null,null,null,null,null,null,null,null,null,null,null,null,null,null,null,null,null,null,null,null,null,null,null,null,null,null,null,null,null,null,null,null,null,null,null,null,null,null,null,null,null,null,null,null,null,null,null,null,null,null,null,null,null,null,null,null,null,null,null,null,null,null,null,null,null,null,null,null,null,null,null,null,null,null,null,null,null,null,null,null,null,null,null,null,null,null,null,null,null,null,null,null,null,null,null,null,null,null,null,null,null,null,null,null,null,null,null,null,null,null,null,null,null,null,null,null,null,null,null,null,null,null,null,null,null,null,null,null,null,null,null,null,null,null,null,null,null,null,null,null,null,null,null,null,null,null,null,null,null,null,null,null,null,null,null,null,null,null,null,null,null,null,null,null,null,null,null,null,null,null,null,null,null,null,null,null,null,null,null,null,null,null,null,null,null,null,null,null,null,null,null,null,null,null,null,null,{"$f":"JE274","v":0},53.106594796197626,"e42",null,{"$f":"-JI208+JN198","v":0},{"$f":"JJ208","v":53.106594796197626},"e42",null,null,null,null,null,null,null,null,null,null,null,null,null,null,null,null,null,null,null,null,null,null,null,null,null,null,null,null,null,null,null,null,null,null,null,null,null,null,null,null,null,{"$f":"LE207","v":7.0188874999999999},{"$f":"LF193-0.3*LE165*(KL286-KL287)","v":12.899999999999999},"j75",null,{"$f":"LE198","v":0},{"$f":"LF198","v":12.899999999999999},{"$f":"LG198","v":"j65"}]
[null,null,null,null,null,null,null,null,null,null,null,null,null,null,null,null,null,null,null,null,null,null,null,null,null,null,null,null,null,null,null,null,null,null,null,null,null,null,null,null,null,null,null,null,null,null,null,null,null,null,null,null,null,null,null,null,null,null,null,null,null,null,null,null,null,null,null,null,null,null,null,null,null,null,null,null,null,null,null,null,null,null,null,null,null,null,null,null,null,null,null,null,null,null,null,null,null,null,null,null,null,null,null,null,null,null,null,null,null,null,null,null,null,null,null,null,null,null,null,null,null,null,null,null,null,null,null,null,null,null,null,null,null,null,null,null,null,null,null,null,null,null,null,null,null,null,null,null,null,null,null,null,null,null,null,null,null,null,null,null,null,null,null,null,null,null,null,null,null,null,null,null,null,null,null,null,null,null,null,null,null,null,null,null,null,null,null,null,null,null,null,null,null,null,null,null,null,null,null,null,null,null,null,null,null,null,null,null,null,null,null,null,null,null,null,null,null,null,null,null,null,null,null,null,null,null,null,null,null,null,null,null,null,null,null,null,null,null,null,null,null,null,null,null,null,null,null,null,null,null,null,null,null,null,null,null,null,null,null,null,null,null,null,null,null,null,null,null,{"$f":"JE277","v":7.0510769666972966},{"$f":"JF277","v":57.5},"e45",null,{"$f":"-JI213+JN198","v":-7.0510769666972966},{"$f":"JJ213","v":57.5},"e45",null,null,null,null,null,{"$f":"JE243","v":2.5367416633174393},{"$f":"JF243","v":57.95316125614233},"e11",null,{"$f":"-JE243+IY263","v":-2.5367416633174393},{"$f":"JF243","v":57.95316125614233},"e11",null,null,null,null,null,null,null,null,null,null,null,null,null,null,null,null,null,null,null,null,null,null,null,null,null,null,null,null,null,{"$f":"LE212+IF(KK262>0,(LE196-LE193),(KK289-KK288))","v":28.07555},{"$f":"LF212","v":8.6},"j81",null,{"$f":"LE201","v":-14.037775},12.899999999999999,"j68",null,null,"b16",{"$f":"CE120","v":12.671336505851244},{"$f":"CF120","v":70.056616311464765},null,"نقطه دوم از خط اول","d'4b16",{"$f":"LO230","v":8.2803473011702486},{"$f":"LP230","v":64.964545866364261},null,"d3",{"$f":"LO227","v":0},58,null,{"$f":"LX275","v":5.7460800000000001},{"$f":"LY275","v":56.832240438764998},"m9",null,{"$f":"-MA213+MF212","v":-5.7460800000000001},{"$f":"MB213","v":56.832240438764998},"m9",null,{"$f":"LX274","v":5.7460800000000001},{"$f":"LY274","v":57.61735805153085},"m8",null,{"$f":"-MI213+MN212","v":-5.7460800000000001},{"$f":"MJ213","v":57.61735805153085},"m8",null,{"$f":"LX273","v":5.7460800000000001},{"$f":"LY273","v":59.295893583072562},"m7",null,{"$f":"-MQ213+MV212","v":-5.7460800000000001},{"$f":"MR213","v":59.295893583072562},"m7",null,{"$f":"LX272","v":5.7460800000000001},{"$f":"LY272","v":61.163666739752337},"m6",null,{"$f":"-MY213+ND212","v":-5.7460800000000001},{"$f":"MZ213","v":61.163666739752337},"m6",null,{"$f":"LX271","v":5.7460800000000001},{"$f":"LY271","v":62.492282617999088},"m5",null,{"$f":"-NG213+NL212","v":-5.7460800000000001},{"$f":"NH213","v":62.492282617999088},"m5",null,null,null,null,null,null,null,"a3",14,null,null,null,"متغیرهای ورودی",null,{"$f":"NZ219","v":-18},{"$f":"OA219","v":5},{"$f":"NY219","v":"w1"}]
[null,null,null,null,null,null,null,null,null,null,null,null,null,null,null,null,null,null,null,null,null,null,null,null,null,null,null,null,null,null,null,null,null,null,null,null,null,null,null,null,null,null,null,null,null,null,null,null,null,null,null,null,null,null,null,null,null,null,null,null,null,null,null,null,null,null,null,null,null,null,null,null,null,null,null,null,null,null,null,null,null,null,null,null,null,null,null,null,null,null,null,null,null,null,null,null,null,null,null,null,null,null,null,null,null,null,null,null,null,null,null,null,null,null,null,null,null,null,null,null,null,null,null,null,null,null,null,null,null,null,null,null,null,null,null,null,null,null,null,null,null,null,null,null,null,null,null,null,null,null,null,null,null,null,null,null,null,null,null,null,null,null,null,null,null,null,null,null,null,null,null,null,null,null,null,null,null,null,null,null,null,null,null,null,null,null,null,null,null,null,null,null,null,null,null,null,null,null,null,null,null,null,null,null,null,null,null,null,null,null,null,null,null,null,null,null,null,null,null,null,null,null,null,null,null,null,null,null,null,null,null,null,null,null,null,null,null,null,null,null,null,null,null,null,null,null,null,null,null,null,null,null,null,null,null,null,null,null,null,null,null,null,null,null,null,null,null,null,null,null,null,null,null,null,null,null,null,null,null,null,{"$f":"JE233","v":0},{"$f":"JF233","v":53.26310569389571},"e1",null,{"$f":"-JE233+IY263","v":0},{"$f":"JF233","v":53.26310569389571},"e1",null,null,null,null,null,null,null,null,null,null,null,null,null,null,null,null,null,null,null,null,null,null,null,null,null,null,null,null,null,{"$f":"LE212+0.5*(LE213-LE212)","v":14.037775},{"$f":"LF212","v":8.6},"j86",null,null,null,null,null,null,"b14",{"$f":"CE122","v":17.337604411925593},{"$f":"CF122","v":57.418508030044734},null,null,"به دست آوردن نقطه تقاطع دو خط (d''4b12)","مولفه افقی","مولفه عمودی",null,"d'ʻ4  b16",{"$f":"LT216","v":7.9050907881405816},{"$f":"LU216","v":64.598470478245375},null,null,null,null,null,null,null,null,null,null,null,null,null,null,null,null,null,null,null,null,null,null,null,null,null,null,null,null,null,null,null,null,null,null,null,null,null,null,null,null,null,null,null,null,null,null,null,null,"متغیرهای ورودی پروسیچرها",null,null,"نقطه شروع رج(چپ)","مولفه افقی","مولفه عمودی"]
[null,null,null,null,null,null,null,null,null,null,null,null,null,null,null,null,null,null,null,null,null,null,null,null,null,null,null,null,null,null,null,null,null,null,null,null,null,null,null,null,null,null,null,null,null,null,null,null,null,null,null,null,null,null,null,null,null,null,null,null,null,null,null,null,null,null,null,null,null,null,null,null,null,null,null,null,null,null,null,null,null,null,null,null,null,null,null,null,null,null,null,null,null,null,null,null,null,null,null,null,null,null,null,null,null,null,null,null,null,null,null,null,null,null,null,null,null,null,null,null,null,null,null,null,null,null,null,null,null,null,null,null,null,null,null,null,null,null,null,null,null,null,null,null,null,null,null,null,null,null,null,null,null,null,null,null,null,null,null,null,null,null,null,null,null,null,null,null,null,null,null,null,null,null,null,null,null,null,null,null,null,null,null,null,null,null,null,null,null,null,null,null,null,null,null,null,null,null,null,null,null,null,null,null,null,null,null,null,null,null,null,null,null,null,null,null,null,null,null,null,null,null,null,null,null,null,null,null,null,null,null,null,null,null,null,null,null,null,null,null,null,null,null,null,null,null,null,null,null,null,null,null,null,null,null,null,null,null,null,null,null,null,null,null,null,null,null,null,null,null,null,null,null,null,null,null,null,null,null,null,{"$f":"JI263","v":13.031340328126685},{"$f":"JJ263","v":58.543724153644838},"e65",null,{"$f":"-JI263+IY263","v":-13.031340328126685},{"$f":"JJ263","v":58.543724153644838},"e65",null,null,null,null,null,null,null,null,null,null,null,null,null,null,null,null,null,null,null,null,null,null,null,null,null,null,null,null,null,{"$f":"-LE222+2*LE212","v":-21.056662500000002},{"$f":"LF212","v":8.6},"j92",null,null,null,null,null,null,null,{"$f":"'متغیرها '!C57","v":0},"شیفت عمودی",null,null,null,null,null,null,"d'ʻ4  b12",{"$f":"LT223","v":7.5942292579604107},{"$f":"LU223","v":62.541029692468598},null,null,null,null,null,null,null,null,null,null,null,null,null,null,null,null,null,null,null,null,null,null,null,null,null,null,null,null,null,null,null,null,null,null,null,null,null,null,null,null,null,null,null,null,null,null,null,"h4",{"$f":"0.7*NU233","v":1.0499999999999998},"پهنای باکس نوشته",null,"h6",{"$f":"NZ223+NZ216+NZ217","v":-5.9},{"$f":"OA219","v":5}]
[null,null,null,null,null,"γ10","(90º - 180º)",{"$f":"'متغیرها '!C171","v":160},null,{"$f":"P230+AX147+AX99","v":4.0861888020738633},{"$f":"G261+AX98-P229","v":64.572472355787127},"d2",null,null,"(e4 → d1)",{"$f":"P228*COS(O232)","v":3.8187848191128193},null,"مولفه افقی 51'",{"$f":"0.93*S232+0.4*(AX128-S232)","v":5.6832415891743198},null,null,null,null,null,null,null,null,null,{"$f":"CI118","v":11.316157810070937},{"$f":"CJ118","v":65.619354426295132},"24f",null,"(22f → 24f)",{"$f":"SQRT(POWER((AC228-AC229),2)+POWER((AD228-AD229),2))","v":4.0225953973574802},null,"(1 → b3)",{"$f":"AD230-AD232+0.85*(AK227-AD230+AD232)","v":38.333395927951287},null,null,null,"انحنا",null,{"$f":"BW119","v":7.6622802118711562},{"$f":"BX119","v":74.361432105834069},"a13","از یقه آرشال",9.9891818374612456,76.994693194502617,{"$f":"AS230","v":"a2"},null,null,null,null,null,null,{"$f":"J340","v":7.2574518037325406},{"$f":"K340","v":45.6},"d5",null,"(31 →4)",{"$f":"BE245*SIN(BE247)","v":1.1623295326503553},null,{"$f":"BI230+BI231+BK290","v":3.4177487948444432},{"$f":"BI232+BE248","v":38.786929955041607},6,null,{"$f":"-BK229-BN226","v":-3.4177487948444432},38.786929955041607,6,null,{"$f":"J311","v":6.7025113373536502},{"$f":"K311","v":46.56},"d2",null,"(31 →4)",{"$f":"BT246*SIN(BT248)","v":0.28930236116409902},null,{"$f":"BX230+BX231+BS253","v":17.911108800004047},{"$f":"BX232+BT249","v":29.756657303367518},6,null,{"$f":"-BZ229+CE227","v":-17.911108800004047},29.756657303367518,6,null,null,null,null,null,null,null,null,null,null,null,null,null,null,null,null,null,"زاویه خط پهلو جلو ",{"$f":"ATAN((AZ172-AZ168-'متغیرها '!C55)/(BA168-BA172))","v":0},null,"نقاط  ورودی جلو شورت",null,null,null,null,"نقاط خروجی فاق مایو یا شورت",null,null,null,"رسم فاق مایو یا شورت",null,null,null,"رسم فاق مایو یا شورت",null,null,"قرینه",{"$f":"2*C102","v":0},null,null,null,"رسم پهلو مایو",null,null,"قرینه",{"$f":"2*C102","v":0},null,null,null,null,null,null,null,null,null,null,null,null,null,null,null,null,null,null,null,null,null,null,null,null,null,null,null,null,null,null,null,null,null,null,null,null,null,null,null,null,null,null,null,null,null,null,null,null,null,null,null,null,null,null,null,null,null,null,null,null,null,null,null,null,null,null,null,null,null,null,null,null,null,null,null,null,null,null,null,null,null,null,null,null,null,null,null,null,null,null,null,null,null,null,null,null,null,null,null,null,null,null,null,null,null,null,null,null,null,null,null,null,null,null,null,null,null,null,null,null,null,null,null,null,null,null,null,null,null,null,null,null,null,null,null,null,null,null,null,null,null,null,null,null,null,null,null,null,null,null,{"$f":"JI260","v":7.3400475927238986},{"$f":"JJ260","v":53.895325976728422},"e62",null,{"$f":"-JI260+IY263","v":-7.3400475927238986},{"$f":"JJ260","v":53.895325976728422},"e62",null,null,null,null,null,null,null,null,null,null,null,null,null,null,null,null,null,null,null,null,null,null,null,null,null,null,null,null,null,{"$f":"LE228","v":-7.0188874999999999},{"$f":"LF227","v":8.6},"j97",null,{"$f":"LE214","v":-28.07555},{"$f":"LF214","v":8.6},{"$f":"LG214","v":"j82"},null,null,"d5  b16",{"$f":"0.45*(LO222-LO227)+LO227","v":3.23217},{"$f":"LP227+((LO229-LO227)/(LO213-LO227))*(LP213-LP227)+0.6*'متغیرها '!C358*(LO214-LO227)","v":60.344089014407814},null,"نقطه دوم از خط دوم",40,{"$f":"BO164","v":7.1825999999999999},{"$f":"BP164","v":59.816656485349888},null,"d6  b6",10.228062411849557,61.432877333741587,null,{"$f":"LX275","v":5.7460800000000001},{"$f":"LY275","v":56.832240438764998},"m9",null,{"$f":"-MA229+MF212","v":-5.7460800000000001},{"$f":"MB229","v":56.832240438764998},"m9",null,{"$f":"LX274","v":5.7460800000000001},{"$f":"LY274","v":57.61735805153085},"m8",null,{"$f":"-MI229+MN212","v":-5.7460800000000001},{"$f":"MJ229","v":57.61735805153085},"m8",null,{"$f":"LX273","v":5.7460800000000001},{"$f":"LY273","v":59.295893583072562},"m7",null,{"$f":"-MQ229+MV212","v":-5.7460800000000001},{"$f":"MR229","v":59.295893583072562},"m7",null,{"$f":"LX272","v":5.7460800000000001},{"$f":"LY272","v":61.163666739752337},"m6",null,{"$f":"-MY229+ND212","v":-5.7460800000000001},{"$f":"MZ229","v":61.163666739752337},"m6",null,{"$f":"LX271","v":5.7460800000000001},{"$f":"LY271","v":62.492282617999088},"m5",null,{"$f":"-NG229+NL212","v":-5.7460800000000001},{"$f":"NH229","v":62.492282617999088},"m5",null,null,null,null,null,null,null,null,null,null,null,"h11",{"$f":"NZ226","v":-11.375},{"$f":"OA226-0.5*NZ215","v":4.4749999999999996},{"$f":"NZ221","v":2},{"$f":"OA221","v":5},{"$f":"NY221","v":"w2"}]
[null,null,null,null,null,"γ3","(0.01 - 0.3)",{"$f":"'متغیرها '!C172","v":5.0000000000000017E-2},null,{"$f":"-G267+AX147+AX99","v":-1.4148114652261383},{"$f":"G258+G268+AX98","v":65.266906662552117},"e10",null,"x",{"$f":"SQRT(0.01*AX128*AX128+0.09*AX129*AX129)","v":2.266582482799123},null,null,null,null,null,{"$f":"BD150","v":0},{"$f":"BE150","v":33.775000000000006},1,null,{"$f":"-U235+S257","v":0},{"$f":"V235","v":33.775000000000006},1,null,{"$f":"AZ148","v":4.8888099691822111},{"$f":"BA148","v":68.090424684044606},30,null,null,null,null,"مولفه افقی نقطه اتصال به سرشانه پشت",{"$f":"AC228-'متغیرها '!C386*AH229*SIN(AH227)","v":11.611228605539409},null,null,null,null,null,null,{"$f":"GC680","v":1.7655484944610245},"قد یقه فرنچی",null,4.6191617401964109,73.648993919666353,{"$f":"AS247","v":"d5"},null,null,null,null,null,null,{"$f":"AZ108","v":16.369420850798402},{"$f":"BA108","v":34.118380736880859},7,null,"(6 →9)",{"$f":"BE246*(1+'متغیرها '!C320)*COS(BE240)","v":2.9369749668283149},null,{"$f":"BI230+BI231+BI235+BI237+BI241+BI243+BI247+BI249+BK290","v":13.952631436372595},{"$f":"BI232+BI236+BI238+BI242+BI244+BI248+BI250+BE248","v":39.894471624909961},24,null,{"$f":"-BK235-BN226","v":-13.952631436372595},39.894471624909961,24,null,{"$f":"BK129-'متغیرها '!C56","v":16.559160584325234},{"$f":"BL129-'متغیرها '!C57","v":33.816895563735976},4,null,"(6 →9)",{"$f":"BT247*(1+'متغیرها '!C320)*COS(BT241)","v":2.7201009850452067},null,{"$f":"BX230+BX231+BX235+BX237+BX241+BX243+BX247+BX249+BS253","v":32.259387488331271},{"$f":"BX232+BX236+BX238+BX242+BX244+BX248+BX250+BT249","v":48.177808945922699},24,null,{"$f":"-BZ235+CE227","v":-32.259387488331271},48.177808945922699,24,null,null,null,null,null,null,null,null,null,null,null,null,null,null,null,null,null,"(m3 → m4)",{"$f":"AX156+AX157+AX158+(AX155-CY234)*TAN(CY229)","v":14.737774999999999},null,{"$f":"DE233","v":14.737774999999999},{"$f":"DF233","v":38.96},"m4",null,{"$f":"CY237+AX99","v":10.860553749999999},{"$f":"CY236+AX98","v":38.826306390355946},"m6",null,null,null,null,null,null,null,null,null,null,null,null,null,{"$f":"CE108","v":0},{"$f":"CF108","v":70.908453032971636},24,null,{"$f":"-DU235+DZ229","v":0},{"$f":"DV235","v":70.908453032971636},24,null,{"$f":"BK169","v":0},{"$f":"BL169","v":33.775000000000006},46,null,{"$f":"EG258-0.25*EE259*(ED267-1)","v":-2.1475083290852495},{"$f":"EH237","v":33.775000000000006},"p12",null,null,null,null,null,null,null,null,null,null,null,null,null,"(p15 →p16)",{"$f":"EX231-AX113-(AX104-EX234-EX233)*TAN(BI101)","v":-1.4029098215194051},null,{"$f":"EX242+AX99","v":5.8732800000000012},{"$f":"EX231+AX98","v":54.720000000000041},"p29",null,null,null,null,null,"(p10 →p11)",{"$f":"FI231-BI110-(BI108-FI234-FI232)*TAN(BI101)","v":9.4771721013329646},null,null,null,null,null,null,null,null,null,{"$f":"AZ141-'متغیرها '!C51","v":0},{"$f":"BA141-'متغیرها '!C52","v":71.728171017165522},2,null,"x32d",{"$f":"FS253","v":6.1110124614777632},"شیفت",{"$f":"FS247+'متغیرها '!C51","v":13.396860878980531},{"$f":"FT247+FT242+'متغیرها '!C52","v":57.35357605393628},18,null,{"$f":"BK103-'متغیرها '!C53","v":0},{"$f":"BL103-'متغیرها '!C54","v":72.733678063661415},2,"شیفت",{"$f":"GD246+'متغیرها '!C53","v":13.56505561207916},{"$f":"GE246+GE242+'متغیرها '!C54","v":58.704265880791404},{"$f":"GF246","v":16},null,{"$f":"DT392","v":12.5},{"$f":"DU392","v":37.043380736880863},{"$f":"AZ172-'متغیرها '!C55","v":14.737774999999999},{"$f":"BA172","v":37.043380736880856},45,null,"αdp4",{"$f":"ATAN((GN235-GN234)/(GO234-GO235))","v":0},null,null,null,null,null,{"$f":"GV256","v":11.976145492188127},{"$f":"GW256","v":35.886475032029779},"dp6",null,{"$f":"HC233","v":14.737774999999999},{"$f":"HD233","v":48.343380736880853},{"$f":"HE233","v":" شیفت41 یا d3"},null,{"$f":"DS168-HH241","v":15.72423796361949},{"$f":"DT168","v":56.626619053936281},12,"بدون شیفت عصایی","c4",{"$f":"(HN234-HN233)*HI247/COS(HL233)","v":4.4046740232715749},null,{"$f":"HN234-HL234*COS(HL233)","v":0.73400475927238951},{"$f":"HO234-HL234*SIN(HL233)","v":58.413105693895709},"a3",null,{"$f":"HN240+HL247*SIN(HL250+HL251)","v":7.6511703908376187},{"$f":"HO240+HL247*COS(HL250+HL251)","v":59.831902614204793},"a40",null,{"$f":"HN250","v":6.0635566249009214},{"$f":"HO250+HI260","v":57.232924515052126},"a18",null,{"$f":"HN250","v":6.0635566249009214},{"$f":"HO250+HI260","v":57.232924515052126},"a18",null,{"$f":"HN246","v":0.73400475927238951},{"$f":"HO246","v":58.413105693895709},"a14",null,{"$f":"-HN250+HH242","v":-6.0635566249009214},{"$f":"HO250+HI260","v":57.232924515052126},"a18",null,null,3,5.235987755982989E-2,{"$f":"HN240+HL247*SIN(HL250+IN235)","v":7.6511703908376187},{"$f":"HO240+HL247*COS(HL250+IN235)","v":59.831902614204793},{"$f":"ATAN((IP235-HO235)/(IO235-HN235))","v":0.20230652748559258},{"$f":"(IO235-HN235)/COS(IQ235)","v":7.0611730665368722},null,null,0,58.413105693895709,"a13",null,"d4",{"$f":"'متغیرها '!C485","v":1.5},null,"f4",{"$f":"SQRT(POWER((JE240-JE239),2)+POWER((JF240-JF239),2))","v":2.2282306882367444},null,{"$f":"IU235+IZ243","v":0},{"$f":"IV235","v":58.413105693895709},"e3",null,null,null,null,null,7.6511703908376187,59.831902614204793,"e50",null,{"$f":"-JE282+IY263","v":-7.6511703908376187},{"$f":"JF282","v":59.831902614204793},"e50",null,{"$f":"IU249","v":7.6511703908376187},{"$f":"IV249","v":59.831902614204793},"a40",null,{"$f":"-IU249+IY263","v":-7.6511703908376187},{"$f":"IV249","v":59.831902614204793},"a40",null,"راس پایین","منهای شیفتa50",{"$f":"IU260","v":7.6511703908376187},{"$f":"IV260","v":56.768097385795201},"ضلع پایین",{"$f":"JC248","v":6.1390875529878919},null,null,{"$f":"IU313","v":0},{"$f":"IV313","v":33.775000000000006},"a7",null,{"$f":"KK282","v":0},{"$f":"KL282","v":33.775000000000006},"j20",null,{"$f":"-KO235+KR231","v":0},{"$f":"KP235","v":33.775000000000006},"j''20",null,{"$f":"KM313","v":0},{"$f":"KN313","v":33.775000000000006},"b7",null,{"$f":"KW260","v":0},{"$f":"KX260","v":33.775000000000006},"j'20",null,{"$f":"-LE234+2*LE231","v":-28.07555},{"$f":"LF234","v":0},"j104",null,{"$f":"LE215","v":28.07555},{"$f":"LF215","v":4.3},{"$f":"LG215","v":"j83"},null,null,"d6  b12",{"$f":"0.6*(LO214-LO222)+LO222","v":10.185838328666909},{"$f":"LP227+((LO235-LO227)/(LO214-LO227))*(LP214-LP227)+0.5*'متغیرها '!C358*(LO214-LO227)","v":64.727113983676773},null,"نقطه اول از خط دوم"," یا  22",{"$f":"IF(LU233>LU236,LO221,LO219)","v":6.5325999999999995},{"$f":"IF(LU233>LU236,LP221,LP219)","v":48},null,"d6  b10",11.062025943023203,58.531050698532063,null,{"$f":"MA233","v":35.226079999999996},{"$f":"MB233","v":48},"جدا m10",null,{"$f":"-MA235+MF212","v":-35.226079999999996},{"$f":"MB235","v":48},"جدا m10",null,{"$f":"MI233","v":35.226079999999996},{"$f":"MJ233","v":48},"جدا m10",null,{"$f":"-MI235+MN212","v":-35.226079999999996},{"$f":"MJ235","v":48},"جدا m10",null,{"$f":"MQ233","v":35.226079999999996},{"$f":"MR233","v":48},"جدا m10",null,{"$f":"-MQ235+MV212","v":-35.226079999999996},{"$f":"MR235","v":48},"جدا m10",null,{"$f":"MY233","v":35.226079999999996},{"$f":"MZ233","v":48},"جدا m10",null,{"$f":"-MY235+ND212","v":-35.226079999999996},{"$f":"MZ235","v":48},"جدا m10",null,{"$f":"NG233","v":35.226079999999996},{"$f":"NH233","v":48},"جدا m10",null,{"$f":"-NG235+NL212","v":-35.226079999999996},{"$f":"NH235","v":48},"جدا m10",null,null,null,null,null,null,null,null,null,null,null,null,null,"فلش به سمت راست",null,null,{"$f":"OA235","v":"فلش به سمت راست"}]
[null,null,null,null,null,"(a4 → a6)",{"$f":"0.8*G238","v":5.2322968449857363},null,null,{"$f":"G247+AX99","v":7.3437137570236448},{"$f":"AX103+G246+AX98","v":80.304730776832585},"a4",null,"(e2 → e8)",{"$f":"H232*H124*SIN(O233)","v":1.2476423416687454},null,null,null,null,null,null,null,null,null,null,null,null,null,"مولفه افقی","مولفه عمودی","اسم نقطه ",null,"ζ1",{"$f":"ATAN((AC241-AC242)/(AD241-AD242))","v":0.12578571224264623},{"$f":"AH245+AC245","v":13.760735817693002},{"$f":"AH244+AD245","v":73.436324018903065},"b2",null,{"$f":"-AI240+AN239","v":-13.760735817693002},{"$f":"AJ240","v":73.436324018903065},"b2",null,"d3",{"$f":"'متغیرها '!C454","v":0.5},null,null,{"$f":"AQ228","v":6.1110124614777632},{"$f":"AR228","v":71.728171017165522},{"$f":"AS228","v":25},null,null,null,null,null,null,"β1",{"$f":"'متغیرها '!C321","v":0.05},null,null,"(13 → 14)",{"$f":"BE245*SIN(2*BE240+BE244)","v":1.4500978644344789},null,{"$f":"BD261","v":0},{"$f":"BE261","v":47.24},30,null,{"$f":"-BK240-BN226","v":0},{"$f":"BL240","v":47.24},30,null,"متغیر ورودی پشت",null,null,null,"(13 → 14)",{"$f":"BT246*SIN(2*BT241+BT245)","v":2.2739707300890499},null,{"$f":"BS253","v":10},{"$f":"BX227+BT249","v":41.56},2,null,{"$f":"-BZ240+CE227","v":-10},{"$f":"CA240","v":41.56},2,null,null,null,null,null,null,null,null,null,null,null,null,null,null,null,null,null,"(1 → m9)",{"$f":"CY232+0.35*(CY234-CY232)","v":0.83995768656817971},null,null,{"$f":"CY240","v":0.83995768656817971},"(1 → m9)",null,{"$f":"0+AX99","v":0},{"$f":"CY242+AX98","v":30.275319517797207},"m11",null,{"$f":"DE241","v":3.66},{"$f":"DF241","v":30.275319517797207},"m12",null,{"$f":"DE270","v":3.66},{"$f":"DF270","v":20.719535548803933},"m12",null,{"$f":"-DM240+DR229","v":-3.66},{"$f":"DN240","v":20.719535548803933},"m12",null,null,null,null,null,null,null,null,null,null,null,null,null,"مولفه افقی","مولفه عمودی","اسم نقطه ",null,{"$f":"EG235","v":-2.1475083290852495},{"$f":"EH235","v":33.775000000000006},"p12",null,{"$f":"-EK240+EP230","v":2.1475083290852495},{"$f":"EL240","v":33.775000000000006},"p12",null,{"$f":"EG271","v":-1.8666899465981666},{"$f":"EH271","v":33.775000000000006},"p6",null,"(p2 → p27)",{"$f":"0.4*EX233","v":2.9366400000000006},null,{"$f":"AX104-EX238+AX99","v":7.3903662136194903},{"$f":"AX113+EX239+AX98","v":55.92516414317658},"p20",null,null,null,null,null,"(p2 → p22)",{"$f":"0.4*FI232","v":2.5171200000000002},null,null,null,null,null,null,null,null,null,null,{"$f":"'متغیرها '!C309","v":3.5},"d1",null,"(d3 → d5)",{"$f":"((FX244-FX239)-(FX243-FX238)*TAN(RADIANS(FT241)))*COS(RADIANS(FT241))*COS(RADIANS(FT241))","v":14.19854700004166},"شیفت",{"$f":"FS236+'متغیرها '!C51","v":15.72423796361949},{"$f":"FT236+FT242+'متغیرها '!C52","v":53.762849053936286},14,null,null,{"$f":"'متغیرها '!C312","v":3.5},"d1","شیفت",{"$f":"GD236+'متغیرها '!C53","v":15.91397769714632},{"$f":"GE236+GE242+'متغیرها '!C54","v":53.461363880791403},{"$f":"GF236","v":10},null,null,null,{"$f":"AZ176","v":6.990047592723899},{"$f":"BA176","v":37.83},"47'",null,"(dp4 →dp'5)",{"$f":"SQRT(POWER((GV252-GV255),2)+POWER((GW252-GW255),2))","v":30.25360925176939},null,null,null,null,null,{"$f":"GU247","v":-6.1110124614777632},{"$f":"GV247","v":71.728171017165522},"25قرینه",null,null,null,null,null,null,{"$f":"0.5*(BT172-BT171)","v":5.7066258108494292E-2},"نصف زاویه سرشانه",null,"c9",{"$f":"((HO235-HO245)/(HO235-IF(HO245>HO254,HO254,HO255)+0.000123))*HL239","v":0},null,{"$f":"HN256","v":7.3400475927238986},{"$f":"HO234-HL235","v":53.895325976728422},"a8",null,{"$f":"HN258+HI261","v":7.3400475927238986},{"$f":"HO258+HI259","v":53.895325976728422},"a45",null,null,null,null,null,null,null,null,null,{"$f":"HN240","v":7.3400475927238986},{"$f":"HO240","v":53.895325976728422},"a8",null,null,null,null,null,null,8,0.13962634015954636,{"$f":"HN240+HL247*SIN(HL250+IN240)","v":8.1673932208779032},{"$f":"HO240+HL247*COS(HL250+IN240)","v":59.782196009242377},{"$f":"ATAN((IP240-HO235)/(IO240-HN235))","v":0.18213993457775152},{"$f":"(IO240-HN235)/COS(IQ240)","v":7.5584173153316971},null,null,{"$f":"HN238","v":15.477622222714617},{"$f":"HO238","v":54.555809474672422},"a6",null,"d9",{"$f":"'متغیرها '!C482","v":0.30000000000000004},null,"xf7",{"$f":"IU244-IY253","v":15.402138133992775},null,{"$f":"JE239+IZ245*JC232*0.15","v":5.5579731228601359},{"$f":"JF239+IZ239*JC232*0.15","v":64.875911646216153},"e8",null,null,null,null,null,{"$f":"JE279","v":13.469727985529911},{"$f":"JF279","v":56.357043550847969},"e47",null,{"$f":"-JE279+IY263","v":-13.469727985529911},{"$f":"JF279","v":56.357043550847969},"e47",null,{"$f":"IU254","v":0.73400475927238951},{"$f":"IV254","v":58.413105693895709},"a14",null,{"$f":"-IU254+IY263","v":-0.73400475927238951},{"$f":"IV254","v":58.413105693895709},"a14",null,null,4,{"$f":"KE235+KH235*SIN(RADIANS(KD240)+KD237)","v":6.2109306220285463},{"$f":"KF235+KH235*COS(RADIANS(KD240)+KD237)","v":62.735852859303783},{"$f":"IF(KE236>KE240,ATAN((KF236-KF240)/(KE236-KE240)),ATAN((KF236-KF240)/(KE240-KE236)))","v":-1.5478997373280738},{"$f":"IF(KE236>KE240,(KE236-KE240)/COS(KG240),(KE240-KE236)/COS(KG240))","v":1.3234169255890997},null,null,7.2574518037325406,45.6,"d5",null,null,null,null,null,null,null,null,null,null,null,null,null,null,null,null,null,{"$f":"LE239","v":-14.037775},{"$f":"LF238","v":4.3},"j109",null,{"$f":"LE212","v":0},{"$f":"LF212","v":8.6},{"$f":"LG212","v":"j80"},null,null,"d4  b10",{"$f":"0.8*(LO222-LO227)+LO227","v":5.7460800000000001},{"$f":"LP227+((LO240-LO227)/(LO216-LO227))*(LP216-LP227)+0.8*'متغیرها '!C358*(LO214-LO227)","v":57.61735805153085},null,"نقطه اول از خط اول","d4b14",{"$f":"LO244","v":5.7460800000000001},{"$f":"LP244","v":56.832240438764998},null,"d4  b14ʻ",9.2136008823851192,56.776882030846174,null,null,null,null,null,null,null,null,null,null,null,null,null,null,null,null,null,null,null,null,null,null,null,null,null,null,null,null,null,null,null,null,null,null,null,null,null,null,null,null,null,null,null,null,null,null,null,{"$f":"NU237","v":2},{"$f":"NV232+NU233","v":6.5},"w5",null,"f3",{"$f":"NZ239","v":-16.45},{"$f":"OA238+OA236*NZ236","v":5.2249999999999996},{"$f":"NZ239","v":-16.45},{"$f":"OA239","v":4.7750000000000004},{"$f":"NY239","v":"f2"}]
[null,null,null,null,null,"(a1 →a2)",{"$f":"AX128+G238*SIN(O232+G241)","v":9.9891818374612456},null,null,{"$f":"G255+AX99","v":7.6622802118711562},{"$f":"AX103+G254+AX98","v":74.361432105834069},"a13",null,"مولفه افقی","مولفه عمودی","اسم نقطه ",null,null,null,null,{"$f":"DC109","v":6.990047592723899},{"$f":"DD109","v":33.775000000000006},52,null,{"$f":"-U245+S257","v":-6.990047592723899},{"$f":"V245","v":33.775000000000006},52,null,{"$f":"BK168","v":0},{"$f":"BL168","v":33.775000000000006},1,null,"(b1 → b2)",{"$f":"AC241-AC245+'متغیرها '!C386*AH229*SIN(2*AD233-AH227)","v":13.760735817693002},{"$f":"AH249+AC245","v":4.7082175252461997},{"$f":"AH248+AD245","v":71.677312656756229},"b6",null,{"$f":"-AI245+AN239","v":-4.7082175252461997},{"$f":"AJ245","v":71.677312656756229},"b6",null,"مولفه افقی","مولفه عمودی","اسم نقطه ",null,null,null,null,null,null,null,null,null,null,"c1",{"$f":"IF(BE241=1,0.2*(SQRT(POWER((BD228-BD229),2)+POWER((BE228-BE229),2))+SQRT(POWER((BD230-BD231),2)+POWER((BE230-BE231),2))),IF(BE241=2,0.2*BD253,0.2*BD254))","v":3.1620297982537013},null,null,"(14 → 19)",{"$f":"BE245*(1+'متغیرها '!C320)*COS(3*BE240+BE244)","v":2.7339333291164345},null,{"$f":"BD266","v":13.311004123165766},{"$f":"BE266","v":39.781026386949939},22,null,{"$f":"-BK245-BN226","v":-13.311004123165766},39.781026386949939,"a9",null,"α1",{"$f":"ASIN((H105-H106)/(0.4*('متغیرها '!U53)))+IF(BE241=1,ATAN((BT231-BT228-BT237)/(BS229-BS228+BS231-BS230)),ATAN((BT235-BT234-BT237)/(BS235-BS232)))","v":9.8055275151147633E-2},null,null,"(14 → 19)",{"$f":"BT246*(1+'متغیرها '!C320)*COS(3*BT241+BT245)","v":0.88103692304481107},null,{"$f":"BX230+BX233+BX239+BX245+BX251+BS253","v":18.061845414340787},{"$f":"BX227+BX234+BX240+BX246+BX252+BX229+BT249","v":51.273596144436411},26,null,{"$f":"-BZ245+CE227","v":-18.061845414340787},51.273596144436411,26,null,null,null,null,null,null,null,null,null,null,null,null,null,null,null,null,null,"زاویه خط پهلو پشت",{"$f":"ATAN((BK165-BK162)/(BL162-BL165))","v":0.20927955044754043},null,null,null,null,null,{"$f":"DA231","v":0},{"$f":"IF('متغیرها '!C402<2,'متغیرها '!U59+('متغیرها '!C402-1)*('متغیرها '!U60-'متغیرها '!U59),IF('متغیرها '!C402<3,'متغیرها '!U60+('متغیرها '!C402-2)*('متغیرها '!U56-'متغیرها '!U60),'متغیرها '!U56+('متغیرها '!C402-3)*(H127-H126)))+'متغیرها '!C52","v":45.174999999999997},"s1",null,{"$f":"DE240","v":0},{"$f":"DF240","v":30.275319517797207},"m11",null,{"$f":"DE269","v":0},{"$f":"DF269","v":20.719535548803933},"m'11",null,{"$f":"-DM245+DR229","v":0},{"$f":"DN245","v":20.719535548803933},"m'11",null,{"$f":"LO227","v":0},{"$f":"LP227","v":58},"d3",null,{"$f":"-DU245+DZ229","v":0},{"$f":"DV245","v":58},"d3",null,null,null,null,null,{"$f":"EG261+0.25*(ED267-1)*EE259","v":32.096795998486691},{"$f":"EH261","v":29.08489556373598},"p19",null,{"$f":"EG234","v":-2.1475083290852495},{"$f":"EH234","v":33.306400000000004},"p11",null,{"$f":"-EK245+EP230","v":2.1475083290852495},{"$f":"EL245","v":33.306400000000004},"p11",null,{"$f":"EG270","v":-1.8666899465981666},{"$f":"EH270","v":33.306400000000004},"p5",null,null,null,null,null,null,"بندینک پشت گردنی وصل به پیش سینه رکابی",null,{"$f":"FD249","v":0},{"$f":"FE231","v":41.160362606618179},"p10",null,null,null,null,{"$f":"FI249+FI250","v":14.49206066076581},{"$f":"BI115+EX250","v":42.647830000000006},"p5",null,{"$f":"-FK245+FP230","v":-14.49206066076581},{"$f":"FL245","v":42.647830000000006},"p5",null,{"$f":"AZ115-'متغیرها '!C51","v":11.069483794341572},{"$f":"BA115-'متغیرها '!C52","v":61.472999053936284},16,null,"x d4",{"$f":"FX238-FX241","v":-5.1678484778448475},"شیفت",{"$f":"FZ243","v":15.612685896400125},{"$f":"GA243","v":53.15},"41 یا  d8",null,{"$f":"BK112-'متغیرها '!C56-'متغیرها '!C53","v":12.558374718478948},{"$f":"BL112-'متغیرها '!C57-'متغیرها '!C54","v":62.272963880791401},12,"شیفت",{"$f":"GH243","v":15.887135714230464},{"$f":"GI243","v":53},"36 یا d8",null,null,5,{"$f":"RADIANS(GM245)","v":8.7266462599716474E-2},{"$f":"GV255+GS241*COS(GN245)","v":14.625611633338149},{"$f":"GW255-GS241*SIN(GN245)","v":45.774417283735119},{"$f":"SQRT(POWER((GV252-GO245),2)+POWER((GW252-GP245),2))","v":6.7378351056292507},{"$f":"ABS(GS238-GQ245)","v":9.4037840528984589},null,null,null,null,null,null,{"$f":"GV252","v":15.231006481809745},{"$f":"GW252","v":52.484999895408563},"dp4",null,{"$f":"CR166","v":7.3400475927238986},{"$f":"CS166","v":56.24},{"$f":"CT166","v":"شیفت 43"},null,null,"b2",{"$f":"'متغیرها '!C458","v":0.25},null,"c14",{"$f":"HI260","v":0},null,{"$f":"HN233","v":0},{"$f":"HO241+IF(HI249<0,HI249*(HN234-HN233),0)","v":58.413105693895709},"a13",null,{"$f":"HR235","v":7.6511703908376187},{"$f":"HO234-HS235+HO234","v":56.768097385795201},"a50",null,{"$f":"HR248","v":10.661921511115541},{"$f":"HS248+HI260","v":56.797036205781026},"a53",null,{"$f":"HN264","v":11.371092863358337},{"$f":"HO264+HI260","v":58.415143352402843},"a32",null,null,null,null,null,{"$f":"-HR248+HH242","v":-10.661921511115541},{"$f":"HS248+HI260","v":56.797036205781026},"a53",null,"بهینه c20",13,0.22689280275926285,{"$f":"HN240+HL247*SIN(HL250+IN245)","v":8.6773194511229867},{"$f":"HO240+HL247*COS(HL250+IN245)","v":59.687686768743212},{"$f":"ATAN((IP245-HO235)/(IO245-HN235))","v":0.1591033550955292},{"$f":"(IO245-HN235)/COS(IQ245)","v":8.0449241892095511},null,null,{"$f":"HR239","v":7.1378177739499806},56.863614295466604,"a44",null,"d14",{"$f":"'متغیرها '!C481","v":0.8},null,"yf9",{"$f":"IV248-IY254","v":56.380109363334341},null,{"$f":"JR294+IY253","v":13.443297217909931},{"$f":"JS294+IY254","v":56.421078774033354},"e13",null,null,null,null,null,{"$f":"JE287","v":4.0370261759981441},{"$f":"JF287","v":55.702437863595335},"e55",null,{"$f":"-JE287+IY263","v":-4.0370261759981441},{"$f":"JF287","v":55.702437863595335},"e55",null,{"$f":"IU251","v":7.3400475927238986},{"$f":"IV251","v":53.895325976728422},"a8",null,{"$f":"-IU251+IY263","v":-7.3400475927238986},{"$f":"IV251","v":53.895325976728422},"a8",null,null,14,{"$f":"KE235+KH235*SIN(RADIANS(KD245)+KD237)","v":7.269100963054548},{"$f":"KF235+KH235*COS(RADIANS(KD245)+KD237)","v":62.895284255444629},{"$f":"IF(KE236>KE245,ATAN((KF236-KF245)/(KE236-KE245)),ATAN((KF236-KF245)/(KE245-KE236)))","v":-0.93747674497658873},{"$f":"IF(KE236>KE245,(KE236-KE245)/COS(KG245),(KE245-KE236)/COS(KG245))","v":1.8391781304526058},null,null,{"$f":"AZ183-KL251","v":14.933992757675961},{"$f":"BA183","v":34.077175048455153},"7'",null,{"$f":"KK286","v":28.07555},{"$f":"KL286","v":12.899999999999999},"j24",null,{"$f":"-KO245+KR231","v":-28.07555},{"$f":"KP245","v":12.899999999999999},"j''24",null,15.598675,48.04189556373597,"d3",null,{"$f":"KW264","v":38.19735},{"$f":"KX264","v":12.899999999999999},"j'24",null,{"$f":"LE231+0.5*(LE237-LE231)","v":7.0188874999999999},{"$f":"LF231","v":4.3},"j114",null,null,null,null,null,null,"d5  b14",{"$f":"0.45*(LO222-LO227)+LO227","v":3.23217},{"$f":"LP227+((LO245-LO227)/(LO217-LO227))*(LP217-LP227)+0.6*'متغیرها '!C358*(LO214-LO227)","v":57.160315288588642},null,null,null,null,null,null,34,{"$f":"BK159","v":6.5325999999999995},{"$f":"BL159","v":48},null,{"$f":"LX284+LX263","v":37.81935},{"$f":"LY284","v":56.832240438764998},"جدا m18",null,{"$f":"-MA245+MF212","v":-37.81935},{"$f":"MB245","v":56.832240438764998},"جدا m18",null,{"$f":"LX283+LX263","v":37.81935},{"$f":"LY283","v":57.61735805153085},"جدا m17",null,{"$f":"-MI245+MN212","v":-37.81935},{"$f":"MJ245","v":57.61735805153085},"جدا m17",null,{"$f":"LX282+LX263","v":37.81935},{"$f":"LY282","v":59.295893583072562},"جدا m16",null,{"$f":"-MQ245+MV212","v":-37.81935},{"$f":"MR245","v":59.295893583072562},"جدا m16",null,{"$f":"LX281+LX263","v":37.81935},{"$f":"LY281","v":61.163666739752337},"جدا m15",null,{"$f":"-MY245+ND212","v":-37.81935},{"$f":"MZ245","v":61.163666739752337},"جدا m15",null,{"$f":"LX280+LX263","v":37.81935},{"$f":"LY280","v":62.492282617999088},"جدا m14",null,{"$f":"-NG245+NL212","v":-37.81935},{"$f":"NH245","v":62.492282617999088},"جدا m14",null,null,null,null,null,null,null,{"$f":"NU239","v":2},{"$f":"NV239+NU233","v":9.5},"w10",null,"نقطه شروع انحنا","مولفه افقی","مولفه عمودی",{"$f":"NZ249","v":2.75},{"$f":"OA249","v":5.75},{"$f":"NY249","v":"g4"}]
[null,null,null,null,null,"(2 → a3)",{"$f":"G244+G239*SIN(RADIANS(15)+O232+G241)","v":8.5765597596670649},null,null,{"$f":"J239","v":9.9891818374612456},{"$f":"K239","v":76.994693194502617},"a2",null,{"$f":"J239","v":9.9891818374612456},{"$f":"K239","v":76.994693194502617},"a2",null,null,null,null,null,null,null,null,null,null,null,null,null,null,null,null,"(1 → b3)",{"$f":"AD243-AD245+0.85*(AH244-AD243+AD245)","v":39.309521746473692},{"$f":"AC243","v":2.4450879521344988},71.090975536040617,26,null,{"$f":"-AI246+AN239","v":-2.4450879521344988},{"$f":"AJ246","v":71.090975536040617},26,null,{"$f":"AQ230-AR235*AR238*COS(RADIANS(90)-AR242)","v":7.856665145067403},{"$f":"AR230+AR235*AR238*SIN(RADIANS(90)-AR242)","v":78.565038984710043},"d4",null,null,null,null,null,null,null,null,null,null,"b1",{"$f":"BE245*COS(BE244)","v":2.9406500136148725},null,null,"(19 → 20)",{"$f":"BE245*SIN(3*BE240+BE244)","v":1.5887230712086589},null,null,null,null,null,null,null,null,null,"c1",{"$f":"IF(BE241=1,0.2*(SQRT(POWER((BS228-BS229),2)+POWER((BT228-BT229),2))+SQRT(POWER((BS230-BS231),2)+POWER((BT230-BT231),2))),IF(BE241=2,0.2*BD255,0.2*BD256))","v":2.9551340348837734},null,null,"(19 → 20)",{"$f":"BT246*SIN(3*BT241+BT245)","v":2.8207430057274241},null,null,null,"پهلو",null,null,null,"پهلو",null,null,null,null,null,null,null,null,null,null,null,null,null,null,null,null,null,"فاق پشت",{"$f":"DA273","v":25.280464451196067},null,"نقاط  ورودی پشت شورت",null,null,null,{"$f":"DA233+IF('متغیرها '!C402>3,(DF245-DB231)*TAN(CY262),(DB231-DF245)*TAN(CY263))","v":14.737774999999999},{"$f":"DF245","v":45.174999999999997},"s2",null,{"$f":"DE238","v":0},{"$f":"DF238","v":34.614957686568182},"m9",null,{"$f":"DE271","v":0},{"$f":"DF271","v":22.719535548803933},"m'1",null,{"$f":"-DM246+DR229","v":0},{"$f":"DN246","v":22.719535548803933},"m'1",null,{"$f":"LN284","v":0},{"$f":"LO284","v":58},"45 یا d3",null,{"$f":"-DU246+DZ229","v":0},{"$f":"DV246","v":58},"45 یا d3",null,null,null,null,null,{"$f":"EG241-ED269*(2*H129+H130)","v":20.962040000000002},{"$f":"EH241","v":26.741895563735973},"p21",null,{"$f":"EG233","v":1.2756000000000001},{"$f":"EH233","v":30.450819263119147},"p10",null,{"$f":"-EK246+EP230","v":-1.2756000000000001},{"$f":"EL246","v":30.450819263119147},"p10",null,{"$f":"EG269","v":1.2756000000000001},{"$f":"EH269","v":30.7942},"p4",null,null,"بندینک پشت گردنی وصل به پیش سینه رکابی",null,{"$f":"EX249","v":15.72423796361949},{"$f":"EX250+EX247","v":81.747999999999919},"p1",null,null,null,null,null,"بندینک",null,null,null,null,null,null,null,null,null,null,{"$f":"AZ121-'متغیرها '!C51","v":12.000434628197155},{"$f":"BA121-'متغیرها '!C52","v":58.565171053936282},20,null,"y d4",{"$f":"FX239+FX240","v":67.348547000041663},"شیفت",{"$f":"IF(FX248>FT238,FX247,FS238)+'متغیرها '!C51","v":15.612685896400125},{"$f":"IF(FX248>FT238,FX248,FT238)+FT242+'متغیرها '!C52","v":53.15},"45 یا d8",null,{"$f":"BK117-'متغیرها '!C56-'متغیرها '!C53","v":13.56505561207916},{"$f":"BL117-'متغیرها '!C57-'متغیرها '!C54","v":58.704265880791404},16,"شیفت",{"$f":"IF(FX265>GE238,FX264,GD238)+'متغیرها '!C53","v":15.887135714230464},{"$f":"IF(FX265>GE238,FX265,GE238)+GE242+'متغیرها '!C54","v":53},"42 یا d8",null,null,10,{"$f":"RADIANS(GM246)","v":0.17453292519943295},{"$f":"GV255+GS241*COS(GN246)","v":14.289975164298987},{"$f":"GW255-GS241*SIN(GN246)","v":43.225005193650368},{"$f":"SQRT(POWER((GV252-GO246),2)+POWER((GW252-GP246),2))","v":9.307687243194513},{"$f":"ABS(GS238-GQ246)","v":6.8339319153331974},null,null,null,null,"قرینه انحنای یقه جلو",null,null,null,null,null,null,null,null,null,null,"b3",{"$f":"'متغیرها '!C459","v":0.9},null,"c15",{"$f":"(HL234+HL235+HL236)/4","v":4.7717301918775394},null,{"$f":"HN235+(HO235-HO245)*TAN(HL240)","v":0.73400475927238951},{"$f":"HO245","v":58.413105693895709},"a14",null,{"$f":"HN248+0.5*(HR245-HN248)","v":6.8026319488954696},{"$f":"HS245+(0.5-HI253)*(HO248-HS245)","v":56.855121551266286},"a51",null,{"$f":"HR249","v":13.672672631393464},{"$f":"HS249+HI260","v":56.898322075731407},"a54",null,{"$f":"HN263","v":15.402138133992775},{"$f":"HO263+HI260","v":58.760573409611375},"a31",null,{"$f":"HR256","v":7.3400475927238986},53.895325976728422,"a62",null,{"$f":"-HR249+HH242","v":-13.672672631393464},{"$f":"HS249+HI260","v":56.898322075731407},"a54",null,{"$f":"IF(HL248<IR233,IM233,IF(HL248<IR234,IM234,IF(HL248<IR235,IM235,IF(HL248<IR236,IM236,IF(HL248<IR237,IM237,IF(HL248<IR238,IM238,IF(HL248<IR239,IM239,IF(HL248<IR240,IM240,IF(HL248<IR241,IM241,IF(HL248<IR242,IM242,IF(HL248<IR243,IM243,IF(HL248<IR244,IM244,IF(HL248<IR245,IM245,IF(HL248<IR246,IM246,IF(HL248<IR247,IM247,IF(HL248<IR248,IM248,IF(HL248<IR249,IM249,IF(HL248<IR250,IM250,IF(HL248<IR251,IM251,IM252)))))))))))))))))))","v":3},14,{"$f":"RADIANS(IM246)","v":0.24434609527920614},{"$f":"HN240+HL247*SIN(HL250+IN246)","v":8.7782064129153596},{"$f":"HO240+HL247*COS(HL250+IN246)","v":59.663465952148741},{"$f":"ATAN((IP246-HO235)/(IO246-HN235))","v":0.1542022528427664},{"$f":"(IO246-HN235)/COS(IQ246)","v":8.1407973208949791},null,null,7.3400475927238986,53.895325976728422,"a45",null,"d15",{"$f":"'متغیرها '!C490","v":0},null,"f10",{"$f":"ATAN((JF242-JF243)/(JE242-JE243))","v":0.75946352626618174},null,{"$f":"IU240+IZ244-JC259","v":15.477622222714617},{"$f":"IV240","v":54.555809474672422},"e14",null,null,null,null,null,{"$f":"JE280","v":0.73400475927238951},{"$f":"JF280","v":58.413105693895709},"e48",null,{"$f":"-JE280+IY263","v":-0.73400475927238951},{"$f":"JF280","v":58.413105693895709},"e48",null,{"$f":"IU250","v":7.5422774114978166},{"$f":"IV250","v":56.863614295466604},"a41",null,{"$f":"-IU250+IY263","v":-7.5422774114978166},{"$f":"IV250","v":56.863614295466604},"a41",null,null,16,{"$f":"KE235+KH235*SIN(RADIANS(KD246)+KD237)","v":7.483169447379721},{"$f":"KF235+KH235*COS(RADIANS(KD246)+KD237)","v":62.904885769489731},{"$f":"IF(KE236>KE246,ATAN((KF236-KF246)/(KE236-KE246)),ATAN((KF236-KF246)/(KE246-KE236)))","v":-0.85312604246016188},{"$f":"IF(KE236>KE246,(KE236-KE246)/COS(KG246),(KE246-KE236)/COS(KG246))","v":1.9806504533668516},null,null,{"$f":"AZ184-KL251","v":11.584660540390265},{"$f":"BA184","v":33.878014221064262},"7''",null,null,null,null,null,null,null,null,null,{"$f":"BK168","v":0},{"$f":"BL168","v":33.775000000000006},1,null,null,null,null,null,{"$f":"LE245","v":7.0188874999999999},{"$f":"LF231-0.3*LE165*(KL292-KL293)","v":4.3},"j115",null,{"$f":"LE220","v":-14.037775},8.6,"j88",null,null,"d4  b14ʻ",{"$f":"0.2*(LO217-LO222)+LO222","v":9.2136008823851192},{"$f":"LP227+((LO246-LO227)/(LO217-LO227))*(LP217-LP227)+0.75*'متغیرها '!C358*(LO214-LO227)","v":56.776882030846174},null,null,"به دست آوردن نقطه تقاطع دو خط (d''4b16) شیفت","مولفه افقی","مولفه عمودی",null,48,{"$f":"EJ386","v":0},{"$f":"EK386","v":36.741895563735973},null,null,null,null,null,null,null,null,null,null,null,null,null,null,null,null,null,null,null,null,null,null,null,null,null,null,null,null,null,null,null,null,null,null,null,null,null,null,null,null,null,null,null,null,null,null,null,{"$f":"NU245-NV213/NU234","v":-0.33333333333333348},{"$f":"NV245","v":9.5},"w13",null,"w2",{"$f":"NU237","v":2},{"$f":"NV237","v":5},{"$f":"NZ251","v":2.5249999999999999},{"$f":"OA251","v":6.29},{"$f":"NY251","v":"g6"}]
[null,null,null,null,null,"(a7 →a8)",{"$f":"0.5*(G249+AX147-G260)-0.2*(G249+G260-AX147)","v":0.15674315058897281},null,null,{"$f":"G253+AX99","v":-0.91026539707009391},{"$f":"G252+AX98","v":59.826339175461854},"a11",null,null,{"$f":"'متغیرها '!C183","v":0},"شیفت افقی پایه",null,null,null,null,{"$f":"U249","v":0},{"$f":"V249","v":58.028171017165526},"49''",null,{"$f":"-U251+S257","v":0},{"$f":"V251","v":58.028171017165526},"49''",null,null,null,null,null,"مولفه افقی نقطه اتصال به سرشانه جلو",{"$f":"AC241-'متغیرها '!C385*AH242*SIN(AH240)","v":12.207252153094696},null,null,null,null,null,null,null,null,{"$f":"AQ228+0.25*(AQ232-AQ228)","v":8.5143665224839502},{"$f":"AR232+0.5*(AR228-AR232)","v":64.177873017383789},"d9",null,null,null,null,null,null,null,null,null,null,null,null,null,null,"(20→25)",{"$f":"BE245*(1+'متغیرها '!C320)*COS(4*BE240+BE244)","v":2.6511135650573463},null,{"$f":"BK283","v":0},{"$f":"BL283","v":47.24},2,null,{"$f":"-BK251-BN226","v":0},{"$f":"BL251","v":47.24},2,null,"شیفت افقی دامن فون",{"$f":"'متغیرها '!C325","v":10},null,null,"(20→25)",{"$f":"BT246*(1+'متغیرها '!C320)*COS(4*BT241+BT245)","v":-0.2575347806242963},null,{"$f":"BV284","v":18.061845414340787},{"$f":"BW284","v":51.273596144436411},"c1",null,{"$f":"-BZ251+CE227","v":-18.061845414340787},{"$f":"CA251","v":51.273596144436411},"c1",null,null,null,null,null,null,null,null,null,null,null,null,null,null,null,null,null,"(m3 → m4)",{"$f":"BI149+BI150+BI151+(BI148-CY250)*TAN(CY245)","v":17.582707249163516},null,{"$f":"BK162-'متغیرها '!C56","v":15.598675},{"$f":"BL162-'متغیرها '!C57","v":48.04189556373597},36,null,{"$f":"DE250+0.3*DB253","v":18.850714886162166},{"$f":"DF250+0.1*(DF256-DF250)","v":31.50735423944856},"s11",null,{"$f":"DE242","v":0},{"$f":"DF242","v":30.275319517797207},"m'11",null,{"$f":"DA260","v":8.5329475372072299},{"$f":"DB260","v":29.892076223926967},"m8",null,{"$f":"-DM251+DR229","v":-8.5329475372072299},{"$f":"DN251","v":29.892076223926967},"m8",null,{"$f":"BO178","v":0},{"$f":"BP178","v":48},44,null,{"$f":"-DU251+DZ229","v":0},{"$f":"DV251","v":48},44,null,{"$f":"AZ168","v":14.737774999999999},{"$f":"BA168","v":48.343380736880853},41,null,"نقاط کمکی",null,null,null,null,null,null,null,null,null,null,null,null,null,null,null,null,null,null,null,null,null,null,{"$f":"BD97","v":0},{"$f":"BE97","v":33.775000000000006},"1'",null,null,null,null,{"$f":"FG267","v":15.91397769714632},{"$f":"FH267","v":76.072389999999928},"p1",null,{"$f":"-FK251+FP230","v":-15.91397769714632},{"$f":"FL251","v":76.072389999999928},"p1",null,null,{"$f":"'متغیرها '!C71","v":0.25},"x6",null,"xd'4",{"$f":"FX245-(FX249-FX238)*COS(RADIANS(FT241))*COS(RADIANS(FT241))","v":-5.9992670299230051},null,{"$f":"FZ249","v":7.6088487866370551},{"$f":"GA249","v":71.998884496543482},"34d شیفت",null,null,null,null,null,{"$f":"GH249","v":7.4305319659384272},{"$f":"GI249","v":73.133532884411835},"32d شیفت",null,null,35,0.6108652381980153,{"$f":"GV255+GS241*COS(GN251)","v":9.407182039042393},{"$f":"GW255-GS241*SIN(GN251)","v":31.436899808393779},{"$f":"SQRT(POWER((GV252-GO251),2)+POWER((GW252-GP251),2))","v":21.838943390493192},{"$f":"ABS(GS238-GQ251)","v":5.6973242319654815},null,null,"اسم نقطه ","مولفه افقی","مولفه عمودی","قرینه",{"$f":"IJ127","v":-15.72423796361949},{"$f":"IK127","v":53.762849053936286},{"$f":"IL127","v":"شیفت 14"},null,{"$f":"CR158","v":7.2574518037325406},{"$f":"CS158","v":45.6},{"$f":"CT158","v":"d5"},null,null,"b8",{"$f":"'متغیرها '!C464","v":1.4},null,"c20",{"$f":"RADIANS(IL246)","v":5.235987755982989E-2},null,{"$f":"HN248+0.5*(HN234-HN248)","v":6.6470705498386096},{"$f":"HO234+(0.5-HI253)*(HO248-HO234)","v":58.004048511919883},"a19",null,{"$f":"HR238+0.7*(HR243-HR238)","v":12.890174132177997},{"$f":"HS238-(0.7-1.2*HI253)*(HS238-HS243)","v":59.034912204678321},"a57",null,null,null,null,null,{"$f":"HN266","v":14.31055781756675},{"$f":"HO266+HI260","v":57.22521642284255},"a34",null,null,null,null,null,null,null,null,null,null,19,0.33161255787892263,{"$f":"HN240+HL247*SIN(HL250+IN251)","v":9.275460308242728},{"$f":"HO240+HL247*COS(HL250+IN251)","v":59.51617263793031},{"$f":"ATAN((IP251-HO235)/(IO251-HN235))","v":0.1284318954150715},{"$f":"(IO251-HN235)/COS(IQ251)","v":8.6123875654813649},null,null,{"$f":"HN240","v":7.3400475927238986},{"$f":"HO240+IY254","v":53.895325976728422},"a8",null,{"$f":"I124-I123","v":10.3},"شبیه سازt3-t2",null,"f15",{"$f":"JE236-JE234","v":0.36760071389085835},null,{"$f":"JE242-IZ243+IZ244","v":7.0658436108066898},{"$f":"JF242","v":62.253230500747613},"e19",null,null,null,null,null,{"$f":"JE280","v":0.73400475927238951},{"$f":"JF280","v":58.413105693895709},"e48",null,{"$f":"-JE280+IY263","v":-0.73400475927238951},{"$f":"JF280","v":58.413105693895709},"e48",null,null,null,null,null,null,null,null,null,null,26,{"$f":"KE235+KH235*SIN(RADIANS(KD251)+KD237)","v":8.5513638787630573},{"$f":"KF235+KH235*COS(RADIANS(KD251)+KD237)","v":62.840827222330617},{"$f":"IF(KE236>KE251,ATAN((KF236-KF251)/(KE236-KE251)),ATAN((KF236-KF251)/(KE251-KE236)))","v":-0.54215610339925124},{"$f":"IF(KE236>KE251,(KE236-KE251)/COS(KG251),(KE251-KE236)/COS(KG251))","v":2.7676131689945533},null,null,null,0,"شیفت افقی تکه جلو",null,{"$f":"KK288","v":0},{"$f":"KL288","v":8.6},"j26",null,{"$f":"-KO251+KR231","v":0},{"$f":"KP251","v":8.6},"j''26",null,null,null,null,null,{"$f":"KW266","v":0},{"$f":"KX266","v":8.6},"j'26",null,null,null,null,null,null,null,null,null,null,null,null,null,null,"نقطه تقاطع"," شیفتd''4b16",{"$f":"(LU249-LU247+LT247*((LU248-LU247)/(LT248-LT247))-LT249*((LU250-LU249)/(LT250-LT249)))/(((LU248-LU247)/(LT248-LT247))-((LU250-LU249)/(LT250-LT249)))","v":7.9050907881405816},{"$f":"LU247+(LT251-LT247)*((LU248-LU247)/(LT248-LT247))","v":64.598470478245375},null,"شیفت عمودی",{"$f":"'متغیرها '!C57","v":0},null,null,{"$f":"LX244+LX263","v":30},{"$f":"LY244","v":48},"جدا 44",null,{"$f":"-MA251+MF212","v":-30},{"$f":"MB251","v":48},"جدا 44",null,{"$f":"LX244+LX263","v":30},{"$f":"LY244","v":48},"جدا 44",null,{"$f":"-MI251+MN212","v":-30},{"$f":"MJ251","v":48},"جدا 44",null,{"$f":"LX244+LX263","v":30},{"$f":"LY244","v":48},"جدا 44",null,{"$f":"-MQ251+MV212","v":-30},{"$f":"MR251","v":48},"جدا 44",null,{"$f":"LX244+LX263","v":30},{"$f":"LY244","v":48},"جدا 44",null,{"$f":"-MY251+ND212","v":-30},{"$f":"MZ251","v":48},"جدا 44",null,{"$f":"LX244+LX263","v":30},{"$f":"LY244","v":48},"جدا 44",null,{"$f":"-NG251+NL212","v":-30},{"$f":"NH251","v":48},"جدا 44",null,null,null,null,null,null,null,{"$f":"NU252+0.1*(NU250-NU252)","v":-16},{"$f":"NV250","v":12.5},"w18",null,"g6",{"$f":"NZ250","v":2.5249999999999999},{"$f":"OA248-OA250+OA246","v":6.29}]
[null,null,null,null,null,null,null,null,null,{"$f":"N257","v":6.648461685668825},{"$f":"O257","v":74.700532836951268},"a16",null,{"$f":"N248-0.6*O268*COS(O271)","v":5.7406469302164984},{"$f":"O248+0.6*O268*SIN(O271)","v":72.191576278691713},"a15",null,null,null,null,null,null,null,null,null,null,null,null,null,"(b7 →b8)",{"$f":"AC253-AC245+'متغیرها '!C389*AD236*SIN(AD233)-'متغیرها '!C389*AD236*TAN(AH253-AD233)*COS(AD233)","v":6.6366738028433119},null,null,null,{"$f":"AI254","v":13.244472723345027},{"$f":"AJ254","v":71.798616232800768},"b10",null,{"$f":"-AI256+AN252","v":-13.244472723345027},{"$f":"AJ256","v":71.798616232800768},"b10",null,null,null,null,null,null,"مولفه افقی","مولفه عمودی","اسم نقطه ",null,null,null,null,null,{"$f":"KW256","v":16.559262696489231},"j'17",null,null,"(2 →30)",{"$f":"BI255","v":0},null,{"$f":"BI230+BK290","v":2.9406500136148725},{"$f":"BI227+BI229+BE248","v":48.402329532650356},4,null,{"$f":"-BK256-BN226","v":-2.9406500136148725},48.402329532650356,4,null,null,null,null,null,"شیفت افقی خط مرکزی پشت",{"$f":"BT251","v":10},null,{"$f":"BV285","v":27.101308991579444},{"$f":"BW285","v":51.175116523317875},"c2",null,{"$f":"-BZ256+CE227","v":-27.101308991579444},{"$f":"CA256","v":51.175116523317875},"c2",null,null,null,null,null,null,null,null,null,null,null,null,null,null,null,null,null,"(1 → m9)",{"$f":"CY248+0.25*(CY250-CY248)","v":-7.0707196316832768},null,null,{"$f":"CY249","v":3.66},"(m1 → m2)",null,{"$f":"'متغیرها '!C404*DA237+DA231","v":16.290830624999998},{"$f":"DB236-'متغیرها '!C405*(DB238-DB239)","v":32.275319517797207}," مرجع m7",null,15.315032889999998,35.128973170965409,"s15",null,{"$f":"BK170","v":0},{"$f":"BL170","v":36.700000000000003},48,null,{"$f":"-DM256+DR229","v":0},{"$f":"DN256","v":36.700000000000003},48,null,{"$f":"BO178","v":0},{"$f":"BP178","v":48},44,null,{"$f":"-DU256+DZ229","v":0},{"$f":"DV256","v":48},44,null,null,"محاسبات جلو ",null,null,{"$f":"EC234-(ED234-ED236)*TAN(RADIANS(ED270))","v":14.784175661719665},{"$f":"ED236","v":0},"p'14",null,null,null,null,null,null,null,null,null,{"$f":"EG268","v":0},{"$f":"EH268","v":31.431999999999999},"p3",null,null,null,null,{"$f":"EX249","v":15.72423796361949},{"$f":"EX250+EX247","v":81.747999999999919},"p1",null,null,null,null,{"$f":"FI240+BI98","v":2.5171200000000002},{"$f":"FI231+BI97","v":65.5},"p22",null,null,null,"خط مرکزی پشت پیراهن در پیش سینه",null,null,null,"خط مرکزی پشت پیراهن در پیش سینه",null,{"$f":"FX235","v":6.1110124614777632},{"$f":"FX236","v":71.728171017165522},"32d",null,"yd3",{"$f":"IF(GE240<3,'متغیرها '!U60+(GE240-2)*('متغیرها '!U58-'متغیرها '!U60),'متغیرها '!U58+(GE240-3)*(I127-I126))","v":53},null,null,null,null,null,"xd9",{"$f":"GD235","v":0},null,null,null,null,null,null,null,60,1.0471975511965976,{"$f":"GV255+GS241*COS(GN256)","v":0},{"$f":"GW255-GS241*SIN(GN256)","v":22.816805646362447},{"$f":"SQRT(POWER((GV252-GO256),2)+POWER((GW252-GP256),2))","v":33.349442400856773},{"$f":"ABS(GS238-GQ256)","v":17.207823242329063},null,null,"dp6",{"$f":"GV255+GS241*COS(RADIANS(GL258))","v":11.976145492188127},{"$f":"GW255-GS241*SIN(RADIANS(GL258))","v":35.886475032029779},null,null,null,null,null,{"$f":"HC254","v":0},{"$f":"HD254","v":42.24},{"$f":"HE254","v":"d4"},null,null,"b15",{"$f":"'متغیرها '!C469","v":0},null,null,null,null,{"$f":"HG237","v":7.3400475927238986},{"$f":"HH237","v":48},"a24",null,{"$f":"HN258+HH241","v":7.3400475927238986},{"$f":"HO258","v":53.895325976728422},"a62",null,{"$f":"HR235","v":7.6511703908376187},{"$f":"HS235+HI259","v":59.831902614204793},"a40",null,{"$f":"HN252","v":6.6470705498386096},{"$f":"HO252+HI259","v":58.595951488080111},"a20",null,"رسم قرینه پایه",null,null,null,{"$f":"-HR235+HH242","v":-7.6511703908376187},{"$f":"HS235+HI259","v":59.831902614204793},"a40",null,null,"اسم نقطه ","مولفه افقی","مولفه عمودی",null,null,null,null,null,{"$f":"HR252","v":6.63292426050704},{"$f":"HS252+IY254","v":59.797092948016356},"a58",null,{"$f":"HI260","v":0},"b14",null,"f20",{"$f":"ATAN((0.25*IY259-0.25*IY260)/(IY258))","v":0.11771327487406354},null,{"$f":"JE257+0.5*(JE255-JE257)","v":9.8752243704513827},{"$f":"JF257+0.3*(JF255-JF257)","v":58.037445975020276},"e24",null,"نقاط خروجی",null,null,null,{"$f":"JE282","v":7.6511703908376187},59.831902614204793,"e50",null,{"$f":"-JE282+IY263","v":-7.6511703908376187},{"$f":"JF282","v":59.831902614204793},"e50",null,{"$f":"JE249","v":13.443320724098372},{"$f":"JF249","v":58.771697618138056},"e17",null,{"$f":"-JE249+IY263","v":-13.443320724098372},{"$f":"JF249","v":58.771697618138056},"e17",null,null,36,{"$f":"KE235+KH235*SIN(RADIANS(KD256)+KD237)","v":9.592206386535663},{"$f":"KF235+KH235*COS(RADIANS(KD256)+KD237)","v":62.592251852037947},{"$f":"IF(KE236>KE256,ATAN((KF236-KF256)/(KE236-KE256)),ATAN((KF236-KF256)/(KE256-KE236)))","v":-0.33286189741770233},{"$f":"IF(KE236>KE256,(KE236-KE256)/COS(KG256),(KE256-KE236)/COS(KG256))","v":3.6097077661883223},null,null,{"$f":"'متغیرها '!C798","v":3},"j0",null,null,{"$f":"KK288","v":0},{"$f":"KL288","v":8.6},"j26",null,{"$f":"-KO256+KR231","v":0},{"$f":"KP256","v":8.6},"j''26",null,{"$f":"SQRT(POWER((KW246-KW249),2)+POWER((KX246-KX249),2))+SQRT(POWER((KW249-KW248),2)+POWER((KX249-KX248),2))+SQRT(POWER((KW248-KW247),2)+POWER((KX248-KX247),2))","v":16.559262696489231},"j'17",null,null,{"$f":"KW266","v":0},{"$f":"KX266","v":8.6},"j'26",null,null,null,null,null,7.0188874999999999,8.6,"j95",null,null,null,null,null,null,"نقطه اول از خط دوم","یا  22",{"$f":"IF(LU254>LU257,LO221,LO220)","v":8.1987829808524726},{"$f":"IF(LU254>LU257,LP221,LP220)","v":66.542275796965384},null,"شیفتb8 تغییر به b14",{"$f":"CE122+LX250","v":17.337604411925593},{"$f":"CF122+LX251","v":57.418508030044734},null,{"$f":"MA254","v":30},{"$f":"MB254","v":58},"جدا d3",null,{"$f":"-MA256+MF212","v":-30},{"$f":"MB256","v":58},"جدا d3",null,{"$f":"MI254","v":30},{"$f":"MJ254","v":58},"جدا d3",null,{"$f":"-MI256+MN212","v":-30},{"$f":"MJ256","v":58},"جدا d3",null,{"$f":"MQ254","v":30},{"$f":"MR254","v":58},"جدا d3",null,{"$f":"-MQ256+MV212","v":-30},{"$f":"MR256","v":58},"جدا d3",null,{"$f":"MY254","v":30},{"$f":"MZ254","v":58},"جدا d3",null,{"$f":"-MY256+ND212","v":-30},{"$f":"MZ256","v":58},"جدا d3",null,{"$f":"NG254","v":30},{"$f":"NH254","v":58},"جدا d3",null,{"$f":"-NG256+NL212","v":-30},{"$f":"NH256","v":58},"جدا d3",null,null,null,null,null,null,null,{"$f":"NU253","v":-18},{"$f":"NV255","v":15.5},"w23",null,null,"متغیرهای ورودی",null,{"$f":"NZ262","v":-18},{"$f":"OA262","v":6.5},{"$f":"NY262","v":"w8"}]
[null,null,null,null,null,"(e4 →e5)",{"$f":"G264-H235*H124*SIN(O232)","v":5.1717802911879094},null,null,{"$f":"O262+O251","v":7.4859105081765938},{"$f":"O263+O252","v":80.947390428816405},"p7",null,"(p1 → p5)",{"$f":"0.85*O260","v":7.4859105081765938},null,null,null,null,null,null,null,null,null,null,null,null,null,null,null,null,null,null,null,null,null,null,null,null,null,null,null,null,null,null,null,null,null,{"$f":"'متغیرها '!C53","v":0},"شیفت افقی کلی",null,null,null,null,null,{"$f":"BK287","v":0},{"$f":"BL287","v":38.775000000000006},29,null,null,null,null,{"$f":"BI230+BI233+BI239+BI245+BI251+BK290","v":14.014499293814012},{"$f":"BI227+BI234+BI240+BI246+BI252+BI229+BE248","v":54.472375934184875},26,null,{"$f":"-BK262-BN226","v":-14.014499293814012},{"$f":"BL262","v":54.472375934184875},26,null,null,null," باکس راست زیپ پهلو جلو","مولفه افقی","مولفه عمودی",null,null,{"$f":"BX230+BX231+BX235+BX237+BX241+BS253","v":27.039174500176767},{"$f":"BX232+BX236+BX238+BX242+BT249","v":35.802524128174554},16,null,{"$f":"-BZ262+CE227","v":-27.039174500176767},35.802524128174554,16,null,null,null,null,null,null,null,null,null,null,null,null,null,null,null,null,null,"زاویه s3",{"$f":"ATAN((DA232-DA233)/(DB232-DB233))","v":0.11853318949337066},null,null,null,null,null,{"$f":"CY251+BI98","v":17.582707249163516},{"$f":"CY250+BI97","v":38.658514826855118},"m4",null,{"$f":"DE256+DB253","v":24.823778162207226},{"$f":"DF256","v":32.275319517797207},"پشتm8",null,null,null,null,null,null,null,null,null,{"$f":"BW108","v":0},{"$f":"BX108","v":64.452678350923691},"26 چرخیده",null,null,null,null,null,{"$f":"DX578","v":0.31619661620079853},{"$f":"DY578","v":0},"2r",null,{"$f":"EG259-EG261+EG259","v":21.692284841348183},{"$f":"EH261","v":29.08489556373598},"p''''16",null,null,null,null,null,null,null,null,null,null,null,null,null,null,null,null,null,null,null,null,{"$f":"CR204","v":0},{"$f":"CS204","v":42.24},"d4",{"$f":"BK122-'متغیرها '!C56","v":15.91397769714632},{"$f":"BL122-'متغیرها '!C57","v":56.325133880791398},8,null,null,null,null,null,null,null,null,null,null,null,null,null,"x d4",{"$f":"FX255-FX258","v":-5.6015856166515308},null,null,null,null,null,null,null,null,null,null,null,null,null,null,null,null,null,null,null,null,null,null,null,null,null,null,null,null,null,null,{"$f":"HC260","v":-7.3400475927238986},{"$f":"HD260","v":48},{"$f":"HE260","v":"39 یا d5"},null,null,null,"به دست آوردن نقطه تقاطع دو خط ","مولفه افقی","مولفه عمودی",null,null,{"$f":"HN234+0.5*(HN239-HN234)","v":11.371092863358337},{"$f":"HO239+(0.5+HI253)*(HO234-HO239)","v":58.184856647597151},"a30",null,null,null,null,null,{"$f":"HN246","v":0.73400475927238951},{"$f":"HO246+HI259","v":58.413105693895709},"a14",null,{"$f":"HN246","v":0.73400475927238951},{"$f":"HO246+HI259","v":58.413105693895709},"a14",null,{"$f":"-HR253+HH242","v":-2.7158176093078419},{"$f":"HS253","v":56.154215835312066},"a22",null,{"$f":"-HN246+HH242","v":-0.73400475927238951},{"$f":"HO246+HI259","v":58.413105693895709},"a14",null,null,4,{"$f":"IN257+IQ257*SIN(RADIANS(IM262)+IM259)","v":16.258175756344951},{"$f":"IO257+IQ257*COS(RADIANS(IM262)+IM259)","v":56.75709873019769},{"$f":"IF(IN258>IN262,ATAN((IO258-IO262)/(IN258-IN262)),ATAN((IO258-IO262)/(IN262-IN258)))","v":0.23587964024943758},{"$f":"IF(IN258>IN262,(IN258-IN262)/COS(IP262),(IN262-IN258)/COS(IP262))","v":2.0030850729856176},null,null,null,{"$f":"HR247","v":16.253316448774541},{"$f":"HS247","v":57.057485585653438},"a52",null,{"$f":"HL238","v":8.3417711665885559},"c7",null,"f26",{"$f":"SQRT(POWER((JE253-JE249),2)+POWER((JF253-JF249),2))-SQRT(POWER((JE250-JE249),2)+POWER((JF250-JF249),2))","v":-0.78388148319900974},null,{"$f":"JE261+0.65*(JE255-JE261)","v":10.027751964986154},{"$f":"JF261-0.5*(JF261-JF255)","v":61.206021085810249},"e30",null,{"$f":"IZ290","v":13.178671435180974},{"$f":"JA290","v":56.983942949860399},"e64",null,7.3400475927238986,53.895325976728422,"e54",null,{"$f":"-JE286+IY263","v":-7.3400475927238986},{"$f":"JF286","v":53.895325976728422},"e54",null,{"$f":"JE254","v":10.205735349348476},{"$f":"JF254","v":64.665978546594317},"e22",null,{"$f":"-JE254+IY263","v":-10.205735349348476},{"$f":"JF254","v":64.665978546594317},"e22",null,null,48,{"$f":"KE235+KH235*SIN(RADIANS(KD262)+KD237)","v":10.760699895627949},{"$f":"KF235+KH235*COS(RADIANS(KD262)+KD237)","v":62.061416027449908},{"$f":"IF(KE236>KE262,ATAN((KF236-KF262)/(KE236-KE262)),ATAN((KF236-KF262)/(KE262-KE236)))","v":-0.14068528520338233},{"$f":"IF(KE236>KE262,(KE236-KE262)/COS(KG262),(KE262-KE236)/COS(KG262))","v":4.625770337846463},null,null,{"$f":"'متغیرها '!C804","v":0},"j7",null,null,{"$f":"KK290","v":28.07555},{"$f":"KL290","v":4.3},"j28",null,{"$f":"-KO262+KR231","v":-28.07555},{"$f":"KP262","v":4.3},"j''28",null,{"$f":"KW261","v":38.19735},{"$f":"KK271+KL250+KK268","v":12.899999999999999},"j'22",null,{"$f":"KW268","v":38.19735},{"$f":"KX268","v":4.3},"j'28",null,null,null,null,null,{"$f":"LE233","v":-28.07555},{"$f":"LF233","v":4.3},{"$f":"LG233","v":"j102"},null,null,null,null,null,null,"نقطه دوم از خط اول","d'4b6",{"$f":"LO238","v":8.1977541372831855},{"$f":"LP238","v":60.325770407261373},null,"m4",{"$f":"'متغیرها '!C378","v":0.03},null,null,{"$f":"MA251","v":30},{"$f":"MB251","v":48},"جدا 44",null,{"$f":"-MA262+MF212","v":-30},{"$f":"MB262","v":48},"جدا 44",null,{"$f":"MI251","v":30},{"$f":"MJ251","v":48},"جدا 44",null,{"$f":"-MI262+MN212","v":-30},{"$f":"MJ262","v":48},"جدا 44",null,{"$f":"MQ251","v":30},{"$f":"MR251","v":48},"جدا 44",null,{"$f":"-MQ262+MV212","v":-30},{"$f":"MR262","v":48},"جدا 44",null,{"$f":"MY251","v":30},{"$f":"MZ251","v":48},"جدا 44",null,{"$f":"-MY262+ND212","v":-30},{"$f":"MZ262","v":48},"جدا 44",null,{"$f":"NG251","v":30},{"$f":"NH251","v":48},"جدا 44",null,{"$f":"-NG262+NL212","v":-30},{"$f":"NH262","v":48},"جدا 44",null,null,null,null,null,null,null,{"$f":"NU261-NV214/NU234","v":-2.666666666666667},{"$f":"NV261","v":18.5},"w29",null,"w8",{"$f":"NU243","v":-18},{"$f":"NV243","v":6.5},{"$f":"NZ271","v":-11.375},{"$f":"OA271","v":7.0250000000000004},{"$f":"NY271","v":"h10"}]
[null,null,null,null,null,"(e10 →e11)",{"$f":"O242*SIN(RADIANS(H234))","v":1.4148114652261383},null,null,null,null,null,null,"(a14→e7)",{"$f":"SQRT(POWER((N255-N257),2)+POWER((O255-O257),2))+SQRT(POWER((N257-N256),2)+POWER((O257-O256),2))+SQRT(POWER((N256-N249),2)+POWER((O256-O249),2))","v":9.4264159049441911},null,null,{"$f":"BW108","v":0},{"$f":"BX108","v":64.452678350923691},26,"چرخیده","(1 → b3)",{"$f":"S267-S269+0.8*(W265-(S267-S269))","v":34.24152891569716},null,null,null,null,"اسم نقطه","مولفه افقی","مولفه عمودی",null,{"$f":"AC270","v":30.498970472393882},{"$f":"AD270","v":56.627575017602048},"c12",null,{"$f":"-M275-AK265","v":-12.184378931745089},{"$f":"N275","v":69.576701779050381},"b2  ..",null,{"$f":"CI117-AO274","v":12.791511787413299},{"$f":"CJ117-AO275","v":69.361627047628545},"22f",null,{"$f":"AN279+AO274","v":6.1110124614777632},{"$f":"AO279+AO275","v":78.268542073397697},"1n",null,{"$f":"AV266+0.65*(AV269-AV266)","v":13.938178775864671},{"$f":"AW266+0.2*(AW269-AW266)","v":35.507400021509646},"6n",null,null,null,null,null,{"$f":"BK230","v":6.3547237616727585},{"$f":"BL230","v":38.933901199837891},10,null,null,null,null,null,null,null,null,null,null,null,null,null,null,null,"ماکزیمم متغیر ورودی  ضریب طول",20,null,null,{"$f":"BZ240","v":10},{"$f":"IF(BE241=1,CA240,CA260)","v":41.56},"1 یا 2",null,{"$f":"-BZ267+CE227","v":-10},{"$f":"CA267","v":41.56},"1 یا 2",null,null,null,null,null,null,null,null,null,null,null,null,null,null,null,null,null,"زاویه s7",{"$f":"ATAN((DA250-DA251)/(DB250-DB251))","v":3.8046779630249876E-2},null,null,null,null,null,{"$f":"0+BI98","v":0},{"$f":"CY256+BI97","v":26.704280368316731},"m9",null,{"$f":"DI265","v":20.726274874999998},{"$f":"DJ265","v":41.78749836169122},"جلوm10",null,{"$f":"DE245","v":0},{"$f":"DF245","v":45.174999999999997},"s1",null,null,null,null,null,null,null,null,null,null,null,null,null,null,{"$f":"'متغیرها '!C408","v":1.1500000000000001},"p1",null,"مولفه افقی","مولفه عمودی","اسم نقطه ",null,{"$f":"EG242","v":30.219294263119153},{"$f":"EH242","v":26.741895563735973},"p16",null,{"$f":"-EK267+EP230","v":-30.219294263119153},{"$f":"EL267","v":26.741895563735973},"p16",null,null,null,null,null,null,null,null,null,null,null,null,null,null,null,{"$f":"FI250","v":15.91397769714632},{"$f":"BI115+FI248+EX250","v":76.072389999999928},"p1",null,{"$f":"FK231","v":0},{"$f":"FL231","v":64.572177258308471},"p21",null,{"$f":"-FK267+FP230","v":0},{"$f":"FL267","v":64.572177258308471},"p21",null,{"$f":"FS259+FS270","v":-3.6666074768866577},{"$f":"FT259+FS271","v":63.669876680370486},null,null,"yd'3",{"$f":"FX256-(FX264-FX255)*SIN(RADIANS(GE241))","v":47.566279565984544},null,null,null,null,null,{"$f":"GE256","v":0},{"$f":"GE257","v":60.930700649342384},"d9",null,null,null,null,null,null,null,null,null,null,null,null,null,null,null,null,null,null,null,null,null,null,null,null,null,null,null,"نقطه تقاطع","a16",{"$f":"(HK265-HK263+HJ263*((HK264-HK263)/(HJ264-HJ263+0.0001))-HJ265*((HK266-HK265)/(HJ266-HJ265+0.0001)))/(((HK264-HK263)/(HJ264-HJ263+0.0001))-((HK266-HK265)/(HJ266-HJ265+0.0001)))","v":5.9540935069533205},{"$f":"HK263+(HJ267-HJ263)*((HK264-HK263)/(HJ264-HJ263+0.0001))","v":57.116194047679542},null,null,{"$f":"HL289","v":10.647084015468156},{"$f":"HM289","v":61.368280118371707},"a35",null,null,null,null,null,{"$f":"HN240","v":7.3400475927238986},{"$f":"HO240+HI259","v":53.895325976728422},"a8",null,{"$f":"HN240","v":7.3400475927238986},{"$f":"HO240+HI259","v":53.895325976728422},"a8",null,{"$f":"-HN256+HH242","v":-7.3400475927238986},{"$f":"HO256","v":48},"a24",null,{"$f":"-HN240+HH242","v":-7.3400475927238986},{"$f":"HO240+HI259","v":53.895325976728422},"a8",null,null,14,{"$f":"IN257+IQ257*SIN(RADIANS(IM267)+IM259)","v":16.125506108505618},{"$f":"IO257+IQ257*COS(RADIANS(IM267)+IM259)","v":55.262675027600217},{"$f":"IF(IN258>IN267,ATAN((IO258-IO267)/(IN258-IN267)),ATAN((IO258-IO267)/(IN267-IN258)))","v":0.82445004176482228},{"$f":"IF(IN258>IN267,(IN258-IN267)/COS(IP267),(IN267-IN258)/COS(IP267))","v":2.6731266387550074},null,null,null,{"$f":"HR253","v":2.7158176093078419},{"$f":"HS253","v":56.154215835312066},"a59",null,null,null,null,null,null,null,{"$f":"IU269-IU270+IU251","v":9.7586747551045612},{"$f":"IV269","v":54.092531007411431},"e35",null,null,null,null,null,null,null,null,null,null,null,null,null,9.8752243704513827,58.037445975020276,"e24",null,{"$f":"-JE256+IY263","v":-9.8752243704513827},{"$f":"JF256","v":58.037445975020276},"e24",null,null,58,{"$f":"KE235+KH235*SIN(RADIANS(KD267)+KD237)","v":11.632634291309079},{"$f":"KF235+KH235*COS(RADIANS(KD267)+KD237)","v":61.441034491352418},{"$f":"IF(KE236>KE267,ATAN((KF236-KF267)/(KE236-KE267)),ATAN((KF236-KF267)/(KE267-KE236)))","v":-5.1818419779755568E-3},{"$f":"IF(KE236>KE267,(KE236-KE267)/COS(KG267),(KE267-KE236)/COS(KG267))","v":5.4520759537629004},null,null,{"$f":"'متغیرها '!C809","v":0},"j12",null,null,null,null,null,null,null,null,null,null,{"$f":"KW260+(1+KK262)*(KW264-KW263)","v":38.19735},{"$f":"KX265","v":8.6},"j'27",null,null,null,null,null,null,null,null,null,{"$f":"LE232","v":28.07555},{"$f":"LF232","v":4.3},{"$f":"LG232","v":"j101"},null,null,null,null,null,null,null,"به دست آوردن نقطه تقاطع دو خط (d''4b10) شیفت","مولفه افقی","مولفه عمودی",null,null,null,null,null,{"$f":"LX240+LX250","v":9.2136008823851192},{"$f":"LY240+LX251","v":56.776882030846174},"شیفتd4  b14'",null,{"$f":"-MA267+MF212","v":-9.2136008823851192},{"$f":"MB267","v":56.776882030846174},"شیفتd4  b14'",null,{"$f":"LX234+LX250","v":8.4757419810077348},{"$f":"LY234+LX251","v":57.959715252573439},"شیفتd4  b10'",null,{"$f":"-MI267+MN212","v":-8.4757419810077348},{"$f":"MJ267","v":57.959715252573439},"شیفتd4  b10'",null,{"$f":"LX228+LX250","v":8.1977541372831855},{"$f":"LY228+LX251","v":60.325770407261373},"شیفتd4  b6'",null,{"$f":"-MQ267+MV212","v":-8.1977541372831855},{"$f":"MR267","v":60.325770407261373},"شیفتd4  b6'",null,{"$f":"LX222+LX250","v":8.1836794428889696},{"$f":"LY222+LX251","v":62.980326921139579},"شیفتd4  b12'",null,{"$f":"-MY267+ND212","v":-8.1836794428889696},{"$f":"MZ267","v":62.980326921139579},"شیفتd4  b12'",null,{"$f":"LX216+LX250","v":8.2803473011702486},{"$f":"LY216+LX251","v":64.964545866364261},"شیفتd4  b16'",null,{"$f":"-NG267+NL212","v":-8.2803473011702486},{"$f":"NH267","v":64.964545866364261},"شیفتd4  b16'",null,null,null,null,null,null,null,{"$f":"NU258","v":-18},{"$f":"NV266","v":21.5},"w34",null,"h6",{"$f":"NZ266+NZ259+NZ260","v":-5.9},{"$f":"OA262","v":6.5}]
[null,null,null,null,null," یقه قایقی در  جلو پیراهن بدون ساسون سرشانه",null,null,null,null,null,null,null,null,null,null,null,null,{"$f":"W266+AX99","v":13.421655651576168},{"$f":"AX98+W265","v":68.907491556890534},"b2  ..",null,{"$f":"-S273+Y264","v":-13.421655651576168},{"$f":"T273","v":68.907491556890534},"b2  ..",null,null,"c5",{"$f":"BD152+0.5*(AC271-BD152)","v":23.272500163356764},{"$f":"BE152+0.3*(AD271-BE152)","v":36.12692030054771},null,null,null,null,null,{"$f":"-M281-AK265","v":0},{"$f":"N281","v":64.452678350923691},26,null,null,{"$f":"1*(SQRT(POWER(AR141-AR146,2)+POWER(AS141-AS146,2))+SQRT(POWER(AR146-AR144,2)+POWER(AS146-AS144,2))+SQRT(POWER(AR144-AR142,2)+POWER(AS144-AS142,2)))","v":6.5403710562321749},"نصف نوار گرد پشت گردن",null,{"$f":"AN267+AO274","v":12.791511787413299},{"$f":"AO267+AO275","v":69.361627047628545},"22f",null,{"$f":"AV268+AW260+AW262","v":15.626560374932703},{"$f":"AW268+AW261+AW263","v":37.810704595562243},"7n",null,{"$f":"-AV273+BA270","v":-15.626560374932703},37.810704595562243,"7n",null,null,null,null,null,null,null,null,null,null,null,null,null,null,null,null,null,null,null,null,null,null,null,{"$f":"IF(BE241=1,KM313,BZ260)+BX256","v":10},{"$f":"IF(BE241=1,KN313,CA260)+BX257","v":28.775000000000006},"b7",null,{"$f":"-BZ273+CE227","v":-10},{"$f":"CA273","v":28.775000000000006},"b7",null,null,null,null,null,null,null,null,null,null,null,null,null,null,null,null,null,null,"فاق پشت","s'14",{"$f":"O580-0.33*DA274+0.4*'متغیرها '!C417*'متغیرها '!C418*DA274","v":25.280464451196067},null,null,null,{"$f":"BS140+BT130","v":15.72423796361949},{"$f":"BT140","v":53.762849053936286},"شیفت 14",null,{"$f":"DI275","v":-1.7741777000000001},{"$f":"DJ275","v":34.614957686568182},"m9'",null,null,"خط جلو مایو متصل به دکلته",null,null,null,null,null,null,null,null,null,null,null,null,null,null,null,null,null,null,{"$f":"EC252-(ED252-EH273)*TAN(RADIANS(ED270))","v":14.451828737436418},{"$f":"ED249","v":33.775000000000006},"p8",null,{"$f":"EG246","v":20.962040000000002},{"$f":"EH246","v":26.741895563735973},"p21",null,{"$f":"-EK273+EP230","v":-20.962040000000002},{"$f":"EL273","v":26.741895563735973},"p21",null,null,null,null,null,null,null,null,null,null,null,null,null,null,null,null,null,null,null,null,null,null,null,null,null,null,null,{"$f":"C103","v":0},"شیفت عمودی پشت",null,null,null,null,null,null,null,null,null,{"$f":"GD265+FS272","v":6.1127198803362468},{"$f":"GE265+FS273","v":72.733678063661415},"30d",null,null,null,null,null,null,null,null,null,null,null,null,null,null,null,null,null,null,null,null,null,null,null,null,null,null,null,"نقطه دوم از خط دوم","a35",{"$f":"HN267","v":10.647084015468156},{"$f":"HO267","v":61.368280118371707},null,null,null,null,null,null,null,null,null,null,{"$f":"HR238","v":7.0289247946101785},59.831902614204793,"a43",null,{"$f":"HN258","v":7.3400475927238986},{"$f":"HO258+HI259","v":53.895325976728422},"a26",null,{"$f":"-HN260+HH242-HH241","v":-10.56488380923145},{"$f":"HS257","v":54.092531007411431},"a28",null,{"$f":"-HR238+HH242","v":-7.0289247946101785},{"$f":"HS238","v":59.831902614204793},"a43",null,null,26,{"$f":"IN257+IQ257*SIN(RADIANS(IM273)+IM259)","v":15.627326633000187},{"$f":"IO257+IQ257*COS(RADIANS(IM273)+IM259)","v":53.533658650418069},{"$f":"IF(IN258>IN273,ATAN((IO258-IO273)/(IN258-IN273)),ATAN((IO258-IO273)/(IN273-IN258)))","v":1.2281675667886083},{"$f":"IF(IN258>IN273,(IN258-IN273)/COS(IP273),(IN273-IN258)/COS(IP273))","v":3.9193722584676216},null,null,null,null,null,null,null,null,null,null,null,null,null,{"$f":"IU264","v":0},{"$f":"JF272","v":50.106594796197626},"e41",null,null,null,null,null,null,null,null,null,null,null,null,null,2.9126554697849283,59.799838563923004,"e28",null,{"$f":"-JE260+IY263","v":-2.9126554697849283},{"$f":"JF260","v":59.799838563923004},"e28",null,null,"e23",{"$f":"KE235+KH235*SIN(KF271+KD237)","v":12.099278350065147},{"$f":"KF235+KH235*COS(KF271+KD237)","v":60.999259349878777},"راس سوم ",null,null,null,{"$f":"IF(KK261<1,KK261*I107,IF(KK261<2,I107+(KK261-1)*(I108-I107),IF(KK261<3,I108+(KK261-2)*(I105-I108),I105+(KK261-3)*(I127-I126))))","v":4.3},"j06",null,null,null,null,null,null,null,null,null,null,null,null,null,null,null,null,null,null,null,null,null,null,{"$f":"LE231","v":0},{"$f":"LF231","v":4.3},{"$f":"LG231","v":"j100"},null,null,null,null,null,null,null,null,null,null,null,"m7",{"$f":"IF(LX259=1,LX227,IF(LX259=2,LX226,IF(LX259=3,LX228,IF(LX259=4,LX229,LX213))))","v":5.7460800000000001},{"$f":"IF(LX259=1,LY227,IF(LX259=2,LY226,IF(LX259=3,LY228,IF(LX259=4,LY229,LY213))))","v":59.295893583072562},null,{"$f":"LX247","v":7.1825999999999999},{"$f":"LY247","v":59.816656485349888},40,null,{"$f":"-MA273+MF212","v":-7.1825999999999999},{"$f":"MB273","v":59.816656485349888},40,null,{"$f":"LX247","v":7.1825999999999999},{"$f":"LY247","v":59.816656485349888},40,null,{"$f":"-MI273+MN212","v":-7.1825999999999999},{"$f":"MJ273","v":59.816656485349888},40,null,{"$f":"LX247","v":7.1825999999999999},{"$f":"LY247","v":59.816656485349888},40,null,{"$f":"-MQ273+MV212","v":-7.1825999999999999},{"$f":"MR273","v":59.816656485349888},40,null,{"$f":"LX247","v":7.1825999999999999},{"$f":"LY247","v":59.816656485349888},40,null,{"$f":"-MY273+ND212","v":-7.1825999999999999},{"$f":"MZ273","v":59.816656485349888},40,null,{"$f":"LX247","v":7.1825999999999999},{"$f":"LY247","v":59.816656485349888},40,null,{"$f":"-NG273+NL212","v":-7.1825999999999999},{"$f":"NH273","v":59.816656485349888},40,null,null,null,null,null,null,null,{"$f":"NU272+0.5*(NU271-NU272)","v":-15.666666666666666},{"$f":"NV271","v":24.5},"w40",null,"h12",{"$f":"NZ270","v":-4.625},{"$f":"OA272","v":5.9749999999999996}]
[null,null,null,null,null,{"$f":"AZ140","v":6.1110124614777632},{"$f":"BA140","v":71.728171017165522},25,null,"(b3 → b4)",{"$f":"0.75*K276","v":9.138284198808817},null,{"$f":"M275","v":12.184378931745089},{"$f":"N275","v":69.576701779050381},"b2  ..",null,null,null,{"$f":"W270+AX99","v":5.3686622606304679},{"$f":"AX98+W269","v":65.209996595938051},"b6  ..",null,{"$f":"-S278+Y264","v":-5.3686622606304679},{"$f":"T278","v":65.209996595938051},"b6  ..",null,null,"اسم نقطه","مولفه افقی","مولفه عمودی",null,{"$f":"AC281","v":29.147726787248455},{"$f":"AD281","v":58.008555637856382},"c8",null,{"$f":"-AF278+AK275","v":-29.147726787248455},{"$f":"AG278","v":58.008555637856382},"c8",null,"مولفه افقی","مولفه عمودی","اسم نقطه ",null,{"$f":"AN282+AO274","v":20.478801107224793},{"$f":"AO282+AO275","v":48.114410908776158},"4n",null,null,null,null,null,null,null,null,null,null,null,null,null,null,null,null,{"$f":"BI230+BI231+BI235+BI237+BI241+BK290","v":9.8145361206425346},{"$f":"BI232+BI236+BI238+BI242+BE248","v":39.267590581296353},16,null,{"$f":"-BK278-BN226","v":-9.8145361206425346},39.267590581296353,16,null,null,"نقطه ورودی بالا",26,{"$f":"BZ247","v":18.061845414340787},{"$f":"CA247","v":51.273596144436411},null,null,{"$f":"IF(BE241=1,KM325,BZ260)+BX256","v":7},{"$f":"IF(BE241=1,KN325,CA260)+BX257","v":41.56},"b20",null,{"$f":"-BZ278+CE227","v":-7},{"$f":"CA278","v":41.56},"b20",null,null,null,null,null,null,null,null,null,null,null,null,null,null,null,null,null,null,null,null,null,null,null,null,{"$f":"DE245","v":0},{"$f":"DF245","v":45.174999999999997},"s1",null,{"$f":"DM267","v":0},{"$f":"DN267","v":45.174999999999997},"s1",null,{"$f":"FG315","v":0},{"$f":"FH316","v":58.3},"d'3",null,null,null,null,null,{"$f":"BW108","v":0},{"$f":"BX108","v":64.452678350923691},"26 چرخیده",null,null,null,null,null,null,null,null,null,null,null,null,null,null,null,null,null,null,null,null,null,null,null,null,null,null,null,null,null,null,null,null,null,null,null,null,null,null,null,null,null,null,null,null,null,null,null,null,null,null,null,null,null,null,null,null,null,null,null,null,null,null,null,null,null,null,null,null,null,null,null,null,null,null,null,null,null,null,null,null,null,null,null,{"$f":"GV254","v":-15.231006481809745},{"$f":"GW254","v":52.484999895408563},"dp'4",null,null,null,null,null,null,null,null,null,null,null,null,null,null,null,null,10.56488380923145,54.802469117870267,"a46",null,{"$f":"HN239","v":15.402138133992775},{"$f":"HO239+HI259","v":57.839426590388619},"a7",null,{"$f":"-HN265+HH242-HH241","v":-14.142797158748841},{"$f":"HO265","v":56.438341901875226},"a33",null,{"$f":"-HR241+HH242","v":-10.56488380923145},{"$f":"HS241","v":54.802469117870267},"a46",null,null,36,{"$f":"IN257+IQ257*SIN(RADIANS(IM278)+IM259)","v":14.944496505182467},{"$f":"IO257+IQ257*COS(RADIANS(IM278)+IM259)","v":52.197752046314562},{"$f":"IF(IN258>IN278,ATAN((IO258-IO278)/(IN258-IN278)),ATAN((IO258-IO278)/(IN278-IN258)))","v":1.4453632130753382},{"$f":"IF(IN258>IN278,(IN258-IN278)/COS(IP278),(IN278-IN258)/COS(IP278))","v":5.067275038609397},null,null,null,null,{"$f":"JI261-IY253+JC258","v":11.087511703230843},{"$f":"JJ261","v":55.101761445298557},"e63-b16+f22","نقطه قبل از چرخش",{"$f":"IF(IW278>IW277,IF(IV278>IV277,IV277+SQRT(POWER(IV278-IV277,2)+POWER(IW278-IW277,2))*COS(ATAN((IW278-IW277)/(IV278-IV277+0.000123))+IW275),IV277-SQRT(POWER(IV278-IV277,2)+POWER(IW278-IW277,2))*COS(ATAN((IW278-IW277)/(IV277-IV278+0.000123))-IW275)),IF(IV278>IV277,IV277+SQRT(POWER(IV278-IV277,2)+POWER(IW278-IW277,2))*COS(ATAN((IW277-IW278)/(IV278-IV277+0.000123))-IW275),IV277-SQRT(POWER(IV278-IV277,2)+POWER(IW278-IW277,2))*COS(ATAN((IW277-IW278)/(IV277-IV278+0.000123))+IW275)))","v":10.574581101072322},{"$f":"IF(IW278>IW277,IF(IV278>IV277,IW277+SQRT(POWER(IV278-IV277,2)+POWER(IW278-IW277,2))*SIN(ATAN((IW278-IW277)/(IV278-IV277+0.000123))+IW275),IW277+SQRT(POWER(IV278-IV277,2)+POWER(IW278-IW277,2))*SIN(ATAN((IW278-IW277)/(IV277-IV278+0.000123))-IW275)),IF(IV278>IV277,IW277-SQRT(POWER(IV278-IV277,2)+POWER(IW278-IW277,2))*SIN(ATAN((IW277-IW278)/(IV278-IV277+0.000123))-IW275),IW277-SQRT(POWER(IV278-IV277,2)+POWER(IW278-IW277,2))*SIN(ATAN((IW277-IW278)/(IV277-IV278+0.000123))+IW275)))","v":54.768667787305382},"e59",null,null,{"$f":"JE277+(JE271-JE277)*(0.5+IZ238)","v":11.360068446345643},{"$f":"JF271+(JF277-JF271)*(0.5+IZ238)","v":54.445176396880029},"e46",null,{"$f":"JI262-IY253+JC258","v":13.800917031408414},{"$f":"JJ262","v":56.983942949860399},"e64-b16+f22","نقطه قبل از چرخش",{"$f":"IF(JJ278>JJ277,IF(JI278>JI277,JI277+SQRT(POWER(JI278-JI277,2)+POWER(JJ278-JJ277,2))*COS(ATAN((JJ278-JJ277)/(JI278-JI277+0.000123))+JJ275),JI277-SQRT(POWER(JI278-JI277,2)+POWER(JJ278-JJ277,2))*COS(ATAN((JJ278-JJ277)/(JI277-JI278+0.000123))-JJ275)),IF(JI278>JI277,JI277+SQRT(POWER(JI278-JI277,2)+POWER(JJ278-JJ277,2))*COS(ATAN((JJ277-JJ278)/(JI278-JI277+0.000123))-JJ275),JI277-SQRT(POWER(JI278-JI277,2)+POWER(JJ278-JJ277,2))*COS(ATAN((JJ277-JJ278)/(JI277-JI278+0.000123))+JJ275)))","v":13.469727985529911},{"$f":"IF(JJ278>JJ277,IF(JI278>JI277,JJ277+SQRT(POWER(JI278-JI277,2)+POWER(JJ278-JJ277,2))*SIN(ATAN((JJ278-JJ277)/(JI278-JI277+0.000123))+JJ275),JJ277+SQRT(POWER(JI278-JI277,2)+POWER(JJ278-JJ277,2))*SIN(ATAN((JJ278-JJ277)/(JI277-JI278+0.000123))-JJ275)),IF(JI278>JI277,JJ277-SQRT(POWER(JI278-JI277,2)+POWER(JJ278-JJ277,2))*SIN(ATAN((JJ277-JJ278)/(JI278-JI277+0.000123))-JJ275),JJ277-SQRT(POWER(JI278-JI277,2)+POWER(JJ278-JJ277,2))*SIN(ATAN((JJ277-JJ278)/(JI277-JI278+0.000123))+JJ275)))","v":56.357043550847969},"e47",null,null,null,null,null,{"$f":"JE255","v":12.099278350065147},{"$f":"JF255","v":60.999259349878777},"e23",null,{"$f":"-JE255+IY263","v":-12.099278350065147},{"$f":"JF255","v":60.999259349878777},"e23",null,null,null,null,null,null,null,null,null,{"$f":"SQRT(POWER((KK243-KK246),2)+POWER((KL243-KL246),2))+SQRT(POWER((KK246-KK245),2)+POWER((KL246-KL245),2))+SQRT(POWER((KK245-KK244),2)+POWER((KL245-KL244),2))","v":16.376386275661581},"j17",null,null,{"$f":"KK291","v":0},{"$f":"KL291","v":4.3},"j29",null,{"$f":"-KO278+KR231","v":0},{"$f":"KP278","v":4.3},"j''29",null,null,null,null,null,{"$f":"KW269","v":0},{"$f":"KX269","v":4.3},"j'29",null,null,null,null,null,null,null,null,null,null,null,null,null,null,"نقطه دوم از خط دوم",40,{"$f":"BO164","v":7.1825999999999999},{"$f":"BP164","v":59.816656485349888},null,"m12",{"$f":"LX277+LX262*(2*LX248+LX249)","v":2.0732699999999999},{"$f":"LY277","v":38.993516450988778},null,{"$f":"LX239","v":3.23217},{"$f":"LY239","v":57.160315288588642},"d5  b14",null,{"$f":"-MA278+MF212","v":-3.23217},{"$f":"MB278","v":57.160315288588642},"d5  b14",null,{"$f":"LX233","v":3.23217},{"$f":"LY233","v":57.601943945769428},"d5  b10",null,{"$f":"-MI278+MN212","v":-3.23217},{"$f":"MJ278","v":57.601943945769428},"d5  b10",null,{"$f":"LX227","v":3.23217},{"$f":"LY227","v":58.546120182261639},"d5  b6",null,{"$f":"-MQ278+MV212","v":-3.23217},{"$f":"MR278","v":58.546120182261639},"d5  b6",null,{"$f":"LX221","v":3.23217},{"$f":"LY221","v":59.596742582894016},"d5  b12",null,{"$f":"-MY278+ND212","v":-3.23217},{"$f":"MZ278","v":59.596742582894016},"d5  b12",null,{"$f":"LX215","v":3.23217},{"$f":"LY215","v":60.344089014407814},"d5  b16",null,{"$f":"-NG278+NL212","v":-3.23217},{"$f":"NH278","v":60.344089014407814},"d5  b16",null,null,null,null,null,null,null,{"$f":"NU277-NV215/NU234","v":-5},{"$f":"NV277","v":27.5},"w45",null,null,null,"فلش به سمت چپ",null,null,{"$f":"OA278","v":"فلش به سمت چپ"}]
[null,null,null,null,null,null,null,null,null,null,null,null,{"$f":"F277","v":0},{"$f":"G277","v":64.452678350923691},{"$f":"H277","v":26},null,null,null,null,null,null,null,null,null,null,null,null,"c8",{"$f":"AC280+(AC270-AC269)","v":29.147726787248455},{"$f":"AD280-(AD269-AD270)","v":58.008555637856382},null,{"$f":"BO176","v":0},{"$f":"BP176","v":33.775000000000006},47,null,{"$f":"-AF281+AK275","v":0},{"$f":"AG281","v":33.775000000000006},47,null,{"$f":"AN270","v":0},{"$f":"AO270+'متغیرها '!C423*25*COS(RADIANS(55))","v":48.114410908776158},"3n",null,{"$f":"AR266","v":6.1110124614777632},{"$f":"AS266","v":71.728171017165522},{"$f":"AT266","v":25},null,null,null,null,null,null,null,null,null,null,null,null,null,null,null,null,null,null,null,null,null,null,null,null,null,"متغیر ورودی طول","a21",{"$f":"'متغیرها '!C768","v":16},null,null,null,{"$f":"IF(BE241=1,KM326,BZ260)+BX256","v":7},{"$f":"IF(BE241=1,KN326,CA260)+BX257","v":33.672000000000004},"b21",null,{"$f":"-BZ281+CE227","v":-7},{"$f":"CA281","v":33.672000000000004},"b21",null,null,null,null,null,null,null,null,null,null,null,null,null,null,null,null,null,null,null,null,null,null,null,null,{"$f":"FD231","v":0},{"$f":"FE231","v":41.160362606618179},"p26",null,{"$f":"DE245","v":0},{"$f":"DF245","v":45.174999999999997},"s1",null,{"$f":"DE247","v":0},{"$f":"DF247","v":45.174999999999997},"s'1",null,null,null,null,null,{"$f":"-DM274+DN289","v":0},{"$f":"DN274","v":45.174999999999997},"s1",null,null,null,null,null,null,null,null,null,null,null,null,null,null,null,null,null,null,null,null,null,null,null,null,null,null,null,null,null,null,null,null,null,null,null,null,null,null,null,null,null,null,null,null,null,null,null,null,null,null,null,null,null,null,null,null,null,null,null,null,null,null,null,null,null,null,null,null,null,null,null,null,null,null,null,null,null,null,null,null,null,null,null,{"$f":"GN232","v":6.1110124614777632},{"$f":"GO232","v":71.728171017165522},25,null,null,"مولفه افقی","مولفه عمودی","اسم نقطه ",null,"نقطه  خروجی چرخیده",null,null,null,null,null,null,null,null,null,null,null,null,null,{"$f":"HN262","v":11.371092863358337},{"$f":"HO262+HI259","v":58.184856647597151},"a30",null,null,null,null,null,null,null,null,null,null,42,{"$f":"IN257+IQ257*SIN(RADIANS(IM281)+IM259)","v":14.426811726676387},{"$f":"IO257+IQ257*COS(RADIANS(IM281)+IM259)","v":51.460428705445047},{"$f":"IF(IN258>IN281,ATAN((IO258-IO281)/(IN258-IN281)),ATAN((IO258-IO281)/(IN281-IN258)))","v":1.5506328516716015},{"$f":"IF(IN258>IN281,(IN258-IN281)/COS(IP281),(IN281-IN258)/COS(IP281))","v":5.7659597985106199},null,null,null,null,"رادیان",{"$f":"JC260","v":9.4204721237298783E-2},"زاویه چرخش","چرخش مخالف عقربه های ساعت",null,null,null,null,null,{"$f":"JE280+0.45*(JE282-JE280)","v":3.8467292934767428},{"$f":"JF280+0.85*(JF282-JF280)","v":59.619083076158432},"e49",null,"رادیان",{"$f":"-JC257","v":-0.10467191248588753},"زاویه چرخش","چرخش مخالف عقربه های ساعت",null,null,null,null,null,null,null,null,{"$f":"JE264","v":0.51927301486578803},{"$f":"JF264","v":53.26310569389571},"e32",null,{"$f":"-JE264+IY263","v":-0.51927301486578803},{"$f":"JF264","v":53.26310569389571},"e32",null,null,null,null,null,null,null,null,null,"مولفه افقی","مولفه عمودی","اسم نقطه ",null,null,null,null,null,null,null,null,null,null,null,null,null,null,null,null,null,null,null,null,null,null,null,null,null,null,null,null,null,null,null,null,null,null,null,"m15",{"$f":"LX272+LX278-LX277","v":7.81935},{"$f":"LY272","v":61.163666739752337},null,{"$f":"LX256","v":17.337604411925593},{"$f":"LY256","v":57.418508030044734},"شیفتb8 تغییر به b14",null,{"$f":"-MA281+MF212","v":-17.337604411925593},{"$f":"MB281","v":57.418508030044734},"شیفتb8 تغییر به b14",null,{"$f":"LX255","v":13.648309905038673},{"$f":"LY255","v":59.407086074851811},"شیفتb10",null,{"$f":"-MI281+MN212","v":-13.648309905038673},{"$f":"MJ281","v":59.407086074851811},"شیفتb10",null,{"$f":"LX254","v":12.25837068641593},62.844684190582925,"شیفتb6",null,{"$f":"-MQ281+MV212","v":-12.25837068641593},{"$f":"MR281","v":62.844684190582925},"شیفتb6",null,{"$f":"LX253","v":12.187997214444849},66.778600976575078,"شیفتb12",null,{"$f":"-MY281+ND212","v":-12.187997214444849},{"$f":"MZ281","v":66.778600976575078},"شیفتb12",null,{"$f":"LX252","v":12.671336505851244},70.056616311464765,"شیفتb16",null,{"$f":"-NG281+NL212","v":-12.671336505851244},{"$f":"NH281","v":70.056616311464765},"شیفتb16",null,null,null,null,null,null,null,{"$f":"NU279+0.5*(NU280-NU279)","v":-1.5},{"$f":"NV279","v":29},"w48",null,"w7",{"$f":"NU242","v":-16},{"$f":"NV242","v":6.5}]
[null,null,null,null,null,null,{"$f":"'متغیرها '!B245","v":0.34045293430977369},"زاویه سرشانه با افق",null,"(b5 →b6)",{"$f":"0.4*K286","v":4.8744345402414293},null,{"$f":"K290+BI98","v":4.8744345402414293},{"$f":"BI97+K289","v":70.826891981115295},"b6",null,{"$f":"-M290+R284","v":-4.8744345402414293},{"$f":"N290","v":70.826891981115295},"b6",null,null,null,null,null,null,null,null,null,"یقه مربعی جلو",null,null,null,null,null,null,null,null,null,null,null,null,null,null,{"$f":"AN270+AO272+AO274","v":0},{"$f":"AO270+AO275","v":33.775000000000006},1,null,null,null,null,null,null,null,null,null,null,null,null,null,null,null,null,{"$f":"BD232+BE250","v":0},{"$f":"0+BE248","v":38.775000000000006},1,null,{"$f":"-BK290-BN226","v":0},{"$f":"BL290","v":38.775000000000006},1,null,null,null,null,null,null,null,null,{"$f":"IF(BE241=1,KM329,BZ260)+BX256","v":6},{"$f":"IF(BE241=1,KN329,CA260)+BX257","v":28.775000000000006},"b24",null,{"$f":"-BZ290+CE227","v":-6},{"$f":"CA290","v":28.775000000000006},"b24",null,null,null,null,null,null,null,null,null,null,null,null,null,null,null,null,null,null,null,null,null,null,null,null,null,null,null,null,{"$f":"DE247","v":0},{"$f":"DF247","v":45.174999999999997},"s'1",null,null,null,null,null,null,null,null,null,{"$f":"-DM283+DN289","v":0},{"$f":"DN283","v":45.174999999999997},"s'1",null,null,null,null,null,null,null,null,null,null,null,null,null,null,null,null,null,null,null,null,null,null,null,null,null,null,null,null,null,null,null,null,null,null,null,null,null,null,null,null,null,null,null,null,null,null,null,null,null,null,null,null,null,null,null,null,null,null,null,null,null,null,null,null,null,null,null,null,null,null,null,null,null,null,null,null,null,null,null,null,null,null,null,null,null,null,null,null,null,null,null,null,null,null,null,null,null,null,null,null,null,null,null,null,null,null,null,null,null,null,null,null,null,null,null,null,null,null,null,60,{"$f":"IN257+IQ257*SIN(RADIANS(IM290)+IM259)","v":12.455028412626032},{"$f":"IO257+IQ257*COS(RADIANS(IM290)+IM259)","v":49.626416180448935},{"$f":"IF(IN258>IN290,ATAN((IO258-IO290)/(IN258-IN290)),ATAN((IO258-IO290)/(IN290-IN258)))","v":1.3312960157246347},{"$f":"IF(IN258>IN290,(IN258-IN290)/COS(IP290),(IN290-IN258)/COS(IP290))","v":7.8220684282612174},null,null,null,null,{"$f":"JE245","v":13.443297217909931},{"$f":"JF245","v":56.421078774033354},"e13","نقطه قبل از چرخش",{"$f":"IF(IW290>IW289,IF(IV290>IV289,IV289+SQRT(POWER(IV290-IV289,2)+POWER(IW290-IW289,2))*COS(ATAN((IW290-IW289)/(IV290-IV289+0.000123))+IW287),IV289-SQRT(POWER(IV290-IV289,2)+POWER(IW290-IW289,2))*COS(ATAN((IW290-IW289)/(IV289-IV290+0.000123))-IW287)),IF(IV290>IV289,IV289+SQRT(POWER(IV290-IV289,2)+POWER(IW290-IW289,2))*COS(ATAN((IW289-IW290)/(IV290-IV289+0.000123))-IW287),IV289-SQRT(POWER(IV290-IV289,2)+POWER(IW290-IW289,2))*COS(ATAN((IW289-IW290)/(IV289-IV290+0.000123))+IW287)))","v":13.178671435180974},{"$f":"IF(IW290>IW289,IF(IV290>IV289,IW289+SQRT(POWER(IV290-IV289,2)+POWER(IW290-IW289,2))*SIN(ATAN((IW290-IW289)/(IV290-IV289+0.000123))+IW287),IW289+SQRT(POWER(IV290-IV289,2)+POWER(IW290-IW289,2))*SIN(ATAN((IW290-IW289)/(IV289-IV290+0.000123))-IW287)),IF(IV290>IV289,IW289-SQRT(POWER(IV290-IV289,2)+POWER(IW290-IW289,2))*SIN(ATAN((IW289-IW290)/(IV290-IV289+0.000123))-IW287),IW289-SQRT(POWER(IV290-IV289,2)+POWER(IW290-IW289,2))*SIN(ATAN((IW289-IW290)/(IV289-IV290+0.000123))+IW287)))","v":56.983942949860399},"e64",null,null,{"$f":"IU255+0.3*(JE282-IU255)","v":6.4632165721186103},{"$f":"JN252+0.8*(JF282-JN252)","v":59.762283281827926},"e57",null,{"$f":"JE250","v":6.1806315355537365},{"$f":"JF250","v":61.412782821741715},"e18","نقطه قبل از چرخش",{"$f":"IF(JJ290>JJ289,IF(JI290>JI289,JI289+SQRT(POWER(JI290-JI289,2)+POWER(JJ290-JJ289,2))*COS(ATAN((JJ290-JJ289)/(JI290-JI289+0.000123))+JJ287),JI289-SQRT(POWER(JI290-JI289,2)+POWER(JJ290-JJ289,2))*COS(ATAN((JJ290-JJ289)/(JI289-JI290+0.000123))-JJ287)),IF(JI290>JI289,JI289+SQRT(POWER(JI290-JI289,2)+POWER(JJ290-JJ289,2))*COS(ATAN((JJ289-JJ290)/(JI290-JI289+0.000123))-JJ287),JI289-SQRT(POWER(JI290-JI289,2)+POWER(JJ290-JJ289,2))*COS(ATAN((JJ289-JJ290)/(JI289-JI290+0.000123))+JJ287)))","v":9.0864708681076358},{"$f":"IF(JJ290>JJ289,IF(JI290>JI289,JJ289+SQRT(POWER(JI290-JI289,2)+POWER(JJ290-JJ289,2))*SIN(ATAN((JJ290-JJ289)/(JI290-JI289+0.000123))+JJ287),JJ289+SQRT(POWER(JI290-JI289,2)+POWER(JJ290-JJ289,2))*SIN(ATAN((JJ290-JJ289)/(JI289-JI290+0.000123))-JJ287)),IF(JI290>JI289,JJ289-SQRT(POWER(JI290-JI289,2)+POWER(JJ290-JJ289,2))*SIN(ATAN((JJ289-JJ290)/(JI290-JI289+0.000123))-JJ287),JJ289-SQRT(POWER(JI290-JI289,2)+POWER(JJ290-JJ289,2))*SIN(ATAN((JJ289-JJ290)/(JI289-JI290+0.000123))+JJ287)))","v":64.17897442608421},"e21","نقطه اول از خط اول","f5",{"$f":"JC236","v":13.443228565216938},{"$f":"JC237","v":49.555809474672422},null,9.7586747551045612,54.092531007411431,"e35",null,{"$f":"-JE267+IY263","v":-9.7586747551045612},{"$f":"JF267","v":54.092531007411431},"e35",null,null,null,null,null,null,null,null,null,{"$f":"KK289","v":28.07555},{"$f":"KK273+KL248+KK266","v":4.3},"j28",null,null,null,null,null,null,null,null,null,null,null,null,null,null,null,null,null,null,null,null,null,null,null,null,null,null,{"$f":"BK170","v":0},{"$f":"BL170","v":36.700000000000003},48,null,{"$f":"-LN290+LS282","v":0},{"$f":"LO290","v":36.700000000000003},48,null,null,{"$f":"IF(LP227<BL167,LO227,BK167)","v":0},{"$f":"IF(LP227<BL167,LP227,BL167)","v":58},"45 یا d3",null,{"$f":"-LW290+MB286","v":0},{"$f":"LX290","v":58},"45 یا d3",null,null,null,null,null,null,null,null,null,null,null,null,null,null,null,null,null,null,null,null,null,null,null,null,null,null,null,null,null,null,null,null,null,null,null,null,null,null,null,null,null,null,null,{"$f":"NU288","v":-18},{"$f":"NV288+NU233","v":35},"w57",null,"نقاط خروجی","مولفه افقی","مولفه عمودی",{"$f":"NZ291","v":-18},{"$f":"OA291","v":8},{"$f":"NY291","v":"g2"}]
[null,null,null,null,null,"مولفه افقی","مولفه عمودی","اسم نقطه ",null,"(1 → b1)",{"$f":"G296-G299+'متغیرها '!C382*H167*SIN(G300)","v":36.525026415008305},null,{"$f":"K296+BI98","v":12.074998542930107},{"$f":"BI97+K295","v":70.300026415008318},"b2",null,{"$f":"-M295+R294","v":-12.074998542930107},{"$f":"N295","v":70.300026415008318},"b2",null,null,null,null,null,null,null,null,null,null,null,null,null,"رسم یقه مربعی پشت",null,null,"قرینه",{"$f":"2*C102","v":0},null,null,null,null,null,null,null,null,null,null,null,null,null,null,null,null,null,null,null,null,null,null,null,null,null,null,null,null,null,null,null,null,null,null,null,null,null,null,null,null,null,null,null,null,null,null,null,null,null,null,null,null,null,null,null,null,null,null,null,null,null,null,null,null,null,null,null,null,null,null,null,null,null,null,null,null,null,null,null,null,null,null,null,null,null,null,null,null,null,null,null,null,null,null,null,null,null,null,null,null,null,null,null,null,null,null,null,null,null,null,null,null,null,null,null,null,null,null,null,null,null,null,null,null,null,null,null,null,null,null,null,null,null,null,null,null,null,null,null,null,null,null,null,null,null,null,null,null,null,null,null,null,null,null,null,null,null,null,null,null,null,null,null,null,null,null,null,null,null,null,null,null,null,null,null,null,null,null,{"$f":"HN265","v":14.142797158748841},{"$f":"HO265","v":56.438341901875226},"a33","نقطه قبل از چرخش",{"$f":"IF(HI295>HI294,IF(HH295>HH294,HH294+SQRT(POWER(HH295-HH294,2)+POWER(HI295-HI294,2))*COS(ATAN((HI295-HI294)/(HH295-HH294+0.000123))+HI292),HH294-SQRT(POWER(HH295-HH294,2)+POWER(HI295-HI294,2))*COS(ATAN((HI295-HI294)/(HH294-HH295+0.000123))-HI292)),IF(HH295>HH294,HH294+SQRT(POWER(HH295-HH294,2)+POWER(HI295-HI294,2))*COS(ATAN((HI294-HI295)/(HH295-HH294+0.000123))-HI292),HH294-SQRT(POWER(HH295-HH294,2)+POWER(HI295-HI294,2))*COS(ATAN((HI294-HI295)/(HH294-HH295+0.000123))+HI292)))","v":14.31055781756675},{"$f":"IF(HI295>HI294,IF(HH295>HH294,HI294+SQRT(POWER(HH295-HH294,2)+POWER(HI295-HI294,2))*SIN(ATAN((HI295-HI294)/(HH295-HH294+0.000123))+HI292),HI294+SQRT(POWER(HH295-HH294,2)+POWER(HI295-HI294,2))*SIN(ATAN((HI295-HI294)/(HH294-HH295+0.000123))-HI292)),IF(HH295>HH294,HI294-SQRT(POWER(HH295-HH294,2)+POWER(HI295-HI294,2))*SIN(ATAN((HI294-HI295)/(HH295-HH294+0.000123))-HI292),HI294-SQRT(POWER(HH295-HH294,2)+POWER(HI295-HI294,2))*SIN(ATAN((HI294-HI295)/(HH294-HH295+0.000123))+HI292)))","v":57.22521642284255},"a34",null,null,null,null,null,null,null,null,null,null,null,null,null,null,null,null,null,null,null,null,null,null,null,null,"a52",{"$f":"IN257+IQ257*SIN(IO293+IM259)","v":16.253316448774541},{"$f":"IO257+IQ257*COS(IO293+IM259)","v":57.057485585653438},null,null,null,null,null,null,{"$f":"IU246","v":7.3400475927238986},{"$f":"IV246","v":53.895325976728422},"a45","نقطه مرکزی چرخش","مولفه افقی","مولفه عمودی","اسم نقطه ",null,null,null,null,null,null,{"$f":"JE246","v":15.477622222714617},{"$f":"JF246","v":54.555809474672422},"e14","نقطه مرکزی چرخش","مولفه افقی","مولفه عمودی","اسم نقطه ",null,null,null,null,null,null,null,null,null,null,null,null,null,{"$f":"JI264-IY253+JC258","v":10.715353170860208},{"$f":"JJ264","v":59.481252693317508},"e66-b16+f22","نقطه قبل از چرخش",{"$f":"IF(KD295>KD294,IF(KC295>KC294,KC294+SQRT(POWER(KC295-KC294,2)+POWER(KD295-KD294,2))*COS(ATAN((KD295-KD294)/(KC295-KC294+0.000123))+KD292),KC294-SQRT(POWER(KC295-KC294,2)+POWER(KD295-KD294,2))*COS(ATAN((KD295-KD294)/(KC294-KC295+0.000123))-KD292)),IF(KC295>KC294,KC294+SQRT(POWER(KC295-KC294,2)+POWER(KD295-KD294,2))*COS(ATAN((KD294-KD295)/(KC295-KC294+0.000123))-KD292),KC294-SQRT(POWER(KC295-KC294,2)+POWER(KD295-KD294,2))*COS(ATAN((KD294-KD295)/(KC294-KC295+0.000123))+KD292)))","v":10.66194939666927},{"$f":"IF(KD295>KD294,IF(KC295>KC294,KD294+SQRT(POWER(KC295-KC294,2)+POWER(KD295-KD294,2))*SIN(ATAN((KD295-KD294)/(KC295-KC294+0.000123))+KD292),KD294+SQRT(POWER(KC295-KC294,2)+POWER(KD295-KD294,2))*SIN(ATAN((KD295-KD294)/(KC294-KC295+0.000123))-KD292)),IF(KC295>KC294,KD294-SQRT(POWER(KC295-KC294,2)+POWER(KD295-KD294,2))*SIN(ATAN((KD294-KD295)/(KC295-KC294+0.000123))-KD292),KD294-SQRT(POWER(KC295-KC294,2)+POWER(KD295-KD294,2))*SIN(ATAN((KD294-KD295)/(KC294-KC295+0.000123))+KD292)))","v":59.163036966672642},"e58",null,null,null,null,null,null,null,null,null,null,null,null,null,null,null,null,null,null,null,null,null,null,null,null,null,null,null,null,null,null,null,null,null,null,null,null,null,null,null,null,null,null,null,null,null,null,null,null,null,null,null,null,null,null,null,null,null,null,null,null,null,null,null,null,null,null,null,null,null,null,null,null,null,null,null,null,null,null,null,null,null,null,null,null,null,null,null,null,null,null,null,null,null,"g7",{"$f":"NZ292+OA287*SIN(RADIANS(40)-ATAN((NZ292-NZ293)/(OA292-OA293)))","v":-18.350411300821154},{"$f":"OA292-OA287*COS(RADIANS(40)-ATAN((NZ292-NZ293)/(OA292-OA293)))","v":7.043048625304019},{"$f":"NZ292","v":-18.75},{"$f":"OA292","v":7.25},{"$f":"NY292","v":"g4"}]
[null,null,null,null,null,null,{"$f":"ATAN((G298-G296)/(F296-F298))","v":0.38753365698017261},"زاویه سرشانه با افق",null,"(b5 →b6)",{"$f":"0.4*K296","v":4.8299994171720435},null,{"$f":"K300+BI98","v":4.8299994171720435},{"$f":"BI97+K299","v":70.756346378480799},"b6",null,{"$f":"-M300+R294","v":-4.8299994171720435},{"$f":"N300","v":70.756346378480799},"b6",null,null,null,null,null,null,null,null,"sq3",{"$f":"AC298-(AD298-AD299)*TAN(RADIANS(AC288))","v":5.6913334791037968},{"$f":"AD299","v":70.908453032971636},null,{"$f":"AC299","v":0},{"$f":"AD299","v":70.908453032971636},{"$f":"AE299","v":24},null,{"$f":"-AF300+AK295","v":0},{"$f":"AG300","v":70.908453032971636},24,null,null,null,null,null,null,null,null,null,null,null,null,null,null,null,null,null,null,null,null,null,null,null,null,null,null,null,null,null,null,null,null,null,null,null,null,null,null,null,null,null,null,null,null,null,null,null,null,null,null,null,null,null,null,null,null,null,null,null,null,null,null,null,null,null,null,null,null,null,null,null,null,null,null,null,null,null,null,null,null,null,null,null,null,null,null,null,null,null,null,null,null,null,null,null,null,null,null,null,null,null,null,null,null,null,null,null,null,null,null,null,null,null,null,null,null,null,null,null,null,null,null,null,null,null,null,null,null,null,null,null,null,null,null,null,null,null,null,null,null,null,null,null,null,null,null,null,null,null,null,null,null,null,null,null,null,null,null,null,null,null,null,null,null,null,null,null,null,null,null,null,null,null,null,null,null,null,null,null,null,null,null,null,null,null,null,null,null,null,null,null,null,null,null,null,null,null,null,null,null,null,null,null,null,null,null,null,null,null,null,null,null,null,null,null,null,null,null,null,null,null,null,null,null,null,null,null,null,null,null,null,null,null,null,null,null,null,null,null,null,null,null,null,null,null,null,null,null,null,null,null,null,null,null,null,null,null,null,null,null,null,null,null,null,null,null,null,null,null,null,null,null,null,null,null,null,null,null,null,null,null,null,null,null,null,null,null,null,null,null,null,null,null,null,null,null,null,null,null,null,null,null,null,null,null,null,null,null,null,null,null,null,null,null,null,null,null,null,null,null,null,null,null,null,null,null,null,null,null,null,null,null,null,null,null,null,null,null,null,null,null,null,null,null,null,null,null,null,null,null,null,null,"فلش به سمت راست",null,null,{"$f":"OA300","v":"فلش به سمت راست"}]
[null,null,null,null,null,"نقاط  ورودی",null,null,"تکه پشت وسط","نقاط  خروجی",null,null,null,null,null,null,null,"نقاط  ورودی",null,null,null,"محاسبات",null,null,null,null," طراحی جلو دامن ترک با کمر پهن یکسره بعد از بسته شدن ساسون ها",null,null,null,null,null,null,null,"رسم کمریکسره جلو",null,null,null,"رسم قرینه کمریکسره جلو",null,null,null,"نقاط  ورودی",null,null,null,"محاسبات",null,null,null,null," طراحی پشت دامن ترک با کمر پهن یکسره بعد از بسته شدن ساسون ها",null,null,null,null,null,null,null,"رسم برای پرینت کمریکسره پشت",null,null,null,"رسم پیلی در طراحی دامن ترک",null,null,null," اوزمان و گوده و پیلی و ترک گشاد در خط ترک جلو دامن کامل - 2 ",null,null,null,null,null,null,null,null,null,null,null," اوزمان و گوده و پیلی و ترک گشاد در خط ترک جلو دامن - 2 ",null,null,null,null,null,null,null," اوزمان و گوده و ترک گشاد در قرینه خط ترک جلو دامن - 2",null,null,null,null,null,null,null,null,null,null,null,"اوزمان و گوده و پیلی و ترک گشاد در خط مرکزی جلو دامن  - 1 ",null,null,null,null,null,null,null,null,null,null,null," گوده و پیلی و ترک گشاد در خط پهلو پشت دامن - 3",null,null,null,null,null,null,null,null,null,null,null,null,null,null,null," اوزمان و گوده و پیلی و ترک گشاد در خط ترک پشت دامن - 5",null,null,null,null,null,null,null,null,null,null,null," اوزمان و گوده و پیلی و ترک گشاد در قرینه خط ترک پشت دامن - 5",null,null,null,null,null,null,null,null,null,null,null,"37'",null,null,null,null,"نقطه اتصال به آستین",null,null,null,null,null,"دکلته با ساسون سرشانه در پیراهن",null,null,null,"دکلته با ساسون به تفکیک",null,null,null,null,null,null,null,null,null,null,null,"قرینه دکلته با ساسون به تفکیک",null,null,null,{"$f":"HY101","v":0},null,null,null,null,"نقطه اتصال به آستین",null,null,null,null,null,"طراحی دکلته جلو",null,null,null,"طراحی دکلته روی الگو جلو",null,null,null,null,null,null,null,null,null,null,null,null,null,null,null,null,null,null,null,null,null,null,null,null,null,null,null,null,null,null,null,null,null,null,null,null,"طراحی یقه دکلته و رگلاژ درپشت پیراهن",null,null,null,null,null,null,null,null,null,null,null,null,null,null,null,"نقاط  ورودی جلو دامن تنگ",null,null,null,null,"نقاط خروجی جلو دامن تنگ",null,null,null,"نقاط خروجی قرینه جلو دامن تنگ",null,null,null,"طراحی پیلی روی دامن تنگ",null,null,null,"نقاط خروجی طراحی پیلی",null,null,null,null,null,null,null,null,null,null,null,"جادکمه  جلو دامن",null,null,null," قرینه جادکمه جلو دامن ",null,null,null,null," انحنا لبه دامن روی خط مرکزی جلو",null,null,null,"قرینه انحنا لبه دامن روی خط مرکزی جلو",null,"نقاط  ورودی پشت دامن تنگ",null,null,null,null,"نقاط خروجی پشت دامن تنگ",null,null,null,"نقاط خروجی قرینه پشت دامن تنگ",null,null,null,"طراحی پیلی",null,null,null,"نقاط خروجی طراحی پیلی",null,null,null,null,null,null,null,null,null,null,null,"پهلو و زیپ پشت دامن تنگ",null,null,null,"قرینه پهلو و زیپ پشت دامن تنگ",null,null,null,"نقاط  ورودی ",null,null,null,null,"نقاط خروجی جلو دامن لنگی دراپه",null,null,null,null,null,null,null,null,null,null,null,"نقاط  ورودی ",null,null,null,null,"نقاط خروجی ",null,null,null,"نقاط خروجی جلو پیراهن کلوش با حلقه آستین بدون ساسون",null,null,null,null,null,null,null,"نقاط  ورودی ",null,null,null,null,"نقاط خروجی ",null,null,null,"نقاط خروجی پشت پیراهن کلوش با حلقه آستین بدون ساسون"]
[null,null,null,null,null,{"$f":"BO164","v":7.1825999999999999},{"$f":"BP164","v":59.816656485349888},40,null,{"$f":"F312+IF(G319>0,I317*TAN(K317),-I317*TAN(K316))","v":6.7025113373536502},{"$f":"G312-I317","v":46.56},"d2",null,{"$f":"J309","v":0},{"$f":"K309","v":46.56},{"$f":"L309","v":"d1"},null,{"$f":"CB323","v":6.990047592723899},{"$f":"CC323","v":33.775000000000006},"جلو وسطe21",null,"sf2",null,{"$f":"X310","v":6.990047592723899},{"$f":"Y308","v":33.775000000000006},null,{"$f":"X317","v":0},{"$f":"Y317","v":48},"su4",null,{"$f":"X312","v":6.990047592723899},{"$f":"Y312","v":33.775000000000006},"sf9",null,{"$f":"AA351","v":17.340047592723899},{"$f":"AB351","v":150},"su6",null,{"$f":"AA347","v":10},{"$f":"AB347","v":150},"s'u5",null,{"$f":"DX324","v":7.7325999999999997},{"$f":"DY324","v":33.775000000000006},"پشت وسطe21",null,"sf2",null,{"$f":"AW310","v":7.7325999999999997},{"$f":"AX308","v":33.775000000000006},null,{"$f":"AW317","v":0},{"$f":"AX317","v":48},"su4",null,{"$f":"AW312","v":7.7325999999999997},{"$f":"AX312","v":33.775000000000006},"sf9",null,{"$f":"BD355","v":26.532599999999999},{"$f":"BE355","v":90},"su2",null,{"$f":"-AW330+2*AW308","v":-1},{"$f":"AX330","v":33.775000000000006},"s'p13",null,null,0,"e20",null,{"$f":"BP310+0.3*(BT310-BP310)","v":-6.990047592723899},{"$f":"BQ310+0.12*(BU310-BQ310)","v":33.775000000000006},"e23",null,{"$f":"BT310","v":-6.990047592723899},{"$f":"BU310","v":33.775000000000006},{"$f":"BV310","v":"e21"},null,null,0,"e20",null,{"$f":"CB323","v":6.990047592723899},{"$f":"CC323","v":33.775000000000006},{"$f":"CD323","v":"e21"},null,null,0,"e20",null,"(47'→e22)",{"$f":"SQRT(POWER((CO309),2)-POWER((CO310),2))","v":4.0549999999999926},null,{"$f":"CJ323","v":7.6900475927238983},{"$f":"CK323","v":33.775000000000006},{"$f":"CL323","v":"e21"},null,null,null,0,"e10",null,{"$f":"CV310+0.3*(CZ310-CV310)","v":0},{"$f":"CW310+0.12*(DA310-CW310)","v":33.775000000000006},"e23",null,{"$f":"CZ310","v":0},{"$f":"DA310","v":33.775000000000006},{"$f":"DB310","v":"e21"},null,null,0,"e30",null,{"$f":"DH310+0.3*(DL310-DH310)","v":17.998675000000002},{"$f":"DI310+0.12*(DM310-DI310)","v":33.816895563735976},"e23",null,{"$f":"DL315","v":22.998675000000002},{"$f":"DM315","v":22.243169358978722},{"$f":"DN315","v":"e26"},null,{"$f":"-DP311+DU307","v":-22.998675000000002},22.243169358978722,"e26",null,null,0,"e50",null,{"$f":"DX324","v":7.7325999999999997},{"$f":"DY324","v":33.775000000000006},{"$f":"DZ324","v":"e21"},null,{"$f":"-EB311+EG307","v":-7.7325999999999997},33.775000000000006,"e21",null,null,0,"e50",null,{"$f":"EJ325","v":6.6326000000000001},{"$f":"EK325","v":33.775000000000006},{"$f":"EL325","v":"e21"},null,{"$f":"-EN311+ES307","v":-6.6326000000000001},33.775000000000006,"e21",null,{"$f":"-CQ311-HY101","v":-7.6900475927238983},{"$f":"CR311","v":33.775000000000006},"e21",null,"خط اول","نقطه اول","d3",{"$f":"FA372","v":0},{"$f":"FB372","v":58.3},null,null,null,null,null,null,{"$f":"FD367+FA376","v":7.8838680049951293},{"$f":"FE367+FA377","v":64.557422573572524},"g7",null,{"$f":"FD351+FA376","v":7.5340330656093863},{"$f":"FE351+FA377","v":60.532077078367159},"g7",null,{"$f":"-FG312-GA306","v":0},{"$f":"FH312","v":33.775000000000006},1,null,{"$f":"-FK311-GA306","v":-7.8838680049951293},{"$f":"FL311","v":64.557422573572524},"g7",null,{"$f":"-FO311-GA306","v":-7.5340330656093863},{"$f":"FP311","v":60.532077078367159},"g7",null,"خط اول","نقطه اول","d3",{"$f":"GM355","v":0},{"$f":"GN355","v":58.3},null,null,{"$f":"GM355","v":0},{"$f":"GN355","v":58.3},"d3",null,{"$f":"GL311+GP354","v":0},{"$f":"GM311+GP355","v":58.3},"d3",null,null,null,null,null,null,null,null,null,null,null,null,null,null,null,null,null,null,null,null,null,null,null,null,null,null,null,null,null,"b6",{"$f":"CE134-HW320","v":12.25837068641593},{"$f":"CF134-HW321","v":62.844684190582925},null,"نقطه دوم از خط دوم",40,{"$f":"HW317","v":7.1825999999999999},{"$f":"HX317","v":59.816656485349888},null,{"$f":"IB361-HW341+HW319","v":7.9050907881405816},{"$f":"IC361","v":64.598470478245375},"شیفتd4  b16''",null,{"$f":"IB368-HW341+HW319","v":7.5942292579604107},{"$f":"IC368","v":62.541029692468598},"شیفتd4  b12''",null,{"$f":"IB312-HW341+HW319","v":7.2929054009503114},{"$f":"IC312","v":57.811362590721238},"شیفتd4  b10''",null,{"$f":"J354","v":14.737774999999999},{"$f":"K354","v":48.343380736880853},"d3",null,{"$f":"IF((IQ310-IQ309)>(IQ313-IQ312),0,(IQ313-IQ312-IQ310+IQ309))+IQ311-IR347","v":14.572583422017283},{"$f":"IR311-IR348+IQ316-IQ317","v":48},"a5",null,{"$f":"-IU311+IR325","v":-14.572583422017283},48,"a'5",null,{"$f":"IU320","v":0},{"$f":"IV320","v":33.775000000000006},"a14",null,{"$f":"JG309-(JG308-JG310)","v":-14.037775},{"$f":"JH309","v":33.775000000000006},"c'60",null,null,null,null,null,null,null,null,null,{"$f":"IU320","v":0},{"$f":"IV320","v":33.775000000000006},"a14",null,{"$f":"IY320","v":0},{"$f":"IZ320","v":33.775000000000006},"a'14",null,11.230220000000001,33.817325000000004,"5n'",null,{"$f":"-KA311+IR325","v":-11.230220000000001},33.817325000000004,"5n'",null,{"$f":"J323","v":15.598675},{"$f":"K323","v":48.04189556373597},"d3",null,{"$f":"IF((KI310-KI309)>(KI313-KI312),0,(KI313-KI312-KI310+KI309))+KI311-KJ327","v":16.698675000000001},{"$f":"KJ311-KJ328+IQ316-IQ318-KJ322","v":48},"b5",null,{"$f":"-KM311+KJ323+KJ324+KJ334","v":-31.698675000000001},48,"b'5",null,{"$f":"KM312","v":19.098675},{"$f":"KN312","v":36.700000000000003},"b6",null,{"$f":"KY310","v":-27.730681831323174},{"$f":"KZ309","v":33.775000000000006},"c'53",null,null,null,null,null,null,null,null,null,{"$f":"KM357","v":19.098675},{"$f":"KN357","v":36.700000000000003},"b62",null,{"$f":"KQ357","v":-34.098675},{"$f":"KR357","v":36.700000000000003},"b'6",null,null,7.2574518037325406,45.6,"a4",null,{"$f":"LT313+(LU313-LY311)*((LT314-LT313)/(LU313-LU314))","v":14.229757510467742},{"$f":"LU313-(LU329-1)*(LU313-LU314)/39","v":34.825000000000003},"an11",null,{"$f":"LT310","v":7.2574518037325406},{"$f":"LU310","v":37.83},"a3",null,null,null,null,null,null,{"$f":"CI117","v":12.791511787413299},69.361627047628545,"22f",null,null,null,null,null,{"$f":"MO352","v":13.024329038811981},{"$f":"MP352","v":70.240931775984606},"c22",null,{"$f":"-MS311+ML327","v":-13.024329038811981},{"$f":"MT311","v":70.240931775984606},"c22",null,null,{"$f":"CQ120","v":12.793219206271782},70.367134094124438,"18f",null,null,null,null,null,{"$f":"NF352","v":12.956630032638721},{"$f":"NG352","v":71.022741955857938},"c22",null,{"$f":"-NJ311+NG326","v":-12.956630032638721},{"$f":"NK311","v":71.022741955857938},"c22",null,null,null,null,null,null,null,null,"w4",{"$f":"NU239","v":2},{"$f":"NV239","v":8},{"$f":"NZ316","v":2.5249999999999999},{"$f":"OA316","v":9.2899999999999991},{"$f":"NY316","v":"g6"}]
[null,null,null,null,null,{"$f":"BO167","v":6.5325999999999995},{"$f":"BP167","v":48},34,null,null,null,null,null,{"$f":"J311","v":6.7025113373536502},{"$f":"K311","v":46.56},{"$f":"L311","v":"d2"},null,{"$f":"AZ166","v":7.3400475927238986},48,39,null,"sf9",null,{"$f":"R311","v":6.990047592723899},{"$f":"S311","v":33.775000000000006},null,{"$f":"-X319+2*X308","v":0},{"$f":"Y319","v":48},"s'u5",null,{"$f":"X311","v":6.990047592723899},{"$f":"Y311","v":33.775000000000006},"sf2",null,null,null,null,null,null,null,null,null,{"$f":"BO186","v":6.5325999999999995},{"$f":"BP186","v":48},34,null,"sf9",null,{"$f":"AQ311","v":7.7325999999999997},{"$f":"AR311","v":33.775000000000006},null,{"$f":"-AW319+2*AW308","v":0},{"$f":"AX319","v":48},"s'u5",null,{"$f":"AW311","v":7.7325999999999997},{"$f":"AX311","v":33.775000000000006},"sf2",null,null,null,null,null,null,null,null,null,null,{"$f":"'متغیرها '!U54-'متغیرها '!U55","v":24.6},"(c-d)",null,{"$f":"BP310+0.6*(BT310-BP310)","v":-6.990047592723899},{"$f":"BQ310+0.4*(BU310-BQ310)","v":33.775000000000006},"e24",null,{"$f":"BT312","v":-6.990047592723899},{"$f":"BU312","v":33.775000000000006},{"$f":"BV312","v":"e24"},null,null,{"$f":"'متغیرها '!U54-'متغیرها '!U55","v":24.6},"(c-d)",null,{"$f":"CB325","v":6.990047592723899},{"$f":"CC325","v":33.775000000000006},{"$f":"CD325","v":"e24"},null,null,{"$f":"'متغیرها '!U54-'متغیرها '!U55","v":24.6},"(c-d)",null,null,"گوده",null,{"$f":"CJ325","v":7.6900475927238983},{"$f":"CK325","v":33.775000000000006},{"$f":"CL325","v":"e24"},null,null,null,{"$f":"'متغیرها '!U54-'متغیرها '!U55","v":24.6},"(c-d)",null,{"$f":"CV310+0.6*(CZ310-CV310)","v":0},{"$f":"CW310+0.4*(DA310-CW310)","v":33.775000000000006},"e24",null,{"$f":"CZ312","v":0},{"$f":"DA312","v":33.775000000000006},{"$f":"DB312","v":"e24"},null,null,{"$f":"'متغیرها '!U54-'متغیرها '!U55","v":24.6},"(c-d)",null,{"$f":"DH310+0.6*(DL310-DH310)","v":17.998675000000002},{"$f":"DI310+0.4*(DM310-DI310)","v":33.816895563735976},"e24",null,{"$f":"DL317","v":21.498675000000002},{"$f":"DM317","v":28.030032461357351},{"$f":"DN317","v":"e28"},null,{"$f":"-DP312+DU307","v":-21.498675000000002},28.030032461357351,"e28",null,null,{"$f":"'متغیرها '!U54-'متغیرها '!U55","v":24.6},"(c-d)",null,{"$f":"DX326","v":7.7325999999999997},{"$f":"DY326","v":33.775000000000006},{"$f":"DZ326","v":"e24"},null,{"$f":"-EB312+EG307","v":-7.7325999999999997},33.775000000000006,"e24",null,null,{"$f":"'متغیرها '!U54-'متغیرها '!U55","v":24.6},"(c-d)",null,{"$f":"EJ327","v":6.6326000000000001},{"$f":"EK327","v":33.775000000000006},{"$f":"EL327","v":"e24"},null,{"$f":"-EN312+ES307","v":-6.6326000000000001},33.775000000000006,"e24",null,{"$f":"-CQ312-HY101","v":-7.6900475927238983},{"$f":"CR312","v":33.775000000000006},"e24",null,null,"نقطه دوم",{"$f":"EZ308","v":"b10"},{"$f":"FA308","v":12.000404363498989},{"$f":"FB308","v":58.565702422540063},null,null,{"$f":"AZ106","v":0},{"$f":"BA106","v":33.775000000000006},1,null,{"$f":"FD368+FA376","v":3.9419340024975646},{"$f":"FE368+FA377","v":61.42871128678626},"g8",null,{"$f":"FD352+FA376","v":3.7670165328046932},{"$f":"FE352+FA377","v":59.416038539183575},"g8",null,{"$f":"-FG313-GA306","v":0},{"$f":"FH313","v":33.775000000000006},"1'",null,{"$f":"-FK312-GA306","v":-3.9419340024975646},{"$f":"FL312","v":61.42871128678626},"g8",null,{"$f":"-FO312-GA306","v":-3.7670165328046932},{"$f":"FP312","v":59.416038539183575},"g8",null,null,"نقطه دوم",{"$f":"GE308","v":"b10"},{"$f":"GF308","v":11.939914947020203},{"$f":"GG308","v":59.094193509877798},null,null,null,null,"قرینه",null,null,null,"قرینه",null,null,null,null,null,null,null,null,null,null,null,null,null,null,null,null,null,null,null,null,null,null,null,null,null,null,null,null,null,"b10",{"$f":"CE133-HW320","v":13.648309905038673},{"$f":"CF133-HW321","v":59.407086074851811},null,"نقطه تقاطع"," شیفتd''4b10",{"$f":"(IC310-IC308+IB308*((IC309-IC308)/(IB309-IB308))-IB310*((IC311-IC310)/(IB311-IB310)))/(((IC309-IC308)/(IB309-IB308))-((IC311-IC310)/(IB311-IB310)))","v":7.2929054009503114},{"$f":"IC308+(IB312-IB308)*((IC309-IC308)/(IB309-IB308))","v":57.811362590721238},null,null,null,null,null,null,null,null,null,null,null,null,null,{"$f":"AZ176","v":6.990047592723899},{"$f":"BA176","v":37.83},"47'",null,{"$f":"IF((IQ314-IQ313+IQ312-IQ319)>(IU311-IU310+IU308-IU307),IQ314-IR347,IU311)","v":14.572583422017283},{"$f":"IR314-IR348","v":36.700000000000003},"a6",null,{"$f":"-IU312+IR325","v":-14.572583422017283},36.700000000000003,"a'6",null,null,null,null,null,{"$f":"JG308+JG308-JG310","v":-14.572583422017283},{"$f":"JH308","v":36.700000000000003},"c'67",null,{"$f":"IU326","v":0},{"$f":"IV326","v":42.24},"a40",null,{"$f":"IY326","v":0},{"$f":"IZ326","v":42.24},"a'40",null,null,null,null,null,null,null,null,null,{"$f":"IU315","v":14.037775},{"$f":"IV315","v":33.775000000000006},"a9",null,{"$f":"-KA312+IR325","v":-14.037775},33.775000000000006,"a9",null,{"$f":"BO187","v":7.7325999999999997},{"$f":"BP187","v":37.83},"38'",null,{"$f":"IF((KI314-KI313+KI312-KI318)>(KM311-KM310+KM308-KM307),KI314-KJ327,KM311)","v":19.098675},{"$f":"KJ314-KJ328-KJ322","v":36.700000000000003},"b6",null,{"$f":"-KM312+KJ323+KJ324+KJ334","v":-34.098675},36.700000000000003,"b'6",null,{"$f":"KM315","v":19.098675},{"$f":"KN315","v":33.775000000000006},"b9",null,{"$f":"KY308+KY308-KY310","v":-27.730681831323174},{"$f":"KZ308","v":47.28},"c'54",null,{"$f":"KM362","v":0},{"$f":"KN362","v":36.700000000000003},"b67",null,{"$f":"KQ339","v":-18.351255668676824},{"$f":"KR339","v":46.56},"b'44",null,{"$f":"KM355","v":19.098675},{"$f":"KN355","v":33.775000000000006},"b60",null,{"$f":"KQ355","v":-34.098675},{"$f":"KR355","v":33.775000000000006},"b'9",null,null,14.572583422017283,48,"a5",null,null,null,null,null,{"$f":"LT311","v":7.2574518037325406},{"$f":"LU311","v":45.6},"a4",null,{"$f":"LT310","v":7.2574518037325406},{"$f":"LU310","v":37.83},"a3",null,null,11.316157810070937,65.619354426295132,"24f",null,null,{"$f":"ATAN((ML308-ML309)/(MK309-MK308))","v":0.3404529343097728},"a5",null,null,null,null,null,null,null,null,null,null,12.207252153094696,65.733274023724533,"20f",null,null,{"$f":"ATAN((NC308-NC309)/(NB309-NB308))","v":0.36263427110381152},"a5",null,null,null,null,null,null,null,null,null,null,null,null,null,null,null,null,"نقاط خروجی","مولفه افقی","مولفه عمودی",{"$f":"NZ313","v":2},{"$f":"OA313","v":9.5},{"$f":"NY313","v":"g2"}]
[null,null,null,null,null,"u20",{"$f":"'متغیرها '!C346","v":0},null,{"$f":"G319*G314*0.01","v":1.44},"d2 d'2",{"$f":"ATAN((F313-F312)/(G312-G313+0.00001))","v":0.11745092004458274},"αd2",null,{"$f":"J321","v":7.6626886626463486},{"$f":"K321","v":46.56},{"$f":"L321","v":"dd2"},null,null,{"$f":"'متغیرها '!C55","v":0},"شیفت افقی",null,"su4",null,{"$f":"R321","v":0},{"$f":"S321","v":48},null,{"$f":"X321","v":7.2574518037325406},{"$f":"Y321","v":45.6},"sd5",null,{"$f":"-X315+2*X308","v":-14.037868038767582},{"$f":"Y315","v":37.83},"s'fp13",null,{"$f":"AA353","v":10},{"$f":"AB353","v":150},"su4",null,{"$f":"AA345","v":-4.7377749999999992},{"$f":"AB345","v":150},"s'u3",null,null,{"$f":"'متغیرها '!C56","v":0},"شیفت افقی",null,"su1",null,{"$f":"AW308","v":0},{"$f":"AR322","v":48},null,{"$f":"AW321","v":6.7025113373536502},{"$f":"AX321","v":46.56},"sd5",null,{"$f":"-AW315+2*AW308","v":-18.867573172828884},{"$f":"AX315","v":37.83},"s'fp13",null,{"$f":"BD358","v":26.702511337353648},{"$f":"BE358","v":88.56},"sd2",null,{"$f":"AW334","v":8.7325999999999997},{"$f":"AX334","v":33.775000000000006},"sp23",null,null,{"$f":"'متغیرها '!U60","v":36.700000000000003},"j",null,{"$f":"BT310+0.7*(BT315-BT310)","v":-6.990047592723899},{"$f":"BU310+0.5*(BU315-BU310)","v":26.950000000000003},"e28",null,-6.990047592723899,20.125,"e26",null,null,{"$f":"'متغیرها '!U60","v":36.700000000000003},"j",null,6.990047592723899,20.125,"e26",null,null,{"$f":"'متغیرها '!U60","v":36.700000000000003},"j",null,"(e25→e29)",{"$f":"SQRT(POWER((CO316),2)-POWER((CO315),2))","v":6.8250000000000028},null,7.6900475927238983,20.125,"e26",null,null,null,{"$f":"'متغیرها '!U60","v":36.700000000000003},"j",null,{"$f":"CZ310+0.7*(CZ315-CZ310)","v":0},{"$f":"DA310+0.5*(DA315-DA310)","v":26.950000000000003},"e28",null,0,20.125,"e26",null,null,{"$f":"'متغیرها '!U59","v":17.2},"h",null,{"$f":"DL310+0.7*(DL315-DL310)","v":21.498675000000002},{"$f":"DM310+0.5*(DM315-DM310)","v":28.030032461357351},"e28",null,{"$f":"DL322","v":17.998675000000002},{"$f":"DM322","v":26.950000000000003},{"$f":"DN322","v":"e215"},null,{"$f":"-DP317+DU307","v":-17.998675000000002},26.950000000000003,"e215",null,null,{"$f":"'متغیرها '!U60","v":36.700000000000003},"j",null,12.7326,22.304504870307149,"e26",null,{"$f":"-EB317+EG307","v":-12.7326},22.304504870307149,"e26",null,null,{"$f":"'متغیرها '!U59","v":17.2},"h",null,1.6326000000000001,22.304504870307149,"e26",null,{"$f":"-EN317+ES307","v":-1.6326000000000001},22.304504870307149,"e26",null,{"$f":"-CQ317-HY101","v":-7.6900475927238983},{"$f":"CR317","v":20.125},"e26",null,"(g1→ g5)",{"$f":"'متغیرها '!C354*FA308","v":0},null,"g5",{"$f":"FC315+FA317*SIN(FE374)","v":7.367247170938021},{"$f":"FD315+FA317*COS(FE374)","v":58.463119121779236},null,null,null,null,null,null,null,null,null,null,null,null,null,{"$f":"-FG318-GA306","v":0},{"$f":"FH318","v":58.3},"d3'",null,null,null,null,null,null,null,null,null,"(g1→ g5)",{"$f":"'متغیرها '!C354*GF308","v":0},null,"g5",{"$f":"GH315+GF317*SIN(GM363)","v":7.3935155212226622},{"$f":"GI315+GF317*COS(GM363)","v":58.791785918759935},null,null,null,null,null,null,null,null,null,null,null,null,null,null,null,null,null,null,null,null,null,null,null,null,null,null,null,null,null,null,null,null,null,null,null,null,null,40,{"$f":"BO164-HW320","v":7.1825999999999999},{"$f":"BP164-HW321","v":59.816656485349888},null,"نقطه اول از خط دوم"," یا  22",{"$f":"IF(IC315>IC318,HW316,HW315)","v":7.8325999999999993},{"$f":"IF(IC315>IC318,HX316,HX315)","v":48},null,null,null,null,null,null,null,null,null,null,null,null,null,{"$f":"I104","v":48},"شبیه ساز","e",null,{"$f":"IU314+0.55*(IU315-IU314)","v":11.183445400053179},{"$f":"IV314+0.4*(IV315-IV314)","v":33.775000000000006},"a11",null,{"$f":"-IU317+IR325","v":-11.183445400053179},33.775000000000006,"a'11",null,{"$f":"IU319","v":14.572583422017283},{"$f":"IV319","v":42.35},"a13",null,{"$f":"JG315-0.25*(IY338-IY340)","v":-10.915017612874912},{"$f":"JH315","v":46.8},"c'52",null,null,null,null,null,null,null,null,null,{"$f":"IU349","v":14.572583422017283},{"$f":"IV349","v":42.35},"a63",null,{"$f":"IY349","v":-14.572583422017283},{"$f":"IZ349","v":42.35},"a'13",null,null,null,null,null,null,null,null,null,{"$f":"BK170","v":0},{"$f":"BL170","v":36.700000000000003},48,null,{"$f":"KM314+0.55*(KM315-KM314)","v":14.495414625},{"$f":"KN314+0.4*(KN315-KN314)","v":33.775000000000006},"b11",null,{"$f":"-KM317+KJ323+KJ324+KJ334","v":-29.495414625000002},33.775000000000006,"b'11",null,{"$f":"KM324","v":16.698675000000001},{"$f":"KN324","v":48},"b28",null,{"$f":"KY315-0.25*(KQ342-KQ344)","v":-22.732599999999998},{"$f":"KZ315","v":37.83},"c'47",null,null,null,null,null,null,null,null,null,{"$f":"KM361","v":16.698675000000001},{"$f":"KN361","v":48},"b66",null,{"$f":"KQ361","v":-31.698675000000001},{"$f":"KR361","v":48},"b'28",null,null,14.572583422017283,38.96,"a26",null,null,null,null,null,{"$f":"LT312","v":14.572583422017283},{"$f":"LU312","v":48},"a5",null,null,null,null,null,null,{"$f":"CI111","v":16.82568796361949},{"$f":"CJ111","v":56.626619053936281},13,null,"a8",{"$f":"'متغیرها '!C501","v":18},null,null,15.505431229201236,58.54667863001778,"c18",null,{"$f":"-MS317+ML327","v":-15.505431229201236},58.54667863001778,"c18",null,null,{"$f":"CQ113","v":17.015427697146322},{"$f":"CR113","v":56.325133880791398},9,null,"a9",{"$f":"'متغیرها '!C504","v":20},null,null,16.650128300791803,58.698672015287563,"c18",null,{"$f":"-NJ317+NG326","v":-16.650128300791803},58.698672015287563,"c18",null,null,null,null,null,null,null,null,"g7",{"$f":"NZ314+OA309*SIN(RADIANS(40)-ATAN((NZ314-NZ315)/(OA314-OA315)))","v":2.8844194688684315},{"$f":"OA314-OA309*COS(RADIANS(40)-ATAN((NZ314-NZ315)/(OA314-OA315)))","v":8.3205452219509848},{"$f":"NZ314","v":2.75},{"$f":"OA314","v":8.75},{"$f":"NY314","v":"g4"}]
[null,null,null,null,null,{"$f":"BO191","v":6.6326000000000001},{"$f":"BP191","v":37.83},"38''",null,{"$f":"F324+ABS(I327)*TAN(IF(I327>0,K328,K329))","v":15.598675},{"$f":"G324+I327","v":48.04189556373597},"u3",null,{"$f":"-N309+O320","v":-6.5325999999999995},{"$f":"O309","v":48},"u2",null,{"$f":"J341","v":0},{"$f":"K341","v":48},"u5 ",null,"sd3",null,{"$f":"X321+R325-R328","v":14.572583422017281},{"$f":"Y314-S314+S325","v":48},null,{"$f":"X323","v":14.737774999999999},{"$f":"Y323","v":47.999999999999993},"su3",null,{"$f":"X312","v":6.990047592723899},{"$f":"Y312","v":33.775000000000006},"sf9",null,{"$f":"AA355","v":17.25745180373254},{"$f":"AB355","v":147.6},"sd5",null,{"$f":"AA344","v":2.7425481962674594},{"$f":"AB344","v":147.6},"s'd5",null,{"$f":"J308","v":0},{"$f":"K308","v":48},"u1",null,"sd3",null,{"$f":"AW321+AQ326-AQ329","v":14.638497674707299},{"$f":"AX314-AR314+AR326-AR320","v":48},null,{"$f":"AW323","v":14.298674999999999},{"$f":"AX323","v":48.000000000000007},"su3",null,{"$f":"AW312","v":7.7325999999999997},{"$f":"AX312","v":33.775000000000006},"sf9",null,{"$f":"BD354","v":34.298675000000003},{"$f":"BE354","v":90},"su3",null,{"$f":"-AW332+2*AW308","v":-8.7325999999999997},{"$f":"AX332","v":40.600000000000009},"s'p22",null,null,"اوزمان",null,null,{"$f":"BT314-2*BQ318*COS(BQ328)","v":-6.990047592723899},{"$f":"BU314-2*BQ318*SIN(BQ328)","v":26.950000000000003},"e215",null,{"$f":"BT310","v":-6.990047592723899},{"$f":"BU310","v":33.775000000000006},{"$f":"BV310","v":"e21"},null,null,null,"اوزمان",null,{"$f":"CB323","v":6.990047592723899},{"$f":"CC323","v":33.775000000000006},{"$f":"CD323","v":"e21"},null,null,null,"اوزمان",null,null,null,null,{"$f":"CJ323","v":7.6900475927238983},{"$f":"CK323","v":33.775000000000006},{"$f":"CL323","v":"e21"},null,null,null,"اوزمان",null,null,{"$f":"CZ314-2*CW318*COS(CW328)","v":0},{"$f":"DA314-2*CW318*SIN(CW328)","v":26.950000000000003},"e215",null,{"$f":"CZ310","v":0},{"$f":"DA310","v":33.775000000000006},{"$f":"DB310","v":"e21"},null,"محاسبات",null,null,null,{"$f":"DL314+2*DI319*COS(DI329)","v":17.998675000000002},{"$f":"DM314+2*DI319*SIN(DI329)","v":26.950000000000003},"e215",null,{"$f":"DL319","v":17.998675000000002},{"$f":"DM319","v":26.950000000000003},{"$f":"DN319","v":"e212"},null,{"$f":"-DP322+DU307","v":-17.998675000000002},26.950000000000003,"e212",null,"مولفه افقی","مولفه عمودی","اسم نقطه ",null,{"$f":"DX324","v":7.7325999999999997},{"$f":"DY324","v":33.775000000000006},{"$f":"DZ324","v":"e21"},null,{"$f":"-EB322+EG307","v":-7.7325999999999997},33.775000000000006,"e21",null,"نقاط  خروجی",null,null,null,{"$f":"EJ325","v":6.6326000000000001},{"$f":"EK325","v":33.775000000000006},{"$f":"EL325","v":"e21"},null,{"$f":"-EN322+ES307","v":-6.6326000000000001},33.775000000000006,"e21",null,{"$f":"-CQ322-HY101","v":-7.6900475927238983},{"$f":"CR322","v":33.775000000000006},"e21",null,null,"نقطه اتصال به آستین",null,null,null,null,null,{"$f":"AZ106","v":0},{"$f":"BA106","v":33.775000000000006},1,null,11.069121989515221,61.47342425802357,"شیفت b6 یا b'6g",null,{"$f":"FB108","v":11.069121989515221},{"$f":"FC108","v":61.47342425802357},"شیفت b6 یا b'6g",null,null,null,null,null,{"$f":"-FK322-HY101","v":-11.069121989515221},61.47342425802357,"شیفت b6 یا b'6g",null,{"$f":"-FK322-HY101","v":-11.069121989515221},{"$f":"FL322","v":61.47342425802357},"شیفت b6 یا b'6g",null,null,"نقطه اتصال به آستین",null,null,null,null,null,{"$f":"GM355","v":0},{"$f":"GN355","v":58.3},"d3",null,{"$f":"GL322+GP354","v":0},{"$f":"GM322+GP355","v":58.3},"d3",null,null,null,null,null,null,null,null,null,null,null,null,null,null,null,null,null,null,null,null,null,null,null,null,null,null,null,null,null,null,{"$f":"'متغیرها '!C56","v":0},"شیفت افقی",null,"نقطه اول از خط اول","d4b16",{"$f":"HW342","v":5.7460800000000001},{"$f":"HX342","v":62.492282617999088},null,{"$f":"HW335","v":0},{"$f":"HX335","v":38.993516450988778},"m'11",null,{"$f":"HW335","v":0},{"$f":"HX335","v":38.993516450988778},"m'11",null,{"$f":"HW335","v":0},{"$f":"HX335","v":38.993516450988778},"m'11",null,{"$f":"BD186","v":8.3948203334515075},{"$f":"BE186","v":33.775000000000006},"شیفت50",null,{"$f":"IX368","v":14.572583422017283},{"$f":"IY368","v":38.96},"a26",null,{"$f":"-IU322+IR325","v":-14.572583422017283},38.96,"a'26",null,null,null,null,null,{"$f":"IY309","v":-7.2574518037325406},{"$f":"IZ309","v":37.83},"d'47",null,{"$f":"IU330","v":3.6287259018662703},{"$f":"IV330","v":43.92},"a44",null,{"$f":"IY330","v":-3.6287259018662703},{"$f":"IZ330","v":43.92},"a'44",null,null,null,null,null,null,null,null,null,{"$f":"IU352","v":14.572583422017283},{"$f":"IV352","v":48},"a66",null,{"$f":"IY352","v":-14.572583422017283},{"$f":"IZ352","v":48},"a'28",null,"شیفت عمودی تکه پشت",{"$f":"C106","v":0},"b19",null,{"$f":"KL376","v":18.618675},{"$f":"KM376","v":38.96},"b26",null,{"$f":"-KM322+KJ323+KJ324+KJ334","v":-33.618674999999996},38.96,"b'26",null,null,null,"بالا کمر",null,{"$f":"KQ308+0.5*(KQ307-KQ308)","v":-18.351255668676824},{"$f":"KR308+0.5*(KR307-KR308)","v":46.56},"d'42",null,{"$f":"KM339","v":3.3512556686768251},{"$f":"KN339","v":46.56},"b44",null,{"$f":"KQ344","v":-22.732599999999998},{"$f":"KR344","v":37.83},"b'49",null,null,null,"بالا کمر پشت دامن تنگ",null,null,null,"قرینه بالا کمر پشت دامن تنگ",null,null,5.839714400000001,34.209085200000004,"6n'",null,null,null,null,null,{"$f":"LT319","v":14.572583422017283},{"$f":"LU319","v":48},"a28",null,{"$f":"LX310","v":5.3965667258524022},{"$f":"LY310","v":44.738461538461543},"an10",null,null,{"$f":"AZ184-ML326","v":11.584660540390265},{"$f":"BA184","v":33.878014221064262},"7''",null,null,null,null,null,{"$f":"MO359","v":18.621368577124624},{"$f":"MP359","v":55.388445250282246},"c14",null,{"$f":"-MS322+ML327","v":-18.621368577124624},{"$f":"MT322","v":55.388445250282246},"c14",null,null,{"$f":"BK183-NG324","v":11.285188733730093},{"$f":"BL183-NG325","v":33.786311802208715},"4''",null,null,null,null,null,{"$f":"NF359","v":18.965819318475894},{"$f":"NG359","v":54.915769489493826},"c14",null,{"$f":"-NJ322+NG326","v":-18.965819318475894},{"$f":"NK322","v":54.915769489493826},"c14",null,null,null,null,null,null,null,null,"طول باکس نوشته",{"$f":"0.3*NV223","v":2.0249999999999999},"h3",{"$f":"NZ334","v":-0.1791666666666667},{"$f":"OA334","v":9.5},{"$f":"NY334","v":"h8"}]
[null,null,null,null,null,"u20",{"$f":"'متغیرها '!C346","v":0},null,{"$f":"G330*G326*0.01","v":1.44},"d2 d'2",{"$f":"ATAN((F323-F324)/(G323-G324+0.00001))","v":5.8114019080922542E-2},"αu3",null,{"$f":"-N315+O320","v":-15.598675},{"$f":"O315","v":48.04189556373597},"u3",null,{"$f":"J352","v":7.4226433817152566},{"$f":"K352","v":45.6}," جلو پهلوd5",null,"sp11",null,{"$f":"X308","v":0},{"$f":"Y308+S332","v":40.600000000000009},null,{"$f":"-X322+2*X308","v":-14.572583422017281},{"$f":"Y322","v":48},"s'd3",null,{"$f":"-X310+2*X308","v":-6.990047592723899},{"$f":"Y310","v":37.83},"s'f11",null,{"$f":"AA348","v":24.745740073702624},{"$f":"AB348","v":150},"sfp16",null,{"$f":"AA349","v":-4.7457400737026241},{"$f":"AB349","v":150},"s'fp16",null,{"$f":"J311","v":6.7025113373536502},{"$f":"K311","v":46.56},"پشت وسطd2",null,"sp11",null,{"$f":"AW308","v":0},{"$f":"AX308+AR333","v":40.600000000000009},null,{"$f":"-AW322+2*AW308","v":-14.638497674707299},{"$f":"AX322","v":48},"s'd3",null,{"$f":"-AW310+2*AW308","v":-7.7325999999999997},{"$f":"AX310","v":37.83},"s'f11",null,{"$f":"BD356","v":20},{"$f":"BE356","v":90},"su1",null,null,null,null,null,"e210",{"$f":"ATAN((BT310-BP309)/(BQ309-BU310))","v":0},null,null,null,null,null,null,{"$f":"BT326","v":-6.990047592723899},{"$f":"BU326","v":33.775000000000006},{"$f":"BV326","v":"e216"},null,{"$f":"CB327+CE344","v":6.990047592723899},{"$f":"CC327-CE346","v":20.125},"e26",null,{"$f":"CB339","v":6.990047592723899},{"$f":"CC339","v":33.775000000000006},{"$f":"CD339","v":"e216"},null,{"$f":"CJ327-CO315","v":7.6900475927238983},{"$f":"CK327-CO317","v":20.125},"e26",null,null,null,null,null,null,"ترک گشاد",null,null,"e210",{"$f":"ATAN((CZ310-CV309)/(CW309-DA310))","v":0},null,null,null,null,null,null,{"$f":"CZ326","v":0},{"$f":"DA326","v":33.775000000000006},{"$f":"DB326","v":"e216"},null,"e01",{"$f":"IF(DI315<1,DI315*DI317,DI317+(DI315-1)*(DI318-DI317))+DI313+DI314","v":26.950000000000003},null,null,null,null,null,null,{"$f":"DL321","v":17.998675000000002},{"$f":"DM321","v":26.950000000000003},{"$f":"DN321","v":"e214"},null,{"$f":"-DP328+DU307","v":-17.998675000000002},26.950000000000003,"e214",null,{"$f":"DX309+(DY309-DZ347)*TAN(DZ348)","v":7.7325999999999997},{"$f":"DZ347","v":26.950000000000003},"e25",null,{"$f":"DX340","v":11.7326},{"$f":"DY340","v":33.775000000000006},{"$f":"DZ340","v":"e216"},null,{"$f":"-EB328+EG307","v":-11.7326},33.775000000000006,"e216",null,null,null,"گوده",null,{"$f":"EJ341","v":2.6326000000000001},{"$f":"EK341","v":33.775000000000006},{"$f":"EL341","v":"e216"},null,{"$f":"-EN328+ES307","v":-2.6326000000000001},33.775000000000006,"e216",null,"36'",null,null,null,null,"نقطه دوم",{"$f":"EZ324","v":"b12"},{"$f":"FA324","v":11.954995220574624},{"$f":"FB324","v":65.074462606118075},null,null,{"$f":"FG326","v":0},{"$f":"FH326","v":42.24},"d4",null,null,null,null,null,{"$f":"FO311","v":7.5340330656093863},{"$f":"FP311","v":60.532077078367159},{"$f":"FM311","v":"g7"},null,{"$f":"-FG329-GA306","v":0},{"$f":"FH329","v":42.24},"26''",null,null,null,null,null,{"$f":"GA311","v":-7.5340330656093863},{"$f":"GB311","v":60.532077078367159},"g7",null,null,"نقطه دوم",{"$f":"GE324","v":"b12"},{"$f":"GF324","v":11.154288497400689},{"$f":"GG324","v":65.555525586102462},null,null,null,null,null,null,null,null,null,null,null,null,null,null,null,null,null,null,null,null,null,null,null,null,null,null,null,null,null,null,null,null,null,null,null,null,null,null,"m8",{"$f":"LX274-HW320-HW341","v":5.7460800000000001},{"$f":"LY274-HW321","v":57.61735805153085},null,null,"به دست آوردن نقطه تقاطع دو خط (d''4b12)","مولفه افقی","مولفه عمودی",null,null,null,null,null,null,null,null,null,null,null,null,null,"a20",{"$f":"'متغیرها '!C767","v":0},"عرض (پهنا) زیپ در خط پهلو  (سانتیمتر)   ",null,{"$f":"IU307+0.5*(IU308-IU307)+IR334","v":3.6287259018662703},{"$f":"IV307+0.5*(IV308-IV307)","v":43.92},"a42",null,{"$f":"IY307+0.5*(IY308-IY307)+IR340","v":-3.6287259018662703},{"$f":"IZ307+0.5*(IZ308-IZ307)","v":43.92},"a'42",null,null,null,null,null,null,null,"پیلی 4",null,{"$f":"IU329","v":3.6287259018662703},{"$f":"IV329","v":33.775000000000006},"a43",null,{"$f":"IY329","v":-3.6287259018662703},{"$f":"IZ329","v":33.775000000000006},"a'43",null,null,null,null,null,null,null,null,null,{"$f":"IU350","v":14.572583422017283},{"$f":"IV350","v":38.96},"a64",null,{"$f":"IY350","v":-14.572583422017283},{"$f":"IZ350","v":38.96},"a'26",null,null,{"$f":"KI315","v":4.1895563735970157E-2},"b18",null,{"$f":"KM327-IR332*COS(KJ329)","v":-4},{"$f":"KN327+IR332*SIN(KJ329)","v":35.676250000000003},"b23",null,{"$f":"-KM328+KJ323+KJ324+KJ334","v":-11},35.676250000000003,"b'23",null,null,null,null,null,null,null,"پیلی 13",null,{"$f":"KM338","v":3.3512556686768251},{"$f":"KN338","v":33.775000000000006},"b43",null,{"$f":"KQ343","v":-22.732599999999998},{"$f":"KR343","v":33.775000000000006},"b'48",null,null,null,null,null,null,null,null,null,null,"n0",{"$f":"'متغیرها '!C813","v":3},null,null,null,null,null,null,{"$f":"LT317","v":14.572583422017283},{"$f":"LU317","v":38.96},"a26",null,{"$f":"IF(AND(LT308>LX309,LT308<LX310),LX372,LX371)","v":1.1253763643619994},{"$f":"IF(AND(LT308>LX309,LT308<LX310),LY372,LY371)","v":36.964433076671945},"g10 یا g1",null,null,"پروسیجر چرخش اول",null,null,null,null,null,"کامل شده",null,{"$f":"MO361","v":22.668012070947057},{"$f":"MP361","v":36.154424980194207},"c7",null,{"$f":"-MS328+ML327","v":-22.668012070947057},{"$f":"MT328","v":36.154424980194207},"c7",null,null,"پروسیجر چرخش اول",null,null,null,null,null,"کامل شده",null,{"$f":"NF361","v":23.012453472948337},{"$f":"NG361","v":35.681753066847591},"c7",null,{"$f":"-NJ328+NG326","v":-23.012453472948337},{"$f":"NK328","v":35.681753066847591},"c7",null,null,null,null,null,null,null,null,"نقطه پایان رج(راست)","مولفه افقی","مولفه عمودی",{"$f":"NZ339","v":1.8458333333333332},{"$f":"OA339","v":10.025},{"$f":"NY339","v":"h13"}]
[null,null,null,null,null,null,null,null,null,null,null,null,null,null,null,null,null,null,{"$f":"I104","v":48},"شبیه ساز e",null,"sp25",null,{"$f":"X331-S330*COS(W331)","v":6.990047592723899},{"$f":"Y331-S330*SIN(W331)","v":40.600000000000009},null,{"$f":"X323","v":14.737774999999999},{"$f":"Y323","v":47.999999999999993},"su3",null,{"$f":"X309","v":0},{"$f":"Y309","v":37.83},"sf10",null,null,null,null,null,null,null,null,null,"طول پیلی",{"$f":"DZ350","v":6.8250000000000028},"(e25→e21)",null,"sp25",null,{"$f":"AW331-AR331*COS(AV331)","v":6.7325999999999997},{"$f":"AX331-AR331*SIN(AV331)","v":40.600000000000009},null,{"$f":"AW323","v":14.298674999999999},{"$f":"AX323","v":48.000000000000007},"su3",null,{"$f":"AW309","v":0},{"$f":"AX309","v":37.83},"sf10",null,null,null,null,null,null,null,null,null,null,null,null,null,null,null,null,null,{"$f":"BT320","v":-6.990047592723899},{"$f":"BU320","v":26.950000000000003},{"$f":"BV320","v":"e213"},null,{"$f":"CB327+1*CC318*COS(CE343)","v":6.990047592723899},{"$f":"CC327+1*CC318*SIN(CE343)","v":26.950000000000003},"e213",null,{"$f":"CB333","v":6.990047592723899},{"$f":"CC333","v":26.950000000000003},{"$f":"CD333","v":"e213"},null," اوزمان و گوده و ترک گشاد در قرینه خط ترک جلو دامن کامل - 2 ",null,null,null,null,null,null,null,null,null,null,null,null,null,null,null,null,null,null,null,{"$f":"CZ320","v":0},{"$f":"DA320","v":26.950000000000003},{"$f":"DB320","v":"e213"},null,null,null,null,null,null,null,null,null,null,null,"ترک گشاد",null,null,null,"ترک گشاد",null,{"$f":"DX328+0.5*DY318*COS(DZ348)","v":8.7325999999999997},{"$f":"DY328+0.5*DY318*SIN(DZ348)","v":26.950000000000003},"e212",null,{"$f":"DX334","v":9.7325999999999997},{"$f":"DY334","v":26.950000000000003},{"$f":"DZ334","v":"e213"},null,{"$f":"-EB333+EG307","v":-9.7325999999999997},26.950000000000003,"e213",null,null,null,"پیلی",null,{"$f":"EJ335","v":4.6326000000000001},{"$f":"EK335","v":26.950000000000003},{"$f":"EL335","v":"e213"},null,{"$f":"-EN333+ES307","v":-4.6326000000000001},26.950000000000003,"e213",null,{"$f":"-CF311-HY101","v":-6.990047592723899},{"$f":"CG311","v":33.775000000000006},"e21",null,"(g1→ g5)",{"$f":"'متغیرها '!C354*FA324","v":0},null,"g5",{"$f":"FC331+FA333*SIN(FE374)","v":8.1059757551102063},{"$f":"FD331+FA333*COS(FE374)","v":62.893362743013654},null,null,null,null,null,{"$f":"AZ161+BT130","v":7.3400475927238986},{"$f":"BA161","v":56.24},"شیفت 43",null,{"$f":"AZ161","v":7.3400475927238986},{"$f":"BA161","v":56.24},43,null,{"$f":"-FG334-GA306","v":0},{"$f":"FH334","v":58.3},"d3'",null,{"$f":"-FK333-GA306","v":-7.3400475927238986},{"$f":"FL333","v":56.24},"شیفت 43",null,{"$f":"-FK335-GA306","v":-7.3400475927238986},{"$f":"FL335","v":56.24},43,null,"(g1→ g5)",{"$f":"'متغیرها '!C354*GF324","v":0},null,"g5",{"$f":"GH331+GF333*SIN(GM363)","v":7.8986421676215883},{"$f":"GI331+GF333*COS(GM363)","v":63.437826617627927},null,{"$f":"GM355","v":0},{"$f":"GN355","v":58.3},"d3",null,{"$f":"GL333+GP354","v":0},{"$f":"GM333+GP355","v":58.3},"d3",null,null,null,null,null,null,null,null,null,null,null,null,null,null,null,null,null,null,null,null,null,null,null,null,null,null,null,null,null,null,null,null,null,"نقطه تقاطع","d''4b12",{"$f":"(IC331-IC329+IB329*((IC330-IC329)/(IB330-IB329))-IB331*((IC332-IC331)/(IB332-IB331)))/(((IC330-IC329)/(IB330-IB329))-((IC332-IC331)/(IB332-IB331)))","v":7.5942292579604107},{"$f":"IC329+(IB333-IB329)*((IC330-IC329)/(IB330-IB329))","v":62.541029692468598},null,null,null,null,null,null,null,null,null,null,null,null,null,"a25",{"$f":"'متغیرها '!C772","v":13},"ضریب طول (بلندی) چاک در خط مرکزی پشت  ",null,{"$f":"IU309+IR334+IR335","v":7.2574518037325406},{"$f":"IV309","v":37.83},"a47",null,{"$f":"IY309+IR340+IR341","v":-7.2574518037325406},{"$f":"IZ309","v":37.83},"a'47",null,{"$f":"IU308","v":7.2574518037325406},{"$f":"IV308","v":45.6},"a2",null,{"$f":"JG329+JG329-JG331","v":-3.6287259018662703},{"$f":"JH329","v":43.92},"c'44",null,{"$f":"IU333","v":7.2574518037325406},{"$f":"IV333","v":37.83},"a47",null,{"$f":"IY333","v":-7.2574518037325406},{"$f":"IZ333","v":37.83},"a'47",null,{"$f":"IU307","v":0},{"$f":"IV307","v":42.24},"a1",null,{"$f":"IY307","v":0},{"$f":"IZ307","v":42.24},"a'1",null,{"$f":"IU326","v":0},{"$f":"IV326","v":42.24},"a40",null,{"$f":"IY326","v":0},{"$f":"IZ326","v":42.24},"a'40",null,null,0,null,null,null,null,null,null,null,null,null,null,{"$f":"KM311","v":16.698675000000001},{"$f":"KN311","v":48},"b5",null,{"$f":"KY329+KY329-KY331","v":0},{"$f":"KZ329","v":36.700000000000003},"c67",null,{"$f":"KM342","v":7.7325999999999997},{"$f":"KN342","v":37.83},"b47",null,{"$f":"KQ347","v":-27.730681831323174},{"$f":"KR347","v":47.28},"b'52",null,{"$f":"KM346","v":8.7626886626463474},{"$f":"KN346","v":46.56},"b51",null,{"$f":"KQ346","v":-23.762688662646347},{"$f":"KR346","v":46.56},"b'51",null,null,"n5",{"$f":"'متغیرها '!C818","v":30},null,null,null,null,null,null,{"$f":"LT308","v":0},{"$f":"LU308","v":42.24},"a1",null,{"$f":"MF331","v":0.22220525226046917},{"$f":"MG331","v":35.123411924917868},{"$f":"MH331","v":"g4"},null,null,11.316157810070937,65.619354426295132,"24f","نقطه قبل از چرخش",{"$f":"IF(ML333>ML331,IF(MK333>MK331,MK331+SQRT(POWER(MK333-MK331,2)+POWER(ML333-ML331,2))*COS(ATAN((ML333-ML331)/(MK333-MK331+0.000123))+ML329),MK331-SQRT(POWER(MK333-MK331,2)+POWER(ML333-ML331,2))*COS(ATAN((ML333-ML331)/(MK331-MK333+0.000123))-ML329)),IF(MK333>MK331,MK331+SQRT(POWER(MK333-MK331,2)+POWER(ML333-ML331,2))*COS(ATAN((ML331-ML333)/(MK333-MK331+0.000123))-ML329),MK331-SQRT(POWER(MK333-MK331,2)+POWER(ML333-ML331,2))*COS(ATAN((ML331-ML333)/(MK331-MK333+0.000123))+ML329)))","v":11.741697300524841},{"$f":"IF(ML333>ML331,IF(MK333>MK331,ML331+SQRT(POWER(MK333-MK331,2)+POWER(ML333-ML331,2))*SIN(ATAN((ML333-ML331)/(MK333-MK331+0.000123))+ML329),ML331+SQRT(POWER(MK333-MK331,2)+POWER(ML333-ML331,2))*SIN(ATAN((ML333-ML331)/(MK331-MK333+0.000123))-ML329)),IF(MK333>MK331,ML331-SQRT(POWER(MK333-MK331,2)+POWER(ML333-ML331,2))*SIN(ATAN((ML331-ML333)/(MK333-MK331+0.000123))-ML329),ML331-SQRT(POWER(MK333-MK331,2)+POWER(ML333-ML331,2))*SIN(ATAN((ML331-ML333)/(MK331-MK333+0.000123))+ML329)))","v":65.821227570162065},"b24",null,14.873970392372673,34.4314026985789,"c50",null,{"$f":"-MS333+ML327","v":-14.873970392372673},34.4314026985789,"c50",null,null,12.207252153094696,65.733274023724533,"24f","نقطه قبل از چرخش",{"$f":"IF(NC333>NC331,IF(NB333>NB331,NB331+SQRT(POWER(NB333-NB331,2)+POWER(NC333-NC331,2))*COS(ATAN((NC333-NC331)/(NB333-NB331+0.000123))+NC329),NB331-SQRT(POWER(NB333-NB331,2)+POWER(NC333-NC331,2))*COS(ATAN((NC333-NC331)/(NB331-NB333+0.000123))-NC329)),IF(NB333>NB331,NB331+SQRT(POWER(NB333-NB331,2)+POWER(NC333-NC331,2))*COS(ATAN((NC331-NC333)/(NB333-NB331+0.000123))-NC329),NB331-SQRT(POWER(NB333-NB331,2)+POWER(NC333-NC331,2))*COS(ATAN((NC331-NC333)/(NB331-NB333+0.000123))+NC329)))","v":12.641438527147587},{"$f":"IF(NC333>NC331,IF(NB333>NB331,NC331+SQRT(POWER(NB333-NB331,2)+POWER(NC333-NC331,2))*SIN(ATAN((NC333-NC331)/(NB333-NB331+0.000123))+NC329),NC331+SQRT(POWER(NB333-NB331,2)+POWER(NC333-NC331,2))*SIN(ATAN((NC333-NC331)/(NB331-NB333+0.000123))-NC329)),IF(NB333>NB331,NC331-SQRT(POWER(NB333-NB331,2)+POWER(NC333-NC331,2))*SIN(ATAN((NC331-NC333)/(NB333-NB331+0.000123))-NC329),NC331-SQRT(POWER(NB333-NB331,2)+POWER(NC333-NC331,2))*SIN(ATAN((NC331-NC333)/(NB331-NB333+0.000123))+NC329)))","v":65.844753474293427},"b24",null,13.24375150411991,33.916693044362162,"c50",null,{"$f":"-NJ333+NG326","v":-13.24375150411991},33.916693044362162,"c50",null,null,null,null,null,null,null,null,"h7",{"$f":"NZ331-NZ324+NZ325","v":0.23333333333333328},{"$f":"OA327","v":9.5},{"$f":"NZ338","v":1.8458333333333332},{"$f":"OA338","v":8.9749999999999996},{"$f":"NY338","v":"h12"}]
[null,null,null,null,null,{"$f":"AZ163","v":0},{"$f":"BA163","v":37.83},46,null,{"$f":"F341+ABS(I347)*TAN(IF(I347>0,K346,K347))","v":7.3400475927238986},{"$f":"G341+I347","v":48},"u6",null,null,null,null,null,null,null,null,null,null,null,null,null,null,null,null,null,null,null,null,null,null,null,null,null,null,null,null,null,null,"شبیه ساز پشت دامن تنگ کل نما",null,null,"رسم الگو شبیه ساز پشت دامن تنگ با نمای کل",null,null,null,null,null,null,null,null,null,null,null,null,null,null,null,null,null,{"$f":"BD365","v":5.361502325292701},{"$f":"BE365","v":90},"s'd3",null,null,null,null,null,null,null,null,null,{"$f":"BT322","v":-6.990047592723899},{"$f":"BU322","v":26.950000000000003},{"$f":"BV322","v":"e215"},null,{"$f":"CB323+2*CC318*COS(CE343)","v":6.990047592723899},{"$f":"CC323+2*CC318*SIN(CE343)","v":33.775000000000006},"e216",null,{"$f":"CB335","v":6.990047592723899},{"$f":"CC335","v":26.950000000000003},{"$f":"CD335","v":"e215"},null,null,{"$f":"'متغیرها '!U54-'متغیرها '!U55","v":24.6},"(c-d)",null,{"$f":"CJ337+0.6*(CN337-CJ337)","v":-7.6900475927238983},{"$f":"CK337+0.4*(CO337-CK337)","v":33.775000000000006},"e24",null,{"$f":"CN339","v":-7.6900475927238983},{"$f":"CO339","v":33.775000000000006},{"$f":"CP339","v":"e24"},null,null,null,null,null,null,null,null,null,{"$f":"CZ322","v":0},{"$f":"DA322","v":26.950000000000003},{"$f":"DB322","v":"e215"},null," گوده و پیلی و ترک گشاد در خط مرکزی پشت دامن - 4",null,null,null,null,null,null,null,null,null,null,null,null,null,null,null,{"$f":"DX324+1.5*DY318*COS(DZ348)","v":10.7326},{"$f":"DY324+1.5*DY318*SIN(DZ348)","v":33.775000000000006},"e217",null,{"$f":"DX336","v":11.7326},{"$f":"DY336","v":26.950000000000003},{"$f":"DZ336","v":"e215"},null,{"$f":"-EB339+EG307","v":-11.7326},26.950000000000003,"e215",null,{"$f":"EJ325-1*EK319*COS(EL349)","v":4.6326000000000001},{"$f":"EK325-1*EK319*SIN(EL349)","v":33.775000000000006},"e218",null,{"$f":"EJ337","v":2.6326000000000001},{"$f":"EK337","v":26.950000000000003},{"$f":"EL337","v":"e215"},null,{"$f":"-EN339+ES307","v":-2.6326000000000001},26.950000000000003,"e215",null,{"$f":"-CF317-HY101","v":-6.990047592723899},{"$f":"CG317","v":20.125},"e26",null,"اسم نقطه","مولفه افقی","مولفه عمودی",null,"سبز",null,null,null,null,null,null,"رسم دکلته آبی و آستین",null,"آبی",null,{"$f":"FA308+FA376+FA378","v":12.000404363498989},{"$f":"FB308+FA377","v":58.565702422540063},{"$f":"EZ308","v":"b10"},null,null,null,null,null,"قرینه دکلته آبی و آستین",null,"آبی",null,"قرینه دکلته بنفش و آستین",null,"بنفش",null,"اسم نقطه","مولفه افقی","مولفه عمودی",null,"سبز طراحی",null,null,null,null,null,null,null,null,null,null,null,null,null,null,null,null,null,null,null,null,null,null,null,null,null,null,null,null,null,null,null,null,null,null,null,null,null,null,"محاسبات آستین و یقه دکلته",null,null,null,"نقطه دوم از خط دوم",40,{"$f":"HW317","v":7.1825999999999999},{"$f":"HX317","v":59.816656485349888},null,null,null,null,null,null,null,null,null,null,null,null,null,null,null,null,null,{"$f":"IU338","v":10.915017612874912},{"$f":"IV336","v":33.775000000000006},"a53",null,{"$f":"IY338","v":-10.915017612874912},{"$f":"IZ336","v":33.775000000000006},"a'53",null,{"$f":"IU310","v":7.2574518037325406},{"$f":"IV310","v":45.6},"a4",null,{"$f":"JG338","v":0},{"$f":"JH337","v":33.775000000000006},"c7",null,{"$f":"IU336","v":7.2574518037325406},{"$f":"IV336","v":33.775000000000006},"a50",null,{"$f":"IY336","v":-7.2574518037325406},{"$f":"IZ336","v":33.775000000000006},"a'50",null,{"$f":"IU332","v":7.2574518037325406},{"$f":"IV332","v":45.6},"a46",null,{"$f":"IY332","v":-7.2574518037325406},{"$f":"IZ332","v":45.6},"a'46",null,{"$f":"IU332","v":7.2574518037325406},{"$f":"IV332","v":45.6},"a46",null,{"$f":"IY332","v":-7.2574518037325406},{"$f":"IZ332","v":45.6},"a'46",null,null,null,null,null,{"$f":"KM337+KJ335","v":3.3512556686768251},{"$f":"KN337","v":46.56},"b44",null,{"$f":"KQ337+KJ341","v":-18.351255668676824},{"$f":"KR337","v":46.56},"b'44",null,{"$f":"KM318","v":11.938047749999999},{"$f":"KN318","v":33.775000000000006},"b12",null,{"$f":"KY338","v":3.3512556686768251},{"$f":"KZ337","v":33.775000000000006},"c43",null,{"$f":"KM345","v":7.7325999999999997},{"$f":"KN345","v":33.775000000000006},"b50",null,{"$f":"KQ350","v":-27.730681831323174},{"$f":"KR350","v":33.775000000000006},"b'55",null,{"$f":"KM356","v":16.698675000000001},{"$f":"KN356","v":48},"b61",null,{"$f":"KQ356","v":-31.698675000000001},{"$f":"KR356","v":48},"b'61",null,null,{"$f":"LX308","v":1.6747965700921248},{"$f":"LY308","v":43.015384615384619},"an3","نقطه قبل از چرخش",{"$f":"IF(LU339>LU338,IF(LT339>LT338,LT338+SQRT(POWER(LT339-LT338,2)+POWER(LU339-LU338,2))*COS(ATAN((LU339-LU338)/(LT339-LT338+0.000123))+LU336),LT338-SQRT(POWER(LT339-LT338,2)+POWER(LU339-LU338,2))*COS(ATAN((LU339-LU338)/(LT338-LT339+0.000123))-LU336)),IF(LT339>LT338,LT338+SQRT(POWER(LT339-LT338,2)+POWER(LU339-LU338,2))*COS(ATAN((LU338-LU339)/(LT339-LT338+0.000123))-LU336),LT338-SQRT(POWER(LT339-LT338,2)+POWER(LU339-LU338,2))*COS(ATAN((LU338-LU339)/(LT338-LT339+0.000123))+LU336)))","v":-2.5093861601056187},{"$f":"IF(LU339>LU338,IF(LT339>LT338,LU338+SQRT(POWER(LT339-LT338,2)+POWER(LU339-LU338,2))*SIN(ATAN((LU339-LU338)/(LT339-LT338+0.000123))+LU336),LU338+SQRT(POWER(LT339-LT338,2)+POWER(LU339-LU338,2))*SIN(ATAN((LU339-LU338)/(LT338-LT339+0.000123))-LU336)),IF(LT339>LT338,LU338-SQRT(POWER(LT339-LT338,2)+POWER(LU339-LU338,2))*SIN(ATAN((LU338-LU339)/(LT339-LT338+0.000123))-LU336),LU338-SQRT(POWER(LT339-LT338,2)+POWER(LU339-LU338,2))*SIN(ATAN((LU338-LU339)/(LT338-LT339+0.000123))+LU336)))","v":36.341959095271051},"e3",null,5.839714400000001,34.209085200000004,"6n'",null,{"$f":"MF337","v":2.6843362922577736},{"$f":"MG337","v":25.705410206986009},{"$f":"MH337","v":"fg4 یا fg1"},null,null,15.72423796361949,53.762849053936286,14,"نقطه قبل از چرخش",{"$f":"IF(ML339>ML331,IF(MK339>MK331,MK331+SQRT(POWER(MK339-MK331,2)+POWER(ML339-ML331,2))*COS(ATAN((ML339-ML331)/(MK339-MK331+0.000123))+ML329),MK331-SQRT(POWER(MK339-MK331,2)+POWER(ML339-ML331,2))*COS(ATAN((ML339-ML331)/(MK331-MK339+0.000123))-ML329)),IF(MK339>MK331,MK331+SQRT(POWER(MK339-MK331,2)+POWER(ML339-ML331,2))*COS(ATAN((ML331-ML339)/(MK339-MK331+0.000123))-ML329),MK331-SQRT(POWER(MK339-MK331,2)+POWER(ML339-ML331,2))*COS(ATAN((ML331-ML339)/(MK331-MK339+0.000123))+ML329)))","v":17.166368732986903},{"$f":"IF(ML339>ML331,IF(MK339>MK331,ML331+SQRT(POWER(MK339-MK331,2)+POWER(ML339-ML331,2))*SIN(ATAN((ML339-ML331)/(MK339-MK331+0.000123))+ML329),ML331+SQRT(POWER(MK339-MK331,2)+POWER(ML339-ML331,2))*SIN(ATAN((ML339-ML331)/(MK331-MK339+0.000123))-ML329)),IF(MK339>MK331,ML331-SQRT(POWER(MK339-MK331,2)+POWER(ML339-ML331,2))*SIN(ATAN((ML331-ML339)/(MK339-MK331+0.000123))-ML329),ML331-SQRT(POWER(MK339-MK331,2)+POWER(ML339-ML331,2))*SIN(ATAN((ML331-ML339)/(MK331-MK339+0.000123))+ML329)))","v":54.394026828446059},"b14",null,{"$f":"MO308","v":6.5065812263253067},{"$f":"MP308","v":71.552734931712266},"a4",null,{"$f":"-MS339+ML327","v":-6.5065812263253067},{"$f":"MT339","v":71.552734931712266},"a4",null,null,15.91397769714632,53.461363880791403,14,"نقطه قبل از چرخش",{"$f":"IF(NC339>NC331,IF(NB339>NB331,NB331+SQRT(POWER(NB339-NB331,2)+POWER(NC339-NC331,2))*COS(ATAN((NC339-NC331)/(NB339-NB331+0.000123))+NC329),NB331-SQRT(POWER(NB339-NB331,2)+POWER(NC339-NC331,2))*COS(ATAN((NC339-NC331)/(NB331-NB339+0.000123))-NC329)),IF(NB339>NB331,NB331+SQRT(POWER(NB339-NB331,2)+POWER(NC339-NC331,2))*COS(ATAN((NC331-NC339)/(NB339-NB331+0.000123))-NC329),NB331-SQRT(POWER(NB339-NB331,2)+POWER(NC339-NC331,2))*COS(ATAN((NC331-NC339)/(NB331-NB339+0.000123))+NC329)))","v":17.403622287946476},{"$f":"IF(NC339>NC331,IF(NB339>NB331,NC331+SQRT(POWER(NB339-NB331,2)+POWER(NC339-NC331,2))*SIN(ATAN((NC339-NC331)/(NB339-NB331+0.000123))+NC329),NC331+SQRT(POWER(NB339-NB331,2)+POWER(NC339-NC331,2))*SIN(ATAN((NC339-NC331)/(NB331-NB339+0.000123))-NC329)),IF(NB339>NB331,NC331-SQRT(POWER(NB339-NB331,2)+POWER(NC339-NC331,2))*SIN(ATAN((NC331-NC339)/(NB339-NB331+0.000123))-NC329),NC331-SQRT(POWER(NB339-NB331,2)+POWER(NC339-NC331,2))*SIN(ATAN((NC331-NC339)/(NB331-NB339+0.000123))+NC329)))","v":53.942610425981641},"b14",null,{"$f":"NF308","v":7.0408666333019259},{"$f":"NG308","v":72.318244836449352},"a4",null,{"$f":"-NJ339+NG326","v":-7.0408666333019259},{"$f":"NK339","v":72.318244836449352},"a4",null,null,null,null,null,null,null,null,"h13",{"$f":"NZ335","v":1.8458333333333332},{"$f":"OA336","v":10.025},{"$f":"NZ332","v":1.4333333333333331},{"$f":"OA332","v":9.5},{"$f":"NY332","v":"h6"}]
[null,null,null,null,null,"متغیرهای  ورودی",null,null,{"$f":"G345*G343*0.01","v":0},"u4 u'4",{"$f":"ATAN((F338-F337)/(G337-G338+0.00001))","v":0},"αu4",null,{"$f":"J339","v":7.3400475927238986},{"$f":"K339","v":48},{"$f":"L339","v":"u6"},null,"xs4",{"$f":"0.5*('متغیرها '!U52-'متغیرها '!U53)","v":12.5},null,{"$f":"S345+'متغیرها '!C51","v":12.3},{"$f":"S342+'متغیرها '!C52","v":36.700000000000003},"s5",null,null,null,{"$f":"-X321+R336+2*X308","v":2.7425481962674594},{"$f":"Y321-S333+R337","v":147.6},"s'd5",null,{"$f":"X329","v":0},{"$f":"Y329","v":40.600000000000009},"sp12",null,{"$f":"AA359","v":10},{"$f":"AB359","v":150},"su7",null,{"$f":"AA364","v":-4.7377749999999992},{"$f":"AB364","v":150},"s'u9",null,"xs11",{"$f":"0.5*'متغیرها '!U55","v":15.7},null,{"$f":"-AR344+'متغیرها '!C53","v":-15.7},{"$f":"AR340+'متغیرها '!C54","v":17.2},"s'12",null,null,null,"خط اول","نقطه اول",41,{"$f":"AQ314","v":15.598675},{"$f":"AR314","v":48.04189556373597},null,null,null,{"$f":"BD372","v":34.298675000000003},{"$f":"BE372","v":90},"su9",null,{"$f":"BD363","v":5.7013250000000006},{"$f":"BE363","v":90},"s'u3",null,null,null,null,null,null,null,null,null,null,null,null,null,"(e22→e21)",{"$f":"CC311*0.25*CC312+CB310-CB309","v":0},"(e29→e26)",{"$f":"CC315+CB323-CB327","v":0},null,null,null,null,null,{"$f":"'متغیرها '!U59","v":17.2},"h",null,{"$f":"CN337+0.7*(CN342-CN337)","v":-7.6900475927238983},{"$f":"CO337+0.5*(CO342-CO337)","v":26.950000000000003},"e28",null,-7.6900475927238983,20.125,"e26",null,null,null,null,null,null,null,null,null,null,null,null,null,null,0,"e'40",null,{"$f":"DH343+0.3*(DL343-DH343)","v":0},{"$f":"DI343+0.12*(DM343-DI343)","v":33.775000000000006},"e23",null,{"$f":"DL348","v":-5},{"$f":"DM348","v":22.304504870307149},{"$f":"DN348","v":"e26"},null,{"$f":"-DP344+DU340","v":5},22.304504870307149,"e26",null,null,"(e22→e21)",{"$f":"DY311*0.25*DY312+DX310-DX309","v":0},null,null,null,null,null,null,null,null,null,null,"(47'→52)",{"$f":"SQRT(POWER((EK309-EK310),2)+POWER((EJ310-EJ309),2))","v":4.0549999999999926},null,null,null,null,null,null,null,null,null,{"$f":"-CF322-HY101","v":-6.990047592723899},{"$f":"CG322","v":33.775000000000006},"e21",null,null,"نقطه دوم",{"$f":"EZ340","v":"b6"},{"$f":"FA340","v":11.069121989515221},{"$f":"FB340","v":61.47342425802357},null,null,null,null,null,null,{"$f":"FD336+FA376","v":3.8716198686099594},{"$f":"FE336+FA377","v":60.619647782178312},"g8",null,{"$f":"FA372+FA376","v":0},{"$f":"FB372+FA377","v":58.3},"d3",null,null,null,null,null,{"$f":"-FK344-GA306","v":-3.8716198686099594},{"$f":"FL344","v":60.619647782178312},"g8",null,{"$f":"-FO343-GA306","v":-3.6771828595796876},{"$f":"FP343","v":58.382375142185666},"g8",null,null,"نقطه دوم",{"$f":"GE340","v":"b6"},{"$f":"GF340","v":10.683863248352782},{"$f":"GG340","v":61.877081804961719},null,null,{"$f":"GM355","v":0},{"$f":"GN355","v":58.3},"d3",null,{"$f":"GL344+GP354","v":0},{"$f":"GM344+GP355","v":58.3},"d3",null,null,null,null,null,null,null,null,null,null,null,null,null,null,null,null,null,null,null,null,null,null,null,null,null,null,null,null,null,"d4  b16ʻ",{"$f":"0.2*(HW309-HW317)+HW317","v":8.2803473011702486},{"$f":"HX341+((HW344-HW341)/(HW309-HW341))*(HX309-HX341)+0.75*'متغیرها '!C358*(HW310-HW341)","v":64.964545866364261},null,"نقطه دوم از خط اول","d'4b10",{"$f":"HW356","v":8.4757419810077348},{"$f":"HX356","v":57.959715252573439},null,null,null,null,null,{"$f":"IB375-HW341+HW319","v":7.1781548762964151},{"$f":"IC375","v":59.897466485103948},"شیفتd4  b6''",null,{"$f":"IB319-HW341+HW319","v":7.3481709939950992},{"$f":"IC319","v":56.806663316152935},"شیفتd4  b14''",null,"a37",{"$f":"-2*'متغیرها '!C784","v":0},"پیلی 1",null,{"$f":"IU317+IR334+IR335+IR336+IR337","v":11.183445400053179},{"$f":"IV317","v":33.775000000000006},"a58",null,{"$f":"IY317+IR340+IR341+IR342+IR343","v":-11.183445400053179},{"$f":"IZ317","v":33.775000000000006},"a'58",null,{"$f":"IU313","v":0},{"$f":"IV313","v":33.775000000000006},"a7",null,{"$f":"JG343","v":3.6287259018662703},{"$f":"IV313","v":33.775000000000006},"d43",null,null,null,"پیلی 8",null,null,null,"پیلی 8",null,{"$f":"IU335","v":7.2574518037325406},{"$f":"IV335","v":37.83},"a49",null,{"$f":"IY335","v":-7.2574518037325406},{"$f":"IZ335","v":37.83},"a'49",null,null,null,null,null,null,null,null,null,null,0,"پهلو پشت بدون پیلی",null,{"$f":"KM342+KJ336","v":7.7325999999999997},{"$f":"KN342","v":37.83},"b49",null,{"$f":"KQ342+KJ342","v":-22.732599999999998},{"$f":"KR342","v":37.83},"b'49",null,{"$f":"KM307","v":0},{"$f":"KN307","v":46.56},"b1",null,{"$f":"KY343","v":7.7325999999999997},{"$f":"KN314","v":33.775000000000006},"d48",null,null,null,"پیلی 16",null,null,null,null,null,{"$f":"KM340","v":3.3512556686768251},{"$f":"KN340","v":33.775000000000006},"b45",null,{"$f":"KQ340","v":-18.351255668676824},{"$f":"KR340","v":33.775000000000006},"b'45",null,null,11.230220000000001,33.817325000000004,"5n'","نقطه قبل از چرخش",{"$f":"IF(LU344>LU338,IF(LT344>LT338,LT338+SQRT(POWER(LT344-LT338,2)+POWER(LU344-LU338,2))*COS(ATAN((LU344-LU338)/(LT344-LT338+0.000123))+LU336),LT338-SQRT(POWER(LT344-LT338,2)+POWER(LU344-LU338,2))*COS(ATAN((LU344-LU338)/(LT338-LT344+0.000123))-LU336)),IF(LT344>LT338,LT338+SQRT(POWER(LT344-LT338,2)+POWER(LU344-LU338,2))*COS(ATAN((LU338-LU344)/(LT344-LT338+0.000123))-LU336),LT338-SQRT(POWER(LT344-LT338,2)+POWER(LU344-LU338,2))*COS(ATAN((LU338-LU344)/(LT338-LT344+0.000123))+LU336)))","v":10.705620439387816},{"$f":"IF(LU344>LU338,IF(LT344>LT338,LU338+SQRT(POWER(LT344-LT338,2)+POWER(LU344-LU338,2))*SIN(ATAN((LU344-LU338)/(LT344-LT338+0.000123))+LU336),LU338+SQRT(POWER(LT344-LT338,2)+POWER(LU344-LU338,2))*SIN(ATAN((LU344-LU338)/(LT338-LT344+0.000123))-LU336)),IF(LT344>LT338,LU338-SQRT(POWER(LT344-LT338,2)+POWER(LU344-LU338,2))*SIN(ATAN((LU338-LU344)/(LT344-LT338+0.000123))-LU336),LU338-SQRT(POWER(LT344-LT338,2)+POWER(LU344-LU338,2))*SIN(ATAN((LU338-LU344)/(LT338-LT344+0.000123))+LU336)))","v":35.213063984891619},"e5",null,{"$f":"LT313","v":14.572583422017283},{"$f":"LU313","v":36.700000000000003},"a6",null,null,null,null,null,null,8.3948203334515075,33.775000000000006,50,"نقطه قبل از چرخش",{"$f":"IF(ML344>ML331,IF(MK344>MK331,MK331+SQRT(POWER(MK344-MK331,2)+POWER(ML344-ML331,2))*COS(ATAN((ML344-ML331)/(MK344-MK331+0.000123))+ML329),MK331-SQRT(POWER(MK344-MK331,2)+POWER(ML344-ML331,2))*COS(ATAN((ML344-ML331)/(MK331-MK344+0.000123))-ML329)),IF(MK344>MK331,MK331+SQRT(POWER(MK344-MK331,2)+POWER(ML344-ML331,2))*COS(ATAN((ML331-ML344)/(MK344-MK331+0.000123))-ML329),MK331-SQRT(POWER(MK344-MK331,2)+POWER(ML344-ML331,2))*COS(ATAN((ML331-ML344)/(MK331-MK344+0.000123))+ML329)))","v":11.606671877410776},{"$f":"IF(ML344>ML331,IF(MK344>MK331,ML331+SQRT(POWER(MK344-MK331,2)+POWER(ML344-ML331,2))*SIN(ATAN((ML344-ML331)/(MK344-MK331+0.000123))+ML329),ML331+SQRT(POWER(MK344-MK331,2)+POWER(ML344-ML331,2))*SIN(ATAN((ML344-ML331)/(MK331-MK344+0.000123))-ML329)),IF(MK344>MK331,ML331-SQRT(POWER(MK344-MK331,2)+POWER(ML344-ML331,2))*SIN(ATAN((ML331-ML344)/(MK344-MK331+0.000123))-ML329),ML331-SQRT(POWER(MK344-MK331,2)+POWER(ML344-ML331,2))*SIN(ATAN((ML331-ML344)/(MK331-MK344+0.000123))+ML329)))","v":33.84337822055285},"b50",null,null,null,null,null,null,null,null,null,null,6.6326000000000001,33.775000000000006,50,"نقطه قبل از چرخش",{"$f":"IF(NC344>NC331,IF(NB344>NB331,NB331+SQRT(POWER(NB344-NB331,2)+POWER(NC344-NC331,2))*COS(ATAN((NC344-NC331)/(NB344-NB331+0.000123))+NC329),NB331-SQRT(POWER(NB344-NB331,2)+POWER(NC344-NC331,2))*COS(ATAN((NC344-NC331)/(NB331-NB344+0.000123))-NC329)),IF(NB344>NB331,NB331+SQRT(POWER(NB344-NB331,2)+POWER(NC344-NC331,2))*COS(ATAN((NC331-NC344)/(NB344-NB331+0.000123))-NC329),NB331-SQRT(POWER(NB344-NB331,2)+POWER(NC344-NC331,2))*COS(ATAN((NC331-NC344)/(NB331-NB344+0.000123))+NC329)))","v":9.8731095374772373},{"$f":"IF(NC344>NC331,IF(NB344>NB331,NC331+SQRT(POWER(NB344-NB331,2)+POWER(NC344-NC331,2))*SIN(ATAN((NC344-NC331)/(NB344-NB331+0.000123))+NC329),NC331+SQRT(POWER(NB344-NB331,2)+POWER(NC344-NC331,2))*SIN(ATAN((NC344-NC331)/(NB331-NB344+0.000123))-NC329)),IF(NB344>NB331,NC331-SQRT(POWER(NB344-NB331,2)+POWER(NC344-NC331,2))*SIN(ATAN((NC331-NC344)/(NB344-NB331+0.000123))-NC329),NC331-SQRT(POWER(NB344-NB331,2)+POWER(NC344-NC331,2))*SIN(ATAN((NC331-NC344)/(NB331-NB344+0.000123))+NC329)))","v":33.522196572576831},"b50",null,null,null,null,null,null,null,null,null,null,null,null,null,null,null,null,"ارتفاع نیم دایره",{"$f":"NV221","v":1.5},"بزرگی فلش",{"$f":"NZ347","v":-0.33333333333333348},{"$f":"OA347","v":9.5},{"$f":"NY347","v":"w13"}]
[null,null,null,null,null,"d40",{"$f":"'متغیرها '!C331","v":12},null,{"$f":"G350*G343*0.01","v":2.4},"d5 d'5",null,null,null,null,null,null,null,null,null,null,null,null,null,null,null,null,{"$f":"-X314+R336+2*X308","v":-4.7457400737026241},{"$f":"Y314-S333+R337","v":150},"s'fp16",null,{"$f":"X335","v":6.990047592723899},{"$f":"Y335","v":33.775000000000006},"sp24",null,{"$f":"AA350","v":24.737774999999999},{"$f":"AB350","v":150},"su3",null,{"$f":"AA365","v":-4.5725834223199602},{"$f":"AB365","v":149.99999000000003},"s'd8",null,null,null,null,null,null,null,null,null,null,null,null,null,null,null,null,null,null,{"$f":"BD373","v":34.638497674560163},{"$f":"BE373","v":89.999990000000011},"sd8",null,null,null,null,null,{"$f":"AZ172","v":14.737774999999999},{"$f":"BA172","v":37.043380736880856},"45شیفت",null,null,null,"اوزمان",null,19.737774999999999,21.813300438133012,"e26",null,"رسم",null,"گوده",null,null,null,null,null,null,"اوزمان",null,null,null,null,null,null,{"$f":"CN337","v":-7.6900475927238983},{"$f":"CO337","v":33.775000000000006},{"$f":"CP337","v":"e21"},null,{"$f":"IB109","v":-14.737774999999999},{"$f":"IC109","v":37.043380736880856},"45 شیفت",null,null,null,"اوزمان",null,-19.737774999999999,21.813300438133012,"e26",null,null,{"$f":"'متغیرها '!U59","v":17.2},"h",null,{"$f":"DL343+0.3*(DL348-DL343)","v":-1.5},{"$f":"DM343+0.12*(DM348-DM343)","v":32.398540584436866},"e27",null,{"$f":"DL347","v":0},{"$f":"DM347","v":26.950000000000003},{"$f":"DN347","v":"e25"},null,{"$f":"-DP349+DU340","v":0},26.950000000000003,"e25",null,null,"(e29→e26)",{"$f":"DY315+DX324-DX328","v":5},null,null,null,null,null,null,null,null,null,null,"e210",{"$f":"ATAN((EJ325-EJ309)/(EK309-EK325))","v":0},null,null,null,null,null,null,null,null,null,{"$f":"-CF327-HY101","v":-6.990047592723899},{"$f":"CG327","v":33.775000000000006},"e21",null,"(g1→ g5)",{"$f":"'متغیرها '!C354*FA340","v":0},null,"g5",{"$f":"FC347+FA349*SIN(FE374)","v":7.7085541194632539},{"$f":"FD347+FA349*COS(FE374)","v":60.509977689302126},null,null,null,null,null,null,null,null,null,{"$f":"BW139+BT130","v":16.825878698342962},{"$f":"BX139","v":56.627700603276089},"شیفتb14",null,null,null,null,null,null,null,null,null,null,null,null,null,"(g1→ g5)",{"$f":"'متغیرها '!C354*GF340","v":0},null,"g5",{"$f":"GH347+GF349*SIN(GM363)","v":7.6173288575016516},{"$f":"GI347+GF349*COS(GM363)","v":60.850370388050408},null,{"$f":"-GL344","v":0},58.3,"d3",null,{"$f":"GL349+GP354","v":0},{"$f":"GM349+GP355","v":58.3},"d3",null,null,null,null,null,null,null,null,null,null,null,null,null,null,null,null,null,null,null,null,null,null,null,null,null,null,null,null,null,"d6  b12",{"$f":"0.6*(HW310-HW317)+HW317","v":10.185838328666909},{"$f":"HX341+((HW349-HW341)/(HW310-HW341))*(HX310-HX341)+0.5*'متغیرها '!C358*(HW310-HW341)","v":64.727113983676773},null,null,"به دست آوردن نقطه تقاطع دو خط (d''4b14)","مولفه افقی","مولفه عمودی",null,null,null,null,null,{"$f":"HW341-HW341+HW319","v":0},{"$f":"HX341","v":58},"d3",null,{"$f":"HW341-HW341+HW319","v":0},{"$f":"HX341","v":58},"d3",null,null,null,null,null,{"$f":"IU319+IR334+IR335+IR336+IR337","v":14.572583422017283},{"$f":"IV319","v":42.35},"a63",null,{"$f":"IY319+IR340+IR341+IR342+IR343","v":-14.572583422017283},{"$f":"IZ319","v":42.35},"a'63",null,{"$f":"IU317","v":11.183445400053179},{"$f":"IV317","v":33.775000000000006},"a11",null,null,null,"پیلی 7",null,{"$f":"IU341","v":10.915017612874912},{"$f":"IV341","v":33.775000000000006},"a55",null,{"$f":"IY341","v":-10.915017612874912},{"$f":"IZ341","v":33.775000000000006},"a'55",null,null,null,null,null,null,null,null,null,{"$f":"IU347","v":14.572583422017283},{"$f":"IV347","v":48},"a61",null,{"$f":"IY347","v":-14.572583422017283},{"$f":"IZ347","v":48},"a'61",null,null,null,null,null,{"$f":"KM347+KJ337","v":12.730681831323174},{"$f":"KN347","v":47.28},"b54",null,{"$f":"KQ347+KJ343","v":-27.730681831323174},{"$f":"KR347","v":47.28},"b'54",null,null,null,"زیپ پشت",null,null,null,"پیلی 16",null,{"$f":"KM350","v":12.730681831323174},{"$f":"KN350","v":33.775000000000006},"b55",null,null,null,null,null,null,null,null,null,null,null,null,null,null,"پروسیجر چرخش دوم",null,null,null,null,null,"کامل شده",null,{"$f":"LX309","v":3.5356816479722633},{"$f":"LY309","v":43.876923076923077},"an4",null,{"$f":"LX380","v":10.256991260414054},{"$f":"LY380","v":17.093012567573076},"efg15",null,null,"رادیان",{"$f":"RADIANS(MP315)","v":8.7266462599716474E-2},"زاویه چرخش","چرخش مخالف عقربه های ساعت",null,null,null,null,{"$f":"MO368","v":15.684305500402374},{"$f":"MP368","v":34.574286490515064},"d11",null,{"$f":"-MS349+ML327","v":-15.684305500402374},{"$f":"MT349","v":34.574286490515064},"d11",null,null,"رادیان",{"$f":"RADIANS(NG315)","v":8.7266462599716474E-2},"زاویه چرخش","چرخش مخالف عقربه های ساعت",null,null,null,null,{"$f":"NF368","v":17.690586614190188},{"$f":"NG368","v":34.700789233779332},"d11",null,{"$f":"-NJ349+NG326","v":-17.690586614190188},{"$f":"NK349","v":34.700789233779332},"d11",null,null,null,null,null,null,null,null,"g2",{"$f":"NZ347","v":-0.33333333333333348},{"$f":"OA347+NZ344","v":11}]
[null,null,null,null,null,{"$f":"BD178","v":14.737774999999999},{"$f":"BE178","v":48.343380736880853},"شیفت41",null,null,null,null,null,{"$f":"J354","v":14.737774999999999},{"$f":"K354","v":48.343380736880853},{"$f":"L354","v":"d3"},null,null,null,null,null,null,null,null,null,null,{"$f":"X321+R336","v":17.25745180373254},{"$f":"Y321-S333+R337","v":147.6},"sd5",null,{"$f":"-X335+2*X308","v":-6.990047592723899},{"$f":"Y335","v":33.775000000000006},"s'p24",null,{"$f":"AA363","v":24.572583422319962},{"$f":"AB363","v":149.99999000000003},"sd8",null,null,null,null,null,null,null,null,null,null,null,null,null,null,null,null,null,null,{"$f":"AW320+BA353","v":26.532599999999999},{"$f":"AX320-BA354+BA352","v":90},"su2",null,null,null,null,null,null,null,null,null,null,{"$f":"'متغیرها '!C144","v":5},"e311",null,{"$f":"BT354+BQ369","v":19.737774999999999},{"$f":"BU354-BQ371","v":21.813300438133012},"e26",null,null,null,"پیلی",null,{"$f":"-BX353-HY101","v":-16.237774999999999},{"$f":"BY353","v":32.641771101031118},"e27",null,null,null,null,null,"e210",{"$f":"ATAN((CN337-CJ336)/(CK336-CO337))","v":0},null,null,null,null,null,null,null,null,"ترک گشاد",null,null,{"$f":"'متغیرها '!C144","v":5},"e311",null,{"$f":"CZ354-CW369","v":-19.737774999999999},{"$f":"DA354-CW371","v":21.813300438133012},"e26",null,null,null,"پیلی",null,null,"اوزمان",null,null,{"$f":"DL347-2*DI351*COS(DI361)","v":-4},{"$f":"DM347-2*DI351*SIN(DI361)","v":26.950000000000003},"e215",null,{"$f":"DL352","v":-1},{"$f":"DM352","v":26.950000000000003},{"$f":"DN352","v":"e212"},null,{"$f":"-DP355+DU340","v":1},26.950000000000003,"e212",null,null,null,null,null,null,null,null,null,null,null,null,null,null,null,null,null,null,null,null,null,null,null,null,null,{"$f":"-CF333-HY101","v":-6.990047592723899},{"$f":"CG333","v":26.950000000000003},"e213",null,"اسم نقطه","مولفه افقی","مولفه عمودی",null,"قرمز",null,null,null,null,null,null,11.954995220574624,65.074462606118075,"شیفت b12 یا b'12g",null,{"$f":"FA373+FA376+FA378","v":7.3400475927238986},{"$f":"FB373+FA377","v":58.3},"شیفت بالاتنه 5",null,null,null,null,null,{"$f":"-FK323-HY101","v":-11.954995220574624},65.074462606118075,"شیفت b12 یا b'12g",null,{"$f":"GA341","v":-7.3799059959220017},{"$f":"GB341","v":58.460496020634636},"g6",null,"اسم نقطه","مولفه افقی","مولفه عمودی",null,"قرمز طراحی",null,null,"d3",{"$f":"AZ105-GM359","v":0},{"$f":"BE193+('متغیرها '!C352-4)*(I124-I123)-GM360","v":58.3},null,{"$f":"C101","v":0},"شیفت عمودی کل جلو",null,null,null,null,null,null,null,null,null,null,null,null,null,null,null,null,null,null,null,null,null,null,null,null,null,null,null,null,null,null,"d5  b10",{"$f":"0.45*(HW317-HW341)+HW341","v":3.23217},{"$f":"HX341+((HW355-HW341)/(HW312-HW341))*(HX312-HX341)+0.6*'متغیرها '!C358*(HW310-HW341)","v":57.601943945769428},null,null,null,null,null,null,null,null,null,null,{"$f":"HW335","v":0},{"$f":"HX335","v":38.993516450988778},"m'11",null,{"$f":"HW335","v":0},{"$f":"HX335","v":38.993516450988778},"m'11",null,null,null,{"$f":"'متغیرها '!C191","v":0.45},"n11",null,null,null,null,null,null,null,null,null,null,null,null,{"$f":"JG354","v":7.2574518037325406},{"$f":"JH351","v":33.775000000000006},"c50",null,{"$f":"IU338","v":10.915017612874912},{"$f":"IV338","v":46.8},"a52",null,{"$f":"IY338","v":-10.915017612874912},{"$f":"IZ338","v":46.8},"a'52",null,null,null,null,null,null,null,null,null,null,null,null,null,null,null,null,null,null,null,null,null,{"$f":"KM315+KJ333+KJ335+KJ336+KJ337","v":19.098675},{"$f":"KN315","v":33.775000000000006},"b60",null,{"$f":"KQ315+KJ340+KJ341+KJ342+KJ343","v":-34.098675},{"$f":"KR315","v":33.775000000000006},"b'60",null,null,null,null,null,{"$f":"KY354","v":12.730681831323174},{"$f":"KZ351","v":33.775000000000006},"c55",null,{"$f":"KM347","v":12.730681831323174},{"$f":"KN347","v":47.28},"b52",null,null,null,null,null,19.098675,33.775000000000006,"b60",null,-34.098675,33.775000000000006,"b'60",null,null,{"$f":"LX343","v":6.2712367577371735},{"$f":"LY343","v":32.123196362482965},"e6","نقطه قبل از چرخش",{"$f":"IF(LU355>LU352,IF(LT355>LT352,LT352+SQRT(POWER(LT355-LT352,2)+POWER(LU355-LU352,2))*COS(ATAN((LU355-LU352)/(LT355-LT352+0.000123))+LU350),LT352-SQRT(POWER(LT355-LT352,2)+POWER(LU355-LU352,2))*COS(ATAN((LU355-LU352)/(LT352-LT355+0.000123))-LU350)),IF(LT355>LT352,LT352+SQRT(POWER(LT355-LT352,2)+POWER(LU355-LU352,2))*COS(ATAN((LU352-LU355)/(LT355-LT352+0.000123))-LU350),LT352-SQRT(POWER(LT355-LT352,2)+POWER(LU355-LU352,2))*COS(ATAN((LU352-LU355)/(LT352-LT355+0.000123))+LU350)))","v":9.0442556145955066},{"$f":"IF(LU355>LU352,IF(LT355>LT352,LU352+SQRT(POWER(LT355-LT352,2)+POWER(LU355-LU352,2))*SIN(ATAN((LU355-LU352)/(LT355-LT352+0.000123))+LU350),LU352+SQRT(POWER(LT355-LT352,2)+POWER(LU355-LU352,2))*SIN(ATAN((LU355-LU352)/(LT352-LT355+0.000123))-LU350)),IF(LT355>LT352,LU352-SQRT(POWER(LT355-LT352,2)+POWER(LU355-LU352,2))*SIN(ATAN((LU352-LU355)/(LT355-LT352+0.000123))-LU350),LU352-SQRT(POWER(LT355-LT352,2)+POWER(LU355-LU352,2))*SIN(ATAN((LU352-LU355)/(LT352-LT355+0.000123))+LU350)))","v":27.601481094785978},"ef6",null,null,null,null,null,{"$f":"LX371","v":1.1253763643619994},{"$f":"LY371","v":36.964433076671945},"g10",null,null,12.419968343632444,59.488720843142957,"b20","نقطه قبل از چرخش",{"$f":"IF(ML355>ML351,IF(MK355>MK351,MK351+SQRT(POWER(MK355-MK351,2)+POWER(ML355-ML351,2))*COS(ATAN((ML355-ML351)/(MK355-MK351+0.000123))+ML349),MK351-SQRT(POWER(MK355-MK351,2)+POWER(ML355-ML351,2))*COS(ATAN((ML355-ML351)/(MK351-MK355+0.000123))-ML349)),IF(MK355>MK351,MK351+SQRT(POWER(MK355-MK351,2)+POWER(ML355-ML351,2))*COS(ATAN((ML351-ML355)/(MK355-MK351+0.000123))-ML349),MK351-SQRT(POWER(MK355-MK351,2)+POWER(ML355-ML351,2))*COS(ATAN((ML351-ML355)/(MK351-MK355+0.000123))+ML349)))","v":13.449008786448843},{"$f":"IF(ML355>ML351,IF(MK355>MK351,ML351+SQRT(POWER(MK355-MK351,2)+POWER(ML355-ML351,2))*SIN(ATAN((ML355-ML351)/(MK355-MK351+0.000123))+ML349),ML351+SQRT(POWER(MK355-MK351,2)+POWER(ML355-ML351,2))*SIN(ATAN((ML355-ML351)/(MK351-MK355+0.000123))-ML349)),IF(MK355>MK351,ML351-SQRT(POWER(MK355-MK351,2)+POWER(ML355-ML351,2))*SIN(ATAN((ML351-ML355)/(MK355-MK351+0.000123))-ML349),ML351-SQRT(POWER(MK355-MK351,2)+POWER(ML355-ML351,2))*SIN(ATAN((ML351-ML355)/(MK351-MK355+0.000123))+ML349)))","v":60.050070775058387},"c20",null,null,null,null,null,null,null,null,null,null,13.503102752905569,59.999961952869228,"b20","نقطه قبل از چرخش",{"$f":"IF(NC355>NC351,IF(NB355>NB351,NB351+SQRT(POWER(NB355-NB351,2)+POWER(NC355-NC351,2))*COS(ATAN((NC355-NC351)/(NB355-NB351+0.000123))+NC349),NB351-SQRT(POWER(NB355-NB351,2)+POWER(NC355-NC351,2))*COS(ATAN((NC355-NC351)/(NB351-NB355+0.000123))-NC349)),IF(NB355>NB351,NB351+SQRT(POWER(NB355-NB351,2)+POWER(NC355-NC351,2))*COS(ATAN((NC351-NC355)/(NB355-NB351+0.000123))-NC349),NB351-SQRT(POWER(NB355-NB351,2)+POWER(NC355-NC351,2))*COS(ATAN((NC351-NC355)/(NB351-NB355+0.000123))+NC349)))","v":14.55221276443136},{"$f":"IF(NC355>NC351,IF(NB355>NB351,NC351+SQRT(POWER(NB355-NB351,2)+POWER(NC355-NC351,2))*SIN(ATAN((NC355-NC351)/(NB355-NB351+0.000123))+NC349),NC351+SQRT(POWER(NB355-NB351,2)+POWER(NC355-NC351,2))*SIN(ATAN((NC355-NC351)/(NB351-NB355+0.000123))-NC349)),IF(NB355>NB351,NC351-SQRT(POWER(NB355-NB351,2)+POWER(NC355-NC351,2))*SIN(ATAN((NC351-NC355)/(NB355-NB351+0.000123))-NC349),NC351-SQRT(POWER(NB355-NB351,2)+POWER(NC355-NC351,2))*SIN(ATAN((NC351-NC355)/(NB351-NB355+0.000123))+NC349)))","v":60.610116541808068},"c20"]
[null,null,null,null,null,"u30",{"$f":"'متغیرها '!C340","v":0},null,{"$f":"G362*G357*0.01","v":0},"d3 d'3",{"$f":"ATAN((F356-F355)/(G355-G356+0.00001))","v":0},"αd3",null,{"$f":"-J341+G364","v":0},{"$f":"K341","v":48},"u5",null,null,null,null,null,null,null,null,null,null,{"$f":"-(X318-R308+R334)+R336+2*X308","v":10},{"$f":"AB358","v":144.24},"s'd6",null,null,null,null,null,null,null,null,null,null,null,null,null,null,"متغیر ورودی طول","a21",1,null,null,null,null,null,null,null,null,null,{"$f":"AW314+BA353","v":34.298788005957988},{"$f":"AX314-BA354+BA352","v":90},"sfp16",null,null,null,null,null,{"$f":"BD359","v":20},{"$f":"BE359","v":88.56},"sd1",null,null,{"$f":"'متغیرها '!C134","v":0},"انتخاب ترک گشاد",null,{"$f":"BT354+1*BQ358*COS(BQ368)","v":14.737774999999999},{"$f":"BU354+1*BQ358*SIN(BQ368)","v":26.950000000000003},"e213",null,{"$f":"BT366","v":14.737774999999999},{"$f":"BU366","v":34.118380736880859},{"$f":"BV366","v":"e216"},null,null,null,null,null,null,null,null,null,null,null,null,null,null,null,null,null,null,null,null,null,null,{"$f":"'متغیرها '!C134","v":0},"انتخاب ترک گشاد",null,{"$f":"CZ354-1*CW358*COS(CW368)","v":-14.737774999999999},{"$f":"DA354-1*CW358*SIN(CW368)","v":26.950000000000003},"e213",null,{"$f":"CZ366","v":-14.737774999999999},{"$f":"DA366","v":34.118380736880859},{"$f":"DB366","v":"e216"},null,"e01",{"$f":"IF(DI347<1,DI347*DI349,DI349+(DI347-1)*(DI350-DI349))+DI346","v":26.950000000000003},null,null,null,null,null,null,null,null,null,null,null,null,null,null,null,null,null,null,null,null,null,null,null,null,null,null,null,null,null,null,null,null,null,null,null,null,null,null,null,null,null,null,null,"نقطه دوم",{"$f":"EZ356","v":"b16"},{"$f":"FA356","v":14.022580190996671},{"$f":"FB356","v":68.675635691210431},null,null,null,null,null,null,{"$f":"FA373+FA376","v":7.3400475927238986},{"$f":"FB373+FA377","v":58.3},{"$f":"EZ373","v":" بالاتنه 5"},null,{"$f":"BS104+BT130","v":7.3400475927238986},{"$f":"BT104","v":58.3},"شیفت 5 بالاتنه",null,null,null,null,null,{"$f":"-FK329-GA306","v":-7.3400475927238986},{"$f":"FL329","v":58.3}," بالاتنه 5",null,null,null,null,null,null,"نقطه دوم",{"$f":"GE356","v":"b16"},{"$f":"GF356","v":12.798737219451976},{"$f":"GG356","v":69.368548481293715},null,null,"شیفت عمودی کل",{"$f":"'متغیرها '!C52","v":0},null,null,null,null,null,null,null,null,null,null,null,null,null,null,null,null,null,null,null,null,null,null,null,null,null,null,null,null,null,null,null,null,null,null,"d4  b14ʻ",{"$f":"0.2*(HW313-HW317)+HW317","v":9.2136008823851192},{"$f":"HX341+((HW360-HW341)/(HW313-HW341))*(HX313-HX341)+0.75*'متغیرها '!C358*(HW310-HW341)","v":56.776882030846174},null,"نقطه دوم از خط دوم",40,{"$f":"HW317","v":7.1825999999999999},{"$f":"HX317","v":59.816656485349888},null,null,null,null,null,{"$f":"-II344","v":-7.1781548762964151},{"$f":"IJ344","v":59.897466485103948},"شیفتd4  b6''",null,{"$f":"-IM344","v":-7.3481709939950992},{"$f":"IN344","v":56.806663316152935},"شیفتd4  b14''",null,null,{"$f":"IR354","v":0},{"$f":"IS354+IS355*(IS353-IS354)","v":37.584250000000004},"8n'",null,"نقطه ورودی بالا","a5",{"$f":"IU311","v":14.572583422017283},{"$f":"IV311","v":48},null,null,null,{"$f":"IY321","v":0},{"$f":"IZ321","v":42.24},"a'15",null,{"$f":"JG359","v":10.915017612874912},{"$f":"JH358","v":33.775000000000006},"c53",null,{"$f":"IU353","v":14.572583422017283},{"$f":"IV353","v":36.700000000000003},"a67",null,{"$f":"IY353","v":-14.572583422017283},{"$f":"IZ353","v":36.700000000000003},"a'67",null,{"$f":"IU339","v":10.915017612874912},{"$f":"IV339","v":33.775000000000006},"a53",null,{"$f":"IY339","v":-10.915017612874912},{"$f":"IZ339","v":33.775000000000006},"a'53",null,null,null,null,null,null,null,null,null,null,null,null,null,{"$f":"KM323+KJ333+KJ335+KJ336+KJ337","v":18.618675},{"$f":"KN323","v":38.96},"b65",null,{"$f":"KQ323+KJ340+KJ341+KJ342+KJ343","v":-33.618674999999996},{"$f":"KR323","v":38.96},"b'65",null,{"$f":"KM330","v":-4},{"$f":"KN330","v":31.676250000000003},"b25",null,null,null,null,null,null,null,null,null,null,null,null,null,{"$f":"KM320","v":0},{"$f":"KN320","v":36.700000000000003},"b14",null,{"$f":"KQ320","v":-15},{"$f":"KR320","v":36.700000000000003},"b'14",null,null,{"$f":"LX308","v":1.6747965700921248},{"$f":"LY308","v":43.015384615384619},"an3","نقطه قبل از چرخش",{"$f":"IF(LU360>LU352,IF(LT360>LT352,LT352+SQRT(POWER(LT360-LT352,2)+POWER(LU360-LU352,2))*COS(ATAN((LU360-LU352)/(LT360-LT352+0.000123))+LU350),LT352-SQRT(POWER(LT360-LT352,2)+POWER(LU360-LU352,2))*COS(ATAN((LU360-LU352)/(LT352-LT360+0.000123))-LU350)),IF(LT360>LT352,LT352+SQRT(POWER(LT360-LT352,2)+POWER(LU360-LU352,2))*COS(ATAN((LU352-LU360)/(LT360-LT352+0.000123))-LU350),LT352-SQRT(POWER(LT360-LT352,2)+POWER(LU360-LU352,2))*COS(ATAN((LU352-LU360)/(LT352-LT360+0.000123))+LU350)))","v":-1.3849577424923218},{"$f":"IF(LU360>LU352,IF(LT360>LT352,LU352+SQRT(POWER(LT360-LT352,2)+POWER(LU360-LU352,2))*SIN(ATAN((LU360-LU352)/(LT360-LT352+0.000123))+LU350),LU352+SQRT(POWER(LT360-LT352,2)+POWER(LU360-LU352,2))*SIN(ATAN((LU360-LU352)/(LT352-LT360+0.000123))-LU350)),IF(LT360>LT352,LU352-SQRT(POWER(LT360-LT352,2)+POWER(LU360-LU352,2))*SIN(ATAN((LU352-LU360)/(LT360-LT352+0.000123))-LU350),LU352-SQRT(POWER(LT360-LT352,2)+POWER(LU360-LU352,2))*SIN(ATAN((LU352-LU360)/(LT352-LT360+0.000123))+LU350)))","v":33.168981640328212},"f3",null,null,null,null,null,null,null,null,null,null,19.170606215878333,37.786024256178351,"b9","نقطه قبل از چرخش",{"$f":"IF(ML360>ML351,IF(MK360>MK351,MK351+SQRT(POWER(MK360-MK351,2)+POWER(ML360-ML351,2))*COS(ATAN((ML360-ML351)/(MK360-MK351+0.000123))+ML349),MK351-SQRT(POWER(MK360-MK351,2)+POWER(ML360-ML351,2))*COS(ATAN((ML360-ML351)/(MK351-MK360+0.000123))-ML349)),IF(MK360>MK351,MK351+SQRT(POWER(MK360-MK351,2)+POWER(ML360-ML351,2))*COS(ATAN((ML351-ML360)/(MK360-MK351+0.000123))-ML349),MK351-SQRT(POWER(MK360-MK351,2)+POWER(ML360-ML351,2))*COS(ATAN((ML351-ML360)/(MK351-MK360+0.000123))+ML349)))","v":22.065482423649474},{"$f":"IF(ML360>ML351,IF(MK360>MK351,ML351+SQRT(POWER(MK360-MK351,2)+POWER(ML360-ML351,2))*SIN(ATAN((ML360-ML351)/(MK360-MK351+0.000123))+ML349),ML351+SQRT(POWER(MK360-MK351,2)+POWER(ML360-ML351,2))*SIN(ATAN((ML360-ML351)/(MK351-MK360+0.000123))-ML349)),IF(MK360>MK351,ML351-SQRT(POWER(MK360-MK351,2)+POWER(ML360-ML351,2))*SIN(ATAN((ML351-ML360)/(MK360-MK351+0.000123))-ML349),ML351-SQRT(POWER(MK360-MK351,2)+POWER(ML360-ML351,2))*SIN(ATAN((ML351-ML360)/(MK351-MK360+0.000123))+ML349)))","v":39.01830897530197},"c9",null,null,null,null,null,null,null,null,null,null,19.407854415615546,37.334611260466055,"b9","نقطه قبل از چرخش",{"$f":"IF(NC360>NC351,IF(NB360>NB351,NB351+SQRT(POWER(NB360-NB351,2)+POWER(NC360-NC351,2))*COS(ATAN((NC360-NC351)/(NB360-NB351+0.000123))+NC349),NB351-SQRT(POWER(NB360-NB351,2)+POWER(NC360-NC351,2))*COS(ATAN((NC360-NC351)/(NB351-NB360+0.000123))-NC349)),IF(NB360>NB351,NB351+SQRT(POWER(NB360-NB351,2)+POWER(NC360-NC351,2))*COS(ATAN((NC351-NC360)/(NB360-NB351+0.000123))-NC349),NB351-SQRT(POWER(NB360-NB351,2)+POWER(NC360-NC351,2))*COS(ATAN((NC351-NC360)/(NB351-NB360+0.000123))+NC349)))","v":22.409924413268001},{"$f":"IF(NC360>NC351,IF(NB360>NB351,NC351+SQRT(POWER(NB360-NB351,2)+POWER(NC360-NC351,2))*SIN(ATAN((NC360-NC351)/(NB360-NB351+0.000123))+NC349),NC351+SQRT(POWER(NB360-NB351,2)+POWER(NC360-NC351,2))*SIN(ATAN((NC360-NC351)/(NB351-NB360+0.000123))-NC349)),IF(NB360>NB351,NC351-SQRT(POWER(NB360-NB351,2)+POWER(NC360-NC351,2))*SIN(ATAN((NC351-NC360)/(NB360-NB351+0.000123))-NC349),NC351-SQRT(POWER(NB360-NB351,2)+POWER(NC360-NC351,2))*SIN(ATAN((NC351-NC360)/(NB351-NB360+0.000123))+NC349)))","v":38.545636587416752},"c9",null,null,null,null,null,null,null,null,null,null,null,null,null,null,null,null,"نقطه ورودی سر فلش","مولفه افقی","مولفه عمودی",{"$f":"NZ363","v":0.3833333333333333},{"$f":"OA363","v":11.225},{"$f":"NY363","v":"f3"}]
[null,null,null,null,null,null,null,null,null,null,null,null,null,{"$f":"-J341+G364","v":0},{"$f":"K341","v":48},"u5",null,null,null,null,null,null,null,null,null,null,{"$f":"Z377","v":-4.5725834223199602},{"$f":"AA377","v":149.99999000000003},"s'd8",null,{"$f":"-X338+2*X308","v":-14.037774999999998},{"$f":"Y338","v":34.118380736880852},"s'p33",null,null,null,null,null,null,null,null,null,null,"نقطه خروجی میانه",null,{"$f":"AT357+AT360*AU362*SIN(AS362)/AU361","v":34.638497674560163},{"$f":"AU357-AT360*AU362*COS(AS362)/AU361","v":89.999990000000011},null,null,null,null,null,null,null,null,{"$f":"-AW322+BA353+2*AW308","v":5.361502325292701},{"$f":"AX322-BA354+BA352","v":90},"s'd3",null,null,null,null,null,{"$f":"BD369","v":23},{"$f":"BE369","v":88.56},"s'd7",null,"(47'→e22)",{"$f":"SQRT(POWER((BQ363),2)-POWER((BQ364),2))","v":2.9249999999999972},null,null,{"$f":"BT350+1.5*BQ358*COS(BQ368)","v":14.737774999999999},{"$f":"BU350+1.5*BQ358*SIN(BQ368)","v":34.118380736880859},"e217",null,{"$f":"BT360","v":14.737774999999999},{"$f":"BU360","v":26.950000000000003},{"$f":"BV360","v":"e213"},null,{"$f":"-BX363-HY101","v":-14.737774999999999},{"$f":"BY363","v":34.118380736880859},"e220",null,null,null,null,null,null,null,null,null,null,null,null,null,null,null,null,null,"(47'→e22)",{"$f":"SQRT(POWER((CW363),2)-POWER((CW364),2))","v":2.9249999999999972},null,null,{"$f":"CZ350-1.5*CW358*COS(CW368)","v":-14.737774999999999},{"$f":"DA350-1.5*CW358*SIN(CW368)","v":34.118380736880859},"e217",null,{"$f":"CZ360","v":-14.737774999999999},{"$f":"DA360","v":26.950000000000003},{"$f":"DB360","v":"e213"},null,null,null,null,null,null,null,null,null,{"$f":"DL359","v":-4},{"$f":"DM359","v":33.775000000000006},{"$f":"DN359","v":"e216"},null,{"$f":"-DP365+DU340","v":4},33.775000000000006,"e216",null,null,null,null,null,null,null,null,null,null,null,null,null,null,null,null,null,null,null,null,null,null,null,null,null,{"$f":"-CF343-HY101","v":-6.990047592723899},{"$f":"CG343","v":33.775000000000006},"e21",null,"(g1→ g5)",{"$f":"'متغیرها '!C354*FA356","v":0},null,"g5",{"$f":"FC363+FA365*SIN(FE374)","v":8.3731217106725904},{"$f":"FD363+FA365*COS(FE374)","v":64.495468971101573},null,null,null,null,null,null,null,null,null,null,null,null,null,null,null,null,null,null,null,null,null,{"$f":"-FK336-GA306","v":-7.3400475927238986},{"$f":"FL336","v":58.3}," 5 بالاتنه",null,"(g1→ g5)",{"$f":"'متغیرها '!C354*GF356","v":0},null,"g5",{"$f":"GH363+GF365*SIN(GM363)","v":8.1018164586722587},{"$f":"GI363+GF365*COS(GM363)","v":65.306577814807028},null,"ضریب افقی g8",0.5,null,null,null,null,null,null,null,null,null,null,null,null,null,null,null,null,null,null,null,null,null,null,null,null,null,null,null,null,null,null,null,null,null,null,null,null,null,null,"نقطه دوم از خط اول","d'4b12",{"$f":"HW348","v":8.1836794428889696},{"$f":"HX348","v":62.980326921139579},null,null,null,null,null,{"$f":"-II349","v":0},{"$f":"IJ349","v":58},"d3",null,{"$f":"-IM349","v":0},{"$f":"IN349","v":58},"d3",null,null,null,null,null,null,"m1",{"$f":"ATAN(IF(IX361>IX360,1,-1)*(IX361-IX360)/(IY360-IY361))","v":0},"m2",{"$f":"SQRT(POWER(IX360-IX361,2)+POWER(IY360-IY361,2))","v":11.299999999999997},null,null,null,null,null,null,null,{"$f":"IU315","v":14.037775},{"$f":"IV315","v":33.775000000000006},"d60",null,null,null,null,null,null,null,null,null,11.183445400053179,33.775000000000006,"a58",null,-11.183445400053179,33.775000000000006,"a'58",null,null,null,null,null,null,null,null,null,null,null,null,null,null,null,null,null,null,null,null,null,{"$f":"KM329","v":-4},{"$f":"KN329","v":33.775000000000006},"b24",null,null,null,null,null,null,null,null,null,null,null,null,null,null,null,null,null,null,null,null,null,null,null,null,null,null,null,null,null,null,null,null,null,null,{"$f":"LX385","v":13.698307279940417},{"$f":"LY385","v":28.958407443894412},"fg2",null,null,{"$f":"MO310","v":9.2176567372941847},{"$f":"MP310","v":33.775000000000006},"a11","نقطه قبل از چرخش",{"$f":"IF(ML365>ML351,IF(MK365>MK351,MK351+SQRT(POWER(MK365-MK351,2)+POWER(ML365-ML351,2))*COS(ATAN((ML365-ML351)/(MK365-MK351+0.000123))+ML349),MK351-SQRT(POWER(MK365-MK351,2)+POWER(ML365-ML351,2))*COS(ATAN((ML365-ML351)/(MK351-MK365+0.000123))-ML349)),IF(MK365>MK351,MK351+SQRT(POWER(MK365-MK351,2)+POWER(ML365-ML351,2))*COS(ATAN((ML351-ML365)/(MK365-MK351+0.000123))-ML349),MK351-SQRT(POWER(MK365-MK351,2)+POWER(ML365-ML351,2))*COS(ATAN((ML351-ML365)/(MK351-MK365+0.000123))+ML349)))","v":12.500007962474438},{"$f":"IF(ML365>ML351,IF(MK365>MK351,ML351+SQRT(POWER(MK365-MK351,2)+POWER(ML365-ML351,2))*SIN(ATAN((ML365-ML351)/(MK365-MK351+0.000123))+ML349),ML351+SQRT(POWER(MK365-MK351,2)+POWER(ML365-ML351,2))*SIN(ATAN((ML365-ML351)/(MK351-MK365+0.000123))-ML349)),IF(MK365>MK351,ML351-SQRT(POWER(MK365-MK351,2)+POWER(ML365-ML351,2))*SIN(ATAN((ML351-ML365)/(MK365-MK351+0.000123))-ML349),ML351-SQRT(POWER(MK365-MK351,2)+POWER(ML365-ML351,2))*SIN(ATAN((ML351-ML365)/(MK351-MK365+0.000123))+ML349)))","v":34.155060900359715},"c11",null,null,null,null,null,null,null,null,null,null,{"$f":"NF310","v":11.148038836061383},{"$f":"NG310","v":33.775000000000006},"a11","نقطه قبل از چرخش",{"$f":"IF(NC365>NC351,IF(NB365>NB351,NB351+SQRT(POWER(NB365-NB351,2)+POWER(NC365-NC351,2))*COS(ATAN((NC365-NC351)/(NB365-NB351+0.000123))+NC349),NB351-SQRT(POWER(NB365-NB351,2)+POWER(NC365-NC351,2))*COS(ATAN((NC365-NC351)/(NB351-NB365+0.000123))-NC349)),IF(NB365>NB351,NB351+SQRT(POWER(NB365-NB351,2)+POWER(NC365-NC351,2))*COS(ATAN((NC351-NC365)/(NB365-NB351+0.000123))-NC349),NB351-SQRT(POWER(NB365-NB351,2)+POWER(NC365-NC351,2))*COS(ATAN((NC351-NC365)/(NB351-NB365+0.000123))+NC349)))","v":14.491794964085853},{"$f":"IF(NC365>NC351,IF(NB365>NB351,NC351+SQRT(POWER(NB365-NB351,2)+POWER(NC365-NC351,2))*SIN(ATAN((NC365-NC351)/(NB365-NB351+0.000123))+NC349),NC351+SQRT(POWER(NB365-NB351,2)+POWER(NC365-NC351,2))*SIN(ATAN((NC365-NC351)/(NB351-NB365+0.000123))-NC349)),IF(NB365>NB351,NC351-SQRT(POWER(NB365-NB351,2)+POWER(NC365-NC351,2))*SIN(ATAN((NC351-NC365)/(NB365-NB351+0.000123))-NC349),NC351-SQRT(POWER(NB365-NB351,2)+POWER(NC365-NC351,2))*SIN(ATAN((NC351-NC365)/(NB351-NB365+0.000123))+NC349)))","v":34.279655837445716},"c11",null,null,null,null,null,null,null,null,null,null,null,null,null,null,null,null,null,null,"انحنا چپگرد ",null,null,{"$f":"OA365","v":"انحنا چپگرد "}]
[null,null,null,null,null,null,null,null,null,null,null,null,null,{"$f":"-J352+G364","v":-7.4226433817152566},{"$f":"K352","v":45.6},"dd5",null,null,null,null,"ماکزیمم متغیر ورودی  ضریب طول",1,null,"نقطه ورودی پایین","s'd3",{"$f":"AA343","v":-4.5725834220172814},{"$f":"AB343","v":150},null,null,null,null,null,null,null,null,null,null,null,null,null,null,null,null,"متغیر ورودی طول","a21",1,null,null,null,null,null,null,null,null,null,{"$f":"BD356+AR335","v":23},{"$f":"BE356","v":90},"s'u8",null,null,null,null,null,{"$f":"BD363","v":5.7013250000000006},{"$f":"BE363","v":90},"s'u3",null,"(e25→e29)",{"$f":"SQRT(POWER((BQ370),2)-POWER((BQ369),2))","v":5.1366995618669895},null,null,null,null,null,null,{"$f":"BT362","v":14.737774999999999},{"$f":"BU362","v":26.950000000000003},{"$f":"BV362","v":"e215"},null,{"$f":"-BX369-HY101","v":-14.737774999999999},{"$f":"BY369","v":34.118380736880859},"e217",null,null,null,null,null,null,null,null,null,null,null,null,null,null,null,null,null,"(e25→e29)",{"$f":"SQRT(POWER((CW370),2)-POWER((CW369),2))","v":5.1366995618669895},null,null,null,null,null,null,{"$f":"CZ362","v":-14.737774999999999},{"$f":"DA362","v":26.950000000000003},{"$f":"DB362","v":"e215"},null,null,null,null,null,null,null,null,null,null,null,null,null,null,null,null,null,null,null,null,null,null,null,null,null,null,null,null,null,null,null,null,null,null,null,null,null,null,null,null,null,null,null,null,null,"اسم نقطه","مولفه افقی","مولفه عمودی",null,null,null,null,null,null,null,null,null,null,null,null,null,null,null,null,null,null,null,null,null,null,null,null,null,null,null,null,null,null,null,null,null,null,null,null,null,null,null,null,null,null,null,null,null,null,null,null,null,null,null,null,null,null,null,null,null,null,null,null,null,null,null,null,null,null,null,null,null,null,null,null,null,null,null,"نقطه اول از خط اول","d4b6",{"$f":"HW350","v":5.7460800000000001},{"$f":"HX350","v":59.295893583072562},null,null,null,null,null,{"$f":"HW335","v":0},{"$f":"HX335","v":38.993516450988778},"m'11",null,{"$f":"HW335","v":0},{"$f":"HX335","v":38.993516450988778},"m'11",null,null,null,null,null,null,null,null,null,null,null,null,null,null,null,null,null,null,null,null,null,null,null,null,null,null,null,null,null,null,null,null,null,null,null,null,null,null,null,null,null,null,null,null,null,null,"متغیر ورودی طول","a21",{"$f":"IR329","v":16},null,null,"متغیر ورودی طول","a23",{"$f":"IR331","v":16},null,null,null,{"$f":"KQ312","v":-34.098675},{"$f":"KR312","v":36.700000000000003},"b'6",null,null,null,null,null,null,null,null,null,null,null,null,null,null,null,"چاک",null,null,null,"چاک",null,null,{"$f":"LX310","v":5.3965667258524022},{"$f":"LY310","v":44.738461538461543},"an10","نقطه قبل از چرخش",{"$f":"IF(LU371>LU370,IF(LT371>LT370,LT370+SQRT(POWER(LT371-LT370,2)+POWER(LU371-LU370,2))*COS(ATAN((LU371-LU370)/(LT371-LT370+0.000123))+LU368),LT370-SQRT(POWER(LT371-LT370,2)+POWER(LU371-LU370,2))*COS(ATAN((LU371-LU370)/(LT370-LT371+0.000123))-LU368)),IF(LT371>LT370,LT370+SQRT(POWER(LT371-LT370,2)+POWER(LU371-LU370,2))*COS(ATAN((LU370-LU371)/(LT371-LT370+0.000123))-LU368),LT370-SQRT(POWER(LT371-LT370,2)+POWER(LU371-LU370,2))*COS(ATAN((LU370-LU371)/(LT370-LT371+0.000123))+LU368)))","v":1.1253763643619994},{"$f":"IF(LU371>LU370,IF(LT371>LT370,LU370+SQRT(POWER(LT371-LT370,2)+POWER(LU371-LU370,2))*SIN(ATAN((LU371-LU370)/(LT371-LT370+0.000123))+LU368),LU370+SQRT(POWER(LT371-LT370,2)+POWER(LU371-LU370,2))*SIN(ATAN((LU371-LU370)/(LT370-LT371+0.000123))-LU368)),IF(LT371>LT370,LU370-SQRT(POWER(LT371-LT370,2)+POWER(LU371-LU370,2))*SIN(ATAN((LU370-LU371)/(LT371-LT370+0.000123))-LU368),LU370-SQRT(POWER(LT371-LT370,2)+POWER(LU371-LU370,2))*SIN(ATAN((LU370-LU371)/(LT370-LT371+0.000123))+LU368)))","v":36.964433076671945},"g10",null,null,null,null,null,14.402412387916122,19.212173703136628,"efg8",null,null,null,null,null,null,null,null,null,null,null,null,null,null,null,null,null,null,null,null,null,null,null,null,null,null,null,null,null,null,null,null,null,null,null,null,null,null,null,null,null,null,"g2",{"$f":"NZ369","v":2},{"$f":"OA369+NZ366","v":12.5}]
[null,null,null,null,null,null,null,null,null,null,null,null,null,null,null,null,null,null,null,null,null,null,null,"نقطه خروجی بالا","s'u9",{"$f":"Z370-Z372*COS(Y375)","v":-4.7377749999999992},{"$f":"AA370+Z372*SIN(Y375)","v":150},null,null,null,null,null,null,null,null,null,null,null,null,null,null,null,null,"نقطه خروجی میانه",null,{"$f":"AT368-AT371*AU373*SIN(AS373)/AU372","v":5.3615023254398366},{"$f":"AU368-AT371*AU373*COS(AS373)/AU372","v":89.999990000000011},null,null,null,null,null,null,null,null,null,null,null,null,null,null,null,null,null,null,null,null,null,null,null,null,null,null,null,null,null,null,null,null,{"$f":"-BX374-HY101","v":-14.737774999999999},{"$f":"BY374","v":34.118380736880859},"e21",null,null,null,null,null,null,null,null,null,null,null,null,null,null,null,null,null,null,null,null,null,null,null,null,null,null,null,null,null,null,null,null,null,null,null,null,null,null,null,null,null,null,null,null,null,null,null,null,null,null,null,null,null,null,null,null,null,null,null,null,null,null,null,null,null,null,null,null,null,null,null,null,null,"شیفت افقی کل",{"$f":"'متغیرها '!C51","v":0},null,null,"ضریب افقی g8",0.5,null,null,null,null,null,null,null,null,null,null,null,null,null,null,null,null,null,null,null,null,null,null,null,null,null,null,null,null,null,null,null,null,null,null,null,null,null,null,null,null,null,null,null,null,null,null,null,null,null,null,null,null,null,null,null,null,null,null,null,null,null,null,null,null,null,null,null,null,null,null,null,null,null,null,null,null,null,null,null,null,null,null,null,null,null,null,null,null,null,null,null,null,null,null,null,null,null,null,null,null,null,{"$f":"IY322","v":-14.572583422017283},{"$f":"IZ322","v":38.96},"a'26",null,null,null,null,null,null,null,null,null,null,null,null,null,null,null,null,null,null,null,null,null,null,null,null,null,null,null,null,null,null,"نقطه خروجی میانه","b26",{"$f":"KL368+IF(KL369>KL368,1,-1)*KL371*KM373*SIN(KK373)/KM372","v":18.618675},{"$f":"KM368-KL371*KM373*COS(KK373)/KM372","v":38.96},null,"نقطه خروجی میانه","b15",{"$f":"KQ368+IF(KQ369>KQ368,1,-1)*KQ371*KR373*SIN(KP373)/KR372","v":0},{"$f":"KR368-KQ371*KR373*COS(KP373)/KR372","v":38.672000000000004},null,null,{"$f":"KQ311","v":-31.698675000000001},{"$f":"KR311","v":48},"b'5",null,null,null,null,null,null,null,null,null,null,null,null,null,{"$f":"KM329","v":-4},{"$f":"KN329","v":33.775000000000006},"b24",null,{"$f":"KQ329","v":-11},{"$f":"KR329","v":33.775000000000006},"b'24",null,null,{"$f":"LX361","v":-2.1978176603665034},{"$f":"LY361","v":31.512063209614951},"f1","نقطه قبل از چرخش",{"$f":"IF(LU376>LU370,IF(LT376>LT370,LT370+SQRT(POWER(LT376-LT370,2)+POWER(LU376-LU370,2))*COS(ATAN((LU376-LU370)/(LT376-LT370+0.000123))+LU368),LT370-SQRT(POWER(LT376-LT370,2)+POWER(LU376-LU370,2))*COS(ATAN((LU376-LU370)/(LT370-LT376+0.000123))-LU368)),IF(LT376>LT370,LT370+SQRT(POWER(LT376-LT370,2)+POWER(LU376-LU370,2))*COS(ATAN((LU370-LU376)/(LT376-LT370+0.000123))-LU368),LT370-SQRT(POWER(LT376-LT370,2)+POWER(LU376-LU370,2))*COS(ATAN((LU370-LU376)/(LT370-LT376+0.000123))+LU368)))","v":3.5537063814806551},{"$f":"IF(LU376>LU370,IF(LT376>LT370,LU370+SQRT(POWER(LT376-LT370,2)+POWER(LU376-LU370,2))*SIN(ATAN((LU376-LU370)/(LT376-LT370+0.000123))+LU368),LU370+SQRT(POWER(LT376-LT370,2)+POWER(LU376-LU370,2))*SIN(ATAN((LU376-LU370)/(LT370-LT376+0.000123))-LU368)),IF(LT376>LT370,LU370-SQRT(POWER(LT376-LT370,2)+POWER(LU376-LU370,2))*SIN(ATAN((LU370-LU376)/(LT376-LT370+0.000123))-LU368),LU370-SQRT(POWER(LT376-LT370,2)+POWER(LU376-LU370,2))*SIN(ATAN((LU370-LU376)/(LT370-LT376+0.000123))+LU368)))","v":21.907465077974432},"fg1",null,null,null,null,null,null,null,null,null,null,null,null,null,null,null,null,null,null,null,null,null,null,null,null,null,null,null,null,null,null,null,null,null,null,null,null,null,null,null,null,null,null,null,null,null,null,null,null,null,null,"g8",{"$f":"NZ372-OA367*SIN(RADIANS(40)+ATAN((NZ372-NZ373)/(OA372-OA373)))","v":2.3504113008211527},{"$f":"OA372-OA367*COS(RADIANS(40)+ATAN((NZ372-NZ373)/(OA372-OA373)))","v":11.543048625304019},{"$f":"NZ375","v":2.8844194688684315},{"$f":"OA375","v":11.320545221950985},{"$f":"NY375","v":"g7"}]
[null,null,null,null,null,null,null,null,null,null,null,null,null,null,null,null,null,null,null,null,null,null,null,"نقطه خروجی پایین","s'd8",{"$f":"Z378-Z372*COS(Y375)","v":-4.5725834223199602},{"$f":"AA378+Z372*SIN(Y375)","v":149.99999000000003},null,null,null,null,null,null,null,null,null,null,null,null,null,null,null,null,null,null,null,null,null,null,null,null,null,null,null,null,null,null,null,null,null,null,null,null,{"$f":"BD375","v":5.3615023254398366},{"$f":"BE375","v":89.999990000000011},"s'd8",null,null,null,null,null,null,null,null,null,null,null,null,null,{"$f":"-BX375-HY101","v":-14.737774999999999},{"$f":"BY375","v":34.118380736880859},"e21",null,null,null,null,null,null,null,null,null,null,null,null,null,null,null,null,null,null,null,null,null,null,null,null,null,null,null,null,null,null,null,null,null,null,null,null,null,null,null,null,null,null,null,null,null,null,null,null,null,null,null,null,null,null,null,null,null,null,null,null,null,null,null,null,null,null,null,null,null,null,null,null,null,"شیفت عمودی کل",{"$f":"'متغیرها '!C52","v":0},null,"اسم نقطه","مولفه افقی","مولفه عمودی",null,null,null,null,null,null,null,null,null,null,null,null,null,null,null,null,null,null,null,null,null,null,null,null,null,null,null,null,null,null,null,null,null,null,null,null,null,null,null,null,null,null,null,null,null,null,null,null,null,null,null,null,null,null,null,null,null,null,null,null,null,null,null,null,null,null,null,null,null,null,null,null,null,null,null,null,null,null,null,null,null,null,null,null,null,null,null,null,null,null,null,null,null,null,null,null,null,null,null,null,null,null,null,"بالا کمر ",null,null,null,null,null,null,null,null,null,null,null,null,null,null,null,null,null,null,null,null,null,null,null,null,null,null,null,null,null,null,null,null,null,null,null,null,null,null,null,null,null,{"$f":"KQ324","v":-31.698675000000001},{"$f":"KR324","v":48},"b'28",null,null,null,null,null,null,null,null,null,null,null,null,null,null,null,null,null,null,null,null,null,null,{"$f":"LX360","v":-1.3849577424923218},{"$f":"LY360","v":33.168981640328212},"f3","نقطه قبل از چرخش",{"$f":"IF(LU377>LU370,IF(LT377>LT370,LT370+SQRT(POWER(LT377-LT370,2)+POWER(LU377-LU370,2))*COS(ATAN((LU377-LU370)/(LT377-LT370+0.000123))+LU368),LT370-SQRT(POWER(LT377-LT370,2)+POWER(LU377-LU370,2))*COS(ATAN((LU377-LU370)/(LT370-LT377+0.000123))-LU368)),IF(LT377>LT370,LT370+SQRT(POWER(LT377-LT370,2)+POWER(LU377-LU370,2))*COS(ATAN((LU370-LU377)/(LT377-LT370+0.000123))-LU368),LT370-SQRT(POWER(LT377-LT370,2)+POWER(LU377-LU370,2))*COS(ATAN((LU370-LU377)/(LT370-LT377+0.000123))+LU368)))","v":3.1419011850331344},{"$f":"IF(LU377>LU370,IF(LT377>LT370,LU370+SQRT(POWER(LT377-LT370,2)+POWER(LU377-LU370,2))*SIN(ATAN((LU377-LU370)/(LT377-LT370+0.000123))+LU368),LU370+SQRT(POWER(LT377-LT370,2)+POWER(LU377-LU370,2))*SIN(ATAN((LU377-LU370)/(LT370-LT377+0.000123))-LU368)),IF(LT377>LT370,LU370-SQRT(POWER(LT377-LT370,2)+POWER(LU377-LU370,2))*SIN(ATAN((LU370-LU377)/(LT377-LT370+0.000123))-LU368),LU370-SQRT(POWER(LT377-LT370,2)+POWER(LU377-LU370,2))*SIN(ATAN((LU370-LU377)/(LT370-LT377+0.000123))+LU368)))","v":23.706494194582014},"fg3",null,null,null,null,null,{"$f":"LT312","v":14.572583422017283},{"$f":"LU312","v":48},"a5"]
[null,null,null,null,null,null,null,null,null,null,null,"نقاط شبیه ساز",null,"آستین کیمونو و آستین سرخود و پانچو",null,null,"رسم آستین کیمونو تا خط کمر",null,null,null,"قرینه",{"$f":"2*C102","v":0},null,null,null,null,"پانچو",null,"قرینه",{"$f":"2*C102","v":0},null,null,null,"108آستین کیمونو تا خط کمر ",null,null,null,"قرینه",null,"108'",null,null,null,"رسم آستین سرخود",null,"قرینه",null,"رسم آستین سرخود",null,null,null,null,null,null,null,null,null,null,null,null,null,null,null,null,null,null,null,null,null,null,null,null,null,null,null,null,null,null,null,null,null,null,null,null,null,null,null,null,null,null,null,null,null,null,null,null,null,"پشت شبیه ساز دست با خمیدگی متغیر و سر و قرینه",null,null,null,null,null,null,null,"رسم شبیه ساز دست صاف و سر",null,null,null,"جلو شبیه ساز دست با خمیدگی متغیر و سر و قرینه",null,null,null,null,"شبیه ساز جلو اندام",null,null,null,null,null,null,null,null,null,"شیفت افقی شبیه ساز جلو",{"$f":"'متغیرها '!C51","v":0},null,null,"شیفت عمودی شبیه ساز جلو",{"$f":"H114+'متغیرها '!C52","v":33.775000000000006},null,"رسم قرینه شبیه ساز جلو پیراهن",null,null,null,null,null,null,null,null,"شیفت افقی شبیه ساز پشت",{"$f":"'متغیرها '!C53","v":0},null,null,null,null,null,null,"شیفت عمودی شبیه ساز پشت",{"$f":"'متغیرها '!U59+'متغیرها '!C54","v":17.2},null,null,null,null,null,null,null,null,"طراحی یقه انگلیسی",null,null,null,null,null,null,null,null,null,null,null,null,null,null,null,null,null,null,null,null,null,null,null,null,null,null,null,null,null,null,null,null,null,null,null,null,null,null,null,null,null,null,null,null,null,null,null,null,null,null,null,null,null,null,null,null,null,null,null,null,null,null,null,null,null,null,null,null,null,null,null,null,null,null,null,null,null,null,null,null,null,null,null,null,null,null,null,null,null,null,null,null,null,null,null,null,null,null,null,null,null,null,null,{"$f":"IY309","v":-7.2574518037325406},{"$f":"IZ309","v":37.83},"a'3",null,null,null,null,null,null,null,null,null,null,null,null,null,null,null,null,null,null,null,null,null,null,null,null,null,null,null,null,null,null,null,null,null,null,null,null,null,null,null,null,null,{"$f":"KQ323","v":-33.618674999999996},{"$f":"KR323","v":38.96},"b'27",null,null,null,null,null,null,null,null,null,null,null,null,null,null,null,null,null,null,null,null,null,null,{"$f":"LX356","v":7.2345691608091149},{"$f":"LY356","v":24.253809589187121},"ef7","نقطه قبل از چرخش",{"$f":"IF(LU382>LU370,IF(LT382>LT370,LT370+SQRT(POWER(LT382-LT370,2)+POWER(LU382-LU370,2))*COS(ATAN((LU382-LU370)/(LT382-LT370+0.000123))+LU368),LT370-SQRT(POWER(LT382-LT370,2)+POWER(LU382-LU370,2))*COS(ATAN((LU382-LU370)/(LT370-LT382+0.000123))-LU368)),IF(LT382>LT370,LT370+SQRT(POWER(LT382-LT370,2)+POWER(LU382-LU370,2))*COS(ATAN((LU370-LU382)/(LT382-LT370+0.000123))-LU368),LT370-SQRT(POWER(LT382-LT370,2)+POWER(LU382-LU370,2))*COS(ATAN((LU370-LU382)/(LT370-LT382+0.000123))+LU368)))","v":15.451600056091365},{"$f":"IF(LU382>LU370,IF(LT382>LT370,LU370+SQRT(POWER(LT382-LT370,2)+POWER(LU382-LU370,2))*SIN(ATAN((LU382-LU370)/(LT382-LT370+0.000123))+LU368),LU370+SQRT(POWER(LT382-LT370,2)+POWER(LU382-LU370,2))*SIN(ATAN((LU382-LU370)/(LT370-LT382+0.000123))-LU368)),IF(LT382>LT370,LU370-SQRT(POWER(LT382-LT370,2)+POWER(LU382-LU370,2))*SIN(ATAN((LU370-LU382)/(LT382-LT370+0.000123))-LU368),LU370-SQRT(POWER(LT382-LT370,2)+POWER(LU382-LU370,2))*SIN(ATAN((LU370-LU382)/(LT370-LT382+0.000123))+LU368)))","v":22.207954880695482},"efg7",null,null,null,null,null,{"$f":"LT319","v":14.572583422017283},{"$f":"LU319","v":48},"a28",null,null,null,null,null,null,null,null,null,null,null,null,null,null,null,null,null,null,null,null,null,null,null,null,null,null,null,null,null,null,null,null,null,null,null,null,null,null,null,null,null,null,"نقطه ورودی سر فلش","مولفه افقی","مولفه عمودی",{"$f":"NZ385","v":-15.55},{"$f":"OA385","v":12.725},{"$f":"NY385","v":"f3"}]
[null,null,null,null,null,"(3 → 19)",{"$f":"BK516","v":21.184860781804787},{"$f":"BL516","v":21.597904531804787},null,"k7",{"$f":"F394+(H385+H388)*COS(RADIANS(K390)+I398)","v":23.371499175912739},{"$f":"G394-(H385+H388)*SIN(RADIANS(K390)+I398)","v":57.793082066550973},null,"(k4 →k5)",{"$f":"0.5*H132*'متغیرها '!C394","v":6.3780000000000001},null,{"$f":"M398","v":36.707096044753833},{"$f":"N398","v":50.649486993651962},"k''4",null,{"$f":"-Q387+V382","v":-36.707096044753833},{"$f":"R387","v":50.649486993651962},"k''4",null,{"$f":"Q387","v":36.707096044753833},{"$f":"R387","v":50.649486993651962},"k''4",null,{"$f":"-Y387+AD382","v":-36.707096044753833},{"$f":"Z387","v":50.649486993651962},"k''4",null,null,{"$f":"H407","v":36.705388625895353},{"$f":"I407","v":49.643979947156069},"k''4",null,{"$f":"-AH387-HY101","v":-36.705388625895353},{"$f":"AI387","v":49.643979947156069},"k4",null,{"$f":"H419","v":23.249709473419141},{"$f":"I419","v":60.738556322943388},"k13",null,{"$f":"-AP387-HY101","v":-23.249709473419141},{"$f":"AQ387","v":60.738556322943388},"k13",null,null,18.926338385647909,50.008100040458167,3,null,{"$f":"AY387+2*(SIN(ATAN((AY386-AY385)/(AZ386-AZ385)))*(AZ387-AZ385)+COS(ATAN((AY386-AY385)/(AZ386-AZ385)))*(AY385-AY387))*COS(ATAN((AY386-AY385)/(AZ386-AZ385)))","v":30.244485511560491},{"$f":"AZ387-2*(SIN(ATAN((AY386-AY385)/(AZ386-AZ385)))*(AZ387-AZ385)+COS(ATAN((AY386-AY385)/(AZ386-AZ385)))*(AY385-AY387))*SIN(ATAN((AY386-AY385)/(AZ386-AZ385)))","v":31.556062410786456},{"$f":"BA387","v":3},"تا اوزمان k6 بهینه",null,null,null,16.597706512349827,53.707684816950724,{"$f":"BQ394","v":"k6"},null,{"$f":"BJ387+2*(SIN(ATAN((BJ386-BJ385)/(BK386-BK385)))*(BK387-BK385)+COS(ATAN((BJ386-BJ385)/(BK386-BK385)))*(BJ385-BJ387))*COS(ATAN((BJ386-BJ385)/(BK386-BK385)))","v":15.051981204547642},{"$f":"BK387-2*(SIN(ATAN((BJ386-BJ385)/(BK386-BK385)))*(BK387-BK385)+COS(ATAN((BJ386-BJ385)/(BK386-BK385)))*(BJ385-BJ387))*SIN(ATAN((BJ386-BJ385)/(BK386-BK385)))","v":42.314735908328615},{"$f":"BL387","v":"k6"},"تا کمر k6 بهینه",null,null,null,null,null,19.593504518383618,48.990684843989975,{"$f":"CC394","v":"k6"},null,{"$f":"BW387+2*(SIN(ATAN((BW386-BW385)/(BX386-BX385)))*(BX387-BX385)+COS(ATAN((BW386-BW385)/(BX386-BX385)))*(BW385-BW387))*COS(ATAN((BW386-BW385)/(BX386-BX385)))","v":33.178586833232202},{"$f":"BX387-2*(SIN(ATAN((BW386-BW385)/(BX386-BX385)))*(BX387-BX385)+COS(ATAN((BW386-BW385)/(BX386-BX385)))*(BW385-BW387))*SIN(ATAN((BW386-BW385)/(BX386-BX385)))","v":32.281435030359781},{"$f":"BY387","v":"k6"},"تا پایین لباس k6 بهینه",null,null,null,null,17.105683075845967,52.182366223058516,{"$f":"CO394","v":"k15"},null,{"$f":"CI387+2*(SIN(ATAN((CI386-CI385)/(CJ386-CJ385)))*(CJ387-CJ385)+COS(ATAN((CI386-CI385)/(CJ386-CJ385)))*(CI385-CI387))*COS(ATAN((CI386-CI385)/(CJ386-CJ385)))","v":17.033329193172275},{"$f":"CJ387-2*(SIN(ATAN((CI386-CI385)/(CJ386-CJ385)))*(CJ387-CJ385)+COS(ATAN((CI386-CI385)/(CJ386-CJ385)))*(CI385-CI387))*SIN(ATAN((CI386-CI385)/(CJ386-CJ385)))","v":52.207989413781725},{"$f":"CK387","v":"k15"},"آستین سرخود k15 بهینه",null,null,null,{"$f":"K397","v":35.233447907181443},{"$f":"O397","v":51.128107517833854},"k4",null,{"$f":"K384","v":33.235638773465077},{"$f":"L384","v":47.928942468998635},"k4",null,null,null,null,null,{"$f":"F408","v":35.233447907181443},{"$f":"J408","v":50.128107517833854},"k4'",null,null,{"$f":"AV130","v":2.0976000000000004},{"$f":"AV103-AV131+H114","v":66.188726831407763}," شبیه ساز28",null,null,null,null,null,null,null,null,null,null,{"$f":"AV130+DV382","v":2.0976000000000004},{"$f":"AV103-AV131+DZ382","v":66.188726831407763},28,null,null,null,null,null,{"$f":"-DX387+EC383","v":-2.0976000000000004},{"$f":"AV103-AV131+DZ382","v":66.188726831407763},28,null,null,null,null,null,null,null,null,null,{"$f":"BG129+EL382","v":2.0976000000000004},{"$f":"BG103-BG130+ET382","v":71.608265887462693},26,null,{"$f":"-ER387+EK402","v":-2.0976000000000004},{"$f":"ES387","v":71.608265887462693},26,null,null,null,null,null,{"$f":"O233","v":0.54667649239770189},"γ8",null,null,{"$f":"ATAN((FD390-FD389)/(FC389-FC390))","v":5.9504679352396679E-2},"α26",null,{"$f":"FK385","v":4.8859060682270332},{"$f":"FL385","v":64.524532853384315},{"$f":"FM385","v":"e13"},null,{"$f":"FK387+FG406","v":4.8859060682270332},{"$f":"FL387+FG407","v":64.524532853384315},"e13",null,null,null,null,null,null,null,null,null,null,null,null,null,null,null,null,null,null,null,null,null,null,null,null,null,null,null,null,null,null,null,null,null,null,null,null,null,null,null,null,null,null,null,null,null,null,null,null,null,null,null,null,null,null,null,null,null,null,null,null,null,null,null,null,null,null,null,null,null,null,null,null,null,null,null,null,null,null,null,null,null,null,null,null,null,null,null,null,null,{"$f":"IY310","v":-7.2574518037325406},{"$f":"IZ310","v":45.6},"a'4",null,null,null,null,null,null,null,null,null,null,null,null,null,null,null,null,null,null,null,null,null,null,null,null,null,null,null,null,null,null,null,null,null,null,null,null,null,null,null,null,null,null,null,null,null,null,null,null,null,null,null,null,null,null,null,null,null,null,null,null,null,null,null,null,null,null,null,null,null,null,null,null,null,null,null,null,null,null,{"$f":"LT318","v":14.572583422017283},{"$f":"LU318","v":38.96},"a27",null,null,null,null,null,null,null,null,null,null,null,null,null,null,null,null,null,null,null,null,null,null,null,null,null,null,null,null,null,null,null,null,null,null,null,null,null,null,null,null,null,null,null,null,"انحنا راستگرد ",null,null,{"$f":"OA387","v":"انحنا راستگرد "}]
[null,null,null,null,null,{"$f":"DX385","v":5.2440000000000007},{"$f":"DY385","v":72},{"$f":"AZ140","v":6.1110124614777632},{"$f":"BA140","v":71.728171017165522},25,null,null,null,"(k10 →k11)''",{"$f":"0.5*(H386-2*H389+2*(H385+H387-'متغیرها '!C397*(H385+H388))*((H389)/(H387)))","v":8.9987192651666152},null,null,null,"پهلو لباس",null,null,null,"پهلو لباس",null,{"$f":"L430","v":6.6326000000000001},{"$f":"M430","v":33.775000000000006},{"$f":"N430","v":50},null,{"$f":"-Y393+AD382","v":-6.6326000000000001},{"$f":"Z393","v":33.775000000000006},50,null,null,null,null,"پهلو و پایین لباس",null,null,null,"پهلو و پایین لباس",null,null,null,"پهلو و پایین لباس",null,null,null,"پهلو و پایین لباس",null,null,{"$f":"AY392+AX391","v":-96},-1.6755160819145565,{"$f":"BF393+BF390*COS(AZ393)","v":16.608592862431934},{"$f":"BG393-BF390*SIN(AZ393)","v":49.967643641863347},{"$f":"SQRT(POWER((BF392-BA393),2)+POWER((BG392-BB393),2))","v":16.591713798260564},{"$f":"ABS(BF389-BC393)","v":2.2518732789958573},"42پشت",{"$f":"Q410","v":17.998675000000002},{"$f":"R410","v":36.741895563735973},"راس چپ",null,null,{"$f":"BK392+BJ391","v":-96},-1.6755160819145565,{"$f":"BR393+BR390*COS(BL393)","v":14.997302557484732},{"$f":"BS393-BR390*SIN(BL393)","v":53.76357215455225},{"$f":"SQRT(POWER((BR392-BM393),2)+POWER((BS392-BN393),2))","v":19.395014792364776},{"$f":"ABS(BR389-BO393)","v":1.468597229515634},"پشت36",{"$f":"Q392","v":15.598675},{"$f":"R392","v":48.04189556373597},"راس چپ",null,null,{"$f":"BW392+BV391","v":-88},-1.5358897417550099,{"$f":"CD393+CD390*COS(BX393)","v":18.53114956030576},{"$f":"CE393-CD390*SIN(BX393)","v":49.064971939360738},{"$f":"SQRT(POWER((CD392-BY393),2)+POWER((CE392-BZ393),2))","v":14.50735471756162},{"$f":"ABS(CD389-CA393)","v":1.0036725192355291},"پشت43''",{"$f":"Q425","v":17.998675000000002},{"$f":"R425","v":33.816895563735976},"راس چپ",null,null,{"$f":"CI392+CH391","v":-94},-1.6406094968746698,{"$f":"CP393+CP390*COS(CJ393)","v":15.291314245593099},{"$f":"CQ393-CP390*SIN(CJ393)","v":52.437359132920257},{"$f":"SQRT(POWER((CP392-CK393),2)+POWER((CQ392-CL393),2))","v":4.534157470295284},{"$f":"ABS(CP389-CM393)","v":1.1991534012457121},"36پشت",{"$f":"Q437","v":15.598675},{"$f":"R437","v":48.04189556373597},"راس چپ",null,{"$f":"J426","v":13.653222221952188},{"$f":"K426","v":57.805775654233713},8,null,{"$f":"K386","v":14.384280990915066},{"$f":"L386","v":56.939764530342636},"k6",null,{"$f":"DB394+0.2*(DB392-DB394)","v":12.876856198183013},{"$f":"DC394+0.85*(DC392-DC394)","v":55.650306961323366},"k6'",null,{"$f":"F395","v":13.5},{"$f":"G395","v":58.107260827378596},12,null,null,{"$f":"I106","v":48},"g","کمر تا زمین",null,null,{"$f":"DK389","v":0},{"$f":"DL389","v":48},{"$f":"DM389","v":"کمر"},null,null,null,null,null,{"$f":"AV104-AV121+DV382","v":10.46},{"$f":"AV113+AV122+DZ382","v":59.787260827378589},20,null,null,null,null,null,{"$f":"-DX393+EC383","v":-10.46},{"$f":"AV113+AV122+DZ382","v":59.787260827378589},20,null,null,null,null,null,null,null,null,null,{"$f":"BG108-BG118+EL382","v":11.795966666585658},{"$f":"BG110+BG119+ET382","v":59.905775654233707},16,null,{"$f":"-ER393+EK402","v":-11.795966666585658},59.905775654233707,16,null,null,null,null,{"$f":"DP410","v":11.3153285566821},{"$f":"DQ410","v":69.849252685781607},"g3","پایین شبیه ساز سرشانه",{"$f":"FC401+FD386*COS(RADIANS(FD385)+FD387)","v":-1.5237658073136093},{"$f":"FD401+FD386*SIN(RADIANS(FD385)+FD387)","v":66.468908777408743},"ee15",null,{"$f":"FK391","v":0},{"$f":"FL391","v":55.2},"e1",null,{"$f":"FK397+FG406","v":5.687280822807117},{"$f":"FL397+FG407","v":71.728171017165522},"e'25",null,null,"مولفه افقی","مولفه عمودی","اسم نقطه ",null,"مولفه افقی","مولفه عمودی","اسم نقطه ",null,{"$f":"FT400","v":0},{"$f":"FU400","v":55.2},{"$f":"FV400","v":"e1"},null,{"$f":"GB393+FX407","v":0},{"$f":"GC393+FX408","v":55.2},"e1",null,"شبیه ساز نقاط حلقه آستین جلو بدون ساسون سرشانه",null,null,null,{"$f":"DX385","v":5.2440000000000007},72,25,null,"شبیه ساز حلقه آستین پشت بدون ساسون سرشانه",null,null,null,"بالاتنه",null,null,null,"بالاتنه",null,null,null,"مولفه افقی","مولفه عمودی","اسم نقطه ",null,"نقاط  ورودی از شبیه ساز دامن",null,null,null,{"$f":"HH412","v":12.5},48.343380736880853,"q1",null,"نقاط  ورودی از شبیه ساز دامن",null,null,null,{"$f":"HP416","v":13.3},48,"r1",null,{"$f":"-HT393+HQ412","v":-13.3},{"$f":"HU393","v":48},"r1",null,null,null,null,null,null,null,{"$f":"IF(CO158<CO154,CN158,CN154)","v":7.2574518037325406},{"$f":"IF(CO158<CO154,CO158,CO154)","v":45.6},"39 یا d5",null,{"$f":"-IF(CO158<CO154,CN158,CN154)+IR325","v":-7.2574518037325406},{"$f":"IF(CO158<CO154,CO158,CO154)","v":45.6},"39 یا d5",null,{"$f":"IF(CO158<CO154,CN158,CN154)","v":7.2574518037325406},{"$f":"IF(CO158<CO154,CO158,CO154)","v":45.6},"39 یا d5",null,{"$f":"-IF(CO158<CO154,CN158,CN154)+IR325","v":-7.2574518037325406},{"$f":"IF(CO158<CO154,CO158,CO154)","v":45.6},"39 یا d5",null,{"$f":"CN170","v":0},{"$f":"CO170","v":46.56},"d1",null,null,{"$f":"IY314","v":-7.6948203334515082},{"$f":"IZ314","v":33.775000000000006},"a'8",null,7.2574518037325406,45.6,"a2",null,{"$f":"JG416+JG435+(JH416+JG436-JL393)*TAN(JG437)","v":33.671258422017281},{"$f":"JG441+JG438","v":0},"w16",null,{"$f":"JG394","v":7.2574518037325406},{"$f":"JH394","v":37.83},"a3",null,{"$f":"JK419","v":16.042747817619862},{"$f":"JL419","v":26.95},"w44",null,null,null,null,null,null,null,null,null,null,null,null,null,null,null,null,null,null,null,null,null,null,null,null,null,null,null,null,null,null,null,null,null,null,null,null,null,null,null,null,null,null,null,null,null,null,null,null,null,null,null,null,null,null,null,null,null,null,null,null,null,null,{"$f":"LX311","v":14.229757510467742},{"$f":"LY311","v":34.825000000000003},"an11",null,null,null,null,null,null,null,null,null,null,null,null,null,null,null,null,null,null,null,null,null,null,null,null,null,null,null,null,null,null,null,null,null,null,null,null,null,null,null,null,null,null,"g2",{"$f":"NZ391","v":-18},{"$f":"OA391+NZ388","v":14}]
[null,null,null,null,null,null,null,"α2",{"$f":"'متغیرها '!B315","v":0.34045293430977369},"زاویه سرشانه با افق",null,"k''4",{"$f":"L425+'متغیرها '!C393*(G385+G387)*COS(RADIANS('متغیرها '!C392)+M431)","v":36.707096044753833},{"$f":"M425-'متغیرها '!C393*(G385+G387)*SIN(RADIANS('متغیرها '!C392)+M431)","v":50.649486993651962},null,null,{"$f":"Q443","v":17.998675000000002},{"$f":"R443","v":33.816895563735976},"43''",null,{"$f":"-Q398+V382","v":-17.998675000000002},{"$f":"R398","v":33.816895563735976},"43''",null,null,null,null,null,null,null,null,null,null,{"$f":"AP398","v":14.737774999999999},{"$f":"AQ398","v":34.118380736880859},"49'  …",null,{"$f":"AT398","v":-14.737774999999999},{"$f":"AU398","v":34.118380736880859},"49'  …",null,{"$f":"BD180-'متغیرها '!C55","v":14.737774999999999},{"$f":"BE180","v":34.118380736880859},"49'  …",null,{"$f":"-AP398-HY101","v":-14.737774999999999},{"$f":"AQ398","v":34.118380736880859},"49'  …",null,null,{"$f":"AY397+AX391","v":-86},-1.5009831567151235,{"$f":"BF393+BF390*COS(AZ398)","v":18.926338385647909},{"$f":"BG393-BF390*SIN(AZ398)","v":50.008100040458167},{"$f":"SQRT(POWER((BF392-BA398),2)+POWER((BG392-BB398),2))","v":14.37509878341274},{"$f":"ABS(BF389-BC398)","v":3.5258264148033902E-2},null,null,null,null,null,null,{"$f":"BK397+BJ391","v":-86},-1.5009831567151235,{"$f":"BR393+BR390*COS(BL398)","v":15.999997469357858},{"$f":"BS393-BR390*SIN(BL398)","v":53.781074259342191},{"$f":"SQRT(POWER((BR392-BM398),2)+POWER((BS392-BN398),2))","v":18.494695614284417},{"$f":"ABS(BR389-BO398)","v":0.56827805143527499},null,null,null,null,null,null,{"$f":"BW397+BV391","v":-83},-1.4486232791552935,{"$f":"CD393+CD390*COS(BX398)","v":19.858080755835925},{"$f":"CE393-CD390*SIN(BX398)","v":48.960540189433686},{"$f":"SQRT(POWER((CD392-BY398),2)+POWER((CE392-BZ398),2))","v":13.193544968651173},{"$f":"ABS(CD389-CA398)","v":0.3101372296749183},null,null,null,null,null,null,{"$f":"CI397+CH391","v":-79},-1.3788101090755203,{"$f":"CP393+CP390*COS(CJ398)","v":16.439416993089878},{"$f":"CQ393-CP390*SIN(CJ398)","v":52.367138160681385},{"$f":"SQRT(POWER((CP392-CK398),2)+POWER((CQ392-CL398),2))","v":3.9173434745554903},{"$f":"ABS(CP389-CM398)","v":0.58233940550591834},null,null,null,null,null,null,null,null,null,{"$f":"K388","v":17.342153097450808},{"$f":"L388","v":51.763735988089039},"k8",null,{"$f":"F415","v":24.539505829260253},{"$f":"J415","v":56.118642221160741},"k8",null,null,null,null,null,null,"نقاط  خروجی ",null,null,null,null,null,null,"قرینه",null,{"$f":"DV382","v":0},{"$f":"'متغیرها '!C52","v":0},"زمین",null,{"$f":"DX405","v":6.8952000000000009},{"$f":"DU386+AV159","v":58.300000000000004},43,null,null,null,null,null,{"$f":"-DX398+EC383","v":-6.8952000000000009},{"$f":"EC386+AV159","v":58.300000000000004},43,null,{"$f":"BG149+BG150+BG151+EL382","v":13.3},{"$f":"BG148+ET382","v":48},36,null,{"$f":"-EJ398+EK402","v":-13.3},{"$f":"EK398","v":48},36,null,{"$f":"ER403","v":6.75},{"$f":"EK385+BG152","v":36.700000000000003},38,null,{"$f":"-ER398+EK402","v":-6.75},{"$f":"ES398","v":36.700000000000003},38,null,null,null,null,{"$f":"AZ140-'متغیرها '!C51","v":6.1110124614777632},{"$f":"BA140-'متغیرها '!C52-'متغیرها '!C63*(محاسبات!DL385-BA140)*1.7","v":71.728171017165522},25,"راس سرشانه",{"$f":"FG423","v":3.3325339930268734},{"$f":"FH423","v":64.884890455273677},"ee13",null,null,null,null,null,{"$f":"FK402+FG406","v":3.3325339930268734},{"$f":"FL402+FG407","v":64.884890455273677},"ee13",null,null,null,{"$f":"O234","v":1.4124387955688196},"قد یقه انگلیسی",null,null,null,null,null,null,null,null,null,{"$f":"GB404+FX407","v":5.9732177147659522},{"$f":"GC404+FX408","v":62.384964349386181},"e20",null,{"$f":"GJ401-0.85*(GJ401-GJ397)","v":9.8817759387677633},{"$f":"GK401+0.5*(GK397-GK401)","v":60.349069140912277},"20f",null,{"$f":"GJ395","v":11.3153285566821},69.849252685781607,{"$f":"GL395","v":"22f"},null,{"$f":"GR404-0.9*(GR404-GR397)","v":11.265322222195218},{"$f":"GS404+0.25*(GS395-GS404)","v":61.033112395663977},"16f",null,null,null,"حلقه آستین",null,null,null,"حلقه آستین",null,{"$f":"-HD394-H167*COS('متغیرها '!B315)","v":-11.3153285566821},{"$f":"HE394-H167*SIN('متغیرها '!B315)","v":70.849252685781607},"قرینه سرشانه",null,{"$f":"DX570","v":7.8478292803324123},{"$f":"DY570","v":0},"1r",null,10.534033214717732,8.6,"q6",null,"نقاط  ورودی از شبیه ساز شلوار متصل به بالاتنه",null,null,null,12.567539058498051,7.8375180686275296,"r6",null,{"$f":"-HT398+HQ412","v":-12.567539058498051},7.8375180686275296,"r6",null,null,"متغیر ورودی پهنا","a20",{"$f":"IR328","v":0},"(سانتیمتر)",null,null,null,null,null,null,null,null,null,null,null,null,null,null,null,null,null,null,null,null,null,null,null,null,"پیلی 1",null,{"$f":"IU319","v":14.572583422017283},{"$f":"IV319","v":42.35},"a13",null,{"$f":"JK399-JG440","v":-51.34165535650942},{"$f":"JL399","v":69.722365366140622},"w21",null,{"$f":"JG395","v":7.2574518037325406},{"$f":"JH395","v":45.6},"a4",null,{"$f":"JK423","v":13.145896531668321},{"$f":"JL423","v":24.294257451114063},"w50",null,null,null,null,null,null,null,null,null,null,null,null,null,null,null,null,null,null,null,null,null,null,null,null,null,{"$f":"KQ314","v":-23.869207500000002},{"$f":"KR314","v":33.775000000000006},"b'8",null,null,null,null,null,null,null,null,null,null,null,null,null,null,null,null,null,null,null,null,null,null,null,null,null,null,null,null,null,null,null,null,null,null,null,null,null,null,null,null,null,null,null,null,null,null,null,null,null,null,null,null,null,null,null,null,null,null,null,null,null,null,null,null,null,null,null,null,null,null,null,null,null,null,null,null,null,null,null,"g8",{"$f":"NZ394-OA389*SIN(RADIANS(40)+ATAN((NZ394-NZ395)/(OA394-OA395)))","v":-18.88441946886843},{"$f":"OA394-OA389*COS(RADIANS(40)+ATAN((NZ394-NZ395)/(OA394-OA395)))","v":12.820545221950985},{"$f":"NZ397","v":-18.350411300821154},{"$f":"OA397","v":13.043048625304019},{"$f":"NY397","v":"g7"}]
[null,null,null,null,null,"افقی شبیه ساز","آستین کیمونو و سرخود",null,null,"عمودی شبیه ساز",null,"k10",{"$f":"L425+'متغیرها '!C397*(G385+G388)*COS(RADIANS('متغیرها '!C392)+M431)","v":23.251416892277625},{"$f":"M425-'متغیرها '!C397*(G385+G388)*SIN(RADIANS('متغیرها '!C392)+M431)","v":61.744063369439282},null,null,null,null,null,null,null,null,null,null,null,null,null,null,null,null,null,null,null,{"$f":"AP404","v":13.286266356099228},{"$f":"AQ404","v":38.17776476371057},"37'",null,{"$f":"AT404","v":-13.286266356099228},{"$f":"AU404","v":38.17776476371057},"37'",null,{"$f":"FN179-'متغیرها '!C55","v":13.286266356099228},{"$f":"FO179","v":38.17776476371057},"37'",null,{"$f":"-AP404-HY101","v":-13.286266356099228},{"$f":"AQ404","v":38.17776476371057},"37'",null,{"$f":"IF(BD392>BD391,AY391,IF(BD393>BD392,AY392,IF(BD394>BD393,AY393,IF(BD395>BD394,AY394,IF(BD396>BD395,AY395,IF(BD397>BD396,AY396,IF(BD398>BD397,AY397,IF(BD399>BD398,AY398,IF(BD400>BD399,AY399,IF(BD401>BD400,AY400,IF(BD402>BD401,AY401,IF(BD403>BD402,AY402,IF(BD404>BD403,AY403,IF(BD405>BD404,AY404,IF(BD406>BD405,AY405,IF(BD407>BD406,AY406,IF(BD408>BD407,AY407,IF(BD409>BD408,AY408,IF(BD410>BD409,AY409,IF(BD411>BD410,AY410,IF(BD412>BD411,AY411,IF(BD413>BD412,AY412,IF(BD414>BD413,AY413,IF(BD415>BD414,AY414,IF(BD416>BD415,AY415,IF(BD417>BD416,AY416,IF(BD418>BD417,AY417,IF(BD419>BD418,AY418,IF(BD420>BD419,AY419,IF(BD421>BD420,AY420,IF(BD422>BD421,AY421,IF(BD423>BD422,AY422,IF(BD424>BD423,AY423,IF(BD425>BD424,AY424,IF(BD426>BD425,AY425,IF(BD427>BD426,AY426,IF(BD428>BD427,AY427,IF(BD429>BD428,AY428,IF(BD430>BD429,AY429,IF(BD431>BD430,AY430,IF(BD432>BD431,AY431,AY432)))))))))))))))))))))))))))))))))))))))))","v":-86},{"$f":"AY403+AX391","v":-74},-1.2915436464758039,{"$f":"BF393+BF390*COS(AZ404)","v":21.664265718449542},{"$f":"BG393-BF390*SIN(AZ404)","v":49.525329580466078},{"$f":"SQRT(POWER((BF392-BA404),2)+POWER((BG392-BB404),2))","v":11.622991347753278},{"$f":"ABS(BF389-BC404)","v":2.7168491715114289},null,null,null,null,null,{"$f":"IF(BP392>BP391,BK391,IF(BP393>BP392,BK392,IF(BP394>BP393,BK393,IF(BP395>BP394,BK394,IF(BP396>BP395,BK395,IF(BP397>BP396,BK396,IF(BP398>BP397,BK397,IF(BP399>BP398,BK398,IF(BP400>BP399,BK399,IF(BP401>BP400,BK400,IF(BP402>BP401,BK401,IF(BP403>BP402,BK402,IF(BP404>BP403,BK403,IF(BP405>BP404,BK404,IF(BP406>BP405,BK405,IF(BP407>BP406,BK406,IF(BP408>BP407,BK407,IF(BP409>BP408,BK408,IF(BP410>BP409,BK409,IF(BP411>BP410,BK410,IF(BP412>BP411,BK411,IF(BP413>BP412,BK412,IF(BP414>BP413,BK413,IF(BP415>BP414,BK414,IF(BP416>BP415,BK415,IF(BP417>BP416,BK416,IF(BP418>BP417,BK417,IF(BP419>BP418,BK418,IF(BP420>BP419,BK419,IF(BP421>BP420,BK420,IF(BP422>BP421,BK421,IF(BP423>BP422,BK422,IF(BP424>BP423,BK423,IF(BP425>BP424,BK424,IF(BP426>BP425,BK425,IF(BP427>BP426,BK426,IF(BP428>BP427,BK427,IF(BP429>BP428,BK428,IF(BP430>BP429,BK429,IF(BP431>BP430,BK430,IF(BP432>BP431,BK431,BK432)))))))))))))))))))))))))))))))))))))))))","v":-80},{"$f":"BK403+BJ391","v":-74},-1.2915436464758039,{"$f":"BR393+BR390*COS(BL404)","v":17.184469957031705},{"$f":"BS393-BR390*SIN(BL404)","v":53.572219801858417},{"$f":"SQRT(POWER((BR392-BM404),2)+POWER((BS392-BN404),2))","v":17.340550112602696},{"$f":"ABS(BR389-BO404)","v":0.58586745024644671},null,null,null,null,null,{"$f":"IF(CB392>CB391,BW391,IF(CB393>CB392,BW392,IF(CB394>CB393,BW393,IF(CB395>CB394,BW394,IF(CB396>CB395,BW395,IF(CB397>CB396,BW396,IF(CB398>CB397,BW397,IF(CB399>CB398,BW398,IF(CB400>CB399,BW399,IF(CB401>CB400,BW400,IF(CB402>CB401,BW401,IF(CB403>CB402,BW402,IF(CB404>CB403,BW403,IF(CB405>CB404,BW404,IF(CB406>CB405,BW405,IF(CB407>CB406,BW406,IF(CB408>CB407,BW407,IF(CB409>CB408,BW408,IF(CB410>CB409,BW409,IF(CB411>CB410,BW410,IF(CB412>CB411,BW411,IF(CB413>CB412,BW412,IF(CB414>CB413,BW413,IF(CB415>CB414,BW414,IF(CB416>CB415,BW415,IF(CB417>CB416,BW416,IF(CB418>CB417,BW417,IF(CB419>CB418,BW418,IF(CB420>CB419,BW419,IF(CB421>CB420,BW420,IF(CB422>CB421,BW421,IF(CB423>CB422,BW422,IF(CB424>CB423,BW423,IF(CB425>CB424,BW424,IF(CB426>CB425,BW425,IF(CB427>CB426,BW426,IF(CB428>CB427,BW427,IF(CB429>CB428,BW428,IF(CB430>CB429,BW429,IF(CB431>CB430,BW430,IF(CB432>CB431,BW431,BW432)))))))))))))))))))))))))))))))))))))))))","v":-84},{"$f":"BW403+BV391","v":-77},-1.3439035240356338,{"$f":"CD393+CD390*COS(BX404)","v":21.430836637548261},{"$f":"CE393-CD390*SIN(BX404)","v":48.683220893419872},{"$f":"SQRT(POWER((CD392-BY404),2)+POWER((CE392-BZ404),2))","v":11.6013589551915},{"$f":"ABS(CD389-CA404)","v":1.9023232431345907},null,null,null,null,null,{"$f":"IF(CN392>CN391,CI391,IF(CN393>CN392,CI392,IF(CN394>CN393,CI393,IF(CN395>CN394,CI394,IF(CN396>CN395,CI395,IF(CN397>CN396,CI396,IF(CN398>CN397,CI397,IF(CN399>CN398,CI398,IF(CN400>CN399,CI399,IF(CN401>CN400,CI400,IF(CN402>CN401,CI401,IF(CN403>CN402,CI402,IF(CN404>CN403,CI403,IF(CN405>CN404,CI404,IF(CN406>CN405,CI405,IF(CN407>CN406,CI406,IF(CN408>CN407,CI407,IF(CN409>CN408,CI408,IF(CN410>CN409,CI409,IF(CN411>CN410,CI410,IF(CN412>CN411,CI411,IF(CN413>CN412,CI412,IF(CN414>CN413,CI413,IF(CN415>CN414,CI414,IF(CN416>CN415,CI415,IF(CN417>CN416,CI416,IF(CN418>CN417,CI417,IF(CN419>CN418,CI418,IF(CN420>CN419,CI419,IF(CN421>CN420,CI420,IF(CN422>CN421,CI421,IF(CN423>CN422,CI422,IF(CN424>CN423,CI423,IF(CN425>CN424,CI424,IF(CN426>CN425,CI425,IF(CN427>CN426,CI426,IF(CN428>CN427,CI427,IF(CN429>CN428,CI428,IF(CN430>CN429,CI429,IF(CN431>CN430,CI430,IF(CN432>CN431,CI431,CI432)))))))))))))))))))))))))))))))))))))))))","v":-70},{"$f":"CI403+CH391","v":-61},-1.064650843716541,{"$f":"CP393+CP390*COS(CJ404)","v":17.734841618301669},{"$f":"CQ393-CP390*SIN(CJ404)","v":51.895642156368844},{"$f":"SQRT(POWER((CP392-CK404),2)+POWER((CQ392-CL404),2))","v":3.9424607246293411},{"$f":"ABS(CP389-CM404)","v":0.60745665557976913},null,null,null,null,null,{"$f":"HD430+CT434","v":-4.057099283502315},{"$f":"HE430+CT435","v":86.752319999999997},"قرینهs16",null,0,73.28,"s5","سر",{"$f":"DK407+I403","v":0},{"$f":"DL407+I402","v":73.28},"s5","سر",{"$f":"DB401","v":3.3037200000000002},85.634,"s2",null,null,{"$f":"DK403+0.7*(DK405-DK403)","v":3.3037200000000002},{"$f":"DL405+0.75*(DL403-DL405)","v":85.634},"s2","سر",null,2.0976000000000004,66.188726831407763,{"$f":"DM387","v":" شبیه ساز28"},null,null,null,null,null,{"$f":"DX401","v":6.8952000000000009},{"$f":"DY401","v":48},39,null,null,null,null,null,{"$f":"-DX401+EC383","v":-6.8952000000000009},{"$f":"EC385","v":48},39,null,null,null,null,null,null,null,null,null,{"$f":"ER406+BG150","v":7.3999999999999995},{"$f":"ES406","v":48},35,null,{"$f":"-ER404+EK402","v":-7.3999999999999995},{"$f":"ES404","v":48},35,null,null,null,null,null,null,null,null,null,null,null,null,null,null,"قرینه",null,null,null,"رسم پایه",null,null,null,null,null,null,{"$f":"FX403+0.5*FY434*SIN(FY433)+(FY435-FY433)*0.2*FY434","v":7.5423728655317053},{"$f":"FY403+0.5*FY434*COS(FY433)","v":66.744973952323534},"e15",null,{"$f":"FX403","v":5.9732177147659522},{"$f":"FY403","v":62.384964349386181},{"$f":"GA403","v":"e20"},null,{"$f":"GB425+FX407","v":7.4464720623427816},{"$f":"GC425+FX408","v":71.104983555260887},"e'9",null,null,null,null,null,null,null,null,null,{"$f":"ER425","v":13.653222221952188},{"$f":"ES425","v":57.805775654233713},8,null,{"$f":"GV425","v":13.653222221952188},{"$f":"GW425","v":57.805775654233713},8,null,{"$f":"-GV404+GS413","v":-13.653222221952188},57.805775654233713,8,null,{"$f":"BK150-'متغیرها '!C53","v":0},{"$f":"BL150-'متغیرها '!C54","v":58},"سینه",null,null,null,null,null,null,null,null,null,"نقاط  ورودی از شبیه ساز مایو پادار",null,null,null,null,null,null,null,null,null,null,null,null,"نقطه خروجی میانه","c3",{"$f":"IE396+IF(IE397>IE396,1,-1)*IE399*IF401*SIN(ID401)/IF400","v":14.737774999999999},{"$f":"IF396-IE399*IF401*COS(ID401)/IF400","v":39.303380736880854},null,null,null,null,null,null,null,null,null,null,null,null,null,null,null,null,null,null,null,null,null,null,null,null,null,null,{"$f":"IY310","v":-7.2574518037325406},{"$f":"IZ310","v":45.6},"a'4",null,{"$f":"JL449","v":7.8406085050779551E-5},{"$f":"JM449","v":9.1212696745507174},"w27",null,null,null,null,null,{"$f":"-JS402+JG432","v":-14.572583422017283},{"$f":"JT402","v":4.3},"w'17",null,null,null,null,null,null,null,null,null,null,null,null,null,null,null,null,null,null,null,null,null,null,null,null,null,{"$f":"KQ315","v":-34.098675},{"$f":"KR315","v":33.775000000000006},"b'9",null,null,null,null,null,null,null,null,null,null,null,null,null,null,null,null,null,null,null,null,null,null,null,null,null,null,null,null,null,null,null,null,null,null,null,null,null,null,null,null,null,null,null,null,null,null,null,null,null,null,null,null,null,null,null,null,null,null,null,null,null,null,null,null,null,null,null,null,null,null,null,null,null,null,null,null,null,null,null,"فاصله نوشته ها",{"$f":"NV225","v":0.6},"h14",{"$f":"NZ416","v":-17.845833333333331},{"$f":"OA416","v":14.525},{"$f":"NY416","v":"h10"}]
[null,null,null,null,null,{"$f":"F406-F425*SIN(RADIANS(0)+I398)","v":38.502314308941052},"k5",{"$f":"H406-H425*SIN(RADIANS('متغیرها '!C392)+I398)","v":32.647922049083391},{"$f":"I406-H425*COS(RADIANS('متغیرها '!C392)+I398)","v":44.723019778850109},{"$f":"J406-F425*COS(RADIANS(0)+I398)","v":53.756934080684239},null,"انحنا پایین پانچو",null,null,null,null,{"$f":"IF(BG394>R410,BF394,BC387)","v":18.926338385647909},{"$f":"IF(BG394>R410,BG394,BD387)","v":50.008100040458167},"k6",null,{"$f":"-Q409+V382","v":-18.926338385647909},{"$f":"R409","v":50.008100040458167},"k6",null,null,null,null,null,null,null,null,null,null,36.705388625895353,49.643979947156069,"k''4",null,-36.705388625895353,49.643979947156069,"k4",null,{"$f":"G431","v":27.656347157811496},{"$f":"H431","v":40.343811867310066},"k14",null,{"$f":"-AP409-HY101","v":-27.656347157811496},{"$f":"AQ409","v":40.343811867310066},"k14",null,null,{"$f":"AY408+AX391","v":-64},-1.1170107212763709,{"$f":"BF393+BF390*COS(AZ409)","v":23.828397180229331},{"$f":"BG393-BF390*SIN(AZ409)","v":48.694597345200194},{"$f":"SQRT(POWER((BF392-BA409),2)+POWER((BG392-BB409),2))","v":9.306541430764188},{"$f":"ABS(BF389-BC409)","v":5.0332990885005184},null,null,null,null,null,null,{"$f":"BK408+BJ391","v":-64},-1.1170107212763709,{"$f":"BR393+BR390*COS(BL409)","v":18.120708894229704},{"$f":"BS393-BR390*SIN(BL409)","v":53.21283134566832},{"$f":"SQRT(POWER((BR392-BM409),2)+POWER((BS392-BN409),2))","v":16.343327298630282},{"$f":"ABS(BR389-BO409)","v":1.5830902642188605},null,null,null,null,null,null,{"$f":"BW408+BV391","v":-72},-1.2566370614359172,{"$f":"CD393+CD390*COS(BX409)","v":22.713461852356389},{"$f":"CE393-CD390*SIN(BX409)","v":48.32751744052355},{"$f":"SQRT(POWER((CD392-BY409),2)+POWER((CE392-BZ409),2))","v":10.270451747746575},{"$f":"ABS(CD389-CA409)","v":3.2332304505795157},null,null,null,null,null,null,{"$f":"CI408+CH391","v":-46},-0.8028514559173916,{"$f":"CP393+CP390*COS(CJ409)","v":18.659476519046496},{"$f":"CQ393-CP390*SIN(CJ409)","v":51.211448321204841},{"$f":"SQRT(POWER((CP392-CK409),2)+POWER((CQ392-CL409),2))","v":4.59041132992561},{"$f":"ABS(CP389-CM409)","v":1.255407260876038},null,null,null,null,null,{"$f":"HD435+CT434","v":4.3333007164976856},{"$f":"HE435+CT435","v":74.460000000000008},"g2",null,6.7618321391705258,72,"s18","سر",{"$f":"DK411+I403","v":6.7618321391705258},{"$f":"DL411+I402","v":72},"s18","سر",{"$f":"-DF415-HY101","v":-6.7618321391705258},{"$f":"DG415","v":72},"s18'",null,null,{"$f":"DK408+0.6*(DK411-DK408)","v":4.057099283502315},{"$f":"DL385+0.88*(DL408-DL385)","v":86.752319999999997},"s16","مو",null,null,null,"سرشانه",null,null,null,null,null,null,null,null,null,null,null,null,null,null,null,null,null,null,null,null,null,null,null,null,null,{"$f":"ER416","v":8.3376516347742289},{"$f":"ES416","v":72.105010795674573},30,null,{"$f":"-ER409+EK402","v":-8.3376516347742289},{"$f":"ES409","v":72.105010795674573},30,null,null,null,null,null,null,null,null,null,null,null,null,{"$f":"-FG402","v":-6.4988561072858175},{"$f":"FH402","v":63.017235478829157},{"$f":"FJ402","v":"e20"},null,{"$f":"FK438+FG406","v":5.687280822807117},{"$f":"FL438+FG407","v":71.728171017165522},"e'25",null,null,null,null,null,null,{"$f":"2*FX407","v":0},"قرینه",null,null,{"$f":"-FX395","v":-5.687280822807117},{"$f":"FY395","v":71.728171017165522},{"$f":"FZ395","v":"e'25"},null,null,null,"قرینه",null,{"$f":"-DX387+EC383","v":-2.0976000000000004},{"$f":"DY387","v":66.188726831407763},28,null,{"$f":"DX401","v":6.8952000000000009},{"$f":"DY401","v":48},39,null,null,null,null,null,{"$f":"GV407","v":6.75},{"$f":"GW407","v":36.700000000000003},38,null,{"$f":"-GV409+GS413","v":-6.75},{"$f":"GW409","v":36.700000000000003},38,null,null,null,null,null,null,null,null,null,1.4698562102316846,17.2,"q13",null,{"$f":"HH413","v":12.5},{"$f":"HI413","v":37.043380736880863},"q2",null,2.5297343510191848,15.675036137255059,"r13",null,{"$f":"-HT409+HQ412","v":-2.5297343510191848},15.675036137255059,"r13",null,null,"نقطه ورودی پایین","شیفت 42",{"$f":"BK165","v":17.998675000000002},{"$f":"BL165","v":36.741895563735973},null,{"$f":"AZ180","v":7.6900475927238983},{"$f":"BA180","v":37.83},"شیفت 47''",null,{"$f":"-AZ180+IR325","v":-7.6900475927238983},{"$f":"BA180","v":37.83},"شیفت 47''",null,{"$f":"AZ180","v":7.6900475927238983},{"$f":"BA180","v":37.83},"شیفت 47''",null,{"$f":"-AZ180+IR325","v":-7.6900475927238983},{"$f":"BA180","v":37.83},"شیفت 47''",null,{"$f":"KM321","v":0},{"$f":"KN321","v":38.672000000000004},"b15",null,null,{"$f":"JG311","v":-14.037775},{"$f":"JH311","v":33.775000000000006},{"$f":"JI311","v":"c'60"},null,-21.702511337353648,46.56,"b'2",null,{"$f":"JK408+JG447","v":13.487233514642718},{"$f":"JL407","v":42.24},"w34",null,{"$f":"JG401","v":14.572583422017283},{"$f":"JH401","v":38.96},"a27",null,{"$f":"-JS397+JG432","v":-8.1458965316683205},{"$f":"JT397","v":24.294257451114063},"w'39",null,null,null,null,null,null,null,null,null,null,null,null,null,null,null,null,null,null,null,null,null,null,null,null,null,{"$f":"KQ320","v":-15},{"$f":"KR320","v":36.700000000000003},"b'14",null,null,null,null,null,null,null,null,null,null,null,null,null,null,null,null,null,null,null,null,null,null,null,null,null,null,null,null,null,null,null,null,null,null,null,null,null,null,null,null,null,null,null,null,null,null,null,null,null,null,null,null,null,null,null,null,null,null,null,null,null,null,null,null,null,null,null,null,null,null,null,null,null,null,null,null,null,null,null,"w21",{"$f":"NU254","v":-15.666666666666666},{"$f":"NV254","v":14}]
[null,null,null,null,null,{"$f":"F394+(H385+H388)*COS(RADIANS('متغیرها '!C392)+I398)","v":24.470294199456738},"k'7",null,null,{"$f":"G394-(H385+H388)*SIN(RADIANS('متغیرها '!C392)+I398)","v":59.002622843410343},null,null,null,null,null,null,null,null,null,null,null,null,null,null,null,null,null,null,null,null,null,null,null,{"$f":"H410","v":32.647922049083391},{"$f":"I410","v":44.723019778850109},"k''5",null,{"$f":"-AH414-HY101","v":-32.647922049083391},{"$f":"AI414","v":44.723019778850109},"k5",null,12.791511787413299,69.361627047628545,"22f",null,-12.791511787413299,69.361627047628545,"22f",null,null,{"$f":"AY413+AX391","v":-54},-0.94247779607693793,{"$f":"BF393+BF390*COS(AZ414)","v":25.815395483544613},{"$f":"BG393-BF390*SIN(AZ414)","v":47.500688314663464},{"$f":"SQRT(POWER((BF392-BA414),2)+POWER((BG392-BB414),2))","v":7.0602627782335627},{"$f":"ABS(BF389-BC414)","v":7.2795777410311437},null,null,null,null,null,null,{"$f":"BK413+BJ391","v":-54},-0.94247779607693793,{"$f":"BR393+BR390*COS(BL414)","v":18.980317107762257},{"$f":"BS393-BR390*SIN(BL414)","v":52.696326622363976},{"$f":"SQRT(POWER((BR392-BM414),2)+POWER((BS392-BN414),2))","v":15.342761629233602},{"$f":"ABS(BR389-BO414)","v":2.5836559336155407},null,null,null,null,null,null,{"$f":"BW413+BV391","v":-67},-1.1693705988362009,{"$f":"CD393+CD390*COS(BX414)","v":23.96020469235194},{"$f":"CE393-CD390*SIN(BX414)","v":47.861379393391843},{"$f":"SQRT(POWER((CD392-BY414),2)+POWER((CE392-BZ414),2))","v":8.9473550844736156},{"$f":"ABS(CD389-CA414)","v":4.5563271138524755},null,null,null,null,null,null,{"$f":"CI413+CH391","v":-31},-0.54105206811824214,{"$f":"CP393+CP390*COS(CJ414)","v":19.375522854481975},{"$f":"CQ393-CP390*SIN(CJ414)","v":50.311254703552926},{"$f":"SQRT(POWER((CP392-CK414),2)+POWER((CQ392-CL414),2))","v":5.5761242104652329},{"$f":"ABS(CP389-CM414)","v":2.241120141415661},null,null,null,null,null,{"$f":"-CT385+2*CT434","v":-35.233447907181443},{"$f":"CU385","v":51.128107517833854},"k4'",null,null,null,"خط سینه",null,null,null,null,null,{"$f":"DB408","v":6.4237405322119994},78.705600000000004,"s17",null,null,{"$f":"U108","v":8.3423577789133532},{"$f":"V108","v":23.121441415130775},"32 شبیه ساز","نقطه ساسون سرشانه",null,{"$f":"DK402","v":4.3333007164976856},{"$f":"DL402","v":73.460000000000008},{"$f":"DM402","v":"g2"},null,null,null,null,null,{"$f":"DX398","v":6.8952000000000009},{"$f":"DY398","v":58.300000000000004},43,null,null,null,null,null,{"$f":"-DX414+EC383","v":-6.8952000000000009},{"$f":"EG398","v":58.300000000000004},43,null,null,null,null,null,null,null,null,null,null,null,"سرشانه",null,null,null,"سرشانه",null,null,null,null,null,null,null,null,null,null,null,null,{"$f":"FK412","v":0},{"$f":"FL412","v":55.2},"e1",null,{"$f":"-FO385+FG408","v":-4.8859060682270332},{"$f":"FP385","v":64.524532853384315},"e13",null,null,null,null,null,null,null,null,null,null,null,null,null,null,{"$f":"-GF406+FX409","v":-5.687280822807117},{"$f":"GG406","v":71.728171017165522},"e'25",null,{"$f":"-GJ397+EC383","v":-9.2432658103150143},62.590877454445959,"16f",null,null,null,null,null,null,null,null,null,null,null,null,null,null,null,null,null,{"$f":"HD421","v":0},{"$f":"HE421","v":71.453628763847433},24,null,{"$f":"HH415+1.2*(HI414-HI415)*((HH413-HH415)/(HI413-HI415))","v":11.662666862164059},{"$f":"HI415+0.5*(HI427-HI415)","v":24.315999999999999},"q3",null,{"$f":"HH427","v":0},{"$f":"HI427","v":31.431999999999999},"q16",null,"نقاط  خروجی ",null,null,null,{"$f":"HP431","v":0},{"$f":"HQ431","v":31.130514826855109},"r16",null,{"$f":"-HT414+HQ412","v":0},{"$f":"HU414","v":31.130514826855109},"r16",null,null,"نقطه خروجی بالا","c1",{"$f":"IE408+IF(IE409>IE408,1,-1)*IE410*COS(ID413)","v":15.598675},{"$f":"IF408+IE410*SIN(ID413)","v":48.04189556373597},null,{"$f":"IF(CO160<CO156,CN160,CN156)","v":14.737774999999999},{"$f":"IF(CO160<CO156,CO160,CO156)","v":48.343380736880853}," شیفت41 یا d3",null,{"$f":"-IF(CO160<CO156,CN160,CN156)+IR325","v":-14.737774999999999},{"$f":"IF(CO160<CO156,CO160,CO156)","v":48.343380736880853}," شیفت41 یا d3",null,{"$f":"IF(CO160<CO156,CN160,CN156)","v":14.737774999999999},{"$f":"IF(CO160<CO156,CO160,CO156)","v":48.343380736880853}," شیفت41 یا d3",null,{"$f":"-IF(CO160<CO156,CN160,CN156)+IR325","v":-14.737774999999999},{"$f":"IF(CO160<CO156,CO160,CO156)","v":48.343380736880853}," شیفت41 یا d3",null,{"$f":"KM330","v":-4},{"$f":"KN330","v":31.676250000000003},"b25",null,null,{"$f":"JG315","v":-10.915017612874912},46.8,"d'52",null,-15,33.775000000000006,"b'7",null,{"$f":"JK411-JH425+(JH393-JL414)*JG448","v":8.1458965316683205},{"$f":"JL411","v":24.294257451114063},"w39",null,{"$f":"JG392","v":0},{"$f":"JH392","v":42.24},"a1",null,{"$f":"-JS392+JG432","v":-14.572583422017283},{"$f":"JT392","v":25.479835604397422},"w'48",null,null,null,null,null,null,null,null,null,null,null,null,null,null,null,null,null,null,null,null,null,null,null,null,null,null,null,null,null,null,null,null,null,null,null,null,null,null,null,null,null,null,null,null,null,null,null,null,null,null,null,null,null,null,null,null,null,null,null,null,null,null,null,null,null,null,null,null,null,null,null,null,null,null,null,null,null,null,null,null,null,null,null,null,null,null,null,null,null,null,null,null,null,null,null,null,null,null,null,null,null,null,null,null,null,null,null,"h8",{"$f":"NZ411-0.5*NZ402","v":-17.845833333333331},{"$f":"OA407","v":14},{"$f":"NZ419","v":-15.820833333333333},{"$f":"OA419","v":14.525},{"$f":"NY419","v":"h13"}]
[null,null,null,null,null,null,"k15",{"$f":"H396+0.5*(H418-H396)-'متغیرها '!C396*H427*COS(H424)","v":15.806524667750624},{"$f":"I396+0.65*(I418-I396)+'متغیرها '!C396*H427*SIN(H424)","v":52.617997066922506},null,null,null,null,null,null,null,{"$f":"Q387","v":36.707096044753833},{"$f":"R387","v":50.649486993651962},"k''4",null,{"$f":"-Q420+V382","v":-36.707096044753833},{"$f":"R420","v":50.649486993651962},"k''4",null,null,null,null,null,null,null,null,null,null,null,null,null,null,null,null,null,null,{"$f":"AP400","v":6.990047592723899},{"$f":"AQ400","v":33.775000000000006},52,null,{"$f":"AT400","v":-6.990047592723899},{"$f":"AU400","v":33.775000000000006},52,null,null,{"$f":"AY419+AX391","v":-42},-0.73303828583761843,{"$f":"BF393+BF390*COS(AZ420)","v":27.881460178589144},{"$f":"BG393-BF390*SIN(AZ420)","v":45.640395307464388},{"$f":"SQRT(POWER((BF392-BA420),2)+POWER((BG392-BB420),2))","v":4.7689837005771585},{"$f":"ABS(BF389-BC420)","v":9.5708568186875489},null,null,null,null,null,null,{"$f":"BK419+BJ391","v":-42},-0.73303828583761843,{"$f":"BR393+BR390*COS(BL420)","v":19.874130745442105},{"$f":"BS393-BR390*SIN(BL420)","v":51.891533208148481},{"$f":"SQRT(POWER((BR392-BM420),2)+POWER((BS392-BN420),2))","v":14.184358120234318},{"$f":"ABS(BR389-BO420)","v":3.7420594426148241},null,null,null,null,null,null,{"$f":"BW419+BV391","v":-61},-1.064650843716541,{"$f":"CD393+CD390*COS(BX420)","v":25.395595121033431},{"$f":"CE393-CD390*SIN(BX420)","v":47.161292704008353},{"$f":"SQRT(POWER((CD392-BY420),2)+POWER((CE392-BZ420),2))","v":7.3941755706222221},{"$f":"ABS(CD389-CA420)","v":6.109506627703869},null,null,null,null,null,null,{"$f":"CI419+CH391","v":-13},-0.22689280275926285,{"$f":"CP393+CP390*COS(CJ420)","v":19.891941303604003},{"$f":"CQ393-CP390*SIN(CJ420)","v":49.033074189269357},{"$f":"SQRT(POWER((CP392-CK420),2)+POWER((CQ392-CL420),2))","v":6.9331204346981936},{"$f":"ABS(CP389-CM420)","v":3.5981163656486217},null,null,null,null,null,{"$f":"-CT391+2*CT434","v":-15.91397769714632},{"$f":"CU391","v":57.805775654233713},8,null,null,null,null,null,null,null,null,null,null,null,"قرینه دست و گردن",null,null,{"$f":"Q105","v":9.6999999999999993},{"$f":"R105","v":14.307260827378592},"16شبیه ساز","نقطه حلقه آستین",null,null,null,null,null,null,null,null,null,null,null,null,null,null,null,null,null,null,null,null,null,null,null,null,null,null,null,null,null,null,null,"خط مرکزی پشت",null,null,null,"خط مرکزی پشت",null,null,null,null,null,"خط دوم","نقطه اول",{"$f":"FE399","v":"e1"},{"$f":"FC399","v":0},{"$f":"FD399","v":55.2},null,null,{"$f":"FK418","v":-5.687280822807117},{"$f":"FL418","v":71.728171017165522},{"$f":"FM418","v":"e'25"},null,{"$f":"-FO391+FG408","v":0},{"$f":"FP391","v":55.2},"e1",null,null,"مولفه افقی","مولفه عمودی","اسم نقطه ",null,null,null,null,null,{"$f":"-FX402","v":-3.2077925472795235},{"$f":"FY402","v":58.655671314395249},{"$f":"GA402","v":"e13"},null,null,null,null,null,{"$f":"-DX398+EC383","v":-6.8952000000000009},{"$f":"DY398","v":58.300000000000004},43,null,null,null,null,null,null,null,null,null,null,null,"خط مرکزی پشت",null,null,null,"خط مرکزی پشت",null,{"$f":"ER387-'متغیرها '!C53","v":2.0976000000000004},{"$f":"ES387-'متغیرها '!C54","v":71.608265887462693},26,null,{"$f":"HH428-(HH419-HH428)","v":2.710132647858142},{"$f":"HI419","v":0},"q9",null,{"$f":"-HH414+EC383","v":-11.662666862164059},24.315999999999999,"q3",null,{"$f":"HP419-0.2*(HP419-HP423)","v":12.868902353739433},{"$f":"HQ419-0.2*(HQ419-HQ423)","v":12.540028909804047},"r5",null,null,null,null,null,null,null,null,null,null,null,null,null,null,null,{"$f":"CN159","v":7.4226433817152566},{"$f":"CO159","v":45.6}," dd5",null,{"$f":"-CN159+IR325","v":-7.4226433817152566},{"$f":"CO159","v":45.6}," dd5",null,{"$f":"CN159","v":7.4226433817152566},{"$f":"CO159","v":45.6}," dd5",null,{"$f":"-CN159+IR325","v":-7.4226433817152566},{"$f":"CO159","v":45.6}," dd5",null,{"$f":"IF(CO171<CO166,CN171,CN166)","v":6.7025113373536502},{"$f":"IF(CO171<CO166,CO171,CO166)","v":46.56},"34 یا d2",null,null,{"$f":"JG319","v":-10.915017612874912},46.8,"c'54",null,{"$f":"KQ322","v":-33.618674999999996},38.96,"b'26",null,{"$f":"JK404+(JH392-JL404)*JG448","v":1.1566099536394205},{"$f":"JL404","v":9.1212696745507174},"w47",null,{"$f":"JG416+JG435","v":33.671258422017281},{"$f":"JH416+JG436","v":36.700000000000003},"b'14",null,{"$f":"JK417","v":7.4018836072681538},{"$f":"JL417","v":45.6},"w42",null,null,null,null,null,null,null,null,null,null,null,null,null,null,null,null,null,null,null,null,null,null,null,null,null,null,null,"چاک"]
[null,null,null,null,null,{"$f":"H384*'متغیرها '!U84*1/H386","v":6.0905592831442119},"(k4 →k5)",{"$f":"0.5*H132*'متغیرها '!C394","v":6.3780000000000001},null,{"$f":"J424+H167*COS(M431)","v":11.3153285566821},{"$f":"K424-H167*SIN(M431)","v":70.849252685781607},{"$f":"CQ120","v":12.793219206271782},{"$f":"CR120","v":70.367134094124438},"18f",null,null,{"$f":"L429","v":17.998675000000002},{"$f":"M429","v":33.816895563735976},{"$f":"N429","v":"43''"},null,{"$f":"-Q425+V382","v":-17.998675000000002},{"$f":"R425","v":33.816895563735976},"43''",null,null,null,null,null,null,null,null,null,null,{"$f":"AH404","v":13.286266356099228},{"$f":"AI404","v":38.17776476371057},"37'",null,{"$f":"AL404","v":-13.286266356099228},{"$f":"AM404","v":38.17776476371057},"37'",null,null,null,null,null,null,null,null,null,null,{"$f":"AY424+AX391","v":-32},-0.55850536063818546,{"$f":"BF393+BF390*COS(AZ425)","v":29.276526729696812},{"$f":"BG393-BF390*SIN(AZ425)","v":43.789079465001109},{"$f":"SQRT(POWER((BF392-BA425),2)+POWER((BG392-BB425),2))","v":3.8909225315219382},{"$f":"ABS(BF389-BC425)","v":10.448917987742767},null,null,null,null,null,null,{"$f":"BK424+BJ391","v":-32},-0.55850536063818546,{"$f":"BR393+BR390*COS(BL425)","v":20.477659527402221},{"$f":"BS393-BR390*SIN(BL425)","v":51.090623463349431},{"$f":"SQRT(POWER((BR392-BM425),2)+POWER((BS392-BN425),2))","v":13.300711732410733},{"$f":"ABS(BR389-BO425)","v":4.6257058304384095},null,null,null,null,null,null,{"$f":"BW424+BV391","v":-56},-0.97738438111682457,{"$f":"CD393+CD390*COS(BX425)","v":26.530488451061817},{"$f":"CE393-CD390*SIN(BX425)","v":46.465829176912209},{"$f":"SQRT(POWER((CD392-BY425),2)+POWER((CE392-BZ425),2))","v":6.1634001607950877},{"$f":"ABS(CD389-CA425)","v":7.3402820375310034},null,null,null,null,null,null,{"$f":"CI424+CH391","v":2},3.4906585039886591E-2,{"$f":"CP393+CP390*COS(CJ425)","v":20.002187707174294},{"$f":"CQ393-CP390*SIN(CJ425)","v":47.888121511534756},{"$f":"SQRT(POWER((CP392-CK425),2)+POWER((CQ392-CL425),2))","v":8.0751243706350184},{"$f":"ABS(CP389-CM425)","v":4.7401203015854465},null,null,null,null,null,{"$f":"-CT396+2*CT434","v":-25.94818484904642},{"$f":"CU396","v":59.520504251753174},"k7",null,null,null,null,null,null,null,null,null,{"$f":"-DF387-HY101","v":-35.233447907181443},{"$f":"DG387","v":50.128107517833854},"k4'",null,null,null,null,null,null,null,0,73.28,"s5",null,null,null,null,null,{"$f":"DT385","v":0},{"$f":"DU385","v":48},38,null,null,null,null,null,{"$f":"EB385","v":0},{"$f":"EC385","v":48},38,null,null,null,null,null,null,null,null,null,{"$f":"BG108+EL382","v":13.653222221952188},{"$f":"BG110+ET382","v":57.805775654233713},8,null,{"$f":"-ER425+EK402","v":-13.653222221952188},{"$f":"ES425","v":57.805775654233713},8,null,null,null,null,"نقاط  ورودی",null,null,null,null,"محاسبات ",null,null,null,null,"رسم انحنا",null,{"$f":"-FO396+FG408","v":0},{"$f":"FP396","v":55.2},"e1",null,null,null,{"$f":"O268","v":0.98870715689817368},"(a2→a14)","پشت یقه آرشال",null,{"$f":"FU426","v":4.2373163867064587},"m3",null,{"$f":"FX396","v":7.4464720623427816},{"$f":"FY396","v":71.104983555260887},"e'9",null,{"$f":"-GF400+FX409","v":0},{"$f":"GG400","v":55.2},"e1",null,null,null,null,null,{"$f":"DX427","v":13.5},58.107260827378596,12,null,null,null,null,null,{"$f":"BG108+EL382","v":13.653222221952188},{"$f":"BG110+ET382","v":57.805775654233713},8,null,{"$f":"-GV425+GS413","v":-13.653222221952188},{"$f":"GW425","v":57.805775654233713},8,null,null,null,"مو",null,{"$f":"HH424-1.2*(HI425-HI424)*TAN(HI429)","v":1.3478341250475325},{"$f":"HI414","v":24.315999999999999},"q14",null,{"$f":"-HH419+EC383","v":-9.789867352141858},0,"q8",null,{"$f":"HP432-HP422+HP432","v":3.7931391779001018},{"$f":"HQ422","v":2.7520000000000002},"r10",null,null,null,null,null,null,null,null,null,null,null,null,null,null,null,null,null,null,null,null,null,null,null,null,null,null,null,null,null,null,null,null,null,null,null,null,null,null,null,null,"w1",{"$f":"'متغیرها '!C822","v":5},null,null,null,null,null,null,null,null,null,null,{"$f":"JK420","v":1.1566099536394205},{"$f":"JL420","v":9.1212696745507174},"w47",null,null,null,null,null,null,null,null,null,null,null,null,null,null,null,null,null,null,null,null,null,null,null,null,null,{"$f":"KQ329","v":-11},{"$f":"KR329","v":33.775000000000006},"b'24",null,null,null,null,null,null,null,null,null,null,null,null,null,null,null,null,null,null,null,null,null,null,null,null,null,null,null,null,null,null,null,null,null,null,null,null,null,null,null,null,null,null,null,null,null,null,null,null,null,null,null,null,null,null,null,null,null,null,null,null,null,null,null,null,null,null,null,null,null,null,null,null,null,null,null,null,null,null,null,"پهنای نیم دایره",{"$f":"NV222","v":0.5},{"$f":"NV219","v":0.44999999999999996},{"$f":"NZ431","v":-15.141666666666666},{"$f":"OA431","v":14.21},{"$f":"NY431","v":"g5"}]
[null,null,null,null,null,"اسم نقطه ","مولفه افقی","مولفه عمودی",null,null,null,{"$f":"BO192-'متغیرها '!C56","v":6.6326000000000001},{"$f":"BP192-'متغیرها '!C57","v":33.775000000000006},50,null,null,{"$f":"M406","v":23.251416892277625},{"$f":"N406","v":61.744063369439282},"k13",null,{"$f":"-Q430+V382","v":-23.251416892277625},{"$f":"R430","v":61.744063369439282},"k13",null,null,null,null,null,null,null,null,null,null,36.705388625895353,49.643979947156069,"k''4",null,-36.705388625895353,49.643979947156069,"k4",null,"αk2",{"$f":"ATAN((L426-L428)/(M426-M428))","v":-0.10605373827831829},{"$f":"N428","v":42},"مربوط به نقطه ","k6",{"$f":"L426+'متغیرها '!C395*(M426-M428)*SIN(0.5*(O385-AQ430))","v":20.049643709784281},{"$f":"M426-'متغیرها '!C395*(M426-M428)*COS(0.5*(O385-AQ430))","v":49.672556762927577},null,null,{"$f":"AY429+AX391","v":-22},-0.38397243543875248,{"$f":"BF393+BF390*COS(AZ430)","v":30.328921462865981},{"$f":"BG393-BF390*SIN(AZ430)","v":41.723638505745008},{"$f":"SQRT(POWER((BF392-BA430),2)+POWER((BG392-BB430),2))","v":4.6286948589532004},{"$f":"ABS(BF389-BC430)","v":9.7111456603115052},null,null,null,null,null,null,{"$f":"BK429+BJ391","v":-22},-0.38397243543875248,{"$f":"BR393+BR390*COS(BL430)","v":20.932942833382516},{"$f":"BS393-BR390*SIN(BL430)","v":50.197079664051387},{"$f":"SQRT(POWER((BR392-BM430),2)+POWER((BS392-BN430),2))","v":12.53988477478018},{"$f":"ABS(BR389-BO430)","v":5.386532788068962},null,null,null,null,null,null,{"$f":"BW429+BV391","v":-51},-0.89011791851710809,{"$f":"CD393+CD390*COS(BX430)","v":27.600449529077814},{"$f":"CE393-CD390*SIN(BX430)","v":45.674099627384848},{"$f":"SQRT(POWER((CD392-BY430),2)+POWER((CE392-BZ430),2))","v":5.0494732769770296},{"$f":"ABS(CD389-CA430)","v":8.4542089213490605},null,null,null,null,null,null,{"$f":"CI429+CH391","v":17},0.29670597283903605,{"$f":"CP393+CP390*COS(CJ430)","v":19.812341996899477},{"$f":"CQ393-CP390*SIN(CJ430)","v":46.753648281334023},{"$f":"SQRT(POWER((CP392-CK430),2)+POWER((CQ392-CL430),2))","v":9.1559671651753529},{"$f":"ABS(CP389-CM430)","v":5.820963096125781},null,null,null,null,null,{"$f":"HD440+CT434","v":-4.3333007164976856},{"$f":"HE440+CT435","v":75.92},"قرینه g1",null,null,null,null,null,null,null,null,null,null,null,null,null,null,null,null,null,null,null,null,null,null,null,null,null,null,null,null,null,null,null,null,null,null,null,null,null,null,null,null,null,null,null,null,null,null,null,null,null,null,null,null,null,null,null,null,null,null,{"$f":"GF692","v":2.653831912481591},{"$f":"GG692","v":8.0099613565715408},8,"تکه پشت یقه",null,{"$f":"RADIANS(90)-RADIANS(FD431)-FH426","v":1.2303433924851237},"m5",null,{"$f":"-FG397","v":-7.4521277914254949},{"$f":"FH397","v":71.102980032634662},{"$f":"FI397","v":"e'9"},null,{"$f":"-FO401+FG408","v":-7.4521277914254949},{"$f":"FP401","v":71.102980032634662},"e'9",null,null,null,null,null,null,null,{"$f":"IF(FY426>FY424,ASIN(FY431/FY426),0)","v":0.53580661586794676},"m8",null,null,null,"قرینه",null,null,null,null,null,{"$f":"-DX408+EC383","v":-6.8952000000000009},{"$f":"DY408","v":48},40,null,null,null,null,null,null,null,null,null,null,null,null,null,null,null,null,null,{"$f":"-DK409","v":-4.057099283502315},{"$f":"DL409","v":86.752319999999997},"قرینهs16",null,null,null,null,null,{"$f":"-HH420+EC383","v":-2.710132647858142},{"$f":"HI420","v":0},"q9",null,{"$f":"HP407","v":1.2756000000000001},{"$f":"HQ407","v":30.49271482685511},"r15",null,null,null,null,null,null,null,null,null,null,null,null,null,null,null,{"$f":"BD183","v":13.469184066690302},34.084042663192776,"شیفت50'''",null,{"$f":"-BD183+IR325","v":-13.469184066690302},{"$f":"BE183","v":34.084042663192776},"شیفت50'''",null,{"$f":"BD183","v":13.469184066690302},34.084042663192776,"شیفت50'''",null,{"$f":"-BD183+IR325","v":-13.469184066690302},{"$f":"BE183","v":34.084042663192776},"شیفت50'''",null,{"$f":"BO188","v":7.7325999999999997},{"$f":"BP188","v":33.775000000000006},49,null,null,-7.2574518037325406,33.775000000000006,"d'48",null,"w5",{"$f":"'متغیرها '!C826","v":1.5},null,null,null,null,null,null,{"$f":"JG408+JG435","v":33.671258422017281},{"$f":"JH408+JG436","v":46.56},"b'1",null,null,null,null,null,null,null,null,null,null,null,null,null,null,null,null,null,null,null,null,null,null,null,null,null,null,null,null,null,{"$f":"KY308","v":-27.730681831323174},47.28,"d'52",null,null,null,null,null,null,null,null,null,null,null,null,null,null,null,null,null,null,null,null,null,null,null,null,null,null,null,null,null,null,null,null,null,null,null,null,null,null,null,null,null,null,null,null,null,null,null,null,null,null,null,null,null,null,null,null,null,null,null,null,null,null,null,null,null,null,null,null,null,null,null,null,null,null,null,null,null,null,null,"g4",{"$f":"NZ427+NZ425*NZ424","v":-14.916666666666666},{"$f":"OA427+0.5*NZ424","v":14.75},{"$f":"NZ434","v":-15.316255365845514},{"$f":"OA434","v":14.543048625304017},{"$f":"NY434","v":"g8"}]
[null,null,null,null,null,null,{"$f":"SQRT(POWER((AH414-AH415),2)+POWER((AI414-AI415),2))","v":14.339840519264706},"(k6 →k''5)","(k6 →k''5)",{"$f":"SQRT(POWER((Q408-Q409),2)+POWER((R408-R409),2))","v":14.37509878341274},null,null,null,null,null,null,{"$f":"IF(CQ394>R437,CP394,CM387)","v":17.105683075845967},{"$f":"IF(CQ394>R437,CQ394,CN387)","v":52.182366223058516},"k15",null,{"$f":"-Q436+V382","v":-17.105683075845967},{"$f":"R436","v":52.182366223058516},"k15",null,null,null,null,null,null,null,null,null,null,{"$f":"AU428","v":19.697070062997131},{"$f":"AV428","v":48.547266861332432},"k6",null,{"$f":"-AH436-HY101","v":-19.697070062997131},{"$f":"AI436","v":48.547266861332432},"k6",null,null,null,null,null,null,null,null,null,null,null,null,null,null,null,null,null,null,null,null,null,null,null,null,null,null,null,null,null,null,null,null,null,null,null,null,null,null,null,null,null,null,null,null,null,null,null,null,null,null,null,null,null,null,null,null,null,null,null,null,null,null,null,null,null,null,null,null,null,null,null,null,null,null,null,null,null,null,null,{"$f":"-DK410","v":-6.4237405322119994},{"$f":"DL410","v":78.705600000000004},"s17",null,null,null,null,null,null,null,null,null,null,null,null,null,null,null,null,null,null,null,null,null,null,null,null,null,null,null,null,null,null,null,null,null,null,null,null,"مولفه افقی","مولفه عمودی","اسم نقطه ",null,null,{"$f":"((FH395-FD427)/(FH395-FH401))*RADIANS(3.5)*FD432","v":0.14084966731528648},"m11",null,{"$f":"FG397","v":7.4521277914254949},{"$f":"FH397","v":71.102980032634662},"e'9",null,{"$f":"-FO407+FG408","v":-7.4521277914254949},{"$f":"FP407","v":71.102980032634662},"e'9",null,null,null,null,null,null,null,null,null,null,{"$f":"-FT433","v":-5.687280822807117},{"$f":"FU433","v":73.216878174063694},"e''9",null,null,null,null,null,{"$f":"-DX424+EC383","v":0},{"$f":"DY424","v":65.5430298126753},26,null,null,null,null,null,null,null,null,null,null,null,null,null,null,null,null,null,{"$f":"DK401","v":4.3333007164976856},{"$f":"DL401-(DL385-HE418)","v":75.92},"g1",null,null,null,null,null,{"$f":"-HH426+EC383","v":-1.2756000000000001},30.7942,"q15",null,null,null,null,null,null,null,null,null,null,null,null,null,null,null,null,null,null,null,{"$f":"AZ177","v":6.990047592723899},{"$f":"BA177","v":33.775000000000006},52,null,{"$f":"-AZ177+IR325","v":-6.990047592723899},{"$f":"BA177","v":33.775000000000006},52,null,{"$f":"CN160","v":14.737774999999999},{"$f":"CO160","v":48.343380736880853},"d3",null,{"$f":"-CN160+IR325","v":-14.737774999999999},{"$f":"CO160","v":48.343380736880853},"d3",null,{"$f":"BO191","v":6.6326000000000001},{"$f":"BP191","v":37.83},"شیفت 38''",null,null,-7.2574518037325406,33.775000000000006,"c'50",null,{"$f":"JH396-JH412","v":0},"w7","انطباق عمودی پشت به جلو",null,null,null,null,null,{"$f":"JG410+JG435","v":25.938658422017284},{"$f":"JH410+JG436","v":37.83},"b'3",null,null,null,null,null,null,null,null,null,null,null,null,null,null,null,null,null,null,null,null,null,null,null,null,null,null,null,null,null,{"$f":"KY312","v":-27.730681831323174},47.28,"c'54",null,null,null,null,null,null,null,null,null,null,null,null,null,null,null,null,null,null,null,null,null,null,null,null,null,null,null,null,null,null,null,null,null,null,null,null,null,null,null,null,null,null,null,null,null,null,null,null,null,null,null,null,null,null,null,null,null,null,null,null,null,null,null,null,null,null,null,null,null,null,null,null,null,null,null,null,null,null,null,null,null,null,{"$f":"NU255","v":-15.666666666666666},{"$f":"NV255","v":15.5},"w22"]
[null,null,null,null,null,null,{"$f":"SQRT(POWER((AH392-AH391),2)+POWER((AI392-AI391),2))","v":5.7531931850505229},"(41 →k6)","(36 →k6)",{"$f":"SQRT(POWER((Q392-Q391),2)+POWER((R392-R391),2))","v":5.7531931850505238},null,null,null,null,null,null,{"$f":"BK165-'متغیرها '!C56","v":17.998675000000002},{"$f":"BL165-'متغیرها '!C57","v":36.741895563735973},42,null,{"$f":"-Q440+V382","v":-17.998675000000002},{"$f":"R440","v":36.741895563735973},42,null,null,null,null,null,null,null,null,null,null,{"$f":"AH401","v":8.3948203334515075},{"$f":"AI401","v":33.775000000000006},50,null,{"$f":"AL401","v":-8.3948203334515075},{"$f":"AM401","v":33.775000000000006},50,null,null,null,null,null,null,null,null,null,null,null,null,null,null,null,null,null,null,null,null,null,null,null,null,null,null,null,null,null,null,null,null,null,null,null,null,null,null,null,null,null,null,null,null,null,null,null,null,null,null,null,null,null,null,null,null,null,null,null,null,null,null,null,null,null,null,null,null,null,null,null,null,null,null,null,null,null,null,null,null,null,null,null,null,null,null,null,null,null,null,null,null,null,null,null,null,null,null,null,null,null,null,null,null,null,null,null,null,null,null,null,null,null,null,null,null,null,null,null,null,null,null,null,null,null,null,{"$f":"FC438","v":4.3333007164976856},{"$f":"FD438","v":73.716878174063694},"e'''9",null,{"$f":"-FO411+FG408","v":-4.3333007164976856},{"$f":"FP411","v":73.716878174063694},"e'''9",null,null,null,null,null,null,null,null,null,null,null,null,null,null,null,null,null,null,{"$f":"-DX428+EC383","v":-13.5},{"$f":"DY428","v":58.107260827378596},14,null,null,null,null,null,null,null,null,null,null,null,null,null,null,null,null,null,{"$f":"-DK401","v":-4.3333007164976856},{"$f":"DL401-(DL385-HE418)","v":75.92},"قرینه g1",null,null,null,null,null,null,null,null,null,null,null,null,null,null,null,null,null,null,null,null,null,null,null,null,null,null,null,{"$f":"IE402","v":14.737774999999999},{"$f":"IF402","v":48.343380736880853},"c1",null,{"$f":"-IE402+IR325","v":-14.737774999999999},{"$f":"IF402","v":48.343380736880853},"c1",null,{"$f":"IE403","v":14.737774999999999},{"$f":"IF403","v":39.303380736880854},"c2",null,{"$f":"-IE403+IR325","v":-14.737774999999999},{"$f":"IF403","v":39.303380736880854},"c2",null,null,null,null,null,null,null,null,null,null,{"$f":"JH396-JL394-JG444+JG442","v":21.05},"w11",null,null,null,null,null,null,null,null,null,null,{"$f":"-JS425+JG432","v":-1.1566099536394205},{"$f":"JT425","v":9.1212696745507174},"w'47",null,null,null,null,null,null,null,null,null,null,null,null,null,null,null,null,null,null,null,null,null,null,null,null,null,{"$f":"KY311","v":-27.730681831323174},{"$f":"KZ311","v":33.775000000000006},{"$f":"LA311","v":"c'53"},null,null,null,null,null,null,null,null,null,null,null,null,null,null,null,null,null,null,null,null,null,null,null,null,null,null,null,null,null,null,null,null,null,null,null,null,null,null,null,null,null,null,null,null,null,null,null,null,null,null,null,null,null,null,null,null,null,null,null,null,null,null,null,null,null,null,null,null,null,null,null,null,null,null,null,null,null,null,null,"نقطه ورودی سر فلش","مولفه افقی","مولفه عمودی",{"$f":"NZ443","v":-16.383333333333333},{"$f":"OA443","v":15.725},{"$f":"NY443","v":"f3"}]
[null,null,null,null,null,null,{"$f":"SQRT(POWER((AH437-AH436),2)+POWER((AI437-AI436),2))","v":15.257370753647525},"(49' →k6)","(43'' →k6)",{"$f":"SQRT(POWER((Q424-Q425),2)+POWER((R424-R425),2))","v":15.257370753647526},null,null,null,null,null,null,{"$f":"BK172-'متغیرها '!C56","v":17.998675000000002},{"$f":"BL172-'متغیرها '!C57","v":33.816895563735976},"43''",null,{"$f":"-Q443+V382","v":-17.998675000000002},{"$f":"R443","v":33.816895563735976},"43''",null,null,null,null,null,null,null,null,null,null,{"$f":"AH404","v":13.286266356099228},{"$f":"AI404","v":38.17776476371057},"37'",null,{"$f":"AL404","v":-13.286266356099228},{"$f":"AM404","v":38.17776476371057},"37'",null,null,null,null,null,null,null,null,null,null,null,null,null,null,null,null,null,null,null,null,null,null,null,null,null,null,null,null,null,null,null,null,null,null,null,null,null,null,null,null,null,null,null,null,null,null,null,null,null,null,null,null,null,null,null,null,null,null,null,null,null,null,null,null,null,null,null,null,null,null,null,null,null,null,null,null,null,null,null,null,null,null,null,null,null,null,null,null,null,null,null,null,null,null,null,null,null,null,null,null,null,null,null,null,null,null,null,null,null,null,null,null,null,null,null,null,null,null,null,null,null,null,null,null,null,null,{"$f":"-FC439","v":-6.2167349133926306},{"$f":"FD439","v":72.159929103349185},"e99",null,null,null,null,null,null,null,null,null,null,null,null,null,null,null,null,null,null,null,null,null,null,null,null,null,null,null,null,null,null,null,null,null,null,null,null,null,null,null,null,null,null,null,null,null,null,null,null,null,null,null,null,null,null,null,null,null,null,null,null,null,null,null,null,null,null,null,null,null,null,null,null,{"$f":"IE403","v":14.737774999999999},{"$f":"IF403","v":39.303380736880854},"c2",null,{"$f":"-IE403+IR325","v":-14.737774999999999},{"$f":"IF403","v":39.303380736880854},"c2",null,{"$f":"IE404","v":14.737774999999999},{"$f":"IF404","v":39.303380736880854},"c3",null,{"$f":"-IE404+IR325","v":-14.737774999999999},{"$f":"IF404","v":39.303380736880854},"c3",null,null,null,null,null,null,null,null,"پیلی 4",null,null,"w14",null,null,null,null,null,null,null,null,null,null,{"$f":"-JS428+JG432","v":-14.572583422017283},{"$f":"JT428","v":48},"a'5",null,null,null,null,null,null,null,null,null,null,null,null,null,null,null,null,null,null,null,null,null,null,null,null,null,{"$f":"KY310","v":-27.730681831323174},{"$f":"KZ310","v":47.28},{"$f":"LA310","v":"c'52"},null,null,null,null,null,null,null,null,null,null,null,null,null,null,null,null,null,null,null,null,null,null,null,null,null,null,null,null,null,null,null,null,null,null,null,null,null,null,null,null,null,null,null,null,null,null,null,null,null,null,null,null,null,null,null,null,null,null,null,null,null,null,null,null,null,null,null,null,null,null,null,null,null,null,null,null,null,null,null,"f3",{"$f":"NZ442","v":-16.383333333333333},{"$f":"OA441+OA439*NZ439","v":15.725},{"$f":"NZ442","v":-16.383333333333333},{"$f":"OA442","v":15.275},{"$f":"NY442","v":"f2"}]
[null,null,null,null,null,null,null,null,null,null,null,null,null,null,null,null,null,null,null,null,null,null,null,null,null,null,null,null,null,null,null,null,null,null,null,null,null,null,null,null,null,null,null,null,null,null,null,null,null,null,null,null,null,null,null,null,null,null,null,null,null,null,null,null,null,null,null,null,null,null,null,null,null,null,null,null,null,null,null,null,null,null,null,null,null,null,null,null,null,null,null,null,null,null,null,null,null,null,null,null,null,null,null,null,null,null,null,null,null,null,null,null,null,null,null,null,null,null,null,null,null,null,null,null,null,null,null,null,null,null,null,null,null,null,null,null,null,null,null,null,null,null,null,null,null,null,null,null,null,null,null,null,null,null,null,null,null,null,null,null,null,null,null,null,null,null,{"$f":"-FC438","v":-4.3333007164976856},{"$f":"FD438","v":73.716878174063694},"e'''9",null,null,null,null,null,null,null,null,null,null,null,null,null,null,null,null,null,null,null,null,null,null,null,null,null,null,null,null,null,null,null,null,null,null,null,null,null,null,null,null,null,null,null,null,null,null,null,null,null,null,null,null,null,null,null,null,null,null,null,null,null,null,null,null,null,null,null,null,null,null,null,null,{"$f":"IU307","v":0},{"$f":"IV307","v":42.24},"a1",null,{"$f":"-IU307+IR325","v":0},{"$f":"IV307","v":42.24},"a1",null,{"$f":"CA182","v":2.907859798573142},{"$f":"CB182","v":35.569644183529043},"6n",null,{"$f":"-IP448+IR325","v":-2.907859798573142},35.569644183529043,"6n",null,{"$f":"BK172","v":17.998675000000002},{"$f":"BL172","v":33.816895563735976},"شیفت 43''",null,null,{"$f":"JG333","v":-3.6287259018662703},{"$f":"JH333","v":43.92},{"$f":"JI333","v":"c'44"},null,{"$f":"TAN(RADIANS(2))","v":3.492076949174773E-2},"w46",null,"نقطه دوم از خط دوم","w18",{"$f":"JK395","v":-15.088824028319728},{"$f":"JL395","v":14.113354804921094},null,{"$f":"JG412+JG435","v":16.97258342201728},{"$f":"JH412+JG436","v":48},"b'5",null,null,null,null,null,null,null,null,null,null,null,null,null,null,null,null,null,null,null,null,null,null,null,null,null,null,null,null,null,{"$f":"KY317","v":-22.732599999999998},{"$f":"KZ317","v":37.83},{"$f":"LA317","v":"c'47"},null,null,null,null,null,null,null,null,null,null,null,null,null,null,null,null,null,null,null,null,null,null,null,null,null,null,null,null,null,null,null,null,null,null,null,null,null,null,null,null,null,null,null,null,null,null,null,null,null,null,null,null,null,null,null,null,null,null,null,null,null,null,null,null,null,null,null,null,null,null,null,null,null,null,null,null,null,null,null,"نقطه شروع انحنا","مولفه افقی","مولفه عمودی",{"$f":"NZ452","v":-18.75},{"$f":"OA452","v":16.25},{"$f":"NY452","v":"g4"}]
[null,null,null,null,null,null,null,null,null,null,null,null,null,null,null,null,null,null,null,null,null,null,null,null,null,null,null,null,null,null,null,null,null,null,null,null,null,null,null,null,null,null,null,null,null,null,null,null,null,null,null,null,null,null,null,null,null,null,null,null,null,null,null,null,null,null,null,null,null,null,null,null,null,null,null,null,null,null,null,null,null,null,null,null,null,null,null,null,null,null,null,null,null,null,null,null,null,null,null,null,null,null,null,null,null,null,null,null,null,null,null,null,null,null,null,null,null,null,null,null,null,null,null,null,null,null,null,null,null,null,null,null,null,null,null,null,null,null,null,null,null,null,null,null,null,null,null,null,null,null,null,null,null,null,null,null,null,null,null,null,null,null,null,null,null,null,null,null,null,null,null,null,null,null,null,null,null,null,null,null,null,null,null,null,null,null,null,null,null,null,null,null,null,null,null,null,null,null,null,null,null,null,null,null,null,null,null,null,null,null,null,null,null,null,null,null,null,null,null,null,null,null,null,null,null,null,null,null,null,null,null,null,null,null,null,null,null,null,null,null,null,null,null,null,null,null,null,null,null,null,null,null,null,null,null,null,null,{"$f":"BK172","v":17.998675000000002},33.816895563735976,"شیفت43''",null,null,{"$f":"JG334","v":-3.6287259018662703},{"$f":"JH334","v":33.775000000000006},{"$f":"JI334","v":"c'45"},null,null,null,null,null,null,null,null,null,null,null,null,null,{"$f":"JG393","v":7.2574518037325406},{"$f":"JH393","v":45.6},"a2",null,null,null,null,null,null,null,null,null,null,null,null,null,null,null,null,null,null,null,null,null,null,null,null,null,null,null,null,null,null,null,null,null,null,null,null,null,null,null,null,null,null,null,null,null,null,null,null,null,null,null,null,null,null,null,null,null,null,null,null,null,null,null,null,null,null,null,null,null,null,null,null,null,null,null,null,null,null,null,null,null,null,null,null,null,null,null,null,null,null,null,null,null,null,null,null,null,null,null,null,null,null,null,null,null,null,null,"g5",{"$f":"NZ449+0.7*(NZ452-NZ449)","v":-18.524999999999999},{"$f":"OA449+0.28*(OA452-OA449)","v":15.71},{"$f":"NZ452","v":-18.75},{"$f":"OA452","v":16.25},{"$f":"NY452","v":"g4"}]
[null,null,null,null,null,null,{"$f":"P471","v":11.35404951458217},{"$f":"Q471","v":62.631642960452048},"g10","طول حلقه","جلو پیراهن برش از کارور (حلقه با ساسون سرشانه)",null,null,null,null,"مولفه افقی","مولفه عمودی","محاسبات",null,{"$f":"AC471","v":12.218471786149705},{"$f":"AD471","v":66.985280042706947},"g10","طول حلقه","پشت پیراهن مردانه یا برش از کارور (حلقه با ساسون سرشانه)",null,null,null,null,"مولفه افقی","مولفه عمودی","محاسبات",null,"جلو برش سرشانه  (حلقه با ساسون سرشانه)",null,null,null,null,"به دست آوردن نقطه تقاطع دو خط ","مولفه افقی","مولفه عمودی",null,null,null,"جلو پیراهن مردانه وصل به برش سرشانه (حلقه بدون ساسون سرشانه)",null,null,null,null,null,null,"مولفه افقی","مولفه عمودی","اسم نقطه ورودی","جلو پیراهن برش از کارور (حلقه بدون ساسون سرشانه)",null,null,null,null,null,null,null,"پشت پیراهن برش از کارور (حلقه بدون ساسون سرشانه)",null,null,null,null,null,null,null,null,"جلو پیراهن برش از کارور (با ساسون عصایی)",null,null,null,null,"پشت پیراهن برش از کارور (با ساسون عصایی)",null,null,null,null,null,null,null,"جلو برش سرشانه  (حلقه با ساسون عصایی)",null,"یقه مربعی (رسم کاربر)",null,null,null,null,null,null,null,"یقه مربعی و برش سرشانه در پیراهن مردانه و تکه برش از کارور",null,null,null,null,null,null,null,null,null,null,null,null,null,null,null,null,null,null,null,null,null,null,null,"جیب پهلو",null,null,null,"پاکت جیب",null,null,null,null,null,null,null,"رسم پاکت جیب اول",null,null,null,"جیب دوم درمکان دلخواه",null,null,null,"پاکت جیب دوم",null,"متغیر محاسبه ای محلی",null,null,null,null,null," جیب مستطیل",null,null,null,null,"متغیر محاسبه ای محلی",null,null,null,null,null," جادکمه با بلیطی",null,null,null,null,null,null,null,null,"جادکمه جلوبا طول دلخواه",null,null,null,null,null,null,null,null,null,null,null,null,null,null,null,null,null,null,null,null,null,null,null,null,null,null,null,null,null,null,null,null,null,null,null,null,null,null,null,null,null,null,null,null,null,null,null,null,null,null,null,null,null,null,null,null,null,null,null,null,null,null,null,null,null,null,null,null,null,null,null,null,null,null,null,null,null,null,null,null,null,null,null,null,null,null,null,null,null,null,null,null,null,null,null,null,{"$f":"JG336","v":0},42.24,"d1",null,null,null,null,null,null,null,null,null,null,null,null,null,{"$f":"IY308","v":-7.2574518037325406},{"$f":"IZ308","v":45.6},"a'2",null,null,null,null,null,null,null,null,null,null,null,null,null,null,null,null,null,null,null,null,null,null,null,null,null,null,null,"پیلی 12",null,null,null,null,null,null,null,null,null,null,null,null,null,null,null,null,null,null,null,null,null,null,null,null,null,null,null,null,null,null,null,null,null,null,null,null,null,null,null,null,null,null,null,null,null,null,null,null,null,null,null,null,null,null,null,null,null,null,null,null,null,null,null,null,null,null,null,null,null,null,null,null,null,null,null,null,null,null,null,null,null,null,{"$f":"NU259","v":2},{"$f":"NV259","v":17},"w26"]
[null,null,null,null,null,null,{"$f":"BW134","v":12.000404363498989},{"$f":"BX134","v":58.565702422540063},"b10",{"$f":"SQRT(POWER(G463-G464,2)+POWER(H463-H464,2))","v":3.0532168499208203},"نقطه دوم از خط دوم",{"$f":"I467","v":32},{"$f":"G467","v":8.71204984591105},{"$f":"H467","v":70.912684068662116},null,{"$f":"G469+Q462*COS(Q463)","v":8.000374453970748},{"$f":"H469+Q462*SIN(Q463)","v":62.78631597685083},"g4",null,{"$f":"CE117","v":13.648309905038673},{"$f":"CF117","v":59.407086074851811},"b10",{"$f":"SQRT(POWER(T463-T464,2)+POWER(U463-U464,2))","v":3.7079659972475074},"نقطه دوم از خط دوم",{"$f":"V467","v":30},{"$f":"T467","v":8.7188795213449861},{"$f":"U467","v":71.934712254645689},null,{"$f":"T469+AD462*COS(AD463)","v":8.2411689040586023},{"$f":"U469+AD462*SIN(AD463)","v":66.984215267935241},"g4",null,null,{"$f":"O139","v":0.30381724923182812},"β3",null,"نقطه تقاطع","g2",{"$f":"(AN462-AN460+AM460*((AN461-AN460)/(AM461-AM460))-AM462*((AN463-AN462)/(AM463-AM462)))/(((AN461-AN460)/(AM461-AM460))-((AN463-AN462)/(AM463-AM462)))","v":8.3260468829767849},{"$f":"AN460+(AM464-AM460)*((AN461-AN460)/(AM461-AM460))","v":67.012769338185606},null,null,{"$f":"0.5*(P139+0.3*(P140-P139)+AE139+0.3*(AE140-AE139))","v":0.34045293430977369},"α2",null,"نقطه دوم از خط دوم",{"$f":"AR474","v":"g1"},{"$f":"AP474","v":8.5316071031914706},{"$f":"AQ474","v":66.799976295513574},null,13.204050605986136,57.414188466590097,"18f",null,"نقطه دوم از خط دوم",{"$f":"BA466","v":" وسط 22f"},{"$f":"AY466","v":9.451262124445531},{"$f":"AZ466","v":70.544899032397041},null,12.556227120535015,59.835633934124658,"16f",null,"نقطه دوم از خط دوم",{"$f":"BJ467","v":"وسط 18f"},{"$f":"BH467","v":9.4529695433040146},{"$f":"BI467","v":71.550406078892934},null,{"$f":"AZ168","v":14.737774999999999},{"$f":"BA168","v":48.343380736880853},41,null,null,{"$f":"BK114-'متغیرها '!C56","v":17.015427697146322},{"$f":"BL114-'متغیرها '!C57","v":56.325133880791398},9,null,null,null,{"$f":"O139","v":0.30381724923182812},"β3",null,null,null,null,"(5 → 6)",{"$f":"G163+CL464*COS(CL462)*(1-0.5*'متغیرها '!C76+0.5*'متغیرها '!C78)","v":12.780973598491375},null,"پهنا یقه روی خط سرشانه",{"$f":"IF('متغیرها '!C282=1,CP461,IF('متغیرها '!C282=2,CO461,CN461))","v":7.2690097450106155},null,{"$f":"IF('متغیرها '!C283=2,IF(Q460>H469,(M465-P460)+SQRT(POWER(P471-P464,2)+POWER(Q464-Q471,2)),(M486-P460)+SQRT(POWER(P476-M486,2)+POWER(N486-Q476,2))),IF(AZ477>AZ468,(BE465-AY477)+SQRT(POWER(AY488-AY481,2)+POWER(AZ481-AZ488,2)),(BE486-AY477)+(BE479-BE486)))","v":10.840311468178749},{"$f":"CN464","v":10.840311468178749},{"$f":"'متغیرها '!C293*G168","v":10.9498698},"نصف جلو کارور",null,null,{"$f":"SQRT(POWER(CS462-CS463,2)+POWER(CT462-CT463,2))","v":3.83757440531231},"(25→30)",null,null,null,null,null,null,null,null,null,null,null,null,null,null,null,null,"افقی بالای جیب",{"$f":"DM477-0.5*SIN(RADIANS('متغیرها '!C198))*'متغیرها '!C197*(0.5*'متغیرها '!U84+0.06*H105)","v":10.249127483367291},null,null,{"$f":"DM466+DM462","v":14.225958976885137},{"$f":"DM467+DM463","v":38.519784907036239},"β5",null,"افقی بالای جیب",{"$f":"DU477-0.5*SIN(RADIANS('متغیرها '!C206))*IF('متغیرها '!C209=0,'متغیرها '!C205*(0.5*'متغیرها '!U84+0.06*H105),DU479)","v":11.475000000000003},null,null,{"$f":"DU466+DU462","v":11.475},{"$f":"DU467+DU463","v":41.220000000000013},"β5",null,"عمودی بالای جیب",{"$f":"EC477+'متغیرها '!C215*0.5*COS(RADIANS('متغیرها '!C216))*(0.5*'متغیرها '!U84+0.06*H105)","v":40.655000000000001},null,null,{"$f":"EC465+EC461","v":6.7499999999999964},{"$f":"EC466+EC462","v":40.655000000000001},"β5",null,"افقی پایین جیب",{"$f":"2*EK468-EK462","v":6.75},null,null,{"$f":"EN480","v":6.75},{"$f":"EO480","v":38.960000000000008},"β3",null,"ضریب طول پاکت جادکمه یا عرض جیب مستطیل",{"$f":"'متغیرها '!C223","v":0},null,"افقی پایین جیب",{"$f":"2*EV468-EV462","v":8.0820000000000007},null,null,{"$f":"EY482","v":8.0820000000000007},{"$f":"EZ482","v":47},"β3",null,"ضریب طول پاکت جادکمه یا عرض جیب مستطیل",{"$f":"'متغیرها '!C231","v":0.30000000000000004},null,"متغیر محاسبه ای محلی",null,null,null,{"$f":"FG469+FG467","v":1.036635},{"$f":"FG470+FG468","v":57.452678350923691},"β5",null,null,null,null,null,null,null,null,null,null,null,null,null,null,null,null,null,null,null,null,null,null,null,null,null,null,null,null,null,null,null,null,null,null,null,null,null,null,null,null,null,null,null,null,null,null,null,null,null,null,null,null,null,null,null,null,null,null,null,null,null,null,null,null,null,null,null,null,null,null,null,null,null,null,null,null,null,null,null,null,null,null,null,null,null,null,null,null,null,{"$f":"IE414","v":15.598675},{"$f":"IF414","v":48.04189556373597},"c1",null,null,null,null,null,null,null,null,null,null,null,null,null,null,-49.529013790099938,55.820112725835742,"w20",null,null,null,null,null,null,null,null,null,null,null,null,null,null,null,null,null,null,null,null,null,null,null,null,null,null,null,null,null,{"$f":"KY326","v":-18.351255668676824},{"$f":"KZ326","v":46.56},{"$f":"LA326","v":"c'44"},null,null,null,null,null,null,null,null,null,null,null,null,null,null,null,null,null,null,null,null,null,null,null,null,null,null,null,null,null,null,null,null,null,null,null,null,null,null,null,null,null,null,null,null,null,null,null,null,null,null,null,null,null,null,null,null,null,null,null,null,null,null,null,null,null,null,null,null,null,null,null,null,null,null,null,null,null,null,null,"f2",{"$f":"NZ463-1*NZ461","v":-16.45},{"$f":"OA463-OA461*NZ461","v":16.774999999999999},{"$f":"NZ463","v":-16},{"$f":"OA463","v":17},{"$f":"NY463","v":"w27"}]
[null,null,null,null,null,null,{"$f":"AZ104","v":7.8544165915675519},{"$f":"BA104","v":62.247733580884876},5,null,"نقطه دوم از خط اول",{"$f":"R465","v":"g6"},{"$f":"P465","v":15.062374453970747},{"$f":"Q465","v":62.78631597685083},null,null,{"$f":"IF(M470=M471,RADIANS(90),IF(M470>M471,ATAN((N470-N471)/(M470-M471)),RADIANS(180)-ATAN((N470-N471)/(M471-M470))))","v":1.3295812380275345},"g9",null,{"$f":"BK101","v":8.1987829808524726},{"$f":"BL101","v":66.542275796965384},22,null,"نقطه دوم از خط اول",{"$f":"AE465","v":"g6"},{"$f":"AC465","v":15.303168904058602},{"$f":"AD465","v":66.984215267935241},null,null,{"$f":"IF(Z470=Z471,RADIANS(90),IF(Z470>Z471,ATAN((AA470-AA471)/(Z470-Z471)),RADIANS(180)-ATAN((AA470-AA471)/(Z471-Z470))))","v":1.4244024099128463},"g9",null,{"$f":"BW136","v":11.954995220574624},{"$f":"BX136","v":65.074462606118075},"b12",null,"نقطه اول از خط دوم",{"$f":"AI468","v":"b16"},{"$f":"AG468","v":14.022580190996671},{"$f":"AH468","v":68.675635691210431},null,{"$f":"CI118","v":11.316157810070937},{"$f":"CJ118","v":65.619354426295132},"24f",null,"نقطه دوم از خط اول",{"$f":"AR478","v":"g4"},{"$f":"AP478","v":12.360627418487841},{"$f":"AQ478","v":65.443558983828538},null,{"$f":"DX388","v":0},{"$f":"DY388","v":65.5430298126753},"26شبیه ساز",null,"نقطه دوم از خط اول",{"$f":"BA482","v":"g6"},{"$f":"AY482","v":15.023287102025664},{"$f":"AZ482","v":62.803029812675305},null,{"$f":"BK154","v":7.1825999999999999},{"$f":"BL154","v":59.816656485349888},40,null,"نقطه دوم از خط اول",{"$f":"BJ485","v":"g6"},{"$f":"BH485","v":15.460437008031919},{"$f":"BI485","v":66.100359083847437},null,{"$f":"BQ465","v":0},{"$f":"BR465-BR466","v":62.803029812675305},"g1",null,null,{"$f":"BV465","v":0},{"$f":"BW465-BW466","v":66.100359083847437},"g1",null,null,null,null,null,null,null,null,null,"(10 → 11)",{"$f":"0.75*CI471","v":4.5845399102521851},null,"طول حلقه آستین در یقه مربعی",{"$f":"SQRT(POWER(CW463-CW462,2)+POWER(CX463-CX462,2))+SQRT(POWER(CW462-#REF!,2)+POWER(CX462-#REF!,2))+SQRT(POWER(#REF!-#REF!,2)+POWER(#REF!-#REF!,2))+SQRT(POWER(#REF!-CW461,2)+POWER(#REF!-CX461,2))","v":{"$error":"#REF!"}},null,null,"α2+α4",{"$f":"2*CM463","v":0.68090586861954738},"رادیان",null,null,null,null,null,{"$f":"0+'متغیرها '!C301","v":0},{"$f":"CI465+'متغیرها '!C302","v":4.7666748478961427},7,null,{"$f":"CW480","v":5.9430213019742952},{"$f":"CX480","v":16.092917732716},29,null,{"$f":"CP473","v":5.9430213019742952},{"$f":"CQ473","v":16.092917732716},{"$f":"CR473","v":21},null,null,null,null,"(β15→β16)",{"$f":"'متغیرها '!C197*(0.5*'متغیرها '!U84+0.18*'متغیرها '!U83)*SIN(0.5*(RADIANS(90)-RADIANS('متغیرها '!C198)))","v":6.6420151329451134},null,null,{"$f":"DP467","v":12.944246212773558},{"$f":"DQ467","v":39.117457384496475},"β7",null,"(β15→β16)",{"$f":"'متغیرها '!C205*(0.5*'متغیرها '!U84+(0.18-'متغیرها '!C208*0.08)*'متغیرها '!U83)*SIN((0.5*'متغیرها '!C208+0.5)*(RADIANS(90)-RADIANS('متغیرها '!C206)))","v":-5.899294504403508E-15},null,null,{"$f":"DX467","v":11.475},{"$f":"DY467","v":41.220000000000013},"β7",null,"(وسط جیب→β16)",{"$f":"'متغیرها '!C215*(0.5*'متغیرها '!U84+(0.18-'متغیرها '!C218*0.08)*'متغیرها '!U83)*COS((0.5*'متغیرها '!C218+0.5)*(RADIANS(90)-RADIANS('متغیرها '!C216)))","v":-1.028510610012745E-14},null,null,{"$f":"EF467","v":6.7499999999999964},{"$f":"EG467","v":40.655000000000001},"β7",null,"عمودی وسط جیب",{"$f":"IF(ES462<1,ES462*ES470,IF(ES462<2,ES470+(ES462-1)*(ES471-ES470),IF(ES462<3,ES471+(ES462-2)*(ES477-ES471),ES477+(ES462-3)*(ES476-ES475))))+ES474","v":38.960000000000008},null,null,{"$f":"EN480-EK472*COS(RADIANS(ES465))","v":6.75},{"$f":"EO480-EK472*SIN(RADIANS(ES465))","v":38.960000000000008},"β'3",null,"s2",{"$f":"'متغیرها '!U73","v":27},null,"عمودی وسط جیب",{"$f":"IF(FD462<1,FD462*FD470,IF(FD462<2,FD470+(FD462-1)*(FD471-FD470),IF(FD462<3,FD471+(FD462-2)*(FD477-FD471),FD477+(FD462-3)*(FD476-FD475))))+FD474","v":48},null,null,{"$f":"EV462+EV460","v":5.4180000000000001},{"$f":"EV463+EV461","v":49},"β11",null,"s2",27,null,"افقی پایین جادکمه",{"$f":"FF462","v":0},null,null,{"$f":"FG469-FG468","v":0},{"$f":"FG470+FG467","v":58.489313350923688},"β7",null,null,null,null,null,null,null,null,null,null,null,null,null,null,null,null,null,null,null,null,null,null,null,null,null,null,null,null,null,null,null,null,null,null,null,null,null,null,null,null,null,null,null,null,null,null,null,null,null,null,null,null,null,null,null,null,null,null,null,null,null,null,null,null,null,null,null,null,null,null,null,null,null,null,null,null,null,null,null,null,null,null,null,null,null,null,null,null,null,{"$f":"IE415","v":17.518675000000002},{"$f":"IF415","v":39.001895563735971},"c2",null,null,{"$f":"JG339","v":0},{"$f":"JH339","v":33.775000000000006},{"$f":"JI339","v":"c7"},null,null,null,null,null,null,null,null,null,null,null,null,null,null,null,null,null,null,null,null,null,null,null,null,null,null,null,null,null,null,null,null,null,null,null,null,null,null,null,null,null,{"$f":"KY327","v":-18.351255668676824},{"$f":"KZ327","v":33.775000000000006},{"$f":"LA327","v":"c'45"},null,null,null,null,null,null,null,null,null,null,null,null,null,null,null,null,null,null,null,null,null,null,null,null,null,null,null,null,null,null,null,null,null,null,null,null,null,null,null,null,null,null,null,null,null,null,null,null,null,null,null,null,null,null,null,null,null,null,null,null,null,null,null,null,null,null,null,null,null,null,null,null,null,null,null,null,null,null,null,"پهنای نیم دایره",{"$f":"NV222","v":0.5},{"$f":"NV219","v":0.44999999999999996},{"$f":"NZ475","v":2.5249999999999999},{"$f":"OA475","v":17.21},{"$f":"NY475","v":"g5"}]
[null,null,null,null,null,null,null,{"$f":"ROUND(BA102-Q460+0.5*CL460,1)","v":18.399999999999999},"نصف دور یقه (گرد) در پیراهن برش از کارور ",null,"نقطه اول از خط اول",{"$f":"R460","v":"g1"},{"$f":"P460","v":0},{"$f":"Q460","v":62.803029812675305},null,null,{"$f":"((M479-P477)*SIN(Q473*(H478-H477)))/COS(RADIANS(90)-Q473*(H478-H477)-Q474)","v":0.41245356747083467},"(g14→g16)",null,null,{"$f":"'متغیرها '!C57","v":0},"شیفت عمودی حلقه آستین ",null,"نقطه اول از خط اول",{"$f":"AE460","v":"g1"},{"$f":"AC460","v":0},{"$f":"AD460","v":66.100359083847437},null,null,{"$f":"((Z479-Z486)*SIN(AD473*(U478-U477)))/COS(RADIANS(90)-AD473*(U478-U477)-AD474)","v":0.48387784571701381},"(g14→g16)",null,null,{"$f":"SQRT(POWER(AG462-AM464,2)+POWER(AN464-AH462,2))","v":4.788319214518733},"(5→g2)",null,null,{"$f":"AM464","v":8.3260468829767849},{"$f":"AN464","v":67.012769338185606},{"$f":"AL464","v":"g2"},null,null,{"$f":"SQRT(POWER(AP462-AV465,2)+POWER(AW465-AQ462,2))","v":4.5686032588942309},"(5→g2)",null,null,{"$f":"AV465","v":8.7178302844785804},{"$f":"AW465","v":66.734007372359571},{"$f":"AU465","v":"g2"},null,null,null,null,null,"نقطه اول از خط اول",{"$f":"BA477","v":"g1"},{"$f":"AY477","v":0},{"$f":"AZ477","v":62.803029812675305},null,null,{"$f":"'متغیرها '!C57","v":0},"شیفت عمودی حلقه آستین ",null,"نقطه اول از خط اول",{"$f":"BJ480","v":"g1"},{"$f":"BH480","v":0},{"$f":"BI480","v":66.100359083847437},null,"نقطه دوم از خط دوم","نقطه پایینی",{"$f":"IF(BR470>BR462,BQ462,IF(BR470>BR463,BQ463,BQ464))","v":11.069121989515221},{"$f":"IF(BR470>BR462,BR462,IF(BR470>BR463,BR463,BR464))","v":61.47342425802357},null,"نقطه دوم از خط دوم","نقطه پایینی",{"$f":"IF(BW470>BW462,BV462,IF(BW470>BW463,BV463,BV464))","v":12.25837068641593},{"$f":"IF(BW470>BW462,BW462,IF(BW470>BW463,BW463,BW464))","v":62.844684190582925},null,"خط دوم","نقطه اول",{"$f":"CC463","v":30},{"$f":"CA463","v":4.8888099691822111},{"$f":"CB463","v":68.090424684044606},null,null,"(16 → 17)",{"$f":"CI471+0.65*K144*SIN(CL463+CL462)-(1-0.75)*AA146*COS(CL463+CL462)","v":7.9022559794869114},null,{"$f":"CE134","v":12.25837068641593},{"$f":"CF134","v":62.844684190582925},"b6",null,"متغیر محاسبه ای",null,null,null,{"$f":"CS477","v":7.4530160563150947},{"$f":"CT477","v":10.187811929368673},"g21",null,{"$f":"CI479+'متغیرها '!C301","v":5.9430213019742952},{"$f":"CI478+'متغیرها '!C302","v":16.092917732716},21,null,{"$f":"CW465","v":12.253671282649247},{"$f":"CX465","v":0},3,null,null,null,"سرشانه",null,null,null,null,null,null,null,null,{"$f":"DM466-DM462","v":12.346573735313319},{"$f":"DM467-DM463","v":37.835744620384901},"β3",null,null,null,null,null,{"$f":"DX473","v":11.475},{"$f":"DY473","v":41.220000000000013},"β3",null,"متغیر محاسبه ای خارجی",null,null,null,{"$f":"EF473","v":6.7499999999999964},{"$f":"EG473","v":40.655000000000001},"β3",null,null,null,null,null,{"$f":"EK462+EK460","v":6.75},{"$f":"EK463+EK461","v":38.960000000000008},"β11",null,"t5",{"$f":"H126","v":15},null,null,null,null,null,{"$f":"EV464-EV461","v":7.0820000000000007},{"$f":"EV465+EV460","v":48},"β7",null,"t5",{"$f":"ES475","v":15},null,null,null,null,null,{"$f":"FG469+FG467","v":1.036635},{"$f":"FG470+FG468","v":57.452678350923691},"β5",null,null,null,null,null,null,null,null,null,null,null,null,null,null,null,null,null,null,null,null,null,null,null,null,null,null,null,null,null,null,null,null,null,null,null,null,null,null,null,null,null,null,null,null,null,null,null,null,null,null,null,null,null,null,null,null,null,null,null,null,null,null,null,null,null,null,null,null,null,null,null,null,null,null,null,null,null,null,null,null,null,null,null,null,null,null,null,null,null,null,null,null,null,null,3.6287259018662703,33.775000000000006,"d43",null,null,null,null,null,null,null,null,null,null,null,null,null,null,null,null,null,null,null,null,null,null,null,null,null,null,null,null,null,null,null,null,null,null,null,null,null,null,null,null,null,{"$f":"KY329","v":0},36.700000000000003,"d14",null,null,null,null,null,null,null,null,null,null,null,null,null,null,null,null,null,null,null,null,null,null,null,null,null,null,null,null,null,null,null,null,null,null,null,null,null,null,null,null,null,null,null,null,null,null,null,null,null,null,null,null,null,null,null,null,null,null,null,null,null,null,null,null,null,null,null,null,null,null,null,null,null,null,null,null,null,null,null,"g5",{"$f":"NZ471+0.7*(NZ474-NZ471)","v":2.5249999999999999},{"$f":"OA471+0.28*(OA474-OA471)","v":17.21},{"$f":"NZ474","v":2.75},{"$f":"OA474","v":17.75},{"$f":"NY474","v":"g4"}]
[null,null,null,null,null,null,null,null,"اگر برش کارور ساسون سرشانه را قطع کند",{"$f":"CL469+J460+W460","v":{"$error":"#REF!"}},"طول کل حلقه آستین با ساسون سرشانه",null,null,null,null,{"$f":"IF(Q460>H469+1,M465,M486)","v":7.9018674092074912},{"$f":"IF(Q460>H469+1,N465,N486)","v":62.802058012683993},{"$f":"IF(Q460>H469+1,L465,L486)","v":"g15"},null,null,null,null,null,null,null,null,null,"شیفت",null,null,null,null,null,null,null,null,null,null,null,null,null,null,null,null,null,null,null,null,null,null,null,{"$f":"IF(AY467=AY468,RADIANS(90),IF(AY467>AY468,ATAN((AZ467-AZ468)/(AY467-AY468)),RADIANS(180)-ATAN((AZ467-AZ468)/(AY468-AY467))))","v":1.3806642968845506},"g5",null,null,null,null,null,null,{"$f":"BH470","v":0},{"$f":"BI470-BI471","v":66.100359083847437},"g1",null,null,null,null,null,null,null,null,null,null,null,null,null,null,null,null,null,null,null,null,null,null,null,"(1 → 22)",{"$f":"CT468+0.5*(CI482-CT468)","v":9.2049989083407429},null,"به دست آوردن نقطه تقاطع دو خط ","مولفه افقی","مولفه عمودی",null,"(13 → sq4)",{"$f":"SQRT(POWER((CQ472-CP479),2)+POWER((CP478-CP472),2))","v":7.2754926662418242},null,null,{"$f":"CS478","v":13.947544686719201},{"$f":"CT478","v":7.8871474407728677},"g22",null,{"$f":"CI487+'متغیرها '!C301","v":5.9430213019742952},{"$f":"CI486+'متغیرها '!C302","v":16.092917732716},29,null,null,null,null,null,null,null,"سرشانه",null,null,null,null,null,null,null,null,null,null,null,null,null,null,null,null,null,null,null,null,null,null,null,null,null,null,null,null,null,null,null,null,{"$f":"EK464-EK460","v":6.75},{"$f":"EK465-EK461","v":38.960000000000008},"β3",null,null,null,null,null,null,null,null,null,null,null,null,null,null,null,null,null,null,null,null,null,null,null,null,null,null,null,null,null,null,null,null,null,null,null,null,null,null,null,null,null,null,null,null,null,null,null,null,null,null,null,null,null,null,null,null,null,null,null,null,null,null,null,null,null,null,null,null,null,null,null,null,null,null,null,null,null,null,null,null,null,null,null,null,null,null,null,null,null,null,null,null,null,null,null,null,null,null,null,null,null,null,null,null,null,null,null,null,null,null,null,null,null,null,null,null,{"$f":"JG347","v":3.6287259018662703},43.92,"c44",null,null,null,null,null,null,null,null,null,null,null,null,null,null,null,null,null,null,null,null,null,null,null,null,null,null,null,null,null,null,null,null,null,null,null,null,null,null,null,null,null,null,null,null,null,null,null,null,null,null,null,null,null,null,null,null,null,null,null,null,null,null,null,null,null,null,null,null,null,null,null,null,null,null,null,null,null,null,null,null,null,null,null,null,null,null,null,null,null,null,null,null,null,null,null,null,null,null,null,null,null,null,null,null,null,null,null,null,null,null,null,null,null,null,null,null,null,null,null,null,null,null,null,null,null,"باکس نوشته",null,null,{"$f":"OA480","v":"باکس نوشته"}]
[null,null,null,null,null,null,null,null,null,null,"نقطه تقاطع","g15",{"$f":"(N484-N482+M482*((N483-N482)/(M483-M482+0.001))-M484*((N485-N484)/(M485-M484)))/(((N483-N482)/(M483-M482+0.001))-((N485-N484)/(M485-M484)))","v":7.9018674092074912},{"$f":"N482+(M486-M482)*((N483-N482)/(M483-M482+0.0001))","v":62.802058012683993},null,null,null,null,null,null,null,null,null,"نقطه تقاطع","g15",{"$f":"(AA484-AA482+Z482*((AA483-AA482)/(Z483-Z482))-Z484*((AA485-AA484)/(Z485-Z484)))/(((AA483-AA482)/(Z483-Z482))-((AA485-AA484)/(Z485-Z484)))","v":8.1320131828579356},{"$f":"AA482+(Z486-Z482)*((AA483-AA482)/(Z483-Z482))","v":66.100359083847437},null,{"$f":"-AC479+AD484","v":-8.1320131828579356},{"$f":"AD479","v":66.100359083847437},"g15",null,null,null,null,null,null,null,null,null,null,null,null,null,null,null,null,null,null,null,null,{"$f":"IF(BE470=BE471,RADIANS(90),IF(BE470>BE471,ATAN((BF470-BF471)/(BE470-BE471)),RADIANS(180)-ATAN((BF470-BF471)/(BE471-BE470))))","v":1.403417084576227},"g9",null,"نقطه تقاطع","g15",{"$f":"(BF484-BF482+BE482*((BF483-BF482)/(BE483-BE482+0.0001))-BE484*((BF485-BF484)/(BE485-BE484+0.0001)))/(((BF483-BF482)/(BE483-BE482+0.0001))-((BF485-BF484)/(BE485-BE484+0.0001)))","v":7.9019505964197538},{"$f":"BF482+(BE486-BE482)*((BF483-BF482)/(BE483-BE482+0.0001))","v":62.803029812675305},null,null,{"$f":"(BI485-BI469)/(BI468-BI469)","v":0.53552383646872792},"g11",null,"نقطه تقاطع","g15",{"$f":"(BO484-BO482+BN482*((BO483-BO482)/(BN483-BN482))-BN484*((BO485-BO484)/(BN485-BN484)))/(((BO483-BO482)/(BN483-BN482))-((BO485-BO484)/(BN485-BN484)))","v":7.5282482545707579},{"$f":"BO482+(BN486-BN482)*((BO483-BO482)/(BN483-BN482))","v":66.100359083847451},null,null,null,null,null,null,null,null,null,null,null,null,null,null,null,null,null,null,"(1 → 28)",{"$f":"CI478+CL461*SIN(CL463+CL462)","v":16.092917732716},null,null,null,null,null,null,null,null,null,{"$f":"CW466","v":0},{"$f":"CX466","v":0},1,null,null,null,null,null,4.5845399102521851,5.4967648601720542,11,null,{"$f":"CI469+'متغیرها '!C301","v":4.5845399102521851},{"$f":"CI468+'متغیرها '!C302","v":5.4967648601720542},11,null,null,null,null,null,null,null,null,null,null,"کیسه جیب",null,null,null,null,null,null,null,"رسم کیسه جیب اول",null,null,null,null,null,null,null,"کیسه جیب دوم",null,null,null,null,null,null,null,null,null,null,null,null,null,null,null,null,null,null,null,null,null,null,null,null,null,null,null,null,null,null,null,null,null,null,null,null,null,null,null,null,null,null,null,null,null,null,null,null,null,null,null,null,null,null,null,null,null,null,null,null,null,null,null,null,null,null,null,null,null,null,null,null,null,null,null,null,null,null,null,null,null,null,null,null,null,null,null,null,null,null,null,null,null,null,null,null,null,null,null,null,null,null,null,null,null,null,null,null,null,null,null,null,null,null,null,null,null,null,null,null,null,null,null,null,{"$f":"JG346","v":3.6287259018662703},{"$f":"JH346","v":33.775000000000006},{"$f":"JI346","v":"c43"},null,null,null,null,null,null,null,null,null,null,null,null,null,null,null,null,null,null,null,null,null,null,null,null,null,null,null,null,null,null,null,null,null,null,null,null,null,null,null,null,null,null,null,null,null,null,null,null,null,null,null,null,null,null,null,null,null,null,null,null,null,null,null,null,null,null,null,null,null,null,null,null,null,null,null,null,null,null,null,null,null,null,null,null,null,null,null,null,null,null,null,null,null,null,null,null,null,null,null,null,null,null,null,null,null,null,null,null,null,null,null,null,null,null,null,null,null,null,null,null,null,null,null,"نقطه شروع رج(چپ)","مولفه افقی","مولفه عمودی"]
[null,null,null,null,null,null,null,null,null,null,null,null,null,null,null,null,null,null,null,null,null,null,null,null,null,null,null,null,null,null,null,null,null,null,null,null,null,null,null,null,null,null,null,null,null,null,null,null,null,null,null,null,null,null,"شیفت",{"$f":"IF(AZ477>AZ468+1,AY481+AZ472,BE486+AZ472)","v":7.9019505964197538},{"$f":"IF(AZ477>AZ468+1,AZ481,BF486)","v":62.803029812675305},{"$f":"IF(AZ477>AZ468+1,BA481,BD486)","v":"g15"},null,{"$f":"BN472-BI490*COS(BI489)","v":12.253671282649247},{"$f":"BO472-BI490*SIN(BI489)","v":66.100359083847437},"g10",null,"شیفت",{"$f":"IF(BI480>BI469+1,BH484+BI473,BN486+BI473)","v":8.3984370080319195},{"$f":"IF(BI480>BI469+1,BI484+BI475,BO486+BI475)","v":66.100359083847437},{"$f":"IF(BI480>BI469+1,BJ484,BM486)","v":"g4"},null,{"$f":"-BM491+BR487","v":-8.3984370080319195},{"$f":"BN491","v":66.100359083847437},"g4",null,null,null,null,null,null,null,null,null,null,null,null,null,null,"(33 → 29)",{"$f":"K114-K144-(1-'متغیرها '!C165)*H124","v":9.2526783509237038},null,null,null,null,null,null,null,null,null,{"$f":"DE481","v":6.1127198803362468},{"$f":"DF481","v":6.591899878585922},13,null,null,null,null,null,{"$f":"CW475","v":5.9430213019742952},{"$f":"CX475","v":16.092917732716},21,null,{"$f":"CI479+'متغیرها '!C301","v":5.9430213019742952},{"$f":"CI478+'متغیرها '!C302","v":16.092917732716},21,null,null,null,null,null,null,null,null,{"$f":"DM466-DM462","v":12.346573735313319},{"$f":"DM467-DM463","v":37.835744620384901},"β3",null,null,null,null,null,{"$f":"DU466-DU462","v":11.475},{"$f":"DU467-DU463","v":41.220000000000013},"β3",null,null,null,null,null,{"$f":"EC465-EC461","v":6.7499999999999964},{"$f":"EC466-EC462","v":40.655000000000001},"β3",null,null,null,null,null,null,null,null,null,null,null,null,null,null,null,null,{"$f":"EV462+EV460","v":5.4180000000000001},{"$f":"EV463+EV461","v":49},"β11",null,null,null,null,null,null,null,null,null,null,null,null,null,null,null,null,null,null,null,null,null,null,null,null,null,null,null,null,null,null,null,null,null,null,null,null,null,null,null,null,null,null,null,null,null,null,null,null,null,null,null,null,null,null,null,null,null,null,null,null,null,null,null,null,null,null,null,null,null,null,null,null,null,null,null,null,null,null,null,null,null,null,null,null,null,null,null,null,null,null,null,null,null,null,null,null,null,null,null,null,null,null,null,null,null,null,null,null,null,null,null,null,null,null,null,null,null,null,null,null,null,null,null,null,null,null,null,null,null,null,null,null,null,null,null,null,null,null,null,null,null,null,null,null,null,null,null,null,null,3.3512556686768251,33.775000000000006,"d43",null,null,null,null,null,null,null,null,null,null,null,null,null,null,null,null,null,null,null,null,null,null,null,null,null,null,null,null,null,null,null,null,null,null,null,null,null,null,null,null,null,null,null,null,null,null,null,null,null,null,null,null,null,null,null,null,null,null,null,null,null,null,null,null,null,null,null,null,null,null,null,null,null,null,null,null,null,null,null,"h5",{"$f":"NZ487+0.5*(NZ489-NZ487)","v":-0.33333333333333348},{"$f":"OA487","v":18.5},{"$f":"NZ498","v":0.84791666666666643},{"$f":"OA498","v":17.975000000000001},{"$f":"NY498","v":"h12"}]
[null,null,null,null,null,null,null,null,null,null,null,null,null,null,null,null,null,null,null,null,null,null,null,null,null,null,null,null,null,null,null,null,null,null,null,null,null,null,null,null,null,null,null,null,null,null,null,null,null,null,null,null,null,null,null,null,null,null,null,null,null,null,null,null,null,null,null,null,null,null,null,null,null,null,null,null,null,null,null,null,null,null,null,null,null,null,null,null,null,null,null,null,null,null,null,null,null,null,null,null,null,null,null,null,null,null,null,null,null,null,null,null,null,null,null,null,null,null,null,null,null,null,null,null,null,null,null,null,null,null,null,null,null,null,null,null,null,null,null,null,null,null,null,null,null,null,null,null,null,null,null,null,null,null,null,null,null,null,null,null,null,null,null,null,null,null,null,null,null,null,null,null,null,null,null,null,null,null,null,null,null,null,null,null,null,null,null,null,null,null,null,null,null,null,null,null,null,null,null,null,null,null,null,null,null,null,null,null,null,null,null,null,null,null,null,null,null,null,null,null,null,null,null,null,null,null,null,null,null,null,null,null,null,null,null,null,null,null,null,null,null,null,null,null,null,null,null,null,null,null,null,null,null,null,null,null,null,null,null,null,null,null,7.2574518037325406,33.775000000000006,"c50",null,null,null,null,null,null,null,null,null,null,null,null,null,null,null,null,null,null,null,null,null,null,null,null,null,null,null,null,null,null,null,null,null,null,null,null,null,null,null,null,null,{"$f":"KY340","v":3.3512556686768251},46.56,"c44",null,null,null,null,null,null,null,null,null,null,null,null,null,null,null,null,null,null,null,null,null,null,null,null,null,null,null,null,null,null,null,null,null,null,null,null,null,null,null,null,null,null,null,null,null,null,null,null,null,null,null,null,null,null,null,null,null,null,null,null,null,null,null,null,null,null,null,null,null,null,null,null,null,null,null,null,null,null,null,"h10",{"$f":"NZ494","v":-1.5145833333333334},{"$f":"OA494+0.5*NZ483","v":19.024999999999999},{"$f":"NZ495","v":0.84791666666666643},{"$f":"OA495","v":18.5},{"$f":"NY495","v":"h9"}]
[null,null,null,null,null,"β9",0.3539562786642545,null,"k''9",{"$f":"BN504-G507*COS(G501+RADIANS('متغیرها '!C580))","v":16.641356038986547},{"$f":"BO504+G507*SIN(G501+RADIANS('متغیرها '!C580))","v":30.025745983811778},null,19.919050968410083,22.214873039245845,5,null,{"$f":"J521","v":15.193274787681812},12.250698183265897,"n9",null,"f3",{"$f":"IF(OR('متغیرها '!C509=0,'متغیرها '!C509=1),AQ532,0)","v":0},null,null,"f5",{"$f":"V538","v":0},null,"f5",{"$f":"V504","v":0},null,{"$f":"AZ113","v":15.72423796361949},{"$f":"BA113","v":56.626619053936281},12,null,null,null,11.316157810070937,65.619354426295132,"24f",null,{"$f":"AZ128","v":11.955767604624494},{"$f":"BA128","v":65.073936372688891},24,null,{"$f":"ER121","v":12.134850963743101},64.977156808382105,"b'12g",null,{"$f":"DO156","v":11.954995220574624},{"$f":"DP156","v":65.074462606118075},37,null,9.8543942664216821,66.199602501639021,"24f",null,10.581999999999999,65.883150795274702,24,null,null,"(4→ 5)",{"$f":"0.35*BK504","v":1.0300122574410586},{"$f":"0.35*BL504","v":0.98722002416049703},null,{"$f":"BK499-BK500-BX498+'متغیرها '!C530","v":21.949903622636846},{"$f":"BK517+'متغیرها '!C531","v":21.184860781804787},3,null,{"$f":"BK499-BK500-BX498+'متغیرها '!C530","v":21.949903622636846},{"$f":"0+'متغیرها '!C531","v":0},19,null,{"$f":"BL499-BL500+'متغیرها '!C530","v":20.526514405124878},{"$f":"BL517+'متغیرها '!C531","v":21.597904531804787},3,null,{"$f":"BZ500-(1-BK530)*(BV519-BV522)*'متغیرها '!C549","v":4.3344002676624029},{"$f":"CA500","v":-5},"29'",null,"(c4→ c7)",{"$f":"0.8*CE499","v":4.3400000000000007},null,{"$f":"BK499-BK500-CE515-BX498-CE508+'متغیرها '!C530","v":5.4989944934966957},{"$f":"BK517-CE514-CE510+'متغیرها '!C531","v":-1.7049999999999996},"c4",null,"ζ3",{"$f":"'متغیرها '!C525*'متغیرها '!U84","v":19.200000000000006},null,{"$f":"CV502+CK554","v":6.6538488786805479},{"$f":"CW502","v":-1.6105663659271428},"a23",null,{"$f":"CP530+CK554","v":17.273022327176193},{"$f":"CQ530","v":-0.22717600438654184},"z1",null,{"$f":"CP539-CL529*COS(CS548)","v":6.6538488786805479},{"$f":"CQ539-CL529*SIN(CS548)","v":-1.6105663659271428},"a23",null,{"$f":"CV537","v":6.2963017100094865},{"$f":"CW537","v":21.184860781804787},"تکه زیر 12'",null,{"$f":"IF('متغیرها '!C509=3,BD156-DE511,BW167)","v":16.82568796361949},{"$f":"IF('متغیرها '!C509=3,BE156,BX167)","v":56.626619053936281},13,"نقطه انتهایی\n زیر حلقه","b14",null,null,"(2 → 6)",{"$f":"DE535*SIN(DE533)","v":3.8370631034662397},null,"(28 → 27)",{"$f":"DR501*SIN(DR500)","v":-0.92329433122948656},null,"γ18",{"$f":"DQ524-DQ525","v":1.1835922672112233},{"$f":"DEGREES(DR502)","v":67.814841575523474},null,{"$f":"DQ541","v":8.446514120299307},{"$f":"DR541","v":37.735072105446562},41,null,null,null,null,null,21.949903622636846,21.184860781804787,3,null,{"$f":"EC548","v":11.960542287197782},{"$f":"ED548","v":12.211938781597455},"q29",null,"q0",{"$f":"-ATAN((EC512-EC510)/(ED510-ED512))-ATAN((EC501-EC511)/(ED501-ED511))","v":-0.18797170718295414},"زاویه چرخش",null,null,null,null,null,21.949903622636846,21.184860781804787,3,null,null,null,null,null,null,null,null,null,null,null,null,null,null,null,null,null,null,null,null,null,null,null,null,null,null,null,null,null,null,null,null,null,null,null,null,null,null,null,null,null,null,null,null,null,null,null,null,null,null,null,null,null,null,null,null,null,null,null,null,null,null,null,null,null,null,null,null,null,null,null,null,null,null,null,null,null,null,null,null,null,null,null,null,null,null,null,null,null,null,null,null,null,null,null,null,null,null,null,null,null,null,null,null,null,null,null,null,null,null,null,{"$f":"JG352","v":7.2574518037325406},{"$f":"JH352","v":37.83},{"$f":"JI352","v":"c47"},null,null,null,null,null,null,null,null,null,null,null,null,null,null,null,null,null,null,null,null,null,null,null,null,null,null,null,null,null,null,null,null,null,null,null,null,null,null,null,null,null,{"$f":"KY339","v":3.3512556686768251},{"$f":"KZ339","v":33.775000000000006},{"$f":"LA339","v":"c43"}]
[null,null,null,null,null,"k'''9",{"$f":"SQRT(POWER((BO505-BO504),2)+POWER((BN504-BN505),2))","v":6.203813504387707},null,"k''2",{"$f":"J506-G512*COS(G506+5*RADIANS('متغیرها '!C580))","v":-1.2622405193460204},{"$f":"K506+G512*SIN(G506+5*RADIANS('متغیرها '!C580))","v":39.990683151228275},null,3.5709608803514747,37.113546205968952,"k''15",null,null,null,null,null,"e5",{"$f":"BK500+SQRT(POWER((Q515-Q516),2)+POWER((R515-R516),2))","v":3.3785726918325483},null,null,null,null,null,null,null,null,"نقاط  ورودی از پشت",null,null,null,null,null,{"$f":"BD156-'متغیرها '!C55","v":16.82568796361949},{"$f":"BE156","v":56.626619053936281},13,"نقطه انتهایی\n زیر حلقه",{"$f":"BD156-'متغیرها '!C55","v":16.82568796361949},{"$f":"BE156","v":56.626619053936281},13,"نقطه انتهایی\n زیر حلقه",{"$f":"BW139","v":16.825878698342962},{"$f":"BX139","v":56.627700603276089},"b14","نقطه انتهایی\n زیر حلقه",{"$f":"DS168-DP160","v":15.72423796361949},{"$f":"DT168","v":56.626619053936281},12,null,{"$f":"CI157","v":14.60145},{"$f":"CJ157","v":58.107260827378596},13,null,{"$f":"DX395+AX114","v":14.60145},{"$f":"DY395","v":58.107260827378596},13,null,null,"(3 →10)",{"$f":"AH521","v":11.282514745704265},{"$f":"AI521","v":9.859125528192294},null,{"$f":"BK499-BK500-BK509-BX498+'متغیرها '!C530","v":6.2595485385294545},{"$f":"BK517+BK510+'متغیرها '!C531","v":29.130669624921527},13,null,{"$f":"BK499-BK500-BK503-BX498+'متغیرها '!C530","v":18.565149198925567},{"$f":"BK517+'متغیرها '!C531","v":21.184860781804787},6,null,{"$f":"BL499-BL500-BL509+'متغیرها '!C530","v":6.9338027700061797},{"$f":"BL517+BL510+'متغیرها '!C531","v":29.21360186104291},13,null,{"$f":"BZ505-BV501+BV502","v":9.5659388769325844},{"$f":"CA505","v":16.597904531804787},"3'",null,"(b2 →c3)",{"$f":"0.5*(BK515-2*CE515)","v":10.126923974281382},null,{"$f":"BK499-BK500-CE515-BX498-CE508+CE503-CE500+'متغیرها '!C530","v":4.4489944934966958},{"$f":"BK517-CE514+'متغیرها '!C531","v":-1.3949999999999996},"c10",null,"(10 → a15)",{"$f":"CL505-BK508","v":7.2403594529422985},null,{"$f":"CV506","v":5.1820013698583942},{"$f":"CW506","v":-1.6105663659271428},"a26",null,null,null,null,null,{"$f":"CV500+CL529*COS(CS548)","v":5.856584185056434},{"$f":"CW500-CL529*SIN(CS548)","v":3.9672899337837237},"a25",null,{"$f":"CN507","v":5.1820013698583942},{"$f":"CO507","v":-1.6105663659271428},"a26",null,{"$f":"IF('متغیرها '!C509=3,CI119,BW163)","v":10.683863248352782},{"$f":"IF('متغیرها '!C509=3,CJ119,BX163)","v":61.877081804961719},"16f","نقطه تقاطع","b6","رگلان با درز",null,"(7→ 8)",{"$f":"DL502+DE541*SIN(DE543)","v":9.9808267258502532},null,null,null,null,null,null,null,null,{"$f":"IF((DB558-DB556)>(DB554-DB556),DA558,DA554)","v":10.944828853789653},{"$f":"IF((DB558-DB556)>(DB554-DB556),DB558,DB554)","v":13.949999999999998},"r'a15 یا z2",null,null,null,null,null,6.2595485385294545,29.130669624921527,13,null,{"$f":"EO518","v":-2.820529454962263},{"$f":"EP518","v":-1.9693768800129519},"q44",null,{"$f":"EC502-EL501","v":-3.027890661362072},21.184860781804787,3,null,{"$f":"EK505+SQRT(POWER(EK507-EK505,2)+POWER(EL507-EL505,2))*SIN(EL502-ATAN((EK505-EK507)/(EL507-EL505+0.0001)))","v":-3.0085076058535423},{"$f":"EL505+SQRT(POWER(EK507-EK505,2)+POWER(EL507-EL505,2))*COS(EL502-ATAN((EK505-EK507)/(EL507-EL505+0.0001)))","v":20.979134677144021},"q3",null,{"$f":"IF(ED530>(ED533),EC507,EC551)","v":6.2595485385294545},{"$f":"IF(ED530>(ED533),ED507,ED551)","v":29.130669624921527},"q31 یا 13",null,null,null,null,null,null,null,null,null,null,null,null,null,null,null,null,null,null,null,null,null,null,null,null,null,null,null,null,null,null,null,null,null,null,null,null,null,null,null,null,null,null,null,null,null,null,null,null,null,null,null,null,null,null,null,null,null,null,null,null,null,null,null,null,null,null,null,null,null,null,null,null,null,null,null,null,null,null,null,null,null,null,null,null,null,null,null,null,null,null,null,null,null,null,null,null,null,null,null,null,null,null,null,null,null,null,null,null,null,null,null,{"$f":"JG359","v":10.915017612874912},{"$f":"JH359","v":46.8},{"$f":"JI359","v":"c52"},null,null,null,null,null,null,null,null,null,null,null,null,null,null,null,null,null,null,null,null,null,null,null,null,null,null,null,null,null,null,null,null,null,null,null,null,null,null,null,null,null,null,null,null,null,null,null,null,null,null,null,null,null,null,null,null,null,null,null,null,null,null,null,null,null,null,null,null,null,null,null,null,null,null,null,null,null,null,null,null,null,null,null,null,null,null,null,null,null,null,null,null,null,null,null,null,null,null,null,null,null,null,null,null,null,null,null,null,null,null,null,null,null,null,null,null,null,null,null,null,null,null,null,"w29",{"$f":"NU262","v":-2.666666666666667},{"$f":"NV262","v":18.5},{"$f":"NZ512","v":-3.1916666666666669},{"$f":"OA512","v":19.79},{"$f":"NY512","v":"g6"}]
[null,null,null,null,null,"k'''11",4.811261967028102,null,"7'",{"$f":"BN504","v":18.565149198925567},{"$f":"K501","v":12.545698969082874},null,0.64799569359910025,38.546815640668399,"k''17",null,{"$f":"J526","v":0.36876162590058958},{"$f":"K526","v":7.8709183625943231},"n2",null,"e7",{"$f":"V507+SQRT(POWER((Q516-Q517),2)+POWER((R516-R517),2))","v":6.0299436480517938},null,null,"e5",{"$f":"BK500+SQRT(POWER((Q535-Q534),2)+POWER((R535-R534),2))","v":3.3785726918325483},null,"e5",{"$f":"BK500+SQRT(POWER((BN503-BN502),2)+POWER((BO503-BO502),2))","v":3.3785726918325483},null,null,{"$f":"'متغیرها '!C71","v":0.25},"x6",null,null,null,{"$f":"CQ120","v":12.793219206271782},70.367134094124438,"18f",null,{"$f":"BK140-'متغیرها '!C56","v":13.755536587353742},{"$f":"BL140-'متغیرها '!C57","v":69.396818816424314},18,null,{"$f":"EV103","v":12.676257676041086},{"$f":"EW103","v":70.107927199272382},"18b",null,{"$f":"DS167-DP160","v":16.82568796361949},{"$f":"DT167","v":56.626619053936281},13,"نقطه انتهایی  زیر حلقه",{"$f":"CJ179","v":11.3153285566821},70.849252685781607,"18f",null,{"$f":"ER418","v":12.26},{"$f":"ES418","v":70.228446443416772},18,null,null,"(10→11)",{"$f":"AH524","v":9.8096405470577022},{"$f":"AI524","v":9.4020954681952116},null,{"$f":"BK499-BK500-BK511-BX498+'متغیرها '!C530","v":2.1035847908922154},{"$f":"BK517+BK512+'متغیرها '!C531","v":25.10871700062787},15,null,{"$f":"BK499-BK500-BK503-BX498+'متغیرها '!C530","v":18.565149198925567},{"$f":"BK517+BK504+'متغیرها '!C531","v":24.127752945922097},7,null,{"$f":"BL499-BL500-BL511+'متغیرها '!C530","v":3.4135644406184262},{"$f":"BL517+BL512+'متغیرها '!C531","v":25.358742719082873},15,null,{"$f":"BZ503+(CA508-CA503)*TAN(BK531)","v":12.708058439148132},{"$f":"CA501+BW513-BW519","v":8.9499999999999975},"25'",null,"(b2→c5)",{"$f":"1.5*CE507","v":15.190385961422074},null,{"$f":"BK499-BK500-CE515-BX498-CE508+CE503-CE500+'متغیرها '!C530","v":4.4489944934966958},{"$f":"CE499+BK517-CE514+'متغیرها '!C531","v":4.0300000000000011},"c11",null,"(a16 →a11)",{"$f":"CL507*TAN(CL503)","v":0.49366984154596394},null,{"$f":"CP548","v":3.3950224181591269},{"$f":"CQ548","v":-1.3944501328862484},"z3",null,{"$f":"CP539+CK554","v":8.4408278303798152},{"$f":"CQ539","v":-1.3944501328862484},"z2",null,{"$f":"CP557","v":-6.4807159265861989},{"$f":"CQ557","v":-0.22717600438654184},"z4",null,{"$f":"CR525","v":-1.542846754213536},{"$f":"CS525","v":-0.69408565578642445},"a'4",null,{"$f":"BW165","v":12.798737219451976},{"$f":"BX165","v":69.368548481293715},null,null,"b16","رگلان با درز",null,"(7 →12)",{"$f":"DE545*COS(DE547)","v":4.6387991430277324},null,null,null,null,"γ22",{"$f":"ATAN((DD520-DD517)/(DE517-DE520))","v":0.69347692174894227},{"$f":"DEGREES(DR508)","v":39.733300805938441},null,{"$f":"DU561","v":11.450887429842874},{"$f":"DV561","v":-1.3949999999999994},"چپ z2",null,{"$f":"DY499","v":11.889026816429256},{"$f":"DZ499","v":37.261341264847744},3,null,2.1035847908922154,25.10871700062787,15,null,null,null,null,null,{"$f":"EC503-EL501","v":-5.0587433155888348},22.214873039245845,5,null,{"$f":"EK505+SQRT(POWER(EK508-EK505,2)+POWER(EL508-EL505,2))*SIN(EL502-ATAN((EK505-EK508)/(EL508-EL505)))","v":-5.1960436766388227},{"$f":"EL505+SQRT(POWER(EK508-EK505,2)+POWER(EL508-EL505,2))*COS(EL502-ATAN((EK505-EK508)/(EL508-EL505)))","v":21.611406547987059},"q5",null,{"$f":"IF(ED530>(ED533+ED534),EC508,EC551)","v":6.2020354021905417},{"$f":"IF(ED530>(ED533+ED534),ED508,ED551)","v":29.075011028341816},"q31 یا 15",null,null,null,null,null,null,null,null,null,null,null,null,null,null,null,null,null,null,null,null,null,null,null,null,null,null,null,null,null,null,null,null,null,null,null,null,null,null,null,null,null,null,null,null,null,null,null,null,null,null,null,null,null,null,null,null,null,null,null,null,null,null,null,null,null,null,null,null,null,null,null,null,null,null,null,null,null,null,null,null,null,null,null,null,null,null,null,null,null,null,null,null,null,null,null,null,null,null,null,null,null,null,null,null,null,null,null,null,null,null,null,{"$f":"JG361","v":10.915017612874912},{"$f":"JH361","v":46.8},{"$f":"JI361","v":"c54"},null,null,null,null,null,null,null,null,null,null,null,null,null,null,null,null,null,null,null,null,null,null,null,null,null,null,null,null,null,null,null,null,null,null,null,null,null,null,null,null,null,{"$f":"KY345","v":7.7325999999999997},{"$f":"KZ345","v":37.83},{"$f":"LA345","v":"c47"},null,null,null,null,null,null,null,null,null,null,null,null,null,null,null,null,null,null,null,null,null,null,null,null,null,null,null,null,null,null,null,null,null,null,null,null,null,null,null,null,null,null,null,null,null,null,null,null,null,null,null,null,null,null,null,null,null,null,null,null,null,null,null,null,null,null,null,null,null,null,null,null,null,null,null,null,null,null,null,"نقاط خروجی","مولفه افقی","مولفه عمودی",{"$f":"NZ509","v":-2.666666666666667},{"$f":"OA509","v":20},{"$f":"NY509","v":"g2"}]
[null,null,null,null,null,"m'7",{"$f":"G500+BK504","v":11.582053976839223},null,"m15",{"$f":"J517-G517*(SIN(5*RADIANS('متغیرها '!C580))-SIN(4*RADIANS('متغیرها '!C580)))","v":-8.563982692453088},{"$f":"K517+G517*(COS(4*RADIANS('متغیرها '!C580))-COS(5*RADIANS('متغیرها '!C580)))","v":33.861997875438725},null,{"$f":"J509","v":15.567493048314187},{"$f":"K509","v":12.940347888219081},"k7",null,null,null,null,null,"e7  n'9",{"$f":"ATAN((R518-R517)/(Q517-Q518))","v":0.75601350421782021},null,null,"e13",{"$f":"Z512+SQRT(POWER((Q539-Q540),2)+POWER((R539-R540),2))","v":11.433417620069228},null,"e13",{"$f":"AC512+SQRT(POWER((BN507-BN508),2)+POWER((BO507-BO508),2))","v":11.433417620069228},null,{"$f":"BO111","v":6.1127198803362468},{"$f":"BP111","v":72.733678063661415},23,"نقطه اتصال سرشانه به گردن",null,null,{"$f":"BK114-'متغیرها '!C56","v":17.015427697146322},{"$f":"BL114-'متغیرها '!C57","v":56.325133880791398},9,"نقطه انتهایی\n زیر حلقه",{"$f":"BK114-'متغیرها '!C56","v":17.015427697146322},{"$f":"BL114-'متغیرها '!C57","v":56.325133880791398},9,"نقطه انتهایی\n زیر حلقه",{"$f":"CE122","v":17.337604411925593},{"$f":"CF122","v":57.418508030044734},"b14","نقطه انتهایی\n زیر حلقه",{"$f":"EA168-DX161","v":13.56505561207916},{"$f":"EB168-DX162","v":58.704265880791404},"16p",null,{"$f":"CI173","v":14.754672221952188},{"$f":"CJ173","v":57.805775654233713},9,null,{"$f":"ER425+BI111","v":14.754672221952188},{"$f":"ES425","v":57.805775654233713},9,null,null,"(3 → 16)",{"$f":"BK507+0.85*(BK499-BK500-BK507)","v":21.98726985325472},{"$f":"BL507+0.85*(BL499-BL500-BL507)","v":18.926406073584992},null,null,null,null,null,{"$f":"BK499-BK500-BK507-BX498+'متغیرها '!C530","v":10.667388876932582},{"$f":"BK517+'متغیرها '!C531","v":21.184860781804787},10,null,{"$f":"BL499-BL500-BL522+'متغیرها '!C530","v":19.211891877062619},{"$f":"BL516-BL518+'متغیرها '!C531","v":13.949999999999998},25,null,{"$f":"BZ500-(1-BK530)*(BZ512-BZ500)/BK530","v":4.3344002676624029},{"$f":"CA512","v":-1.5125000000000006},"z15",null,"متغیرهای خروجی آستین بلند",null,null,{"$f":"BK499-BK500-CE515-BX498-CE508+'متغیرها '!C530","v":5.4989944934966957},{"$f":"BK517-CE514-CE510+'متغیرها '!C531","v":-1.7049999999999996},"c4",null,"(a20 →a10)",{"$f":"(CL507+CL501)*TAN(CL503)","v":0.73445630268050277},null,{"$f":"CV525+CK554","v":6.4377796053441569},{"$f":"CW525","v":0.1764182644264265},"a'23",null,{"$f":"BR517+CK554","v":6.2595485385294545},{"$f":"BS517","v":29.130669624921527},13,null,{"$f":"CK546","v":6.2595485385294545},{"$f":"CL546","v":21.184860781804787},"12تکه رو",null,{"$f":"CK552","v":-7.4343673559644454},{"$f":"CL552","v":24.716331378745558},"7''",null,"مولفه افقی","مولفه عمودی","اسم نقطه در انتخاب حلقه بدون ساسون",null,"اسم نقطه در انتخاب حلقه\n با ساسون زیر بغل",null,null,"(14→15)",{"$f":"DL505+0.6*(DL511-DL505)","v":12.711081880328932},null,"(41→42)",{"$f":"DR516*COS(DQ526)","v":6.735072105446565},null,"γ23",{"$f":"RADIANS(90)-DR508+DQ521","v":1.4991174818465685},{"$f":"DEGREES(DR513)","v":85.893104704088174},null,{"$f":"DU551","v":-2.0202553734116853},{"$f":"DV551","v":21.597904531804787},2,null,{"$f":"DI547","v":24.746867886767209},{"$f":"DJ547","v":22.244729474060204},"11'",null,null,{"$f":"'متغیرها '!C565","v":0.4},"q20",null,{"$f":"EO516","v":-19.953346851734025},{"$f":"EP516","v":25.787539198805213},"q46",null,{"$f":"EC508-EL501","v":-22.874209493106704},25.10871700062787,15,null,{"$f":"EK505+SQRT(POWER(EK513-EK505,2)+POWER(EL513-EL505,2))*SIN(EL502-ATAN((EK505-EK513)/(EL513-EL505+0.0001)))","v":-23.238458726985606},{"$f":"EL505+SQRT(POWER(EK513-EK505,2)+POWER(EL513-EL505,2))*COS(EL502-ATAN((EK505-EK513)/(EL513-EL505+0.0001)))","v":21.125256883069127},"q15",null,{"$f":"EC552","v":9.7389479442954503},{"$f":"ED552","v":12.96696212834823},"q43",null,null,null,null,null,null,null,null,null,null,null,null,null,null,null,null,null,null,null,null,null,null,null,null,null,null,null,null,null,null,null,null,null,null,null,null,null,null,null,null,null,null,null,null,null,null,null,null,null,null,null,null,null,null,null,null,null,null,null,null,null,null,null,null,null,null,null,null,null,null,null,null,null,null,null,null,null,null,null,null,null,null,null,null,null,null,null,null,null,null,null,null,null,null,null,null,null,null,null,null,null,null,null,null,null,null,null,null,null,null,null,{"$f":"JG362","v":10.915017612874912},{"$f":"JH362","v":33.775000000000006},{"$f":"JI362","v":"c55"},null,null,null,null,null,null,null,null,null,null,null,null,null,null,null,null,null,null,null,null,null,null,null,null,null,null,null,null,null,null,null,null,null,null,null,null,null,null,null,null,null,null,null,null,null,null,null,null,null,null,null,null,null,null,null,null,null,null,null,null,null,null,null,null,null,null,null,null,null,null,null,null,null,null,null,null,null,null,null,null,null,null,null,null,null,null,null,null,null,null,null,null,null,null,null,null,null,null,null,null,null,null,null,null,null,null,null,null,null,null,null,null,null,null,null,null,null,null,null,null,null,null,null,"g7",{"$f":"NZ510+OA505*SIN(RADIANS(40)-ATAN((NZ510-NZ511)/(OA510-OA511)))","v":-3.0170779674878196},{"$f":"OA510-OA505*COS(RADIANS(40)-ATAN((NZ510-NZ511)/(OA510-OA511)))","v":19.043048625304017},{"$f":"NZ510","v":-3.416666666666667},{"$f":"OA510","v":19.25},{"$f":"NY510","v":"g4"}]
[null,null,null,null,null,"m'17",{"$f":"G500+BK514","v":10.110607894780568},null,"k17",{"$f":"J513-G523*COS(5*RADIANS('متغیرها '!C580))","v":-9.1181015914515964},{"$f":"K513+G523*SIN(5*RADIANS('متغیرها '!C580))","v":35.929997759935283},null,{"$f":"J516","v":-2.59528931689752},{"$f":"K516","v":23.798007118931338},"k13",null,{"$f":"0.5*(J528+J529)","v":13.004978177054692},{"$f":"0.5*(K528+K529)","v":28.872461163299356},"(n'9,n''9)",null,"xf1",{"$f":"IF(OR('متغیرها '!C509=0,'متغیرها '!C509=1),Q517+IF(V500<V508,(V508-V500)*COS(V512),-(V516-V509+V500)*COS(V513)),V522)","v":-4.7176546947897506},null,null,"(7→9)",{"$f":"SQRT(POWER((Q537-Q536),2)+POWER((R537-R536),2))","v":6.2038135043877087},null,"(7→9)",{"$f":"SQRT(POWER((BN505-BN504),2)+POWER((BO505-BO504),2))","v":6.203813504387707},null,null,null,null,null,null,null," گشادترین قسمت پشت آستین","w5",{"$f":"(1+'متغیرها '!C528)*SQRT(AM525*AM525-AM520*AM520)","v":12.593829538294653},null,null,"w5",{"$f":"(1+'متغیرها '!C528)*SQRT(AQ525*AQ525-AQ520*AQ520)","v":12.168284327047235},null,null,"w5",{"$f":"(1+'متغیرها '!C528)*SQRT(AU525*AU525-AU520*AU520)","v":12.25062024618599},null,null,"w3",{"$f":"(AY519+AY520)","v":25.3733600361725},null," گشادترین قسمت پشت آستین","w5",{"$f":"SQRT(BC525*BC525-BC520*BC520)","v":10.667388876932582},null,null,"w5",{"$f":"SQRT(BG525*BG525-BG520*BG520)","v":10.666606158509834},null,null,"(3 → 21)",{"$f":"0.55*H131-BK508","v":7.2403594529422985},{"$f":"0.55*'متغیرها '!U83-BL508","v":7.6479045318047891},null,{"$f":"BN516","v":21.545709773913266},{"$f":"BO516","v":13.944501328862488},"25 یا z1",null,{"$f":"BK499-BK500-BK509-BX498+'متغیرها '!C530","v":6.2595485385294545},{"$f":"BK517+'متغیرها '!C531","v":21.184860781804787},12,null,{"$f":"BV516","v":17.293564137462475},{"$f":"BW516","v":2.7899999999999996},28,null,{"$f":"IF('متغیرها '!C547=1,IF(CA511<CA504,IF(CA513<CA504,BZ513,BZ504),BZ511),BZ511)","v":4.3344002676624029},{"$f":"CA521","v":-2.2110997342275014},"z15 یا 30' یا z13",null,"w3  مچ ",{"$f":"AI520*'متغیرها '!#REF!","v":{"$error":"#REF!"}},null,null,null,null,null,"(a'19→ a'7)",{"$f":"CL511","v":0.95365142937824632},null,{"$f":"CP557","v":-6.4807159265861989},{"$f":"CQ557","v":-0.22717600438654184},"z4",null,null,null,"انحنا تکه زیر",null,"αa23",{"$f":"ATAN((CV502-CV501)/(CW501-CW502+0.00123))","v":0.12032864779482656},null,null,-0.72061305913783946,22.214873039245845,"17'",null,{"$f":"IF('متغیرها '!C509=3,CQ123,CE133)","v":12.556227120535015},{"$f":"IF('متغیرها '!C509=3,CR123,CF133)","v":59.835633934124658},"16f",null,"b10",null,null,"(7 →20)",{"$f":"0.3*DL508","v":1.3916397429083196},null,"(r22 →r26)",{"$f":"DO517","v":-0.16383240073701932},null,"β'1",{"$f":"ATAN(DO515/(BL516))","v":-2.1418592014675091E-2},null,null,null,null,"انحنا جلو",null,null,null,null,null,null,{"$f":"'متغیرها '!C570","v":0.15000000000000013},"q'22",null,{"$f":"EO510","v":-11.180223849809448},{"$f":"EP510","v":27.712623094704178},"q9",null,{"$f":"EC549-EL501","v":-7.1315146234143469},{"$f":"ED549","v":-1.3944501328862484},"q30",null,{"$f":"EK505+IF(EL518>EL505,1,-1)*SQRT(POWER(EK518-EK505,2)+POWER(EL518-EL505,2))*SIN(EL502-ATAN((EK505-EK518)/(EL518-EL505+0.0001)))","v":-2.820529454962263},{"$f":"EL505+IF(EL518>EL505,1,-1)*SQRT(POWER(EK518-EK505,2)+POWER(EL518-EL505,2))*COS(EL502-ATAN((EK505-EK518)/(EL518-EL505)))","v":-1.9693768800129519},"q44",null,null,null,null,null,null,null,null,null,null,null,null,null,null,null,null,null,null,null,null,null,null,null,null,null,null,null,null,null,null,null,null,null,null,null,null,null,null,null,null,null,null,null,null,null,null,null,null,null,null,null,null,null,null,null,null,null,null,null,null,null,null,null,null,null,null,null,null,null,null,null,null,null,null,null,null,null,null,null,null,null,null,null,null,null,null,null,null,null,null,null,null,null,null,null,null,null,null,null,null,null,null,null,null,null,null,null,null,null,null,null,null,null,null,null,null,null,"پیلی 9",null,null,null,null,null,null,null,null,null,null,null,null,null,null,null,null,null,null,null,null,null,null,null,null,null,null,null,null,null,null,null,null,null,null,null,null,null,null,null,null,null,{"$f":"KY345","v":7.7325999999999997},{"$f":"KZ345","v":37.83},{"$f":"LA345","v":"c47"},null,null,null,null,null,null,null,null,null,null,null,null,null,null,null,null,null,null,null,null,null,null,null,null,null,null,null,null,null,null,null,null,null,null,null,null,null,null,null,null,null,null,null,null,null,null,null,null,null,null,null,null,null,null,null,null,null,null,null,null,null,null,null,null,null,null,null,null,null,null,null,null,null,null,null,null,null,null,null,null,null,"فلش به سمت راست",null,null,{"$f":"OA518","v":"فلش به سمت راست"}]
[null,null,null,null,null,"k'17",{"$f":"BN509-BR525-G500*TAN(AH533)","v":0.30534228915648387},null,"n15",{"$f":"J523-G522*COS(4*RADIANS('متغیرها '!C584))","v":2.5858563027333696},{"$f":"K523-G522*SIN(4*RADIANS('متغیرها '!C584))","v":8.9047665892561305},null,{"$f":"J507","v":-1.2622405193460204},{"$f":"K507","v":39.990683151228275},"k''2",null,null,null,null,null,"xf4",{"$f":"Q521+IF(V503<V510,-(V510-V503)*COS(V514),(V517-V511+V503)*COS(V515))","v":-4.7176546947897506},null,null,"xf3",{"$f":"IF(OR('متغیرها '!C509=0,'متغیرها '!C509=1),Q540+IF(Z504<Z512,-(Z512-Z504)*COS(Z516),(Z519-Z513+Z504)*COS(Z517)),Z520)","v":21.870911809187273},null,"xf3",{"$f":"IF(OR('متغیرها '!C509=0,'متغیرها '!C509=1),BN508+IF(AC504<AC512,-(AC512-AC504)*COS(AC516),(AC519-AC513+AC504)*COS(AC517)),AC520)","v":21.870911809187273},null,null,"فاصله عمودی تاج آستین","w7",{"$f":"IF('متغیرها '!C509=0,AQ520,IF('متغیرها '!C509=1,AU520,IF('متغیرها '!C509=2,AY522,IF('متغیرها '!C509=3,AM520,0))))","v":9.8096405470577022},{"$f":"IF('متغیرها '!C509=3,BC520,BG520)","v":9.4020954681952116},null,"جلو","h1",{"$f":"0.95*AM527","v":14.950725288410348},null,null,"h1",{"$f":"0.95*AQ527","v":14.441115357949323},null,null,"h1",{"$f":"0.95*AU527","v":14.256040590631347},null,null,"α8",{"$f":"ASIN(AY522/AY526)","v":0.52739771026653848},null,"جلو","h1",{"$f":"0.95*BC527","v":13.623573517022248},null,null,"h1",{"$f":"0.95*BG527","v":13.292948768693595},null,null,"(19→27)",{"$f":"BK520-BK525*TAN(AH533)","v":1.0269564833442804},{"$f":"BL520-BL525*TAN(AI533)","v":3.2329502676624027},null,{"$f":"BN522","v":20.922947139292567},{"$f":"BO522","v":-1.3944501328862484},"z1",null,{"$f":"BK499-BK500-BK513-BX498+'متغیرها '!C530","v":-3.7366230617871921E-2},{"$f":"BK517+'متغیرها '!C531","v":21.184860781804787},16,null,{"$f":"BV522","v":4.3344002676624029},{"$f":"BW522","v":0},29,null,{"$f":"BZ513","v":4.3344002676624029},{"$f":"CA513","v":-1.5125000000000006},"z15",null,null,null,null,null,null,null,null,"(2 → 6'')",{"$f":"CL500+BK500","v":4.8246798660824073},null,null,"نقطه","مولفه افقی","مولفه عمودی",{"$f":"CP548","v":3.3950224181591269},{"$f":"CQ548","v":-1.3944501328862484},"z3",null,"مولفه افقی","مولفه عمودی","اسم نقطه ",null,{"$f":"CR501","v":17.492217453873941},13.944501328862488,"a10 یا z1",null,null,{"$f":"'متغیرها '!C56","v":0},"شیفت افقی",null,null,null,null,"(1→26)",{"$f":"0.45*H131","v":13.950000000000001},null,"(r'a15 →ra15)",{"$f":"2*(1-DR517)*BL522-(DE552-1)*H132*DE560*BL522/BL520","v":0.24673943164705447},null,{"$f":"RADIANS(180)-DQ523-DE506","v":1.5544721948731604},89.064696136669738,"γ4",null,{"$f":"DQ534+DR529","v":22.714473509603323},{"$f":"DR534","v":27.714486287634749},34,null,null,null,null,null,null,{"$f":"SQRT(POWER((EC505-EC506),2)+POWER((ED505-ED506),2))","v":4.811261967028102},"q10",null,{"$f":"EC508","v":2.1035847908922154},{"$f":"ED508","v":25.10871700062787},15,null,null,null,null,null,null,null,null,null,{"$f":"EC508","v":2.1035847908922154},{"$f":"ED508","v":25.10871700062787},15,null,null,null,null,null,null,null,null,null,null,null,null,null,null,null,null,null,null,null,null,null,null,null,null,null,null,null,null,null,null,null,null,null,null,null,null,null,null,null,null,null,null,null,null,null,null,null,null,null,null,null,null,null,null,null,null,null,null,null,null,null,null,null,null,null,null,null,null,null,null,null,null,null,null,null,null,null,null,null,null,null,null,null,null,null,null,null,null,null,null,null,null,null,null,null,null,null,null,null,null,null,null,null,null,null,null,null,null,null,null,null,null,null,null,null,null,null,null,null,null,null,null,null,null,null,null,null,null,null,null,null,null,null,null,null,null,null,null,null,null,null,null,null,null,null,null,null,null,null,null,null,null,null,null,null,{"$f":"KY354","v":12.730681831323174},{"$f":"KZ354","v":47.28},{"$f":"LA354","v":"c54"}]
[null,null,null,null,null,"k'17",{"$f":"BN509-BR525-G528*TAN(AH533)","v":0.30534228915648387},null,"n''9",{"$f":"J521-G531*SIN(2*RADIANS('متغیرها '!C584))","v":12.279256332544632},{"$f":"K521+G531*COS(2*RADIANS('متغیرها '!C584))","v":28.776918069915872},null,null,null,null,null,{"$f":"V520","v":-4.7176546947897506},{"$f":"V521","v":15.031343862193179},"f2",null,null,null,null,null,"yf5",{"$f":"R536+IF(Z502<Z509,-(Z509-Z502)*SIN(Z514),(Z518-Z510+Z502)*SIN(Z515))","v":19.457157917584944},null,"yf5",{"$f":"BO504+IF(AC502<AC509,-(AC509-AC502)*SIN(AC514),(AC518-AC510+AC502)*SIN(AC515))","v":19.457157917584944},null,null,"پشت ","h2",{"$f":"IF('متغیرها '!C509=0,AQ525,IF('متغیرها '!C509=1,AU525,IF('متغیرها '!C509=2,AY527,IF('متغیرها '!C509=3,AM525,0))))","v":15.963508076300192},{"$f":"IF('متغیرها '!C509=3,BC525,BG525)","v":14.219443893653574},null,null,"طول حلقه جلو تا نقطه 24f",{"$f":"SQRT(POWER(AK502-AK503,2)+POWER(AL502-AL503,2))+SQRT(POWER(AK504-AK503,2)+POWER(AL503-AL504,2))+SQRT(POWER(AK505-AK504,2)+POWER(AL504-AL505,2))+SQRT(POWER(AK506-AK505,2)+POWER(AL505-AL506,2))+AE503-AE502","v":12.816460169390258},null,null,"طول حلقه جلو تا نقطه 24",{"$f":"SQRT(POWER(AO502-AO503,2)+POWER(AP502-AP503,2))+SQRT(POWER(AO504-AO503,2)+POWER(AP503-AP504,2))+SQRT(POWER(AO505-AO504,2)+POWER(AP504-AP505,2))+SQRT(POWER(AO506-AO505,2)+POWER(AP505-AP506,2))+AE503-AE502","v":12.150112146662533},null,null,"طول حلقه جلو تا نقطه b12",{"$f":"SQRT(POWER(AS502-AS503,2)+POWER(AT502-AT503,2))+SQRT(POWER(AS504-AS503,2)+POWER(AT503-AT504,2))+SQRT(POWER(AS505-AS504,2)+POWER(AT504-AT505,2))+SQRT(POWER(AS506-AS505,2)+POWER(AT505-AT506,2))+AK503-AK502","v":10.210330087644479},null,null,"طول حلقه جلو",{"$f":"SQRT(POWER(AW501-AW502,2)+POWER(AX501-AX502,2))+SQRT(POWER(AW502-AW503,2)+POWER(AX502-AX503,2))+SQRT(POWER(AW504-AW503,2)+POWER(AX504-AX505,2))+SQRT(POWER(AW506-AW505,2)+POWER(AX505-AX506,2))+SQRT(POWER(AW507-AW506,2)+POWER(AX506-AX507,2))","v":15.067007186341808},null,null,null,null,null,null,null,null,null,null,null,"محاسبات مچ",null,null,null,null,null,null,{"$f":"BK500+BK523-BX498+'متغیرها '!C530","v":-0.42079681263848867},{"$f":"BK517-BK519+'متغیرها '!C531","v":13.944501328862488},26,null,null,null,null,null,null,null,{"$f":"IF(BZ535=1,IF(CG540<CG538,IF(CG542<CG538,CF542,CF538),CF540),CF540)","v":-2.3428180845334765},{"$f":"CC534","v":13.949999999999998},"z15 یا 26' یا z13",null,{"$f":"BV506+BZ540","v":10.667388876932584},{"$f":"BW519+BZ541","v":0},"10'",null,null,"(a21→a22)",{"$f":"'متغیرها '!C575*0.5*'متغیرها '!U84","v":1.7999999999999998},null,"ضریب کوتاهی آستین","z0",{"$f":"BZ542","v":-9.9999999999999978E-2},null,{"$f":"IF((CQ557-CQ555)>(CQ553-CQ555),CP557,CP553)","v":-6.6999110532839428},{"$f":"IF((CQ557-CQ555)>(CQ553-CQ555),CQ557,CQ553)","v":13.944501328862488},"a'9 یا z4",null,{"$f":"CV528-CW517*COS(CW522)","v":-6.6927392136211186},{"$f":"CW528+CW517*SIN(CW522)","v":-2.0146452001364734},"a''8",null,{"$f":"CV533+CK554","v":10.225310865078578},{"$f":"CW533","v":-1.1586105711662196},"a''13",null,"محاسبات رگلان",null,null,null,null,null,null,"(29→ 30)",{"$f":"'متغیرها '!C524*DL524","v":2.7900000000000009},null,"(r3 →r4)",{"$f":"0.006*('متغیرها '!U82+'متغیرها '!U83)*DE559","v":0.312},null,null,{"$f":"'متغیرها '!C520","v":5},"شیفت تکه جلو",null,{"$f":"DQ536+DR529","v":18.237706440901174},{"$f":"DR536","v":37.609610319116392},30,null,{"$f":"IF((DO549-DJ543)>(DJ545-DJ543),DN549,DI545)","v":-0.84366783860364514},{"$f":"IF((DO549-DJ543)>(DJ545-DJ543),DO549,DJ545)","v":13.950000000000001},"28 یا z2",null,null,{"$f":"ED513*(ED520+ED521+ED522+ED523+ED524)","v":6.6948735420226333},"q25",null,{"$f":"IF(ED529>(ED524+ED523+ED522),EC503,EC546)","v":16.208079215842194},{"$f":"IF(ED529>(ED524+ED523+ED522),ED503,ED546)","v":27.748300667687392},"q24 یا 5",null,null,null,null,null,null,null,null,null,16.208079215842194,27.748300667687392,{"$f":"EI529","v":"q24 یا 5"},null,null,null,null,null,null,null,null,null,null,null,null,null,null,null,null,null,null,null,null,null,null,null,null,null,null,null,null,null,null,null,null,null,null,null,null,null,null,null,null,null,null,null,null,null,null,null,null,null,null,null,null,null,null,null,null,null,null,null,null,null,null,null,null,null,null,null,null,null,null,null,null,null,null,null,null,null,null,null,null,null,null,null,null,null,null,null,null,null,null,null,null,null,null,null,null,null,null,null,null,null,null,null,null,null,null,null,null,null,null,null,{"$f":"JG367","v":14.037775},{"$f":"JH367","v":33.775000000000006},{"$f":"JI367","v":"c60"},null,null,null,null,null,null,null,null,null,null,null,null,null,null,null,null,null,null,null,null,null,null,null,null,null,null,null,null,null,null,null,null,null,null,null,null,null,null,null,null,null,{"$f":"KY355","v":12.730681831323174},{"$f":"KZ355","v":33.775000000000006},{"$f":"LA355","v":"c55"},null,null,null,null,null,null,null,null,null,null,null,null,null,null,null,null,null,null,null,null,null,null,null,null,null,null,null,null,null,null,null,null,null,null,null,null,null,null,null,null,null,null,null,null,null,null,null,null,null,null,null,null,null,null,null,null,null,null,null,null,null,null,null,null,null,null,null,null,null,null,null,null,null,null,null,null,null,null,null,"w31",{"$f":"NU264","v":2},{"$f":"NV264","v":20},{"$f":"NZ534","v":2.5249999999999999},{"$f":"OA534","v":21.29},{"$f":"NY534","v":"g6"}]
[null,null,null,null,null,"m'15",{"$f":"G528+BK512","v":12.563018031544994},null,"n'15",{"$f":"J524-G534*SIN(4*RADIANS('متغیرها '!C584))","v":-1.7109489250186094},{"$f":"K524+G534*COS(4*RADIANS('متغیرها '!C584))","v":20.710141928299272},null,{"$f":"Z520","v":21.870911809187273},{"$f":"Z521","v":19.457157917584944},"f1",null,{"$f":"BN502","v":21.949903622636846},21.184860781804787,3,null,"f1",{"$f":"IF(OR('متغیرها '!C509=0,'متغیرها '!C509=1),AQ529,0)","v":0},null,null,null,null,null,null,null,null,null,null,"β2",{"$f":"ATAN((BR530-BR531)/(BS530-BS531))","v":0.2050294429871389},null,null,null,"طول حلقه پشت تا نقطه 16f",{"$f":"SQRT(POWER(AK512-AK511,2)+POWER(AL511-AL512,2))+SQRT(POWER(AK513-AK512,2)+POWER(AL512-AL513,2))","v":5.8419804818226115},null,null,"طول حلقه پشت تا نقطه 22",{"$f":"SQRT(POWER(AO512-AO511,2)+POWER(AP511-AP512,2))+SQRT(POWER(AO513-AO512,2)+POWER(AP512-AP513,2))","v":4.3189678418415172},null,null,"طول حلقه پشت تا نقطه b10",{"$f":"SQRT(POWER(AS512-AS511,2)+POWER(AT511-AT512,2))+SQRT(POWER(AS513-AS512,2)+POWER(AT512-AT513,2))","v":4.2879746795461173},null,null,"طول حلقه پشت تا نقطه 39",{"$f":"SQRT(POWER(AW510-AW511,2)+POWER(AX510-AX511,2))+SQRT(POWER(AW513-AW512,2)+POWER(AX512-AX513,2))+SQRT(POWER(AW514-AW513,2)+POWER(AX513-AX514,2))+SQRT(POWER(AW515-AW514,2)+POWER(AX514-AX515,2))","v":11.961480026982629},null,null,null,null,null,null,null,null,null,null,null,"طول تاج آستین ساده",{"$f":"SQRT(POWER(BN502-BN503,2)+POWER(BO502-BO503,2))+SQRT(POWER(BN503-BN504,2)+POWER(BO503-BO504,2))+SQRT(POWER(BN504-BN505,2)+POWER(BO504-BO505,2))+SQRT(POWER(BN505-BN506,2)+POWER(BO505-BO506,2))+SQRT(POWER(BN506-BN507,2)+POWER(BO506-BO507,2))+SQRT(POWER(BN507-BN508,2)+POWER(BO507-BO508,2))+SQRT(POWER(BN508-BN509,2)+POWER(BO508-BO509,2))+SQRT(POWER(BN509-BN510,2)+POWER(BO509-BO510,2))+BK500","v":32.956301535667556},null,{"$f":"0-BX498+'متغیرها '!C530","v":-1.9264406613620704},{"$f":"BK517+'متغیرها '!C531","v":21.184860781804787},2,null,{"$f":"BK500+BK526-BX498+'متغیرها '!C530","v":0.2019658219822098},{"$f":"0+'متغیرها '!C531","v":0},29,null,{"$f":"BV513","v":19.211891877062619},{"$f":"BW513","v":13.949999999999998},25," متغیرهای ورودی - آستر مچ آستین",null,null,{"$f":"IF(BZ535=1,IF(CG539<CG537,IF(CG541<CG537,CF541,CF537),CF539),CF539)","v":24.205331810666124},{"$f":"IF(CG539<CG537,IF(CG541<CG537,CG541,CG537),CG539)","v":13.949999999999998},"z14 یا 25' یا z12",null,{"$f":"CF529+CD540*BZ536*AI520","v":26.410566828379455},{"$f":"CG530+BW510-BW522","v":21.597904531804787},"1'",null,null,"(a17→a'23)",{"$f":"CL532","v":0.21626391246680557},null,"نقطه زیر حلقه آستین","رو12",{"$f":"CK546","v":6.2595485385294545},{"$f":"CL546","v":21.184860781804787},{"$f":"BR537-0.03*BK515","v":-2.6096874898820381},{"$f":"BS537","v":21.184860781804787},2,null,{"$f":"CV506+CW515*SIN(CW522)","v":5.394024656893313},{"$f":"CW506+CW515*COS(CW522)","v":0.17690282982278882},"a''26",null,{"$f":"CV536+CK554","v":6.6195485385294548},{"$f":"CW536","v":21.184860781804787}," تکه رو 12'",null,"(2→ 3)",{"$f":"SQRT(POWER((DD514-DD517),2)+POWER((DE514-DE517),2))","v":1.8800677459927981},null,null,null,"نقاط در آستین رگلان بدون درز",null,null,null,"نقطه","مولفه افقی","مولفه عمودی",null,{"$f":"DQ535-DO502","v":17.714473509603323},{"$f":"DR535-DO501","v":27.714486287634749},34,null,null,null,null,null,null,null,null,null,null,{"$f":"SQRT(POWER((EC507-EC508),2)+POWER((ED507-ED508),2))","v":5.7834364856664244},"q33",null,null,null,null,null,null,null,null,null,null,null,null,null,{"$f":"EC548","v":11.960542287197782},{"$f":"ED548","v":12.211938781597455},"q29",null,null,null,null,null,null,null,null,null,null,null,null,null,null,null,null,null,null,null,null,null,null,null,null,null,null,null,null,null,null,null,null,null,null,null,null,null,null,null,null,null,null,null,null,null,null,null,null,null,null,null,null,null,null,null,null,null,null,null,null,null,null,null,null,null,null,null,null,null,null,null,null,null,null,null,null,null,null,null,null,null,null,null,null,null,null,null,null,null,null,null,null,null,null,null,null,null,null,null,null,null,null,null,null,null,null,null,null,null,null,null,null,null,null,null,null,null,null,null,null,null,null,null,null,null,null,null,null,null,null,null,null,null,null,null,null,null,null,null,null,null,null,null,null,null,null,null,null,null,null,null,null,null,null,null,null,null,null,null,null,null,null,null,null,null,null,null,null,null,null,null,null,null,null,null,null,null,null,null,null,null,null,null,null,null,null,null,null,null,null,null,null,null,null,null,null,null,null,null,null,null,null,null,null,null,null,null,null,null,null,null,null,null,null,null,null,null,null,null,null,null,null,null,null,null,null,null,null,null,null,null,null,null,null,null,null,null,"g6",{"$f":"NZ533","v":2.5249999999999999},{"$f":"OA531-OA533+OA529","v":21.29}]
[null,null,null,null,null,null,null,null,null,null,null,null,{"$f":"Z528","v":21.870911809187273},{"$f":"Z529","v":19.457157917584944},"f5",null,3.5709608803514747,37.113546205968952,"k''15",null,null,null,null,null,null,null,null,null,null,null,null,null,null,null,null,null,null,null,null,null,null,null,null,null,null,null,null,null,null,null,null,null,null,null,null,null,null,null,null,null,null,null,"طول کل حلقه آستین بدون ساسون",{"$f":"ROUND(AM526,1)","v":32.4},null,null,null,null,null,{"$f":"IF((BS540-BS533)<(BS532-BS533),BR533,IF((BS540-BS533)<(BS531-BS533),(BS540-BS532)*TAN(AH533)+BR532,BR531+(BS540-BS531)*TAN(AH534)))","v":20.922947139292567},{"$f":"BS533+BZ542*(BS531-BS533)","v":-1.3944501328862484},"z1",null,null,null,null,"   z7",{"$f":"'متغیرها '!C561","v":0},null,null,"z9",{"$f":"(BV519-BV506)/(BV519-BV522)","v":0.51131194320117168},null,{"$f":"CF529-(1-CD540)*(CF539-CF529)/CD540","v":-0.82835493531295157},{"$f":"CG539","v":3.4874999999999994},"z13",null,null,"نقاط  خروجی آستین کتی",null,null,null,null,null,null,null,null,null,null,null,null,null,null,18.22667375655444,24.716331378745558,"7'",null,"(3→ 10)",{"$f":"SQRT(POWER((DD518-DD517),2)+POWER(DE517-DE518,2))","v":14.24276870780449},null,null,null,{"$f":"DL525+DE528+'متغیرها '!C530","v":22.278055469976568},{"$f":"DL524+'متغیرها '!C531","v":13.950000000000001},27,null,"z1",{"$f":"IF((DO540-DO538)<(DO537-DO538),DN538,IF((DO540-DO538)<(DO536-DO538),(DO540-DO537)*(DN536-DN537)/(DO536-DO537)+DN537,DN536+(DO540-DO536)*(DN535-DN536)/(DO535-DO536)))","v":20.312046146544485},{"$f":"DO538+DN539*(DO536-DO538)","v":-1.3949999999999998},null,{"$f":"DQ541-DO511","v":6.6449643007462793},{"$f":"DR541-DO512","v":38.272727178138055},39,null,{"$f":"DU542","v":25.690346805861896},{"$f":"DV542","v":13.949999999999998},"r25 یا z1",null,{"$f":"DL515+DE528+'متغیرها '!C530","v":21.254271283723291},{"$f":"DL499-DL504-DL514+'متغیرها '!C531","v":24.771837403417987},17,null,null,{"$f":"ATAN((ED509-ED510)/(EC509-EC510))","v":0.66175717764848752},"q39",null,null,null,null,null,null,null,null,null,null,null,null,null,{"$f":"EC512","v":0.20196582198220625},{"$f":"ED512","v":-1.3944501328862484},"z2",null,null,null,null,null,null,null,null,null,null,null,null,null,null,null,null,null,null,null,null,null,null,null,null,null,null,null,null,null,null,null,null,null,null,null,null,null,null,null,null,null,null,null,null,null,null,null,null,null,null,null,null,null,null,null,null,null,null,null,null,null,null,null,null,null,null,null,null,null,null,null,null,null,null,null,null,null,null,null,null,null,null,null,null,null,null,null,null,null,null,null,null,null,null,null,null,null,null,null,null,null,null,null,null,null,null,null,null,null,null,null,null,null,null,null,null,null,null,null,null,null,null,null,null,null,null,null,null,null,null,null,null,null,null,null,null,null,null,null,null,null,null,null,null,null,null,null,null,null,null,null,null,null,null,null,null,null,null,null,null,null,null,null,null,null,null,null,null,null,null,null,null,null,null,null,null,null,null,null,null,null,null,null,null,null,null,null,null,null,null,null,null,null,null,null,null,null,null,null,null,null,null,null,null,null,null,null,null,null,null,null,null,null,null,null,null,null,null,null,null,null,null,null,null,null,null,null,null,null,null,null,null,null,null,null,null,null,null,null,"فلش به سمت چپ",null,null,{"$f":"OA540","v":"فلش به سمت چپ"}]
[null,null,null,null,null,null,null,null,null,null,null,null,null,null,null,null,null,null,null,null,null,null,null,null,null,null,null,null,null,null,null,null,null,null,null,null,null,null,null,null,null,null,null,null,null,null,null,null,null,null,null,null,null,null,null,null,null,null,null,null,null,null,null,null,null,null,null,null,null,null,null,null,null,null,null,null,null,null,null,null,null,null,null,null,null,null,null,null,{"$f":"BK499-BK500-BK509+CL508-BX498+'متغیرها '!C530","v":6.7532183800754186},{"$f":"BK517-CL507+'متغیرها '!C531","v":13.944501328862488},"a11","نقطه بالای مچ","a14",3.3950224181591269,0,null,null,null,null,null,null,null,null,null,null,null,null,"(8→13)",{"$f":"SQRT(POWER((DD502-DD505),2)+POWER((DE505-DE502),2))","v":5.9915225274123758},null,null,null,{"$f":"-DL526+DE528+'متغیرها '!C530","v":-0.84366783860364514},{"$f":"DL524+'متغیرها '!C531","v":13.950000000000001},28,"نقطه آرنج",28,{"$f":"DI545","v":-0.84366783860364514},{"$f":"DJ545","v":13.950000000000001},null,{"$f":"BV502-DO519","v":20.929438410198685},{"$f":"DR546+DO520","v":2.7889002657724986},"r28",null,{"$f":"DU543","v":25.929438410198685},{"$f":"DV543","v":2.7889002657724986},"r28 یا z1",null,{"$f":"-DL507+DE528+'متغیرها '!C530","v":0.36564118204995744},{"$f":"DL499-DL506+'متغیرها '!C531","v":26.997489023055721},8,null,{"$f":"EC544-ED515*(EC544-EC512)","v":3.3415927384673196},{"$f":"ED511","v":-1.3944501328862484},"q23",null,null,null,null,null,null,null,null,null,null,null,null,null,null,null,null,null,null,null,null,null,null,null,null,null,null,null,null,null,null,null,null,null,null,null,null,null,null,null,null,null,null,null,null,null,null,null,null,null,null,null,null,null,null,null,null,null,null,null,null,null,null,null,null,null,null,null,null,null,null,null,null,null,null,null,null,null,null,null,null,null,null,null,null,null,null,null,null,null,null,null,null,null,null,null,null,null,null,null,null,null,null,null,null,null,null,null,null,null,null,null,null,null,null,null,null,null,null,null,null,null,null,null,null,null,null,null,null,null,null,null,null,null,null,null,null,null,null,null,null,null,null,null,null,null,null,null,null,null,null,null,null,null,null,null,null,null,null,null,null,null,null,null,null,null,null,null,null,null,null,null,null,null,null,null,null,null,null,null,null,null,null,null,null,null,null,null,null,null,null,null,null,null,null,null,null,null,null,null,null,null,null,null,null,null,null,null,null,null,null,null,null,null,null,null,null,null,null,null,null,null,null,null,null,null,null,null,null,null,null,null,null,null,null,null,null,null,null,null,null,null,null,null,null,null,null,null,null,null,null,null,null,null,"f3",{"$f":"NZ544","v":-15.55},{"$f":"OA543+OA541*NZ541","v":21.725000000000001},{"$f":"NZ544","v":-15.55},{"$f":"OA544","v":21.274999999999999},{"$f":"NY544","v":"f2"}]
[null,null,null,null,null,null,null,null,null,null,null,null,null,null,null,null,null,null,null,null,null,null,null,null,null,null,null,null,null,null,null,null,null,null,null,null,null,null,null,null,null,null,null,null,null,null,null,null,null,null,null,null,null,null,null,null,null,null,null,null,null,null,null,null,null,null,null,null,null,null,null,null,null,null,null,null,null,null,null,null,null,null,null,null,null,null,null,null,{"$f":"BR537-CL524+CL521-0.03*BK515","v":-6.6999110532839428},{"$f":"BK517-CL507+'متغیرها '!C531","v":13.944501328862488},"a'9",null,"نقطه","مولفه افقی","مولفه عمودی",null,null,null,null,null,"به دست آوردن z2 در کوتاهی آستین رگلان با درز تکه چپ",null,null,null,null,"به دست آوردن z1 در کوتاهی آستین رگلان با درز تکه چپ",null,null,"متغیرهای ورودی در رگلان درز دار",null,null,null,null,"به دست آوردن z1 در کوتاهی آستین رگلان با درز تکه راست",null,null,null,null,"به دست آوردن z2 در کوتاهی آستین رگلان با درز تکه راست",null,{"$f":"BV501-BL500-BL515+DO521","v":0.69852599492619227},{"$f":"DR546","v":0},"r29",null,{"$f":"BV510-DQ527","v":-2.0202553734116853},{"$f":"BW510","v":21.597904531804787},2,null,null,null,null,null,{"$f":"IF(ED530<ED533,EC506-ED530*COS(ED537),IF(ED530<(ED533+ED534),EC507-(ED530-ED533)*COS(ED538),IF(ED530<(ED533+ED534+ED535),EC508-(ED530-ED533-ED534)*COS(ED539),IF(ED530<(ED533+ED534+ED535+ED536),EC509-(ED530-ED533-ED534-ED535)*COS(ED540),EC510))))","v":6.2020354021905417},{"$f":"IF(ED530<ED533,ED506-ED530*SIN(ED537),IF(ED530<(ED533+ED534),ED507-(ED530-ED533)*SIN(ED538),IF(ED530<(ED533+ED534+ED535),ED508-(ED530-ED533-ED534)*SIN(ED539),IF(ED530<(ED533+ED534+ED535+ED536),ED509-(ED530-ED533-ED534-ED535)*SIN(ED540),ED510))))","v":29.075011028341816},"q31",null,null,null,null,null,null,null,null,null,null,null,null,null,null,null,null,null,null,null,null,null,null,null,null,null,null,null,null,null,null,null,null,null,null,null,null,null,null,null,null,null,null,null,null,null,null,null,null,null,null,null,null,null,null,null,null,null,null,null,null,null,null,null,null,null,null,null,null,null,null,null,null,null,null,null,null,null,null,null,null,null,null,null,null,null,null,null,null,null,null,null,null,null,null,null,null,null,null,null,null,null,null,null,null,null,null,null,null,null,null,null,null,null,null,null,null,null,null,null,null,null,null,null,null,null,null,null,null,null,null,null,null,null,null,null,null,null,null,null,null,null,null,null,null,null,null,null,null,null,null,null,null,null,null,null,null,null,null,null,null,null,null,null,null,null,null,null,null,null,null,null,null,null,null,null,null,null,null,null,null,null,null,null,null,null,null,null,null,null,null,null,null,null,null,null,null,null,null,null,null,null,null,null,null,null,null,null,null,null,null,null,null,null,null,null,null,null,null,null,null,null,null,null,null,null,null,null,null,null,null,null,null,null,null,null,null,null,null,null,null,null,null,null,null,null,null,null,null,null,null,null,null,null,"w34",{"$f":"NU267","v":-18},{"$f":"NV267","v":21.5},{"$f":"NZ556","v":-18.524999999999999},{"$f":"OA556","v":22.79},{"$f":"NY556","v":"g6"}]
[null,null,null,null,null,null,null,null,null,null,null,null,null,null,null,null,null,null,null,null,null,null,null,null,null,null,null,null,null,null,null,null,null,null,null,null,null,null,null,null,null,null,null,null,null,null,null,null,null,null,null,null,null,null,null,null,null,null,null,null,null,null,null,null,null,null,null,null,null,null,null,null,null,null,null,null,null,null,null,null,null,null,null,null,null,null,null,null,null,null,null,"ضریب کوتاهی آستین","z0",{"$f":"BZ542","v":-9.9999999999999978E-2},null,null,null,"نقطه پایین مچ","r29",{"$f":"DQ551","v":0.69852599492619227},{"$f":"DR551","v":0},null,"نقطه پایین مچ","35'",{"$f":"DQ550","v":11.450887429842874},{"$f":"DR550","v":0},null,"α4",{"$f":"'متغیرها '!C515","v":1},null,"نقطه پایین مچ","r27",20.929438410198685,0,null,"نقطه پایین مچ","35''",{"$f":"DQ547","v":12.147686751380336},{"$f":"DR547","v":0},null,"درز",null,null,null,null,null,null,null,null,null,null,null,null,null,null,null,null,null,null,null,null,null,null,null,null,null,null,null,null,null,null,null,null,null,null,null,null,null,null,null,null,null,null,null,null,null,null,null,null,null,null,null,null,null,null,null,null,null,null,null,null,null,null,null,null,null,null,null,null,null,null,null,null,null,null,null,null,null,null,null,null,null,null,null,null,null,null,null,null,null,null,null,null,null,null,null,null,null,null,null,null,null,null,null,null,null,null,null,null,null,null,null,null,null,null,null,null,null,null,null,null,null,null,null,null,null,null,null,null,null,null,null,null,null,null,null,null,null,null,null,null,null,null,null,null,null,null,null,null,null,null,null,null,null,null,null,null,null,null,null,null,null,null,null,null,null,null,null,null,null,null,null,null,null,null,null,null,null,null,null,null,null,null,null,null,null,null,null,null,null,null,null,null,null,null,null,null,null,null,null,null,null,null,null,null,null,null,null,null,null,null,null,null,null,null,null,null,null,null,null,null,null,null,null,null,null,null,null,null,null,null,null,null,null,null,null,null,null,null,null,null,null,null,null,null,null,null,null,null,null,null,null,null,null,null,null,null,null,null,null,null,null,null,null,null,null,null,null,"g6",{"$f":"NZ555","v":-18.524999999999999},{"$f":"OA553-OA555+OA551","v":22.79}]
[null,null,null,null,null,null,null,null,null,null,null,null,null,null,null,null,null,null,null,null,null,null,null,null,null,null,null,null,null,null,null,null,null,null,null,null,null,null,null,null,null,null,null,null,null,null,null,null,null,null,null,null,null,null,null,null,null,null,null,null,null,null,null,null,null,null,null,null,null,null,null,null,null,null,null,null,null,null,null,null,null,null,null,null,null,null,null,null,null,null,null,null,null,null,null,null,null,null,null,null,null,null,null,null,null,null,null,null,null,null,null,null,null,null,null,null,null,null,null,null,null,null,null,null,{"$f":"DA558","v":11.450887429842874},{"$f":"DB558","v":-1.3949999999999994},"چپ z2",null,null,null,null,null,null,null,null,null,null,null,null,null,null,null,null,null,null,null,null,null,null,null,null,null,null,null,null,null,null,null,null,null,null,null,null,null,null,null,null,null,null,null,null,null,null,null,null,null,null,null,null,null,null,null,null,null,null,null,null,null,null,null,null,null,null,null,null,null,null,null,null,null,null,null,null,null,null,null,null,null,null,null,null,null,null,null,null,null,null,null,null,null,null,null,null,null,null,null,null,null,null,null,null,null,null,null,null,null,null,null,null,null,null,null,null,null,null,null,null,null,null,null,null,null,null,null,null,null,null,null,null,null,null,null,null,null,null,null,null,null,null,null,null,null,null,null,null,null,null,null,null,null,null,null,null,null,null,null,null,null,null,null,null,null,null,null,null,null,null,null,null,null,null,null,null,null,null,null,null,null,null,null,null,null,null,null,null,null,null,null,null,null,null,null,null,null,null,null,null,null,null,null,null,null,null,null,null,null,null,null,null,null,null,null,null,null,null,null,null,null,null,null,null,null,null,null,null,null,null,null,null,null,null,null,null,null,null,null,null,null,null,null,null,null,null,null,null,null,null,null,null,null,null,null,null,null,null,null,null,null,null,"متغیرهای ورودی",null,{"$f":"NZ567","v":-18},{"$f":"OA567","v":23},{"$f":"NY567","v":"w36"}]
[null,null,null,null,null,"t1",{"$f":"'متغیرها '!C590","v":1},null,null,"t33",{"$f":"'متغیرها '!C653","v":7},null,null,"s1",{"$f":"G568*L591/(G571+1)","v":12.338181818181821},{"$f":"1*K591/(H571+1)","v":7.3636363636363624},null,"s32",{"$f":"0.22*L592*G583","v":2.64},null,{"$f":"L569","v":10},1,{"$f":"K569","v":15},{"$f":"K570+O566-(Y579-Y568)*G606","v":17.2},{"$f":"K570","v":0},null,41,{"$f":"IF(X568>0.9*X572,W616,W574+S573*0.5*(G598+1))","v":16.060409274268526},{"$f":"X574","v":17.2},null,{"$f":"L571","v":10},"p1",{"$f":"K571","v":10},{"$f":"K572+O566-(AI578-AI568)*G606","v":17.2},{"$f":"K572","v":0},null,"p36",{"$f":"AG615+0.5*K582*G591*SIN(O572-O581+RADIANS(G592)+RADIANS(G589))","v":10.590220464010089},{"$f":"AH615-0.5*K582*G591*COS(O572-O581+RADIANS(G592)+RADIANS(G589))","v":30.268787794308796},null,"درجه اضافه شده به زاویه خط پهلو پشت","s'6","xp10","yp10","xp11","yp11","xp12","yp12","s11",null,"(41→β4)",{"$f":"0.5*'متغیرها '!C690*COS(RADIANS('متغیرها '!C692)+RADIANS('متغیرها '!C693))","v":6.1257422745431001E-17},{"$f":"0.5*'متغیرها '!C690*COS(RADIANS('متغیرها '!C692))","v":6.1257422745431001E-17},"(β7→β8)","(41→β4)",{"$f":"0.5*'متغیرها '!C681*COS(RADIANS('متغیرها '!C683)+RADIANS('متغیرها '!C684))","v":6.1257422745431001E-17},{"$f":"0.5*'متغیرها '!C681*COS(RADIANS('متغیرها '!C683))","v":6.1257422745431001E-17},null,"مولفه افقی","مولفه عمودی","اسم نقطه ",null,"مولفه افقی","مولفه عمودی","اسم نقطه ",null,{"$f":"W583","v":25.339962767729791},{"$f":"X583","v":43},{"$f":"V583","v":15},null,{"$f":"W600","v":13.66369574730073},48,{"$f":"V600","v":23},null,{"$f":"W607","v":16.303695747300729},{"$f":"X607","v":43},{"$f":"V607","v":30},null,{"$f":"AB579","v":15.784514295837784},{"$f":"AC579","v":43},{"$f":"AA579","v":53},null,{"$f":"AG592","v":12.020867693009317},{"$f":"AH592","v":43.6416742438577},{"$f":"AF592","v":"p18"},null,{"$f":"AG598","v":4.9875933362467846},{"$f":"AH598","v":50.086151141316634},{"$f":"AF598","v":"p21"},null,{"$f":"AZ569+BA568","v":11.313049236581476},{"$f":"AZ570-BA567","v":36.700000000000003},"β13",null,{"$f":"AG603","v":19.836362021514358},{"$f":"AH603","v":41.203165706478231},{"$f":"AF603","v":"p25"},null,{"$f":"AG578","v":28.269915354499702},{"$f":"AH578","v":31.228489800330443},"p11",null,null,{"$f":"AZ165","v":0},{"$f":"BA165","v":48},38,null,{"$f":"CZ573","v":7.3400475927238986},{"$f":"DE583","v":17.2},"47r",null,{"$f":"DD576","v":-0.28795999798514771},42.35,{"$f":"DF576","v":"12r"},null,{"$f":"DD572","v":14.575121667338284},37.043380736880856,{"$f":"DF572","v":"10r"},null,{"$f":"DD612","v":0},{"$f":"DE612","v":48},"44b",null,{"$f":"DT385","v":0},{"$f":"DU385","v":48},38,null,{"$f":"DT570+DT580-DT581","v":11.996011098514231},{"$f":"DU570-DU580+DU581","v":37.043380736880856},"10r",null,null,null,null,null,{"$f":"DT567","v":0},{"$f":"DU567","v":48},"38b",null,null,null,null,null,null,null,null,null,null,null,null,null,null,null,null,null,null,null,null,null,null,null,null,null,null,null,null,null,null,null,null,null,null,null,null,null,null,null,null,null,null,null,null,null,null,null,null,null,null,null,null,null,null,null,null,null,null,null,null,null,null,null,null,null,null,null,null,null,null,null,null,null,null,null,null,null,null,null,null,null,null,null,null,null,null,null,null,null,null,null,null,null,null,null,null,null,null,null,null,null,null,null,null,null,null,null,null,null,null,null,null,null,null,null,null,null,null,null,null,null,null,null,null,null,null,null,null,null,null,null,null,null,null,null,null,null,null,null,null,null,null,null,null,null,null,null,null,null,null,null,null,null,null,null,null,null,null,null,null,null,null,null,null,null,null,null,null,null,null,null,null,null,null,null,null,null,null,null,null,null,null,null,null,null,null,null,null,null,null,null,null,null,null,null,null,null,null,null,null,null,null,null,null,null,null,null,null,null,null,null,null,null,null,null,null,null,null,null,null,null,null,null,null,null,null,null,null,null,null,null,null,null,null,null,null,null,null,null,null,null,null,null,null,null,null,null,null,null,null,"w36",{"$f":"NU269","v":-18},{"$f":"NV269","v":23},{"$f":"NZ576","v":-16.679166666666667},{"$f":"OA576","v":23.524999999999999},{"$f":"NY576","v":"h10"}]
[null,null,null,null,null,"t6",{"$f":"'متغیرها '!C621","v":-1},-1,null,"yp1",{"$f":"'متغیرها '!C597","v":0},null,null,"s6",{"$f":"AP583","v":0.21991521863944585},{"$f":"AP602","v":0.28976857962553276},null,"s37",{"$f":"ATAN((AG591-AG602)/(AH591-AH602))+ATAN((AG602-AG592)/(AH592-AH602))","v":9.6635576909180981E-2},null,{"$f":"U569","v":13.681818181818182},"6a",{"$f":"W569","v":21.169090909090912},{"$f":"X567+L586-O566","v":17.2},{"$f":"Y567+K586","v":17.2},null,46,{"$f":"BC626","v":8.9709423182137531},{"$f":"BD626","v":42.972376288940168},null,{"$f":"AE569","v":14.418181818181818},"p6a",{"$f":"AG569","v":17.402909090909091},{"$f":"AH567+L586-O566","v":17.2},{"$f":"AI567+K586","v":17.2},null,"p41",{"$f":"IF(AH568>0.9*AH572,AL571,AG574+S574*0.5*(G599+1))","v":11.054991153514379},{"$f":"AH574","v":17.2},null,5,{"$f":"RADIANS(5)+O581","v":0.15010204855967269},{"$f":"AG574-O576*SIN(AP572)","v":7.0782226850164669},{"$f":"AH574+O576*COS(AP572)","v":36.518864439687007},{"$f":"AG573+O575*SIN(O573+(AP572-O581)*G579)","v":27.282899007465485},{"$f":"AH573+O575*COS(O573+(AP572-O581)*G579)","v":31.435960307719526},{"$f":"AQ572+0.5*L582*COS(AP572-O581)","v":22.02114315639265},{"$f":"AR572+0.5*L582*SIN(AP572-O581)","v":37.826200580901883},8.2777560597846165,null,"عمودی پایین جیب",{"$f":"AZ583-(AZ570-AZ583)","v":36.700000000000003},null,null,"عمودی پایین جیب",{"$f":"BD583-(BD570-BD583)","v":36.700000000000003},null,null,{"$f":"AE570","v":18.836363636363636},{"$f":"AI570","v":3.44},{"$f":"AF570","v":"p4"},null,{"$f":"U570","v":17.363636363636363},{"$f":"Y570","v":3.44},{"$f":"V570","v":4},null,{"$f":"W590","v":13.66369574730073},{"$f":"X590","v":43},{"$f":"V590","v":19},null,null,null,null,null,22.125090909090911,26.734999999999999,{"$f":"V614","v":37},null,{"$f":"AB567","v":16.060409274268526},{"$f":"AC567","v":17.2},{"$f":"AA567","v":41},null,null,null,null,null,null,null,null,null,null,null,null,null,{"$f":"AL575","v":7.1336775931200771},{"$f":"AM575","v":39.727926351208794},{"$f":"AK575","v":"p44"},null,{"$f":"AL590","v":12.017719410633598},{"$f":"AM590","v":17.465161262630165},"p76",null,null,{"$f":"AZ180","v":7.6900475927238983},{"$f":"BA180","v":37.83}," شیفت47'' ",null,{"$f":"CZ571+CZ584-CZ587","v":14.575121667338284},{"$f":"DA571-DA584+DA587","v":37.043380736880856},"10r",null,{"$f":"DD579","v":-3.4799599979851479},31.597679999999997,{"$f":"DF579","v":"11r"},null,{"$f":"DD585","v":7.8737749999999966},48.343380736880853,{"$f":"DF585","v":"31r"},null,null,null,null,null,{"$f":"DX388","v":0},{"$f":"DY388","v":65.5430298126753},26,null,{"$f":"DX571-DT576+DT577","v":-1.0319852019810227},{"$f":"DY571-DU577+DU576","v":35.6464},"14r",null,null,null,null,null,null,null,null,null,null,null,null,null,null,null,null,null,null,null,null,null,null,null,null,null,null,null,null,null,null,null,null,null,null,null,null,null,null,null,null,null,null,null,null,null,null,null,null,null,null,null,null,null,null,null,null,null,null,null,null,null,null,null,null,null,null,null,null,null,null,null,null,null,null,null,null,null,null,null,null,null,null,null,null,null,null,null,null,null,null,null,null,null,null,null,null,null,null,null,null,null,null,null,null,null,null,null,null,null,null,null,null,null,null,null,null,null,null,null,null,null,null,null,null,null,null,null,null,null,null,null,null,null,null,null,null,null,null,null,null,null,null,null,null,null,null,null,null,null,null,null,null,null,null,null,null,null,null,null,null,null,null,null,null,null,null,null,null,null,null,null,null,null,null,null,null,null,null,null,null,null,null,null,null,null,null,null,null,null,null,null,null,null,null,null,null,null,null,null,null,null,null,null,null,null,null,null,null,null,null,null,null,null,null,null,null,null,null,null,null,null,null,null,null,null,null,null,null,null,null,null,null,null,null,null,null,null,null,null,null,null,null,null,null,null,null,null,null,null,null,null,null,null,null,null,null,null,null,"h6",{"$f":"NZ571+NZ564+NZ565","v":-15.066666666666666},{"$f":"OA567","v":23}]
[null,null,null,null,null,"t11",{"$f":"'متغیرها '!C623","v":0},null,null,null,null,null,null,"s11",{"$f":"SQRT(POWER((AG578-AG579),2)+POWER((AH578-AH579),2))","v":10.681914557117555},{"$f":"SQRT(POWER((AE578-AE579),2)+POWER((AI578-AI579),2))","v":10.689670736554113},null,null,null,null,{"$f":"U569","v":13.681818181818182},9,{"$f":"W569","v":21.169090909090912},{"$f":"X567-O566+L587","v":36.700000000000003},{"$f":"Y567+K587","v":36.700000000000003},null,51,{"$f":"W618+AB567-W574","v":7.8335001833594369},{"$f":"X574","v":17.2},null,{"$f":"AE574-P576*SIN(P572)","v":2.5242990961483347},"p10",{"$f":"AG574-O576*SIN(O572)","v":5.7377241276544106},{"$f":"AH574+O576*COS(O572)","v":36.267991774315831},{"$f":"AI574+P576*COS(P572)","v":36.052766393050476},null,"p46",{"$f":"AL576-SQRT(POWER((AG612-AG613),2)+POWER((AH612-AH613),2))*SIN(S571+S572)","v":7.3671653473902836},{"$f":"AM576-SQRT(POWER((AG612-AG613),2)+POWER((AH612-AH613),2))*COS(S571+S572)","v":41.283884837647122},null,10,{"$f":"RADIANS(10)+O581","v":0.23736851115938917},{"$f":"AG574-O576*SIN(AP577)","v":5.4055909505264266},{"$f":"AH574+O576*COS(AP577)","v":36.190700655938706},{"$f":"AG573+O575*SIN(O573+(AP577-O581)*G579)","v":28.514218661418223},{"$f":"AH573+O575*COS(O573+(AP577-O581)*G579)","v":31.165896361589454},{"$f":"AQ577+0.5*L582*COS(AP577-O581)","v":20.177707245709549},{"$f":"AR577+0.5*L582*SIN(AP577-O581)","v":38.79542332094266},11.300756798008639,null,"(زاویهβ9  β15)",{"$f":"IF(CN596<CN594,ATAN((CM594-CM596)/(CN594-CN596)),ATAN((CM594-CM596)/-(CN594-CN596)))","v":-0.50142033197917202},null,null,"(زاویهβ9  β15)",{"$f":"IF(BX611<BX609,ATAN((BW609-BW611)/(BX609-BX611)),ATAN((BW609-BW611)/-(BX609-BX611)))","v":-0.50726381316400393},null,null,{"$f":"AE567","v":10},{"$f":"AI567","v":0},{"$f":"AF567","v":"p1"},null,{"$f":"U567","v":10},{"$f":"Y567","v":0},{"$f":"V567","v":1},null,{"$f":"W593","v":13.66369574730073},{"$f":"X593","v":43},{"$f":"V593","v":18},null,null,null,null,null,{"$f":"W611","v":19.51473742580249},{"$f":"X611","v":39.922463933307448},{"$f":"V611","v":34},null,{"$f":"W568","v":27.338181818181823},{"$f":"X568","v":17.2},{"$f":"V568","v":2},null,{"$f":"AG592","v":12.020867693009317},{"$f":"AH592","v":43.6416742438577},{"$f":"AF592","v":"p18"},null,{"$f":"AG598","v":4.9875933362467846},{"$f":"AH598","v":50.086151141316634},{"$f":"AF598","v":"p21"},null,{"$f":"AZ571-AZ567","v":19.193049236581473},{"$f":"AZ572-AZ568","v":35.700000000000003},"β3",null,null,null,null,null,{"$f":"AL602","v":-5.5148831041666462},{"$f":"AM602","v":22.475971003273504},"p87",null,null,null,null,"نقاط ورودی از شلوار",null,{"$f":"DD576-CZ580+CZ581","v":-0.81995999798514774},{"$f":"DE576-DA581+DA580","v":35.679535999999999},"14r",null,null,null,null,null,{"$f":"DD584","v":12.097775},{"$f":"DE584","v":48.343380736880853},{"$f":"DF584","v":"30r"},null,-2.159530485878971,15.625240202769742,{"$f":"DJ619","v":"p2r"},null,{"$f":"U580","v":18.151818181818186},{"$f":"Y580","v":42.35},19,null,{"$f":"DX576-DT586+DT585","v":0.31619661620079853},{"$f":"DY576-DU585+DU586","v":3.44},"4r",null,null,null,null,null,0.31619661620079853,0,{"$f":"DZ578","v":"2r"},null,null,null,null,null,null,null,null,null,null,null,null,null,null,null,null,null,null,null,null,null,null,null,null,null,null,null,null,null,null,null,null,null,null,null,null,null,null,null,null,null,null,null,null,null,null,null,null,null,null,null,null,null,null,null,null,null,null,null,null,null,null,null,null,null,null,null,null,null,null,null,null,null,null,null,null,null,null,null,null,null,null,null,null,null,null,null,null,null,null,null,null,null,null,null,null,null,null,null,null,null,null,null,null,null,null,null,null,null,null,null,null,null,null,null,null,null,null,null,null,null,null,null,null,null,null,null,null,null,null,null,null,null,null,null,null,null,null,null,null,null,null,null,null,null,null,null,null,null,null,null,null,null,null,null,null,null,null,null,null,null,null,null,null,null,null,null,null,null,null,null,null,null,null,null,null,null,null,null,null,null,null,null,null,null,null,null,null,null,null,null,null,null,null,null,null,null,null,null,null,null,null,null,null,null,null,null,null,null,null,null,null,null,null,null,null,null,null,null,null,null,null,null,null,null,null,null,null,null,null,null,null,null,null,null,null,null,null,null,null,null,null,null,null,null,null,null,null,null,null,"h11",{"$f":"NZ574","v":-16.679166666666667},{"$f":"OA574-0.5*NZ563","v":22.475000000000001},{"$f":"NZ569","v":-13.333333333333332},{"$f":"OA569","v":23},{"$f":"NY569","v":"w37"}]
[null,null,null,null,null,"t12",{"$f":"'متغیرها '!C624","v":0.05},0.05,null,"اندازه ورودی","شبیه ساز","مقدار تغییر یافته",null,"s12",{"$f":"SQRT(POWER((W578-W586),2)+POWER((X578-X586),2))","v":11.299999999999997},{"$f":"SQRT(POWER((U578-U586),2)+POWER((Y578-Y586),2))","v":11.299999999999997},null,null,null,null,{"$f":"U577-IF(H572=-1,0.25*(K581-K582)+0.03*K581,(U572-U574)+TAN(RADIANS(H572))*(Y577-Y572))","v":5.8518181818181816},10,{"$f":"W577-IF(G572=-1,0.25*(L581-L582)+0.03*L581,(W572-W574)+TAN(RADIANS(G572))*(X577-X572))","v":13.773090909090911},{"$f":"X577","v":36.700000000000003},{"$f":"Y577","v":36.700000000000003},null,52,{"$f":"IF(O584<0.3,AB569,W591+O584*COS(O582))","v":15.784514295837784},{"$f":"IF(O584<0.3,AC569,X591-O584*SIN(O582))","v":43},null,{"$f":"AE573+P575*SIN(P573+(P572-P581)*H579)","v":25.487967778383364},"p11",{"$f":"AG573+O575*SIN(O573+(O572-O581)*G579)","v":28.269915354499702},{"$f":"AH573+O575*COS(O573+(O572-O581)*G579)","v":31.228489800330443},{"$f":"AI573+P575*COS(P573+(P572-P581)*H579)","v":30.849624214795291},null,"p47a",{"$f":"AG569-S583","v":13.331309090909091},{"$f":"AH567","v":17.2},null,11,{"$f":"RADIANS(11)+O581","v":0.25482180367933244},{"$f":"AG574-O576*SIN(AP578)","v":5.0748572749019525},{"$f":"AH574+O576*COS(AP578)","v":36.107624786174739},{"$f":"AG573+O575*SIN(O573+(AP578-O581)*G579)","v":28.757392353626575},{"$f":"AH573+O575*COS(O573+(AP578-O581)*G579)","v":31.099048775526047},{"$f":"AQ578+0.5*L582*COS(AP578-O581)","v":19.799265026616911},{"$f":"AR578+0.5*L582*SIN(AP578-O581)","v":38.969759716822914},11.92460212872394,null,"(β3→β15)",{"$f":"SQRT(POWER(CM598-CM596,2)+POWER(CN598-CN596,2))","v":9.2370774598895729},null,null,"(β3→β15)",{"$f":"SQRT(POWER(BW613-BW611,2)+POWER(BX613-BX611,2))","v":8.2258200806971189},null,null,{"$f":"AE571","v":10},{"$f":"AI571","v":3.44},{"$f":"AF571","v":"p5"},null,{"$f":"U571","v":10},{"$f":"Y571","v":3.44},{"$f":"V571","v":5},null,{"$f":"W594","v":13.66369574730073},{"$f":"X594","v":43},{"$f":"V594","v":20},null,null,null,"زیپ",null,{"$f":"W610","v":17.151168008973261},{"$f":"X610","v":38.127234561070118},{"$f":"V610","v":33},null,null,null,null,null,null,null,null,null,null,null,null,null,null,null,null,null,{"$f":"AG608","v":19.836362021514358},{"$f":"AH608","v":42.203165706478231},{"$f":"AF608","v":"p28"},null,null,null,null,null,null,{"$f":"W579","v":28.565090909090912},{"$f":"X579","v":31.597679999999997},11,null,{"$f":"DD577-CZ579+CZ580","v":-1.8839599979851478},{"$f":"DE577-DA580+DA579","v":32.873260000000002},"13r",null,{"$f":"DD583","v":-2.2530509070760587},{"$f":"DE583","v":17.2},{"$f":"DF583","v":"2r"},null,{"$f":"DD571","v":14.3074959221259},{"$f":"DE571","v":36.945099008389903},{"$f":"DF571","v":"29r"},null,null,null,null,null,{"$f":"U585","v":17.679832979837162},{"$f":"Y585","v":48},"15a",null,{"$f":"DX577","v":0.31619661620079853},{"$f":"DY577-DU586+DU587","v":0},"2r",null,null,null,null,null,null,null,null,null,null,null,null,null,null,null,null,null,null,null,null,null,null,null,null,null,null,null,null,null,null,null,null,null,null,null,null,null,null,null,null,null,null,null,null,null,null,null,null,null,null,null,null,null,null,null,null,null,null,null,null,null,null,null,null,null,null,null,null,null,null,null,null,null,null,null,null,null,null,null,null,null,null,null,null,null,null,null,null,null,null,null,null,null,null,null,null,null,null,null,null,null,null,null,null,null,null,null,null,null,null,null,null,null,null,null,null,null,null,null,null,null,null,null,null,null,null,null,null,null,null,null,null,null,null,null,null,null,null,null,null,null,null,null,null,null,null,null,null,null,null,null,null,null,null,null,null,null,null,null,null,null,null,null,null,null,null,null,null,null,null,null,null,null,null,null,null,null,null,null,null,null,null,null,null,null,null,null,null,null,null,null,null,null,null,null,null,null,null,null,null,null,null,null,null,null,null,null,null,null,null,null,null,null,null,null,null,null,null,null,null,null,null,null,null,null,null,null,null,null,null,null,null,null,null,null,null,null,null,null,null,null,null,null,null,null,null,null,null,null,null,null,null,null,null,null,null,null,null,"h12",{"$f":"NZ575","v":-14.654166666666667},{"$f":"OA577","v":22.475000000000001}]
[null,null,null,null,null,"t17",{"$f":"'متغیرها '!C675","v":1},null,null,{"$f":"'متغیرها '!T56","v":"e"},48,{"$f":"K583+G606*K583","v":48},null,"s17",{"$f":"0.25*(0.5*(L581-L582)-0.5*(L579-L580)-(X585-X580)*(W582-W580)/(X580-X582))","v":-0.16265333266171519},{"$f":"0.25*(0.5*(K581-K582)-0.5*(K579-K580)-(Y585-Y580)*(U582-U580)/(Y580-Y582))","v":-0.16799630049525577},null,"s48",{"$f":"0.55*(AG569-AG567)*G601","v":4.0716000000000001},null,{"$f":"U580-(Y583-Y580)*(U580-U585)/(Y585-Y580)","v":17.679832979837162},15,{"$f":"W580-(X583-X580)*(W580-W585)/(X585-X580)","v":25.339962767729791},{"$f":"X576-G573-G575","v":43},{"$f":"Y576","v":48},null,57,{"$f":"W608+S573","v":22.648514295837789},{"$f":"X608","v":43},null,{"$f":"AE579+0.55*(AE578-AE579)","v":22.13233499768225},"p13",{"$f":"AG579+0.55*(AG578-AG579)","v":24.797325601436501},{"$f":"AH578+0.1*(AH579-AH578)","v":31.96709169528933},{"$f":"AI578+0.1*(AI579-AI578)","v":31.615540542733971},null,"p52",{"$f":"AG567","v":10},{"$f":"AH567-S591","v":17.2},null,null,{"$f":"IF(AW568>O579,AP568,IF(AW569>O579,AP569,IF(AW570>O579,AP570,IF(AW571>O579,AP571,IF(AW572>O579,AP572,IF(AW573>O579,AP573,IF(AW574>O579,AP574,IF(AW575>O579,AP575,IF(AW576>O579,AP576,IF(AW577>O579,AP577,IF(AW578>O579,AP578,IF(AW579>O579,AP579,IF(AW580>O579,AP580,AP581)))))))))))))","v":0.21991521863944585},null,null,null,null,null,null,null,null,"عمودی وسط جیب",{"$f":"IF('متغیرها '!C689<1,'متغیرها '!C689*L586,IF('متغیرها '!C689<2,L586+('متغیرها '!C689-1)*(L587-L586),IF('متغیرها '!C689<3,L587+('متغیرها '!C689-2)*(L584-L587),L584+('متغیرها '!C689-3)*(L594-L593))))+AI567","v":36.700000000000003},null,null,"عمودی وسط جیب",{"$f":"IF('متغیرها '!C680<1,'متغیرها '!C680*L586,IF('متغیرها '!C680<2,L586+('متغیرها '!C680-1)*(L587-L586),IF('متغیرها '!C680<3,L587+('متغیرها '!C680-2)*(L584-L587),L584+('متغیرها '!C680-3)*(L594-L593))))+Y567","v":36.700000000000003},null,null,{"$f":"AE578","v":25.487967778383364},{"$f":"AI578","v":30.849624214795291},{"$f":"AF578","v":"p11"},null,{"$f":"U579","v":21.511818181818182},{"$f":"Y579","v":31.431999999999999},{"$f":"V579","v":11},null,{"$f":"W573","v":27.338181818181823},{"$f":"X573","v":17.2},{"$f":"V573","v":6},null,null,null,null,null,{"$f":"BD571-BE568","v":22.56909090909091},{"$f":"BD572+BE567","v":36.700000000000003},"β7",null,null,null,null,null,{"$f":"AG575","v":25.32543275772041},{"$f":"AH575","v":21.408546940099132},{"$f":"AF575","v":"p8"},null,{"$f":"AG606","v":5.0496726696057408},{"$f":"AH606","v":39.397852397764396},{"$f":"AF606","v":"p26a"},null,{"$f":"AZ569-AZ567","v":10.313049236581476},{"$f":"AZ570-AZ568","v":35.700000000000003},"β9",null,{"$f":"AL576","v":7.2970196615653364},{"$f":"AM576","v":44.383000858966994},{"$f":"AK576","v":"p45"},null,null,null,null,null,null,{"$f":"W594","v":13.66369574730073},{"$f":"X594","v":43},20,null,{"$f":"DD582","v":-2.2530509070760587},{"$f":"DE582-DA592+DA593","v":17.2},"2r",null,null,null,null,null,{"$f":"DD585","v":7.8737749999999966},{"$f":"DE585","v":48.343380736880853},{"$f":"DF585","v":"31r"},null,{"$f":"DD615","v":7.7325999999999997},{"$f":"DE615","v":37.83},"38'b",null,{"$f":"U571","v":10},{"$f":"Y571","v":3.44},5,null,{"$f":"DX582-(DT600-DT599)+(DU599-DU600)*TAN(DU607-DU608)","v":11.601359645780217},{"$f":"DY582-(DU599-DU600)","v":17.841653478062252},"p7r",null,null,null,null,null,{"$f":"DX567","v":11.996011098514231},37.043380736880856,{"$f":"DZ567","v":"10r"},null,null,null,null,null,null,null,null,null,null,null,null,null,null,null,null,null,null,null,null,null,null,null,null,null,null,null,null,null,null,null,null,null,null,null,null,null,null,null,null,null,null,null,null,null,null,null,null,null,null,null,null,null,null,null,null,null,null,null,null,null,null,null,null,null,null,null,null,null,null,null,null,null,null,null,null,null,null,null,null,null,null,null,null,null,null,null,null,null,null,null,null,null,null,null,null,null,null,null,null,null,null,null,null,null,null,null,null,null,null,null,null,null,null,null,null,null,null,null,null,null,null,null,null,null,null,null,null,null,null,null,null,null,null,null,null,null,null,null,null,null,null,null,null,null,null,null,null,null,null,null,null,null,null,null,null,null,null,null,null,null,null,null,null,null,null,null,null,null,null,null,null,null,null,null,null,null,null,null,null,null,null,null,null,null,null,null,null,null,null,null,null,null,null,null,null,null,null,null,null,null,null,null,null,null,null,null,null,null,null,null,null,null,null,null,null,null,null,null,null,null,null,null,null,null,null,null,null,null,null,null,null,null,null,null,null,null,null,null,null,null,null,null,null,null,null,null,null,null,null,null,null,"انحنا چپگرد ",null,null,{"$f":"OA583","v":"انحنا چپگرد "}]
[null,null,null,null,null,"t'22",{"$f":"'متغیرها '!C666","v":0},null,null,{"$f":"'متغیرها '!T62","v":"m"},16.568000000000001,{"$f":"K589+0.2*G570*K589+G606*K589+G611*0.22*K589+G614*0.1*K589","v":16.402320000000003},null,"s23",{"$f":"(G608*O585)*SQRT(POWER((AG577-AG582),2)+POWER((AH577-AH582),2))/SQRT(POWER((AG577-AG580),2)+POWER((AH577-AH580),2))","v":0.23834070796460177},{"$f":"(H608*P585)*SQRT(POWER((AE577-AE582),2)+POWER((AI577-AI582),2))/SQRT(POWER((AE577-AE580),2)+POWER((AI577-AI580),2))","v":0.92499999999999982},null,"s54",{"$f":"S587-S588-2*O584","v":1.3896167582148751},null,{"$f":"U588-0.5*(U588-U586)","v":10.156818181818185},"19a",{"$f":"W588-0.5*(W588-W586)","v":17.253090909090911},{"$f":"X588+0.5*(W588-W586)*TAN(O582)","v":48},{"$f":"Y588+0.5*(U588-U586)*TAN(P582)","v":48},null,63,{"$f":"W614+0.5*S573","v":23.185500183359437},{"$f":"X614","v":26.734999999999999},null,{"$f":"AE588+P590*SIN(P572-P581)","v":9.5228562760010522},"p19",{"$f":"AG588+O590*SIN(O572-O581)","v":12.313937500429118},{"$f":"AH588-O590*COS(O572-O581)","v":42.690813792380723},{"$f":"AI588-P590*COS(P572-P581)","v":42.046373186987829},null,"p75",{"$f":"AL588","v":15.809702131715946},{"$f":"AH568","v":17.2},null,3,{"$f":"RADIANS(3)+P581","v":0.18504882450587301},{"$f":"AE574-P576*SIN(AP589)","v":4.5257430732604629},{"$f":"AI574+P576*COS(AP589)","v":36.537059707056422},{"$f":"AE573+P575*SIN(P573+(AP589-P581)*H579)","v":24.034914745615346},{"$f":"AI573+P575*COS(P573+(AP589-P581)*H579)","v":31.276279317969323},{"$f":"AQ589+0.5*K582*COS(AP589-P581)","v":20.204226768907269},{"$f":"AR589+0.5*K582*SIN(AP589-P581)","v":37.358734220070637},7.1882145217704894,null,null,null,"راس بالا ",47,{"$f":"AB573","v":4.6631086020621506},{"$f":"AC573","v":43.141668237731068},"ضلع بالا",{"$f":"S573+S574","v":4.2308008555658141},{"$f":"AE596","v":15.233917942535106},{"$f":"AI596","v":50.000590931698277},{"$f":"AF596","v":"p15"},null,{"$f":"U569","v":13.681818181818182},{"$f":"Y569","v":0},{"$f":"V569","v":3},null,null,null,null,null,{"$f":"AB601","v":22.187370672213945},{"$f":"AC601","v":17.2},{"$f":"AA601","v":75},null,{"$f":"BD571-BE568","v":22.56909090909091},{"$f":"BD572+BE567","v":36.700000000000003},"β7",null,{"$f":"AB576","v":8.8939094576279665},{"$f":"AC576","v":36.700000000000003},{"$f":"AA576","v":50},null,{"$f":"AG572","v":17.402909090909091},{"$f":"AH572","v":17.2},{"$f":"AF572","v":"p6a"},null,{"$f":"AL583","v":10},{"$f":"AM583","v":17.2},{"$f":"AK583","v":"p52"},null,{"$f":"AZ569+AZ567","v":10.313049236581476},{"$f":"AZ570+AZ568","v":37.700000000000003},"β11",null,{"$f":"AL576","v":7.2970196615653364},{"$f":"AM576","v":44.383000858966994},{"$f":"AK576","v":"p45"},null,null,null,null,null,null,{"$f":"W571","v":15},{"$f":"X571","v":17.2},5,null,{"$f":"DD577-CZ574+CZ575","v":-0.81995999798514774},{"$f":"DE577","v":35.679535999999999},"14'r",null,null,null,null,null,{"$f":"DL581","v":15.72423796361949},{"$f":"DM581","v":53.762849053936286},"شیفت 14",null,{"$f":"BK154","v":7.1825999999999999},{"$f":"BL154","v":59.816656485349888},40,null,null,null,null,null,{"$f":"DX588-DT593+DT594+(DU594-DU593)*TAN(DU607-DU608)","v":-7.1803996868853481},{"$f":"DY588-DU594+DU593","v":29.324660352050351},"p11r",null,null,null,null,null,null,null,null,null,null,null,null,null,null,null,null,null,null,null,null,null,null,null,null,null,null,null,null,null,null,null,null,null,null,null,null,null,null,null,null,null,null,null,null,null,null,null,null,null,null,null,null,null,null,null,null,null,null,null,null,null,null,null,null,null,null,null,null,null,null,null,null,null,null,null,null,null,null,null,null,null,null,null,null,null,null,null,null,null,null,null,null,null,null,null,null,null,null,null,null,null,null,null,null,null,null,null,null,null,null,null,null,null,null,null,null,null,null,null,null,null,null,null,null,null,null,null,null,null,null,null,null,null,null,null,null,null,null,null,null,null,null,null,null,null,null,null,null,null,null,null,null,null,null,null,null,null,null,null,null,null,null,null,null,null,null,null,null,null,null,null,null,null,null,null,null,null,null,null,null,null,null,null,null,null,null,null,null,null,null,null,null,null,null,null,null,null,null,null,null,null,null,null,null,null,null,null,null,null,null,null,null,null,null,null,null,null,null,null,null,null,null,null,null,null,null,null,null,null,null,null,null,null,null,null,null,null,null,null,null,null,null,null,null,null,null,null,null,null,null,null,null,null,null,null,null,null,null,"g2",{"$f":"NZ587","v":-13.333333333333332},{"$f":"OA587+NZ584","v":24.5}]
[null,null,null,null,null,"t26",{"$f":"'متغیرها '!C670","v":20},null,null,{"$f":"'متغیرها '!T78","v":"t5"},{"$f":"'متغیرها '!U78","v":15},{"$f":"H126","v":15},null,"s27",{"$f":"SQRT(POWER((AG587-AG592),2)+POWER((AH587-AH592),2))+SQRT(POWER((AG591-AG596),2)+POWER((AH591-AH596),2))","v":13.733445944544995},null,null,"s58",{"$f":"ATAN((AH596-AH591)/(AG596-AG591))","v":0.21340462865756094},null,{"$f":"IF(P584<0.3,U594,U591-P584*COS(P582))","v":5.3478292803324141},18,{"$f":"IF(O584<0.3,W594,W591-O584*COS(O582))","v":13.66369574730073},{"$f":"IF(O584<0.3,X594,X591+O584*SIN(O582))","v":43},{"$f":"IF(P584<0.3,Y594,Y591+P584*SIN(P582))","v":48},null,67,{"$f":"AB590+0.2*(AB592-AB590)","v":18.948218181818184},{"$f":"AC590+0.6*(AC592-AC590)","v":17.2},null,{"$f":"AE581-(4-H608-2*H607)*P585*COS(P572-P581)","v":15.349684873486888},"p15b",{"$f":"AG581-(4-G608-2*G607)*O585*COS(O572-O581)","v":17.518629484813601},{"$f":"AH581-(4-G608-2*G607)*O585*SIN(O572-O581)","v":49.574759797230257},{"$f":"AI581-(4-H608-2*H607)*P585*SIN(P572-P581)","v":49.52496386274494},null,"p79",{"$f":"AL592-(S592+S594*SIN(S593))*(SIN(2*RADIANS(G613))-SIN(RADIANS(G613)))","v":5.289352558290604},{"$f":"AM592+(S592+S594*SIN(S593))*(COS(RADIANS(G613))-COS(2*RADIANS(G613)))","v":18.684824728848785},null,7,{"$f":"RADIANS(7)+P581","v":0.25486199458564618},{"$f":"AE574-P576*SIN(AP593)","v":3.1856754107368008},{"$f":"AI574+P576*COS(AP593)","v":36.23745729321584},{"$f":"AE573+P575*SIN(P573+(AP593-P581)*H579)","v":25.008680524568518},{"$f":"AI573+P575*COS(P573+(AP593-P581)*H579)","v":31.008724166369351},{"$f":"AQ593+0.5*K582*COS(AP593-P581)","v":18.768649991505555},{"$f":"AR593+0.5*K582*SIN(AP593-P581)","v":38.150805984676659},9.4840557649643689,null,null,null,null,4,{"$f":"BC588+BF588*SIN(RADIANS(BB593)+BB590)","v":5.8244337273513613},{"$f":"BD588+BF588*COS(RADIANS(BB593)+BB590)","v":42.170553638610244},{"$f":"IF(BC589>BC593,ATAN((BD589-BD593)/(BC589-BC593)),ATAN((BD589-BD593)/(BC593-BC589)))","v":0.69643505876798395},{"$f":"IF(BC589>BC593,(BC589-BC593)/COS(BE593),(BC593-BC589)/COS(BE593))","v":1.5138492696611507},{"$f":"AE589","v":9.5228562760010522},{"$f":"AI589","v":42.046373186987829},{"$f":"AF589","v":"p19"},null,{"$f":"U584","v":14.461818181818186},{"$f":"Y584","v":48},{"$f":"V584","v":16},null,{"$f":"W574","v":15},{"$f":"X574","v":17.2},{"$f":"V574","v":7},null,{"$f":"AB611","v":8.9235495818416481},{"$f":"AC611","v":19.507176411964068},{"$f":"AA611","v":84},null,null,null,null,null,{"$f":"AB572","v":8.9709423182137531},{"$f":"AC572","v":42.972376288940168},{"$f":"AA572","v":46},null,{"$f":"AL583","v":10},{"$f":"AM583","v":17.2},{"$f":"AK583","v":"p52"},null,null,null,null,null,null,null,"کیسه جیب در مکان دلخواه",null,{"$f":"AG583","v":24.797325601436501},{"$f":"AH583","v":31.96709169528933},{"$f":"AF583","v":"p13"},null,null,null,null,null,null,{"$f":"W568","v":27.338181818181823},{"$f":"X568","v":17.2},2,null,null,null,"جلو شلوار متصل به پیش سینه ",null,{"$f":"DD569","v":7.6900475927238983},{"$f":"DE569","v":17.2},{"$f":"DF569","v":"53r"},null,{"$f":"DL567+'متغیرها '!C601*(2*H129+H130)","v":17.339481667338283},{"$f":"DM567","v":37.043380736880856},"10r'",null,null,null,null,null,{"$f":"AE578","v":25.487967778383364},{"$f":"AI578","v":30.849624214795291},"p11",null,{"$f":"DX592-DT602+DT604+(DU604-DU602)*TAN(DU607-DU608)","v":4.3573049206169943},{"$f":"DY592-DU604+DU602","v":-1.52496386274494},"p2r",null,null,null,null,null,null,null,null,null,null,null,null,null,null,null,null,null,null,null,null,null,null,null,null,null,null,null,null,null,null,null,null,null,null,null,null,null,null,null,null,null,null,null,null,null,null,null,null,null,null,null,null,null,null,null,null,null,null,null,null,null,null,null,null,null,null,null,null,null,null,null,null,null,null,null,null,null,null,null,null,null,null,null,null,null,null,null,null,null,null,null,null,null,null,null,null,null,null,null,null,null,null,null,null,null,null,null,null,null,null,null,null,null,null,null,null,null,null,null,null,null,null,null,null,null,null,null,null,null,null,null,null,null,null,null,null,null,null,null,null,null,null,null,null,null,null,null,null,null,null,null,null,null,null,null,null,null,null,null,null,null,null,null,null,null,null,null,null,null,null,null,null,null,null,null,null,null,null,null,null,null,null,null,null,null,null,null,null,null,null,null,null,null,null,null,null,null,null,null,null,null,null,null,null,null,null,null,null,null,null,null,null,null,null,null,null,null,null,null,null,null,null,null,null,null,null,null,null,null,null,null,null,null,null,null,null,null,null,null,null,null,null,null,null,null,null,null,null,null,null,null,null,null,null,null,null,null,null,"g7",{"$f":"NZ590+OA585*SIN(RADIANS(40)-ATAN((NZ590-NZ591)/(OA590-OA591)))","v":-12.448913864464901},{"$f":"OA590-OA585*COS(RADIANS(40)-ATAN((NZ590-NZ591)/(OA590-OA591)))","v":23.320545221950987},{"$f":"NZ590","v":-12.583333333333332},{"$f":"OA590","v":23.75},{"$f":"NY590","v":"g4"}]
[null,null,null,null,null,"t35",{"$f":"'متغیرها '!C657","v":1},null,null,null,null,null,null,null,null,null,null,null,null,null,null,23,{"$f":"W594+K573","v":13.66369574730073},{"$f":"X594+K574","v":48},null,null,74,{"$f":"W583-S587","v":22.187370672213945},{"$f":"X583","v":43},null,null,"p23",{"$f":"AG599-G574*SIN(0.5*G581*O594)","v":18.721039280791778},{"$f":"AH599+G574","v":53.586151141316634},null,null,"p85",{"$f":"AL599-S599*(SIN(3*RADIANS(G613))-SIN(2*RADIANS(G613)))","v":-2.7898168039203792},{"$f":"AM599+S599*(COS(2*RADIANS(G613))-COS(3*RADIANS(G613)))","v":21.262693317036263},null,14,{"$f":"RADIANS(14)+P581","v":0.37703504222524925},{"$f":"AE574-P576*SIN(AP600)","v":0.90256243187177088},{"$f":"AI574+P576*COS(AP600)","v":35.491109946834797},{"$f":"AE573+P575*SIN(P573+(AP600-P581)*H579)","v":26.659356658472813},{"$f":"AI573+P575*COS(P573+(AP600-P581)*H579)","v":30.379592060812847},{"$f":"AQ600+0.5*K582*COS(AP600-P581)","v":16.136205334404917},{"$f":"AR600+0.5*K582*SIN(AP600-P581)","v":39.289283707749583},13.788376229009932,null,null,null,null,18,{"$f":"BC588+BF588*SIN(RADIANS(BB600)+BB590)","v":7.2390569808649312},{"$f":"BD588+BF588*COS(RADIANS(BB600)+BB590)","v":42.750628203072807},{"$f":"IF(BC589>BC600,ATAN((BD589-BD600)/(BC589-BC600)),ATAN((BD589-BD600)/(BC600-BC589)))","v":0.15065407320063171},{"$f":"IF(BC589>BC600,(BC589-BC600)/COS(BE600),(BC600-BC589)/COS(BE600))","v":2.6054601050413737},null,null,null,null,{"$f":"U593","v":5.3478292803324141},{"$f":"Y593","v":48},{"$f":"V593","v":18},null,null,null,null,null,{"$f":"AB606","v":17.334803830895943},{"$f":"AC606","v":43.93501351283291},{"$f":"AA606","v":80},null,{"$f":"BD569-BD567","v":15.577090909090913},{"$f":"BD570-BD568","v":35.700000000000003},"β9",null,{"$f":"AB580","v":15.784514295837784},{"$f":"AC580","v":43},{"$f":"AA580","v":54},null,{"$f":"AL583","v":10},{"$f":"AM583","v":17.2},{"$f":"AK583","v":"p52"},null,{"$f":"AG613","v":5.2610362601782432},{"$f":"AH613","v":41.156426593607023},{"$f":"AF613","v":"p33"},null,null,null,"جیب جین",null,null,null,null,null,null,null,null,null,null,null,null,null,null,{"$f":"FD245","v":0},{"$f":"FE245","v":41.160362606618179},"p10",null,{"$f":"AZ161+BT130","v":7.3400475927238986},{"$f":"BA161","v":56.24},"شیفت 43",null,{"$f":"CZ574","v":0},{"$f":"DA574","v":64.452678350923691},26,null,null,null,"پهلو شلوار متصل به بالاتنه",null,{"$f":"AE574","v":8.1454545454545482},{"$f":"AI574","v":17.2},"p7",null,{"$f":"BS116","v":0},{"$f":"BT116","v":55.2},"e1",null,{"$f":"FG332","v":0},{"$f":"FH332","v":58.3},"d3'",null,-7.1803996868853481,29.324660352050351,{"$f":"DZ589","v":"p11r"},null,null,null,null,null,null,null,null,null,null,null,null,null,null,null,null,null,null,null,null,null,null,null,null,null,null,null,null,null,null,null,null,null,null,null,null,null,null,null,null,null,null,null,null,null,null,null,null,null,null,null,null,null,null,null,null,null,null,null,null,null,null,null,null,null,null,null,null,null,null,null,null,null,null,null,null,null,null,null,null,null,null,null,null,null,null,null,null,null,null,null,null,null,null,null,null,null,null,null,null,null,null,null,null,null,null,null,null,null,null,null,null,null,null,null,null,null,null,null,null,null,null,null,null,null,null,null,null,null,null,null,null,null,null,null,null,null,null,null,null,null,null,null,null,null,null,null,null,null,null,null,null,null,null,null,null,null,null,null,null,null,null,null,null,null,null,null,null,null,null,null,null,null,null,null,null,null,null,null,null,null,null,null,null,null,null,null,null,null,null,null,null,null,null,null,null,null,null,null,null,null,null,null,null,null,null,null,null,null,null,null,null,null,null,null,null,null,null,null,null,null,null,null,null,null,null,null,null,null,null,null,null,null,null,null,null,null,null,null,null,null,null,null,null,null,null,null,null,null,null,"نقطه ورودی سر فلش","مولفه افقی","مولفه عمودی",{"$f":"NZ603","v":-15.216666666666667},{"$f":"OA603","v":24.725000000000001},{"$f":"NY603","v":"f3"}]
[null,null,null,null,null,"t41",{"$f":"'متغیرها '!C589","v":0},null,null,"خط دوم","نقطه اول","p12",{"$f":"AG579","v":20.553049236581476},{"$f":"AH579","v":38.614508749919295},null,null,null,null,null,null,null,29,{"$f":"IF(X606>X578,W594-O596*SIN(S566)-IF(X606>0.5*(X594-X578)+X578,(X594-X606),(X606-X578))*0.03*(W594-W578),W578+(O596-X594+X578)*TAN(O581))","v":14.093974825174827},{"$f":"X594-O596*COS(S566)","v":31.601718271509053},null,null,80,{"$f":"AB603-S588*COS(S586+2*RADIANS(G612))","v":17.334803830895943},{"$f":"AC603+S588*SIN(S586+2*RADIANS(G612))","v":43.93501351283291},null,null,"p26a",{"$f":"AG587-SQRT(POWER((AG577-AG587),2)+POWER((AH577-AH587),2))*G585*SIN(S571)-IF(AH606>0.5*(AH587-AH577)+AH577,0.1*(AH587-AH606),0.1*(AH606-AH577))","v":5.0496726696057408},{"$f":"AH587-SQRT(POWER((AG577-AG587),2)+POWER((AH577-AH587),2))*G585*COS(S571)","v":39.397852397764396},null,null,null,null,null,null,"خط اول","نقطه اول","p17a",{"$f":"AE594","v":9.4235548299160588},{"$f":"AI594","v":48.58635707250356},null,"خط اول","نقطه اول",{"$f":"V596","v":21},29.324915663681622,35.943541014892851,null,null,30,{"$f":"BC588+BF588*SIN(RADIANS(BB606)+BB590)","v":8.5332158181242956},{"$f":"BD588+BF588*COS(RADIANS(BB606)+BB590)","v":42.962470636265728},{"$f":"IF(BC589>BC606,ATAN((BD589-BD606)/(BC589-BC606)),ATAN((BD589-BD606)/(BC606-BC589)))","v":4.6269958760298532E-2},{"$f":"IF(BC589>BC606,(BC589-BC606)/COS(BE606),(BC606-BC589)/COS(BE606))","v":3.8742536886718217},{"$f":"AL573","v":7.8217290511687469},{"$f":"AM573","v":36.598065727760229},"p42",null,null,null,"اطلاعات اندام در شلوار",null,null,null,null,null,{"$f":"AB606","v":17.334803830895943},{"$f":"AC606","v":43.93501351283291},{"$f":"AA606","v":80},null,{"$f":"BD569+BD567","v":15.577090909090913},{"$f":"BD570+BD568","v":37.700000000000003},"β11",null,{"$f":"AB582","v":16.214793373711881},{"$f":"AC582","v":31.601718271509053},{"$f":"AA582","v":56},null,{"$f":"AL582","v":20.660189090909093},{"$f":"AM582","v":17.2},{"$f":"AK582","v":"p51"},null,{"$f":"AG583","v":24.797325601436501},{"$f":"AH583","v":31.96709169528933},{"$f":"AF583","v":"p13"},null,null,null,null,null,null,null,null,null,null,null,null,null,null,{"$f":"AG579","v":20.553049236581476},{"$f":"AH579","v":38.614508749919295},"p12",null,{"$f":"DD589","v":-0.81995999798514774},{"$f":"DE589","v":35.679535999999999},"14'r",null,{"$f":"DD615","v":7.7325999999999997},{"$f":"DN620","v":16.79427803581552},"49r",null,{"$f":"DD588","v":0},{"$f":"DE588","v":48},"38'",null,14.789301174216655,17.746149806890383,{"$f":"DJ611","v":"p1 r"},null,{"$f":"AE575","v":21.41046789403023},{"$f":"AI575","v":21.294887264438586},"p8",null,{"$f":"DD589","v":-0.81995999798514774},{"$f":"DE589","v":35.679535999999999},"14'r",null,{"$f":"DD589","v":-0.81995999798514774},{"$f":"DE589","v":35.679535999999999},"14'r",null,4.3573049206169943,-1.52496386274494,{"$f":"DZ593","v":"p2r"},null,null,null,null,null,null,null,null,null,null,null,null,null,null,null,null,null,null,null,null,null,null,null,null,null,null,null,null,null,null,null,null,null,null,null,null,null,null,null,null,null,null,null,null,null,null,null,null,null,null,null,null,null,null,null,null,null,null,null,null,null,null,null,null,null,null,null,null,null,null,null,null,null,null,null,null,null,null,null,null,null,null,null,null,null,null,null,null,null,null,null,null,null,null,null,null,null,null,null,null,null,null,null,null,null,null,null,null,null,null,null,null,null,null,null,null,null,null,null,null,null,null,null,null,null,null,null,null,null,null,null,null,null,null,null,null,null,null,null,null,null,null,null,null,null,null,null,null,null,null,null,null,null,null,null,null,null,null,null,null,null,null,null,null,null,null,null,null,null,null,null,null,null,null,null,null,null,null,null,null,null,null,null,null,null,null,null,null,null,null,null,null,null,null,null,null,null,null,null,null,null,null,null,null,null,null,null,null,null,null,null,null,null,null,null,null,null,null,null,null,null,null,null,null,null,null,null,null,null,null,null,null,null,null,null,null,null,null,null,null,null,null,null,null,null,null,null,null,null,null,"ارتفاع نیم دایره",{"$f":"NV221","v":1.5},"بزرگی فلش",{"$f":"NZ609","v":-18},{"$f":"OA609","v":24.5},{"$f":"NY609","v":"w39"}]
[null,null,null,null,null,"t46",{"$f":"'متغیرها '!C644","v":0},null,null,null,null,null,null,"به دست آوردن مختصات نقطه تقاطع یک نقطه یا یک خط با داشتن دونقطه از یک خط",null,null,null,null,null,null,null,34,{"$f":"W609+0.85*(W608-W609)","v":19.51473742580249},{"$f":"X609+0.4*(X608-X609)","v":39.922463933307448},null,null,84,{"$f":"AB605-S587*COS(S586)*COS(2*RADIANS(G612))","v":8.9235495818416481},{"$f":"AC605+S587*COS(S586)*SIN(2*RADIANS(G612))","v":19.507176411964068},null,null,"p31",{"$f":"AG591","v":12.298831411719663},{"$f":"AH591+1","v":44.685699371876161},null,null,null,null,null,null,null,null,null,null,null,null,null,null,null,null,null,null,null,40,{"$f":"BC588+BF588*SIN(RADIANS(BB611)+BB590)","v":9.6261621786627654},{"$f":"BD588+BF588*COS(RADIANS(BB611)+BB590)","v":42.929963428801649},{"$f":"IF(BC589>BC611,ATAN((BD589-BD611)/(BC589-BC611)),ATAN((BD589-BD611)/(BC611-BC589)))","v":4.2630316861954995E-2},{"$f":"IF(BC589>BC611,(BC589-BC611)/COS(BE611),(BC611-BC589)/COS(BE611))","v":4.9675667816680624},{"$f":"AG578","v":28.269915354499702},{"$f":"AH578","v":31.228489800330443},"p11",null,{"$f":"W582","v":25.905090909090912},{"$f":"X582","v":35.679535999999999},14,null,null,null,null,null,null,null,null,null,{"$f":"BD569+0.5*(BD571-BD569)-BD574","v":19.573090909090912},{"$f":"BD572+0.5*(BD570-BD572)-BD575","v":28.510000000000005},"β15",null,{"$f":"AB584","v":15.895458819182846},{"$f":"AC584","v":37.870773222179075},{"$f":"AA584","v":58},null,null,null,null,null,{"$f":"AG567","v":10},{"$f":"AH567","v":17.2},{"$f":"AF567","v":"p1"},null,{"$f":"AL567","v":10.590220464010089},{"$f":"AM567","v":30.268787794308796},{"$f":"AK567","v":"p36"},null,null,null,null,null,{"$f":"AL573","v":7.8217290511687469},{"$f":"AM573","v":36.598065727760229},{"$f":"AK573","v":"p42"},null,null,{"$f":"AG571","v":10},{"$f":"AH571","v":17.2},"p5",null,"مولفه افقی","مولفه عمودی","اسم نقطه ",null,{"$f":"DH610-(CZ613-CZ611)+(DA611-DA613)*TAN(DA617-DA618)","v":14.789301174216655},{"$f":"DI610-(DA611-DA613)","v":17.746149806890383},"p1 r",null,{"$f":"DD589","v":-0.81995999798514774},{"$f":"DE589","v":35.679535999999999},"14'r",null,null,null,"خط مرکزی پشت شلوار با یقه گرد",null,{"$f":"EJ389","v":0},{"$f":"EK389","v":48},44,null,null,null,null,null,null,null,null,null,{"$f":"DT615","v":13.3},{"$f":"DU615","v":48},"36b",null,null,null,null,null,null,null,null,null,null,null,null,null,null,null,null,null,null,null,null,null,null,null,null,null,null,null,null,null,null,null,null,null,null,null,null,null,null,null,null,null,null,null,null,null,null,null,null,null,null,null,null,null,null,null,null,null,null,null,null,null,null,null,null,null,null,null,null,null,null,null,null,null,null,null,null,null,null,null,null,null,null,null,null,null,null,null,null,null,null,null,null,null,null,null,null,null,null,null,null,null,null,null,null,null,null,null,null,null,null,null,null,null,null,null,null,null,null,null,null,null,null,null,null,null,null,null,null,null,null,null,null,null,null,null,null,null,null,null,null,null,null,null,null,null,null,null,null,null,null,null,null,null,null,null,null,null,null,null,null,null,null,null,null,null,null,null,null,null,null,null,null,null,null,null,null,null,null,null,null,null,null,null,null,null,null,null,null,null,null,null,null,null,null,null,null,null,null,null,null,null,null,null,null,null,null,null,null,null,null,null,null,null,null,null,null,null,null,null,null,null,null,null,null,null,null,null,null,null,null,null,null,null,null,null,null,null,null,null,null,null,null,null,null,null,null,null,null,null,null,"g2",{"$f":"NZ609","v":-18},{"$f":"OA609+NZ606","v":26}]
[null,null,null,null,null,null,null,null,null,null,"نقطه دوم","p15b",{"$f":"AG593","v":17.518629484813601},{"$f":"AH593","v":49.574759797230257},null,null,null,null,null,null,null,40,{"$f":"W571+S573*G598","v":16.060409274268526},{"$f":"X571","v":17.2},null,null,null,null,null,null,null,null,null,null,null,null,null,null,null,null,null,"نقطه دوم",null,{"$f":"AR616+5","v":14.423554829916059},{"$f":"AS616+5*(AR619-AR620)/(AS620-AS619)","v":49.803349738696191},null,null,"نقطه دوم","p25b",17.860985340324081,40.890296776397768,null,null,52,{"$f":"BC588+BF588*SIN(RADIANS(BB617)+BB590)","v":10.905442930053912},{"$f":"BD588+BF588*COS(RADIANS(BB617)+BB590)","v":42.641579879205437},{"$f":"IF(BC589>BC617,ATAN((BD589-BD617)/(BC589-BC617)),ATAN((BD589-BD617)/(BC617-BC589)))","v":7.9941665775301707E-2},{"$f":"IF(BC589>BC617,(BC589-BC617)/COS(BE617),(BC617-BC589)/COS(BE617))","v":6.2623339282377151},null,null,null,null,{"$f":"U573","v":18.909090909090907},{"$f":"Y573","v":17.2},6,null,{"$f":"W583","v":25.339962767729791},{"$f":"X583","v":43},{"$f":"V583","v":15},null,null,null,null,null,null,null,null,null,{"$f":"W580","v":25.373090909090912},{"$f":"X580","v":42.35},{"$f":"V580","v":12},null,{"$f":"AG586","v":18.861293091790539},{"$f":"AH586","v":44.725091192225406},{"$f":"AF586","v":"p15e"},null,null,null,null,null,null,null,null,null,null,null,null,null,{"$f":"AG568","v":24.805818181818182},{"$f":"AH568","v":17.2},{"$f":"AF568","v":"p2"},null,null,null,{"$f":"O572","v":0.21991521863944585},"s6",null,{"$f":"BO184","v":15.598675},{"$f":"BP171","v":48.04189556373597},"36 شیفت",null,{"$f":"DH616-CZ615+CZ616+(DA616-DA615)*TAN(DA617-DA618)","v":-2.1595304858789697},{"$f":"DI616-DA616+DA615","v":15.625240202769742},"p6r","نقطه دوم از خط اول","p2r",{"$f":"DH619","v":-2.159530485878971},{"$f":"DI619","v":15.625240202769742},null,null,null,null,null,{"$f":"DD612","v":0},{"$f":"DE612","v":48},44]
[null,null,null,null,null,null,null,null,null,null,null,null,null,null,null,null,null,null,null,null,null,null,null,null,null,null,null,null,null,null,null,null,null,null,null,null,null,null,null,null,null,"نقطه تقاطع","p15",{"$f":"(AS619-AS616+AR616*((AS617-AS616)/(AR617-AR616))-AR619*((AS620-AS619)/(AR620-AR619)))/(((AS617-AS616)/(AR617-AR616))-((AS620-AS619)/(AR620-AR619)))","v":15.233917942535106},{"$f":"AS616+(AR622-AR616)*((AS617-AS616)/(AR617-AR616))","v":50.000590931698277},null,null,"نقطه تقاطع","p26",{"$f":"(AY619-AY616+AX616*((AY617-AY616)/(AX617-AX616))-AX619*((AY620-AY619)/(AX620-AX619)))/(((AY617-AY616)/(AX617-AX616))-((AY620-AY619)/(AX620-AX619)))","v":12.693438843026216},{"$f":"AY616+(AX622-AX616)*((AY617-AY616)/(AX617-AX616))","v":40.071837816572227},null,null,62,{"$f":"BC588+BF588*SIN(RADIANS(BB622)+BB590)","v":11.906627735203129},{"$f":"BD588+BF588*COS(RADIANS(BB622)+BB590)","v":42.202014808380056},{"$f":"IF(BC589>BC622,ATAN((BD589-BD622)/(BC589-BC622)),ATAN((BD589-BD622)/(BC622-BC589)))","v":0.12900292332798344},{"$f":"IF(BC589>BC622,(BC589-BC622)/COS(BE622),(BC622-BC589)/COS(BE622))","v":7.3042123462746176},null,null,null,null,null,null,null,null,null,null,null,null,null,null,null,null,null,null,null,null,null,null,null,null,{"$f":"AG568","v":24.805818181818182},{"$f":"AH568","v":17.2},{"$f":"AF568","v":"p2"},null,null,null,null,null,null,null,null,null,null,null,null,null,null,null,null,null,null,null,null,null,null,null,null,null,null,null,null,null,null,null,null,null,null,null,null,null,null,null,null,null,null,null,null,null,null,null,null,null,null,null,null,null,null,null,null,null,null,null,null,null,null,null,null,null,null,null,null,null,null,null,null,null,null,null,null,null,null,null,null,null,null,null,null,null,null,null,null,null,null,null,null,null,null,null,null,null,null,null,null,null,null,null,null,null,null,null,null,null,null,null,null,null,null,null,null,null,null,null,null,null,null,null,null,null,null,null,null,null,null,null,null,null,null,null,null,null,null,null,null,null,null,null,null,null,null,null,null,null,null,null,null,null,null,null,null,null,null,null,null,null,null,null,null,null,null,null,null,null,null,null,null,null,null,null,null,null,null,null,null,null,null,null,null,null,null,null,null,null,null,null,null,null,null,null,null,null,null,null,null,null,null,null,null,null,null,null,null,null,null,null,null,null,null,null,null,null,null,null,null,null,null,null,null,null,null,null,null,null,null,null,null,null,null,null,null,null,null,null,null,null,null,null,null,null,null,null,null,null,null,null,null,null,null,null,null,null,null,null,null,null,null,null,null,null,null,null,null,null,null,null,null,null,null,null,null,null,null,null,null,null,null,null,null,null,null,null,null,null,null,null,null,null,null,null,null,null,null,null,null,null,null,null,"نقطه ورودی سر فلش","مولفه افقی","مولفه عمودی",{"$f":"NZ625","v":-16.45},{"$f":"OA625","v":26.225000000000001},{"$f":"NY625","v":"f3"}]
[null,null,null,null,null,null,null,null,null,null,null,null,null,null,null,null,null,null,null,null,null,null,null,null,null,null,null,null,null,null,null,null,null,null,null,null,null,null,null,null,null,null,null,null,null,null,null,null,null,null,null,null,null,null,null,null,null,null,null,null,null,null,null,null,null,null,null,null,null,null,null,null,null,null,null,null,null,null,null,null,null,null,null,null,null,null,null,null,null,null,null,null,null,null,null,null,null,null,null,null,null,null,null,null,null,null,null,null,null,null,null,null,null,null,null,null,null,null,null,null,null,null,null,null,null,null,null,null,null,null,null,null,null,null,null,null,null,null,null,null,null,null,null,null,null,null,null,null,null,null,null,null,null,null,null,null,null,null,null,null,null,null,null,null,null,null,null,null,null,null,null,null,null,null,null,null,null,null,null,null,null,null,null,null,null,null,null,null,null,null,null,null,null,null,null,null,null,null,null,null,null,null,null,null,null,null,null,null,null,null,null,null,null,null,null,null,null,null,null,null,null,null,null,null,null,null,null,null,null,null,null,null,null,null,null,null,null,null,null,null,null,null,null,null,null,null,null,null,null,null,null,null,null,null,null,null,null,null,null,null,null,null,null,null,null,null,null,null,null,null,null,null,null,null,null,null,null,null,null,null,null,null,null,null,null,null,null,null,null,null,null,null,null,null,null,null,null,null,null,null,null,null,null,null,null,null,null,null,null,null,null,null,null,null,null,null,null,null,null,null,null,null,null,null,null,null,null,null,null,null,null,null,null,null,null,null,null,null,null,null,null,null,null,null,null,null,null,null,null,null,null,null,null,null,null,null,null,null,null,null,null,null,null,null,null,null,null,null,null,null,null,null,null,null,null,null,null,null,null,null,null,null,null,null,null,null,null,null,null,null,"انحنا چپگرد ",null,null,{"$f":"OA627","v":"انحنا چپگرد "}]
[null,null,null,null,null,null,null,null,null,null,null,null,null,null,null,null,null,null,null,null,null,null,null,null,null,null,null,null,null,null,null,null,null,null,null,null,null,null,null,null,null,null,null,null,null,null,null,null,null,null,null,null,null,null,null,null,null,null,null,null,null,null,null,null,null,null,null,null,null,null,null,null,null,null,null,null,null,null,null,null,null,null,null,null,null,null,null,null,null,null,null,null,null,null,null,null,null,null,null,null,null,null,null,null,null,null,null,null,null,null,null,null,null,null,null,null,null,null,null,null,null,null,null,null,null,null,null,null,null,null,null,null,null,null,null,null,null,null,null,null,null,null,null,null,null,null,null,null,null,null,null,null,null,null,null,null,null,null,null,null,null,null,null,null,null,null,null,null,null,null,null,null,null,null,null,null,null,null,null,null,null,null,null,null,null,null,null,null,null,null,null,null,null,null,null,null,null,null,null,null,null,null,null,null,null,null,null,null,null,null,null,null,null,null,null,null,null,null,null,null,null,null,null,null,null,null,null,null,null,null,null,null,null,null,null,null,null,null,null,null,null,null,null,null,null,null,null,null,null,null,null,null,null,null,null,null,null,null,null,null,null,null,null,null,null,null,null,null,null,null,null,null,null,null,null,null,null,null,null,null,null,null,null,null,null,null,null,null,null,null,null,null,null,null,null,null,null,null,null,null,null,null,null,null,null,null,null,null,null,null,null,null,null,null,null,null,null,null,null,null,null,null,null,null,null,null,null,null,null,null,null,null,null,null,null,null,null,null,null,null,null,null,null,null,null,null,null,null,null,null,null,null,null,null,null,null,null,null,null,null,null,null,null,null,null,null,null,null,null,null,null,null,null,null,null,null,null,null,null,null,null,null,null,null,null,null,null,null,"g2",{"$f":"NZ631","v":2},{"$f":"OA631+NZ628","v":27.5}]
[null,null,null,null,null,null,null,null,null,null,null,null,null,null,null,null,null,null,null,null,null,null,null,null,null,null,null,null,null,null,null,null,null,null,null,null,null,null,null,null,null,null,null,null,null,null,null,null,null,null,null,null,null,null,null,null,null,null,null,null,null,null,null,null,null,null,null,null,null,null,null,null,null,null,null,null,null,null,null,null,null,null,null,null,null,null,null,null,null,null,null,null,null,null,null,null,null,null,null,null,null,null,null,null,null,null,null,null,null,null,null,null,null,null,null,null,null,null,null,null,null,null,null,null,null,null,null,null,null,null,null,null,null,null,null,null,null,null,null,null,null,null,null,null,null,null,null,null,null,null,null,null,null,null,null,null,null,null,null,null,null,null,null,null,null,null,null,null,null,null,null,null,null,null,null,null,null,null,null,null,null,null,null,null,null,null,null,null,null,null,null,null,null,null,null,null,null,null,null,null,null,null,null,null,null,null,null,null,null,null,null,null,null,null,null,null,null,null,null,null,null,null,null,null,null,null,null,null,null,null,null,null,null,null,null,null,null,null,null,null,null,null,null,null,null,null,null,null,null,null,null,null,null,null,null,null,null,null,null,null,null,null,null,null,null,null,null,null,null,null,null,null,null,null,null,null,null,null,null,null,null,null,null,null,null,null,null,null,null,null,null,null,null,null,null,null,null,null,null,null,null,null,null,null,null,null,null,null,null,null,null,null,null,null,null,null,null,null,null,null,null,null,null,null,null,null,null,null,null,null,null,null,null,null,null,null,null,null,null,null,null,null,null,null,null,null,null,null,null,null,null,null,null,null,null,null,null,null,null,null,null,null,null,null,null,null,null,null,null,null,null,null,null,null,null,null,null,null,null,null,null,null,null,null,null,null,null,null,"g8",{"$f":"NZ634-OA629*SIN(RADIANS(40)+ATAN((NZ634-NZ635)/(OA634-OA635)))","v":2.3504113008211527},{"$f":"OA634-OA629*COS(RADIANS(40)+ATAN((NZ634-NZ635)/(OA634-OA635)))","v":26.543048625304017},{"$f":"NZ637","v":2.8844194688684315},{"$f":"OA637","v":26.320545221950987},{"$f":"NY637","v":"g7"}]
[null,null,null,null,null,null,null,null,null,null,null,null,null,null,null,null,null,null,null,null,null,null,null,null,null,null,null,null,null,null,null,null,null,null,null,null,null,null,null,null,null,null,null,null,null,null,null,null,null,null,null,null,null,null,null,null,null,null,null,null,null,null,null,null,null,null,null,null,null,null,null,null,null,null,null,null,null,null,null,null,null,null,null,null,null,null,null,null,null,null,null,null,null,null,null,null,null,null,null,null,null,null,null,null,null,null,null,null,null,null,null,null,null,null,null,null,null,null,null,null,null,null,null,null,null,null,null,null,null,null,null,null,null,null,null,null,null,null,null,null,null,null,null,null,null,null,null,null,null,null,null,null,null,null,null,null,null,null,null,null,null,null,null,null,null,null,null,null,null,null,null,null,null,null,null,null,null,null,null,null,null,null,null,null,null,null,null,null,null,null,null,null,null,null,null,null,null,null,null,null,null,null,null,null,null,null,null,null,null,null,null,null,null,null,null,null,null,null,null,null,null,null,null,null,null,null,null,null,null,null,null,null,null,null,null,null,null,null,null,null,null,null,null,null,null,null,null,null,null,null,null,null,null,null,null,null,null,null,null,null,null,null,null,null,null,null,null,null,null,null,null,null,null,null,null,null,null,null,null,null,null,null,null,null,null,null,null,null,null,null,null,null,null,null,null,null,null,null,null,null,null,null,null,null,null,null,null,null,null,null,null,null,null,null,null,null,null,null,null,null,null,null,null,null,null,null,null,null,null,null,null,null,null,null,null,null,null,null,null,null,null,null,null,null,null,null,null,null,null,null,null,null,null,null,null,null,null,null,null,null,null,null,null,null,null,null,null,null,null,null,null,null,null,null,null,null,null,null,null,null,null,null,null,null,null,null,null,null,"پهنای باکس نوشته",{"$f":"NV224","v":1.0499999999999998},"h4"]
[null,null,null,null,null,null,null,null,null,null,null,null,null,null,null,null,null,null,null,null,null,null,null,null,null,null,null,null,null,null,null,null,null,null,null,null,null,null,null,null,null,null,null,null,null,null,null,null,null,null,null,null,null,null,null,null,null,null,null,null,null,null,null,null,null,null,null,null,null,null,null,null,null,null,null,null,null,null,null,null,null,null,null,null,null,null,null,null,null,null,null,null,null,null,null,null,null,null,null,null,null,null,null,null,null,null,null,null,null,null,null,null,null,null,null,null,null,null,null,null,null,null,null,null,null,null,null,null,null,null,null,null,null,null,null,null,null,null,null,null,null,null,null,null,null,null,null,null,null,null,null,null,null,null,null,null,null,null,null,null,null,null,null,null,null,null,null,null,null,null,null,null,null,null,null,null,null,null,null,null,null,null,null,null,null,null,null,null,null,null,null,null,null,null,null,null,null,null,null,null,null,null,null,null,null,null,null,null,null,null,null,null,null,null,null,null,null,null,null,null,null,null,null,null,null,null,null,null,null,null,null,null,null,null,null,null,null,null,null,null,null,null,null,null,null,null,null,null,null,null,null,null,null,null,null,null,null,null,null,null,null,null,null,null,null,null,null,null,null,null,null,null,null,null,null,null,null,null,null,null,null,null,null,null,null,null,null,null,null,null,null,null,null,null,null,null,null,null,null,null,null,null,null,null,null,null,null,null,null,null,null,null,null,null,null,null,null,null,null,null,null,null,null,null,null,null,null,null,null,null,null,null,null,null,null,null,null,null,null,null,null,null,null,null,null,null,null,null,null,null,null,null,null,null,null,null,null,null,null,null,null,null,null,null,null,null,null,null,null,null,null,null,null,null,null,null,null,null,null,null,null,null,null,null,null,null,null,null,"فاصله نوشته ها",{"$f":"NV225","v":0.6},"h14",{"$f":"NZ656","v":-2.6812499999999999},{"$f":"OA656","v":28.024999999999999},{"$f":"NY656","v":"h10"}]
[null,null,null,null,null,null,null,null,null,null,null,null,null,null,null,null,null,null,null,null,null,null,null,null,null,null,null,null,null,null,null,null,null,null,null,null,null,null,null,null,null,null,null,null,null,null,null,null,null,null,null,null,null,null,null,null,null,null,null,null,null,null,null,null,null,null,null,null,null,null,null,null,null,null,null,null,null,null,null,null,null,null,null,null,null,null,null,null,null,null,null,null,null,null,null,null,null,null,null,null,null,null,null,null,null,null,null,null,null,null,null,null,null,null,null,null,null,null,null,null,null,null,null,null,null,null,null,null,null,null,null,null,null,null,null,null,null,null,null,null,null,null,null,null,null,null,null,null,null,null,null,null,null,null,null,null,null,null,null,null,null,null,null,null,null,null,null,null,null,null,null,null,null,null,null,null,null,null,null,null,null,null,null,null,null,null,null,null,null,null,null,null,null,null,null,null,null,null,null,null,null,null,null,null,null,null,null,null,null,null,null,null,null,null,null,null,null,null,null,null,null,null,null,null,null,null,null,null,null,null,null,null,null,null,null,null,null,null,null,null,null,null,null,null,null,null,null,null,null,null,null,null,null,null,null,null,null,null,null,null,null,null,null,null,null,null,null,null,null,null,null,null,null,null,null,null,null,null,null,null,null,null,null,null,null,null,null,null,null,null,null,null,null,null,null,null,null,null,null,null,null,null,null,null,null,null,null,null,null,null,null,null,null,null,null,null,null,null,null,null,null,null,null,null,null,null,null,null,null,null,null,null,null,null,null,null,null,null,null,null,null,null,null,null,null,null,null,null,null,null,null,null,null,null,null,null,null,null,null,null,null,null,null,null,null,null,null,null,null,null,null,null,null,null,null,null,null,null,null,null,null,null,null,null,null,null,null,null,"w44",{"$f":"NU277","v":2},{"$f":"NV277","v":27.5}]
[null,null,null,null,null,null,null,null,null,null,null,null,null,null,null,null,null,null,null,null,null,null,null,null,null,null,null,null,null,null,null,null,null,null,null,null,null,null,null,null,null,null,null,null,null,null,null,null,null,null,null,null,null,null,null,null,null,null,null,null,null,null,null,null,null,null,null,null,null,null,null,null,null,null,null,null,null,null,null,null,null,null,null,null,null,null,null,null,null,null,null,null,null,null,null,null,null,null,null,null,null,null,null,null,null,null,null,null,null,null,null,null,null,null,null,null,null,null,null,null,null,null,null,null,null,null,null,null,null,null,null,null,null,null,null,null,null,null,null,null,null,null,null,null,null,null,null,null,null,null,null,null,null,null,null,null,null,null,null,null,null,null,null,null,null,null,null,null,null,null,null,null,null,null,null,null,null,null,null,null,null,null,null,null,null,null,null,null,null,null,null,null,null,null,null,null,null,null,null,null,null,null,null,null,null,null,null,null,null,null,null,null,null,null,null,null,null,null,null,null,null,null,null,null,null,null,null,null,null,null,null,null,null,null,null,null,null,null,null,null,null,null,null,null,null,null,null,null,null,null,null,null,null,null,null,null,null,null,null,null,null,null,null,null,null,null,null,null,null,null,null,null,null,null,null,null,null,null,null,null,null,null,null,null,null,null,null,null,null,null,null,null,null,null,null,null,null,null,null,null,null,null,null,null,null,null,null,null,null,null,null,null,null,null,null,null,null,null,null,null,null,null,null,null,null,null,null,null,null,null,null,null,null,null,null,null,null,null,null,null,null,null,null,null,null,null,null,null,null,null,null,null,null,null,null,null,null,null,null,null,null,null,null,null,null,null,null,null,null,null,null,null,null,null,null,null,null,null,null,null,null,null,null,null,null,null,null,null,"h9",{"$f":"NZ651+0.5*NZ642","v":-0.31875000000000009},{"$f":"OA647","v":27.5}]
[]
[null,null,null,null,null,null,null,null,null,null,null,null,null,null,null,null,null,null,null,null,null,null,null,null,null,null,null,null,null,null,null,null,null,null,null,null,null,null,null,null,null,null,null,null,null,null,null,null,null,null,null,null,null,null,null,null,null,null,null,null,null,null,null,null,null,null,null,null,null,null,null,null,null,null,null,null,null,null,null,null,null,null,null,null,null,null,null,null,null,null,null,null,null,null,null,null,null,null,null,null,null,null,null,null,null,null,null,null,null,null,null,null,null,null,null,null,null,null,null,null,null,null,null,null,null,null,null,null,null,null,null,null,null,null,null,null,null,null,null,null,null,null,null,null,null,null,null,null,null,null,null,null,null,null,null,null,null,null,null,null,null,null,null,null,null,null,null,null,null,null,null,null,null,null,null,null,null,null,null,null,null,null,null,null,null,null,null,null,null,null,null,null,null,null,null,null,null,null,null,null,null,null,null,null,null,null,null,null,null,null,null,null,null,null,null,null,null,null,null,null,null,null,null,null,null,null,null,null,null,null,null,null,null,null,null,null,null,null,null,null,null,null,null,null,null,null,null,null,null,null,null,null,null,null,null,null,null,null,null,null,null,null,null,null,null,null,null,null,null,null,null,null,null,null,null,null,null,null,null,null,null,null,null,null,null,null,null,null,null,null,null,null,null,null,null,null,null,null,null,null,null,null,null,null,null,null,null,null,null,null,null,null,null,null,null,null,null,null,null,null,null,null,null,null,null,null,null,null,null,null,null,null,null,null,null,null,null,null,null,null,null,null,null,null,null,null,null,null,null,null,null,null,null,null,null,null,null,null,null,null,null,null,null,null,null,null,null,null,null,null,null,null,null,null,null,null,null,null,null,null,null,null,null,null,null,null,null,null,"پهنای نیم دایره",{"$f":"NV222","v":0.5},{"$f":"NV219","v":0.44999999999999996},{"$f":"NZ671","v":-5.5250000000000004},{"$f":"OA671","v":27.71},{"$f":"NY671","v":"g5"}]
[null,null,null,null,null,null,null,null,null,null,null,null,null,null,null,null,null,null,null,null,null,null,null,null,null,null,null,null,null,null,null,null,null,null,null,null,null,null,null,null,null,null,null,null,null,null,null,null,null,null,null,null,null,null,null,null,null,null,null,null,null,null,null,null,null,null,null,null,null,null,null,null,null,null,null,null,null,null,null,null,null,null,null,null,null,null,null,null,null,null,null,null,null,null,null,null,null,null,null,null,null,null,null,null,null,null,null,null,null,null,null,null,null,null,null,null,null,null,null,null,null,null,null,null,null,null,null,null,null,null,null,null,null,null,null,null,null,null,null,null,null,null,null,null,null,null,null,null,null,null,null,null,null,null,null,null,null,null,null,null,null,null,null,null,null,null,null,null,null,null,null,null,null,null,null,null,null,null,null,null,null,null,null,null,null,null,null,null,null,null,null,null,null,null,null,null,null,null,null,null,null,null,null,null,null,null,null,null,null,null,null,null,null,null,null,null,null,null,null,null,null,null,null,null,null,null,null,null,null,null,null,null,null,null,null,null,null,null,null,null,null,null,null,null,null,null,null,null,null,null,null,null,null,null,null,null,null,null,null,null,null,null,null,null,null,null,null,null,null,null,null,null,null,null,null,null,null,null,null,null,null,null,null,null,null,null,null,null,null,null,null,null,null,null,null,null,null,null,null,null,null,null,null,null,null,null,null,null,null,null,null,null,null,null,null,null,null,null,null,null,null,null,null,null,null,null,null,null,null,null,null,null,null,null,null,null,null,null,null,null,null,null,null,null,null,null,null,null,null,null,null,null,null,null,null,null,null,null,null,null,null,null,null,null,null,null,null,null,null,null,null,null,null,null,null,null,null,null,null,null,null,null,null,null,null,null,null,null,"g5",{"$f":"NZ667+0.7*(NZ670-NZ667)","v":-5.5250000000000004},{"$f":"OA667+0.28*(OA670-OA667)","v":27.71},{"$f":"NZ670","v":-5.75},{"$f":"OA670","v":28.25},{"$f":"NY670","v":"g4"}]
[null,null,null,null,null,null,null,null,null,null,null,null,null,null,null,null,null,null,null,null,null,null,null,null,null,null,null,null,null,null,null,null,null,null,null,null,null,null,null,null,null,null,null,null,null,null,null,null,null,null,null,null,null,null,null,null,null,null,null,null,null,null,null,null,null,null,null,null,null,null,null,null,null,null,null,null,null,null,null,null,null,null,null,null,null,null,null,null,null,null,null,null,null,null,null,null,null,null,null,null,null,null,null,null,null,null,null,null,null,null,null,null,null,null,null,null,null,null,null,null,null,null,null,null,null,null,null,null,null,null,null,null,null,null,null,null,null,null,null,null,null,null,null,null,null,null,null,null,null,null,null,null,null,null,null,null,null,null,null,null,null,null,null,null,null,null,null,null,null,null,null,null,null,null,null,null,null,null,null,null,null,null,null,null,null,null,null,null,null,null,null,null,null,null,null,null,null,null,null,null,null,null,null,null,null,null,null,null,null,null,null,null,null,null,null,null,null,null,null,null,null,null,null,null,null,null,null,null,null,null,null,null,null,null,null,null,null,null,null,null,null,null,null,null,null,null,null,null,null,null,null,null,null,null,null,null,null,null,null,null,null,null,null,null,null,null,null,null,null,null,null,null,null,null,null,null,null,null,null,null,null,null,null,null,null,null,null,null,null,null,null,null,null,null,null,null,null,null,null,null,null,null,null,null,null,null,null,null,null,null,null,null,null,null,null,null,null,null,null,null,null,null,null,null,null,null,null,null,null,null,null,null,null,null,null,null,null,null,null,null,null,null,null,null,null,null,null,null,null,null,null,null,null,null,null,null,null,null,null,null,null,null,null,null,null,null,null,null,null,null,null,null,null,null,null,null,null,null,null,null,null,null,null,null,null,null,null,null,null,null,null,{"$f":"NU279","v":-5},{"$f":"NV279","v":29},"w46"]
[null,null,null,null,null,null,{"$f":"AZ148-'متغیرها '!C51","v":4.8888099691822111},{"$f":"BA148-'متغیرها '!C52","v":68.090424684044606},30,null,{"$f":"G706","v":3.0555062307388816},{"$f":"H706","v":66.225575613175039},"m6",null,{"$f":"K682+H733","v":3.0555062307388816},{"$f":"L682+H734","v":66.225575613175039},"m6",null,null,{"$f":"AZ148-'متغیرها '!C51","v":4.8888099691822111},{"$f":"BA148-'متغیرها '!C52","v":68.090424684044606},30,null,{"$f":"T706","v":3.8523239324363883},{"$f":"U706","v":67.898871682325037},"m6",null,{"$f":"X682+U733","v":3.8523239324363883},{"$f":"Y682+U734","v":67.898871682325037},"m6",null,{"$f":"AZ148-'متغیرها '!C51","v":4.8888099691822111},{"$f":"BA148-'متغیرها '!C52","v":68.090424684044606},30,null,{"$f":"AF706","v":3.0555062307388816},{"$f":"AG706","v":66.190264643285815},"m6",null,{"$f":"AJ682+AG710","v":3.0555062307388816},{"$f":"AK682+AG711","v":66.190264643285815},"m6",null,null,{"$f":"AZ148-'متغیرها '!C51","v":4.8888099691822111},{"$f":"BA148-'متغیرها '!C52","v":68.090424684044606},30,null,{"$f":"AS707","v":4.3333007164976856},{"$f":"AT707","v":74.927488176035141},"m8",null,{"$f":"AW682+AS725","v":4.3333007164976856},{"$f":"AX682+AS726","v":74.927488176035141},"m8",null,{"$f":"BW108-'متغیرها '!C51","v":0},{"$f":"BX108-'متغیرها '!C52","v":64.452678350923691},26,null,{"$f":"BE688","v":1.5360081315062957},{"$f":"BF688","v":61.158698282949487},{"$f":"BG688","v":"m1"},null,{"$f":"BI682+BF702","v":1.5360081315062957},{"$f":"BJ682+BF703","v":61.158698282949487},"m1",null,null,null,null,null,{"$f":"AZ102-'متغیرها '!C51","v":0},{"$f":"BA102-'متغیرها '!C52","v":64.452678350923691},26,null,{"$f":"CE108-'متغیرها '!C53","v":0},{"$f":"CF108-'متغیرها '!C54","v":70.908453032971636},24,null,{"$f":"BY685","v":10.70819570101389},71.064327417203444,"bs2",null,{"$f":"J236-CH691","v":0},{"$f":"K236-CH692","v":55.2},"e1","از یقه انگلیسی",null,{"$f":"CG682","v":0},{"$f":"CH682","v":55.2},{"$f":"CI682","v":"e1"},null,{"$f":"CL685+CH700","v":4.3333007164976856},{"$f":"CM685+CH701","v":73.460000000000008},"g2",null,null,null,"(1 → 2)",{"$f":"0.08*CW686","v":0.29276182232167874},null,{"$f":"CW713","v":9.210054962053114},{"$f":"CW712","v":15.966671914802534},32,null,{"$f":"CV725+CW677","v":0},{"$f":"CW725+CW678","v":29.413405167896141},35,null,"c1 * c9",{"$f":"'متغیرها '!C748*DH679","v":1.4124387955688196},"قد پایه یقه",null,{"$f":"-(DG696-DG690)+DG690","v":-16.66238045813229},{"$f":"DH696","v":30.982292943948572},"قرینه7",null,"c1 * c9",{"$f":"'متغیرها '!C708*DP679","v":2.4717678922454347},"قد یقه فرنچی",null,{"$f":"-(DO696-DO690)+DO690","v":-16.706100869024194},{"$f":"DP696","v":30},"قرینه7",null,"c1 * c9",{"$f":"'متغیرها '!C699*DX679","v":3.5310969889220489},"قد برگردان یقه",null,{"$f":"-(DW713-DW700)+DW700","v":-6.4599973585064481},{"$f":"DX713","v":30.23391280638749},"قرینه18",null,"c1 * c9",{"$f":"'متغیرها '!C741*EF679","v":3.5310969889220489},"قد برگردان یقه",null,{"$f":"-(EE701-EE697)+EE697","v":-6.6172034882326702},{"$f":"EF701","v":29.628463532252578},"قرینه5",null,"(1 → 6)",{"$f":"EN680+0.65*(EN678-EN680)","v":12.375439999999999},null,null,{"$f":"EN678+'متغیرها '!C727","v":-14.908000000000001},{"$f":"EN684+'متغیرها '!C728","v":36.939915306394767},8,null,"(1 → 2)",{"$f":"0.5*0.5*H133","v":12.25},null,null,null,null,null,{"$f":"EX685+EY728","v":-25.415460089747814},{"$f":"EY685+EY729","v":45.230090012275909},11,null,"(1 → 3)",{"$f":"0.5*FG679+0.7*FG677","v":26.652844866369275},"عمود",null,{"$f":"FG681+'متغیرها '!C727","v":-10.596},{"$f":"FG687+'متغیرها '!C728","v":39.748315306394765},8,null,{"$f":"FN681","v":0.13785427397624161},{"$f":"FO681+1.6*'متغیرها '!C176","v":12.047923910400451},"29'",null,null,null,null,null,null,null,null,{"$f":"FQ692+FO729","v":5.6078781808945601},{"$f":"FR692+FO730","v":41.234783054007963},13,null,"(1 → 2)",{"$f":"GD694+(G264)/TAN(O232)","v":27.908960296752376},null,{"$f":"GD690","v":5.6078781808945601},{"$f":"GD693","v":11.234783054007966},13,null,{"$f":"GF681+GD719","v":2.653831912481591},{"$f":"GG681+GD720","v":41.263731531255445},9,null,{"$f":"GF712+GD719","v":-0.14779012463742053},{"$f":"GG712+GD720","v":42.05340964150421},"24''",null,null,null,null,null,null,null,null,null,null,null,null,null,null,null,null,null,null,null,null,null,null,null,null,null,null,null,null,null,null,null,null,null,null,null,null,null,null,null,null,null,null,null,null,null,null,null,null,null,null,null,null,null,null,null,null,null,null,null,null,null,null,null,null,null,null,null,null,null,null,null,null,null,null,null,null,null,null,null,null,null,null,null,null,null,null,null,null,null,null,null,null,null,null,null,null,null,null,null,null,null,null,null,null,null,null,null,null,null,null,null,null,null,null,null,null,null,null,null,null,null,null,null,null,null,null,null,null,null,null,null,null,null,null,null,null,null,null,null,null,null,null,null,null,null,null,null,null,null,null,null,null,null,null,null,null,null,null,null,null,null,null,null,null,null,null,null,null,null,null,null,null,null,null,null,null,null,null,null,null,null,null,null,null,null,null,null,null,null,null,"f2",{"$f":"NZ681-1*NZ679","v":-1.95},{"$f":"OA681-OA679*NZ679","v":28.774999999999999},{"$f":"NZ681","v":-1.5},{"$f":"OA681","v":29},{"$f":"NY681","v":"w48"}]
[null,null,null,null,null,null,"پایه",{"$f":"0","v":0},"c2",null,{"$f":"G683","v":0},{"$f":"H683","v":64.452678350923691},"26'",null,null,null,null,null,null,"پایه",{"$f":"'متغیرها '!C749","v":0.5},"c2",null,{"$f":"T683","v":0},{"$f":"U683","v":64.452678350923691},"26'",null,null,null,null,null,"پایه",{"$f":"0","v":0},"c2",null,{"$f":"AF683","v":0},{"$f":"AG683","v":64.452678350923691},"26'",null,null,null,null,null,null,null,{"$f":"'متغیرها '!C709","v":0},"c2",null,{"$f":"AS703","v":6.0090518614566872E-2},{"$f":"AT703","v":66.583655977418942},"m3",null,{"$f":"AW687+AS725","v":6.0090518614566872E-2},{"$f":"AX687+AS726","v":66.583655977418942},"m3",null,"نقاط  خروجی",null,null,null,{"$f":"BE682","v":0},{"$f":"BF682","v":64.452678350923691},{"$f":"BG682","v":26},null,{"$f":"BI687+BF702","v":0},{"$f":"BJ687+BF703","v":64.452678350923691},26,null,{"$f":"-BQ679","v":-6.1110124614777632},{"$f":"BR679","v":71.728171017165522},"25قرینه",null,null,null,null,null,{"$f":"BY682+0.4*(BY685-BY682)","v":4.2832782804055567},{"$f":"BZ682+0.17*(BZ685-BZ682)","v":70.934951678291043},"bs6",null,{"$f":"-BY686","v":-8.5665565608111134},{"$f":"BZ686","v":71.025358821145488},"قرینهbs4",null,{"$f":"AQ248-CH691","v":4.15724556617677},{"$f":"AR248-CH692","v":64.424496959833178},"d6","از پشت گردنی",null,{"$f":"CG680","v":5.2440000000000007},{"$f":"CH680","v":72},{"$f":"CI680","v":"25 شبیه ساز"},null,{"$f":"CL690+CH700","v":15.724428705502509},{"$f":"CM690+CH701","v":56.627575017602048},"b4",null,null,null,"(6 → 7)",{"$f":"CW694+CW680*COS(EY678)","v":9.5386169705595982},null,null,null,null,null,{"$f":"CW706+CW677","v":11.552925895934665},{"$f":"CW705+CW678","v":38.267216503096421},26,null,null,null,null,null,{"$f":"DG690","v":0},{"$f":"DH690","v":30},{"$f":"DI690","v":1},null,null,null,null,null,{"$f":"DO690","v":0},{"$f":"DP690","v":30},{"$f":"DQ690","v":1},null,"c3",{"$f":"'متغیرها '!C701","v":1},null,null,null,null,null,null,null,null,null,null,null,null,null,null,"(9 → 10)",{"$f":"EN698","v":3.6377463331209121},"عمود",null,{"$f":"EN690+'متغیرها '!C727","v":-28.329389913097582},{"$f":"0+'متغیرها '!C728","v":20},13,null,"(1 → 7)",{"$f":"0.5*H133","v":24.5},null,{"$f":"EV695","v":7.2492104162563686},{"$f":"EV694","v":28.213545459242916},15,null,{"$f":"EX690+EY728","v":-24.056978698025706},{"$f":"EY690+EY729","v":55.826242884819855},21,null,"(2 → 8)",{"$f":"0.7*(FG682-FG690)+FG690","v":19.748315306394765},"عمود",null,{"$f":"FG693+'متغیرها '!C727","v":-26.658779826195161},{"$f":"0+'متغیرها '!C728","v":20},13,null,null,null,null,{"$f":"FO712","v":14.873207756272572},{"$f":"FO713","v":9.8548277873598273},26,null,{"$f":"FQ687+FO729","v":14.873207756272572},{"$f":"FR687+FO730","v":39.854827787359824},26,null,{"$f":"FQ697+FO729","v":2.653831912481591},{"$f":"FR697+FO730","v":38.009961356571537},8,null,"(6 → 7)",{"$f":"GD684","v":7.0212541996733675},null,{"$f":"GD686","v":2.653831912481591},{"$f":"GD687","v":7.0212541996733675},7,null,{"$f":"GF686+GD719","v":0},{"$f":"GG686+GD720","v":37.021254199673365},4,null,{"$f":"GF717+GD719","v":5.6078781808945601},{"$f":"GG717+GD720","v":41.884783054007968},"13'",null,null,null,null,null,null,null,null,null,null,null,null,null,null,null,null,null,null,null,null,null,null,null,null,null,null,null,null,null,null,null,null,null,null,null,null,null,null,null,null,null,null,null,null,null,null,null,null,null,null,null,null,null,null,null,null,null,null,null,null,null,null,null,null,null,null,null,null,null,null,null,null,null,null,null,null,null,null,null,null,null,null,null,null,null,null,null,null,null,null,null,null,null,null,null,null,null,null,null,null,null,null,null,null,null,null,null,null,null,null,null,null,null,null,null,null,null,null,null,null,null,null,null,null,null,null,null,null,null,null,null,null,null,null,null,null,null,null,null,null,null,null,null,null,null,null,null,null,null,null,null,null,null,null,null,null,null,null,null,null,null,null,null,null,null,null,null,null,null,null,null,null,null,null,null,null,null,null,null,null,null,null,null,null,null,null,null,null,null,null,"پهنای نیم دایره",{"$f":"NV222","v":0.5},{"$f":"NV219","v":0.44999999999999996},{"$f":"NZ693","v":2.5249999999999999},{"$f":"OA693","v":29.21},{"$f":"NY693","v":"g5"}]
[null,null,null,null,null,null,"پایه",{"$f":"ATAN((H680-H684)/(G680-G684))","v":0.87216884847313769},"m7",null,null,null,null,null,null,null,null,null,null,"پایه",{"$f":"ATAN((U680-U684)/(T680-T684))","v":0.87216884847313769},"m7",null,null,null,null,null,null,null,null,null,"پایه",{"$f":"ATAN((AG680-AG684)/(AF680-AF684))","v":0.87216884847313769},"m7",null,null,null,null,null,null,null,null,null,null,null,{"$f":"ATAN((AT680-AT684)/(AS680-AS684))","v":0.87216884847313769},"m7",null,null,null,null,null,null,null,null,null,{"$f":"-BE688","v":-1.5360081315062957},{"$f":"BF688","v":61.158698282949487},"قرینه m1",null,-8.3367743386718907,66.491538734972579,"قرینهm6",null,{"$f":"BI692+BF702","v":-8.3367743386718907},{"$f":"BJ692+BF703","v":66.491538734972579},"قرینهm6",null,{"$f":"-BQ684","v":-2.4444049845911056},{"$f":"BR684","v":62.138171017165526},"قرینه49'",null,null,null,null,null,null,null,null,null,{"$f":"CC689","v":-11.3153285566821},{"$f":"BZ681","v":70.849252685781607},"قرینه سرشانه",null,null,{"$f":"'متغیرها '!C52","v":0},"شیفت عمودی",null,null,{"$f":"CG680","v":5.2440000000000007},{"$f":"CH680","v":72},{"$f":"CI680","v":"25 شبیه ساز"},null,null,null,"قرینه",null,null,null,"(11 → 12)",{"$f":"0.75*CW694","v":4.5845399102521851},null,{"$f":"CW685","v":6.9631903885085062},{"$f":"CW684","v":1.5369995671888135},5,null,{"$f":"0+CW677","v":0},{"$f":"CW688+CW678","v":33.047910040401447},8,null,{"$f":"DG690+0.4*DH680","v":2.653831912481591},{"$f":"DH690","v":30},3,null,{"$f":"DG696","v":16.66238045813229},{"$f":"DH696","v":30.982292943948572},{"$f":"DI696","v":7},null,{"$f":"DO690+0.4*DP680","v":2.653831912481591},{"$f":"DP690","v":30},3,null,{"$f":"DO696","v":16.706100869024194},{"$f":"DP696","v":30},{"$f":"DQ696","v":7},null,"c20",{"$f":"'متغیرها '!C698","v":0.8},null,null,{"$f":"EA690","v":-9.7519508113905857},{"$f":"EB690","v":27.841062719006793},"قرینه8",null,"c19",0.3,null,null,{"$f":"-(EE699-EE697)+EE697","v":-2.653831912481591},{"$f":"EF699","v":30},"قرینه 3",null,"(14 → 15)",{"$f":"0.35*EN694","v":0.63660560829615953},"عمود",null,{"$f":"EN686+'متغیرها '!C727","v":-17.318513670221378},{"$f":"EN687+'متغیرها '!C728","v":23.637746333120912},10,null,"(1 → 12)",{"$f":"EV687+AA147","v":26.325225030689779},null,{"$f":"EV684","v":24.5},{"$f":"EV683","v":1.0637917648643345},4,null,{"$f":"EX695+EY728","v":-11.095399103924699},{"$f":"EY695+EY729","v":53.509862371570733},25,null,"(11 → 12)",{"$f":"FG690+0.4*(FG687-FG690)","v":10.081973922430453},"عمود",null,{"$f":"FG689+'متغیرها '!C727","v":-13.977293496416539},{"$f":"FG690+'متغیرها '!C728","v":23.637746333120912},10,null,"(1 → 4)",{"$f":"GD695+SIN(O232)*(GC678+O235)-FS738*AA147","v":7.0212541996733675},null,{"$f":"FO698","v":5.6078781808945601},{"$f":"FO701","v":11.234783054007966},13,null,{"$f":"FQ699+FO729","v":7.3803059419423418},{"$f":"FR699+FO730","v":36.64081898383251},28,null,{"$f":"FQ702+FO729","v":8.5619244493075293},{"$f":"FR702+FO730","v":35.499911215329988},15,null,"(10 → 12)",{"$f":"GD691+(GD685-GD684)","v":7.4014241628341884},null,{"$f":"GD686","v":2.653831912481591},{"$f":"GD688","v":8.0099613565715408},8,null,{"$f":"GF691+GD719","v":0},{"$f":"GG691+GD720","v":38.009961356571537},5,null,{"$f":"GJ688","v":2.653831912481591},37.021254199673365,7,null,null,null,null,null,null,null,null,null,null,null,null,null,null,null,null,null,null,null,null,null,null,null,null,null,null,null,null,null,null,null,null,null,null,null,null,null,null,null,null,null,null,null,null,null,null,null,null,null,null,null,null,null,null,null,null,null,null,null,null,null,null,null,null,null,null,null,null,null,null,null,null,null,null,null,null,null,null,null,null,null,null,null,null,null,null,null,null,null,null,null,null,null,null,null,null,null,null,null,null,null,null,null,null,null,null,null,null,null,null,null,null,null,null,null,null,null,null,null,null,null,null,null,null,null,null,null,null,null,null,null,null,null,null,null,null,null,null,null,null,null,null,null,null,null,null,null,null,null,null,null,null,null,null,null,null,null,null,null,null,null,null,null,null,null,null,null,null,null,null,null,null,null,null,null,null,null,null,null,null,null,null,null,null,null,null,null,null,null,null,"g4",{"$f":"NZ689+NZ687*NZ686","v":2.75},{"$f":"OA689+0.5*NZ686","v":29.75},{"$f":"NZ696","v":2.3504113008211527},{"$f":"OA696","v":29.543048625304017},{"$f":"NY696","v":"g8"}]
[null,null,null,null,null,null,null,{"$f":"SQRT(POWER((G681-G682),2)+POWER((H681-H682),2))","v":3.8005739954038584},"m21",null,{"$f":"-G705","v":-5.377690966100432},{"$f":"H705","v":69.594080411452609},"قرینهm5",null,{"$f":"K698+H733","v":-5.377690966100432},{"$f":"L698+H734","v":69.594080411452609},"قرینهm5",null,null,null,{"$f":"SQRT(POWER((T681-T682),2)+POWER((U681-U682),2))","v":3.8005739954038584},"m21",null,{"$f":"-T705","v":-5.2154539392984942},{"$f":"U705","v":70.077894399288454},"قرینهm5",null,{"$f":"X698+U733","v":-5.2154539392984942},{"$f":"Y698+U734","v":70.077894399288454},"قرینهm5",null,null,{"$f":"SQRT(POWER((AF681-AF682),2)+POWER((AG681-AG682),2))","v":3.8005739954038584},"m21",null,{"$f":"-AF705","v":-5.377690966100432},{"$f":"AG705","v":69.491678598773873},"قرینهm5",null,{"$f":"AJ698+AG710","v":-5.377690966100432},{"$f":"AK698+AG711","v":69.491678598773873},"قرینهm5",null,null,null,{"$f":"SQRT(POWER((AS681-AS682),2)+POWER((AT681-AT682),2))","v":3.8005739954038584},"m21",null,null,null,null,null,null,null,null,null,{"$f":"-BE696","v":-1.3184825775796627},{"$f":"BF696","v":63.129257649767055},"قرینه m7",null,{"$f":"BE693","v":-9.5369095517011147},{"$f":"BF693","v":70.51455872509527},{"$f":"BG693","v":"قرینهm2"},null,{"$f":"BI698+BF702","v":-9.5369095517011147},{"$f":"BJ698+BF703","v":70.51455872509527},"قرینهm2",null,"نقاط  ورودی",null,null,null,"رسم",null,null,null,"مولفه افقی","مولفه عمودی","اسم نقطه ",null,{"$f":"BY706","v":9.5386169705595982},{"$f":"BZ706","v":71.520065771591163},{"$f":"CA706","v":"m4"},null,null,null,null,null,null,null,null,null,null,{"$f":"-CP684+CH702","v":-5.2440000000000007},{"$f":"CQ684","v":72},"25 شبیه ساز",null,null,null,"(17→ 18)",{"$f":"CW694+0.65*K144*SIN(EY679+EY678)-(1-0.75)*AA146*COS(EY679+EY678)","v":7.9022559794869114},null,{"$f":"CW690","v":2.7507239461513113},{"$f":"CW689","v":3.2304325434704286},10,null,{"$f":"CW700+CW677","v":7.4764693283119987},{"$f":"CW699+CW678","v":42.382730789452971},20,null,{"$f":"DG697+0.33*DH681*IF('متغیرها '!C750>=0,'متغیرها '!C750,1)*COS(DH683)","v":13.262569847147368},{"$f":"DH697+0.33*DH681*IF('متغیرها '!C750>=0,'متغیرها '!C750,1)*SIN(DH683)","v":30.573348095314181},9,null,{"$f":"-(DG695-DG690)+DG690","v":-6.598024633172562},{"$f":"DH695","v":31.511516036174967},"قرینه6",null,{"$f":"DO697+0.33*DP681*IF('متغیرها '!C710>=0,'متغیرها '!C710,1)*COS(DP683)","v":13.28178369916532},{"$f":"DP697+0.33*DP681*IF('متغیرها '!C710>=0,'متغیرها '!C710,1)*SIN(DP683)","v":30},9,null,{"$f":"-(DO695-DO690)+DO690","v":-6.6345797812039775},{"$f":"DP695","v":32.471767892245438},"قرینه6",null,"نقاط  خروجی ",null,null,null,{"$f":"DW707","v":9.7519508113905857},{"$f":"DX707","v":27.841062719006793},{"$f":"DY707","v":8},null,{"$f":"EE697","v":0},{"$f":"EF682+EF697","v":33.531096988922052},2,null,{"$f":"EE703","v":16.548869229359045},{"$f":"EF703","v":28.216024736683757},{"$f":"EG703","v":7},null,"(20 → 21)",{"$f":"0.5*FG677","v":3.6377463331209121},"عمود",null,{"$f":"0+'متغیرها '!C727","v":-30},{"$f":"0+'متغیرها '!C728","v":20},1,null,"(1 → 18)",{"$f":"EV692+0.92*K144*COS(EY679+EY678)+(1-0.4)*AA146*SIN(EY679+EY678)","v":33.834820749051516},null,{"$f":"EV682","v":12.25},0,2,null,{"$f":"EX701+EY728","v":-30},{"$f":"EY701+EY729","v":44.5},7,null,"(1 → 18)",{"$f":"FG696+0.5*(FG700-FG696)","v":10.346419790785177},null,null,{"$f":"FG689+'متغیرها '!C727","v":-13.977293496416539},{"$f":"FG690+'متغیرها '!C728","v":23.637746333120912},10,null,"(1 → 10)",{"$f":"FO694+0.5*(FO702-FO694)","v":5.6078781808945601},null,{"$f":"FO698","v":5.6078781808945601},{"$f":"FO700","v":7.4014241628341884},12,null,{"$f":"FQ705+FO729","v":14.330848676596695},{"$f":"FR705+FO730","v":37.516912769936582},23,null,{"$f":"FQ708+FO729","v":9.7161904917005586},{"$f":"FR708+FO730","v":35.171780291187908},19,null,"(17 → 21)",{"$f":"MIN(GD705,GD693)+0.4*ABS(GD693-GD705)*(GD704-GD697)/(GD704-GD690)","v":10.130818840689455},null,{"$f":"GD699","v":9.7161904917005586},{"$f":"GD700","v":5.1717802911879094},19,null,{"$f":"GJ690","v":8.5619244493075293},{"$f":"GK690","v":35.499911215329988},15,null,5.6078781808945601,37.401424162834189,12,null,null,null,null,null,null,null,null,null,null,null,null,null,null,null,null,null,null,null,null,null,null,null,null,null,null,null,null,null,null,null,null,null,null,null,null,null,null,null,null,null,null,null,null,null,null,null,null,null,null,null,null,null,null,null,null,null,null,null,null,null,null,null,null,null,null,null,null,null,null,null,null,null,null,null,null,null,null,null,null,null,null,null,null,null,null,null,null,null,null,null,null,null,null,null,null,null,null,null,null,null,null,null,null,null,null,null,null,null,null,null,null,null,null,null,null,null,null,null,null,null,null,null,null,null,null,null,null,null,null,null,null,null,null,null,null,null,null,null,null,null,null,null,null,null,null,null,null,null,null,null,null,null,null,null,null,null,null,null,null,null,null,null,null,null,null,null,null,null,null,null,null,null,null,null,null,null,null,null,null,null,null,null,null,null,null,null,null,null,null,null,null,null,{"$f":"NU282","v":2},{"$f":"NV282","v":30.5},"w49"]
[null,null,null,null,null,null,{"$f":"G708","v":0},{"$f":"H708","v":64.452678350923691},"m3",null,null,null,null,null,null,null,null,null,null,{"$f":"T702+0.65*U689*U691*SIN(RADIANS(15))*IF(U688=-1,1,U688)","v":0.21385614529590266},{"$f":"U702-0.65*U689*U691*COS(RADIANS(15))*IF(U688=-1,1,U688)","v":65.066995146737369},"m3",null,null,null,null,null,null,null,null,null,{"$f":"AF708","v":0},{"$f":"AG708","v":64.452678350923691},"m3",null,null,null,null,null,null,null,null,null,null,{"$f":"AS702+0.7*AT689*AT691*SIN(RADIANS(10))*(1.5*IF(AT688=-1,1,AT688)-0.5)","v":6.0090518614566872E-2},{"$f":"AT702-0.7*AT689*AT691*COS(RADIANS(10))*IF(AT688=-1,1,AT688)","v":66.583655977418942},"m3",null,{"$f":"-AS701","v":-6.1110124614777632},{"$f":"AT701","v":74.19993890941096},"قرینهm1",null,{"$f":"AW703+AS725","v":-6.1110124614777632},{"$f":"AX703+AS726","v":74.19993890941096},"قرینهm1",null,null,{"$f":"C101","v":0},"شیفت عمودی کل جلو",null,2.4444049845911056,65.180227617547871,28,null,{"$f":"BI703+BF702","v":2.4444049845911056},{"$f":"BJ703+BF703","v":65.180227617547871},28,null,null,{"$f":"'متغیرها '!B245","v":0.34045293430977369},"زاویه سرشانه با افق",null,8.5665565608111134,68.661415150633502,"bs4",null,null,{"$f":"CW680","v":3.6345048725053077},"پهنا یقه ب ب",null,{"$f":"BY705","v":0},{"$f":"BZ705","v":67.273948160466333},{"$f":"CA705","v":"m3"},null,null,null,null,null,null,null,null,null,null,{"$f":"-CP689+CH702","v":-5.2440000000000007},{"$f":"CQ689","v":72},"25 شبیه ساز",null,null,null,"(1 → 23)",{"$f":"CW686+0.3*(K144-CW680*SIN(EY679)+CW680)*COS(EY679+EY678)+(1-0.95)*(AA146+CW680*COS(EY679))*SIN(EY679+EY678)","v":6.219984920471008},null,0,{"$f":"CW693","v":4.8731350710912302},13,null,{"$f":"CW694+CW677","v":6.1127198803362468},{"$f":"CW693+CW678","v":34.873135071091227},14,null,null,null,null,null,{"$f":"DG701","v":9.916868429522685},{"$f":"DH701","v":31.68929634208212},{"$f":"DI701","v":13},null,null,null,null,null,{"$f":"DO701","v":9.9581817401846493},{"$f":"DP701","v":32.471767892245438},{"$f":"DQ701","v":13},null,{"$f":"DW702","v":2.653831912481591},{"$f":"DX701","v":33.531096988922052},4,null,null,null,null,null,{"$f":"EE705+IF(EF688>=0,EF692*EF688*EF681,EF692*EF681+EF686)*COS(EF684)","v":16.548869229359045},{"$f":"EF701+IF(EF688>=0,EF679*EF688*'متغیرها '!C742,'متغیرها '!C742*EF679)","v":28.216024736683757},7,null,{"$f":"EE702","v":6.9467725405320611},{"$f":"EF702","v":33.144146991402572},{"$f":"EG702","v":6},null,"(1 → 23)",{"$f":"EN705-0.65*(EN705-EN678)","v":15.431772939168306},null,null,null,null,null,null,"(22 → 23)",{"$f":"EV686+0.3*(EV705-EV686)","v":20.372991125199778},null,{"$f":"EX692","v":24.5},{"$f":"EY692","v":1.0637917648643345},4,null,null,null,"سرشانه",null,"(21 → 10)","وصل",null,null,-30,20,33,null,"(14 → 15)",{"$f":"G264","v":5.4999112153299867},null,{"$f":"FO707","v":9.7161904917005586},{"$f":"FO708","v":5.1717802911879094},19,null,null,null,null,null,null,null,"رسم انحنا پایه",null,"(22 → 23)",{"$f":"GD700+(O238-H232*H124)*SIN(RADIANS(90)-O233-2*O232)","v":7.5169127699365816},null,{"$f":"GF679","v":-0.14779012463742053},{"$f":"GG679","v":11.253409641504208},24,null,null,null,null,null,{"$f":"GJ699","v":9.7161904917005586},{"$f":"GK699","v":35.171780291187908},19,null,null,null,null,null,null,null,null,null,null,null,null,null,null,null,null,null,null,null,null,null,null,null,null,null,null,null,null,null,null,null,null,null,null,null,null,null,null,null,null,null,null,null,null,null,null,null,null,null,null,null,null,null,null,null,null,null,null,null,null,null,null,null,null,null,null,null,null,null,null,null,null,null,null,null,null,null,null,null,null,null,null,null,null,null,null,null,null,null,null,null,null,null,null,null,null,null,null,null,null,null,null,null,null,null,null,null,null,null,null,null,null,null,null,null,null,null,null,null,null,null,null,null,null,null,null,null,null,null,null,null,null,null,null,null,null,null,null,null,null,null,null,null,null,null,null,null,null,null,null,null,null,null,null,null,null,null,null,null,null,null,null,null,null,null,null,null,null,null,null,null,null,null,null,null,null,null,null,null,null,null,null,null,null,null,null,null,null,null,null,"w51",{"$f":"NU284","v":-16},{"$f":"NV284","v":30.5}]
[null,null,null,null,null,null,{"$f":"IF(H688=-1,G683,IF((1-H688)*H690<H697,G684+(1-H688)*H690*COS(H696),IF((1-H688)*H690<H697+H698,G681+((1-H688)*H690-H697)*COS(H694),G682+((1-H688)*H690-H697-H698)*COS(H695))))","v":0},{"$f":"IF(H688=-1,H683,IF(G708<G681,H684+(G708-G684)*TAN(H696),IF(G708<G682,H681+(G708-G681)*TAN(H694),H682+(G708-G682)*TAN(H695))))","v":64.452678350923691},"m9",null,{"$f":"G729","v":1.825412364296638},{"$f":"H729","v":60.825330288941487},"m12",null,{"$f":"K708+H733","v":1.825412364296638},{"$f":"L708+H734","v":60.825330288941487},"m12",null,null,{"$f":"IF(U688=-1,T683,IF((1-U688)*U690<U697,T684+(1-U688)*U690*COS(U696),IF((1-U688)*U690<U697+U698,T681+((1-U688)*U690-U697)*COS(U694),T682+((1-U688)*U690-U697-U698)*COS(U695))))","v":0},{"$f":"IF(U688=-1,U683,IF(T708<T681,U684+(T708-T684)*TAN(U696),IF(T708<T682,U681+(T708-T681)*TAN(U694),U682+(T708-T682)*TAN(U695))))","v":64.452678350923691},"m9",null,{"$f":"T729","v":3.4974183221377446},{"$f":"U729","v":63.049522223185278},"m12",null,{"$f":"X708+U733","v":3.4974183221377446},{"$f":"Y708+U734","v":63.049522223185278},"m12",null,{"$f":"IF(AG688=-1,AF683,IF((1-AG688)*AG690<AG697,AF684+(1-AG688)*AG690*COS(AG696),IF((1-AG688)*AG690<AG697+AG698,AF681+((1-AG688)*AG690-AG697)*COS(AG694),AF682+((1-AG688)*AG690-AG697-AG698)*COS(AG695))))","v":0},{"$f":"IF(AG688=-1,AG683,IF(AF708<AF681,AG684+(AF708-AF684)*TAN(AG696),IF(AF708<AF682,AG681+(AF708-AF681)*TAN(AG694),AG682+(AF708-AF682)*TAN(AG695))))","v":64.452678350923691},"m9",null,{"$f":"AF729","v":1.7888889132286565},{"$f":"AG729","v":60.807179658204042},"m12",null,{"$f":"AJ708+AG710","v":1.7888889132286565},{"$f":"AK708+AG711","v":60.807179658204042},"m12",null,null,{"$f":"IF(AT688=-1,AS683,IF((1-AT688)*AT690<AT697,AS684+(1-AT688)*AT690*COS(AT696),IF((1-AT688)*AT690<AT697+AT698,AS681+((1-AT688)*AT690-AT697)*COS(AT694),AS682+((1-AT688)*AT690-AT697-AT698)*COS(AT695))))","v":0},{"$f":"IF(AT688=-1,AT683,IF(AS708<AS681,AT684+(AS708-AS684)*TAN(AT696),IF(AS708<AS682,AT681+(AS708-AS681)*TAN(AT694),AT682+(AS708-AS682)*TAN(AT695))))","v":64.452678350923691},"m9",null,{"$f":"-AS708","v":0},{"$f":"AT708","v":64.452678350923691},"قرینهm9",null,{"$f":"AW708+AS725","v":0},{"$f":"AX708+AS726","v":64.452678350923691},"قرینهm9",null,null,null,null,null,null,null,"ب ب گرد",null,null,null,"ب ب گرد",null,null,null,null,null,{"$f":"-BQ705","v":-10.70819570101389},{"$f":"BR705","v":70.064327417203444},"قرینهbs2",null,{"$f":"BY705+0.5*(BY706-BY705)","v":4.7693084852797991},{"$f":"BZ705+0.15*(BZ706-BZ705)","v":67.910865802135064},"m10",null,{"$f":"BY710","v":-9.5386169705595982},{"$f":"BZ710","v":71.520065771591163},{"$f":"CA710","v":"قرینهm4"},null,null,null,null,null,null,null,null,null,null,null,null,null,null,null,null,"(27 → 28)",{"$f":"CW687+0.65*(K144-CW680*SIN(EY679)+CW680)*SIN(EY679+EY678)-(1-0.75)*(AA146+CW680*COS(EY679))*COS(EY679+EY678)","v":11.653234393782535},null,null,null,null,null,null,null,"مشترک",null,"c8",{"$f":"DP680","v":6.6345797812039775},"نصف نوار گردن از پشت برای یقه یاز شده",null,{"$f":"DG694","v":6.6333356030617825},30.099518696718061,5,null,null,null,null,null,{"$f":"DO694","v":6.6345797812039775},30,5,null,{"$f":"DW707+DX690*DX681*IF(DX687>=0,DX687,1)*COS(DX689)","v":13.14534219644916},{"$f":"DX707+DX690*DX681*IF(DX687>=0,DX687,1)*SIN(DX689)","v":26.886731438446876},9,null,{"$f":"DW710","v":17.068009866334808},{"$f":"DX710","v":31.058795640717701},15,null,null,null,null,null,null,null,null,null,"(27 →28)",{"$f":"EN698","v":3.6377463331209121},"عمود",null,{"$f":"EN707+'متغیرها '!C727+EN745","v":-7.5960000000000001},{"$f":"EN709+'متغیرها '!C728","v":56.387948211903741},29,null,"(1 → 28)",{"$f":"0.5*EV685","v":10.525320958443658},null,{"$f":"EV693","v":6.1127198803362468},{"$f":"EV692","v":26.325225030689779},13,null,{"$f":"EX711+EY728","v":-20.17068385015601},{"$f":"EY711+EY729","v":60.86230159657007},27,null,"مولفه افقی","مولفه عمودی","اسم نقطه ",null,null,null,null,null,"(18 → 19)",{"$f":"FO703-H235*H124*SIN(O232)","v":5.1717802911879094},null,{"$f":"FQ703","v":9.7161904917005586},{"$f":"FR703","v":5.1717802911879094},19,null,{"$f":"FQ715+FO729","v":4.3808837744647509},{"$f":"FR715+FO730","v":30.889836441208356},"p6",null,null,null,null,null,"γ11      ",{"$f":"'متغیرها '!C150","v":2},null,{"$f":"GF698+P227","v":13.534975310813378},{"$f":"GG698-P226","v":4.0861888020738633},"19'",null,{"$f":"GJ680","v":-0.14779012463742053},{"$f":"GK680","v":41.253409641504206},24,null,{"$f":"GJ704","v":14.330848676596695},{"$f":"GK704","v":37.516912769936582},23,null,null,null,null,null,null,null,null,null,null,null,null,null,null,null,null,null,null,null,null,null,null,null,null,null,null,null,null,null,null,null,null,null,null,null,null,null,null,null,null,null,null,null,null,null,null,null,null,null,null,null,null,null,null,null,null,null,null,null,null,null,null,null,null,null,null,null,null,null,null,null,null,null,null,null,null,null,null,null,null,null,null,null,null,null,null,null,null,null,null,null,null,null,null,null,null,null,null,null,null,null,null,null,null,null,null,null,null,null,null,null,null,null,null,null,null,null,null,null,null,null,null,null,null,null,null,null,null,null,null,null,null,null,null,null,null,null,null,null,null,null,null,null,null,null,null,null,null,null,null,null,null,null,null,null,null,null,null,null,null,null,null,null,null,null,null,null,null,null,null,null,null,null,null,null,null,null,null,null,null,null,null,null,null,null,null,null,null,null,null,"ارتفاع نیم دایره",{"$f":"NV221","v":1.5},"بزرگی فلش",{"$f":"NZ711","v":-18},{"$f":"OA711","v":30.5},{"$f":"NY711","v":"w50"}]
[null,null,null,null,null,null,null,null,null,null,null,null,null,null,null,null,null,null,null,null,null,null,null,null,null,null,null,null,null,null,null,null,null,null,null,null,null,null,null,null,null,null,null,null,null,null,null,null,null,null,null,null,null,null,null,null,null,null,null,null,{"$f":"BE689","v":9.5369095517011147},{"$f":"BF689","v":70.51455872509527},{"$f":"BG689","v":"m2"},null,{"$f":"BI709+BF702","v":9.5369095517011147},{"$f":"BJ709+BF703","v":70.51455872509527},"m2",null,null,null,null,null,{"$f":"-BQ701","v":-11.3153285566821},{"$f":"BR701","v":69.849252685781607},"قرینه سرشانه",null,{"$f":"-BY699","v":-6.1127198803362468},{"$f":"BZ699","v":72.733678063661415},"قرینه 23",null,{"$f":"BY709","v":-6.1127198803362468},{"$f":"BZ709","v":72.733678063661415},{"$f":"CA709","v":"قرینه 23"},null,null,null,null,null,"قرینه",{"$f":"-CG680","v":-5.2440000000000007},{"$f":"CH680","v":72},{"$f":"CI680","v":"25 شبیه ساز"},null,null,null,null,null,null,null,"مثلثی",null,null,0,{"$f":"CW697","v":9.5096207919783655},17,null,{"$f":"CV725+CW677","v":0},{"$f":"CW725+CW678","v":29.413405167896141},35,null,"c7",{"$f":"DP681","v":10.071521087820214},"نصف نوار گردن از جلو برای یقه باز شده",null,6.598024633172562,31.511516036174967,6,null,null,null,null,null,6.6345797812039775,32.471767892245438,6,null,{"$f":"DW706-DX682*SIN(DX684)","v":15.908731549205905},{"$f":"DX706+DX682*COS(DX684)","v":30.623243657383362},14,null,null,null,null,null,null,null,null,null,{"$f":"-(EE703-EE697)+EE697","v":-16.548869229359045},{"$f":"EF703","v":28.216024736683757},"قرینه7",null,"(27→29)",{"$f":"EN702+EN680","v":36.387948211903741},null,null,null,null,null,null,"(1 → 29)",{"$f":"0.12*EV685","v":2.5260770300264777},null,null,null,null,null,null,null,null,null,{"$f":"FJ686","v":-30},{"$f":"FK686","v":20},1,null,{"$f":"EQ728","v":-30},{"$f":"ER728","v":20},31,null,"(18 → 20)",{"$f":"FO708+(FO693-FO692)","v":6.1604874480860827},null,{"$f":"FQ705","v":14.330848676596695},{"$f":"FR705","v":7.5169127699365816},23,null,{"$f":"FQ716+FO729","v":7.0094140391436017},{"$f":"FR716+FO730","v":30.593224294138903},"p7",null,{"$f":"FQ719+FO729","v":0},{"$f":"FR719+FO730","v":30},"p1",null,"γ13      ",{"$f":"'متغیرها '!C152","v":0},null,{"$f":"GF699","v":14.330848676596695},{"$f":"GG699","v":7.5169127699365816},23,null,null,null,null,null,{"$f":"GJ705","v":14.873207756272572},{"$f":"GK705","v":39.854827787359824},26,null,null,null,null,null,null,null,null,null,null,null,null,null,null,null,null,null,null,null,null,null,null,null,null,null,null,null,null,null,null,null,null,null,null,null,null,null,null,null,null,null,null,null,null,null,null,null,null,null,null,null,null,null,null,null,null,null,null,null,null,null,null,null,null,null,null,null,null,null,null,null,null,null,null,null,null,null,null,null,null,null,null,null,null,null,null,null,null,null,null,null,null,null,null,null,null,null,null,null,null,null,null,null,null,null,null,null,null,null,null,null,null,null,null,null,null,null,null,null,null,null,null,null,null,null,null,null,null,null,null,null,null,null,null,null,null,null,null,null,null,null,null,null,null,null,null,null,null,null,null,null,null,null,null,null,null,null,null,null,null,null,null,null,null,null,null,null,null,null,null,null,null,null,null,null,null,null,null,null,null,null,null,null,null,null,null,null,null,null,null,"پهنای نیم دایره",{"$f":"NV222","v":0.5},{"$f":"NV219","v":0.44999999999999996},{"$f":"NZ715","v":-18.524999999999999},{"$f":"OA715","v":30.71},{"$f":"NY715","v":"g5"}]
[null,null,null,null,null,null,null,null,null,null,{"$f":"-G701","v":-6.1110124614777632},{"$f":"H701","v":73.317164662180446},"قرینهm1",null,{"$f":"K714+H733","v":-6.1110124614777632},{"$f":"L714+H734","v":73.317164662180446},"قرینهm1",null,null,null,null,null,null,{"$f":"-T701","v":-5.9266522037482892},{"$f":"U701","v":73.128526203037239},"قرینهm1",null,{"$f":"X714+U733","v":-5.9266522037482892},{"$f":"Y714+U734","v":73.128526203037239},"قرینهm1",null,null,null,null,null,{"$f":"-AF701","v":-6.1110124614777632},{"$f":"AG701","v":73.14060981273434},"قرینهm1",null,{"$f":"AJ714+AG710","v":-6.1110124614777632},{"$f":"AK714+AG711","v":73.14060981273434},"قرینهm1",null,null,{"$f":"AS685","v":0},{"$f":"AT685","v":33.775000000000006},"1'",null,{"$f":"AS683","v":0},{"$f":"AT683","v":64.452678350923691},"26'",null,{"$f":"AW714+AS725","v":0},{"$f":"AX714+AS726","v":64.452678350923691},"26'",null,null,null,null,null,{"$f":"BE682","v":0},{"$f":"BF682","v":64.452678350923691},{"$f":"BG682","v":26},null,{"$f":"BI714+BF702","v":0},{"$f":"BJ714+BF703","v":64.452678350923691},26,null,null,null,null,null,null,null,null,null,"شیفت افقی",{"$f":"C102","v":0},null,null,{"$f":"CG720","v":0},70.908453032971636,24,null,null,null,null,null,null,null,null,null,null,null,null,null,null,null,null,"(1 → 33)",{"$f":"CW680+G166+G163*SIN(EY678+EY679)+G165*COS(EY678+EY679)+CW680*COS(EY678+EY679)","v":16.323063471699527},null,null,null,null,null,{"$f":"CV726+CW677","v":3.8154467882238396},{"$f":"CW726+CW678","v":29.838016929008624},36,null,null,{"$f":"-AX147","v":0},"ضریب جادکمه*(v3*2+w2)",null,{"$f":"DG718","v":0},40,1,null,null,null,null,null,{"$f":"DO702","v":16.706100869024194},{"$f":"DP702","v":32.471767892245438},{"$f":"DQ702","v":14},null,{"$f":"DW700+'متغیرها '!C704","v":0},{"$f":"DX700+'متغیرها '!C705","v":25},19,null,{"$f":"EA704","v":-17.068009866334808},{"$f":"EB704","v":31.058795640717701},"قرینه15",null,null,null,null,null,null,null,null,null,"(31→ 32)",{"$f":"'متغیرها '!C721*FG677","v":0},"عمود",null,{"$f":"EN678+'متغیرها '!C727+EN745","v":-11.908000000000001},{"$f":"EN702+'متغیرها '!C728","v":49.057548211903743},22,null,"(21 → 27→ 25)","وصل",null,{"$f":"EX712","v":5.9430213019742952},{"$f":"EY712","v":35.826242884819855},21,null,{"$f":"EX715+EY728","v":-24.056978698025706},{"$f":"EY715+EY729","v":55.826242884819855},29,null,"b",{"$f":"EN734","v":0.4},null,null,-30,20,"32''",null,"(3 → 24')",{"$f":"(FO691-FO692)*SIN(RADIANS(FS734))*SIN(RADIANS(FS734))","v":5.1609448756200285E-3},null,{"$f":"FO724","v":0},{"$f":"FO717+FO725","v":0.98870715689817368},"p3",null,null,null,"برش",null,null,null," یفه دوبل",null,{"$f":"-GD707","v":-0.14779012463742053},{"$f":"GD683-GD706+1.6*'متغیرها '!C176","v":12.053409641504208},"24''",{"$f":"GC714","v":-0.14779012463742053},12.053409641504208,"24''",null,null,null,null,null,{"$f":"GJ713","v":13.534975310813378},{"$f":"GK713","v":34.086188802073863},"19'",null,null,null,null,null,null,null,null,null,null,null,null,null,null,null,null,null,null,null,null,null,null,null,null,null,null,null,null,null,null,null,null,null,null,null,null,null,null,null,null,null,null,null,null,null,null,null,null,null,null,null,null,null,null,null,null,null,null,null,null,null,null,null,null,null,null,null,null,null,null,null,null,null,null,null,null,null,null,null,null,null,null,null,null,null,null,null,null,null,null,null,null,null,null,null,null,null,null,null,null,null,null,null,null,null,null,null,null,null,null,null,null,null,null,null,null,null,null,null,null,null,null,null,null,null,null,null,null,null,null,null,null,null,null,null,null,null,null,null,null,null,null,null,null,null,null,null,null,null,null,null,null,null,null,null,null,null,null,null,null,null,null,null,null,null,null,null,null,null,null,null,null,null,null,null,null,null,null,null,null,null,null,null,null,null,null,null,null,null,null,"g4",{"$f":"NZ711-NZ709*NZ708","v":-18.75},{"$f":"OA711+0.5*NZ708","v":31.25},{"$f":"NZ718","v":-18.88441946886843},{"$f":"OA718","v":30.820545221950983},{"$f":"NY718","v":"g8"}]
[null,null,null,null,null,null,"برگردان",{"$f":"H699*'متغیرها '!C703","v":4.0607615372603565},"c9*c15",null,{"$f":"-G730","v":-6.5478906563344168},{"$f":"H730","v":71.424837301158036},"قرینهm14",null,{"$f":"K720+H733","v":-6.5478906563344168},{"$f":"L720+H734","v":71.424837301158036},"قرینهm14",null,null,"برگردان",{"$f":"DH679*'متغیرها '!C755","v":3.5310969889220489},"c9*c15",null,{"$f":"-T730","v":-7.1642918190462783},{"$f":"U730","v":69.633539745667235},"قرینهm14",null,{"$f":"X720+U733","v":-7.1642918190462783},{"$f":"Y720+U734","v":69.633539745667235},"قرینهm14",null,"برگردان",{"$f":"AG699*'متغیرها '!C745","v":4.0607615372603565},"c9*c15",null,{"$f":"-AF730","v":-6.4058726921211822},{"$f":"AG730","v":71.042570255278932},"قرینهm14",null,{"$f":"AJ720+AG710","v":-6.4058726921211822},{"$f":"AK720+AG711","v":71.042570255278932},"قرینهm14",null,null,null,null,null,null,4.8888099691822111,68.090424684044606,30,null,{"$f":"AW720+AS725","v":4.8888099691822111},{"$f":"AX720+AS726","v":68.090424684044606},30,null,null,null,null,null,{"$f":"BE698","v":-1.3184825775796627},{"$f":"BF698","v":63.129257649767055},{"$f":"BG698","v":"قرینه m7"},null,{"$f":"BI720+BF702","v":-1.3184825775796627},{"$f":"BJ720+BF703","v":63.129257649767055},"قرینه m7",null,null,null,null,null,null,null,null,null,null,null,null,null,{"$f":"BY699+BZ714","v":6.1127198803362468},{"$f":"BZ699+BZ715","v":72.733678063661415},{"$f":"CA699","v":23},null,{"$f":"BK138-'متغیرها '!C53","v":0},{"$f":"BL138-'متغیرها '!C54","v":70.908453032971636},24,null,null,null,null,null,null,null,null,null,null,null,null,"(31 →32)",{"$f":"CW702+0.6*(CW713-CW702)","v":7.9032414980215862},null,null,null,null,null,{"$f":"CW718+CW677","v":10.309485706331353},{"$f":"CW717+CW678","v":43.7538186403456},30,null,{"$f":"DG718+0.4*DH708","v":2.653831912481591},{"$f":"DH718","v":40},3,null,{"$f":"-(DG722-DG718)+DG718","v":-6.6321408259754584},{"$f":"DH722","v":39.86067382459472},"قرینه5",null,null,null,null,null,{"$f":"DS718","v":-16.706100869024194},{"$f":"DT718","v":32.471767892245438},{"$f":"DU718","v":"قرینه14"},null,null,null,null,null,{"$f":"-(DW717-DW714)+DW714","v":-5.2892078250408812},{"$f":"DX717","v":26.129951036455054},"قرینه22",null,null,null,null,null,null,null,null,null,"(1 →31→32→37)","وصل",null,null,{"$f":"-EN713+'متغیرها '!C727","v":-30},{"$f":"EN714+'متغیرها '!C728","v":20},32,null,null,null,null,{"$f":"EV725","v":11.767555904285871},{"$f":"EV724","v":43.015599833262975},17,null,{"$f":"EX717+EY728","v":-20.17068385015601},{"$f":"EY717+EY729","v":60.86230159657007},27,null,{"$f":"FF709+FG714*(FF711-FF709)","v":-26.205439999999999},{"$f":"FG718+0.3*(FG710-FG718)","v":31.727251741202483},40,null,{"$f":"FF718","v":-30},25.330568973273856,38,null,"(p1 → p5)",{"$f":"0.8*FO718","v":7.0094140391436017},null,{"$f":"FO718+FO724","v":8.7617675489295017},{"$f":"0+FO725","v":0},"p2",null,null,null,null,null,null,null,"پایه مستطیل",null,"شیفت عمودی یقه ",{"$f":"'متغیرها '!C715","v":30},null,null,null,null,null,null,null,null,null,null,null,null,null,null,null,null,null,null,null,null,null,null,null,null,null,null,null,null,null,null,null,null,null,null,null,null,null,null,null,null,null,null,null,null,null,null,null,null,null,null,null,null,null,null,null,null,null,null,null,null,null,null,null,null,null,null,null,null,null,null,null,null,null,null,null,null,null,null,null,null,null,null,null,null,null,null,null,null,null,null,null,null,null,null,null,null,null,null,null,null,null,null,null,null,null,null,null,null,null,null,null,null,null,null,null,null,null,null,null,null,null,null,null,null,null,null,null,null,null,null,null,null,null,null,null,null,null,null,null,null,null,null,null,null,null,null,null,null,null,null,null,null,null,null,null,null,null,null,null,null,null,null,null,null,null,null,null,null,null,null,null,null,null,null,null,null,null,null,null,null,null,null,null,null,null,null,null,null,null,null,null,null,null,null,null,null,null,null,null,null,null,null,null,null,"باکس نوشته",null,null,{"$f":"OA720","v":"باکس نوشته"}]
[null,null,null,null,null,null,null,{"$f":"ATAN((H730-H729)/(G730-G729))","v":1.1516595754982932},"m16",null,{"$f":"G684","v":0},{"$f":"H684","v":64.452678350923691},26,null,{"$f":"K725+H733","v":0},{"$f":"L725+H734","v":64.452678350923691},26,null,null,null,{"$f":"ATAN((U730-U729)/(T730-T729))","v":1.0626439072590079},"m16",null,{"$f":"T684","v":0},{"$f":"U684","v":64.452678350923691},26,null,{"$f":"X725+U733","v":0},{"$f":"Y725+U734","v":64.452678350923691},26,null,null,{"$f":"ATAN((AG730-AG729)/(AF730-AF729))","v":1.1470443272978477},"m16",null,{"$f":"AF684","v":0},{"$f":"AG684","v":64.452678350923691},26,null,{"$f":"AJ725+AG710","v":0},{"$f":"AK725+AG711","v":64.452678350923691},26,null,null,{"$f":"C100","v":0},"شیفت افقی کل جلو",null,null,-6.1110124614777632,71.728171017165522,"قرینه 25",null,{"$f":"AW725+AS725","v":-6.1110124614777632},{"$f":"AX725+AS726","v":71.728171017165522},"قرینه 25",null,null,null,null,null,null,null,null,null,null,null,null,null,null,null,null,null,null,null,null,null,null,null,null,null,{"$f":"BY708+BZ714","v":4.7693084852797991},{"$f":"BZ708+BZ715","v":67.910865802135064},"m10",null,null,null,null,null,null,null,null,null,null,null,null,null,null,null,null,{"$f":"DC692-CW677","v":0},{"$f":"DD692-CW680-CW678","v":-0.58659483210385943},35,{"$f":"CW708","v":11.653234393782535},{"$f":"CW707","v":10.434538728660209},28,null,null,null,null,null,{"$f":"DG722+0.33*DH715*COS(0.6*DH711)","v":9.5139146828221381},{"$f":"DH722+0.33*DH715*SIN(0.6*DH711)","v":39.613008953573036},8,null,{"$f":"DG725","v":9.5139146828221381},39.613008953573036,8,null,null,null,null,null,null,null,null,null,null,null,null,null,{"$f":"DW715","v":0},{"$f":"DX715","v":26.412438795568818},20,null,null,null,null,null,null,null,null,null,"نقاط  ورودی ",null,null,null,{"$f":"0+'متغیرها '!C727","v":-30},{"$f":"0+'متغیرها '!C728","v":20},1,null,"(16 → 17)",{"$f":"EV693+(K114-(1-'متغیرها '!C736)*H124)*SIN(EY678+EY679)-('متغیرها '!C66*(2*H129+H130)+AA146)*COS(EY678+EY679)","v":11.767555904285871},null,null,null,null,null,{"$f":"FB723","v":-18.232444095714129},{"$f":"FC723","v":63.015599833262975},17,null,null,null,null,null,null,null,null,null,"شیفت عمودی پایه",{"$f":"'متغیرها '!C180","v":0},null,{"$f":"FQ708","v":9.7161904917005586},{"$f":"FR708","v":5.1717802911879094},19,null,{"$f":"FQ697+FO729","v":2.653831912481591},{"$f":"FR697+FO730","v":38.009961356571537},8,null,null,null,null,null,null,null,null,null,null,null,null,null,null,null,null,null,null,null,null,null,null,null,null,null,null,null,null,null,null,null,null,null,null,null,null,null,null,null,null,null,null,null,null,null,null,null,null,null,null,null,null,null,null,null,null,null,null,null,null,null,null,null,null,null,null,null,null,null,null,null,null,null,null,null,null,null,null,null,null,null,null,null,null,null,null,null,null,null,null,null,null,null,null,null,null,null,null,null,null,null,null,null,null,null,null,null,null,null,null,null,null,null,null,null,null,null,null,null,null,null,null,null,null,null,null,null,null,null,null,null,null,null,null,null,null,null,null,null,null,null,null,null,null,null,null,null,null,null,null,null,null,null,null,null,null,null,null,null,null,null,null,null,null,null,null,null,null,null,null,null,null,null,null,null,null,null,null,null,null,null,null,null,null,null,null,null,null,null,null,null,null,null,null,null,null,null,null,null,null,null,null,null,null,null,null,null,null,null,"جابجایی نوشته ها",{"$f":"0*NV226","v":0},"h15",{"$f":"NZ737","v":-15.512499999999999},{"$f":"OA737","v":31.475000000000001},{"$f":"NY737","v":"h11"}]
[null,null,null,null,null,null,{"$f":"G701+H719*SIN(H693+H724)","v":6.5478906563344168},{"$f":"H701-H719*COS(H693+H724)","v":71.424837301158036},"m14",null,{"$f":"-G683","v":0},{"$f":"H683","v":64.452678350923691},"قرینه 26'",null,{"$f":"K730+H733","v":0},{"$f":"L730+H734","v":64.452678350923691},"قرینه 26'",null,null,{"$f":"T701+U719*SIN(U693+U724)","v":7.1642918190462783},{"$f":"U701-U719*COS(U693+U724)","v":69.633539745667235},"m14",null,{"$f":"-T683","v":0},{"$f":"U683","v":64.452678350923691},"قرینه 26'",null,{"$f":"X730+U733","v":0},{"$f":"Y730+U734","v":64.452678350923691},"قرینه 26'",null,{"$f":"AF701+AG719*SIN(AG693+AG724)","v":6.4058726921211822},{"$f":"AG701-AG719*COS(AG693+AG724)","v":71.042570255278932},"m14",null,{"$f":"-AF683","v":0},{"$f":"AG683","v":64.452678350923691},"قرینه 26'",null,{"$f":"AJ730+AG710","v":0},{"$f":"AK730+AG711","v":64.452678350923691},"قرینه 26'",null,null,null,null,null,null,null,null,null,null,null,null,null,null,null,null,null,null,null,null,null,null,null,null,null,null,null,null,null,null,null,null,null,null,null,null,null,null,null,null,null,null,null,null,null,null,null,null,null,null,null,null,null,null,null,null,null,null,null,null,0,{"$f":"CW717","v":13.753818640345603},29,null,null,null,null,null,null,null,null,null,{"$f":"-(DG723-DG718)+DG718","v":-6.7619086403183433},{"$f":"DH723","v":43.566054030311186},"قرینه6",null,null,null,null,null,null,null,null,null,null,null,null,null,null,null,null,null,null,null,null,null,null,null,null,null,{"$f":"EQ710","v":-7.5960000000000001},{"$f":"ER710","v":56.387948211903741},29,null,null,null,null,null,"(1 → 26)",{"$f":"EV726+(G165+EV721-K144)*COS(EY678+EY679)","v":46.534354562964644},null,null,null,null,null,null,null,null,null,null,null,null,null,null,null,null,null,"شیفت عمودی یقه ",{"$f":"'متغیرها '!C715","v":30},null,null,null,null,null,{"$f":"FN741+FO729","v":0},{"$f":"FO741+FO730","v":30.988707156898172},"p10",null,{"$f":"FN744+FO729","v":11.247579502068049},{"$f":"FO744+FO730","v":28.999098672869462},"p13",null,null,null,null,null,null,null,null,null,null,null,null,null,null,null,null,null,null,null,null,null,null,null,null,null,null,null,null,null,null,null,null,null,null,null,null,null,null,null,null,null,null,null,null,null,null,null,null,null,null,null,null,null,null,null,null,null,null,null,null,null,null,null,null,null,null,null,null,null,null,null,null,null,null,null,null,null,null,null,null,null,null,null,null,null,null,null,null,null,null,null,null,null,null,null,null,null,null,null,null,null,null,null,null,null,null,null,null,null,null,null,null,null,null,null,null,null,null,null,null,null,null,null,null,null,null,null,null,null,null,null,null,null,null,null,null,null,null,null,null,null,null,null,null,null,null,null,null,null,null,null,null,null,null,null,null,null,null,null,null,null,null,null,null,null,null,null,null,null,null,null,null,null,null,null,null,null,null,null,null,null,null,null,null,null,null,null,null,null,null,null,null,null,null,null,null,null,null,null,null,null,null,null,null,null,"نقاط خروجی","مولفه افقی","مولفه عمودی",{"$f":"NZ737","v":-15.512499999999999},{"$f":"OA737","v":31.475000000000001},{"$f":"NY737","v":"h11"}]
[null,null,null,null,null,null,null,null,null,null,-2.4444049845911056,65.180227617547871,"قرینه 28",null,{"$f":"K736+H733","v":-2.4444049845911056},{"$f":"L736+H734","v":65.180227617547871},"قرینه 28",null,null,null,null,null,null,-2.4444049845911056,65.180227617547871,"قرینه 28",null,{"$f":"X736+U733","v":-2.4444049845911056},{"$f":"Y736+U734","v":65.180227617547871},"قرینه 28",null,null,null,null,null,-2.4444049845911056,65.180227617547871,"قرینه 28",null,{"$f":"AJ736+AG710","v":-2.4444049845911056},{"$f":"AK736+AG711","v":65.180227617547871},"قرینه 28",null,null,null,null,null,null,null,null,null,null,null,null,null,null,null,null,null,null,null,null,null,null,null,null,null,null,null,null,null,null,null,null,null,null,null,null,null,null,{"$f":"CG719+BZ714","v":2.4450879521344988},{"$f":"CH719+BZ715","v":71.090975536040617},26,null,null,null,null,null,null,null,null,null,null,null,null,null,null,null,null,null,null,null,null,null,null,null,null,null,null,null,null,null,null,null,null,null,null,null,null,null,null,null,null,null,null,null,null,null,null,null,null,null,null,null,null,null,null,null,null,null,null,null,"نقاط  خروجی ",null,null,null,{"$f":"-EN718+'متغیرها '!C727","v":-30},{"$f":"0+'متغیرها '!C728","v":20},36,null,null,null,null,null,null,null,null,null,null,null,null,null,null,null,null,null,null,null,null,"(p9→p13)",{"$f":"SQRT(POWER((GF698-GF699),2)+POWER((GG698-GG699),2))*(1-FS742)","v":1.5529083957426375},null,null,"γ13",{"$f":"'متغیرها '!C152","v":0},null,{"$f":"FN742+FO729","v":3.4348771925180923},{"$f":"FO742+FO730","v":30},"p11",null,{"$f":"FN741+FO729","v":0},{"$f":"FO741+FO730","v":30.988707156898172},"p10",null,null,null,null,null,null,null,null,null,null,null,null,null,null,null,null,null,null,null,null,null,null,null,null,null,null,null,null,null,null,null,null,null,null,null,null,null,null,null,null,null,null,null,null,null,null,null,null,null,null,null,null,null,null,null,null,null,null,null,null,null,null,null,null,null,null,null,null,null,null,null,null,null,null,null,null,null,null,null,null,null,null,null,null,null,null,null,null,null,null,null,null,null,null,null,null,null,null,null,null,null,null,null,null,null,null,null,null,null,null,null,null,null,null,null,null,null,null,null,null,null,null,null,null,null,null,null,null,null,null,null,null,null,null,null,null,null,null,null,null,null,null,null,null,null,null,null,null,null,null,null,null,null,null,null,null,null,null,null,null,null,null,null,null,null,null,null,null,null,null,null,null,null,null,null,null,null,null,null,null,null,null,null,null,null,null,null,null,null,null,null,null,null,null,null,null,null,null,null,null,null,null,null,null,null,"h10",{"$f":"NZ734","v":-15.512499999999999},{"$f":"OA734+0.5*NZ723","v":32.524999999999999},{"$f":"NZ735","v":-13.487500000000001},{"$f":"OA735","v":32},{"$f":"NY735","v":"h9"}]
[null,null,null,null,null,null,null,null,null,null,null,null,null,null,null,null,null,null,null,null,null,null,null,null,null,null,null,null,null,null,null,null,null,null,null,null,null,null,null,null,null,null,null,null,null,null,null,null,null,null,null,null,null,null,null,null,null,null,null,null,null,null,null,null,null,null,null,null,null,null,null,null,null,null,null,null,null,null,null,null,null,null,null,null,null,null,null,null,null,null,null,null,null,null,null,null,null,null,null,null,null,null,null,null,null,null,null,null,null,null,null,null,null,null,{"$f":"DK729","v":-16.282880121821663},{"$f":"DL729","v":42.016515851143566},"قرینه15",null,null,null,null,null,null,null,null,null,null,null,null,null,null,null,null,null,null,null,null,null,null,null,null,null,{"$f":"EM727+EN735*(EM729-EM727)","v":-27.800879999999999},{"$f":"EN728+(EM741-EM728)*(EN729-EN728)/(EM729-EM728)","v":42.737864866369279},41,null,-27.06784,29.961971741202483,40,null,null,null,null,null,null,null,null,null,null,null,null,null,null,null,null,null,null,null,null,{"$f":"FN739","v":0},{"$f":"FO739+FO733","v":0.98870715689817368},"p10",null,"γ18",{"$f":"'متغیرها '!C157","v":-15},null,{"$f":"FN744+FO729","v":11.247579502068049},{"$f":"FO744+FO730","v":28.999098672869462},"p13",null,null,null,null,null,null,null,null,null,null,null,null,null,null,null,null,null,null,null,null,null,null,null,null,null,null,null,null,null,null,null,null,null,null,null,null,null,null,null,null,null,null,null,null,null,null,null,null,null,null,null,null,null,null,null,null,null,null,null,null,null,null,null,null,null,null,null,null,null,null,null,null,null,null,null,null,null,null,null,null,null,null,null,null,null,null,null,null,null,null,null,null,null,null,null,null,null,null,null,null,null,null,null,null,null,null,null,null,null,null,null,null,null,null,null,null,null,null,null,null,null,null,null,null,null,null,null,null,null,null,null,null,null,null,null,null,null,null,null,null,null,null,null,null,null,null,null,null,null,null,null,null,null,null,null,null,null,null,null,null,null,null,null,null,null,null,null,null,null,null,null,null,null,null,null,null,null,null,null,null,null,null,null,null,null,null,null,null,null,null,null,null,null,null,null,null,null,null,null,null,null,null,null,null,null,null,null,null,null,null,null,null,{"$f":"NZ733","v":-15.1},{"$f":"OA733","v":32},{"$f":"NY733","v":"h7"}]
[null,null,null,null,null,null,null,null,null,null,null,null,null,null,null,null,null,null,null,null,null,null,null,null,null,null,null,null,null,null,null,null,null,null,null,null,null,null,null,null,null,null,null,null,null,null,null,null,null,null,null,null,null,null,null,null,null,null,null,null,null,null,null,null,null,null,null,null,null,null,null,null,null,null,null,null,null,null,null,null,null,null,null,null,null,null,null,null,null,null,null,null,null,null,null,null,null,null,null,null,null,null,null,null,null,null,null,null,null,null,null,null,null,null,null,null,null,null,null,null,null,null,null,null,null,null,null,null,null,null,null,null,null,null,null,null,null,null,null,null,null,null,null,null,null,null,null,null,null,null,null,null,null,null,null,null,null,null,null,null,null,null,null,null,null,null,null,null,null,null,null,null,null,null,null,null,null,null,null,null,null,null,null,null,null,null,null,null,null,null,null,null,null,null,null,null,null,null,null,null,null,null,null,null,null,null,null,null,null,null,null,null,null,null,null,null,null,null,null,null,null,null,null,null,null,null,null,null,null,null,null,null,null,null,null,null,null,null,null,null,null,null,null,null,null,null,null,null,null,null,null,null,null,null,null,null,null,null,null,null,null,null,null,null,null,null,null,null,null,null,null,null,null,null,null,null,null,null,null,null,null,null,null,null,null,null,null,null,null,null,null,null,null,null,null,null,null,null,null,null,null,null,null,null,null,null,null,null,null,null,null,null,null,null,null,null,null,null,null,null,null,null,null,null,null,null,null,null,null,null,null,null,null,null,null,null,null,null,null,null,null,null,null,null,null,null,null,null,null,null,null,null,null,null,null,null,null,null,null,null,null,null,null,null,null,null,null,null,null,null,null,null,null,null,null,null,null,null,null,null,null,null,null,null,null,null,null,null,"نقطه شروع انحنا","مولفه افقی","مولفه عمودی",{"$f":"NZ750","v":-10.25},{"$f":"OA750","v":32.75},{"$f":"NY750","v":"g4"}]
[null,null,null,null,null,null,null,null,null,null,null,null,null,null,null,null,null,null,null,null,null,null,null,null,null,null,null,null,null,null,null,null,null,null,null,null,null,null,null,null,null,null,null,null,null,null,null,null,null,null,null,null,null,null,null,null,null,null,null,null,null,null,null,null,null,null,null,null,null,null,null,null,null,null,null,null,null,null,null,null,null,null,null,null,null,null,null,null,null,null,null,null,null,null,null,null,null,null,null,null,null,null,null,null,null,null,null,null,null,null,null,null,null,null,null,null,null,null,null,null,null,null,null,null,null,null,null,null,null,null,null,null,null,null,null,null,null,null,null,null,null,null,null,null,null,null,null,null,null,null,null,null,null,null,null,null,null,null,null,null,null,null,null,null,null,null,null,null,null,null,null,null,null,null,null,null,null,null,null,null,null,null,null,null,null,null,null,null,null,null,null,null,null,null,null,null,null,null,null,null,null,null,null,null,null,null,null,null,null,null,null,null,null,null,null,null,null,null,null,null,null,null,null,null,null,null,null,null,null,null,null,null,null,null,null,null,null,null,null,null,null,null,null,null,null,null,null,null,null,null,null,null,null,null,null,null,null,null,null,null,null,null,null,null,null,null,null,null,null,null,null,null,null,null,null,null,null,null,null,null,null,null,null,null,null,null,null,null,null,null,null,null,null,null,null,null,null,null,null,null,null,null,null,null,null,null,null,null,null,null,null,null,null,null,null,null,null,null,null,null,null,null,null,null,null,null,null,null,null,null,null,null,null,null,null,null,null,null,null,null,null,null,null,null,null,null,null,null,null,null,null,null,null,null,null,null,null,null,null,null,null,null,null,null,null,null,null,null,null,null,null,null,null,null,null,null,null,null,null,null,null,null,null,null,null,null,null,null,"g6",{"$f":"NZ751","v":-10.475},{"$f":"OA749-OA751+OA747","v":33.29}]
[]
[null,null,null,null,null,null,null,null,null,null,null,null,null,null,null,null,null,null,null,null,null,null,null,null,null,null,null,null,null,null,null,null,null,null,null,null,null,null,null,null,null,null,null,null,null,null,null,null,null,null,null,null,null,null,null,null,null,null,null,null,null,null,null,null,null,null,null,null,null,null,null,null,null,null,null,null,null,null,null,null,null,null,null,null,null,null,null,null,null,null,null,null,null,null,null,null,null,null,null,null,null,null,null,null,null,null,null,null,null,null,null,null,null,null,null,null,null,null,null,null,null,null,null,null,null,null,null,null,null,null,null,null,null,null,null,null,null,null,null,null,null,null,null,null,null,null,null,null,null,null,null,null,null,null,null,null,null,null,null,null,null,null,null,null,null,null,null,null,null,null,null,null,null,null,null,null,null,null,null,null,null,null,null,null,null,null,null,null,null,null,null,null,null,null,null,null,null,null,null,null,null,null,null,null,null,null,null,null,null,null,null,null,null,null,null,null,null,null,null,null,null,null,null,null,null,null,null,null,null,null,null,null,null,null,null,null,null,null,null,null,null,null,null,null,null,null,null,null,null,null,null,null,null,null,null,null,null,null,null,null,null,null,null,null,null,null,null,null,null,null,null,null,null,null,null,null,null,null,null,null,null,null,null,null,null,null,null,null,null,null,null,null,null,null,null,null,null,null,null,null,null,null,null,null,null,null,null,null,null,null,null,null,null,null,null,null,null,null,null,null,null,null,null,null,null,null,null,null,null,null,null,null,null,null,null,null,null,null,null,null,null,null,null,null,null,null,null,null,null,null,null,null,null,null,null,null,null,null,null,null,null,null,null,null,null,null,null,null,null,null,null,null,null,null,null,null,null,null,null,null,null,null,null,null,null,null,null,null,null,null,null,{"$f":"NU287","v":-11},{"$f":"NV287","v":33.5},"w54"]
[null,null,null,null,null,null,null,null,null,null,null,null,null,null,null,null,null,null,null,null,null,null,null,null,null,null,null,null,null,null,null,null,null,null,null,null,null,null,null,null,null,null,null,null,null,null,null,null,null,null,null,null,null,null,null,null,null,null,null,null,null,null,null,null,null,null,null,null,null,null,null,null,null,null,null,null,null,null,null,null,null,null,null,null,null,null,null,null,null,null,null,null,null,null,null,null,null,null,null,null,null,null,null,null,null,null,null,null,null,null,null,null,null,null,null,null,null,null,null,null,null,null,null,null,null,null,null,null,null,null,null,null,null,null,null,null,null,null,null,null,null,null,null,null,null,null,null,null,null,null,null,null,null,null,null,null,null,null,null,null,null,null,null,null,null,null,null,null,null,null,null,null,null,null,null,null,null,null,null,null,null,null,null,null,null,null,null,null,null,null,null,null,null,null,null,null,null,null,null,null,null,null,null,null,null,null,null,null,null,null,null,null,null,null,null,null,null,null,null,null,null,null,null,null,null,null,null,null,null,null,null,null,null,null,null,null,null,null,null,null,null,null,null,null,null,null,null,null,null,null,null,null,null,null,null,null,null,null,null,null,null,null,null,null,null,null,null,null,null,null,null,null,null,null,null,null,null,null,null,null,null,null,null,null,null,null,null,null,null,null,null,null,null,null,null,null,null,null,null,null,null,null,null,null,null,null,null,null,null,null,null,null,null,null,null,null,null,null,null,null,null,null,null,null,null,null,null,null,null,null,null,null,null,null,null,null,null,null,null,null,null,null,null,null,null,null,null,null,null,null,null,null,null,null,null,null,null,null,null,null,null,null,null,null,null,null,null,null,null,null,null,null,null,null,null,null,null,null,null,null,null,null,null,null,null,null,null,null,null,null,null,{"$f":"NU288","v":-18},{"$f":"NV288","v":33.5},"w55"]
[null,null,null,null,null,null,null,null,null,null,null,null,null,null,null,null,null,null,null,null,null,null,null,null,null,null,null,null,null,null,null,null,null,null,null,null,null,null,null,null,null,null,null,null,null,null,null,null,null,null,null,null,null,null,null,null,null,null,null,null,null,null,null,null,null,null,null,null,null,null,null,null,null,null,null,null,null,null,null,null,null,null,null,null,null,null,null,null,null,null,null,null,null,null,null,null,null,null,null,null,null,null,null,null,null,null,null,null,null,null,null,null,null,null,null,null,null,null,null,null,null,null,null,null,null,null,null,null,null,null,null,null,null,null,null,null,null,null,null,null,null,null,null,null,null,null,null,null,null,null,null,null,null,null,null,null,null,null,null,null,null,null,null,null,null,null,null,null,null,null,null,null,null,null,null,null,null,null,null,null,null,null,null,null,null,null,null,null,null,null,null,null,null,null,null,null,null,null,null,null,null,null,null,null,null,null,null,null,null,null,null,null,null,null,null,null,null,null,null,null,null,null,null,null,null,null,null,null,null,null,null,null,null,null,null,null,null,null,null,null,null,null,null,null,null,null,null,null,null,null,null,null,null,null,null,null,null,null,null,null,null,null,null,null,null,null,null,null,null,null,null,null,null,null,null,null,null,null,null,null,null,null,null,null,null,null,null,null,null,null,null,null,null,null,null,null,null,null,null,null,null,null,null,null,null,null,null,null,null,null,null,null,null,null,null,null,null,null,null,null,null,null,null,null,null,null,null,null,null,null,null,null,null,null,null,null,null,null,null,null,null,null,null,null,null,null,null,null,null,null,null,null,null,null,null,null,null,null,null,null,null,null,null,null,null,null,null,null,null,null,null,null,null,null,null,null,null,null,null,null,null,null,null,null,null,null,null,null,null,null,"فلش به سمت چپ",null,null,{"$f":"OA758","v":"فلش به سمت چپ"}]
[null,null,null,null,null,null,null,null,null,null,null,null,null,null,null,null,null,null,null,null,null,null,null,null,null,null,null,null,null,null,null,null,null,null,null,null,null,null,null,null,null,null,null,null,null,null,null,null,null,null,null,null,null,null,null,null,null,null,null,null,null,null,null,null,null,null,null,null,null,null,null,null,null,null,null,null,null,null,null,null,null,null,null,null,null,null,null,null,null,null,null,null,null,null,null,null,null,null,null,null,null,null,null,null,null,null,null,null,null,null,null,null,null,null,null,null,null,null,null,null,null,null,null,null,null,null,null,null,null,null,null,null,null,null,null,null,null,null,null,null,null,null,null,null,null,null,null,null,null,null,null,null,null,null,null,null,null,null,null,null,null,null,null,null,null,null,null,null,null,null,null,null,null,null,null,null,null,null,null,null,null,null,null,null,null,null,null,null,null,null,null,null,null,null,null,null,null,null,null,null,null,null,null,null,null,null,null,null,null,null,null,null,null,null,null,null,null,null,null,null,null,null,null,null,null,null,null,null,null,null,null,null,null,null,null,null,null,null,null,null,null,null,null,null,null,null,null,null,null,null,null,null,null,null,null,null,null,null,null,null,null,null,null,null,null,null,null,null,null,null,null,null,null,null,null,null,null,null,null,null,null,null,null,null,null,null,null,null,null,null,null,null,null,null,null,null,null,null,null,null,null,null,null,null,null,null,null,null,null,null,null,null,null,null,null,null,null,null,null,null,null,null,null,null,null,null,null,null,null,null,null,null,null,null,null,null,null,null,null,null,null,null,null,null,null,null,null,null,null,null,null,null,null,null,null,null,null,null,null,null,null,null,null,null,null,null,null,null,null,null,null,null,null,null,null,null,null,null,null,null,null,null,null,null,null,null,null,null,"بزرگی فلش",{"$f":"NV219","v":0.44999999999999996},{"$f":"NV220","v":0.5},{"$f":"NZ761","v":-14.5},{"$f":"OA761","v":33.5},{"$f":"NY761","v":"w56"}]
[null,null,null,null,null,null,null,null,null,null,null,null,null,null,null,null,null,null,null,null,null,null,null,null,null,null,null,null,null,null,null,null,null,null,null,null,null,null,null,null,null,null,null,null,null,null,null,null,null,null,null,null,null,null,null,null,null,null,null,null,null,null,null,null,null,null,null,null,null,null,null,null,null,null,null,null,null,null,null,null,null,null,null,null,null,null,null,null,null,null,null,null,null,null,null,null,null,null,null,null,null,null,null,null,null,null,null,null,null,null,null,null,null,null,null,null,null,null,null,null,null,null,null,null,null,null,null,null,null,null,null,null,null,null,null,null,null,null,null,null,null,null,null,null,null,null,null,null,null,null,null,null,null,null,null,null,null,null,null,null,null,null,null,null,null,null,null,null,null,null,null,null,null,null,null,null,null,null,null,null,null,null,null,null,null,null,null,null,null,null,null,null,null,null,null,null,null,null,null,null,null,null,null,null,null,null,null,null,null,null,null,null,null,null,null,null,null,null,null,null,null,null,null,null,null,null,null,null,null,null,null,null,null,null,null,null,null,null,null,null,null,null,null,null,null,null,null,null,null,null,null,null,null,null,null,null,null,null,null,null,null,null,null,null,null,null,null,null,null,null,null,null,null,null,null,null,null,null,null,null,null,null,null,null,null,null,null,null,null,null,null,null,null,null,null,null,null,null,null,null,null,null,null,null,null,null,null,null,null,null,null,null,null,null,null,null,null,null,null,null,null,null,null,null,null,null,null,null,null,null,null,null,null,null,null,null,null,null,null,null,null,null,null,null,null,null,null,null,null,null,null,null,null,null,null,null,null,null,null,null,null,null,null,null,null,null,null,null,null,null,null,null,null,null,null,null,null,null,null,null,null,null,null,null,null,null,null,null,"نقطه ورودی سر فلش","مولفه افقی","مولفه عمودی",{"$f":"NZ763","v":-14.05},{"$f":"OA763","v":33.725000000000001},{"$f":"NY763","v":"f3"}]
[null,null,null,null,null,null,null,null,null,null,null,null,null,null,null,null,null,null,null,null,null,null,null,null,null,null,null,null,null,null,null,null,null,null,null,null,null,null,null,null,null,null,null,null,null,null,null,null,null,null,null,null,null,null,null,null,null,null,null,null,null,null,null,null,null,null,null,null,null,null,null,null,null,null,null,null,null,null,null,null,null,null,null,null,null,null,null,null,null,null,null,null,null,null,null,null,null,null,null,null,null,null,null,null,null,null,null,null,null,null,null,null,null,null,null,null,null,null,null,null,null,null,null,null,null,null,null,null,null,null,null,null,null,null,null,null,null,null,null,null,null,null,null,null,null,null,null,null,null,null,null,null,null,null,null,null,null,null,null,null,null,null,null,null,null,null,null,null,null,null,null,null,null,null,null,null,null,null,null,null,null,null,null,null,null,null,null,null,null,null,null,null,null,null,null,null,null,null,null,null,null,null,null,null,null,null,null,null,null,null,null,null,null,null,null,null,null,null,null,null,null,null,null,null,null,null,null,null,null,null,null,null,null,null,null,null,null,null,null,null,null,null,null,null,null,null,null,null,null,null,null,null,null,null,null,null,null,null,null,null,null,null,null,null,null,null,null,null,null,null,null,null,null,null,null,null,null,null,null,null,null,null,null,null,null,null,null,null,null,null,null,null,null,null,null,null,null,null,null,null,null,null,null,null,null,null,null,null,null,null,null,null,null,null,null,null,null,null,null,null,null,null,null,null,null,null,null,null,null,null,null,null,null,null,null,null,null,null,null,null,null,null,null,null,null,null,null,null,null,null,null,null,null,null,null,null,null,null,null,null,null,null,null,null,null,null,null,null,null,null,null,null,null,null,null,null,null,null,null,null,null,null,null,null,null,null,null,null,"w56",{"$f":"NU289","v":-14.5},{"$f":"NV289","v":33.5}]
[null,null,null,null,null,null,null,null,null,null,null,null,null,null,null,null,null,null,null,null,null,null,null,null,null,null,null,null,null,null,null,null,null,null,null,null,null,null,null,null,null,null,null,null,null,null,null,null,null,null,null,null,null,null,null,null,null,null,null,null,null,null,null,null,null,null,null,null,null,null,null,null,null,null,null,null,null,null,null,null,null,null,null,null,null,null,null,null,null,null,null,null,null,null,null,null,null,null,null,null,null,null,null,null,null,null,null,null,null,null,null,null,null,null,null,null,null,null,null,null,null,null,null,null,null,null,null,null,null,null,null,null,null,null,null,null,null,null,null,null,null,null,null,null,null,null,null,null,null,null,null,null,null,null,null,null,null,null,null,null,null,null,null,null,null,null,null,null,null,null,null,null,null,null,null,null,null,null,null,null,null,null,null,null,null,null,null,null,null,null,null,null,null,null,null,null,null,null,null,null,null,null,null,null,null,null,null,null,null,null,null,null,null,null,null,null,null,null,null,null,null,null,null,null,null,null,null,null,null,null,null,null,null,null,null,null,null,null,null,null,null,null,null,null,null,null,null,null,null,null,null,null,null,null,null,null,null,null,null,null,null,null,null,null,null,null,null,null,null,null,null,null,null,null,null,null,null,null,null,null,null,null,null,null,null,null,null,null,null,null,null,null,null,null,null,null,null,null,null,null,null,null,null,null,null,null,null,null,null,null,null,null,null,null,null,null,null,null,null,null,null,null,null,null,null,null,null,null,null,null,null,null,null,null,null,null,null,null,null,null,null,null,null,null,null,null,null,null,null,null,null,null,null,null,null,null,null,null,null,null,null,null,null,null,null,null,null,null,null,null,null,null,null,null,null,null,null,null,null,null,null,null,null,null,null,null,null,null,"f2",{"$f":"NZ761+1*NZ759","v":-14.05},{"$f":"OA761-OA759*NZ759","v":33.274999999999999},{"$f":"NZ761","v":-14.5},{"$f":"OA761","v":33.5},{"$f":"NY761","v":"w56"}]
[null,null,null,null,null,null,null,null,null,null,null,null,null,null,null,null,null,null,null,null,null,null,null,null,null,null,null,null,null,null,null,null,null,null,null,null,null,null,null,null,null,null,null,null,null,null,null,null,null,null,null,null,null,null,null,null,null,null,null,null,null,null,null,null,null,null,null,null,null,null,null,null,null,null,null,null,null,null,null,null,null,null,null,null,null,null,null,null,null,null,null,null,null,null,null,null,null,null,null,null,null,null,null,null,null,null,null,null,null,null,null,null,null,null,null,null,null,null,null,null,null,null,null,null,null,null,null,null,null,null,null,null,null,null,null,null,null,null,null,null,null,null,null,null,null,null,null,null,null,null,null,null,null,null,null,null,null,null,null,null,null,null,null,null,null,null,null,null,null,null,null,null,null,null,null,null,null,null,null,null,null,null,null,null,null,null,null,null,null,null,null,null,null,null,null,null,null,null,null,null,null,null,null,null,null,null,null,null,null,null,null,null,null,null,null,null,null,null,null,null,null,null,null,null,null,null,null,null,null,null,null,null,null,null,null,null,null,null,null,null,null,null,null,null,null,null,null,null,null,null,null,null,null,null,null,null,null,null,null,null,null,null,null,null,null,null,null,null,null,null,null,null,null,null,null,null,null,null,null,null,null,null,null,null,null,null,null,null,null,null,null,null,null,null,null,null,null,null,null,null,null,null,null,null,null,null,null,null,null,null,null,null,null,null,null,null,null,null,null,null,null,null,null,null,null,null,null,null,null,null,null,null,null,null,null,null,null,null,null,null,null,null,null,null,null,null,null,null,null,null,null,null,null,null,null,null,null,null,null,null,null,null,null,null,null,null,null,null,null,null,null,null,null,null,null,null,null,null,null,null,null,null,null,null,null,null,null,null,"f3",{"$f":"NZ762","v":-14.05},{"$f":"OA761+OA759*NZ759","v":33.725000000000001},{"$f":"NZ762","v":-14.05},{"$f":"OA762","v":33.274999999999999},{"$f":"NY762","v":"f2"}]
[]
[null,null,null,null,null,null,null,null,null,null,null,null,null,null,null,null,null,null,null,null,null,null,null,null,null,null,null,null,null,null,null,null,null,null,null,null,null,null,null,null,null,null,null,null,null,null,null,null,null,null,null,null,null,null,null,null,null,null,null,null,null,null,null,null,null,null,null,null,null,null,null,null,null,null,null,null,null,null,null,null,null,null,null,null,null,null,null,null,null,null,null,null,null,null,null,null,null,null,null,null,null,null,null,null,null,null,null,null,null,null,null,null,null,null,null,null,null,null,null,null,null,null,null,null,null,null,null,null,null,null,null,null,null,null,null,null,null,null,null,null,null,null,null,null,null,null,null,null,null,null,null,null,null,null,null,null,null,null,null,null,null,null,null,null,null,null,null,null,null,null,null,null,null,null,null,null,null,null,null,null,null,null,null,null,null,null,null,null,null,null,null,null,null,null,null,null,null,null,null,null,null,null,null,null,null,null,null,null,null,null,null,null,null,null,null,null,null,null,null,null,null,null,null,null,null,null,null,null,null,null,null,null,null,null,null,null,null,null,null,null,null,null,null,null,null,null,null,null,null,null,null,null,null,null,null,null,null,null,null,null,null,null,null,null,null,null,null,null,null,null,null,null,null,null,null,null,null,null,null,null,null,null,null,null,null,null,null,null,null,null,null,null,null,null,null,null,null,null,null,null,null,null,null,null,null,null,null,null,null,null,null,null,null,null,null,null,null,null,null,null,null,null,null,null,null,null,null,null,null,null,null,null,null,null,null,null,null,null,null,null,null,null,null,null,null,null,null,null,null,null,null,null,null,null,null,null,null,null,null,null,null,null,null,null,null,null,null,null,null,null,null,null,null,null,null,null,null,null,null,null,null,null,null,null,null,null,null,null,null,null,"انحنا راستگرد ",null,null,{"$f":"OA765","v":"انحنا راستگرد "}]
[null,null,null,null,null,null,null,null,null,null,null,null,null,null,null,null,null,null,null,null,null,null,null,null,null,null,null,null,null,null,null,null,null,null,null,null,null,null,null,null,null,null,null,null,null,null,null,null,null,null,null,null,null,null,null,null,null,null,null,null,null,null,null,null,null,null,null,null,null,null,null,null,null,null,null,null,null,null,null,null,null,null,null,null,null,null,null,null,null,null,null,null,null,null,null,null,null,null,null,null,null,null,null,null,null,null,null,null,null,null,null,null,null,null,null,null,null,null,null,null,null,null,null,null,null,null,null,null,null,null,null,null,null,null,null,null,null,null,null,null,null,null,null,null,null,null,null,null,null,null,null,null,null,null,null,null,null,null,null,null,null,null,null,null,null,null,null,null,null,null,null,null,null,null,null,null,null,null,null,null,null,null,null,null,null,null,null,null,null,null,null,null,null,null,null,null,null,null,null,null,null,null,null,null,null,null,null,null,null,null,null,null,null,null,null,null,null,null,null,null,null,null,null,null,null,null,null,null,null,null,null,null,null,null,null,null,null,null,null,null,null,null,null,null,null,null,null,null,null,null,null,null,null,null,null,null,null,null,null,null,null,null,null,null,null,null,null,null,null,null,null,null,null,null,null,null,null,null,null,null,null,null,null,null,null,null,null,null,null,null,null,null,null,null,null,null,null,null,null,null,null,null,null,null,null,null,null,null,null,null,null,null,null,null,null,null,null,null,null,null,null,null,null,null,null,null,null,null,null,null,null,null,null,null,null,null,null,null,null,null,null,null,null,null,null,null,null,null,null,null,null,null,null,null,null,null,null,null,null,null,null,null,null,null,null,null,null,null,null,null,null,null,null,null,null,null,null,null,null,null,null,null,null,null,null,null,null,null,"ارتفاع نیم دایره",{"$f":"NV221","v":1.5},"بزرگی فلش",{"$f":"NZ769","v":-18},{"$f":"OA769","v":33.5},{"$f":"NY769","v":"w55"}]
[null,null,null,null,null,null,null,null,null,null,null,null,null,null,null,null,null,null,null,null,null,null,null,null,null,null,null,null,null,null,null,null,null,null,null,null,null,null,null,null,null,null,null,null,null,null,null,null,null,null,null,null,null,null,null,null,null,null,null,null,null,null,null,null,null,null,null,null,null,null,null,null,null,null,null,null,null,null,null,null,null,null,null,null,null,null,null,null,null,null,null,null,null,null,null,null,null,null,null,null,null,null,null,null,null,null,null,null,null,null,null,null,null,null,null,null,null,null,null,null,null,null,null,null,null,null,null,null,null,null,null,null,null,null,null,null,null,null,null,null,null,null,null,null,null,null,null,null,null,null,null,null,null,null,null,null,null,null,null,null,null,null,null,null,null,null,null,null,null,null,null,null,null,null,null,null,null,null,null,null,null,null,null,null,null,null,null,null,null,null,null,null,null,null,null,null,null,null,null,null,null,null,null,null,null,null,null,null,null,null,null,null,null,null,null,null,null,null,null,null,null,null,null,null,null,null,null,null,null,null,null,null,null,null,null,null,null,null,null,null,null,null,null,null,null,null,null,null,null,null,null,null,null,null,null,null,null,null,null,null,null,null,null,null,null,null,null,null,null,null,null,null,null,null,null,null,null,null,null,null,null,null,null,null,null,null,null,null,null,null,null,null,null,null,null,null,null,null,null,null,null,null,null,null,null,null,null,null,null,null,null,null,null,null,null,null,null,null,null,null,null,null,null,null,null,null,null,null,null,null,null,null,null,null,null,null,null,null,null,null,null,null,null,null,null,null,null,null,null,null,null,null,null,null,null,null,null,null,null,null,null,null,null,null,null,null,null,null,null,null,null,null,null,null,null,null,null,null,null,null,null,null,null,null,null,null,null,null,"پهنای نیم دایره",{"$f":"NV222","v":0.5},{"$f":"NV219","v":0.44999999999999996},{"$f":"NZ773","v":-18.524999999999999},{"$f":"OA773","v":33.71},{"$f":"NY773","v":"g5"}]
[null,null,null,null,null,null,null,null,null,null,null,null,null,null,null,null,null,null,null,null,null,null,null,null,null,null,null,null,null,null,null,null,null,null,null,null,null,null,null,null,null,null,null,null,null,null,null,null,null,null,null,null,null,null,null,null,null,null,null,null,null,null,null,null,null,null,null,null,null,null,null,null,null,null,null,null,null,null,null,null,null,null,null,null,null,null,null,null,null,null,null,null,null,null,null,null,null,null,null,null,null,null,null,null,null,null,null,null,null,null,null,null,null,null,null,null,null,null,null,null,null,null,null,null,null,null,null,null,null,null,null,null,null,null,null,null,null,null,null,null,null,null,null,null,null,null,null,null,null,null,null,null,null,null,null,null,null,null,null,null,null,null,null,null,null,null,null,null,null,null,null,null,null,null,null,null,null,null,null,null,null,null,null,null,null,null,null,null,null,null,null,null,null,null,null,null,null,null,null,null,null,null,null,null,null,null,null,null,null,null,null,null,null,null,null,null,null,null,null,null,null,null,null,null,null,null,null,null,null,null,null,null,null,null,null,null,null,null,null,null,null,null,null,null,null,null,null,null,null,null,null,null,null,null,null,null,null,null,null,null,null,null,null,null,null,null,null,null,null,null,null,null,null,null,null,null,null,null,null,null,null,null,null,null,null,null,null,null,null,null,null,null,null,null,null,null,null,null,null,null,null,null,null,null,null,null,null,null,null,null,null,null,null,null,null,null,null,null,null,null,null,null,null,null,null,null,null,null,null,null,null,null,null,null,null,null,null,null,null,null,null,null,null,null,null,null,null,null,null,null,null,null,null,null,null,null,null,null,null,null,null,null,null,null,null,null,null,null,null,null,null,null,null,null,null,null,null,null,null,null,null,null,null,null,null,null,null,null,"نقطه شروع انحنا","مولفه افقی","مولفه عمودی",{"$f":"NZ772","v":-18.75},{"$f":"OA772","v":34.25},{"$f":"NY772","v":"g4"}]
[null,null,null,null,null,null,null,null,null,null,null,null,null,null,null,null,null,null,null,null,null,null,null,null,null,null,null,null,null,null,null,null,null,null,null,null,null,null,null,null,null,null,null,null,null,null,null,null,null,null,null,null,null,null,null,null,null,null,null,null,null,null,null,null,null,null,null,null,null,null,null,null,null,null,null,null,null,null,null,null,null,null,null,null,null,null,null,null,null,null,null,null,null,null,null,null,null,null,null,null,null,null,null,null,null,null,null,null,null,null,null,null,null,null,null,null,null,null,null,null,null,null,null,null,null,null,null,null,null,null,null,null,null,null,null,null,null,null,null,null,null,null,null,null,null,null,null,null,null,null,null,null,null,null,null,null,null,null,null,null,null,null,null,null,null,null,null,null,null,null,null,null,null,null,null,null,null,null,null,null,null,null,null,null,null,null,null,null,null,null,null,null,null,null,null,null,null,null,null,null,null,null,null,null,null,null,null,null,null,null,null,null,null,null,null,null,null,null,null,null,null,null,null,null,null,null,null,null,null,null,null,null,null,null,null,null,null,null,null,null,null,null,null,null,null,null,null,null,null,null,null,null,null,null,null,null,null,null,null,null,null,null,null,null,null,null,null,null,null,null,null,null,null,null,null,null,null,null,null,null,null,null,null,null,null,null,null,null,null,null,null,null,null,null,null,null,null,null,null,null,null,null,null,null,null,null,null,null,null,null,null,null,null,null,null,null,null,null,null,null,null,null,null,null,null,null,null,null,null,null,null,null,null,null,null,null,null,null,null,null,null,null,null,null,null,null,null,null,null,null,null,null,null,null,null,null,null,null,null,null,null,null,null,null,null,null,null,null,null,null,null,null,null,null,null,null,null,null,null,null,null,null,null,null,null,null,null,null,"w55",{"$f":"NU288","v":-18},{"$f":"NV288","v":33.5},{"$f":"NZ774","v":-18.524999999999999},{"$f":"OA774","v":34.79},{"$f":"NY774","v":"g6"}]
[null,null,null,null,null,null,null,null,null,null,null,null,null,null,null,null,null,null,null,null,null,null,null,null,null,null,null,null,null,null,null,null,null,null,null,null,null,null,null,null,null,null,null,null,null,null,null,null,null,null,null,null,null,null,null,null,null,null,null,null,null,null,null,null,null,null,null,null,null,null,null,null,null,null,null,null,null,null,null,null,null,null,null,null,null,null,null,null,null,null,null,null,null,null,null,null,null,null,null,null,null,null,null,null,null,null,null,null,null,null,null,null,null,null,null,null,null,null,null,null,null,null,null,null,null,null,null,null,null,null,null,null,null,null,null,null,null,null,null,null,null,null,null,null,null,null,null,null,null,null,null,null,null,null,null,null,null,null,null,null,null,null,null,null,null,null,null,null,null,null,null,null,null,null,null,null,null,null,null,null,null,null,null,null,null,null,null,null,null,null,null,null,null,null,null,null,null,null,null,null,null,null,null,null,null,null,null,null,null,null,null,null,null,null,null,null,null,null,null,null,null,null,null,null,null,null,null,null,null,null,null,null,null,null,null,null,null,null,null,null,null,null,null,null,null,null,null,null,null,null,null,null,null,null,null,null,null,null,null,null,null,null,null,null,null,null,null,null,null,null,null,null,null,null,null,null,null,null,null,null,null,null,null,null,null,null,null,null,null,null,null,null,null,null,null,null,null,null,null,null,null,null,null,null,null,null,null,null,null,null,null,null,null,null,null,null,null,null,null,null,null,null,null,null,null,null,null,null,null,null,null,null,null,null,null,null,null,null,null,null,null,null,null,null,null,null,null,null,null,null,null,null,null,null,null,null,null,null,null,null,null,null,null,null,null,null,null,null,null,null,null,null,null,null,null,null,null,null,null,null,null,null,null,null,null,null,null,null,"نقاط خروجی","مولفه افقی","مولفه عمودی",{"$f":"NZ771","v":-18},{"$f":"OA771","v":35},{"$f":"NY771","v":"g2"}]
[null,null,null,null,null,null,null,null,null,null,null,null,null,null,null,null,null,null,null,null,null,null,null,null,null,null,null,null,null,null,null,null,null,null,null,null,null,null,null,null,null,null,null,null,null,null,null,null,null,null,null,null,null,null,null,null,null,null,null,null,null,null,null,null,null,null,null,null,null,null,null,null,null,null,null,null,null,null,null,null,null,null,null,null,null,null,null,null,null,null,null,null,null,null,null,null,null,null,null,null,null,null,null,null,null,null,null,null,null,null,null,null,null,null,null,null,null,null,null,null,null,null,null,null,null,null,null,null,null,null,null,null,null,null,null,null,null,null,null,null,null,null,null,null,null,null,null,null,null,null,null,null,null,null,null,null,null,null,null,null,null,null,null,null,null,null,null,null,null,null,null,null,null,null,null,null,null,null,null,null,null,null,null,null,null,null,null,null,null,null,null,null,null,null,null,null,null,null,null,null,null,null,null,null,null,null,null,null,null,null,null,null,null,null,null,null,null,null,null,null,null,null,null,null,null,null,null,null,null,null,null,null,null,null,null,null,null,null,null,null,null,null,null,null,null,null,null,null,null,null,null,null,null,null,null,null,null,null,null,null,null,null,null,null,null,null,null,null,null,null,null,null,null,null,null,null,null,null,null,null,null,null,null,null,null,null,null,null,null,null,null,null,null,null,null,null,null,null,null,null,null,null,null,null,null,null,null,null,null,null,null,null,null,null,null,null,null,null,null,null,null,null,null,null,null,null,null,null,null,null,null,null,null,null,null,null,null,null,null,null,null,null,null,null,null,null,null,null,null,null,null,null,null,null,null,null,null,null,null,null,null,null,null,null,null,null,null,null,null,null,null,null,null,null,null,null,null,null,null,null,null,null,null,null,null,null,null,null,"g2",{"$f":"NZ769","v":-18},{"$f":"OA769+NZ766","v":35}]
[null,null,null,null,null,null,null,null,null,null,null,null,null,null,null,null,null,null,null,null,null,null,null,null,null,null,null,null,null,null,null,null,null,null,null,null,null,null,null,null,null,null,null,null,null,null,null,null,null,null,null,null,null,null,null,null,null,null,null,null,null,null,null,null,null,null,null,null,null,null,null,null,null,null,null,null,null,null,null,null,null,null,null,null,null,null,null,null,null,null,null,null,null,null,null,null,null,null,null,null,null,null,null,null,null,null,null,null,null,null,null,null,null,null,null,null,null,null,null,null,null,null,null,null,null,null,null,null,null,null,null,null,null,null,null,null,null,null,null,null,null,null,null,null,null,null,null,null,null,null,null,null,null,null,null,null,null,null,null,null,null,null,null,null,null,null,null,null,null,null,null,null,null,null,null,null,null,null,null,null,null,null,null,null,null,null,null,null,null,null,null,null,null,null,null,null,null,null,null,null,null,null,null,null,null,null,null,null,null,null,null,null,null,null,null,null,null,null,null,null,null,null,null,null,null,null,null,null,null,null,null,null,null,null,null,null,null,null,null,null,null,null,null,null,null,null,null,null,null,null,null,null,null,null,null,null,null,null,null,null,null,null,null,null,null,null,null,null,null,null,null,null,null,null,null,null,null,null,null,null,null,null,null,null,null,null,null,null,null,null,null,null,null,null,null,null,null,null,null,null,null,null,null,null,null,null,null,null,null,null,null,null,null,null,null,null,null,null,null,null,null,null,null,null,null,null,null,null,null,null,null,null,null,null,null,null,null,null,null,null,null,null,null,null,null,null,null,null,null,null,null,null,null,null,null,null,null,null,null,null,null,null,null,null,null,null,null,null,null,null,null,null,null,null,null,null,null,null,null,null,null,null,null,null,null,null,null,null,"g4",{"$f":"NZ769-NZ767*NZ766","v":-18.75},{"$f":"OA769+0.5*NZ766","v":34.25},{"$f":"NZ776","v":-18.88441946886843},{"$f":"OA776","v":33.820545221950987},{"$f":"NY776","v":"g8"}]
[null,null,null,null,null,null,null,null,null,null,null,null,null,null,null,null,null,null,null,null,null,null,null,null,null,null,null,null,null,null,null,null,null,null,null,null,null,null,null,null,null,null,null,null,null,null,null,null,null,null,null,null,null,null,null,null,null,null,null,null,null,null,null,null,null,null,null,null,null,null,null,null,null,null,null,null,null,null,null,null,null,null,null,null,null,null,null,null,null,null,null,null,null,null,null,null,null,null,null,null,null,null,null,null,null,null,null,null,null,null,null,null,null,null,null,null,null,null,null,null,null,null,null,null,null,null,null,null,null,null,null,null,null,null,null,null,null,null,null,null,null,null,null,null,null,null,null,null,null,null,null,null,null,null,null,null,null,null,null,null,null,null,null,null,null,null,null,null,null,null,null,null,null,null,null,null,null,null,null,null,null,null,null,null,null,null,null,null,null,null,null,null,null,null,null,null,null,null,null,null,null,null,null,null,null,null,null,null,null,null,null,null,null,null,null,null,null,null,null,null,null,null,null,null,null,null,null,null,null,null,null,null,null,null,null,null,null,null,null,null,null,null,null,null,null,null,null,null,null,null,null,null,null,null,null,null,null,null,null,null,null,null,null,null,null,null,null,null,null,null,null,null,null,null,null,null,null,null,null,null,null,null,null,null,null,null,null,null,null,null,null,null,null,null,null,null,null,null,null,null,null,null,null,null,null,null,null,null,null,null,null,null,null,null,null,null,null,null,null,null,null,null,null,null,null,null,null,null,null,null,null,null,null,null,null,null,null,null,null,null,null,null,null,null,null,null,null,null,null,null,null,null,null,null,null,null,null,null,null,null,null,null,null,null,null,null,null,null,null,null,null,null,null,null,null,null,null,null,null,null,null,null,null,null,null,null,null,null,"g5",{"$f":"NZ769+0.7*(NZ772-NZ769)","v":-18.524999999999999},{"$f":"OA769+0.28*(OA772-OA769)","v":33.71},{"$f":"NZ772","v":-18.75},{"$f":"OA772","v":34.25},{"$f":"NY772","v":"g4"}]
[null,null,null,null,null,null,null,null,null,null,null,null,null,null,null,null,null,null,null,null,null,null,null,null,null,null,null,null,null,null,null,null,null,null,null,null,null,null,null,null,null,null,null,null,null,null,null,null,null,null,null,null,null,null,null,null,null,null,null,null,null,null,null,null,null,null,null,null,null,null,null,null,null,null,null,null,null,null,null,null,null,null,null,null,null,null,null,null,null,null,null,null,null,null,null,null,null,null,null,null,null,null,null,null,null,null,null,null,null,null,null,null,null,null,null,null,null,null,null,null,null,null,null,null,null,null,null,null,null,null,null,null,null,null,null,null,null,null,null,null,null,null,null,null,null,null,null,null,null,null,null,null,null,null,null,null,null,null,null,null,null,null,null,null,null,null,null,null,null,null,null,null,null,null,null,null,null,null,null,null,null,null,null,null,null,null,null,null,null,null,null,null,null,null,null,null,null,null,null,null,null,null,null,null,null,null,null,null,null,null,null,null,null,null,null,null,null,null,null,null,null,null,null,null,null,null,null,null,null,null,null,null,null,null,null,null,null,null,null,null,null,null,null,null,null,null,null,null,null,null,null,null,null,null,null,null,null,null,null,null,null,null,null,null,null,null,null,null,null,null,null,null,null,null,null,null,null,null,null,null,null,null,null,null,null,null,null,null,null,null,null,null,null,null,null,null,null,null,null,null,null,null,null,null,null,null,null,null,null,null,null,null,null,null,null,null,null,null,null,null,null,null,null,null,null,null,null,null,null,null,null,null,null,null,null,null,null,null,null,null,null,null,null,null,null,null,null,null,null,null,null,null,null,null,null,null,null,null,null,null,null,null,null,null,null,null,null,null,null,null,null,null,null,null,null,null,null,null,null,null,null,null,null,null,null,null,null,null,"g6",{"$f":"NZ773","v":-18.524999999999999},{"$f":"OA771-OA773+OA769","v":34.79}]
[null,null,null,null,null,null,null,null,null,null,null,null,null,null,null,null,null,null,null,null,null,null,null,null,null,null,null,null,null,null,null,null,null,null,null,null,null,null,null,null,null,null,null,null,null,null,null,null,null,null,null,null,null,null,null,null,null,null,null,null,null,null,null,null,null,null,null,null,null,null,null,null,null,null,null,null,null,null,null,null,null,null,null,null,null,null,null,null,null,null,null,null,null,null,null,null,null,null,null,null,null,null,null,null,null,null,null,null,null,null,null,null,null,null,null,null,null,null,null,null,null,null,null,null,null,null,null,null,null,null,null,null,null,null,null,null,null,null,null,null,null,null,null,null,null,null,null,null,null,null,null,null,null,null,null,null,null,null,null,null,null,null,null,null,null,null,null,null,null,null,null,null,null,null,null,null,null,null,null,null,null,null,null,null,null,null,null,null,null,null,null,null,null,null,null,null,null,null,null,null,null,null,null,null,null,null,null,null,null,null,null,null,null,null,null,null,null,null,null,null,null,null,null,null,null,null,null,null,null,null,null,null,null,null,null,null,null,null,null,null,null,null,null,null,null,null,null,null,null,null,null,null,null,null,null,null,null,null,null,null,null,null,null,null,null,null,null,null,null,null,null,null,null,null,null,null,null,null,null,null,null,null,null,null,null,null,null,null,null,null,null,null,null,null,null,null,null,null,null,null,null,null,null,null,null,null,null,null,null,null,null,null,null,null,null,null,null,null,null,null,null,null,null,null,null,null,null,null,null,null,null,null,null,null,null,null,null,null,null,null,null,null,null,null,null,null,null,null,null,null,null,null,null,null,null,null,null,null,null,null,null,null,null,null,null,null,null,null,null,null,null,null,null,null,null,null,null,null,null,null,null,null,null,null,null,null,null,null,"g7",{"$f":"NZ772+OA767*SIN(RADIANS(40)-ATAN((NZ772-NZ773)/(OA772-OA773)))","v":-18.350411300821154},{"$f":"OA772-OA767*COS(RADIANS(40)-ATAN((NZ772-NZ773)/(OA772-OA773)))","v":34.043048625304017},{"$f":"NZ772","v":-18.75},{"$f":"OA772","v":34.25},{"$f":"NY772","v":"g4"}]
[null,null,null,null,null,null,null,null,null,null,null,null,null,null,null,null,null,null,null,null,null,null,null,null,null,null,null,null,null,null,null,null,null,null,null,null,null,null,null,null,null,null,null,null,null,null,null,null,null,null,null,null,null,null,null,null,null,null,null,null,null,null,null,null,null,null,null,null,null,null,null,null,null,null,null,null,null,null,null,null,null,null,null,null,null,null,null,null,null,null,null,null,null,null,null,null,null,null,null,null,null,null,null,null,null,null,null,null,null,null,null,null,null,null,null,null,null,null,null,null,null,null,null,null,null,null,null,null,null,null,null,null,null,null,null,null,null,null,null,null,null,null,null,null,null,null,null,null,null,null,null,null,null,null,null,null,null,null,null,null,null,null,null,null,null,null,null,null,null,null,null,null,null,null,null,null,null,null,null,null,null,null,null,null,null,null,null,null,null,null,null,null,null,null,null,null,null,null,null,null,null,null,null,null,null,null,null,null,null,null,null,null,null,null,null,null,null,null,null,null,null,null,null,null,null,null,null,null,null,null,null,null,null,null,null,null,null,null,null,null,null,null,null,null,null,null,null,null,null,null,null,null,null,null,null,null,null,null,null,null,null,null,null,null,null,null,null,null,null,null,null,null,null,null,null,null,null,null,null,null,null,null,null,null,null,null,null,null,null,null,null,null,null,null,null,null,null,null,null,null,null,null,null,null,null,null,null,null,null,null,null,null,null,null,null,null,null,null,null,null,null,null,null,null,null,null,null,null,null,null,null,null,null,null,null,null,null,null,null,null,null,null,null,null,null,null,null,null,null,null,null,null,null,null,null,null,null,null,null,null,null,null,null,null,null,null,null,null,null,null,null,null,null,null,null,null,null,null,null,null,null,null,null,null,null,null,null,null,"g8",{"$f":"NZ772-OA767*SIN(RADIANS(40)+ATAN((NZ772-NZ773)/(OA772-OA773)))","v":-18.88441946886843},{"$f":"OA772-OA767*COS(RADIANS(40)+ATAN((NZ772-NZ773)/(OA772-OA773)))","v":33.820545221950987},{"$f":"NZ775","v":-18.350411300821154},{"$f":"OA775","v":34.043048625304017},{"$f":"NY775","v":"g7"}]
[]
[null,null,null,null,null,null,null,null,null,null,null,null,null,null,null,null,null,null,null,null,null,null,null,null,null,null,null,null,null,null,null,null,null,null,null,null,null,null,null,null,null,null,null,null,null,null,null,null,null,null,null,null,null,null,null,null,null,null,null,null,null,null,null,null,null,null,null,null,null,null,null,null,null,null,null,null,null,null,null,null,null,null,null,null,null,null,null,null,null,null,null,null,null,null,null,null,null,null,null,null,null,null,null,null,null,null,null,null,null,null,null,null,null,null,null,null,null,null,null,null,null,null,null,null,null,null,null,null,null,null,null,null,null,null,null,null,null,null,null,null,null,null,null,null,null,null,null,null,null,null,null,null,null,null,null,null,null,null,null,null,null,null,null,null,null,null,null,null,null,null,null,null,null,null,null,null,null,null,null,null,null,null,null,null,null,null,null,null,null,null,null,null,null,null,null,null,null,null,null,null,null,null,null,null,null,null,null,null,null,null,null,null,null,null,null,null,null,null,null,null,null,null,null,null,null,null,null,null,null,null,null,null,null,null,null,null,null,null,null,null,null,null,null,null,null,null,null,null,null,null,null,null,null,null,null,null,null,null,null,null,null,null,null,null,null,null,null,null,null,null,null,null,null,null,null,null,null,null,null,null,null,null,null,null,null,null,null,null,null,null,null,null,null,null,null,null,null,null,null,null,null,null,null,null,null,null,null,null,null,null,null,null,null,null,null,null,null,null,null,null,null,null,null,null,null,null,null,null,null,null,null,null,null,null,null,null,null,null,null,null,null,null,null,null,null,null,null,null,null,null,null,null,null,null,null,null,null,null,null,null,null,null,null,null,null,null,null,null,null,null,null,null,null,null,null,null,null,null,null,null,null,null,null,null,null,null,null,null,null,null,null,{"$f":"NU290","v":-18},{"$f":"NV290","v":35},"w57"]
[null,null,null,null,null,null,null,null,null,null,null,null,null,null,null,null,null,null,null,null,null,null,null,null,null,null,null,null,null,null,null,null,null,null,null,null,null,null,null,null,null,null,null,null,null,null,null,null,null,null,null,null,null,null,null,null,null,null,null,null,null,null,null,null,null,null,null,null,null,null,null,null,null,null,null,null,null,null,null,null,null,null,null,null,null,null,null,null,null,null,null,null,null,null,null,null,null,null,null,null,null,null,null,null,null,null,null,null,null,null,null,null,null,null,null,null,null,null,null,null,null,null,null,null,null,null,null,null,null,null,null,null,null,null,null,null,null,null,null,null,null,null,null,null,null,null,null,null,null,null,null,null,null,null,null,null,null,null,null,null,null,null,null,null,null,null,null,null,null,null,null,null,null,null,null,null,null,null,null,null,null,null,null,null,null,null,null,null,null,null,null,null,null,null,null,null,null,null,null,null,null,null,null,null,null,null,null,null,null,null,null,null,null,null,null,null,null,null,null,null,null,null,null,null,null,null,null,null,null,null,null,null,null,null,null,null,null,null,null,null,null,null,null,null,null,null,null,null,null,null,null,null,null,null,null,null,null,null,null,null,null,null,null,null,null,null,null,null,null,null,null,null,null,null,null,null,null,null,null,null,null,null,null,null,null,null,null,null,null,null,null,null,null,null,null,null,null,null,null,null,null,null,null,null,null,null,null,null,null,null,null,null,null,null,null,null,null,null,null,null,null,null,null,null,null,null,null,null,null,null,null,null,null,null,null,null,null,null,null,null,null,null,null,null,null,null,null,null,null,null,null,null,null,null,null,null,null,null,null,null,null,null,null,null,null,null,null,null,null,null,null,null,null,null,null,null,null,null,null,null,null,null,null,null,null,null,null,null,null,null,null,{"$f":"NU291","v":2},{"$f":"NV291","v":35},"w58"]
[null,null,null,null,null,null,null,null,null,null,null,null,null,null,null,null,null,null,null,null,null,null,null,null,null,null,null,null,null,null,null,null,null,null,null,null,null,null,null,null,null,null,null,null,null,null,null,null,null,null,null,null,null,null,null,null,null,null,null,null,null,null,null,null,null,null,null,null,null,null,null,null,null,null,null,null,null,null,null,null,null,null,null,null,null,null,null,null,null,null,null,null,null,null,null,null,null,null,null,null,null,null,null,null,null,null,null,null,null,null,null,null,null,null,null,null,null,null,null,null,null,null,null,null,null,null,null,null,null,null,null,null,null,null,null,null,null,null,null,null,null,null,null,null,null,null,null,null,null,null,null,null,null,null,null,null,null,null,null,null,null,null,null,null,null,null,null,null,null,null,null,null,null,null,null,null,null,null,null,null,null,null,null,null,null,null,null,null,null,null,null,null,null,null,null,null,null,null,null,null,null,null,null,null,null,null,null,null,null,null,null,null,null,null,null,null,null,null,null,null,null,null,null,null,null,null,null,null,null,null,null,null,null,null,null,null,null,null,null,null,null,null,null,null,null,null,null,null,null,null,null,null,null,null,null,null,null,null,null,null,null,null,null,null,null,null,null,null,null,null,null,null,null,null,null,null,null,null,null,null,null,null,null,null,null,null,null,null,null,null,null,null,null,null,null,null,null,null,null,null,null,null,null,null,null,null,null,null,null,null,null,null,null,null,null,null,null,null,null,null,null,null,null,null,null,null,null,null,null,null,null,null,null,null,null,null,null,null,null,null,null,null,null,null,null,null,null,null,null,null,null,null,null,null,null,null,null,null,null,null,null,null,null,null,null,null,null,null,null,null,null,null,null,null,null,null,null,null,null,null,null,null,null,null,null,null,null,null,null,null,"فلش به سمت راست",null,null,{"$f":"OA780","v":"فلش به سمت راست"}]
[null,null,null,null,null,null,null,null,null,null,null,null,null,null,null,null,null,null,null,null,null,null,null,null,null,null,null,null,null,null,null,null,null,null,null,null,null,null,null,null,null,null,null,null,null,null,null,null,null,null,null,null,null,null,null,null,null,null,null,null,null,null,null,null,null,null,null,null,null,null,null,null,null,null,null,null,null,null,null,null,null,null,null,null,null,null,null,null,null,null,null,null,null,null,null,null,null,null,null,null,null,null,null,null,null,null,null,null,null,null,null,null,null,null,null,null,null,null,null,null,null,null,null,null,null,null,null,null,null,null,null,null,null,null,null,null,null,null,null,null,null,null,null,null,null,null,null,null,null,null,null,null,null,null,null,null,null,null,null,null,null,null,null,null,null,null,null,null,null,null,null,null,null,null,null,null,null,null,null,null,null,null,null,null,null,null,null,null,null,null,null,null,null,null,null,null,null,null,null,null,null,null,null,null,null,null,null,null,null,null,null,null,null,null,null,null,null,null,null,null,null,null,null,null,null,null,null,null,null,null,null,null,null,null,null,null,null,null,null,null,null,null,null,null,null,null,null,null,null,null,null,null,null,null,null,null,null,null,null,null,null,null,null,null,null,null,null,null,null,null,null,null,null,null,null,null,null,null,null,null,null,null,null,null,null,null,null,null,null,null,null,null,null,null,null,null,null,null,null,null,null,null,null,null,null,null,null,null,null,null,null,null,null,null,null,null,null,null,null,null,null,null,null,null,null,null,null,null,null,null,null,null,null,null,null,null,null,null,null,null,null,null,null,null,null,null,null,null,null,null,null,null,null,null,null,null,null,null,null,null,null,null,null,null,null,null,null,null,null,null,null,null,null,null,null,null,null,null,null,null,null,null,null,null,null,null,null,null,"بزرگی فلش",{"$f":"NV219","v":0.44999999999999996},{"$f":"NV220","v":0.5},{"$f":"NZ783","v":-16},{"$f":"OA783","v":35},{"$f":"NY783","v":"w59"}]
[null,null,null,null,null,null,null,null,null,null,null,null,null,null,null,null,null,null,null,null,null,null,null,null,null,null,null,null,null,null,null,null,null,null,null,null,null,null,null,null,null,null,null,null,null,null,null,null,null,null,null,null,null,null,null,null,null,null,null,null,null,null,null,null,null,null,null,null,null,null,null,null,null,null,null,null,null,null,null,null,null,null,null,null,null,null,null,null,null,null,null,null,null,null,null,null,null,null,null,null,null,null,null,null,null,null,null,null,null,null,null,null,null,null,null,null,null,null,null,null,null,null,null,null,null,null,null,null,null,null,null,null,null,null,null,null,null,null,null,null,null,null,null,null,null,null,null,null,null,null,null,null,null,null,null,null,null,null,null,null,null,null,null,null,null,null,null,null,null,null,null,null,null,null,null,null,null,null,null,null,null,null,null,null,null,null,null,null,null,null,null,null,null,null,null,null,null,null,null,null,null,null,null,null,null,null,null,null,null,null,null,null,null,null,null,null,null,null,null,null,null,null,null,null,null,null,null,null,null,null,null,null,null,null,null,null,null,null,null,null,null,null,null,null,null,null,null,null,null,null,null,null,null,null,null,null,null,null,null,null,null,null,null,null,null,null,null,null,null,null,null,null,null,null,null,null,null,null,null,null,null,null,null,null,null,null,null,null,null,null,null,null,null,null,null,null,null,null,null,null,null,null,null,null,null,null,null,null,null,null,null,null,null,null,null,null,null,null,null,null,null,null,null,null,null,null,null,null,null,null,null,null,null,null,null,null,null,null,null,null,null,null,null,null,null,null,null,null,null,null,null,null,null,null,null,null,null,null,null,null,null,null,null,null,null,null,null,null,null,null,null,null,null,null,null,null,null,null,null,null,null,null,null,null,null,null,null,null,"نقطه ورودی سر فلش","مولفه افقی","مولفه عمودی",{"$f":"NZ785","v":-16.45},{"$f":"OA785","v":35.225000000000001},{"$f":"NY785","v":"f3"}]
[null,null,null,null,null,null,null,null,null,null,null,null,null,null,null,null,null,null,null,null,null,null,null,null,null,null,null,null,null,null,null,null,null,null,null,null,null,null,null,null,null,null,null,null,null,null,null,null,null,null,null,null,null,null,null,null,null,null,null,null,null,null,null,null,null,null,null,null,null,null,null,null,null,null,null,null,null,null,null,null,null,null,null,null,null,null,null,null,null,null,null,null,null,null,null,null,null,null,null,null,null,null,null,null,null,null,null,null,null,null,null,null,null,null,null,null,null,null,null,null,null,null,null,null,null,null,null,null,null,null,null,null,null,null,null,null,null,null,null,null,null,null,null,null,null,null,null,null,null,null,null,null,null,null,null,null,null,null,null,null,null,null,null,null,null,null,null,null,null,null,null,null,null,null,null,null,null,null,null,null,null,null,null,null,null,null,null,null,null,null,null,null,null,null,null,null,null,null,null,null,null,null,null,null,null,null,null,null,null,null,null,null,null,null,null,null,null,null,null,null,null,null,null,null,null,null,null,null,null,null,null,null,null,null,null,null,null,null,null,null,null,null,null,null,null,null,null,null,null,null,null,null,null,null,null,null,null,null,null,null,null,null,null,null,null,null,null,null,null,null,null,null,null,null,null,null,null,null,null,null,null,null,null,null,null,null,null,null,null,null,null,null,null,null,null,null,null,null,null,null,null,null,null,null,null,null,null,null,null,null,null,null,null,null,null,null,null,null,null,null,null,null,null,null,null,null,null,null,null,null,null,null,null,null,null,null,null,null,null,null,null,null,null,null,null,null,null,null,null,null,null,null,null,null,null,null,null,null,null,null,null,null,null,null,null,null,null,null,null,null,null,null,null,null,null,null,null,null,null,null,null,null,null,null,null,null,null,null,"w59",{"$f":"NU292","v":-16},{"$f":"NV292","v":35}]
[null,null,null,null,null,null,null,null,null,null,null,null,null,null,null,null,null,null,null,null,null,null,null,null,null,null,null,null,null,null,null,null,null,null,null,null,null,null,null,null,null,null,null,null,null,null,null,null,null,null,null,null,null,null,null,null,null,null,null,null,null,null,null,null,null,null,null,null,null,null,null,null,null,null,null,null,null,null,null,null,null,null,null,null,null,null,null,null,null,null,null,null,null,null,null,null,null,null,null,null,null,null,null,null,null,null,null,null,null,null,null,null,null,null,null,null,null,null,null,null,null,null,null,null,null,null,null,null,null,null,null,null,null,null,null,null,null,null,null,null,null,null,null,null,null,null,null,null,null,null,null,null,null,null,null,null,null,null,null,null,null,null,null,null,null,null,null,null,null,null,null,null,null,null,null,null,null,null,null,null,null,null,null,null,null,null,null,null,null,null,null,null,null,null,null,null,null,null,null,null,null,null,null,null,null,null,null,null,null,null,null,null,null,null,null,null,null,null,null,null,null,null,null,null,null,null,null,null,null,null,null,null,null,null,null,null,null,null,null,null,null,null,null,null,null,null,null,null,null,null,null,null,null,null,null,null,null,null,null,null,null,null,null,null,null,null,null,null,null,null,null,null,null,null,null,null,null,null,null,null,null,null,null,null,null,null,null,null,null,null,null,null,null,null,null,null,null,null,null,null,null,null,null,null,null,null,null,null,null,null,null,null,null,null,null,null,null,null,null,null,null,null,null,null,null,null,null,null,null,null,null,null,null,null,null,null,null,null,null,null,null,null,null,null,null,null,null,null,null,null,null,null,null,null,null,null,null,null,null,null,null,null,null,null,null,null,null,null,null,null,null,null,null,null,null,null,null,null,null,null,null,null,null,null,null,null,null,null,"f2",{"$f":"NZ783-1*NZ781","v":-16.45},{"$f":"OA783-OA781*NZ781","v":34.774999999999999},{"$f":"NZ783","v":-16},{"$f":"OA783","v":35},{"$f":"NY783","v":"w59"}]
[null,null,null,null,null,null,null,null,null,null,null,null,null,null,null,null,null,null,null,null,null,null,null,null,null,null,null,null,null,null,null,null,null,null,null,null,null,null,null,null,null,null,null,null,null,null,null,null,null,null,null,null,null,null,null,null,null,null,null,null,null,null,null,null,null,null,null,null,null,null,null,null,null,null,null,null,null,null,null,null,null,null,null,null,null,null,null,null,null,null,null,null,null,null,null,null,null,null,null,null,null,null,null,null,null,null,null,null,null,null,null,null,null,null,null,null,null,null,null,null,null,null,null,null,null,null,null,null,null,null,null,null,null,null,null,null,null,null,null,null,null,null,null,null,null,null,null,null,null,null,null,null,null,null,null,null,null,null,null,null,null,null,null,null,null,null,null,null,null,null,null,null,null,null,null,null,null,null,null,null,null,null,null,null,null,null,null,null,null,null,null,null,null,null,null,null,null,null,null,null,null,null,null,null,null,null,null,null,null,null,null,null,null,null,null,null,null,null,null,null,null,null,null,null,null,null,null,null,null,null,null,null,null,null,null,null,null,null,null,null,null,null,null,null,null,null,null,null,null,null,null,null,null,null,null,null,null,null,null,null,null,null,null,null,null,null,null,null,null,null,null,null,null,null,null,null,null,null,null,null,null,null,null,null,null,null,null,null,null,null,null,null,null,null,null,null,null,null,null,null,null,null,null,null,null,null,null,null,null,null,null,null,null,null,null,null,null,null,null,null,null,null,null,null,null,null,null,null,null,null,null,null,null,null,null,null,null,null,null,null,null,null,null,null,null,null,null,null,null,null,null,null,null,null,null,null,null,null,null,null,null,null,null,null,null,null,null,null,null,null,null,null,null,null,null,null,null,null,null,null,null,null,null,null,null,null,null,null,"f3",{"$f":"NZ784","v":-16.45},{"$f":"OA783+OA781*NZ781","v":35.225000000000001},{"$f":"NZ784","v":-16.45},{"$f":"OA784","v":34.774999999999999},{"$f":"NY784","v":"f2"}]

{"sheet":"متغیرها ","index":2,"n_rows":826,"n_cols":149,"rows_kept":826,"cut":false,"hidden":true,"merged":[]}
[]
[]
["متغیرهای ورودی چادر",null,null,null,"تبدیل رنج متغیر ورودی","توضیح متغیر ورودی برای صفحه نمایش"]
[" متغیر ورودی چادر شماره 1 یا مقنعه ",null,null,null,null," متغیر ورودی چادر شماره 1 یا مقنعه ","x1","y1","x2","y2(بهینه)","a","b",null,"کمترین",null,"بیشترین",null,null,null,null,"انتخاب ستون سلول مرجع برای انتخاب سایز در رسم الگو","انتخاب نوع الگو","انتخاب نوع اندازه گیری","اندازه جدید یا اندازه موجود","انتخاب ستون سلول مرجع برای انتخاب سایز در بررسی اندازه ها"]
["ضریب فاصله لبه چادر یا مقنعه تا زمین   j0","(از -0.1 الی 4.5)",{"$f":"K5*E5+L5","v":3},"خط زمین=0 \nخط زانو=1 \nخط باسن=2 \nخط کمر=3 \nخط سینه=4  ",{"$f":"'طراحی همه الگوها'!Q177","v":70},"ضریب فاصله لبه چادر یا مقنعه تا زمین   ",10,0,30,1,{"$f":"(J5-H5)/(I5-G5)","v":0.05},{"$f":"H5-G5*K5","v":-0.5},2,{"$f":"(M5-L5)/K5","v":50},4,{"$f":"(O5-L5)/K5","v":90},3,{"$f":"(Q5-L5)/K5","v":70},null,"سلول مرجع",{"$f":"MATCH('الگوهای مدل 216'!D4,'متغیرها '!AJ51:AJ179,0)","v":6},1,3,2,32]
["انتخاب چادر تا پایین پیشانی=1    انتخاب چادر تا بالای پیشانی=0\nانتخاب چادر روی سر = -1"," -1 یا 0 یا 1",{"$f":"K6*E6+L6","v":0},null,{"$f":"'طراحی همه الگوها'!Q178","v":2},"انتخاب چادر تا پایین پیشانی=3    انتخاب چادر تا بالای پیشانی=2\nانتخاب چادر روی سر = 1",2,0,1,-1,{"$f":"(J6-H6)/(I6-G6)","v":1},{"$f":"H6-G6*K6","v":-2},0,{"$f":"(M6-L6)/K6","v":2},2,{"$f":"(O6-L6)/K6","v":4},1,{"$f":"(Q6-L6)/K6","v":3},null,null," 1ماهه","1 تا 3 ماهه"," 3 تا 6 ماهه","6ماهه تا یکساله","بچگانه 1 ساله","بچگانه 2 ساله","بچگانه 3 ساله","بچگانه 4 ساله","بچگانه 5 ساله","بچگانه 6 ساله","بچگانه 7 ساله","بچگانه 8 ساله","بچگانه 9 ساله","بچگانه 10 ساله","بچگانه 11 ساله","بچگانه 12 ساله","بچگانه 13 ساله","بچگانه 14 ساله","34زنانه","36زنانه","38زنانه","40زنانه","42زنانه","44زنانه","46زنانه","48زنانه","50زنانه","52زنانه","54زنانه","56زنانه","58زنانه","60زنانه","37 مردانه","38 مردانه","39 مردانه","40 مردانه","41 مردانه","42 مردانه","43 مردانه","44 مردانه","45 مردانه","46 مردانه","47 مردانه","48 مردانه","49 مردانه","50 مردانه","6ماهه تا یکساله کت","1ساله کت","2ساله کت","3ساله کت","4ساله کت","5ساله کت","6ساله کت","7ساله کت","8ساله کت","9ساله کت","10ساله کت","11ساله کت","12ساله کت","13ساله کت","14ساله کت","34زنانه کمر پهن","36زنانه کمر پهن","38زنانه کمر پهن","40زنانه کمر پهن","42زنانه کمر پهن","44زنانه کمر پهن","46زنانه کمر پهن","48زنانه کمر پهن","50زنانه کمر پهن","52زنانه کمر پهن","54زنانه کمر پهن","56زنانه کمر پهن","58زنانه کمر پهن","60زنانه کمر پهن","37مردانه کت","38مردانه کت","39مردانه کت","40مردانه کت","41مردانه کت","42مردانه کت","43مردانه کت","44مردانه کت","45مردانه کت","46 مردانه کت","47 مردانه کت","48 مردانه کت","49 مردانه کت","50 مردانه کت",{"$f":"'اندازه های شخصی'!G5","v":"عنوان 1"},{"$f":"'اندازه های شخصی'!I5","v":"عنوان 2"},{"$f":"'اندازه های شخصی'!K5","v":"عنوان 3"},{"$f":"'اندازه های شخصی'!M5","v":"عنوان 4"},{"$f":"'اندازه های شخصی'!O5","v":"عنوان 5"},{"$f":"'اندازه های شخصی'!Q5","v":"عنوان 6"},{"$f":"'اندازه های شخصی'!S5","v":"عنوان 7"},{"$f":"'اندازه های شخصی'!U5","v":"عنوان 8"},{"$f":"'اندازه های شخصی'!W5","v":"عنوان 9"},{"$f":"'اندازه های شخصی'!Y5","v":"عنوان 10"},{"$f":"'اندازه های شخصی'!AA5","v":"عنوان 11"},{"$f":"'اندازه های شخصی'!AC5","v":"عنوان 12"},{"$f":"'اندازه های شخصی'!AE5","v":"عنوان 13"},{"$f":"'اندازه های شخصی'!AG5","v":"عنوان 14"},{"$f":"'اندازه های شخصی'!AI5","v":"عنوان 15"},{"$f":"'اندازه های شخصی'!AK5","v":"عنوان 16"},{"$f":"'اندازه های شخصی'!AM5","v":"عنوان 17"},{"$f":"'اندازه های شخصی'!AO5","v":"عنوان 18"},{"$f":"'اندازه های شخصی'!AQ5","v":"عنوان 19"},{"$f":"'اندازه های شخصی'!AS5","v":"عنوان 20"},{"$f":"'اندازه های شخصی'!AU5","v":"عنوان 21"},{"$f":"'اندازه های شخصی'!AW5","v":"عنوان 22"},{"$f":"'اندازه های شخصی'!AY5","v":"عنوان 23"},{"$f":"'اندازه های شخصی'!BA5","v":"عنوان 24"},{"$f":"'اندازه های شخصی'!BC5","v":"عنوان 25"},{"$f":"'اندازه های شخصی'!BE5","v":"عنوان 26"},{"$f":"'اندازه های شخصی'!BG5","v":"عنوان 27"},{"$f":"'اندازه های شخصی'!BI5","v":"عنوان 28"},{"$f":"'اندازه های شخصی'!BK5","v":"عنوان 29"},{"$f":"'اندازه های شخصی'!BM5","v":"عنوان 30"},{"$f":"'اندازه های شخصی'!BO5","v":"عنوان 31"},{"$f":"'اندازه های شخصی'!BQ5","v":"عنوان 32"},{"$f":"'اندازه های شخصی'!BS5","v":"عنوان 33"},{"$f":"'اندازه های شخصی'!BU5","v":"عنوان 34"},{"$f":"'اندازه های شخصی'!BW5","v":"عنوان 35"},{"$f":"'اندازه های شخصی'!BY5","v":"عنوان 36"},{"$f":"'اندازه های شخصی'!CA5","v":"عنوان 37"},{"$f":"'اندازه های شخصی'!CC5","v":"عنوان 38"},{"$f":"'اندازه های شخصی'!CE5","v":"عنوان 39"},{"$f":"'اندازه های شخصی'!CG5","v":"عنوان 40"}]
[null,null,null,null,null,null,null,null,null,null,null,null,null,null,null,null,null,null,null,"a",41,42,45,47,48,49,51,53,55,57,59,61,63,65.5,68,71,73,75,63,65,68,72,77,82,87,92,97,103,110,117,124,131,74,78,82,86,90,94,98,102,106,111,116,121,126,131,47,48,49,51,53,55,57,59,61,63,65.5,68,71,73,75,67,69,72,76,81,86,91,96,101,107,114,121,127,135,75.5,79.599999999999994,83.6,87.7,91.8,95.9,100,104,108.1,113.2,118.3,123.4,128.5,133.6,{"$f":"'اندازه های شخصی'!G8","v":0},{"$f":"'اندازه های شخصی'!I8","v":0},{"$f":"'اندازه های شخصی'!K8","v":0},{"$f":"'اندازه های شخصی'!M8","v":0},{"$f":"'اندازه های شخصی'!O8","v":0},{"$f":"'اندازه های شخصی'!Q8","v":0},{"$f":"'اندازه های شخصی'!S8","v":0},{"$f":"'اندازه های شخصی'!U8","v":0},{"$f":"'اندازه های شخصی'!W8","v":0},{"$f":"'اندازه های شخصی'!Y8","v":0},{"$f":"'اندازه های شخصی'!AA8","v":0},{"$f":"'اندازه های شخصی'!AC8","v":0},{"$f":"'اندازه های شخصی'!AE8","v":0},{"$f":"'اندازه های شخصی'!AG8","v":0},{"$f":"'اندازه های شخصی'!AI8","v":0},{"$f":"'اندازه های شخصی'!AK8","v":0},{"$f":"'اندازه های شخصی'!AM8","v":0},{"$f":"'اندازه های شخصی'!AO8","v":0},{"$f":"'اندازه های شخصی'!AQ8","v":0},{"$f":"'اندازه های شخصی'!AS8","v":0},{"$f":"'اندازه های شخصی'!AU8","v":0},{"$f":"'اندازه های شخصی'!AW8","v":0},{"$f":"'اندازه های شخصی'!AY8","v":0},{"$f":"'اندازه های شخصی'!BA8","v":0},{"$f":"'اندازه های شخصی'!BC8","v":0},{"$f":"'اندازه های شخصی'!BE8","v":0},{"$f":"'اندازه های شخصی'!BG8","v":0},{"$f":"'اندازه های شخصی'!BI8","v":0},{"$f":"'اندازه های شخصی'!BK8","v":0},{"$f":"'اندازه های شخصی'!BM8","v":0},{"$f":"'اندازه های شخصی'!BO8","v":0},{"$f":"'اندازه های شخصی'!BQ8","v":0},{"$f":"'اندازه های شخصی'!BS8","v":0},{"$f":"'اندازه های شخصی'!BU8","v":0},{"$f":"'اندازه های شخصی'!BW8","v":0},{"$f":"'اندازه های شخصی'!BY8","v":0},{"$f":"'اندازه های شخصی'!CA8","v":0},{"$f":"'اندازه های شخصی'!CC8","v":0},{"$f":"'اندازه های شخصی'!CE8","v":0},{"$f":"'اندازه های شخصی'!CG8","v":0}]
[" متغیرهای ورودی چادر شماره 2",null,null,null,null," متغیرهای ورودی چادر شماره 2","x1","y1","x2","y2(بهینه)","a","b",null,"کمترین",null,"بیشترین",null,null,null,"b",20.100000000000001,20.6,22.1,23,23.5,24,25,26,27,27.9,28.9,29.9,30.9,32.1,33.299999999999997,34.799999999999997,35.799999999999997,36.799999999999997,32.200000000000003,32.700000000000003,33.700000000000003,35.200000000000003,36.9,38.700000000000003,40.6,42.3,44.3,47.5,51,54.8,59.2,63.6,37,39,41,43,45,47,49,51,53,55.5,58,60.5,63,65.5,23,23.5,24,25,26,27,27.9,28.9,29.9,30.9,32.1,33.299999999999997,34.799999999999997,35.799999999999997,36.799999999999997,34.200000000000003,34.700000000000003,35.700000000000003,37.1,38.799999999999997,40.6,42.4,44.2,46.1,49.4,52.8,56.7,60.7,64.5,37.799999999999997,39.799999999999997,41.8,43.9,45.9,48,50,52,54.1,56.6,59.2,61.7,64.3,66.8,{"$f":"'اندازه های شخصی'!G9","v":0},{"$f":"'اندازه های شخصی'!I9","v":0},{"$f":"'اندازه های شخصی'!K9","v":0},{"$f":"'اندازه های شخصی'!M9","v":0},{"$f":"'اندازه های شخصی'!O9","v":0},{"$f":"'اندازه های شخصی'!Q9","v":0},{"$f":"'اندازه های شخصی'!S9","v":0},{"$f":"'اندازه های شخصی'!U9","v":0},{"$f":"'اندازه های شخصی'!W9","v":0},{"$f":"'اندازه های شخصی'!Y9","v":0},{"$f":"'اندازه های شخصی'!AA9","v":0},{"$f":"'اندازه های شخصی'!AC9","v":0},{"$f":"'اندازه های شخصی'!AE9","v":0},{"$f":"'اندازه های شخصی'!AG9","v":0},{"$f":"'اندازه های شخصی'!AI9","v":0},{"$f":"'اندازه های شخصی'!AK9","v":0},{"$f":"'اندازه های شخصی'!AM9","v":0},{"$f":"'اندازه های شخصی'!AO9","v":0},{"$f":"'اندازه های شخصی'!AQ9","v":0},{"$f":"'اندازه های شخصی'!AS9","v":0},{"$f":"'اندازه های شخصی'!AU9","v":0},{"$f":"'اندازه های شخصی'!AW9","v":0},{"$f":"'اندازه های شخصی'!AY9","v":0},{"$f":"'اندازه های شخصی'!BA9","v":0},{"$f":"'اندازه های شخصی'!BC9","v":0},{"$f":"'اندازه های شخصی'!BE9","v":0},{"$f":"'اندازه های شخصی'!BG9","v":0},{"$f":"'اندازه های شخصی'!BI9","v":0},{"$f":"'اندازه های شخصی'!BK9","v":0},{"$f":"'اندازه های شخصی'!BM9","v":0},{"$f":"'اندازه های شخصی'!BO9","v":0},{"$f":"'اندازه های شخصی'!BQ9","v":0},{"$f":"'اندازه های شخصی'!BS9","v":0},{"$f":"'اندازه های شخصی'!BU9","v":0},{"$f":"'اندازه های شخصی'!BW9","v":0},{"$f":"'اندازه های شخصی'!BY9","v":0},{"$f":"'اندازه های شخصی'!CA9","v":0},{"$f":"'اندازه های شخصی'!CC9","v":0},{"$f":"'اندازه های شخصی'!CE9","v":0},{"$f":"'اندازه های شخصی'!CG9","v":0}]
["ضریب فاصله لبه چادر تا زمین   j0","(از -0.1 الی 0.5)",{"$f":"K9*E9+L9","v":0},"خط زمین=0 \nخط زانو=1  ",{"$f":"'طراحی همه الگوها'!Q188","v":10},"ضریب فاصله لبه چادر تا زمین   ",10,0,30,1,{"$f":"(J9-H9)/(I9-G9)","v":0.05},{"$f":"H9-G9*K9","v":-0.5},-0.1,{"$f":"(M9-L9)/K9","v":8},0.5,{"$f":"(O9-L9)/K9","v":20},0,{"$f":"(Q9-L9)/K9","v":10},null,"c",43,45,48,50,53,56,59,62,65,68,71,74,77,80,83,85,89,93,85,89,93,97,102,107,112,117,122,126,132,138,144,150,92,96,100,104,108,112,116,120,124,128,132,136,140,144,50,53,56,59,62,65,68,71,74,77,80,83,85,89,93,85,89,93,97,102,107,112,117,122,126,132,138,144,150,92,96,100,104,108,112,116,120,124,128,132,136,140,144,{"$f":"'اندازه های شخصی'!G10","v":0},{"$f":"'اندازه های شخصی'!I10","v":0},{"$f":"'اندازه های شخصی'!K10","v":0},{"$f":"'اندازه های شخصی'!M10","v":0},{"$f":"'اندازه های شخصی'!O10","v":0},{"$f":"'اندازه های شخصی'!Q10","v":0},{"$f":"'اندازه های شخصی'!S10","v":0},{"$f":"'اندازه های شخصی'!U10","v":0},{"$f":"'اندازه های شخصی'!W10","v":0},{"$f":"'اندازه های شخصی'!Y10","v":0},{"$f":"'اندازه های شخصی'!AA10","v":0},{"$f":"'اندازه های شخصی'!AC10","v":0},{"$f":"'اندازه های شخصی'!AE10","v":0},{"$f":"'اندازه های شخصی'!AG10","v":0},{"$f":"'اندازه های شخصی'!AI10","v":0},{"$f":"'اندازه های شخصی'!AK10","v":0},{"$f":"'اندازه های شخصی'!AM10","v":0},{"$f":"'اندازه های شخصی'!AO10","v":0},{"$f":"'اندازه های شخصی'!AQ10","v":0},{"$f":"'اندازه های شخصی'!AS10","v":0},{"$f":"'اندازه های شخصی'!AU10","v":0},{"$f":"'اندازه های شخصی'!AW10","v":0},{"$f":"'اندازه های شخصی'!AY10","v":0},{"$f":"'اندازه های شخصی'!BA10","v":0},{"$f":"'اندازه های شخصی'!BC10","v":0},{"$f":"'اندازه های شخصی'!BE10","v":0},{"$f":"'اندازه های شخصی'!BG10","v":0},{"$f":"'اندازه های شخصی'!BI10","v":0},{"$f":"'اندازه های شخصی'!BK10","v":0},{"$f":"'اندازه های شخصی'!BM10","v":0},{"$f":"'اندازه های شخصی'!BO10","v":0},{"$f":"'اندازه های شخصی'!BQ10","v":0},{"$f":"'اندازه های شخصی'!BS10","v":0},{"$f":"'اندازه های شخصی'!BU10","v":0},{"$f":"'اندازه های شخصی'!BW10","v":0},{"$f":"'اندازه های شخصی'!BY10","v":0},{"$f":"'اندازه های شخصی'!CA10","v":0},{"$f":"'اندازه های شخصی'!CC10","v":0},{"$f":"'اندازه های شخصی'!CE10","v":0},{"$f":"'اندازه های شخصی'!CG10","v":0}]
["ضریب قرارگیری نقطه اتصال جلو چادر به پشت چادر  a0","(از 0.5 الی 1.2)",1,"روی پیشانی=0.5 \nبالای گوش=1  ",{"$f":"'طراحی همه الگوها'!Q189","v":20},"مکان نقطه اتصال جلو چادر به پشت چادر  ",10,0.5,20,1,0.05,0,0.5,10,1.2,23.999999999999996,0.5,10,null,"d",24.1,25.2,26.9,28,29.7,31.4,31.3,32.9,34.5,36,37.6,39.200000000000003,40.799999999999997,42.4,44,45.1,47.2,49.3,47.5,49,50.4,51.9,53.6,55.4,57.2,59,61,63.7,67,70.8,75.3,79.8,50.6,52.8,55,57.2,59.4,61.6,63.8,66,68.2,70.400000000000006,72.599999999999994,74.8,77,79.2,28,29.7,31.4,31.3,33.5,35.1,36.700000000000003,38.299999999999997,40,41.6,43.2,44,45.1,47.2,49.3,47.5,49,50.4,51.9,53.6,55.4,57.2,59,61,63.7,67,70.8,75.3,79.8,48.3,50.4,52.5,54.6,56.7,58.8,60.9,63,65.099999999999994,67.2,69.3,71.400000000000006,73.5,75.599999999999994,{"$f":"'اندازه های شخصی'!G11","v":0},{"$f":"'اندازه های شخصی'!I11","v":0},{"$f":"'اندازه های شخصی'!K11","v":0},{"$f":"'اندازه های شخصی'!M11","v":0},{"$f":"'اندازه های شخصی'!O11","v":0},{"$f":"'اندازه های شخصی'!Q11","v":0},{"$f":"'اندازه های شخصی'!S11","v":0},{"$f":"'اندازه های شخصی'!U11","v":0},{"$f":"'اندازه های شخصی'!W11","v":0},{"$f":"'اندازه های شخصی'!Y11","v":0},{"$f":"'اندازه های شخصی'!AA11","v":0},{"$f":"'اندازه های شخصی'!AC11","v":0},{"$f":"'اندازه های شخصی'!AE11","v":0},{"$f":"'اندازه های شخصی'!AG11","v":0},{"$f":"'اندازه های شخصی'!AI11","v":0},{"$f":"'اندازه های شخصی'!AK11","v":0},{"$f":"'اندازه های شخصی'!AM11","v":0},{"$f":"'اندازه های شخصی'!AO11","v":0},{"$f":"'اندازه های شخصی'!AQ11","v":0},{"$f":"'اندازه های شخصی'!AS11","v":0},{"$f":"'اندازه های شخصی'!AU11","v":0},{"$f":"'اندازه های شخصی'!AW11","v":0},{"$f":"'اندازه های شخصی'!AY11","v":0},{"$f":"'اندازه های شخصی'!BA11","v":0},{"$f":"'اندازه های شخصی'!BC11","v":0},{"$f":"'اندازه های شخصی'!BE11","v":0},{"$f":"'اندازه های شخصی'!BG11","v":0},{"$f":"'اندازه های شخصی'!BI11","v":0},{"$f":"'اندازه های شخصی'!BK11","v":0},{"$f":"'اندازه های شخصی'!BM11","v":0},{"$f":"'اندازه های شخصی'!BO11","v":0},{"$f":"'اندازه های شخصی'!BQ11","v":0},{"$f":"'اندازه های شخصی'!BS11","v":0},{"$f":"'اندازه های شخصی'!BU11","v":0},{"$f":"'اندازه های شخصی'!BW11","v":0},{"$f":"'اندازه های شخصی'!BY11","v":0},{"$f":"'اندازه های شخصی'!CA11","v":0},{"$f":"'اندازه های شخصی'!CC11","v":0},{"$f":"'اندازه های شخصی'!CE11","v":0},{"$f":"'اندازه های شخصی'!CG11","v":0}]
["ضریب گشادی عرضی چادر  a1","(از 0.35 الی 0.53)",0.45,"بهینه=0.45",{"$f":"'طراحی همه الگوها'!Q190","v":20},"ضریب گشادی عرضی چادر  ",21,0.46,20,0.45,1.0000000000000009E-2,0.24999999999999983,0.35,10.000000000000005,0.53,27.999999999999993,0.45,20,null,"e",23,25,32,38,42,48,53.9,60.4,66.400000000000006,70.400000000000006,74.400000000000006,77.900000000000006,80.900000000000006,84.4,87.9,91.9,95.9,99.9,101,102,103,104,104.4,104.9,105.4,105.9,106.4,106.9,107.4,107.9,108.4,108.9,103.8,105.1,106.5,107.2,107.8,108.4,109,109.6,110.2,110.7,111.2,111.7,112.2,112.7,38,42,48,53.9,60.4,66.400000000000006,70.400000000000006,74.400000000000006,77.900000000000006,80.900000000000006,84.4,87.9,91.9,95.9,99.9,101,102,103,104,104.4,104.9,105.4,105.9,106.4,106.9,107.4,107.9,108.4,108.9,104.7,106.1,107.5,108.2,108.8,109.4,110,110.6,111.2,111.7,112.2,112.7,113.2,113.7,{"$f":"'اندازه های شخصی'!G12","v":0},{"$f":"'اندازه های شخصی'!I12","v":0},{"$f":"'اندازه های شخصی'!K12","v":0},{"$f":"'اندازه های شخصی'!M12","v":0},{"$f":"'اندازه های شخصی'!O12","v":0},{"$f":"'اندازه های شخصی'!Q12","v":0},{"$f":"'اندازه های شخصی'!S12","v":0},{"$f":"'اندازه های شخصی'!U12","v":0},{"$f":"'اندازه های شخصی'!W12","v":0},{"$f":"'اندازه های شخصی'!Y12","v":0},{"$f":"'اندازه های شخصی'!AA12","v":0},{"$f":"'اندازه های شخصی'!AC12","v":0},{"$f":"'اندازه های شخصی'!AE12","v":0},{"$f":"'اندازه های شخصی'!AG12","v":0},{"$f":"'اندازه های شخصی'!AI12","v":0},{"$f":"'اندازه های شخصی'!AK12","v":0},{"$f":"'اندازه های شخصی'!AM12","v":0},{"$f":"'اندازه های شخصی'!AO12","v":0},{"$f":"'اندازه های شخصی'!AQ12","v":0},{"$f":"'اندازه های شخصی'!AS12","v":0},{"$f":"'اندازه های شخصی'!AU12","v":0},{"$f":"'اندازه های شخصی'!AW12","v":0},{"$f":"'اندازه های شخصی'!AY12","v":0},{"$f":"'اندازه های شخصی'!BA12","v":0},{"$f":"'اندازه های شخصی'!BC12","v":0},{"$f":"'اندازه های شخصی'!BE12","v":0},{"$f":"'اندازه های شخصی'!BG12","v":0},{"$f":"'اندازه های شخصی'!BI12","v":0},{"$f":"'اندازه های شخصی'!BK12","v":0},{"$f":"'اندازه های شخصی'!BM12","v":0},{"$f":"'اندازه های شخصی'!BO12","v":0},{"$f":"'اندازه های شخصی'!BQ12","v":0},{"$f":"'اندازه های شخصی'!BS12","v":0},{"$f":"'اندازه های شخصی'!BU12","v":0},{"$f":"'اندازه های شخصی'!BW12","v":0},{"$f":"'اندازه های شخصی'!BY12","v":0},{"$f":"'اندازه های شخصی'!CA12","v":0},{"$f":"'اندازه های شخصی'!CC12","v":0},{"$f":"'اندازه های شخصی'!CE12","v":0},{"$f":"'اندازه های شخصی'!CG12","v":0}]
["ضریب گشادی دور مچ  a2","(از 1.1 الی 2)",1.7000000000000006,"بهینه=1.7",{"$f":"'طراحی همه الگوها'!Q191","v":7},"ضریب گشادی دور مچ  ",1,1.1000000000000001,0,1,0.10000000000000009,1,1.1000000000000001,1,2,9.9999999999999911,1.7,6.9999999999999929,null,"f",23,25,32,38,42,48,54,60.5,66.5,70.5,74.5,78,81,84.5,88,92,96,100,102,103,104,105,105.5,106,106.5,107,107.5,108,108.5,109,109.5,110,104.8,106.2,107.6,108.3,108.9,109.5,110.1,110.7,111.3,111.8,112.3,112.8,113.3,113.8,38,42,48,54,60.5,66.5,70.5,74.5,78,81,84.5,88,92,96,100,102,103,104,105,105.5,106,106.5,107,107.5,108,108.5,109,109.5,110,104.8,106.2,107.6,108.3,108.9,109.5,110.1,110.7,111.3,111.8,112.3,112.8,113.3,113.8,{"$f":"'اندازه های شخصی'!G13","v":0},{"$f":"'اندازه های شخصی'!I13","v":0},{"$f":"'اندازه های شخصی'!K13","v":0},{"$f":"'اندازه های شخصی'!M13","v":0},{"$f":"'اندازه های شخصی'!O13","v":0},{"$f":"'اندازه های شخصی'!Q13","v":0},{"$f":"'اندازه های شخصی'!S13","v":0},{"$f":"'اندازه های شخصی'!U13","v":0},{"$f":"'اندازه های شخصی'!W13","v":0},{"$f":"'اندازه های شخصی'!Y13","v":0},{"$f":"'اندازه های شخصی'!AA13","v":0},{"$f":"'اندازه های شخصی'!AC13","v":0},{"$f":"'اندازه های شخصی'!AE13","v":0},{"$f":"'اندازه های شخصی'!AG13","v":0},{"$f":"'اندازه های شخصی'!AI13","v":0},{"$f":"'اندازه های شخصی'!AK13","v":0},{"$f":"'اندازه های شخصی'!AM13","v":0},{"$f":"'اندازه های شخصی'!AO13","v":0},{"$f":"'اندازه های شخصی'!AQ13","v":0},{"$f":"'اندازه های شخصی'!AS13","v":0},{"$f":"'اندازه های شخصی'!AU13","v":0},{"$f":"'اندازه های شخصی'!AW13","v":0},{"$f":"'اندازه های شخصی'!AY13","v":0},{"$f":"'اندازه های شخصی'!BA13","v":0},{"$f":"'اندازه های شخصی'!BC13","v":0},{"$f":"'اندازه های شخصی'!BE13","v":0},{"$f":"'اندازه های شخصی'!BG13","v":0},{"$f":"'اندازه های شخصی'!BI13","v":0},{"$f":"'اندازه های شخصی'!BK13","v":0},{"$f":"'اندازه های شخصی'!BM13","v":0},{"$f":"'اندازه های شخصی'!BO13","v":0},{"$f":"'اندازه های شخصی'!BQ13","v":0},{"$f":"'اندازه های شخصی'!BS13","v":0},{"$f":"'اندازه های شخصی'!BU13","v":0},{"$f":"'اندازه های شخصی'!BW13","v":0},{"$f":"'اندازه های شخصی'!BY13","v":0},{"$f":"'اندازه های شخصی'!CA13","v":0},{"$f":"'اندازه های شخصی'!CC13","v":0},{"$f":"'اندازه های شخصی'!CE13","v":0},{"$f":"'اندازه های شخصی'!CG13","v":0}]
["ضریب بلند شدن آستین نسبت به مچ  a4","(از -0.4 الی 0.4)",0,"آستین تا مچ=0 \nآستین کوتاه تر از مچ = منفی \nآستین بلند تر از مچ = مثبت   ",{"$f":"'طراحی همه الگوها'!Q192","v":10},"بلند شدن آستین چادر نسبت به مچ اندام ",30,-0.45,10,0,-2.2499999999999999E-2,0.22499999999999992,-0.4,27.777777777777779,0.4,-7.7777777777777821,0,9.9999999999999964,null,"g",23,25,32,38,42,48,54.1,60.6,66.599999999999994,70.599999999999994,74.599999999999994,78.099999999999994,81.099999999999994,84.6,88.1,92.1,96.1,100.1,103,104,105,106.1,106.6,107.1,107.6,108.1,108.6,109.1,109.6,110.1,110.6,111.1,105.8,107.3,108.7,109.4,110,110.6,111.2,111.8,112.4,112.9,113.4,113.9,114.4,114.9,38,42,48,54.1,60.6,66.599999999999994,70.599999999999994,74.599999999999994,78.099999999999994,81.099999999999994,84.6,88.1,92.1,96.1,100.1,103,104,105,106.1,106.6,107.1,107.6,108.1,108.6,109.1,109.6,110.1,110.6,111.1,104.9,106.3,107.7,108.4,109,109.6,110.2,110.8,111.4,111.9,112.4,112.9,113.4,113.9,{"$f":"'اندازه های شخصی'!G14","v":0},{"$f":"'اندازه های شخصی'!I14","v":0},{"$f":"'اندازه های شخصی'!K14","v":0},{"$f":"'اندازه های شخصی'!M14","v":0},{"$f":"'اندازه های شخصی'!O14","v":0},{"$f":"'اندازه های شخصی'!Q14","v":0},{"$f":"'اندازه های شخصی'!S14","v":0},{"$f":"'اندازه های شخصی'!U14","v":0},{"$f":"'اندازه های شخصی'!W14","v":0},{"$f":"'اندازه های شخصی'!Y14","v":0},{"$f":"'اندازه های شخصی'!AA14","v":0},{"$f":"'اندازه های شخصی'!AC14","v":0},{"$f":"'اندازه های شخصی'!AE14","v":0},{"$f":"'اندازه های شخصی'!AG14","v":0},{"$f":"'اندازه های شخصی'!AI14","v":0},{"$f":"'اندازه های شخصی'!AK14","v":0},{"$f":"'اندازه های شخصی'!AM14","v":0},{"$f":"'اندازه های شخصی'!AO14","v":0},{"$f":"'اندازه های شخصی'!AQ14","v":0},{"$f":"'اندازه های شخصی'!AS14","v":0},{"$f":"'اندازه های شخصی'!AU14","v":0},{"$f":"'اندازه های شخصی'!AW14","v":0},{"$f":"'اندازه های شخصی'!AY14","v":0},{"$f":"'اندازه های شخصی'!BA14","v":0},{"$f":"'اندازه های شخصی'!BC14","v":0},{"$f":"'اندازه های شخصی'!BE14","v":0},{"$f":"'اندازه های شخصی'!BG14","v":0},{"$f":"'اندازه های شخصی'!BI14","v":0},{"$f":"'اندازه های شخصی'!BK14","v":0},{"$f":"'اندازه های شخصی'!BM14","v":0},{"$f":"'اندازه های شخصی'!BO14","v":0},{"$f":"'اندازه های شخصی'!BQ14","v":0},{"$f":"'اندازه های شخصی'!BS14","v":0},{"$f":"'اندازه های شخصی'!BU14","v":0},{"$f":"'اندازه های شخصی'!BW14","v":0},{"$f":"'اندازه های شخصی'!BY14","v":0},{"$f":"'اندازه های شخصی'!CA14","v":0},{"$f":"'اندازه های شخصی'!CC14","v":0},{"$f":"'اندازه های شخصی'!CE14","v":0},{"$f":"'اندازه های شخصی'!CG14","v":0}]
["انتخاب چادر تا پایین پیشانی=1    انتخاب چادر تا بالای پیشانی=0\nانتخاب چادر روی سر = -1"," -1 یا 0 یا 1",0,null,{"$f":"'طراحی همه الگوها'!Q193","v":2},"انتخاب چادر تا پایین پیشانی=3    انتخاب چادر تا بالای پیشانی=2\nانتخاب چادر روی سر = 1",2,0,1,-1,1,-2,0,2,1,3,1,3,null,"h",7.4,8.4,11.1,13.4,14.9,17.2,24.9,27.4,30.3,32.1,33.9,35.4,36.6,38.200000000000003,39.700000000000003,41.4,43.5,45.7,44.5,45,45.5,46,46,46,46,46,46.3,46.3,46.4,46.5,46.6,46.7,48.1,48.8,49.6,50,50.4,50.8,51.2,51.5,51.9,52.3,52.6,53,53.2,53.6,13.4,14.9,17.2,24.9,27.4,30.3,32.1,33.9,35.4,36.6,38.200000000000003,39.700000000000003,41.4,43.5,45.7,44.5,45,45.5,46,46,46,46,46,46.3,46.3,46.4,46.5,46.6,46.7,48.1,48.8,49.6,50,50.3,50.8,51.2,51.5,51.9,52.3,52.6,52.9,53.3,53.6,{"$f":"'اندازه های شخصی'!G15","v":0},{"$f":"'اندازه های شخصی'!I15","v":0},{"$f":"'اندازه های شخصی'!K15","v":0},{"$f":"'اندازه های شخصی'!M15","v":0},{"$f":"'اندازه های شخصی'!O15","v":0},{"$f":"'اندازه های شخصی'!Q15","v":0},{"$f":"'اندازه های شخصی'!S15","v":0},{"$f":"'اندازه های شخصی'!U15","v":0},{"$f":"'اندازه های شخصی'!W15","v":0},{"$f":"'اندازه های شخصی'!Y15","v":0},{"$f":"'اندازه های شخصی'!AA15","v":0},{"$f":"'اندازه های شخصی'!AC15","v":0},{"$f":"'اندازه های شخصی'!AE15","v":0},{"$f":"'اندازه های شخصی'!AG15","v":0},{"$f":"'اندازه های شخصی'!AI15","v":0},{"$f":"'اندازه های شخصی'!AK15","v":0},{"$f":"'اندازه های شخصی'!AM15","v":0},{"$f":"'اندازه های شخصی'!AO15","v":0},{"$f":"'اندازه های شخصی'!AQ15","v":0},{"$f":"'اندازه های شخصی'!AS15","v":0},{"$f":"'اندازه های شخصی'!AU15","v":0},{"$f":"'اندازه های شخصی'!AW15","v":0},{"$f":"'اندازه های شخصی'!AY15","v":0},{"$f":"'اندازه های شخصی'!BA15","v":0},{"$f":"'اندازه های شخصی'!BC15","v":0},{"$f":"'اندازه های شخصی'!BE15","v":0},{"$f":"'اندازه های شخصی'!BG15","v":0},{"$f":"'اندازه های شخصی'!BI15","v":0},{"$f":"'اندازه های شخصی'!BK15","v":0},{"$f":"'اندازه های شخصی'!BM15","v":0},{"$f":"'اندازه های شخصی'!BO15","v":0},{"$f":"'اندازه های شخصی'!BQ15","v":0},{"$f":"'اندازه های شخصی'!BS15","v":0},{"$f":"'اندازه های شخصی'!BU15","v":0},{"$f":"'اندازه های شخصی'!BW15","v":0},{"$f":"'اندازه های شخصی'!BY15","v":0},{"$f":"'اندازه های شخصی'!CA15","v":0},{"$f":"'اندازه های شخصی'!CC15","v":0},{"$f":"'اندازه های شخصی'!CE15","v":0},{"$f":"'اندازه های شخصی'!CG15","v":0}]
[null,null,null,null,null,null,null,null,null,null,null,null,null,null,null,null,null,null,null,"j",15.8,17.899999999999999,23.8,28.7,31.8,36.700000000000003,45.2,49.8,55.1,58.3,61.6,64.3,66.5,69.400000000000006,72.099999999999994,75.3,79.099999999999994,83,82.5,82.7,83.4,84.1,84.3,84.5,84.7,85,85.3,85.7,86.1,86.5,86.9,87.3,87.4,88.8,90.2,90.9,91.6,92.3,93,93.7,94.3,95,95.7,96.3,96.8,97.5,28.7,31.8,36.700000000000003,45.2,49.8,55.1,58.3,61.6,64.3,66.5,69.400000000000006,72.099999999999994,75.3,79.099999999999994,83,82.5,82.7,83.4,84.1,84.3,84.5,84.7,85,85.3,85.7,86.1,86.5,86.9,87.3,87.4,88.8,90.2,90.9,91.5,92.3,93,93.6,94.4,95,95.7,96.2,96.9,97.5,{"$f":"'اندازه های شخصی'!G16","v":0},{"$f":"'اندازه های شخصی'!I16","v":0},{"$f":"'اندازه های شخصی'!K16","v":0},{"$f":"'اندازه های شخصی'!M16","v":0},{"$f":"'اندازه های شخصی'!O16","v":0},{"$f":"'اندازه های شخصی'!Q16","v":0},{"$f":"'اندازه های شخصی'!S16","v":0},{"$f":"'اندازه های شخصی'!U16","v":0},{"$f":"'اندازه های شخصی'!W16","v":0},{"$f":"'اندازه های شخصی'!Y16","v":0},{"$f":"'اندازه های شخصی'!AA16","v":0},{"$f":"'اندازه های شخصی'!AC16","v":0},{"$f":"'اندازه های شخصی'!AE16","v":0},{"$f":"'اندازه های شخصی'!AG16","v":0},{"$f":"'اندازه های شخصی'!AI16","v":0},{"$f":"'اندازه های شخصی'!AK16","v":0},{"$f":"'اندازه های شخصی'!AM16","v":0},{"$f":"'اندازه های شخصی'!AO16","v":0},{"$f":"'اندازه های شخصی'!AQ16","v":0},{"$f":"'اندازه های شخصی'!AS16","v":0},{"$f":"'اندازه های شخصی'!AU16","v":0},{"$f":"'اندازه های شخصی'!AW16","v":0},{"$f":"'اندازه های شخصی'!AY16","v":0},{"$f":"'اندازه های شخصی'!BA16","v":0},{"$f":"'اندازه های شخصی'!BC16","v":0},{"$f":"'اندازه های شخصی'!BE16","v":0},{"$f":"'اندازه های شخصی'!BG16","v":0},{"$f":"'اندازه های شخصی'!BI16","v":0},{"$f":"'اندازه های شخصی'!BK16","v":0},{"$f":"'اندازه های شخصی'!BM16","v":0},{"$f":"'اندازه های شخصی'!BO16","v":0},{"$f":"'اندازه های شخصی'!BQ16","v":0},{"$f":"'اندازه های شخصی'!BS16","v":0},{"$f":"'اندازه های شخصی'!BU16","v":0},{"$f":"'اندازه های شخصی'!BW16","v":0},{"$f":"'اندازه های شخصی'!BY16","v":0},{"$f":"'اندازه های شخصی'!CA16","v":0},{"$f":"'اندازه های شخصی'!CC16","v":0},{"$f":"'اندازه های شخصی'!CE16","v":0},{"$f":"'اندازه های شخصی'!CG16","v":0}]
[" متغیرهای ورودی چادر شماره 3",null,null,null,null," متغیرهای ورودی چادر شماره 3","x1","y1","x2","y2(بهینه)","a","b",null,"کمترین",null,"بیشترین",null,null,null,"L",17.600000000000001,18.5,19.7,20.5,21.7,23,24.2,25.4,26.7,27.9,29.1,30.3,31.6,32.799999999999997,34,34.9,36.5,38.1,34.9,36.5,38.1,39.799999999999997,41.8,43.9,45.9,48,50,51.7,54.1,56.6,59,61.5,37.700000000000003,39.4,41,42.6,44.3,45.9,47.6,49.2,50.8,52.5,54.1,55.8,57.4,59,20.5,21.7,23,24.2,25.4,26.7,27.9,29.1,30.3,31.6,32.799999999999997,34,34.9,36.5,38.1,34.9,36.5,38.1,39.799999999999997,41.8,43.9,45.9,48,50,51.7,54.1,56.6,59,61.5,37.700000000000003,39.4,41,42.6,44.3,45.9,47.6,49.2,50.8,52.5,54.1,55.8,57.4,59,{"$f":"'اندازه های شخصی'!G17","v":0},{"$f":"'اندازه های شخصی'!I17","v":0},{"$f":"'اندازه های شخصی'!K17","v":0},{"$f":"'اندازه های شخصی'!M17","v":0},{"$f":"'اندازه های شخصی'!O17","v":0},{"$f":"'اندازه های شخصی'!Q17","v":0},{"$f":"'اندازه های شخصی'!S17","v":0},{"$f":"'اندازه های شخصی'!U17","v":0},{"$f":"'اندازه های شخصی'!W17","v":0},{"$f":"'اندازه های شخصی'!Y17","v":0},{"$f":"'اندازه های شخصی'!AA17","v":0},{"$f":"'اندازه های شخصی'!AC17","v":0},{"$f":"'اندازه های شخصی'!AE17","v":0},{"$f":"'اندازه های شخصی'!AG17","v":0},{"$f":"'اندازه های شخصی'!AI17","v":0},{"$f":"'اندازه های شخصی'!AK17","v":0},{"$f":"'اندازه های شخصی'!AM17","v":0},{"$f":"'اندازه های شخصی'!AO17","v":0},{"$f":"'اندازه های شخصی'!AQ17","v":0},{"$f":"'اندازه های شخصی'!AS17","v":0},{"$f":"'اندازه های شخصی'!AU17","v":0},{"$f":"'اندازه های شخصی'!AW17","v":0},{"$f":"'اندازه های شخصی'!AY17","v":0},{"$f":"'اندازه های شخصی'!BA17","v":0},{"$f":"'اندازه های شخصی'!BC17","v":0},{"$f":"'اندازه های شخصی'!BE17","v":0},{"$f":"'اندازه های شخصی'!BG17","v":0},{"$f":"'اندازه های شخصی'!BI17","v":0},{"$f":"'اندازه های شخصی'!BK17","v":0},{"$f":"'اندازه های شخصی'!BM17","v":0},{"$f":"'اندازه های شخصی'!BO17","v":0},{"$f":"'اندازه های شخصی'!BQ17","v":0},{"$f":"'اندازه های شخصی'!BS17","v":0},{"$f":"'اندازه های شخصی'!BU17","v":0},{"$f":"'اندازه های شخصی'!BW17","v":0},{"$f":"'اندازه های شخصی'!BY17","v":0},{"$f":"'اندازه های شخصی'!CA17","v":0},{"$f":"'اندازه های شخصی'!CC17","v":0},{"$f":"'اندازه های شخصی'!CE17","v":0},{"$f":"'اندازه های شخصی'!CG17","v":0}]
["ضریب فاصله لبه چادر تا زمین   j0","(از -0.1 الی 0.5)",{"$f":"K17*E17+L17","v":0},"خط زمین=0 \nخط زانو=1  ",{"$f":"'طراحی همه الگوها'!Q210","v":10},"ضریب فاصله لبه چادر تا زمین   ",10,0,30,1,{"$f":"(J17-H17)/(I17-G17)","v":0.05},{"$f":"H17-G17*K17","v":-0.5},-0.1,{"$f":"(M17-L17)/K17","v":8},0.5,{"$f":"(O17-L17)/K17","v":20},0,{"$f":"(Q17-L17)/K17","v":10},null,"m",10,10,11,12,13,14,14,16,17,18,19,20,21,22,23,24,24.5,25,25.1,25.8,26.4,27.1,27.8,28.4,29.1,29.7,30.3,31,31.6,32.299999999999997,32.9,33.5,23.1,23.5,23.8,24.2,24.5,24.7,25,25.3,25.6,25.8,26.1,26.4,26.7,26.9,12,13,14,14,16,17,18,19,20,21,22,23,24,24.5,25,25.1,25.8,26.4,27.1,27.8,28.4,29.1,29.7,30.3,31,31.6,32.299999999999997,32.9,33.5,23.1,23.5,23.8,24.2,24.5,24.7,25,25.3,25.5,25.8,26.1,26.4,26.6,26.9,{"$f":"'اندازه های شخصی'!G18","v":0},{"$f":"'اندازه های شخصی'!I18","v":0},{"$f":"'اندازه های شخصی'!K18","v":0},{"$f":"'اندازه های شخصی'!M18","v":0},{"$f":"'اندازه های شخصی'!O18","v":0},{"$f":"'اندازه های شخصی'!Q18","v":0},{"$f":"'اندازه های شخصی'!S18","v":0},{"$f":"'اندازه های شخصی'!U18","v":0},{"$f":"'اندازه های شخصی'!W18","v":0},{"$f":"'اندازه های شخصی'!Y18","v":0},{"$f":"'اندازه های شخصی'!AA18","v":0},{"$f":"'اندازه های شخصی'!AC18","v":0},{"$f":"'اندازه های شخصی'!AE18","v":0},{"$f":"'اندازه های شخصی'!AG18","v":0},{"$f":"'اندازه های شخصی'!AI18","v":0},{"$f":"'اندازه های شخصی'!AK18","v":0},{"$f":"'اندازه های شخصی'!AM18","v":0},{"$f":"'اندازه های شخصی'!AO18","v":0},{"$f":"'اندازه های شخصی'!AQ18","v":0},{"$f":"'اندازه های شخصی'!AS18","v":0},{"$f":"'اندازه های شخصی'!AU18","v":0},{"$f":"'اندازه های شخصی'!AW18","v":0},{"$f":"'اندازه های شخصی'!AY18","v":0},{"$f":"'اندازه های شخصی'!BA18","v":0},{"$f":"'اندازه های شخصی'!BC18","v":0},{"$f":"'اندازه های شخصی'!BE18","v":0},{"$f":"'اندازه های شخصی'!BG18","v":0},{"$f":"'اندازه های شخصی'!BI18","v":0},{"$f":"'اندازه های شخصی'!BK18","v":0},{"$f":"'اندازه های شخصی'!BM18","v":0},{"$f":"'اندازه های شخصی'!BO18","v":0},{"$f":"'اندازه های شخصی'!BQ18","v":0},{"$f":"'اندازه های شخصی'!BS18","v":0},{"$f":"'اندازه های شخصی'!BU18","v":0},{"$f":"'اندازه های شخصی'!BW18","v":0},{"$f":"'اندازه های شخصی'!BY18","v":0},{"$f":"'اندازه های شخصی'!CA18","v":0},{"$f":"'اندازه های شخصی'!CC18","v":0},{"$f":"'اندازه های شخصی'!CE18","v":0},{"$f":"'اندازه های شخصی'!CG18","v":0}]
["ضریب گشادی دور مچ  b2","(از 1.1 الی 2)",1.5000000000000004,"بهینه=1.5",{"$f":"'طراحی همه الگوها'!Q211","v":5},"ضریب گشادی دور مچ  ",1,1.1000000000000001,0,1,0.10000000000000009,1,1.1000000000000001,1,2,9.9999999999999911,1.5,4.9999999999999956,null,"q",29.1,29.6,32.799999999999997,35.700000000000003,38.5,41.7,37.700000000000003,42.6,45,47.6,50,52.7,55.3,57.7,60.3,62.6,64.400000000000006,66,65.2,67.2,69.2,71.099999999999994,73.400000000000006,75.2,77.3,79.400000000000006,81.2,83.3,85.3,87.5,89.7,91.7,66.5,67.8,69.2,70.5,71.599999999999994,72.8,73.900000000000006,75.099999999999994,76.400000000000006,77.400000000000006,78.5,79.599999999999994,80.900000000000006,81.8,35.700000000000003,38.5,41.7,37.700000000000003,42.6,45,47.6,50.1,52.7,55.3,57.7,60.3,62.6,64.400000000000006,66,65.2,67.2,69.2,71.099999999999994,73.400000000000006,75.2,77.3,79.400000000000006,81.2,83.3,85.3,87.5,89.7,91.7,66.3,67.7,69,70.3,71.7,72.599999999999994,73.8,75.099999999999994,76.099999999999994,77.2,78.3,79.599999999999994,80.5,81.7,{"$f":"'اندازه های شخصی'!G19","v":0},{"$f":"'اندازه های شخصی'!I19","v":0},{"$f":"'اندازه های شخصی'!K19","v":0},{"$f":"'اندازه های شخصی'!M19","v":0},{"$f":"'اندازه های شخصی'!O19","v":0},{"$f":"'اندازه های شخصی'!Q19","v":0},{"$f":"'اندازه های شخصی'!S19","v":0},{"$f":"'اندازه های شخصی'!U19","v":0},{"$f":"'اندازه های شخصی'!W19","v":0},{"$f":"'اندازه های شخصی'!Y19","v":0},{"$f":"'اندازه های شخصی'!AA19","v":0},{"$f":"'اندازه های شخصی'!AC19","v":0},{"$f":"'اندازه های شخصی'!AE19","v":0},{"$f":"'اندازه های شخصی'!AG19","v":0},{"$f":"'اندازه های شخصی'!AI19","v":0},{"$f":"'اندازه های شخصی'!AK19","v":0},{"$f":"'اندازه های شخصی'!AM19","v":0},{"$f":"'اندازه های شخصی'!AO19","v":0},{"$f":"'اندازه های شخصی'!AQ19","v":0},{"$f":"'اندازه های شخصی'!AS19","v":0},{"$f":"'اندازه های شخصی'!AU19","v":0},{"$f":"'اندازه های شخصی'!AW19","v":0},{"$f":"'اندازه های شخصی'!AY19","v":0},{"$f":"'اندازه های شخصی'!BA19","v":0},{"$f":"'اندازه های شخصی'!BC19","v":0},{"$f":"'اندازه های شخصی'!BE19","v":0},{"$f":"'اندازه های شخصی'!BG19","v":0},{"$f":"'اندازه های شخصی'!BI19","v":0},{"$f":"'اندازه های شخصی'!BK19","v":0},{"$f":"'اندازه های شخصی'!BM19","v":0},{"$f":"'اندازه های شخصی'!BO19","v":0},{"$f":"'اندازه های شخصی'!BQ19","v":0},{"$f":"'اندازه های شخصی'!BS19","v":0},{"$f":"'اندازه های شخصی'!BU19","v":0},{"$f":"'اندازه های شخصی'!BW19","v":0},{"$f":"'اندازه های شخصی'!BY19","v":0},{"$f":"'اندازه های شخصی'!CA19","v":0},{"$f":"'اندازه های شخصی'!CC19","v":0},{"$f":"'اندازه های شخصی'!CE19","v":0},{"$f":"'اندازه های شخصی'!CG19","v":0}]
["ضریب بلندی طول مچ  b3  معادل ضریب تنگی پایین چادر","(از0 الی 0.4)",0.15,"بهینه=0.15",{"$f":"'طراحی همه الگوها'!Q212","v":15},"گشادی پایین چادر (معادل بلندی طول مچ)",1,0.01,0,0,0.01,0,0,0,0.4,40,0.15,15,null,"r",13.5,13.5,14.2,14.9,16.2,16.2,17.600000000000001,17.600000000000001,17.600000000000001,18.899999999999999,18.899999999999999,20.3,21.6,20.3,21.6,22.3,23,23.6,23,23.5,24,24.5,25.1,25.7,26.3,26.9,27.5,28,28.5,29,29.5,30,24,25,26,27,28,29,29,29,29,29.4,29.8,30.2,32.6,31,14.9,16.2,16.2,17.600000000000001,17.600000000000001,17.600000000000001,18.899999999999999,18.899999999999999,20.3,21.6,20.3,21.6,22.3,23,23.6,23,23.5,24,24.5,25.1,25.7,26.3,26.9,27.5,28,28.5,29,29.5,30,24,25,26,27,28,29,29,29,29,29.4,29.8,30.2,32.6,31,{"$f":"'اندازه های شخصی'!G20","v":0},{"$f":"'اندازه های شخصی'!I20","v":0},{"$f":"'اندازه های شخصی'!K20","v":0},{"$f":"'اندازه های شخصی'!M20","v":0},{"$f":"'اندازه های شخصی'!O20","v":0},{"$f":"'اندازه های شخصی'!Q20","v":0},{"$f":"'اندازه های شخصی'!S20","v":0},{"$f":"'اندازه های شخصی'!U20","v":0},{"$f":"'اندازه های شخصی'!W20","v":0},{"$f":"'اندازه های شخصی'!Y20","v":0},{"$f":"'اندازه های شخصی'!AA20","v":0},{"$f":"'اندازه های شخصی'!AC20","v":0},{"$f":"'اندازه های شخصی'!AE20","v":0},{"$f":"'اندازه های شخصی'!AG20","v":0},{"$f":"'اندازه های شخصی'!AI20","v":0},{"$f":"'اندازه های شخصی'!AK20","v":0},{"$f":"'اندازه های شخصی'!AM20","v":0},{"$f":"'اندازه های شخصی'!AO20","v":0},{"$f":"'اندازه های شخصی'!AQ20","v":0},{"$f":"'اندازه های شخصی'!AS20","v":0},{"$f":"'اندازه های شخصی'!AU20","v":0},{"$f":"'اندازه های شخصی'!AW20","v":0},{"$f":"'اندازه های شخصی'!AY20","v":0},{"$f":"'اندازه های شخصی'!BA20","v":0},{"$f":"'اندازه های شخصی'!BC20","v":0},{"$f":"'اندازه های شخصی'!BE20","v":0},{"$f":"'اندازه های شخصی'!BG20","v":0},{"$f":"'اندازه های شخصی'!BI20","v":0},{"$f":"'اندازه های شخصی'!BK20","v":0},{"$f":"'اندازه های شخصی'!BM20","v":0},{"$f":"'اندازه های شخصی'!BO20","v":0},{"$f":"'اندازه های شخصی'!BQ20","v":0},{"$f":"'اندازه های شخصی'!BS20","v":0},{"$f":"'اندازه های شخصی'!BU20","v":0},{"$f":"'اندازه های شخصی'!BW20","v":0},{"$f":"'اندازه های شخصی'!BY20","v":0},{"$f":"'اندازه های شخصی'!CA20","v":0},{"$f":"'اندازه های شخصی'!CC20","v":0},{"$f":"'اندازه های شخصی'!CE20","v":0},{"$f":"'اندازه های شخصی'!CG20","v":0}]
["ضریب بلند شدن آستین نسبت به مچ  b5","(از -0.4 الی 0.4)",0,"آستین تا مچ=0 \nآستین کوتاه تر از مچ = منفی \nآستین بلند تر از مچ = مثبت   ",{"$f":"'طراحی همه الگوها'!Q213","v":10},"بلند شدن آستین چادر نسبت به مچ اندام ",30,-0.45,10,0,-2.2499999999999999E-2,0.22499999999999992,-0.4,27.777777777777779,0.4,-7.7777777777777821,0,9.9999999999999964]
["عرض پارچه به سانتیمتر b1","(از 90 الی 200)",110," 90 یا 100 یا 110 \n115 یا 120 یا ...",{"$f":"'طراحی همه الگوها'!Q214","v":110},"عرض پارچه ",2,2,1,1,1,0,90,90,200,200,100,100,null,null,2,2,2,2,2,2,0,0,0,0,0,0,0,0,0,0,0,0,0,0,0,0,0,0,0,0,0,0,0,0,0,0,1,1,1,1,1,1,1,1,1,1,1,1,1,1,2,2,2,0,0,0,0,0,0,0,0,0,0,0,0,0,0,0,0,0,0,0,0,0,0,0,0,0,0,1,1,1,1,1,1,1,1,1,1,1,1,1,1,{"$f":"'اندازه های شخصی'!G21","v":0},{"$f":"'اندازه های شخصی'!I21","v":0},{"$f":"'اندازه های شخصی'!K21","v":0},{"$f":"'اندازه های شخصی'!M21","v":0},{"$f":"'اندازه های شخصی'!O21","v":0},{"$f":"'اندازه های شخصی'!Q21","v":0},{"$f":"'اندازه های شخصی'!S21","v":0},{"$f":"'اندازه های شخصی'!U21","v":0},{"$f":"'اندازه های شخصی'!W21","v":0},{"$f":"'اندازه های شخصی'!Y21","v":0},{"$f":"'اندازه های شخصی'!AA21","v":0},{"$f":"'اندازه های شخصی'!AC21","v":0},{"$f":"'اندازه های شخصی'!AE21","v":0},{"$f":"'اندازه های شخصی'!AG21","v":0},{"$f":"'اندازه های شخصی'!AI21","v":0},{"$f":"'اندازه های شخصی'!AK21","v":0},{"$f":"'اندازه های شخصی'!AM21","v":0},{"$f":"'اندازه های شخصی'!AO21","v":0},{"$f":"'اندازه های شخصی'!AQ21","v":0},{"$f":"'اندازه های شخصی'!AS21","v":0},{"$f":"'اندازه های شخصی'!AU21","v":0},{"$f":"'اندازه های شخصی'!AW21","v":0},{"$f":"'اندازه های شخصی'!AY21","v":0},{"$f":"'اندازه های شخصی'!BA21","v":0},{"$f":"'اندازه های شخصی'!BC21","v":0},{"$f":"'اندازه های شخصی'!BE21","v":0},{"$f":"'اندازه های شخصی'!BG21","v":0},{"$f":"'اندازه های شخصی'!BI21","v":0},{"$f":"'اندازه های شخصی'!BK21","v":0},{"$f":"'اندازه های شخصی'!BM21","v":0},{"$f":"'اندازه های شخصی'!BO21","v":0},{"$f":"'اندازه های شخصی'!BQ21","v":0},{"$f":"'اندازه های شخصی'!BS21","v":0},{"$f":"'اندازه های شخصی'!BU21","v":0},{"$f":"'اندازه های شخصی'!BW21","v":0},{"$f":"'اندازه های شخصی'!BY21","v":0},{"$f":"'اندازه های شخصی'!CA21","v":0},{"$f":"'اندازه های شخصی'!CC21","v":0},{"$f":"'اندازه های شخصی'!CE21","v":0},{"$f":"'اندازه های شخصی'!CG21","v":0}]
["انتخاب چادر تا پایین پیشانی=1    انتخاب چادر تا بالای پیشانی=0\nانتخاب چادر روی سر = -1"," -1 یا 0 یا 1",0,null,{"$f":"'طراحی همه الگوها'!Q215","v":2},"انتخاب چادر تا پایین پیشانی=3    انتخاب چادر تا بالای پیشانی=2\nانتخاب چادر روی سر = 1",2,0,1,-1,1,-2,0,2,2,4,1,3]
[]
[" متغیرهای ورودی چادر شماره 4",null,null,null,null," متغیرهای ورودی چادر شماره 4","x1","y1","x2","y2(بهینه)","a","b",null,"کمترین",null,"بیشترین",null,null,null,null,"اندازه شخص","اندازه شخص","اندازه شخص","اندازه شخص","اندازه شخص","اندازه شخص","اندازه شخص","اندازه شخص","اندازه شخص","اندازه شخص","اندازه شخص","اندازه شخص","اندازه شخص","اندازه شخص","اندازه شخص","اندازه شخص","اندازه شخص","اندازه شخص","اندازه شخص","اندازه شخص","اندازه شخص","اندازه شخص","اندازه شخص","اندازه شخص","اندازه شخص","اندازه شخص","اندازه شخص","اندازه شخص","اندازه شخص","اندازه شخص","اندازه شخص","اندازه شخص","اندازه شخص","اندازه شخص","اندازه شخص","اندازه شخص","اندازه شخص","اندازه شخص","اندازه شخص","اندازه شخص","اندازه شخص","اندازه شخص","اندازه شخص","اندازه شخص","اندازه شخص","اندازه شخص","اندازه شخص","اندازه شخص","اندازه شخص","اندازه شخص","اندازه شخص","اندازه شخص","اندازه شخص","اندازه شخص","اندازه شخص","اندازه شخص","اندازه شخص","اندازه شخص","اندازه شخص","اندازه شخص","اندازه شخص","اندازه شخص","اندازه شخص","اندازه شخص","اندازه شخص","اندازه شخص","اندازه شخص","اندازه شخص","اندازه شخص","اندازه شخص","اندازه شخص","اندازه شخص","اندازه شخص","اندازه شخص","اندازه شخص","اندازه شخص","اندازه شخص","اندازه شخص","اندازه شخص","اندازه شخص","اندازه شخص","اندازه شخص","اندازه شخص","اندازه شخص","اندازه شخص","اندازه شخص","اندازه شخص","اندازه شخص","اندازه شخص"]
["ضریب فاصله لبه چادر تا زمین   j0","(از -0.1 الی 0.5)",{"$f":"K25*E25+L25","v":0},"خط زمین=0 \nخط زانو=1  ",{"$f":"'طراحی همه الگوها'!Q232","v":10},"ضریب فاصله لبه چادر تا زمین   ",10,0,30,1,{"$f":"(J25-H25)/(I25-G25)","v":0.05},{"$f":"H25-G25*K25","v":-0.5},-0.1,{"$f":"(M25-L25)/K25","v":8},0.5,{"$f":"(O25-L25)/K25","v":20},0,{"$f":"(Q25-L25)/K25","v":10},null,"a",41,42,45,47,48,49,51,53,55,57,59,61,63,65.5,68,71,73,75,63,65,68,72,77,82,87,92,97,103,110,117,124,131,74,78,82,86,90,94,98,102,106,111,116,121,126,131,47,48,49,51,53,55,57,59,61,63,65.5,68,71,73,75,67,69,72,76,81,86,91,96,101,107,114,121,127,135,75.5,79.599999999999994,83.6,87.7,91.8,95.9,100,104,108.1,113.2,118.3,123.4,128.5,133.6,{"$f":"DF7","v":0},0,0,0,0,0,0,0,0,0,0,0,0,0,0,0,0,0,0,0,{"$f":"DZ7","v":0},0,0,{"$f":"EC7","v":0},{"$f":"ED7","v":0},0,0,{"$f":"EG7","v":0},{"$f":"EH7","v":0},0,0,{"$f":"EK7","v":0},{"$f":"EL7","v":0},0,0,{"$f":"EO7","v":0},{"$f":"EP7","v":0},0,0,0]
["ضریب گشادی پشت چادر نسبت به جلو چادر (به درجه)  c1","(از -5 الی 5)",3,"بهینه=3",{"$f":"'طراحی همه الگوها'!Q233","v":3},"ضریب گشادی پشت چادر نسبت به جلو چادر (درجه)  ",1,1,0,0,1,0,-5,-5,5,5,3,3,null,"b",20.100000000000001,20.6,22.1,23,23.5,24,25,26,27,27.9,28.9,29.9,30.9,32.1,33.299999999999997,34.799999999999997,35.799999999999997,36.799999999999997,32.200000000000003,32.700000000000003,33.700000000000003,35.200000000000003,36.9,38.700000000000003,40.6,42.3,44.3,47.5,51,54.8,59.2,63.6,37,39,41,43,45,47,49,51,53,55.5,58,60.5,63,65.5,23,23.5,24,25,26,27,27.9,28.9,29.9,30.9,32.1,33.299999999999997,34.799999999999997,35.799999999999997,36.799999999999997,34.200000000000003,34.700000000000003,35.700000000000003,37.1,38.799999999999997,40.6,42.4,44.2,46.1,49.4,52.8,56.7,60.7,64.5,37.799999999999997,39.799999999999997,41.8,43.9,45.9,48,50,52,54.1,56.6,59.2,61.7,64.3,66.8,{"$f":"DF8","v":0},0,0,0,0,0,0,0,0,0,0,0,0,0,0,0,0,0,0,0,0,0,0,{"$f":"EC8","v":0},0,0,0,{"$f":"EG8","v":0},0,0,0,{"$f":"EK8","v":0},0,0,0,{"$f":"EO8","v":0},0,0,0,0]
["ضریب بلند شدن آستین نسبت به مچ  c2","(از -0.4 الی 0.4)",0,"آستین تا مچ=0 \nآستین کوتاه تر از مچ = منفی \nآستین بلند تر از مچ = مثبت   ",{"$f":"'طراحی همه الگوها'!Q234","v":10},"بلند شدن آستین چادر نسبت به مچ اندام ",30,-0.45,10,0,-2.2499999999999999E-2,0.22499999999999992,-0.4,27.777777777777779,0.4,-7.7777777777777821,0,9.9999999999999964,null,"s1",43,45,47,50,52,54,56,58,60,62,64,66,68,71,75,78,82,86,80,84,88,92,97,102,107,112,117,122,128,134,140,146,88,92,96,100,104,108,112,116,120,124,128,132,136,140,50,52,54,56,58,60,62,64,66,68,71,75,78,82,86,80,84,88,92,97,102,107,112,117,122,128,134,140,146,88,92,96,100,104,108,112,116,120,124,128,132,136,140,{"$f":"'اندازه های شخصی'!G22","v":0},{"$f":"'اندازه های شخصی'!I22","v":0},{"$f":"'اندازه های شخصی'!K22","v":0},{"$f":"'اندازه های شخصی'!M22","v":0},{"$f":"'اندازه های شخصی'!O22","v":0},{"$f":"'اندازه های شخصی'!Q22","v":0},{"$f":"'اندازه های شخصی'!S22","v":0},{"$f":"'اندازه های شخصی'!U22","v":0},{"$f":"'اندازه های شخصی'!W22","v":0},{"$f":"'اندازه های شخصی'!Y22","v":0},{"$f":"'اندازه های شخصی'!AA22","v":0},{"$f":"'اندازه های شخصی'!AC22","v":0},{"$f":"'اندازه های شخصی'!AE22","v":0},{"$f":"'اندازه های شخصی'!AG22","v":0},{"$f":"'اندازه های شخصی'!AI22","v":0},{"$f":"'اندازه های شخصی'!AK22","v":0},{"$f":"'اندازه های شخصی'!AM22","v":0},{"$f":"'اندازه های شخصی'!AO22","v":0},{"$f":"'اندازه های شخصی'!AQ22","v":0},{"$f":"'اندازه های شخصی'!AS22","v":0},{"$f":"'اندازه های شخصی'!AU22","v":0},{"$f":"'اندازه های شخصی'!AW22","v":0},{"$f":"'اندازه های شخصی'!AY22","v":0},{"$f":"'اندازه های شخصی'!BA22","v":0},{"$f":"'اندازه های شخصی'!BC22","v":0},{"$f":"'اندازه های شخصی'!BE22","v":0},{"$f":"'اندازه های شخصی'!BG22","v":0},{"$f":"'اندازه های شخصی'!BI22","v":0},{"$f":"'اندازه های شخصی'!BK22","v":0},{"$f":"'اندازه های شخصی'!BM22","v":0},{"$f":"'اندازه های شخصی'!BO22","v":0},{"$f":"'اندازه های شخصی'!BQ22","v":0},{"$f":"'اندازه های شخصی'!BS22","v":0},{"$f":"'اندازه های شخصی'!BU22","v":0},{"$f":"'اندازه های شخصی'!BW22","v":0},{"$f":"'اندازه های شخصی'!BY22","v":0},{"$f":"'اندازه های شخصی'!CA22","v":0},{"$f":"'اندازه های شخصی'!CC22","v":0},{"$f":"'اندازه های شخصی'!CE22","v":0},{"$f":"'اندازه های شخصی'!CG22","v":0}]
["ضریب گشادی دور مچ  c3","(از 1.1 الی 3)",1.7000000000000006,"بدون گشادی=1",{"$f":"'طراحی همه الگوها'!Q235","v":7},"ضریب گشادی دور مچ  ",1,1.1000000000000001,0,1,0.10000000000000009,1,1.1000000000000001,1,3,19.999999999999982,1,0,null,"s2",21.5,22.5,23.5,25,26,27,28,29,30,31,32,33,34,35.5,37.5,39,41,43,38.9,40.200000000000003,41.5,42.8,44.3,45.9,47.5,49.1,50.9,53.6,56.5,59.8,63.7,67.5,44,46,48,50,52,54,56,58,60,62,64,66,68,70,25,26,27,28,29,30,31,32,33,34,35.5,37.5,39,41,43,38.9,40.200000000000003,41.5,42.8,44.3,45.9,47.5,49.1,50.9,53.6,56.5,59.8,63.7,67.5,44,46,48,50,52,54,56,58,60,62,64,66,68,70,{"$f":"'اندازه های شخصی'!G23","v":0},{"$f":"'اندازه های شخصی'!I23","v":0},{"$f":"'اندازه های شخصی'!K23","v":0},{"$f":"'اندازه های شخصی'!M23","v":0},{"$f":"'اندازه های شخصی'!O23","v":0},{"$f":"'اندازه های شخصی'!Q23","v":0},{"$f":"'اندازه های شخصی'!S23","v":0},{"$f":"'اندازه های شخصی'!U23","v":0},{"$f":"'اندازه های شخصی'!W23","v":0},{"$f":"'اندازه های شخصی'!Y23","v":0},{"$f":"'اندازه های شخصی'!AA23","v":0},{"$f":"'اندازه های شخصی'!AC23","v":0},{"$f":"'اندازه های شخصی'!AE23","v":0},{"$f":"'اندازه های شخصی'!AG23","v":0},{"$f":"'اندازه های شخصی'!AI23","v":0},{"$f":"'اندازه های شخصی'!AK23","v":0},{"$f":"'اندازه های شخصی'!AM23","v":0},{"$f":"'اندازه های شخصی'!AO23","v":0},{"$f":"'اندازه های شخصی'!AQ23","v":0},{"$f":"'اندازه های شخصی'!AS23","v":0},{"$f":"'اندازه های شخصی'!AU23","v":0},{"$f":"'اندازه های شخصی'!AW23","v":0},{"$f":"'اندازه های شخصی'!AY23","v":0},{"$f":"'اندازه های شخصی'!BA23","v":0},{"$f":"'اندازه های شخصی'!BC23","v":0},{"$f":"'اندازه های شخصی'!BE23","v":0},{"$f":"'اندازه های شخصی'!BG23","v":0},{"$f":"'اندازه های شخصی'!BI23","v":0},{"$f":"'اندازه های شخصی'!BK23","v":0},{"$f":"'اندازه های شخصی'!BM23","v":0},{"$f":"'اندازه های شخصی'!BO23","v":0},{"$f":"'اندازه های شخصی'!BQ23","v":0},{"$f":"'اندازه های شخصی'!BS23","v":0},{"$f":"'اندازه های شخصی'!BU23","v":0},{"$f":"'اندازه های شخصی'!BW23","v":0},{"$f":"'اندازه های شخصی'!BY23","v":0},{"$f":"'اندازه های شخصی'!CA23","v":0},{"$f":"'اندازه های شخصی'!CC23","v":0},{"$f":"'اندازه های شخصی'!CE23","v":0},{"$f":"'اندازه های شخصی'!CG23","v":0}]
["ضریب بلند شدن آستین به سمت زیر بغل c4","(از 0 الی 1)",0.7,"آستین تا زیر بغل=0 \nبدون آستین= 1  ",{"$f":"'طراحی همه الگوها'!Q236","v":30}," بلند شدن آستین به سمت زیر بغل ",30,0.7,10,0.1,0.03,-0.19999999999999996,0,6.6666666666666652,1,40,0,6.6666666666666652,null,"t1",15.8,16.2,18.3,20.3,21.3,24.4,26.5,26.9,28.6,30.2,31.8,33.299999999999997,35.5,36.5,37.299999999999997,38.200000000000003,39,39.799999999999997,43.6,43.8,44.1,44.4,44.8,45,45,45.6,45.9,46.3,46.3,46.6,46.3,46.5,46.9,47.2,47.3,47.5,47.7,48,48.1,48.1,48.3,48.2,48.6,48.7,48.8,48.9,21.8,22.8,25.8,28.2,28.4,30.2,31.7,33.299999999999997,34.9,37.200000000000003,38.200000000000003,39.1,39.700000000000003,40.5,40.9,43.6,43.8,44.1,44.4,44.8,45,45,45.6,45.9,46.3,46.3,46.6,46.3,46.5,46.3,46.3,46,46,45.6,45.6,45.4,45,44.8,44.4,44.4,44.2,44,43.6,{"$f":"'اندازه های شخصی'!G24","v":0},{"$f":"'اندازه های شخصی'!I24","v":0},{"$f":"'اندازه های شخصی'!K24","v":0},{"$f":"'اندازه های شخصی'!M24","v":0},{"$f":"'اندازه های شخصی'!O24","v":0},{"$f":"'اندازه های شخصی'!Q24","v":0},{"$f":"'اندازه های شخصی'!S24","v":0},{"$f":"'اندازه های شخصی'!U24","v":0},{"$f":"'اندازه های شخصی'!W24","v":0},{"$f":"'اندازه های شخصی'!Y24","v":0},{"$f":"'اندازه های شخصی'!AA24","v":0},{"$f":"'اندازه های شخصی'!AC24","v":0},{"$f":"'اندازه های شخصی'!AE24","v":0},{"$f":"'اندازه های شخصی'!AG24","v":0},{"$f":"'اندازه های شخصی'!AI24","v":0},{"$f":"'اندازه های شخصی'!AK24","v":0},{"$f":"'اندازه های شخصی'!AM24","v":0},{"$f":"'اندازه های شخصی'!AO24","v":0},{"$f":"'اندازه های شخصی'!AQ24","v":0},{"$f":"'اندازه های شخصی'!AS24","v":0},{"$f":"'اندازه های شخصی'!AU24","v":0},{"$f":"'اندازه های شخصی'!AW24","v":0},{"$f":"'اندازه های شخصی'!AY24","v":0},{"$f":"'اندازه های شخصی'!BA24","v":0},{"$f":"'اندازه های شخصی'!BC24","v":0},{"$f":"'اندازه های شخصی'!BE24","v":0},{"$f":"'اندازه های شخصی'!BG24","v":0},{"$f":"'اندازه های شخصی'!BI24","v":0},{"$f":"'اندازه های شخصی'!BK24","v":0},{"$f":"'اندازه های شخصی'!BM24","v":0},{"$f":"'اندازه های شخصی'!BO24","v":0},{"$f":"'اندازه های شخصی'!BQ24","v":0},{"$f":"'اندازه های شخصی'!BS24","v":0},{"$f":"'اندازه های شخصی'!BU24","v":0},{"$f":"'اندازه های شخصی'!BW24","v":0},{"$f":"'اندازه های شخصی'!BY24","v":0},{"$f":"'اندازه های شخصی'!CA24","v":0},{"$f":"'اندازه های شخصی'!CC24","v":0},{"$f":"'اندازه های شخصی'!CE24","v":0},{"$f":"'اندازه های شخصی'!CG24","v":0}]
["ضریب گشادی پایین چادر (به درجه) c5","(از 0 الی حداکثر)",20,"چادر راسته بدون گشادی=0  ",{"$f":"'طراحی همه الگوها'!Q237","v":20},"ضریب گشادی پایین چادر (درجه) ",21,21,20,20,1,0,0,0,2,2,0,0,null,"t2",19.399999999999999,19.899999999999999,22.2,24.5,25.7,28.7,31,31.6,33.4,35.200000000000003,36.9,38.6,40.9,42.1,43.3,44.5,45.7,46.9,50.8,51.4,51.9,52.5,53.5,54.3,55.1,56.4,57.5,58.7,59.8,61,62.1,63.3,53.7,54.3,54.7,55.3,55.6,56.2,56.8,57.2,57.7,58.1,58.7,59.1,59.7,60.1,26.6,27.9,31.1,33.6,34.200000000000003,36.1,37.9,39.799999999999997,41.8,44.3,45.5,46.9,48,49.4,50.6,50.8,51.4,51.9,52.5,53.5,54.3,55.1,56.4,57.5,58.7,59.8,61,62.1,63.3,55.9,56.4,56.7,57.3,57.7,58.3,58.9,59.3,59.9,60.2,60.8,61.4,62,62.4,{"$f":"'اندازه های شخصی'!G25","v":0},{"$f":"'اندازه های شخصی'!I25","v":0},{"$f":"'اندازه های شخصی'!K25","v":0},{"$f":"'اندازه های شخصی'!M25","v":0},{"$f":"'اندازه های شخصی'!O25","v":0},{"$f":"'اندازه های شخصی'!Q25","v":0},{"$f":"'اندازه های شخصی'!S25","v":0},{"$f":"'اندازه های شخصی'!U25","v":0},{"$f":"'اندازه های شخصی'!W25","v":0},{"$f":"'اندازه های شخصی'!Y25","v":0},{"$f":"'اندازه های شخصی'!AA25","v":0},{"$f":"'اندازه های شخصی'!AC25","v":0},{"$f":"'اندازه های شخصی'!AE25","v":0},{"$f":"'اندازه های شخصی'!AG25","v":0},{"$f":"'اندازه های شخصی'!AI25","v":0},{"$f":"'اندازه های شخصی'!AK25","v":0},{"$f":"'اندازه های شخصی'!AM25","v":0},{"$f":"'اندازه های شخصی'!AO25","v":0},{"$f":"'اندازه های شخصی'!AQ25","v":0},{"$f":"'اندازه های شخصی'!AS25","v":0},{"$f":"'اندازه های شخصی'!AU25","v":0},{"$f":"'اندازه های شخصی'!AW25","v":0},{"$f":"'اندازه های شخصی'!AY25","v":0},{"$f":"'اندازه های شخصی'!BA25","v":0},{"$f":"'اندازه های شخصی'!BC25","v":0},{"$f":"'اندازه های شخصی'!BE25","v":0},{"$f":"'اندازه های شخصی'!BG25","v":0},{"$f":"'اندازه های شخصی'!BI25","v":0},{"$f":"'اندازه های شخصی'!BK25","v":0},{"$f":"'اندازه های شخصی'!BM25","v":0},{"$f":"'اندازه های شخصی'!BO25","v":0},{"$f":"'اندازه های شخصی'!BQ25","v":0},{"$f":"'اندازه های شخصی'!BS25","v":0},{"$f":"'اندازه های شخصی'!BU25","v":0},{"$f":"'اندازه های شخصی'!BW25","v":0},{"$f":"'اندازه های شخصی'!BY25","v":0},{"$f":"'اندازه های شخصی'!CA25","v":0},{"$f":"'اندازه های شخصی'!CC25","v":0},{"$f":"'اندازه های شخصی'!CE25","v":0},{"$f":"'اندازه های شخصی'!CG25","v":0}]
["حداکثر مقدار  c5  برای اندام شما",{"$f":"ROUND(DEGREES(محاسبات!BL46-RADIANS(45)+محاسبات!BL42),0)","v":55},null,null,null,"حداکثر مقدار ضریب گشادی پایین چادر  برای اندام شما",null,null,null,null,null,null,null,null,null,null,null,null,null,"t3",33,34,38,42,44,49,53,54,57,60,63,66,70,72,74,76,78,80,80,81,82,83,84.4,85.7,87,88.9,90.8,92.6,94.5,96.3,98.2,100,86.8,87.6,88.4,89.2,90,90.8,91.6,92.4,93.2,94,94.8,95.6,96.4,97.2,42,44,49,53,54,57,60,63,66,70,72,74,76,78,80,80,81,82,83,84.4,85.7,87,88.9,90.8,92.6,94.5,96.3,98.2,100,88.2,89,89.7,90.5,91.3,92.1,92.9,93.7,94.5,95.3,96.1,97.1,97.9,98.7,{"$f":"'اندازه های شخصی'!G26","v":0},{"$f":"'اندازه های شخصی'!I26","v":0},{"$f":"'اندازه های شخصی'!K26","v":0},{"$f":"'اندازه های شخصی'!M26","v":0},{"$f":"'اندازه های شخصی'!O26","v":0},{"$f":"'اندازه های شخصی'!Q26","v":0},{"$f":"'اندازه های شخصی'!S26","v":0},{"$f":"'اندازه های شخصی'!U26","v":0},{"$f":"'اندازه های شخصی'!W26","v":0},{"$f":"'اندازه های شخصی'!Y26","v":0},{"$f":"'اندازه های شخصی'!AA26","v":0},{"$f":"'اندازه های شخصی'!AC26","v":0},{"$f":"'اندازه های شخصی'!AE26","v":0},{"$f":"'اندازه های شخصی'!AG26","v":0},{"$f":"'اندازه های شخصی'!AI26","v":0},{"$f":"'اندازه های شخصی'!AK26","v":0},{"$f":"'اندازه های شخصی'!AM26","v":0},{"$f":"'اندازه های شخصی'!AO26","v":0},{"$f":"'اندازه های شخصی'!AQ26","v":0},{"$f":"'اندازه های شخصی'!AS26","v":0},{"$f":"'اندازه های شخصی'!AU26","v":0},{"$f":"'اندازه های شخصی'!AW26","v":0},{"$f":"'اندازه های شخصی'!AY26","v":0},{"$f":"'اندازه های شخصی'!BA26","v":0},{"$f":"'اندازه های شخصی'!BC26","v":0},{"$f":"'اندازه های شخصی'!BE26","v":0},{"$f":"'اندازه های شخصی'!BG26","v":0},{"$f":"'اندازه های شخصی'!BI26","v":0},{"$f":"'اندازه های شخصی'!BK26","v":0},{"$f":"'اندازه های شخصی'!BM26","v":0},{"$f":"'اندازه های شخصی'!BO26","v":0},{"$f":"'اندازه های شخصی'!BQ26","v":0},{"$f":"'اندازه های شخصی'!BS26","v":0},{"$f":"'اندازه های شخصی'!BU26","v":0},{"$f":"'اندازه های شخصی'!BW26","v":0},{"$f":"'اندازه های شخصی'!BY26","v":0},{"$f":"'اندازه های شخصی'!CA26","v":0},{"$f":"'اندازه های شخصی'!CC26","v":0},{"$f":"'اندازه های شخصی'!CE26","v":0},{"$f":"'اندازه های شخصی'!CG26","v":0}]
["انتخاب چادر تا پایین پیشانی=1    انتخاب چادر تا بالای پیشانی=0\nانتخاب چادر روی سر = -1"," -1 یا 0 یا 1",{"$f":"K32*E32+L32","v":0},null,{"$f":"'طراحی همه الگوها'!Q239","v":2},"انتخاب چادر تا پایین پیشانی=3    انتخاب چادر تا بالای پیشانی=2\nانتخاب چادر روی سر = 1",2,0,1,-1,{"$f":"(J32-H32)/(I32-G32)","v":1},{"$f":"H32-G32*K32","v":-2},0,{"$f":"(M32-L32)/K32","v":2},1,{"$f":"(O32-L32)/K32","v":3},0,{"$f":"(Q32-L32)/K32","v":2},null,"t4",8.1,8.3000000000000007,9.4,10.4,10.9,12.5,13.6,13.8,14.7,15.5,16.3,17.100000000000001,18.2,18.7,19.100000000000001,19.600000000000001,20,20.399999999999999,21.9,22.1,22.3,22.5,22.8,23,23.1,23.5,23.7,23.9,23.9,24,23.8,23.8,24.7,24.8,24.8,24.9,25,25.1,25.1,25.1,25.2,25.1,25.3,25.4,25.4,25.4,10.8,11.3,12.8,14,14.1,15,15.8,16.600000000000001,17.399999999999999,18.600000000000001,19,19.399999999999999,19.7,20.100000000000001,20.3,21.9,22.1,22.3,22.5,22.8,23,23.1,23.5,23.7,23.9,23.9,24,23.8,23.8,22.9,22.9,22.7,22.7,22.5,22.5,22.4,22.2,22.1,21.9,21.9,21.8,21.7,21.5,{"$f":"'اندازه های شخصی'!G27","v":0},{"$f":"'اندازه های شخصی'!I27","v":0},{"$f":"'اندازه های شخصی'!K27","v":0},{"$f":"'اندازه های شخصی'!M27","v":0},{"$f":"'اندازه های شخصی'!O27","v":0},{"$f":"'اندازه های شخصی'!Q27","v":0},{"$f":"'اندازه های شخصی'!S27","v":0},{"$f":"'اندازه های شخصی'!U27","v":0},{"$f":"'اندازه های شخصی'!W27","v":0},{"$f":"'اندازه های شخصی'!Y27","v":0},{"$f":"'اندازه های شخصی'!AA27","v":0},{"$f":"'اندازه های شخصی'!AC27","v":0},{"$f":"'اندازه های شخصی'!AE27","v":0},{"$f":"'اندازه های شخصی'!AG27","v":0},{"$f":"'اندازه های شخصی'!AI27","v":0},{"$f":"'اندازه های شخصی'!AK27","v":0},{"$f":"'اندازه های شخصی'!AM27","v":0},{"$f":"'اندازه های شخصی'!AO27","v":0},{"$f":"'اندازه های شخصی'!AQ27","v":0},{"$f":"'اندازه های شخصی'!AS27","v":0},{"$f":"'اندازه های شخصی'!AU27","v":0},{"$f":"'اندازه های شخصی'!AW27","v":0},{"$f":"'اندازه های شخصی'!AY27","v":0},{"$f":"'اندازه های شخصی'!BA27","v":0},{"$f":"'اندازه های شخصی'!BC27","v":0},{"$f":"'اندازه های شخصی'!BE27","v":0},{"$f":"'اندازه های شخصی'!BG27","v":0},{"$f":"'اندازه های شخصی'!BI27","v":0},{"$f":"'اندازه های شخصی'!BK27","v":0},{"$f":"'اندازه های شخصی'!BM27","v":0},{"$f":"'اندازه های شخصی'!BO27","v":0},{"$f":"'اندازه های شخصی'!BQ27","v":0},{"$f":"'اندازه های شخصی'!BS27","v":0},{"$f":"'اندازه های شخصی'!BU27","v":0},{"$f":"'اندازه های شخصی'!BW27","v":0},{"$f":"'اندازه های شخصی'!BY27","v":0},{"$f":"'اندازه های شخصی'!CA27","v":0},{"$f":"'اندازه های شخصی'!CC27","v":0},{"$f":"'اندازه های شخصی'!CE27","v":0},{"$f":"'اندازه های شخصی'!CG27","v":0}]
["ضریب فاصله افقی مرغک از خط مرکزی جلو","(از -1 الی 4)",{"$f":"K33*E33+L33","v":2},"خط مرکزی جلو=0 \nخط پهلو=1  ",{"$f":"'طراحی همه الگوها'!Q240","v":40},"ضریب فاصله افقی مرغک از خط مرکزی جلو",20,1,0,0,{"$f":"(J33-H33)/(I33-G33)","v":0.05},{"$f":"H33-G33*K33","v":0},-1,{"$f":"(M33-L33)/K33","v":-20},4,{"$f":"(O33-L33)/K33","v":80},0,{"$f":"(Q33-L33)/K33","v":0},null,"t5",10.1,10.4,11.6,12.8,13.4,15,16.2,16.5,17.5,18.399999999999999,19.3,20.2,21.4,22,22.6,23.3,23.9,24.5,25.4,25.7,26,26.3,26.7,27,27.3,27.8,28.2,28.7,29.1,29.6,30,30.5,28.8,29.1,29.3,29.6,29.8,30.1,30.4,30.6,30.9,31.1,31.4,31.7,32,32.200000000000003,13.7,14.4,16,17.3,17.600000000000001,18.600000000000001,19.600000000000001,20.6,21.6,22.9,23.5,24.2,24.8,25.5,26.1,25.4,25.7,26,26.3,26.7,27,27.3,27.8,28.2,28.7,29.1,29.6,30,30.5,28.8,29.1,29.3,29.6,29.8,30.1,30.4,30.6,30.9,31.1,31.4,31.7,32,32.200000000000003,{"$f":"'اندازه های شخصی'!G28","v":0},{"$f":"'اندازه های شخصی'!I28","v":0},{"$f":"'اندازه های شخصی'!K28","v":0},{"$f":"'اندازه های شخصی'!M28","v":0},{"$f":"'اندازه های شخصی'!O28","v":0},{"$f":"'اندازه های شخصی'!Q28","v":0},{"$f":"'اندازه های شخصی'!S28","v":0},{"$f":"'اندازه های شخصی'!U28","v":0},{"$f":"'اندازه های شخصی'!W28","v":0},{"$f":"'اندازه های شخصی'!Y28","v":0},{"$f":"'اندازه های شخصی'!AA28","v":0},{"$f":"'اندازه های شخصی'!AC28","v":0},{"$f":"'اندازه های شخصی'!AE28","v":0},{"$f":"'اندازه های شخصی'!AG28","v":0},{"$f":"'اندازه های شخصی'!AI28","v":0},{"$f":"'اندازه های شخصی'!AK28","v":0},{"$f":"'اندازه های شخصی'!AM28","v":0},{"$f":"'اندازه های شخصی'!AO28","v":0},{"$f":"'اندازه های شخصی'!AQ28","v":0},{"$f":"'اندازه های شخصی'!AS28","v":0},{"$f":"'اندازه های شخصی'!AU28","v":0},{"$f":"'اندازه های شخصی'!AW28","v":0},{"$f":"'اندازه های شخصی'!AY28","v":0},{"$f":"'اندازه های شخصی'!BA28","v":0},{"$f":"'اندازه های شخصی'!BC28","v":0},{"$f":"'اندازه های شخصی'!BE28","v":0},{"$f":"'اندازه های شخصی'!BG28","v":0},{"$f":"'اندازه های شخصی'!BI28","v":0},{"$f":"'اندازه های شخصی'!BK28","v":0},{"$f":"'اندازه های شخصی'!BM28","v":0},{"$f":"'اندازه های شخصی'!BO28","v":0},{"$f":"'اندازه های شخصی'!BQ28","v":0},{"$f":"'اندازه های شخصی'!BS28","v":0},{"$f":"'اندازه های شخصی'!BU28","v":0},{"$f":"'اندازه های شخصی'!BW28","v":0},{"$f":"'اندازه های شخصی'!BY28","v":0},{"$f":"'اندازه های شخصی'!CA28","v":0},{"$f":"'اندازه های شخصی'!CC28","v":0},{"$f":"'اندازه های شخصی'!CE28","v":0},{"$f":"'اندازه های شخصی'!CG28","v":0}]
["ضریب فاصله عمودی مرغک از زمین","(از 0 الی 5)",{"$f":"K34*E34+L34","v":1.25},"خط زمین=0 \nخط زانو=1 \nخط باسن=2 \nخط کمر=3 \nخط سینه=4  ",{"$f":"'طراحی همه الگوها'!Q241","v":35},"ضریب فاصله عمودی مرغک از زمین",10,0,30,1,{"$f":"(J34-H34)/(I34-G34)","v":0.05},{"$f":"H34-G34*K34","v":-0.5},0,{"$f":"(M34-L34)/K34","v":10},5,{"$f":"(O34-L34)/K34","v":110},0,{"$f":"(Q34-L34)/K34","v":10},null,"t6",16.8,17.3,19.399999999999999,21.4,22.4,25,27,27.5,29.1,30.6,32.1,33.700000000000003,35.700000000000003,36.700000000000003,37.700000000000003,38.799999999999997,39.799999999999997,40.799999999999997,39,39.5,40,40.5,41,41.5,42,42.7,43.4,44.1,44.8,45.5,46.2,46.9,44.3,44.7,45.1,45.5,45.9,46.3,46.7,47.1,47.5,47.9,48.3,48.8,49.2,49.6,21.1,22.1,24.6,26.6,27.1,28.6,30.2,31.7,33.200000000000003,35.200000000000003,36.200000000000003,37.200000000000003,38.200000000000003,39.200000000000003,40.200000000000003,39,39.5,40,40.5,41,41.5,42,42.7,43.4,44.1,44.8,45.5,46.2,46.9,44.3,44.7,45.1,45.5,45.9,46.3,46.7,47.1,47.5,47.9,48.3,48.8,49.2,49.6,{"$f":"'اندازه های شخصی'!G29","v":0},{"$f":"'اندازه های شخصی'!I29","v":0},{"$f":"'اندازه های شخصی'!K29","v":0},{"$f":"'اندازه های شخصی'!M29","v":0},{"$f":"'اندازه های شخصی'!O29","v":0},{"$f":"'اندازه های شخصی'!Q29","v":0},{"$f":"'اندازه های شخصی'!S29","v":0},{"$f":"'اندازه های شخصی'!U29","v":0},{"$f":"'اندازه های شخصی'!W29","v":0},{"$f":"'اندازه های شخصی'!Y29","v":0},{"$f":"'اندازه های شخصی'!AA29","v":0},{"$f":"'اندازه های شخصی'!AC29","v":0},{"$f":"'اندازه های شخصی'!AE29","v":0},{"$f":"'اندازه های شخصی'!AG29","v":0},{"$f":"'اندازه های شخصی'!AI29","v":0},{"$f":"'اندازه های شخصی'!AK29","v":0},{"$f":"'اندازه های شخصی'!AM29","v":0},{"$f":"'اندازه های شخصی'!AO29","v":0},{"$f":"'اندازه های شخصی'!AQ29","v":0},{"$f":"'اندازه های شخصی'!AS29","v":0},{"$f":"'اندازه های شخصی'!AU29","v":0},{"$f":"'اندازه های شخصی'!AW29","v":0},{"$f":"'اندازه های شخصی'!AY29","v":0},{"$f":"'اندازه های شخصی'!BA29","v":0},{"$f":"'اندازه های شخصی'!BC29","v":0},{"$f":"'اندازه های شخصی'!BE29","v":0},{"$f":"'اندازه های شخصی'!BG29","v":0},{"$f":"'اندازه های شخصی'!BI29","v":0},{"$f":"'اندازه های شخصی'!BK29","v":0},{"$f":"'اندازه های شخصی'!BM29","v":0},{"$f":"'اندازه های شخصی'!BO29","v":0},{"$f":"'اندازه های شخصی'!BQ29","v":0},{"$f":"'اندازه های شخصی'!BS29","v":0},{"$f":"'اندازه های شخصی'!BU29","v":0},{"$f":"'اندازه های شخصی'!BW29","v":0},{"$f":"'اندازه های شخصی'!BY29","v":0},{"$f":"'اندازه های شخصی'!CA29","v":0},{"$f":"'اندازه های شخصی'!CC29","v":0},{"$f":"'اندازه های شخصی'!CE29","v":0},{"$f":"'اندازه های شخصی'!CG29","v":0}]
[null,null,null,null,null,null,null,null,null,null,null,null,null,null,null,null,null,null,null,"v",25,27,27,28,28,30,30,31,31,32,32,33,34,35,36,37,38,39,36,37,38,39,40.200000000000003,41.4,42.6,43.8,45,46,47,48,49,50,39,40,41,42,43,44,45,46,47,48,49,50,51,52,28,28,30,30,31,31,32,32,33,34,35,36,37,38,39,36,37,38,39,40.200000000000003,41.4,42.6,43.8,45,46,47,48,49,50,39,40,41,42,43,44,45,46,47,48,49,50,51,52,{"$f":"'اندازه های شخصی'!G30","v":0},{"$f":"'اندازه های شخصی'!I30","v":0},{"$f":"'اندازه های شخصی'!K30","v":0},{"$f":"'اندازه های شخصی'!M30","v":0},{"$f":"'اندازه های شخصی'!O30","v":0},{"$f":"'اندازه های شخصی'!Q30","v":0},{"$f":"'اندازه های شخصی'!S30","v":0},{"$f":"'اندازه های شخصی'!U30","v":0},{"$f":"'اندازه های شخصی'!W30","v":0},{"$f":"'اندازه های شخصی'!Y30","v":0},{"$f":"'اندازه های شخصی'!AA30","v":0},{"$f":"'اندازه های شخصی'!AC30","v":0},{"$f":"'اندازه های شخصی'!AE30","v":0},{"$f":"'اندازه های شخصی'!AG30","v":0},{"$f":"'اندازه های شخصی'!AI30","v":0},{"$f":"'اندازه های شخصی'!AK30","v":0},{"$f":"'اندازه های شخصی'!AM30","v":0},{"$f":"'اندازه های شخصی'!AO30","v":0},{"$f":"'اندازه های شخصی'!AQ30","v":0},{"$f":"'اندازه های شخصی'!AS30","v":0},{"$f":"'اندازه های شخصی'!AU30","v":0},{"$f":"'اندازه های شخصی'!AW30","v":0},{"$f":"'اندازه های شخصی'!AY30","v":0},{"$f":"'اندازه های شخصی'!BA30","v":0},{"$f":"'اندازه های شخصی'!BC30","v":0},{"$f":"'اندازه های شخصی'!BE30","v":0},{"$f":"'اندازه های شخصی'!BG30","v":0},{"$f":"'اندازه های شخصی'!BI30","v":0},{"$f":"'اندازه های شخصی'!BK30","v":0},{"$f":"'اندازه های شخصی'!BM30","v":0},{"$f":"'اندازه های شخصی'!BO30","v":0},{"$f":"'اندازه های شخصی'!BQ30","v":0},{"$f":"'اندازه های شخصی'!BS30","v":0},{"$f":"'اندازه های شخصی'!BU30","v":0},{"$f":"'اندازه های شخصی'!BW30","v":0},{"$f":"'اندازه های شخصی'!BY30","v":0},{"$f":"'اندازه های شخصی'!CA30","v":0},{"$f":"'اندازه های شخصی'!CC30","v":0},{"$f":"'اندازه های شخصی'!CE30","v":0},{"$f":"'اندازه های شخصی'!CG30","v":0}]
[" متغیرهای ورودی چادر شماره 5",null,null,null,null," متغیرهای ورودی چادر شماره 5","x1","y1","x2","y2(بهینه)","a","b",null,"کمترین",null,"بیشترین",null,null,null,"v3",17.7,18.399999999999999,19.2,20.399999999999999,21.2,22,22.7,23.5,24.2,25.2,26,27,27.8,28.9,30.5,31.8,33.4,35.1,31.9,32.9,33.9,34.799999999999997,36,37.1,38.299999999999997,39.5,40.9,43.2,45.7,48.6,52.1,55.5,35.200000000000003,36.9,38.6,40.200000000000003,41.9,43.6,45.4,47.3,49.1,51.8,52.8,54.6,56.5,58.3,20.399999999999999,21.2,22,22.7,23.5,24.2,25.2,26,27,27.8,28.9,30.5,31.8,33.4,35.1,31.9,32.9,33.9,34.799999999999997,36,37.1,38.299999999999997,39.5,40.9,43.2,45.7,48.6,52.1,55.5,35.5,37.200000000000003,38.9,40.6,42.3,44,45.8,47.7,49.5,51.4,53.2,55.1,56.9,58.8,{"$f":"'اندازه های شخصی'!G31","v":0},{"$f":"'اندازه های شخصی'!I31","v":0},{"$f":"'اندازه های شخصی'!K31","v":0},{"$f":"'اندازه های شخصی'!M31","v":0},{"$f":"'اندازه های شخصی'!O31","v":0},{"$f":"'اندازه های شخصی'!Q31","v":0},{"$f":"'اندازه های شخصی'!S31","v":0},{"$f":"'اندازه های شخصی'!U31","v":0},{"$f":"'اندازه های شخصی'!W31","v":0},{"$f":"'اندازه های شخصی'!Y31","v":0},{"$f":"'اندازه های شخصی'!AA31","v":0},{"$f":"'اندازه های شخصی'!AC31","v":0},{"$f":"'اندازه های شخصی'!AE31","v":0},{"$f":"'اندازه های شخصی'!AG31","v":0},{"$f":"'اندازه های شخصی'!AI31","v":0},{"$f":"'اندازه های شخصی'!AK31","v":0},{"$f":"'اندازه های شخصی'!AM31","v":0},{"$f":"'اندازه های شخصی'!AO31","v":0},{"$f":"'اندازه های شخصی'!AQ31","v":0},{"$f":"'اندازه های شخصی'!AS31","v":0},{"$f":"'اندازه های شخصی'!AU31","v":0},{"$f":"'اندازه های شخصی'!AW31","v":0},{"$f":"'اندازه های شخصی'!AY31","v":0},{"$f":"'اندازه های شخصی'!BA31","v":0},{"$f":"'اندازه های شخصی'!BC31","v":0},{"$f":"'اندازه های شخصی'!BE31","v":0},{"$f":"'اندازه های شخصی'!BG31","v":0},{"$f":"'اندازه های شخصی'!BI31","v":0},{"$f":"'اندازه های شخصی'!BK31","v":0},{"$f":"'اندازه های شخصی'!BM31","v":0},{"$f":"'اندازه های شخصی'!BO31","v":0},{"$f":"'اندازه های شخصی'!BQ31","v":0},{"$f":"'اندازه های شخصی'!BS31","v":0},{"$f":"'اندازه های شخصی'!BU31","v":0},{"$f":"'اندازه های شخصی'!BW31","v":0},{"$f":"'اندازه های شخصی'!BY31","v":0},{"$f":"'اندازه های شخصی'!CA31","v":0},{"$f":"'اندازه های شخصی'!CC31","v":0},{"$f":"'اندازه های شخصی'!CE31","v":0},{"$f":"'اندازه های شخصی'!CG31","v":0}]
["ضریب فاصله لبه چادر تا زمین   j0","(از -0.1 الی 0.5)",{"$f":"K37*E37+L37","v":0},"خط زمین=0 \nخط زانو=1  ",{"$f":"'طراحی همه الگوها'!Q249","v":10},"ضریب فاصله لبه چادر تا زمین   ",10,0,30,1,{"$f":"(J37-H37)/(I37-G37)","v":0.05},{"$f":"H37-G37*K37","v":-0.5},-0.1,{"$f":"(M37-L37)/K37","v":8},0.5,{"$f":"(O37-L37)/K37","v":20},0,{"$f":"(Q37-L37)/K37","v":10},null,"w2",16,17,18,19,20,21,22,23,24,24,25,25,26,27.5,29,30,31.5,33,27,28.2,29.4,30.6,32,33.799999999999997,35.4,37,38.5,40,41.5,43,44.5,46,33.9,35.1,36.299999999999997,37.6,38.799999999999997,40,40.700000000000003,41.3,41.9,42.5,43.1,43.7,44.4,45,19,20,21,22,23,24,24,25,25,26,27.5,29,30,31.5,33,27,28.2,29.4,30.6,32,33.799999999999997,35.4,37,38.5,40,41.5,43,44.5,46,33.9,35.1,36.299999999999997,37.6,38.799999999999997,40,40.700000000000003,41.3,41.9,42.5,43.1,43.7,44.4,45,{"$f":"'اندازه های شخصی'!G32","v":0},{"$f":"'اندازه های شخصی'!I32","v":0},{"$f":"'اندازه های شخصی'!K32","v":0},{"$f":"'اندازه های شخصی'!M32","v":0},{"$f":"'اندازه های شخصی'!O32","v":0},{"$f":"'اندازه های شخصی'!Q32","v":0},{"$f":"'اندازه های شخصی'!S32","v":0},{"$f":"'اندازه های شخصی'!U32","v":0},{"$f":"'اندازه های شخصی'!W32","v":0},{"$f":"'اندازه های شخصی'!Y32","v":0},{"$f":"'اندازه های شخصی'!AA32","v":0},{"$f":"'اندازه های شخصی'!AC32","v":0},{"$f":"'اندازه های شخصی'!AE32","v":0},{"$f":"'اندازه های شخصی'!AG32","v":0},{"$f":"'اندازه های شخصی'!AI32","v":0},{"$f":"'اندازه های شخصی'!AK32","v":0},{"$f":"'اندازه های شخصی'!AM32","v":0},{"$f":"'اندازه های شخصی'!AO32","v":0},{"$f":"'اندازه های شخصی'!AQ32","v":0},{"$f":"'اندازه های شخصی'!AS32","v":0},{"$f":"'اندازه های شخصی'!AU32","v":0},{"$f":"'اندازه های شخصی'!AW32","v":0},{"$f":"'اندازه های شخصی'!AY32","v":0},{"$f":"'اندازه های شخصی'!BA32","v":0},{"$f":"'اندازه های شخصی'!BC32","v":0},{"$f":"'اندازه های شخصی'!BE32","v":0},{"$f":"'اندازه های شخصی'!BG32","v":0},{"$f":"'اندازه های شخصی'!BI32","v":0},{"$f":"'اندازه های شخصی'!BK32","v":0},{"$f":"'اندازه های شخصی'!BM32","v":0},{"$f":"'اندازه های شخصی'!BO32","v":0},{"$f":"'اندازه های شخصی'!BQ32","v":0},{"$f":"'اندازه های شخصی'!BS32","v":0},{"$f":"'اندازه های شخصی'!BU32","v":0},{"$f":"'اندازه های شخصی'!BW32","v":0},{"$f":"'اندازه های شخصی'!BY32","v":0},{"$f":"'اندازه های شخصی'!CA32","v":0},{"$f":"'اندازه های شخصی'!CC32","v":0},{"$f":"'اندازه های شخصی'!CE32","v":0},{"$f":"'اندازه های شخصی'!CG32","v":0}]
["ضریب گشادی دامن چادر  d1","(از 1.5 الی 2.3)",{"$f":"K38*E38+L38","v":1.8},"بهینه=1.8",{"$f":"'طراحی همه الگوها'!Q250","v":20},"ضریب گشادی دامن چادر  ",21,1.85,20,1.8,{"$f":"(J38-H38)/(I38-G38)","v":5.0000000000000044E-2},{"$f":"H38-G38*K38","v":0.79999999999999916},1.5,{"$f":"(M38-L38)/K38","v":14.000000000000004},2.2999999999999998,{"$f":"(O38-L38)/K38","v":29.999999999999986},1.8,{"$f":"(Q38-L38)/K38","v":20},null,"w10",17,18,21,23,27,31,35,38,41,44,46,48,50,52,54,56,58,60,57.2,57.8,58.4,59,59.5,60,60.5,61,61.2,62,62.5,63,63.5,64,60,60.3,60.8,61.4,62,62.5,63,63.5,64,64.400000000000006,64.8,65.2,65.599999999999994,66,23,27,31,35,38,41,44,46,48,50,52,54,56,58,60,57.2,57.8,58.4,59,59.5,60,60.5,61,61.2,62,62.5,63,63.5,64,60,60.3,60.8,61.4,62,62.5,63,63.5,64,64.400000000000006,64.8,65.2,65.599999999999994,66,{"$f":"'اندازه های شخصی'!G33","v":0},{"$f":"'اندازه های شخصی'!I33","v":0},{"$f":"'اندازه های شخصی'!K33","v":0},{"$f":"'اندازه های شخصی'!M33","v":0},{"$f":"'اندازه های شخصی'!O33","v":0},{"$f":"'اندازه های شخصی'!Q33","v":0},{"$f":"'اندازه های شخصی'!S33","v":0},{"$f":"'اندازه های شخصی'!U33","v":0},{"$f":"'اندازه های شخصی'!W33","v":0},{"$f":"'اندازه های شخصی'!Y33","v":0},{"$f":"'اندازه های شخصی'!AA33","v":0},{"$f":"'اندازه های شخصی'!AC33","v":0},{"$f":"'اندازه های شخصی'!AE33","v":0},{"$f":"'اندازه های شخصی'!AG33","v":0},{"$f":"'اندازه های شخصی'!AI33","v":0},{"$f":"'اندازه های شخصی'!AK33","v":0},{"$f":"'اندازه های شخصی'!AM33","v":0},{"$f":"'اندازه های شخصی'!AO33","v":0},{"$f":"'اندازه های شخصی'!AQ33","v":0},{"$f":"'اندازه های شخصی'!AS33","v":0},{"$f":"'اندازه های شخصی'!AU33","v":0},{"$f":"'اندازه های شخصی'!AW33","v":0},{"$f":"'اندازه های شخصی'!AY33","v":0},{"$f":"'اندازه های شخصی'!BA33","v":0},{"$f":"'اندازه های شخصی'!BC33","v":0},{"$f":"'اندازه های شخصی'!BE33","v":0},{"$f":"'اندازه های شخصی'!BG33","v":0},{"$f":"'اندازه های شخصی'!BI33","v":0},{"$f":"'اندازه های شخصی'!BK33","v":0},{"$f":"'اندازه های شخصی'!BM33","v":0},{"$f":"'اندازه های شخصی'!BO33","v":0},{"$f":"'اندازه های شخصی'!BQ33","v":0},{"$f":"'اندازه های شخصی'!BS33","v":0},{"$f":"'اندازه های شخصی'!BU33","v":0},{"$f":"'اندازه های شخصی'!BW33","v":0},{"$f":"'اندازه های شخصی'!BY33","v":0},{"$f":"'اندازه های شخصی'!CA33","v":0},{"$f":"'اندازه های شخصی'!CC33","v":0},{"$f":"'اندازه های شخصی'!CE33","v":0},{"$f":"'اندازه های شخصی'!CG33","v":0}]
["ضریب بلند شدن دسته چادر d2","(از 0.1 الی 1)",{"$f":"K39*E39+L39","v":0.5},"بهینه=0.5",{"$f":"'طراحی همه الگوها'!Q251","v":20},"ضریب بلند شدن دسته چادر ",21,0.55000000000000004,20,0.5,{"$f":"(J39-H39)/(I39-G39)","v":5.0000000000000044E-2},{"$f":"H39-G39*K39","v":-0.50000000000000089},0.1,{"$f":"(M39-L39)/K39","v":12.000000000000007},1,{"$f":"(O39-L39)/K39","v":29.999999999999993},0.5,{"$f":"(Q39-L39)/K39","v":20},null,"w11",10,10,10.5,11,12,12,13,13,13,14,14,15,16,15,16,16.5,17,17.5,16.5,17,17.5,18,18.5,19,19.5,20,20.5,21,21.5,22,22.5,23,17.899999999999999,18.3,18.7,19.100000000000001,19.5,19.899999999999999,20.3,20.7,21.1,21.5,21.9,22.3,22.7,23.1,11,12,12,13,13,13,14,14,15,16,15,16,16.5,17,17.5,16.5,17,17.5,18,18.5,19,19.5,20,20.5,21,21.5,22,22.5,23,17.899999999999999,18.3,18.7,19.100000000000001,19.5,19.899999999999999,20.3,20.7,21.1,21.5,21.9,22.3,22.7,23.1,{"$f":"'اندازه های شخصی'!G34","v":0},{"$f":"'اندازه های شخصی'!I34","v":0},{"$f":"'اندازه های شخصی'!K34","v":0},{"$f":"'اندازه های شخصی'!M34","v":0},{"$f":"'اندازه های شخصی'!O34","v":0},{"$f":"'اندازه های شخصی'!Q34","v":0},{"$f":"'اندازه های شخصی'!S34","v":0},{"$f":"'اندازه های شخصی'!U34","v":0},{"$f":"'اندازه های شخصی'!W34","v":0},{"$f":"'اندازه های شخصی'!Y34","v":0},{"$f":"'اندازه های شخصی'!AA34","v":0},{"$f":"'اندازه های شخصی'!AC34","v":0},{"$f":"'اندازه های شخصی'!AE34","v":0},{"$f":"'اندازه های شخصی'!AG34","v":0},{"$f":"'اندازه های شخصی'!AI34","v":0},{"$f":"'اندازه های شخصی'!AK34","v":0},{"$f":"'اندازه های شخصی'!AM34","v":0},{"$f":"'اندازه های شخصی'!AO34","v":0},{"$f":"'اندازه های شخصی'!AQ34","v":0},{"$f":"'اندازه های شخصی'!AS34","v":0},{"$f":"'اندازه های شخصی'!AU34","v":0},{"$f":"'اندازه های شخصی'!AW34","v":0},{"$f":"'اندازه های شخصی'!AY34","v":0},{"$f":"'اندازه های شخصی'!BA34","v":0},{"$f":"'اندازه های شخصی'!BC34","v":0},{"$f":"'اندازه های شخصی'!BE34","v":0},{"$f":"'اندازه های شخصی'!BG34","v":0},{"$f":"'اندازه های شخصی'!BI34","v":0},{"$f":"'اندازه های شخصی'!BK34","v":0},{"$f":"'اندازه های شخصی'!BM34","v":0},{"$f":"'اندازه های شخصی'!BO34","v":0},{"$f":"'اندازه های شخصی'!BQ34","v":0},{"$f":"'اندازه های شخصی'!BS34","v":0},{"$f":"'اندازه های شخصی'!BU34","v":0},{"$f":"'اندازه های شخصی'!BW34","v":0},{"$f":"'اندازه های شخصی'!BY34","v":0},{"$f":"'اندازه های شخصی'!CA34","v":0},{"$f":"'اندازه های شخصی'!CC34","v":0},{"$f":"'اندازه های شخصی'!CE34","v":0},{"$f":"'اندازه های شخصی'!CG34","v":0}]
["انتخاب چادر تا پایین پیشانی=1    انتخاب چادر تا بالای پیشانی=0\nانتخاب چادر روی سر = -1"," -1 یا 0 یا 1",{"$f":"K40*E40+L40","v":0},null,{"$f":"'طراحی همه الگوها'!Q252","v":2},"انتخاب چادر تا پایین پیشانی=3    انتخاب چادر تا بالای پیشانی=2\nانتخاب چادر روی سر = 1",2,0,1,-1,{"$f":"(J40-H40)/(I40-G40)","v":1},{"$f":"H40-G40*K40","v":-2},0,{"$f":"(M40-L40)/K40","v":2},1,{"$f":"(O40-L40)/K40","v":3},0,{"$f":"(Q40-L40)/K40","v":2},null,"w12",37,38,42,45,47,49,50,51,52,53,53.5,54,54.5,55,55.5,56,56.5,57,57,57,57,57,57,57,57,57,57,57,57,57,57,57,59,59,59,59,59,59,59,59,59,59,59,59,59,59,45,47,49,50,51,52,53,53.5,54,54.5,55,55.5,56,56.5,57,57,57,57,57,57,57,57,57,57,57,57,57,57,57,59,59,59,59,59,59,59,59,59,59,59,59,59,59,{"$f":"'اندازه های شخصی'!G35","v":0},{"$f":"'اندازه های شخصی'!I35","v":0},{"$f":"'اندازه های شخصی'!K35","v":0},{"$f":"'اندازه های شخصی'!M35","v":0},{"$f":"'اندازه های شخصی'!O35","v":0},{"$f":"'اندازه های شخصی'!Q35","v":0},{"$f":"'اندازه های شخصی'!S35","v":0},{"$f":"'اندازه های شخصی'!U35","v":0},{"$f":"'اندازه های شخصی'!W35","v":0},{"$f":"'اندازه های شخصی'!Y35","v":0},{"$f":"'اندازه های شخصی'!AA35","v":0},{"$f":"'اندازه های شخصی'!AC35","v":0},{"$f":"'اندازه های شخصی'!AE35","v":0},{"$f":"'اندازه های شخصی'!AG35","v":0},{"$f":"'اندازه های شخصی'!AI35","v":0},{"$f":"'اندازه های شخصی'!AK35","v":0},{"$f":"'اندازه های شخصی'!AM35","v":0},{"$f":"'اندازه های شخصی'!AO35","v":0},{"$f":"'اندازه های شخصی'!AQ35","v":0},{"$f":"'اندازه های شخصی'!AS35","v":0},{"$f":"'اندازه های شخصی'!AU35","v":0},{"$f":"'اندازه های شخصی'!AW35","v":0},{"$f":"'اندازه های شخصی'!AY35","v":0},{"$f":"'اندازه های شخصی'!BA35","v":0},{"$f":"'اندازه های شخصی'!BC35","v":0},{"$f":"'اندازه های شخصی'!BE35","v":0},{"$f":"'اندازه های شخصی'!BG35","v":0},{"$f":"'اندازه های شخصی'!BI35","v":0},{"$f":"'اندازه های شخصی'!BK35","v":0},{"$f":"'اندازه های شخصی'!BM35","v":0},{"$f":"'اندازه های شخصی'!BO35","v":0},{"$f":"'اندازه های شخصی'!BQ35","v":0},{"$f":"'اندازه های شخصی'!BS35","v":0},{"$f":"'اندازه های شخصی'!BU35","v":0},{"$f":"'اندازه های شخصی'!BW35","v":0},{"$f":"'اندازه های شخصی'!BY35","v":0},{"$f":"'اندازه های شخصی'!CA35","v":0},{"$f":"'اندازه های شخصی'!CC35","v":0},{"$f":"'اندازه های شخصی'!CE35","v":0},{"$f":"'اندازه های شخصی'!CG35","v":0}]
[]
["متغیرهای ورودی بافت ",null,null,null,null,"متغیرهای ورودی بافت ","x1","y1","x2","y2(بهینه)","a","b",null,"کمترین",null,"بیشترین",null,null,null,null,"سایز مناسب برای الگوهای شلوار",{"$f":"IF(W43=1,(IF(Y43<U9-1,\" کوچکتر از یک ماهه \",IF(Y43<V9-1,U6,IF(Y43<W9-1,V6,IF(Y43<X9-1,W6,IF(Y43<Y9-1,X6,IF(Y43<Z9-1,Y6,IF(Y43<AA9-1,Z6,IF(Y43<AB9-1,AA6,IF(Y43<AC9-1,AB6,IF(Y43<AD9-1,AC6,IF(Y43<AE9-1,AD6,IF(Y43<AF9-1,AE6,IF(Y43<AG9-1,AF6,IF(Y43<AH9-1,AG6,IF(Y43<AI9-1,AH6,IF(Y43<AJ9-1,AI6,IF(Y43<AK9-1,AJ6,IF(Y43<AL9-1,AK6,IF(Y43<AL9+3,AL6,\" بزرگتر از 14 ساله \")))))))))))))))))))),IF(W43=2,(IF(Y43<AM9-1,\" کوچکتر از سایز 34 \",IF(Y43<AN9-1,AM6,IF(Y43<AO9-1,AN6,IF(Y43<AP9-1,AO6,IF(Y43<AQ9-1,AP6,IF(Y43<AR9-1,AQ6,IF(Y43<AS9-1,AR6,IF(Y43<AT9-1,AS6,IF(Y43<AU9-1,AT6,IF(Y43<AV9-1,AU6,IF(Y43<AW9-1,AV6,IF(Y43<AX9-1,AW6,IF(Y43<AY9-1,AX6,IF(Y43<AZ9-1,AY6,IF(Y43<AZ9+3,AZ6,\" بزرگتر از سایز 60 \")))))))))))))))),IF(Y43<BA9-1,\"  کوچکتراز سایز 37  \",IF(Y43<BB9-1,BA6,IF(Y43<BC9-1,BB6,IF(Y43<BD9-1,BC6,IF(Y43<BE9-1,BD6,IF(Y43<BF9-1,BE6,IF(Y43<BG9-1,BF6,IF(Y43<BH9-1,BG6,IF(Y43<BI9-1,BH6,IF(Y43<BJ9-1,BI6,IF(Y43<BK9-1,BJ6,IF(Y43<BL9-1,BK6,IF(Y43<BM9-1,BL6,IF(Y43<BN9-1,BM6,IF(Y43<BN9+3,BN6,\" بزرگتر از سایز 50 \")))))))))))))))))","v":" کوچکتر از سایز 34 "},"انتخاب نوع اندازه گیری","کمر اندام","باسن اندام","دور سینه اندام"]
["انتخاب ضخامت میل بافتنی","(2 یا 3 یا 4) ",{"$f":"K43*E43+L43","v":3},null,{"$f":"'طراحی همه الگوها'!H244","v":3},"انتخاب ضخامت میل بافتنی",3,3,2,2,{"$f":"(J43-H43)/(I43-G43)","v":1},{"$f":"H43-G43*K43","v":0},2,{"$f":"(M43-L43)/K43","v":2},4,{"$f":"(O43-L43)/K43","v":4},3,{"$f":"(Q43-L43)/K43","v":3},null,null,"سایز مناسب برای الگوهای دامن",{"$f":"IF(W43=1,(IF(X43<U7-1,\" کوچکتر از یک ماهه \",IF(X43<V7-1,U6,IF(X43<W7-1,V6,IF(X43<X7-1,W6,IF(X43<Y7-1,X6,IF(X43<Z7-1,Y6,IF(X43<AA7-1,Z6,IF(X43<AB7-1,AA6,IF(X43<AC7-1,AB6,IF(X43<AD7-1,AC6,IF(X43<AE7-1,AD6,IF(X43<AF7-1,AE6,IF(X43<AG7-1,AF6,IF(X43<AH7-1,AG6,IF(X43<AI7-1,AH6,IF(X43<AJ7-1,AI6,IF(X43<AK7-1,AJ6,IF(X43<AL7-1,AK6,IF(X43<AL7+3,AL6,\" بزرگتر از 14 ساله \")))))))))))))))))))),IF(W43=2,(IF(X43<AM7-1,\" کوچکتر از سایز 34 \",IF(X43<AN7-1,AM6,IF(X43<AO7-1,AN6,IF(X43<AP7-1,AO6,IF(X43<AQ7-1,AP6,IF(X43<AR7-1,AQ6,IF(X43<AS7-1,AR6,IF(X43<AT7-1,AS6,IF(X43<AU7-1,AT6,IF(X43<AV7-1,AU6,IF(X43<AW7-1,AV6,IF(X43<AX7-1,AW6,IF(X43<AY7-1,AX6,IF(X43<AZ7-1,AY6,IF(X43<AZ7+3,AZ6,\" بزرگتر از سایز 60 \")))))))))))))))),IF(X43<BA7-1,\" کوچکتر از سایز 37 \",IF(X43<BB7-1,BA6,IF(X43<BC7-1,BB6,IF(X43<BD7-1,BC6,IF(X43<BE7-1,BD6,IF(X43<BF7-1,BE6,IF(X43<BG7-1,BF6,IF(X43<BH7-1,BG6,IF(X43<BI7-1,BH6,IF(X43<BJ7-1,BI6,IF(X43<BK7-1,BJ6,IF(X43<BL7-1,BK6,IF(X43<BM7-1,BL6,IF(X43<BN7-1,BM6,IF(X43<BN7+3,BN6,\" بزرگتر از سایز 50 \")))))))))))))))))","v":" کوچکتر از سایز 34 "},2,{"$f":"'اندازه گیری و تحلیل'!E275","v":0},{"$f":"'اندازه گیری و تحلیل'!E272","v":0},{"$f":"'اندازه گیری و تحلیل'!E269","v":0}]
["جمع شوندگی عمودی بافت","(0 الی 2) ",{"$f":"K44*E44+L44","v":0},"بافت ساده و جودانه=0 \nبافت همه از زیر=1 ",{"$f":"'طراحی همه الگوها'!H245","v":0},"جمع شوندگی عمودی بافت",1,0.05,0,0,{"$f":"(J44-H44)/(I44-G44)","v":0.05},{"$f":"H44-G44*K44","v":0},0,{"$f":"(M44-L44)/K44","v":0},2,{"$f":"(O44-L44)/K44","v":40},1,{"$f":"(Q44-L44)/K44","v":20},null,null,"سایز مناسب برای الگوهای پیراهن",{"$f":"IF(W43=1,(IF(Z43<U27-1,\" کوچکتر از یک ماهه \",IF(Z43<V27-1,U6,IF(Z43<W27-1,V6,IF(Z43<X27-1,W6,IF(Z43<Y27-1,X6,IF(Z43<Z27-1,Y6,IF(Z43<AA27-1,Z6,IF(Z43<AB27-1,AA6,IF(Z43<AC27-1,AB6,IF(Z43<AD27-1,AC6,IF(Z43<AE27-1,AD6,IF(Z43<AF27-1,AE6,IF(Z43<AG27-1,AF6,IF(Z43<AH27-1,AG6,IF(Z43<AI27-1,AH6,IF(Z43<AJ27-1,AI6,IF(Z43<AK27-1,AJ6,IF(Z43<AL27-1,AK6,IF(Z43<AL27+3,AL6,\" بزرگتر از 14 ساله \")))))))))))))))))))),IF(W43=2,(IF(Z43<AM27-1,\" کوچکتر از سایز 34 \",IF(Z43<AN27-1,AM6,IF(Z43<AO27-1,AN6,IF(Z43<AP27-1,AO6,IF(Z43<AQ27-1,AP6,IF(Z43<AR27-1,AQ6,IF(Z43<AS27-1,AR6,IF(Z43<AT27-1,AS6,IF(Z43<AU27-1,AT6,IF(Z43<AV27-1,AU6,IF(Z43<AW27-1,AV6,IF(Z43<AX27-1,AW6,IF(Z43<AY27-1,AX6,IF(Z43<AZ27-1,AY6,IF(Z43<AZ27+3,AZ6,\" بزرگتر از سایز 60 \")))))))))))))))),IF(Z43<BA27-1,\" کوچکتر از سایز 37 \",IF(Z43<BB27-1,BA6,IF(Z43<BC27-1,BB6,IF(Z43<BD27-1,BC6,IF(Z43<BE27-1,BD6,IF(Z43<BF27-1,BE6,IF(Z43<BG27-1,BF6,IF(Z43<BH27-1,BG6,IF(Z43<BI27-1,BH6,IF(Z43<BJ27-1,BI6,IF(Z43<BK27-1,BJ6,IF(Z43<BL27-1,BK6,IF(Z43<BM27-1,BL6,IF(Z43<BN27-1,BM6,IF(Z43<BN27+3,BN6,\" بزرگتر از سایز 50 \")))))))))))))))))","v":" کوچکتر از سایز 34 "}]
["جمع شوندگی افقی بافت","(0 الی 2) ",{"$f":"K45*E45+L45","v":0},"بافت ساده و جودانه=0 \nبافت کشباف=1 ",{"$f":"'طراحی همه الگوها'!H246","v":0},"جمع شوندگی افقی بافت",1,0.05,0,0,{"$f":"(J45-H45)/(I45-G45)","v":0.05},{"$f":"H45-G45*K45","v":0},0,{"$f":"(M45-L45)/K45","v":0},2,{"$f":"(O45-L45)/K45","v":40},1,{"$f":"(Q45-L45)/K45","v":20}]
["متغیرهای ورودی پیراهن ",null,null,null,null,"متغیرهای ورودی پیراهن "]
[]
[null,"برچسب الگو :",null,null,null," پنج ساله میل سه"]
[]
[" متغیرهای ورودی - شیفت الگو پیراهن",null,null,null,null," متغیرهای ورودی - شیفت الگو پیراهن","x1","y1","x2","y2(بهینه)","a","b","کمترین قبلی","کمترین جدید","بیشترین قبلی","بیشترین جدید",null,null,"اندازه های خوانده شده در محاسبه الگوها",null,null,null,"اندازه های خوانده شده برای بررسی اندازه ها",null,null,null,null,null,null,null,null,null,null,null,null,"رنج تغییرات اندزه ها","رنج تغییرات متغیرها مثبت و منفی","رنج تغییرات متغیرها مثبت",null,null,"انتخاب نوع سایزبندی","رنج تغییرات  کوچک متغیرها مثبت و منفی"]
["شیفت افقی کل الگو جلو پیراهن  برحسب سانتیمتر","(از -100 الی100)",{"$f":"K51*E51+L51","v":0},"بدون شیفت=0 ",{"$f":"'طراحی همه الگوها'!B463","v":0},"شیفت افقی کل الگو جلو پیراهن  (سانتیمتر)",1,1,0,0,{"$f":"(J51-H51)/(I51-G51)","v":1},{"$f":"H51-G51*K51","v":0},-100,{"$f":"(M51-L51)/K51","v":-100},100,{"$f":"(O51-L51)/K51","v":100},null,null,"اندازه ها در دامن و شلوار",null,"اندازه شخص",null,"اندازه شخص",null,null,null,null,null,null,null,null,null,null,null,null,{"$f":"U6","v":" 1ماهه"},-100,1,"اندازه جدید",null,"سایزبندی بچگانه",-50]
["شیفت عمودی کل الگو جلو پیراهن   برحسب سانتیمتر","(از -100 الی100)",0,"بدون شیفت =0  ",{"$f":"'طراحی همه الگوها'!B464","v":0},"شیفت عمودی کل الگو جلو پیراهن   (سانتیمتر)",1,1,0,0,1,0,-100,-100,100,100,null,null,"دور کمر","a",{"$f":"OFFSET('متغیرها '!T5,2,'متغیرها '!U5)","v":49},null,{"$f":"OFFSET('متغیرها '!T5,2,'متغیرها '!Y5)","v":131},null,null,null,null,null,null,null,null,null,null,null,null,{"$f":"V6","v":"1 تا 3 ماهه"},-99,2,"اندازه های موجود",null,"سایزبندی زنانه",-49.5]
["شیفت افقی کل الگو پشت پیراهن  برحسب سانتیمتر","(از -100 الی100)",0,"بدون شیفت=0 ",{"$f":"'طراحی همه الگوها'!B465","v":0},"شیفت افقی کل الگو پشت پیراهن  (سانتیمتر)",1,1,0,0,1,0,-100,-100,100,100,null,null,"نوار کمر از پشت بین دو خط پهلو","b",{"$f":"OFFSET('متغیرها '!T5,3,'متغیرها '!U5)","v":24},null,{"$f":"OFFSET('متغیرها '!T5,3,'متغیرها '!Y5)","v":63.6},null,null,null,null,null,null,null,null,null,null,null,null,{"$f":"W6","v":" 3 تا 6 ماهه"},-98,3,"انتخاب نوع اندازه گیری",null,"سایزبندی مردانه",-49]
["شیفت عمودی کل الگو پشت پیراهن  برحسب سانتیمتر","(از -100 الی100)",0,"بدون شیفت =0  ",{"$f":"'طراحی همه الگوها'!B466","v":0},"شیفت عمودی کل الگو پشت پیراهن  (سانتیمتر)",1,1,0,0,1,0,-100,-100,100,100,null,null,"دور باسن","c",{"$f":"OFFSET('متغیرها '!T5,4,'متغیرها '!U5)","v":56},null,{"$f":"OFFSET('متغیرها '!T5,4,'متغیرها '!Y5)","v":150},null,null,null,null,null,null,null,null,null,null,null,null,{"$f":"X6","v":"6ماهه تا یکساله"},-97,4,"اندازه گیری پیشرفته و با جزئیات",null,null,-48.5]
["شیفت افقی تکه  پهلو جلو   برحسب سانتیمتر","(از -100 الی100)",0,"بدون شیفت=0 ",{"$f":"'طراحی همه الگوها'!B187","v":0},"شیفت افقی تکه  پهلو جلو   (سانتیمتر)",1,1,0,0,1,0,-100,-100,100,100,null,null,"نوار باسن از پشت بین دو خط پهلو","d",{"$f":"OFFSET('متغیرها '!T5,5,'متغیرها '!U5)","v":31.4},null,{"$f":"OFFSET('متغیرها '!T5,5,'متغیرها '!Y5)","v":79.8},null,null,null,null,null,null,null,null,null,null,null,null,{"$f":"Y6","v":"بچگانه 1 ساله"},-96,5,"اندازه گیری مردان و بچه ها",null,null,-48]
["شیفت افقی تکه پهلو پشت  برحسب سانتیمتر","(از -100 الی100)",0,"بدون شیفت=0 ",{"$f":"'طراحی همه الگوها'!B188","v":0},"شیفت افقی تکه پهلو پشت  (سانتیمتر)",1,1,0,0,1,0,-100,-100,100,100,null,null,"فاصله نوار کمر تا زمین، از قسمت جلو","e",{"$f":"OFFSET('متغیرها '!T5,6,'متغیرها '!U5)","v":48},null,{"$f":"OFFSET('متغیرها '!T5,6,'متغیرها '!Y5)","v":108.9},null,null,null,null,null,null,null,null,null,null,null,null,{"$f":"Z6","v":"بچگانه 2 ساله"},-95,6,"اندازه گیری زنان",null,null,-47.5]
["شیفت عمودی تکه پهلو پشت  برحسب سانتیمتر","(از -100 الی100)",0,"بدون شیفت=0 ",{"$f":"'طراحی همه الگوها'!B189","v":0},"شیفت عمودی تکه پهلو پشت  (سانتیمتر)",1,1,0,0,1,0,-100,-100,100,100,null,null,"فاصله نوار کمر تا زمین، از قسمت پهلو","f",{"$f":"OFFSET('متغیرها '!T5,7,'متغیرها '!U5)","v":48},null,{"$f":"OFFSET('متغیرها '!T5,7,'متغیرها '!Y5)","v":110},null,null,null,null,null,null,null,null,null,null,null,null,{"$f":"AA6","v":"بچگانه 3 ساله"},-94,7,"اندازه گیری پیشرفته زنان",null,null,-47]
[null,null,null,null,null,null,null,null,null,null,null,null,null,null,null,null,null,null,"فاصله نوار کمر تا زمین، از قسمت پشت","g",{"$f":"OFFSET('متغیرها '!T5,8,'متغیرها '!U5)","v":48},null,{"$f":"OFFSET('متغیرها '!T5,8,'متغیرها '!Y5)","v":111.1},null,null,null,null,null,null,null,null,null,null,null,null,{"$f":"AB6","v":"بچگانه 4 ساله"},-93,8,null,null,null,-46.5]
[" متغیرهای ورودی - گشاد یا تنگ شدن پیراهن",null,null,null,null," متغیرهای ورودی - گشاد یا تنگ شدن پیراهن","x1","y1","x2","y2(بهینه)","a","b","کمترین قبلی","کمترین جدید","بیشترین قبلی","بیشترین جدید",null,null,"فاصله نوار زانو تا زمین","h",{"$f":"OFFSET('متغیرها '!T5,9,'متغیرها '!U5)","v":17.2},null,{"$f":"OFFSET('متغیرها '!T5,9,'متغیرها '!Y5)","v":46.7},null,null,null,null,null,null,null,null,null,null,null,null,{"$f":"AC6","v":"بچگانه 5 ساله"},-92,9,null,null,null,-46]
["ضریب تغییر اندازه های عرضی در پیراهن f2  ","(از -0.2 الی 0.2)",{"$f":"K60*E60+L60","v":7.0000000000000007E-2},"اندامی =0",{"$f":"'طراحی همه الگوها'!B469","v":7}," اندازه های عرضی در پیراهن   ",1,0.01,0,0,{"$f":"(J60-H60)/(I60-G60)","v":0.01},{"$f":"H60-G60*K60","v":0},-0.2,{"$f":"(M60-L60)/K60","v":-20},0.2,{"$f":"(O60-L60)/K60","v":20},null,null,"فاصله نوار باسن تا زمین","j",{"$f":"OFFSET('متغیرها '!T5,10,'متغیرها '!U5)","v":36.700000000000003},null,{"$f":"OFFSET('متغیرها '!T5,10,'متغیرها '!Y5)","v":87.3},null,null,null,null,null,null,null,null,null,null,null,null,{"$f":"AD6","v":"بچگانه 6 ساله"},-91,10,"انتخاب نوع الگو",null,null,-45.5]
["ضریب گشاد یا تنگ شدن از خط پهلو زیر حلقهf3 ","(از -0.03 الی 0.03)",{"$f":"K61*E61+L61","v":2.5000000000000001E-2},"اندامی =0",{"$f":"'طراحی همه الگوها'!B470","v":5}," گشاد یا تنگ شدن از خط پهلو زیر حلقه ",1,5.0000000000000001E-3,0,0,{"$f":"(J61-H61)/(I61-G61)","v":5.0000000000000001E-3},{"$f":"H61-G61*K61","v":0},-0.03,{"$f":"(M61-L61)/K61","v":-6},0.03,{"$f":"(O61-L61)/K61","v":6},null,null,"دور زانو","L",{"$f":"OFFSET('متغیرها '!T5,11,'متغیرها '!U5)","v":23},null,{"$f":"OFFSET('متغیرها '!T5,11,'متغیرها '!Y5)","v":61.5},null,null,null,null,null,null,null,null,null,null,null,null,{"$f":"AE6","v":"بچگانه 7 ساله"},-90,11,"فاق معمولی مناسب زنان و بچه ها",null,null,-45]
["ضریب گشاد یا تنگ شدن از خط پهلو دور باسن f4 ","(از -0.03 الی 0.08)",{"$f":"K62*E62+L62","v":2.5000000000000001E-2},"اندامی =0",{"$f":"'طراحی همه الگوها'!B471","v":5}," گشاد یا تنگ شدن از خط پهلو دور باسن  ",1,5.0000000000000001E-3,0,0,{"$f":"(J62-H62)/(I62-G62)","v":5.0000000000000001E-3},{"$f":"H62-G62*K62","v":0},-0.03,{"$f":"(M62-L62)/K62","v":-6},0.08,{"$f":"(O62-L62)/K62","v":16},null,null,"بلندی فاق","m",{"$f":"OFFSET('متغیرها '!T5,12,'متغیرها '!U5)","v":14},null,{"$f":"OFFSET('متغیرها '!T5,12,'متغیرها '!Y5)","v":33.5},null,null,null,null,null,null,null,null,null,null,null,null,{"$f":"AF6","v":"بچگانه 8 ساله"},-89,12,"فاق کمی بلند مناسب مردان",null,null,-44.5]
["ضریب تغییر اندازه های طولی در پیراهن f5 ","(از -0.2 الی 0.2)",{"$f":"K63*E63+L63","v":0},"اندامی =0",{"$f":"'طراحی همه الگوها'!B472","v":0}," اندازه های طولی در پیراهن  ",1,0.01,0,0,{"$f":"(J63-H63)/(I63-G63)","v":0.01},{"$f":"H63-G63*K63","v":0},-0.2,{"$f":"(M63-L63)/K63","v":-20},0.2,{"$f":"(O63-L63)/K63","v":20},null,null,"آنفورشور","q",{"$f":"OFFSET('متغیرها '!T5,13,'متغیرها '!U5)","v":41.7},null,{"$f":"OFFSET('متغیرها '!T5,13,'متغیرها '!Y5)","v":91.7},null,null,null,null,null,null,null,null,null,null,null,null,{"$f":"AG6","v":"بچگانه 9 ساله"},-88,13,"فاق کاملا بلند مناسب بچه با پوشک",null,null,-44]
[null,null,null,null,null,null,null,null,null,null,null,null,null,null,null,null,null,null,"دور مچ پا","r",{"$f":"OFFSET('متغیرها '!T5,14,'متغیرها '!U5)","v":16.2},null,{"$f":"OFFSET('متغیرها '!T5,14,'متغیرها '!Y5)","v":30},null,null,null,null,null,null,null,null,null,null,null,null,{"$f":"AH6","v":"بچگانه 10 ساله"},-87,14,null,null,null,-43.5]
[" متغیرهای ورودی - جادکمه و پایین لباس",null,null,null,null," متغیرهای ورودی - جادکمه و پایین لباس","x1","y1","x2","y2(بهینه)","a","b","کمترین قبلی","کمترین جدید","بیشترین قبلی","بیشترین جدید",null,null,null,null,null,null,null,null,null,null,null,null,null,null,null,null,null,null,null,{"$f":"AI6","v":"بچگانه 11 ساله"},-86,15,"ارتفاع یقه گرد کش",null,null,-43]
["ضریب بزرگی پهنای جادکمه جلو    مرحله اول","(از 0 الی 0.1)",{"$f":"K66*E66+L66","v":0},"بهینه=0.015",{"$f":"'طراحی همه الگوها'!B475","v":0},"پهنای جادکمه جلو      مرحله اول در طراحی یقه انگلیسی",0,0,1,5.0000000000000001E-3,{"$f":"(J66-H66)/(I66-G66)","v":5.0000000000000001E-3},{"$f":"H66-G66*K66","v":0},0,{"$f":"(M66-L66)/K66","v":0},0.1,{"$f":"(O66-L66)/K66","v":20},null,null,"شلوار زنانه و بچگانه = 0       مردانه=1      بچه با پوشک=2",null,{"$f":"OFFSET('متغیرها '!T5,16,'متغیرها '!U5)","v":2},null,{"$f":"OFFSET('متغیرها '!T5,16,'متغیرها '!Y5)","v":0},null,null,null,null,null,null,null,null,null,null,null,null,{"$f":"AJ6","v":"بچگانه 12 ساله"},-85,16,0.5,"نوع آستین",null,-42.5]
["ضریب فاصله لبه دامن یا پیراهن تا زمین   k0","(از 0 الی 4)",{"$f":"K67*E67+L67","v":1.85},"خط زمین=0 \nخط زانو=1 \nخط باسن=2 \nخط کمر=3 \nخط سینه=4  ",{"$f":"'طراحی همه الگوها'!B476","v":47},"لبه پایین لباس",10,0,30,1,{"$f":"(J67-H67)/(I67-G67)","v":0.05},{"$f":"H67-G67*K67","v":-0.5},0,{"$f":"(M67-L67)/K67","v":10},4,{"$f":"(O67-L67)/K67","v":90},null,null,null,null,null,null,null,null,null,null,null,null,null,null,null,null,null,null,null,{"$f":"AK6","v":"بچگانه 13 ساله"},-84,17,1,1,null,-42]
["ضریب انحنا لبه پایین لباس ","(از 0 الی 0.9)",{"$f":"K68*E68+L68","v":0},"بهینه =0.1",{"$f":"'طراحی همه الگوها'!B477","v":0}," انحنا لبه پایین لباس نزدیک خط پهلو",0,0,1,0.05,{"$f":"(J68-H68)/(I68-G68)","v":0.05},{"$f":"H68-G68*K68","v":0},0,{"$f":"(M68-L68)/K68","v":0},0.9,{"$f":"(O68-L68)/K68","v":18},null,null,null,null,null,null,null,null,null,null,null,null,null,null,null,null,null,null,null,{"$f":"AL6","v":"بچگانه 14 ساله"},-83,18,1.5,2,null,-41.5]
[" ضریب طول انحنا لبه پایین لباس نزدیک خط پهلو","(از 0 الی 1)",{"$f":"K69*E69+L69","v":0.9},"بهینه =0.9",{"$f":"'طراحی همه الگوها'!B478","v":18}," طول انحنا لبه پایین لباس نزدیک خط پهلو",0,0,1,0.05,{"$f":"(J69-H69)/(I69-G69)","v":0.05},{"$f":"H69-G69*K69","v":0},0,{"$f":"(M69-L69)/K69","v":0},1,{"$f":"(O69-L69)/K69","v":20},null,null,"اندازه ها در بالاتنه",null,"اندازه شخص",null,"اندازه شخص",null,null,null,null,null,null,null,null,null,null,null,null,{"$f":"AM6","v":"34زنانه"},-82,19,2,4,null,-41]
[" متغیرهای ورودی - یقه",null,null,null,null," متغیرهای ورودی - یقه","x1","y1","x2","y2(بهینه)","a","b","کمترین قبلی","کمترین جدید","بیشترین قبلی","بیشترین جدید",null,null,"دور کمر","a",{"$f":"OFFSET('متغیرها '!T5,20,'متغیرها '!U5)","v":49},null,{"$f":"OFFSET('متغیرها '!T5,20,'متغیرها '!Y5)","v":131},null,null,null,null,null,null,null,null,null,null,null,null,{"$f":"AN6","v":"36زنانه"},-81,20,2.5,null,null,-40.5]
["ضریب باز شدن یقه روی سرشانه (گرد یا مربعی یا دلبری)   مرحله دوم   x6 ","(از 0 الی 0.99)",{"$f":"K71*E71+L71","v":0.25},"یقه کیپ=0",{"$f":"'طراحی همه الگوها'!E453","v":5},"باز شدن یقه روی سرشانه (گرد یا مربعی یا دلبری)   مرحله دوم در طراحی یقه انگلیسی    ",0,0,1,0.05,{"$f":"(J71-H71)/(I71-G71)","v":0.05},{"$f":"H71-G71*K71","v":0},0,{"$f":"(M71-L71)/K71","v":0},0.95,{"$f":"(O71-L71)/K71","v":18.999999999999996},null,null,"نوار کمر از پشت بین دو خط پهلو","b",{"$f":"OFFSET('متغیرها '!T5,21,'متغیرها '!U5)","v":24},null,{"$f":"OFFSET('متغیرها '!T5,21,'متغیرها '!Y5)","v":63.6},null,null,null,null,null,null,null,null,null,null,null,null,{"$f":"AO6","v":"38زنانه"},-80,21,3,null,null,-40]
["ضریب باز شدن یقه روی خط مرکزی جلو (گرد یا مربعی یا قایقی یا پروانه ای)  x'6","(از 0 الی 3)",{"$f":"K72*E72+L72","v":0.30000000000000004},"یقه کیپ=0",{"$f":"'طراحی همه الگوها'!E454","v":6},"باز شدن یقه روی خط مرکزی جلو (گرد یا مربعی یا قایقی یا پروانه ای)  ",0,0,1,0.05,{"$f":"(J72-H72)/(I72-G72)","v":0.05},{"$f":"H72-G72*K72","v":0},0,{"$f":"(M72-L72)/K72","v":0},3,{"$f":"(O72-L72)/K72","v":60},null,null,"دور سینه : از برجسته ترین قسمت سینه","s1",{"$f":"OFFSET('متغیرها '!T5,22,'متغیرها '!U5)","v":54},null,{"$f":"OFFSET('متغیرها '!T5,22,'متغیرها '!Y5)","v":146},null,null,null,null,null,null,null,null,null,null,null,null,{"$f":"AP6","v":"40زنانه"},-79,22,3.5,null,null,-39.5]
["ضریب باز شدن یقه روی خط مرکزی پشت  (گرد یا مربعی یا قایقی یا پروانه ای) مرحله دوم    x7","(از 0 الی 3)",{"$f":"K73*E73+L73","v":0.15000000000000002},"یقه کیپ=0",{"$f":"'طراحی همه الگوها'!E455","v":3},"باز شدن یقه روی خط مرکزی پشت(گرد؛ مربعی؛ قایقی؛ پروانه ای)مرحله دوم در طراحی یقه انگلیسی    ",0,0,1,0.05,{"$f":"(J73-H73)/(I73-G73)","v":0.05},{"$f":"H73-G73*K73","v":0},0,{"$f":"(M73-L73)/K73","v":0},3,{"$f":"(O73-L73)/K73","v":60},null,null,"پشت نوار سینه، بین دو خط پهلو","s2",{"$f":"OFFSET('متغیرها '!T5,23,'متغیرها '!U5)","v":27},null,{"$f":"OFFSET('متغیرها '!T5,23,'متغیرها '!Y5)","v":67.5},null,null,null,null,null,null,null,null,null,null,null,null,{"$f":"AQ6","v":"42زنانه"},-78,23,4,null,null,-39]
[null,null,null,null,null,null,null,null,null,null,null,null,null,null,null,null,null,null,"فاصله عمودی از خط سینه جلو تا خط سینه پشت که از کنار حلقه آستین بگذرد","t1",{"$f":"OFFSET('متغیرها '!T5,24,'متغیرها '!U5)","v":24.4},null,{"$f":"OFFSET('متغیرها '!T5,24,'متغیرها '!Y5)","v":46.5},null,null,null,null,null,null,null,null,null,null,null,null,{"$f":"AR6","v":"44زنانه"},-77,24,4.5,null,null,-38.5]
[" متغیرهای ورودی - سرشانه و حلقه آستین",null,null,null,null," متغیرهای ورودی - سرشانه و حلقه آستین","x1","y1","x2","y2(بهینه)","a","b","کمترین قبلی","کمترین جدید","بیشترین قبلی","بیشترین جدید",null,null,"فاصله عمودی از خط سینه جلو تا خط سینه پشت که از کنارگردن بگذرد","t2",{"$f":"OFFSET('متغیرها '!T5,25,'متغیرها '!U5)","v":28.7},null,{"$f":"OFFSET('متغیرها '!T5,25,'متغیرها '!Y5)","v":63.3},null,null,null,null,null,null,null,null,null,null,null,null,{"$f":"AS6","v":"46زنانه"},-76,25,5,null,null,-38]
["میزان کم شدن سرشانه x8 ","(از -0.5 الی 0.9)",{"$f":"K76*E76+L76","v":0},"اندامی =0",{"$f":"'طراحی همه الگوها'!B481","v":0},"ضریب کم شدن سرشانه  ",0,0,1,0.05,{"$f":"(J76-H76)/(I76-G76)","v":0.05},{"$f":"H76-G76*K76","v":0},-0.5,{"$f":"(M76-L76)/K76","v":-10},0.9,{"$f":"(O76-L76)/K76","v":18},null,null,"فاصله عمودی از خط کمر جلو تا خط کمر پشت که از کنار گردن بگذرد","t3",{"$f":"OFFSET('متغیرها '!T5,26,'متغیرها '!U5)","v":49},null,{"$f":"OFFSET('متغیرها '!T5,26,'متغیرها '!Y5)","v":100},null,null,null,null,null,null,null,null,null,null,null,null,{"$f":"AT6","v":"48زنانه"},-75,26,null,null,null,-37.5]
["میزان بزرگ شدن زیر حلقه آستین x9 ","(از -0.5 الی 1.5)",{"$f":"K77*E77+L77","v":0.1},"اندامی =0",{"$f":"'طراحی همه الگوها'!B482","v":2},"ضریب بزرگ شدن زیر حلقه آستین  ",0,0,1,0.05,{"$f":"(J77-H77)/(I77-G77)","v":0.05},{"$f":"H77-G77*K77","v":0},-0.5,{"$f":"(M77-L77)/K77","v":-10},1.5,{"$f":"(O77-L77)/K77","v":30},null,null,"فاصله عمودی بین خط سینه پشت و سرشانه، نزدیک دست","t4",{"$f":"OFFSET('متغیرها '!T5,27,'متغیرها '!U5)","v":12.5},null,{"$f":"OFFSET('متغیرها '!T5,27,'متغیرها '!Y5)","v":23.8},null,null,null,null,null,null,null,null,null,null,null,null,{"$f":"AU6","v":"50زنانه"},-74,27,"متغیر ورودی به سانتیمتر","متغیر ورودی به سانتیمتر",null,-37]
["میزان زیاد شدن سرشانه x10 ","(از -0.5 الی 0.5)",{"$f":"K78*E78+L78","v":0.2},"اندامی =0",{"$f":"'طراحی همه الگوها'!B483","v":4},"ضریب زیاد شدن سرشانه  ",0,0,1,0.05,{"$f":"(J78-H78)/(I78-G78)","v":0.05},{"$f":"H78-G78*K78","v":0},-0.5,{"$f":"(M78-L78)/K78","v":-10},0.5,{"$f":"(O78-L78)/K78","v":10},null,null,"فاصله عمودی بین خط سینه پشت و سرشانه، نزدیک گردن","t5",{"$f":"OFFSET('متغیرها '!T5,28,'متغیرها '!U5)","v":15},null,{"$f":"OFFSET('متغیرها '!T5,28,'متغیرها '!Y5)","v":30.5},null,null,null,null,null,null,null,null,null,null,null,null,{"$f":"AV6","v":"52زنانه"},-73,28,-10,0,null,-36.5]
["انتخاب آستین حلقه ای یا پیش سینه رکابی یا تکه پهلو جدا=0        و انتخاب آستین دیگر=1","0 یا 1 ",{"$f":"K79*E79+L79","v":1},null,{"$f":"'طراحی همه الگوها'!B484","v":2},"انتخاب آستین حلقه ای یا پیش سینه رکابی یا تکه پهلو جدا=1        و انتخاب آستین دیگر=2",1,0,2,1,{"$f":"(J79-H79)/(I79-G79)","v":1},{"$f":"H79-G79*K79","v":-1},null,1,null,2,null,null,"فاصله عمودی بین خط کمرپشت و سرشانه، نزدیک گردن","t6",{"$f":"OFFSET('متغیرها '!T5,29,'متغیرها '!U5)","v":25},null,{"$f":"OFFSET('متغیرها '!T5,29,'متغیرها '!Y5)","v":46.9},null,null,null,null,null,null,null,null,null,null,null,null,{"$f":"AW6","v":"54زنانه"},-72,29,-9.5,0.1,null,-36]
[null,null,null,null,null,null,null,null,null,null,null,null,null,null,null,null,null,null,"دور گردن (متر به طور عمودی دور گردن قرار می گیرد و از روی استخوان ترقوه می گذرد)","v",{"$f":"OFFSET('متغیرها '!T5,30,'متغیرها '!U5)","v":30},null,{"$f":"OFFSET('متغیرها '!T5,30,'متغیرها '!Y5)","v":50},null,null,null,null,null,null,null,null,null,null,null,null,{"$f":"AX6","v":"56زنانه"},-71,30,-9,0.2,null,-35.5]
[" متغیرهای ورودی - تنظیم ساسون های بالای کمر\nمجموع ضرایب پهنای دو ساسون پشت باید کمتر از یک یا مساوی یک باشد.\nبا تغییر ضرایب پهنای ساسون، باقیمانده ساسون ها روی خط پهلو قرار میگیرد.",null,null,null,null," متغیرهای ورودی - تنظیم ساسون های بالای کمر\nمجموع ضرایب پهنای دو ساسون پشت باید کمتر از یک یا مساوی یک باشد.\nبا تغییر ضرایب پهنای ساسون، باقیمانده ساسون ها روی خط پهلو قرار میگیرد.","x1","y1","x2","y2","a","b",null,"کمترین",null,"بیشترین",null,"تست جدید","کارور پشت (بین دو خط امتداد زیر بغل)","v3",{"$f":"OFFSET('متغیرها '!T5,31,'متغیرها '!U5)","v":22},null,{"$f":"OFFSET('متغیرها '!T5,31,'متغیرها '!Y5)","v":55.5},null,null,null,null,null,null,null,null,null,null,null,null,{"$f":"AY6","v":"58زنانه"},-70,31,-8.5,0.3,null,-35]
[" ضریب پهنای ساسون روی خط مرکزی پشت بالاتنه   y'1","(از 0 الی 1)",{"$f":"K82*E82+L82","v":0},"بدون ساسون=0 \nبهینه=0.5  ",{"$f":"'طراحی همه الگوها'!B239","v":0}," ضریب پهنای ساسون روی خط مرکزی پشت بالاتنه   ",0,0,1,0.05,{"$f":"(J82-H82)/(I82-G82)","v":0.05},{"$f":"H82-G82*K82","v":0},0,{"$f":"(M82-L82)/K82","v":0},1,{"$f":"(O82-L82)/K82","v":20},0.5,{"$f":"(Q82-L82)/K82","v":10},"دور بازو از ناحیه زیر بغل","w2",{"$f":"OFFSET('متغیرها '!T5,32,'متغیرها '!U5)","v":21},null,{"$f":"OFFSET('متغیرها '!T5,32,'متغیرها '!Y5)","v":46},null,null,null,null,null,null,null,null,null,null,null,null,{"$f":"AZ6","v":"60زنانه"},-69,32,-8,0.4,"متغیر ورودی خاص شلوار",-34.5]
[" ضریب طول ساسون روی خط مرکزی پشت بالاتنه   y'3","(از0.1 الی 0.9)",0.75,"بهینه=0.75 ",{"$f":"'طراحی همه الگوها'!B240","v":15}," ضریب طول ساسون روی خط مرکزی پشت بالاتنه   ",0,0,1,0.05,{"$f":"(J83-H83)/(I83-G83)","v":0.05},{"$f":"H83-G83*K83","v":0},0.1,2,0.9,18,0.75,15,"قد آستین (دست به طور خمیده، قد از سرشانه تا مچ)","w10",{"$f":"OFFSET('متغیرها '!T5,33,'متغیرها '!U5)","v":31},null,{"$f":"OFFSET('متغیرها '!T5,33,'متغیرها '!Y5)","v":64},null,null,null,null,null,null,null,null,null,null,null,null,{"$f":"BA6","v":"37 مردانه"},-68,33,-7.5,0.5,0.5,-34]
[" ضریب پهنای ساسون میانی پشت بالاتنه   y'2","(از 0 الی 1)",0.5,"بدون ساسون=0\nبهینه=0.5",{"$f":"'طراحی همه الگوها'!B241","v":10}," ضریب پهنای ساسون میانی پشت بالاتنه   ",0,0,1,0.05,{"$f":"(J84-H84)/(I84-G84)","v":0.05},{"$f":"H84-G84*K84","v":0},0,0,1,20,0.5,10,"دور مچ دست","w11",{"$f":"OFFSET('متغیرها '!T5,34,'متغیرها '!U5)","v":12},null,{"$f":"OFFSET('متغیرها '!T5,34,'متغیرها '!Y5)","v":23},null,null,null,null,null,null,null,null,null,null,null,null,{"$f":"BB6","v":"38 مردانه"},-67,34,-7,0.6,0.55000000000000004,-33.5]
[" ضریب طول ساسون میانی پشت بالاتنه   y'4","(از 0.3 الی 1)",0.9,"بهینه =0.9",{"$f":"'طراحی همه الگوها'!B242","v":18}," ضریب طول ساسون میانی پشت بالاتنه   ",0,0,1,0.05,0.05,0,0.3,5.9999999999999991,1,20,0.9,18,"دور سر","w12",{"$f":"OFFSET('متغیرها '!T5,35,'متغیرها '!U5)","v":49},null,{"$f":"OFFSET('متغیرها '!T5,35,'متغیرها '!Y5)","v":57},null,null,null,null,null,null,null,null,null,null,null,null,{"$f":"BC6","v":"39 مردانه"},-66,35,-6.5,0.7,0.6,-33]
[" ضریب فاصله افقی ساسون وسط بالاتنه از خط مرکزی پشت   y'5","(از0.2 الی 0.8)",0.5,"بهینه=0.5",{"$f":"'طراحی همه الگوها'!B243","v":25}," ضریب فاصله افقی ساسون وسط بالاتنه از خط مرکزی پشت   ",0,0,1,0.02,0.02,0,0.2,10,0.8,40,0.5,25,null,null,null,null,null,null,null,null,null,null,null,null,null,null,null,null,null,{"$f":"BD6","v":"40 مردانه"},-65,36,-6,0.8,0.65,-32.5]
[" ضریب پهنای ساسون میانی جلو بالاتنه    y'6","(از 0 الی 0.5)",0.35000000000000003,"بدون ساسون=0\nبهینه=0.333",{"$f":"'طراحی همه الگوها'!B244","v":7}," ضریب پهنای ساسون میانی جلو بالاتنه    ",0,0,1,0.05,0.05,0,0,0,0.5,10,0.35,6.9999999999999991,null,null,null,null,null,null,null,null,null,null,null,null,null,null,null,null,null,{"$f":"BE6","v":"41 مردانه"},-64,37,-5.5,0.9,0.7,-32]
[" ضریب طول ساسون میانی جلو بالاتنه  y'7","(از 0 الی 0.5)",0.19999999999999996,"بهینه =0.2\nتا خط سینه=0",{"$f":"'طراحی همه الگوها'!B245","v":16}," ضریب طول ساسون میانی جلو بالاتنه  ",20,0,0,1,-0.05,1,0,20,0.5,10,0.2,16,null,null,null,null,null,null,null,null,null,null,null,null,null,null,null,null,null,{"$f":"BF6","v":"42 مردانه"},-63,38,-5,1,0.75,-31.5]
[" ضریب فاصله افقی ساسون میانی بالاتنه از خط مرکزی جلو   y'8","(از0.2 الی 0.8)",0.5,"بهینه=0.5",{"$f":"'طراحی همه الگوها'!B246","v":25}," ضریب فاصله افقی ساسون میانی بالاتنه از خط مرکزی جلو   ",0,0,1,0.02,0.02,0,0.2,10,0.8,40,0.5,25,null,null,null,null,null,null,null,null,null,null,null,null,null,null,null,null,null,{"$f":"BG6","v":"43 مردانه"},-62,39,-4.5,1.1000000000000001,0.8,-31]
[" ضریب نوک ساسون سرشانه جلو تا نوک سینه  y'15","(از 0 الی 0.5)",9.9999999999999978E-2,"بهینه =0.2\nتا خط سینه=0",{"$f":"'طراحی همه الگوها'!B247","v":18}," ضریب نوک ساسون سرشانه جلو تا نوک سینه  ",20,0,0,1,{"$f":"(J90-H90)/(I90-G90)","v":-0.05},{"$f":"H90-G90*K90","v":1},0,20,0.5,10,0.2,16,null,null,null,null,null,null,null,null,null,null,null,null,null,null,null,null,null,{"$f":"BH6","v":"44 مردانه"},-61,40,-4,1.2,0.85,-30.5]
[null,null,null,null,null,null,null,null,null,null,null,null,null,null,null,null,null,null,null,null,null,null,null,null,null,null,null,null,null,null,null,null,null,null,null,{"$f":"BI6","v":"45 مردانه"},-60,41,-3.5,1.3,0.9,-30]
[" متغیرهای ورودی - تنظیم ساسون های پایین کمر\nمجموع پهنای دو ساسون پشت باید کمتر از یک یا مساوی یک باشد.\nبا تغییر ضرایب پهنای ساسون، باقیمانده ساسون ها روی خط پهلو قرار میگیرد.",null,null,null,null," متغیرهای ورودی - تنظیم ساسون های پایین کمر\nمجموع پهنای دو ساسون پشت باید کمتر از یک یا مساوی یک باشد.\nبا تغییر ضرایب پهنای ساسون، باقیمانده ساسون ها روی خط پهلو قرار میگیرد.","x1","y1","x2","y2(بهینه)","a","b",null,"کمترین",null,"بیشترین",null,null,null,null,null,null,null,null,null,null,null,null,null,null,null,null,null,null,null,{"$f":"BJ6","v":"46 مردانه"},-59,42,-3,1.4,0.95,-29.5]
[" ضریب پهنای ساسون روی خط مرکزی پشت دامن   y'9","(از 0 الی 1)",{"$f":"K93*E93+L93","v":0},"بدون ساسون=0 \nبهینه=025  ",{"$f":"'طراحی همه الگوها'!B252","v":0}," ضریب پهنای ساسون روی خط مرکزی پشت دامن   ",0,0,1,0.05,{"$f":"(J93-H93)/(I93-G93)","v":0.05},{"$f":"H93-G93*K93","v":0},0,{"$f":"(M93-L93)/K93","v":0},1,{"$f":"(O93-L93)/K93","v":20},0.25,{"$f":"(Q93-L93)/K93","v":5},null,null,null,null,null,null,null,null,null,null,null,null,null,null,null,null,null,{"$f":"BK6","v":"47 مردانه"},-58,43,-2.5,1.5,1,-29]
[" ضریب طول ساسون روی خط مرکزی پشت دامن   y'10     غیر فعال","(از0.1 الی 0.9)",0.9,"بهینه=0.9 ",{"$f":"'طراحی همه الگوها'!B253","v":18}," ضریب طول ساسون روی خط مرکزی پشت دامن        غیر فعال",0,0,1,0.05,0.05,0,0.1,2,0.9,18,0.9,18,null,null,null,null,null,null,null,null,null,null,null,null,null,null,null,null,null,{"$f":"BL6","v":"48 مردانه"},-57,44,-2,1.6,1.05,-28.5]
[" ضریب پهنای ساسون میانی پشت دامن   y'11","(از 0 الی 1)",0.5,"بدون ساسون=0\nبهینه=0.5",{"$f":"'طراحی همه الگوها'!B254","v":10}," ضریب پهنای ساسون میانی پشت دامن   ",0,0,1,0.05,0.05,0,0,0,1,20,0.5,10,null,null,null,null,null,null,null,null,null,null,null,null,null,null,null,null,null,{"$f":"BM6","v":"49 مردانه"},-56,45,-1.5,1.7,1.1000000000000001,-28]
[" ضریب طول ساسون میانی پشت دامن   y'12    ","(از 0.3 الی 1)",0.9,"بلندی ساسون تا خط باسن=1\nبهینه =0.9",{"$f":"'طراحی همه الگوها'!B255","v":18}," ضریب طول ساسون میانی پشت دامن       ",0,0,1,0.05,0.05,0,0.3,5.9999999999999991,1,20,0.9,18,null,null,null,null,null,null,null,null,null,null,null,null,null,null,null,null,null,{"$f":"BN6","v":"50 مردانه"},-55,46,-1,1.8,1.1499999999999999,-27.5]
[" ضریب پهنای ساسون میانی جلو دامن    y'13","(از 0 الی 0.5)",0.25,"بدون ساسون=0\nبهینه=0.25",{"$f":"'طراحی همه الگوها'!B256","v":5}," ضریب پهنای ساسون میانی جلو دامن    ",0,0,1,0.05,0.05,0,0,0,0.5,10,0.25,5,null,null,null,null,null,null,null,null,null,null,null,null,null,null,null,null,null,{"$f":"BO6","v":"6ماهه تا یکساله کت"},-54,47,-0.5,1.9,1.2,-27]
[" ضریب طول ساسون میانی جلو دامن  y'14     ","(از 0.3 الی 0.99)",0.9,"بلندی ساسون تا خط باسن=1\nبهینه =0.9",{"$f":"'طراحی همه الگوها'!B257","v":18}," ضریب طول ساسون میانی جلو دامن       ",0,0,1,0.05,0.05,0,0.3,5.9999999999999991,0.95,18.999999999999996,0.9,18,null,null,null,null,null,null,null,null,null,null,null,null,null,null,null,null,null,{"$f":"BP6","v":"1ساله کت"},-53,48,0,2,1.25,-26.5]
[null,null,null,null,null,null,null,null,null,null,null,null,null,null,null,null,null,null,null,null,null,null,null,null,null,null,null,null,null,null,null,null,null,null,null,{"$f":"BQ6","v":"2ساله کت"},-52,49,0.5,2.1,1.3,-26]
[" متغیرهای ورودی-بالاتنه عصایی ساسون ها",null,null,null,null," متغیرهای ورودی-بالاتنه عصایی ساسون ها","x1","y1","x2","y2(بهینه)","a","b",null,"کمترین",null,"بیشترین",null,null,null,null,null,null,null,null,null,null,null,null,null,null,null,null,null,null,null,{"$f":"BR6","v":"3ساله کت"},-51,50,1,2.2000000000000002,1.35,-25.5]
["انتخاب بالاتنه عصایی=1        انتخاب دیگر=0","0 یا 1 ",{"$f":"K101*E101+L101","v":0},null,{"$f":"'طراحی همه الگوها'!B260","v":1},"انتخاب بالاتنه عصایی=2        انتخاب دیگر=1",1,0,2,1,{"$f":"(J101-H101)/(I101-G101)","v":1},{"$f":"H101-G101*K101","v":-1},0,{"$f":"(M101-L101)/K101","v":1},1,{"$f":"(O101-L101)/K101","v":2},1,{"$f":"(Q101-L101)/K101","v":2},null,null,null,null,null,null,null,null,null,null,null,null,null,null,null,null,null,{"$f":"BS6","v":"4ساله کت"},-50,51,1.5,2.2999999999999998,1.4,-25]
["ضریب مکان ساسون جلو عصایی در بالاتنه","(از 0.1 الی 0.3)",{"$f":"K102*E102+L102","v":0.2},"بهینه عصایی=0.2",{"$f":"'طراحی همه الگوها'!B261","v":4},"مکان ساسون عصایی جلو در حلقه آستین بالاتنه",0,0,1,0.05,{"$f":"(J102-H102)/(I102-G102)","v":0.05},{"$f":"H102-G102*K102","v":0},0.1,{"$f":"(M102-L102)/K102","v":2},0.3,{"$f":"(O102-L102)/K102","v":5.9999999999999991},0.2,{"$f":"(Q102-L102)/K102","v":4},null,null,null,null,null,null,null,null,null,null,null,null,null,null,null,null,null,{"$f":"BT6","v":"5ساله کت"},-49,52,2,2.4,1.45,-24.5]
["ضریب مکان ساسون پشت عصایی در بالاتنه","(از 0.1 الی 0.4)",{"$f":"K103*E103+L103","v":0.2},"بهینه عصایی=0.3",{"$f":"'طراحی همه الگوها'!B262","v":4},"مکان ساسون عصایی پشت در حلقه آستین بالاتنه",0,0,1,0.05,{"$f":"(J103-H103)/(I103-G103)","v":0.05},{"$f":"H103-G103*K103","v":0},0.1,{"$f":"(M103-L103)/K103","v":2},0.4,{"$f":"(O103-L103)/K103","v":8},0.3,{"$f":"(Q103-L103)/K103","v":5.9999999999999991},null,null,null,null,null,null,null,null,null,null,null,null,null,null,null,null,null,{"$f":"BU6","v":"6ساله کت"},-48,53,2.5,2.5,1.5,-24]
[null,null,null,null,null,null,null,null,null,null,null,null,null,null,null,null,null,null,null,null,null,null,null,null,null,null,null,null,null,null,null,null,null,null,null,{"$f":"BV6","v":"7ساله کت"},-47,54,3,2.6,1.55,-23.5]
[" متغیرهای ورودی- انتقال ساسون سرشانه به زیر بغل، عصایی یا خط مرکزی جلو\nبرای حذف کامل ساسون سرشانه مجموع c1 و c2 باید 1 شود.",null,null,null,null," متغیرهای ورودی- انتقال ساسون سرشانه به زیر بغل، عصایی یا خط مرکزی جلو\nبرای حذف کامل ساسون سرشانه مجموع c1 و c2 باید 30 شود.","x1","y1","x2","y2(بهینه)","a","b",null,"کمترین",null,"بیشترین",null,null,null,null,null,null,null,null,null,null,null,null,null,null,null,null,null,null,null,{"$f":"BW6","v":"8ساله کت"},-46,55,3.5,2.7,1.6,-23]
["ضریب انتقال ساسون سرشانه جلو به ساسون زیر بغل یا ساسون عصایی  c1","(از 0 الی 1)",{"$f":"K106*E106+L106","v":0},"بدون انتقال=0 \nبهیه برای کت جلو باز=0.8 ",{"$f":"'طراحی همه الگوها'!B223","v":0},"انتقال ساسون سرشانه جلو به ساسون زیر بغل یا ساسون عصایی  c1",0,0,10,1,{"$f":"(J106-H106)/(I106-G106)","v":0.1},{"$f":"H106-G106*K106","v":0},0,{"$f":"(M106-L106)/K106","v":0},1,{"$f":"(O106-L106)/K106","v":10},null,null,null,null,null,null,null,null,null,null,null,null,null,null,null,null,null,null,null,{"$f":"BX6","v":"9ساله کت"},-45,56,4,2.8,1.65,-22.5]
["ضریب انتقال ساسون سرشانه به خط مرکزی جلو c2","(از 0 الی 1)",{"$f":"K107*E107+L107","v":0},"بدون انتقال=0 \nبهیه برای کت جلو باز=0.2 ",{"$f":"'طراحی همه الگوها'!B224","v":0},"انتقال ساسون سرشانه به خط مرکزی جلو c2",0,0,10,1,{"$f":"(J107-H107)/(I107-G107)","v":0.1},{"$f":"H107-G107*K107","v":0},0,{"$f":"(M107-L107)/K107","v":0},1,{"$f":"(O107-L107)/K107","v":10},null,null,null,null,null,null,null,null,null,null,null,null,null,null,null,null,null,null,null,{"$f":"BY6","v":"10ساله کت"},-44,57,4.5,2.9,1.7,-22]
["انتخاب (اصلاح سرشانه و حلقه آستین برای c1 >1 ) = 1         و انتخاب دیگر=0","0 یا 1 ",{"$f":"K108*E108+L108","v":0},null,{"$f":"'طراحی همه الگوها'!B225","v":1},"انتخاب (اصلاح سرشانه و حلقه آستین برای c1 >30 ) = 2        انتخاب دیگر=1",1,0,2,1,{"$f":"(J108-H108)/(I108-G108)","v":1},{"$f":"H108-G108*K108","v":-1},0,{"$f":"(M108-L108)/K108","v":1},1,{"$f":"(O108-L108)/K108","v":2},null,null,null,null,null,null,null,null,null,null,null,null,null,null,null,null,null,null,null,{"$f":"BZ6","v":"11ساله کت"},-43,58,5,3,1.75,-21.5]
[null,null,null,null,null,null,null,null,null,null,null,null,null,null,null,null,null,null,null,null,null,null,null,null,null,null,null,null,null,null,null,null,null,null,null,{"$f":"CA6","v":"12ساله کت"},-42,59,5.5,3.1,1.8,-21]
[" متغیرهای ورودی- انتقال ساسون سرشانه به زیر بغل، عصایی یا خط مرکزی پشت\nبرای حذف کامل ساسون سرشانه مجموع c1 و c2 باید 1 شود.",null,null,null,null," متغیرهای ورودی- انتقال ساسون سرشانه به زیر بغل، عصایی یا خط مرکزی پشت\nبرای حذف کامل ساسون سرشانه مجموع c1 و c2 باید 30 شود.","x1","y1","x2","y2(بهینه)","a","b",null,"کمترین",null,"بیشترین",null,null,null,null,null,null,null,null,null,null,null,null,null,null,null,null,null,null,null,{"$f":"CB6","v":"13ساله کت"},-41,60,6,3.2,null,-20.5]
["ضریب انتقال ساسون سرشانه پشت به ساسون زیر بغل یا عصایی  c1","(از 0 الی 1)",{"$f":"K111*E111+L111","v":1},"بدون انتقال=0 \nبهیه برای کت پشت باز=0.8 ",{"$f":"'طراحی همه الگوها'!B229","v":10},"انتقال ساسون سرشانه پشت به ساسون زیر بغل یا عصایی  c1",0,0,10,1,{"$f":"(J111-H111)/(I111-G111)","v":0.1},{"$f":"H111-G111*K111","v":0},0,{"$f":"(M111-L111)/K111","v":0},1,{"$f":"(O111-L111)/K111","v":10},null,null,null,null,null,null,null,null,null,null,null,null,null,null,null,null,null,null,null,{"$f":"CC6","v":"14ساله کت"},-40,61,6.5,3.3,null,-20]
["ضریب انتقال ساسون سرشانه به خط مرکزی پشت c2","(از 0 الی 1)",{"$f":"K112*E112+L112","v":0},"بدون انتقال=0 \nبهیه برای کت پشت باز=0.2 ",{"$f":"'طراحی همه الگوها'!B230","v":0},"انتقال ساسون سرشانه به خط مرکزی پشت c2",0,0,10,1,{"$f":"(J112-H112)/(I112-G112)","v":0.1},{"$f":"H112-G112*K112","v":0},0,{"$f":"(M112-L112)/K112","v":0},1,{"$f":"(O112-L112)/K112","v":10},null,null,null,null,null,null,null,null,null,null,null,null,null,null,null,null,null,null,null,{"$f":"CD6","v":"34زنانه کمر پهن"},-39,62,7,3.4,null,-19.5]
[null,null,null,null,null,null,null,null,null,null,null,null,null,null,null,null,null,null,null,null,null,null,null,null,null,null,null,null,null,null,null,null,null,null,null,{"$f":"CE6","v":"36زنانه کمر پهن"},-38,63,7.5,3.5,null,-19]
[" متغیرهای ورودی-ساسون زیر بغل",null,null,null,null," متغیرهای ورودی-ساسون زیر بغل","x1","y1","x2","y2(بهینه)","a","b",null,"کمترین",null,"بیشترین",null,null,null,null,null,null,null,null,null,null,null,null,null,null,null,null,null,null,null,{"$f":"CF6","v":"38زنانه کمر پهن"},-37,64,8,3.6,null,-18.5]
["ضریب کوتاه شدن ساسون زیر بغل جلو  c3","(از0.1 الی 1)",{"$f":"K115*E115+L115","v":0.9},"بلندی ساسون تا نوک سینه=1\nبهینه =0.9",{"$f":"'طراحی همه الگوها'!B233","v":9},"ضریب کوتاه شدن ساسون زیر بغل جلو  ",0,0,1,0.1,{"$f":"(J115-H115)/(I115-G115)","v":0.1},{"$f":"H115-G115*K115","v":0},0.1,{"$f":"(M115-L115)/K115","v":1},1,{"$f":"(O115-L115)/K115","v":10},null,null,null,null,null,null,null,null,null,null,null,null,null,null,null,null,null,null,null,{"$f":"CG6","v":"40زنانه کمر پهن"},-36,65,8.5,3.7,null,-18]
["ضریب کوتاه شدن ساسون زیر بغل پشت  c3","(از 0.1 الی 1)",{"$f":"K116*E116+L116","v":0.9},"بلندی ساسون تا نوک سینه=1\nبهینه =0.9",{"$f":"'طراحی همه الگوها'!B234","v":9},"ضریب کوتاه شدن ساسون زیر بغل پشت  ",0,0,1,0.1,{"$f":"(J116-H116)/(I116-G116)","v":0.1},{"$f":"H116-G116*K116","v":0},0.1,{"$f":"(M116-L116)/K116","v":1},1,{"$f":"(O116-L116)/K116","v":10},null,null,null,null,null,null,null,null,null,null,null,null,null,null,null,null,null,null,null,{"$f":"CH6","v":"42زنانه کمر پهن"},-35,66,9,3.8,null,-17.5]
[null,null,null,null,null,null,null,null,null,null,null,null,null,null,null,null,null,null,null,null,null,null,null,null,null,null,null,null,null,null,null,null,null,null,null,{"$f":"CI6","v":"44زنانه کمر پهن"},-34,67,9.5,3.9,null,-17]
[" متغیرهای ورودی - کنترل گودی حلقه آستین و اپل",null,null,null,null," متغیرهای ورودی - کنترل گودی حلقه آستین و اپل","x1","y1","x2","y2(بهینه)","a","b",null,"کمترین",null,"بیشترین",null,null,null,null,null,null,null,null,null,null,null,null,null,null,null,null,null,null,null,{"$f":"CJ6","v":"46زنانه کمر پهن"},-33,68,10,4,null,-16.5]
["انتخاب کنترل گودی حلقه آستین=1        و انتخاب دیگر=0","0 یا 1 ",{"$f":"K119*E119+L119","v":0},null,{"$f":"'طراحی همه الگوها'!B331","v":1},"انتخاب کنترل گودی حلقه آستین=2        و انتخاب دیگر=1",1,0,2,1,{"$f":"(J119-H119)/(I119-G119)","v":1},{"$f":"H119-G119*K119","v":-1},0,{"$f":"(M119-L119)/K119","v":1},1,{"$f":"(O119-L119)/K119","v":2},4,{"$f":"(Q119-L119)/K119","v":5},null,null,null,null,null,null,null,null,null,null,null,null,null,null,null,null,null,{"$f":"CK6","v":"48زنانه کمر پهن"},-32,69,10.5,4.0999999999999996,null,-16]
[" ضریب میزان روی هم آمدن سرشانه پشت و جلو g2","(از 0 الی 1)",{"$f":"K120*E120+L120","v":0.5},"بهینه=0.5",{"$f":"'طراحی همه الگوها'!B332","v":10},"روی هم آمدن سرشانه پشت و جلو ",1,0.05,0,0,{"$f":"(J120-H120)/(I120-G120)","v":0.05},{"$f":"H120-G120*K120","v":0},0,{"$f":"(M120-L120)/K120","v":0},1,{"$f":"(O120-L120)/K120","v":20},0.5,{"$f":"(Q120-L120)/K120","v":10},null,null,null,null,null,null,null,null,null,null,null,null,null,null,null,null,null,{"$f":"CL6","v":"50زنانه کمر پهن"},-31,70,11,4.2,null,-15.5]
[" نسبت اعمال تغییر در حلقه جلو به حلقه پشت  g1","(از 0.5 الی 5)",{"$f":"K121*E121+L121","v":2},"بهینه=2",{"$f":"'طراحی همه الگوها'!B333","v":20},"نسبت اعمال تغییر در حلقه جلو به حلقه پشت  ",1,0.1,0,0,{"$f":"(J121-H121)/(I121-G121)","v":0.1},{"$f":"H121-G121*K121","v":0},0.5,{"$f":"(M121-L121)/K121","v":5},5,{"$f":"(O121-L121)/K121","v":50},2,{"$f":"(Q121-L121)/K121","v":20},null,null,null,null,null,null,null,null,null,null,null,null,null,null,null,null,null,{"$f":"CM6","v":"52زنانه کمر پهن"},-30,71,11.5,4.3,null,-15]
["زاویه اپل  (به درجه)  b","(از 0 الی 10)",{"$f":"K122*E122+L122","v":0},"بهینه =3",{"$f":"'طراحی همه الگوها'!B334","v":0},"زاویه اپل    ",1,0.2,0,0,{"$f":"(J122-H122)/(I122-G122)","v":0.2},{"$f":"H122-G122*K122","v":0},0,{"$f":"(M122-L122)/K122","v":0},10,{"$f":"(O122-L122)/K122","v":50},3,{"$f":"(Q122-L122)/K122","v":15},null,null,null,null,null,null,null,null,null,null,null,null,null,null,null,null,null,{"$f":"CN6","v":"54زنانه کمر پهن"},-29,72,12,4.4000000000000004,null,-14.5]
[null,null,null,null,null,null,null,null,null,null,null,null,null,null,null,null,null,null,null,null,null,null,null,null,null,null,null,null,null,null,null,null,null,null,null,{"$f":"CO6","v":"56زنانه کمر پهن"},-28,73,12.5,4.5,null,-14]
[" متغیرهای ورودی - نوع پیراهن",null,null,null,null," متغیرهای ورودی - نوع پیراهن","x1","y1","x2","y2(بهینه)","a","b",null,"کمترین",null,"بیشترین",null,null,null,null,null,null,null,null,null,null,null,null,null,null,null,null,null,null,null,{"$f":"CP6","v":"58زنانه کمر پهن"},-27,74,13,4.5999999999999996,null,-13.5]
["انتخاب جلو ترک ( سوتین) =1         انتخاب جلو با ساسون  (مایو) = 0","0 یا 1 ",{"$f":"K125*E125+L125","v":0},null,{"$f":"'طراحی همه الگوها'!B210","v":1},"انتخاب الگو جلو ترک ( سوتین) =2         انتخاب الگو جلو با ساسون  (مایو) = 1",1,0,2,1,{"$f":"(J125-H125)/(I125-G125)","v":1},{"$f":"H125-G125*K125","v":-1},null,1,null,2,null,null,null,null,null,null,null,null,null,null,null,null,null,null,null,null,null,null,null,{"$f":"CQ6","v":"60زنانه کمر پهن"},-26,75,13.5,4.7,null,-13]
[null,null,null,null,null,null,null,null,null,null,null,null,null,null,null,null,null,null,null,null,null,null,null,null,null,null,null,null,null,null,null,null,null,null,null,{"$f":"CR6","v":"37مردانه کت"},-25,76,14,4.8,null,-12.5]
[" متغیر ورودی اوزمان ها",null,null,null,null," متغیر ورودی اوزمان ها","x1","y1","x2","y2(بهینه)","a","b",null,"کمترین",null,"بیشترین",null,null,null,null,null,null,null,null,null,null,null,null,null,null,null,null,null,null,null,{"$f":"CS6","v":"38مردانه کت"},-24,77,14.5,4.9000000000000004,null,-12]
["میزان پایین آمدن نقطه شروع اوزمان از خط کمر x5 ","(از 0 الی 1)",{"$f":"K128*E128+L128","v":1},"روی خط باسن=1",{"$f":"'طراحی همه الگوها'!B213","v":30},"میزان پایین آمدن نقطه شروع اوزمان از خط کمر  ",10,0,30,1,{"$f":"(J128-H128)/(I128-G128)","v":0.05},{"$f":"H128-G128*K128","v":-0.5},0,{"$f":"(M128-L128)/K128","v":10},1,{"$f":"(O128-L128)/K128","v":30},null,null,null,null,null,null,null,null,null,null,null,null,null,null,null,null,null,null,null,{"$f":"CT6","v":"39مردانه کت"},-23,78,15,5,"متغیر ورودی خاص چادر",-11.5]
["ضریب بزرگ شدن اوزمان در خط پهلو جلو دامن f0 ","(از -0.5 الی 2)",0,"بهینه=0.5",{"$f":"'طراحی همه الگوها'!B214","v":0},"اوزمان در خط پهلو جلو دامن  ",0,0,1,0.05,0.05,0,-0.5,-10,2,40,null,null,null,null,null,null,null,null,null,null,null,null,null,null,null,null,null,null,null,{"$f":"CU6","v":"40مردانه کت"},-22,79,15.5,null,70,-11]
["ضریب بزرگ شدن اوزمان در خط ترک جلو دامن e20 ","(از -0.5 الی 2)",0,"بهینه=0.5",{"$f":"'طراحی همه الگوها'!B215","v":0},"اوزمان در خط ترک جلو دامن  ",0,0,1,0.05,0.05,0,-0.5,-10,2,40,null,null,null,null,null,null,null,null,null,null,null,null,null,null,null,null,null,null,null,{"$f":"CV6","v":"41مردانه کت"},-21,80,16,null,75,-10.5]
["ضریب بزرگ شدن اوزمان در خط  پهلو پشت دامن f1  ","(از -0.5 الی 2)",0,"بهینه=0.5",{"$f":"'طراحی همه الگوها'!B216","v":0},"اوزمان در خط  پهلو پشت دامن   ",0,0,1,0.05,0.05,0,-0.5,-10,2,40,null,null,null,null,null,null,null,null,null,null,null,null,null,null,null,null,null,null,null,{"$f":"CW6","v":"42مردانه کت"},-20,81,16.5,null,80,-10]
["ضریب بزرگ شدن اوزمان در خط مرکزی پشت دامن e40 ","(از -0.5 الی 2)",0,"بهینه=0.5",{"$f":"'طراحی همه الگوها'!B217","v":0},"اوزمان در خط مرکزی پشت دامن  ",0,0,1,0.05,0.05,0,-0.5,-10,2,40,null,null,null,null,null,null,null,null,null,null,null,null,null,null,null,null,null,null,null,{"$f":"CX6","v":"43مردانه کت"},-19,82,17,null,85,-9.5]
["ضریب بزرگ شدن اوزمان در خط ترک پشت دامن e50 ","(از -0.5 الی 2)",0,"بهینه=0.5",{"$f":"'طراحی همه الگوها'!B218","v":0},"اوزمان در خط ترک پشت دامن  ",0,0,1,0.05,0.05,0,-0.5,-10,2,40,null,null,null,null,null,null,null,null,null,null,null,null,null,null,null,null,null,null,null,{"$f":"CY6","v":"44مردانه کت"},-18,83,17.5,null,90,-9]
["انتخاب پیراهن ترک گشاد=1            انتخاب دیگر=0","0 یا 1 ",0,null,{"$f":"'طراحی همه الگوها'!B219","v":1},"انتخاب پیراهن ترک گشاد=2            انتخاب دیگر=1",1,0,2,1,1,-1,null,1,null,2,null,null,null,null,null,null,null,null,null,null,null,null,null,null,null,null,null,null,null,{"$f":"CZ6","v":"45مردانه کت"},-17,84,18,null,95,-8.5]
[null,null,null,null,null,null,null,null,null,null,null,null,null,null,null,null,null,null,null,null,null,null,null,null,null,null,null,null,null,null,null,null,null,null,null,{"$f":"DA6","v":"46 مردانه کت"},-16,85,18.5,null,100,-8]
[" متغیرهای ورودی - پیلی ها و گوده ها",null,null,null,null," متغیرهای ورودی - پیلی ها و گوده ها","x1","y1","x2","y2(بهینه)","a","b",null,"کمترین",null,"بیشترین",null,null,null,null,null,null,null,null,null,null,null,null,null,null,null,null,null,null,null,{"$f":"DB6","v":"47 مردانه کت"},-15,86,19,null,105,-7.5]
[" عرض پیلی 1 - روی خط مرکزی جلو  (سانتیمتر)    e119","(از 0 الی 10)",{"$f":"K137*E137+L137","v":0},"بهینه=4",{"$f":"'طراحی همه الگوها'!B299","v":0}," عرض پیلی 1 - روی خط مرکزی جلو  (سانتیمتر)    ",1,1,0,0,{"$f":"(J137-H137)/(I137-G137)","v":1},{"$f":"H137-G137*K137","v":0},0,{"$f":"(M137-L137)/K137","v":0},10,{"$f":"(O137-L137)/K137","v":10},4,{"$f":"(Q137-L137)/K137","v":4},null,null,null,null,null,null,null,null,null,null,null,null,null,null,null,null,null,{"$f":"DC6","v":"48 مردانه کت"},-14,87,19.5,null,110,-7]
[" عرض پیلی 2 - روی خط ترک جلو   (سانتیمتر)    e219","(از 0 الی 10)",0,"بهینه=4",{"$f":"'طراحی همه الگوها'!B300","v":0}," عرض پیلی 2 - روی خط ترک جلو   (سانتیمتر)    ",1,1,0,0,1,0,0,0,10,10,4,4,null,null,null,null,null,null,null,null,null,null,null,null,null,null,null,null,null,{"$f":"DD6","v":"49 مردانه کت"},-13,88,20,null,115,-6.5]
[" عرض پیلی 3 - روی خط پهلو  (سانتیمتر)    e319","(از 0 الی 10",0,"بهینه=4",{"$f":"'طراحی همه الگوها'!B301","v":0}," عرض پیلی 3 - روی خط پهلو  (سانتیمتر)    ",1,1,0,0,1,0,0,0,10,10,4,4,null,null,null,null,null,null,null,null,null,null,null,null,null,null,null,null,null,{"$f":"DE6","v":"50 مردانه کت"},-12,89,null,null,120,-6]
[" عرض پیلی 4 - روی خط مرکزی پشت  (سانتیمتر)    e419","(از 0 الی 10",2,"بهینه=4",{"$f":"'طراحی همه الگوها'!B302","v":2}," عرض پیلی 4 - روی خط مرکزی پشت  (سانتیمتر)    ",1,1,0,0,1,0,0,0,10,10,4,4,null,null,null,null,null,null,null,null,null,null,null,null,null,null,null,null,null,{"$f":"DF6","v":"عنوان 1"},-11,90,null,null,125,-5.5]
[" عرض پیلی 5 و لبه برگردان پایین کت یا پیراهن- روی خط ترک پشت  (سانتیمتر) e519","(از 0 الی 10)",2,"بهینه=4",{"$f":"'طراحی همه الگوها'!B303","v":2}," عرض پیلی 5 و لبه برگردان پایین کت یا پیراهن- روی خط ترک پشت  (سانتیمتر) ",1,1,0,0,1,0,0,0,10,10,4,4,null,null,null,null,null,null,null,null,null,null,null,null,null,null,null,null,null,{"$f":"DG6","v":"عنوان 2"},-10,91,null,null,130,-5]
[" عرض گوده 1 - روی خط مرکزی جلو  (سانتیمتر)    e111","(از 0 الی 15)",0,"بهینه=7",{"$f":"'طراحی همه الگوها'!B304","v":0}," عرض گوده 1 - روی خط مرکزی جلو  (سانتیمتر)    ",1,1,0,0,1,0,0,0,15,15,7,7,null,null,null,null,null,null,null,null,null,null,null,null,null,null,null,null,null,{"$f":"DH6","v":"عنوان 3"},-9,92,null,null,135,-4.5]
[" عرض گوده 2 - روی خط ترک جلو  (سانتیمتر)    e211","(از 0 الی 15)",0,"بهینه=7",{"$f":"'طراحی همه الگوها'!B305","v":0}," عرض گوده 2 - روی خط ترک جلو  (سانتیمتر)    ",1,1,0,0,1,0,0,0,15,15,7,7,null,null,null,null,null,null,null,null,null,null,null,null,null,null,null,null,null,{"$f":"DI6","v":"عنوان 4"},-8,93,null,null,140,-4]
[" عرض گوده 3 - روی خط پهلو   (سانتیمتر)    e311","(از 0 الی 15)",5,"بهینه=7",{"$f":"'طراحی همه الگوها'!B306","v":5}," عرض گوده 3 - روی خط پهلو   (سانتیمتر)    ",1,1,0,0,1,0,0,0,15,15,7,7,null,null,null,null,null,null,null,null,null,null,null,null,null,null,null,null,null,{"$f":"DJ6","v":"عنوان 5"},-7,94,null,null,145,-3.5]
[" عرض گوده 4 - روی خط مرکزی پشت  (سانتیمتر)    e411","(از 0 الی 15)",5,"بهینه=7",{"$f":"'طراحی همه الگوها'!B307","v":5}," عرض گوده 4 - روی خط مرکزی پشت  (سانتیمتر)    ",1,1,0,0,1,0,0,0,15,15,7,7,null,null,null,null,null,null,null,null,null,null,null,null,null,null,null,null,null,{"$f":"DK6","v":"عنوان 6"},-6,95,null,null,150,-3]
[" عرض گوده 5 - روی خط ترک پشت  (سانتیمتر)    e511","(از 0 الی 15)",5,"بهینه=7",{"$f":"'طراحی همه الگوها'!B308","v":5}," عرض گوده 5 - روی خط ترک پشت  (سانتیمتر)    ",1,1,0,0,1,0,0,0,15,15,7,7,null,null,null,null,null,null,null,null,null,null,null,null,null,null,null,null,null,{"$f":"DL6","v":"عنوان 7"},-5,96,null,null,155,-2.5]
["ضریب نقطه شروع گوده و پیلی از زمین    e0","(از 0 الی 2)",1.5,"خط زمین=0 \nخط زانو=1 \nخط باسن=2  ",{"$f":"'طراحی همه الگوها'!B309","v":40},"ضریب نقطه شروع گوده و پیلی از زمین    ",10,0,30,1,0.05,-0.5,null,1,null,50,0,10,null,null,null,null,null,null,null,null,null,null,null,null,null,null,null,null,null,{"$f":"DM6","v":"عنوان 8"},-4,97,null,null,160,-2]
[null,null,null,null,null,null,null,null,null,null,null,null,null,null,null,null,null,null,null,null,null,null,null,null,null,null,null,null,null,null,null,null,null,null,null,{"$f":"DN6","v":"عنوان 9"},-3,98,null,null,165,-1.5]
[" متغیرهای ورودی جزئی - طراحی تکه پشت یقه انگلیسی  ",null,null,null,null," متغیرهای ورودی جزئی - طراحی تکه پشت یقه انگلیسی  ","x1","y1","x2","y2(بهینه)","a","b",null,"کمترین",null,"بیشترین",null,null,null,null,null,null,null,null,null,null,null,null,null,null,null,null,null,null,null,{"$f":"DO6","v":"عنوان 10"},-2,99,null,null,170,-1]
["γ11      زاویه تکه پشت یقه روی خط مرکزی ","(از -10 الی 20)",{"$f":"K150*E150+L150","v":2},"بهینه=2",{"$f":"'طراحی همه الگوها'!E225","v":20},"زاویه تکه پشت یقه روی خط مرکزی ",19,1,20,2,{"$f":"(J150-H150)/(I150-G150)","v":1},{"$f":"H150-G150*K150","v":-18},-10,{"$f":"(M150-L150)/K150","v":8},20,{"$f":"(O150-L150)/K150","v":38},2,{"$f":"(Q150-L150)/K150","v":20},null,null,null,null,null,null,null,null,null,null,null,null,null,null,null,null,null,{"$f":"DP6","v":"عنوان 11"},-1,100,null,null,175,-0.5]
["γ12       زاویه تکه پشت یقه با پایه روی خط مرکزی ","(از -10 الی 20)",4,"بهینه=4",{"$f":"'طراحی همه الگوها'!E226","v":20},"زاویه تکه پشت یقه با پایه روی خط مرکزی ",19,3,20,4,1,-16,-10,6,20,36,4,20,null,null,null,null,null,null,null,null,null,null,null,null,null,null,null,null,null,{"$f":"DQ6","v":"عنوان 12"},0,101,null,null,180,0]
[" ضریب تغییر انحنا بالا سمت چپ     مرحله نهم          γ13","(از -1 الی 1)",0,"بهینه=0",{"$f":"'طراحی همه الگوها'!E223","v":20},"ضریب تغییر انحنا بالا سمت چپ     مرحله نهم در طراحی یقه انگلیسی          ",19,-0.1,20,0,0.1,-2,-1,10,1,30,0,20,null,null,null,null,null,null,null,null,null,null,null,null,null,null,null,null,null,{"$f":"DR6","v":"عنوان 13"},1,102,null,null,185,0.5]
["γ14        ضریب تغییر انحنا بالا    مرحله نهم ","(از 0.5 الی 2)",1.18,"بهینه=1.18",{"$f":"'طراحی همه الگوها'!E224","v":40},"ضریب تغییر انحنا بالا    مرحله نهم در طراحی یقه انگلیسی ",39,1.1599999999999999,40,1.18,2.0000000000000018E-2,0.37999999999999923,0.5,6.0000000000000338,2,80.999999999999972,1.18,40,null,null,null,null,null,null,null,null,null,null,null,null,null,null,null,null,null,{"$f":"DS6","v":"عنوان 14"},2,103,null,null,190,1]
["γ15        ضریب تغییر انحنا پایین روی خط مرکزی پشت","(از 0 الی 2)",0.5,"بهینه=0.5",{"$f":"'طراحی همه الگوها'!E227","v":20},"ضریب تغییر انحنا پایین روی خط مرکزی پشت",19,0.45,20,0.5,4.9999999999999989E-2,-0.49999999999999972,0,9.9999999999999964,2,50,0.5,20,null,null,null,null,null,null,null,null,null,null,null,null,null,null,null,null,null,{"$f":"DT6","v":"عنوان 15"},3,104,null,null,195,1.5]
["γ16        ضریب تغییر انحنا پایین","(از 0 الی 2)",0.6,"بهینه=0.6",{"$f":"'طراحی همه الگوها'!E228","v":20},"ضریب تغییر انحنا پایین",19,0.55000000000000004,20,0.6,4.9999999999999933E-2,-0.39999999999999869,0,7.999999999999984,2,48.000000000000036,0.6,20,null,null,null,null,null,null,null,null,null,null,null,null,null,null,null,null,null,{"$f":"DU6","v":"عنوان 16"},4,105,null,null,200,2]
["γ17      ضریب پهنای پشت پایه (انگلیسی و آرشال) مرحله سوم","(از 0.2 الی 2)",0.7,"بهینه=1\nبهینه پایه مستطیل=0.7",{"$f":"'طراحی همه الگوها'!E219","v":20},"پهنای پشت پایه (انگلیسی و آرشال)    مرحله سوم در طراحی یقه انگلیسی      ",19,0.65,20,0.7,4.9999999999999933E-2,-0.29999999999999871,0.2,9.9999999999999876,2,46.000000000000043,1,26.000000000000007,null,null,null,null,null,null,null,null,null,null,null,null,null,null,null,null,null,{"$f":"DV6","v":"عنوان 17"},5,106,null,null,null,2.5]
["γ18        زاویه کج شدن پایه مستطیل به قسمت گردن بر حسب درجه  مرحله سوم ","(از -30 الی 30)",-15,"بهینه=5",{"$f":"'طراحی همه الگوها'!E220","v":20},"زاویه کج شدن پایه مستطیل به قسمت گردن    مرحله سوم در طراحی یقه انگلیسی ",39,4,40,5,1,-35,-30,5,30,65,5,40,null,null,null,null,null,null,null,null,null,null,null,null,null,null,null,null,null,{"$f":"DW6","v":"عنوان 18"},6,107,null,null,null,3]
[" ضریب پهنای جلو پایه مستطیل  مرحله سوم       γ19","(از 0 الی 1)",0.7,"بهینه=0.7",{"$f":"'طراحی همه الگوها'!E221","v":20},"پهنای جلو پایه مستطیل      مرحله سوم در طراحی یقه انگلیسی       ",19,0.65,20,0.7,4.9999999999999933E-2,-0.29999999999999871,0,5.9999999999999822,1,26.000000000000007,0.7,20,null,null,null,null,null,null,null,null,null,null,null,null,null,null,null,null,null,{"$f":"DX6","v":"عنوان 19"},7,108,null,null,null,3.5]
["انتخاب یقه انگلیسی با پایه جدا=1            انتخاب دیگر=0  مرحله سوم","0 یا 1 ",0,null,{"$f":"'طراحی همه الگوها'!E222","v":1},"انتخاب یقه انگلیسی پایه سرخود یا پایه جدا    مرحله سوم در طراحی یقه انگلیسی",1,0,2,1,1,-1,0,1,1,2,0,1,null,null,null,null,null,null,null,null,null,null,null,null,null,null,null,null,null,{"$f":"DY6","v":"عنوان 20"},8,109,null,null,null,4]
["γ20        جابجایی عمودی پایه مستطیل","(از -100 الی100)",0,"بهینه=دلخواه",{"$f":"'طراحی همه الگوها'!E231","v":0},"جابجایی عمودی پایه مستطیل (سانتیمتر)",1,1,0,0,1,0,-100,{"$f":"(M160-L160)/K160","v":-100},100,{"$f":"(O160-L160)/K160","v":100},null,null,null,null,null,null,null,null,null,null,null,null,null,null,null,null,null,null,null,{"$f":"DZ6","v":"عنوان 21"},9,110,null,null,null,4.5]
["γ21        جابجایی افقی پایه مستطیل","(از -100 الی100)",0,"بهینه=دلخواه",{"$f":"'طراحی همه الگوها'!E230","v":0},"جابجایی افقی پایه مستطیل (سانتیمتر)",1,1,0,0,1,0,-100,{"$f":"(M161-L161)/K161","v":-100},100,{"$f":"(O161-L161)/K161","v":100},null,null,null,null,null,null,null,null,null,null,null,null,null,null,null,null,null,null,null,{"$f":"EA6","v":"عنوان 22"},10,111,null,null,null,5]
[null,null,null,null,null,null,null,null,null,null,null,null,null,null,null,null,null,null,null,null,null,null,null,null,null,null,null,null,null,null,null,null,null,null,null,{"$f":"EB6","v":"عنوان 23"},11,112,null,null,null,5.5]
[" متغیرهای ورودی-طراحی یقه انگلیسی و آرشال و یقه هفت",null,null,null,null," متغیرهای ورودی-طراحی یقه انگلیسی و آرشال و یقه هفت","x1","y1","x2","y2(بهینه)","a","b",null,"کمترین",null,"بیشترین",null,null,"مراحل مختلف در طراحی یقه انگلیسی",null,null,null,null,null,null,null,null,null,null,null,null,null,null,null,null,{"$f":"EC6","v":"عنوان 24"},12,113,null,null,null,6]
["پهنای یقه در پشت گردن (انگلیسی یا آرشال)  مرحله سوم","(از 0.7 الی 3)",{"$f":"K164*E164+L164","v":1},"بهینه=1",{"$f":"'طراحی همه الگوها'!E207","v":20},"پهنای یقه در پشت گردن (انگلیسی یا آرشال)  مرحله سوم در طراحی یقه انگلیسی",19,0.95,20,1,{"$f":"(J164-H164)/(I164-G164)","v":5.0000000000000044E-2},{"$f":"H164-G164*K164","v":-8.8817841970012523E-16},0.7,{"$f":"(M164-L164)/K164","v":14.000000000000004},3,{"$f":"(O164-L164)/K164","v":59.999999999999964},1,{"$f":"(Q164-L164)/K164","v":20},"پهنای جادکمه جلو - میزان روی هم آمدن یقه انگلیسی","مرحله اول",null,null,null,null,null,null,null,null,null,null,null,null,null,null,null,{"$f":"ED6","v":"عنوان 25"},13,114,null,null,null,6.5]
["γ1      باز بودن یقه انگلیسی یا آرشال یا هفت   مرحله چهارم ","(از 0.5 الی 1.5)",0.7,"بهینه=0.7",{"$f":"'طراحی همه الگوها'!E208","v":20}," باز بودن یقه انگلیسی یا آرشال یا هفت   مرحله چهارم در طراحی یقه انگلیسی ",19,0.65,20,0.7,4.9999999999999933E-2,-0.29999999999999871,0.5,15.999999999999996,1.5,36.000000000000021,0.7,20,"میزان باز بودن یقه گرد - نشان میدهد یقه چقدر به گردن میچسبد","مرحله دوم",null,null,null,null,null,null,null,null,null,null,null,null,null,null,null,{"$f":"EE6","v":"عنوان 26"},14,115,null,null,null,7]
["γ7        پهنای بالای دال   مرحله پنجم ","(از 0.01 الی 0.4)",9.9999999999999992E-2,"بهینه=0.1",{"$f":"'طراحی همه الگوها'!E209","v":20}," پهنای بالای دال   مرحله پنجم در طراحی یقه انگلیسی ",21,0.11,20,0.1,9.999999999999995E-3,-9.9999999999999908E-2,0.01,10.999999999999996,0.4,50.000000000000021,0.1,20,"پهنای تکه پشت یقه انگلیسی","مرحله سوم",null,null,null,null,null,null,null,null,null,null,null,null,null,null,null,{"$f":"EF6","v":"عنوان 27"},15,116,null,null,null,7.5]
[" پهنای پایین دال   مرحله پنجم         γ6","(از 0.01 الی 0.4)",9.9999999999999992E-2,"بهینه=0.1",{"$f":"'طراحی همه الگوها'!E210","v":20}," پهنای پایین دال   مرحله پنجم در طراحی یقه انگلیسی      ",21,0.11,20,0.1,9.999999999999995E-3,-9.9999999999999908E-2,0.01,10.999999999999996,0.4,50.000000000000021,0.1,20,"باز بودن یقه انگلیسی","مرحله چهارم",null,null,null,null,null,null,null,null,null,null,null,null,null,null,null,{"$f":"EG6","v":"عنوان 28"},16,117,null,null,null,8]
["γ4          پهنای یقه انگلیسی یا آرشال   مرحله ششم ","(از -5 الی 40)",8,"بهینه=8",{"$f":"'طراحی همه الگوها'!E211","v":20}," پهنای یقه انگلیسی یا آرشال   مرحله ششم در طراحی یقه انگلیسی ",19,7,20,8,1,-12,-5,7,40,52,8,20,"پهنای بالا و پایین دال","مرحله پنجم",null,null,null,null,null,null,null,null,null,null,null,null,null,null,null,{"$f":"EH6","v":"عنوان 29"},17,118,null,null,null,8.5]
["γ5        وسط دال پایین یا بالا رود (انگلیسی یا آرشال)  مرحله هفتم","(از -0.2 الی 0.3)",0,"عدد منفی یعنی دال رو به سرشانه برود\nبهینه=0",{"$f":"'طراحی همه الگوها'!E212","v":20}," وسط دال پایین یا بالا رود (انگلیسی یا آرشال)  مرحله هفتم در طراحی یقه انگلیسی",19,-0.01,20,0,0.01,-0.2,-0.2,0,0.3,50,0,20,"پهنای یقه انگلیسی","مرحله ششم",null,null,null,null,null,null,null,null,null,null,null,null,null,null,null,{"$f":"EI6","v":"عنوان 30"},18,119,"متغیر ورودی خاص یقه","متغیر ورودی خاص شلوار",null,9]
["γ9       زاویه بالای دال   مرحله هشتم","(از 90 الی 180)",130,"بهینه=130",{"$f":"'طراحی همه الگوها'!E213","v":20}," زاویه بالای دال   مرحله هشتم در طراحی یقه انگلیسی",19,125,20,130,5,30,90,12,180,30,130,20,"بالا و پایین رفتن نقطه وسط دال","مرحله هفتم",null,null,null,null,null,null,null,null,null,null,null,null,null,null,null,{"$f":"EJ6","v":"عنوان 31"},19,120,"خط جادکمه","روش مولر",null,9.5]
["γ10       زاویه پایین دال    مرحله هشتم ","(از 90 الی 180)",160,"بهینه=160",{"$f":"'طراحی همه الگوها'!E214","v":20}," زاویه پایین دال    مرحله هشتم در طراحی یقه انگلیسی ",19,155,20,160,5,60,90,6,180,24,160,20,"تنظیم زاویه های نوک دال","مرحله هشتم",null,null,null,null,null,null,null,null,null,null,null,null,null,null,null,{"$f":"EK6","v":"عنوان 32"},20,null,"مرکزی جلو",0,null,10]
["  γ3  دال رو به پایین شود یا رو به بالا شود مرحله هشتم  (در آستین رگلان = 0.05)","(از 0.01 الی 0.3)",5.0000000000000017E-2,"بهینه=0.05",{"$f":"'طراحی همه الگوها'!E215","v":20}," دال رو به پایین یا رو به بالا شود مرحله هشتم در طراحی یقه انگلیسی  ",19,0.04,20,0.05,{"$f":"(J172-H172)/(I172-G172)","v":1.0000000000000002E-2},{"$f":"H172-G172*K172","v":-0.15000000000000002},0.01,{"$f":"(M172-L172)/K172","v":16},0.3,{"$f":"(O172-L172)/K172","v":44.999999999999993},0.05,{"$f":"(Q172-L172)/K172","v":19.999999999999996},"اصلاح انحنای بالای تکه پشت یقه انگلیسی","مرحله نهم",null,null,null,null,null,null,null,null,null,null,null,null,null,null,null,{"$f":"EL6","v":"عنوان 33"},21,null,1,0.5,null,10.5]
["γ1      محاسبه در یقه شکاری متصل به یقه هفت   ",{"$f":"ROUND(1-(محاسبات!AX103-محاسبات!AX129-محاسبات!AX155-'متغیرها '!C169*محاسبات!H124)/محاسبات!H124,2)","v":0.31},null,null,null,"   محاسبه در یقه شکاری متصل به یقه هفت   ",null,null,null,null,null,null,null,null,null,null,null,null,null,null,null,null,null,null,null,null,null,null,null,null,null,null,null,null,null,{"$f":"EM6","v":"عنوان 34"},22,null,2,1,null,11]
[null,null,null,null,null,null,null,null,null,null,null,null,null,null,null,null,null,null,null,null,null,null,null,null,null,null,null,null,null,null,null,null,null,null,null,{"$f":"EN6","v":"عنوان 35"},23,null,3,1.5,null,11.5]
[" متغیرهای ورودی -ضخیم دوزی در سجاف یقه انگلیسی و آرشال",null,null,null,null," متغیرهای ورودی -ضخیم دوزی در سجاف یقه انگلیسی و آرشال","x1","y1","x2","y2(بهینه)","a","b",null,"کمترین",null,"بیشترین",null,null,null,null,null,null,null,null,null,null,null,null,null,null,null,null,null,null,null,{"$f":"EO6","v":"عنوان 36"},24,null,4,2,null,12]
["ضریب اعمال ضخیم دوزی در سجاف  (سانتیمتر) a'0","(از 0 الی 1)",{"$f":"K176*E176+L176","v":0.5},"بهینه کت مردانه=0.5",{"$f":"'طراحی همه الگوها'!E229","v":20},"ضریب اعمال ضخیم دوزی در سجاف  (سانتیمتر) ",19,0.45,20,0.5,{"$f":"(J176-H176)/(I176-G176)","v":4.9999999999999989E-2},{"$f":"H176-G176*K176","v":-0.49999999999999972},0,{"$f":"(M176-L176)/K176","v":9.9999999999999964},1,{"$f":"(O176-L176)/K176","v":30.000000000000004},0.5,{"$f":"(Q176-L176)/K176","v":20},null,null,null,null,null,null,null,null,null,null,null,null,null,null,null,null,null,{"$f":"EP6","v":"عنوان 37"},25,null,5,2.5,null,12.5]
[null,null,null,null,null,null,null,null,null,null,null,null,null,null,null,null,null,null,null,null,null,null,null,null,null,null,null,null,null,null,null,null,null,null,null,{"$f":"EQ6","v":"عنوان 38"},26,null,6,3,null,13]
[" متغیرهای ورودی - پایه یقه انگلیسی  ",null,null,null,null," متغیرهای ورودی - پایه یقه انگلیسی  ","x1","y1","x2","y2(بهینه)","a","b",null,"کمترین",null,"بیشترین",null,null,null,null,null,null,null,null,null,null,null,null,null,null,null,null,null,null,null,{"$f":"ER6","v":"عنوان 39"},27,null,7,3.5,null,13.5]
["شیفت افقی پایه (به سانتیمتر)","(از -100 الی100)",{"$f":"K179*E179+L179","v":0},"بهینه=دلخواه",{"$f":"'طراحی همه الگوها'!E232","v":0},"شیفت افقی پایه (سانتیمتر)",1,1,0,0,{"$f":"(J179-H179)/(I179-G179)","v":1},{"$f":"H179-G179*K179","v":0},-100,{"$f":"(M179-L179)/K179","v":-100},100,{"$f":"(O179-L179)/K179","v":100},null,null,null,null,null,null,null,null,null,null,null,null,null,null,null,null,null,null,null,{"$f":"ES6","v":"عنوان 40"},28,null,8,4,null,14]
["شیفت عمودی پایه (به سانتیمتر)","(از -100 الی100)",{"$f":"K180*E180+L180","v":0},"بهینه=دلخواه",{"$f":"'طراحی همه الگوها'!E233","v":0},"شیفت عمودی پایه (سانتیمتر)",1,1,0,0,{"$f":"(J180-H180)/(I180-G180)","v":1},{"$f":"H180-G180*K180","v":0},-100,{"$f":"(M180-L180)/K180","v":-100},100,{"$f":"(O180-L180)/K180","v":100},null,null,null,null,null,null,null,null,null,null,null,null,null,null,null,null,null,null,null,null,29,null,9,4.5,null,14.5]
[null,null,null,null,null,null,null,null,null,null,null,null,null,null,null,null,null,null,null,null,null,null,null,null,null,null,null,null,null,null,null,null,null,null,null,null,30,null,10,5,null,15]
[" متغیرهای ورودی - پایه یقه آرشال  ",null,null,null,null," متغیرهای ورودی - پایه یقه آرشال  ","x1","y1","x2","y2(بهینه)","a","b",null,"کمترین",null,"بیشترین",null,null,null,null,null,null,null,null,null,null,null,null,null,null,null,null,null,null,null,null,31,null,11,5.5,null,15.5]
["شیفت افقی پایه (به سانتیمتر)","(از -100 الی100)",{"$f":"K183*E183+L183","v":0},"بهینه=دلخواه",{"$f":"'طراحی همه الگوها'!E234","v":0},"شیفت افقی پایه (سانتیمتر)",1,1,0,0,{"$f":"(J183-H183)/(I183-G183)","v":1},{"$f":"H183-G183*K183","v":0},-100,{"$f":"(M183-L183)/K183","v":-100},100,{"$f":"(O183-L183)/K183","v":100},null,null,null,null,null,null,null,null,null,null,null,null,null,null,null,null,null,null,null,null,32,null,12,6,null,16]
["شیفت عمودی پایه (به سانتیمتر)","(از -100 الی100)",{"$f":"K184*E184+L184","v":0},"بهینه=دلخواه",{"$f":"'طراحی همه الگوها'!E235","v":0},"شیفت عمودی پایه (سانتیمتر)",1,1,0,0,{"$f":"(J184-H184)/(I184-G184)","v":1},{"$f":"H184-G184*K184","v":0},-100,{"$f":"(M184-L184)/K184","v":-100},100,{"$f":"(O184-L184)/K184","v":100},null,null,null,null,null,null,null,null,null,null,null,null,null,null,null,null,null,null,null,null,33,null,13,6.5,null,16.5]
[null,null,null,null,null,null,null,null,null,null,null,null,null,null,null,null,null,null,null,null,null,null,null,null,null,null,null,null,null,null,null,null,null,null,null,null,34,null,14,7,null,17]
[" متغیرهای ورودی-انتقال ساسون زیر بغل بر روی جیب در تکه پهلو جدا",null,null,null,null," متغیرهای ورودی-انتقال ساسون زیر بغل بر روی جیب در تکه پهلو جدا","x1","y1","x2","y2(بهینه)","a","b",null,"کمترین",null,"بیشترین",null,null,null,null,null,null,null,null,null,null,null,null,null,null,null,null,null,null,null,null,35,null,15,7.5,null,17.5]
["تغییر زاویه جیب با افق  (درجه)","(از -45 الی 45)",{"$f":"K187*E187+L187","v":-41},"بهینه =دلخواه",{"$f":"'طراحی همه الگوها'!B337","v":40},"تغییر زاویه جیب با افق  (درجه)",-2,1,-1,0,{"$f":"(J187-H187)/(I187-G187)","v":-1},{"$f":"H187-G187*K187","v":-1},-45,{"$f":"(M187-L187)/K187","v":44},45,{"$f":"(O187-L187)/K187","v":-46},0,{"$f":"(Q187-L187)/K187","v":-1},null,null,null,null,null,null,null,null,null,null,null,null,null,null,null,null,null,null,36,null,16,8,null,18]
["ضریب پهنای جیب در مدل تکه پهلو جدا","(از 0.01 الی 1.5)",{"$f":"K188*E188+L188","v":1},"بهینه=1",{"$f":"'طراحی همه الگوها'!B338","v":20},"ضریب پهنای جیب در مدل تکه پهلو جدا",19,0.95,20,1,{"$f":"(J188-H188)/(I188-G188)","v":5.0000000000000044E-2},{"$f":"H188-G188*K188","v":-8.8817841970012523E-16},0.01,{"$f":"(M188-L188)/K188","v":0.20000000000001758},1.5,{"$f":"(O188-L188)/K188","v":29.999999999999993},1,{"$f":"(Q188-L188)/K188","v":20},null,null,null,null,null,null,null,null,null,null,null,null,null,null,null,null,null,null,37,null,17,8.5,null,18.5]
[null,null,null,null,null,null,null,null,null,null,null,null,null,null,null,null,null,null,null,null,null,null,null,null,null,null,null,null,null,null,null,null,null,null,null,null,38,null,18,9,null,19]
[" متغیرهای ورودی-انحنا لبه پیراهن روی خط مرکزی جلو ",null,null,null,null," متغیرهای ورودی-انحنا لبه پیراهن روی خط مرکزی جلو ","x1","y1","x2","y2(بهینه)","a","b",null,"کمترین",null,"بیشترین",null,null,null,null,null,null,null,null,null,null,null,null,null,null,null,null,null,null,null,null,39,null,19,9.5,null,19.5]
["ضریب انحنا بالای لبه پیراهن  روی خط مرکزی جلو n11","(از 0.01 الی 0.9)",{"$f":"K191*E191+L191","v":0.45},"بهینه کت مردانه=0.45",{"$f":"'طراحی همه الگوها'!B312","v":9},"ضریب انحنا بالای لبه پیراهن  روی خط مرکزی جلو ",1,0.05,0,0,{"$f":"(J191-H191)/(I191-G191)","v":0.05},{"$f":"H191-G191*K191","v":0},0.01,{"$f":"(M191-L191)/K191","v":0.19999999999999998},0.9,{"$f":"(O191-L191)/K191","v":18},0.45,{"$f":"(Q191-L191)/K191","v":9},null,null,null,null,null,null,null,null,null,null,null,null,null,null,null,null,null,null,40,null,20,10,null,20]
["ضریب انحنا میانی لبه پیراهن  روی خط مرکزی جلو n13","(از 0.5 الی 1.7)",{"$f":"K192*E192+L192","v":1.3},"بهینه کت مردانه=1.3",{"$f":"'طراحی همه الگوها'!B313","v":26},"ضریب انحنا میانی لبه پیراهن  روی خط مرکزی جلو ",1,0.05,0,0,{"$f":"(J192-H192)/(I192-G192)","v":0.05},{"$f":"H192-G192*K192","v":0},0.5,{"$f":"(M192-L192)/K192","v":10},1.7,{"$f":"(O192-L192)/K192","v":34},1.3,{"$f":"(Q192-L192)/K192","v":26},null,null,null,null,null,null,null,null,null,null,null,null,null,null,null,null,null,null,41,null,null,10.5,null,20.5]
["ضریب انحنا پایین لبه پیراهن روی خط مرکزی جلو n12","(از 0.3 الی 1)",{"$f":"K193*E193+L193","v":0.8},"بهینه کت مردانه=0.8",{"$f":"'طراحی همه الگوها'!B314","v":16},"ضریب انحنا پایین لبه پیراهن روی خط مرکزی جلو ",1,0.05,0,0,{"$f":"(J193-H193)/(I193-G193)","v":0.05},{"$f":"H193-G193*K193","v":0},0.3,{"$f":"(M193-L193)/K193","v":5.9999999999999991},1,{"$f":"(O193-L193)/K193","v":20},0.8,{"$f":"(Q193-L193)/K193","v":16},null,null,null,null,null,null,null,null,null,null,null,null,null,null,null,null,null,null,42,null,null,11,null,21]
[null,null,null,null,null,null,null,null,null,null,null,null,null,null,null,null,null,null,null,null,null,null,null,null,null,null,null,null,null,null,null,null,null,null,null,null,43,null,null,11.5,null,21.5]
[" متغیرهای ورودی - جیب پهلو",null,null,null,null," متغیرهای ورودی - جیب پهلو آبی با بلیطی  (جلو)","x1","y1","x2","y2(بهینه)","a","b",null,"کمترین",null,"بیشترین",null,null,null,null,null,null,null,null,null,null,null,null,null,null,null,null,null,null,null,null,44,null,null,12,null,22]
["عرض پاکت جیب به سانتیمتر","(از 0 الی 4)",{"$f":"K196*E196+L196","v":2},"بهینه=2",{"$f":"'طراحی همه الگوها'!E326","v":2},"پهنای بلیطی جیب  (سانتیمتر)",1,1,0,0,{"$f":"(J196-H196)/(I196-G196)","v":1},{"$f":"H196-G196*K196","v":0},0,{"$f":"(M196-L196)/K196","v":0},4,{"$f":"(O196-L196)/K196","v":4},2,{"$f":"(Q196-L196)/K196","v":2},null,null,null,null,null,null,null,null,null,null,null,null,null,null,null,null,null,null,45,null,null,12.5,null,22.5]
["ضریب طول پاکت جیب","(از 0.01 الی 1.5)",{"$f":"K197*E197+L197","v":1},"بهینه=1",{"$f":"'طراحی همه الگوها'!E327","v":20},"ضریب طول بلیطی جیب",19,0.95,20,1,{"$f":"(J197-H197)/(I197-G197)","v":5.0000000000000044E-2},{"$f":"H197-G197*K197","v":-8.8817841970012523E-16},0.01,{"$f":"(M197-L197)/K197","v":0.20000000000001758},1.5,{"$f":"(O197-L197)/K197","v":29.999999999999993},1,{"$f":"(Q197-L197)/K197","v":20},null,null,null,null,null,null,null,null,null,null,null,null,null,null,null,null,null,null,46,null,null,13,null,23]
["زاویه جیب با عمود به درجه","(از 0 الی 90)",{"$f":"K198*E198+L198","v":20},"بهینه=20",{"$f":"'طراحی همه الگوها'!E328","v":4},"زاویه جیب با عمود ",1,5,0,0,{"$f":"(J198-H198)/(I198-G198)","v":5},{"$f":"H198-G198*K198","v":0},0,{"$f":"(M198-L198)/K198","v":0},90,{"$f":"(O198-L198)/K198","v":18},20,{"$f":"(Q198-L198)/K198","v":4},null,null,null,null,null,null,null,null,null,null,null,null,null,null,null,null,null,null,47,null,null,13.5,null,23.5]
["زاویه چرخش پاکت جیب از مستطیل به متوازی الاضلاع (به درجه)","(از -90 الی 90)",{"$f":"K199*E199+L199","v":0},"پاکت مستطیل=0  ",{"$f":"'طراحی همه الگوها'!E329","v":20},"زاویه چرخش بلیطی جیب از مستطیل به متوازی الاضلاع ",21,5,20,0,{"$f":"(J199-H199)/(I199-G199)","v":5},{"$f":"H199-G199*K199","v":-100},-90,{"$f":"(M199-L199)/K199","v":2},90,{"$f":"(O199-L199)/K199","v":38},0,{"$f":"(Q199-L199)/K199","v":20},null,null,null,null,null,null,null,null,null,null,null,null,null,null,null,null,null,null,48,null,null,14,null,24]
[null,null,null,null,null,null,null,null,null,null,null,null,null,null,null,null,null,null,null,null,null,null,null,null,null,null,null,null,null,null,null,null,null,null,null,null,49,null,null,14.5,null,24.5]
[" متغیرهای ورودی - جیب اول درمکان دلخواه",null,null,null,null," متغیرهای ورودی - جیب اول سبز با بلیطی  (جلو)","x1","y1","x2","y2(بهینه)","a","b",null,"کمترین",null,"بیشترین",null,null,null,null,null,null,null,null,null,null,null,null,null,null,null,null,null,null,null,null,50,null,null,15,null,25]
["ضریب فاصله افقی وسط جیب از خط مرکزی جلو ","(از 0 الی 1)",{"$f":"K202*E202+L202","v":0.85000000000000009},"خط مرکزی جلو=0 \nخط پهلو=1  ",{"$f":"'طراحی همه الگوها'!E465","v":17},"ضریب فاصله افقی وسط جیب از خط مرکزی جلو ",20,1,0,0,{"$f":"(J202-H202)/(I202-G202)","v":0.05},{"$f":"H202-G202*K202","v":0},0,{"$f":"(M202-L202)/K202","v":0},1,{"$f":"(O202-L202)/K202","v":20},0.5,{"$f":"(Q202-L202)/K202","v":10},null,null,null,null,null,null,null,null,null,null,null,null,null,null,null,null,null,null,51,null,null,null,null,25.5]
["ضریب فاصله عمودی بالای جیب از زمین ","(از0 الی 5)",2.4000000000000004,"خط زمین=0 \nخط زانو=1 \nخط باسن=2 \nخط کمر=3 \nخط سینه=4  ",{"$f":"'طراحی همه الگوها'!E466","v":58},"ضریب فاصله عمودی بالای جیب از زمین ",10,0,30,1,0.05,-0.5,0,10,5,110,2,50,null,null,null,null,null,null,null,null,null,null,null,null,null,null,null,null,null,null,52,null,null,null,null,26]
["عرض پاکت جیب به سانتیمتر","(از 0 الی 4)",0,"بهینه=2",{"$f":"'طراحی همه الگوها'!E460","v":0},"پهنای بلیطی جیب  (سانتیمتر)",1,1,0,0,1,0,0,0,4,4,2,2,null,null,null,null,null,null,null,null,null,null,null,null,null,null,null,null,null,null,53,null,null,null,null,26.5]
["ضریب طول پاکت جیب","(از 0.01 الی 2)",-8.8817841970012523E-16,"بهینه=1",{"$f":"'طراحی همه الگوها'!E461","v":0},"ضریب طول بلیطی جیب",19,0.95,20,1,5.0000000000000044E-2,-8.8817841970012523E-16,0.01,0.20000000000001758,2,39.999999999999986,1,20,null,null,null,null,null,null,null,null,null,null,null,null,null,null,null,null,null,null,54,null,null,null,null,27]
["زاویه جیب با عمود به درجه","(از 0 الی 180)",20,"بهینه=دلخواه",{"$f":"'طراحی همه الگوها'!E462","v":4},"زاویه جیب با عمود ",1,5,0,0,5,0,0,0,180,36,20,4,null,null,null,null,null,null,null,null,null,null,null,null,null,null,null,null,null,null,55,null,null,null,null,27.5]
["زاویه چرخش پاکت جیب از مستطیل به متوازی الاضلاع (به درجه)","(از -90 الی 90)",0,"پاکت مستطیل=0  ",{"$f":"'طراحی همه الگوها'!E463","v":20},"زاویه چرخش بلیطی جیب از مستطیل به متوازی الاضلاع ",21,5,20,0,5,-100,-90,2,90,38,0,20,null,null,null,null,null,null,null,null,null,null,null,null,null,null,null,null,null,null,56,null,null,null,null,28]
["انتخاب جیب روکار=1        انتخاب دیگر=0","0 یا 1 ",0,null,{"$f":"'طراحی همه الگوها'!E464","v":1},"انتخاب جیب روکار=2        انتخاب دیگر=1",1,0,2,1,1,-1,0,1,1,2,0,1,null,null,null,null,null,null,null,null,null,null,null,null,null,null,null,null,null,null,57,null,null,null,null,28.5]
["انتخاب طول جیب منطبق با جیب با ساسون=1        انتخاب طول جیب دستی=0","0 یا 1 ",0,null,{"$f":"'طراحی همه الگوها'!E330","v":1},"انتخاب طول جیب منطبق با جیب با ساسون=2        انتخاب طول جیب دستی=1",1,0,2,1,{"$f":"(J209-H209)/(I209-G209)","v":1},{"$f":"H209-G209*K209","v":-1},0,1,1,2,0,1,null,null,null,null,null,null,null,null,null,null,null,null,null,null,null,null,null,null,58,null,null,null,null,29]
[null,null,null,null,null,null,null,null,null,null,null,null,null,null,null,null,null,null,null,null,null,null,null,null,null,null,null,null,null,null,null,null,null,null,null,null,59,null,null,null,null,29.5]
[" متغیرهای ورودی - جیب دوم درمکان دلخواه",null,null,null,null," متغیرهای ورودی - جیب دوم سیاه با بلیطی (جلو)","x1","y1","x2","y2(بهینه)","a","b",null,"کمترین",null,"بیشترین",null,null,null,null,null,null,null,null,null,null,null,null,null,null,null,null,null,null,null,null,60,null,null,null,null,30]
["ضریب فاصله افقی وسط جیب از خط مرکزی جلو ","(از 0 الی 1)",{"$f":"K212*E212+L212","v":0.5},"خط مرکزی جلو=0 \nخط پهلو=1  ",{"$f":"'طراحی همه الگوها'!E474","v":10},"ضریب فاصله افقی وسط جیب از خط مرکزی جلو ",20,1,0,0,{"$f":"(J212-H212)/(I212-G212)","v":0.05},{"$f":"H212-G212*K212","v":0},0,{"$f":"(M212-L212)/K212","v":0},1,{"$f":"(O212-L212)/K212","v":20},0.5,{"$f":"(Q212-L212)/K212","v":10},null,null,null,null,null,null,null,null,null,null,null,null,null,null,null,null,null,null,61,null,null,null,null,30.5]
["ضریب فاصله عمودی بالای جیب از زمین ","(از0 الی 5)",2.35,"خط زمین=0 \nخط زانو=1 \nخط باسن=2 \nخط کمر=3 \nخط سینه=4  ",{"$f":"'طراحی همه الگوها'!E475","v":57},"ضریب فاصله عمودی بالای جیب از زمین ",10,0,30,1,0.05,-0.5,0,10,5,110,2,50,null,null,null,null,null,null,null,null,null,null,null,null,null,null,null,null,null,null,62,null,null,null,null,31]
["عرض پاکت جیب به سانتیمتر","(از 0 الی 4)",0,"بهینه=2",{"$f":"'طراحی همه الگوها'!E469","v":0},"پهنای بلیطی جیب  (سانتیمتر)",1,1,0,0,1,0,0,0,4,4,2,2,null,null,null,null,null,null,null,null,null,null,null,null,null,null,null,null,null,null,63,null,null,null,null,31.5]
["ضریب طول پاکت جیب","(از 0.01 الی 2)",-8.8817841970012523E-16,"بهینه=1",{"$f":"'طراحی همه الگوها'!E470","v":0},"ضریب طول بلیطی جیب",19,0.95,20,1,5.0000000000000044E-2,-8.8817841970012523E-16,0.01,0.20000000000001758,2,39.999999999999986,1,20,null,null,null,null,null,null,null,null,null,null,null,null,null,null,null,null,null,null,64,null,null,null,null,32]
["زاویه جیب با عمود به درجه","(از 0 الی 180)",90,"بهینه=دلخواه",{"$f":"'طراحی همه الگوها'!E471","v":18},"زاویه جیب با عمود ",1,5,0,0,5,0,0,0,180,36,20,4,null,null,null,null,null,null,null,null,null,null,null,null,null,null,null,null,null,null,65,null,null,null,null,32.5]
["زاویه چرخش پاکت جیب از مستطیل به متوازی الاضلاع (به درجه)","(از -90 الی 90)",0,"پاکت مستطیل=0  ",{"$f":"'طراحی همه الگوها'!E472","v":20},"زاویه چرخش بلیطی جیب از مستطیل به متوازی الاضلاع ",21,5,20,0,5,-100,-90,2,90,38,0,20,null,null,null,null,null,null,null,null,null,null,null,null,null,null,null,null,null,null,66,null,null,null,null,33]
["انتخاب جیب روکار=1        انتخاب دیگر=0","0 یا 1 ",0,null,{"$f":"'طراحی همه الگوها'!E473","v":1},"انتخاب جیب روکار=2        انتخاب دیگر=1",1,0,2,1,1,-1,0,1,1,2,0,1,null,null,null,null,null,null,null,null,null,null,null,null,null,null,null,null,null,null,67,null,null,null,null,33.5]
[null,null,null,null,null,null,null,null,null,null,null,null,null,null,null,null,null,null,null,null,null,null,null,null,null,null,null,null,null,null,null,null,null,null,null,null,68,null,null,null,null,34]
["متغیرهای ورودی -  جیب مستطیل",null,null,null,null,"متغیرهای ورودی -  جیب مستطیل قرمز   (جلو)","x1","y1","x2","y2(بهینه)","a","b",null,"کمترین",null,"بیشترین",null,null,null,null,null,null,null,null,null,null,null,null,null,null,null,null,null,null,null,null,69,null,null,null,null,34.5]
["ضریب فاصله افقی وسط  جیب از خط مرکزی جلو لباس ","(از 0 الی 1)",{"$f":"K221*E221+L221","v":0.5},"لبه جلو=0 \nلبه کناری=1  ",{"$f":"'طراحی همه الگوها'!E481","v":10},"ضریب فاصله افقی وسط  جیب از خط مرکزی جلو لباس ",20,1,0,0,{"$f":"(J221-H221)/(I221-G221)","v":0.05},{"$f":"H221-G221*K221","v":0},0,{"$f":"(M221-L221)/K221","v":0},1,{"$f":"(O221-L221)/K221","v":20},0.5,{"$f":"(Q221-L221)/K221","v":10},null,null,null,null,null,null,null,null,null,null,null,null,null,null,null,null,null,null,70,null,null,null,null,35]
["ضریب فاصله عمودی بالای  جیب از زمین ","(از0 الی 5)",{"$f":"K222*E222+L222","v":2.2000000000000002},"خط زمین=0 \nخط زانو=1 \nخط باسن=2 \nخط کمر=3 \nخط سینه=4  ",{"$f":"'طراحی همه الگوها'!E482","v":54},"ضریب فاصله عمودی بالای  جیب از زمین ",10,0,30,1,{"$f":"(J222-H222)/(I222-G222)","v":0.05},{"$f":"H222-G222*K222","v":-0.5},0,{"$f":"(M222-L222)/K222","v":10},5,{"$f":"(O222-L222)/K222","v":110},2,{"$f":"(Q222-L222)/K222","v":50},null,null,null,null,null,null,null,null,null,null,null,null,null,null,null,null,null,null,71,null,null,null,null,35.5]
["ضریب عرض جیب مستطیل","(از 0.01 الی 1.5)",{"$f":"K223*E223+L223","v":0},"بهینه جیب=1.2",{"$f":"'طراحی همه الگوها'!E478","v":0},"ضریب عرض جیب مستطیل",1,0.05,0,0,{"$f":"(J223-H223)/(I223-G223)","v":0.05},{"$f":"H223-G223*K223","v":0},0.01,{"$f":"(M223-L223)/K223","v":0.19999999999999998},1.5,{"$f":"(O223-L223)/K223","v":30},1.2,{"$f":"(Q223-L223)/K223","v":23.999999999999996},null,null,null,null,null,null,null,null,null,null,null,null,null,null,null,null,null,null,72,null,null,null,null,36]
["زاویه  جیب با عمود (به درجه)","(از 0 الی 180)",{"$f":"K224*E224+L224","v":0},"افقی=90",{"$f":"'طراحی همه الگوها'!E479","v":0},"زاویه  جیب با عمود ",1,5,0,0,{"$f":"(J224-H224)/(I224-G224)","v":5},{"$f":"H224-G224*K224","v":0},0,{"$f":"(M224-L224)/K224","v":0},180,{"$f":"(O224-L224)/K224","v":36},90,{"$f":"(Q224-L224)/K224","v":18},null,null,null,null,null,null,null,null,null,null,null,null,null,null,null,null,null,null,73,null,null,null,null,36.5]
["ضریب ارتفاع جیب مستطیل","(از 0 الی 1.5)",{"$f":"K225*E225+L225","v":0},"بهینه جیب=1.1",{"$f":"'طراحی همه الگوها'!E480","v":0},"ضریب ارتفاع جیب مستطیل",1,0.05,0,0,{"$f":"(J225-H225)/(I225-G225)","v":0.05},{"$f":"H225-G225*K225","v":0},0,{"$f":"(M225-L225)/K225","v":0},1.5,{"$f":"(O225-L225)/K225","v":30},1.1000000000000001,{"$f":"(Q225-L225)/K225","v":22},null,null,null,null,null,null,null,null,null,null,null,null,null,null,null,null,null,null,74,null,null,null,null,37]
[null,null,null,null,null,null,null,null,null,null,null,null,null,null,null,null,null,null,null,null,null,null,null,null,null,null,null,null,null,null,null,null,null,null,null,null,75,null,null,null,null,37.5]
["متغیرهای ورودی -  جادکمه با بلیطی",null,null,null,null,"متغیرهای ورودی -  جادکمه با بلیطی (جلو)","x1","y1","x2","y2(بهینه)","a","b",null,"کمترین",null,"بیشترین",null,null,null,null,null,null,null,null,null,null,null,null,null,null,null,null,null,null,null,null,76,null,null,null,null,38]
["ضریب فاصله افقی وسط جادکمه  از خط مرکزی جلو لباس ","(از 0 الی 1)",{"$f":"K228*E228+L228","v":0.5},"لبه جلو=0 \nلبه کناری=1  ",{"$f":"'طراحی همه الگوها'!E361","v":10},"ضریب فاصله افقی وسط جادکمه  از خط مرکزی جلو لباس ",20,1,0,0,{"$f":"(J228-H228)/(I228-G228)","v":0.05},{"$f":"H228-G228*K228","v":0},0,{"$f":"(M228-L228)/K228","v":0},1,{"$f":"(O228-L228)/K228","v":20},0.5,{"$f":"(Q228-L228)/K228","v":10},null,null,null,null,null,null,null,null,null,null,null,null,null,null,null,null,null,null,77,null,null,null,null,38.5]
["ضریب فاصله عمودی بالای جادکمه از زمین ","(از0 الی 5)",{"$f":"K229*E229+L229","v":3},"خط زمین=0 \nخط زانو=1 \nخط باسن=2 \nخط کمر=3 \nخط سینه=4  ",{"$f":"'طراحی همه الگوها'!E362","v":70},"ضریب فاصله عمودی بالای جادکمه از زمین ",10,0,30,1,{"$f":"(J229-H229)/(I229-G229)","v":0.05},{"$f":"H229-G229*K229","v":-0.5},0,{"$f":"(M229-L229)/K229","v":10},5,{"$f":"(O229-L229)/K229","v":110},2,{"$f":"(Q229-L229)/K229","v":50},null,null,null,null,null,null,null,null,null,null,null,null,null,null,null,null,null,null,78,null,null,null,null,39]
["عرض پاکت جادکمه به سانتیمتر","(از 0 الی 4)",{"$f":"K230*E230+L230","v":2},"بهینه جادکمه=2",{"$f":"'طراحی همه الگوها'!E358","v":2},"پهنای جادکمه  (سانتیمتر)",1,1,0,0,{"$f":"(J230-H230)/(I230-G230)","v":1},{"$f":"H230-G230*K230","v":0},0,{"$f":"(M230-L230)/K230","v":0},4,{"$f":"(O230-L230)/K230","v":4},2,{"$f":"(Q230-L230)/K230","v":2},null,null,null,null,null,null,null,null,null,null,null,null,null,null,null,null,null,null,79,null,null,null,null,39.5]
["ضریب طول پاکت جادکمه ","(از 0.01 الی 1.5)",{"$f":"K231*E231+L231","v":0.30000000000000004},"بهینه جادکمه=0.3",{"$f":"'طراحی همه الگوها'!E359","v":20},"ضریب طول جادکمه ",19,0.25,20,0.3,{"$f":"(J231-H231)/(I231-G231)","v":4.9999999999999989E-2},{"$f":"H231-G231*K231","v":-0.69999999999999973},0.01,{"$f":"(M231-L231)/K231","v":14.199999999999998},1.5,{"$f":"(O231-L231)/K231","v":44.000000000000007},0.3,{"$f":"(Q231-L231)/K231","v":20},null,null,null,null,null,null,null,null,null,null,null,null,null,null,null,null,null,null,80,null,null,null,null,40]
["زاویه جادکمه با عمود (به درجه)","(از 0 الی 180)",{"$f":"K232*E232+L232","v":90},"افقی=90",{"$f":"'طراحی همه الگوها'!E360","v":18},"زاویه جادکمه با عمود ",1,5,0,0,{"$f":"(J232-H232)/(I232-G232)","v":5},{"$f":"H232-G232*K232","v":0},0,{"$f":"(M232-L232)/K232","v":0},180,{"$f":"(O232-L232)/K232","v":36},90,{"$f":"(Q232-L232)/K232","v":18},null,null,null,null,null,null,null,null,null,null,null,null,null,null,null,null,null,null,81,null,null,null,null,40.5]
[null,null,null,null,null,null,null,null,null,null,null,null,null,null,null,null,null,null,null,null,null,null,null,null,null,null,null,null,null,null,null,null,null,null,null,null,82,null,null,null,null,41]
[" متغیرهای ورودی - جادکمه با طول دلخواه",null,null,null,null,"جادکمه متصل به یقه گرد","x1","y1","x2","y2(بهینه)","a","b",null,"کمترین",null,"بیشترین",null,null,null,null,null,null,null,null,null,null,null,null,null,null,null,null,null,null,null,null,83,null,null,null,null,41.5]
["ضریب عرض جادکمه به سانتیمتر","(از 0 الی 0.03)",{"$f":"K235*E235+L235","v":1.4999999999999999E-2},"بهینه=0.01",{"$f":"'طراحی همه الگوها'!E365","v":30},"ضریب عرض جادکمه ",1,5.0000000000000001E-4,0,0,{"$f":"(J235-H235)/(I235-G235)","v":5.0000000000000001E-4},{"$f":"H235-G235*K235","v":0},0,{"$f":"(M235-L235)/K235","v":0},0.03,{"$f":"(O235-L235)/K235","v":60},0.01,{"$f":"(Q235-L235)/K235","v":20},null,null,null,null,null,null,null,null,null,null,null,null,null,null,null,null,null,null,84,null,null,null,null,42]
["ضریب طول جادکمه ","(از 0.7 الی 2.5)",{"$f":"K236*E236+L236","v":1.5600000000000005},"حداقل طول جادکمه با پارچه کش برای رد شدن از سر=0.7 \nحداقل طول جادکمه با پارچه غیر کش برای رد شدن از سر=1 \nجادکمه بلند  >1 ",{"$f":"'طراحی همه الگوها'!E366","v":28},"ضریب طول جادکمه ",1,1.02,0,1,{"$f":"(J236-H236)/(I236-G236)","v":2.0000000000000018E-2},{"$f":"H236-G236*K236","v":1},1,{"$f":"(M236-L236)/K236","v":0},2.5,{"$f":"(O236-L236)/K236","v":74.999999999999929},1,{"$f":"(Q236-L236)/K236","v":0},null,null,null,null,null,null,null,null,null,null,null,null,null,null,null,null,null,null,85,null,null,null,null,42.5]
["حداقل طول جادکمه با پارچه غیر کش به سانتیمتر (عدد منفی یعنی دور یقه بزرگتر از دور سر میباشد)  *",{"$f":"ROUND(محاسبات!FH465,0)","v":8},null,null,{"$f":"IF((B261+B239)<B260,\"خیر\",\"بله \")","v":"خیر"},"آیا یقه گرد متصل به جادکمه با پارچه غیر کش از سر رد میشود؟",null,null,null,null,null,null,null,null,null,null,null,null,null,null,null,null,null,null,null,null,null,null,null,null,null,null,null,null,null,null,86,null,null,null,null,43]
["حداقل طول جادکمه با پارچه کش به سانتیمتر (عدد منفی یعنی دور یقه بزرگتر از حد لازم برای رد شدن از دور سر میباشد)  '*",{"$f":"ROUND(0.5*('متغیرها '!U85-1.2*(2.12*SQRT(محاسبات!K144*محاسبات!K144+محاسبات!K143*محاسبات!K143)+2.08*SQRT(محاسبات!AA147*محاسبات!AA147+محاسبات!AA146*محاسبات!AA146))),0)","v":4},null,null,{"$f":"IF((B261+B239)<0.85*B260,\"خیر\",\"بله \")","v":"خیر"},"آیا یقه گرد متصل به جادکمه با پارچه نیم کش از سر رد میشود؟",null,null,null,null,null,null,null,null,null,null,null,null,null,null,null,null,null,null,null,null,null,null,null,null,null,null,null,null,null,null,87,null,null,null,null,43.5]
[" طول جادکمه اختیار شده برای لباس شما به سانتیمتر",{"$f":"ROUND((C236-1)*'متغیرها '!U77,1)","v":7},null,null,{"$f":"IF((B261+B239)<0.7*B260,\"خیر\",\"بله \")","v":"بله "},"آیا یقه گرد متصل به جادکمه با پارچه کش زیاد از سر رد میشود؟",null,null,null,null,null,null,null,null,null,null,null,null,null,null,null,null,null,null,null,null,null,null,null,null,null,null,null,null,null,null,88,null,null,null,null,44]
[" عرض جادکمه اختیار شده برای لباس شما به سانتیمتر",{"$f":"ROUND(محاسبات!FH471,1)","v":2.1},null,null,null,null,null,null,null,null,null,null,null,null,null,null,null,null,null,null,null,null,null,null,null,null,null,null,null,null,null,null,null,null,null,null,89,null,null,null,null,44.5]
[null,null,null,null,null,null,null,null,null,null,null,null,null,null,null,null,null,null,null,null,null,null,null,null,null,null,null,null,null,null,null,null,null,null,null,null,90,null,null,null,null,45]
[" مشخصات مستطیل با پارچه کش برای یقه گرد کیپ :",null,null,null,null," مشخصات مستطیل با پارچه کش برای یقه گرد کیپ :",null,null,null,null,null,null,null,null,null,null,null,null,null,null,null,null,null,null,null,null,null,null,null,null,null,null,null,null,null,null,91,null,null,null,null,45.5]
["طول",{"$f":"'متغیرها '!U80","v":30},null,null,null,"طول",null,null,null,null,null,null,null,null,null,null,null,null,null,null,null,null,null,null,null,null,null,null,null,null,null,null,null,null,null,null,92,null,null,null,null,46]
["عرض",{"$f":"0.5*'متغیرها '!C72*محاسبات!G167","v":1.0903514617515926},null,null,null,"عرض",null,null,null,null,null,null,null,null,null,null,null,null,null,null,null,null,null,null,null,null,null,null,null,null,null,null,null,null,null,null,93,null,null,null,null,46.5]
["زاویه متوسط سرشانه",{"$f":"0.5*(محاسبات!P139+0.3*(محاسبات!P140-محاسبات!P139)+محاسبات!AE139+0.3*(محاسبات!AE140-محاسبات!AE139))","v":0.34045293430977369},null,null,null,"زاویه متوسط سرشانه",null,null,null,null,null,null,null,null,null,null,null,null,null,null,null,null,null,null,null,null,null,null,null,null,null,null,null,null,null,null,94,null,null,null,null,47]
[null,null,null,null,null,null,null,null,null,null,null,null,null,null,null,null,null,null,null,null,null,null,null,null,null,null,null,null,null,null,null,null,null,null,null,null,95,null,null,null,null,47.5]
["متغیر ورودی یقه گرد کش :",null,null,null,null,"متغیر ورودی یقه گرد کش :","x1","y1","x2","y2(بهینه)","a","b",null,"کمترین",null,"بیشترین",null,null,null,null,null,null,null,null,null,null,null,null,null,null,null,null,null,null,null,null,96,null,null,null,null,48]
["ارتفاع یقه گرد کش  به سانتیمتر - متغیر ورودی","(از 0.5 الی 5)",{"$f":"K248*E248+L248","v":1},"cm",{"$f":"'طراحی همه الگوها'!E189","v":1},"ارتفاع یقه گرد کش  به سانتیمتر - متغیر ورودی",0,0,0.5,0.5,{"$f":"(J248-H248)/(I248-G248)","v":1},{"$f":"H248-G248*K248","v":0},0.5,{"$f":"(M248-L248)/K248","v":0.5},5,{"$f":"(O248-L248)/K248","v":5},1,{"$f":"(Q248-L248)/K248","v":1},null,null,null,null,null,null,null,null,null,null,null,null,null,null,null,null,null,null,97,null,null,null,null,48.5]
["طول (دور تا دور) یقه گرد کش به سانتیمتر",{"$f":"ROUND(2.12*SQRT(POWER((محاسبات!K144-C248*(1-SIN(B245))),2)+POWER((محاسبات!K143-C248*COS(B245)),2))+2.08*SQRT(POWER((محاسبات!AA147-C248*(1-SIN(B245))),2)+POWER((محاسبات!AA146-C248*COS(B245)),2)),0)","v":29},null,null,null,"طول (دور تا دور) یقه گرد کش به سانتیمتر",null,null,null,null,null,null,null,null,null,null,null,null,null,null,null,null,null,null,null,null,null,null,null,null,null,null,null,null,null,null,98,null,null,null,null,49]
[null,null,null,null,null,null,null,null,null,null,null,null,null,null,null,null,null,null,null,null,null,null,null,null,null,null,null,null,null,null,null,null,null,null,null,null,99,null,null,null,null,49.5]
[" مشخصات نوار دور یقه گرد کش :",null,null,null,null," مشخصات نوار دور یقه گرد کش :",null,null,null,null,null,null,null,null,null,null,null,null,null,null,null,null,null,null,null,null,null,null,null,null,null,null,null,null,null,null,100,null,null,null,null,50]
["ارتفاع نوار  (بعد از دوخت)",0.5,"cm",null,null,"ارتفاع نوار  (بعد از دوخت)",null,null,null,null,null,null,null,null,null,null,null,null,null,null,null,null,null,null,null,null,null,null,null,null,null,null,null,null,null,null,101]
["طول  نوار  (بعد از دوخت)",{"$f":"ROUND(2.12*SQRT(POWER((محاسبات!K144-B252*(1-SIN(محاسبات!BI101))),2)+POWER((محاسبات!K143-B252*COS(محاسبات!BI101)),2))+2.08*SQRT(POWER((محاسبات!AA147-B252*(1-SIN(محاسبات!BI101))),2)+POWER((محاسبات!AA146-B252*COS(محاسبات!BI101)),2)),0)","v":31},"cm",null,null,"طول  نوار  (بعد از دوخت)",null,null,null,null,null,null,null,null,null,null,null,null,null,null,null,null,null,null,null,null,null,null,null,null,null,null,null,null,null,null,102]
[null,null,null,null,null,null,null,null,null,null,null,null,null,null,null,null,null,null,null,null,null,null,null,null,null,null,null,null,null,null,null,null,null,null,null,null,103]
[" مشخصات نوار دور یقه گرد کش :",null,null,null,null," مشخصات نوار دور یقه گرد کش :",null,null,null,null,null,null,null,null,null,null,null,null,null,null,null,null,null,null,null,null,null,null,null,null,null,null,null,null,null,null,104]
["ارتفاع نوار  (بعد از دوخت)",1,"cm",null,null,"ارتفاع نوار  (بعد از دوخت)",null,null,null,null,null,null,null,null,null,null,null,null,null,null,null,null,null,null,null,null,null,null,null,null,null,null,null,null,null,null,105]
["طول  نوار  (بعد از دوخت)",{"$f":"ROUND(2.12*SQRT(POWER((محاسبات!K144-B256*(1-SIN(محاسبات!BI101))),2)+POWER((محاسبات!K143-B256*COS(محاسبات!BI101)),2))+2.08*SQRT(POWER((محاسبات!AA147-B256*(1-SIN(محاسبات!BI101))),2)+POWER((محاسبات!AA146-B256*COS(محاسبات!BI101)),2)),0)","v":29},"cm",null,null,"طول  نوار  (بعد از دوخت)",null,null,null,null,null,null,null,null,null,null,null,null,null,null,null,null,null,null,null,null,null,null,null,null,null,null,null,null,null,null,106]
[null,null,null,null,null,null,null,null,null,null,null,null,null,null,null,null,null,null,null,null,null,null,null,null,null,null,null,null,null,null,null,null,null,null,null,null,107]
[" کنترل یقه گرد بدون زیپ ",null,null,null,null," کنترل یقه گرد بدون زیپ ",null,null,null,null,null,null,null,null,null,null,null,null,null,null,null,null,null,null,null,null,null,null,null,null,null,null,null,null,null,null,108]
["دور سر",{"$f":"'متغیرها '!U85","v":49},null,null,null,"دور سر",null,null,null,null,null,null,null,null,null,null,null,null,null,null,null,null,null,null,null,null,null,null,null,null,null,null,null,null,null,null,109]
[" دور یقه گرد لباس",{"$f":"ROUND(2.12*SQRT(محاسبات!K144*محاسبات!K144+محاسبات!K143*محاسبات!K143)+2.08*SQRT(محاسبات!AA147*محاسبات!AA147+محاسبات!AA146*محاسبات!AA146)+2*'متغیرها '!C66*محاسبات!H129,1)","v":33.4},null,null,null," دور یقه گرد لباس",null,null,null,null,null,null,null,null,null,null,null,null,null,null,null,null,null,null,null,null,null,null,null,null,null,null,null,null,null,null,110]
["حداقل دور یقه گرد با پارچه غیر کش ",{"$f":"'متغیرها '!U85","v":49},null,{"$f":"IF(B261<B262,\"خطا\",\"صحیح \")","v":"خطا"},{"$f":"IF(B261<B262,\"خیر\",\"بله \")","v":"خیر"},"حداقل دور یقه گرد با پارچه غیر کش ",null,null,null,null,null,null,null,null,null,null,null,null,null,null,null,null,null,null,null,null,null,null,null,null,null,null,null,null,null,null,111]
[" حداقل دور یقه گرد با پارچه نیم کش ",{"$f":"ROUND(0.85*'متغیرها '!U85,1)","v":41.7},null,{"$f":"IF(B261<B263,\"خطا\",\"صحیح \")","v":"خطا"},{"$f":"IF(B261<B263,\"خیر\",\"بله \")","v":"خیر"}," حداقل دور یقه گرد با پارچه نیم کش ",null,null,null,null,null,null,null,null,null,null,null,null,null,null,null,null,null,null,null,null,null,null,null,null,null,null,null,null,null,null,112]
["حداقل دور یقه گرد با پارچه کش زیاد ",{"$f":"ROUND(0.7*'متغیرها '!U85,1)","v":34.299999999999997},null,{"$f":"IF(B261<B264,\"خطا\",\"صحیح \")","v":"خطا"},{"$f":"IF(B261<B264,\"خیر\",\"بله \")","v":"خیر"},"حداقل دور یقه گرد با پارچه کش زیاد ",null,null,null,null,null,null,null,null,null,null,null,null,null,null,null,null,null,null,null,null,null,null,null,null,null,null,null,null,null,null,113]
[null,null,null,null,null,null,null,null,null,null,null,null,null,null,null,null,null,null,null,null,null,null,null,null,null,null,null,null,null,null,null,null,null,null,null,null,114]
[" کنترل یقه هفت بدون زیپ ",null,null,null,null," کنترل یقه هفت بدون زیپ ",null,null,null,null,null,null,null,null,null,null,null,null,null,null,null,null,null,null,null,null,null,null,null,null,null,null,null,null,null,null,115]
["دور سر",{"$f":"'متغیرها '!U85","v":49},null,null,null,"دور سر",null,null,null,null,null,null,null,null,null,null,null,null,null,null,null,null,null,null,null,null,null,null,null,null,null,null,null,null,null,null,116]
[" دور یقه هفت لباس",{"$f":"ROUND(2.08*SQRT(محاسبات!AA147*محاسبات!AA147+محاسبات!AA146*محاسبات!AA146)+2*(('متغیرها '!C169*محاسبات!H124+محاسبات!K144)/SIN(محاسبات!O233)),1)","v":41.3},null,null,null," دور یقه هفت لباس",null,null,null,null,null,null,null,null,null,null,null,null,null,null,null,null,null,null,null,null,null,null,null,null,null,null,null,null,null,null,117]
["حداقل دور یقه هفت با پارچه غیر کش ",{"$f":"'متغیرها '!U85","v":49},null,{"$f":"IF(B268<B269,\"خطا\",\"صحیح \")","v":"خطا"},{"$f":"IF(B268<B269,\"خیر\",\"بله \")","v":"خیر"},"حداقل دور یقه هفت با پارچه غیر کش ",null,null,null,null,null,null,null,null,null,null,null,null,null,null,null,null,null,null,null,null,null,null,null,null,null,null,null,null,null,null,118]
[" حداقل دور یقه هفت با پارچه نیم کش ",{"$f":"ROUND(0.85*'متغیرها '!U85,1)","v":41.7},null,{"$f":"IF(B268<B270,\"خطا\",\"صحیح \")","v":"خطا"},{"$f":"IF(B268<B270,\"خیر\",\"بله \")","v":"خیر"}," حداقل دور یقه هفت با پارچه نیم کش ",null,null,null,null,null,null,null,null,null,null,null,null,null,null,null,null,null,null,null,null,null,null,null,null,null,null,null,null,null,null,119]
[null,null,null,null,null,null,null,null,null,null,null,null,null,null,null,null,null,null,null,null,null,null,null,null,null,null,null,null,null,null,null,null,null,null,null,null,120]
[" مشخصات کمربند به شکل مستطیل (مناسب برای لباس شما)",null,null,null,null," مشخصات کمربند به شکل مستطیل (مناسب برای لباس شما)"]
["طول کمربند به سانتیمتر",{"$f":"ROUND(3*(محاسبات!K120+محاسبات!K124)+2*(محاسبات!AA123+محاسبات!AA127),1)","v":72.8},null,null,null,"طول کمربند به سانتیمتر"]
["عرض کمربند به سانتیمتر",{"$f":"ROUND(0.07*'متغیرها '!U83,1)","v":2.2000000000000002},null,null,null,"عرض کمربند به سانتیمتر"]
[]
[" مشخصات کش یا پارچه پایین سویشرت :",null,null,null,null," مشخصات کش پایین سویشرت :"]
["طول  کش از ساسون جلو- دور باسن -تا ساسون دیگر جلو",{"$f":"ROUND(C279*2*(محاسبات!AV110-محاسبات!AV164+محاسبات!BG106+محاسبات!BG165),0)","v":36},"cm",null,null,"طول  کش از ساسون جلو- دور باسن -تا ساسون دیگر جلو"]
["ضریب پهنای کش","(از -0.1 الی 0.1)",{"$f":"K278*E278+L278","v":0},"بهینه=   - 0.05 ",{"$f":"'طراحی همه الگوها'!B487","v":51},"ضریب پهنای کش",50,-0.05,51,0,{"$f":"(J278-H278)/(I278-G278)","v":0.05},{"$f":"H278-G278*K278","v":-2.5499999999999998},-0.1,{"$f":"(M278-L278)/K278","v":48.999999999999993},0.1,{"$f":"(O278-L278)/K278","v":52.999999999999993},-0.05,{"$f":"(Q278-L278)/K278","v":50}]
["ضریب کوچک شدن کش","(از 0.5  الی 1)",{"$f":"K279*E279+L279","v":0.84999999999999987},"بهینه=   0.9 ",{"$f":"'طراحی همه الگوها'!B488","v":4},"ضریب کوچک شدن کش",2,0.95,1,1,{"$f":"(J279-H279)/(I279-G279)","v":-5.0000000000000044E-2},{"$f":"H279-G279*K279","v":1.05},0.5,{"$f":"(M279-L279)/K279","v":10.999999999999991},1,{"$f":"(O279-L279)/K279","v":1},0.9,{"$f":"(Q279-L279)/K279","v":2.9999999999999978}]
[]
[" متغیرهای ورودی-طراحی یقه مربعی یا برش سرشانه در پیراهن",null,null,null,null," متغیرهای ورودی-طراحی یقه مربعی یا برش سرشانه در پیراهن","x1","y1","x2","y2(بهینه)","a","b",null,"کمترین",null,"بیشترین"]
["انتخاب یقه مربعی=1         انتخاب برش سرشانه در پیراهن مردانه=2  \nانتخاب برش سرشانه در پیراهن برش از کارور=3","1 یا 2 یا 3",{"$f":"K282*E282+L282","v":2},null,{"$f":"'طراحی همه الگوها'!E249","v":2},"انتخاب یقه مربعی=1         انتخاب برش سرشانه در پیراهن مردانه=2  \nانتخاب برش سرشانه در پیراهن برش از کارور=3",2,2,1,1,{"$f":"(J282-H282)/(I282-G282)","v":1},{"$f":"H282-G282*K282","v":0},1,{"$f":"(M282-L282)/K282","v":1},3,{"$f":"(O282-L282)/K282","v":3},1,{"$f":"(Q282-L282)/K282","v":1}]
["  انتخاب آستین با هر نوع ساسون=2    \n  انتخاب آستین بدون ساسون=3           ","2 یا 3",{"$f":"K283*E283+L283","v":3},null,{"$f":"'طراحی همه الگوها'!E250","v":2},"  انتخاب آستین با هر نوع ساسون=1    \n  انتخاب آستین بدون ساسون=2           ",1,2,2,3,{"$f":"(J283-H283)/(I283-G283)","v":1},{"$f":"H283-G283*K283","v":1},2,{"$f":"(M283-L283)/K283","v":1},3,{"$f":"(O283-L283)/K283","v":2},2,{"$f":"(Q283-L283)/K283","v":1}]
["پهنا یقه روی خط سرشانه  (فقط موثر در انتخاب یقه مربعی) ","(از 0.2 الی 1.2)",{"$f":"K284*E284+L284","v":1},"بهینه=1",{"$f":"'طراحی همه الگوها'!E257","v":20},"پهنا یقه روی خط سرشانه  (فقط موثر در انتخاب یقه مربعی) ",19,0.95,20,1,{"$f":"(J284-H284)/(I284-G284)","v":5.0000000000000044E-2},{"$f":"H284-G284*K284","v":-8.8817841970012523E-16},0.2,{"$f":"(M284-L284)/K284","v":4.0000000000000142},1.2,{"$f":"(O284-L284)/K284","v":23.999999999999996},1,{"$f":"(Q284-L284)/K284","v":20}]
["ضریب پایین آمدن خط کارور پشت","(از0.01 الی 0.6)",{"$f":"K285*E285+L285","v":0.22},"بهینه مربعی=0.4 \nبهینه مردانه=0.22 \nبهینه برش از کارور=0.25",{"$f":"'طراحی همه الگوها'!E251","v":20},"ضریب پایین آمدن خط کارور پشت",19,0.21,20,0.22,{"$f":"(J285-H285)/(I285-G285)","v":1.0000000000000009E-2},{"$f":"H285-G285*K285","v":1.9999999999999823E-2},0.01,{"$f":"(M285-L285)/K285","v":-0.99999999999998146},0.6,{"$f":"(O285-L285)/K285","v":57.999999999999964},0.4,{"$f":"(Q285-L285)/K285","v":37.999999999999986}]
[{"$f":"IF(محاسبات!AD460<محاسبات!U466+1,\"ضریب خط کارور پشت کم شود\",\" \")","v":" "},{"$f":"IF(محاسبات!AD460<محاسبات!U466+1,\" خطا - خط کارور پشت بالا برود \",\"عدم خطا\")","v":"عدم خطا"},"حلقه آستین با ساسون سرشانه یا بدون ساسون : ",null,null,{"$f":"IF(محاسبات!AI460<محاسبات!Z466+1,\"ضریب خط کارور پشت کم شود\",\" \")","v":" "}]
[{"$f":"IF(محاسبات!BW469<محاسبات!BW463,\"ضریب خط کارور پشت کم شود\",\" \")","v":" "},{"$f":"IF(محاسبات!BW469<محاسبات!BW463,\"  خطا - خط کارور پشت بالا برود \",\"عدم خطا\")","v":"عدم خطا"},"حلقه آستین با ساسون عصایی : "]
[]
["ضریب پایین آمدن خط کارور جلو","(از 0.1 الی 0.45)",{"$f":"K289*E289+L289","v":0.1999999999999999},"بهینه مربعی=0.3 \nبهینه برش از کارور=0.3",{"$f":"'طراحی همه الگوها'!E254","v":10},"ضریب پایین آمدن خط کارور جلو",19,0.28999999999999998,20,0.3,{"$f":"(J289-H289)/(I289-G289)","v":1.0000000000000009E-2},{"$f":"H289-G289*K289","v":9.9999999999999811E-2},0.1,{"$f":"(M289-L289)/K289","v":1.9428902930940224E-14},0.45,{"$f":"(O289-L289)/K289","v":34.999999999999986},0.3,{"$f":"(Q289-L289)/K289","v":20}]
[{"$f":"IF(محاسبات!Q460<محاسبات!H466+1,\"ضریب خط کارور جلو کم شود\",\" \")","v":" "},{"$f":"IF(محاسبات!Q460<محاسبات!H466+1,\" خطا - خط کارور جلو بالا برود \",\"عدم خطا\")","v":"عدم خطا"},"حلقه آستین با ساسون سرشانه یا بدون ساسون : ",null,null,{"$f":"IF(محاسبات!V460<محاسبات!M466+1,\"ضریب خط کارور جلو کم شود\",\" \")","v":" "}]
[{"$f":"IF(محاسبات!BR470<محاسبات!BR463,\"ضریب خط کارور جلو کم شود\",\" \")","v":" "},{"$f":"IF(محاسبات!BR470<محاسبات!BR463,\" خطا - خط کارور جلو بالا برود \",\"عدم خطا\")","v":"عدم خطا"},"حلقه آستین با ساسون عصایی : ",null,null,{"$f":"IF(محاسبات!BW470<محاسبات!BW463,\"ضریب خط کارور جلو کم شود\",\" \")","v":" "}]
[]
["نصف جلو کارور  (فقط موثر در انتخاب یقه مربعی) ","(از 0.2 الی 0.55)",{"$f":"K293*E293+L293","v":0.45000000000000007},"بهینه=0.45",{"$f":"'طراحی همه الگوها'!E258","v":20},"نصف جلو کارور  (فقط موثر در انتخاب یقه مربعی) ",19,0.4,20,0.45,{"$f":"(J293-H293)/(I293-G293)","v":4.9999999999999989E-2},{"$f":"H293-G293*K293","v":-0.54999999999999971},0.2,{"$f":"(M293-L293)/K293","v":14.999999999999998},0.55000000000000004,{"$f":"(O293-L293)/K293","v":21.999999999999996},0.45,{"$f":"(Q293-L293)/K293","v":20}]
["نصف پشت کارور  (فقط موثر در انتخاب یقه مربعی) ","(از 0.2 الی 0.6)",{"$f":"K294*E294+L294","v":0.5},"بهینه=0.5",{"$f":"'طراحی همه الگوها'!E259","v":20},"نصف پشت کارور  (فقط موثر در انتخاب یقه مربعی) ",19,0.45,20,0.5,{"$f":"(J294-H294)/(I294-G294)","v":4.9999999999999989E-2},{"$f":"H294-G294*K294","v":-0.49999999999999972},0.2,{"$f":"(M294-L294)/K294","v":13.999999999999998},0.6,{"$f":"(O294-L294)/K294","v":21.999999999999996},0.5,{"$f":"(Q294-L294)/K294","v":20}]
[]
["بررسی خطا گردی یقه تا خط کارور جلو",null,null,null,null,"بررسی خطا گردی یقه تا خط کارور جلو"]
[{"$f":"IF((محاسبات!H474-محاسبات!H475)/محاسبات!H474>0.1,\"دور یقه گشاد شود یا ضریب خط کارور جلو زیاد شود\",\"  \")","v":"دور یقه گشاد شود یا ضریب خط کارور جلو زیاد شود"},{"$f":"IF((محاسبات!H474-محاسبات!H475)/محاسبات!H474>0.1,\"خطا\",\"صحیح \")","v":"خطا"}," پارچه کش   ",null,{"$f":"IF((محاسبات!H474-محاسبات!H475)/محاسبات!H474>0.1,\"خیر- گردی یقه زیاد شود یا کارور جلو پایین بیاید\",\" بله \")","v":"خیر- گردی یقه زیاد شود یا کارور جلو پایین بیاید"}]
[{"$f":"IF((محاسبات!H474-محاسبات!H475)/محاسبات!H474>0.05,\"دور یقه گشاد شود یا ضریب خط کارور جلو زیاد شود\",\"  \")","v":"دور یقه گشاد شود یا ضریب خط کارور جلو زیاد شود"},{"$f":"IF((محاسبات!H474-محاسبات!H475)/محاسبات!H474>0.05,\"خطا\",\"صحیح \")","v":"خطا"}," پارچه غیر کش ",null,{"$f":"IF((محاسبات!H474-محاسبات!H475)/محاسبات!H474>0.05,\"خیر- گردی یقه زیاد شود یا کارور جلو پایین بیاید\",\" بله \")","v":"خیر- گردی یقه زیاد شود یا کارور جلو پایین بیاید"}]
[]
[" متغیرهای ورودی شیفت افقی برش سرشانه و یقه مربعی و ملوانی",null,null,null,null," متغیرهای ورودی شیفت افقی برش سرشانه و یقه مربعی و ملوانی","x1","y1","x2","y2(بهینه)","a","b",null,"کمترین",null,"بیشترین"]
["شیفت افقی   (به سانتیمتر)   ","(از -100 الی100)",{"$f":"K301*E301+L301","v":0},"بهینه=دلخواه",{"$f":"'طراحی همه الگوها'!E260","v":0},"شیفت افقی   (به سانتیمتر)   ",1,1,0,0,{"$f":"(J301-H301)/(I301-G301)","v":1},{"$f":"H301-G301*K301","v":0},-100,{"$f":"(M301-L301)/K301","v":-100},100,{"$f":"(O301-L301)/K301","v":100}]
["شیفت عمودی  (به سانتیمتر)  ","(از -100 الی100)",{"$f":"K302*E302+L302","v":0},"بهینه=دلخواه",{"$f":"'طراحی همه الگوها'!E261","v":0},"شیفت عمودی  (به سانتیمتر)  ",1,1,0,0,{"$f":"(J302-H302)/(I302-G302)","v":1},{"$f":"H302-G302*K302","v":0},-100,{"$f":"(M302-L302)/K302","v":-100},100,{"$f":"(O302-L302)/K302","v":100}]
[]
[" متغیرهای ورودی - دراپه از پهلو",null,null,null,null," متغیرهای ورودی - دراپه از پهلو","x1","y1","x2","y2(بهینه)","a","b",null,"کمترین",null,"بیشترین"]
["حد بالا برش دراپه   dp1","(از 3 الی 4)",{"$f":"K305*E305+L305","v":3.5},"زیر بغل=4 \nخط کمر=3 ",{"$f":"'طراحی همه الگوها'!B326","v":80},"حد بالا برش دراپه   ",10,0,30,1,{"$f":"(J305-H305)/(I305-G305)","v":0.05},{"$f":"H305-G305*K305","v":-0.5},3,{"$f":"(M305-L305)/K305","v":70},4,{"$f":"(O305-L305)/K305","v":90},-0.05,{"$f":"(Q305-L305)/K305","v":9}]
["پهنای هر دراپه به سانتیمتر   dp3","(از 2 الی 8)",{"$f":"K306*E306+L306","v":6},"بدون دراپه=0",{"$f":"'طراحی همه الگوها'!B327","v":6},"پهنای هر دراپه  (سانتیمتر)   ",2,2,1,1,{"$f":"(J306-H306)/(I306-G306)","v":1},{"$f":"H306-G306*K306","v":0},2,{"$f":"(M306-L306)/K306","v":2},8,{"$f":"(O306-L306)/K306","v":8},0.9,{"$f":"(Q306-L306)/K306","v":0.9}]
["تعداد دراپه ها      -      خط بالای برش دراپه با هر طراحی می تواند باشد.",{"$f":"محاسبات!GS236","v":2},null,null,null,"تعداد دراپه ها     "]
[" متغیرهای ورودی- یقه دراپه ",null,null,null,null," متغیرهای ورودی- یقه دراپه ","x1","y1","x2","y2(بهینه)","a","b",null,"کمترین",null,"بیشترین"]
["نقطه شروع دراپه جلو    d1","(از 2 الی 4)",{"$f":"K309*E309+L309","v":3.5},"خط باسن=2 \nخط کمر=3 \nخط سینه=4  ",{"$f":"'طراحی همه الگوها'!E268","v":80},"نقطه شروع دراپه جلو    ",10,0,30,1,{"$f":"(J309-H309)/(I309-G309)","v":0.05},{"$f":"H309-G309*K309","v":-0.5},2,{"$f":"(M309-L309)/K309","v":50},4,{"$f":"(O309-L309)/K309","v":90},3,{"$f":"(Q309-L309)/K309","v":70}]
["میزان باز بودن یقه جلو به سمت  خط سینه    d2","(از 0 الی 50)",20,"یقه کیپ=0",{"$f":"'طراحی همه الگوها'!E269","v":20},"میزان باز بودن یقه جلو به سمت  خط سینه    ",1,1,0,0,1,0,0,0,5,5,0,{"$f":"(Q310-L310)/K310","v":0}]
["شیفت عمودی یقه دراپه جلو","(از -100 الی100)",0,"بدون شیفت=0 ",{"$f":"'طراحی همه الگوها'!E270","v":0},"شیفت عمودی یقه دراپه جلو (سانتیمتر)",1,1,0,0,1,0,-100,-100,100,100]
["نقطه شروع دراپه پشت    d1","(از 2 الی 4)",3.5,"خط باسن=2 \nخط کمر=3 \nخط سینه=4  ",{"$f":"'طراحی همه الگوها'!E271","v":80},"نقطه شروع دراپه پشت    ",10,0,30,1,0.05,-0.5,2,50,4,90,3,{"$f":"(Q312-L312)/K312","v":70}]
["میزان باز بودن یقه پشت به سمت  خط سینه    d2","(از 0 الی 50)",20,"یقه کیپ=0",{"$f":"'طراحی همه الگوها'!E272","v":20},"میزان باز بودن یقه پشت به سمت  خط سینه    ",1,1,0,0,1,0,0,0,50,50,0,{"$f":"(Q313-L313)/K313","v":0}]
["شیفت عمودی یقه دراپه پشت","(از -100 الی100)",0,"بدون شیفت=0 ",{"$f":"'طراحی همه الگوها'!E273","v":0},"شیفت عمودی یقه دراپه پشت (سانتیمتر)",1,1,0,0,1,0,-100,-100,100,100]
["زاویه متوسط سرشانه",{"$f":"0.5*(محاسبات!P139+0.3*(محاسبات!P140-محاسبات!P139)+محاسبات!AE139+0.3*(محاسبات!AE140-محاسبات!AE139))","v":0.34045293430977369},null,null,null,"زاویه متوسط سرشانه"]
[]
[" متغیرهای ورودی-طراحی دامن فون",null,null,null,null," متغیرهای ورودی-طراحی دامن فون","x1","y1","x2","y2(بهینه)","a","b",null,"کمترین",null,"بیشترین"]
["اتصال به دامن تنگ = 2    اتصال به بالاتنه با ساسون=1   اتصال به پیراهن راسته=0","0 یا 1 یا 2",{"$f":"K318*E318+L318","v":1},null,{"$f":"'طراحی همه الگوها'!B265","v":2},"اتصال به دامن تنگ = 2    اتصال به بالاتنه با ساسون=1   اتصال به پیراهن راسته=0",1,0,2,1,{"$f":"(J318-H318)/(I318-G318)","v":1},{"$f":"H318-G318*K318","v":-1},null,1,null,2]
["ضریب پایین دامن فون تا زمین \nدرانتخاب دامن فون متصل به پیراهن راسته    k'1","(از 0 الی 4)",0.75,"خط زمین=0 \nخط زانو=1 \nخط باسن=2 \nخط کمر=3 \nخط سینه=4  ",{"$f":"'طراحی همه الگوها'!B266","v":25},"مکان پایین دامن فون \nدرانتخاب دامن فون متصل به پیراهن راسته    ",10,0,30,1,0.05,-0.5,0,{"$f":"(M319-L319)/K319","v":10},4,100,0.25,{"$f":"(Q319-L319)/K319","v":15}]
["ضریب چین در دامن فون","(از 0 الی 3)",0,null,{"$f":"'طراحی همه الگوها'!B267","v":1},"چین در دامن فون",2,1,1,0,1,-1,0,1,3,{"$f":"(O320-L320)/K320","v":4},0.9,{"$f":"(Q320-L320)/K320","v":1.9}]
["  مقدار اوزمان در جلو دامن فون    β1","(از 0 الی 0.5",0.05,"بهینه=تامین دور باسن",{"$f":"'طراحی همه الگوها'!B268","v":5},"  اوزمان در جلو دامن فون    ",1,0.01,0,0,0.01,0,0,0,0.5,50,0.25,{"$f":"(Q321-L321)/K321","v":25}]
["  مقدار اوزمان در پشت دامن فون   β4","(از 0 الی 0.5)",0.39,"بهینه=تامین دور باسن",{"$f":"'طراحی همه الگوها'!B269","v":39},"  اوزمان در پشت دامن فون   ",1,0.01,0,0,0.01,0,0,0,0.5,50,0.9,{"$f":"(Q322-L322)/K322","v":90}]
["شیفت افقی جلو دامن فون (به سانتیمتر)","(از -100 الی100)",0,"بهینه=دلخواه",{"$f":"'طراحی همه الگوها'!B270","v":0},"شیفت افقی جلو دامن فون (به سانتیمتر)",1,1,0,0,1,0,-100,-100,100,100]
["شیفت عمودی جلو دامن فون (به سانتیمتر)","(از -100 الی100)",5,"بهینه=دلخواه",{"$f":"'طراحی همه الگوها'!B271","v":5},"شیفت عمودی جلو دامن فون (به سانتیمتر)",1,1,0,0,1,0,-100,-100,100,100]
["شیفت افقی پشت دامن فون (به سانتیمتر)","(از -100 الی100)",10,"بهینه=دلخواه",{"$f":"'طراحی همه الگوها'!B272","v":10},"شیفت افقی پشت دامن فون (به سانتیمتر)",1,1,0,0,1,0,-100,-100,100,100]
["شیفت عمودی پشت دامن فون (به سانتیمتر)","(از -100 الی100)",-5,"بهینه=دلخواه",{"$f":"'طراحی همه الگوها'!B273","v":-5},"شیفت عمودی پشت دامن فون (به سانتیمتر)",1,1,0,0,1,0,-100,-100,100,100]
[]
[" متغیرهای ورودی - جلو کمر پهن",null,null,null,null,"  جلو کمر پهن","x1","y1","x2","y2(بهینه)","a","b",null,"کمترین",null,"بیشترین"]
["انتخاب کمر برای جلیقه =1         انتخاب دیگر = 0","0 یا 1 ",{"$f":"K329*E329+L329","v":0},null,{"$f":"'طراحی همه الگوها'!B276","v":1},"انتخاب کمر برای جلیقه =2         انتخاب دیگر = 1",1,0,2,1,{"$f":"(J329-H329)/(I329-G329)","v":1},{"$f":"H329-G329*K329","v":-1},null,{"$f":"(M329-L329)/K329","v":1},null,{"$f":"(O329-L329)/K329","v":1}]
["بالای کمر روی خط مرکزی جلو -  ضریب فاصله u4 از خط کمر","(از -7 الی 7)",0,"بهینه=دلخواه",{"$f":"'طراحی همه الگوها'!B277","v":0},"بالای کمر پهن یکسره روی خط مرکزی جلو ",1,1,0,0,1,0,-7,-7,7,7,0.25,{"$f":"(Q330-L330)/K330","v":0.25}]
["پایین کمر روی خط مرکزی جلو -  ضریب فاصله d4 از خط کمر  -  (کمر جناقی و حد پایین برش دراپه)","(از -10 الی 30)",12,"مثبت= پایین خط کمر\nمنفی= بالای خط کمر",{"$f":"'طراحی همه الگوها'!B278","v":-12},"پایین کمر روی خط مرکزی جلو  (کمر جناقی و حد پایین برش دراپه)",1,-1,0,0,-1,0,-10,10,30,-30,0.9,-0.9]
["فاصله عمودی دال جلو -  ضریب فاصله u5 از خط کمر - (جلیقه)","(از -10 الی 30)",0,"بهینه=دلخواه",{"$f":"'طراحی همه الگوها'!B279","v":0},"فاصله عمودی دال جلو   (جلیقه)",1,1,0,0,1,0,-10,-10,30,30,0.25,0.25]
["فاصله افقی دال جلو -  ضریب فاصله u5 از خط مرکزی جلو - (جلیقه)","(از 0 الی 10)",0,"بهینه=دلخواه",{"$f":"'طراحی همه الگوها'!B280","v":0},"فاصله افقی دال جلو  (جلیقه)",1,0.5,0,0,0.5,0,0,0,10,20,0.9,1.8]
["پایین کمر روی خط ترک جلو -  ضریب فاصله d5 از خط کمر -  (کمر جناقی و حد پایین برش دراپه)","(از -10 الی 30)",5,"مثبت= پایین خط کمر\nمنفی= بالای خط کمر",{"$f":"'طراحی همه الگوها'!B281","v":-5},"پایین کمر روی خط ترک جلو   (کمر جناقی و حد پایین برش دراپه)",1,-1,0,0,-1,0,-10,10,30,-30,0.25,-0.25]
["بالای کمر روی خط ترک جلو -  ضریب فاصله u6 از خط کمر","(از -7 الی 7)",0,"بهینه=دلخواه",{"$f":"'طراحی همه الگوها'!B282","v":0},"بالای کمر پهن یکسره روی خط ترک جلو ",1,1,0,0,1,0,-7,-7,7,7,0.9,0.9]
["شیفت عمودی کمر پهن یکسره نسبت به زمین (به سانتیمتر)","(از -100 الی100)",{"$f":"K336*E336+L336","v":150},"بهینه=دلخواه",{"$f":"'طراحی همه الگوها'!B284","v":100},"شیفت عمودی کمر پهن یکسره  (به سانتیمتر)",1,51,0,50,1,50,-100,-150,100,50]
["شیفت افقی کمر پهن یکسره (به سانتیمتر)","(از -100 الی100)",{"$f":"K337*E337+L337","v":10},"بهینه=دلخواه",{"$f":"'طراحی همه الگوها'!B283","v":10},"شیفت افقی کمر پهن یکسره (به سانتیمتر)",1,1,0,0,1,0,-100,-100,100,100]
[]
[" متغیرهای ورودی - پهلو کمر پهن",null,null,null,null,"  پهلو کمر پهن","x1","y1","x2","y2(بهینه)","a","b",null,"کمترین",null,"بیشترین"]
["بالای کمر روی خط پهلو -  ضریب فاصله u3 از خط کمر","(از -7 الی 7)",{"$f":"K340*E340+L340","v":0},"بهینه=دلخواه",{"$f":"'طراحی همه الگوها'!B287","v":0},"بالای کمر پهن یکسره روی خط پهلو ",1,1,0,0,{"$f":"(J340-H340)/(I340-G340)","v":1},{"$f":"H340-G340*K340","v":0},-7,{"$f":"(M340-L340)/K340","v":-7},7,{"$f":"(O340-L340)/K340","v":7},0.25,{"$f":"(Q340-L340)/K340","v":0.25}]
["پایین کمر روی خط پهلو -  ضریب فاصله d3 از خط کمر -  (کمر جناقی و حد پایین برش دراپه)","(از -10 الی 30)",{"$f":"K341*E341+L341","v":0},"مثبت= پایین خط کمر\nمنفی= بالای خط کمر",{"$f":"'طراحی همه الگوها'!B288","v":0},"پایین کمر روی خط پهلو   (کمر جناقی و حد پایین برش دراپه)",1,-1,0,0,{"$f":"(J341-H341)/(I341-G341)","v":-1},{"$f":"H341-G341*K341","v":0},-10,{"$f":"(M341-L341)/K341","v":10},30,{"$f":"(O341-L341)/K341","v":-30},0.9,{"$f":"(Q341-L341)/K341","v":-0.9}]
[]
[" متغیرهای ورودی - پشت کمر پهن",null,null,null,null," پشت کمر پهن","x1","y1","x2","y2(بهینه)","a","b",null,"کمترین",null,"بیشترین"]
["بالای کمر روی خط مرکزی پشت -  ضریب فاصله u1 از خط کمر","(از -7 الی 7)",{"$f":"K344*E344+L344","v":0},"بهینه=دلخواه",{"$f":"'طراحی همه الگوها'!B291","v":0},"بالای کمر پهن یکسره روی خط مرکزی پشت ",1,1,0,0,{"$f":"(J344-H344)/(I344-G344)","v":1},{"$f":"H344-G344*K344","v":0},-7,{"$f":"(M344-L344)/K344","v":-7},7,{"$f":"(O344-L344)/K344","v":7},0.25,{"$f":"(Q344-L344)/K344","v":0.25}]
["پایین کمر روی خط مرکزی پشت -  ضریب فاصله d1 از خط کمر -  (کمر جناقی)","(از -10 الی 30)",3,"مثبت= پایین خط کمر\nمنفی= بالای خط کمر",{"$f":"'طراحی همه الگوها'!B292","v":-3},"پایین کمر روی خط مرکزی پشت   (کمر جناقی)",1,-1,0,0,-1,0,-10,10,30,-30,0.9,{"$f":"(Q345-L345)/K345","v":-0.9}]
["بالای کمر روی خط ترک پشت -  ضریب فاصله u2 از خط کمر","(از -7 الی 7)",0,"بهینه=دلخواه",{"$f":"'طراحی همه الگوها'!B293","v":0},"بالای کمر پهن یکسره روی خط ترک پشت ",1,1,0,0,1,0,-7,-7,7,7,0.25,{"$f":"(Q346-L346)/K346","v":0.25}]
["پایین کمر روی خط ترک پشت -  ضریب فاصله d2 از خط کمر -  (کمر جناقی)","(از -10 الی 30)",3,"مثبت= پایین خط کمر\nمنفی= بالای خط کمر",{"$f":"'طراحی همه الگوها'!B294","v":-3},"پایین کمر روی خط ترک پشت   (کمر جناقی)",1,-1,0,0,-1,0,-10,10,30,-30,0.9,{"$f":"(Q347-L347)/K347","v":-0.9}]
["شیفت عمودی کمر پهن یکسره نسبت به زمین (به سانتیمتر)","(از -100 الی100)",90,"بهینه=دلخواه",{"$f":"'طراحی همه الگوها'!B296","v":40},"شیفت عمودی کمر پهن یکسره  (سانتیمتر)",1,51,0,50,1,50,-100,-150,100,50]
["شیفت افقی کمر پهن یکسره (به سانتیمتر)","(از -100 الی100)",20,"بهینه=دلخواه",{"$f":"'طراحی همه الگوها'!B295","v":20},"شیفت افقی کمر پهن یکسره (سانتیمتر)",1,1,0,0,1,0,-100,-100,100,100]
[]
["متغیرهای ورودی-یقه دکلته جلو",null,null,null,null,"متغیرهای ورودی-یقه دکلته جلو","x1","y1","x2","y2(بهینه)","a","b",null,"کمترین",null,"بیشترین"]
["میزان باز بودن یقه در خط مرکزی جلو  d1","(از 3.5 الی 5)",{"$f":"K352*E352+L352","v":4},"خط کمر=3 \nخط سینه=4  ",{"$f":"'طراحی همه الگوها'!E276","v":90},"میزان باز بودن یقه در خط مرکزی جلو  ",10,0,30,1,{"$f":"(J352-H352)/(I352-G352)","v":0.05},{"$f":"H352-G352*K352","v":-0.5},3.5,{"$f":"(M352-L352)/K352","v":80},5,{"$f":"(O352-L352)/K352","v":110},3,{"$f":"(Q352-L352)/K352","v":70}]
["میزان اضافه شدن ساسون سرشانه  ","(از 0 الی 0.5)",{"$f":"K353*E353+L353","v":0.2},"بدون اضافه شدن=0 \nبهینه=0.2  ",{"$f":"'طراحی همه الگوها'!E277","v":20},"میزان اضافه شدن ساسون سرشانه  ",19,0.18,20,0.2,{"$f":"(J353-H353)/(I353-G353)","v":2.0000000000000018E-2},{"$f":"H353-G353*K353","v":-0.20000000000000034},0,{"$f":"(M353-L353)/K353","v":10.000000000000009},0.5,{"$f":"(O353-L353)/K353","v":34.999999999999986},0.2,{"$f":"(Q353-L353)/K353","v":20}]
["میزان انحنا یقه  d2","(از -0.5 الی 0.5)",{"$f":"K354*E354+L354","v":0},"خط محدب =+ \nخط صاف =0 \nخط مقعر= - ",{"$f":"'طراحی همه الگوها'!E278","v":20},"میزان انحنا یقه  ",19,-0.1,20,0,{"$f":"(J354-H354)/(I354-G354)","v":0.1},{"$f":"H354-G354*K354","v":-2},-0.5,{"$f":"(M354-L354)/K354","v":15},0.5,{"$f":"(O354-L354)/K354","v":25},0,{"$f":"(Q354-L354)/K354","v":20}]
[]
[" متغیرهای ورودی-یقه دکلته پشت",null,null,null,null," متغیرهای ورودی-یقه دکلته پشت","x1","y1","x2","y2(بهینه)","a","b",null,"کمترین",null,"بیشترین"]
["میزان باز بودن یقه در خط مرکزی پشت  d1","(از 3 الی 5.5)",{"$f":"K357*E357+L357","v":4},"خط کمر=3 \nخط سینه=4  ",{"$f":"'طراحی همه الگوها'!E281","v":90},"میزان باز بودن یقه در خط مرکزی پشت  ",10,0,30,1,{"$f":"(J357-H357)/(I357-G357)","v":0.05},{"$f":"H357-G357*K357","v":-0.5},3,{"$f":"(M357-L357)/K357","v":70},5.5,{"$f":"(O357-L357)/K357","v":120},3.5,{"$f":"(Q357-L357)/K357","v":80}]
["میزان انحنا یقه  d2","(از -1 الی 0.5)",{"$f":"K358*E358+L358","v":-9.9999999999999867E-2},"خط صاف =0 \nخط مقعر= -  ",{"$f":"'طراحی همه الگوها'!E282","v":19},"میزان انحنا یقه  ",19,-0.1,20,0,{"$f":"(J358-H358)/(I358-G358)","v":0.1},{"$f":"H358-G358*K358","v":-2},-1,{"$f":"(M358-L358)/K358","v":10},0.5,{"$f":"(O358-L358)/K358","v":25},0,{"$f":"(Q358-L358)/K358","v":20}]
[]
[" طول بند برای لباس دکلته از جلو تا پشت به سانتیمتر",null,null,null,null," طول بند برای لباس دکلته از جلو تا پشت به سانتیمتر"]
["دکلته آبی جلو     به     دکلته آبی پشت",{"$f":"ROUND(محاسبات!FB356-محاسبات!FB324+محاسبات!LP213-محاسبات!LP214,0)","v":7},null,null,null,"دکلته آبی جلو     به     دکلته آبی پشت"]
["دکلته آبی جلو     به     دکلته سبز پشت",{"$f":"ROUND(محاسبات!FB356-محاسبات!FB324+محاسبات!LP213-محاسبات!LP215,0)","v":11},null,null,null,"دکلته آبی جلو     به     دکلته سبز پشت"]
["دکلته آبی جلو     به     دکلته بنفش پشت",{"$f":"ROUND(محاسبات!FB356-محاسبات!FB324+محاسبات!LP213-محاسبات!LP216,0)","v":14},null,null,null,"دکلته آبی جلو     به     دکلته بنفش پشت"]
["دکلته آبی جلو     به     دکلته سیاه پشت",{"$f":"ROUND(محاسبات!FB356-محاسبات!FB324+محاسبات!LP213-محاسبات!LP247,0)","v":17},null,null,null,"دکلته آبی جلو     به     دکلته سیاه پشت"]
["دکلته سبز جلو     به     دکلته آبی پشت",{"$f":"ROUND(محاسبات!FB356-محاسبات!FB340+محاسبات!LP213-محاسبات!LP214,0)","v":10},null,null,null,"دکلته سبز جلو     به     دکلته آبی پشت"]
["دکلته سبز جلو     به     دکلته سبز پشت",{"$f":"ROUND(محاسبات!FB356-محاسبات!FB340+محاسبات!LP213-محاسبات!LP215,0)","v":14},null,null,null,"دکلته سبز جلو     به     دکلته سبز پشت"]
["دکلته سبز جلو     به     دکلته بنفش پشت",{"$f":"ROUND(محاسبات!FB356-محاسبات!FB340+محاسبات!LP213-محاسبات!LP216,0)","v":18},null,null,null,"دکلته سبز جلو     به     دکلته بنفش پشت"]
["دکلته سبز جلو     به     دکلته سیاه پشت",{"$f":"ROUND(محاسبات!FB356-محاسبات!FB340+محاسبات!LP213-محاسبات!LP247,0)","v":20},null,null,null,"دکلته سبز جلو     به     دکلته سیاه پشت"]
["دکلته سیاه جلو     به     دکلته آبی پشت",{"$f":"ROUND(محاسبات!FB356-محاسبات!FB308+محاسبات!LP213-محاسبات!LP214,0)","v":13},null,null,null,"دکلته سیاه جلو     به     دکلته آبی پشت"]
["دکلته سیاه جلو     به     دکلته سبز پشت",{"$f":"ROUND(محاسبات!FB356-محاسبات!FB308+محاسبات!LP213-محاسبات!LP215,0)","v":17},null,null,null,"دکلته سیاه جلو     به     دکلته سبز پشت"]
["دکلته سیاه جلو     به     دکلته بنفش پشت",{"$f":"ROUND(محاسبات!FB356-محاسبات!FB308+محاسبات!LP213-محاسبات!LP216,0)","v":21},null,null,null,"دکلته سیاه جلو     به     دکلته بنفش پشت"]
["دکلته سیاه جلو     به     دکلته سیاه پشت",{"$f":"ROUND(محاسبات!FB356-محاسبات!FB308+محاسبات!LP213-محاسبات!LP247,0)","v":23},null,null,null,"دکلته سیاه جلو     به     دکلته سیاه پشت"]
[]
[" متغیرهای ورودی رگلاژ یقه دکلته پشت",null,null,null,null," متغیرهای ورودی رگلاژ یقه دکلته پشت","x1","y1","x2","y2(بهینه)","a","b",null,"کمترین",null,"بیشترین"]
["نقطه بالای رگلاژ روی یقه دکلته   m1 ","(0 یا 1 یا 2 یا 3 یا 4)",{"$f":"K375*E375+L375","v":2},"نقطه روی خط مرکزی پشت=0\nبهینه = 2",{"$f":"'طراحی همه الگوها'!E299","v":2},"نقطه بالای رگلاژ روی یقه دکلته    ",1,1,0,0,{"$f":"(J375-H375)/(I375-G375)","v":1},{"$f":"H375-G375*K375","v":0},0,{"$f":"(M375-L375)/K375","v":0},4,{"$f":"(O375-L375)/K375","v":4},0,{"$f":"(Q375-L375)/K375","v":0}]
["نقطه وسط رگلاژ روی خط کمر   m2 ","(از 0 الی 1)",{"$f":"K376*E376+L376","v":0.8},"نقطه روی خط مرکزی پشت=0\nنقطه روی ساسون میانی پشت=1",{"$f":"'طراحی همه الگوها'!E300","v":16},"نقطه وسط رگلاژ روی خط کمر    ",1,0.05,0,0,{"$f":"(J376-H376)/(I376-G376)","v":0.05},{"$f":"H376-G376*K376","v":0},0,{"$f":"(M376-L376)/K376","v":0},1,{"$f":"(O376-L376)/K376","v":20},0.8,{"$f":"(Q376-L376)/K376","v":16}]
["نقطه پایین رگلاژ روی خط مرکزی پشت   m3","(از 0 الی 1)",{"$f":"K377*E377+L377","v":0.8},"نقطه روی خط  کمر=0 \nنقطه روی خط باسن=1 ",{"$f":"'طراحی همه الگوها'!E301","v":16},"نقطه پایین رگلاژ روی خط مرکزی پشت   ",1,0.05,0,0,{"$f":"(J377-H377)/(I377-G377)","v":0.05},{"$f":"H377-G377*K377","v":0},0,{"$f":"(M377-L377)/K377","v":0},1,{"$f":"(O377-L377)/K377","v":20},0.8,{"$f":"(Q377-L377)/K377","v":16}]
["پهنای جادکمه برای تکه رگلاژ m4","(از 0 الی 0.08)",{"$f":"K378*E378+L378","v":0.03},"بدون جادکمه =0  \nبهینه =0.03  ",{"$f":"'طراحی همه الگوها'!E302","v":6},"پهنای جادکمه برای تکه رگلاژ ",1,5.0000000000000001E-3,0,0,{"$f":"(J378-H378)/(I378-G378)","v":5.0000000000000001E-3},{"$f":"H378-G378*K378","v":0},0,{"$f":"(M378-L378)/K378","v":0},0.08,{"$f":"(O378-L378)/K378","v":16},0.03,{"$f":"(Q378-L378)/K378","v":6}]
["شیفت افقی تکه رگلاژ جدا (به سانتیمتر)  m21","(از -100 الی100)",{"$f":"K379*E379+L379","v":30},"بهینه=دلخواه",{"$f":"'طراحی همه الگوها'!E303","v":30},"شیفت افقی تکه رگلاژ جدا (سانتیمتر)  ",1,1,0,0,{"$f":"(J379-H379)/(I379-G379)","v":1},{"$f":"H379-G379*K379","v":0},-100,{"$f":"(M379-L379)/K379","v":-100},100,{"$f":"(O379-L379)/K379","v":100}]
[]
["متغیرهای ورودی-یقه قایقی بدون شیفت تکه پهلو",null,null,null,null,"متغیرهای ورودی-یقه قایقی بدون شیفت تکه پهلو","x1","y1","x2","y2(بهینه)","a","b",null,"کمترین",null,"بیشترین"]
["ضریب بزرگ شدن سرشانه  b7","(از 0 الی 0.5)",{"$f":"K382*E382+L382","v":9.9999999999999978E-2},"بهینه=0.1",{"$f":"'طراحی همه الگوها'!E306","v":20},"باز شدن یقه روی سرشانه  ",19,0.05,20,0.1,{"$f":"(J382-H382)/(I382-G382)","v":0.05},{"$f":"H382-G382*K382","v":-0.9},0,{"$f":"(M382-L382)/K382","v":18},0.5,{"$f":"(O382-L382)/K382","v":27.999999999999996},0,{"$f":"(Q382-L382)/K382","v":18}]
[]
[" متغیرهای ورودی-یقه پروانه ای متصل به حلقه آستین بدون ساسون\nبدون شیفت تکه پهلو",null,null,null,null,"یقه پروانه ای متصل به حلقه آستین بدون ساسون  \nبدون شیفت تکه پهلو","x1","y1","x2","y2(بهینه)","a","b",null,"کمترین",null,"بیشترین"]
["ضریب پهنای سرشانه به سمت پشت    ζ3","(از 0 الی 1)",{"$f":"K385*E385+L385","v":1},"بهینه=1",{"$f":"'طراحی همه الگوها'!E309","v":20},"پهنای سرشانه به سمت پشت    ",19,0.9,20,1,{"$f":"(J385-H385)/(I385-G385)","v":9.9999999999999978E-2},{"$f":"H385-G385*K385","v":-0.99999999999999944},0,{"$f":"(M385-L385)/K385","v":9.9999999999999964},30,{"$f":"(O385-L385)/K385","v":310.00000000000006},0,{"$f":"(Q385-L385)/K385","v":9.9999999999999964}]
["ضریب پهنای سرشانه به سمت جلو   ζ4","(از 0 الی 1)",{"$f":"K386*E386+L386","v":0.8},"بهینه=0.8",{"$f":"'طراحی همه الگوها'!E310","v":20},"پهنای سرشانه به سمت جلو   ",19,0.7,20,0.8,{"$f":"(J386-H386)/(I386-G386)","v":0.10000000000000009},{"$f":"H386-G386*K386","v":-1.2000000000000017},0.3,{"$f":"(M386-L386)/K386","v":15.000000000000004},1.2,{"$f":"(O386-L386)/K386","v":23.999999999999996},0.3,{"$f":"(Q386-L386)/K386","v":15.000000000000004}]
[]
[" متغیرهای ورودی-سرشانه دکمه خور متصل به حلقه آستین بدون ساسون\nبدون شیفت تکه پهلو",null,null,null,null,"سرشانه پشت دکمه خور متصل به حلقه آستین بدون ساسون \nبدون شیفت تکه پهلو","x1","y1","x2","y2(بهینه)","a","b",null,"کمترین",null,"بیشترین"]
["ضریب پهنای جادکمه سرشانه","(از 0 الی 0.1)",{"$f":"K389*E389+L389","v":0.05},"بهینه=0.05",{"$f":"'طراحی همه الگوها'!B341","v":5},"ضریب پهنای جادکمه سرشانه",1,0.01,0,0,{"$f":"(J389-H389)/(I389-G389)","v":0.01},{"$f":"H389-G389*K389","v":0},0,{"$f":"(M389-L389)/K389","v":0},0.1,{"$f":"(O389-L389)/K389","v":10},0.05,{"$f":"(Q389-L389)/K389","v":5}]
[]
[" متغیرهای ورودی - آستین کیمونو و آستین سرخود بدون شیفت تکه پهلو",null,null,null,null," متغیرهای ورودی - آستین کیمونو و آستین سرخود بدون شیفت تکه پهلو","x1","y1","x2","y2(بهینه)","a","b",null,"کمترین",null,"بیشترین"]
["میزان خمیدگی آستین کیمونو نسبت به خط سرشانه (به درجه)   k1","(از 0 الی 30)",{"$f":"K392*E392+L392","v":20},"آستین در امتداد سرشانه=0",{"$f":"'طراحی همه الگوها'!B344","v":20},"میزان خمیدگی آستین کیمونو نسبت به خط سرشانه   ",1,1,0,0,{"$f":"(J392-H392)/(I392-G392)","v":1},{"$f":"H392-G392*K392","v":0},0,{"$f":"(M392-L392)/K392","v":0},30,{"$f":"(O392-L392)/K392","v":30},0,{"$f":"(Q392-L392)/K392","v":0}]
["ضریب کوتاهی آستین کیمونو   k16","(از 0.3 الی 1.2)",1,"آستین تا مچ=1",{"$f":"'طراحی همه الگوها'!B345","v":10},"کوتاهی آستین کیمونو   ",11,0.97750000000000004,10,1,-2.2499999999999964E-2,1.2249999999999996,0.3,41.111111111111157,1.2,1.1111111111110989,1,10]
["ضریب گشادی دور مچ   k2","(از 1 الی 2)",1,"بدون گشادی مچ=1",{"$f":"'طراحی همه الگوها'!B346","v":0},"گشادی دور مچ   ",1,1.05,0,1,5.0000000000000044E-2,1,1,0,2,19.999999999999982,1,0]
["ضریب انحنا پهلو برای آستین کیمونو   k3","(از 0.2 الی 0.8) ",0.4,"بهینه=0.4",{"$f":"'طراحی همه الگوها'!B347","v":8},"انحنا پهلو برای آستین کیمونو   ",1,0.05,0,0,0.05,0,0.2,4,0.8,16,0.4,8]
["ضریب انحنا پهلو برای آستین سرخود   k14","(از 0 الی 0.2)",9.9999999999999978E-2,"بدون انحنا=0",{"$f":"'طراحی همه الگوها'!B348","v":5},"انحنا پهلو برای آستین سرخود   ",9,0.02,10,0,-0.02,0.19999999999999998,0,9.9999999999999982,0.2,-1.3877787807814457E-15,0,9.9999999999999982]
["ضریب کوتاهی آستین سرخود   k9","(از 0.35 الی 2)",0.79500000000000037,"لبه آستین روی خط آرنج=1",{"$f":"'طراحی همه الگوها'!B349","v":35},"کوتاهی آستین سرخود   ",29,1.0409999999999999,30,1,-4.0999999999999925E-2,2.2299999999999978,0.35,45.853658536585392,2,5.6097560975609309,1,30]
["ضریب کوتاهی تاج آستین سرخود   k12","(از 0 الی 0.25)",0,"بدون کوتاهی=0",{"$f":"'طراحی همه الگوها'!B350","v":0},"کوتاهی تاج آستین سرخود   ",1,0.05,0,0,0.05,0,0,0,0.25,5,0,0]
["گشادی لبه آستین : در طراحی آستین سرخود",{"$f":"IF(محاسبات!O393<محاسبات!O392,\" \",\"مقدار x9 زیاد شود \")","v":"مقدار x9 زیاد شود "},null,{"$f":"IF(محاسبات!O393<محاسبات!O392,\"صحیح \",\"خطا\")","v":"خطا"},{"$f":"IF(محاسبات!O393<محاسبات!O392,\" صحیح\",\" گشاد تر شود \")","v":" گشاد تر شود "},"گشادی لبه آستین : در طراحی آستین سرخود"]
[]
[" متغیرهای ورودی-شورت بدون شیفت تکه پهلو",null,null,null,null," متغیرهای ورودی-شورت بدون شیفت تکه پهلو","x1","y1","x2","y2(بهینه)","a","b",null,"کمترین",null,"بیشترین"]
["ضریب فاصله کمر شورت تا زمین s0","(از 2.2 الی 3.5)",{"$f":"K402*E402+L402","v":2.75},"خط باسن=2 \nخط کمر=3 \nخط سینه=4  ",{"$f":"'طراحی همه الگوها'!B354","v":65},"ضریب فاصله کمر شورت تا زمین ",10,0,30,1,{"$f":"(J402-H402)/(I402-G402)","v":0.05},{"$f":"H402-G402*K402","v":-0.5},2.2000000000000002,{"$f":"(M402-L402)/K402","v":54},3.5,{"$f":"(O402-L402)/K402","v":80},0,{"$f":"(Q402-L402)/K402","v":10}]
["میزان انحنا جلو شورت مردانه s9","(از 0 الی 0.6)",{"$f":"K403*E403+L403","v":0.4},"بدون انحنا (زنانه)=0 \nبهیه مردانه =0.4 ",{"$f":"'طراحی همه الگوها'!B355","v":8},"میزان انحنا جلو شورت مردانه ",1,0.05,0,0,{"$f":"(J403-H403)/(I403-G403)","v":0.05},{"$f":"H403-G403*K403","v":0},0,{"$f":"(M403-L403)/K403","v":0},0.6,{"$f":"(O403-L403)/K403","v":11.999999999999998},0.4,{"$f":"(Q403-L403)/K403","v":8}]
["ضریب حرکت افقی مرغک","(از -1 الی 3)",{"$f":"K404*E404+L404","v":1.5},"خط مرکزی جلو=0 \nخط پهلو=1  ",{"$f":"'طراحی همه الگوها'!B356","v":30},"ضریب شیفت افقی مرغک",20,1,0,0,{"$f":"(J404-H404)/(I404-G404)","v":0.05},{"$f":"H404-G404*K404","v":0},-1,{"$f":"(M404-L404)/K404","v":-20},3,{"$f":"(O404-L404)/K404","v":60},0,{"$f":"(Q404-L404)/K404","v":0}]
["ضریب حرکت عمودی مرغک","(از -3 الی 3)",{"$f":"K405*E405+L405","v":0},null,{"$f":"'طراحی همه الگوها'!B357","v":0},"ضریب شیفت عمودی مرغک",1,0.1,0,0,{"$f":"(J405-H405)/(I405-G405)","v":0.1},{"$f":"H405-G405*K405","v":0},-3,{"$f":"(M405-L405)/K405","v":-30},3,{"$f":"(O405-L405)/K405","v":30},0.3,{"$f":"(Q405-L405)/K405","v":2.9999999999999996}]
[]
[" متغیرهای ورودی - مایو پادار",null,null,null,null," متغیرهای ورودی - مایو پادار","x1","y1","x2","y2(بهینه)","a","b",null,"کمترین",null,"بیشترین"]
["ضریب گشادی دور مچ پا    p1  ","(از 1 الی 2.5)",{"$f":"K408*E408+L408","v":1.1500000000000001},"بهینه=1.7",{"$f":"'طراحی همه الگوها'!B360","v":3},"ضریب گشادی دور مچ پا      ",1,1.05,0,1,{"$f":"(J408-H408)/(I408-G408)","v":5.0000000000000044E-2},{"$f":"H408-G408*K408","v":1},1,{"$f":"(M408-L408)/K408","v":0},2.5,{"$f":"(O408-L408)/K408","v":29.999999999999972},1.7,{"$f":"(Q408-L408)/K408","v":13.999999999999986}]
["ضریب ارتفاع راسته بودن پایین پاچه   p2 ","(از 0 الی 0.5)",0.2,"بهینه=0.2",{"$f":"'طراحی همه الگوها'!B361","v":10},"ضریب ارتفاع راسته بودن پایین پاچه    ",1,0.02,0,0,0.02,0,0,0,0.5,25,0.2,10]
["ضریب عرض جادکمه وسط پا  p20","(از 0 الی 0.1)",1.4999999999999999E-2,"بهینه=0.015",{"$f":"'طراحی همه الگوها'!B362","v":3},"ضریب عرض جادکمه وسط پا  ",1,5.0000000000000001E-3,0,0,5.0000000000000001E-3,0,0,0,0.1,20,1.4999999999999999E-2,3]
["زاویه خط پهلو شلوار  برحسب درجه   p23","(از -5 الی 10)",5,"بهینه=3",{"$f":"'طراحی همه الگوها'!B363","v":5},"زاویه خط پهلو شلوار    ",1,1,0,0,1,0,-5,-5,10,10,3,3]
["ضریب افقی شیفت تکه وسط پا  ","(از -100 الی100)",2,"بدون شیفت=0 ",{"$f":"'طراحی همه الگوها'!B364","v":2},"ضریب شیفت افقی تکه وسط پا  ",1,1,0,0,{"$f":"(J412-H412)/(I412-G412)","v":1},{"$f":"H412-G412*K412","v":0},-100,{"$f":"(M412-L412)/K412","v":-100},100,{"$f":"(O412-L412)/K412","v":100}]
["ضریب عمودی شیفت تکه وسط پا","(از -100 الی100)",-10,"بدون شیفت=0 ",{"$f":"'طراحی همه الگوها'!B365","v":-10},"ضریب شیفت عمودی تکه وسط پا",1,1,0,0,{"$f":"(J413-H413)/(I413-G413)","v":1},{"$f":"H413-G413*K413","v":0},-100,{"$f":"(M413-L413)/K413","v":-100},100,{"$f":"(O413-L413)/K413","v":100}]
[]
[" متغیرهای ورودی-مایو بدون شیفت تکه پهلو      باید  x5=1",null,null,null,null," متغیرهای ورودی-مایو بدون شیفت تکه پهلو      باید  شروع اوزمان = خط باسن","x1","y1","x2","y2(بهینه)","a","b",null,"کمترین",null,"بیشترین"]
[" ضریب بالا آمدن خط مایو در پهلو   mx","(از 0 الی 0.7)",{"$f":"K416*E416+L416","v":0.2},"بهینه مایو=0.3\nبهینه شورت زنانه=0.2\nبهینه شورت مردانه=0.2\nبهینه زیردکمه دار بچه=0",{"$f":"'طراحی همه الگوها'!B368","v":10}," ضریب بالا آمدن خط مایو در پهلو   ",1,0.02,0,0,{"$f":"(J416-H416)/(I416-G416)","v":0.02},{"$f":"H416-G416*K416","v":0},0,{"$f":"(M416-L416)/K416","v":0},0.7,{"$f":"(O416-L416)/K416","v":35},0.3,{"$f":"(Q416-L416)/K416","v":15}]
["انتخاب مایو دکمه دار از وسط پا=1            انتخاب مایو بدون دکمه=0","0 یا 1 ",{"$f":"K417*E417+L417","v":1},null,{"$f":"'طراحی همه الگوها'!B369","v":2},"انتخاب مایو دکمه دار از وسط پا=2            انتخاب مایو بدون دکمه=1",1,0,2,1,{"$f":"(J417-H417)/(I417-G417)","v":1},{"$f":"H417-G417*K417","v":-1},0,{"$f":"(M417-L417)/K417","v":1},1,{"$f":"(O417-L417)/K417","v":2},0,{"$f":"(Q417-L417)/K417","v":1}]
["شیفت محل دکمه از پشت به جلو برای پوشک بچه در انتخاب مایو دکمه دار  (cm)","(از 0 الی 4)",{"$f":"K418*E418+L418","v":2},"بهینه=2",{"$f":"'طراحی همه الگوها'!B370","v":2},"شیفت محل دکمه از پشت به جلو برای پوشک بچه در انتخاب مایو دکمه دار  ",0.5,0.5,0,0,{"$f":"(J418-H418)/(I418-G418)","v":1},{"$f":"H418-G418*K418","v":0},0,{"$f":"(M418-L418)/K418","v":0},4,{"$f":"(O418-L418)/K418","v":4},2,{"$f":"(Q418-L418)/K418","v":2}]
["اضافه پهنا وسط پا برای پوشک بچه در انتخاب مایو دکمه دار  (cm)","(از0 الی 4)",{"$f":"K419*E419+L419","v":1.5},"بهینه=1.5",{"$f":"'طراحی همه الگوها'!B371","v":1.5},"اضافه پهنا وسط پا برای پوشک بچه در انتخاب مایو دکمه دار  ",0.5,0.5,0,0,{"$f":"(J419-H419)/(I419-G419)","v":1},{"$f":"H419-G419*K419","v":0},0,{"$f":"(M419-L419)/K419","v":0},4,{"$f":"(O419-L419)/K419","v":4},1.5,{"$f":"(Q419-L419)/K419","v":1.5}]
["اضافه جادکمه وسط پا در انتخاب مایو دکمه دار  (cm)","(از 0 الی 4)",{"$f":"K420*E420+L420","v":2},"بهینه=2",{"$f":"'طراحی همه الگوها'!B372","v":2},"اضافه جادکمه وسط پا در انتخاب مایو دکمه دار  ",0.5,0.5,0,0,{"$f":"(J420-H420)/(I420-G420)","v":1},{"$f":"H420-G420*K420","v":0},0,{"$f":"(M420-L420)/K420","v":0},4,{"$f":"(O420-L420)/K420","v":4},2,{"$f":"(Q420-L420)/K420","v":2}]
[]
[" متغیر ورودی پیش بند حمام بچه یا انحنا لبه پیراهن",null,null,null,null," متغیر ورودی پیش بند حمام بچه یا انحنا لبه پیراهن","x1","y1","x2","y2(بهینه)","a","b",null,"کمترین",null,"بیشترین"]
["ضریب بزرگی کلاه بچه   n10","(از 0.8 الی 1.3)",{"$f":"K423*E423+L423","v":1},"بهینه برای نوزاد=1\nبهینه یک ساله=1.2",{"$f":"'طراحی همه الگوها'!B375","v":20},"ضریب بزرگی کلاه بچه   ",19,0.95,20,1,{"$f":"(J423-H423)/(I423-G423)","v":5.0000000000000044E-2},{"$f":"H423-G423*K423","v":-8.8817841970012523E-16},0.8,{"$f":"(M423-L423)/K423","v":16.000000000000004},1.3,{"$f":"(O423-L423)/K423","v":25.999999999999996},1,{"$f":"(Q423-L423)/K423","v":20}]
["ضریب انحنا بالای لبه پیراهن  n11","(از 0.1 الی 0.9)",{"$f":"K424*E424+L424","v":0.4},"بهینه=0.4",{"$f":"'طراحی همه الگوها'!B376","v":20},"ضریب انحنا بالای لبه پیراهن  ",19,0.35,20,0.4,{"$f":"(J424-H424)/(I424-G424)","v":5.0000000000000044E-2},{"$f":"H424-G424*K424","v":-0.60000000000000087},0.1,{"$f":"(M424-L424)/K424","v":14.000000000000004},0.9,{"$f":"(O424-L424)/K424","v":29.999999999999993},0.4,{"$f":"(Q424-L424)/K424","v":20}]
["ضریب انحنا پایین لبه پیراهن  n12","(از 0.3 الی 0.9)",{"$f":"K425*E425+L425","v":0.6},"بهینه=0.6",{"$f":"'طراحی همه الگوها'!B377","v":20},"ضریب انحنا پایین لبه پیراهن  ",19,0.55000000000000004,20,0.6,{"$f":"(J425-H425)/(I425-G425)","v":4.9999999999999933E-2},{"$f":"H425-G425*K425","v":-0.39999999999999869},0.3,{"$f":"(M425-L425)/K425","v":13.999999999999991},0.9,{"$f":"(O425-L425)/K425","v":26.000000000000007},0.6,{"$f":"(Q425-L425)/K425","v":20}]
[]
[" متغیرهای ورودی- جلو پیش سینه رکابی بدون شیفت تکه پهلو",null,null,null,null," متغیرهای ورودی- جلو پیش سینه رکابی بدون شیفت تکه پهلو","x1","y1","x2","y2(بهینه)","a","b",null,"کمترین",null,"بیشترین"]
["ضریب پایین آمدن پیش سینه از خط سرشانه      γ0","(از 0.2 الی 0.8)",{"$f":"K428*E428+L428","v":0.71999999999999831},null,{"$f":"'طراحی همه الگوها'!B380","v":57},"بالا یا پایین رفتن بند پیش سینه جلو",19,0.34,20,0.35,{"$f":"(J428-H428)/(I428-G428)","v":9.9999999999999534E-3},{"$f":"H428-G428*K428","v":0.15000000000000091},0.8,{"$f":"(M428-L428)/K428","v":65.000000000000213},1.3,{"$f":"(O428-L428)/K428","v":115.00000000000044},1,{"$f":"(Q428-L428)/K428","v":85.000000000000298}]
["ضریب بزرگ شدن پهنای کف حلقه آستین      γ1","(از 1 الی 2.5)",{"$f":"K429*E429+L429","v":1.8},null,{"$f":"'طراحی همه الگوها'!B381","v":20},"فاصله بند تا زیر حلقه آستین",19,1.75,20,1.8,{"$f":"(J429-H429)/(I429-G429)","v":5.0000000000000044E-2},{"$f":"H429-G429*K429","v":0.79999999999999916},0.1,{"$f":"(M429-L429)/K429","v":-13.999999999999972},0.9,{"$f":"(O429-L429)/K429","v":2.0000000000000155},0.4,{"$f":"(Q429-L429)/K429","v":-7.9999999999999751}]
["ضریب کوچک شدن ارتفاع یقه      γ2","(از 0 الی 1.5)",{"$f":"K430*E430+L430","v":2.0999999999999979},"صاف=0",{"$f":"'طراحی همه الگوها'!B382","v":50},"گودی بین دو بند در جلو سینه",19,0.55000000000000004,20,0.6,{"$f":"(J430-H430)/(I430-G430)","v":4.9999999999999933E-2},{"$f":"H430-G430*K430","v":-0.39999999999999869},0.3,{"$f":"(M430-L430)/K430","v":13.999999999999991},0.9,{"$f":"(O430-L430)/K430","v":26.000000000000007},0.6,{"$f":"(Q430-L430)/K430","v":20}]
["ضریب بزرگ شدن پهنای یقه      γ3","(از 0.5 الی 2.5)",{"$f":"K431*E431+L431","v":1.4},null,{"$f":"'طراحی همه الگوها'!B383","v":20},"فاصله بند تا خط مرکزی جلو",19,1.35,20,1.4,{"$f":"(J431-H431)/(I431-G431)","v":4.9999999999999822E-2},{"$f":"H431-G431*K431","v":0.40000000000000346},0.8,{"$f":"(M431-L431)/K431","v":7.99999999999996},1.3,{"$f":"(O431-L431)/K431","v":17.999999999999996},1,{"$f":"(Q431-L431)/K431","v":11.999999999999973}]
["انتخاب خط راست پهلو جلو=1        انتخاب دیگر=0","0 یا 1 ",{"$f":"K432*E432+L432","v":0},null,{"$f":"'طراحی همه الگوها'!B384","v":1},"انتخاب خط راست پهلو جلو=2        انتخاب دیگر=1",1,0,2,1,{"$f":"(J432-H432)/(I432-G432)","v":1},{"$f":"H432-G432*K432","v":-1},0.1,{"$f":"(M432-L432)/K432","v":1.1000000000000001},0.9,{"$f":"(O432-L432)/K432","v":1.9},0.4,{"$f":"(Q432-L432)/K432","v":1.4}]
[]
[" متغیرهای ورودی-مکان بندینک در پیش سینه یا پیش بند",null,null,null,null," متغیرهای ورودی-مکان بندینک در پیش سینه یا پیش بند","x1","y1","x2","y2(بهینه)","a","b",null,"کمترین",null,"بیشترین"]
["ضریب فاصله افقی نقطه پایین بندینک از خط مرکزی جلو ","(از 0 الی 2)",{"$f":"K435*E435+L435","v":1},"خط مرکزی جلو=0 \nخط پهلو=1  ",{"$f":"'طراحی همه الگوها'!B387","v":20},"شیفت افقی بند جدا",20,1,0,0,{"$f":"(J435-H435)/(I435-G435)","v":0.05},{"$f":"H435-G435*K435","v":0},0.8,{"$f":"(M435-L435)/K435","v":16},1.3,{"$f":"(O435-L435)/K435","v":26},1,{"$f":"(Q435-L435)/K435","v":20}]
["ضریب فاصله عمودی نقطه پایین بندینک از زمین ","(از0 الی 5)",{"$f":"K436*E436+L436","v":2},"خط زمین=0 \nخط زانو=1 \nخط باسن=2 \nخط کمر=3 \nخط سینه=4  ",{"$f":"'طراحی همه الگوها'!B388","v":50},"شیفت عمودی بند جدا",10,0,30,1,{"$f":"(J436-H436)/(I436-G436)","v":0.05},{"$f":"H436-G436*K436","v":-0.5},0.1,{"$f":"(M436-L436)/K436","v":11.999999999999998},0.9,{"$f":"(O436-L436)/K436","v":27.999999999999996},0.4,{"$f":"(Q436-L436)/K436","v":18}]
[]
[" متغیرهای ورودی- پشت پیش سینه رکابی بدون شیفت تکه پهلو",null,null,null,null," متغیرهای ورودی- پشت پیش سینه رکابی بدون شیفت تکه پهلو","x1","y1","x2","y2(بهینه)","a","b",null,"کمترین",null,"بیشترین"]
["ضریب پایین آمدن پیش سینه از خط سرشانه      γ0","(از 0.2 الی 0.8)",{"$f":"K439*E439+L439","v":0.3},null,{"$f":"'طراحی همه الگوها'!B391","v":20},"بالا یا پایین رفتن بند پیش سینه پشت",19,0.28999999999999998,20,0.3,{"$f":"(J439-H439)/(I439-G439)","v":1.0000000000000009E-2},{"$f":"H439-G439*K439","v":9.9999999999999811E-2},0.8,{"$f":"(M439-L439)/K439","v":69.999999999999957},1.3,{"$f":"(O439-L439)/K439","v":119.99999999999991},1,{"$f":"(Q439-L439)/K439","v":89.999999999999929}]
["ضریب بزرگ شدن پهنای کف حلقه آستین      γ1","(از 1 الی 4)",{"$f":"K440*E440+L440","v":2.6},null,{"$f":"'طراحی همه الگوها'!B392","v":20},"فاصله بند تا زیر حلقه آستین",19,2.5,20,2.6,{"$f":"(J440-H440)/(I440-G440)","v":0.10000000000000009},{"$f":"H440-G440*K440","v":0.59999999999999831},0.1,{"$f":"(M440-L440)/K440","v":-4.9999999999999787},0.9,{"$f":"(O440-L440)/K440","v":3.0000000000000142},0.4,{"$f":"(Q440-L440)/K440","v":-1.9999999999999811}]
["ضریب کوچک شدن ارتفاع یقه      γ2","(از 0 الی 3)",{"$f":"K441*E441+L441","v":0.60000000000000009},"صاف=0",{"$f":"'طراحی همه الگوها'!B393","v":20},"گودی بین دو بند در پشت سینه",19,0.5,20,0.6,{"$f":"(J441-H441)/(I441-G441)","v":9.9999999999999978E-2},{"$f":"H441-G441*K441","v":-1.3999999999999995},0.3,{"$f":"(M441-L441)/K441","v":17},0.9,{"$f":"(O441-L441)/K441","v":23},0.6,{"$f":"(Q441-L441)/K441","v":20}]
["ضریب بزرگ شدن پهنای یقه      γ3","(از 0.5 الی 2.5)",{"$f":"K442*E442+L442","v":1.2},null,{"$f":"'طراحی همه الگوها'!B394","v":20},"فاصله بند تا خط مرکزی پشت",19,1.1000000000000001,20,1.2,{"$f":"(J442-H442)/(I442-G442)","v":9.9999999999999867E-2},{"$f":"H442-G442*K442","v":-0.79999999999999738},0.8,{"$f":"(M442-L442)/K442","v":15.999999999999996},1.3,{"$f":"(O442-L442)/K442","v":21.000000000000004},1,{"$f":"(Q442-L442)/K442","v":17.999999999999996}]
["انتخاب خط راست پهلو پشت=1        انتخاب دیگر=0","0 یا 1 ",{"$f":"K443*E443+L443","v":0},null,{"$f":"'طراحی همه الگوها'!B395","v":1},"انتخاب خط راست پهلو پشت=2        انتخاب دیگر=1",1,0,2,1,{"$f":"(J443-H443)/(I443-G443)","v":1},{"$f":"H443-G443*K443","v":-1},0.1,{"$f":"(M443-L443)/K443","v":1.1000000000000001},0.9,{"$f":"(O443-L443)/K443","v":1.9},0.4,{"$f":"(Q443-L443)/K443","v":1.4}]
[]
[" متغیرهای ورودی-طراحی یقه دلبری",null,null,null,null," متغیرهای ورودی-طراحی یقه دلبری","x1","y1","x2","y2(بهینه)","a","b",null,"کمترین",null,"بیشترین"]
["γ1         باز شدن یقه نسبت به وسط گردن       ","(از 0.3 الی 1.5)",{"$f":"K446*E446+L446","v":0.99999999999999978},"بهینه=1",{"$f":"'طراحی همه الگوها'!E313","v":14}," باز شدن یقه نسبت به وسط گردن       ",1,0.35,0,0.3,{"$f":"(J446-H446)/(I446-G446)","v":4.9999999999999989E-2},{"$f":"H446-G446*K446","v":0.3},0.3,{"$f":"(M446-L446)/K446","v":0},1.5,{"$f":"(O446-L446)/K446","v":24.000000000000004},1,{"$f":"(Q446-L446)/K446","v":14.000000000000002}]
["γ2       فاصله عمودی نقطه شکست یقه دلبری   ","(از 0.1 الی 0.9)",{"$f":"K447*E447+L447","v":0.5},"بهینه=0.5",{"$f":"'طراحی همه الگوها'!E314","v":20},"  فاصله عمودی نقطه شکست یقه دلبری   ",19,0.45,20,0.5,{"$f":"(J447-H447)/(I447-G447)","v":4.9999999999999989E-2},{"$f":"H447-G447*K447","v":-0.49999999999999972},0.1,{"$f":"(M447-L447)/K447","v":11.999999999999998},0.9,{"$f":"(O447-L447)/K447","v":28},0.4,{"$f":"(Q447-L447)/K447","v":17.999999999999996}]
["γ3        فاصله افقی نقطه شکست یقه دلبری","(از 0.3 الی 2)",{"$f":"K448*E448+L448","v":1},"بهینه=1",{"$f":"'طراحی همه الگوها'!E315","v":20}," فاصله افقی نقطه شکست یقه دلبری",19,0.95,20,1,{"$f":"(J448-H448)/(I448-G448)","v":5.0000000000000044E-2},{"$f":"H448-G448*K448","v":-8.8817841970012523E-16},0.3,{"$f":"(M448-L448)/K448","v":6.0000000000000124},0.9,{"$f":"(O448-L448)/K448","v":18.000000000000004},0.6,{"$f":"(Q448-L448)/K448","v":12.000000000000007}]
[]
[" متغیرهای ورودی - یقه پشت گردنی بدون شیفت تکه پهلو - روی حلقه آستین با ساسون",null,null,null,null," متغیرهای ورودی - یقه پشت گردنی بدون شیفت تکه پهلو - روی حلقه آستین با ساسون","x1","y1","x2","y2(بهینه)","a","b",null,"کمترین",null,"بیشترین"]
["ضریب طول یقه پشت گردن  d0","(از 0.5 الی 1.3)",{"$f":"K451*E451+L451","v":0.9},"بهینه=0.9",{"$f":"'طراحی همه الگوها'!E319","v":20}," طول یقه پشت گردن  ",19,0.85,20,0.9,{"$f":"(J451-H451)/(I451-G451)","v":5.0000000000000044E-2},{"$f":"H451-G451*K451","v":-0.10000000000000087},0.5,{"$f":"(M451-L451)/K451","v":12.000000000000007},1.3,{"$f":"(O451-L451)/K451","v":27.999999999999993},0.9,{"$f":"(Q451-L451)/K451","v":20}]
["ضریب پهنای یقه پشت گردن  d1","(از 0 الی 3)",{"$f":"K452*E452+L452","v":1.5},"بهینه=1.5",{"$f":"'طراحی همه الگوها'!E318","v":20}," پهنای یقه پشت گردن  ",0,0,20,1.5,{"$f":"(J452-H452)/(I452-G452)","v":7.4999999999999997E-2},{"$f":"H452-G452*K452","v":0},0,{"$f":"(M452-L452)/K452","v":0},3,{"$f":"(O452-L452)/K452","v":40},1.5,{"$f":"(Q452-L452)/K452","v":20}]
["ضریب افقی انحنا یقه جلو   d2    ","(از 0 الی 1.5)",{"$f":"K453*E453+L453","v":0.9},"بهینه=0.9",{"$f":"'طراحی همه الگوها'!E320","v":20},"  انحنا افقی یقه جلو       ",19,0.85,20,0.9,{"$f":"(J453-H453)/(I453-G453)","v":5.0000000000000044E-2},{"$f":"H453-G453*K453","v":-0.10000000000000087},0,{"$f":"(M453-L453)/K453","v":2.0000000000000155},1.5,{"$f":"(O453-L453)/K453","v":31.999999999999993},0.9,{"$f":"(Q453-L453)/K453","v":20}]
["ضریب عمودی انحنا یقه جلو     d3","(از 0 الی 1)",{"$f":"K454*E454+L454","v":0.5},"بهینه=0.5",{"$f":"'طراحی همه الگوها'!E321","v":20}," انحنا عمودی یقه جلو    ",19,0.55000000000000004,20,0.5,{"$f":"(J454-H454)/(I454-G454)","v":-5.0000000000000044E-2},{"$f":"H454-G454*K454","v":1.5000000000000009},0,{"$f":"(M454-L454)/K454","v":29.999999999999993},1,{"$f":"(O454-L454)/K454","v":10.000000000000009},0.5,{"$f":"(Q454-L454)/K454","v":20}]
[]
[" متغیرهای ورودی - سوتین کلی",null,null,null,null," متغیرهای ورودی - سوتین کلی","x1","y1","x2","y2(بهینه)","a","b",null,"کمترین",null,"بیشترین"]
["ضریب ساسون وسط سینه    b1  ","(از -1 الی 2)",{"$f":"K457*E457+L457","v":-0.29999999999999982},"بهینه= - 0.3",{"$f":"'طراحی همه الگوها'!B398","v":20},"ضریب ساسون وسط سینه      ",19,-0.4,20,-0.3,{"$f":"(J457-H457)/(I457-G457)","v":0.10000000000000003},{"$f":"H457-G457*K457","v":-2.3000000000000007},0,{"$f":"(M457-L457)/K457","v":23},0.7,{"$f":"(O457-L457)/K457","v":30},1,{"$f":"(Q457-L457)/K457","v":32.999999999999993}]
["ضریب پایین آمدن از خط پهلو   b2 ","(از 0 الی 0.5)",0.25,"زیر بغل منطبق با بالاتنه=0 \nخط کمر=1  \nبهینه = 0.25",{"$f":"'طراحی همه الگوها'!B399","v":20},"ضریب پایین آمدن از خط پهلو    ",19,0.2,20,0.25,4.9999999999999989E-2,-0.74999999999999978,0,14.999999999999998,1,35,0.4,23.000000000000004]
["ضریب بزرگ شدن کاسه در خط مرکزی جلو    b3  ","(از0.5 الی 1.5)",0.9,"بهینه= 0.9",{"$f":"'طراحی همه الگوها'!B400","v":20},"ضریب بزرگ شدن کاسه در خط مرکزی جلو      ",19,0.88,20,0.9,2.0000000000000018E-2,0.49999999999999967,0,-24.999999999999961,4,174.99999999999986,0.6,5.0000000000000107]
["ضریب بزرگ شدن کاسه زیر نوک سینه   b4 ","(از0.4 الی 1.3)",0.6,"بهینه= 0.6",{"$f":"'طراحی همه الگوها'!B401","v":20},"ضریب بزرگ شدن کاسه زیر نوک سینه    ",19,0.57999999999999996,20,0.6,2.0000000000000018E-2,0.19999999999999962,0,-9.9999999999999716,4,189.99999999999986,1,39.999999999999986]
["ضریب بزرگ شدن کاسه در پهلو    b5  ","(از0.7 الی 1.7)",1.1000000000000001,"بهینه= 1.1",{"$f":"'طراحی همه الگوها'!B402","v":20},"ضریب بزرگ شدن کاسه در پهلو      ",19,1.08,20,1.1000000000000001,2.0000000000000018E-2,0.69999999999999973,0,-34.999999999999957,0.7,1.1102230246251556E-14,0.4,-14.999999999999972]
["ضریب بالا یا پایین آمدن یقه روی خط مرکزی جلو   b6 ","(از -0.7 الی 0.5)",0,"بالای خط سینه =+ \nروی خط سینه =0 \nپایین خط سینه= - ",{"$f":"'طراحی همه الگوها'!B403","v":20},"ضریب بالا یا پایین آمدن یقه روی خط مرکزی جلو    ",19,-0.05,20,0,0.05,-1,0,20,1,40,1,40]
["ضریب عمودی نقطه اتصال بند جلو    b7  ","(از 0.1 الی 1)",0.25,"بهینه=0.25",{"$f":"'طراحی همه الگوها'!B404","v":20},"ضریب عمودی نقطه اتصال بند جلو      ",19,0.2,20,0.25,4.9999999999999989E-2,-0.74999999999999978,0,14.999999999999998,4,95.000000000000014,0.4,23.000000000000004]
["ضریب افقی نقطه اتصال بند جلو   b8 ","(از 0.5 الی 3)",1.4,"بهینه=1.4",{"$f":"'طراحی همه الگوها'!B405","v":20},"ضریب افقی نقطه اتصال بند جلو    ",19,1.3,20,1.4,9.9999999999999867E-2,-0.59999999999999742,0,5.9999999999999822,4,46.000000000000043,0.6,11.999999999999991]
["میزان انحنا یقه جلو  b9 ","(از -0.5 الی 0.5)",0,"خط محدب =+ \nخط صاف =0 \nخط مقعر= - ",{"$f":"'طراحی همه الگوها'!B406","v":20},"میزان انحنا یقه جلو   ",19,-0.05,20,0,0.05,-1,0,20,0.7,34,1,40]
["ضریب گودی خطوط افقی کاسه    b10  ","(از 0 الی 0.5)",0.25,"بهینه=0.25",{"$f":"'طراحی همه الگوها'!B407","v":20},"ضریب گودی خطوط افقی کاسه      ",19,0.2,20,0.25,4.9999999999999989E-2,-0.74999999999999978,0,14.999999999999998,1,35,0.4,23.000000000000004]
["ضریب گودی خطوط عمودی کاسه   b11 ","(از 0 الی 0.5)",0.15000000000000002,"بهینه=0.15",{"$f":"'طراحی همه الگوها'!B408","v":20},"ضریب گودی خطوط عمودی کاسه    ",19,0.1,20,0.15,4.9999999999999989E-2,-0.84999999999999976,0,17,4,97.000000000000014,1,37]
["میزان انحنا یقه در پهلو   b12 ","(از -0.5 الی 0.5)",0,"خط محدب =+ \nخط صاف =0 \nخط مقعر= - ",{"$f":"'طراحی همه الگوها'!B409","v":20},"انحنا یقه در پهلو    ",19,-0.05,20,0,0.05,-1,0,20,4,100,0.4,27.999999999999996]
["ضریب افزایش یا کاهش ساسون زیر بغل    b15 ","(از -0.5 الی 2)",0,"اندامی=0",{"$f":"'طراحی همه الگوها'!B410","v":20},"ضریب افزایش یا کاهش ساسون زیر بغل     ",19,-0.1,20,0,{"$f":"(J469-H469)/(I469-G469)","v":0.1},{"$f":"H469-G469*K469","v":-2},0,20,4,60,0.6,26]
["ضریب افزایش یا کاهش طول عمودی کاسه    b17 ","(از 0.1 الی 2)",0.70000000000000018,"بهینه=0.7",{"$f":"'طراحی همه الگوها'!B411","v":20},"ضریب افزایش یا کاهش طول عمودی کاسه     ",19,0.6,20,0.7,9.9999999999999978E-2,-1.2999999999999994,0,12.999999999999996,4,53,1,23]
["ضریب افزایش یا کاهش طول افقی کاسه    b18 ","(از 0.1 الی 2)",0.5,"بهینه=0.5",{"$f":"'طراحی همه الگوها'!B412","v":20},"ضریب افزایش یا کاهش طول افقی کاسه     ",19,0.4,20,0.5,9.9999999999999978E-2,-1.4999999999999996,0,{"$f":"(M471-L471)/K471","v":14.999999999999998},4,{"$f":"(O471-L471)/K471","v":55.000000000000014},0.4,19]
["شیفت عمودی کاسه پایین به سانتیمتر   b13 ","(از -100 الی100)",0,"بدون شیفت=0",{"$f":"'طراحی همه الگوها'!B414","v":0},"شیفت عمودی کاسه پایین (سانتیمتر)    ",1,1,0,0,1,0,-100,{"$f":"(M472-L472)/K472","v":-100},100,{"$f":"(O472-L472)/K472","v":100}]
["شیفت عمودی کاسه بالا به سانتیمتر   b14 ","(از -100 الی100)",0,"بدون شیفت=0",{"$f":"'طراحی همه الگوها'!B415","v":0},"شیفت عمودی کاسه بالا (سانتیمتر)    ",1,1,0,0,1,0,-100,{"$f":"(M473-L473)/K473","v":-100},100,{"$f":"(O473-L473)/K473","v":100}]
["شیفت افقی کاسه پایین راست به سانتیمتر   b16 ","(از -100 الی100)",0,"بدون شیفت=0",{"$f":"'طراحی همه الگوها'!B413","v":0},"شیفت افقی کاسه پایین راست (سانتیمتر)    ",1,1,0,0,1,0,-100,{"$f":"(M474-L474)/K474","v":-100},100,{"$f":"(O474-L474)/K474","v":100}]
[]
[" متغیرهای ورودی -  اختصاصی سوتین 6 تکه",null,null,null,null," متغیرهای ورودی -  اختصاصی سوتین 6 تکه","x1","y1","x2","y2(بهینه)","a","b",null,"کمترین",null,"بیشترین"]
["انتقال ساسون روی خط سینه به زیر سینه   d17 ","(از 0 الی 1)",{"$f":"K477*E477+L477","v":0.9},"بدون انتقال=0 \nانتقال کامل=1  ",{"$f":"'طراحی همه الگوها'!B418","v":9},"انتقال ساسون روی خط سینه به زیر سینه    ",1,0.1,0,0,{"$f":"(J477-H477)/(I477-G477)","v":0.1},{"$f":"H477-G477*K477","v":0},0,{"$f":"(M477-L477)/K477","v":0},1,{"$f":"(O477-L477)/K477","v":10},0.9,{"$f":"(Q477-L477)/K477","v":9}]
["ضریب چرخش تکه پهلو به درجه    d2 ","(از0 الی 100)",20,"بهینه= 20",{"$f":"'طراحی همه الگوها'!B419","v":20},"چرخش تکه پهلو     ",19,19,20,20,{"$f":"(J478-H478)/(I478-G478)","v":1},{"$f":"H478-G478*K478","v":0},0,0,1,1,0.4,0.4]
["پهنای بند جلو به سانتیمتر    d3  ","(از0 الی 5)",1.5,"بهینه= 1.5",{"$f":"'طراحی همه الگوها'!B420","v":1.5},"پهنای بند جلو       ",1,1,0,0,{"$f":"(J479-H479)/(I479-G479)","v":1},{"$f":"H479-G479*K479","v":0},0,{"$f":"(M479-L479)/K479","v":0},5,{"$f":"(O479-L479)/K479","v":5},1.5,{"$f":"(Q479-L479)/K479","v":1.5}]
["ضریب عمودی برش جلو بند   d8 ","(از 0.1 الی 2)",1.2,"بهینه=1.2",{"$f":"'طراحی همه الگوها'!B421","v":20},"بالا یا پایین رفتن مکان بند جلو",19,1.1000000000000001,20,1.2,{"$f":"(J480-H480)/(I480-G480)","v":9.9999999999999867E-2},{"$f":"H480-G480*K480","v":-0.79999999999999738},0,7.999999999999984,4,48.000000000000036,1,17.999999999999996]
["ضریب افقی برش جلو بند   d14 ","(از 0.1 الی 2)",0.8,"بهینه=0.8",{"$f":"'طراحی همه الگوها'!B422","v":20},"چپ و راست رفتن مکان بند جلو",19,0.75,20,0.8,{"$f":"(J481-H481)/(I481-G481)","v":5.0000000000000044E-2},{"$f":"H481-G481*K481","v":-0.20000000000000084},0,4.0000000000000133,0.7,18,0.4,12.000000000000007]
["ضریب پهنای افقی برش جلو بند   d9 ","(از 0 الی 1)",0.30000000000000004,"بهینه=0.3",{"$f":"'طراحی همه الگوها'!B423","v":20},"پهنای افقی برش جلو بند    ",19,0.25,20,0.3,4.9999999999999989E-2,-0.69999999999999973,0,13.999999999999998,1,34,1,34]
["ضریب پهنای برش کاسه در پهلو    d10  ","(از 0.1 الی 0.7)",0.25,"بهینه=0.25",{"$f":"'طراحی همه الگوها'!B424","v":20},"پهنای برش کاسه در پهلو      ",19,0.2,20,0.25,4.9999999999999989E-2,-0.74999999999999978,0,14.999999999999998,4,95.000000000000014,0.4,23.000000000000004]
["ضریب بالا یا پایین رفتن خط پایین پایه    d1  ","(از 0.2 الی 0.7)",0.5,"خط کمر=0 \nخط سینه=1  ",{"$f":"'طراحی همه الگوها'!B425","v":80},"بالا یا پایین رفتن خط پایین پایه      ",79,0.45,80,0.5,4.9999999999999989E-2,-3.4999999999999991,0.2,74,0.7,84,0,70]
["پهنای بند پشت به سانتیمتر   d4 ","(از0 الی 5)",1.5,"بهینه= 1.5",{"$f":"'طراحی همه الگوها'!B426","v":1.5},"پهنای بند پشت     ",1,1,0,0,1,0,0,0,5,5,1.5,1.5]
["ضریب عمودی نقطه اتصال بند پشت    d5  ","(از0 الی 1)",0.38,"خط کمر =0 \nخط سرشانه= 1 \nبهینه = 0.38",{"$f":"'طراحی همه الگوها'!B427","v":20},"بالا یا پایین رفتن مکان بند پشت",21,0.4,20,0.38,2.0000000000000018E-2,-2.0000000000000351E-2,0,1.0000000000000167,1,50.999999999999979,0.4,21]
["ضریب افقی نقطه اتصال بند پشت    d6 ","(از0.1 الی 0.9)",0.45,"خط مرکزی پشت =0 \nخط پهلو= 1 \nبهینه = 0.45",{"$f":"'طراحی همه الگوها'!B428","v":9},"چپ و راست رفتن مکان بند پشت",1,0.05,0,0,0.05,0,0.1,2,0.9,18,0.45,9]
["میزان انحنا یقه پشت پهلو    d7  ","(از -0.5 الی 0.5)",0,"خط محدب =+ \nخط صاف =0 \nخط مقعر= - ",{"$f":"'طراحی همه الگوها'!B429","v":20},"انحنا یقه پشت پهلو      ",19,-0.05,20,0,0.05,-1,0,20,4,100,0.4,27.999999999999996]
["پهنای قزن در پشت به سانتیمتر   d11 ","(از 0 الی 10)",3,"بهینه=3",{"$f":"'طراحی همه الگوها'!B430","v":3},"پهنای قزن در پشت (سانتیمتر)    ",2,2,3,3,{"$f":"(J489-H489)/(I489-G489)","v":1},{"$f":"H489-G489*K489","v":0},0,{"$f":"(M489-L489)/K489","v":0},10,{"$f":"(O489-L489)/K489","v":10},3,3]
["میزان انحنا یقه پشت مرکزی    d15  ","(از -0.5 الی 0.5)",0,"خط محدب =+ \nخط صاف =0 \nخط مقعر= - ",{"$f":"'طراحی همه الگوها'!B431","v":20},"انحنا یقه پشت مرکزی      ",19,-0.05,20,0,{"$f":"(J490-H490)/(I490-G490)","v":0.05},{"$f":"H490-G490*K490","v":-1},0,{"$f":"(M490-L490)/K490","v":20},4,{"$f":"(O490-L490)/K490","v":100},1,40]
["شیفت افقی تکه جلو مرکزی به سانتیمتر   d12 ","(از -100 الی100)",0,"بدون شیفت=0",{"$f":"'طراحی همه الگوها'!B432","v":0},"شیفت افقی تکه جلو مرکزی (سانتیمتر)    ",1,1,0,0,{"$f":"(J491-H491)/(I491-G491)","v":1},{"$f":"H491-G491*K491","v":0},-100,{"$f":"(M491-L491)/K491","v":-100},100,{"$f":"(O491-L491)/K491","v":100},0.4,0.4]
["شیفت عمودی کاسه یک تکه زیرین به سانتیمتر   d16 ","(از -100 الی100)",0,"بدون شیفت=0",{"$f":"'طراحی همه الگوها'!B434","v":0},"شیفت عمودی کاسه یک تکه زیرین (سانتیمتر)    ",1,1,0,0,{"$f":"(J492-H492)/(I492-G492)","v":1},{"$f":"H492-G492*K492","v":0},-100,{"$f":"(M492-L492)/K492","v":-100},100,{"$f":"(O492-L492)/K492","v":100}]
["شیفت افقی تکه پهلوجلو به سانتیمتر   d13 ","(از -100 الی100)",0,"بدون شیفت=0",{"$f":"'طراحی همه الگوها'!B433","v":0},"شیفت افقی تکه پهلوجلو (سانتیمتر)    ",1,1,0,0,{"$f":"(J493-H493)/(I493-G493)","v":1},{"$f":"H493-G493*K493","v":0},-100,{"$f":"(M493-L493)/K493","v":-100},100,{"$f":"(O493-L493)/K493","v":100}]
[]
[" متغیرهای ورودی- شنل بدون شیفت تکه پهلو",null,null,null,null," متغیرهای ورودی- شنل بدون شیفت تکه پهلو","x1","y1","x2","y2(بهینه)","a","b",null,"کمترین",null,"بیشترین"]
["ضریب بزرگ شدن اوزمان در شنل  c1","(از 0.5 الی 2)",{"$f":"K496*E496+L496","v":1},"بهینه=1",{"$f":"'طراحی همه الگوها'!B437","v":20},"ضریب بزرگ شدن اوزمان در شنل  ",19,0.95,20,1,{"$f":"(J496-H496)/(I496-G496)","v":5.0000000000000044E-2},{"$f":"H496-G496*K496","v":-8.8817841970012523E-16},0.5,{"$f":"(M496-L496)/K496","v":10.000000000000009},2,{"$f":"(O496-L496)/K496","v":39.999999999999986},1,{"$f":"(Q496-L496)/K496","v":20}]
[]
["پیراهن کلوش (با حلقه آستین بدون ساسون سرشانه)"]
[" اوزمان در جلو پیراهن کلوش   a1","(از 1 الی 50)",{"$f":"K499*E499+L499","v":5},null,{"$f":"'طراحی همه الگوها'!B440","v":5},null,1,1,2,2,{"$f":"(J499-H499)/(I499-G499)","v":1},{"$f":"H499-G499*K499","v":0},null,1,null,2]
[" فاصله اوزمان اول از خط مرکزی جلو  a6   ","(از 1 الی 30)",{"$f":"K500*E500+L500","v":13},null,{"$f":"'طراحی همه الگوها'!B441","v":13},null,1,1,2,2,{"$f":"(J500-H500)/(I500-G500)","v":1},{"$f":"H500-G500*K500","v":0},null,1,null,2]
[" فاصله اوزمان اول از خط مرکزی جلو  a8   ","(از 1 الی 30)",{"$f":"K501*E501+L501","v":18},null,{"$f":"'طراحی همه الگوها'!B442","v":18},null,1,1,2,2,{"$f":"(J501-H501)/(I501-G501)","v":1},{"$f":"H501-G501*K501","v":0},null,1,null,2]
[" اوزمان در پشت پیراهن کلوش   a2","(از 1 الی 50)",{"$f":"K502*E502+L502","v":5},null,{"$f":"'طراحی همه الگوها'!B443","v":5},null,1,1,2,2,{"$f":"(J502-H502)/(I502-G502)","v":1},{"$f":"H502-G502*K502","v":0},null,1,null,2]
[" فاصله اوزمان اول از خط مرکزی پشت  a7   ","(از 1 الی 30)",{"$f":"K503*E503+L503","v":13},null,{"$f":"'طراحی همه الگوها'!B444","v":13},null,1,1,2,2,{"$f":"(J503-H503)/(I503-G503)","v":1},{"$f":"H503-G503*K503","v":0},null,1,null,2]
[" فاصله اوزمان اول از خط مرکزی پشت  a9   ","(از 1 الی 30)",20,null,{"$f":"'طراحی همه الگوها'!B445","v":20},null,1,1,2,2,1,0,null,1,null,2]
[]
["متغیرهای ورودی آستین",null,null,null,null,"متغیرهای ورودی آستین"]
[null,null,null,null,"x",null,"x1","y1","x2","y2(بهینه)","a","b",null,"کمترین",null,"بیشترین"]
[" متغیر ورودی نوع آستین :",null,null,null,null," متغیر ورودی نوع آستین :","x1","y1","x2","y2(بهینه)","a","b",null,"کمترین",null,"بیشترین"]
["انتخاب آستین با ساسون سرشانه یا زیر بغل یا عصایی = 0\nانتخاب آستین رگلان (بدون درز یا با درز) برای حلقه آستین با ساسون = 0   \nانتخاب آستین با هر نوع ساسون و اپل و کنترل گودی حلقه آستین = 1\n انتخاب آستین بدون ساسون سرشانه = 3 \n انتخاب آستین رگلان (بدون درز یا با درز) برای حلقه آستین بدون ساسون سرشانه = 3 ","0 یا 1 یا 3",{"$f":"K509*E509+L509","v":3},null,{"$f":"'طراحی همه الگوها'!K175","v":4},"انتخاب آستین با ساسون سرشانه یا زیر بغل یا عصایی = 0\nانتخاب آستین رگلان (بدون درز یا با درز) برای حلقه آستین با ساسون = 0   \nانتخاب آستین با هر نوع ساسون و اپل و کنترل گودی حلقه آستین = 1\n انتخاب آستین بدون ساسون سرشانه = 3 \n انتخاب آستین رگلان (بدون درز یا با درز) برای حلقه آستین بدون ساسون سرشانه = 3 ",1,0,4,3,{"$f":"(J509-H509)/(I509-G509)","v":1},{"$f":"H509-G509*K509","v":-1},null,1,null,4,0.15,{"$f":"(Q509-L509)/K509","v":1.1499999999999999}]
[]
[" متغیرهای ورودی - آستین رگلان درز دار",null,null,null,null," متغیرهای ورودی - آستین رگلان درز دار","x1","y1","x2","y2(بهینه)","a","b",null,"کمترین",null,"بیشترین"]
["میزان خمیدگی بدن به سمت جلو - زاویه به درجه  α1","(از -20 الی 20)",{"$f":"K512*E512+L512","v":3},"بهینه=3",{"$f":"'طراحی همه الگوها'!K234","v":3},"میزان خمیدگی بدن به سمت جلو   ",1,1,0,0,{"$f":"(J512-H512)/(I512-G512)","v":1},{"$f":"H512-G512*K512","v":0},-20,{"$f":"(M512-L512)/K512","v":-20},20,{"$f":"(O512-L512)/K512","v":20},3,{"$f":"(Q512-L512)/K512","v":3}]
["میزان خم شدن سرشانه در آستین - زاویه به درجه  α2","(از -20 الی 20)",3,"بهینه=3",{"$f":"'طراحی همه الگوها'!K235","v":3},"میزان خم شدن سرشانه در آستین  ",1,1,0,0,1,0,-20,-20,20,20,3,3]
["پهنای ساسون مچ روی درز آستین  α3","(از 0 الی 2)",0.70000000000000007,"بهینه=0.7\nبدون ساسون=1",{"$f":"'طراحی همه الگوها'!K236","v":3},"پهنای ساسون مچ روی درز آستین  ",1,0.9,0,1,-9.9999999999999978E-2,1,0,10.000000000000002,2,-10.000000000000002,0.7,3.0000000000000009]
["میزان روی هم آمدن سرشانه در دو تکه آستین رگلان  α4","(از 0 الی 2)",1,"بهینه=1\nروی هم نمی آید=0",{"$f":"'طراحی همه الگوها'!K237","v":10},"میزان روی هم آمدن سرشانه در دو تکه آستین رگلان  ",1,0.1,0,0,0.1,0,0,0,2,20,1,10]
["زاویه درز روی آستین نسبت به عمود به درجه  α5","(از -20 الی 20)",3,"بهینه=3",{"$f":"'طراحی همه الگوها'!K238","v":3},"زاویه درز روی آستین نسبت به عمود  ",1,1,0,0,{"$f":"(J516-H516)/(I516-G516)","v":1},{"$f":"H516-G516*K516","v":0},-20,-20,20,20,3,3]
["میزان انحنا لبه جلو آستین  α6","(از -20 الی 20)",1,"بهینه=1",{"$f":"'طراحی همه الگوها'!K239","v":1},"میزان انحنا لبه جلو آستین  ",1,1,0,0,{"$f":"(J517-H517)/(I517-G517)","v":1},{"$f":"H517-G517*K517","v":0},-20,-20,20,20,1,1]
["میزان انحنا لبه پشت آستین  α7","(از -20 الی 20)",1,"بهینه=1",{"$f":"'طراحی همه الگوها'!K240","v":1},"میزان انحنا لبه پشت آستین  ",1,1,0,0,1,0,-20,-20,20,20,1,1]
["سهم گشادی مچ آستین بر روی درز  α8","(از 0 الی 1)",0.2,"بهینه=0.2",{"$f":"'طراحی همه الگوها'!K241","v":4},"سهم گشادی مچ آستین بر روی درز  ",1,0.05,0,0,0.05,0,0,0,1,20,0.2,4]
["شیفت افقی تکه جلو آستین رگلان درز دار    به سانتیمتر","(از -100 الی100)",5,"بدون شیفت=0",{"$f":"'طراحی همه الگوها'!K242","v":5},"شیفت افقی تکه جلو آستین رگلان درز دار    به سانتیمتر",1,1,0,0,1,0,null,1,null,100,0]
["شیفت افقی کل آستین رگلان بدون درز   به سانتیمتر","(از -100 الی100)",-1.5,"بدون شیفت=0",{"$f":"'طراحی همه الگوها'!K461","v":-1.5},"شیفت افقی کل آستین رگلان بدون درز   به سانتیمتر",1,1,0,0,{"$f":"(J521-H521)/(I521-G521)","v":1},{"$f":"H521-G521*K521","v":0},null,1,null,100,0]
[]
[" متغیرهای ورودی کلی آستین ساده (بلند یا کوتاه)",null,null,null,null," متغیرهای ورودی کلی آستین ساده (بلند یا کوتاه)","x1","y1","x2","y2(بهینه)","a","b",null,"کمترین",null,"بیشترین"]
["ضریب پهنای مچ در آستین ساده و مچ بلند","(از 0 الی 0.5)",{"$f":"K524*E524+L524","v":0.20000000000000007},"بهینه=0.15",{"$f":"'طراحی همه الگوها'!K458","v":14},"ضریب پهنای مچ در آستین ساده و مچ بلند",11,0.05,10,0,{"$f":"(J524-H524)/(I524-G524)","v":0.05},{"$f":"H524-G524*K524","v":-0.5},0,{"$f":"(M524-L524)/K524","v":10},0.5,{"$f":"(O524-L524)/K524","v":20},0.15,{"$f":"(Q524-L524)/K524","v":13}]
["ضریب گشادی مچ آستین  ζ4","(از 0.1 الی 4)",1.6000000000000005,"اندامی=1",{"$f":"'طراحی همه الگوها'!K454","v":6},"ضریب گشادی مچ آستین  ",1,1.1000000000000001,0,1,0.10000000000000009,1,0.1,-8.9999999999999929,4,29.999999999999972,1,0]
["ضریب بلند یا کوتاه شدن اندازه های طولی در آستین","(از -0.2 الی 0.2)",0,"بدون تغییر=0",{"$f":"'طراحی همه الگوها'!K455","v":0},"ضریب بلند یا کوتاه شدن اندازه های طولی در آستین",1,0.01,0,0,0.01,0,-0.2,-20,0.2,20,0,0]
["ضریب بلندی تاج آستین","(از -1 الی 1)",0,"اندامی=0",{"$f":"'طراحی همه الگوها'!K456","v":0},"ضریب بلندی تاج آستین",1,0.05,0,0,0.05,0,-1,-20,1,20,0,0]
["ضریب گشادی تاج آستین","(از 0 الی 1)",0,"اندامی=0",{"$f":"'طراحی همه الگوها'!K457","v":0},"ضریب گشادی تاج آستین",1,0.05,0,0,0.05,0,0,0,1,20,0,0]
["ضریب کوتاهی آستین  (آستین پفی > 0.6)","(از -0.45 الی 1.7)",-9.9999999999999978E-2,"آستین تا مچ=0 \nآستین تا آرنج=1 \nآستین کوتاه بالای آرنج بزرگتر از یک",{"$f":"'طراحی همه الگوها'!K453","v":8},"بلندی پایین آستین",10,0,30,1,0.05,-0.5,-0.45,0.99999999999999978,1.7,44,0.3,16]
["شیفت افقی کل الگو آستین به سانتیمتر","(از -100 الی100)",0,"بدون شیفت=0",{"$f":"'طراحی همه الگوها'!K459","v":0},"شیفت افقی کل الگو آستین (سانتیمتر)",1,1,0,0,1,0,null,1,null,100,0]
["شیفت عمودی کل الگو آستین به سانتیمتر","(از -100 الی100)",{"$f":"K531*E531+L531","v":0},"بدون شیفت=0",{"$f":"'طراحی همه الگوها'!K460","v":0},"شیفت عمودی کل الگو آستین (سانتیمتر)",1,1,0,0,1,0,null,1,null,100,0]
[]
["اطلاعات طول حلقه آستین و طول تاج آستین",null,null,null,null,"اطلاعات طول حلقه آستین و طول تاج آستین"]
["طول کل حلقه آستین با اپل",{"$f":"محاسبات!BL538","v":30.4},null,null,null,"طول کل حلقه آستین با اپل (سانتیمتر)"]
["طول کل حلقه آستین با ساسون",{"$f":"محاسبات!BL539","v":30.6},null,null,null,"طول کل حلقه آستین با ساسون (سانتیمتر)"]
["طول کل حلقه آستین بدون ساسون",{"$f":"محاسبات!BL540","v":32.4},null,null,null,"طول کل حلقه آستین بدون ساسون (سانتیمتر)"]
["طول حلقه آستین مدل 85",{"$f":"محاسبات!BL541","v":30.2},null,null,null,"طول حلقه آستین مدل 85  (سانتیمتر)"]
["طول حلقه آستین مدل 83 کت مردانه",{"$f":"محاسبات!BL542","v":29.3},null,null,null,"طول حلقه آستین مدل 83 کت مردانه  (سانتیمتر)"]
["طول تاج آستین کتی",{"$f":"محاسبات!BL543","v":32.9},null,null,null,"طول تاج آستین کتی (سانتیمتر)"]
["طول تاج آستین ساده",{"$f":"محاسبات!BL544","v":33},null,null,null,"طول تاج آستین ساده (سانتیمتر) "]
[]
[" متغیرهای ورودی- جادکمه آستین بلند یا کوتاه",null,null,null,null," متغیرهای ورودی- جادکمه آستین بلند یا کوتاه","x1","y1","x2","y2(بهینه)","a","b",null,"کمترین",null,"بیشترین"]
["ضریب طول مستطیل ","(از 0 الی 0.5)",{"$f":"K543*E543+L543","v":0.35000000000000003},"بهینه=0.35",{"$f":"'طراحی همه الگوها'!K204","v":7},"ضریب طول مستطیل ",1,0.05,0,0,{"$f":"(J543-H543)/(I543-G543)","v":0.05},{"$f":"H543-G543*K543","v":0},0,{"$f":"(M543-L543)/K543","v":0},0.5,{"$f":"(O543-L543)/K543","v":10},0.35,{"$f":"(Q543-L543)/K543","v":6.9999999999999991}]
["ضریب عرض مستطیل ","(از 0 الی 0.4)",{"$f":"K544*E544+L544","v":0.25},"بهینه=0.25",{"$f":"'طراحی همه الگوها'!K205","v":5},"ضریب عرض مستطیل ",1,0.05,0,0,{"$f":"(J544-H544)/(I544-G544)","v":0.05},{"$f":"H544-G544*K544","v":0},0,{"$f":"(M544-L544)/K544","v":0},0.4,{"$f":"(O544-L544)/K544","v":8},0.25,{"$f":"(Q544-L544)/K544","v":5}]
[]
[" متغیرهای ورودی - مچ آستین",null,null,null,null," متغیرهای ورودی - مچ آستین","x1","y1","x2","y2(بهینه)","a","b",null,"کمترین",null,"بیشترین"]
["انتخاب مچ اندامی=1        انتخاب مچ مستطیل یا مچ پفی=0","0 یا 1 ",{"$f":"K547*E547+L547","v":0},null,{"$f":"'طراحی همه الگوها'!K464","v":1},"انتخاب مچ اندامی=2        انتخاب مچ مستطیل یا مچ پفی=1",1,0,2,1,{"$f":"(J547-H547)/(I547-G547)","v":1},{"$f":"H547-G547*K547","v":-1},0,{"$f":"(M547-L547)/K547","v":1},1,{"$f":"(O547-L547)/K547","v":2},0,{"$f":"(Q547-L547)/K547","v":1}]
["ضریب گشادی بالای مچ  z3","(از 0.8 الی 3)",0,"اندامی=1",{"$f":"'طراحی همه الگوها'!K465","v":-10},"ضریب گشادی بالای مچ  ",1,1.1000000000000001,0,1,0.10000000000000009,1,0.8,{"$f":"(M548-L548)/K548","v":-1.9999999999999978},3,{"$f":"(O548-L548)/K548","v":19.999999999999982},1,{"$f":"(Q548-L548)/K548","v":0}]
["ضریب گشادی پایین مچ یا مچ مستطیل یا مچ پفی  z4","(از 0.8 الی 3)",1,"اندامی=1",{"$f":"'طراحی همه الگوها'!K466","v":0},"ضریب گشادی پایین مچ یا مچ مستطیل یا مچ پفی  ",1,1.1000000000000001,0,1,0.10000000000000009,1,0.8,{"$f":"(M549-L549)/K549","v":-1.9999999999999978},3,{"$f":"(O549-L549)/K549","v":19.999999999999982},1,{"$f":"(Q549-L549)/K549","v":0}]
["ضریب ارتفاع بالای مچ    z5","(از 0 الی 1.7)",0.25,"ارتفاع تا مچ دست =0 \nارتفاع تا آرنج=1 \nارتفاع بالای آرنج بزرگتر از یک",{"$f":"'طراحی همه الگوها'!K467","v":15},"ضریب ارتفاع بالای مچ    ",10,0,30,1,0.05,-0.5,0,{"$f":"(M550-L550)/K550","v":10},1.7,{"$f":"(O550-L550)/K550","v":44},1,{"$f":"(Q550-L550)/K550","v":30}]
["ضریب ارتفاع پایین مچ   z6","(از 0 الی 1.7)",0,"ارتفاع تا مچ دست =0 \nارتفاع تا آرنج=1 \nارتفاع بالای آرنج بزرگتر از یک",{"$f":"'طراحی همه الگوها'!K468","v":10},"ضریب ارتفاع پایین مچ   ",10,0,30,1,0.05,-0.5,0,{"$f":"(M551-L551)/K551","v":10},1.7,{"$f":"(O551-L551)/K551","v":44},1,{"$f":"(Q551-L551)/K551","v":30}]
["شیفت افقی مچ  به سانتیمتر   z7","(از -100 الی100)",0,"بدون شیفت=0",{"$f":"'طراحی همه الگوها'!K469","v":0},"شیفت افقی مچ  (سانتیمتر)   ",1,1,0,0,1,0,null,1,null,100,0]
["شیفت عمودی مچ  به سانتیمتر  z8","(از -100 الی100)",-5,"بدون شیفت=0",{"$f":"'طراحی همه الگوها'!K470","v":-5},"شیفت عمودی مچ  (سانتیمتر)  ",1,1,0,0,1,0,null,1,null,100,0]
[]
[" متغیرهای ورودی - آستر مچ آستین",null,null,null,null," متغیرهای ورودی - آستر مچ آستین","x1","y1","x2","y2(بهینه)","a","b",null,"کمترین",null,"بیشترین"]
["انتخاب مچ اندامی=1        انتخاب مچ مستطیل یا مچ پفی=0","0 یا 1 ",{"$f":"K556*E556+L556","v":1},null,{"$f":"'طراحی همه الگوها'!K217","v":2},"انتخاب مچ اندامی=2        انتخاب مچ مستطیل یا مچ پفی=1",1,0,2,1,{"$f":"(J556-H556)/(I556-G556)","v":1},{"$f":"H556-G556*K556","v":-1},0,{"$f":"(M556-L556)/K556","v":1},1,{"$f":"(O556-L556)/K556","v":2},0,{"$f":"(Q556-L556)/K556","v":1}]
["ضریب گشادی بالای مچ  z3","(از 0.8 الی 3)",1.5000000000000004,"اندامی=1",{"$f":"'طراحی همه الگوها'!K218","v":5},"ضریب گشادی بالای مچ  ",1,1.1000000000000001,0,1,0.10000000000000009,1,0.8,{"$f":"(M557-L557)/K557","v":-1.9999999999999978},3,{"$f":"(O557-L557)/K557","v":19.999999999999982},1,{"$f":"(Q557-L557)/K557","v":0}]
["ضریب گشادی پایین مچ یا مچ مستطیل یا مچ پفی  z4","(از 0.8 الی 3)",1.8000000000000007,"اندامی=1",{"$f":"'طراحی همه الگوها'!K219","v":8},"ضریب گشادی پایین مچ یا مچ مستطیل یا مچ پفی  ",1,1.1000000000000001,0,1,0.10000000000000009,1,0.8,{"$f":"(M558-L558)/K558","v":-1.9999999999999978},3,{"$f":"(O558-L558)/K558","v":19.999999999999982},1,{"$f":"(Q558-L558)/K558","v":0}]
["ضریب ارتفاع بالای مچ    z5","(از 0 الی 1.7)",1,"ارتفاع تا مچ دست =0 \nارتفاع تا آرنج=1 \nارتفاع بالای آرنج بزرگتر از یک",{"$f":"'طراحی همه الگوها'!K220","v":30},"ضریب ارتفاع بالای مچ    ",10,0,30,1,0.05,-0.5,0,{"$f":"(M559-L559)/K559","v":10},1.7,{"$f":"(O559-L559)/K559","v":44},1,{"$f":"(Q559-L559)/K559","v":30}]
["ضریب ارتفاع پایین مچ   z6","(از 0 الی 1.7)",0.25,"ارتفاع تا مچ دست =0 \nارتفاع تا آرنج=1 \nارتفاع بالای آرنج بزرگتر از یک",{"$f":"'طراحی همه الگوها'!K221","v":15},"ضریب ارتفاع پایین مچ   ",10,0,30,1,0.05,-0.5,0,{"$f":"(M560-L560)/K560","v":10},1.7,{"$f":"(O560-L560)/K560","v":44},1,{"$f":"(Q560-L560)/K560","v":30}]
["شیفت افقی آستر مچ  به سانتیمتر   z7","(از -100 الی100)",0,"بدون شیفت=0",{"$f":"'طراحی همه الگوها'!K222","v":0},"شیفت افقی آستر مچ  (سانتیمتر)   ",1,1,0,0,1,0,null,1,null,100,0]
["شیفت عمودی آستر مچ  به سانتیمتر  z8","(از -100 الی100)",0,"بدون شیفت=0",{"$f":"'طراحی همه الگوها'!K223","v":0},"شیفت عمودی آستر مچ  (سانتیمتر)  ",1,1,0,0,1,0,null,1,null,100,0]
[]
[" متغیرهای ورودی آستین لاله ای",null,null,null,null," متغیرهای ورودی آستین لاله ای","x1","y1","x2","y2(بهینه)","a","b",null,"کمترین",null,"بیشترین"]
["ضریب قرارگیری نقطه بالای جلو انحنا آستین  q20 ","(از 0 الی 1)",{"$f":"K565*E565+L565","v":0.4},"نقطه بالا روی سرشانه=0 \nنقطه بالا زیر بغل=1 ",{"$f":"'طراحی همه الگوها'!K245","v":20},"ضریب قرارگیری نقطه بالای جلو انحنا آستین   ",19,0.35,20,0.4,{"$f":"(J565-H565)/(I565-G565)","v":5.0000000000000044E-2},{"$f":"H565-G565*K565","v":-0.60000000000000087},0,{"$f":"(M565-L565)/K565","v":12.000000000000007},1,{"$f":"(O565-L565)/K565","v":31.999999999999993},1,{"$f":"(Q565-L565)/K565","v":31.999999999999993}]
["ضریب قرارگیری نقطه بالای پشت انحنا آستین  q'20 ","(از 0 الی 1)",0.30000000000000004,"نقطه بالا روی سرشانه=0 \nنقطه بالا زیر بغل=1 ",{"$f":"'طراحی همه الگوها'!K246","v":20},"ضریب قرارگیری نقطه بالای پشت انحنا آستین   ",19,0.25,20,0.3,4.9999999999999989E-2,-0.69999999999999973,0,13.999999999999998,1,34,1,34]
["ضریب قرارگیری نقطه پایین جلو انحنا آستین  q21 ","(از 0 الی 1)",0.7,"نقطه پایین وسط آستین=0 \nنقطه پایین روی خط پهلو=1 ",{"$f":"'طراحی همه الگوها'!K247","v":20},"ضریب قرارگیری نقطه پایین جلو انحنا آستین   ",19,0.65,20,0.7,4.9999999999999933E-2,-0.29999999999999871,0,5.9999999999999822,1,26.000000000000007,1,26.000000000000007]
["ضریب قرارگیری نقطه پایین پشت انحنا آستین  q'21 ","(از 0 الی 1)",0.7,"نقطه پایین وسط آستین=0 \nنقطه پایین روی خط پهلو=1 ",{"$f":"'طراحی همه الگوها'!K248","v":20},"ضریب قرارگیری نقطه پایین پشت انحنا آستین   ",19,0.65,20,0.7,4.9999999999999933E-2,-0.29999999999999871,0,5.9999999999999822,1,26.000000000000007,2,46.000000000000043]
["ضریب انحنا جلو  q22 ","(از -0.5 الی 0.5)",0.15000000000000013,"خط محدب =+ \nخط صاف =0 \nخط مقعر= - ",{"$f":"'طراحی همه الگوها'!K249","v":23},"ضریب انحنا جلو   ",21,0.05,20,0,0.05,-1,-0.5,10,0.5,30,0.15,22.999999999999996]
["ضریب انحنا پشت  q'22 ","(از -0.5 الی 0.5)",0.15000000000000013,"خط محدب =+ \nخط صاف =0 \nخط مقعر= - ",{"$f":"'طراحی همه الگوها'!K250","v":23},"ضریب انحنا پشت   ",21,0.05,20,0,0.05,-1,-0.5,10,0.5,30,0.15,22.999999999999996]
[]
["متغیرهای ورودی آستین کتی",null,null,null,null,"متغیرهای ورودی آستین کتی","x1","y1","x2","y2(بهینه)","a","b",null,"کمترین",null,"بیشترین"]
["میزان خمیدگی آستین کتی - زاویه به درجه  ζ2","(از 0 الی 7)",{"$f":"K573*E573+L573","v":3},"بهینه=3",{"$f":"'طراحی همه الگوها'!K478","v":3},"میزان خمیدگی آستین کتی - زاویه به درجه  ",1,1,0,0,{"$f":"(J573-H573)/(I573-G573)","v":1},{"$f":"H573-G573*K573","v":0},0,{"$f":"(M573-L573)/K573","v":0},7,{"$f":"(O573-L573)/K573","v":7},3,{"$f":"(Q573-L573)/K573","v":3}]
["ضریب طول مستطیل جادکمه کتی","(از 0.01 الی 0.5)",{"$f":"K574*E574+L574","v":0.4},"بهینه=0.4",{"$f":"'طراحی همه الگوها'!K479","v":20},"ضریب طول مستطیل جادکمه کتی",1,0.02,0,0,{"$f":"(J574-H574)/(I574-G574)","v":0.02},{"$f":"H574-G574*K574","v":0},0.01,{"$f":"(M574-L574)/K574","v":0.5},0.5,{"$f":"(O574-L574)/K574","v":25},0.4,{"$f":"(Q574-L574)/K574","v":20}]
["ضریب عرض مستطیل جادکمه کتی","(از 0 الی 0.5)",{"$f":"K575*E575+L575","v":0.3},"بهینه=0.3",{"$f":"'طراحی همه الگوها'!K480","v":15},"ضریب عرض مستطیل جادکمه کتی",1,0.02,0,0,{"$f":"(J575-H575)/(I575-G575)","v":0.02},{"$f":"H575-G575*K575","v":0},0,{"$f":"(M575-L575)/K575","v":0},0.5,{"$f":"(O575-L575)/K575","v":25},0.3,{"$f":"(Q575-L575)/K575","v":15}]
["شیفت افقی تکه جلو آستین کتی به سانتیمتر","(از -100 الی100)",{"$f":"K576*E576+L576","v":0},"بهینه=دلخواه",{"$f":"'طراحی همه الگوها'!K481","v":0},"شیفت افقی تکه جلو آستین کتی (سانتیمتر)",1,1,0,0,{"$f":"(J576-H576)/(I576-G576)","v":1},{"$f":"H576-G576*K576","v":0},null,1,null,100,0]
[]
[" متغیر ورودی آستین کلوش :",null,null,null,null," متغیر ورودی آستین کلوش :","x1","y1","x2","y2(بهینه)","a","b",null,"کمترین",null,"بیشترین"]
["بلندی آستین","(از 0 الی 1)",{"$f":"K579*E579+L579","v":0.39999999999999991},"بدون بلندی=0 \nآستین تا مچ=1 ",{"$f":"'طراحی همه الگوها'!K226","v":30},"بلندی پایین آستین کلوش",30,0.4,10,1,{"$f":"(J579-H579)/(I579-G579)","v":-0.03},{"$f":"H579-G579*K579","v":1.2999999999999998},0,{"$f":"(M579-L579)/K579","v":43.333333333333329},1,{"$f":"(O579-L579)/K579","v":9.9999999999999947},1,{"$f":"(Q579-L579)/K579","v":9.9999999999999947}]
["زاویه اوزمان آستین (برحسب درجه)","(از 0 الی 30)",{"$f":"K580*E580+L580","v":15},"بدون کلوش=0 \nبهینه=15 ",{"$f":"'طراحی همه الگوها'!K227","v":15}," اوزمان آستین کلوش ",1,1,0,0,{"$f":"(J580-H580)/(I580-G580)","v":1},{"$f":"H580-G580*K580","v":0},0,{"$f":"(M580-L580)/K580","v":0},30,{"$f":"(O580-L580)/K580","v":30},15,{"$f":"(Q580-L580)/K580","v":15}]
[]
[" متغیر ورودی آستین کلوش معکوس :",null,null,null,null," متغیر ورودی آستین کلوش معکوس :","x1","y1","x2","y2(بهینه)","a","b",null,"کمترین",null,"بیشترین"]
["بلندی آستین","(از 0 الی 1)",{"$f":"K583*E583+L583","v":0.39999999999999991},"بدون بلندی=0 \nآستین تا مچ=1 ",{"$f":"'طراحی همه الگوها'!K230","v":30},"بلندی پایین آستین کلوش معکوس",30,0.4,10,1,{"$f":"(J583-H583)/(I583-G583)","v":-0.03},{"$f":"H583-G583*K583","v":1.2999999999999998},0,{"$f":"(M583-L583)/K583","v":43.333333333333329},1,{"$f":"(O583-L583)/K583","v":9.9999999999999947},1,{"$f":"(Q583-L583)/K583","v":9.9999999999999947}]
["زاویه اوزمان آستین (برحسب درجه)","(از 0 الی 10)",{"$f":"K584*E584+L584","v":5},"بدون کلوش=0 \nبهینه=5 ",{"$f":"'طراحی همه الگوها'!K231","v":5}," اوزمان آستین کلوش معکوس ",1,1,0,0,{"$f":"(J584-H584)/(I584-G584)","v":1},{"$f":"H584-G584*K584","v":0},0,{"$f":"(M584-L584)/K584","v":0},10,{"$f":"(O584-L584)/K584","v":10},5,{"$f":"(Q584-L584)/K584","v":5}]
["متغیرهای ورودی شلوار",null,null,null,null,"متغیرهای ورودی شلوار"]
[]
[" متغیرهای ورودی کلی شلوار",null,null,null,null," متغیرهای ورودی کلی شلوار","x1","y1","x2","y2(بهینه)","a","b",null,"کمترین",null,"بیشترین"]
["ضریب گشاد یا تنگ شدن اندازه های عرضی در شلوار   t4 ","(از -0.2 الی 0.3)",{"$f":"K588*E588+L588","v":-0.05},"اندامی=0\nرکاب دار= - 0.15",{"$f":"'طراحی همه الگوها'!N177","v":-5},"ضریب گشاد یا تنگ شدن اندازه های عرضی در شلوار    ",1,0.01,0,0,{"$f":"(J588-H588)/(I588-G588)","v":0.01},{"$f":"H588-G588*K588","v":0},-0.2,{"$f":"(M588-L588)/K588","v":-20},0.3,{"$f":"(O588-L588)/K588","v":30},-0.15,{"$f":"(Q588-L588)/K588","v":-15}]
["ضریب گشاد یا تنگ شدن اندازه های طولی در شلوار   t41 ","(از -0.2 الی 0.2)",0,"اندامی=0\nرکاب دار= - 0.07",{"$f":"'طراحی همه الگوها'!N178","v":0},"ضریب گشاد یا تنگ شدن اندازه های طولی در شلوار    ",1,0.01,0,0,0.01,0,-0.2,-20,0.2,20,-7.0000000000000007E-2,-7.0000000000000009]
["ضریب کوتاهی لبه شلوار تا زمین  (قد شلوار)   t1","(از -0.1 الی 1.8)",1,"خط زمین=0 \nخط زانو=1 \nخط باسن = 2",{"$f":"'طراحی همه الگوها'!N179","v":30},"ضریب کوتاهی پایین شلوار  (قد شلوار)   ",10,0,30,1,0.05,-0.5,-0.1,8,1.8,45.999999999999993,1,30]
["ضریب گشادی پاچه شلوار t2","(از 0.8 الی 3)",1.8000000000000007,"بهینه=1.6",{"$f":"'طراحی همه الگوها'!N180","v":16},"ضریب گشادی پاچه شلوار ",1,1.05,0,1,5.0000000000000044E-2,1,0.8,-3.9999999999999956,3,39.999999999999964,1.6,11.999999999999991]
["ضریب گشادی دور زانو t3","(از 0.8 الی 2)",1.2000000000000002,"بهینه=1.2",{"$f":"'طراحی همه الگوها'!N181","v":4},"ضریب گشادی دور زانو ",1,1.05,0,1,5.0000000000000044E-2,1,0.8,-3.9999999999999956,2,19.999999999999982,1.2,3.9999999999999956]
["ضریب عرض زیپ  t14 ","(از 0 الی 0.5)",0.30000000000000004,"بهینه=0.3",{"$f":"'طراحی همه الگوها'!N182","v":6},"ضریب عرض زیپ   ",1,0.05,0,0,0.05,0,0,0,0.5,10,0.3,5.9999999999999991]
["شیفت افقی کل الگو جلو شلوار (به سانتیمتر)  x1","(از -100 الی100)",15,"بهینه=دلخواه",{"$f":"'طراحی همه الگوها'!N183","v":15},"شیفت افقی کل الگو جلو شلوار (سانتیمتر)  ",1,1,0,0,1,0,-100,-100,100,100]
["شیفت عمودی کل الگو جلو شلوار (به سانتیمتر)  y1","(از -100 الی100)",0,"بهینه=دلخواه",{"$f":"'طراحی همه الگوها'!N184","v":0},"شیفت عمودی کل الگو جلو شلوار (سانتیمتر)  ",1,1,0,0,1,0,-100,-100,100,100]
["شیفت افقی کل الگو پشت شلوار (به سانتیمتر)  xp1","(از -100 الی100)",10,"بهینه=دلخواه",{"$f":"'طراحی همه الگوها'!N185","v":10},"شیفت افقی کل الگو پشت شلوار (سانتیمتر)  ",1,1,0,0,1,0,-100,-100,100,100]
["شیفت عمودی کل الگو پشت شلوار (به سانتیمتر)  yp1","(از -100 الی100)",0,"بهینه=دلخواه",{"$f":"'طراحی همه الگوها'!N186","v":0},"شیفت عمودی کل الگو پشت شلوار (سانتیمتر)  ",1,1,0,0,1,0,-100,-100,100,100]
[]
[" متغیرهای ورودی - شلوار متصل به بالاتنه",null,null,null,null," متغیرهای ورودی - شلوار متصل به بالاتنه","x1","y1","x2","y2(بهینه)","a","b",null,"کمترین",null,"بیشترین"]
[" ضریب بلند شدن فاق در شلوار متصل به بالاتنه   t53 ","(از 0 الی 4)",{"$f":"K600*E600+L600","v":0},"بهینه شلوار متصل به بالاتنه=1\nغیر از آن= 0",{"$f":"'طراحی همه الگوها'!N205","v":10}," ضریب بلند شدن فاق در شلوار متصل به بالاتنه    ",11,0.1,10,0,{"$f":"(J600-H600)/(I600-G600)","v":0.1},{"$f":"H600-G600*K600","v":-1},0,{"$f":"(M600-L600)/K600","v":10},4,{"$f":"(O600-L600)/K600","v":50},1,{"$f":"(Q600-L600)/K600","v":20}]
["ضریب بزرگی پهنای جادکمه پهلو","(از 0 الی 0.1)",{"$f":"K601*E601+L601","v":0.04},"بهینه=0.04",{"$f":"'طراحی همه الگوها'!N206","v":4},"ضریب بزرگی پهنای جادکمه پهلو",1,0.01,0,0,{"$f":"(J601-H601)/(I601-G601)","v":0.01},{"$f":"H601-G601*K601","v":0},0,{"$f":"(M601-L601)/K601","v":0},0.1,{"$f":"(O601-L601)/K601","v":10},0.04,{"$f":"(Q601-L601)/K601","v":4}]
[]
[" متغیرهای ورودی کمر شلوار",null,null,null,null," متغیرهای ورودی کمر شلوار","x1","y1","x2","y2(بهینه)","a","b",null,"کمترین",null,"بیشترین"]
[" پایین آمدن کمر لباس نسبت به کمر اندام به سانتیمتر  t7","(از -2 الی 10)",{"$f":"K604*E604+L604","v":5},"پهنای کش=2الی3  ",{"$f":"'طراحی همه الگوها'!N196","v":-5}," پایین آمدن کمر شلوار نسبت به کمر اندام   ",1,-1,0,0,{"$f":"(J604-H604)/(I604-G604)","v":-1},{"$f":"H604-G604*K604","v":0},-2,{"$f":"(M604-L604)/K604","v":2},10,{"$f":"(O604-L604)/K604","v":-10},2,{"$f":"(Q604-L604)/K604","v":-2}]
[" پهنای کمر شلوار به سانتیمتر  t8","(از 0 الی 10)",3.5,"پهنای کش=2الی3  ",{"$f":"'طراحی همه الگوها'!N197","v":3.5}," پهنای کمر جدا در شلوار  (cm) ",1,1,0,0,1,0,0,0,10,10,2,{"$f":"(Q605-L605)/K605","v":2}]
["کوتاهی جلو کمر شلوار به سانتیمتر t9","(از -2 الی 10)",0,"بدون کوتاهی=0",{"$f":"'طراحی همه الگوها'!N198","v":0},"کوتاهی جلو کمر شلوار نسبت به پشت کمر شلوار (cm) ",1,-1,0,0,-1,0,-2,2,10,-10,0,{"$f":"(Q606-L606)/K606","v":0}]
["شیفت افقی  جلو کمر شلوار (به سانتیمتر)  t49","(از -100 الی100)",0,"بهینه=دلخواه",{"$f":"'طراحی همه الگوها'!N199","v":0},"شیفت افقی  جلو کمر شلوار (سانتیمتر)  ",1,1,0,0,1,0,-100,-100,100,100]
["شیفت عمودی  جلو کمر شلوار (به سانتیمتر)  t50","(از -100 الی100)",5,"بهینه=دلخواه",{"$f":"'طراحی همه الگوها'!N200","v":5},"شیفت عمودی  جلو کمر شلوار (سانتیمتر)  ",1,1,0,0,1,0,-100,-100,100,100]
["شیفت افقی  پشت کمر شلوار (به سانتیمتر)  t51","(از -100 الی100)",0,"بهینه=دلخواه",{"$f":"'طراحی همه الگوها'!N201","v":0},"شیفت افقی  پشت کمر شلوار (سانتیمتر)  ",1,1,0,0,1,0,-100,-100,100,100]
["شیفت عمودی  پشت کمر شلوار (به سانتیمتر)  t52","(از -100 الی100)",5,"بهینه=دلخواه",{"$f":"'طراحی همه الگوها'!N202","v":5},"شیفت عمودی  پشت کمر شلوار (سانتیمتر)  ",1,1,0,0,1,0,-100,-100,100,100]
[]
["اطلاعات شلوار و اندام",null,null,null,null,"اطلاعات شلوار و اندام"]
["گشادی لبه شلوار (محاسبه شده)",{"$f":"ROUND(محاسبات!W568-محاسبات!W567+محاسبات!AG568-محاسبات!AG567,1)","v":27.1},null,null,null,"گشادی لبه شلوار (سانتیمتر) (محاسبه شده)"]
["دور کمر (اندازه گیری شده)",{"$f":"'متغیرها '!U52","v":49},null,null,null,"دور کمر (سانتیمتر) (اندازه گیری شده)"]
["طول کش برای کل کمر شلوار (محاسبه شده)",{"$f":"ROUND(0.8*B614,1)","v":39.200000000000003},null,null,null,"طول کش برای کل کمر شلوار (سانتیمتر) (محاسبه شده)"]
["طول کش برای پشت کمر بین دو خط پهلو (محاسبه شده)",{"$f":"ROUND(0.8*'متغیرها '!U53,1)","v":19.2},null,null,null,"طول کش برای پشت کمر بین دو خط پهلو (سانتیمتر) (محاسبه شده)"]
["طول کش از ساسون جلو - پشت - تا ساسون دیگر جلو (محاسبه شده)",{"$f":"ROUND(0.8*('متغیرها '!U53+0.3*('متغیرها '!U52-'متغیرها '!U53)),1)","v":25.2},null,null,null,"طول کش از ساسون جلو - پشت - تا ساسون دیگر جلو (سانتیمتر) (محاسبه شده)"]
[]
[" متغیرهای ورودی جزئی شلوار",null,null,null,null," متغیرهای ورودی جزئی شلوار","x1","y1","x2","y2(بهینه)","a","b",null,"کمترین",null,"بیشترین"]
["ضریب گشادی دور ران یا نسبت گشادی پشت پاچه به جلو پاچه  t5","(از 1 الی 1.5)",{"$f":"K620*E620+L620","v":1.2},"بهینه=1.2",{"$f":"'طراحی همه الگوها'!N209","v":1.2},"ضریب گشادی دور ران یا نسبت گشادی پشت پاچه به جلو پاچه  ",2,2,1,1,{"$f":"(J620-H620)/(I620-G620)","v":1},{"$f":"H620-G620*K620","v":0},1,{"$f":"(M620-L620)/K620","v":1},1.5,{"$f":"(O620-L620)/K620","v":1.5},1.2,{"$f":"(Q620-L620)/K620","v":1.2}]
["زاویه خط پهلو جلو به درجه  t6","(از 0 الی 10)",-1,"بهینه=7\nبهينه پا پرانتزی=4\nکد برای اعمال روش مولر= -1",{"$f":"IF('طراحی همه الگوها'!N210=AN170,-1,'طراحی همه الگوها'!N210)","v":-1},"زاویه خط پهلو جلو به درجه  ",1,1,0,0,1,0,0,0,10,10,7,7]
["ضریب پهنای صافی لبه پایین شلوار  t10 ","(از 0 الی 0.5)",0,"بهینه=0.1",{"$f":"'طراحی همه الگوها'!N211","v":0},"ضریب پهنای صافی لبه پایین شلوار   ",1,0.05,0,0,0.05,0,0,0,0.5,10,0.1,2]
["ضریب بالا یا پایین رفتن خط زانو  t11 ","(از -0.4 الی 0.6)",0,"بدون تغییر=0\nمنفی به سمت بالای زانو\nمثبت به سمت پایین زانو",{"$f":"'طراحی همه الگوها'!N212","v":0},"ضریب بالا یا پایین رفتن خط زانو   ",-1,0.05,0,0,-0.05,0,-0.4,8,0.6,-11.999999999999998,0,0]
["ضریب پهنای فاق جلو (در روش مولر این ضریب ثابت مساوی 0.06 می باشد)  t12 ","(از 0.03 الی 0.08)",0.05,"بهینه=0.05",{"$f":"'طراحی همه الگوها'!N213","v":5},"ضریب پهنای فاق جلو (در روش مولر این ضریب ثابت مساوی 0.06 می باشد)   ",1,0.01,0,0,0.01,0,0.03,3,0.08,8,0.05,5]
["تغییر زاویه خط وسط پا در پشت شلوار  t13 ","(از 0 الی 5)",1,"بهینه=1",{"$f":"'طراحی همه الگوها'!N214","v":2},"تغییر زاویه خط وسط پا در پشت شلوار   ",1,0.5,0,0,0.5,0,0,0,5,10,1,2]
["ضریب کوتاه شدن ساسون پشت شلوار  t20 ","(از 0.07 الی 1.5)",1,"بهینه=1",{"$f":"'طراحی همه الگوها'!N215","v":20},"ضریب کوتاه شدن ساسون پشت شلوار   ",1,0.05,0,0,0.05,0,7.0000000000000007E-2,1.4000000000000001,1.5,30,1,20]
["ضریب کوتاه شدن ساسون جلو شلوار  t21 ","(از 0.1 الی 1.5)",1,"بهینه=1",{"$f":"'طراحی همه الگوها'!N216","v":20},"ضریب کوتاه شدن ساسون جلو شلوار   ",1,0.05,0,0,0.05,0,0.1,2,1.5,30,1,20]
["ضریب پهنای ساسون وسط پشت شلوار  t42 ","(از 0 الی 1.5)",1,"بهینه=1\nبهینه جین=0.5\nحذف ساسون وسط=0",{"$f":"'طراحی همه الگوها'!N217","v":10},"ضریب پهنای ساسون وسط پشت شلوار   ",1,0.1,0,0,0.1,0,0,0,1.5,15,0.5,5]
["ضریب پهنای ساسون پهلو پشت شلوار  t43 ","(از 0 الی 3)",0.5,"بهینه=1\nبهینه جین=1.5\nانتقال ساسون وسط به پهلو=3",{"$f":"'طراحی همه الگوها'!N218","v":5},"ضریب پهنای ساسون پهلو پشت شلوار   ",1,0.1,0,0,0.1,0,0,0,3,30,1,10]
["ضریب پهنای ساسون وسط جلو شلوار  t44 ","(از 0 الی 1.5)",1,"بهینه=1\nحذف ساسون وسط=0",{"$f":"'طراحی همه الگوها'!N219","v":10},"ضریب پهنای ساسون وسط جلو شلوار   ",1,0.1,0,0,0.1,0,0,0,1.5,15,1,10]
["ضریب پهنای ساسون پهلو جلو شلوار  t45 ","(از 0 الی 2)",0.5,"بهینه=1\nانتقال ساسون وسط به پهلو=2",{"$f":"'طراحی همه الگوها'!N220","v":5},"ضریب پهنای ساسون پهلو جلو شلوار   ",1,0.1,0,0,0.1,0,0,0,2,20,1,10]
["ضریب حذف ساسون پهلو در کمر جدا شلوار   t15","(از 0 الی 1)",0,"ساسون حذف شود=0\nساسون حذف نشود=1",{"$f":"'طراحی همه الگوها'!N221","v":0},"ضریب حذف ساسون پهلو در کمر جدا شلوار   ",1,0.1,0,0,{"$f":"(J632-H632)/(I632-G632)","v":0.1},{"$f":"H632-G632*K632","v":0},0,0,1,10,1,10]
[" شبیه ساز   فاق اندازه گیری منهای فاق پشت و جلو",{"$f":"ROUND(محاسبات!L597,1)","v":0.6}]
[" زاویه خط پهلو جلوبه درجه",{"$f":"ROUND(محاسبات!K598,1)","v":3.6}]
[" شبیه ساز   زاویه خط پهلو جلوبه درجه",{"$f":"ROUND(محاسبات!L598,1)","v":7.6}]
["زاویه خط پهلو پشت به درجه",{"$f":"ROUND(محاسبات!K599,1)","v":12.6}]
[" شبیه ساز   زاویه خط پهلو پشت به درجه",{"$f":"ROUND(محاسبات!L599,1)","v":16.600000000000001}]
[]
[" متغیرهای ورودی شلوار - برش پشت جین",null,null,null,null," متغیرهای ورودی شلوار - برش پشت جین","x1","y1","x2","y2(بهینه)","a","b",null,"کمترین",null,"بیشترین"]
["ضریب بالا یا پایین شدن خط برش در قسمت پهلو پشت شلوار جین  t19 ","(از 0.01 الی 1",{"$f":"K640*E640+L640","v":0.5},"بهینه=0.5",{"$f":"'طراحی همه الگوها'!N224","v":20},"ضریب بالا یا پایین شدن خط برش در قسمت پهلو پشت شلوار جین   ",19,0.45,20,0.5,{"$f":"(J640-H640)/(I640-G640)","v":4.9999999999999989E-2},{"$f":"H640-G640*K640","v":-0.49999999999999972},0.01,{"$f":"(M640-L640)/K640","v":10.199999999999996},1,{"$f":"(O640-L640)/K640","v":30.000000000000004},0.5,{"$f":"(Q640-L640)/K640","v":20}]
["ضریب بالا یا پایین شدن خط برش در قسمت مرکزی پشت شلوار جین  t28 ","(از 0.01 الی 1",{"$f":"K641*E641+L641","v":0.6},"بهینه=0.6",{"$f":"'طراحی همه الگوها'!N225","v":20},"ضریب بالا یا پایین شدن خط برش در قسمت مرکزی پشت شلوار جین   ",19,0.55000000000000004,20,0.6,{"$f":"(J641-H641)/(I641-G641)","v":4.9999999999999933E-2},{"$f":"H641-G641*K641","v":-0.39999999999999869},0.01,{"$f":"(M641-L641)/K641","v":8.1999999999999851},1,{"$f":"(O641-L641)/K641","v":28.000000000000007},0.6,{"$f":"(Q641-L641)/K641","v":20}]
[]
[" متغیرهای ورودی دامن شلواری",null,null,null,null," متغیرهای ورودی دامن شلواری","x1","y1","x2","y2(بهینه)","a","b",null,"کمترین",null,"بیشترین"]
[" ضریب بلند شدن فاق در دامن شلواری   t46 ","(از 0 الی 2)",{"$f":"K644*E644+L644","v":0},"بهینه دامن شلواری=1\nغیر از دامن شلواری = 0",{"$f":"'طراحی همه الگوها'!N228","v":10}," ضریب بلند شدن فاق در دامن شلواری    ",11,0.1,10,0,{"$f":"(J644-H644)/(I644-G644)","v":0.1},{"$f":"H644-G644*K644","v":-1},0,{"$f":"(M644-L644)/K644","v":10},2,{"$f":"(O644-L644)/K644","v":30},1,{"$f":"(Q644-L644)/K644","v":20}]
["زاویه اوزمان در جلو دامن شلواری به درجه    t47 ","(از 0 الی 30)",{"$f":"K645*E645+L645","v":8},"بهینه=8",{"$f":"'طراحی همه الگوها'!N229","v":8},"زاویه اوزمان در جلو دامن شلواری به درجه     ",1,1,0,0,{"$f":"(J645-H645)/(I645-G645)","v":1},{"$f":"H645-G645*K645","v":0},0,{"$f":"(M645-L645)/K645","v":0},30,{"$f":"(O645-L645)/K645","v":30},8,{"$f":"(Q645-L645)/K645","v":8}]
["زاویه اوزمان در پشت دامن شلواری به درجه    t48 ","(از 0 الی 30)",{"$f":"K646*E646+L646","v":8},"بهینه=8",{"$f":"'طراحی همه الگوها'!N230","v":8},"زاویه اوزمان در پشت دامن شلواری به درجه     ",1,1,0,0,{"$f":"(J646-H646)/(I646-G646)","v":1},{"$f":"H646-G646*K646","v":0},0,{"$f":"(M646-L646)/K646","v":0},30,{"$f":"(O646-L646)/K646","v":30},8,{"$f":"(Q646-L646)/K646","v":8}]
[]
[" متغیرهای ورودی شلوار با تکه پهلو جدا",null,null,null,null," متغیرهای ورودی شلوار با تکه پهلو جدا","x1","y1","x2","y2(بهینه)","a","b",null,"کمترین",null,"بیشترین"]
["ضریب پهنای تکه پهلو جلو شلوار  t29 ","(از 0 الی 0.9)",{"$f":"K649*E649+L649","v":0.60000000000000009},"بهینه=0.6",{"$f":"'طراحی همه الگوها'!N233","v":12},"ضریب پهنای تکه پهلو جلو شلوار   ",1,0.05,0,0,{"$f":"(J649-H649)/(I649-G649)","v":0.05},{"$f":"H649-G649*K649","v":0},0,{"$f":"(M649-L649)/K649","v":0},0.9,{"$f":"(O649-L649)/K649","v":18},0.6,{"$f":"(Q649-L649)/K649","v":11.999999999999998}]
["ضریب پهنای تکه پهلو پشت شلوار  t30 ","(از 0 الی 0.9)",0.30000000000000004,"بهینه=0.3",{"$f":"'طراحی همه الگوها'!N234","v":6},"ضریب پهنای تکه پهلو پشت شلوار   ",1,0.05,0,0,0.05,0,0,0,0.9,18,0.3,{"$f":"(Q650-L650)/K650","v":5.9999999999999991}]
["ضریب باریک شدن پایین تکه پهلو جلو شلوار  t31 ","(از 0 الی 4)",0.5,"بهینه=0.5",{"$f":"'طراحی همه الگوها'!N235","v":5},"ضریب باریک شدن پایین تکه پهلو جلو شلوار   ",1,0.1,0,0,0.1,0,0,0,4,40,0.5,{"$f":"(Q651-L651)/K651","v":5}]
["ضریب باریک شدن پایین تکه پهلو پشت شلوار  t32 ","(از 0 الی 4)",0.5,"بهینه=0.5",{"$f":"'طراحی همه الگوها'!N236","v":5},"ضریب باریک شدن پایین تکه پهلو پشت شلوار   ",1,0.1,0,0,0.1,0,0,0,4,40,0.5,{"$f":"(Q652-L652)/K652","v":5}]
["شیفت افقی تکه پهلو شلوار (به سانتیمتر)  t33","(از -100 الی100)",7,"بهینه=3",{"$f":"'طراحی همه الگوها'!N237","v":7},"شیفت افقی تکه پهلو شلوار (سانتیمتر)  ",1,1,0,0,1,0,-100,-100,100,100]
["شیفت عمودی تکه پهلو شلوار (به سانتیمتر)  t34","(از -100 الی100)",0,"بهینه=3",{"$f":"'طراحی همه الگوها'!N238","v":0},"شیفت عمودی تکه پهلو شلوار (سانتیمتر)  ",1,1,0,0,1,0,-100,-100,100,100]
[]
[" متغیرهای ورودی شلوار - رکاب دار",null,null,null,null," متغیرهای ورودی شلوار - رکاب دار","x1","y1","x2","y2(بهینه)","a","b",null,"کمترین",null,"بیشترین"]
["ضریب پهنای رکاب جلو شلوار  t35 ","(از 0.1 الی 2)",{"$f":"K657*E657+L657","v":1},"بهینه=1",{"$f":"'طراحی همه الگوها'!N241","v":20},"ضریب پهنای رکاب جلو شلوار   ",1,0.05,0,0,{"$f":"(J657-H657)/(I657-G657)","v":0.05},{"$f":"H657-G657*K657","v":0},0.1,{"$f":"(M657-L657)/K657","v":2},2,{"$f":"(O657-L657)/K657","v":40},1,{"$f":"(Q657-L657)/K657","v":20}]
["ضریب پهنای رکاب پشت شلوار  t36 ","(از 0.1 الی 2)",1,"بهینه=1",{"$f":"'طراحی همه الگوها'!N242","v":20},"ضریب پهنای رکاب پشت شلوار   ",1,0.05,0,0,0.05,0,0.1,2,2,40,1,20]
["ضریب قله رکاب جلو شلوار  t37 ","(از 0 الی 2)",0,"بهینه=1\nبدون رکاب = 0",{"$f":"'طراحی همه الگوها'!N243","v":0},"ضریب قله رکاب جلو شلوار   ",1,0.05,0,0,0.05,0,0,0,2,40,1,20]
["ضریب قله رکاب پشت شلوار  t38 ","(از 0 الی 2)",0,"بهینه=1\nبدون رکاب = 0",{"$f":"'طراحی همه الگوها'!N244","v":0},"ضریب قله رکاب پشت شلوار   ",1,0.05,0,0,0.05,0,0,0,2,40,1,20]
["ضریب ارتفاع رکاب جلو شلوار  t39 ","(از 0 الی 2)",0,"بهینه=1\nبدون رکاب = 0",{"$f":"'طراحی همه الگوها'!N245","v":0},"ضریب ارتفاع رکاب جلو شلوار   ",1,0.05,0,0,0.05,0,0,0,2,40,1,20]
["ضریب ارتفاع رکاب پشت شلوار  t40 ","(از 0 الی 2)",0,"بهینه=1\nبدون رکاب = 0",{"$f":"'طراحی همه الگوها'!N246","v":0},"ضریب ارتفاع رکاب پشت شلوار   ",1,0.05,0,0,0.05,0,0,0,2,40,1,20]
[]
[" متغیرهای ورودی شلوار - جیب پشت جین",null,null,null,null," متغیرهای ورودی شلوار - جیب پشت جین","x1","y1","x2","y2(بهینه)","a","b",null,"کمترین",null,"بیشترین"]
["ضریب بالا یا پایین شدن جیب پشت شلوار  t22 ","(از 0 الی 4)",{"$f":"K665*E665+L665","v":0.75},"بهینه=0.75",{"$f":"'طراحی همه الگوها'!N255","v":20},"ضریب بالا یا پایین شدن جیب پشت شلوار   ",19,0.7,20,0.75,{"$f":"(J665-H665)/(I665-G665)","v":5.0000000000000044E-2},{"$f":"H665-G665*K665","v":-0.25000000000000089},0,{"$f":"(M665-L665)/K665","v":5.0000000000000133},4,{"$f":"(O665-L665)/K665","v":84.999999999999943},0.75,{"$f":"(Q665-L665)/K665","v":20}]
["زاویه چرخش کل جیب پشت شلوار به درجه t'22 ","(از -90 الی 90)",0,"بهینه=0",{"$f":"'طراحی همه الگوها'!N253","v":45},"زاویه چرخش کل جیب پشت شلوار به درجه  ",46,2,45,0,2,-90,-90,0,90,90,0,45]
["ضریب پهنای جیب پشت شلوار  t23 ","(از 0 الی 1)",0.55000000000000004,"بهینه=0.55",{"$f":"'طراحی همه الگوها'!N249","v":11},"ضریب پهنای جیب پشت شلوار   ",1,0.05,0,0,0.05,0,0,0,1,20,0.55000000000000004,11]
["ضریب ارتفاع جیب پشت شلوار  t24 ","(از 0 الی 1)",0.45,"بهینه=0.45",{"$f":"'طراحی همه الگوها'!N250","v":9},"ضریب ارتفاع جیب پشت شلوار   ",1,0.05,0,0,0.05,0,0,0,1,20,0.45,9]
["زاویه خط پهلو جیب پشت شلوار به درجه t25 ","(از 0 الی 45",5,"بهینه=5",{"$f":"'طراحی همه الگوها'!N251","v":5},"زاویه خط پهلو جیب پشت شلوار به درجه  ",1,1,0,0,1,0,0,0,45,45,5,5]
["زاویه مثلث پایین جیب پشت شلوار به درجه t26 ","(از 0 الی 45)",20,"بهینه=20",{"$f":"'طراحی همه الگوها'!N252","v":20},"زاویه مثلث پایین جیب پشت شلوار به درجه  ",1,1,0,0,1,0,0,0,45,45,20,20]
["چپ و راست رفتن جیب پشت شلوار به سانتی متر   t27 ","(از -100 الی100)",0,"بهینه=0",{"$f":"'طراحی همه الگوها'!N254","v":0},"چپ و راست رفتن جیب پشت شلوار به سانتی متر    ",1,1,0,0,1,0,-100,-100,100,100]
[]
[" متغیرهای ورودی شلوار - جیب جلو مردانه و جین",null,null,null,null," متغیرهای ورودی شلوار - جیب جلو مردانه و جین","x1","y1","x2","y2(بهینه)","a","b",null,"کمترین",null,"بیشترین"]
["ضریب بزرگی عمودی جیب جلو مردانه و جیب جین  t16 ","(از 0.5 الی 1.5)",{"$f":"K674*E674+L674","v":1},"بهینه=1",{"$f":"'طراحی همه الگوها'!N258","v":10},"ضریب بزرگی عمودی جیب جلو مردانه و جیب جین   ",1,0.1,0,0,{"$f":"(J674-H674)/(I674-G674)","v":0.1},{"$f":"H674-G674*K674","v":0},0.5,{"$f":"(M674-L674)/K674","v":5},1.5,{"$f":"(O674-L674)/K674","v":15},1,{"$f":"(Q674-L674)/K674","v":10}]
["ضریب بزرگی افقی جیب جلو مردانه و جیب جین  t17 ","(از 0.5 الی 1.5)",{"$f":"K675*E675+L675","v":1},"بهینه=1",{"$f":"'طراحی همه الگوها'!N259","v":10},"ضریب بزرگی افقی جیب جلو مردانه و جیب جین   ",1,0.1,0,0,{"$f":"(J675-H675)/(I675-G675)","v":0.1},{"$f":"H675-G675*K675","v":0},0.5,{"$f":"(M675-L675)/K675","v":5},1.5,{"$f":"(O675-L675)/K675","v":15},1,{"$f":"(Q675-L675)/K675","v":10}]
["ضریب بزرگی کیسه جیب جلو  t18 ","(از 0.5 الی 1.5)",{"$f":"K676*E676+L676","v":1},"بهینه=1",{"$f":"'طراحی همه الگوها'!N260","v":10},"ضریب بزرگی کیسه جیب جلو   ",1,0.1,0,0,{"$f":"(J676-H676)/(I676-G676)","v":0.1},{"$f":"H676-G676*K676","v":0},0.5,{"$f":"(M676-L676)/K676","v":5},1.5,{"$f":"(O676-L676)/K676","v":15},1,{"$f":"(Q676-L676)/K676","v":10}]
[]
[" متغیرهای ورودی شلوار - جیب جلو درمکان دلخواه",null,null,null,null," متغیرهای ورودی شلوار - جیب جلو درمکان دلخواه","x1","y1","x2","y2(بهینه)","a","b",null,"کمترین",null,"بیشترین"]
["ضریب فاصله افقی وسط جیب از خط مرکزی جلو ","(از 0 الی 1)",{"$f":"K679*E679+L679","v":0.5},"خط مرکزی جلو=0 \nخط پهلو=1  ",{"$f":"'طراحی همه الگوها'!N268","v":10},"ضریب فاصله افقی وسط جیب از خط مرکزی جلو ",20,1,0,0,{"$f":"(J679-H679)/(I679-G679)","v":0.05},{"$f":"H679-G679*K679","v":0},0,{"$f":"(M679-L679)/K679","v":0},1,{"$f":"(O679-L679)/K679","v":20},1,{"$f":"(Q679-L679)/K679","v":20}]
["ضریب فاصله عمودی بالای جیب از زمین ","(از0 الی 5)",2,"خط زمین=0 \nخط زانو=1 \nخط باسن=2 \nخط کمر=3 \nخط سینه=4  ",{"$f":"'طراحی همه الگوها'!N269","v":50},"ضریب فاصله عمودی بالای جیب از زمین ",10,0,30,1,0.05,-0.5,0,10,5,110,1,30]
["عرض پاکت جیب به سانتیمتر","(از 0 الی 4)",2,"بهینه=2",{"$f":"'طراحی همه الگوها'!N263","v":2},"پهنای بلیطی جیب  (سانتیمتر)",1,1,0,0,1,0,0,0,4,4,2,2]
["ضریب طول پاکت جیب","(از 0.01 الی 2)",0.89999999999999991,"بهینه=1",{"$f":"'طراحی همه الگوها'!N264","v":18},"ضریب طول پاکت جیب",19,0.95,20,1,5.0000000000000044E-2,-8.8817841970012523E-16,0.01,0.20000000000001758,2,39.999999999999986,1,20]
["زاویه جیب با عمود به درجه","(از 0 الی 180)",90,"بهینه=دلخواه",{"$f":"'طراحی همه الگوها'!N265","v":18},"زاویه جیب با عمود ",1,5,0,0,5,0,0,0,180,36,20,4]
["زاویه چرخش پاکت جیب از مستطیل به متوازی الاضلاع (به درجه)","(از -90 الی 90)",0,"پاکت مستطیل=0  ",{"$f":"'طراحی همه الگوها'!N266","v":20},"زاویه چرخش پاکت جیب از مستطیل به متوازی الاضلاع ",21,5,20,0,5,-100,-90,2,90,38,0,20]
["انتخاب جیب روکار=1        انتخاب دیگر=0","0 یا 1 ",1,null,{"$f":"'طراحی همه الگوها'!N267","v":2},"انتخاب جیب روکار=2        انتخاب دیگر=1",1,0,2,1,1,-1,0,1,1,2,0,1]
[]
[" متغیرهای ورودی شلوار - جیب پشت درمکان دلخواه",null,null,null,null," متغیرهای ورودی شلوار - جیب پشت درمکان دلخواه","x1","y1","x2","y2(بهینه)","a","b",null,"کمترین",null,"بیشترین"]
["ضریب فاصله افقی وسط جیب از خط مرکزی جلو ","(از 0 الی 1)",{"$f":"K688*E688+L688","v":0.5},"خط مرکزی پشت=0 \nخط پهلو=1  ",{"$f":"'طراحی همه الگوها'!N277","v":10},"ضریب فاصله افقی وسط جیب از خط مرکزی جلو ",20,1,0,0,{"$f":"(J688-H688)/(I688-G688)","v":0.05},{"$f":"H688-G688*K688","v":0},0,{"$f":"(M688-L688)/K688","v":0},1,{"$f":"(O688-L688)/K688","v":20},1,{"$f":"(Q688-L688)/K688","v":20}]
["ضریب فاصله عمودی بالای جیب از زمین ","(از0 الی 5)",2,"خط زمین=0 \nخط زانو=1 \nخط باسن=2 \nخط کمر=3 \nخط سینه=4  ",{"$f":"'طراحی همه الگوها'!N278","v":50},"ضریب فاصله عمودی بالای جیب از زمین ",10,0,30,1,0.05,-0.5,0,10,5,110,1,30]
["عرض پاکت جیب به سانتیمتر","(از 0 الی 4)",2,"بهینه=2",{"$f":"'طراحی همه الگوها'!N272","v":2},"پهنای بلیطی جیب  (سانتیمتر)",1,1,0,0,1,0,0,0,4,4,2,2]
["ضریب طول پاکت جیب","(از 0.01 الی 2)",1,"بهینه=1",{"$f":"'طراحی همه الگوها'!N273","v":20},"ضریب طول پاکت جیب",19,0.95,20,1,5.0000000000000044E-2,-8.8817841970012523E-16,0.01,0.20000000000001758,2,39.999999999999986,1,20]
["زاویه جیب با عمود به درجه","(از 0 الی 180)",90,"بهینه=دلخواه",{"$f":"'طراحی همه الگوها'!N274","v":18},"زاویه جیب با عمود ",1,5,0,0,5,0,0,0,180,36,20,4]
["زاویه چرخش پاکت جیب از مستطیل به متوازی الاضلاع (به درجه)","(از -90 الی 90)",0,"پاکت مستطیل=0  ",{"$f":"'طراحی همه الگوها'!N275","v":20},"زاویه چرخش پاکت جیب از مستطیل به متوازی الاضلاع ",21,5,20,0,5,-100,-90,2,90,38,0,20]
["انتخاب جیب روکار=1        انتخاب دیگر=0","0 یا 1 ",1,null,{"$f":"'طراحی همه الگوها'!N276","v":2},"انتخاب جیب روکار=2        انتخاب دیگر=1",1,0,2,1,1,-1,0,1,1,2,0,1]
["متغیرهای ورودی یقه",null,null,null,null,"متغیرهای ورودی یقه"]
[null,null,"y",null,"x",null,"x1","y1","x2","y2(بهینه)","a","b",null,"کمترین",null,"بیشترین"]
[" متغیرهای ورودی یقه شکاری با پایه",null,null,null,null," متغیرهای ورودی یقه شکاری با پایه"]
["ضریب قد پایه یقه   c20","(از 0.5 الی 2)",{"$f":"K698*E698+L698","v":0.8},"بهینه =0.8",{"$f":"'طراحی همه الگوها'!H482","v":8},"ضریب قد پایه یقه   ",1,0.1,0,0,{"$f":"(J698-H698)/(I698-G698)","v":0.1},{"$f":"H698-G698*K698","v":0},0.5,{"$f":"(M698-L698)/K698","v":5},2,{"$f":"(O698-L698)/K698","v":20},0.8,{"$f":"(Q698-L698)/K698","v":8}]
["ضریب قد پشت برگردان یقه   c1","(از 0.5 الی 3)",2,"بهینه =2",{"$f":"'طراحی همه الگوها'!H483","v":20},"ضریب قد پشت برگردان یقه   ",1,0.1,0,0,0.1,0,0.5,5,3,30,2,20]
["ضریب کج شدن یقه به سمت گردن   c2","(از- 2 الی 0)",-1.3,"بهینه = - 1.3",{"$f":"'طراحی همه الگوها'!H484","v":-13},"ضریب کج شدن یقه به سمت گردن   ",1,0.1,0,0,0.1,0,-2,-20,0,0,-1.3,-13]
["ضریب قرار گرفتن لبه یقه نسبت به لباس   c3","(از 0.3 الی 1)\n- 1 و ",1,"لبه یقه روی خط جادکمه= - 1\nلبه یقه روی خط سرشانه=0\nلبه یقه روی خط مرکزی جلو=1\nبین خط مرکزی جلو تا سرشانه= \nبین 0 تا 1",{"$f":"IF('طراحی همه الگوها'!H485='متغیرها '!AM170,58,IF('طراحی همه الگوها'!H485='متغیرها '!AM171,0,'طراحی همه الگوها'!H485))","v":0},"ضریب قرار گرفتن لبه یقه نسبت به لباس   ",58,-1,0,1,-3.4482758620689655E-2,1,0.3,20.3,1,0,0.3,20.3]
["زاویه لبه برگردان یقه نسبت به عمود  (به درجه)   c14","(از- 40 الی 60)",17,"بهینه =17 \nلبه برگردان عمود به پایه=0",{"$f":"'طراحی همه الگوها'!H486","v":57},"زاویه لبه برگردان یقه نسبت به عمود    ",1,-39,57,17,1,-40,-40,0,60,100,17,57]
["ضریب قد لبه برگردان یقه   c15","(از0.5 الی 4)",2.3000000000000003,"بهینه =2.3",{"$f":"'طراحی همه الگوها'!H487","v":23},"ضریب قد لبه برگردان یقه   ",1,0.1,0,0,0.1,0,0.5,5,4,40,2.2999999999999998,22.999999999999996]
["شیفت افقی پایه یقه  (به سانتیمتر)   c23","(از -100 الی100)",0,"بهینه=دلخواه",{"$f":"'طراحی همه الگوها'!H488","v":0},"شیفت افقی پایه یقه  (سانتیمتر)   ",1,1,0,0,1,0,null,1,null,100,0]
["شیفت عمودی پایه یقه  (به سانتیمتر)  c24","(از -100 الی100)",-5,"بهینه=دلخواه",{"$f":"'طراحی همه الگوها'!H489","v":-5},"شیفت عمودی پایه یقه  (سانتیمتر)  ",1,1,0,0,1,0,null,1,null,100,0]
[]
[" متغیرهای ورودی یقه فرنچی ایستاده و کاسبرگی",null,null,null,null," متغیرهای ورودی یقه فرنچی ایستاده و کاسبرگی","x1","y1","x2","y2(بهینه)","a","b",null,"کمترین",null,"بیشترین"]
["ضریب قد یقه    c1","(از 0.5 الی 2)",{"$f":"K708*E708+L708","v":1.4000000000000001},"بهینه فرنچی=1.2\nبهینه ایستاده=1.4\nبهینه کاسبرگی=1.8",{"$f":"'طراحی همه الگوها'!H464","v":14},"ضریب قد یقه    ",1,0.1,0,0,{"$f":"(J708-H708)/(I708-G708)","v":0.1},{"$f":"H708-G708*K708","v":0},0.5,{"$f":"(M708-L708)/K708","v":5},2,{"$f":"(O708-L708)/K708","v":20},1.4,{"$f":"(Q708-L708)/K708","v":13.999999999999998}]
["ضریب کج شدن یقه به سمت گردن   c2","(از -2 الی 2)",{"$f":"K709*E709+L709","v":0},"بهینه فرنچی=1.5\nبهینه ایستاده=0\nبهینه کاسبرگی= - 1\nیقه فرنچی= + \nیقه کاسبرگی= -   ",{"$f":"'طراحی همه الگوها'!H465","v":0},"ضریب کج شدن یقه به سمت گردن  ",1,0.1,0,0,{"$f":"(J709-H709)/(I709-G709)","v":0.1},{"$f":"H709-G709*K709","v":0},-2,{"$f":"(M709-L709)/K709","v":-20},2,{"$f":"(O709-L709)/K709","v":20},-1,{"$f":"(Q709-L709)/K709","v":-10}]
["ضریب قرار گرفتن لبه یقه نسبت به لباس   c3     یقه هفت","(از 0.2 الی 1)\n- 1 و ",{"$f":"K710*E710+L710","v":-1},"لبه یقه روی خط جادکمه= - 1\nلبه یقه روی خط سرشانه=0\nلبه یقه روی خط مرکزی جلو=1\nبین خط مرکزی جلو تا سرشانه= \nبین 0 تا 1\nبهینه یقه هفت=0.2",{"$f":"IF('طراحی همه الگوها'!H466='متغیرها '!AM170,58,IF('طراحی همه الگوها'!H466='متغیرها '!AM171,0,'طراحی همه الگوها'!H466))","v":58},"ضریب قرار گرفتن لبه یقه نسبت به لباس        ",58,-1,0,1,{"$f":"(J710-H710)/(I710-G710)","v":-3.4482758620689655E-2},{"$f":"H710-G710*K710","v":1},0.2,{"$f":"(M710-L710)/K710","v":23.200000000000003},1,{"$f":"(O710-L710)/K710","v":0},-1,{"$f":"(Q710-L710)/K710","v":58}]
["ضریب انحنا لبه یقه  c4","(از 0.2 الی 1.2)",{"$f":"K711*E711+L711","v":0.2},"بهینه انحنا=0.9",{"$f":"'طراحی همه الگوها'!H467","v":5},"ضریب انحنا لبه یقه  ",5,0.2,20,0.9,{"$f":"(J711-H711)/(I711-G711)","v":4.6666666666666662E-2},{"$f":"H711-G711*K711","v":-3.3333333333333298E-2},0.2,{"$f":"(M711-L711)/K711","v":5},1.2,{"$f":"(O711-L711)/K711","v":26.428571428571427},0.01,{"$f":"(Q711-L711)/K711","v":0.92857142857142794}]
[]
[" متغیرهای ورودی شیفت افقی یقه",null,null,null,null," متغیرهای ورودی شیفت افقی یقه"]
["شیفت افقی همه یقه های جدا  (به سانتیمتر)   c5","(از -100 الی100)",{"$f":"K714*E714+L714","v":0},"بهینه=دلخواه",{"$f":"'طراحی همه الگوها'!H453","v":0},"شیفت افقی همه یقه های جدا  (سانتیمتر)   ",1,1,0,0,{"$f":"(J714-H714)/(I714-G714)","v":1},{"$f":"H714-G714*K714","v":0},null,1,null,100,0]
["شیفت عمودی همه یقه های جدا  (به سانتیمتر)  c6","(از -100 الی100)",{"$f":"K715*E715+L715","v":30},"بهینه=دلخواه",{"$f":"'طراحی همه الگوها'!H454","v":30},"شیفت عمودی همه یقه های جدا  (سانتیمتر)  ",1,1,0,0,{"$f":"(J715-H715)/(I715-G715)","v":1},{"$f":"H715-G715*K715","v":0},null,1,null,100,0]
[]
[" متغیرهای ورودی کلاه کلی",null,null,null,null," متغیرهای ورودی کلاه کلی","x1","y1","x2","y2(بهینه)","a","b",null,"کمترین",null,"بیشترین"]
["ضریب بزرگ یا کوچک شدن کلاه","(از -0.2 الی 0.2)",{"$f":"K718*E718+L718","v":-0.12},"بدون تغییر = 0\nکلاه بزرگتر = + \nکلاه کوچکتر =  -  ",{"$f":"'طراحی همه الگوها'!H501","v":-12},"ضریب بزرگ یا کوچک شدن کلاه",1,0.01,0,0,{"$f":"(J718-H718)/(I718-G718)","v":0.01},{"$f":"H718-G718*K718","v":0},-0.2,{"$f":"(M718-L718)/K718","v":-20},0.2,{"$f":"(O718-L718)/K718","v":20},0,{"$f":"(Q718-L718)/K718","v":0}]
["انتخاب کلاه برای موهای دم اسبی که از پشت بسته شود =1      انتخاب دیگر=0","0 یا 1 ",0,null,{"$f":"'طراحی همه الگوها'!H502","v":1},"انتخاب کلاه ملوانی برای موهای دم اسبی که از پشت بسته شود ",1,0,2,1,1,-1,0,1,1,2,1,2]
["ضریب پهنای بلیطی جلو کلاه","(از 0  الی 0.8)",0,"بهینه=0.4",{"$f":"'طراحی همه الگوها'!H503","v":0},"ضریب پهنای بلیطی جلو کلاه",1,0.05,0,0,0.05,0,0,0,0.8,16,0.4,8]
["ضریب بلندی بلیطی جلو کلاه","(از 0 الی 1.6)",0,"بهینه=0.7",{"$f":"'طراحی همه الگوها'!H504","v":0},"ضریب بلندی بلیطی جلو کلاه",1,0.05,0,0,0.05,0,0,0,1.6,32,0.7,13.999999999999998]
["ضریب بلندی انحنا جلو کلاه","(از 0  الی 1)",0.2,"بهینه=0.2",{"$f":"'طراحی همه الگوها'!H505","v":4},"ضریب بلندی انحنا جلو کلاه",1,0.05,0,0,0.05,0,0,0,1,20,0.2,4]
["ضریب پهنای انحنا روی صورت","(از 0  الی 1)",0.4,"بهینه=0.4",{"$f":"'طراحی همه الگوها'!H506","v":8},"ضریب پهنای انحنا روی صورت",1,0.05,0,0,0.05,0,0,0,1,20,0.4,8]
["ضریب پهنای انحنا بالای پیشانی","(از 0 الی 1)",0.30000000000000004,"بهینه=0.3",{"$f":"'طراحی همه الگوها'!H507","v":6},"ضریب پهنای انحنا بالای پیشانی",1,0.05,0,0,{"$f":"(J724-H724)/(I724-G724)","v":0.05},{"$f":"H724-G724*K724","v":0},0,0,1,20,0.3,5.9999999999999991]
[]
[" متغیرهای ورودی شیفت افقی کلاه",null,null,null,null," متغیرهای ورودی شیفت افقی کلاه","x1","y1","x2","y2(بهینه)","a","b",null,"کمترین",null,"بیشترین"]
["شیفت افقی کلاه  (به سانتیمتر)","(از -100 الی100)",{"$f":"K727*E727+L727","v":-30},"بهینه=دلخواه",{"$f":"'طراحی همه الگوها'!H496","v":-30},"شیفت افقی کلاه  (سانتیمتر)",1,1,0,0,{"$f":"(J727-H727)/(I727-G727)","v":1},{"$f":"H727-G727*K727","v":0},null,1,null,100,0]
["شیفت عمودی کلاه (به سانتیمتر)","(از -100 الی100)",{"$f":"K728*E728+L728","v":20},"بهینه=دلخواه",{"$f":"'طراحی همه الگوها'!H497","v":20},"شیفت عمودی کلاه (سانتیمتر)",1,1,0,0,{"$f":"(J728-H728)/(I728-G728)","v":1},{"$f":"H728-G728*K728","v":0},null,1,null,100,0]
["جابجایی افقی تکه پشت سر در کلاه سه تکه  (سانتیمتر)","(از -20 الی20)",{"$f":"K729*E729+L729","v":3},"بهینه=دلخواه",{"$f":"'طراحی همه الگوها'!H498","v":3},"جابجایی افقی تکه پشت سر در کلاه سه تکه  (سانتیمتر)",1,1,0,0,{"$f":"(J729-H729)/(I729-G729)","v":1},{"$f":"H729-G729*K729","v":0},null,1,null,100,0]
[]
[" متغیرهای ورودی کلاه متصل به یقه مربعی",null,null,null,null," متغیرهای ورودی کلاه متصل به یقه مربعی","x1","y1","x2","y2(بهینه)","a","b",null,"کمترین",null,"بیشترین"]
["ضریب جلو یقه روی خط مرکزی","(از 0.1 الی 0.45)",{"$f":"K732*E732+L732","v":0.3},"بهینه=0.3",{"$f":"'طراحی همه الگوها'!H234","v":30},"ضریب جلو یقه روی خط مرکزی",1,0.01,0,0,{"$f":"(J732-H732)/(I732-G732)","v":0.01},{"$f":"H732-G732*K732","v":0},0.1,{"$f":"(M732-L732)/K732","v":10},0.45,{"$f":"(O732-L732)/K732","v":45},0.3,{"$f":"(Q732-L732)/K732","v":30}]
["ضریب نصف جلو کارور","(از 0.2 الی 0.55)",{"$f":"K733*E733+L733","v":0.48},"بهینه=0.48",{"$f":"'طراحی همه الگوها'!H235","v":48},"ضریب نصف جلو کارور",1,0.01,0,0,{"$f":"(J733-H733)/(I733-G733)","v":0.01},{"$f":"H733-G733*K733","v":0},0.2,{"$f":"(M733-L733)/K733","v":20},0.55000000000000004,{"$f":"(O733-L733)/K733","v":55},0.48,{"$f":"(Q733-L733)/K733","v":48}]
[]
[" متغیرهای ورودی کلاه ملوانی",null,null,null,null," متغیرهای ورودی کلاه ملوانی","x1","y1","x2","y2(بهینه)","a","b",null,"کمترین",null,"بیشترین"]
["  باز شدن یقه هفت γ1   تعیین شده در یقه انگلیسی لباس","(از 0.6 الی 0.99)",{"$f":"C165","v":0.7}]
["ضریب جلو یقه روی خط مرکزی","(از 0.4 الی 0.99)",{"$f":"K737*E737+L737","v":0.60000000000000009},null,{"$f":"'طراحی همه الگوها'!H238","v":12},"ضریب جلو یقه روی خط مرکزی",1,0.05,0,0,{"$f":"(J737-H737)/(I737-G737)","v":0.05},{"$f":"H737-G737*K737","v":0},0.4,{"$f":"(M737-L737)/K737","v":8},0.99,{"$f":"(O737-L737)/K737","v":19.799999999999997},0.5,{"$f":"(Q737-L737)/K737","v":10}]
["ضریب نصف جلو کارور","(از 0.01 الی 0.1)",{"$f":"K738*E738+L738","v":0.02},null,{"$f":"'طراحی همه الگوها'!H239","v":4},"ضریب نصف جلو کارور",1,5.0000000000000001E-3,0,0,{"$f":"(J738-H738)/(I738-G738)","v":5.0000000000000001E-3},{"$f":"H738-G738*K738","v":0},0.01,{"$f":"(M738-L738)/K738","v":2},0.1,{"$f":"(O738-L738)/K738","v":20},0.02,{"$f":"(Q738-L738)/K738","v":4}]
[]
[" متغیرهای ورودی یقه شکاری ",null,null,null,null," متغیرهای ورودی یقه شکاری ","x1","y1","x2","y2(بهینه)","a","b",null,"کمترین",null,"بیشترین"]
["ضریب قد پشت یقه   c1","(از 0.5 الی 3)",{"$f":"K741*E741+L741","v":2},"بهینه =2",{"$f":"'طراحی همه الگوها'!H457","v":20},"ضریب قد پشت یقه   ",1,0.1,0,0,{"$f":"(J741-H741)/(I741-G741)","v":0.1},{"$f":"H741-G741*K741","v":0},0.5,{"$f":"(M741-L741)/K741","v":5},3,{"$f":"(O741-L741)/K741","v":30},2,{"$f":"(Q741-L741)/K741","v":20}]
["ضریب کج شدن  یقه به سمت گردن   c2","(از- 2 الی 0)",{"$f":"K742*E742+L742","v":-0.8},"بهینه = - 0.8",{"$f":"'طراحی همه الگوها'!H458","v":-8},"ضریب کج شدن  یقه به سمت گردن   ",1,0.1,0,0,{"$f":"(J742-H742)/(I742-G742)","v":0.1},{"$f":"H742-G742*K742","v":0},-2,{"$f":"(M742-L742)/K742","v":-20},0,{"$f":"(O742-L742)/K742","v":0},-0.8,{"$f":"(Q742-L742)/K742","v":-8}]
["ضریب قرار گرفتن لبه یقه نسبت به لباس   c3","(از 0.3 الی 1)\n- 1 و ",{"$f":"K743*E743+L743","v":1},"لبه یقه روی خط جادکمه= - 1\nلبه یقه روی خط سرشانه=0\nلبه یقه روی خط مرکزی جلو=1\nبین خط مرکزی جلو تا سرشانه= \nبین 0 تا 1",{"$f":"IF('طراحی همه الگوها'!H459='متغیرها '!AM170,58,IF('طراحی همه الگوها'!H459='متغیرها '!AM171,0,'طراحی همه الگوها'!H459))","v":0},"ضریب قرار گرفتن لبه یقه نسبت به لباس   ",58,-1,0,1,{"$f":"(J743-H743)/(I743-G743)","v":-3.4482758620689655E-2},{"$f":"H743-G743*K743","v":1},0.3,{"$f":"(M743-L743)/K743","v":20.3},1,{"$f":"(O743-L743)/K743","v":0},-1,{"$f":"(Q743-L743)/K743","v":58}]
["زاویه لبه برگردان یقه نسبت به عمود  (به درجه)   c14","(از- 40 الی 60)",{"$f":"K744*E744+L744","v":17},"بهینه =17 \nلبه برگردان عمود به پایه=0",{"$f":"'طراحی همه الگوها'!H460","v":57},"زاویه لبه برگردان یقه نسبت به عمود     ",1,-39,57,17,{"$f":"(J744-H744)/(I744-G744)","v":1},{"$f":"H744-G744*K744","v":-40},-40,{"$f":"(M744-L744)/K744","v":0},60,{"$f":"(O744-L744)/K744","v":100},17,{"$f":"(Q744-L744)/K744","v":57}]
["ضریب قد لبه برگردان یقه   c15","(از0.5 الی 4)",{"$f":"K745*E745+L745","v":2.3000000000000003},"بهینه =2.3",{"$f":"'طراحی همه الگوها'!H461","v":23},"ضریب قد لبه برگردان یقه   ",1,0.1,0,0,{"$f":"(J745-H745)/(I745-G745)","v":0.1},{"$f":"H745-G745*K745","v":0},0.5,{"$f":"(M745-L745)/K745","v":5},4,{"$f":"(O745-L745)/K745","v":40},2.2999999999999998,{"$f":"(Q745-L745)/K745","v":22.999999999999996}]
[]
[" متغیرهای ورودی یقه شومیزیه ",null,null,null,null," متغیرهای ورودی یقه شومیزیه ","x1","y1","x2","y2(بهینه)","a","b",null,"کمترین",null,"بیشترین"]
["ضریب قد پایه یقه   c1","(از 0.5 الی 2)",{"$f":"K748*E748+L748","v":0.8},"بهینه =1.5",{"$f":"'طراحی همه الگوها'!H470","v":8},"ضریب قد پایه یقه   ",1,0.1,0,0,{"$f":"(J748-H748)/(I748-G748)","v":0.1},{"$f":"H748-G748*K748","v":0},0.5,{"$f":"(M748-L748)/K748","v":5},2,{"$f":"(O748-L748)/K748","v":20},1.5,{"$f":"(Q748-L748)/K748","v":15}]
["ضریب کج شدن پایه یقه به سمت گردن   c2","پایه جدا :\n(از0.1 الی 2)\nپایه سرخود :\n(از 0 الی -1 )",0.5,"بهینه پایه جدا =0.5 \nبهینه پایه سرخود= - 0.4",{"$f":"'طراحی همه الگوها'!H471","v":5},"ضریب کج شدن پایه یقه به سمت گردن   ",1,0.1,0,0,{"$f":"(J749-H749)/(I749-G749)","v":0.1},{"$f":"H749-G749*K749","v":0},-1,-10,2,20,-0.4,-4]
["ضریب قرار گرفتن لبه پایه یقه نسبت به لباس   c3","(از 0.3 الی 1)\n- 1 و ",1,"لبه یقه روی خط جادکمه= - 1\nلبه یقه روی خط سرشانه=0\nلبه یقه روی خط مرکزی جلو=1\nبین خط مرکزی جلو تا سرشانه= \nبین 0 تا 1",{"$f":"IF('طراحی همه الگوها'!H472='متغیرها '!AM170,58,IF('طراحی همه الگوها'!H472='متغیرها '!AM171,0,'طراحی همه الگوها'!H472))","v":0},"ضریب قرار گرفتن لبه پایه یقه نسبت به لباس   ",58,-1,0,1,{"$f":"(J750-H750)/(I750-G750)","v":-3.4482758620689655E-2},{"$f":"H750-G750*K750","v":1},0.3,20.3,1,0,1,0]
["ضریب انحنا لبه پایه یقه  c4","(از 0.2 الی 1.2)",0.89999999999999991,"بهینه انحنا=0.9",{"$f":"'طراحی همه الگوها'!H473","v":20},"ضریب انحنا لبه پایه یقه  ",5,0.2,20,0.9,{"$f":"(J751-H751)/(I751-G751)","v":4.6666666666666662E-2},{"$f":"H751-G751*K751","v":-3.3333333333333298E-2},0.2,5,1.2,26.428571428571427,0.9,20.000000000000004]
["ضریب قد پشت برگردان یقه   c1","(از 0.5 الی 3)",2.1,"بهینه =2.1",{"$f":"'طراحی همه الگوها'!H474","v":21},"ضریب قد پشت برگردان یقه   ",1,0.1,0,0,{"$f":"(J752-H752)/(I752-G752)","v":0.1},{"$f":"H752-G752*K752","v":0},0.5,5,3,30,2.1,21]
["ضریب کج شدن برگردان یقه به سمت گردن   c2","پایه جدا :\n(از - 0.1 الی -2 )\nپایه سرخود :\n(از 0 الی  -1  )",-0.70000000000000007,"بهینه پایه جدا =  - 0.7 \nبهینه پایه سرخود= - 0.4",{"$f":"'طراحی همه الگوها'!H475","v":-7},"ضریب کج شدن برگردان یقه به سمت گردن   ",1,0.1,0,0,0.1,0,-2,-20,0,0,-0.7,-6.9999999999999991]
["زاویه لبه برگردان یقه نسبت به عمود  (به درجه)   c14","(از- 40 الی 60)",5,"بهینه =5 \nلبه برگردان عمود به پایه=0",{"$f":"'طراحی همه الگوها'!H476","v":45},"زاویه لبه برگردان یقه نسبت به عمود    ",1,-39,57,17,1,-40,-40,0,60,100,5,45]
["ضریب قد لبه برگردان یقه   c15","(از0.5 الی 4)",2,"بهینه =2",{"$f":"'طراحی همه الگوها'!H477","v":20},"ضریب قد لبه برگردان یقه   ",1,0.1,0,0,0.1,0,0.5,5,4,40,2,20]
["شیفت افقی برگردان یقه  (به سانتیمتر)   c16","(از -100 الی100)",0,"بهینه=دلخواه",{"$f":"'طراحی همه الگوها'!H478","v":0},"شیفت افقی برگردان یقه  (سانتیمتر)   ",1,1,0,0,1,0,null,1,null,100,0]
["شیفت عمودی برگردان یقه  (به سانتیمتر)  c17","(از -100 الی100)",40,"بهینه=دلخواه",{"$f":"'طراحی همه الگوها'!H479","v":40},"شیفت عمودی برگردان یقه  (سانتیمتر)  ",1,1,0,0,1,0,null,1,null,100,0]
[]
[" متغیرهای ورودی یقه ب ب مثلثی و گرد",null,null,null,null," متغیرهای ورودی یقه ب ب مثلثی و گرد","x1","y1","x2","y2(بهینه)","a","b",null,"کمترین",null,"بیشترین"]
["زاویه جلو یقه ب ب مثلثی","(از 0 الی 50)",{"$f":"K760*E760+L760","v":25},"بهینه=25",{"$f":"'طراحی همه الگوها'!H492","v":25},"زاویه جلو یقه ب ب مثلثی",19,19,20,20,{"$f":"(J760-H760)/(I760-G760)","v":1},{"$f":"H760-G760*K760","v":0},0,{"$f":"(M760-L760)/K760","v":0},50,{"$f":"(O760-L760)/K760","v":50},25,{"$f":"(Q760-L760)/K760","v":25}]
["ضریب پهنای یقه ب ب مثلثی و گرد ","(از 0.3 الی 1)",{"$f":"K761*E761+L761","v":0.5},"بهینه=0.5",{"$f":"'طراحی همه الگوها'!H493","v":20},"ضریب پهنای یقه ب ب مثلثی و گرد ",10,0.3,20,0.5,{"$f":"(J761-H761)/(I761-G761)","v":0.02},{"$f":"H761-G761*K761","v":9.9999999999999978E-2},0.3,{"$f":"(M761-L761)/K761","v":10},1,{"$f":"(O761-L761)/K761","v":45},0.5,{"$f":"(Q761-L761)/K761","v":20}]
[]
[]
["متغیرهای ورودی دامن",null,null,null,null,"متغیرهای ورودی یقه"]
[null,null,"y",null,"x",null,"x1","y1","x2","y2(بهینه)","a","b",null,"کمترین",null,"بیشترین"]
[" متغیرهای ورودی زیپ و چاک دامن",null,null,null,null," متغیرهای ورودی یقه شکاری با پایه"]
["عرض (پهنا) زیپ در خط پهلو  (سانتیمتر)   ","(از 0 الی 10)",{"$f":"K767*E767+L767","v":0},"بهینه =3",{"$f":"'طراحی همه الگوها'!E376","v":0},"ضریب قد پایه یقه   ",1,1,0,0,{"$f":"(J767-H767)/(I767-G767)","v":1},{"$f":"H767-G767*K767","v":0},0,{"$f":"(M767-L767)/K767","v":0},10,{"$f":"(O767-L767)/K767","v":10},3,{"$f":"(Q767-L767)/K767","v":3}]
["ضریب طول (بلندی) زیپ در خط پهلو  ","(از 0 الی 20)",16,"بهینه =16",{"$f":"'طراحی همه الگوها'!E377","v":16},"ضریب قد پشت برگردان یقه   ",1,1,0,0,1,0,0,0,20,20,16,16]
["عرض (پهنا) زیپ در خط مرکزی پشت  (سانتیمتر)   ","(از 0 الی 10)",3,"بهینه =3",{"$f":"'طراحی همه الگوها'!E378","v":3},"ضریب کج شدن یقه به سمت گردن   ",1,1,0,0,1,0,0,0,10,10,3,3]
["ضریب طول (بلندی) زیپ در خط مرکزی پشت  ","(از 0 الی 20)",16,"بهینه =16",{"$f":"'طراحی همه الگوها'!E379","v":16},"ضریب قرار گرفتن لبه یقه نسبت به لباس   ",1,1,0,0,1,0,0,0,20,20,16,16]
["عرض (پهنا) چاک در خط مرکزی پشت  (سانتیمتر)   ","(از 0 الی 10)",4,"بهینه =4",{"$f":"'طراحی همه الگوها'!E380","v":4},"زاویه لبه برگردان یقه نسبت به عمود    ",1,1,0,0,1,0,0,0,10,10,4,4]
["ضریب طول (بلندی) چاک در خط مرکزی پشت  ","(از 0 الی 20)",13,"بهینه =16",{"$f":"'طراحی همه الگوها'!E381","v":13},"ضریب قد لبه برگردان یقه   ",1,1,0,0,1,0,0,0,20,20,16,16]
[]
[" پیلی ها  (متقارن یا نامتقارن در جلو دامن)",null,null,null,null," پیلی ها  (متقارن یا نامتقارن در جلو دامن)"]
[" عرض پیلی 2 (بعد از دوخت) - جلو  (سانتیمتر)     ","(از 0 الی 10)",{"$f":"K775*E775+L775","v":0},"بهینه =3",{"$f":"'طراحی همه الگوها'!E384","v":0}," عرض پیلی 2 (بعد از دوخت) - جلو  (سانتیمتر)     ",1,1,0,0,{"$f":"(J775-H775)/(I775-G775)","v":1},{"$f":"H775-G775*K775","v":0},0,{"$f":"(M775-L775)/K775","v":0},10,{"$f":"(O775-L775)/K775","v":10},3,{"$f":"(Q775-L775)/K775","v":3}]
[" عرض پیلی 3 (بعد از دوخت) - جلو  (سانتیمتر)   ","(از 0 الی 10)",0,"بهینه =3",{"$f":"'طراحی همه الگوها'!E385","v":0}," عرض پیلی 3 (بعد از دوخت) - جلو  (سانتیمتر)   ",1,1,0,0,1,0,0,0,20,20,16,16]
[" عرض پیلی 4 (بعد از دوخت) - جلو   (سانتیمتر)   ","(از 0 الی 10)",0,"بهینه =3",{"$f":"'طراحی همه الگوها'!E386","v":0}," عرض پیلی 4 (بعد از دوخت) - جلو   (سانتیمتر)   ",1,1,0,0,1,0,0,0,10,10,3,3]
[" عرض پیلی 5 (بعد از دوخت) - روی خط مرکزی جلو  (سانتیمتر)    ","(از 0 الی 10)",0,"بهینه =3",{"$f":"'طراحی همه الگوها'!E387","v":0}," عرض پیلی 5 (بعد از دوخت) - روی خط مرکزی جلو  (سانتیمتر)    ",1,1,0,0,1,0,0,0,20,20,16,16]
[" عرض پیلی 6 (بعد از دوخت) -  جلو  (سانتیمتر)     ","(از 0 الی 10)",0,"بهینه =3",{"$f":"'طراحی همه الگوها'!E388","v":0}," عرض پیلی 6 (بعد از دوخت) -  جلو  (سانتیمتر)     ",1,1,0,0,1,0,0,0,10,10,4,4]
[" عرض پیلی 7 (بعد از دوخت) - جلو   (سانتیمتر)   ","(از 0 الی 10)",0,"بهینه =3",{"$f":"'طراحی همه الگوها'!E389","v":0}," عرض پیلی 7 (بعد از دوخت) - جلو   (سانتیمتر)   ",1,1,0,0,1,0,0,0,20,20,16,16]
[" عرض پیلی 8 (بعد از دوخت) - جلو   (سانتیمتر)   ","(از 0 الی 10)",0,"بهینه =3",{"$f":"'طراحی همه الگوها'!E390","v":0}," عرض پیلی 8 (بعد از دوخت) - جلو   (سانتیمتر)   ",1,1,0,0,1,0,0,0,10,10,4,4]
[]
[" پیلی ها  (متقارن یا نامتقارن در پهلو دامن)",null,null,null,null," پیلی ها  (متقارن یا نامتقارن در پهلو دامن)"]
[" عرض پیلی 1 (بعد از دوخت) - روی پهلو چپ  (سانتیمتر)    ","(از 0 الی 10)",{"$f":"K784*E784+L784","v":0},"بهینه =3",{"$f":"'طراحی همه الگوها'!E393","v":0}," عرض پیلی 1 (بعد از دوخت) - روی پهلو چپ  (سانتیمتر)    ",1,1,0,0,{"$f":"(J784-H784)/(I784-G784)","v":1},{"$f":"H784-G784*K784","v":0},0,{"$f":"(M784-L784)/K784","v":0},10,{"$f":"(O784-L784)/K784","v":10},4,{"$f":"(Q784-L784)/K784","v":4}]
[" عرض پیلی 9 (بعد از دوخت) - روی پهلو راست   (سانتیمتر)   ","(از 0 الی 10)",{"$f":"K785*E785+L785","v":0},"بهینه =3",{"$f":"'طراحی همه الگوها'!E394","v":0}," عرض پیلی 9 (بعد از دوخت) - روی پهلو راست   (سانتیمتر)   ",1,1,0,0,1,0,0,0,20,20,16,16]
[]
[" پیلی ها  (متقارن یا نامتقارن در پشت دامن)",null,null,null,null," پیلی ها  (متقارن یا نامتقارن در پشت دامن)"]
[" عرض پیلی 10 (بعد از دوخت) - پشت  (سانتیمتر)     ","(از 0 الی 10)",{"$f":"K788*E788+L788","v":0},"بهینه =3",{"$f":"'طراحی همه الگوها'!E397","v":0}," عرض پیلی 10 (بعد از دوخت) - پشت  (سانتیمتر)     ",1,1,0,0,{"$f":"(J788-H788)/(I788-G788)","v":1},{"$f":"H788-G788*K788","v":0},0,{"$f":"(M788-L788)/K788","v":0},10,{"$f":"(O788-L788)/K788","v":10},3,{"$f":"(Q788-L788)/K788","v":3}]
[" عرض پیلی 11 (بعد از دوخت) - پشت  (سانتیمتر)   ","(از 0 الی 10)",0,"بهینه =3",{"$f":"'طراحی همه الگوها'!E398","v":0}," عرض پیلی 11 (بعد از دوخت) - پشت  (سانتیمتر)   ",1,1,0,0,1,0,0,0,20,20,16,16]
[" عرض پیلی 12 (بعد از دوخت) - پشت   (سانتیمتر)   ","(از 0 الی 10)",0,"بهینه =3",{"$f":"'طراحی همه الگوها'!E399","v":0}," عرض پیلی 12 (بعد از دوخت) - پشت   (سانتیمتر)   ",1,1,0,0,1,0,0,0,10,10,3,3]
[" عرض پیلی 13 (بعد از دوخت) - روی خط مرکزی پشت  (سانتیمتر)    ","(از 0 الی 10)",0,"بهینه =3",{"$f":"'طراحی همه الگوها'!E400","v":0}," عرض پیلی 13 (بعد از دوخت) - روی خط مرکزی پشت  (سانتیمتر)    ",1,1,0,0,1,0,0,0,20,20,16,16]
[" عرض پیلی 14 (بعد از دوخت) -  پشت  (سانتیمتر)     ","(از 0 الی 10)",0,"بهینه =3",{"$f":"'طراحی همه الگوها'!E401","v":0}," عرض پیلی 14 (بعد از دوخت) -  پشت  (سانتیمتر)     ",1,1,0,0,1,0,0,0,10,10,4,4]
[" عرض پیلی 15 (بعد از دوخت) - پشت   (سانتیمتر)   ","(از 0 الی 10)",0,"بهینه =3",{"$f":"'طراحی همه الگوها'!E402","v":0}," عرض پیلی 15 (بعد از دوخت) - پشت   (سانتیمتر)   ",1,1,0,0,1,0,0,0,20,20,16,16]
[" عرض پیلی 16 (بعد از دوخت) - پشت   (سانتیمتر)   ","(از 0 الی 10)",0,"بهینه =3",{"$f":"'طراحی همه الگوها'!E403","v":0}," عرض پیلی 16 (بعد از دوخت) - پشت   (سانتیمتر)   ",1,1,0,0,1,0,0,0,10,10,4,4]
["جابجایی افقی قرینه پشت دامن (سانتیمتر)","(از -50 الی50)",-15,"بهینه=دلخواه",{"$f":"'طراحی همه الگوها'!E404","v":-15},"جابجایی افقی قرینه پشت دامن (سانتیمتر)",1,1,0,0,1,0,null,1,null,100,0]
[]
["طراحی دامن چند طبقه چین"]
["j0   اتصال به دامن تنگ = 3    اتصال به بالاتنه با ساسون=2   اتصال به پیراهن راسته=1","1 یا 2 یا 3 ",{"$f":"K798*E798+L798","v":3},null,{"$f":"'طراحی همه الگوها'!E407","v":3},"اتصال به دامن تنگ = 3    اتصال به بالاتنه با ساسون=2   اتصال به پیراهن راسته=1",1,1,2,2,{"$f":"(J798-H798)/(I798-G798)","v":1},{"$f":"H798-G798*K798","v":0},null,1,null,2]
["مکان پایین دامن طبقه اول   j2 ","(از 0 الی 4)",{"$f":"K799*E799+L799","v":0.75},"خط زمین=0 \nخط زانو=1 \nخط باسن=2 \nخط کمر=3 \nخط سینه=4  ",{"$f":"'طراحی همه الگوها'!E408","v":25},"مکان پایین دامن طبقه اول    ",10,0,30,1,{"$f":"(J799-H799)/(I799-G799)","v":0.05},{"$f":"H799-G799*K799","v":-0.5},0,{"$f":"(M799-L799)/K799","v":10},4,100,0.25,{"$f":"(Q799-L799)/K799","v":15}]
["چین در دامن طبقه اول   j3","(از 0 الی 3)",{"$f":"K800*E800+L800","v":1},null,{"$f":"'طراحی همه الگوها'!E409","v":2},"چین در دامن طبقه اول",2,1,1,0,{"$f":"(J800-H800)/(I800-G800)","v":1},{"$f":"H800-G800*K800","v":-1},0,{"$f":"(M800-L800)/K800","v":1},3,{"$f":"(O800-L800)/K800","v":4},0.9,1.9]
["مکان پایین دامن طبقه دوم    j4","(از 0 الی 4)",0.5,"خط زمین=0 \nخط زانو=1 \nخط باسن=2 \nخط کمر=3 \nخط سینه=4  ",{"$f":"'طراحی همه الگوها'!E410","v":20},"مکان پایین دامن طبقه دوم    ",10,0,30,1,0.05,-0.5,0,10,4,100,0.25,15]
["چین در دامن طبقه دوم    j5","(از 0 الی 3)",{"$f":"K802*E802+L802","v":0},null,{"$f":"'طراحی همه الگوها'!E411","v":1},"چین در دامن طبقه دوم",2,1,1,0,{"$f":"(J802-H802)/(I802-G802)","v":1},{"$f":"H802-G802*K802","v":-1},0,{"$f":"(M802-L802)/K802","v":1},3,{"$f":"(O802-L802)/K802","v":4},0.9,1.9]
["مکان پایین دامن طبقه سوم    j6","(از 0 الی 4)",0.25,"خط زمین=0 \nخط زانو=1 \nخط باسن=2 \nخط کمر=3 \nخط سینه=4  ",{"$f":"'طراحی همه الگوها'!E412","v":15},"مکان پایین دامن طبقه سوم    ",10,0,30,1,0.05,-0.5,0,10,4,100,0.25,15]
["چین در دامن طبقه سوم   j7","(از 0 الی 3)",0,null,{"$f":"'طراحی همه الگوها'!E413","v":1},"چین در دامن طبقه سوم",2,1,1,0,1,-1,0,1,3,{"$f":"(O804-L804)/K804","v":4},0.9,1.9]
["مکان پایین دامن طبقه چهارم    j8","(از 0 الی 4)",0,"خط زمین=0 \nخط زانو=1 \nخط باسن=2 \nخط کمر=3 \nخط سینه=4  ",{"$f":"'طراحی همه الگوها'!E414","v":10},"مکان پایین دامن طبقه چهارم    ",10,0,30,1,0.05,-0.5,0,10,4,100,0.25,15]
["چین در دامن طبقه چهارم    j9","(از 0 الی 3)",0,null,{"$f":"'طراحی همه الگوها'!E415","v":1},"چین در دامن طبقه چهارم",2,1,1,0,1,-1,0,1,3,{"$f":"(O806-L806)/K806","v":4},0.9,1.9]
["جابجایی افقی جلو دامن چند طبقه (سانتیمتر)  j10","(از -100 الی100)",{"$f":"K807*E807+L807","v":0},"بهینه=دلخواه",{"$f":"'طراحی همه الگوها'!E416","v":0},"جابجایی افقی جلو دامن چند طبقه (سانتیمتر)",1,1,0,0,{"$f":"(J807-H807)/(I807-G807)","v":1},{"$f":"H807-G807*K807","v":0},-100,{"$f":"(M807-L807)/K807","v":-100},100,{"$f":"(O807-L807)/K807","v":100}]
["جابجایی عمودی جلو دامن چند طبقه (سانتیمتر)  j11","(از -100 الی100)",{"$f":"K808*E808+L808","v":0},"بهینه=دلخواه",{"$f":"'طراحی همه الگوها'!E417","v":0},"جابجایی عمودی جلو دامن چند طبقه (سانتیمتر)",1,1,0,0,{"$f":"(J808-H808)/(I808-G808)","v":1},{"$f":"H808-G808*K808","v":0},-100,{"$f":"(M808-L808)/K808","v":-100},100,{"$f":"(O808-L808)/K808","v":100}]
["جابجایی افقی پشت دامن چند طبقه (سانتیمتر)   j12","(از -100 الی100)",{"$f":"K809*E809+L809","v":0},"بهینه=دلخواه",{"$f":"'طراحی همه الگوها'!E418","v":0},"جابجایی افقی پشت دامن چند طبقه (سانتیمتر)",1,1,0,0,{"$f":"(J809-H809)/(I809-G809)","v":1},{"$f":"H809-G809*K809","v":0},-100,{"$f":"(M809-L809)/K809","v":-100},100,{"$f":"(O809-L809)/K809","v":100}]
["جابجایی عمودی پشت دامن چند طبقه (سانتیمتر)  j13","(از -100 الی100)",{"$f":"K810*E810+L810","v":0},"بهینه=دلخواه",{"$f":"'طراحی همه الگوها'!E419","v":0},"جابجایی عمودی پشت دامن چند طبقه (سانتیمتر)",1,1,0,0,{"$f":"(J810-H810)/(I810-G810)","v":1},{"$f":"H810-G810*K810","v":0},-100,{"$f":"(M810-L810)/K810","v":-100},100,{"$f":"(O810-L810)/K810","v":100}]
[]
["طراحی دامن لنگی دراپه"]
["پهنای هر دراپه (پیلی) به سانتیمتر   n0","(از 0 الی 20)",{"$f":"K813*E813+L813","v":3},null,{"$f":"'طراحی همه الگوها'!E422","v":3},null,1,1,2,2,{"$f":"(J813-H813)/(I813-G813)","v":1},{"$f":"H813-G813*K813","v":0},null,1,null,2]
["مکان نقطه شروع دراپه روی خط پهلو  n1 ","(از 1 الی 40)",26,null,{"$f":"'طراحی همه الگوها'!E423","v":26},null,1,1,2,2,1,0,null,1,null,2]
["مکان نقطه شروع دراپه در پایین لباس   n2","(از 1 الی 40)",26,null,{"$f":"'طراحی همه الگوها'!E424","v":26},null,1,1,2,2,1,0,null,1,null,2]
["مکان پیلی اول روی خط کمر  n3","(از 1 الی 40)",{"$f":"K816*E816+L816","v":10},null,{"$f":"'طراحی همه الگوها'!E425","v":10},null,1,1,2,2,{"$f":"(J816-H816)/(I816-G816)","v":1},{"$f":"H816-G816*K816","v":0},null,1,null,2]
["مکان پیلی دوم روی خط کمر  n4","(از 1 الی 40)",20,null,{"$f":"'طراحی همه الگوها'!E426","v":20},null,1,1,2,2,1,0,null,1,null,2]
["مکان پیلی سوم روی خط کمر  n5","(از 1 الی 40)",30,null,{"$f":"'طراحی همه الگوها'!E427","v":30},null,1,1,2,2,1,0,null,1,null,2]
["پهنای هر دراپه به درجه   n0",{"$f":"ROUND(DEGREES(محاسبات!LU325),1)","v":39}]
[]
[" دامن با والان"]
["پهنای هر یک از پیلی ها روی کمر  (سانتیمتر)  w1","(از 0 الی 20)",{"$f":"K822*E822+L822","v":5},null,{"$f":"'طراحی همه الگوها'!E430","v":5},null,1,1,2,2,{"$f":"(J822-H822)/(I822-G822)","v":1},{"$f":"H822-G822*K822","v":0},null,1,null,2]
["فاصله  پیلی اول تا خط مرکزی جلو   w0","(از 0 الی 40)",{"$f":"K823*E823+L823","v":15},null,{"$f":"'طراحی همه الگوها'!E431","v":15},null,1,1,2,2,{"$f":"(J823-H823)/(I823-G823)","v":1},{"$f":"H823-G823*K823","v":0},null,1,null,2]
[" لبه پایینی دامن والان روی خط مرکزی پشت    w2","(از 0 الی 4)",{"$f":"K824*E824+L824","v":0},"خط زمین=0 \nخط زانو=1 \nخط باسن=2 \nخط کمر=3 \nخط سینه=4  ",{"$f":"'طراحی همه الگوها'!E432","v":10},null,10,0,30,1,{"$f":"(J824-H824)/(I824-G824)","v":0.05},{"$f":"H824-G824*K824","v":-0.5},0,{"$f":"(M824-L824)/K824","v":10},4,100,0.25,{"$f":"(Q824-L824)/K824","v":15}]
[" لبه پایینی دامن والان روی درز پهلو  w3  ","(از 0 الی 4)",{"$f":"K825*E825+L825","v":0.25},"خط زمین=0 \nخط زانو=1 \nخط باسن=2 \nخط کمر=3 \nخط سینه=4  ",{"$f":"'طراحی همه الگوها'!E433","v":15},null,10,0,30,1,{"$f":"(J825-H825)/(I825-G825)","v":0.05},{"$f":"H825-G825*K825","v":-0.5},0,{"$f":"(M825-L825)/K825","v":10},4,100,0.25,{"$f":"(Q825-L825)/K825","v":15}]
[" لبه بالایی دامن والان روی درز پهلو   w5","(از 0 الی 4)",{"$f":"K826*E826+L826","v":1.5},"خط زمین=0 \nخط زانو=1 \nخط باسن=2 \nخط کمر=3 \nخط سینه=4  ",{"$f":"'طراحی همه الگوها'!E434","v":40},null,10,0,30,1,{"$f":"(J826-H826)/(I826-G826)","v":0.05},{"$f":"H826-G826*K826","v":-0.5},0,{"$f":"(M826-L826)/K826","v":10},4,100,0.25,{"$f":"(Q826-L826)/K826","v":15}]

{"sheet":"راهنما","index":3,"n_rows":0,"n_cols":0,"rows_kept":0,"cut":false,"hidden":true,"merged":[]}

{"sheet":"اندازه های شخصی","index":4,"n_rows":35,"n_cols":85,"rows_kept":35,"cut":false,"hidden":false,"merged":[]}
[]
[]
[]
[]
[null,null,null,null,"عنوان مورد نظر خود را در قسمت سبز رنگ وارد کنید",null,"عنوان 1",null,"عنوان 2",null,"عنوان 3",null,"عنوان 4",null,"عنوان 5",null,"عنوان 6",null,"عنوان 7",null,"عنوان 8",null,"عنوان 9",null,"عنوان 10",null,"عنوان 11",null,"عنوان 12",null,"عنوان 13",null,"عنوان 14",null,"عنوان 15",null,"عنوان 16",null,"عنوان 17",null,"عنوان 18",null,"عنوان 19",null,"عنوان 20",null,"عنوان 21",null,"عنوان 22",null,"عنوان 23",null,"عنوان 24",null,"عنوان 25",null,"عنوان 26",null,"عنوان 27",null,"عنوان 28",null,"عنوان 29",null,"عنوان 30",null,"عنوان 31",null,"عنوان 32",null,"عنوان 33",null,"عنوان 34",null,"عنوان 35",null,"عنوان 36",null,"عنوان 37",null,"عنوان 38",null,"عنوان 39",null,"عنوان 40"]
[]
[null,null,null,null,null,null,"اندازه شخصی 1",null,"اندازه شخصی 2",null,"اندازه شخصی 3",null,"اندازه شخصی 3",null,"اندازه شخصی 5",null,"اندازه شخصی 6",null,"اندازه شخصی 7",null,"اندازه شخصی 8",null,"اندازه شخصی 9",null,"اندازه شخصی 10",null,"اندازه شخصی 11",null,"اندازه شخصی 12",null,"اندازه شخصی 13",null,"اندازه شخصی 14",null,"اندازه شخصی 15",null,"اندازه شخصی 16",null,"اندازه شخصی 17",null,"اندازه شخصی 18",null,"اندازه شخصی 19",null,"اندازه شخصی 20",null,"اندازه شخصی 21",null,"اندازه شخصی 22",null,"اندازه شخصی 23",null,"اندازه شخصی 24",null,"اندازه شخصی 25",null,"اندازه شخصی 26",null,"اندازه شخصی 27",null,"اندازه شخصی 28",null,"اندازه شخصی 29",null,"اندازه شخصی 30",null,"اندازه شخصی 31",null,"اندازه شخصی 32",null,"اندازه شخصی 33",null,"اندازه شخصی 34",null,"اندازه شخصی 35",null,"اندازه شخصی 36",null,"اندازه شخصی 37",null,"اندازه شخصی 38",null,"اندازه شخصی 39",null,"اندازه شخصی 40"]
[null,null,null,null,"دور کمر","a"]
[null,null,null,null,"نوار کمر از پشت بین دو خط پهلو","b"]
[null,null,null,null,"دور باسن","c"]
[null,null,null,null,"نوار باسن از پشت بین دو خط پهلو","d"]
[null,null,null,null,"فاصله نوار کمر تا زمین، از قسمت جلو","e"]
[null,null,null,null,"فاصله نوار کمر تا زمین، از قسمت پهلو","f"]
[null,null,null,null,"فاصله نوار کمر تا زمین، از قسمت پشت","g"]
[null,null,null,null,"فاصله نوار زانو تا زمین","h"]
[null,null,null,null,"فاصله نوار باسن تا زمین","j"]
[null,null,null,null,"دور زانو","L"]
[null,null,null,null,"بلندی فاق","m"]
[null,null,null,null,"آنفورشور","q"]
[null,null,null,null,"دور مچ پا","r"]
[null,null,null,null,"شلوار زنانه و بچگانه = 0       مردانه=1      بچه با پوشک=2"]
[null,null,null,null,"دور سینه : از برجسته ترین قسمت سینه","s1"]
[null,null,null,null,"پشت نوار سینه، بین دو خط پهلو","s2"]
[null,null,null,null,"فاصله عمودی از خط سینه جلو تا خط سینه پشت که از کنار حلقه آستین بگذرد","t1"]
[null,null,null,null,"فاصله عمودی از خط سینه جلو تا خط سینه پشت که از کنارگردن بگذرد","t2"]
[null,null,null,null,"فاصله عمودی از خط کمر جلو تا خط کمر پشت که از کنار گردن بگذرد","t3"]
[null,null,null,null,"فاصله عمودی بین خط سینه پشت و سرشانه، نزدیک دست","t4"]
[null,null,null,null,"فاصله عمودی بین خط سینه پشت و سرشانه، نزدیک گردن","t5"]
[null,null,null,null,"فاصله عمودی بین خط کمرپشت و سرشانه، نزدیک گردن","t6"]
[null,null,null,null,"دور گردن (متر به طور عمودی دور گردن قرار می گیرد و از روی استخوان ترقوه می گذرد)","v"]
[null,null,null,null,"کارور پشت (بین دو خط امتداد زیر بغل)","v3"]
[null,null,null,null,"دور بازو از ناحیه زیر بغل","w2"]
[null,null,null,null,"قد آستین (دست به طور خمیده، قد از سرشانه تا مچ)","w10"]
[null,null,null,null,"دور مچ دست","w11"]
[null,null,null,null,"دور سر","w12"]

{"sheet":"اندازه گیری و تحلیل","index":5,"n_rows":487,"n_cols":26,"rows_kept":487,"cut":false,"hidden":false,"merged":[[401,25,402,25],[222,8,222,13]]}
[]
[]
[]
[null,null,null,null,null,"0 الی 30","خیلی کم"]
[null,null,null,"برای اندام شما :",null,"30 الی 50","کم",null,null,null,"قد سرشانه تا زمین",{"$f":"L419","v":160}]
[null,null,null,"برجستگی سینه جلو",null,"50 الی 70","متوسط",null,null,null,"تمام قد (تقریبی)",{"$f":"L420","v":180}]
[null,null,null,{"$f":"L479","v":73},null,"70 الی 90","زیاد"]
[null,null,null,null,null,"90 الی 200","خیلی زیاد"]
[]
[]
[]
[null,null,null,null,null,"0 الی 20","خیلی کم"]
[null,null,null,"برای اندام شما :",null,"20 الی 40","کم"]
[null,null,null,"برجستگی باسن",null,"40 الی 60","متوسط"]
[null,null,null,{"$f":"L476","v":57},null,"60 الی 80","زیاد"]
[null,null,null,null,null,"80 الی 200","خیلی زیاد"]
[]
[]
[]
[null,null,null,null,null,"3 الی - 20","شکم تخت"]
[null,null,null,"برای اندام شما :",null,"3 الی 6"]
[null,null,null,"برجستگی شکم نسبت به سینه",null,"6 الی 10"]
[null,null,null,{"$f":"L484","v":5},null,"10 الی 20","شکم در امتداد سینه"]
[null,null,null,null,null,"20 الی 30","شکم برجسته تراز سینه"]
[null,null,null,null,null,"30 الی 40","شکم حاملگی"]
[null,null,null,null,null,"40 الی 150","شکم حاملگی بزرگ"]
[]
[]
[]
[null,null,null,null,null,"0الی 10","خیلی کم"]
[null,null,null,"برای اندام شما :",null,"10 الی 15","کم"]
[null,null,null,"افتادگی سرشانه",null,"15 الی 20","متوسط"]
[null,null,null,{"$f":"L474","v":20},null,"20 الی 25","زیاد"]
[null,null,null,null,null,"25 الی 50","خیلی زیاد"]
[]
[]
[]
[]
[]
[]
[]
[]
[]
[]
[]
[]
[]
[]
[]
[]
[]
[]
[null,null,null,"خطای درجه 1 "]
[null,null,null,{"$f":"IF(AND(V404>20,V404<200),\" \",\" اندازه  a تکرار شود.\")","v":" "}]
[null,null,null,{"$f":"IF(AND(V405>10,V405<100),\" \",\" اندازه  b تکرار شود.\")","v":" "}]
[null,null,null,{"$f":"IF(AND(V406>20,V406<200),\" \",\" اندازه  c تکرار شود.\")","v":" "}]
[null,null,null,{"$f":"IF(AND(V407>10,V407<100),\" \",\" اندازه  d تکرار شود.\")","v":" "}]
[null,null,null,{"$f":"IF(AND(V408>15,V408<140),\" \",\" اندازه  e تکرار شود.\")","v":" "}]
[]
[null,null,null,{"$f":"IF(AND(V410>15,V410<140),\" \",\" اندازه  g تکرار شود.\")","v":" "}]
[null,null,null,{"$f":"IF(AND(V411>5,V411<70),\" \",\" اندازه  h تکرار شود.\")","v":" "}]
[null,null,null,{"$f":"IF(AND(V412>10,V412<120),\" \",\" اندازه  j تکرار شود.\")","v":" "}]
[null,null,null,{"$f":"IF(AND(V413>15,V413<70),\" \",\" اندازه  L تکرار شود.\")","v":" "}]
[null,null,null,{"$f":"IF(AND(W414>10,W414<50),\" \",\" اندازه  m تکرار شود.\")","v":" "}]
[null,null,null,{"$f":"IF(AND(V415>25,V415<140),\" \",\" اندازه  q تکرار شود.\")","v":" "}]
[null,null,null,{"$f":"IF(AND(V416>10,V416<80),\" \",\" اندازه  r تکرار شود.\")","v":" "}]
[null,null,null,{"$f":"IF(AND(V424>20,V424<200),\" \",\" اندازه  s1 تکرار شود.\")","v":" "}]
[null,null,null,{"$f":"IF(AND(V425>10,V425<100),\" \",\" اندازه  s2 تکرار شود.\")","v":" "}]
[null,null,null,{"$f":"IF(AND(V426>12,V426<75),\" \",\" اندازه  t1 تکرار شود.\")","v":" "}]
[null,null,null,{"$f":"IF(AND(V427>13,V427<80),\" \",\" اندازه  t2 تکرار شود.\")","v":" "}]
[null,null,null,{"$f":"IF(AND(V428>20,V428<120),\" \",\" اندازه  t3 تکرار شود.\")","v":" "}]
[null,null,null,{"$f":"IF(AND(V429>6,V429<40),\" \",\" اندازه  t4 تکرار شود.\")","v":" "}]
[null,null,null,{"$f":"IF(AND(V430>7,V430<50),\" \",\" اندازه  t5 تکرار شود.\")","v":" "}]
[null,null,null,{"$f":"IF(AND(V431>10,V431<70),\" \",\" اندازه  t6 تکرار شود.\")","v":" "}]
[null,null,null,{"$f":"IF(AND(V432>15,V432<55),\" \",\" اندازه  v  تکرار شود.\")","v":" "}]
[null,null,null,{"$f":"IF(AND(V433>10,V433<80),\" \",\" اندازه  v3 تکرار شود.\")","v":" "}]
[null,null,null,{"$f":"IF(AND(V434>10,V434<70),\" \",\" اندازه  w2 تکرار شود.\")","v":" "}]
[null,null,null,{"$f":"IF(AND(V435>10,V435<80),\" \",\" اندازه  w10 تکرار شود.\")","v":" "}]
[null,null,null,{"$f":"IF(AND(V436>8,V436<30),\" \",\" اندازه  w11 تکرار شود.\")","v":" "}]
[null,null,null,{"$f":"IF(AND(V437>20,V437<70),\" \",\" اندازه  w12 تکرار شود.\")","v":" "}]
[]
[null,null,null,"خطای درجه 2 "]
[null,null,null,{"$f":"IF(W412>0.9*W410,\"اندازه  j  را دوباره تکرار کنید - j کم شود.\",\"  \")","v":"  "}]
[null,null,null,{"$f":"IF(W411>0.65*W412,\"اندازه گیری h را دوباره تکرار کنید - h کم شود.\",\"  \")","v":"  "}]
[null,null,null,{"$f":"IF(W414>0.45*W415,\"یا m کم شود یا q زیاد شود.\",\"  \")","v":"  "}]
[null,null,null,{"$f":"IF(V413>0.47*V406,\"اندازه گیری  L را دوباره تکرار کنید - L کم شود.\",\"  \")","v":"  "}]
[null,null,null,{"$f":"IF(V416>1.7*V436,\"دور مچ پا (r)  کم شود\",\"  \")","v":"  "}]
[null,null,null,{"$f":"IF(V416<1.2*V436,\"دور مچ پا (r)  زیاد شود\",\"  \")","v":"  "}]
[null,null,null,{"$f":"IF(V413<0.3*V406,\"اندازه گیری  L را دوباره تکرار کنید - زیاد شود.\",\"  \")","v":"  "}]
[null,null,null,{"$f":"IF(W412<0.65*W410,\"اندازه  j  را دوباره تکرار کنید - j زیاد شود.\",\"  \")","v":"  "}]
[null,null,null,{"$f":"IF(W415<0.5*V406,\"اندازه گیری  q را دوباره تکرار کنید - q زیاد شود.\",\"  \")","v":"  "}]
[null,null,null,{"$f":"IF(W414<0.3*W415,\"یا m زیاد شود یا q کم شود.\",\"  \")","v":"  "}]
[null,null,null,{"$f":"IF(V407>0.7*V406,\"نوار پهلو در قسمت باسن به سمت پشت متمایل شود و اندازه های d و c تکرار شود\",\"  \")","v":"  "}]
[null,null,null,{"$f":"IF(V405>0.7*V404,\"نوار پهلو در قسمت کمر به سمت پشت متمایل شود و اندازه های a و b تکرار شود\",\"  \")","v":"  "}]
[null,null,null,{"$f":"IF(W427>0.8*W428,\"نوار سینه و نوار کمر در جلو از هم دور شود و اندازه های t2 و t3 و t5 و t6 تکرار شود.\",\"  \")","v":"  "}]
[null,null,null,{"$f":"IF(V430>0.75*V431,\"نوار کمر و نوار سینه در پشت از هم دور شود و اندازه های t6  و t5 تکرار شود.\",\"  \")","v":"  "}]
[null,null,null,{"$f":"IF(W426>0.99*W427,\"اندام با سینه تو رفته، نوار سینه و نوار سرشانه افقی و صاف شود و اندازه های t1 و t2 و t4 و t5 تکرار شود.\",\"  \")","v":"  "}]
[null,null,null,{"$f":"IF(V429>V430,\"نوار سینه و نوار سرشانه افقی و صاف شود و اندازه های t5  و t4 تکرار شود.\",\"  \")","v":"  "}]
[null,null,null,{"$f":"IF(V432>0.6*V424,\"اندازه های s1  و v تکرار شود.\",\"  \")","v":"  "}]
[null,null,null,{"$f":"IF(V434>0.6*V424,\"اندازه های s1  و w2 تکرار شود.\",\"  \")","v":"  "}]
[null,null,null,{"$f":"IF(V435<0.5*V428,\"اندازه های t3  و w10 تکرار شود.\",\"  \")","v":"  "}]
[null,null,null,{"$f":"IF(V436>V434,\"اندازه های w2  و w11 تکرار شود.\",\"  \")","v":"  "}]
[null,null,null,{"$f":"IF((V433)>V425,\"اندازه - کارور پشت - باید کوچکتر از اندازه - سینه از پشت - باشد.\",\"  \")","v":"  "}]
[null,null,null,{"$f":"IF(V425>0.6*V424,\"نوار پهلو در قسمت سینه به سمت پشت متمایل شود و اندازه های s2 و s1 تکرار شود\",\"  \")","v":"  "}]
[null,null,null,{"$f":"IF(V425<0.35*V424,\"نوار پهلو در قسمت سینه به سمت جلو متمایل شود و اندازه های s2 و s1 تکرار شود\",\"  \")","v":"  "}]
[]
[null,null,null,"خطای درجه 3 "]
[null,null,null,{"$f":"IF(((V415-2*W414-0.03*V406)/(V406))<0.1,\" یا m کم شود و یا q زیاد شود\",\"  \")","v":"  "}]
[null,null,null,{"$f":"IF(((V415-2*W414-0.03*V406)/(V406))>0.16,\"یا m زیاد شود و یا q کم شود\",\"  \")","v":"  "}]
[null,null,null,{"$f":"IF(V412>(W409-0.5*W414),\"یا اندازه j کم شود یا اندازه m کم شود.\",\"  \")","v":"  "}]
[null,null,null,{"$f":"IF(V412<(W409-0.8*W414),\"یا اندازه j زیاد شود یا اندازه m زیاد شود.\",\"  \")","v":"  "}]
[null,null,null,{"$f":"IF(((V415-2*W414-0.03*V406)/(V406))<0.105,\" بهتر است یا m کم شود و یا q زیاد شود\",\"  \")","v":"  "}]
[null,null,null,{"$f":"IF(((V415-2*W414-0.03*V406)/(V406))>0.14,\"بهتر است یا m زیاد شود و یا q کم شود\",\"  \")","v":"  "}]
[null,null,null,{"$f":"IF((0.5*(V425-V433))<(0.05*V434),\"نوار پهلو در قسمت سینه به سمت جلو متمایل شود تا اندازه   s2  زیاد شود.\",\"  \")","v":"  "}]
[null,null,null,{"$f":"IF((0.5*(V425-V433))>(0.15*V434),\"نوار پهلو در قسمت سینه به سمت پشت متمایل شود تا اندازه  s2  کم شود.\",\"  \")","v":"  "}]
[null,null,null,{"$f":"IF(L470<-0.22,\"برای کاهش اختلاف بین افتادگی سرشانه پشت و جلو،اندازه t5 کم شود.\",\"  \")","v":"  "}]
[null,null,null,{"$f":"IF(AND(L469<30,L468<30,L470>0,L470>0.22),\"برای کاهش اختلاف بین افتادگی سرشانه پشت و جلو اندازه t5 زیاد شود.\",\"  \")","v":"  "}]
[null,null,null,{"$f":"IF(OR(L470>0.22,L470<-0.22,L469>30,L468>30),\" \",IF(L472<-3,\"اندازه t3 زیاد شود.\",\"  \"))","v":"  "}]
[null,null,null,{"$f":"IF(OR(L469>30,L468>30,L470>0.22,L470<-0.22),\" \",IF(L472>30,\"شکم برجسته تر از سینه است (در حد بارداری) برای کم کردن برجستگی t3 کم شود.\",\"  \"))","v":"  "}]
[null,null,null,{"$f":"IF(OR(L468>30,L469>30,L470>0.22,L470<-0.22),\" \",IF(AND(L472>15,L472<30),\"شکم برجسته تر از سینه است - برای کم کردن برجستگی t3 کم شود.\",\"  \"))","v":"  "}]
[null,null,null,{"$f":"IF(L469>30,\"سرشانه جلو بیش از حد افتاده است.  t2 کم شود.\",\"  \")","v":"  "}]
[null,null,null,{"$f":"IF(L468>30,\"سرشانه پشت بیش از حد افتاده است.  t5 کم شود.\",\"  \")","v":"  "}]
[null,null,null,{"$f":"IF(M433>1.14*M432-0.14*M425,\"اندازه کارور پشت کم شود\",\"  \")","v":"  "}]
[null,null,null,{"$f":"IF(L478<1,\"اندازه کارور پشت کم شود\",\"  \")","v":"  "}]
[]
[]
[]
[]
[]
[]
[]
[]
[]
[]
[]
[]
[]
[]
[]
[]
[]
[]
[null,null,null,"انتخاب نوع اندازه گیری"]
[null,null,null,"انتخاب بلندی فاق"]
[null,null,null,"گزینه \" اندازه جدید \" را انتخاب کنید"]
[]
[]
[]
[null,null,null,"a   دور کمر",0]
[]
[]
[null,null,null," c   دور باسن",0]
[]
[]
[null,null,null," s1    دور سینه : از برجسته ترین قسمت سینه",0]
[]
[]
[null,null,null," w10   قد آستین (دست به طور خمیده، قد از سرشانه تا مچ)",0]
[]
[]
[null,null,null," f    فاصله نوار کمر تا زمین، از قسمت پهلو",0]
[]
[]
[null,null,null," m   بلندی فاق",0]
[]
[]
[null,null,null," w2   دور بازو از ناحیه زیر بغل",0]
[]
[]
[null,null,null," w11   دور مچ دست",0]
[]
[]
[null,null,null," V    دور گردن (متر به طور عمودی دور گردن قرار می گیرد و از روی استخوان ترقوه می گذرد)",0]
[]
[]
[null,null,null," w12   دور سر",0]
[]
[]
[null,null,null," t3     فاصله عمودی از خط کمر جلو تا خط کمر پشت که از کنار گردن بگذرد",0]
[]
[]
[null,null,null,{"$f":"IF(OR('متغیرها '!W5=1,'متغیرها '!W5=3,'متغیرها '!W5=4),\" t2    فاصله عمودی از خط سینه جلو تا خط سینه پشت که از کنارگردن بگذرد  \",\"   \")","v":" t2    فاصله عمودی از خط سینه جلو تا خط سینه پشت که از کنارگردن بگذرد  "},0]
[]
[]
[null,null,null,{"$f":"IF(OR('متغیرها '!W5=1,'متغیرها '!W5=3,'متغیرها '!W5=4),\"V3   کارور پشت (بین دو خط امتداد زیر بغل)  \",\"   \")","v":"V3   کارور پشت (بین دو خط امتداد زیر بغل)  "},0]
[]
[]
[null,null,null,{"$f":"IF(OR('متغیرها '!W5=1,'متغیرها '!W5=4),\" g    فاصله نوار کمر تا زمین، از قسمت پشت  \",\"   \")","v":"   "}]
[]
[]
[null,null,null,{"$f":"IF(OR('متغیرها '!W5=1,'متغیرها '!W5=4),\" e   فاصله نوار کمر تا زمین، از قسمت جلو  \",\"   \")","v":"   "}]
[]
[]
[null,null,null,{"$f":"IF(OR('متغیرها '!W5=1,'متغیرها '!W5=4),\" j    فاصله نوار باسن تا زمین  \",\"   \")","v":"   "}]
[]
[]
[null,null,null,{"$f":"IF(OR('متغیرها '!W5=1,'متغیرها '!W5=4),\" h    فاصله نوار زانو تا زمین  \",\"   \")","v":"   "}]
[]
[]
[null,null,null,{"$f":"IF(OR('متغیرها '!W5=1,'متغیرها '!W5=4),\"  L   دور زانو  \",\"   \")","v":"   "}]
[]
[]
[null,null,null,{"$f":"IF(OR('متغیرها '!W5=1,'متغیرها '!W5=4),\" r    دور مچ پا  \",\"   \")","v":"   "}]
[]
[]
[null,null,null,{"$f":"IF(OR('متغیرها '!W5=1,'متغیرها '!W5=4),\"  q    آنفورشور  \",\"   \")","v":"   "}]
[]
[]
[null,null,null,{"$f":"IF(OR('متغیرها '!W5=1,'متغیرها '!W5=4),\" b   نوار کمر از پشت بین دو خط پهلو  \",\"   \")","v":"   "}]
[]
[]
[null,null,null,{"$f":"IF(OR('متغیرها '!W5=1,'متغیرها '!W5=4),\" s2    پشت نوار سینه، بین دو خط پهلو  \",\"   \")","v":"   "}]
[]
[]
[null,null,null,{"$f":"IF(OR('متغیرها '!W5=1,'متغیرها '!W5=4),\"  d   نوار باسن از پشت بین دو خط پهلو  \",\"   \")","v":"   "}]
[]
[]
[null,null,null,{"$f":"IF('متغیرها '!W5=1,\" t1    فاصله عمودی از خط سینه جلو تا خط سینه پشت که از کنار حلقه آستین بگذرد  \",\"   \")","v":"   "}]
[]
[]
[null,null,null,{"$f":"IF('متغیرها '!W5=1,\"t4     فاصله عمودی بین خط سینه پشت و سرشانه، نزدیک دست  \",\"   \")","v":"   "}]
[]
[null,null,null,null,null,null,null,null,"اگر تحلیل اندام با شکل واقعی اندام که مشاهده میکنید متفاوت است، میتوانید تغییرات زیر را در اندازه هایی که وارد کردید اعمال کنید :"]
[null,null,null,{"$f":"IF('متغیرها '!W5=1,\"t5     فاصله عمودی بین خط سینه پشت و سرشانه، نزدیک گردن  \",\"   \")","v":"   "},null,null,null,null,"برای افزایش برجستگی سینه ،  v3 (کارور پشت) کم شود."]
[null,null,null,null,null,null,null,null,"برای افزایش برجستگی باسن ،  d  زیاد شود."]
[null,null,null,null,null,null,null,null,"برای کاهش برجستگی شکم، t3 کم شود."]
[null,null,null,{"$f":"IF('متغیرها '!W5=1,\" t6    فاصله عمودی بین خط کمر و سرشانه، نزدیک گردن  \",\"   \")","v":"   "},null,null,null,null,{"$f":"ROUND(L469,0)","v":22},"زاویه سرشانه جلو",null,"برای کاهش افتادگی سرشانه جلو، t2 کم شود."]
[null,null,null,null,null,null,null,null,{"$f":"ROUND(L468,0)","v":18},"زاویه سرشانه پشت",null,"برای کاهش افتادگی سرشانه پشت، t5 کم شود."]
[]
[]
[]
[]
[]
[]
[]
[]
[]
[]
[]
[]
[]
[]
[]
[]
[]
[]
[]
[]
[]
[]
[]
[]
[]
[]
[]
[]
[]
[]
[]
[]
[]
[]
[]
[]
[]
[null,null,null,"انتخاب نوع سایزبندی"]
[]
[]
[null,null,null,"    دور سینه : از برجسته ترین قسمت سینه",0,null,null,null,null,{"$f":"'متغیرها '!V44","v":" کوچکتر از سایز 34 "}]
[]
[]
[null,null,null,"    دور باسن",0,null,null,null,null,{"$f":"'متغیرها '!V42","v":" کوچکتر از سایز 34 "}]
[]
[]
[null,null,null,"   دور کمر",0,null,null,null,null,{"$f":"'متغیرها '!V43","v":" کوچکتر از سایز 34 "}]
[]
[]
[]
[]
[]
[]
[]
[]
[]
[]
[]
[]
[]
[]
[]
[]
[]
[]
[]
[]
[]
[]
[]
[]
[]
[]
[null,null,null,null,null,"ستون آبی رنگ را کپی کرده بعد به صورت عدد در صفحه اندازه های شخصی ذخیره کنید"]
[]
[null,null,null,"دور کمر","a",{"$f":"V404","v":131}]
[null,null,null,"نوار کمر از پشت بین دو خط پهلو","b",63.6]
[null,null,null,"دور باسن","c",150]
[null,null,null,"نوار باسن از پشت بین دو خط پهلو","d",79.8]
[null,null,null,"فاصله نوار کمر تا زمین، از قسمت جلو","e",108.9]
[null,null,null,"فاصله نوار کمر تا زمین، از قسمت پهلو","f",110]
[null,null,null,"فاصله نوار کمر تا زمین، از قسمت پشت","g",111.1]
[null,null,null,"فاصله نوار زانو تا زمین","h",46.7]
[null,null,null,"فاصله نوار باسن تا زمین","j",87.3]
[null,null,null,"دور زانو","L",61.5]
[null,null,null,"بلندی فاق","m",33.5]
[null,null,null,"آنفورشور","q",91.7]
[null,null,null,"دور مچ پا","r",30]
[null,null,null,"شلوار زنانه و بچگانه = 0       مردانه=1      بچه با پوشک=2",null,{"$f":"V418","v":0}]
[null,null,null,"دور سینه : از برجسته ترین قسمت سینه","s1",{"$f":"V424","v":146}]
[null,null,null,"پشت نوار سینه، بین دو خط پهلو","s2",67.5]
[null,null,null,"فاصله عمودی از خط سینه جلو تا خط سینه پشت که از کنار حلقه آستین بگذرد","t1",46.5]
[null,null,null,"فاصله عمودی از خط سینه جلو تا خط سینه پشت که از کنارگردن بگذرد","t2",63.3]
[null,null,null,"فاصله عمودی از خط کمر جلو تا خط کمر پشت که از کنار گردن بگذرد","t3",100]
[null,null,null,"فاصله عمودی بین خط سینه پشت و سرشانه، نزدیک دست","t4",23.8]
[null,null,null,"فاصله عمودی بین خط سینه پشت و سرشانه، نزدیک گردن","t5",30.5]
[null,null,null,"فاصله عمودی بین خط کمرپشت و سرشانه، نزدیک گردن","t6",46.9]
[null,null,null,"دور گردن (متر به طور عمودی دور گردن قرار می گیرد و از روی استخوان ترقوه می گذرد)","v",50]
[null,null,null,"کارور پشت (بین دو خط امتداد زیر بغل)","v3",55.5]
[null,null,null,"دور بازو از ناحیه زیر بغل","w2",46]
[null,null,null,"قد آستین (دست به طور خمیده، قد از سرشانه تا مچ)","w10",64]
[null,null,null,"دور مچ دست","w11",23]
[null,null,null,"دور سر","w12",57]
[]
[]
[]
[]
[]
[]
[]
[]
[]
[]
[]
[]
[]
[]
[]
[]
[]
[]
[]
[]
[null,null,null,"گزینه \" اندازه های موجود \" را انتخاب کنید"]
[null,null,null,"سایز یا اندازه شخصی خود را انتخاب کنید"]
[]
[null,null,null,"دور کمر","a",{"$f":"'متغیرها '!W52","v":131}]
[null,null,null,"نوار کمر از پشت بین دو خط پهلو","b",{"$f":"'متغیرها '!W53","v":63.6}]
[null,null,null,"دور باسن","c",{"$f":"'متغیرها '!W54","v":150}]
[null,null,null,"نوار باسن از پشت بین دو خط پهلو","d",{"$f":"'متغیرها '!W55","v":79.8}]
[null,null,null,"فاصله نوار کمر تا زمین، از قسمت جلو","e",{"$f":"'متغیرها '!W56","v":108.9}]
[null,null,null,"فاصله نوار کمر تا زمین، از قسمت پهلو","f",{"$f":"'متغیرها '!W57","v":110}]
[null,null,null,"فاصله نوار کمر تا زمین، از قسمت پشت","g",{"$f":"'متغیرها '!W58","v":111.1}]
[null,null,null,"فاصله نوار زانو تا زمین","h",{"$f":"'متغیرها '!W59","v":46.7}]
[null,null,null,"فاصله نوار باسن تا زمین","j",{"$f":"'متغیرها '!W60","v":87.3}]
[null,null,null,"دور زانو","L",{"$f":"'متغیرها '!W61","v":61.5}]
[null,null,null,"بلندی فاق","m",{"$f":"'متغیرها '!W62","v":33.5}]
[null,null,null,"آنفورشور","q",{"$f":"'متغیرها '!W63","v":91.7}]
[null,null,null,"دور مچ پا","r",{"$f":"'متغیرها '!W64","v":30}]
[null,null,null,"شلوار زنانه و بچگانه = 0       مردانه=1      بچه با پوشک=2",null,{"$f":"'متغیرها '!W66","v":0}]
[null,null,null,"دور سینه : از برجسته ترین قسمت سینه","s1",{"$f":"'متغیرها '!W72","v":146}]
[null,null,null,"پشت نوار سینه، بین دو خط پهلو","s2",{"$f":"'متغیرها '!W73","v":67.5}]
[null,null,null,"فاصله عمودی از خط سینه جلو تا خط سینه پشت که از کنار حلقه آستین بگذرد","t1",{"$f":"'متغیرها '!W74","v":46.5}]
[null,null,null,"فاصله عمودی از خط سینه جلو تا خط سینه پشت که از کنارگردن بگذرد","t2",{"$f":"'متغیرها '!W75","v":63.3}]
[null,null,null,"فاصله عمودی از خط کمر جلو تا خط کمر پشت که از کنار گردن بگذرد","t3",{"$f":"'متغیرها '!W76","v":100}]
[null,null,null,"فاصله عمودی بین خط سینه پشت و سرشانه، نزدیک دست","t4",{"$f":"'متغیرها '!W77","v":23.8}]
[null,null,null,"فاصله عمودی بین خط سینه پشت و سرشانه، نزدیک گردن","t5",{"$f":"'متغیرها '!W78","v":30.5}]
[null,null,null,"فاصله عمودی بین خط کمرپشت و سرشانه، نزدیک گردن","t6",{"$f":"'متغیرها '!W79","v":46.9}]
[null,null,null,"دور گردن (متر به طور عمودی دور گردن قرار می گیرد و از روی استخوان ترقوه می گذرد)","v",{"$f":"'متغیرها '!W80","v":50}]
[null,null,null,"کارور پشت (بین دو خط امتداد زیر بغل)","v3",{"$f":"'متغیرها '!W81","v":55.5}]
[null,null,null,"دور بازو از ناحیه زیر بغل","w2",{"$f":"'متغیرها '!W82","v":46}]
[null,null,null,"قد آستین (دست به طور خمیده، قد از سرشانه تا مچ)","w10",{"$f":"'متغیرها '!W83","v":64}]
[null,null,null,"دور مچ دست","w11",{"$f":"'متغیرها '!W84","v":23}]
[null,null,null,"دور سر","w12",{"$f":"'متغیرها '!W85","v":57}]
[]
[]
[]
[]
[]
[]
[]
[]
[]
[]
[]
[]
[]
[]
[]
[]
[]
[]
[]
[null,null,null,null,null,null,null,null,null,null,null,null,null,"کپی شود",null,"کپی شود",null,"کپی شود",null,"کپی شود",null,"اندازه جدید یا اندازه قبلی",null,null,null,"کپی اندازه های قبلی از فایل دیگر"]
[null,null,null,null,null,null,null,null,null,null,null,"اندازه ها در دامن و شلوار","اندازه جدید","اندازه گیری پیشرفته و با جزییات",null,"اندازه گیری مردان و بچه ها",null,"اندازه گیری زنان",null,"اندازه گیری پیشرفته زنان",null,"اندازه گیری تحلیل شده"," اندازه محاسبه شده برای تحلیل"]
[null,null,null,null,null,null,null,null,null,null,null,"دور کمر",{"$f":"E149","v":0},{"$f":"ROUND(M404,1)","v":0},{"$f":"ROUND(N404-0.02*N404*N418,1)","v":0},{"$f":"ROUND(M404,1)","v":0},{"$f":"ROUND(P404-0.02*P404*P418,1)","v":0},{"$f":"ROUND(M404,1)","v":0},{"$f":"ROUND(R404-0.02*R404*R418,1)","v":0},{"$f":"ROUND(M404,1)","v":0},{"$f":"ROUND(T404-0.02*T404*T418,1)","v":0},{"$f":"IF('متغیرها '!X5=2,'اندازه گیری و تحلیل'!F355,IF('متغیرها '!W5=1,'اندازه گیری و تحلیل'!N404,(IF('متغیرها '!W5=2,'اندازه گیری و تحلیل'!P404,(IF('متغیرها '!W5=3,'اندازه گیری و تحلیل'!R404,'اندازه گیری و تحلیل'!T404))))))","v":131},{"$f":"ROUND(V404-0.02*V404*V418,1)","v":131}]
[null,null,null,null,null,null,null,null,null,null,null,"نوار کمر از پشت بین دو خط پهلو",{"$f":"E209","v":0},0,{"$f":"ROUND(N405-0.02*N405*N418,1)","v":0},{"$f":"ROUND(0.49*P404,1)","v":0},{"$f":"ROUND(P405-0.02*P405*P418,1)","v":0},{"$f":"ROUND(0.46*R404,1)","v":0},{"$f":"ROUND(R405-0.02*R405*R418,1)","v":0},0,{"$f":"ROUND(T405-0.02*T405*T418,1)","v":0},{"$f":"IF('متغیرها '!X5=2,'اندازه گیری و تحلیل'!F356,IF('متغیرها '!W5=1,'اندازه گیری و تحلیل'!N405,(IF('متغیرها '!W5=2,'اندازه گیری و تحلیل'!P405,(IF('متغیرها '!W5=3,'اندازه گیری و تحلیل'!R405,'اندازه گیری و تحلیل'!T405))))))","v":63.6},{"$f":"ROUND(V405-0.02*V405*V418,1)","v":63.6}]
[null,null,null,null,null,null,null,null,null,null,null,"دور باسن",{"$f":"E152","v":0},0,{"$f":"ROUND(N406+0.01*N406*N418,1)","v":0},{"$f":"ROUND(M406,1)","v":0},{"$f":"ROUND(P406+0.01*P406*P418,1)","v":0},{"$f":"ROUND(M406,1)","v":0},{"$f":"ROUND(R406+0.01*R406*R418,1)","v":0},0,{"$f":"ROUND(T406+0.01*T406*T418,1)","v":0},{"$f":"IF('متغیرها '!X5=2,'اندازه گیری و تحلیل'!F357,IF('متغیرها '!W5=1,'اندازه گیری و تحلیل'!N406,(IF('متغیرها '!W5=2,'اندازه گیری و تحلیل'!P406,(IF('متغیرها '!W5=3,'اندازه گیری و تحلیل'!R406,'اندازه گیری و تحلیل'!T406))))))","v":150},{"$f":"ROUND(V406+0.01*V406*V418,1)","v":150}]
[null,null,null,null,null,null,null,null,null,null,null,"نوار باسن از پشت بین دو خط پهلو",{"$f":"E215","v":0},0,{"$f":"ROUND(N407+0.01*N406*N418,1)","v":0},{"$f":"ROUND(0.53*P406+0.03*P406*IF(P418=2,1,0),1)","v":0},{"$f":"ROUND(P407+0.01*P406*P418,1)","v":0},{"$f":"ROUND(0.51*R406,1)","v":0},{"$f":"ROUND(R407+0.01*R406*R418,1)","v":0},0,{"$f":"ROUND(T407+0.01*T406*T418,1)","v":0},{"$f":"IF('متغیرها '!X5=2,'اندازه گیری و تحلیل'!F358,IF('متغیرها '!W5=1,'اندازه گیری و تحلیل'!N407,(IF('متغیرها '!W5=2,'اندازه گیری و تحلیل'!P407,(IF('متغیرها '!W5=3,'اندازه گیری و تحلیل'!R407,'اندازه گیری و تحلیل'!T407))))))","v":79.8},{"$f":"ROUND(V407+0.01*V406*V418,1)","v":79.8}]
[null,null,null,null,null,null,null,null,null,null,null,"فاصله نوار کمر تا زمین، از قسمت جلو",{"$f":"E191","v":0},0,{"$f":"ROUND(N408,1)","v":0},{"$f":"ROUND(0.999*P409,1)","v":0},{"$f":"ROUND(P408,1)","v":0},{"$f":"ROUND(0.995*R409,1)","v":0},{"$f":"ROUND(R408,1)","v":0},0,{"$f":"ROUND(T408,1)","v":0},{"$f":"IF('متغیرها '!X5=2,'اندازه گیری و تحلیل'!F359,IF('متغیرها '!W5=1,'اندازه گیری و تحلیل'!N408,(IF('متغیرها '!W5=2,'اندازه گیری و تحلیل'!P408,(IF('متغیرها '!W5=3,'اندازه گیری و تحلیل'!R408,'اندازه گیری و تحلیل'!T408))))))","v":108.9},{"$f":"ROUND(V408,1)","v":108.9}]
[null,null,null,null,null,null,null,null,null,null,null,"فاصله نوار کمر تا زمین، از قسمت پهلو",{"$f":"E161","v":0},0,0,{"$f":"ROUND(M409,1)","v":0},0,{"$f":"ROUND(M409,1)","v":0},0,0,0,{"$f":"IF('متغیرها '!X5=2,'اندازه گیری و تحلیل'!F360,IF('متغیرها '!W5=1,'اندازه گیری و تحلیل'!N409,(IF('متغیرها '!W5=2,'اندازه گیری و تحلیل'!P409,(IF('متغیرها '!W5=3,'اندازه گیری و تحلیل'!R409,'اندازه گیری و تحلیل'!T409))))))","v":110},{"$f":"ROUND(0.5*(V408+V410),1)","v":110}]
[null,null,null,null,null,null,null,null,null,null,null,"فاصله نوار کمر تا زمین، از قسمت پشت",{"$f":"E188","v":0},0,0,{"$f":"ROUND(1.001*P409,1)","v":0},0,{"$f":"ROUND(1.005*R409,1)","v":0},0,0,0,{"$f":"IF('متغیرها '!X5=2,'اندازه گیری و تحلیل'!F361,IF('متغیرها '!W5=1,'اندازه گیری و تحلیل'!N410,(IF('متغیرها '!W5=2,'اندازه گیری و تحلیل'!P410,(IF('متغیرها '!W5=3,'اندازه گیری و تحلیل'!R410,'اندازه گیری و تحلیل'!T410))))))","v":111.1},{"$f":"ROUND(V410,1)","v":111.1}]
[null,null,null,null,null,null,null,null,null,null,null,"فاصله نوار زانو تا زمین",{"$f":"E197","v":0},0,0,{"$f":"ROUND(0.55*P412*(1-0.15*IF(M418=2,1,0)),1)","v":0},0,{"$f":"ROUND(0.53*R412,1)","v":0},0,0,0,{"$f":"IF('متغیرها '!X5=2,'اندازه گیری و تحلیل'!F362,IF('متغیرها '!W5=1,'اندازه گیری و تحلیل'!N411,(IF('متغیرها '!W5=2,'اندازه گیری و تحلیل'!P411,(IF('متغیرها '!W5=3,'اندازه گیری و تحلیل'!R411,'اندازه گیری و تحلیل'!T411))))))","v":46.7},{"$f":"ROUND(V411,1)","v":46.7}]
[null,null,null,null,null,null,null,null,null,null,null,"فاصله نوار باسن تا زمین",{"$f":"E194","v":0},0,0,{"$f":"ROUND(P409-Q414+L445+0.1*L446,1)","v":0},0,{"$f":"ROUND(R409-S414+L445-0.3*L446,1)","v":0},0,0,0,{"$f":"IF('متغیرها '!X5=2,'اندازه گیری و تحلیل'!F363,IF('متغیرها '!W5=1,'اندازه گیری و تحلیل'!N412,(IF('متغیرها '!W5=2,'اندازه گیری و تحلیل'!P412,(IF('متغیرها '!W5=3,'اندازه گیری و تحلیل'!R412,'اندازه گیری و تحلیل'!T412))))))","v":87.3},{"$f":"ROUND(V412,1)","v":87.3}]
[null,null,null,null,null,null,null,null,null,null,null,"دور زانو",{"$f":"E200","v":0},0,0,{"$f":"ROUND(0.41*M406,1)","v":0},0,{"$f":"ROUND(0.39*M406,1)","v":0},0,0,0,{"$f":"IF('متغیرها '!X5=2,'اندازه گیری و تحلیل'!F364,IF('متغیرها '!W5=1,'اندازه گیری و تحلیل'!N413,(IF('متغیرها '!W5=2,'اندازه گیری و تحلیل'!P413,(IF('متغیرها '!W5=3,'اندازه گیری و تحلیل'!R413,'اندازه گیری و تحلیل'!T413))))))","v":61.5},{"$f":"ROUND(V413,1)","v":61.5}]
[null,null,null,null,null,null,null,null,null,null,null,"بلندی فاق",{"$f":"E164","v":0},0,{"$f":"ROUND(1.06*N414+0.022*N408*N418,1)","v":0},{"$f":"ROUND(M414,1)","v":0},{"$f":"ROUND(1.06*P414+0.022*P408*P418,1)","v":0},{"$f":"ROUND(M414,1)","v":0},{"$f":"ROUND(1.06*R414+0.022*R408*R418,1)","v":0},0,{"$f":"ROUND(1.06*T414+0.022*T408*T418,1)","v":0},{"$f":"IF('متغیرها '!X5=2,'اندازه گیری و تحلیل'!F365,IF('متغیرها '!W5=1,'اندازه گیری و تحلیل'!N414,(IF('متغیرها '!W5=2,'اندازه گیری و تحلیل'!P414,(IF('متغیرها '!W5=3,'اندازه گیری و تحلیل'!R414,'اندازه گیری و تحلیل'!T414))))))","v":33.5},{"$f":"ROUND(1.06*V414+0.022*V408*V418,1)","v":35.5}]
[null,null,null,null,null,null,null,null,null,null,null,"آنفورشور",{"$f":"E206","v":0},0,{"$f":"ROUND(N415,1)","v":0},{"$f":"ROUND(1.02*(SQRT(POWER((Q414+0.5*(Q410-Q408)-L445),2)+2.25*L448*L448)+1.45*L445+L446+1.45*L444+SQRT(POWER((Q414-0.5*(Q410-Q408)-L444),2)+POWER(IF(L447>1,(0.25*L448+(5/4)*L447),IF(L447>0,(0.25*L448+(7/4)*L447),0.2*L444)),2))),1)","v":5.7},{"$f":"ROUND(P415,1)","v":5.7},{"$f":"ROUND(1.02*(SQRT(POWER((S414+0.5*(S410-S408)-L445),2)+2.25*L448*L448)+1.45*L445+L446+1.45*L444+SQRT(POWER((S414-0.5*(S410-S408)-L444),2)+POWER(IF(L447>1,(0.25*L448+(5/4)*L447),IF(L447>0,(0.25*L448+(7/4)*L447),0.2*L444)),2))),1)","v":5.7},{"$f":"ROUND(R415,1)","v":5.7},0,{"$f":"ROUND(T415,1)","v":0},{"$f":"IF('متغیرها '!X5=2,'اندازه گیری و تحلیل'!F366,IF('متغیرها '!W5=1,'اندازه گیری و تحلیل'!N415,(IF('متغیرها '!W5=2,'اندازه گیری و تحلیل'!P415,(IF('متغیرها '!W5=3,'اندازه گیری و تحلیل'!R415,'اندازه گیری و تحلیل'!T415))))))","v":91.7},{"$f":"ROUND(V415,1)","v":91.7}]
[null,null,null,null,null,null,null,null,null,null,null,"دور مچ پا",{"$f":"E203","v":0},0,{"$f":"ROUND(N416,1)","v":0},{"$f":"ROUND(1.35*P436,1)","v":0},{"$f":"ROUND(P416,1)","v":0},{"$f":"ROUND(1.4*R436,1)","v":0},{"$f":"ROUND(R416,1)","v":0},0,{"$f":"ROUND(T416,1)","v":0},{"$f":"IF('متغیرها '!X5=2,'اندازه گیری و تحلیل'!F367,IF('متغیرها '!W5=1,'اندازه گیری و تحلیل'!N416,(IF('متغیرها '!W5=2,'اندازه گیری و تحلیل'!P416,(IF('متغیرها '!W5=3,'اندازه گیری و تحلیل'!R416,'اندازه گیری و تحلیل'!T416))))))","v":30},{"$f":"ROUND(V416,1)","v":30}]
[]
[null,null,null,null,null,null,null,null,null,null,null,"شلوار زنانه و بچگانه = 0       مردانه=1      بچه با پوشک=2",{"$f":"'متغیرها '!V5-1","v":0},{"$f":"ROUND(M418,1)","v":0},null,{"$f":"ROUND(M418,1)","v":0},null,0,null,{"$f":"ROUND(M418,1)","v":0},null,{"$f":"IF('متغیرها '!X5=2,'اندازه گیری و تحلیل'!F368,IF('متغیرها '!W5=1,'اندازه گیری و تحلیل'!N418,(IF('متغیرها '!W5=2,'اندازه گیری و تحلیل'!P418,(IF('متغیرها '!W5=3,'اندازه گیری و تحلیل'!R418,'اندازه گیری و تحلیل'!T418))))))","v":0}]
[null,null,null,null,null,null,null,null,null,null,"قد سرشانه تا زمین",{"$f":"0.5*(V428+V408+V410)","v":160}]
[null,null,null,null,null,null,null,null,null,null,"تمام قد (تقریبی)",{"$f":"ROUND(L419+IF(V437>51.5,0.35,IF(V437>50.5,0.33,0.31))*V437,0)","v":180}]
[null,null,null,null,null,null,null,null,null,null,null,"اندازه ها در بالاتنه","اندازه شخص","اندازه شخص",null,"اندازه شخص",null,"اندازه شخص",null,"اندازه شخص",null,"اندازه شخص"]
[null,null,null,null,null,null,null,null,null,null,null,"دور کمر",null,{"$f":"ROUND(N404,1)","v":0},{"$f":"N422","v":0},{"$f":"P404","v":0},{"$f":"P422","v":0},{"$f":"R404","v":0},{"$f":"R422","v":0},{"$f":"T404","v":0},{"$f":"T422","v":0},{"$f":"IF('متغیرها '!X5=2,V404,IF('متغیرها '!W5=1,'اندازه گیری و تحلیل'!N422,(IF('متغیرها '!W5=2,'اندازه گیری و تحلیل'!P422,(IF('متغیرها '!W5=3,'اندازه گیری و تحلیل'!R422,'اندازه گیری و تحلیل'!T422))))))","v":131},{"$f":"V422","v":131}]
[null,null,null,null,null,null,null,null,null,null,null,"نوار کمر از پشت بین دو خط پهلو",null,{"$f":"ROUND(N405,1)","v":0},{"$f":"N423","v":0},{"$f":"P405","v":0},{"$f":"P423","v":0},{"$f":"R405","v":0},{"$f":"R423","v":0},{"$f":"T405","v":0},{"$f":"T423","v":0},{"$f":"IF('متغیرها '!X5=2,V405,IF('متغیرها '!W5=1,'اندازه گیری و تحلیل'!N423,(IF('متغیرها '!W5=2,'اندازه گیری و تحلیل'!P423,(IF('متغیرها '!W5=3,'اندازه گیری و تحلیل'!R423,'اندازه گیری و تحلیل'!T423))))))","v":63.6},{"$f":"V423","v":63.6}]
[null,null,null,null,null,null,null,null,null,null,null,"دور سینه : از برجسته ترین قسمت سینه",{"$f":"E155","v":0},{"$f":"ROUND(M424,1)","v":0},{"$f":"N424","v":0},{"$f":"ROUND(M424,1)","v":0},{"$f":"P424","v":0},{"$f":"ROUND(M424,1)","v":0},{"$f":"R424","v":0},{"$f":"ROUND(M424,1)","v":0},{"$f":"T424","v":0},{"$f":"IF('متغیرها '!X5=2,'اندازه گیری و تحلیل'!F369,IF('متغیرها '!W5=1,'اندازه گیری و تحلیل'!N424,(IF('متغیرها '!W5=2,'اندازه گیری و تحلیل'!P424,(IF('متغیرها '!W5=3,'اندازه گیری و تحلیل'!R424,'اندازه گیری و تحلیل'!T424))))))","v":146},{"$f":"V424","v":146}]
[null,null,null,null,null,null,null,null,null,null,null,"پشت نوار سینه، بین دو خط پهلو",{"$f":"E212","v":0},0,{"$f":"N425","v":0},{"$f":"ROUND(0.5*P424,1)","v":0},{"$f":"P425","v":0},{"$f":"ROUND(M433+0.24*M434,1)","v":0},{"$f":"R425","v":0},{"$f":"ROUND(M425,1)","v":0},{"$f":"T425","v":0},{"$f":"IF('متغیرها '!X5=2,'اندازه گیری و تحلیل'!F370,IF('متغیرها '!W5=1,'اندازه گیری و تحلیل'!N425,(IF('متغیرها '!W5=2,'اندازه گیری و تحلیل'!P425,(IF('متغیرها '!W5=3,'اندازه گیری و تحلیل'!R425,'اندازه گیری و تحلیل'!T425))))))","v":67.5},{"$f":"V425","v":67.5}]
[null,null,null,null,null,null,null,null,null,null,null,"فاصله عمودی از خط سینه جلو تا خط سینه پشت که از کنار حلقه آستین بگذرد",{"$f":"E218","v":0},0,{"$f":"N426-N429","v":0},{"$f":"ROUND(2*P429-0.5*(2*P430-P427),1)","v":{"$error":"#DIV/0!"}},{"$f":"P426-P429","v":{"$error":"#DIV/0!"}},{"$f":"ROUND(M427-R430+R429-(L462+L458)*SIN(RADIANS(L461)),1)","v":-14.5},{"$f":"R426-R429","v":-7.3},{"$f":"ROUND(M427-T430+T429-(L462+L458)*SIN(RADIANS(L461)),1)","v":-14.5},{"$f":"T426-T429","v":-7.3},{"$f":"IF('متغیرها '!X5=2,'اندازه گیری و تحلیل'!F371,IF('متغیرها '!W5=1,'اندازه گیری و تحلیل'!N426,(IF('متغیرها '!W5=2,'اندازه گیری و تحلیل'!P426,(IF('متغیرها '!W5=3,'اندازه گیری و تحلیل'!R426,'اندازه گیری و تحلیل'!T426))))))","v":46.5},{"$f":"V426-V429","v":22.7}]
[null,null,null,null,null,null,null,null,null,null,null,"فاصله عمودی از خط سینه جلو تا خط سینه پشت که از کنارگردن بگذرد",{"$f":"E182","v":0},0,{"$f":"N427-N430","v":0},{"$f":"ROUND(P430+(P428-P431)*0.95*P430/P431,1)","v":{"$error":"#DIV/0!"}},{"$f":"P427-P430","v":{"$error":"#DIV/0!"}},{"$f":"ROUND(M427,1)","v":0},{"$f":"R427-R430","v":1.3},{"$f":"ROUND(M427,1)","v":0},{"$f":"T427-T430","v":1.3},{"$f":"IF('متغیرها '!X5=2,'اندازه گیری و تحلیل'!F372,IF('متغیرها '!W5=1,'اندازه گیری و تحلیل'!N427,(IF('متغیرها '!W5=2,'اندازه گیری و تحلیل'!P427,(IF('متغیرها '!W5=3,'اندازه گیری و تحلیل'!R427,'اندازه گیری و تحلیل'!T427))))))","v":63.3},{"$f":"V427-V430","v":32.799999999999997}]
[null,null,null,null,null,null,null,null,null,null,null,"فاصله عمودی از خط کمر جلو تا خط کمر پشت که از کنار گردن بگذرد",{"$f":"E179","v":0},0,{"$f":"N428-N431","v":0},{"$f":"ROUND(M428,1)","v":0},{"$f":"P428-P431","v":0},{"$f":"ROUND(M428,1)","v":0},{"$f":"R428-R431","v":2.4},{"$f":"ROUND(M428,1)","v":0},{"$f":"T428-T431","v":1.3},{"$f":"IF('متغیرها '!X5=2,'اندازه گیری و تحلیل'!F373,IF('متغیرها '!W5=1,'اندازه گیری و تحلیل'!N428,(IF('متغیرها '!W5=2,'اندازه گیری و تحلیل'!P428,(IF('متغیرها '!W5=3,'اندازه گیری و تحلیل'!R428,'اندازه گیری و تحلیل'!T428))))))","v":100},{"$f":"V428-V431","v":53.1}]
[null,null,null,null,null,null,null,null,null,null,null,"فاصله عمودی بین خط سینه پشت و سرشانه، نزدیک دست",{"$f":"E221","v":0},0,{"$f":"N429","v":0},{"$f":"ROUND(P430-(P433-0.036*P434)*SIN(0.12),1)","v":0},{"$f":"P429","v":0},{"$f":"ROUND(R430-0.5*0.01*M428-L462*SIN(RADIANS(L461)),1)","v":-7.2},{"$f":"R429","v":-7.2},{"$f":"ROUND(T430-0.5*0.01*M428-L462*SIN(RADIANS(L461)),1)","v":-7.2},{"$f":"T429","v":-7.2},{"$f":"IF('متغیرها '!X5=2,'اندازه گیری و تحلیل'!F374,IF('متغیرها '!W5=1,'اندازه گیری و تحلیل'!N429,(IF('متغیرها '!W5=2,'اندازه گیری و تحلیل'!P429,(IF('متغیرها '!W5=3,'اندازه گیری و تحلیل'!R429,'اندازه گیری و تحلیل'!T429))))))","v":23.8},{"$f":"V429","v":23.8}]
[null,null,null,null,null,null,null,null,null,null,null,"فاصله عمودی بین خط سینه پشت و سرشانه، نزدیک گردن",{"$f":"E224","v":0},0,0,{"$f":"ROUND(0.6*P431,1)","v":0},0,{"$f":"ROUND(0.5*M427+0.01*M428-0.5*(L458-0.05*M434)*SIN(RADIANS(L461)),1)","v":-1.3},-1.3,{"$f":"ROUND(0.5*M427+0.01*M428-0.5*(L458-0.05*M434)*SIN(RADIANS(L461)),1)","v":-1.3},-1.3,{"$f":"IF('متغیرها '!X5=2,'اندازه گیری و تحلیل'!F375,IF('متغیرها '!W5=1,'اندازه گیری و تحلیل'!N430,(IF('متغیرها '!W5=2,'اندازه گیری و تحلیل'!P430,(IF('متغیرها '!W5=3,'اندازه گیری و تحلیل'!R430,'اندازه گیری و تحلیل'!T430))))))","v":30.5},30.5]
[null,null,null,null,null,null,null,null,null,null,null,"فاصله عمودی بین خط کمرپشت و سرشانه، نزدیک گردن",{"$f":"E227","v":0},0,0,{"$f":"ROUND(0.51*P428,1)","v":0},0,{"$f":"ROUND(0.5*R428-0.5*L460-0.9*(L458-0.05*R434)*SIN(RADIANS(L461)),1)","v":-2.4},-2.4,{"$f":"ROUND(0.51*T428-0.5*L460-0.5*(L458-0.05*T434)*SIN(RADIANS(L461)),1)","v":-1.3},-1.3,{"$f":"IF('متغیرها '!X5=2,'اندازه گیری و تحلیل'!F376,IF('متغیرها '!W5=1,'اندازه گیری و تحلیل'!N431,(IF('متغیرها '!W5=2,'اندازه گیری و تحلیل'!P431,(IF('متغیرها '!W5=3,'اندازه گیری و تحلیل'!R431,'اندازه گیری و تحلیل'!T431))))))","v":46.9},46.9]
[null,null,null,null,null,null,null,null,null,null,null,"دور گردن (متر به طور عمودی دور گردن قرار می گیرد و از روی استخوان ترقوه می گذرد)",{"$f":"E173","v":0},0,0,{"$f":"ROUND(M432,1)","v":0},0,{"$f":"ROUND(M432,1)","v":0},0,{"$f":"ROUND(M432,1)","v":0},0,{"$f":"IF('متغیرها '!X5=2,'اندازه گیری و تحلیل'!F377,IF('متغیرها '!W5=1,'اندازه گیری و تحلیل'!N432,(IF('متغیرها '!W5=2,'اندازه گیری و تحلیل'!P432,(IF('متغیرها '!W5=3,'اندازه گیری و تحلیل'!R432,'اندازه گیری و تحلیل'!T432))))))","v":50},50]
[null,null,null,null,{"$f":"V425-0.26*V434","v":55.54},":(زنانه)   v3  محاسبه ",null,null,null,null,null,"کارور پشت (بین دو خط امتداد زیر بغل)",{"$f":"E185","v":0},0,0,{"$f":"ROUND(P425-0.24*P434,1)","v":0},0,0,0,0,0,{"$f":"IF('متغیرها '!X5=2,'اندازه گیری و تحلیل'!F378,IF('متغیرها '!W5=1,'اندازه گیری و تحلیل'!N433,(IF('متغیرها '!W5=2,'اندازه گیری و تحلیل'!P433,(IF('متغیرها '!W5=3,'اندازه گیری و تحلیل'!R433,'اندازه گیری و تحلیل'!T433))))))","v":55.5},55.5]
[null,null,null,null,{"$f":"V425-0.23*V434","v":56.92}," :( بچگانه و مردانه)   v3  محاسبه ",null,null,null,null,null,"دور بازو از ناحیه زیر بغل",{"$f":"E167","v":0},0,0,{"$f":"ROUND(M434,1)","v":0},0,0,0,0,0,{"$f":"IF('متغیرها '!X5=2,'اندازه گیری و تحلیل'!F379,IF('متغیرها '!W5=1,'اندازه گیری و تحلیل'!N434,(IF('متغیرها '!W5=2,'اندازه گیری و تحلیل'!P434,(IF('متغیرها '!W5=3,'اندازه گیری و تحلیل'!R434,'اندازه گیری و تحلیل'!T434))))))","v":46},46]
[null,null,null,null,null,null,null,null,null,null,null,"قد آستین (دست به طور خمیده، قد از سرشانه تا مچ)",{"$f":"E158","v":0},0,0,{"$f":"ROUND(M435,1)","v":0},0,0,0,0,0,{"$f":"IF('متغیرها '!X5=2,'اندازه گیری و تحلیل'!F380,IF('متغیرها '!W5=1,'اندازه گیری و تحلیل'!N435,(IF('متغیرها '!W5=2,'اندازه گیری و تحلیل'!P435,(IF('متغیرها '!W5=3,'اندازه گیری و تحلیل'!R435,'اندازه گیری و تحلیل'!T435))))))","v":64},64]
[null,null,null,null,null,null,null,null,null,null,null,"دور مچ دست",{"$f":"E170","v":0},0,{"$f":"1.2*N436","v":0},{"$f":"ROUND(M436,1)","v":0},{"$f":"1.2*P436","v":0},0,{"$f":"1.2*R436","v":0},0,{"$f":"1.2*T436","v":0},{"$f":"IF('متغیرها '!X5=2,'اندازه گیری و تحلیل'!F381,IF('متغیرها '!W5=1,'اندازه گیری و تحلیل'!N436,(IF('متغیرها '!W5=2,'اندازه گیری و تحلیل'!P436,(IF('متغیرها '!W5=3,'اندازه گیری و تحلیل'!R436,'اندازه گیری و تحلیل'!T436))))))","v":23},{"$f":"1.2*V436","v":27.599999999999998}]
[null,null,null,null,null,null,null,null,null,null,null,"دور سر",{"$f":"E176","v":0},0,null,{"$f":"ROUND(M437,1)","v":0},null,0,null,0,null,{"$f":"IF('متغیرها '!X5=2,'اندازه گیری و تحلیل'!F382,IF('متغیرها '!W5=1,'اندازه گیری و تحلیل'!N437,(IF('متغیرها '!W5=2,'اندازه گیری و تحلیل'!P437,(IF('متغیرها '!W5=3,'اندازه گیری و تحلیل'!R437,'اندازه گیری و تحلیل'!T437))))))","v":57}]
[null,null,null,null,null,null,null,null,null,null,"زاویه سرشانه با افق       کم = 1       متوسط=2     زیاد=3","p",2]
[null,null,null,null,null,null,null,null,null,null,"شکم جلوتر از سینه است = 1       شکم در امتداد سینه است=2      شکم عقب تر از سینه است=3","p3",2]
[]
[]
[]
[]
[null,null,null,null,null,null,null,null,null,null,"x1",{"$f":"(2*0.35)*M406/(3.5*3.14)","v":0},null,null,null,null,null,null,null,"اضافه طول عمودی ناشی از برجستگی شکم (ناشی از محاسبه)",null,{"$f":"L485","v":-0.8}]
[null,null,null,null,null,null,null,null,null,null,"x2",{"$f":"1.5*L444","v":0},null,null,null,null,null,null,null,"اضافه طول عمودی ناشی از برجستگی شکم (ناشی از اندازه گیری t3)    s'3 ",null,{"$f":"L487","v":2.2000000000000002}]
[null,null,null,null,null,null,null,null,null,null,"x'2",{"$f":"1*L444","v":0}]
[null,null,null,null,null,null,null,null,null,null,"y",{"$f":"0.167*(W406-W407-W404+W405)","v":0.46760000000000074}]
[null,null,null,null,null,null,null,null,null,null,"x",{"$f":"0.167*(V407-V405)","v":2.7053999999999996}]
[null,null,null,null,null,null,null,null,null,null,"نسبت برای x1",{"$f":"((V415-2*W414)/(0.28*(V406-V407)))","v":1.0531135531135531}]
[null,null,null,null,null,null,null,null,null,null,"زاویه خام سرشانه پشت",{"$f":"DEGREES(ATAN((V430-V429)/(0.5*V433+0.018*V434-0.16*V432)))","v":18.034753931062454}]
[null,null,null,null,null,null,null,null,null,null,"زاویه خام سرشانه جلو",{"$f":"DEGREES(ATAN((V427-V430-V426+V429-0.15*(V424-2*V425))/(0.5*V433+0.018*V434-0.16*V432)))","v":22.324657171603633}]
[null,null,null,null,null,null,null,null,null,null,"اختلاف نسبی زاویه سرشانه",{"$f":"(L451-L450)/(L451+L450)","v":0.10629251327846539}]
[null,null,null,null,null,null,null,null,null,null,"α'6",{"$f":"IF(ATAN((0.5*(V424-V425-V404+V405))/(V431-V430))>0,ATAN((0.5*(V424-V425-V404+V405))/(V431-V430)),0)","v":0.32631673270712425}]
[null,null,null,null,null,null,null,null,null,null,"زاویه s'3 با خط افق به درجه",{"$f":"ROUND(DEGREES(ATAN((V428-V427-V431+V430-((V431-V430)/COS(L453)))/(0.25*(V404-V405)))),1)","v":10.1}]
[null,null,null,null,null,null,null,null,null,null," w1 محاسبه",{"$f":"V425-0.23*V434","v":56.92}]
[null,null,null,null,null,null,null,null,null,null,"زاویه خام متوسط سرشانه ",{"$f":"ROUND(0.5*(L450+L451),0)","v":20}]
[]
[null,null,null,null,null,null,null,null,null,null,"پهنای ساسون سرشانه جلو   p1",{"$f":"(1/COS(RADIANS(L461)))*(0.5*V424+(0.122-0.3)*V434-V433)","v":9.6872683467432346}]
[null,null,null,null,null,null,null,null,null,null,"α'6",{"$f":"ATAN((V424-V425-V404+V405)/(V428-V427))","v":0.29370510445421028}]
[null,null,null,null,null,null,null,null,null,null,"s'3",{"$f":"IF(M439=3,0.5*(V428-V427)*((1/COS(L459))-1),IF(M439=1,0.2*0.5*(V428-V427),0))","v":0}]
[null,null,null,null,null,null,null,null,null,null,"p2",{"$f":"IF(M438=1,10,IF(M438=3,23,16))","v":16}]
[null,null,null,null,null,null,null,null,null,null,"w",{"$f":"(1/COS(RADIANS(L461)))*(0.5*V433+0.018*V434-0.16*V432)","v":21.407281791160045}]
[]
[]
[null,null,null,null,null,null,null,null,null,null,"y",{"$f":"0.167*(W406-W407-W404+W405)","v":0.46760000000000074}]
[null,null,null,null,null,null,null,null,null,null,"x",{"$f":"0.167*(V407-V405)","v":2.7053999999999996}]
[]
[null,null,null,null,null,null,null,null,null,null,"زاویه خام سرشانه پشت",{"$f":"DEGREES(ATAN((V430-V429)/(0.5*V433+0.018*V434-0.16*V432)))","v":18.034753931062454}]
[null,null,null,null,null,null,null,null,null,null,"زاویه خام سرشانه جلو",{"$f":"DEGREES(ATAN((V427-V430-V426+V429-0.15*(V424-2*V425))/(0.5*V433+0.018*V434-0.16*V432)))","v":22.324657171603633}]
[null,null,null,null,null,null,null,null,null,null,"اختلاف نسبی زاویه سرشانه",{"$f":"(L469-L468)/(L469+L468)","v":0.10629251327846539}]
[null,null,null,null,null,null,null,null,null,null,"α'6",{"$f":"ATAN((0.5*(V424-V425-V404+V405))/(V431-V430))","v":0.32631673270712425},{"$f":"DEGREES(L471)","v":18.696571568616811}]
[null,null,null,null,null,null,null,null,null,null,"زاویه s'3 با خط افق به درجه",{"$f":"ROUND(DEGREES(ATAN((V428-V427-V431+V430-((V431-V430)/COS(L471)))/(0.25*(V404-V405)))),1)","v":10.1}]
[]
[null,null,null,null,null,null,null,null,null,null,"زاویه خام متوسط سرشانه p2",{"$f":"ROUND(0.5*(L468+L469),0)","v":20}]
[]
[null,null,null,null,null,null,null,null,null,null,"میزان برجستگی باسن",{"$f":"ROUND(500*(L466/(V410-V412)),0)","v":57}]
[]
[null,null,null,null,null,null,null,null,null,null,"پهنای ساسون سرشانه جلو  p1",{"$f":"(1/COS(RADIANS(L474)))*(0.5*V424+(0.122-0.3)*V434-V433)","v":9.9096234172956912}]
[null,null,null,null,null,null,null,null,null,null,"میزان برجستگی سینه",{"$f":"ROUND(500*(L478/V425),0)","v":73}]
[]
[null,null,null,null,null,null,null,null,null,null,"  ناشی از ساسون کمر    α''6",{"$f":"ATAN((0.5*(V424-V425-V405))/(V431-V430))","v":0.42639776650560146},{"$f":"DEGREES(L481)","v":24.430792414575699}]
[null,null,null,null,null,null,null,null,null,null,"  ناشی از ساسون سرشانه    α''6",{"$f":"ATAN((L478)/(V428-V431-V427+V430))","v":0.45412984553313457},{"$f":"DEGREES(L482)","v":26.01972349997661}]
[null,null,null,null,null,null,null,null,null,null,"متوسط    α''6",{"$f":"0.5*(L481+L482)","v":0.44026380601936799},{"$f":"DEGREES(L483)","v":25.225257957276153}]
[null,null,null,null,null,null,null,null,null,null,"میزان برجستگی عمودی شکم",{"$f":"ROUND(IF(L471>0,20*(L483-L471)/L483,20+150*(L483-L471)*L483),0)","v":5}]
[null,null,null,null,null,null,null,null,null,null,"اضافه طول عمودی ناشی از برجستگی شکم (ناشی از محاسبه)",{"$f":"ROUND(IF(L471>0,(V431-V430)*(-(1/COS(L483))+(1/COS(L471))),(V431-V430)*((1/COS(L483))+(1/COS(L471))-2)),1)","v":-0.8}]
[null,null,null,null,null,null,null,null,null,null,"اضافه طول عمودی ناشی از برجستگی سینه",{"$f":"ROUND((V431-V430)*((1/COS(L483))-1),1)","v":1.7}]
[null,null,null,null,null,null,null,null,null,null,"اضافه طول عمودی ناشی از برجستگی شکم (ناشی از اندازه گیری t3)    s'3 ",{"$f":"ROUND(V428-V427-V431+V430-((V431-V430)/COS(L483)),1)","v":2.2000000000000002}]

{"sheet":"طراحی همه الگوها","index":6,"n_rows":519,"n_cols":22,"rows_kept":519,"cut":false,"hidden":true,"merged":[]}
[]
[]
[]
[]
[null,null,null,null,null,null,null,null,null,null,null,null,null,null,null,null,null,null,""]
[]
[]
[]
[]
[]
[]
[]
[]
[]
[]
[]
[]
[]
[]
[]
[]
[]
[]
[]
[]
[]
[]
[]
[]
[]
[]
[]
[]
[]
[]
[]
[]
[]
[]
[]
[]
[]
[]
[]
[]
[]
[]
[]
[]
[]
[]
[]
[]
[]
[]
[]
[]
[]
[]
[]
[]
[]
[]
[]
[]
[]
[]
[]
[]
[]
[]
[]
[]
[]
[]
[]
[]
[]
[]
[]
[]
[]
[]
[]
[]
[]
[]
[]
[]
[]
[]
[]
[]
[]
[]
[]
[]
[]
[]
[]
[]
[]
[]
[]
[]
[]
[]
[]
[]
[]
[]
[]
[]
[]
[]
[]
[]
[]
[]
[]
[]
[]
[]
[]
[]
[]
[]
[]
[]
[]
[]
[]
[]
[]
[]
[]
[]
[]
[]
[]
[]
[]
[]
[]
[]
[]
[]
[]
[]
[]
[{"$f":"'طراحی همه الگوها'!A460","v":"بچگانه 2 ساله"},null,null,{"$f":"'طراحی همه الگوها'!A460","v":"بچگانه 2 ساله"},null,null,{"$f":"'طراحی همه الگوها'!A460","v":"بچگانه 2 ساله"},null,null,{"$f":"'طراحی همه الگوها'!A460","v":"بچگانه 2 ساله"}]
["محاسبات در بافت بالاتنه و آستین (بافت انتخابی) ",null,null,"یقه شکاری - بافت کشباف","تعداد دانه",null,"یقه شومیزیه - بافت همه از زیر","تعداد دانه",null,"یقه انگلیسی - بافت جودانه","تعداد دانه"]
[" b6  تعداد دانه های جادکمه ",{"$f":"محاسبات!I84","v":0},null,"a1",{"$f":"محاسبات!L77","v":120},null,"e1",{"$f":"محاسبات!O77","v":81},null,"d1",{"$f":"محاسبات!R77","v":56}]
["b3  تعداد دانه های جلو بدون جادکمه",{"$f":"محاسبات!J85","v":12},null,"a2",{"$f":"محاسبات!L78","v":0},null,"e2",{"$f":"محاسبات!O78","v":2},null,"d2",{"$f":"محاسبات!R78","v":7}]
["b4   تعداد دانه های آستین",{"$f":"محاسبات!J86","v":10},null,"a3",{"$f":"محاسبات!L79","v":14},null,"e3",{"$f":"محاسبات!O79","v":11},null,"d3",{"$f":"محاسبات!R79","v":4}]
["b5  تعداد دانه های پشت",{"$f":"محاسبات!J87","v":16},null,"a4",{"$f":"محاسبات!L80","v":28},null,"e4",{"$f":"محاسبات!O80","v":17},null,"d4",{"$f":"محاسبات!R80","v":1}]
[" b2  تعداد دانه های اضافه شده  از خط مرکزی تا خط جادکمه = نیمه جادکمه",{"$f":"محاسبات!F76","v":0},null,"a5",{"$f":"محاسبات!L81","v":42},null,"e5",{"$f":"محاسبات!O81","v":23},null,"d5",{"$f":"محاسبات!R81","v":64}]
["(بدون اعمال بافت اننتخابی)  b1 تعداد دانه ها  دور تا دور گردن ",{"$f":"محاسبات!F77","v":60},null,"a6",{"$f":"محاسبات!L82","v":4},null,"e6",{"$f":"محاسبات!O82","v":2},null,"d6",{"$f":"محاسبات!R82","v":16}]
["تعداد رج دوبل برای گودی گردن جلو b13",{"$f":"محاسبات!F78","v":3},null,null,null,null,"e7",{"$f":"محاسبات!O83","v":0},null,"d7",{"$f":"محاسبات!R83","v":10}]
["تعداد رج سوبل برای گودی گردن جلو b13",{"$f":"محاسبات!F79","v":2},null,null,null,null,"e8",{"$f":"محاسبات!O84","v":-4},null,"d8",{"$f":"محاسبات!R84","v":14}]
["فاصله  گردن تا محل جدا شدن آستین در قسمت جلو (cm)     b7",{"$f":"محاسبات!F80","v":14},null,{"$f":"'طراحی همه الگوها'!A460","v":"بچگانه 2 ساله"},null,null,"e9",{"$f":"محاسبات!O85","v":7},null,"d9",{"$f":"محاسبات!R85","v":4}]
["تعداد دانه های اضافه شده زیر بغل   b8",{"$f":"محاسبات!F81","v":8},null,"یقه ب ب گرد - بافت همه از زیر","تعداد دانه",null,null,null,null,"d10",{"$f":"محاسبات!R86","v":11}]
["تعداد دانه های سرتاسر آستین در قسمت زیر بغل   b20",{"$f":"محاسبات!F82","v":55},null,"c1",{"$f":"محاسبات!I77","v":82},null,null,null,null,"d12",{"$f":"محاسبات!R87","v":40}]
["فاصله زیر بغل تا پایین لباس (cm)     b9",{"$f":"محاسبات!F83","v":23},null,"c2",{"$f":"محاسبات!I78","v":5}]
["فاصله زیر بغل تا لبه پایین آستین (cm)     b10",{"$f":"محاسبات!F84","v":25},null,"c3",{"$f":"محاسبات!I79","v":10}]
["گشادی لبه پایین آستین (cm)     b'11",{"$f":"محاسبات!F85","v":19},null,"c4",{"$f":"محاسبات!I80","v":6}]
["تعداد دانه ها  لبه پایین آستین      b'12",{"$f":"محاسبات!F86","v":34}]
["پهنای مچ جدا در پایین آستین (cm)     b14",{"$f":"محاسبات!F87","v":4}]
["گشادی مچ جدا در پایین آستین (cm)     b15",{"$f":"محاسبات!F88","v":13}]
["در بالای مچ جدا هر b12   دانه یکی کم شود",{"$f":"محاسبات!F89","v":3}]
["هر b11   رج در بافت آستین یکدانه از ابتدا و یکدانه از انتها کم شود",{"$f":"محاسبات!F90","v":6}]
[null,null,null,"اندازه نوشته ها هنگام چاپ به سایز واقعی",20]
[]
["طراحی الگو جلو و پشت",null,null,"طراحی یقه و جیب و دامن در الگو جلو و پشت",null,null,"طراحی الگو یقه جدا و کلاه و بافت ",null,null,"طراحی الگو آستین ",null,null,"طراحی الگو شلوار",null,null,"طراحی الگو چادر یا مقنعه",null,null,null,null,"رسم الگو چادر یا مقنعه"]
[null,null,null,null,null,null,null,null,null,"انتخاب نوع آستین و سرشانه",4]
[null,null,null,null,null,null,null,null,null,null,null,null,"طراحی کلی شلوار",null,null,"طراحی چادر شماره 1 یا مقنعه ","عکس راهنما",null,null,"رسم دستی چادر 1 یا مقنعه چانه دار(بر حسب سانتیمتر)"]
[null,null,null,null,null,null,null,null,null,null,null,null," گشاد یا تنگ شدن اندازه های عرضی در شلوار    ",-5,null,"لبه پایین چادر یا مقنعه",70,null,null,"(j1 → j2)",{"$f":"ROUND(محاسبات!G19+0.1*محاسبات!G13-محاسبات!G20,1)","v":44.9}]
[null,null,null,null,null,null,null,null,null,null,null,null," گشاد یا تنگ شدن اندازه های طولی در شلوار    ",0,null,"انتخاب چادر تا پایین پیشانی یا بالای پیشانی یا روی سر",2,null,null,"(j1 → j3)",{"$f":"ROUND((0.21+'متغیرها '!C6*0.1)*محاسبات!G13,1)","v":10.3}]
[null,null,null,null,null,null,null,null,null,null,null,null,"کوتاهی پایین شلوار  (قد شلوار)   ",30,null,null,null,null,null,"(j1 → j6)",{"$f":"ROUND(0.1*محاسبات!G13,1)","v":4.9000000000000004}]
[null,null,null,null,null,null,null,null,null,null,null,null," گشادی پاچه شلوار ",16,null,null,null,null,null,"(j1 → j7)",{"$f":"ROUND(0.28*محاسبات!G13,1)","v":13.7}]
[null,null,null," کنترل یقه گرد بدون زیپ ",null,null,null,null,null,null,null,null," گشادی دور زانو ",4,null,null,null,null,null,"(j7 → j8)",{"$f":"ROUND(1+0.2*U179,1)","v":2}]
[null,null,null,"دور سر",{"$f":"'متغیرها '!B260","v":49},null,null,null,null,null,null,null,"ضریب عرض زیپ   ",6,null,null,null,null,null,"(j7 → j9)",{"$f":"ROUND(0.3*محاسبات!G13+20,1)","v":34.700000000000003}]
[null,null,null," دور یقه گرد لباس",{"$f":"'متغیرها '!B261","v":33.4},null,null,null,null,null,null,null,"جابجایی افقی کل الگو جلو شلوار (سانتیمتر)  ",15,null,null,null,null,null,"(j3 → j11)",{"$f":"ROUND(0.18*محاسبات!G13,1)","v":8.8000000000000007}]
[null,null,null,"آیا یقه گرد با پارچه غیر کش از سر رد میشود؟",{"$f":"'متغیرها '!E262","v":"خیر"},null,null,null,null,null,null,null,"جابجایی عمودی کل الگو جلو شلوار (سانتیمتر)  ",0,null,null,null,null,null,"(j3 → j12)",{"$f":"ROUND(0.15*محاسبات!G13,1)","v":7.4}]
[null,null,null,"آیا یقه گرد با پارچه نیم کش از سر رد میشود؟",{"$f":"'متغیرها '!E263","v":"خیر"},null,null,null,null,null,null,null,"جابجایی افقی کل الگو پشت شلوار (سانتیمتر)  ",10,null,null,null,null,null,{"$f":"'طراحی همه الگوها'!A460","v":"بچگانه 2 ساله"}]
[null,null,null,"آیا یقه گرد با پارچه کش زیاد از سر رد میشود؟",{"$f":"'متغیرها '!E264","v":"خیر"},null,null,null,null,null,null,null,"جابجایی عمودی کل الگو پشت شلوار (سانتیمتر)  ",0]
["جابجایی افقی تکه  پهلو جلو   (سانتیمتر)",0,null,null,null,null,null,null,null,null,null,null,null,null,null,"طراحی چادر شماره 2",null,null,null,"رسم دستی چادر 2 (بر حسب سانتیمتر)"]
["جابجایی افقی تکه پهلو پشت  (سانتیمتر)",0,null,"طراحی نوار یقه گرد کش ",null,null,null,null,null,null,null,null,"اطلاعات شلوار و اندام",null,null,"لبه پایین چادر",10,null,null,"(1 →2)",{"$f":"ROUND(محاسبات!AH44+محاسبات!AH45-0.07*'متغیرها '!U85+0.1*'متغیرها '!C14*'متغیرها '!U85,1)","v":99.8}]
["جابجایی عمودی تکه پهلو پشت  (سانتیمتر)",0,null,"ارتفاع نوار یقه گرد کش به سانتیمتر (بعد از دوخت)",1,null,null,null,null,null,null,null,"گشادی لبه شلوار (سانتیمتر) (محاسبه شده)",{"$f":"'متغیرها '!B613","v":27.1},null,"مکان نقطه اتصال جلو چادر به پشت چادر  ",20,null,null,"(1 →3)",{"$f":"ROUND('متغیرها '!C11*((محاسبات!AH44+محاسبات!AH45-0.07*'متغیرها '!U85)+محاسبات!AH43),1)","v":44.9}]
[null,null,null,"طول مستطیل (بدون جای دوخت) برای دوخت یقه گرد کش (سانتیمتر)",{"$f":"'متغیرها '!B249","v":29},null,null,null,null,null,null,null,"دور کمر (سانتیمتر) (اندازه گیری شده)",{"$f":"'متغیرها '!B614","v":49},null,"گشادی عرضی چادر  ",20,null,null,"(1 → 4)",{"$f":"ROUND(0.26*'متغیرها '!U85*'متغیرها '!C10,1)","v":12.7}]
[null,null,null,"عرض مستطیل (بدون جای دوخت) که در موقع دوخت باید دولا شود  (سانتیمتر)",{"$f":"2*'متغیرها '!C248","v":2},null,null,null,null,null,null,null,"طول کش برای کل کمر شلوار (سانتیمتر) (محاسبه شده)",{"$f":"'متغیرها '!B615","v":39.200000000000003},null,"گشادی لبه پایینی مچ  ",7,null,null,"(6→7)",{"$f":"0.93*U201","v":22.785}]
[null,null,null,null,null,null,null,null,null,null,null,null,"طول کش برای پشت کمر بین دو خط پهلو (سانتیمتر) (محاسبه شده)",{"$f":"'متغیرها '!B616","v":19.2},null,"مکان لبه پایینی آستین چادر ",10,null,null,"(5 →8)",{"$f":"ROUND(0.73*U189-U190,1)","v":20.100000000000001}]
[null,null,null,"طراحی یقه هفت",null,null,null,null,null,null,null,null,"طول کش از ساسون جلو - پشت - تا ساسون دیگر جلو (سانتیمتر) (محاسبه شده)",{"$f":"'متغیرها '!B617","v":25.2},null,"انتخاب چادر تا پایین پیشانی یا بالای پیشانی یا روی سر",2,null,null,"(8 →9)",{"$f":"ROUND(0.5*U191,1)","v":11.4}]
[null,null,null,"باز شدن یقه هفت روی سرشانه     ",null,null,null,null,null,null,null,null,null,null,null,null,null,null,null,"(8 →10)",{"$f":"ROUND(U195+(U188-U195-محاسبات!W36+'متغیرها '!U83)*(1-COS(ASIN(U192/(U188-U195-محاسبات!W36+'متغیرها '!U83)))),1)","v":27.4}]
[null,null,null,"باز شدن یقه هفت روی خط مرکزی جلو ",null,null,null,null,null,null,null,null," کمر شلوار",null,null,null,null,null,null,"(5 →11)",{"$f":"ROUND('طراحی همه الگوها'!U178+U190+0.1*'متغیرها '!C14*'متغیرها '!U85*1.5,1)","v":23}]
[null,null,null,null,null,null,null,null,null,null,null,null," پایین آمدن کمر شلوار نسبت به کمر اندام   (سانتیمتر)",-5,null,null,null,null,null,"(3 →12)",{"$f":"ROUND(محاسبات!W36-U189+'متغیرها '!C13*'متغیرها '!U83,1)","v":14.6}]
[null,null,null," کنترل یقه هفت بدون زیپ ",null,null,null,null,null,null,null,null," پهنای کمر جدا در شلوار  (سانتیمتر) ",3.5,null,null,null,null,null,"(12 →13)",{"$f":"ROUND(محاسبات!F425*'متغیرها '!C12,1)","v":10.4}]
[null,null,null,"دور سر",{"$f":"'متغیرها '!B267","v":49},null,null,null,null,null,null,null,"کوتاهی جلو کمر شلوار نسبت به پشت کمر شلوار (سانتیمتر) ",0,null,null,null,null,null,"(3 →14)",{"$f":"ROUND(U197+U196*TAN(محاسبات!F423-RADIANS(90)+'متغیرها '!B245),1)","v":12.9}]
[null,null,null," دور یقه هفت لباس",{"$f":"'متغیرها '!B268","v":41.3},null,null,null,null,null,null,null,"جابجایی افقی  جلو کمر شلوار (سانتیمتر)  ",0,null,null,null,null,null,"(5 →15)",{"$f":"ROUND(0.5*(محاسبات!Y17-محاسبات!Y16),1)","v":10.1}]
[null,null,null,"آیا یقه هفت با پارچه غیر کش از سر رد میشود؟",{"$f":"'متغیرها '!E269","v":"خیر"},null,null,null,null,null,null,null,"جابجایی عمودی  جلو کمر شلوار (سانتیمتر)  ",5,null,null,null,null,null,"(15 →16)",{"$f":"ROUND(0.35*(محاسبات!Z18-محاسبات!Z17),1)","v":4}]
[null,null,null,"آیا یقه هفت با پارچه نیم کش از سر رد میشود؟",{"$f":"'متغیرها '!E270","v":"خیر"},null,null,null,null,null,null,null,"جابجایی افقی  پشت کمر شلوار (سانتیمتر)  ",0,null,null,null,null,null,"(15 →17)",{"$f":"ROUND(محاسبات!Z15+0.35*(محاسبات!Z19-محاسبات!Z15),1)","v":24.5}]
[null,null,null,null,null,null,null,null,null,null,null,null,"جابجایی عمودی  پشت کمر شلوار (سانتیمتر)  ",5,null,null,null,null,null,"(8 →18)",{"$f":"ROUND(0.5*(محاسبات!Y22-محاسبات!Y21),1)","v":6.1}]
[null,null,null,"طراحی یقه انگلیسی و آرشال ",null,null,null,null,null," جادکمه آستین بلند یا کوتاه",null,null,null,null,null,null,null,null,null,"(18 →19)",{"$f":"ROUND(محاسبات!Z18+0.45*(محاسبات!Z23-محاسبات!Z18),1)","v":16.5}]
[null,null,null,"پهنای جادکمه جلو      مرحله اول در طراحی یقه انگلیسی",null,null,null,null,null,"ضریب طول مستطیل ",7,null,"  شلوار متصل به بالاتنه",null,null,null,null,null,null,"(18 →20)",{"$f":"ROUND(محاسبات!Z23+0.8*(محاسبات!Z19-محاسبات!Z23),1)","v":26.5}]
[null,null,null,"باز شدن یقه روی سرشانه    مرحله دوم در طراحی یقه انگلیسی    ",null,null,null,null,null,"ضریب عرض مستطیل ",5,null," بلند شدن فاق در شلوار متصل به بالاتنه    ",10,null,null,null,null,null,"(1 →21)",{"$f":"ROUND(0.1*'متغیرها '!U85,1)","v":4.9000000000000004}]
[null,null,null,"باز شدن یقه روی خط مرکزی پشت   مرحله دوم در طراحی یقه انگلیسی    ",null,null,null,null,null,null,null,null," بزرگی پهنای جادکمه پهلو",4,null,null,null,null,null,"(4 →22)",{"$f":"ROUND(0.7*U205,1)","v":3.4}]
[null,null,null,"پهنای یقه در پشت گردن (انگلیسی، آرشال)    مرحله سوم در طراحی یقه انگلیسی",20,null,null,null,null,null,null,null,null,null,null,null,null,null,null,{"$f":"'طراحی همه الگوها'!A460","v":"بچگانه 2 ساله"}]
[null,null,null,"باز بودن جلو یقه (انگلیسی، آرشال، هفت، پشت گردنی) مرحله چهارم در طراحی یقه انگلیسی ",20,null,null,null,null,"طول کل حلقه آستین با اپل (سانتیمتر)",{"$f":"'متغیرها '!B534","v":30.4},null," جزئی شلوار"]
["  نوع پیراهن",null,null,"پهنای بالای دال   مرحله پنجم در طراحی یقه انگلیسی ",20,null,null,null,null,"طول کل حلقه آستین با ساسون (سانتیمتر)",{"$f":"'متغیرها '!B535","v":30.6},null,"ضریب گشادی دور ران یا نسبت گشادی پشت پاچه به جلو پاچه  ",1.2,null,"طراحی چادر شماره 3",null,null,null,"رسم دستی چادر 3 (بر حسب سانتیمتر)"]
["انتخاب الگو جلو ترک (دامن،سوتین)=2    انتخاب الگو جلو با ساسون (مایو)=1",1,null,"پهنای پایین دال   مرحله پنجم در طراحی یقه انگلیسی      ",20,null,null,null,null,null,null,null,"زاویه خط پهلو جلو   ","روش مولر",null,"لبه پایین چادر",10,null,null,"(1 →2)",{"$f":"ROUND(محاسبات!G19+0.1*'متغیرها '!U85-محاسبات!AX33,1)","v":92.9}]
[null,null,null,"پهنای جلو یقه (انگلیسی، آرشال)   مرحله ششم در طراحی یقه انگلیسی ",20,null,null,null,null,"طول حلقه آستین مدل 85 (سانتیمتر)",{"$f":"'متغیرها '!B537","v":30.2},null," پهنای صافی لبه پایین شلوار   ",0,null,"گشادی لبه پایینی مچ  ",5,null,null,"(1 →3)",{"$f":"ROUND('متغیرها '!C21,1)","v":110}]
[" اوزمان ها در دامن (پایین تنه ترک)",null,null,"وسط دال پایین یا بالا رود (انگلیسی، آرشال)   مرحله هفتم در طراحی یقه انگلیسی",20,null,null,null,null,"طول حلقه آستین مدل 83 کت مردانه (سانتیمتر)",{"$f":"'متغیرها '!B538","v":29.3},null," بالا یا پایین رفتن خط زانو   ",0,null,"گشادی پایین چادر (معادل کوتاهی طول مچ چادر)",15,null,null,"(1 → 4)",{"$f":"ROUND(محاسبات!AX34*COS(RADIANS(محاسبات!AX32)),1)","v":46}]
["میزان پایین آمدن نقطه شروع اوزمان از خط کمر  ",30,null," زاویه بالای دال     مرحله هشتم در طراحی یقه انگلیسی",20,null,null,null,null,null,null,null," پهنای فاق جلو (در روش مولر این ضریب ثابت مساوی 0.06 می باشد)   ",5,null,"مکان لبه پایینی آستین چادر ",10,null,null,"(4→5)",{"$f":"ROUND(محاسبات!AX34*SIN(RADIANS(محاسبات!AX32)),1)","v":29.9}]
["اوزمان در خط پهلو جلو دامن  ",0,null," زاویه پایین دال      مرحله هشتم در طراحی یقه انگلیسی ",20,null,null,null,null,null,null,null," زاویه خط وسط پا در پشت شلوار   ",2,null,"عرض پارچه  (سانتیمتر)",110,null,null,"(5 →6)",{"$f":"ROUND(U225*COS(RADIANS(محاسبات!AX35)),1)","v":9.6}]
["اوزمان در خط ترک جلو دامن  ",0,null," دال رو به پایین یا رو به بالا شود    مرحله هشتم در طراحی یقه انگلیسی  ",20,null,null,null,null,null,null,null," بلندی ساسون پشت شلوار   ",20,null,"انتخاب چادر تا پایین پیشانی یا بالای پیشانی یا روی سر",2,null,null,"(6 →7)",{"$f":"ROUND(U225*SIN(RADIANS(محاسبات!AX35)),1)","v":2.6}]
["اوزمان در خط  پهلو پشت دامن   ",0,null,"   محاسبه در یقه شکاری متصل به یقه هفت   ",{"$f":"'متغیرها '!B173","v":0.31},null,null,null,null,"  آستر مچ جدا در آستین",null,null,"بلندی ساسون جلو شلوار   ",20,null,null,null,null,null,"(2 →8)",{"$f":"ROUND(U211,1)","v":110}]
["اوزمان در خط مرکزی پشت دامن  ",0,null,null,null,null,null,null,null,"انتخاب مچ اندامی=2        انتخاب مچ مستطیل یا مچ پفی=1",2,null," پهنای ساسون وسط پشت شلوار   ",10,null,null,null,null,null,"(8 →9)",{"$f":"ROUND(U219,1)","v":-6.8}]
["اوزمان در خط ترک پشت دامن  ",0,null," طراحی تکه پشت یقه انگلیسی و آرشال  ",null,null,null,null,null,"گشادی لبه بالایی مچ ",5,null," پهنای ساسون پهلو پشت شلوار   ",5,null,null,null,null,null,"(9→10)",{"$f":"ROUND(2*(U210-U212+U215-U217),1)","v":112.6}]
["انتخاب پیراهن ترک گشاد=2            انتخاب دیگر=1",1,null,"پهنای پشت پایه (انگلیسی، آرشال)    مرحله سوم در طراحی یقه انگلیسی      ",20,null,null,null,null,"گشادی لبه پایینی مچ یا (گشادی مچ مستطیل یا مچ پفی)  ",8,null," پهنای ساسون وسط جلو شلوار   ",10,null,null,null,null,null,"(3→11)",{"$f":"ROUND(U210+محاسبات!AH45-U211+0.1*'متغیرها '!C22*'متغیرها '!U85,1)","v":-6.8}]
[null,null,null,"زاویه کج شدن پایه مستطیل به قسمت گردن    مرحله سوم در طراحی یقه انگلیسی ",20,null,null,null,null,"مکان لبه بالایی مچ",30,null," پهنای ساسون پهلو جلو شلوار   ",5,null,null,null,null,null,"(12 →13)",{"$f":"ROUND(1+1.5*(U211+U219-محاسبات!AH45-((U210-U217-U218)/TAN((U210-U217-U218)/(U211+U219-محاسبات!AH45)))),1)","v":1.9}]
[" انتقال ساسون سرشانه به زیر بغل، عصایی یا خط مرکزی جلو",null,null,"پهنای جلو پایه مستطیل      مرحله سوم در طراحی یقه انگلیسی       ",20,null,null,null,null,"مکان لبه پایینی مچ",15,null," ساسون پهلو در کمر جدا شلوار   ",0,null,null,null,null,null,"(8 →14)",{"$f":"U220","v":1.9}]
[" برای حذف کامل ساسون سرشانه مجموع c1 و c2 باید 10 شود.",null,null,"انتخاب یقه انگلیسی پایه سرخود یا پایه جدا    مرحله سوم در طراحی یقه انگلیسی",1,null,null,null,null,"جابجایی افقی آستر مچ  (سانتیمتر)   ",0,null,null,null,null,null,null,null,null,"(2→15)",{"$f":"0.4*(U211+U210-U217-U218)","v":38.840000000000011}]
["انتقال ساسون سرشانه جلو به ساسون زیر بغل یا ساسون عصایی  c1",0,null,"تغییر انحنا بالا سمت چپ     مرحله نهم در طراحی یقه انگلیسی          ",20,null,null,null,null,"جابجایی عمودی آستر مچ  (سانتیمتر)  ",0,null," برش پشت  شلوار جین",null,null,null,null,null,null,"(15→16)",{"$f":"ROUND((U210-محاسبات!W36+'متغیرها '!U83)*(1-COS(ASIN((U222)/(U210-محاسبات!W36+'متغیرها '!U83)))),1)","v":13}]
["انتقال ساسون سرشانه به خط مرکزی جلو c2",0,null,"تغییر انحنا بالا    مرحله نهم در طراحی یقه انگلیسی ",40,null,null,null,null,null,null,null," بالا یا پایین شدن خط برش در قسمت پهلو پشت شلوار جین   ",20,null,null,null,null,null,"(17 →18)",{"$f":"ROUND(('متغیرها '!C20+'متغیرها '!C19)*'متغیرها '!U83,1)","v":4.7}]
["انتخاب (اصلاح سرشانه و حلقه آستین برای c1 >10 ) = 2     انتخاب دیگر=1",1,null,"زاویه تکه پشت یقه روی خط مرکزی پشت",20,null,null,null,null,"  آستین کلوش ",null,null," بالا یا پایین شدن خط برش در قسمت مرکزی پشت شلوار جین   ",20,null,null,null,null,null,"(17→19)",{"$f":"ROUND(U226+U224*TAN(محاسبات!AX36-RADIANS(90)+محاسبات!AH15),1)","v":9.9}]
[null,null,null,"زاویه تکه پشت یقه با پایه روی خط مرکزی پشت",20,null,null,null,null,"بلندی پایین آستین کلوش",30,null,null,null,null,null,null,null,null,"(18→20)",{"$f":"ROUND(محاسبات!AX37*'متغیرها '!C18,1)","v":9.1}]
[" انتقال ساسون سرشانه به زیر بغل، عصایی یا خط مرکزی پشت",null,null,"تغییر انحنا پایین روی خط مرکزی پشت",20,null,null,null,null," اوزمان آستین کلوش ",15,null,"  دامن شلواری",null,null,null,null,null,null,"(2→21)",{"$f":"0.6*U222","v":23.304000000000006}]
[" برای حذف کامل ساسون سرشانه مجموع c1 و c2 باید 10 شود.",null,null,"تغییر انحنا پایین",20,null,null,null,null,null,null,null," بلند شدن فاق در دامن شلواری    ",10,null,null,null,null,null,"(21→22)",{"$f":"ROUND(0.45*U223,1)","v":5.9}]
["انتقال ساسون سرشانه پشت به ساسون زیر بغل یا عصایی  c1",10,null,"اعمال ضخیم دوزی در سجاف یقه انگلیسی و آرشال  ",20,null,null,null,null," آستین کلوش معکوس ",null,null," اوزمان در جلو دامن شلواری      ",8,null,null,null,null,null,{"$f":"'طراحی همه الگوها'!A460","v":"بچگانه 2 ساله"}]
["انتقال ساسون سرشانه به خط مرکزی پشت c2",0,null,"جابجایی افقی پایه مستطیل  (سانتیمتر)",0,null,null,null,null,"بلندی پایین آستین کلوش معکوس",30,null," اوزمان در پشت دامن شلواری      ",8]
[null,null,null,"جابجایی عمودی پایه مستطیل  (سانتیمتر)",0,null,null,null,null," اوزمان آستین کلوش معکوس ",5,null,null,null,null,"طراحی چادر شماره 4",null,null,null,"رسم دستی چادر  4  (بر حسب سانتیمتر)"]
[" ساسون زیر بغل",null,null,"جابجایی افقی پایه لبه گرد یقه انگلیسی (سانتیمتر)",0,null,null,null,null,null,null,null," شلوار با تکه پهلو جدا",null,null,"لبه پایین چادر",10,null,null,"(1 →2)",{"$f":"ROUND(U233+محاسبات!AH45+0.1*'متغیرها '!C32*'متغیرها '!U85,1)","v":103.2}]
["ضریب کوتاه شدن ساسون زیر بغل جلو  ",9,null,"جابجایی عمودی پایه لبه گرد یقه انگلیسی (سانتیمتر)",0,null," کلاه متصل به یقه مربعی",null,null," آستین رگلان درز دار",null,null," پهنای تکه پهلو جلو شلوار   ",12,null,"گشادی پشت چادر نسبت به جلو چادر  ",3,null,null,"(1 →4)",{"$f":"ROUND(محاسبات!G19+0.1*'متغیرها '!U85-محاسبات!BL39,1)","v":92.9}]
["ضریب کوتاه شدن ساسون زیر بغل پشت  ",9,null,"جابجایی افقی پایه یقه آرشال (سانتیمتر)",0,null,"بالا یا پایین رفتن خط کارور",30,null,"میزان خمیدگی بدن به سمت جلو   ",3,null," پهنای تکه پهلو پشت شلوار   ",6,null,"مکان لبه پایینی آستین چادر ",10,null,null,"(2 → 3)",{"$f":"ROUND(U232*TAN(RADIANS('متغیرها '!C26)),1)","v":5.4},"عمود"]
[null,null,null,"جابجایی عمودی پایه یقه آرشال (سانتیمتر)",0,null,"پهنای کارور جلو",48,null,"میزان خم شدن سرشانه در آستین  ",3,null," باریک شدن پایین تکه پهلو جلو شلوار   ",5,null,"گشادی لبه پایینی آستین چادر ",7,null,null,"(4→5)",{"$f":"ROUND(U233*TAN(RADIANS('متغیرها '!C26)),1)","v":4.9000000000000004},"عمود"]
["  تنظیم ساسون های بالای کمر",null,null,null,null,null,null,null,null,"پهنای ساسون مچ روی درز آستین  ",3,null," باریک شدن پایین تکه پهلو پشت شلوار   ",5,null,"مکان لبه بالایی آستین چادر ",30,null,null,"(1 →10)",{"$f":"ROUND(محاسبات!W36+'متغیرها '!C27*'متغیرها '!U83,1)","v":59.5},"زاویه 45"]
["مجموع ضرایب پهنای دو ساسون پشت باید کمتر از 20 یا مساوی 20 باشد.",null,null,"مراحل مختلف در طراحی یقه انگلیسی",null,null," کلاه ملوانی",null,null,"میزان روی هم آمدن سرشانه در دو تکه آستین رگلان  ",10,null,"جابجایی افقی تکه پهلو شلوار (سانتیمتر)  ",7,null,"گشادی پایین چادر  ",20,null,null,"(10 →11)",{"$f":"ROUND('متغیرها '!C28*'متغیرها '!U84*0.5,1)","v":10.199999999999999},"عمود"]
["اگر مجموع پهنای ساسون ها کمتر از 20 باشد، باقیمانده ساسون ها روی خط پهلو قرار میگیرد.",null,null,"پهنای جادکمه جلو - میزان روی هم آمدن یقه انگلیسی","مرحله اول",null,"بالا یا پایین رفتن قسمت پایین کلاه روی خط مرکزی جلو",12,null,"زاویه درز روی آستین نسبت به عمود  ",3,null,"جابجایی عمودی تکه پهلو شلوار (سانتیمتر)  ",0,null," بیشترین مقدار گشادی پایین چادر  برای اندام شما",{"$f":"'متغیرها '!B31","v":55},null,null,"(12 →13)",{"$f":"ROUND(محاسبات!BK35-محاسبات!BK37,1)","v":8.8000000000000007}]
[" ضریب پهنای ساسون روی خط مرکزی پشت بالاتنه   ",0,null,"میزان باز بودن یقه گرد - نشان میدهد یقه چقدر به گردن میچسبد","مرحله دوم",null,"پهنای قسمت پایین کلاه",4,null,"میزان انحنا لبه جلو آستین  ",1,null,null,null,null,"انتخاب چادر تا پایین پیشانی یا بالای پیشانی یا روی سر",2,null,null,"(13 →9)",{"$f":"ROUND(محاسبات!BJ35-محاسبات!BJ29,1)","v":22.5},"عمود"]
[" ضریب طول ساسون روی خط مرکزی پشت بالاتنه   ",15,null,"پهنای تکه پشت یقه انگلیسی","مرحله سوم",null,null,null,null,"میزان انحنا لبه پشت آستین  ",1,null,"  شلوار رکاب دار",null,null,"مکان افقی الگو مرغک",40,null,null,"(12 →14)",{"$f":"ROUND(محاسبات!BK37-محاسبات!BK34,1)","v":39.299999999999997}]
[" ضریب پهنای ساسون میانی پشت بالاتنه   ",10,null,"باز بودن یقه انگلیسی","مرحله چهارم",null,"طراحی بافت ",null,null,"سهم گشادی مچ آستین بر روی درز  ",4,null," پهنای رکاب جلو شلوار   ",20,null,"مکان عمودی الگو مرغک",35,null,null,"(14 →8)",{"$f":"ROUND(محاسبات!BJ34-محاسبات!BJ29,1)","v":40},"عمود"]
[" ضریب طول ساسون میانی پشت بالاتنه   ",18,null,"پهنای بالا و پایین دال","مرحله پنجم",null,null,null,null,"جابجایی افقی تکه جلو آستین رگلان درز دار (سانتیمتر)",5,null," پهنای رکاب پشت شلوار   ",20,null,null,null,null,null,"(15 →16)",{"$f":"ROUND(0.33*U244,1)","v":3}]
[" ضریب فاصله افقی ساسون وسط بالاتنه از خط مرکزی پشت   ",25,null,"پهنای یقه انگلیسی","مرحله ششم",null,"طراحی بافت",null,null,null,null,null," قله رکاب جلو شلوار   ",0,null,null,null,null,null,"(16 →17)",{"$f":"U242","v":3}]
[" ضریب پهنای ساسون میانی جلو بالاتنه    ",7,null,"بالا و پایین رفتن نقطه وسط دال","مرحله هفتم",null,"انتخاب ضخامت میل بافتنی",3,null," آستین لاله ای",null,null," قله رکاب پشت شلوار   ",0,null,null,null,null,null,"(16 →18)",{"$f":"ROUND(محاسبات!BL40-3-0.2*محاسبات!BL40,1)","v":9.1},"عمود"]
[" ضریب طول ساسون میانی جلو بالاتنه  ",16,null,"تنظیم زاویه های نوک دال","مرحله هشتم",null,"جمع شوندگی عمودی بافت",0,null,"مکان نقطه بالای انحنا جلو آستین   ",20,null," ارتفاع رکاب جلو شلوار   ",0,null,null,null,null,null,"(16 →19)",{"$f":"U244","v":9.1}]
[" ضریب فاصله افقی ساسون میانی بالاتنه از خط مرکزی جلو   ",25,null,"اصلاح انحنای بالای تکه پشت یقه انگلیسی","مرحله نهم",null,"جمع شوندگی افقی بافت",0,null,"مکان نقطه بالای انحنا پشت آستین   ",20,null," ارتفاع رکاب پشت شلوار   ",0,null,null,null,null,null,{"$f":"'طراحی همه الگوها'!A460","v":"بچگانه 2 ساله"}]
[" ضریب نوک ساسون سرشانه جلو تا نوک سینه  ",18,null,null,null,null,null,null,null,"مکان نقطه پایین انحنا جلو آستین   ",20]
[null,null,null,"طراحی یقه مربعی یا برش سرشانه در پیراهن",null,null,null,null,null,"مکان نقطه پایین انحنا پشت آستین   ",20,null," جیب جین پشت شلوار یا پیراهن ",null,null,"طراحی چادر شماره 5",null,null,null,"رسم دستی چادر 5 (بر حسب سانتیمتر)"]
[" تنظیم ساسون های پایین کمر",null,null,"انتخاب یقه مربعی یا برش سرشانه",2,null,null,null,null,"ضریب انحنا جلو   ",23,null,"ضریب پهنای جیب    ",11,null,"لبه پایین چادر",10,null,null,"(1 →2)",{"$f":"ROUND(0.5*'متغیرها '!C38*'متغیرها '!U54,1)","v":50.4}]
["مجموع ضرایب پهنای دو ساسون پشت باید کمتر از 20 یا مساوی 20 باشد.",null,null,"  انتخاب آستین با هر نوع ساسون=1    انتخاب آستین بدون ساسون=2           ",2,null,null,null,null,"ضریب انحنا پشت   ",23,null,"ضریب ارتفاع جیب    ",9,null,"گشادی دامن چادر  ",20,null,null,"(1 →3)",{"$f":"ROUND('متغیرها '!U56-محاسبات!BW42,1)","v":48},"عمود"]
["اگر مجموع پهنای ساسون ها کمتر از 20 باشد، باقیمانده ساسون ها روی خط پهلو قرار میگیرد.",null,null,"بالا یا پایین آمدن خط کارور پشت",20,null,null,null,null,null,null,null,"زاویه خط پهلو جیب    ",5,null,"بلند شدن دسته چادر ",20,null,null,"(2 → 4)",{"$f":"U250","v":48},"عمود"]
[" ضریب پهنای ساسون روی خط مرکزی پشت پایین تنه   ",0,null,"  حلقه آستین با ساسون سرشانه یا حلقه آستین بدون ساسون ",{"$f":"'متغیرها '!B286","v":"عدم خطا"},null,null,null,null,null,null,null,"زاویه مثلث پایین جیب    ",20,null,"انتخاب چادر تا پایین پیشانی یا بالای پیشانی یا روی سر",2,null,null,"(3→5)",{"$f":"ROUND(0.14*'متغیرها '!U56,1)","v":6.7}]
[" ضریب طول ساسون روی خط مرکزی پشت پایین تنه        غیر فعال",18,null,"  حلقه آستین با ساسون عصایی  ",{"$f":"'متغیرها '!B287","v":"عدم خطا"},null,null,null,null,null,null,null,"زاویه چرخش کل جیب    ",45,null,null,null,null,null,"(4 →6)",{"$f":"ROUND(0.33*U249,1)","v":16.600000000000001},"عمود"]
[" ضریب پهنای ساسون میانی پشت پایین تنه   ",10,null,"بالا یا پایین آمدن خط کارور جلو",10,null,null,null,null,null,null,null,"مکان افقی جیب  (سانتیمتر)    ",0,null,null,null,null,null,"(6 →7)",{"$f":"U261","v":11.7},"عمود"]
[" ضریب طول ساسون میانی پشت پایین تنه       ",18,null,"  حلقه آستین با ساسون سرشانه یا حلقه آستین بدون ساسون ",{"$f":"'متغیرها '!B290","v":"عدم خطا"},null,null,null,null,null,null,null,"مکان عمودی جیب    ",20,null,null,null,null,null,"(4→8)",{"$f":"ROUND(0.2*('متغیرها '!U52-'متغیرها '!U53),1)","v":5}]
[" ضریب پهنای ساسون میانی جلو پایین تنه    ",5,null,"  حلقه آستین با ساسون عصایی  ",{"$f":"'متغیرها '!B291","v":"عدم خطا"},null,null,null,null,null,null,null,null,null,null,null,null,null,null,"(4 →11)",{"$f":"ROUND(3*U255+'متغیرها '!U52+10,1)","v":74}]
[" ضریب طول ساسون میانی جلو پایین تنه       ",18,null,"پهنا یقه روی خط سرشانه  (فقط موثر در انتخاب یقه مربعی) ",20,null,null,null,null,null,null,null," جیب جلو شلوار مردانه و جیب جین جلو شلوار",null,null,null,null,null,null,"(4 →9)",{"$f":"ROUND(1+0.03*'متغیرها '!U56,1)","v":2.4},"عمود"]
[null,null,null,"پهنای کارور جلو  (فقط موثر در انتخاب یقه مربعی) ",20,null,null,null,null,null,null,null," بزرگی عمودی دهانه جیب   ",10,null,null,null,null,null,"(12 →18)",{"$f":"U252","v":6.7}]
["ساسون ها در بالاتنه عصایی ",null,null,"پهنای کارور پشت  (فقط موثر در انتخاب یقه مربعی) ",20,null,null,null,null,null,null,null," بزرگی افقی دهانه جیب   ",10,null,null,null,null,null,"(18 →14)",{"$f":"ROUND(محاسبات!AH45+محاسبات!G19+0.1*'متغیرها '!U85-'متغیرها '!U56+U252+0.1*'متغیرها '!C40*'متغیرها '!U85,1)","v":61.9}]
["انتخاب بالاتنه عصایی=2        انتخاب دیگر=1",1,null,"جابجایی افقی   (سانتیمتر)   ",0,null,null,null,null,null,null,null," بزرگی کیسه جیب    ",10,null,null,null,null,null,"(12 →16)",{"$f":"U249-U253","v":33.799999999999997},"عمود"]
["مکان ساسون عصایی جلو در حلقه آستین بالاتنه",4,null,"جابجایی عمودی  (سانتیمتر)  ",0,null,null,null,null,null,null,null,null,null,null,null,null,null,null,"(16 →17)",{"$f":"ROUND(U258+0.5*(SQRT(POWER(U259-محاسبات!BW43,2)+U260*U260)-U259+محاسبات!BW43),1)","v":11.7},"عمود"]
["مکان ساسون عصایی پشت در حلقه آستین بالاتنه",4,null,null,null,null,null,null,null,null,null,null,"  جیب جلو شلوار با بلیطی",null,null,null,null,null,null,"(16 →13)",{"$f":"ROUND(1.9*(U253-U255),1)","v":22}]
[null,null,null,"بررسی خطای گردی یقه تا خط کارور جلو",null,null,null,null,null,null,null,null,"پهنای بلیطی جیب  (سانتیمتر)",2,null,null,null,null,null,"(14 →15)",{"$f":"ROUND(U260+U262+0.5*'متغیرها '!C39*'متغیرها '!U56,1)","v":67.8},"عمود"]
["طراحی دامن فون",null,null,"آیا یقه گرد که تا خط کارور جلو باز شده، با پارچه کش از سر رد میشود؟",{"$f":"'متغیرها '!E297","v":"خیر- گردی یقه زیاد شود یا کارور جلو پایین بیاید"},null,null,null,null,null,null,null,"ضریب طول بلیطی جیب",18,null,null,null,null,null,"(3→19)",{"$f":"ROUND(0.4*(محاسبات!CD25-محاسبات!CD22),1)","v":13.5}]
["اتصال به دامن تنگ = 3    اتصال به بالاتنه با ساسون=2   اتصال به پیراهن راسته=1",2,null,"آیا یقه گرد که تا خط کارور جلو باز شده، با پارچه غیر کش از سر رد میشود؟",{"$f":"'متغیرها '!E298","v":"خیر- گردی یقه زیاد شود یا کارور جلو پایین بیاید"},null,null,null,null,null,null,null,"زاویه جیب با عمود ",18,null,null,null,null,null,"(19 →20)",{"$f":"ROUND(محاسبات!CA17-(محاسبات!CE25+0.9*(محاسبات!CE22-محاسبات!CE25)),1)","v":7.2},"عمود"]
["مکان پایین دامن فون \nدراتصال به پیراهن راسته یا دامن تنگ   ",25,null,null,null,null,null,null,null,null,null,null,"تبدیل بلیطی جیب از مستطیل به متوازی الاضلاع ",20,null,null,null,null,null,"(3 →21)",{"$f":"ROUND(0.8*(محاسبات!CD25-محاسبات!CD22),1)","v":27}]
["چین در دامن فون",1,null," یقه دراپه ",null,null,null,null,null,null,null,null,"انتخاب جیب روکار=2        انتخاب دیگر=1",2,null,null,null,null,null,"(21→22)",{"$f":"ROUND(محاسبات!CA17-(محاسبات!CE25+0.45*(محاسبات!CE22-محاسبات!CE25)),1)","v":9.5},"عمود"]
[" اوزمان در جلو دامن فون    ",5,null,"نقطه شروع دراپه جلو    ",80,null,null,null,null,null,null,null,"مکان افقی وسط جیب",10,null,null,null,null,null,"(12 →23)",{"$f":"U264","v":13.5}]
[" اوزمان در پشت دامن فون   ",39,null,"میزان باز بودن یقه جلو به سمت  خط سینه    ",20,null,null,null,null,null,null,null,"مکان عمودی بالای جیب  ",50,null,null,null,null,null,"(23 →24)",{"$f":"U265","v":7.2},"عمود"]
["جابجایی افقی جلو دامن فون (سانتیمتر)",0,null,"جابجایی عمودی یقه دراپه جلو (سانتیمتر)",0,null,null,null,null,null,null,null,null,null,null,null,null,null,null,"(12 →25)",{"$f":"U266","v":27}]
["جابجایی عمودی جلو دامن فون (سانتیمتر)",5,null,"نقطه شروع دراپه پشت    ",80,null,null,null,null,null,null,null," جیب پشت شلوار یا پیراهن با بلیطی",null,null,null,null,null,null,"(25 →26)",{"$f":"U267","v":9.5},"عمود"]
["جابجایی افقی پشت دامن فون (سانتیمتر)",10,null,"میزان باز بودن یقه پشت به سمت  خط سینه    ",20,null,null,null,null,null,null,null,"پهنای بلیطی جیب  (سانتیمتر)",2,null,null,null,null,null,"(15 →27)",{"$f":"ROUND(محاسبات!CD15-(محاسبات!CD11+0.75*(محاسبات!CD15-محاسبات!CD11)),1)","v":3}]
["جابجایی عمودی پشت دامن فون (سانتیمتر)",-5,null,"جابجایی عمودی یقه دراپه پشت (سانتیمتر)",0,null,null,null,null,null,null,null,"ضریب طول بلیطی جیب",20,null,null,null,null,null,"(27 →28)",{"$f":"ROUND(محاسبات!CE15-محاسبات!CE13,1)","v":34.299999999999997},"عمود"]
[null,null,null,null,null,null,null,null,null,null,null,null,"زاویه جیب با عمود ",18,null,null,null,null,null,"(4 →29)",{"$f":"ROUND(0.5*('متغیرها '!U52-'متغیرها '!U53),1)","v":12.5},"نقطه انتهای اتصال به کمر-خط پهلو"]
["  جلو کمر پهن","عکس راهنما",null,"یقه دکلته جلو",null,null,null,null,null,null,null,null,"تبدیل بلیطی جیب از مستطیل به متوازی الاضلاع ",20,null,null,null,null,null,{"$f":"'طراحی همه الگوها'!A460","v":"بچگانه 2 ساله"}]
["انتخاب کمر برای جلیقه =2         انتخاب دیگر = 1",1,null,"میزان باز بودن یقه در خط مرکزی جلو  ",90,null,null,null,null,null,null,null,"انتخاب جیب روکار=2        انتخاب دیگر=1",2]
["بالای کمر پهن یکسره روی خط مرکزی جلو (ضریب فاصله نقطه u4 از خط کمر)",0,null,"میزان اضافه شدن ساسون سرشانه  ",20,null,null,null,null,null,null,null,"مکان افقی وسط جیب",10]
["پایین کمر روی خط مرکزی جلو (ضریب فاصله نقطه d4 از خط کمر)  (کمر جناقی و حد پایین برش دراپه)",-12,null,"میزان انحنا یقه  ",20,null,null,null,null,null,null,null,"مکان عمودی بالای جیب  ",50]
["ضریب فاصله عمودی دال جلو  (جلیقه) - (ضریب فاصله نقطه u5 از خط کمر)",0]
["ضریب فاصله افقی دال جلو  (جلیقه) - (ضریب فاصله نقطه u5 از خط مرکزی جلو)",0,null,"یقه دکلته پشت"]
["پایین کمر روی خط ترک جلو (ضریب فاصله نقطه d5 از خط کمر)  (کمر جناقی و حد پایین برش دراپه)",-5,null,"میزان باز بودن یقه در خط مرکزی پشت  ",90]
["بالای کمر پهن یکسره روی خط ترک جلو (ضریب فاصله نقطه u6 از خط کمر)",0,null,"میزان انحنا یقه  ",19]
["جابجایی افقی کمر پهن یکسره (سانتیمتر)",10]
["جابجایی عمودی کمر پهن یکسره  (سانتیمتر)",100,null," طول بند برای لباس دکلته از جلو تا پشت (سانتیمتر)"]
[null,null,null,"دکلته آبی جلو     به     دکلته آبی پشت",{"$f":"'متغیرها '!B361","v":7}]
["  پهلو کمر پهن",null,null,"دکلته آبی جلو     به     دکلته سبز پشت",{"$f":"'متغیرها '!B362","v":11}]
["بالای کمر پهن یکسره روی خط پهلو (ضریب فاصله نقطه u3 از خط کمر)",0,null,"دکلته آبی جلو     به     دکلته بنفش پشت",{"$f":"'متغیرها '!B363","v":14}]
["پایین کمر روی خط پهلو (ضریب فاصله نقطه d3 از خط کمر)  (کمر جناقی و حد پایین برش دراپه)",0,null,"دکلته آبی جلو     به     دکلته سیاه پشت",{"$f":"'متغیرها '!B364","v":17}]
[null,null,null,"دکلته سبز جلو     به     دکلته آبی پشت",{"$f":"'متغیرها '!B365","v":10}]
[" پشت کمر پهن","عکس راهنما",null,"دکلته سبز جلو     به     دکلته سبز پشت",{"$f":"'متغیرها '!B366","v":14}]
["بالای کمر پهن یکسره روی خط مرکزی پشت (ضریب فاصله نقطه u1 از خط کمر)",0,null,"دکلته سبز جلو     به     دکلته بنفش پشت",{"$f":"'متغیرها '!B367","v":18}]
["پایین کمر روی خط مرکزی پشت (ضریب فاصله نقطه d1 از خط کمر) (کمر جناقی)",-3,null,"دکلته سبز جلو     به     دکلته سیاه پشت",{"$f":"'متغیرها '!B368","v":20}]
["بالای کمر پهن یکسره روی خط ترک پشت (ضریب فاصله نقطه u2 از خط کمر)",0,null,"دکلته سیاه جلو     به     دکلته آبی پشت",{"$f":"'متغیرها '!B369","v":13}]
["پایین کمر روی خط ترک پشت (ضریب فاصله نقطه d2 از خط کمر) (کمر جناقی)",-3,null,"دکلته سیاه جلو     به     دکلته سبز پشت",{"$f":"'متغیرها '!B370","v":17}]
["جابجایی افقی کمر پهن یکسره (سانتیمتر)",20,null,"دکلته سیاه جلو     به     دکلته بنفش پشت",{"$f":"'متغیرها '!B371","v":21}]
["جابجایی عمودی کمر پهن یکسره  (سانتیمتر)",40,null,"دکلته سیاه جلو     به     دکلته سیاه پشت",{"$f":"'متغیرها '!B372","v":23}]
[]
[" پیلی ها و گوده ها (متقارن در پیراهن)","عکس راهنما",null," رگلاژ یقه دکلته پشت"]
[" عرض پیلی 1 (بعد از دوخت) - روی خط مرکزی جلو  (سانتیمتر)    ",0,null,"نقطه بالای رگلاژ روی یقه دکلته    ",2]
[" عرض پیلی 2 (بعد از دوخت) - روی خط ترک جلو  (سانتیمتر)     ",0,null,"نقطه وسط رگلاژ روی خط کمر    ",16]
[" عرض پیلی 3 (بعد از دوخت) - روی خط پهلو   (سانتیمتر)   ",0,null,"نقطه پایین رگلاژ روی خط مرکزی پشت   ",16]
[" عرض پیلی 4 (بعد از دوخت) - روی خط مرکزی پشت   (سانتیمتر)   ",2,null,"ضریب پهنای جادکمه برای تکه رگلاژ ",6]
[" عرض پیلی 5 (بعد از دوخت)  روی خط ترک پشت (سانتیمتر) و نصف پهنای لبه برگرد پایین کت",2,null,"جابجایی افقی تکه رگلاژ جدا (سانتیمتر)  ",30]
[" عرض پایین گوده 1 - روی خط مرکزی جلو  (سانتیمتر)    ",0]
[" عرض پایین گوده 2 - روی خط ترک جلو  (سانتیمتر)    ",0,null,"یقه قایقی بدون شیفت تکه پهلو"]
[" عرض پایین گوده 3 - روی خط پهلو  (سانتیمتر)    ",5,null,"باز شدن یقه قایقی روی سرشانه  ",20]
[" عرض پایین گوده 4 - روی خط مرکزی پشت  (سانتیمتر)   ",5]
[" عرض پایین گوده 5 - روی خط ترک پشت   (سانتیمتر)  ",5,null,"یقه پروانه ای متصل به حلقه آستین بدون ساسون  \nبدون شیفت تکه پهلو"]
[" نقطه شروع گوده یا پیلی ",40,null,"پهنای سرشانه به سمت پشت    ",20]
[null,null,null,"پهنای سرشانه به سمت جلو   ",20]
["انحنا لبه پیراهن یا دامن روی خط مرکزی جلو "]
["انحنا نقطه بالایی روی خط مرکزی جلو ",9,null," طراحی یقه دلبری"]
["انحنا نقطه میانی روی خط مرکزی جلو ",26,null," باز شدن یقه نسبت به وسط گردن       ",14]
["انحنا نقطه پایینی روی خط مرکزی جلو ",16,null,"  فاصله عمودی نقطه شکست یقه دلبری   ",20]
[null,null,null," فاصله افقی نقطه شکست یقه دلبری",20]
[" مشخصات کمربند به شکل مستطیل (مناسب برای لباس شما)"]
["طول کمربند (سانتیمتر)",{"$f":"'متغیرها '!B273","v":72.8},null," یقه پشت گردنی متصل به حلقه آستین با ساسون بدون شیفت تکه پهلو "]
["عرض کمربند (سانتیمتر)",{"$f":"'متغیرها '!B274","v":2.2000000000000002},null," پهنای یقه پشت گردن  ",20]
[null,null,null," طول یقه پشت گردن  ",20]
[null,null,null,"  انحنا افقی یقه جلو       ",20]
[null,null,null," انحنا عمودی یقه جلو    ",20]
[]
[null,null,null,"طراحی جیب و جادکمه"]
[]
[" دراپه از پهلو",null,null,"  جیب پهلو با بلیطی  (جلو) (آبی)"]
["حد بالا برش دراپه   ",80,null,"پهنای بلیطی جیب  (سانتیمتر)",2]
["پهنای هر دراپه به سانتیمتر   ",6,null,"ضریب طول بلیطی جیب",20]
["تعداد دراپه ها    ",{"$f":"'متغیرها '!B307","v":2},null,"زاویه جیب با عمود ",4]
[null,null,null,"زاویه چرخش بلیطی جیب از مستطیل به متوازی الاضلاع ",20]
["  کنترل گودی حلقه آستین و اپل",null,null,"انتخاب طول جیب منطبق با جیب با ساسون=2     انتخاب طول جیب دستی=1",1]
["انتخاب کنترل گودی حلقه آستین=2        و انتخاب دیگر=1",1]
["روی هم آمدن سرشانه پشت و جلو ",10]
["نسبت اعمال تغییر در حلقه جلو به حلقه پشت  ",20]
["زاویه اپل    ",0]
[]
[" انتقال ساسون زیر بغل بر روی جیب در تکه پهلو جدا"]
[" زاویه جیب با افق  ",40]
[" پهنای جیب در مدل تکه پهلو جدا",20]
[]
["سرشانه دکمه خور متصل به حلقه آستین بدون ساسون\nبدون شیفت تکه پهلو"]
["پهنای جادکمه سرشانه",5]
[]
["  آستین کیمونو و آستین سرخود بدون شیفت تکه پهلو"]
["میزان خمیدگی آستین کیمونو نسبت به خط سرشانه   ",20]
["کوتاهی آستین کیمونو   ",10]
["گشادی دور مچ   (کیمونو و سرخود)",0]
["انحنا پهلو برای آستین کیمونو   ",8]
["انحنا پهلو برای آستین سرخود   ",5]
["کوتاهی آستین سرخود   ",35]
["کوتاهی تاج آستین سرخود   ",0]
[" : گشادی لبه آستین سرخود",{"$f":"'متغیرها '!E399","v":" گشاد تر شود "}]
[]
[" شورت بدون شیفت تکه پهلو"]
["ضریب فاصله کمر شورت تا زمین ",65]
["میزان انحنا جلو شورت مردانه ",8]
["مکان افقی مرغک",30]
["مکان عمودی مرغک",0,null," جادکمه با بلیطی (جلو)"]
[null,null,null,"پهنای جادکمه  (سانتیمتر)",2]
[" مایو پادار",null,null,"ضریب طول جادکمه ",20]
["گشادی پایین پاچه     ",3,null,"زاویه جادکمه با عمود ",18]
["پهنای صافی لبه پایین پاچه",10,null,"مکان افقی وسط جادکمه",10]
["ضریب عرض جادکمه وسط پا  ",3,null,"مکان عمودی بالای جادکمه ",70]
["زاویه خط پهلو پاچه  ",5]
["جابجایی افقی تکه وسط پا (سانتیمتر)",2,null,"جادکمه متصل به یقه  (جلو)"]
["جابجایی عمودی تکه وسط پا (سانتیمتر)",-10,null,"ضریب عرض جادکمه ",30]
[null,null,null,"ضریب طول جادکمه ",28]
[" مایو بدون شیفت تکه پهلو      باید  شروع اوزمان = خط باسن",null,null," طول جادکمه  (سانتیمتر)",{"$f":"'متغیرها '!B239","v":7}]
[" ضریب بالا آمدن خط مایو در پهلو   ",10,null," عرض جادکمه  (سانتیمتر)",{"$f":"'متغیرها '!B240","v":2.1}]
["انتخاب مایو دکمه دار از وسط پا=2            انتخاب مایو بدون دکمه=1",2,null,"آیا یقه گرد متصل به جادکمه با پارچه غیر کش از سر رد میشود؟",{"$f":"'متغیرها '!E237","v":"خیر"}]
["جابجایی محل دکمه از پشت به جلو برای پوشک بچه در انتخاب مایو دکمه دار (سانتیمتر)",2,null,"آیا یقه گرد متصل به جادکمه با پارچه نیم کش از سر رد میشود؟",{"$f":"'متغیرها '!E238","v":"خیر"}]
["اضافه پهنا وسط پا برای پوشک بچه در انتخاب مایو دکمه دار (سانتیمتر) ",1.5,null,"آیا یقه گرد متصل به جادکمه با پارچه کش زیاد از سر رد میشود؟",{"$f":"'متغیرها '!E239","v":"بله "}]
["اضافه جادکمه وسط پا در انتخاب مایو دکمه دار  (سانتیمتر)",2]
[null,null,null,"طراحی دامن"]
["  پیش بند حمام بچه و طراحی اانحنا روی خط پهلو پیراهن"]
[" بزرگی کلاه بچه   ",20,null,"طراحی زیپ و چاک دامن"]
["نقطه بالای انحنا روی خط پهلو",20,null,"عرض (پهنا) زیپ در خط پهلو  (سانتیمتر)   ",0]
["نقطه پایین انحنا روی خط پهلو",20,null,"ضریب طول (بلندی) زیپ در خط پهلو  ",16]
[null,null,null,"عرض (پهنا) زیپ در خط مرکزی پشت  (سانتیمتر)   ",3]
["  جلو پیش سینه رکابی بدون شیفت تکه پهلو",null,null,"ضریب طول (بلندی) زیپ در خط مرکزی پشت  ",16]
["بالا یا پایین رفتن بند پیش سینه جلو",57,null,"عرض (پهنا) چاک در خط مرکزی پشت  (سانتیمتر)   ",4]
["فاصله بند تا زیر حلقه آستین",20,null,"ضریب طول (بلندی) چاک در خط مرکزی پشت  ",13]
["گودی بین دو بند در جلو سینه",50]
["فاصله بند تا خط مرکزی جلو",20,null," پیلی ها  (متقارن یا نامتقارن در جلو دامن)"]
["انتخاب خط راست پهلو جلو=2        انتخاب دیگر=1",1,null," عرض پیلی 2 (بعد از دوخت) - جلو  (سانتیمتر)     ",0]
[null,null,null," عرض پیلی 3 (بعد از دوخت) - جلو  (سانتیمتر)   ",0]
["مکان بند جدا پیش سینه یا پیش بند در الگو پشت",null,null," عرض پیلی 4 (بعد از دوخت) - جلو   (سانتیمتر)   ",0]
["مکان افقی بند جدا",20,null," عرض پیلی 5 (بعد از دوخت) - روی خط مرکزی جلو  (سانتیمتر)    ",0]
["مکان عمودی بند جدا",50,null," عرض پیلی 6 (بعد از دوخت) -  جلو  (سانتیمتر)     ",0]
[null,null,null," عرض پیلی 7 (بعد از دوخت) - جلو   (سانتیمتر)   ",0]
[" پشت پیش سینه رکابی بدون شیفت تکه پهلو",null,null," عرض پیلی 8 (بعد از دوخت) - جلو   (سانتیمتر)   ",0]
["بالا یا پایین رفتن بند پیش سینه پشت",20]
["فاصله بند تا زیر حلقه آستین",20,null," پیلی ها  (متقارن یا نامتقارن در پهلو دامن)"]
["گودی بین دو بند در پشت سینه",20,null," عرض پیلی 1 (بعد از دوخت) - درز پهلو چپ  (سانتیمتر)    ",0]
["فاصله بند تا خط مرکزی پشت",20,null," عرض پیلی 9 (بعد از دوخت) - درز پهلو راست   (سانتیمتر)   ",0]
["انتخاب خط راست پهلو پشت=2        انتخاب دیگر=1",1]
[null,null,null," پیلی ها  (متقارن یا نامتقارن در پشت دامن)"]
["  طراحی سوتین کلی",null,null," عرض پیلی 10 (بعد از دوخت) - پشت  (سانتیمتر)     ",0]
["ضریب ساسون وسط سینه      ",20,null," عرض پیلی 11 (بعد از دوخت) - پشت  (سانتیمتر)   ",0]
["ضریب پایین آمدن از خط پهلو    ",20,null," عرض پیلی 12 (بعد از دوخت) - پشت   (سانتیمتر)   ",0]
[" بزرگ شدن کاسه در خط مرکزی جلو      ",20,null," عرض پیلی 13 (بعد از دوخت) - روی خط مرکزی پشت  (سانتیمتر)    ",0]
[" بزرگ شدن کاسه زیر نوک سینه    ",20,null," عرض پیلی 14 (بعد از دوخت) -  پشت  (سانتیمتر)     ",0]
[" بزرگ شدن کاسه در پهلو      ",20,null," عرض پیلی 15 (بعد از دوخت) - پشت   (سانتیمتر)   ",0]
[" بالا یا پایین آمدن یقه روی خط مرکزی جلو    ",20,null," عرض پیلی 16 (بعد از دوخت) - پشت   (سانتیمتر)   ",0]
["حرکت عمودی نقطه اتصال بند جلو      ",20,null,"جابجایی افقی قرینه پشت دامن (سانتیمتر)",-15]
["حرکت افقی نقطه اتصال بند جلو    ",20]
["میزان انحنا یقه جلو   ",20,null," دامن چند طبقه چین"]
["ضریب گودی خطوط افقی کاسه      ",20,null,"اتصال به دامن تنگ = 3    اتصال به بالاتنه با ساسون=2   اتصال به پیراهن راسته=1",3]
["ضریب گودی خطوط عمودی کاسه    ",20,null,"مکان پایین دامن طبقه اول    ",25]
["میزان انحنا یقه در پهلو    ",20,null,"چین در دامن طبقه اول",2]
[" افزایش یا کاهش ساسون زیر بغل     ",20,null,"مکان پایین دامن طبقه دوم    ",20]
[" افزایش یا کاهش طول عمودی کاسه     ",20,null,"چین در دامن طبقه دوم",1]
[" افزایش یا کاهش طول افقی کاسه     ",20,null,"مکان پایین دامن طبقه سوم    ",15]
["جابجایی افقی کاسه پایین راست (سانتیمتر)    ",0,null,"چین در دامن طبقه سوم",1]
["جابجایی عمودی کاسه پایین (سانتیمتر)    ",0,null,"مکان پایین دامن طبقه چهارم    ",10]
["جابجایی عمودی کاسه بالا (سانتیمتر)    ",0,null,"چین در دامن طبقه چهارم",1]
[null,null,null,"جابجایی افقی جلو دامن چند طبقه (سانتیمتر)",0]
["  طراحی اختصاصی سوتین 6 تکه",null,null,"جابجایی عمودی جلو دامن چند طبقه (سانتیمتر)",0]
["انتقال ساسون روی خط سینه به زیر سینه    ",9,null,"جابجایی افقی پشت دامن چند طبقه (سانتیمتر)",0]
["چرخش تکه پهلو     ",20,null,"جابجایی عمودی پشت دامن چند طبقه (سانتیمتر)",0]
["پهنای بند جلو       ",1.5]
["بالا یا پایین رفتن مکان بند جلو",20,null," دامن لنگی دراپه"]
["چپ و راست رفتن مکان بند جلو",20,null,"پهنای هر دراپه (پیلی) (سانتیمتر)  ",3]
["پهنای افقی برش جلو بند    ",20,null,"مکان نقطه شروع دراپه روی خط پهلو   ",26]
["پهنای برش کاسه در پهلو      ",20,null,"مکان نقطه شروع دراپه در پایین لباس   ",26]
["بالا یا پایین رفتن خط پایین پایه      ",80,null,"مکان پیلی اول روی کمر دامن",10]
["پهنای بند پشت  (سانتیمتر)   ",1.5,null,"مکان پیلی دوم روی کمر دامن",20]
["بالا یا پایین رفتن مکان بند پشت",20,null,"مکان پیلی سوم روی کمر دامن",30]
["چپ و راست رفتن مکان بند پشت",9]
["انحنا یقه پشت پهلو      ",20,null," دامن با والان"]
["پهنای قزن در پشت (سانتیمتر)    ",3,null,"پهنای هر یک از 3 تا پیلی (بعد از دوخت) روی کمر  (سانتیمتر)  ",5]
["انحنا یقه پشت مرکزی      ",20,null,"فاصله  پیلی اول تا خط مرکزی جلو   ",15]
["جابجایی افقی تکه جلو مرکزی (سانتیمتر)    ",0,null," لبه پایینی دامن والان روی خط مرکزی پشت    ",10]
["جابجایی افقی تکه پهلوجلو (سانتیمتر)    ",0,null," لبه پایینی دامن والان روی درز پهلو    ",15]
["جابجایی عمودی کاسه یک تکه زیرین (سانتیمتر)    ",0,null," لبه بالایی دامن والان روی درز پهلو   ",40]
[]
[" شنل  بدون شیفت تکه پهلو"]
["اوزمان در شنل  ",20]
[]
["پیراهن کلوش (با حلقه آستین بدون ساسون سرشانه)"]
[" اوزمان در جلو پیراهن کلوش   ",5]
[" فاصله اوزمان اول از خط مرکزی جلو     ",13]
[" فاصله اوزمان دوم از خط مرکزی جلو     ",18]
[" اوزمان در پشت پیراهن کلوش",5]
[" فاصله اوزمان اول از خط مرکزی پشت     ",13]
[" فاصله اوزمان دوم از خط مرکزی پشت     ",20]
[]
[]
[]
[]
["طراحی الگو جلو و پشت",null,null,"طراحی یقه و جیب در الگو جلو و پشت",null,null,"طراحی الگو یقه جدا و کلاه  ",null,null,"طراحی الگو آستین "]
[]
[null,null,null," طراحی یقه ",null,null," جابجایی همه الگوهای یقه",null,null," طراحی کلی آستین "]
[null,null,null,"باز شدن یقه روی سرشانه (گرد، مربعی، هفت، دلبری، پشت گردنی)    ",5,null,"جابجایی افقی همه یقه های جدا  (سانتیمتر)   ",0,null,"بلندی پایین آستین",8]
[null,null,null,"باز شدن یقه روی خط مرکزی جلو (گرد، مربعی، قایقی، پروانه ای)  ",6,null,"جابجایی عمودی همه یقه های جدا  (سانتیمتر)  ",30,null,"گشادی لبه پایین آستین",6]
[null,null,null,"باز شدن یقه روی خط مرکزی پشت (گرد، مربعی، قایقی، پروانه ای، پشت گردنی)   ",3,null,null,null,null,"ضریب بلند یا کوتاه شدن اندازه های طولی در آستین",0]
[null,null,null,null,null,null,"  یقه شکاری ",null,null,"ضریب بلندی تاج آستین",0]
[null,null,null,"طراحی جیب ",null,null," قد پشت یقه   ",20,null,"ضریب گشادی تاج آستین",0]
[null,null,null,null,null,null," کج شدن  یقه به سمت گردن   ",-8,null,"مکان لبه بالایی صافی سرآستین ",14]
["برچسب الگو : ",null,null," جیب اول با بلیطی  (جلو) (سبز)",null,null,"مکان لبه یقه نسبت به جلو لباس        ","مرکزی جلو",null,"جابجایی افقی کل الگو آستین (سانتیمتر)",0]
[{"$f":"'الگوهای مدل 216'!D4","v":"بچگانه 2 ساله"},null,null,"پهنای بلیطی جیب  (سانتیمتر)",0,null,"زاویه لبه برگردان یقه (میزان نوک تیز بودن لبه)     ",57,null,"جابجایی عمودی کل الگو آستین (سانتیمتر)",0]
[null,null,null,"ضریب طول بلیطی جیب",0,null," قد لبه برگردان یقه   ",23,null,"جابجایی افقی کل آستین رگلان بدون درز (سانتیمتر)",-1.5]
[" جابجایی الگو جلو و پشت پیراهن",null,null,"زاویه جیب با عمود ",4]
["جابجایی افقی کل الگو جلو پیراهن  (سانتیمتر)",0,null,"زاویه چرخش بلیطی جیب از مستطیل به متوازی الاضلاع ",20,null,"  یقه فرنچی ایستاده و کاسبرگی",null,null,"  مچ جدا در آستین"]
["جابجایی عمودی کل الگو جلو پیراهن  (سانتیمتر)",0,null,"انتخاب جیب روکار=2        انتخاب دیگر=1",1,null," قد یقه    ",14,null,"انتخاب مچ اندامی=2   انتخاب مچ مستطیل، مچ پفی یا مچ بافت=1",1]
["جابجایی افقی کل الگو پشت پیراهن  (سانتیمتر)",0,null,"مکان افقی وسط جیب",17,null," کج شدن یقه به سمت گردن  ",0,null,"گشادی لبه بالایی مچ ",-10]
["جابجایی عمودی کل الگو پشت پیراهن  (سانتیمتر)",0,null,"مکان عمودی بالای جیب  ",58,null,"مکان لبه یقه نسبت به جلو لباس        ","خط جادکمه",null,"گشادی لبه پایینی مچ یا (گشادی مچ مستطیل، مچ پفی یا مچ بافت)  ",0]
[null,null,null,null,null,null," انحنا لبه یقه  ",5,null,"مکان لبه بالایی مچ",15]
[" گشاد یا تنگ شدن پیراهن",null,null,"جیب دوم با بلیطی (جلو) (سیاه)",null,null,null,null,null,"مکان لبه پایینی مچ",10]
[" اندازه های عرضی در پیراهن   ",7,null,"پهنای بلیطی جیب  (سانتیمتر)",0,null," یقه شومیزیه ",null,null,"جابجایی افقی مچ  (سانتیمتر)   ",0]
[" گشاد یا تنگ شدن از خط پهلو زیر حلقه ",5,null,"ضریب طول بلیطی جیب",0,null," قد پایه یقه   ",8,null,"جابجایی عمودی مچ  (سانتیمتر)  ",-5]
[" گشاد یا تنگ شدن از خط پهلو دور باسن  ",5,null,"زاویه جیب با عمود ",18,null," کج شدن پایه یقه به سمت گردن   ",5]
[" اندازه های طولی در پیراهن  ",0,null,"زاویه چرخش بلیطی جیب از مستطیل به متوازی الاضلاع ",20,null,"مکان لبه پایه یقه نسبت به جلو لباس   ","مرکزی جلو",null,"اطلاعات طول حلقه آستین و طول تاج آستین"]
[null,null,null,"انتخاب جیب روکار=2        انتخاب دیگر=1",1,null," انحنا لبه پایه یقه  ",20,null,"طول کل حلقه آستین بدون ساسون (سانتیمتر) ",{"$f":"'متغیرها '!B536","v":32.4}]
[" جادکمه و پایین لباس","عکس راهنما",null,"مکان افقی وسط جیب",10,null," قد پشت برگردان یقه   ",21,null,"طول تاج آستین کتی (سانتیمتر)",{"$f":"'متغیرها '!B539","v":32.9}]
["پهنای جادکمه جلو      ",0,null,"مکان عمودی بالای جیب  ",57,null," کج شدن برگردان یقه به سمت گردن   ",-7,null,"طول تاج آستین ساده (سانتیمتر)",{"$f":"'متغیرها '!B540","v":33}]
["لبه پایین لباس",47,null,null,null,null,"زاویه لبه برگردان یقه (میزان نوک تیز بودن لبه)     ",45]
[" ارتفاع انحنا لبه پایین لباس نزدیک خط پهلو",0,null,"  جیب مستطیل  (جلو)  (قرمز)",null,null," قد لبه برگردان یقه   ",20,null," آستین کتی"]
[" طول انحنا لبه پایین لباس نزدیک خط پهلو",18,null,"ضریب عرض جیب مستطیل",0,null,"جابجایی افقی برگردان یقه  (سانتیمتر)   ",0,null,"میزان خمیدگی آستین کتی  ",3]
[null,null,null,"زاویه  جیب با عمود ",0,null,"جابجایی عمودی برگردان یقه  (سانتیمتر)  ",40,null,"ضریب طول مستطیل جادکمه کتی",20]
[" سرشانه و حلقه آستین",null,null,"ضریب ارتفاع جیب مستطیل",0,null,null,null,null,"ضریب عرض مستطیل جادکمه کتی",15]
["ضریب کم شدن سرشانه  ",0,null,"مکان افقی وسط جیب",10,null," یقه شکاری با پایه",null,null,"جابجایی افقی تکه جلو آستین کتی (سانتیمتر)",0]
["ضریب بزرگ شدن زیر حلقه آستین  ",2,null,"مکان عمودی بالای جیب  ",54,null," قد پایه یقه   ",8]
["ضریب زیاد شدن سرشانه  ",4,null,null,null,null," قد پشت برگردان یقه   ",20]
["انتخاب آستین حلقه ای یا پیش سینه رکابی یا تکه پهلو جدا=1   انتخاب دیگر=2",2,null,null,null,null," کج شدن یقه به سمت گردن   ",-13]
[null,null,null,null,null,null,"مکان لبه یقه نسبت به جلو لباس   ","مرکزی جلو"]
[" طراحی کش پایین سویشرت ",null,null,null,null,null,"زاویه لبه برگردان یقه (میزان نوک تیز بودن لبه)     ",57]
["بالا یا پایین رفتن برش پایین سویشرت",51,null,null,null,null," قد لبه برگردان یقه   ",23]
["ضریب کوچک شدن کش",4,null,null,null,null,"جابجایی افقی پایه یقه  (سانتیمتر)   ",0]
["طول  کش از ساسون جلو- دور باسن - تا ساسون دیگر جلو (سانتیمتر)",{"$f":"'متغیرها '!B277","v":36},null,null,null,null,"جابجایی عمودی پایه یقه  (سانتیمتر)  ",-5]
[]
[null,null,null,null,null,null," یقه ب ب مثلثی و گرد"]
[null,null,null,null,null,null,"زاویه جلو یقه ب ب مثلثی",25]
[null,null,null,null,null,null,"ضریب پهنای یقه ب ب مثلثی و گرد ",20]
[]
[null,null,null,null,null,null," جابجایی کلاه"]
[null,null,null,null,null,null,"جابجایی افقی کلاه  (سانتیمتر)",-30]
[null,null,null,null,null,null,"جابجایی عمودی کلاه (سانتیمتر)",20]
[null,null,null,null,null,null,"جابجایی افقی تکه پشت سر در کلاه سه تکه  (سانتیمتر)",3]
[]
[null,null,null,null,null,null,"طراحی کلی کلاه "]
[null,null,null,null,null,null,"ضریب بزرگ یا کوچک شدن کلاه",-12]
[null,null,null,null,null,null,"انتخاب کلاه ملوانی برای موهای دم اسبی که از پشت بسته شود ",1]
[null,null,null,null,null,null," پهنای بلیطی جلو کلاه",0]
[null,null,null,null,null,null," بلندی بلیطی جلو کلاه",0]
[null,null,null,null,null,null," بلندی انحنا جلو کلاه",4]
[null,null,null,null,null,null," پهنای انحنا روی صورت",8]
[null,null,null,null,null,null," پهنای انحنا بالای پیشانی",6]
[]
[]
[]
[]
[]
[]
[]
[]
[]
[]
[]
[null,null,null,null,{"$f":"'طراحی همه الگوها'!J349","v":0}]

{"sheet":"الگوهای مدل 216","index":7,"n_rows":19,"n_cols":5,"rows_kept":19,"cut":false,"hidden":false,"merged":[]}
[]
[]
[null,null,null,"انتخاب سایز :","سایز من"]
[null," ",null,"بچگانه 2 ساله"]
[]
[]
[]
[]
[]
[]
[]
[]
[]
[]
[]
[]
[]
[]
["in"]

{"sheet":"temp_print_sheet","index":8,"n_rows":0,"n_cols":0,"rows_kept":0,"cut":false,"hidden":true,"merged":[]}