{"text_format":"1","workbook":"xlsx","n_sheets":9,"sheets":["Chart Index","محاسبات","متغیرها ","انتخاب بافت","اندازه های شخصی","اندازه گیری و تحلیل","طراحی همه الگوها","الگوهای مدل 39","temp_print_sheet"],"not_rendered":{"charts":20,"images":67,"macros":1,"external_links":0,"defined_names":2,"comments":2,"pivot_tables":0},"unopened":[],"bounds":{"document_bytes":16777216,"sheet_cells":100000,"rows_first":2000,"rows_last":500,"rows_between":2000,"halvings":0,"cell_chars":16384,"cell_head_chars":4096},"cells_cut":0,"cells_raw":0,"read":"whole","date_system":"1900"}

{"sheet":"Chart Index","index":0,"n_rows":22,"n_cols":4,"rows_kept":22,"cut":false,"hidden":true,"merged":[]}
[]
[]
[]
[]
[]
[]
["Preview","Sheet (and graph link)","Chart Title","Chart Series"]
[null,"طراحی همه الگوها","رسم دستی چادر2","انحنا, صاف"]
[null,"طراحی همه الگوها","رسم دستی چادر 3","انحنا, صاف"]
[null,"طراحی همه الگوها","رسم دستی چادر 5","انحنا, صاف"]
[null,"طراحی همه الگوها","طراحی چادرها و رسم چادر 4","شبیه ساز دست خمیده و سر, شبیه ساز دامن, رسم یا طراحی چادر4"]
[null,"طراحی همه الگوها","  چادر1 و مقنعه برای پرینت ","شبیه ساز دست خمیده و سر, شبیه ساز دامن, چادر 1 با نقطه گذاری"]
[null,"طراحی همه الگوها","شلوار پشت","1شبیه ساز, 2کمر شلوار,  3وسط شلوار و خط اتو, 4پهلو, 6فاق, 7لبه پایین, 9کمر جدا, اطلاعات اندام در شلوار"]
[null,"طراحی همه الگوها","طراحی پشت یقه ","شبیه ساز برش, شبیه ساز انحنا, طراحی یقه گرد"]
[null,"طراحی همه الگوها","طراحی جلو یقه","شبیه ساز اندام, طراحی یقه شکاری"]
[null,"طراحی همه الگوها","شلوار جلو","1شبیه ساز جلو, 2کمر شلوار, 3وسط شلوار, 4پهلو, 6فاق, 7لبه پایین شلوار, 8زیپ, 9کمر جدا, 10جیب مردانه, 11جیب جین, اطلاعات اندام در شلوار"]
[null,"طراحی همه الگوها","طراحی جلو دامن ترک با کمر پهن","شبیه ساز دامن تنگ, کمر پهن, خط مرکزی جلو کمر, خطوط اصلی دامن ترک, خطوط فرعی دامن ترک, خط اوزمان, پیلی"]
[null,"طراحی همه الگوها","طراحی پشت دامن ترک با کمر پهن","شبیه ساز دامن تنگ, کمر یکسره, خطوط اصلی دامن ترک, خطوط فرعی دامن ترک, پیلی"]
[null,"طراحی همه الگوها"," آستین ","شبیه ساز آستین, آستین بلند یا کوتاه, مچ آستین بلند یا کوتاه"]
[null,"طراحی همه الگوها","الگو پشت","0 اطلاعات اندام, 72شبیه ساز بالاتنه بدون ساسون, 2شبیه ساز دامن, 5حلقه آستین بدون ساسون, 6سرشانه بدون ساسون, 10پهلو صاف وپایین لباس, 17یقه گرد , 18خط پشت در پیراهن, 24بدون شیفت ساسون کمر"]
[null,"طراحی همه الگوها","یقه و کلاه","شومیزیه"]
[null,"طراحی همه الگوها","الگو جلو","0اطلاعات اندام, 1شبیه ساز بالاتنه, 2شبیه ساز دامن, 6حلقه آستین بدون ساسون  , 7سرشانه بدون ساسون, 11پهلو صاف , 22یقه گرد چرخیده, 23جادکمه یقه گرد در پیراهن, 29پایین پیراهن بدون ترک, 70ساسون کمر, 76جادکمه متصل به یقه"]

{"sheet":"محاسبات","index":1,"n_rows":1126,"n_cols":416,"rows_kept":139,"cut":true,"hidden":true,"merged":[[9,157,9,159],[144,5,144,6],[86,31,86,34],[10,131,10,132],[8,143,8,145],[95,16,95,22],[112,25,112,26],[11,90,11,92],[11,98,11,100],[10,107,10,113],[10,104,10,105]],"bounds":{"rows_first":62,"rows_last":15,"rows_between":62,"halvings":5}}
["height_print ",30.734968314580009]
["width_print ",30.623780540051243]
["charts_resized ",null,null,null,null,null,null,null,null,null,"محاسبات بافت",null,null,null,null,null,null,null,null,null,null,null,null,null,null,null,null,null,null,null,null,null,null,null,null,null,null,null,null,null,null,null,null,null,null,null,null,null,null,null,null,null,null,null,null,null,null,null,null,null,null,null,null,null,null,null,null,null,null,null,null,null,null,null,null,null,null,null,null,null,null,null,null,null,null,null,null,null,null,null,null,null,null,null,null,null,null,null,null,null,null,null,null,null,null,null,null,null,null,null,null,null,null,null,null,null,null,null,null,null,null,null,null,null,null,null,null,null,null,null,null,null,null,null,null,null,null,null,null,null,null,null,null,null,null,null,null,null,null,null,null,null,null,null,null,null,null,null,null,null,null,null,null,null,null,null,null,null,null,null,null,null,null,null,null,null,null,null,null,null,null,null,null,null,null,null,null,null,null,null,null,null,null,null,null,null,null,null,null,null,null,null,null,null,null,null,null,null,null,null,null,null,null,null,null,null,null,null,null,null,null,null,null,null,null,null,null,null,null,null,null,null,null,null,null,null,null,null,null,null,null,null,null,null,null,null,null,null,null,null,null,null,null,null,null,null,null,null,null,null,null,null,null,null,null,null,null,null,null,null,null,null,null,null,null,null,null,null,null,null,null,null,null,null,null,null,null,null,null,null,null,null,null,null,null,null,null,null,null,null,null,null,null,null,null,null,null,null,null,null,null,null,null,null,null,null,null,null,null,null,null,null,null,null,null,null,null,null,null,null,null,null,null,null,null,null,null,null,null,null,null,null,null,null,null,null,null,null,null,null,null,null,null,null,null,null,null,null,null,null,null,null,null,null,null,null,null,null,null,null,null,null,null,null,null,null,null,null,null,null,null,null,null,null,"یقه شکاری ",null,null,null,null,null,null,"نقشه بافت یقه شکاری",null,null,null,"یقه شومیزیه نوک تیز تا خط جادکمه",null,null,null,null,null,null,"نقشه بافت یقه شومیزیه نوک تیز",null,null,null,"یقه شومیزیه تا خط جادکمه",null,null,null,null,null,null,"نقشه بافت یقه شومیزیه"]
["print_body_chartS",null,null,null,null,null,null,null,null,null,null,null,null,null,null,null,null,null,null,null,null,null,null,null,null,null,null,null,null,null,null,null,null,null,null,null,null,null,null,null,null,null,null,null,null,null,null,null,null,null,null,null,null,null,null,null,null,null,null,null,null,null,null,null,null,null,null,null,null,null,null,null,null,null,null,null,null,null,null,null,null,null,null,null,null,null,null,null,null,null,null,null,null,null,null,null,null,null,null,null,null,null,null,null,null,null,null,null,null,null,null,null,null,null,null,null,null,null,null,null,null,null,null,null,null,null,null,null,null,null,null,null,null,null,null,null,null,null,null,null,null,null,null,null,null,null,null,null,null,null,null,null,null,null,null,null,null,null,null,null,null,null,null,null,null,null,null,null,null,null,null,null,null,null,null,null,null,null,null,null,null,null,null,null,null,null,null,null,null,null,null,null,null,null,null,null,null,null,null,null,null,null,null,null,null,null,null,null,null,null,null,null,null,null,null,null,null,null,null,null,null,null,null,null,null,null,null,null,null,null,null,null,null,null,null,null,null,null,null,null,null,null,null,null,null,null,null,null,null,null,null,null,null,null,null,null,null,null,null,null,null,null,null,null,null,null,null,null,null,null,null,null,null,null,null,null,null,null,null,null,null,null,null,null,null,null,null,null,null,null,null,null,null,null,null,null,null,null,null,null,null,null,null,null,null,null,null,null,null,null,null,null,null,null,null,null,null,null,null,null,null,null,null,null,null,null,null,null,null,null,null,null,null,null,null,null,null,null,null,null,null,null,null,null,null,null,null,null,null,null,null,null,null,null,null,null,null,null,null,null,null,null,null,null,null,null,null,null,null,null,null,null,null,null,null,null,null,null,null,null,null,null,null,null,"بافت  انتخابی",null,null,null,null,null,null,null,"نقشه بافت یقه شکاری",null,null,"بافت  انتخابی",null,null,null,null,null,null,null,"نقشه بافت  یقه شومیزیه نوک تیز",null,null,"بافت  انتخابی",null,null,null,null,null,null,null,"نقشه بافت  یقه شومیزیه "]
["ActiveWindow.Zoom",15,null,null,"متغیرهای ورودی مربوط به ضخامت میل (متناسب با ضخامت نخ)",null,null,"محاسبه برای بافت بالاتنه ( بافت انتخابی) ",null,"میل 2 و 2.5","میل  3 و 3.5","میل 4 و 4.5",null,null,null,"متغیرهای ورودی یقه شومیزیه بافت انتخابی",null,null,null,null,null,"سلول مرجع",null,null,null,null,null,null,null,null,null,null,null,null,null,null,null,null,null,null,null,null,null,null,null,null,null,null,null,null,null,null,null,null,null,null,null,null,null,null,null,null,null,null,null,null,null,null,null,null,null,null,null,null,null,null,null,null,null,null,null,null,null,null,null,null,null,null,null,null,null,null,null,null,null,null,null,null,null,null,null,null,null,null,null,null,null,null,null,null,null,null,null,null,null,null,null,null,null,null,null,null,null,null,null,null,null,null,null,null,null,null,null,null,null,null,null,null,null,null,null,null,null,null,null,null,null,null,null,null,null,null,null,null,null,null,null,null,null,null,null,null,null,null,null,null,null,null,null,null,null,null,null,null,null,null,null,null,null,null,null,null,null,null,null,null,null,null,null,null,null,null,null,null,null,null,null,null,null,null,null,null,null,null,null,null,null,null,null,null,null,null,null,null,null,null,null,null,null,null,null,null,null,null,null,null,null,null,null,null,null,null,null,null,null,null,null,null,null,null,null,null,null,null,null,null,null,null,null,null,null,null,null,null,null,null,null,null,null,null,null,null,null,null,null,null,null,null,null,null,null,null,null,null,null,null,null,null,null,null,null,null,null,null,null,null,null,null,null,null,null,null,null,null,null,null,null,null,null,null,null,null,null,null,null,null,null,null,null,null,null,null,null,null,null,null,null,null,null,null,null,null,null,null,null,null,null,null,null,null,null,null,null,null,null,null,null,null,null,null,null,null,null,null,null,null,null,null,null,null,null,null,null,null,null,null,null,null,null,null,null,null,null,null,null,null,null,null,null,null,null,null,null,null,null,null,null,null,null,null,null,null,null,null,"a1",{"$f":"L35","v":300},null,null,null,null,null,{"$f":"NV30","v":-30},{"$f":"NV31","v":2},"w1",null,"e1",{"$f":"O33","v":224},null,null,null,null,null,{"$f":"OG34","v":-30},{"$f":"OG35","v":2},"m1",null,"e1",{"$f":"R33","v":212},null,null,null,null,null,{"$f":"OR34","v":-30},{"$f":"OR35","v":2},"m1"]
["per_font_size_chart",{"$f":"0.1*'طراحی همه الگوها'!B176","v":0.8},null,null,"  (بدون احتساب بافت انتخابی)      a'0 ضریب تعداد رج",{"$f":"IF(F8=2,J6,IF(F8=3,K6,L6))","v":3.5},null," a0 تعداد رج در یک سانت جلو",{"$f":"F6+0.3*I8*F6","v":4.2424242424242422},3.5,2.8,2.2000000000000002,"a''0",null,{"$f":"ROUND(P12*P9,1)","v":2.9},"پهنا (cm)=",null,null,null,"تعداد دانه در یک سانت eb0 "," ea0 تعداد رج در یک سانت","میزان جمع شوندگی عمودی مدل","میزان جمع شوندگی افقی مدل","ارتفاع رجها به سانتیمتر","تعداد رج","پهنا به سانتیمتر","تعداد دانه","اسم مدل","شماره مدل",null,"متغیرهای ورودی  یقه ب ب گرد بافت همه از زیر",null,null,null,"  متغیر محاسبه ای یقه انگلیسی ",null,null,null,null,null,null,null,null,null,null,null,null,null,null,null,null,null,null,null,null,null,null,null,null,null,null,null,null,null,null,null,null,null,null,null,null,null,null,null,null,null,null,null,null,null,null,null,null,null,null,null,null,null,null,null,null,null,null,null,null,null,null,null,null,null,null,null,null,null,null,null,null,null,null,null,null,null,null,null,null,null,null,null,null,null,null,null,null,null,null,null,null,null,null,null,null,null,null,null,null,null,null,null,null,null,null,null,null,null,null,null,null,null,null,null,null,null,null,null,null,null,null,null,null,null,null,null,null,null,null,null,null,null,null,null,null,null,null,null,null,null,null,null,null,null,null,null,null,null,null,null,null,null,null,null,null,null,null,null,null,null,null,null,null,null,null,null,null,null,null,null,null,null,null,null,null,null,null,null,null,null,null,null,null,null,null,null,null,null,null,null,null,null,null,null,null,null,null,null,null,null,null,null,null,null,null,null,null,null,null,null,null,null,null,null,null,null,null,null,null,null,null,null,null,null,null,null,null,null,null,null,null,null,null,null,null,null,null,null,null,null,null,null,null,null,null,null,null,null,null,null,null,null,null,null,null,null,null,null,null,null,null,null,null,null,null,null,null,null,null,null,null,null,null,null,null,null,null,null,null,null,null,null,null,null,null,null,null,null,null,null,null,null,null,null,null,null,null,null,null,null,null,null,null,null,null,null,null,null,null,null,null,null,null,null,null,null,null,null,null,null,null,null,null,null,null,null,null,null,null,null,null,null,null,null,null,null,null,null,null,null,null,null,null,null,null,null,null,null,"a2",4,null,null,null,null,"باکس نوشتهa1",null,null,{"$f":"OA6","v":"باکس نوشتهa1"},null,"e2",7,null,null,null,null,"باکس نوشتهe1",null,null,{"$f":"OL6","v":"باکس نوشتهe1"},null,"e2",7,null,null,null,null,"باکس نوشتهe1",null,null,{"$f":"OW6","v":"باکس نوشتهe1"}]
["ChartFieldRange( باید خالی باشد )",null,null,null,"  (بدون احتساب بافت انتخابی)      b'0 ضریب تعداد دانه",{"$f":"IF(F8=2,J7,IF(F8=3,K7,L7))","v":2.5},null,"تعداد دانه در یک سانت جلوb0 ",{"$f":"F7+0.68*I9*F7","v":5.7142857142857144},2.5,2,1.5,"b''0",null,{"$f":"ROUND(P13*P9,1)","v":4},"پهنا (cm)=",null,null,null,{"$f":"AA7/Z7","v":1.9459459459459461},{"$f":"Y7/X7","v":2.8888888888888888},{"$f":"(10/3)*((Y7/X7)*(1/L6)-1)","v":1.0437710437710439},{"$f":"(100/68)*((AA7/Z7)*(1/L7)-1)","v":0.43720190779014323},13.5,39,18.5,36,"ساده ",1,null,{"$f":"ROUND(AF12*G167,1)","v":6.5},"پهنا (cm)=",null,null,"d'3",{"$f":"'متغیرها '!C167*H124","v":2.5999999999999996},null,null,null,null,null,null,null,null,null,null,null,null,null,null,null,null,null,null,null,null,null,null,null,null,null,null,null,null,null,null,null,null,null,null,null,null,null,null,null,null,null,null,null,null,null,null,null,null,null,null,null,null,null,null,null,null,null,null,null,null,null,null,null,null,null,null,null,null,null,null,null,null,null,null,null,null,null,null,null,null,null,null,null,null,null,null,null,null,null,null,null,null,null,null,null,null,null,null,null,null,null,null,null,null,null,null,null,null,null,null,null,null,null,null,null,null,null,null,null,null,null,null,null,null,null,null,null,null,null,null,null,null,null,null,null,null,null,null,null,null,null,null,null,null,null,null,null,null,null,null,null,null,null,null,null,null,null,null,null,null,null,null,null,null,null,null,null,null,null,null,null,null,null,null,null,null,null,null,null,null,null,null,null,null,null,null,null,null,null,null,null,null,null,null,null,null,null,null,null,null,null,null,null,null,null,null,null,null,null,null,null,null,null,null,null,null,null,null,null,null,null,null,null,null,null,null,null,null,null,null,null,null,null,null,null,null,null,null,null,null,null,null,null,null,null,null,null,null,null,null,null,null,null,null,null,null,null,null,null,null,null,null,null,null,null,null,null,null,null,null,null,null,null,null,null,null,null,null,null,null,null,null,null,null,null,null,null,null,null,null,null,null,null,null,null,null,null,null,null,null,null,null,null,null,null,null,null,null,null,null,null,null,null,null,null,null,null,null,null,null,null,null,null,null,null,null,null,null,null,null,null,null,null,null,null,null,null,null,null,null,null,null,null,null,null,null,null,null,"a3",35,null,null,null,"متغیرهای ورودی",null,{"$f":"NZ13","v":-30},{"$f":"OA13","v":2},{"$f":"NY13","v":"w1"},null,"e3",22,null,null,null,"متغیرهای ورودی",null,{"$f":"OK13","v":-30},{"$f":"OL13","v":2},{"$f":"OJ13","v":"m1"},null,"e3",24,null,null,null,"متغیرهای ورودی",null,{"$f":"OV13","v":-30},{"$f":"OW13","v":2},{"$f":"OU13","v":"m1"}]
["show_temp_print_sheet ",0,null,null,"انتخاب ضخامت میل بافتنی   f1",{"$f":"'متغیرها '!C832","v":2},null,"جمع شوندگی عمودی بافت جلو   f2",{"$f":"OFFSET(V6,I10,0)","v":0.70707070707070652},null,null,null,null,null,"متغیر محاسبه ای شومیزیه",null,null,null,null,2.1176470588235294,3.7777777777777777,{"$f":"(10/3)*((Y8/X8)*(1/L6)-1)","v":2.3905723905723906},{"$f":"(100/68)*((AA8/Z8)*(1/L7)-1)","v":0.60553633217993064},13.5,51,17,36,"همه از زیر",{"$f":"AC7+1","v":2},null,"متغیر محاسبه ای یقه ب ب گرد",null,null,null,"d11",{"$f":"(0.95+1.45*'متغیرها '!C164)*(0.4*G166+0.037*H131)","v":4.5925163867064587},null,null,null,null,null,null,null,null,null,null,null,null,null,null,null,null,null,null,null,null,null,null,null,null,null,null,null,null,null,null,null,null,null,null,null,null,null,null,null,null,null,null,null,null,null,null,null,null,null,null,null,null,null,null,null,null,null,null,null,null,null,null,null,null,null,null,null,null,null,null,null,null,null,null,null,null,null,null,null,null,null,null,null,null,null,null,null,null,null,null,null,null,null,null,null,null,null,null,null,null,null,null,null,null,null,null,null,null,null,null,null,null,null,null,null,null,null,null,null,null,null,null,null,null,null,null,null,null,null,null,null,null,null,null,null,null,null,null,null,null,null,null,null,null,null,null,null,null,null,null,null,null,null,null,null,null,null,null,null,null,null,null,null,null,null,null,null,null,null,null,null,null,null,null,null,null,null,null,null,null,null,null,null,null,null,null,null,null,null,null,null,null,null,null,null,null,null,null,null,null,null,null,null,null,null,null,null,null,null,null,null,null,null,null,null,null,null,null,null,null,null,null,null,null,null,null,null,null,null,null,null,null,null,null,null,null,null,null,null,null,null,null,null,null,null,null,null,null,null,null,null,null,null,null,null,null,null,null,null,null,null,null,null,null,null,null,null,null,null,null,null,null,null,null,null,null,null,null,null,null,null,null,null,null,null,null,null,null,null,null,null,null,null,null,null,null,null,null,null,null,null,null,null,null,null,null,null,null,null,null,null,null,null,null,null,null,null,null,null,null,null,null,null,null,null,null,null,null,null,null,null,null,null,null,null,null,null,null,null,null,null,null,null,null,null,null,null,null,"a4",69,null,null,"طول باکس نوشته",{"$f":"NV35","v":4.5},"h3",{"$f":"NZ18","v":-4.6875000000000036},{"$f":"OA18","v":2},{"$f":"NY18","v":"h8"},null,"e4",41,null,null,"طول باکس نوشته",{"$f":"OG39","v":4.5},"h3",{"$f":"OK18","v":1.0700000000000003},{"$f":"OL18","v":2},{"$f":"OJ18","v":"h8"},null,"e4",49,null,null,"طول باکس نوشته",{"$f":"OR39","v":4.5},"h3",{"$f":"OV18","v":-0.71499999999999986},{"$f":"OW18","v":2},{"$f":"OU18","v":"h8"}]
["per_line_size_chart",null,null,null," از آستین رگلان   γ9",{"$f":"DE542","v":0.68801433171336068},null,"جمع شوندگی افقی بافت جلو   f3",{"$f":"OFFSET(V6,I10,1)","v":1.8907563025210083},null,"متغیرهای ورودی  یقه شکاری کشباف",null,null,null,"e'1",{"$f":"(0.4*G166+0.037*H131)","v":1.9135484944610244},null,null,null,1.8,2.6666666666666665,{"$f":"(10/3)*((Y9/X9)*(1/L6)-1)","v":0.70707070707070652},{"$f":"(100/68)*((AA9/Z9)*(1/L7)-1)","v":0.29411764705882348},13.5,36,20,36,"جودانه",3,null,"c6",{"$f":"ROUNDUP(1.3*F6*AF10,0)","v":30},null,null,"d'12",{"$f":"G263-G258","v":13.55517296449629},null,null,null,null,null,null,null,null,null,null,null,null,null,null,null,null,null,null,null,null,null,null,null,null,null,null,null,null,null,null,null,null,null,null,null,null,null,null,null,null,null,null,null,null,null,null,null,null,null,null,null,null,null,null,null,null,null,null,null,null,null,null,null,null,null,null,null,null,null,null,null,null,null,null,null,null,null,null,null,null,null,null,null,null,null,null,null,null,null,null,null,null,null,null,null,null,null,null,null,null,null,null,null,null,null,null,null,"رسم دستی چادر  4",null,null,null,null,null,"رسم و طراحی چادر شماره 4",null,null,null,null,null,null,null,null,null,null,null,"رسم چادر شماره 5",null,null,null,null,null,null,null,"طراحی چادر شماره 5",null,null,null," طراحی چادر شماره 5",null,null,null,null,null,null,null,null,"پروسیجر یافتن راس سوم مثلث با داشتن دو راس و دو ضلع",null,null,null,null,null,"پروسیجر چرخش یک نقطه حول نقطه دیگر",null,null,null,null,null,"کامل شده",null,null,"رسم باکس زیپ دامن- باکس دوطرفه راست و چپ","مولفه افقی","مولفه عمودی",null,null,"به دست آوردن راس سوم مثلث وقتی دو راس و دو ضلع را داریم",null,null,null,null,null,"جلو(k''5 →k6)",{"$f":"SQRT(POWER((#REF!-#REF!),2)+POWER((#REF!-#REF!),2))","v":{"$error":"#REF!"}},"ضلع راست",null,null,null,null,null,null,null,null,null,null,null,"قرینه",null,null,null,null,null,null,null,null,null,null,null,null,null,null,null,null,null,null,null,null,null,null,null,null,null,null,null,null,null,null,null,null,null,null,null,null,null,null,null,null,null,null,null,null,null,null,null,null,null,null,null,null,null,null,null,null,null,null,null,null,null,null,null,null,null,null,null,null,null,null,null,null,null,null,null,null,null,null,null,null,null,null,null,null,null,null,null,null,null,null,null,null,null,null,null,null,null,null,null,null,null,null,null,null,null,null,null,null,null,null,null,null,null,null,null,null,null,null,null,null,null,null,null,null,null,null,null,null,null,null,null,null,null,null,null,null,null,null,null,null,null,null,null,null,null,null,null,null,null,null,null,null,null,null,null,null,null,null,null,null,null,"a5",105,null,null,"پهنای باکس نوشته",{"$f":"NV36","v":0.5},"h4",null,null,null,null,"e5",63,null,null,"پهنای باکس نوشته",{"$f":"OG40","v":0.5},"h4",null,null,null,null,"e5",74,null,null,"پهنای باکس نوشته",{"$f":"OR40","v":0.5},"h4"]
[null,null,null,null,"γ10 از آستین رگلان",{"$f":"DE543","v":0.6232668095926317},null,"بافت انتخابی جلو",{"$f":"'متغیرها '!C833","v":4},null,{"$f":"ROUND(L14*(0.4*G166+0.037*H131),1)","v":3.8},"پهنا (cm)=",null,null,"e''1",{"$f":"P13*P9","v":4.0184518383681516},null,null,null,3.4285714285714284,2.6666666666666665,{"$f":"(10/3)*((Y10/X10)*(1/L6)-1)","v":0.70707070707070652},{"$f":"(100/68)*((AA10/Z10)*(1/L7)-1)","v":1.8907563025210083},13.5,36,10.5,36,"کشباف (دوتایی)",4,null,"c'6",{"$f":"AF12*G167","v":6.4860676923751317},null,null,"d12",{"$f":"ROUND(F6*AJ9,0)","v":47},null,null,null,null,null,null,null,null,null,null,null,null,null,null,null,null,null,null,null,null,null,null,null,null,null,null,null,null,null,null,null,null,null,null,null,null,null,null,null,null,null,null,null,null,null,null,null,null,null,null,null,null,null,null,null,null,null,null,null,null,null,null,null,null,null,null,null,null,null,null,null,null,null,null,null,null,null,null,null,null,null,null,null,null,null,null,null,null,null,null,null,null,null,null,null,null,null,null,null,null,null,null,null,null,null,null,null,null,null,null,null,null,null,"رسم دستی چادر4 با نقطه گذاری",null,null,null,null,"خطوط پرینت الگو یا طراحی چادر4",null,null,"رسم دستی چادر 5 (بر حسب سانتیمتر)",null,null,null,null,"صاف",null,null,null,"انحنا",null,null,"اسم نقطه ","مولفه افقی","مولفه عمودی",null,{"$f":"FO14","v":5},102.09336399999997,"s'6",null,null,null,null,null,null,null,null,"اطلاعات ورودی",null,null,null,"رادیان",{"$f":"-#REF!","v":{"$error":"#REF!"}},"زاویه چرخش","چرخش مخالف عقربه های ساعت",null,null,null,null,"نقطه ورودی بالا","b5",{"$f":"#REF!","v":{"$error":"#REF!"}},{"$f":"#REF!","v":{"$error":"#REF!"}},null,null," درجه α1"," رادیان α1","xdp'6","ydp'6","(dp4→dp'6)","(dp4→dp6)-(dp4→dp'6) ","(k6 →45)جلو",{"$f":"SQRT(POWER((#REF!-#REF!),2)+POWER((#REF!-#REF!),2))","v":{"$error":"#REF!"}},"ضلع چپ",null,null,null,null,null,null,null,null,null,null,null,{"$f":"-HK10+HP9","v":0},{"$f":"HL10","v":0},null,null,null,null,null,null,null,null,null,null,null,null,null,null,null,null,null,null,null,null,null,null,null,null,null,null,null,null,null,null,null,null,null,null,null,null,null,null,null,null,null,null,null,null,null,null,null,null,null,null,null,null,null,null,null,null,null,null,null,null,null,null,null,null,null,null,null,null,null,null,null,null,null,null,null,null,null,null,null,null,null,null,null,null,null,null,null,null,null,null,null,null,null,null,null,null,null,null,null,null,null,null,null,null,null,null,null,null,null,null,null,null,null,null,null,null,null,null,null,null,null,null,null,null,null,null,null,null,null,null,null,null,null,null,null,null,null,null,null,null,null,null,null,null,null,null,null,null,null,null,null,null,null,null,null,null,null,null,null,null,"a6",6,null,null,null,null,null,{"$f":"NZ20","v":-4.6875000000000036},{"$f":"OA20","v":2.25},{"$f":"NY20","v":"h10"},null,"e6",7,null,null,null,null,null,{"$f":"OK20","v":1.0700000000000003},{"$f":"OL20","v":2.25},{"$f":"OJ20","v":"h10"},null,"e6",7,null,null,null,null,null,{"$f":"OV20","v":-0.71499999999999986},{"$f":"OW20","v":2.25},{"$f":"OU20","v":"h10"}]
[null,null,null,null," (نصف طول دور گردن بعلاوه جادکمه)     (b'1)/2+b'2",{"$f":"AZ102-BD98+SQRT(POWER((AZ102-AZ145),2)+POWER((BA145-BA102),2))+SQRT(POWER((AZ145-AZ148),2)+POWER((BA145-BA148),2))+SQRT(POWER((AZ148-AZ140),2)+POWER((BA148-BA140),2))+SQRT(POWER((BK138-BK132),2)+POWER((BL138-BL132),2))+SQRT(POWER((BK132-BK135),2)+POWER((BL132-BL135),2))+SQRT(POWER((BK135-BK104),2)+POWER((BL104-BL135),2))","v":26.597777076980051},null,null,null,null,"  متغیر محاسبه ای یقه شکاری  ",null,null,null,null,"متغیرهای ورودی یقه شومیزیه بافت انتخابی",null,null,null,2.0571428571428569,2.9629629629629628,{"$f":"(10/3)*((Y11/X11)*(1/L6)-1)","v":1.1560044893378223},{"$f":"(100/68)*((AA11/Z11)*(1/L7)-1)","v":0.54621848739495771},13.5,40,17.5,36,"سبدی (5 تایی)",5,null,"متغیرهای ورودی  یقه ب ب گرد بافت همه از زیر",null,null,null,"d''12",{"$f":"G264+AX147","v":6.7892672016357301},null,null,null,null,null,null,null,null,null,null,null,null,null,null,null,null,null,null,null,null,null,null,null,null,null,null,null,null,null,null,null,null,null,null,null,null,null,null,null,null,null,null,null,null,null,null,null,null,null,null,null,null,null,null,null,null,null,null,null,null,null,null,null,null,null,null,null,null,"رسم دستی چادر 2 (بر حسب سانتیمتر)",null,null,"رسم چادر شماره 2",null,null,null,null,null,null,null,"نقاط ورودی",null,null,null," طراحی چادر شماره 2",null,null,null,null,null,null,null," طراحی چادر شماره 3",null,null,null,"رسم دستی چادر 3 (بر حسب سانتیمتر)",null,null,"رسم چادر شماره 3",null,null,null,null,null,null,null,null,null,null,null,null,null,null,{"$f":"EP29","v":5},{"$f":"EQ30","v":-5.5},2,null,{"$f":"EP30","v":-0.79999999999999982},{"$f":"EQ30","v":-5.5},3,null,null,null,null,null,{"$f":"FF15-'طراحی همه الگوها'!U274","v":40.1},{"$f":"FG15","v":53.9},"خط پهلو",null,{"$f":"FF30","v":59},{"$f":"FG30","v":63.5},13,null,"s1",{"$f":"DB400","v":5},{"$f":"DC400","v":100.19499999999999},null,9.7237316105663467,100.13160709266373,"s''7",null,null,null,null,null,null,"اسم نقطه ","مولفه افقی","مولفه عمودی",null,null,null,"مولفه افقی","مولفه عمودی","اسم نقطه ",null,"نقطه  خروجی چرخیده",null,null,null,"نقطه ورودی پایین","b6",{"$f":"#REF!","v":{"$error":"#REF!"}},{"$f":"#REF!","v":{"$error":"#REF!"}},null,2,-100,{"$f":"RADIANS(GU11)","v":-1.7453292519943295},{"$f":"HB13+HB10*COS(GV11)","v":{"$error":"#REF!"}},{"$f":"HC13-HB10*SIN(GV11)","v":{"$error":"#REF!"}},{"$f":"SQRT(POWER((HB12-GW11),2)+POWER((HC12-GX11),2))","v":{"$error":"#REF!"}},{"$f":"ABS(HB9-GY11)","v":{"$error":"#REF!"}},"اسم نقطه ","مولفه افقی","مولفه عمودی",null,null,null,null,null,null,null,null,null,null,null,{"$f":"-HK11+HP9","v":0},0,null,null,null,null,null,null,null,null,null,null,null,null,null,null,null,null,null,null,null,null,null,null,null,null,null,null,null,null,null,null,null,null,null,null,null,null,null,null,null,null,null,null,null,null,null,null,null,null,null,null,null,null,null,null,null,null,null,null,null,null,null,null,null,null,null,null,null,null,null,null,null,null,null,null,null,null,null,null,null,null,null,null,null,null,null,null,null,null,null,null,null,null,null,null,null,null,null,null,null,null,null,null,null,null,null,null,null,null,null,null,null,null,null,null,null,null,null,null,null,null,null,null,null,null,null,null,null,null,null,null,null,null,null,null,null,null,null,null,null,null,null,null,null,null,null,null,null,null,null,null,null,null,null,null,null,null,null,null,null,null,"a10",300,null,null,null,null,null,{"$f":"NZ21","v":-4.6875000000000036},{"$f":"OA21","v":1.75},{"$f":"NY21","v":"h11"},null,"e7",0,null,null,null,null,null,{"$f":"OK21","v":1.0700000000000003},{"$f":"OL21","v":1.75},{"$f":"OJ21","v":"h11"},null,"e7",0,null,null,null,null,null,{"$f":"OV21","v":-0.71499999999999986},{"$f":"OW21","v":1.75},{"$f":"OU21","v":"h11"}]
[null,null,null,null," ( از خط مرکزی تا خط جادکمه = طول جادکمه)     b'2",{"$f":"AZ102-BD98","v":0},null," a01 تعداد رج در یک سانت پشت",{"$f":"F6+0.3*I14*F6","v":4.2424242424242422},null,"   a7",{"$f":"L18*L14*(0.4*G166+0.037*H131)","v":16.236169043911723},null,null,"    ضریب پهنای پایه یقه    (1 الی 2)",{"$f":"DH682/DH679","v":1.5},null,null,null,2.5714285714285716,2.8148148148148149,{"$f":"(10/3)*((Y12/X12)*(1/L6)-1)","v":0.93153759820426474},{"$f":"(100/68)*((AA12/Z12)*(1/L7)-1)","v":1.0504201680672272},13.5,38,14,36,"تمشکی",6,null," ضریب پهنای یقه    (0.6 الی 1.2)",{"$f":"1.9*'متغیرها '!C761","v":0.95},null,null,"یقه انگلیسی \n بافت جودانه",null,null,null,null,null,null,null,null,null,null,null,null,null,null,null,null,null,null,null,null,null,null,null,null,null,null,null,null,null,null,null,null,null,null,null,null,null,null,null,null,null,null,null,null,null,null,null,null,null,null,null,"نقاط ورودی",null,null,null,"رسم چادر شماره 1 و مقنعه چانه دار",null,null,null,"نقاط ورودی",null,null,null,"رسم مقنعه دراپه",null,null,null,null,null,null,null,null,null,"صاف",null,null,null,"انحنا",null,null,"اسم نقطه ","مولفه افقی","مولفه عمودی",null,{"$f":"DM23","v":5},102.09336399999997,"s6",null,"طراحی چادر شماره 3",null,null,null,{"$f":"DU14","v":5},102.09336399999997,"s'6",null,null,null,null,null,"صاف",null,null,null,"انحنا",null,null,null,null,null,null,null,null,null,{"$f":"EP29","v":5},{"$f":"EQ29","v":106},1,null,{"$f":"EP32","v":8.8867064871193655},{"$f":"EQ32","v":-6.0076587755565551},6,null,null,null,null,null,null,null,null,null,{"$f":"FJ11+0.45*(FJ15-FJ11)","v":65.075000000000003},{"$f":"FK11+0.25*(FK15-FK11)","v":81.650000000000006},"13'",null,"s3",{"$f":"DB402","v":9.7195999999999998},{"$f":"DC402","v":93.891850000000005},null,17.596617628176922,86.399308741310037,"s''8",null,null,null,null,null,"راس پایین","منهای شیفتa50",{"$f":"ER37","v":51.45038572835027},{"$f":"ES37","v":0},"ضلع پایین",{"$f":"EZ25","v":8},null,{"$f":"#REF!","v":{"$error":"#REF!"}},{"$f":"#REF!","v":{"$error":"#REF!"}},"a40","نقطه مرکزی چرخش","مولفه افقی","مولفه عمودی","اسم نقطه ",null,"متغیر ورودی پهنا","a20",{"$f":"#REF!","v":{"$error":"#REF!"}},"(سانتیمتر)",null,null,{"$f":"GU11+GT11","v":-98},-1.7104226669544429,{"$f":"HB13+HB10*COS(GV12)","v":{"$error":"#REF!"}},{"$f":"HC13-HB10*SIN(GV12)","v":{"$error":"#REF!"}},{"$f":"SQRT(POWER((HB12-GW12),2)+POWER((HC12-GX12),2))","v":{"$error":"#REF!"}},{"$f":"ABS(HB9-GY12)","v":{"$error":"#REF!"}},"پشتk''5",{"$f":"GQ33","v":{"$error":"#REF!"}},{"$f":"GR33","v":{"$error":"#REF!"}},"راس راست",null,null,null,null,null,null,null,null,null,null,{"$f":"-HK12+HP9","v":0},0,null,null,null,null,null,null,null,null,null,null,null,null,null,null,null,null,null,null,null,null,null,null,null,null,null,null,null,null,null,null,null,null,null,null,null,null,null,null,null,null,null,null,null,null,null,null,null,null,null,null,null,null,null,null,null,null,null,null,null,null,null,null,null,null,null,null,null,null,null,null,null,null,null,null,null,null,null,null,null,null,null,null,null,null,null,null,null,null,null,null,null,null,null,null,null,null,null,null,null,null,null,null,null,null,null,null,null,null,null,null,null,null,null,null,null,null,null,null,null,null,null,null,null,null,null,null,null,null,null,null,null,null,null,null,null,null,null,null,null,null,null,null,null,null,null,null,null,null,null,null,null,null,null,null,null,null,null,null,null,null,"a11",299,null,null,"نقطه شروع رج(چپ)","مولفه افقی","مولفه عمودی",null,null,null,null,"e8",-4,null,null,"نقطه شروع رج(چپ)","مولفه افقی","مولفه عمودی",null,null,null,null,"e8",-4,null,null,"نقطه شروع رج(چپ)","مولفه افقی","مولفه عمودی"]
[null,null,null,null,"گشادی بالای مچ آستین (cm)     b'11",{"$f":"ROUND(DY522-DY523,0)","v":26},null,"تعداد دانه در یک سانت پشتb01 ",{"$f":"F7+0.68*I15*F7","v":5.7142857142857144},null,"متغیرهای ورودی  یقه شکاری کشباف",null,null,null,"ضریب پهنای برگرد یقه  (1.5 الی 3)",{"$f":"DH710/DH707","v":2.1},null,null,null,2.5714285714285716,2.8148148148148149,{"$f":"(10/3)*((Y13/X13)*(1/L6)-1)","v":0.93153759820426474},{"$f":"(100/68)*((AA13/Z13)*(1/L7)-1)","v":1.0504201680672272},13.5,38,14,36,"کج راه",7,null,"یقه ب ب گرد",null,null,null," b'1    نوار باز شده گردن - دور تا دور گردن",{"$f":"DP680+DP681","v":26.26064156484432},null,null,null,null,null,null,null,null,null,null,null,null,null,null,null,null,null,null,null,null,null,null,null,null,null,null,null,null,null,null,null,null,null,null,null,null,null,null,null,null,null,null,null,null,null,null,null,null,null,null,"مولفه افقی","مولفه عمودی","اسم نقطه",null,"مولفه افقی","مولفه عمودی","اسم نقطه",null,"مولفه افقی","مولفه عمودی","اسم نقطه",null,"مولفه افقی","مولفه عمودی","اسم نقطه",null,null,null,null,null,null,{"$f":"DB37+'طراحی همه الگوها'!U190","v":13},{"$f":"DE14","v":0},5,null,{"$f":"DD17","v":13},{"$f":"DE17","v":23.5},11,null,"s2",{"$f":"DB401","v":8.3037200000000002},{"$f":"DC401","v":98.619212500000003},null,8.6132493298458179,100.54285518636584,"s7",null,"اسم نقطه ","مولفه افقی","مولفه عمودی",null,8.9274777125022524,100.0697352493099,"s'7",null,null,null,null,{"$f":"DB37","v":0},{"$f":"'طراحی همه الگوها'!U210+EC35","v":101},1,null,{"$f":"EE32","v":111.5},{"$f":"EF32","v":101},11,null,null,null,null,null,null,null,null,null,null,null,null,null,null,null,null,null,null,null,null,0,{"$f":"FC42","v":0},1,null,{"$f":"FJ11+0.75*(FJ15-FJ11)","v":69.125},{"$f":"FK11+0.5*(FK15-FK11)","v":99.8},28,null,"s5",{"$f":"DB404","v":5},{"$f":"DC404","v":86.188000000000002},null,27.044080849309616,73.844064534358097,"s''9",null,null,null,null,null,"راس بالا "," منهای شیفتe18",{"$f":"FB27-EW21","v":0},{"$f":"FC27","v":0},"ضلع بالا",{"$f":"EZ26","v":0},null,{"$f":"#REF!-#REF!+#REF!","v":{"$error":"#REF!"}},{"$f":"#REF!","v":{"$error":"#REF!"}},"a48-b16+f22","نقطه قبل از چرخش",{"$f":"IF(GH13>GH12,IF(GG13>GG12,GG12+SQRT(POWER(GG13-GG12,2)+POWER(GH13-GH12,2))*COS(ATAN((GH13-GH12)/(GG13-GG12+0.000123))+GH10),GG12-SQRT(POWER(GG13-GG12,2)+POWER(GH13-GH12,2))*COS(ATAN((GH13-GH12)/(GG12-GG13+0.000123))-GH10)),IF(GG13>GG12,GG12+SQRT(POWER(GG13-GG12,2)+POWER(GH13-GH12,2))*COS(ATAN((GH12-GH13)/(GG13-GG12+0.000123))-GH10),GG12-SQRT(POWER(GG13-GG12,2)+POWER(GH13-GH12,2))*COS(ATAN((GH12-GH13)/(GG12-GG13+0.000123))+GH10)))","v":{"$error":"#REF!"}},{"$f":"IF(GH13>GH12,IF(GG13>GG12,GH12+SQRT(POWER(GG13-GG12,2)+POWER(GH13-GH12,2))*SIN(ATAN((GH13-GH12)/(GG13-GG12+0.000123))+GH10),GH12+SQRT(POWER(GG13-GG12,2)+POWER(GH13-GH12,2))*SIN(ATAN((GH13-GH12)/(GG12-GG13+0.000123))-GH10)),IF(GG13>GG12,GH12-SQRT(POWER(GG13-GG12,2)+POWER(GH13-GH12,2))*SIN(ATAN((GH12-GH13)/(GG13-GG12+0.000123))-GH10),GH12-SQRT(POWER(GG13-GG12,2)+POWER(GH13-GH12,2))*SIN(ATAN((GH12-GH13)/(GG12-GG13+0.000123))+GH10)))","v":{"$error":"#REF!"}},"e52",null,"متغیر ورودی طول","a21",{"$f":"#REF!","v":{"$error":"#REF!"}},null,null,null,{"$f":"GU12+GT11","v":-96},-1.6755160819145565,{"$f":"HB13+HB10*COS(GV13)","v":{"$error":"#REF!"}},{"$f":"HC13-HB10*SIN(GV13)","v":{"$error":"#REF!"}},{"$f":"SQRT(POWER((HB12-GW13),2)+POWER((HC12-GX13),2))","v":{"$error":"#REF!"}},{"$f":"ABS(HB9-GY13)","v":{"$error":"#REF!"}},"42پشت",{"$f":"GQ35","v":1},{"$f":"GR35","v":0},"راس چپ",null,null,null,null,null,null,null,null,null,null,{"$f":"-HK13+HP9","v":0},0,null,null,null,null,null,null,null,null,null,null,null,null,null,null,null,null,null,null,null,null,null,null,null,null,null,null,null,null,null,null,null,null,null,null,null,null,null,null,null,null,null,null,null,null,null,null,null,null,null,null,null,null,null,null,null,null,null,null,null,null,null,null,null,null,null,null,null,null,null,null,null,null,null,null,null,null,null,null,null,null,null,null,null,null,null,null,null,null,null,null,null,null,null,null,null,null,null,null,null,null,null,null,null,null,null,null,null,null,null,null,null,null,null,null,null,null,null,null,null,null,null,null,null,null,null,null,null,null,null,null,null,null,null,null,null,null,null,null,null,null,null,null,null,null,null,null,null,null,null,null,null,null,null,null,null,null,null,null,null,null,"a25",{"$f":"L43","v":2},null,null,"w1",{"$f":"NV30","v":-30},{"$f":"NV31","v":2},{"$f":"NZ20","v":-4.6875000000000036},{"$f":"OA20","v":2.25},{"$f":"NY20","v":"h10"},null,"e9",19,null,null,"m1",{"$f":"OG34","v":-30},{"$f":"OG35","v":2},{"$f":"OK20","v":1.0700000000000003},{"$f":"OL20","v":2.25},{"$f":"OJ20","v":"h10"},null,"e9",19,null,null,"m1",{"$f":"OR34","v":-30},{"$f":"OR35","v":2},{"$f":"OV20","v":-0.71499999999999986},{"$f":"OW20","v":2.25},{"$f":"OU20","v":"h10"}]
[null,null,null,null,"تعداد دانه ها  در بالای مچ آستین      b'12",{"$f":"ROUND(I19*F13,0)","v":149},null,"جمع شوندگی عمودی بافت پشت   f02",{"$f":"OFFSET(V6,I16,0)","v":0.70707070707070652},null,"    ضریب پهنای یقه  (1.5 الی 3)",{"$f":"EF682/EF679","v":2},null,null,"یقه شومیزیه تا خط جادکمه",null,null,null,null,2.88,3.1111111111111112,{"$f":"(10/3)*((Y14/X14)*(1/L6)-1)","v":1.3804713804713806},{"$f":"(100/68)*((AA14/Z14)*(1/L7)-1)","v":1.3529411764705883},13.5,42,12.5,36,"تیغ ماهی",8,null,null,null,null,null,null,null,null,null,null,null,null,null,null,null,null,null,null,null,null,null,null,null,null,null,null,null,null,null,null,null,null,null,null,null,null,null,null,null,null,null,null,null,null,null,null,null,null,null,null,null,null,null,null,null,null,null,{"$f":"DB406","v":5},{"$f":"DC406","v":101.78799999999998},"شبیه ساز s15",null,{"$f":"CI39","v":62.5},{"$f":"CJ39","v":106},"j5",null,{"$f":"DB404","v":5},{"$f":"DC404","v":86.188000000000002},"شبیه ساز s5",null,{"$f":"CQ27","v":5},{"$f":"CR27","v":48.474999999999994},"d6",null,null,null,null,null,null,{"$f":"DB37","v":0},{"$f":"CR36","v":0},2,null,{"$f":"'طراحی همه الگوها'!U190+'طراحی همه الگوها'!U199","v":24.3},{"$f":"DE14+'طراحی همه الگوها'!U201","v":25.2},17,null,"s3",{"$f":"DB402","v":9.7195999999999998},{"$f":"DC402","v":93.891850000000005},null,17.044164432819393,89.172457219715596,"s8",null,"s'6",{"$f":"DM16","v":5},{"$f":"1.003*DN16","v":102.09336399999997},null,18.091592375007508,85.904333994479458,"s'8",null,null,null,null,{"$f":"DB37","v":0},{"$f":"EF13-'طراحی همه الگوها'!U212","v":51.6},4,null,{"$f":"EI15+0.7*(EI13-EI15)","v":111.14},{"$f":"EJ15+0.4*(EJ13-EJ15)","v":104.66},"13'",null,null,null,null,null,null,null,null,{"$f":"EP31","v":10.3},{"$f":"EQ31","v":5},5,null,{"$f":"EP32","v":8.8867064871193655},{"$f":"EQ32","v":-6.0076587755565551},6,null,null,null,null,null,{"$f":"FF13+'طراحی همه الگوها'!U249","v":53.1},{"$f":"FG13","v":0},2,null,{"$f":"FJ11+0.95*(FJ15-FJ11)","v":71.825000000000003},{"$f":"FK11+0.8*(FK15-FK11)","v":121.58},"13'''",null,"s'6",{"$f":"DU14","v":5},{"$f":"DV14","v":102.09336399999997},null,36.491544070442309,62.858225853275144,"s''10",null,null,null,null,null,"c19",{"$f":"ATAN((GB13-GB12)/(GC13-GC12))","v":{"$error":"#DIV/0!"}},null,"محاسبات",null,null,null,null,null,null,null,null,null,null,null,null,null,"ماکزیمم متغیر ورودی  ضریب طول",20,null,null,{"$f":"GU13+GT11","v":-94},-1.6406094968746698,{"$f":"HB13+HB10*COS(GV14)","v":{"$error":"#REF!"}},{"$f":"HC13-HB10*SIN(GV14)","v":{"$error":"#REF!"}},{"$f":"SQRT(POWER((HB12-GW14),2)+POWER((HC12-GX14),2))","v":{"$error":"#REF!"}},{"$f":"ABS(HB9-GY14)","v":{"$error":"#REF!"}},"k6",{"$f":"HB13+HB10*COS(RADIANS(GT24))","v":{"$error":"#REF!"}},{"$f":"HC13-HB10*SIN(RADIANS(GT24))","v":{"$error":"#REF!"}},"راس سوم",null,null,null,null,null,null,null,null,null,null,{"$f":"-HK14+HP9","v":0},0,null,null,null,null,null,null,null,null,null,null,null,null,null,null,null,null,null,null,null,null,null,null,null,null,null,null,null,null,null,null,null,null,null,null,null,null,null,null,null,null,null,null,null,null,null,null,null,null,null,null,null,null,null,null,null,null,null,null,null,null,null,null,null,null,null,null,null,null,null,null,null,null,null,null,null,null,null,null,null,null,null,null,null,null,null,null,null,null,null,null,null,null,null,null,null,null,null,null,null,null,null,null,null,null,null,null,null,null,null,null,null,null,null,null,null,null,null,null,null,null,null,null,null,null,null,null,null,null,null,null,null,null,null,null,null,null,null,null,null,null,null,null,null,null,null,null,null,null,null,null,null,null,null,null,null,null,null,null,null,null,"خطا",{"$f":"L44","v":" "},null,null,"نقطه پایان رج(راست)","مولفه افقی","مولفه عمودی",{"$f":"NZ23","v":-0.18750000000000355},{"$f":"OA23","v":2.25},{"$f":"NY23","v":"h13"},null,"e10",5,null,null,"نقطه پایان رج(راست)","مولفه افقی","مولفه عمودی",{"$f":"OK23","v":5.57},{"$f":"OL23","v":2.25},{"$f":"OJ23","v":"h13"},null,"e10",5,null,null,"نقطه پایان رج(راست)","مولفه افقی","مولفه عمودی",{"$f":"OV23","v":3.7850000000000001},{"$f":"OW23","v":2.25},{"$f":"OU23","v":"h13"}]
[null,null,null,null,"تعداد دانه های اضافه شده زیر بغل   b8",{"$f":"ROUNDUP(I7*(AX119+AX114+BI116),0)","v":17},null,"جمع شوندگی افقی بافت پشت   f03",{"$f":"OFFSET(V6,I16,1)","v":1.8907563025210083},null,"a15",{"$f":"EE699-EE697+SQRT(POWER((EE699-EE701),2)+POWER((EF699-EF701),2))+SQRT(POWER((EE701-EE704),2)+POWER((EF701-EF704),2))+SQRT(POWER((EE704-EE705),2)+POWER((EF704-EF705),2))+SQRT(POWER((EE705-EE703),2)+POWER((EF705-EF703),2))","v":26.26064156484432},null,null,"جمع شوندگی عمودی  e9  ",{"$f":"OFFSET(V6,P20,0)","v":2.3905723905723906},null,null,null,3.4285714285714284,2.6666666666666665,{"$f":"(10/3)*((Y15/X15)*(1/L6)-1)","v":0.70707070707070652},{"$f":"(100/68)*((AA15/Z15)*(1/L7)-1)","v":1.8907563025210083},13.5,36,10.5,36,"اسموکینگ",9,null,null,null,null,null,null,null,null,null,null,null,null,null,null,null,null,null,null,null,null,null,null,null,null,null,null,null,null,null,null,null,null,null,null,null,null,null,null,null,null,null,null,null,null,null,null,null,null,null,null,null,null,null,null,null,null,null,null,{"$f":"'متغیرها '!C52","v":5},"شیفت عمودی",null,{"$f":"CI36","v":5},{"$f":"CJ36","v":106},"j1",null,{"$f":"CI37","v":5},{"$f":"CJ37","v":59},"j2",null,{"$f":"CQ25","v":5},{"$f":"CR25","v":115.22499999999999},"d3",null,null,null,null,null,null,{"$f":"DB37","v":0},{"$f":"'طراحی همه الگوها'!U188+CR36","v":108},1,null,{"$f":"DD21","v":35.5},{"$f":"DE21","v":28.3},10,null,"خط سینه",{"$f":"DT400","v":5},{"$f":"DU400","v":70.099999999999994},null,26.077287757433933,81.419913151544961,"s9",null,"s'7",{"$f":"DU14+0.12*(DU18-DU14)","v":8.9274777125022524},{"$f":"DV18+0.95*(DV14-DV18)","v":100.0697352493099},null,27.910286656263132,73.762561490339067,"s'9",null,null,null,null,{"$f":"DB37","v":0},{"$f":"EC35","v":0},2,null,{"$f":"EE31-'طراحی همه الگوها'!U220","v":110.3},{"$f":"EF31","v":107.1},13,null,null,null,null,null,null,null,null,{"$f":"EP29","v":5},{"$f":"EQ31","v":5},4,null,{"$f":"EX14+0.3*(EX17-EX14)","v":20.578184611754935},{"$f":"EY14+0.05*(EY17-EY14)","v":-5.2171466894772616},"6''",null,null,null,null,null,{"$f":"FF13+'طراحی همه الگوها'!U249","v":53.1},{"$f":"FG13+'طراحی همه الگوها'!U251","v":53.9},4,null,{"$f":"FF34","v":72.5},{"$f":"FG34","v":136.1},15,null,"s''7",{"$f":"FO14+0.15*(FO18-FO14)","v":9.7237316105663467},{"$f":"FP18+0.95*(FP14-FP18)","v":100.13160709266373},null,41.441291538748139,57.908478384969314,"k4 شبیه ساز",null,null,null,null,null,null," درجه α","x","y","c21","c'17",null,"پروسیجر چرخش چند نقطه حول نقطه دیگر",null,null,null,null,null,"کامل شده",null,"m1",{"$f":"ATAN(IF(GQ11>GQ10,1,-1)*(GQ11-GQ10)/(GR10-GR11))","v":{"$error":"#REF!"}},"m2",{"$f":"SQRT(POWER(GQ10-GQ11,2)+POWER(GR10-GR11,2))","v":{"$error":"#REF!"}},null,null,{"$f":"GU14+GT11","v":-92},-1.6057029118347832,{"$f":"HB13+HB10*COS(GV15)","v":{"$error":"#REF!"}},{"$f":"HC13-HB10*SIN(GV15)","v":{"$error":"#REF!"}},{"$f":"SQRT(POWER((HB12-GW15),2)+POWER((HC12-GX15),2))","v":{"$error":"#REF!"}},{"$f":"ABS(HB9-GY15)","v":{"$error":"#REF!"}},"رسم مثلث",null,null,null,null,null,null,null,null,null,null,null,null,null,{"$f":"-HK15+HP9","v":0},0,null,null,null,null,null,null,null,null,null,null,null,null,null,null,null,null,null,null,null,null,null,null,null,null,null,null,null,null,null,null,null,null,null,null,null,null,null,null,null,null,null,null,null,null,null,null,null,null,null,null,null,null,null,null,null,null,null,null,null,null,null,null,null,null,null,null,null,null,null,null,null,null,null,null,null,null,null,null,null,null,null,null,null,null,null,null,null,null,null,null,null,null,null,null,null,null,null,null,null,null,null,null,null,null,null,null,null,null,null,null,null,null,null,null,null,null,null,null,null,null,null,null,null,null,null,null,null,null,null,null,null,null,null,null,null,null,null,null,null,null,null,null,null,null,null,null,null,null,null,null,null,null,null,null,null,null,null,null,null,null,"b''1-2*a25",{"$f":"NV17-2*NV13","v":299},null,null,"w2",{"$f":"NU49","v":25.124999999999993},{"$f":"NV49","v":2},null,null,null,null,"e11",8,null,null,"m2",{"$f":"OF60","v":36.64},{"$f":"OG60","v":2},null,null,null,null,"e11",8,null,null,"m2",{"$f":"OQ60","v":33.07},{"$f":"OR60","v":2}]
[null,null,null,null,"تعداد دانه های سرتاسر آستین در قسمت زیر بغل   b20",{"$f":"ROUNDUP(F15+I6*F29*COS(0.4*(F9+F10))+G44+0.5*F27,0)","v":120},null,"بافت انتخابی پشت",{"$f":"'متغیرها '!C834","v":4},null,"یقه شکاری",null,null,null,"جمع شوندگی افقی e8",{"$f":"OFFSET(V6,P20,1)","v":0.60553633217993064},null,null,null,2.7692307692307692,2.8148148148148149,{"$f":"(10/3)*((Y16/X16)*(1/L6)-1)","v":0.93153759820426474},{"$f":"(100/68)*((AA16/Z16)*(1/L7)-1)","v":1.244343891402715},13.5,38,13,36,"زنبوری",10,null,null,null,null,null,null,null,null,null,null,null,null,null,null,null,null,null,null,null,null,null,null,null,null,null,null,null,null,null,null,null,null,null,null,null,null,null,null,null,null,null,null,null,null,null,null,null,null,null,null,null,null,null,null,null,null,null,"دور سر",{"$f":"'متغیرها '!U85","v":50},"w12",null,null,null,null,null,null,{"$f":"CJ22","v":96},"تمام قد",null,null,null,null,null,null,null,null,null,null,{"$f":"DB37+'طراحی همه الگوها'!U190","v":13},{"$f":"DE15","v":108},4,null,{"$f":"'طراحی همه الگوها'!U190+'طراحی همه الگوها'!U192+'طراحی همه الگوها'!U202","v":42.1},{"$f":"DE14+'طراحی همه الگوها'!U204","v":27.3},20,null,"s15",{"$f":"DB406","v":5},{"$f":"DC406","v":101.78799999999998},null,35.110411082048479,76.251550439431213,"s10",null,"s'8",{"$f":"DU14+0.4*(DU18-DU14)","v":18.091592375007508},{"$f":"DV18+0.6*(DV14-DV18)","v":85.904333994479458},null,37.728980937518763,61.62078898619869,"s'10",null,null,null,null,{"$f":"DB37+'طراحی همه الگوها'!U216","v":110},{"$f":"EF15","v":0},8,null,null,null,null,null,null,null,null,null,null,null,null,{"$f":"EP29","v":5},{"$f":"EQ30","v":-5.5},2,null,{"$f":"EX14+0.7*(EX17-EX14)","v":36.16682211126902},{"$f":"EY14+0.4*(EY17-EY14)","v":0.31643791307779434},"6'''",null,null,null,null,null,{"$f":"FF13+'طراحی همه الگوها'!U249-'طراحی همه الگوها'!U255","v":47.9},{"$f":"FG15","v":53.9},8,null,null,null,null,null,"s''8",{"$f":"FO14+0.4*(FO18-FO14)","v":17.596617628176922},{"$f":"FP18+0.6*(FP14-FP18)","v":86.399308741310037},null,null,null,null,null,null,null,null,null,null,2,{"$f":"GB12+GE12*SIN(RADIANS(GA16)+GA14)","v":{"$error":"#DIV/0!"}},{"$f":"GC12+GE12*COS(RADIANS(GA16)+GA14)","v":{"$error":"#DIV/0!"}},{"$f":"IF(GB13>GB16,ATAN((GC13-GC16)/(GB13-GB16)),ATAN((GC13-GC16)/(GB16-GB13)))","v":{"$error":"#DIV/0!"}},{"$f":"IF(GB13>GB16,(GB13-GB16)/COS(GD16),(GB16-GB13)/COS(GD16))","v":{"$error":"#DIV/0!"}},null,"رادیان",1,"زاویه چرخش","چرخش مخالف عقربه های ساعت",null,null,null,null,"نقطه خروجی بالا","b28",{"$f":"GQ10+IF(GQ11>GQ10,1,-1)*GQ12*COS(GP15)","v":{"$error":"#REF!"}},{"$f":"GR10+GQ12*SIN(GP15)","v":{"$error":"#REF!"}},null,null,{"$f":"GU15+GT11","v":-90},-1.5707963267948966,{"$f":"HB13+HB10*COS(GV16)","v":{"$error":"#REF!"}},{"$f":"HC13-HB10*SIN(GV16)","v":{"$error":"#REF!"}},{"$f":"SQRT(POWER((HB12-GW16),2)+POWER((HC12-GX16),2))","v":{"$error":"#REF!"}},{"$f":"ABS(HB9-GY16)","v":{"$error":"#REF!"}},{"$f":"HA12","v":"پشتk''5"},{"$error":"#REF!"},{"$error":"#REF!"},null,null,null,null,null,null,null,null,null,null,null,{"$f":"-HK16+HP9","v":0},0,null,null,null,null,null,null,null,null,null,null,null,null,null,null,null,null,null,null,null,null,null,null,null,null,null,null,null,null,null,null,null,null,null,null,null,null,null,null,null,null,null,null,null,null,null,null,null,null,null,null,null,null,null,null,null,null,null,null,null,null,null,null,null,null,null,null,null,null,null,null,null,null,null,null,null,null,null,null,null,null,null,null,null,null,null,null,null,null,null,null,null,null,null,null,null,null,null,null,null,null,null,null,null,null,null,null,null,null,null,null,null,null,null,null,null,null,null,null,null,null,null,null,null,null,null,null,null,null,null,null,null,null,null,null,null,null,null,null,null,null,null,null,null,null,null,null,null,null,null,null,null,null,null,null,null,null,null,null,null,null,"b2",{"$f":"F25","v":0},null,null,"نقاط خروجی","مولفه افقی","مولفه عمودی",{"$f":"NZ21","v":-4.6875000000000036},{"$f":"OA21","v":1.75},{"$f":"NY21","v":"h11"},null,"خطا"," ",null,null,"نقاط خروجی","مولفه افقی","مولفه عمودی",{"$f":"OK21","v":1.0700000000000003},{"$f":"OL21","v":1.75},{"$f":"OJ21","v":"h11"},null,"خطا"," ",null,null,"نقاط خروجی","مولفه افقی","مولفه عمودی",{"$f":"OV21","v":-0.71499999999999986},{"$f":"OW21","v":1.75},{"$f":"OU21","v":"h11"}]
[null,null,null,null,"تعداد دانه های اضافه شده در کنار آستین در هر طرف b21",{"$f":"0.5*(F16-F14)","v":-14.5},null,null,null,null,"بافت انتخابی یقه شکاری",null,null,null," ea0 تعداد رج در یک سانت",{"$f":"F6+0.3*P15*F6","v":6.0101010101010104},null,null,null,3.1428571428571428,3.1111111111111112,{"$f":"(10/3)*((Y17/X17)*(1/L6)-1)","v":1.3804713804713806},{"$f":"(100/68)*((AA17/Z17)*(1/L7)-1)","v":1.6106442577030808},13.5,42,7,22,"پیچ گیسباف",11,null,null,null,null,null,null,null,null,null,null,null,null,null,null,null,null,null,null,null,null,null,null,null,null,null,null,null,null,null,null,null,null,null,null,null,null,null,null,null,null,null,null,null,null,null,null,null,null,null,null,null,null,null,null,null,null,null,null,{"$f":"'متغیرها '!U76","v":53},"t3",null,{"$f":"CI36","v":5},{"$f":"CJ36","v":106},"j1",null,null,{"$f":"'متغیرها '!C52","v":5},"شیفت عمودی",null,{"$f":"CQ25","v":5},{"$f":"CR25","v":115.22499999999999},"d3",null,null,null,null,null,null,{"$f":"DB37+'طراحی همه الگوها'!U190","v":13},{"$f":"DE14+'طراحی همه الگوها'!U195","v":23.5},11,null,{"$f":"DD25","v":48.6},{"$f":"DE25","v":23.436},7,null,"زاویه متوسط سرشانه",{"$f":"'متغیرها '!B245","v":0.33471040093341442},"α2",null,null,null,null,null,"s'9",{"$f":"DU14+0.7*(DU18-DU14)","v":27.910286656263132},{"$f":"DV18+0.3*(DV14-DV18)","v":73.762561490339067},null,null,null,null,null,null,null,null,{"$f":"EE16","v":110},{"$f":"EF16+'طراحی همه الگوها'!U221","v":1.2},14,null,{"$f":"EE15","v":0},{"$f":"EF15","v":0},2,null,null,null,null,null,null,null,null,{"$f":"EP30","v":-0.79999999999999982},{"$f":"EQ30","v":-5.5},3,null,{"$f":"EP34","v":47.858300235904593},{"$f":"EQ34","v":9.8025829460293181},8,null,null,null,null,null,{"$f":"FF13","v":0},{"$f":"FG15","v":53.9},3,null,{"$f":"FF32","v":0},{"$f":"FG32","v":71},18,null,"s''9",{"$f":"FO14+0.7*(FO18-FO14)","v":27.044080849309616},{"$f":"FP18+0.28*(FP14-FP18)","v":73.844064534358097},null,{"$f":"FO19","v":41.441291538748139},57.908478384969314,"k4 شبیه ساز",null,null,null,null,null,null,4,{"$f":"GB12+GE12*SIN(RADIANS(GA17)+GA14)","v":{"$error":"#DIV/0!"}},{"$f":"GC12+GE12*COS(RADIANS(GA17)+GA14)","v":{"$error":"#DIV/0!"}},{"$f":"IF(GB13>GB17,ATAN((GC13-GC17)/(GB13-GB17)),ATAN((GC13-GC17)/(GB17-GB13)))","v":{"$error":"#DIV/0!"}},{"$f":"IF(GB13>GB17,(GB13-GB17)/COS(GD17),(GB17-GB13)/COS(GD17))","v":{"$error":"#DIV/0!"}},null,"مولفه افقی","مولفه عمودی","اسم نقطه ",null,"نقطه  خروجی چرخیده",null,null,null,"نقطه خروجی پایین","b27",{"$f":"GQ18+IF(GQ11>GQ10,1,-1)*GQ12*COS(GP15)","v":{"$error":"#REF!"}},{"$f":"GR18+GQ12*SIN(GP15)","v":{"$error":"#REF!"}},null,null,{"$f":"GU16+GT11","v":-88},-1.5358897417550099,{"$f":"HB13+HB10*COS(GV17)","v":{"$error":"#REF!"}},{"$f":"HC13-HB10*SIN(GV17)","v":{"$error":"#REF!"}},{"$f":"SQRT(POWER((HB12-GW17),2)+POWER((HC12-GX17),2))","v":{"$error":"#REF!"}},{"$f":"ABS(HB9-GY17)","v":{"$error":"#REF!"}},"42پشت",1,0,null,null,null,null,null,null,null,null,null,null,null,{"$f":"-HK17+HP9","v":0},0,null,null,null,null,null,null,null,null,null,null,null,null,null,null,null,null,null,null,null,null,null,null,null,null,null,null,null,null,null,null,null,null,null,null,null,null,null,null,null,null,null,null,null,null,null,null,null,null,null,null,null,null,null,null,null,null,null,null,null,null,null,null,null,null,null,null,null,null,null,null,null,null,null,null,null,null,null,null,null,null,null,null,null,null,null,null,null,null,null,null,null,null,null,null,null,null,null,null,null,null,null,null,null,null,null,null,null,null,null,null,null,null,null,null,null,null,null,null,null,null,null,null,null,null,null,null,null,null,null,null,null,null,null,null,null,null,null,null,null,null,null,null,null,null,null,null,null,null,null,null,null,null,null,null,null,null,null,null,null,null,"b''1",{"$f":"G46","v":303},null,null,"h5",{"$f":"NZ13+0.5*(NZ15-NZ13)","v":-2.4375000000000036},{"$f":"OA13","v":2},{"$f":"NZ22","v":-0.18750000000000355},{"$f":"OA22","v":1.75},{"$f":"NY22","v":"h12"},null,"e12-4*eb0*b'2",{"$f":"ROUND(P19-4*P18*F12,0)","v":188},null,null,"h5",{"$f":"OK13+0.5*(OK15-OK13)","v":3.3200000000000003},{"$f":"OL13","v":2},{"$f":"OK22","v":5.57},{"$f":"OL22","v":1.75},{"$f":"OJ22","v":"h12"},null,"e12-4*eb0*b'2",{"$f":"OG17","v":188},null,null,"h5",{"$f":"OV13+0.5*(OV15-OV13)","v":1.5350000000000001},{"$f":"OW13","v":2},{"$f":"OV22","v":3.7850000000000001},{"$f":"OW22","v":1.75},{"$f":"OU22","v":"h12"}]
[null,null,null,null,"طول اضافه شده در کنار آستین در هر طرف b'21",{"$f":"F17/I7","v":-2.5375000000000001},null," a001 تعداد رج در یک سانت آستین",{"$f":"F6+0.3*I20*F6","v":4.2424242424242422},null," aa0 تعداد رج در یک سانت",{"$f":"F6+0.3*L21*F6","v":4.2424242424242422},null,null,"تعداد دانه در یک سانت eb0 ",{"$f":"F7+0.68*P16*F7","v":3.5294117647058822},null,null,null,3.2727272727272729,2.9629629629629628,{"$f":"(10/3)*((Y18/X18)*(1/L6)-1)","v":1.1560044893378223},{"$f":"(100/68)*((AA18/Z18)*(1/L7)-1)","v":1.7379679144385025},13.5,40,11,36,"پیچ چپ و راستی",12,null,"یقه ب ب گرد",null,null,null,"یقه انگلیسی ",null,null,null,null,null,null,null,null,null,null,null,null,null,null,null,null,null,null,null,null,null,null,null,null,null,null,null,null,null,null,null,null,null,null,null,null,null,null,null,null,null,null,null,null,null,null,null,null,null,null,null,null,{"$f":"'متغیرها '!U56","v":53.9},"e",null,{"$f":"CI37","v":5},{"$f":"CJ37","v":59},"j2",null,"محاسبات",null,null,null,{"$f":"CQ26","v":61},{"$f":"CR26","v":59.224999999999994},"d4",null,null,null,null,null,null,{"$f":"DB37+'طراحی همه الگوها'!U190","v":13},{"$f":"DE14","v":0},5,null,null,null,null,null,"دست صاف شبیه ساز k4",{"$f":"F406","v":49.750246041784749},{"$f":"J406","v":71.159867775352112},null,{"$f":"DM28","v":30.708569295038156},{"$f":"DN28","v":63.595176990368884},"s12",null,"s'10",{"$f":"EC41-('متغیرها '!C19*'متغیرها '!U83)*COS(DM17+RADIANS(EC40))","v":37.728980937518763},{"$f":"ED41+('متغیرها '!C19*'متغیرها '!U83)*SIN(DM17+RADIANS(EC40))","v":61.62078898619869},null,{"$f":"DU20","v":30.23364905694136},54.125457105621287,"s'12",null,null,null,null,{"$f":"DB37+'طراحی همه الگوها'!U216","v":110},{"$f":"EF15+'طراحی همه الگوها'!U217","v":1.5},9,null,{"$f":"EI17+0.3*(EI20-EI17)","v":12.468},{"$f":"EJ17+0.15*(EJ20-EJ17)","v":1.9799999999999998},"16'",null,null,null,null,null,null,null,null,null,null,null,null,null,null,null,null,null,null,null,null,{"$f":"FF13","v":0},{"$f":"FG17-'طراحی همه الگوها'!U252","v":46.4},5,null,{"$f":"FJ17+'طراحی همه الگوها'!U268","v":14.2},{"$f":"FG31+'طراحی همه الگوها'!U269","v":71.5},24,null,"s''10",{"$f":"EC41-0.2*'متغیرها '!U83*COS(DM17+RADIANS(EC40))","v":36.491544070442309},{"$f":"ED41+0.2*'متغیرها '!U83*SIN(DM17+RADIANS(EC40))","v":62.858225853275144},null,34.514355656477804,45.838978544136054,"s''11",null,null,null,null,null,null,6,{"$f":"GB12+GE12*SIN(RADIANS(GA18)+GA14)","v":{"$error":"#DIV/0!"}},{"$f":"GC12+GE12*COS(RADIANS(GA18)+GA14)","v":{"$error":"#DIV/0!"}},{"$f":"IF(GB13>GB18,ATAN((GC13-GC18)/(GB13-GB18)),ATAN((GC13-GC18)/(GB18-GB13)))","v":{"$error":"#DIV/0!"}},{"$f":"IF(GB13>GB18,(GB13-GB18)/COS(GD18),(GB18-GB13)/COS(GD18))","v":{"$error":"#DIV/0!"}},null,2,1,"a40","نقطه مرکزی چرخش","مولفه افقی","مولفه عمودی","اسم نقطه ",null,"نقطه خروجی میانه","b26",{"$f":"GQ10+IF(GQ11>GQ10,1,-1)*GQ13*GR15*SIN(GP15)/GR14","v":{"$error":"#REF!"}},{"$f":"GR10-GQ13*GR15*COS(GP15)/GR14","v":{"$error":"#REF!"}},null,null,{"$f":"GU17+GT11","v":-86},-1.5009831567151235,{"$f":"HB13+HB10*COS(GV18)","v":{"$error":"#REF!"}},{"$f":"HC13-HB10*SIN(GV18)","v":{"$error":"#REF!"}},{"$f":"SQRT(POWER((HB12-GW18),2)+POWER((HC12-GX18),2))","v":{"$error":"#REF!"}},{"$f":"ABS(HB9-GY18)","v":{"$error":"#REF!"}},null,null,null,null,null,null,null,null,null,null,null,null,null,null,{"$f":"-HK18+HP9","v":0},0,null,null,null,null,null,null,null,null,null,null,null,null,null,null,null,null,null,null,null,null,null,null,null,null,null,null,null,null,null,null,null,null,null,null,null,null,null,null,null,null,null,null,null,null,null,null,null,null,null,null,null,null,null,null,null,null,null,null,null,null,null,null,null,null,null,null,null,null,null,null,null,null,null,null,null,null,null,null,null,null,null,null,null,null,null,null,null,null,null,null,null,null,null,null,null,null,null,null,null,null,null,null,null,null,null,null,null,null,null,null,null,null,null,null,null,null,null,null,null,null,null,null,null,null,null,null,null,null,null,null,null,null,null,null,null,null,null,null,null,null,null,null,null,null,null,null,null,null,null,null,null,null,null,null,null,null,null,null,null,null,"نوشته ها یقه شکاری ",null,null,null,"h8",{"$f":"NZ17-0.5*NZ8","v":-4.6875000000000036},{"$f":"OA13","v":2},null,null,null,null,"b''1",{"$f":"G46","v":303},null,null,"h8",{"$f":"OK17-0.5*OK8","v":1.0700000000000003},{"$f":"OL13","v":2},null,null,null,null,"b''1",{"$f":"OG18","v":303},null,null,"h8",{"$f":"OV17-0.5*OV8","v":-0.71499999999999986},{"$f":"OW13","v":2}]
[null,null,null,null,"هر b11   رج در بافت آستین یکدانه از ابتدا و یکدانه از انتها کم شود",{"$f":"IF(OR(ROUND(F21/F17,0)>50,ROUND(F21/F17,0)<-50),0,ROUND(F21/F17,0))","v":-2},null,"تعداد دانه در یک سانت آستینb001 ",{"$f":"F7+0.68*I21*F7","v":5.7142857142857144},null,"تعداد دانه در یک سانت ab0 ",{"$f":"F7+0.68*L22*F7","v":5.7142857142857144},null,null,"e12",{"$f":"P18*2*F11","v":187.74901466103566},null,null,null,2.5714285714285716,2.4444444444444446,{"$f":"(10/3)*((Y19/X19)*(1/L6)-1)","v":0.37037037037037057},{"$f":"(100/68)*((AA19/Z19)*(1/L7)-1)","v":1.0504201680672272},13.5,33,14,36,"کشباف (یکی)",13,null,"بافت همه از زیر",null,null,null," بافت جودانه",null,null,null,null,null,null,null,null,null,null,null,null,null,null,null,null,null,null,null,null,null,null,null,null,null,null,null,null,null,null,null,null,null,null,null,null,null,null,null,null,null,null,null,null,null,null,null,null,null,null,null,null,{"$f":"'متغیرها '!U58","v":54.1},"g",null,null,null,null,null,"(d1 → d2)",{"$f":"0.45*'متغیرها '!U85","v":22.5},null,null,null,null,null,null,null,null,null,null,null,{"$f":"DD18+'طراحی همه الگوها'!U192","v":35.5},{"$f":"DE14","v":0},8,null,{"$f":"DD18","v":13},{"$f":"DE18","v":0},5,null,"شبیه ساز 26",{"$f":"DX388","v":5},{"$f":"DY388","v":78.443029812675292},null,{"$f":"DP18+0.25*(DP21-DP18)","v":34.806426971278619},{"$f":"DQ21+0.5*(DQ18-DQ21)","v":34.297588495184442},"s12'",null,"s'11",{"$f":"DU29-'طراحی همه الگوها'!U226*SIN(DM17+RADIANS(EC40))","v":34.511645083119973},{"$f":"DV29-'طراحی همه الگوها'!U226*COS(DM17+RADIANS(EC40))","v":50.978831929341148},null,38.248554339858956,29.562728552810643,"s''13",null,null,null,null,{"$f":"EE26","v":42.3},{"$f":"EF14+'طراحی همه الگوها'!U215","v":54.300000000000004},7,null,{"$f":"DB37+'طراحی همه الگوها'!U227","v":24.936},{"$f":"EJ17+'طراحی همه الگوها'!U228","v":5.9},22,null,null,null,null,null,null,null,null,{"$f":"EP29","v":5},{"$f":"EQ35","v":63.207344242385716},13,null,{"$f":"EP31","v":10.3},{"$f":"EQ31","v":5},5,null,null,null,null,null,{"$f":"FF13","v":0},{"$f":"FG13","v":0},1,null,{"$f":"FJ17+'طراحی همه الگوها'!U270","v":28.5},{"$f":"FG31+'طراحی همه الگوها'!U271","v":73.900000000000006},26,null,"k4 شبیه ساز",{"$f":"K384","v":41.441291538748139},{"$f":"L384","v":57.908478384969314},null,20.660483891937123,36.183378671469448,"s'11",null,null,null,null,null,null,8,{"$f":"GB12+GE12*SIN(RADIANS(GA19)+GA14)","v":{"$error":"#DIV/0!"}},{"$f":"GC12+GE12*COS(RADIANS(GA19)+GA14)","v":{"$error":"#DIV/0!"}},{"$f":"IF(GB13>GB19,ATAN((GC13-GC19)/(GB13-GB19)),ATAN((GC13-GC19)/(GB19-GB13)))","v":{"$error":"#DIV/0!"}},{"$f":"IF(GB13>GB19,(GB13-GB19)/COS(GD19),(GB19-GB13)/COS(GD19))","v":{"$error":"#DIV/0!"}},null,1,2,"نقطه 1","نقطه قبل از چرخش",{"$f":"IF(GH19>GH18,IF(GG19>GG18,GG18+SQRT(POWER(GG19-GG18,2)+POWER(GH19-GH18,2))*COS(ATAN((GH19-GH18)/(GG19-GG18+0.000123))+GH16),GG18-SQRT(POWER(GG19-GG18,2)+POWER(GH19-GH18,2))*COS(ATAN((GH19-GH18)/(GG18-GG19+0.000123))-GH16)),IF(GG19>GG18,GG18+SQRT(POWER(GG19-GG18,2)+POWER(GH19-GH18,2))*COS(ATAN((GH18-GH19)/(GG19-GG18+0.000123))-GH16),GG18-SQRT(POWER(GG19-GG18,2)+POWER(GH19-GH18,2))*COS(ATAN((GH18-GH19)/(GG18-GG19+0.000123))+GH16)))","v":0.61824523267144293},{"$f":"IF(GH19>GH18,IF(GG19>GG18,GH18+SQRT(POWER(GG19-GG18,2)+POWER(GH19-GH18,2))*SIN(ATAN((GH19-GH18)/(GG19-GG18+0.000123))+GH16),GH18+SQRT(POWER(GG19-GG18,2)+POWER(GH19-GH18,2))*SIN(ATAN((GH19-GH18)/(GG18-GG19+0.000123))-GH16)),IF(GG19>GG18,GH18-SQRT(POWER(GG19-GG18,2)+POWER(GH19-GH18,2))*SIN(ATAN((GH18-GH19)/(GG19-GG18+0.000123))-GH16),GH18-SQRT(POWER(GG19-GG18,2)+POWER(GH19-GH18,2))*SIN(ATAN((GH18-GH19)/(GG18-GG19+0.000123))+GH16)))","v":0.69874634779839551},"نقطه چرخیده",null,null,null,null,null,null,null,{"$f":"GU18+GT11","v":-84},-1.4660765716752369,{"$f":"HB13+HB10*COS(GV19)","v":{"$error":"#REF!"}},{"$f":"HC13-HB10*SIN(GV19)","v":{"$error":"#REF!"}},{"$f":"SQRT(POWER((HB12-GW19),2)+POWER((HC12-GX19),2))","v":{"$error":"#REF!"}},{"$f":"ABS(HB9-GY19)","v":{"$error":"#REF!"}},{"$f":"HA13","v":"42پشت"},{"$f":"HB13","v":1},{"$f":"HC13","v":0},null,null,null,null,null,null,null,null,null,null,null,{"$f":"-HK19+HP9","v":0},0,null,null,null,null,null,null,null,null,null,null,null,null,null,null,null,null,null,null,null,null,null,null,null,null,null,null,null,null,null,null,null,null,null,null,null,null,null,null,null,null,null,null,null,null,null,null,null,null,null,null,null,null,null,null,null,null,null,null,null,null,null,null,null,null,null,null,null,null,null,null,null,null,null,null,null,null,null,null,null,null,null,null,null,null,null,null,null,null,null,null,null,null,null,null,null,null,null,null,null,null,null,null,null,null,null,null,null,null,null,null,null,null,null,null,null,null,null,null,null,null,null,null,null,null,null,null,null,null,null,null,null,null,null,null,null,null,null,null,null,null,null,null,null,null,null,null,null,null,null,null,null,null,null,null,null,null,null,null,null,null,"a1",{"$f":"TEXT(0,NV5)&\" دانه سر می اندازیم\"","v":"300 دانه سر می اندازیم"},null,null,"h9",{"$f":"NZ17+0.5*NZ8","v":-0.18750000000000355},{"$f":"OA13","v":2},{"$f":"NZ22","v":-0.18750000000000355},{"$f":"OA22","v":1.75},{"$f":"NY22","v":"h12"},null,"خطا",{"$f":"O45","v":" "},null,null,"h9",{"$f":"OK17+0.5*OK8","v":5.57},{"$f":"OL13","v":2},{"$f":"OK22","v":5.57},{"$f":"OL22","v":1.75},{"$f":"OJ22","v":"h12"},null,"خطا",{"$f":"R45","v":" "},null,null,"h9",{"$f":"OV17+0.5*OV8","v":3.7850000000000001},{"$f":"OW13","v":2},{"$f":"OV22","v":3.7850000000000001},{"$f":"OW22","v":1.75},{"$f":"OU22","v":"h12"}]
[null,null,null,null," b22",{"$f":"SQRT(POWER(F33,2)-POWER(F18,2))","v":5.4370114723071898},null,"جمع شوندگی عمودی بافت آستین   f002",{"$f":"OFFSET(V6,I22,0)","v":0.70707070707070652},null,"متغیر ورودی بافت یقه شکاری ",null,null,null,"بافت انتخابی یقه شومیزیه",{"$f":"'متغیرها '!C841","v":2},null,null,null,2.5714285714285716,2.8888888888888888,{"$f":"(10/3)*((Y20/X20)*(1/L6)-1)","v":1.0437710437710439},{"$f":"(100/68)*((AA20/Z20)*(1/L7)-1)","v":1.0504201680672272},13.5,39,14,36,"پیچ با فاصله",14,null,"c1",{"$f":"F26+2*(AF23+1)+1*(AF22+1)-3","v":159},null,null,"d1",{"$f":"F45+2*F44+2*ROUND(F7*O238,0)-2*AJ22","v":125},null,null,null,null,null,null,null,null,null,null,null,null,null,null,null,null,null,null,null,null,null,null,null,null,null,null,null,null,null,null,null,null,null,null,null,null,null,null,null,null,null,null,null,null,null,null,null,null,null,null,"محاسبات",null,null,null,{"$f":"CI37","v":5},{"$f":"CJ37","v":59},"j2",null,"(d1 →d4)",{"$f":"'طراحی همه الگوها'!U178+'طراحی همه الگوها'!U177","v":57.5},null,null,{"$f":"CQ31","v":5},{"$f":"CR31","v":57.132249999999999},"j'2",null,null,null,null,null,null,{"$f":"DD18+'طراحی همه الگوها'!U192","v":35.5},{"$f":"DE14+'طراحی همه الگوها'!U193","v":11.7},9,null,{"$f":"'طراحی همه الگوها'!U190+'طراحی همه الگوها'!U199","v":24.3},{"$f":"DE14+'طراحی همه الگوها'!U200","v":4.0999999999999996},16,null,null,null,null,null,{"$f":"DP18+0.6*(DP21-DP18)","v":40.543427718015266},{"$f":"DQ21+0.2*(DQ18-DQ21)","v":16.719035398073778},"s12''",null,"s'12",{"$f":"DU18-'طراحی همه الگوها'!U225*SIN(DM17+RADIANS(EC40))","v":30.23364905694136},{"$f":"DV18-'طراحی همه الگوها'!U225*COS(DM17+RADIANS(EC40))","v":54.125457105621287},null,44.927642075623616,17.28136427640532,"s'''13",null,null,null,null,{"$f":"DB37+'طراحی همه الگوها'!U216","v":110},{"$f":"EF18+'طراحی همه الگوها'!U218","v":107.1},10,null,{"$f":"DB37+'طراحی همه الگوها'!U222","v":41.56},{"$f":"EF15+'طراحی همه الگوها'!U223","v":13.2},16,null,null,null,null,null,null,null,null,{"$f":"EP35","v":28.420556755939138},{"$f":"EQ35","v":63.207344242385716},9,null,{"$f":"EP33","v":17.789721510659305},{"$f":"EQ33","v":5.3925196718220789},7,null,null,null,null,null,null,null,null,null,{"$f":"FF37","v":35.6},{"$f":"FG37","v":76.3},17,null,"s''11",{"$f":"FO22+0.8*(FO19-FO22)","v":34.514355656477804},{"$f":"FP22+0.5*(FP19-FP22)","v":45.838978544136054},null,6.8066121273964422,33.769478703302795,"s11",null,null,null,null,null,null,10,{"$f":"GB12+GE12*SIN(RADIANS(GA20)+GA14)","v":{"$error":"#DIV/0!"}},{"$f":"GC12+GE12*COS(RADIANS(GA20)+GA14)","v":{"$error":"#DIV/0!"}},{"$f":"IF(GB13>GB20,ATAN((GC13-GC20)/(GB13-GB20)),ATAN((GC13-GC20)/(GB20-GB13)))","v":{"$error":"#DIV/0!"}},{"$f":"IF(GB13>GB20,(GB13-GB20)/COS(GD20),(GB20-GB13)/COS(GD20))","v":{"$error":"#DIV/0!"}},null,1,2,"نقطه2","نقطه قبل از چرخش",{"$f":"IF(GH20>GH18,IF(GG20>GG18,GG18+SQRT(POWER(GG20-GG18,2)+POWER(GH20-GH18,2))*COS(ATAN((GH20-GH18)/(GG20-GG18+0.000123))+GH16),GG18-SQRT(POWER(GG20-GG18,2)+POWER(GH20-GH18,2))*COS(ATAN((GH20-GH18)/(GG18-GG20+0.000123))-GH16)),IF(GG20>GG18,GG18+SQRT(POWER(GG20-GG18,2)+POWER(GH20-GH18,2))*COS(ATAN((GH18-GH20)/(GG20-GG18+0.000123))-GH16),GG18-SQRT(POWER(GG20-GG18,2)+POWER(GH20-GH18,2))*COS(ATAN((GH18-GH20)/(GG18-GG20+0.000123))+GH16)))","v":0.61824523267144293},{"$f":"IF(GH20>GH18,IF(GG20>GG18,GH18+SQRT(POWER(GG20-GG18,2)+POWER(GH20-GH18,2))*SIN(ATAN((GH20-GH18)/(GG20-GG18+0.000123))+GH16),GH18+SQRT(POWER(GG20-GG18,2)+POWER(GH20-GH18,2))*SIN(ATAN((GH20-GH18)/(GG18-GG20+0.000123))-GH16)),IF(GG20>GG18,GH18-SQRT(POWER(GG20-GG18,2)+POWER(GH20-GH18,2))*SIN(ATAN((GH18-GH20)/(GG20-GG18+0.000123))-GH16),GH18-SQRT(POWER(GG20-GG18,2)+POWER(GH20-GH18,2))*SIN(ATAN((GH18-GH20)/(GG18-GG20+0.000123))+GH16)))","v":0.69874634779839551},"نقطه چرخیده",null,null,"رسم باکس زیپ دامن- باکس راست","مولفه افقی","مولفه عمودی",null,null,{"$f":"GU19+GT11","v":-82},-1.4311699866353502,{"$f":"HB13+HB10*COS(GV20)","v":{"$error":"#REF!"}},{"$f":"HC13-HB10*SIN(GV20)","v":{"$error":"#REF!"}},{"$f":"SQRT(POWER((HB12-GW20),2)+POWER((HC12-GX20),2))","v":{"$error":"#REF!"}},{"$f":"ABS(HB9-GY20)","v":{"$error":"#REF!"}},{"$f":"HA14","v":"k6"},{"$f":"#REF!","v":{"$error":"#REF!"}},{"$f":"#REF!","v":{"$error":"#REF!"}},null,null,null,null,null,null,null,null,null,null,null,{"$f":"-HK20+HP9","v":0},0,null,null,null,null,null,null,null,null,null,null,null,null,null,null,null,null,null,null,null,null,null,null,null,null,null,null,null,null,null,null,null,null,null,null,null,null,null,null,null,null,null,null,null,null,null,null,null,null,null,null,null,null,null,null,null,null,null,null,null,null,null,null,null,null,null,null,null,null,null,null,null,null,null,null,null,null,null,null,null,null,null,null,null,null,null,null,null,null,null,null,null,null,null,null,null,null,null,null,null,null,null,null,null,null,null,null,null,null,null,null,null,null,null,null,null,null,null,null,null,null,null,null,null,null,null,null,null,null,null,null,null,null,null,null,null,null,null,null,null,null,null,null,null,null,null,null,null,null,null,null,null,null,null,null,null,null,null,null,null,null,"a2",{"$f":"TEXT(0,NV6)&\" رج بافت انتخابی یقه میبافیم\"","v":"4 رج بافت انتخابی یقه میبافیم"},null,null,"h10",{"$f":"NZ18","v":-4.6875000000000036},{"$f":"OA18+0.5*NZ9","v":2.25},{"$f":"NZ23","v":-0.18750000000000355},{"$f":"OA23","v":2.25},{"$f":"NY23","v":"h13"},null,"نوشته ها یقه شومیزیه نوک تیز",null,null,null,"h10",{"$f":"OK18","v":1.0700000000000003},{"$f":"OL18+0.5*OK9","v":2.25},{"$f":"OK23","v":5.57},{"$f":"OL23","v":2.25},{"$f":"OJ23","v":"h13"},null,"نوشته ها یقه شومیزیه ",null,null,null,"h10",{"$f":"OV18","v":-0.71499999999999986},{"$f":"OW18+0.5*OV9","v":2.25},{"$f":"OV23","v":3.7850000000000001},{"$f":"OW23","v":2.25},{"$f":"OU23","v":"h13"}]
[null,null,null,null," b'22",{"$f":"F20*I18","v":23.066109276454743},null,"جمع شوندگی افقی بافت آستین   f003",{"$f":"OFFSET(V6,I22,1)","v":1.8907563025210083},null,"جمع شوندگی عمودی  a9  ",{"$f":"OFFSET(V6,L23,0)","v":0.70707070707070652},null,null,{"$f":"ROUND(OF143-OF142-2/OG49,0)","v":56},{"$f":"(P18*40*(G46-2*F42)/I7/OG36)/OG49","v":53.025000000000006},null,null,null,{"$f":"AA21/Z21","v":2.8571428571428572},{"$f":"Y21/X21","v":2.8888888888888888},{"$f":"(10/3)*((Y21/X21)*(1/L6)-1)","v":1.0437710437710439},{"$f":"(100/68)*((AA21/Z21)*(1/L7)-1)","v":1.330532212885154},13.5,39,3.5,10,"پیچ متراکم",15,null,"c2",{"$f":"ROUND(0.25*1.3*F6*AF10,0)-1","v":6},null,null,"d2",{"$f":"ROUND(F6*AJ7,0)","v":9},null,null,null,null,null,null,null,null,null,null,null,null,null,null,null,null,null,null,null,null,null,null,null,null,null,null,null,null,null,null,null,null,null,null,null,null,null,null,null,null,null,null,null,null,null,null,null,null,null,null,"قد سرشانه تا زمین",{"$f":"0.5*(CJ17+CJ18+CJ19)","v":80.5},null,null,{"$f":"CI47","v":15.5},{"$f":"CJ47","v":59},"j13",null,"(d5 →d6)",{"$f":"5+0.1*CR20","v":10.75},null,null,null,null,null,null,null,null,null,null,null,{"$f":"DD18+'طراحی همه الگوها'!U192","v":35.5},{"$f":"DE14+'طراحی همه الگوها'!U194","v":28.3},10,null,{"$f":"DD20","v":35.5},{"$f":"DE20","v":11.7},9,null,"طراحی چادر شماره 2",null,null,null,{"$f":"DM30","v":47.1},{"$f":"DN30","v":5},"s13",null,"s''13",{"$f":"DU20+0.3*(DU23-DU20)","v":38.248554339858956},{"$f":"DV23+0.5*(DV20-DV23)","v":29.562728552810643},null,56.95,5,"s'13",null,null,null,null,{"$f":"DB37+'طراحی همه الگوها'!U216","v":110},{"$f":"EF18","v":1.5},9,null,{"$f":"EI20+0.5*(EI22-EI20)","v":75.78},{"$f":"EJ22+0.8*(EJ20-EJ22)","v":10.8},"14'",null,null,null,null,null,null,null,null,null,null,null,null,null,null,null,null,null,null,null,null,{"$f":"FF13+'طراحی همه الگوها'!U249-'طراحی همه الگوها'!U253","v":35.6},{"$f":"FG15","v":53.9},6,null,null,null,null,null,"s'11",{"$f":"FO22+0.4*(FO19-FO22)","v":20.660483891937123},{"$f":"FP22+0.1*(FP19-FP22)","v":36.183378671469448},null,null,null,null,null,null,null,null,null,null,12,{"$f":"GB12+GE12*SIN(RADIANS(GA21)+GA14)","v":{"$error":"#DIV/0!"}},{"$f":"GC12+GE12*COS(RADIANS(GA21)+GA14)","v":{"$error":"#DIV/0!"}},{"$f":"IF(GB13>GB21,ATAN((GC13-GC21)/(GB13-GB21)),ATAN((GC13-GC21)/(GB21-GB13)))","v":{"$error":"#DIV/0!"}},{"$f":"IF(GB13>GB21,(GB13-GB21)/COS(GD21),(GB21-GB13)/COS(GD21))","v":{"$error":"#DIV/0!"}},null,1,2,"نقطه 3","نقطه قبل از چرخش",{"$f":"IF(GH21>GH18,IF(GG21>GG18,GG18+SQRT(POWER(GG21-GG18,2)+POWER(GH21-GH18,2))*COS(ATAN((GH21-GH18)/(GG21-GG18+0.000123))+GH16),GG18-SQRT(POWER(GG21-GG18,2)+POWER(GH21-GH18,2))*COS(ATAN((GH21-GH18)/(GG18-GG21+0.000123))-GH16)),IF(GG21>GG18,GG18+SQRT(POWER(GG21-GG18,2)+POWER(GH21-GH18,2))*COS(ATAN((GH18-GH21)/(GG21-GG18+0.000123))-GH16),GG18-SQRT(POWER(GG21-GG18,2)+POWER(GH21-GH18,2))*COS(ATAN((GH18-GH21)/(GG18-GG21+0.000123))+GH16)))","v":0.61824523267144293},{"$f":"IF(GH21>GH18,IF(GG21>GG18,GH18+SQRT(POWER(GG21-GG18,2)+POWER(GH21-GH18,2))*SIN(ATAN((GH21-GH18)/(GG21-GG18+0.000123))+GH16),GH18+SQRT(POWER(GG21-GG18,2)+POWER(GH21-GH18,2))*SIN(ATAN((GH21-GH18)/(GG18-GG21+0.000123))-GH16)),IF(GG21>GG18,GH18-SQRT(POWER(GG21-GG18,2)+POWER(GH21-GH18,2))*SIN(ATAN((GH18-GH21)/(GG21-GG18+0.000123))-GH16),GH18-SQRT(POWER(GG21-GG18,2)+POWER(GH21-GH18,2))*SIN(ATAN((GH18-GH21)/(GG18-GG21+0.000123))+GH16)))","v":0.69874634779839551},"نقطه چرخیده",null,"نقطه ورودی بالا","su3",{"$f":"#REF!","v":{"$error":"#REF!"}},{"$f":"#REF!","v":{"$error":"#REF!"}},null,null,{"$f":"GU20+GT11","v":-80},-1.3962634015954636,{"$f":"HB13+HB10*COS(GV21)","v":{"$error":"#REF!"}},{"$f":"HC13-HB10*SIN(GV21)","v":{"$error":"#REF!"}},{"$f":"SQRT(POWER((HB12-GW21),2)+POWER((HC12-GX21),2))","v":{"$error":"#REF!"}},{"$f":"ABS(HB9-GY21)","v":{"$error":"#REF!"}},null,null,null,null,null,null,null,null,null,null,null,null,null,null,{"$f":"-HK21+HP9","v":0},0,null,null,null,null,null,null,null,null,null,null,null,null,null,null,null,null,null,null,null,null,null,null,null,null,null,null,null,null,null,null,null,null,null,null,null,null,null,null,null,null,null,null,null,null,null,null,null,null,null,null,null,null,null,null,null,null,null,null,null,null,null,null,null,null,null,null,null,null,null,null,null,null,null,null,null,null,null,null,null,null,null,null,null,null,null,null,null,null,null,null,null,null,null,null,null,null,null,null,null,null,null,null,null,null,null,null,null,null,null,null,null,null,null,null,null,null,null,null,null,null,null,null,null,null,null,null,null,null,null,null,null,null,null,null,null,null,null,null,null,null,null,null,null,null,null,null,null,null,null,null,null,null,null,null,null,null,null,null,null,null,"a3",{"$f":"TEXT(0,NV7)&\" دانه\"","v":"35 دانه"},null,null,"h11",{"$f":"NZ18","v":-4.6875000000000036},{"$f":"OA18-0.5*NZ9","v":1.75},null,null,null,null,{"$f":"OF5","v":"e1"},{"$f":"TEXT(0,OG5)&\" دانه سر می اندازیم\"","v":"224 دانه سر می اندازیم"},null,null,"h11",{"$f":"OK18","v":1.0700000000000003},{"$f":"OL18-0.5*OK9","v":1.75},null,null,null,null,{"$f":"OQ5","v":"e1"},{"$f":"TEXT(0,OR5)&\" دانه سر می اندازیم\"","v":"212 دانه سر می اندازیم"},null,null,"h11",{"$f":"OV18","v":-0.71499999999999986},{"$f":"OW18-0.5*OV9","v":1.75}]
[null,null,null,null," b12",{"$f":"ROUND(F14/((F13-F37)*I19),0)","v":-3},null,"بافت انتخابی آستین",{"$f":"'متغیرها '!C835","v":4},null,"جمع شوندگی افقی a8",{"$f":"OFFSET(V6,L23,1)","v":1.8907563025210083},null,null,"پهنای یقه منهای جادکمه روی نقشه بافت","پهنای یقه منهای جادکمه روی بافت",null,null,null,4,2.5185185185185186,{"$f":"(10/3)*((Y22/X22)*(1/L6)-1)","v":0.48260381593714896},{"$f":"(100/68)*((AA22/Z22)*(1/L7)-1)","v":2.4509803921568629},13.5,34,9,36,"کشباف سه تایی",16,null,"c3",{"$f":"ROUND(0.45*1.3*F6*AF10,0)-1","v":12},null,null,"d3",{"$f":"ROUND(F7*AJ7,0)","v":7},null,null,null,null,null,null,null,null,null,null,null,null,null,null,null,null,null,null,null,null,null,null,null,null,null,null,null,null,null,null,null,null,null,null,null,null,null,null,null,null,null,null,null,null,null,null,null,null,null,null,"تمام قد",{"$f":"ROUND(CJ21+IF(CJ16>51.5,0.35,IF(CJ16>50.5,0.33,0.31))*CJ16,0)","v":96},null,null,null,null,null,null,"نقاط خروجی در مقنعه دراپه",null,null,null,{"$f":"CQ24","v":5},{"$f":"CR24","v":83.5},"d2",null,null,null,null,null,null,null,null,null,null,{"$f":"'طراحی همه الگوها'!U190+'طراحی همه الگوها'!U192+'طراحی همه الگوها'!U202","v":42.1},{"$f":"DE14+'طراحی همه الگوها'!U203","v":17},19,null,"اسم نقطه ","مولفه افقی","مولفه عمودی",null,null,null,null,null,"s'''13",{"$f":"DU20+0.55*(DU23-DU20)","v":44.927642075623616},{"$f":"DV23+0.25*(DV20-DV23)","v":17.28136427640532},null,null,null,null,null,null,null,null,null,null,null,null,{"$f":"EE16","v":110},{"$f":"EF16+'طراحی همه الگوها'!U221","v":1.2},14,null,null,null,null,null,null,null,null,{"$f":"EP29","v":5},{"$f":"EQ37","v":52.825570054771632},12,null,{"$f":"EP33","v":17.789721510659305},{"$f":"EQ33","v":5.3925196718220789},7,null,null,null,null,null,{"$f":"FF13+'طراحی همه الگوها'!U249-'طراحی همه الگوها'!U253","v":35.6},{"$f":"FG15-'طراحی همه الگوها'!U254","v":41.099999999999994},7,null,{"$f":"FF18","v":0},{"$f":"FG18","v":46.4},5,null,"s11",{"$f":"0.7*FO15","v":6.8066121273964422},{"$f":"FP15-'طراحی همه الگوها'!U263+1.2*SQRT(POWER(FO15-FO14,2)+POWER(FP15-FP14,2))","v":33.769478703302795},null,{"$f":"FO28","v":5},{"$f":"FP28","v":100.095},"s''17",null,null,null,null,null,null,14,{"$f":"GB12+GE12*SIN(RADIANS(GA22)+GA14)","v":{"$error":"#DIV/0!"}},{"$f":"GC12+GE12*COS(RADIANS(GA22)+GA14)","v":{"$error":"#DIV/0!"}},{"$f":"IF(GB13>GB22,ATAN((GC13-GC22)/(GB13-GB22)),ATAN((GC13-GC22)/(GB22-GB13)))","v":{"$error":"#DIV/0!"}},{"$f":"IF(GB13>GB22,(GB13-GB22)/COS(GD22),(GB22-GB13)/COS(GD22))","v":{"$error":"#DIV/0!"}},null,1,2,"نقطه 4","نقطه قبل از چرخش",{"$f":"IF(GH22>GH18,IF(GG22>GG18,GG18+SQRT(POWER(GG22-GG18,2)+POWER(GH22-GH18,2))*COS(ATAN((GH22-GH18)/(GG22-GG18+0.000123))+GH16),GG18-SQRT(POWER(GG22-GG18,2)+POWER(GH22-GH18,2))*COS(ATAN((GH22-GH18)/(GG18-GG22+0.000123))-GH16)),IF(GG22>GG18,GG18+SQRT(POWER(GG22-GG18,2)+POWER(GH22-GH18,2))*COS(ATAN((GH18-GH22)/(GG22-GG18+0.000123))-GH16),GG18-SQRT(POWER(GG22-GG18,2)+POWER(GH22-GH18,2))*COS(ATAN((GH18-GH22)/(GG18-GG22+0.000123))+GH16)))","v":0.61824523267144293},{"$f":"IF(GH22>GH18,IF(GG22>GG18,GH18+SQRT(POWER(GG22-GG18,2)+POWER(GH22-GH18,2))*SIN(ATAN((GH22-GH18)/(GG22-GG18+0.000123))+GH16),GH18+SQRT(POWER(GG22-GG18,2)+POWER(GH22-GH18,2))*SIN(ATAN((GH22-GH18)/(GG18-GG22+0.000123))-GH16)),IF(GG22>GG18,GH18-SQRT(POWER(GG22-GG18,2)+POWER(GH22-GH18,2))*SIN(ATAN((GH18-GH22)/(GG22-GG18+0.000123))-GH16),GH18-SQRT(POWER(GG22-GG18,2)+POWER(GH22-GH18,2))*SIN(ATAN((GH18-GH22)/(GG18-GG22+0.000123))+GH16)))","v":0.69874634779839551},"نقطه چرخیده",null,"نقطه ورودی پایین","sd3",{"$f":"#REF!","v":{"$error":"#REF!"}},{"$f":"#REF!","v":{"$error":"#REF!"}},null,"به روش تخمین",{"$f":"GU21+GT11","v":-78},-1.3613568165555769,{"$f":"HB13+HB10*COS(GV22)","v":{"$error":"#REF!"}},{"$f":"HC13-HB10*SIN(GV22)","v":{"$error":"#REF!"}},{"$f":"SQRT(POWER((HB12-GW22),2)+POWER((HC12-GX22),2))","v":{"$error":"#REF!"}},{"$f":"ABS(HB9-GY22)","v":{"$error":"#REF!"}},{"$f":"HA14","v":"k6"},{"$f":"#REF!","v":{"$error":"#REF!"}},{"$f":"#REF!","v":{"$error":"#REF!"}},null,null,null,null,null,null,null,null,null,null,null,{"$f":"-HK22+HP9","v":0},0,null,null,null,null,null,null,null,null,null,null,null,null,null,null,null,null,null,null,null,null,null,null,null,null,null,null,null,null,null,null,null,null,null,null,null,null,null,null,null,null,null,null,null,null,null,null,null,null,null,null,null,null,null,null,null,null,null,null,null,null,null,null,null,null,null,null,null,null,null,null,null,null,null,null,null,null,null,null,null,null,null,null,null,null,null,null,null,null,null,null,null,null,null,null,null,null,null,null,null,null,null,null,null,null,null,null,null,null,null,null,null,null,null,null,null,null,null,null,null,null,null,null,null,null,null,null,null,null,null,null,null,null,null,null,null,null,null,null,null,null,null,null,null,null,null,null,null,null,null,null,null,null,null,null,null,null,null,null,null,null,"a4",{"$f":"TEXT(0,NV8)&\" دانه\"","v":"69 دانه"},null,null,"h12",{"$f":"NZ19","v":-0.18750000000000355},{"$f":"OA21","v":1.75},{"$f":"NZ19","v":-0.18750000000000355},{"$f":"OA19","v":2},{"$f":"NY19","v":"h9"},null,"e2",{"$f":"TEXT(0,OG6)&\" رج مثل رج قبل میبافیم\"","v":"7 رج مثل رج قبل میبافیم"},null,null,"h12",{"$f":"OK19","v":5.57},{"$f":"OL21","v":1.75},{"$f":"OK19","v":5.57},{"$f":"OL19","v":2},{"$f":"OJ19","v":"h9"},null,"e2",{"$f":"TEXT(0,OR6)&\" رج مثل رج قبل میبافیم\"","v":"7 رج مثل رج قبل میبافیم"},null,null,"h12",{"$f":"OV19","v":3.7850000000000001},{"$f":"OW21","v":1.75},{"$f":"OV19","v":3.7850000000000001},{"$f":"OW19","v":2},{"$f":"OU19","v":"h9"}]
[null,null,null,null,"محاسبات در بافت بالاتنه و آستین (بافت انتخابی) ",null,null,null,null,null,"بافت انتخابی یقه شکاری",{"$f":"'متغیرها '!C838","v":4},null,"محاسبات یقه شومیزیه تا خط جادکمه",null,null,null,null,null,{"$error":"#DIV/0!"},0,{"$f":"(10/3)*((Y23/X23)*(1/L6)-1)","v":-3.3333333333333335},{"$f":"(100/68)*((AA23/Z23)*(1/L7)-1)","v":{"$error":"#DIV/0!"}},13.5,null,null,36,null,17,null,"c4",{"$f":"AF9-AF21-AF22-5","v":7},null,null,"d4",{"$f":"IF((ROUND(F6*AJ8,0)-AJ21-4)<0,\"خطا - بزرگی پشت یقه زیاد شود\",(ROUND(F6*AJ8,0)-AJ21-4))","v":3},null,null,null,null,null,null,null,null,null,null,null,null,null,null,null,null,null,null,null,null,null,null,null,null,null,null,null,null,null,null,null,null,null,null,null,null,null,null,null,null,null,null,null,null,null,null,null,null,null,null,"j4",{"$f":"IF('متغیرها '!C5<1,'متغیرها '!C5*'متغیرها '!U59,IF('متغیرها '!C5<2,'متغیرها '!U59+('متغیرها '!C5-1)*('متغیرها '!U60-'متغیرها '!U59),IF('متغیرها '!C5<3,'متغیرها '!U60+('متغیرها '!C5-2)*(I105-'متغیرها '!U60),I105+('متغیرها '!C5-3)*(H127-H126))))","v":54},null,null,{"$f":"CI46","v":15.5},{"$f":"CJ46","v":98.5},"j12",null,"مولفه افقی","مولفه عمودی","اسم نقطه",null,null,null,null,null,null,null,null,null,null,{"$f":"DD18+'طراحی همه الگوها'!U192","v":35.5},{"$f":"DE14","v":0},8,null,{"$f":"DD25","v":48.6},{"$f":"DE25","v":23.436},7,null,"s6",{"$f":"DM16","v":5},{"$f":"1.003*DN16","v":102.09336399999997},null,{"$f":"DM34","v":5},{"$f":"DN34","v":100.095},"s17",null,"s'13",{"$f":"DM19+0.5*('طراحی همه الگوها'!U216+'طراحی همه الگوها'!U210-'طراحی همه الگوها'!U217-'طراحی همه الگوها'!U218)","v":56.95},{"$f":"EC35+DM44","v":5},null,{"$f":"DU27","v":5},{"$f":"DV27","v":100.095},"s'17",null,null,null,null,{"$f":"DB37","v":0},{"$f":"EF14","v":51.6},4,null,null,null,null,null,null,null,null,null,null,null,null,{"$f":"EP37","v":42.476659402887016},{"$f":"EQ37","v":52.825570054771632},11,null,{"$f":"EX22+0.3*(EX25-EX22)","v":26.810295128232891},{"$f":"MIN(EY22,EY25)+IF(EY25>EY22,0.15,0.9)*ABS(EY25-EY22)","v":6.0540291629531646},"7''",null,null,null,null,null,null,null,null,null,{"$f":"FJ22+'طراحی همه الگوها'!U264","v":14.2},{"$f":"FG17-'طراحی همه الگوها'!U265","v":45.9},20,null,"s12",{"$f":"FO24","v":18},{"$f":"FP24+'طراحی همه الگوها'!U257","v":61.940824961544223},null,{"$f":"FO29","v":7.3597999999999999},{"$f":"FP29","v":98.234054999999998},"s''18",null,null,null,null,null,null,16,{"$f":"GB12+GE12*SIN(RADIANS(GA23)+GA14)","v":{"$error":"#DIV/0!"}},{"$f":"GC12+GE12*COS(RADIANS(GA23)+GA14)","v":{"$error":"#DIV/0!"}},{"$f":"IF(GB13>GB23,ATAN((GC13-GC23)/(GB13-GB23)),ATAN((GC13-GC23)/(GB23-GB13)))","v":{"$error":"#DIV/0!"}},{"$f":"IF(GB13>GB23,(GB13-GB23)/COS(GD23),(GB23-GB13)/COS(GD23))","v":{"$error":"#DIV/0!"}},null,1,2,"نقطه 5","نقطه قبل از چرخش",{"$f":"IF(GH23>GH18,IF(GG23>GG18,GG18+SQRT(POWER(GG23-GG18,2)+POWER(GH23-GH18,2))*COS(ATAN((GH23-GH18)/(GG23-GG18+0.000123))+GH16),GG18-SQRT(POWER(GG23-GG18,2)+POWER(GH23-GH18,2))*COS(ATAN((GH23-GH18)/(GG18-GG23+0.000123))-GH16)),IF(GG23>GG18,GG18+SQRT(POWER(GG23-GG18,2)+POWER(GH23-GH18,2))*COS(ATAN((GH18-GH23)/(GG23-GG18+0.000123))-GH16),GG18-SQRT(POWER(GG23-GG18,2)+POWER(GH23-GH18,2))*COS(ATAN((GH18-GH23)/(GG18-GG23+0.000123))+GH16)))","v":0.61824523267144293},{"$f":"IF(GH23>GH18,IF(GG23>GG18,GH18+SQRT(POWER(GG23-GG18,2)+POWER(GH23-GH18,2))*SIN(ATAN((GH23-GH18)/(GG23-GG18+0.000123))+GH16),GH18+SQRT(POWER(GG23-GG18,2)+POWER(GH23-GH18,2))*SIN(ATAN((GH23-GH18)/(GG18-GG23+0.000123))-GH16)),IF(GG23>GG18,GH18-SQRT(POWER(GG23-GG18,2)+POWER(GH23-GH18,2))*SIN(ATAN((GH18-GH23)/(GG23-GG18+0.000123))-GH16),GH18-SQRT(POWER(GG23-GG18,2)+POWER(GH23-GH18,2))*SIN(ATAN((GH18-GH23)/(GG18-GG23+0.000123))+GH16)))","v":0.69874634779839551},"نقطه چرخیده",null,"متغیر ورودی پهنا","a20",{"$f":"#REF!","v":{"$error":"#REF!"}},"(سانتیمتر)",null,"بهینه α1",{"$f":"GU22+GT11","v":-76},-1.3264502315156905,{"$f":"HB13+HB10*COS(GV23)","v":{"$error":"#REF!"}},{"$f":"HC13-HB10*SIN(GV23)","v":{"$error":"#REF!"}},{"$f":"SQRT(POWER((HB12-GW23),2)+POWER((HC12-GX23),2))","v":{"$error":"#REF!"}},{"$f":"ABS(HB9-GY23)","v":{"$error":"#REF!"}},{"$f":"HA12","v":"پشتk''5"},{"$f":"HB12","v":{"$error":"#REF!"}},{"$f":"HC12","v":{"$error":"#REF!"}},null,null,null,null,null,null,null,null,null,null,null,{"$f":"-HK23+HP9","v":0},0,null,null,null,null,null,null,null,null,null,null,null,null,null,null,null,null,null,null,null,null,null,null,null,null,null,null,null,null,null,null,null,null,null,null,null,null,null,null,null,null,null,null,null,null,null,null,null,null,null,null,null,null,null,null,null,null,null,null,null,null,null,null,null,null,null,null,null,null,null,null,null,null,null,null,null,null,null,null,null,null,null,null,null,null,null,null,null,null,null,null,null,null,null,null,null,null,null,null,null,null,null,null,null,null,null,null,null,null,null,null,null,null,null,null,null,null,null,null,null,null,null,null,null,null,null,null,null,null,null,null,null,null,null,null,null,null,null,null,null,null,null,null,null,null,null,null,null,null,null,null,null,null,null,null,null,null,null,null,null,null,"a5",{"$f":"TEXT(0,NV9)&\" دانه\"","v":"105 دانه"},null,null,"h13",{"$f":"NZ19","v":-0.18750000000000355},{"$f":"OA20","v":2.25},{"$f":"NZ15","v":25.124999999999993},{"$f":"OA15","v":2},{"$f":"NY15","v":"w2"},null,"e3",{"$f":"TEXT(0,OG7)&\" دانه\"","v":"22 دانه"},null,null,"h13",{"$f":"OK19","v":5.57},{"$f":"OL20","v":2.25},{"$f":"OK15","v":36.64},{"$f":"OL15","v":2},{"$f":"OJ15","v":"m2"},null,"e3",{"$f":"TEXT(0,OR7)&\" دانه\"","v":"24 دانه"},null,null,"h13",{"$f":"OV19","v":3.7850000000000001},{"$f":"OW20","v":2.25},{"$f":"OV15","v":33.07},{"$f":"OW15","v":2},{"$f":"OU15","v":"m2"}]
[null,null,null,null,"تعداد دانه ها  دور گردن + دو تا نیمه جادکمه که از خط مرکزی اضافه شده",{"$f":"F26+2*F25","v":133},null,null,"محاسبات یقه شکاری ",null,null,null,null,"e10","e11","e22","e22",null,null,{"$error":"#DIV/0!"},0,{"$f":"(10/3)*((Y24/X24)*(1/L6)-1)","v":-3.3333333333333335},{"$f":"(100/68)*((AA24/Z24)*(1/L7)-1)","v":{"$error":"#DIV/0!"}},13.5,null,null,36,null,18,null,null,null,null,null,"d5",{"$f":"AJ20+2*AJ22","v":139},null,null,null,null,null,null,null,null,null,null,null,null,null,null,null,null,null,null,null,null,null,null,null,null,null,null,null,null,null,null,null,null,null,null,null,null,null,null,null,null,null,null,null,null,null,null,null,null,null,null,"رسم دستی چادر 1 یا مقنعه چانه دار(بر حسب سانتیمتر)",null,null,null,{"$f":"CI38","v":15.5},{"$f":"CJ38","v":106},"j3",null,{"$f":"CQ14","v":5},{"$f":"CR16+0.1*'متغیرها '!U85-CR19+CR17","v":83.5},"d2",null,null,null,"انحنا",null,null,null,null,null,null,{"$f":"DB37+'طراحی همه الگوها'!U189","v":48.6},{"$f":"DE14","v":0},6,null,null,null,null,null,"s7",{"$f":"DM23+0.12*(DM27-DM23)","v":8.6132493298458179},{"$f":"DN27+0.94*(DN23-DN27)","v":100.54285518636584},null,{"$f":"DM35","v":7.3597999999999999},{"$f":"DN35","v":98.234054999999998},"s18",null,"s'14",{"$f":"DM13+DM42*COS(DM40)","v":9.7195999999999998},{"$f":"DN13-DM42*SIN(DM40)","v":93.891850000000005},null,{"$f":"DU28","v":7.8317599999999992},{"$f":"DV28","v":98.234054999999998},"s'18",null,null,null,null,{"$f":"DB37+'طراحی همه الگوها'!U213","v":32.1},{"$f":"EF14","v":51.6},5,null,{"$f":"EI20","v":41.56},{"$f":"EJ20","v":13.2},16,null,null,null,null,null,null,null,null,null,null,null,null,{"$f":"EX22+0.7*(EX25-EX22)","v":38.837726618331004},{"$f":"MIN(EY22,EY25)+0.5*ABS(EY25-EY22)","v":7.5975513089256985},"7'''",null,null,null,null,null,{"$f":"FF15","v":53.1},{"$f":"FG15","v":53.9},4,null,{"$f":"FJ22+'طراحی همه الگوها'!U266","v":28.5},{"$f":"FG17-'طراحی همه الگوها'!U267","v":43.5},22,null,"41 شبیه ساز",{"$f":"DT395","v":18},{"$f":"DU395","v":59.340824961544222},null,{"$f":"FO12","v":9.7195999999999998},{"$f":"FP12","v":93.891850000000005},"s3",null,null,null,null,null,null,18,{"$f":"GB12+GE12*SIN(RADIANS(GA24)+GA14)","v":{"$error":"#DIV/0!"}},{"$f":"GC12+GE12*COS(RADIANS(GA24)+GA14)","v":{"$error":"#DIV/0!"}},{"$f":"IF(GB13>GB24,ATAN((GC13-GC24)/(GB13-GB24)),ATAN((GC13-GC24)/(GB24-GB13)))","v":{"$error":"#DIV/0!"}},{"$f":"IF(GB13>GB24,(GB13-GB24)/COS(GD24),(GB24-GB13)/COS(GD24))","v":{"$error":"#DIV/0!"}},null,1,2,"نقطه 6","نقطه قبل از چرخش",{"$f":"IF(GH24>GH18,IF(GG24>GG18,GG18+SQRT(POWER(GG24-GG18,2)+POWER(GH24-GH18,2))*COS(ATAN((GH24-GH18)/(GG24-GG18+0.000123))+GH16),GG18-SQRT(POWER(GG24-GG18,2)+POWER(GH24-GH18,2))*COS(ATAN((GH24-GH18)/(GG18-GG24+0.000123))-GH16)),IF(GG24>GG18,GG18+SQRT(POWER(GG24-GG18,2)+POWER(GH24-GH18,2))*COS(ATAN((GH18-GH24)/(GG24-GG18+0.000123))-GH16),GG18-SQRT(POWER(GG24-GG18,2)+POWER(GH24-GH18,2))*COS(ATAN((GH18-GH24)/(GG18-GG24+0.000123))+GH16)))","v":0.61824523267144293},{"$f":"IF(GH24>GH18,IF(GG24>GG18,GH18+SQRT(POWER(GG24-GG18,2)+POWER(GH24-GH18,2))*SIN(ATAN((GH24-GH18)/(GG24-GG18+0.000123))+GH16),GH18+SQRT(POWER(GG24-GG18,2)+POWER(GH24-GH18,2))*SIN(ATAN((GH24-GH18)/(GG18-GG24+0.000123))-GH16)),IF(GG24>GG18,GH18-SQRT(POWER(GG24-GG18,2)+POWER(GH24-GH18,2))*SIN(ATAN((GH18-GH24)/(GG24-GG18+0.000123))-GH16),GH18-SQRT(POWER(GG24-GG18,2)+POWER(GH24-GH18,2))*SIN(ATAN((GH18-GH24)/(GG18-GG24+0.000123))+GH16)))","v":0.69874634779839551},"نقطه چرخیده",null,"متغیر ورودی طول","a21",1,null,null,{"$f":"IF(GZ12>GZ11,GU11,IF(GZ13>GZ12,GU12,IF(GZ14>GZ13,GU13,IF(GZ15>GZ14,GU14,IF(GZ16>GZ15,GU15,IF(GZ17>GZ16,GU16,IF(GZ18>GZ17,GU17,IF(GZ19>GZ18,GU18,IF(GZ20>GZ19,GU19,IF(GZ21>GZ20,GU20,IF(GZ22>GZ21,GU21,IF(GZ23>GZ22,GU22,IF(GZ24>GZ23,GU23,IF(GZ25>GZ24,GU24,IF(GZ26>GZ25,GU25,IF(GZ27>GZ26,GU26,IF(GZ28>GZ27,GU27,IF(GZ29>GZ28,GU28,IF(GZ30>GZ29,GU29,IF(GZ31>GZ30,GU30,IF(GZ32>GZ31,GU31,IF(GZ33>GZ32,GU32,IF(GZ34>GZ33,GU33,IF(GZ35>GZ34,GU34,IF(GZ36>GZ35,GU35,IF(GZ37>GZ36,GU36,IF(GZ38>GZ37,GU37,IF(GZ39>GZ38,GU38,IF(GZ40>GZ39,GU39,IF(GZ41>GZ40,GU40,IF(GZ42>GZ41,GU41,IF(GZ43>GZ42,GU42,IF(GZ44>GZ43,GU43,IF(GZ45>GZ44,GU44,IF(GZ46>GZ45,GU45,IF(GZ47>GZ46,GU46,IF(GZ48>GZ47,GU47,IF(GZ49>GZ48,GU48,IF(GZ50>GZ49,GU49,IF(GZ51>GZ50,GU50,IF(GZ52>GZ51,GU51,GU52)))))))))))))))))))))))))))))))))))))))))","v":{"$error":"#REF!"}},{"$f":"GU23+GT11","v":-74},-1.2915436464758039,{"$f":"HB13+HB10*COS(GV24)","v":{"$error":"#REF!"}},{"$f":"HC13-HB10*SIN(GV24)","v":{"$error":"#REF!"}},{"$f":"SQRT(POWER((HB12-GW24),2)+POWER((HC12-GX24),2))","v":{"$error":"#REF!"}},{"$f":"ABS(HB9-GY24)","v":{"$error":"#REF!"}},null,null,null,null,null,null,null,null,null,null,null,null,null,null,{"$f":"-HK24+HP9","v":0},0,null,null,null,null,null,null,null,null,null,null,null,null,null,null,null,null,null,null,null,null,null,null,null,null,null,null,null,null,null,null,null,null,null,null,null,null,null,null,null,null,null,null,null,null,null,null,null,null,null,null,null,null,null,null,null,null,null,null,null,null,null,null,null,null,null,null,null,null,null,null,null,null,null,null,null,null,null,null,null,null,null,null,null,null,null,null,null,null,null,null,null,null,null,null,null,null,null,null,null,null,null,null,null,null,null,null,null,null,null,null,null,null,null,null,null,null,null,null,null,null,null,null,null,null,null,null,null,null,null,null,null,null,null,null,null,null,null,null,null,null,null,null,null,null,null,null,null,null,null,null,null,null,null,null,null,null,null,null,null,null,"a6",{"$f":"TEXT(0,NV10)&\" رج مثل رج قبل میبافیم\"","v":"6 رج مثل رج قبل میبافیم"},null,null,null,null,null,null,null,null,null,"e4",{"$f":"TEXT(0,OG8)&\" دانه\"","v":"41 دانه"},null,null,null,null,null,null,null,null,null,"e4",{"$f":"TEXT(0,OR8)&\" دانه\"","v":"49 دانه"}]
[null,null,null,null," b2  تعداد دانه های اضافه شده  از خط مرکزی تا خط جادکمه = نیمه جادکمه",{"$f":"ROUNDUP(F7*(-AX147),0)","v":0},null,null,"a10","a11","a22","a22",null,{"$f":"ABS(ROUND(P19/(P19-(G46+0.0001)),0))","v":2},{"$f":"ABS(ROUND(P19/(P19-G46+0.0001),0)-1)","v":3},{"$f":"P19-(P19/N25)*(N25-O25)-G46","v":-21.376478008446497},{"$f":"ROUNDDOWN(ABS(P25),0)","v":21},null,null,{"$error":"#DIV/0!"},0,{"$f":"(10/3)*((Y25/X25)*(1/L6)-1)","v":-3.3333333333333335},{"$f":"(100/68)*((AA25/Z25)*(1/L7)-1)","v":{"$error":"#DIV/0!"}},13.5,null,null,36,null,19,null,null,null,null,null,"d6",{"$f":"F45","v":31},null,null,null,null,null,null,null,null,null,null,null,null,null,null,null,null,null,null,null,null,null,null,null,null,null,null,null,null,null,null,null,null,null,null,null,null,null,null,null,null,null,null,null,null,null,null,null,null,null,null,null,null,null,null,null,null,null,null,{"$f":"CQ24","v":5},{"$f":"CR24+1.41*CR19","v":115.22499999999999},"d3",null,{"$f":"CQ27","v":5},{"$f":"CR27","v":48.474999999999994},"d6",null,null,null,null,null,null,{"$f":"DB37+'طراحی همه الگوها'!U189","v":48.6},{"$f":"DE14+'طراحی همه الگوها'!U191","v":23.436},7,null,{"$f":"DD15","v":0},{"$f":"DE15","v":108},1,null,"s8",{"$f":"DM23+0.4*(DM27-DM23)","v":17.044164432819393},{"$f":"DN27+0.5*(DN23-DN27)","v":89.172457219715596},null,{"$f":"DM31","v":9.7195999999999998},{"$f":"DN31","v":93.891850000000005},"s14",null,"s'16",{"$f":"DM15","v":5},{"$f":"DN15","v":70.099999999999994},null,{"$f":"DU24","v":9.7195999999999998},{"$f":"DV24","v":93.891850000000005},"s'14",null,null,null,null,{"$f":"DB37+'طراحی همه الگوها'!U213+'طراحی همه الگوها'!U214","v":42.3},{"$f":"EF14","v":51.6},6,null,{"$f":"EI20","v":41.56},{"$f":"EF15","v":0},15,null,null,"(3 →6)",{"$f":"ROUND(0.2*(EP34-EP30),1)","v":9.6999999999999993},null,null,null,null,{"$f":"EP29","v":5},{"$f":"EQ34","v":9.8025829460293181},14,null,{"$f":"EP34","v":47.858300235904593},{"$f":"EQ34","v":9.8025829460293181},8,null,null,null,null,null,{"$f":"FF15","v":53.1},{"$f":"FG15+'طراحی همه الگوها'!U257","v":56.5},9,null,{"$f":"FF22","v":35.6},{"$f":"FG22","v":41.099999999999994},7,null,"41'",{"$f":"FO24+0.5*(FO27-FO24)","v":24.774999999999999},{"$f":"FP27+0.7*(FP24-FP27)","v":43.038577473080956},null,null,null,null,null,null,null,null,null,null,20,{"$f":"GB12+GE12*SIN(RADIANS(GA25)+GA14)","v":{"$error":"#DIV/0!"}},{"$f":"GC12+GE12*COS(RADIANS(GA25)+GA14)","v":{"$error":"#DIV/0!"}},{"$f":"IF(GB13>GB25,ATAN((GC13-GC25)/(GB13-GB25)),ATAN((GC13-GC25)/(GB25-GB13)))","v":{"$error":"#DIV/0!"}},{"$f":"IF(GB13>GB25,(GB13-GB25)/COS(GD25),(GB25-GB13)/COS(GD25))","v":{"$error":"#DIV/0!"}},null,1,2,"نقطه 7","نقطه قبل از چرخش",{"$f":"IF(GH25>GH18,IF(GG25>GG18,GG18+SQRT(POWER(GG25-GG18,2)+POWER(GH25-GH18,2))*COS(ATAN((GH25-GH18)/(GG25-GG18+0.000123))+GH16),GG18-SQRT(POWER(GG25-GG18,2)+POWER(GH25-GH18,2))*COS(ATAN((GH25-GH18)/(GG18-GG25+0.000123))-GH16)),IF(GG25>GG18,GG18+SQRT(POWER(GG25-GG18,2)+POWER(GH25-GH18,2))*COS(ATAN((GH18-GH25)/(GG25-GG18+0.000123))-GH16),GG18-SQRT(POWER(GG25-GG18,2)+POWER(GH25-GH18,2))*COS(ATAN((GH18-GH25)/(GG18-GG25+0.000123))+GH16)))","v":0.61824523267144293},{"$f":"IF(GH25>GH18,IF(GG25>GG18,GH18+SQRT(POWER(GG25-GG18,2)+POWER(GH25-GH18,2))*SIN(ATAN((GH25-GH18)/(GG25-GG18+0.000123))+GH16),GH18+SQRT(POWER(GG25-GG18,2)+POWER(GH25-GH18,2))*SIN(ATAN((GH25-GH18)/(GG18-GG25+0.000123))-GH16)),IF(GG25>GG18,GH18-SQRT(POWER(GG25-GG18,2)+POWER(GH25-GH18,2))*SIN(ATAN((GH18-GH25)/(GG25-GG18+0.000123))-GH16),GH18-SQRT(POWER(GG25-GG18,2)+POWER(GH25-GH18,2))*SIN(ATAN((GH18-GH25)/(GG18-GG25+0.000123))+GH16)))","v":0.69874634779839551},"نقطه چرخیده",null,null,null,"ماکزیمم متغیر ورودی  ضریب طول",1,null,null,{"$f":"GU24+GT11","v":-72},-1.2566370614359172,{"$f":"HB13+HB10*COS(GV25)","v":{"$error":"#REF!"}},{"$f":"HC13-HB10*SIN(GV25)","v":{"$error":"#REF!"}},{"$f":"SQRT(POWER((HB12-GW25),2)+POWER((HC12-GX25),2))","v":{"$error":"#REF!"}},{"$f":"ABS(HB9-GY25)","v":{"$error":"#REF!"}},null,null,null,null,null,null,null,null,null,null,null,null,null,null,{"$f":"-HK25+HP9","v":0},0,null,null,null,null,null,null,null,null,null,null,null,null,null,null,null,null,null,null,null,null,null,null,null,null,null,null,null,null,null,null,null,null,null,null,null,null,null,null,null,null,null,null,null,null,null,null,null,null,null,null,null,null,null,null,null,null,null,null,null,null,null,null,null,null,null,null,null,null,null,null,null,null,null,null,null,null,null,null,null,null,null,null,null,null,null,null,null,null,null,null,null,null,null,null,null,null,null,null,null,null,null,null,null,null,null,null,null,null,null,null,null,null,null,null,null,null,null,null,null,null,null,null,null,null,null,null,null,null,null,null,null,null,null,null,null,null,null,null,null,null,null,null,null,null,null,null,null,null,null,null,null,null,null,null,null,null,null,null,null,null,"a10,a11,b1",{"$f":"\"هر\"&TEXT(0,NV11)&\"  دانه را تبدیل به  \"&TEXT(0,NV12)&\"  دانه میکنیم تا تعداد دانه ها  \"&TEXT(0,NV15)&\" شود\"","v":"هر300  دانه را تبدیل به  299  دانه میکنیم تا تعداد دانه ها  299 شود"},null,null,null,null,"نقطه وسط باکس جایی برای لیبل نوشته",{"$f":"NZ17","v":-2.4375000000000036},{"$f":"OA17","v":2},{"$f":"NY17","v":"h5"},null,"e5",{"$f":"TEXT(0,OG9)&\" دانه\"","v":"63 دانه"},null,null,null,null,"نقطه وسط باکس جایی برای لیبل نوشته",{"$f":"OK17","v":3.3200000000000003},{"$f":"OL17","v":2},{"$f":"OJ17","v":"h5"},null,"e5",{"$f":"TEXT(0,OR9)&\" دانه\"","v":"74 دانه"},null,null,null,null,"نقطه وسط باکس جایی برای لیبل نوشته",{"$f":"OV17","v":1.5350000000000001},{"$f":"OW17","v":2},{"$f":"OU17","v":"h5"}]
[null,null,null,null,"(بدون اعمال بافت اننتخابی)  b1 تعداد دانه ها  دور تا دور گردن ",{"$f":"F45+2*F44+2*F43+F42","v":133},null,null,{"$f":"ABS(ROUND(L35/(L35-(G46-2*L43+0.001)),0))","v":300},{"$f":"ABS(ROUND(L35/(L35-(G46-2*L43)+0.0001),0)-1)","v":299},{"$f":"L35-(L35/I26)*(I26-J26)-(G46-2*L43)","v":0},{"$f":"ROUNDDOWN(ABS(K26),0)","v":0},null,{"$f":"ABS(ROUND(2*P19/(P19-(G46)+0.001),0))","v":3},{"$f":"ABS(ROUND(2*(P19/(P19-G46+0.0001)-1),0))","v":5},{"$f":"P19-(P19/N26)*(N26-O26)-G46","v":9.9150244350594221},{"$f":"ROUNDDOWN(ABS(P26),0)","v":9},null,null,{"$error":"#DIV/0!"},0,{"$f":"(10/3)*((Y26/X26)*(1/L6)-1)","v":-3.3333333333333335},{"$f":"(100/68)*((AA26/Z26)*(1/L7)-1)","v":{"$error":"#DIV/0!"}},13.5,null,null,36,null,20,null,null,null,null,null,"d7",{"$f":"F44","v":27},null,null,null,null,null,null,null,null,null,null,null,null,null,null,null,null,null,null,null,null,null,null,null,null,null,null,null,null,null,null,null,null,null,null,null,null,null,null,null,null,null,null,null,null,null,null,null,null,null,null,null,null,null,null,{"$f":"CI45","v":24.5},{"$f":"CJ45","v":106},"j11",null,{"$f":"0.7*(CR20+CR19)+CQ24","v":61},{"$f":"CR25-0.7*(CR19+CR20)","v":59.224999999999994},"d4",null,{"$f":"CQ28","v":16.200000000000003},{"$f":"CR28","v":48.474999999999994},"d7",null,null,null,null,null,null,{"$f":"DB37+'طراحی همه الگوها'!U189","v":48.6},{"$f":"DE15-'طراحی همه الگوها'!U198","v":94.6},14,null,null,null,null,null,"s9",{"$f":"DM23+0.7*(DM27-DM23)","v":26.077287757433933},{"$f":"DN27+0.2*(DN23-DN27)","v":81.419913151544961},null,null,null,null,null,"s'15",{"$f":"DU25+0.7*(DU24-DU25)","v":8.3037200000000002},{"$f":"DV25+0.5*(DV24-DV25)","v":81.995925},null,{"$f":"DU26","v":8.3037200000000002},{"$f":"DV26","v":81.995925},"s'15",null,null,null,null,{"$f":"EE25","v":42.3},{"$f":"EF19","v":54.300000000000004},7,null,null,null,null,null,null,"(5 →7)",{"$f":"ROUND(0.2*(EP34-EP31),1)","v":7.5},null,null,null,null,{"$f":"EP34","v":47.858300235904593},{"$f":"EQ34","v":9.8025829460293181},8,null,null,null,null,null,null,null,null,null,{"$f":"FF13+'طراحی همه الگوها'!U249-'طراحی همه الگوها'!U256","v":-23.499999999999993},{"$f":"FG25","v":56.5},10,null,null,null,null,null,"41''",{"$f":"FO24+0.88*(FO27-FO24)","v":29.923999999999999},{"$f":"FP27+0.3*(FP24-FP27)","v":21.302247488463266},null,{"$f":"FO12","v":9.7195999999999998},{"$f":"FP12","v":93.891850000000005},"s3",null,null,null,null,null,null,22,{"$f":"GB12+GE12*SIN(RADIANS(GA26)+GA14)","v":{"$error":"#DIV/0!"}},{"$f":"GC12+GE12*COS(RADIANS(GA26)+GA14)","v":{"$error":"#DIV/0!"}},{"$f":"IF(GB13>GB26,ATAN((GC13-GC26)/(GB13-GB26)),ATAN((GC13-GC26)/(GB26-GB13)))","v":{"$error":"#DIV/0!"}},{"$f":"IF(GB13>GB26,(GB13-GB26)/COS(GD26),(GB26-GB13)/COS(GD26))","v":{"$error":"#DIV/0!"}},null,1,2,"نقطه 8","نقطه قبل از چرخش",{"$f":"IF(GH26>GH18,IF(GG26>GG18,GG18+SQRT(POWER(GG26-GG18,2)+POWER(GH26-GH18,2))*COS(ATAN((GH26-GH18)/(GG26-GG18+0.000123))+GH16),GG18-SQRT(POWER(GG26-GG18,2)+POWER(GH26-GH18,2))*COS(ATAN((GH26-GH18)/(GG18-GG26+0.000123))-GH16)),IF(GG26>GG18,GG18+SQRT(POWER(GG26-GG18,2)+POWER(GH26-GH18,2))*COS(ATAN((GH18-GH26)/(GG26-GG18+0.000123))-GH16),GG18-SQRT(POWER(GG26-GG18,2)+POWER(GH26-GH18,2))*COS(ATAN((GH18-GH26)/(GG18-GG26+0.000123))+GH16)))","v":0.61824523267144293},{"$f":"IF(GH26>GH18,IF(GG26>GG18,GH18+SQRT(POWER(GG26-GG18,2)+POWER(GH26-GH18,2))*SIN(ATAN((GH26-GH18)/(GG26-GG18+0.000123))+GH16),GH18+SQRT(POWER(GG26-GG18,2)+POWER(GH26-GH18,2))*SIN(ATAN((GH26-GH18)/(GG18-GG26+0.000123))-GH16)),IF(GG26>GG18,GH18-SQRT(POWER(GG26-GG18,2)+POWER(GH26-GH18,2))*SIN(ATAN((GH18-GH26)/(GG26-GG18+0.000123))-GH16),GH18-SQRT(POWER(GG26-GG18,2)+POWER(GH26-GH18,2))*SIN(ATAN((GH18-GH26)/(GG18-GG26+0.000123))+GH16)))","v":0.69874634779839551},"نقطه چرخیده",null,"m1",{"$f":"ATAN((GQ22-GQ21)/(GR21-GR22))","v":{"$error":"#REF!"}},"m2",{"$f":"SQRT(POWER(GQ21-GQ22,2)+POWER(GR21-GR22,2))","v":{"$error":"#REF!"}},null,null,{"$f":"GU25+GT11","v":-70},-1.2217304763960306,{"$f":"HB13+HB10*COS(GV26)","v":{"$error":"#REF!"}},{"$f":"HC13-HB10*SIN(GV26)","v":{"$error":"#REF!"}},{"$f":"SQRT(POWER((HB12-GW26),2)+POWER((HC12-GX26),2))","v":{"$error":"#REF!"}},{"$f":"ABS(HB9-GY26)","v":{"$error":"#REF!"}},null,null,null,null,null,null,null,null,null,null,null,null,null,null,{"$f":"-HK26+HP9","v":0},0,null,null,null,null,null,null,null,null,null,null,null,null,null,null,null,null,null,null,null,null,null,null,null,null,null,null,null,null,null,null,null,null,null,null,null,null,null,null,null,null,null,null,null,null,null,null,null,null,null,null,null,null,null,null,null,null,null,null,null,null,null,null,null,null,null,null,null,null,null,null,null,null,null,null,null,null,null,null,null,null,null,null,null,null,null,null,null,null,null,null,null,null,null,null,null,null,null,null,null,null,null,null,null,null,null,null,null,null,null,null,null,null,null,null,null,null,null,null,null,null,null,null,null,null,null,null,null,null,null,null,null,null,null,null,null,null,null,null,null,null,null,null,null,null,null,null,null,null,null,null,null,null,null,null,null,null,null,null,null,null,"a25",{"$f":"TEXT(0,NV13)&\"جادکمه\"","v":"2جادکمه"},null,null,null,null,null,null,null,null,null,"e6",{"$f":"TEXT(0,OG10)&\" رج مثل رج قبل میبافیم\"","v":"7 رج مثل رج قبل میبافیم"},null,null,null,null,null,null,null,null,null,"e6",{"$f":"TEXT(0,OR10)&\" رج مثل رج قبل میبافیم\"","v":"7 رج مثل رج قبل میبافیم"}]
[null,null,null,null,"تعداد رج دوبل برای ایجاد گودی گردن جلو b13",{"$f":"ROUNDDOWN(0.25*I6*((AX129-BI128)),0)","v":7},null,null,{"$f":"ABS(ROUND(2*L35/(L35-(G46-2*L43)+0.001),0))","v":599},{"$f":"ABS(ROUND(2*(L35/(L35-(G46-2*L43)+0.001)-1),0))","v":597},{"$f":"L35-(L35/I27)*(I27-J27)-(G46-2*L43)","v":-1.6694490818167651E-3},{"$f":"ROUNDDOWN(ABS(K27),0)","v":0},null,{"$f":"ABS(ROUND(3*P19/(P19-G46+0.001),0))","v":5},{"$f":"ABS(ROUND(3*(P19/(P19-G46+0.0001)-1),0))","v":8},{"$f":"P19-(P19/N27)*(N27-O27)-G46","v":-2.6015765423429684},{"$f":"ROUNDDOWN(ABS(P27),0)","v":2},null,null,{"$error":"#DIV/0!"},0,{"$f":"(10/3)*((Y27/X27)*(1/L6)-1)","v":-3.3333333333333335},{"$f":"(100/68)*((AA27/Z27)*(1/L7)-1)","v":{"$error":"#DIV/0!"}},13.5,null,null,36,null,21,null,null,null,null,null,"d8",{"$f":"ROUND(F7*O238,0)","v":27},null,null,null,null,null,null,null,null,null,null,null,null,null,null,null,null,null,null,null,null,null,null,null,null,null,null,null,null,null,null,null,null,null,null,null,null,null,null,null,null,null,null,null,null,null,null,null,null,null,null,null,null,null,null,{"$f":"CI46","v":15.5},{"$f":"CJ46","v":98.5},"j12",null,{"$f":"CQ24","v":5},{"$f":"CR26-CR21+'متغیرها '!C6*0.1*'متغیرها '!U85*0.7","v":48.474999999999994},"d6",null,{"$f":"CQ30","v":44.199999999999996},{"$f":"CR30","v":49.55},"d9",null,null,null,null,null,null,{"$f":"DD29+'طراحی همه الگوها'!U196","v":64.099999999999994},{"$f":"DE15-'طراحی همه الگوها'!U197","v":96.9},13,null,null,"صاف",null,null,"s10",{"$f":"DM18-('طراحی همه الگوها'!U196-'متغیرها '!C13*'متغیرها '!U83)*COS(DM17)","v":35.110411082048479},{"$f":"DN18+('طراحی همه الگوها'!U196-'متغیرها '!C13*'متغیرها '!U83)*SIN(DM17)","v":76.251550439431213},null,{"$f":"DM31","v":9.7195999999999998},{"$f":"DN31","v":93.891850000000005},"s14",null,"s'17",{"$f":"DB400","v":5},{"$f":"IF('متغیرها '!C22=-1,DQ12,IF('متغیرها '!C22=0,DC400-0.1,DC400-0.25*(DC400-DC404)))","v":100.095},null,{"$f":"DU25","v":5},{"$f":"DV25","v":70.099999999999994},"s'16",null,null,null,null,{"$f":"EE24","v":32.1},{"$f":"EF24","v":51.6},5,null,{"$f":"EI19","v":24.936},{"$f":"EJ17","v":0},21,null,null,null,"نقاط در چادر شماره 4",null,null,null,null,null,null,null,null,{"$f":"EP29","v":5},{"$f":"EQ29","v":106},1,null,null,null,null,null,{"$f":"FF26","v":-23.499999999999993},{"$f":"FG17","v":53.9},11,null,{"$f":"FJ23","v":14.2},{"$f":"FG17","v":53.9},19,null,"s13",{"$f":"FO30+0.5*'طراحی همه الگوها'!U249","v":31.55},{"$f":"FP30","v":5},null,{"$f":"FO33","v":8.2631060636982205},{"$f":"FP33","v":69.842901481321121},"s'3",null,null,null,null,null,null,24,{"$f":"GB12+GE12*SIN(RADIANS(GA27)+GA14)","v":{"$error":"#DIV/0!"}},{"$f":"GC12+GE12*COS(RADIANS(GA27)+GA14)","v":{"$error":"#DIV/0!"}},{"$f":"IF(GB13>GB27,ATAN((GC13-GC27)/(GB13-GB27)),ATAN((GC13-GC27)/(GB27-GB13)))","v":{"$error":"#DIV/0!"}},{"$f":"IF(GB13>GB27,(GB13-GB27)/COS(GD27),(GB27-GB13)/COS(GD27))","v":{"$error":"#DIV/0!"}},null,1,2,"نقطه 9","نقطه قبل از چرخش",{"$f":"IF(GH27>GH18,IF(GG27>GG18,GG18+SQRT(POWER(GG27-GG18,2)+POWER(GH27-GH18,2))*COS(ATAN((GH27-GH18)/(GG27-GG18+0.000123))+GH16),GG18-SQRT(POWER(GG27-GG18,2)+POWER(GH27-GH18,2))*COS(ATAN((GH27-GH18)/(GG18-GG27+0.000123))-GH16)),IF(GG27>GG18,GG18+SQRT(POWER(GG27-GG18,2)+POWER(GH27-GH18,2))*COS(ATAN((GH18-GH27)/(GG27-GG18+0.000123))-GH16),GG18-SQRT(POWER(GG27-GG18,2)+POWER(GH27-GH18,2))*COS(ATAN((GH18-GH27)/(GG18-GG27+0.000123))+GH16)))","v":0.61824523267144293},{"$f":"IF(GH27>GH18,IF(GG27>GG18,GH18+SQRT(POWER(GG27-GG18,2)+POWER(GH27-GH18,2))*SIN(ATAN((GH27-GH18)/(GG27-GG18+0.000123))+GH16),GH18+SQRT(POWER(GG27-GG18,2)+POWER(GH27-GH18,2))*SIN(ATAN((GH27-GH18)/(GG18-GG27+0.000123))-GH16)),IF(GG27>GG18,GH18-SQRT(POWER(GG27-GG18,2)+POWER(GH27-GH18,2))*SIN(ATAN((GH18-GH27)/(GG27-GG18+0.000123))-GH16),GH18-SQRT(POWER(GG27-GG18,2)+POWER(GH27-GH18,2))*SIN(ATAN((GH18-GH27)/(GG18-GG27+0.000123))+GH16)))","v":0.69874634779839551},"نقطه چرخیده",null,"نقطه خروجی بالا","su9",{"$f":"GQ21+GQ23*COS(GP26)","v":{"$error":"#REF!"}},{"$f":"GR21+GQ23*SIN(GP26)","v":{"$error":"#REF!"}},null,null,{"$f":"GU26+GT11","v":-68},-1.1868238913561442,{"$f":"HB13+HB10*COS(GV27)","v":{"$error":"#REF!"}},{"$f":"HC13-HB10*SIN(GV27)","v":{"$error":"#REF!"}},{"$f":"SQRT(POWER((HB12-GW27),2)+POWER((HC12-GX27),2))","v":{"$error":"#REF!"}},{"$f":"ABS(HB9-GY27)","v":{"$error":"#REF!"}},null,null,"به دست آوردن نقطه تقاطع دو خط ","مولفه افقی","مولفه عمودی",null,null,null,null,null,null,null,null,null,{"$f":"-HK27+HP9","v":0},0,null,null,null,null,null,null,null,null,null,null,null,null,null,null,null,null,null,null,null,null,null,null,null,null,null,null,null,null,null,null,null,null,null,null,null,null,null,null,null,null,null,null,null,null,null,null,null,null,null,null,null,null,null,null,null,null,null,null,null,null,null,null,null,null,null,null,null,null,null,null,null,null,null,null,null,null,null,null,null,null,null,null,null,null,null,null,null,null,null,null,null,null,null,null,null,null,null,null,null,null,null,null,null,null,null,null,null,null,null,null,null,null,null,null,null,null,null,null,null,null,null,null,null,null,null,null,null,null,null,null,null,null,null,null,null,null,null,null,null,null,null,null,null,null,null,null,null,null,null,null,null,null,null,null,null,null,null,null,null,null,"b''1",{"$f":"\"تعداد دانه ها \"&TEXT(0,NV17)&\"  -  تقسیم بندی بالاتنه و آستین \"","v":"تعداد دانه ها 303  -  تقسیم بندی بالاتنه و آستین "},null,null,"زاویه فلش",{"$f":"NV38","v":0.5},"f5",null,null,"فلش به سمت راست",null,null,{"$f":"\"در اینجا تعداد دانه ها \"&TEXT(0,OG17)&\"   میباشد \"","v":"در اینجا تعداد دانه ها 188   میباشد "},null,null,"زاویه فلش",{"$f":"OG42","v":0.5},"f5",null,null,"فلش به سمت راست",null,null,{"$f":"\"در اینجا تعداد دانه ها \"&TEXT(0,OR17)&\"   میباشد \"","v":"در اینجا تعداد دانه ها 188   میباشد "},null,null,"زاویه فلش",{"$f":"OR42","v":0.5},"f5",null,null,"فلش به سمت راست"]
[null,null,null,null,"تعداد رج سوبل برای ایجاد گودی گردن جلو b'''13",{"$f":"ROUND((1/8)*I6*((AX129-BI128)),0)","v":4},null,null,{"$f":"ABS(ROUND(3*L35/(L35-(G46-2*L43)+0.001),0))","v":899},{"$f":"ABS(ROUND(3*(L35/(L35-(G46-2*L43)+0.001)-1),0))","v":896},{"$f":"L35-(L35/I28)*(I28-J28)-(G46-2*L43)","v":-1.112347052298901E-3},{"$f":"ROUNDDOWN(ABS(K28),0)","v":0},null,{"$f":"ABS(ROUND(4*P19/(P19-G46+0.001),0))","v":7},{"$f":"ABS(ROUND(4*(P19/(P19-G46+0.0001)-1),0))","v":11},{"$f":"P19-(P19/N28)*(N28-O28)-G46","v":-7.9658341040868095},{"$f":"ROUNDDOWN(ABS(P28),0)","v":7},null,null,{"$error":"#DIV/0!"},0,{"$f":"(10/3)*((Y28/X28)*(1/L6)-1)","v":-3.3333333333333335},{"$f":"(100/68)*((AA28/Z28)*(1/L7)-1)","v":{"$error":"#DIV/0!"}},13.5,null,null,36,null,22,null,null,null,null,null,"d9",{"$f":"ROUND((F6*AJ9)/(F7*AJ11),0)","v":3},null,null,null,null,null,null,null,null,null,null,null,null,null,null,null,null,null,null,null,null,null,null,null,null,null,null,null,null,null,null,null,null,null,null,null,null,null,null,null,null,null,null,null,null,null,null,null,null,null,null,null,null,null,null,null,null,null,null,{"$f":"0.2*(CQ26-CQ24)+CQ24","v":16.200000000000003},{"$f":"CR27","v":48.474999999999994},"d7",null,{"$f":"CQ29","v":55.4},{"$f":"CR29","v":53.849999999999994},"d8",null,null,null,null,null,null,{"$f":"DD29+'طراحی همه الگوها'!U196","v":64.099999999999994},{"$f":"DE15","v":108},12,null,{"$f":"DH20","v":24.3},{"$f":"DE14","v":0},15,null,"s12",{"$f":"DM27-'طراحی همه الگوها'!U198*SIN(DM17)","v":30.708569295038156},{"$f":"DN27-'طراحی همه الگوها'!U198*COS(DM17)","v":63.595176990368884},null,{"$f":"DM33","v":8.3037200000000002},{"$f":"DN33","v":81.995925},"s15",null,"s'18",{"$f":"DU27+0.6*(DU24-DU27)","v":7.8317599999999992},{"$f":"DV27-0.3*(DV27-DV24)","v":98.234054999999998},null,null,null,null,null,null,null,null,null,null,null,null,{"$f":"EI19","v":24.936},{"$f":"EJ19","v":5.9},22,null,null,"افقی شبیه ساز","اسم نقطه ","مولفه افقی","مولفه عمودی","عمودی شبیه ساز",null,{"$f":"ER43","v":28},{"$f":"ER44","v":40.975000000000001},15,null,{"$f":"EP36","v":50.325544674057696},{"$f":"EQ36","v":60.674455325942311},10,null,null,null,null,null,{"$f":"FF16","v":47.9},{"$f":"FG16","v":53.9},8,null,{"$f":"FJ23","v":14.2},{"$f":"FK23","v":45.9},20,null,"s''17",{"$f":"FO11","v":5},{"$f":"IF('متغیرها '!C40=-1,FP14,IF('متغیرها '!C40=0,FP11-0.1,FP11-0.25*(FP11-FP13)))","v":100.095},null,{"$f":"FO22","v":6.8066121273964422},{"$f":"FP22","v":33.769478703302795},"s11",null,null,null,null,null,null,26,{"$f":"GB12+GE12*SIN(RADIANS(GA28)+GA14)","v":{"$error":"#DIV/0!"}},{"$f":"GC12+GE12*COS(RADIANS(GA28)+GA14)","v":{"$error":"#DIV/0!"}},{"$f":"IF(GB13>GB28,ATAN((GC13-GC28)/(GB13-GB28)),ATAN((GC13-GC28)/(GB28-GB13)))","v":{"$error":"#DIV/0!"}},{"$f":"IF(GB13>GB28,(GB13-GB28)/COS(GD28),(GB28-GB13)/COS(GD28))","v":{"$error":"#DIV/0!"}},null,1,2,"نقطه 10","نقطه قبل از چرخش",{"$f":"IF(GH28>GH18,IF(GG28>GG18,GG18+SQRT(POWER(GG28-GG18,2)+POWER(GH28-GH18,2))*COS(ATAN((GH28-GH18)/(GG28-GG18+0.000123))+GH16),GG18-SQRT(POWER(GG28-GG18,2)+POWER(GH28-GH18,2))*COS(ATAN((GH28-GH18)/(GG18-GG28+0.000123))-GH16)),IF(GG28>GG18,GG18+SQRT(POWER(GG28-GG18,2)+POWER(GH28-GH18,2))*COS(ATAN((GH18-GH28)/(GG28-GG18+0.000123))-GH16),GG18-SQRT(POWER(GG28-GG18,2)+POWER(GH28-GH18,2))*COS(ATAN((GH18-GH28)/(GG18-GG28+0.000123))+GH16)))","v":0.61824523267144293},{"$f":"IF(GH28>GH18,IF(GG28>GG18,GH18+SQRT(POWER(GG28-GG18,2)+POWER(GH28-GH18,2))*SIN(ATAN((GH28-GH18)/(GG28-GG18+0.000123))+GH16),GH18+SQRT(POWER(GG28-GG18,2)+POWER(GH28-GH18,2))*SIN(ATAN((GH28-GH18)/(GG18-GG28+0.000123))-GH16)),IF(GG28>GG18,GH18-SQRT(POWER(GG28-GG18,2)+POWER(GH28-GH18,2))*SIN(ATAN((GH18-GH28)/(GG28-GG18+0.000123))-GH16),GH18-SQRT(POWER(GG28-GG18,2)+POWER(GH28-GH18,2))*SIN(ATAN((GH18-GH28)/(GG18-GG28+0.000123))+GH16)))","v":0.69874634779839551},"نقطه چرخیده",null,"نقطه خروجی پایین","sd8",{"$f":"GQ29+GQ23*COS(GP26)","v":{"$error":"#REF!"}},{"$f":"GR29+GQ23*SIN(GP26)","v":{"$error":"#REF!"}},null,null,{"$f":"GU27+GT11","v":-66},-1.1519173063162575,{"$f":"HB13+HB10*COS(GV28)","v":{"$error":"#REF!"}},{"$f":"HC13-HB10*SIN(GV28)","v":{"$error":"#REF!"}},{"$f":"SQRT(POWER((HB12-GW28),2)+POWER((HC12-GX28),2))","v":{"$error":"#REF!"}},{"$f":"ABS(HB9-GY28)","v":{"$error":"#REF!"}},null,"نقطه اول از خط اول","f5",{"$f":"#REF!","v":{"$error":"#REF!"}},{"$f":"#REF!","v":{"$error":"#REF!"}},null,null,null,null,null,null,null,null,null,{"$f":"-HK28+HP9","v":0},0,null,null,null,null,null,null,null,null,null,null,null,null,null,null,null,null,null,null,null,null,null,null,null,null,null,null,null,null,null,null,null,null,null,null,null,null,null,null,null,null,null,null,null,null,null,null,null,null,null,null,null,null,null,null,null,null,null,null,null,null,null,null,null,null,null,null,null,null,null,null,null,null,null,null,null,null,null,null,null,null,null,null,null,null,null,null,null,null,null,null,null,null,null,null,null,null,null,null,null,null,null,null,null,null,null,null,null,null,null,null,null,null,null,null,null,null,null,null,null,null,null,null,null,null,null,null,null,null,null,null,null,null,null,null,null,null,null,null,null,null,null,null,null,null,null,null,null,null,null,null,null,null,null,null,null,null,null,null,null,null,null,{"$f":"\"نقشه بافت یقه شکاری با میل \"&TEXT(0,NV41)&\"  بافت انتخابی شماره  \"&TEXT(0,NV42)","v":"نقشه بافت یقه شکاری با میل 2  بافت انتخابی شماره  4"},null,null,"بزرگی فلش",{"$f":"NV46","v":0.35357142857142865},"f4",{"$f":"NZ30","v":-24.487500000000001},{"$f":"OA30","v":2},{"$f":"NY30","v":"w6"},null,{"$f":"OF11","v":"e7"},{"$f":"TEXT(0,OG11)&\" رج مثل رج قبل میبافیم\"","v":"0 رج مثل رج قبل میبافیم"},null,null,"بزرگی فلش",{"$f":"OG50","v":0.24957983193277314},"f4",{"$f":"OK30","v":-23.335999999999999},{"$f":"OL30","v":2},{"$f":"OJ30","v":"m3"},null,{"$f":"OQ11","v":"e7"},{"$f":"TEXT(0,OR11)&\" رج مثل رج قبل میبافیم\"","v":"0 رج مثل رج قبل میبافیم"},null,null,"بزرگی فلش",{"$f":"OR50","v":0.24957983193277314},"f4",{"$f":"OV30","v":-23.692999999999998},{"$f":"OW30","v":2},{"$f":"OU30","v":"m3"}]
[null,null,null,null,"فاصله  گردن تا محل جدا شدن آستین در قسمت جلو (cm)     b7",{"$f":"ROUNDUP(SQRT(POWER(CI103-CI121,2)+POWER(CJ103-CJ121,2)),0)","v":10},null,null,{"$f":"ABS(ROUND(4*L35/(L35-(G46-2*L43)+0.001),0))","v":1199},{"$f":"ABS(ROUND(4*(L35/(L35-(G46-2*L43)+0.001)-1),0))","v":1195},{"$f":"L35-(L35/I29)*(I29-J29)-(G46-2*L43)","v":-8.3402835696233524E-4},{"$f":"ROUNDDOWN(ABS(K29),0)","v":0},null,{"$f":"ABS(ROUND(5*P19/(P19-G46+0.001),0))","v":8},{"$f":"ABS(ROUND(5*(P19/(P19-G46+0.0001)-1),0))","v":13},{"$f":"P19-(P19/N29)*(N29-O29)-G46","v":2.0921488241829138},{"$f":"ROUNDDOWN(ABS(P29),0)","v":2},null,null,{"$error":"#DIV/0!"},0,{"$f":"(10/3)*((Y29/X29)*(1/L6)-1)","v":-3.3333333333333335},{"$f":"(100/68)*((AA29/Z29)*(1/L7)-1)","v":{"$error":"#DIV/0!"}},13.5,null,null,36,null,23,null,null,null,null,null,"d10",{"$f":"IF(ROUND((F6*(G259-G258))/(F7*G260),0)>40,\"----\",ROUND((F6*(G259-G258))/(F7*G260),0))","v":10},null,null,null,null,null,null,null,null,null,null,null,null,null,null,null,null,null,null,null,null,null,null,null,null,null,null,null,null,null,null,null,null,null,null,null,null,null,null,null,null,null,null,null,null,null,null,null,null,null,null,null,null,null,null,{"$f":"CI40","v":10},{"$f":"CJ40","v":106},"j6",null,{"$f":"0.9*(CQ26-CQ24)+CQ24","v":55.4},{"$f":"CR27+0.5*(CR26-CR27)","v":53.849999999999994},"d8",null,{"$f":"CQ26","v":61},{"$f":"CR26","v":59.224999999999994},"d4",null,null,null,null,null,null,{"$f":"DB37+'طراحی همه الگوها'!U189","v":48.6},{"$f":"DE15","v":108},3,null,{"$f":"DH20","v":24.3},{"$f":"DI20","v":4.0999999999999996},16,null,"s11",{"$f":"DM36-'طراحی همه الگوها'!U197*SIN(DM17)","v":46.103944262992613},{"$f":"DN36-'طراحی همه الگوها'!U197*COS(DM17)","v":60.675856933218398},null,{"$f":"DM32","v":5},{"$f":"DN32","v":70.099999999999994},"s16",null,"s'19",{"$f":"EC41+('متغیرها '!C20*'متغیرها '!U83)*COS(DM17+RADIANS(EC40))","v":41.441291538748139},{"$f":"ED41-('متغیرها '!C20*'متغیرها '!U83)*SIN(DM17+RADIANS(EC40))","v":57.908478384969314},null,{"$f":"DU18","v":37.728980937518763},{"$f":"DV18","v":61.62078898619869},"s'10",null,null,null,null,{"$f":"DB37+'طراحی همه الگوها'!U216","v":110},{"$f":"EF20","v":107.1},10,null,null,null,null,null,null,null,1,{"$f":"DM19","v":5},{"$f":"'طراحی همه الگوها'!U233+ER39+DM44","v":106},null,null,{"$f":"ET28+'طراحی همه الگوها'!U242","v":31.6},{"$f":"EU28","v":40.975000000000001},16,null,null,null,null,null,null,null,null,null,null,null,null,null,null,null,null,null,"s''18",{"$f":"FO28+0.5*(FO12-FO28)","v":7.3597999999999999},{"$f":"FP28-0.3*(FP28-FP12)","v":98.234054999999998},null,null,null,null,null,null,null,null,null,null,28,{"$f":"GB12+GE12*SIN(RADIANS(GA29)+GA14)","v":{"$error":"#DIV/0!"}},{"$f":"GC12+GE12*COS(RADIANS(GA29)+GA14)","v":{"$error":"#DIV/0!"}},{"$f":"IF(GB13>GB29,ATAN((GC13-GC29)/(GB13-GB29)),ATAN((GC13-GC29)/(GB29-GB13)))","v":{"$error":"#DIV/0!"}},{"$f":"IF(GB13>GB29,(GB13-GB29)/COS(GD29),(GB29-GB13)/COS(GD29))","v":{"$error":"#DIV/0!"}},null,1,2,"نقطه 11","نقطه قبل از چرخش",{"$f":"IF(GH29>GH18,IF(GG29>GG18,GG18+SQRT(POWER(GG29-GG18,2)+POWER(GH29-GH18,2))*COS(ATAN((GH29-GH18)/(GG29-GG18+0.000123))+GH16),GG18-SQRT(POWER(GG29-GG18,2)+POWER(GH29-GH18,2))*COS(ATAN((GH29-GH18)/(GG18-GG29+0.000123))-GH16)),IF(GG29>GG18,GG18+SQRT(POWER(GG29-GG18,2)+POWER(GH29-GH18,2))*COS(ATAN((GH18-GH29)/(GG29-GG18+0.000123))-GH16),GG18-SQRT(POWER(GG29-GG18,2)+POWER(GH29-GH18,2))*COS(ATAN((GH18-GH29)/(GG18-GG29+0.000123))+GH16)))","v":0.61824523267144293},{"$f":"IF(GH29>GH18,IF(GG29>GG18,GH18+SQRT(POWER(GG29-GG18,2)+POWER(GH29-GH18,2))*SIN(ATAN((GH29-GH18)/(GG29-GG18+0.000123))+GH16),GH18+SQRT(POWER(GG29-GG18,2)+POWER(GH29-GH18,2))*SIN(ATAN((GH29-GH18)/(GG18-GG29+0.000123))-GH16)),IF(GG29>GG18,GH18-SQRT(POWER(GG29-GG18,2)+POWER(GH29-GH18,2))*SIN(ATAN((GH18-GH29)/(GG29-GG18+0.000123))-GH16),GH18-SQRT(POWER(GG29-GG18,2)+POWER(GH29-GH18,2))*SIN(ATAN((GH18-GH29)/(GG18-GG29+0.000123))+GH16)))","v":0.69874634779839551},"نقطه چرخیده",null,"نقطه خروجی میانه",null,{"$f":"GQ21+GQ24*GR26*SIN(GP26)/GR25","v":{"$error":"#REF!"}},{"$f":"GR21-GQ24*GR26*COS(GP26)/GR25","v":{"$error":"#REF!"}},null,null,{"$f":"GU28+GT11","v":-64},-1.1170107212763709,{"$f":"HB13+HB10*COS(GV29)","v":{"$error":"#REF!"}},{"$f":"HC13-HB10*SIN(GV29)","v":{"$error":"#REF!"}},{"$f":"SQRT(POWER((HB12-GW29),2)+POWER((HC12-GX29),2))","v":{"$error":"#REF!"}},{"$f":"ABS(HB9-GY29)","v":{"$error":"#REF!"}},null,"نقطه دوم از خط اول","f6",{"$f":"#REF!","v":{"$error":"#REF!"}},{"$f":"#REF!","v":{"$error":"#REF!"}},null,null,null,null,null,null,null,null,null,{"$f":"-HK29+HP9","v":0},0,null,null,null,null,null,null,null,null,null,null,null,null,null,null,null,null,null,null,null,null,null,null,null,null,null,null,null,null,null,null,null,null,null,null,null,null,null,null,null,null,null,null,null,null,null,null,null,null,null,null,null,null,null,null,null,null,null,null,null,null,null,null,null,null,null,null,null,null,null,null,null,null,null,null,null,null,null,null,null,null,null,null,null,null,null,null,null,null,null,null,null,null,null,null,null,null,null,null,null,null,null,null,null,null,null,null,null,null,null,null,null,null,null,null,null,null,null,null,null,null,null,null,null,null,null,null,null,null,null,null,null,null,null,null,null,null,null,null,null,null,null,null,null,null,null,null,null,null,null,null,null,null,null,null,null,null,null,null,null,null,"متغیرهای  ورودی ",null,null,null,"نقطه ورودی سر فلش","مولفه افقی","مولفه عمودی",{"$f":"NZ32","v":-24.841071428571428},{"$f":"OA32","v":2.1767857142857143},{"$f":"NY32","v":"f3"},null,{"$f":"OF12","v":"e8"},{"$f":"TEXT(0,OG12)&\" رج مثل رج قبل میبافیم\"","v":"-4 رج مثل رج قبل میبافیم"},null,null,"نقطه ورودی سر فلش","مولفه افقی","مولفه عمودی",{"$f":"OK32","v":-23.585579831932773},{"$f":"OL32","v":2.1247899159663866},{"$f":"OJ32","v":"f3"},null,{"$f":"OQ12","v":"e8"},{"$f":"TEXT(0,OR12)&\" رج مثل رج قبل میبافیم\"","v":"-4 رج مثل رج قبل میبافیم"},null,null,"نقطه ورودی سر فلش","مولفه افقی","مولفه عمودی",{"$f":"OV32","v":-23.942579831932772},{"$f":"OW32","v":2.1247899159663866},{"$f":"OU32","v":"f3"}]
[null,null,null,null,"تعداد دانه های اضافه شده زیر بغل   b8",{"$f":"F15","v":17},null,null,{"$f":"ABS(ROUND(5*L35/(L35-(G46-2*L43)+0.001),0))","v":1499},{"$f":"ABS(ROUND(5*(L35/(L35-(G46-F412*L43)+0.001)-1),0))","v":36},{"$f":"L35-(L35/I30)*(I30-J30)-(G46-2*L43)","v":-291.79519679786523},{"$f":"ROUNDDOWN(ABS(K30),0)","v":291},null,{"$f":"IF(P19=G46,1,IF(Q25<=2,N25,IF(Q26<=2,N26,IF(Q27<=2,N27,IF(Q28<=2,N28,N29)))))","v":5},{"$f":"IF(P19=G46,1,IF(Q25<=2,O25,IF(Q26<=2,O26,IF(Q27<=2,O27,IF(Q28<=2,O28,O29)))))","v":8},null,null,null,null,{"$error":"#DIV/0!"},0,{"$f":"(10/3)*((Y30/X30)*(1/L6)-1)","v":-3.3333333333333335},{"$f":"(100/68)*((AA30/Z30)*(1/L7)-1)","v":{"$error":"#DIV/0!"}},13.5,null,null,36,null,24,null,null,null,null,null,"d12",{"$f":"AJ10","v":47},null,null,null,null,null,null,null,null,null,null,null,null,null,null,null,null,null,null,null,null,null,null,null,null,null,null,null,null,null,null,null,null,null,null,null,null,null,null,null,null,null,null,null,null,null,null,null,null,null,null,null,null,null,null,{"$f":"CI42","v":7},{"$f":"CJ42","v":92},"j8",null,{"$f":"0.7*(CQ26-CQ24)+CQ24","v":44.199999999999996},{"$f":"CR27+0.1*(CR26-CR27)","v":49.55},"d9",null,null,null,null,null,null,null,null,null,null,{"$f":"DB37+'طراحی همه الگوها'!U189","v":48.6},{"$f":"DE15-'طراحی همه الگوها'!U198","v":94.6},14,null,{"$f":"DH14","v":24.3},{"$f":"DI14","v":25.2},17,null,"s13",{"$f":"DM19+'طراحی همه الگوها'!U189-0.5*'طراحی همه الگوها'!U190","v":47.1},{"$f":"DM45+DM44","v":5},null,null,null,null,null,"2'",{"$f":"DM19","v":5},{"$f":"EC35+DM44","v":5},null,{"$f":"DU29","v":41.441291538748139},{"$f":"DV29","v":57.908478384969314},"s'19",null,null,null,null,{"$f":"EI15","v":110.3},{"$f":"EJ15","v":107.1},13,null,{"$f":"DB37","v":0},{"$f":"EF13","v":101},1,null,null,null,3,{"$f":"EP29-'طراحی همه الگوها'!U234","v":-0.79999999999999982},{"$f":"EQ29-'طراحی همه الگوها'!U232","v":-5.5},null,null,{"$f":"ET28+'طراحی همه الگوها'!U242","v":31.6},{"$f":"EU28-'طراحی همه الگوها'!U245","v":29.975000000000001},19,null,{"$f":"EP36","v":50.325544674057696},{"$f":"EQ36","v":60.674455325942311},10,null,null,null,null,null,{"$f":"FF13+'طراحی همه الگوها'!U260+'طراحی همه الگوها'!U262","v":59},{"$f":"FG25+FC44","v":63.5},13,null,{"$f":"FJ24","v":28.5},{"$f":"FG17","v":53.9},21,null,2,{"$f":"FO14","v":5},{"$f":"FC42+DM44","v":5},null,{"$f":"FO24","v":18},59.340824961544222,"41شبیه ساز",null,null,null,null,null,null,30,{"$f":"GB12+GE12*SIN(RADIANS(GA30)+GA14)","v":{"$error":"#DIV/0!"}},{"$f":"GC12+GE12*COS(RADIANS(GA30)+GA14)","v":{"$error":"#DIV/0!"}},{"$f":"IF(GB13>GB30,ATAN((GC13-GC30)/(GB13-GB30)),ATAN((GC13-GC30)/(GB30-GB13)))","v":{"$error":"#DIV/0!"}},{"$f":"IF(GB13>GB30,(GB13-GB30)/COS(GD30),(GB30-GB13)/COS(GD30))","v":{"$error":"#DIV/0!"}},null,1,2,"نقطه 12","نقطه قبل از چرخش",{"$f":"IF(GH30>GH18,IF(GG30>GG18,GG18+SQRT(POWER(GG30-GG18,2)+POWER(GH30-GH18,2))*COS(ATAN((GH30-GH18)/(GG30-GG18+0.000123))+GH16),GG18-SQRT(POWER(GG30-GG18,2)+POWER(GH30-GH18,2))*COS(ATAN((GH30-GH18)/(GG18-GG30+0.000123))-GH16)),IF(GG30>GG18,GG18+SQRT(POWER(GG30-GG18,2)+POWER(GH30-GH18,2))*COS(ATAN((GH18-GH30)/(GG30-GG18+0.000123))-GH16),GG18-SQRT(POWER(GG30-GG18,2)+POWER(GH30-GH18,2))*COS(ATAN((GH18-GH30)/(GG18-GG30+0.000123))+GH16)))","v":0.61824523267144293},{"$f":"IF(GH30>GH18,IF(GG30>GG18,GH18+SQRT(POWER(GG30-GG18,2)+POWER(GH30-GH18,2))*SIN(ATAN((GH30-GH18)/(GG30-GG18+0.000123))+GH16),GH18+SQRT(POWER(GG30-GG18,2)+POWER(GH30-GH18,2))*SIN(ATAN((GH30-GH18)/(GG18-GG30+0.000123))-GH16)),IF(GG30>GG18,GH18-SQRT(POWER(GG30-GG18,2)+POWER(GH30-GH18,2))*SIN(ATAN((GH18-GH30)/(GG30-GG18+0.000123))-GH16),GH18-SQRT(POWER(GG30-GG18,2)+POWER(GH30-GH18,2))*SIN(ATAN((GH18-GH30)/(GG18-GG30+0.000123))+GH16)))","v":0.69874634779839551},"نقطه چرخیده",null,null,null,null,null,null,null,{"$f":"GU29+GT11","v":-62},-1.0821041362364843,{"$f":"HB13+HB10*COS(GV30)","v":{"$error":"#REF!"}},{"$f":"HC13-HB10*SIN(GV30)","v":{"$error":"#REF!"}},{"$f":"SQRT(POWER((HB12-GW30),2)+POWER((HC12-GX30),2))","v":{"$error":"#REF!"}},{"$f":"ABS(HB9-GY30)","v":{"$error":"#REF!"}},null,"نقطه اول از خط دوم","f7",{"$f":"#REF!","v":{"$error":"#REF!"}},{"$f":"#REF!","v":{"$error":"#REF!"}},null,null,null,null,null,null,null,null,null,{"$f":"-HK30+HP9","v":0},0,null,null,null,null,null,null,null,null,null,null,null,null,null,null,null,null,null,null,null,null,null,null,null,null,null,null,null,null,null,null,null,null,null,null,null,null,null,null,null,null,null,null,null,null,null,null,null,null,null,null,null,null,null,null,null,null,null,null,null,null,null,null,null,null,null,null,null,null,null,null,null,null,null,null,null,null,null,null,null,null,null,null,null,null,null,null,null,null,null,null,null,null,null,null,null,null,null,null,null,null,null,null,null,null,null,null,null,null,null,null,null,null,null,null,null,null,null,null,null,null,null,null,null,null,null,null,null,null,null,null,null,null,null,null,null,null,null,null,null,null,null,null,null,null,null,null,null,null,null,null,null,null,null,null,null,null,null,null,null,null,"Xw1",{"$f":"'متغیرها '!C851-20","v":-30},"جابجایی افقی کل نقشه",null,"w6",{"$f":"NU53","v":-24.487500000000001},{"$f":"NV53","v":2},null,null,null,null,{"$f":"OF13","v":"e9"},{"$f":"TEXT(0,OG13)&\" رج مثل رج قبل میبافیم\"","v":"19 رج مثل رج قبل میبافیم"},null,null,"m3",{"$f":"OF61","v":-23.335999999999999},{"$f":"OG61","v":2},null,null,null,null,{"$f":"OQ13","v":"e9"},{"$f":"TEXT(0,OR13)&\" رج مثل رج قبل میبافیم\"","v":"19 رج مثل رج قبل میبافیم"},null,null,"m3",{"$f":"OQ61","v":-23.692999999999998},{"$f":"OR61","v":2}]
[null,null,null,null,"تعداد دانه های سرتاسر آستین در قسمت زیر بغل   b20",{"$f":"F16","v":120},null,null,{"$f":"IF(L26<=2,I26,IF(L27<=2,I27,IF(L28<=2,I28,IF(L29<=2,I29,I30))))","v":300},{"$f":"IF(L26<=2,J26,IF(L27<=2,J27,IF(L28<=2,J28,IF(L29<=2,J29,J30))))","v":299},null,null,null,"یقه شومیزیه نوک تیز تا خط جادکمه",null,null,"یقه شومیزیه تا خط جادکمه",null,null,{"$error":"#DIV/0!"},0,{"$f":"(10/3)*((Y31/X31)*(1/L6)-1)","v":-3.3333333333333335},{"$f":"(100/68)*((AA31/Z31)*(1/L7)-1)","v":{"$error":"#DIV/0!"}},13.5,null,null,36,null,25,null,null,null,null,null,null,null,null,null,null,null,null,null,null,null,null,null,null,null,null,null,null,null,null,null,null,null,null,null,null,null,null,null,null,null,null,null,null,null,null,null,null,null,null,null,null,null,null,null,null,null,null,null,null,null,null,null,null,null,null,null,null,null,null,null,{"$f":"CQ24","v":5},{"$f":"CR15-1-0.013*(CR25-CR27)","v":57.132249999999999},"j'2",null,null,null,null,null,null,null,null,null,null,null,null,null,null,null,null,null,null,"s14",{"$f":"DM13+DM42*COS(DM40)","v":9.7195999999999998},{"$f":"DN13-DM42*SIN(DM40)","v":93.891850000000005},null,{"$f":"DP25","v":9.7195999999999998},{"$f":"DQ25","v":93.891850000000005},"s14",null,null,null,null,null,null,null,null,null,null,null,null,{"$f":"DB37+'طراحی همه الگوها'!U211+'طراحی همه الگوها'!U219","v":111.5},{"$f":"EF20","v":107.1},12,null,{"$f":"DB37+'طراحی همه الگوها'!U216","v":110},{"$f":"EF33","v":101},3,null,null,null,5,{"$f":"EP29+'طراحی همه الگوها'!U235","v":10.3},{"$f":"EQ29-'طراحی همه الگوها'!U233","v":5},null,null,null,null,null,null,{"$f":"EP37","v":42.476659402887016},{"$f":"EQ37","v":52.825570054771632},11,null,null,null,null,null,{"$f":"FF13","v":0},{"$f":"FG30","v":63.5},12,null,{"$f":"FJ24","v":28.5},{"$f":"FK24","v":43.5},22,null,"s''12",{"$f":"FO30","v":5},{"$f":"FP24","v":59.340824961544222},null,24.774999999999999,43.038577473080956,"41'",null,null,null,null,null,null,32,{"$f":"GB12+GE12*SIN(RADIANS(GA31)+GA14)","v":{"$error":"#DIV/0!"}},{"$f":"GC12+GE12*COS(RADIANS(GA31)+GA14)","v":{"$error":"#DIV/0!"}},{"$f":"IF(GB13>GB31,ATAN((GC13-GC31)/(GB13-GB31)),ATAN((GC13-GC31)/(GB31-GB13)))","v":{"$error":"#DIV/0!"}},{"$f":"IF(GB13>GB31,(GB13-GB31)/COS(GD31),(GB31-GB13)/COS(GD31))","v":{"$error":"#DIV/0!"}},null,1,2,"نقطه 13","نقطه قبل از چرخش",{"$f":"IF(GH31>GH18,IF(GG31>GG18,GG18+SQRT(POWER(GG31-GG18,2)+POWER(GH31-GH18,2))*COS(ATAN((GH31-GH18)/(GG31-GG18+0.000123))+GH16),GG18-SQRT(POWER(GG31-GG18,2)+POWER(GH31-GH18,2))*COS(ATAN((GH31-GH18)/(GG18-GG31+0.000123))-GH16)),IF(GG31>GG18,GG18+SQRT(POWER(GG31-GG18,2)+POWER(GH31-GH18,2))*COS(ATAN((GH18-GH31)/(GG31-GG18+0.000123))-GH16),GG18-SQRT(POWER(GG31-GG18,2)+POWER(GH31-GH18,2))*COS(ATAN((GH18-GH31)/(GG18-GG31+0.000123))+GH16)))","v":0.61824523267144293},{"$f":"IF(GH31>GH18,IF(GG31>GG18,GH18+SQRT(POWER(GG31-GG18,2)+POWER(GH31-GH18,2))*SIN(ATAN((GH31-GH18)/(GG31-GG18+0.000123))+GH16),GH18+SQRT(POWER(GG31-GG18,2)+POWER(GH31-GH18,2))*SIN(ATAN((GH31-GH18)/(GG18-GG31+0.000123))-GH16)),IF(GG31>GG18,GH18-SQRT(POWER(GG31-GG18,2)+POWER(GH31-GH18,2))*SIN(ATAN((GH18-GH31)/(GG31-GG18+0.000123))-GH16),GH18-SQRT(POWER(GG31-GG18,2)+POWER(GH31-GH18,2))*SIN(ATAN((GH18-GH31)/(GG18-GG31+0.000123))+GH16)))","v":0.69874634779839551},"نقطه چرخیده",null,null,"رسم باکس زیپ دامن-باکس چپ","مولفه افقی","مولفه عمودی",null,null,{"$f":"GU30+GT11","v":-60},-1.0471975511965976,{"$f":"HB13+HB10*COS(GV31)","v":{"$error":"#REF!"}},{"$f":"HC13-HB10*SIN(GV31)","v":{"$error":"#REF!"}},{"$f":"SQRT(POWER((HB12-GW31),2)+POWER((HC12-GX31),2))","v":{"$error":"#REF!"}},{"$f":"ABS(HB9-GY31)","v":{"$error":"#REF!"}},null,"نقطه دوم از خط دوم","f8",{"$f":"#REF!","v":{"$error":"#REF!"}},{"$f":"#REF!","v":{"$error":"#REF!"}},null,null,null,null,null,null,null,null,null,{"$f":"-HK31+HP9","v":0},0,null,null,null,null,null,null,null,null,null,null,null,null,null,null,null,null,null,null,null,null,null,null,null,null,null,null,null,null,null,null,null,null,null,null,null,null,null,null,null,null,null,null,null,null,null,null,null,null,null,null,null,null,null,null,null,null,null,null,null,null,null,null,null,null,null,null,null,null,null,null,null,null,null,null,null,null,null,null,null,null,null,null,null,null,null,null,null,null,null,null,null,null,null,null,null,null,null,null,null,null,null,null,null,null,null,null,null,null,null,null,null,null,null,null,null,null,null,null,null,null,null,null,null,null,null,null,null,null,null,null,null,null,null,null,null,null,null,null,null,null,null,null,null,null,null,null,null,null,null,null,null,null,null,null,null,null,null,null,null,null,"Yw1",{"$f":"'متغیرها '!C852+5","v":2},"جابجایی عمودی کل نقشه",null,"f2",{"$f":"NZ30-1*NZ28","v":-24.841071428571428},{"$f":"OA30-NZ27*NZ28","v":1.8232142857142857},{"$f":"NZ30","v":-24.487500000000001},{"$f":"OA30","v":2},{"$f":"NY30","v":"w6"},null,"a10,a11,b1",{"$f":"\"هر\"&TEXT(0,OG14)&\"  دانه را تبدیل به  \"&TEXT(0,OG15)&\"  دانه میکنیم تا تعداد دانه ها  \"&TEXT(0,OG18)&\" شود\"","v":"هر5  دانه را تبدیل به  8  دانه میکنیم تا تعداد دانه ها  303 شود"},null,null,"f2",{"$f":"OK30-1*OK28","v":-23.585579831932773},{"$f":"OL30-OK27*OK28","v":1.8752100840336134},{"$f":"OK30","v":-23.335999999999999},{"$f":"OL30","v":2},{"$f":"OJ30","v":"m3"},null,"a10,a11,b1",{"$f":"\"هر\"&TEXT(0,OR14)&\"  دانه را تبدیل به  \"&TEXT(0,OR15)&\"  دانه میکنیم تا تعداد دانه ها  \"&TEXT(0,OR18)&\" شود\"","v":"هر5  دانه را تبدیل به  8  دانه میکنیم تا تعداد دانه ها  303 شود"},null,null,"f2",{"$f":"OV30-1*OV28","v":-23.942579831932772},{"$f":"OW30-OV27*OV28","v":1.8752100840336134},{"$f":"OV30","v":-23.692999999999998},{"$f":"OW30","v":2},{"$f":"OU30","v":"m3"}]
[null,null,null,null,"فاصله زیر بغل تا پایین لباس (cm)     b9",{"$f":"ROUND(AX113,0)","v":34},null,null,null,null,null,null,null,"بافت انتخابی",null,null,"بافت انتخابی",null,null,{"$error":"#DIV/0!"},0,{"$f":"(10/3)*((Y32/X32)*(1/L6)-1)","v":-3.3333333333333335},{"$f":"(100/68)*((AA32/Z32)*(1/L7)-1)","v":{"$error":"#DIV/0!"}},13.5,null,null,36,null,26,null,null,null,null,null,null,null,null,null,null,null,null,null,null,null,null,null,null,null,null,null,null,null,null,null,null,null,null,null,null,null,null,null,null,null,null,null,null,null,null,null,null,null,null,null,null,null,null,null,null,null,null,null,null,null,null,null,null,null,null,null,{"$f":"CI42","v":7},{"$f":"CJ42","v":92},"j8",null,null,null,null,null,null,null,null,null,null,null,null,null,null,{"$f":"DD29","v":48.6},{"$f":"DE15","v":108},3,null,{"$f":"DH22","v":42.1},{"$f":"DE14","v":0},18,null,"s16",{"$f":"DM15","v":5},{"$f":"DN15","v":70.099999999999994},null,{"$f":"DP31+0.32*(DP34-DP31)","v":17.503024064278591},{"$f":"DQ34+0.5*(DQ31-DQ34)","v":83.536878812646478},null,null,null,null,null,null,{"$f":"DX30","v":41.441291538748139},{"$f":"DY30","v":57.908478384969314},"s'19",null,"شیفت افقی مچ",{"$f":"EE20+10","v":120},null,{"$f":"EE31","v":111.5},{"$f":"EF13","v":101},11,null,null,null,null,null,null,null,6,{"$f":"EP30+EO25*COS(RADIANS('متغیرها '!C26))","v":8.8867064871193655},{"$f":"EQ30-EO25*SIN(RADIANS('متغیرها '!C26))","v":-6.0076587755565551},null,null,{"$f":"ET28+'طراحی همه الگوها'!U242","v":31.6},{"$f":"EU28+'طراحی همه الگوها'!U244","v":51.975000000000001},18,null,null,null,null,null,null,null,null,null,{"$f":"FF13","v":0},{"$f":"FG31+'طراحی همه الگوها'!U258","v":71},18,null,null,null,null,null,"s'12",{"$f":"FO30","v":5},{"$f":"FP23","v":61.940824961544223},null,29.923999999999999,21.302247488463266,"41''",null,null,null,null,null,null,34,{"$f":"GB12+GE12*SIN(RADIANS(GA32)+GA14)","v":{"$error":"#DIV/0!"}},{"$f":"GC12+GE12*COS(RADIANS(GA32)+GA14)","v":{"$error":"#DIV/0!"}},{"$f":"IF(GB13>GB32,ATAN((GC13-GC32)/(GB13-GB32)),ATAN((GC13-GC32)/(GB32-GB13)))","v":{"$error":"#DIV/0!"}},{"$f":"IF(GB13>GB32,(GB13-GB32)/COS(GD32),(GB32-GB13)/COS(GD32))","v":{"$error":"#DIV/0!"}},null,1,2,"نقطه 14","نقطه قبل از چرخش",{"$f":"IF(GH32>GH18,IF(GG32>GG18,GG18+SQRT(POWER(GG32-GG18,2)+POWER(GH32-GH18,2))*COS(ATAN((GH32-GH18)/(GG32-GG18+0.000123))+GH16),GG18-SQRT(POWER(GG32-GG18,2)+POWER(GH32-GH18,2))*COS(ATAN((GH32-GH18)/(GG18-GG32+0.000123))-GH16)),IF(GG32>GG18,GG18+SQRT(POWER(GG32-GG18,2)+POWER(GH32-GH18,2))*COS(ATAN((GH18-GH32)/(GG32-GG18+0.000123))-GH16),GG18-SQRT(POWER(GG32-GG18,2)+POWER(GH32-GH18,2))*COS(ATAN((GH18-GH32)/(GG18-GG32+0.000123))+GH16)))","v":0.61824523267144293},{"$f":"IF(GH32>GH18,IF(GG32>GG18,GH18+SQRT(POWER(GG32-GG18,2)+POWER(GH32-GH18,2))*SIN(ATAN((GH32-GH18)/(GG32-GG18+0.000123))+GH16),GH18+SQRT(POWER(GG32-GG18,2)+POWER(GH32-GH18,2))*SIN(ATAN((GH32-GH18)/(GG18-GG32+0.000123))-GH16)),IF(GG32>GG18,GH18-SQRT(POWER(GG32-GG18,2)+POWER(GH32-GH18,2))*SIN(ATAN((GH18-GH32)/(GG32-GG18+0.000123))-GH16),GH18-SQRT(POWER(GG32-GG18,2)+POWER(GH32-GH18,2))*SIN(ATAN((GH18-GH32)/(GG18-GG32+0.000123))+GH16)))","v":0.69874634779839551},"نقطه چرخیده",null,"نقطه ورودی بالا","s'u3",{"$f":"#REF!","v":{"$error":"#REF!"}},{"$f":"#REF!","v":{"$error":"#REF!"}},null,null,{"$f":"GU31+GT11","v":-58},-1.0122909661567112,{"$f":"HB13+HB10*COS(GV32)","v":{"$error":"#REF!"}},{"$f":"HC13-HB10*SIN(GV32)","v":{"$error":"#REF!"}},{"$f":"SQRT(POWER((HB12-GW32),2)+POWER((HC12-GX32),2))","v":{"$error":"#REF!"}},{"$f":"ABS(HB9-GY32)","v":{"$error":"#REF!"}},null,"نقطه تقاطع","f10",{"$f":"(HE30-HE28+HD28*((HE29-HE28)/(HD29-HD28+0.0001))-HD30*((HE31-HE30)/(HD31-HD30+0.0001)))/(((HE29-HE28)/(HD29-HD28+0.0001))-((HE31-HE30)/(HD31-HD30+0.0001)))","v":{"$error":"#REF!"}},{"$f":"HE28+(HD32-HD28)*((HE29-HE28)/(HD29-HD28+0.0001))","v":{"$error":"#REF!"}},null,null,null,null,null,null,null,null,null,{"$f":"-HK32+HP9","v":0},0,null,null,null,null,null,null,null,null,null,null,null,null,null,null,null,null,null,null,null,null,null,null,null,null,null,null,null,null,null,null,null,null,null,null,null,null,null,null,null,null,null,null,null,null,null,null,null,null,null,null,null,null,null,null,null,null,null,null,null,null,null,null,null,null,null,null,null,null,null,null,null,null,null,null,null,null,null,null,null,null,null,null,null,null,null,null,null,null,null,null,null,null,null,null,null,null,null,null,null,null,null,null,null,null,null,null,null,null,null,null,null,null,null,null,null,null,null,null,null,null,null,null,null,null,null,null,null,null,null,null,null,null,null,null,null,null,null,null,null,null,null,null,null,null,null,null,null,null,null,null,null,null,null,null,null,null,null,null,null,null,"w'12",{"$f":"'متغیرها '!C853","v":42},"نسبت نقشه بافت به سایز واقعی",null,"f3",{"$f":"NZ31","v":-24.841071428571428},{"$f":"OA30+NZ27*NZ28","v":2.1767857142857143},{"$f":"NZ31","v":-24.841071428571428},{"$f":"OA31","v":1.8232142857142857},{"$f":"NY31","v":"f2"},null,null,{"$f":"\"نقشه بافت یقه شومیزیه نوک تیز با میل \"&TEXT(0,OG57)&\"  بافت انتخابی شماره  \"&TEXT(0,OG58)","v":"نقشه بافت یقه شومیزیه نوک تیز با میل 2  بافت انتخابی شماره  2"},null,null,"f3",{"$f":"OK31","v":-23.585579831932773},{"$f":"OL30+OK27*OK28","v":2.1247899159663866},{"$f":"OK31","v":-23.585579831932773},{"$f":"OL31","v":1.8752100840336134},{"$f":"OJ31","v":"f2"},null,null,{"$f":"\"نقشه بافت یقه شومیزیه معمولی با میل \"&TEXT(0,OR57)&\"  بافت انتخابی شماره  \"&TEXT(0,OR58)","v":"نقشه بافت یقه شومیزیه معمولی با میل 2  بافت انتخابی شماره  2"},null,null,"f3",{"$f":"OV31","v":-23.942579831932772},{"$f":"OW30+OV27*OV28","v":2.1247899159663866},{"$f":"OV31","v":-23.942579831932772},{"$f":"OW31","v":1.8752100840336134},{"$f":"OU31","v":"f2"}]
[null,null,null,null,"فاصله زیر بغل تا بالای مچ آستین (cm)     b10",{"$f":"ROUNDUP(SQRT(POWER(DY513-DY520,2)+POWER(DZ513-DZ520,2)),0)","v":6},null,null,null,null,"یقه شکاری",null,null,"e1",{"$f":"ROUND(P19-4*P18*F12+3*O34+15,0)","v":224},null,"e1",{"$f":"ROUND(P19-4*P18*F12+1.5*R34+13.5,0)","v":212},null,{"$error":"#DIV/0!"},0,{"$f":"(10/3)*((Y33/X33)*(1/L6)-1)","v":-3.3333333333333335},{"$f":"(100/68)*((AA33/Z33)*(1/L7)-1)","v":{"$error":"#DIV/0!"}},13.5,null,null,36,null,27,null,null,null,null,null,null,null,null,null,null,null,null,null,null,null,null,null,null,null,null,null,null,null,null,null,null,null,null,null,null,null,null,null,null,null,null,null,null,null,null,null,null,null,null,null,null,null,null,null,null,null,null,null,null,null,null,null,null,null,null,null,{"$f":"CI41","v":5},{"$f":"CJ41","v":92},"j7",null,null,null,null,null,null,null,null,null,null,null,null,null,null,{"$f":"DD16","v":13},{"$f":"DE15","v":108},4,null,{"$f":"DH22","v":42.1},{"$f":"DI22","v":17},19,null,"s15",{"$f":"DM32+0.7*(DM31-DM32)","v":8.3037200000000002},{"$f":"DN32+0.5*(DN31-DN32)","v":81.995925},null,{"$f":"DP31+0.67*(DP34-DP31)","v":26.016144134583303},{"$f":"DQ34+0.2*(DQ31-DQ34)","v":77.323896100234379},null,null,null,null,null,null,{"$f":"DU19","v":34.511645083119973},{"$f":"DV19","v":50.978831929341148},"s'11",null,"شیفت عمودی مچ",{"$f":"EF20-10","v":97.1},null,{"$f":"DB37+'طراحی همه الگوها'!U216","v":110},{"$f":"EF13","v":101},3,null,{"$f":"EE21","v":110},{"$f":"EF21","v":1.5},9,null,null,null,7,{"$f":"EP31+EO26*COS(RADIANS('متغیرها '!C26))","v":17.789721510659305},{"$f":"EQ31+EO26*SIN(RADIANS('متغیرها '!C26))","v":5.3925196718220789},null,null,{"$f":"ET28+'طراحی همه الگوها'!U242","v":31.6},{"$f":"EU28","v":40.975000000000001},16,null,{"$f":"EP37","v":42.476659402887016},{"$f":"EQ37","v":52.825570054771632},11,null,null,null,null,null,{"$f":"FF13","v":0},{"$f":"FG32+'طراحی همه الگوها'!U259","v":136.1},14,null,{"$f":"FJ18","v":14.2},{"$f":"FG31","v":63.5},23,null,"s'3",{"$f":"FO22+0.5*(FO12-FO22)","v":8.2631060636982205},{"$f":"FP22+0.6*(FP12-FP22)","v":69.842901481321121},null,31.55,5,"s13",null,null,null,null,null,null,36,{"$f":"GB12+GE12*SIN(RADIANS(GA33)+GA14)","v":{"$error":"#DIV/0!"}},{"$f":"GC12+GE12*COS(RADIANS(GA33)+GA14)","v":{"$error":"#DIV/0!"}},{"$f":"IF(GB13>GB33,ATAN((GC13-GC33)/(GB13-GB33)),ATAN((GC13-GC33)/(GB33-GB13)))","v":{"$error":"#DIV/0!"}},{"$f":"IF(GB13>GB33,(GB13-GB33)/COS(GD33),(GB33-GB13)/COS(GD33))","v":{"$error":"#DIV/0!"}},null,1,2,"نقطه 15","نقطه قبل از چرخش",{"$f":"IF(GH33>GH18,IF(GG33>GG18,GG18+SQRT(POWER(GG33-GG18,2)+POWER(GH33-GH18,2))*COS(ATAN((GH33-GH18)/(GG33-GG18+0.000123))+GH16),GG18-SQRT(POWER(GG33-GG18,2)+POWER(GH33-GH18,2))*COS(ATAN((GH33-GH18)/(GG18-GG33+0.000123))-GH16)),IF(GG33>GG18,GG18+SQRT(POWER(GG33-GG18,2)+POWER(GH33-GH18,2))*COS(ATAN((GH18-GH33)/(GG33-GG18+0.000123))-GH16),GG18-SQRT(POWER(GG33-GG18,2)+POWER(GH33-GH18,2))*COS(ATAN((GH18-GH33)/(GG18-GG33+0.000123))+GH16)))","v":0.61824523267144293},{"$f":"IF(GH33>GH18,IF(GG33>GG18,GH18+SQRT(POWER(GG33-GG18,2)+POWER(GH33-GH18,2))*SIN(ATAN((GH33-GH18)/(GG33-GG18+0.000123))+GH16),GH18+SQRT(POWER(GG33-GG18,2)+POWER(GH33-GH18,2))*SIN(ATAN((GH33-GH18)/(GG18-GG33+0.000123))-GH16)),IF(GG33>GG18,GH18-SQRT(POWER(GG33-GG18,2)+POWER(GH33-GH18,2))*SIN(ATAN((GH18-GH33)/(GG33-GG18+0.000123))-GH16),GH18-SQRT(POWER(GG33-GG18,2)+POWER(GH33-GH18,2))*SIN(ATAN((GH18-GH33)/(GG18-GG33+0.000123))+GH16)))","v":0.69874634779839551},"نقطه چرخیده",null,"نقطه ورودی پایین","s'd3",{"$f":"#REF!","v":{"$error":"#REF!"}},{"$f":"#REF!","v":{"$error":"#REF!"}},null,null,{"$f":"GU32+GT11","v":-56},-0.97738438111682457,{"$f":"HB13+HB10*COS(GV33)","v":{"$error":"#REF!"}},{"$f":"HC13-HB10*SIN(GV33)","v":{"$error":"#REF!"}},{"$f":"SQRT(POWER((HB12-GW33),2)+POWER((HC12-GX33),2))","v":{"$error":"#REF!"}},{"$f":"ABS(HB9-GY33)","v":{"$error":"#REF!"}},null,null,null,null,null,null,null,null,null,null,null,null,null,null,{"$f":"-HK33+HP9","v":0},0,null,null,null,null,null,null,null,null,null,null,null,null,null,null,null,null,null,null,null,null,null,null,null,null,null,null,null,null,null,null,null,null,null,null,null,null,null,null,null,null,null,null,null,null,null,null,null,null,null,null,null,null,null,null,null,null,null,null,null,null,null,null,null,null,null,null,null,null,null,null,null,null,null,null,null,null,null,null,null,null,null,null,null,null,null,null,null,null,null,null,null,null,null,null,null,null,null,null,null,null,null,null,null,null,null,null,null,null,null,null,null,null,null,null,null,null,null,null,null,null,null,null,null,null,null,null,null,null,null,null,null,null,null,null,null,null,null,null,null,null,null,null,null,null,null,null,null,null,null,null,null,null,null,null,null,null,null,null,null,null,"w11",{"$f":"'متغیرها '!C854/NV39","v":0.5892857142857143},"ارتفاع هر رج",null,null,null,null,null,null,null,null,"متغیرهای  ورودی ",null,null,null,null,null,null,null,null,null,null,"متغیرهای  ورودی "]
[null,null,null,null,"گشادی لبه پایین آستین (cm)     b'11",{"$f":"F13","v":26},null,null,null,null,"بافت انتخابی",null,null,"e2",{"$f":"ROUNDDOWN(0.5*(P17*P10-9),0)","v":7},null,"e2",{"$f":"O34","v":7},null,{"$error":"#DIV/0!"},0,{"$f":"(10/3)*((Y34/X34)*(1/L6)-1)","v":-3.3333333333333335},{"$f":"(100/68)*((AA34/Z34)*(1/L7)-1)","v":{"$error":"#DIV/0!"}},13.5,null,null,36,null,28,null,null,null,null,null,null,null,null,null,null,null,null,null,null,null,null,null,null,null,null,null,null,null,null,null,null,null,null,null,null,null,null,null,null,null,null,null,null,null,null,null,null,null,null,null,null,null,null,null,null,null,null,null,null,null,null,null,"نقاط خروجی ",null,null,null,null,null,null,null,null,null,null,null,null,null,null,null,null,null,null,null,null,null,null,"نقاب",null,{"$f":"DH16","v":42.1},{"$f":"DI16","v":27.3},20,null,"s17",{"$f":"DB400","v":5},{"$f":"IF('متغیرها '!C14=-1,DQ12,IF('متغیرها '!C14=0,DC400-0.1,DC400-0.25*(DC400-DC404)))","v":100.095},null,{"$f":"DM37","v":34.042800200870602},{"$f":"DN37","v":73.181907625292965},"s20",null,null,null,null,null,null,null,null,null,"زاویه گشادی نسبی جلو به پشت",33,null,{"$f":"DB37+'طراحی همه الگوها'!U216","v":110},{"$f":"EF20","v":107.1},10,null,{"$f":"EI22","v":110},{"$f":"EJ22","v":1.2},14,null,null,null,8,{"$f":"EP35+ER41*SIN(RADIANS('متغیرها '!C30))","v":47.858300235904593},{"$f":"EQ35-ER41*COS(RADIANS('متغیرها '!C30))","v":9.8025829460293181},null,null,{"$f":"ET28+'طراحی همه الگوها'!U242+'طراحی همه الگوها'!U243","v":35.200000000000003},{"$f":"EU28","v":40.975000000000001},17,null,{"$f":"EP35","v":28.420556755939138},{"$f":"EQ35","v":63.207344242385716},9,null,null,null,null,null,{"$f":"FF13+'طراحی همه الگوها'!U263","v":72.5},{"$f":"FG33","v":136.1},15,null,{"$f":"FJ18","v":14.2},{"$f":"FK18","v":71.5},24,null,null,null,null,null,null,null,null,null,null,null,null,null,null,38,{"$f":"GB12+GE12*SIN(RADIANS(GA34)+GA14)","v":{"$error":"#DIV/0!"}},{"$f":"GC12+GE12*COS(RADIANS(GA34)+GA14)","v":{"$error":"#DIV/0!"}},{"$f":"IF(GB13>GB34,ATAN((GC13-GC34)/(GB13-GB34)),ATAN((GC13-GC34)/(GB34-GB13)))","v":{"$error":"#DIV/0!"}},{"$f":"IF(GB13>GB34,(GB13-GB34)/COS(GD34),(GB34-GB13)/COS(GD34))","v":{"$error":"#DIV/0!"}},null,1,2,"نقطه 16","نقطه قبل از چرخش",{"$f":"IF(GH34>GH18,IF(GG34>GG18,GG18+SQRT(POWER(GG34-GG18,2)+POWER(GH34-GH18,2))*COS(ATAN((GH34-GH18)/(GG34-GG18+0.000123))+GH16),GG18-SQRT(POWER(GG34-GG18,2)+POWER(GH34-GH18,2))*COS(ATAN((GH34-GH18)/(GG18-GG34+0.000123))-GH16)),IF(GG34>GG18,GG18+SQRT(POWER(GG34-GG18,2)+POWER(GH34-GH18,2))*COS(ATAN((GH18-GH34)/(GG34-GG18+0.000123))-GH16),GG18-SQRT(POWER(GG34-GG18,2)+POWER(GH34-GH18,2))*COS(ATAN((GH18-GH34)/(GG18-GG34+0.000123))+GH16)))","v":0.61824523267144293},{"$f":"IF(GH34>GH18,IF(GG34>GG18,GH18+SQRT(POWER(GG34-GG18,2)+POWER(GH34-GH18,2))*SIN(ATAN((GH34-GH18)/(GG34-GG18+0.000123))+GH16),GH18+SQRT(POWER(GG34-GG18,2)+POWER(GH34-GH18,2))*SIN(ATAN((GH34-GH18)/(GG18-GG34+0.000123))-GH16)),IF(GG34>GG18,GH18-SQRT(POWER(GG34-GG18,2)+POWER(GH34-GH18,2))*SIN(ATAN((GH18-GH34)/(GG34-GG18+0.000123))-GH16),GH18-SQRT(POWER(GG34-GG18,2)+POWER(GH34-GH18,2))*SIN(ATAN((GH18-GH34)/(GG18-GG34+0.000123))+GH16)))","v":0.69874634779839551},"نقطه چرخیده",null,"متغیر ورودی پهنا","a20",{"$f":"#REF!","v":{"$error":"#REF!"}},"(سانتیمتر)",null,null,{"$f":"GU33+GT11","v":-54},-0.94247779607693793,{"$f":"HB13+HB10*COS(GV34)","v":{"$error":"#REF!"}},{"$f":"HC13-HB10*SIN(GV34)","v":{"$error":"#REF!"}},{"$f":"SQRT(POWER((HB12-GW34),2)+POWER((HC12-GX34),2))","v":{"$error":"#REF!"}},{"$f":"ABS(HB9-GY34)","v":{"$error":"#REF!"}},null,null,null,null,"قرینه نقطه نسبت به خط با داشتن دو نقطه از یک خط",null,null,null,null,null,null,null,null,null,{"$f":"-HK34+HP9","v":0},0,null,null,null,null,null,null,null,null,null,null,null,null,null,null,null,null,null,null,null,null,null,null,null,null,null,null,null,null,null,null,null,null,null,null,null,null,null,null,null,null,null,null,null,null,null,null,null,null,null,null,null,null,null,null,null,null,null,null,null,null,null,null,null,null,null,null,null,null,null,null,null,null,null,null,null,null,null,null,null,null,null,null,null,null,null,null,null,null,null,null,null,null,null,null,null,null,null,null,null,null,null,null,null,null,null,null,null,null,null,null,null,null,null,null,null,null,null,null,null,null,null,null,null,null,null,null,null,null,null,null,null,null,null,null,null,null,null,null,null,null,null,null,null,null,null,null,null,null,null,null,null,null,null,null,null,null,null,null,null,null,"g9",{"$f":"'متغیرها '!C855","v":0.25},"پهنای نیم دایره",null,null,null,"انحنا چپگرد ",null,null,{"$f":"OA34","v":"انحنا چپگرد "},null,"Xm1",{"$f":"NV30","v":-30},"جابجایی افقی کل نقشه",null,null,null,"انحنا چپگرد ",null,null,{"$f":"OL34","v":"انحنا چپگرد "},null,"Xm1",{"$f":"NV30","v":-30},"جابجایی افقی کل نقشه",null,null,null,"انحنا چپگرد ",null,null,{"$f":"OW34","v":"انحنا چپگرد "}]
[null,null,null,null,"تعداد دانه ها  در بالای مچ آستین      b'12",{"$f":"F14","v":149},null,null,null,null,"a1",{"$f":"ROUND(2*L15*L19,0)","v":300},null,"e3",{"$f":"ROUND(0.35*(O37),0)","v":22},null,"e3",{"$f":"ROUND(0.33*(R37),0)","v":24},null,{"$error":"#DIV/0!"},0,{"$f":"(10/3)*((Y35/X35)*(1/L6)-1)","v":-3.3333333333333335},{"$f":"(100/68)*((AA35/Z35)*(1/L7)-1)","v":{"$error":"#DIV/0!"}},13.5,null,null,36,null,29,null,null,null,null,null,null,null,null,null,null,null,null,null,null,null,null,null,null,null,null,null,null,null,null,null,null,null,null,null,null,null,null,null,null,null,null,null,null,null,null,null,null,null,null,null,null,null,null,null,null,null,null,null,null,null,null,null,"مولفه افقی","مولفه عمودی","اسم نقطه",null,{"$f":"CI42","v":7},{"$f":"CJ42","v":92},"j8",null,null,null,null,null,null,null,null,null,null,null,null,null,null,{"$f":"DD15","v":0},{"$f":"DE15","v":108},1,null,null,null,null,null,"s18",{"$f":"DM34+0.5*(DM31-DM34)","v":7.3597999999999999},{"$f":"DN34-0.3*(DN34-DN31)","v":98.234054999999998},null,null,null,null,null,null,null,null,null,{"$f":"DX33","v":34.511645083119973},{"$f":"DY33","v":50.978831929341148},"s'11",null,"j4",{"$f":"IF('متغیرها '!C17<1,'متغیرها '!C17*'متغیرها '!U59,IF('متغیرها '!C17<2,'متغیرها '!U59+('متغیرها '!C17-1)*('متغیرها '!U60-'متغیرها '!U59),IF('متغیرها '!C17<3,'متغیرها '!U60+('متغیرها '!C17-2)*(I105-'متغیرها '!U60),I105+('متغیرها '!C17-3)*(H127-H126))))","v":0},"چادر 3",null,null,null,null,null,null,null,null,null,{"$f":"EN37-ER45*SIN(ER46-RADIANS(45)+ER42)","v":21.084691322302525},9,{"$f":"EP37-ER40*SIN(ER46-RADIANS(45)+ER42)","v":28.420556755939138},{"$f":"EQ37+ER40*COS(ER46-RADIANS(45)+ER42)","v":63.207344242385716},{"$f":"ER37+ER45*COS(ER46-RADIANS(45)+ER42)","v":66.281491710656098},null,null,null,null,null,null,null,null,null,null,null,null,null,null,null,null,null,null,null,null,null,null,null,null,null,{"$f":"FO18","v":36.491544070442309},{"$f":"FP18","v":62.858225853275144},"s''10",null,null,null,null,null,null,40,{"$f":"GB12+GE12*SIN(RADIANS(GA35)+GA14)","v":{"$error":"#DIV/0!"}},{"$f":"GC12+GE12*COS(RADIANS(GA35)+GA14)","v":{"$error":"#DIV/0!"}},{"$f":"IF(GB13>GB35,ATAN((GC13-GC35)/(GB13-GB35)),ATAN((GC13-GC35)/(GB35-GB13)))","v":{"$error":"#DIV/0!"}},{"$f":"IF(GB13>GB35,(GB13-GB35)/COS(GD35),(GB35-GB13)/COS(GD35))","v":{"$error":"#DIV/0!"}},null,null,null,null,null,null,null,null,null,"متغیر ورودی طول","a21",1,null,null,null,{"$f":"GU34+GT11","v":-52},-0.90757121103705141,{"$f":"HB13+HB10*COS(GV35)","v":{"$error":"#REF!"}},{"$f":"HC13-HB10*SIN(GV35)","v":{"$error":"#REF!"}},{"$f":"SQRT(POWER((HB12-GW35),2)+POWER((HC12-GX35),2))","v":{"$error":"#REF!"}},{"$f":"ABS(HB9-GY35)","v":{"$error":"#REF!"}},null,"مولفه افقی","مولفه عمودی","اسم نقطه ورودی",null,null,null,null,null,null,null,null,null,null,{"$f":"-HK35+HP9","v":0},0,null,null,null,null,null,null,null,null,null,null,null,null,null,null,null,null,null,null,null,null,null,null,null,null,null,null,null,null,null,null,null,null,null,null,null,null,null,null,null,null,null,null,null,null,null,null,null,null,null,null,null,null,null,null,null,null,null,null,null,null,null,null,null,null,null,null,null,null,null,null,null,null,null,null,null,null,null,null,null,null,null,null,null,null,null,null,null,null,null,null,null,null,null,null,null,null,null,null,null,null,null,null,null,null,null,null,null,null,null,null,null,null,null,null,null,null,null,null,null,null,null,null,null,null,null,null,null,null,null,null,null,null,null,null,null,null,null,null,null,null,null,null,null,null,null,null,null,null,null,null,null,null,null,null,null,null,null,null,null,null,"h3",{"$f":"'متغیرها '!C856","v":4.5},"طول باکس نوشته",null,"ارتفاع نیم دایره",{"$f":"NV44","v":0.5892857142857143},"بزرگی فلش",{"$f":"NZ38","v":25.124999999999993},{"$f":"OA38","v":2},{"$f":"NY38","v":"w2"},null,"Ym1",{"$f":"NV31","v":2},"جابجایی عمودی کل نقشه",null,"ارتفاع نیم دایره",{"$f":"OG48","v":0.41596638655462181},"بزرگی فلش",{"$f":"OK38","v":36.64},{"$f":"OL38","v":2},{"$f":"OJ38","v":"m2"},null,"Ym1",{"$f":"NV31","v":2},"جابجایی عمودی کل نقشه",null,"ارتفاع نیم دایره",{"$f":"OR48","v":0.41596638655462181},"بزرگی فلش",{"$f":"OV38","v":33.07},{"$f":"OW38","v":2},{"$f":"OU38","v":"m2"}]
[null,null,null,null,"پهنای مچ آستین (cm)     b14",{"$f":"ROUNDUP(CA513-CA511,0)","v":8},null,null,null,null,"a2",{"$f":"IF((ROUND(0.6*L12,0)-6)<0,\" خطا  \",(ROUND(0.6*L12,0)-6))","v":4},null,"e4",{"$f":"ROUND(0.65*(O37),0)","v":41},null,"e4",{"$f":"ROUND(0.66*(R37),0)","v":49},null,{"$error":"#DIV/0!"},0,{"$f":"(10/3)*((Y36/X36)*(1/L6)-1)","v":-3.3333333333333335},{"$f":"(100/68)*((AA36/Z36)*(1/L7)-1)","v":{"$error":"#DIV/0!"}},13.5,null,null,36,null,30,null,null,null,null,null,null,null,null,null,null,null,null,null,null,null,null,null,null,null,null,null,null,null,null,null,null,null,null,null,null,null,null,null,null,null,null,null,null,null,null,null,null,null,null,null,null,null,null,null,null,null,null,null,null,null,null,null,{"$f":"CI14","v":5},{"$f":"CJ23+'طراحی همه الگوها'!U177+CJ15","v":106},"j1",null,{"$f":"CI44","v":7},{"$f":"CJ44","v":57},"j10",null,null,null,null,null,null,null,null,null,null,null,"محاسبات",null,null,{"$f":"DD15","v":0},{"$f":"DE15-'طراحی همه الگوها'!U205","v":103},21,null,null,null,null,null,"s19",{"$f":"DM18+'متغیرها '!C13*'متغیرها '!U83*COS(DM17)","v":49.750246041784749},{"$f":"DN18-'متغیرها '!C13*'متغیرها '!U83*SIN(DM17)","v":71.159867775352112},null,{"$f":"DM27","v":35.110411082048479},{"$f":"DN27","v":76.251550439431213},"s10",null,null,null,null,null,{"$f":"DU20","v":30.23364905694136},{"$f":"DV20","v":54.125457105621287},"s'12",null,"(1 → 5)",{"$f":"DB38-'متغیرها '!C19*'متغیرها '!U83","v":58.894804325187991},null,{"$f":"EC32","v":120},{"$f":"EC33","v":97.1},17,null,{"$f":"EE20","v":110},{"$f":"EF20","v":107.1},10,null,null,{"$f":"EP29+DB38*COS(RADIANS(45))","v":50.357226116224616},10,{"$f":"EP29+'طراحی همه الگوها'!U236*COS(RADIANS(45))","v":50.325544674057696},{"$f":"EQ29-'طراحی همه الگوها'!U236*SIN(RADIANS(45))","v":60.674455325942311},{"$f":"EQ29-DB38*SIN(RADIANS(45))","v":60.642773883775391},null,{"$f":"EP36","v":50.325544674057696},{"$f":"EQ36","v":60.674455325942311},10,null,{"$f":"EP35","v":28.420556755939138},{"$f":"EQ35","v":63.207344242385716},9,null,null,null,null,null,{"$f":"FF31+'طراحی همه الگوها'!U260","v":35.6},{"$f":"FG31","v":63.5},16,null,{"$f":"FJ19","v":28.5},{"$f":"FG31","v":63.5},25,null,null,null,null,null,{"$f":"FO19","v":41.441291538748139},{"$f":"FP19","v":57.908478384969314},"k4 شبیه ساز",null,null,null,null,null,null,42,{"$f":"GB12+GE12*SIN(RADIANS(GA36)+GA14)","v":{"$error":"#DIV/0!"}},{"$f":"GC12+GE12*COS(RADIANS(GA36)+GA14)","v":{"$error":"#DIV/0!"}},{"$f":"IF(GB13>GB36,ATAN((GC13-GC36)/(GB13-GB36)),ATAN((GC13-GC36)/(GB36-GB13)))","v":{"$error":"#DIV/0!"}},{"$f":"IF(GB13>GB36,(GB13-GB36)/COS(GD36),(GB36-GB13)/COS(GD36))","v":{"$error":"#DIV/0!"}},null,null,null,null,null,null,null,null,null,null,null,"ماکزیمم متغیر ورودی  ضریب طول",1,null,null,{"$f":"GU35+GT11","v":-50},-0.87266462599716477,{"$f":"HB13+HB10*COS(GV36)","v":{"$error":"#REF!"}},{"$f":"HC13-HB10*SIN(GV36)","v":{"$error":"#REF!"}},{"$f":"SQRT(POWER((HB12-GW36),2)+POWER((HC12-GX36),2))","v":{"$error":"#REF!"}},{"$f":"ABS(HB9-GY36)","v":{"$error":"#REF!"}},null,0,0,1,"نقطه اول خط تقارن","نقاط قرینه شده نسبت به خط تقارن",null,null,null,null,null,null,null,null,{"$f":"-HK36+HP9","v":0},0,null,null,null,null,null,null,null,null,null,null,null,null,null,null,null,null,null,null,null,null,null,null,null,null,null,null,null,null,null,null,null,null,null,null,null,null,null,null,null,null,null,null,null,null,null,null,null,null,null,null,null,null,null,null,null,null,null,null,null,null,null,null,null,null,null,null,null,null,null,null,null,null,null,null,null,null,null,null,null,null,null,null,null,null,null,null,null,null,null,null,null,null,null,null,null,null,null,null,null,null,null,null,null,null,null,null,null,null,null,null,null,null,null,null,null,null,null,null,null,null,null,null,null,null,null,null,null,null,null,null,null,null,null,null,null,null,null,null,null,null,null,null,null,null,null,null,null,null,null,null,null,null,null,null,null,null,null,null,null,null,"h4",{"$f":"'متغیرها '!C857","v":0.5},"پهنای باکس نوشته",null,"پهنای نیم دایره",{"$f":"NV34","v":0.25},{"$f":"NV46","v":0.35357142857142865},{"$f":"NZ42","v":25.228124999999991},{"$f":"OA42","v":2.0825},{"$f":"NY42","v":"g5"},null,"w'12",{"$f":"NV32","v":42},"نسبت نقشه بافت به سایز واقعی",null,"پهنای نیم دایره",{"$f":"OG38","v":0.25},{"$f":"OG50","v":0.24957983193277314},{"$f":"OK42","v":36.712794117647064},{"$f":"OL42","v":2.0582352941176469},{"$f":"OJ42","v":"g5"},null,"w'12",{"$f":"NV32","v":42},"نسبت نقشه بافت به سایز واقعی",null,"پهنای نیم دایره",{"$f":"OR38","v":0.25},{"$f":"OR50","v":0.24957983193277314},{"$f":"OV42","v":33.142794117647057},{"$f":"OW42","v":2.0582352941176469},{"$f":"OU42","v":"g5"}]
[null,null,null,null,"گشادی مچ جدار در پایین آستین (cm)     b15",{"$f":"ROUND(BZ520-BZ519,0)","v":35},null,null,null,null,"a3",{"$f":"ROUND(0.33*L39,0)","v":35},null,"e5",{"$f":"ROUND(0.28*(O33),0)","v":63},null,"e5",{"$f":"ROUND(0.35*(R33),0)","v":74},null,{"$error":"#DIV/0!"},0,{"$f":"(10/3)*((Y37/X37)*(1/L6)-1)","v":-3.3333333333333335},{"$f":"(100/68)*((AA37/Z37)*(1/L7)-1)","v":{"$error":"#DIV/0!"}},13.5,null,null,36,null,31,null,null,null,null,null,null,null,null,null,null,null,null,null,null,null,null,null,null,null,null,null,null,null,null,null,null,null,null,null,null,null,null,null,null,null,null,null,null,null,null,null,null,null,null,null,null,null,null,null,null,null,null,null,null,null,null,null,{"$f":"CI36","v":5},{"$f":"CJ36-'طراحی همه الگوها'!U177","v":59},"j2",null,null,null,null,null,null,null,null,null,null,null,null,null,null,null,"مولفه افقی نقطه 1",{"$f":"0","v":0},null,{"$f":"DD16","v":13},{"$f":"DE16-'طراحی همه الگوها'!U206","v":104.5},22,null,null,null,null,null,"s20",{"$f":"DM27-0.25*'متغیرها '!U84*SIN(DM17)","v":34.042800200870602},{"$f":"DN27-0.25*'متغیرها '!U84*COS(DM17)","v":73.181907625292965},null,{"$f":"DM36","v":49.750246041784749},{"$f":"DN36","v":71.159867775352112},"s19",null,null,null,null,null,null,null,null,null,"زاویه مچ",15,null,{"$f":"EC32+'طراحی همه الگوها'!U224","v":125.3},{"$f":"EC33","v":97.1},18,null,{"$f":"EI15","v":110.3},{"$f":"EJ15","v":107.1},13,null,null,{"$f":"EN36-'متغیرها '!U84*COS(RADIANS(45))","v":41.164837960799495},11,{"$f":"EP36-'طراحی همه الگوها'!U237*COS(RADIANS(45))","v":42.476659402887016},{"$f":"EQ36-'طراحی همه الگوها'!U237*SIN(RADIANS(45))","v":52.825570054771632},{"$f":"ER36-'متغیرها '!U84*SIN(RADIANS(45))","v":51.45038572835027},null,null,null,null,null,{"$f":"EP34","v":47.858300235904593},{"$f":"EQ34","v":9.8025829460293181},8,null,null,null,null,null,{"$f":"FF36","v":35.6},{"$f":"FG31+'طراحی همه الگوها'!U261","v":76.3},17,null,{"$f":"FJ19","v":28.5},{"$f":"FK19","v":73.900000000000006},26,null,null,null,null,null,null,null,null,null,null,null,null,null,null,44,{"$f":"GB12+GE12*SIN(RADIANS(GA37)+GA14)","v":{"$error":"#DIV/0!"}},{"$f":"GC12+GE12*COS(RADIANS(GA37)+GA14)","v":{"$error":"#DIV/0!"}},{"$f":"IF(GB13>GB37,ATAN((GC13-GC37)/(GB13-GB37)),ATAN((GC13-GC37)/(GB37-GB13)))","v":{"$error":"#DIV/0!"}},{"$f":"IF(GB13>GB37,(GB13-GB37)/COS(GD37),(GB37-GB13)/COS(GD37))","v":{"$error":"#DIV/0!"}},null,null,null,null,null,null,null,null,null,"m1",{"$f":"ATAN((-GQ33+GQ32)/(GR32-GR33))","v":{"$error":"#REF!"}},"m2",{"$f":"SQRT(POWER(GQ32-GQ33,2)+POWER(GR32-GR33,2))","v":{"$error":"#REF!"}},null,null,{"$f":"GU36+GT11","v":-48},-0.83775804095727824,{"$f":"HB13+HB10*COS(GV37)","v":{"$error":"#REF!"}},{"$f":"HC13-HB10*SIN(GV37)","v":{"$error":"#REF!"}},{"$f":"SQRT(POWER((HB12-GW37),2)+POWER((HC12-GX37),2))","v":{"$error":"#REF!"}},{"$f":"ABS(HB9-GY37)","v":{"$error":"#REF!"}},null,{"$f":"HF29","v":0},{"$f":"HG29","v":0},2,"نقطه دوم خط تقارن","مولفه افقی","مولفه عمودی","اسم نقطه ",null,null,null,null,null,null,{"$f":"-HK37+HP9","v":0},0,null,null,null,null,null,null,null,null,null,null,null,null,null,null,null,null,null,null,null,null,null,null,null,null,null,null,null,null,null,null,null,null,null,null,null,null,null,null,null,null,null,null,null,null,null,null,null,null,null,null,null,null,null,null,null,null,null,null,null,null,null,null,null,null,null,null,null,null,null,null,null,null,null,null,null,null,null,null,null,null,null,null,null,null,null,null,null,null,null,null,null,null,null,null,null,null,null,null,null,null,null,null,null,null,null,null,null,null,null,null,null,null,null,null,null,null,null,null,null,null,null,null,null,null,null,null,null,null,null,null,null,null,null,null,null,null,null,null,null,null,null,null,null,null,null,null,null,null,null,null,null,null,null,null,null,null,null,null,null,null,"f'4",{"$f":"'متغیرها '!C858","v":0.60000000000000009},"بزرگی فلش رج",null,"نقطه شروع انحنا","مولفه افقی","مولفه عمودی",{"$f":"NZ41","v":25.27232142857142},{"$f":"OA41","v":2.2946428571428572},{"$f":"NY41","v":"g4"},null,"w11",{"$f":"'متغیرها '!C854/OG55","v":0.41596638655462181},"ارتفاع هر رج",null,"نقطه شروع انحنا","مولفه افقی","مولفه عمودی",{"$f":"OK41","v":36.743991596638658},{"$f":"OL41","v":2.2079831932773111},{"$f":"OJ41","v":"g4"},null,"w11",{"$f":"'متغیرها '!C854/OR55","v":0.41596638655462181},"ارتفاع هر رج",null,"نقطه شروع انحنا","مولفه افقی","مولفه عمودی",{"$f":"OV41","v":33.173991596638658},{"$f":"OW41","v":2.2079831932773111},{"$f":"OU41","v":"g4"}]
[null,null,null,null,"در بالای مچ هر b12   دانه یکی کم شود",{"$f":"F22","v":-3},null,null,null,null,"a4",{"$f":"ROUND(0.66*L39,0)","v":69},null,"e6",{"$f":"O34","v":7},null,"e6",{"$f":"R34","v":7},null,{"$error":"#DIV/0!"},0,{"$f":"(10/3)*((Y38/X38)*(1/L6)-1)","v":-3.3333333333333335},{"$f":"(100/68)*((AA38/Z38)*(1/L7)-1)","v":{"$error":"#DIV/0!"}},13.5,null,null,36,null,32,null,null,null,null,null,null,null,null,null,null,null,null,null,null,null,null,null,null,null,null,null,null,null,null,null,null,null,null,null,null,null,null,null,null,null,null,null,null,null,null,null,null,null,null,null,null,null,null,null,null,null,null,null,null,null,null,null,{"$f":"CI36+'طراحی همه الگوها'!U178","v":15.5},{"$f":"CJ36","v":106},"j3",null,{"$f":"CI44","v":7},{"$f":"CJ44","v":57},"j10",null,null,null,null,null,null,null,null,null,null,null,"نوک سر تا مچ دست شبیه ساز  a3",{"$f":"1.03*(SQRT(POWER(0.5*H168,2)+POWER((0.47*'متغیرها '!U85+H167*SIN('متغیرها '!B245)),2)))+'متغیرها '!U83","v":64.144804325187991},null,null,null,null,null,null,null,null,null,null,null,null,null,null,null,null,null,null,null,null,null,{"$f":"DX36","v":30.23364905694136},{"$f":"DY36","v":54.125457105621287},"s'12",null," شبیه سازαk1",{"$f":"F423","v":1.3853219027147194},null,{"$f":"EC32+'طراحی همه الگوها'!U224","v":125.3},{"$f":"EC33-'طراحی همه الگوها'!U226","v":87.3},20,null,null,null,null,null,null,null,null,null,null,null,null,null,null,null,null,null,null,null,null,null,null,null,null,null,null,null,null,null,null,null,null,null,null,null,null,{"$f":"FO27","v":31.55},{"$f":"FP27","v":5},"s13",null,null,null,null,null,null,46,{"$f":"GB12+GE12*SIN(RADIANS(GA38)+GA14)","v":{"$error":"#DIV/0!"}},{"$f":"GC12+GE12*COS(RADIANS(GA38)+GA14)","v":{"$error":"#DIV/0!"}},{"$f":"IF(GB13>GB38,ATAN((GC13-GC38)/(GB13-GB38)),ATAN((GC13-GC38)/(GB38-GB13)))","v":{"$error":"#DIV/0!"}},{"$f":"IF(GB13>GB38,(GB13-GB38)/COS(GD38),(GB38-GB13)/COS(GD38))","v":{"$error":"#DIV/0!"}},null,null,null,null,null,null,null,null,null,"نقطه خروجی بالا","s'u9",{"$f":"GQ32-GQ34*COS(GP37)","v":{"$error":"#REF!"}},{"$f":"GR32+GQ34*SIN(GP37)","v":{"$error":"#REF!"}},null,null,{"$f":"GU37+GT11","v":-46},-0.8028514559173916,{"$f":"HB13+HB10*COS(GV38)","v":{"$error":"#REF!"}},{"$f":"HC13-HB10*SIN(GV38)","v":{"$error":"#REF!"}},{"$f":"SQRT(POWER((HB12-GW38),2)+POWER((HC12-GX38),2))","v":{"$error":"#REF!"}},{"$f":"ABS(HB9-GY38)","v":{"$error":"#REF!"}},null,0,0,3,null,{"$f":"HB38+2*(SIN(ATAN((HB37-HB36)/(HC37-HC36)))*(HC38-HC36)+COS(ATAN((HB37-HB36)/(HC37-HC36)))*(HB36-HB38))*COS(ATAN((HB37-HB36)/(HC37-HC36)))","v":{"$error":"#DIV/0!"}},{"$f":"HC38-2*(SIN(ATAN((HB37-HB36)/(HC37-HC36)))*(HC38-HC36)+COS(ATAN((HB37-HB36)/(HC37-HC36)))*(HB36-HB38))*SIN(ATAN((HB37-HB36)/(HC37-HC36)))","v":{"$error":"#DIV/0!"}},{"$f":"HD38","v":3},null,null,null,null,null,null,{"$f":"-HK38+HP9","v":0},0,null,null,null,null,null,null,null,null,null,null,null,null,null,null,null,null,null,null,null,null,null,null,null,null,null,null,null,null,null,null,null,null,null,null,null,null,null,null,null,null,null,null,null,null,null,null,null,null,null,null,null,null,null,null,null,null,null,null,null,null,null,null,null,null,null,null,null,null,null,null,null,null,null,null,null,null,null,null,null,null,null,null,null,null,null,null,null,null,null,null,null,null,null,null,null,null,null,null,null,null,null,null,null,null,null,null,null,null,null,null,null,null,null,null,null,null,null,null,null,null,null,null,null,null,null,null,null,null,null,null,null,null,null,null,null,null,null,null,null,null,null,null,null,null,null,null,null,null,null,null,null,null,null,null,null,null,null,null,null,null,"f5",{"$f":"'متغیرها '!C859","v":0.5},"زاویه فلش رج",null,"w2",{"$f":"NU49","v":25.124999999999993},{"$f":"NV49","v":2},{"$f":"NZ43","v":25.228124999999991},{"$f":"OA43","v":2.5067857142857144},{"$f":"NY43","v":"g6"},null,"g9",{"$f":"NV34","v":0.25},"پهنای نیم دایره",null,"m2",{"$f":"OF60","v":36.64},{"$f":"OG60","v":2},{"$f":"OK43","v":36.712794117647064},{"$f":"OL43","v":2.3577310924369748},{"$f":"OJ43","v":"g6"},null,"g9",{"$f":"NV34","v":0.25},"پهنای نیم دایره",null,"m2",{"$f":"OQ60","v":33.07},{"$f":"OR60","v":2},{"$f":"OV43","v":33.142794117647057},{"$f":"OW43","v":2.3577310924369748},{"$f":"OU43","v":"g6"}]
[null,null,null,null,"هر b11   رج در بافت آستین یکدانه از ابتدا و یکدانه از انتها کم شود",{"$f":"F19","v":-2},null,null,null,null,"a5",{"$f":"ROUND(0.35*L35,0)","v":105},null,"e7",{"$f":"ROUND(P18*F12,0)","v":0},null,"e7",{"$f":"O39","v":0},null,{"$f":"AA39/Z39","v":{"$error":"#DIV/0!"}},{"$f":"Y39/X39","v":0},{"$f":"(10/3)*((Y39/X39)*(1/L6)-1)","v":-3.3333333333333335},{"$f":"(100/68)*((AA39/Z39)*(1/L7)-1)","v":{"$error":"#DIV/0!"}},13.5,null,null,36,null,33,null,null,null,null,null,null,null,null,null,null,null,null,null,null,null,null,null,null,null,null,null,null,null,null,null,null,null,null,null,null,null,null,null,null,null,null,null,null,null,null,null,null,null,null,null,null,null,null,null,null,null,null,null,null,null,null,null,{"$f":"'طراحی همه الگوها'!U178+'طراحی همه الگوها'!U177+CI36","v":62.5},{"$f":"CJ36","v":106},"j5",null,{"$f":"CI43","v":5},{"$f":"CJ43","v":57},"j9",null,null,null,null,null,null,null,null,null,null,null,null,null,null,null,null,null,null,null,null,null,null,"محاسبات طراحی چادر 2",null,null,null,{"$f":"DP37","v":49.750246041784749},{"$f":"DQ37","v":71.159867775352112},"s19",null,null,null,null,null,{"$f":"DU18","v":37.728980937518763},{"$f":"DV18","v":61.62078898619869},"s'10",null,"(k4 →k5)شبیه ساز",{"$f":"F425","v":6.5107086335742137},null,{"$f":"EC32","v":120},{"$f":"EC33-'طراحی همه الگوها'!U225","v":86.5},19,null,{"$f":"EE37","v":125.3},{"$f":"EF37","v":97.1},18,null,null,null,null,null,"j4",{"$f":"IF('متغیرها '!C25<1,'متغیرها '!C25*'متغیرها '!U59,IF('متغیرها '!C25<2,'متغیرها '!U59+('متغیرها '!C25-1)*('متغیرها '!U60-'متغیرها '!U59),IF('متغیرها '!C25<3,'متغیرها '!U60+('متغیرها '!C25-2)*(I105-'متغیرها '!U60),I105+('متغیرها '!C25-3)*(H127-H126))))","v":0},null,null,null,null,null,{"$f":"EP29","v":5},{"$f":"EQ29","v":106},1,null,null,null,null,null,{"$f":"FF13","v":0},{"$f":"FG33-FC43","v":125.6},"19'",null,{"$f":"FJ13","v":69.125},{"$f":"FG33","v":136.1},27,null,null,null,null,null,{"$f":"FO30","v":5},{"$f":"FP30","v":5},2,null,null,null,null,null,null,48,{"$f":"GB12+GE12*SIN(RADIANS(GA39)+GA14)","v":{"$error":"#DIV/0!"}},{"$f":"GC12+GE12*COS(RADIANS(GA39)+GA14)","v":{"$error":"#DIV/0!"}},{"$f":"IF(GB13>GB39,ATAN((GC13-GC39)/(GB13-GB39)),ATAN((GC13-GC39)/(GB39-GB13)))","v":{"$error":"#DIV/0!"}},{"$f":"IF(GB13>GB39,(GB13-GB39)/COS(GD39),(GB39-GB13)/COS(GD39))","v":{"$error":"#DIV/0!"}},null,null,null,null,null,null,null,null,null,"نقطه خروجی پایین","s'd8",{"$f":"GQ40-GQ34*COS(GP37)","v":{"$error":"#REF!"}},{"$f":"GR40+GQ34*SIN(GP37)","v":{"$error":"#REF!"}},null,null,{"$f":"GU38+GT11","v":-44},-0.76794487087750496,{"$f":"HB13+HB10*COS(GV39)","v":{"$error":"#REF!"}},{"$f":"HC13-HB10*SIN(GV39)","v":{"$error":"#REF!"}},{"$f":"SQRT(POWER((HB12-GW39),2)+POWER((HC12-GX39),2))","v":{"$error":"#REF!"}},{"$f":"ABS(HB9-GY39)","v":{"$error":"#REF!"}},null,0,0,4,null,{"$f":"HB39+2*(SIN(ATAN((HB37-HB36)/(HC37-HC36)))*(HC39-HC36)+COS(ATAN((HB37-HB36)/(HC37-HC36)))*(HB36-HB39))*COS(ATAN((HB37-HB36)/(HC37-HC36)))","v":{"$error":"#DIV/0!"}},{"$f":"HC39-2*(SIN(ATAN((HB37-HB36)/(HC37-HC36)))*(HC39-HC36)+COS(ATAN((HB37-HB36)/(HC37-HC36)))*(HB36-HB39))*SIN(ATAN((HB37-HB36)/(HC37-HC36)))","v":{"$error":"#DIV/0!"}},{"$f":"HD39","v":4},null,null,null,null,null,null,{"$f":"-HK39+HP9","v":0},0,null,null,null,null,null,null,null,null,null,null,null,null,null,null,null,null,null,null,null,null,null,null,null,null,null,null,null,null,null,null,null,null,null,null,null,null,null,null,null,null,null,null,null,null,null,null,null,null,null,null,null,null,null,null,null,null,null,null,null,null,null,null,null,null,null,null,null,null,null,null,null,null,null,null,null,null,null,null,null,null,null,null,null,null,null,null,null,null,null,null,null,null,null,null,null,null,null,null,null,null,null,null,null,null,null,null,null,null,null,null,null,null,null,null,null,null,null,null,null,null,null,null,null,null,null,null,null,null,null,null,null,null,null,null,null,null,null,null,null,null,null,null,null,null,null,null,null,null,null,null,null,null,null,null,null,null,null,null,null,null,null,{"$f":"L18","v":4.2424242424242422}," aa0 تعداد رج در یک سانت",null,"نقاط خروجی","مولفه افقی","مولفه عمودی",{"$f":"NZ40","v":25.124999999999993},{"$f":"OA40","v":2.5892857142857144},{"$f":"NY40","v":"g2"},null,"h3",{"$f":"NV35","v":4.5},"طول باکس نوشته",null,"نقاط خروجی","مولفه افقی","مولفه عمودی",{"$f":"OK40","v":36.64},{"$f":"OL40","v":2.4159663865546217},{"$f":"OJ40","v":"g2"},null,"h3",{"$f":"NV35","v":4.5},"طول باکس نوشته",null,"نقاط خروجی","مولفه افقی","مولفه عمودی",{"$f":"OV40","v":33.07},{"$f":"OW40","v":2.4159663865546217},{"$f":"OU40","v":"g2"}]
[null,null,null,null,null,null,null,null,null,null,"a6",{"$f":"ROUND(0.4*L12,0)","v":6},null,"e8",{"$f":"2*O39-4","v":-4},null,"e8",-4,null,{"$error":"#DIV/0!"},0,{"$f":"(10/3)*((Y40/X40)*(1/L6)-1)","v":-3.3333333333333335},{"$f":"(100/68)*((AA40/Z40)*(1/L7)-1)","v":{"$error":"#DIV/0!"}},13.5,null,null,36,null,{"$f":"AC39+1","v":34},null,null,null,null,null,null,null,null,null,null,null,null,null,null,null,null,null,null,null,null,null,null,null,null,null,null,null,null,null,null,null,null,null,null,null,null,null,null,null,null,null,null,null,null,null,null,null,null,null,null,null,null,null,null,null,null,null,{"$f":"'طراحی همه الگوها'!U179+CI36","v":10},{"$f":"CJ36","v":106},"j6",null,null,null,null,null,null,null,null,null,null,null,null,null,null,null,null,null,null,null,null,null,null,null,null,null,null,"αs2",{"$f":"ATAN((DN13-DN14)/(DM14-DM13))","v":1.2797915301166585},null,null,{"$f":"DM29","v":46.103944262992613},{"$f":"DN29","v":60.675856933218398},"s11",null,null,null,null,null,null,null,null,null,"زاویه خم بودن دست",{"$f":"K390","v":25.822506667383703},null,{"$f":"EC32","v":120},{"$f":"EC33","v":97.1},17,null,null,null,null,null,null,null,null,null,"(9→11)",{"$f":"'متغیرها '!C29*ER45+'متغیرها '!C27*'متغیرها '!U83","v":17.474417212146026},null,null,null,null,null,{"$f":"EP30","v":-0.79999999999999982},{"$f":"EQ30","v":-5.5},3,null,null,null,null,null,null,null,null,null,{"$f":"FJ13","v":69.125},{"$f":"FK13","v":99.8},28,null,null,null,null,null,null,null,null,null,null,null,null,null,null,50,{"$f":"GB12+GE12*SIN(RADIANS(GA40)+GA14)","v":{"$error":"#DIV/0!"}},{"$f":"GC12+GE12*COS(RADIANS(GA40)+GA14)","v":{"$error":"#DIV/0!"}},{"$f":"IF(GB13>GB40,ATAN((GC13-GC40)/(GB13-GB40)),ATAN((GC13-GC40)/(GB40-GB13)))","v":{"$error":"#DIV/0!"}},{"$f":"IF(GB13>GB40,(GB13-GB40)/COS(GD40),(GB40-GB13)/COS(GD40))","v":{"$error":"#DIV/0!"}},null,null,null,null,null,null,null,null,null,"نقطه خروجی میانه",null,{"$f":"GQ32-GQ35*GR37*SIN(GP37)/GR36","v":{"$error":"#REF!"}},{"$f":"GR32-GQ35*GR37*COS(GP37)/GR36","v":{"$error":"#REF!"}},null,null,{"$f":"GU39+GT11","v":-42},-0.73303828583761843,{"$f":"HB13+HB10*COS(GV40)","v":{"$error":"#REF!"}},{"$f":"HC13-HB10*SIN(GV40)","v":{"$error":"#REF!"}},{"$f":"SQRT(POWER((HB12-GW40),2)+POWER((HC12-GX40),2))","v":{"$error":"#REF!"}},{"$f":"ABS(HB9-GY40)","v":{"$error":"#REF!"}},null,{"$f":"HF30","v":0},{"$f":"HG30","v":0},5,null,{"$f":"HB40+2*(SIN(ATAN((HB37-HB36)/(HC37-HC36)))*(HC40-HC36)+COS(ATAN((HB37-HB36)/(HC37-HC36)))*(HB36-HB40))*COS(ATAN((HB37-HB36)/(HC37-HC36)))","v":{"$error":"#DIV/0!"}},{"$f":"HC40-2*(SIN(ATAN((HB37-HB36)/(HC37-HC36)))*(HC40-HC36)+COS(ATAN((HB37-HB36)/(HC37-HC36)))*(HB36-HB40))*SIN(ATAN((HB37-HB36)/(HC37-HC36)))","v":{"$error":"#DIV/0!"}},{"$f":"HD40","v":5},null,null,null,null,null,null,{"$f":"-HK40+HP9","v":0},0,null,null,null,null,null,null,null,null,null,null,null,null,null,null,null,null,null,null,null,null,null,null,null,null,null,null,null,null,null,null,null,null,null,null,null,null,null,null,null,null,null,null,null,null,null,null,null,null,null,null,null,null,null,null,null,null,null,null,null,null,null,null,null,null,null,null,null,null,null,null,null,null,null,null,null,null,null,null,null,null,null,null,null,null,null,null,null,null,null,null,null,null,null,null,null,null,null,null,null,null,null,null,null,null,null,null,null,null,null,null,null,null,null,null,null,null,null,null,null,null,null,null,null,null,null,null,null,null,null,null,null,null,null,null,null,null,null,null,null,null,null,null,null,null,null,null,null,null,null,null,null,null,null,null,null,null,null,null,null,null,null,{"$f":"L19","v":5.7142857142857144},"تعداد دانه در یک سانت ab0 ",null,"g2",{"$f":"NZ38","v":25.124999999999993},{"$f":"OA38+NZ35","v":2.5892857142857144},null,null,null,null,"h4",{"$f":"NV36","v":0.5},"پهنای باکس نوشته",null,"g2",{"$f":"OK38","v":36.64},{"$f":"OL38+OK35","v":2.4159663865546217},null,null,null,null,"h4",{"$f":"NV36","v":0.5},"پهنای باکس نوشته",null,"g2",{"$f":"OV38","v":33.07},{"$f":"OW38+OV35","v":2.4159663865546217}]
[null,null,null,null,"تقسیم بندی بالاتنه","تعداد دانه ها\n(بافت جودانه یا ساده)","تعداد دانه ها\n(بافت انتخابی)",null,null,null,"a10",{"$f":"I31","v":300},null,"e9",{"$f":"IF((ROUNDUP(P12*P17*P9,0)-O39-O40-3)>-1,ROUNDUP(P12*P17*P9,0)-O39-O40-3,\"خطا\")","v":19},null,"e9",19,null,{"$error":"#DIV/0!"},0,{"$f":"(10/3)*((Y41/X41)*(1/L6)-1)","v":-3.3333333333333335},{"$f":"(100/68)*((AA41/Z41)*(1/L7)-1)","v":{"$error":"#DIV/0!"}},13.5,null,null,36,null,35,null,null,null,null,null,null,null,null,null,null,null,null,null,null,null,null,null,null,null,null,null,null,null,null,null,null,null,null,null,null,null,null,null,null,null,null,null,null,null,null,null,null,null,null,null,null,null,null,null,null,null,null,null,null,null,null,null,{"$f":"CI36","v":5},{"$f":"CJ42","v":92},"j7",null,{"$f":"CI43","v":5},{"$f":"CJ43","v":57},"j9",null,null,null,null,null,null,null,null,null,null,null,null,null,null,null,null,null,null,null,null,null,null,"(s2 →s3)",{"$f":"SQRT(POWER((DM14-DM13),2)+POWER((DN13-DN14),2))","v":4.9348426905835847},null,null,null,null,null,null,null,null,null,null,{"$f":"DU23","v":56.95},{"$f":"DV23","v":5},"s'13",null,"دست خمیده شبیه ساز k4",{"$f":"K384","v":41.441291538748139},{"$f":"L384","v":57.908478384969314},null,null,null,null,null,null,null,null,null,null,null,null,"(8→9)",{"$f":"ER37+'متغیرها '!C29*ER45*COS(ER46-RADIANS(45)+ER42)-EQ31","v":56.832159915964354},null,null,null,null,null,null,null,null,null,null,null,null,null,null,null,null,null,null,null,null,null,null,null,null,null,{"$f":"FR39","v":5},{"$f":"FS39","v":5},2,null,null,null,null,null,null,52,{"$f":"GB12+GE12*SIN(RADIANS(GA41)+GA14)","v":{"$error":"#DIV/0!"}},{"$f":"GC12+GE12*COS(RADIANS(GA41)+GA14)","v":{"$error":"#DIV/0!"}},{"$f":"IF(GB13>GB41,ATAN((GC13-GC41)/(GB13-GB41)),ATAN((GC13-GC41)/(GB41-GB13)))","v":{"$error":"#DIV/0!"}},{"$f":"IF(GB13>GB41,(GB13-GB41)/COS(GD41),(GB41-GB13)/COS(GD41))","v":{"$error":"#DIV/0!"}},null,null,null,null,null,null,null,null,null,null,null,null,null,null,null,{"$f":"GU40+GT11","v":-40},-0.69813170079773179,{"$f":"HB13+HB10*COS(GV41)","v":{"$error":"#REF!"}},{"$f":"HC13-HB10*SIN(GV41)","v":{"$error":"#REF!"}},{"$f":"SQRT(POWER((HB12-GW41),2)+POWER((HC12-GX41),2))","v":{"$error":"#REF!"}},{"$f":"ABS(HB9-GY41)","v":{"$error":"#REF!"}},null,null,null,null,null,null,null,null,null,null,null,null,null,null,{"$f":"-HK41+HP9","v":0},0,null,null,null,null,null,null,null,null,null,null,null,null,null,null,null,null,null,null,null,null,null,null,null,null,null,null,null,null,null,null,null,null,null,null,null,null,null,null,null,null,null,null,null,null,null,null,null,null,null,null,null,null,null,null,null,null,null,null,null,null,null,null,null,null,null,null,null,null,null,null,null,null,null,null,null,null,null,null,null,null,null,null,null,null,null,null,null,null,null,null,null,null,null,null,null,null,null,null,null,null,null,null,null,null,null,null,null,null,null,null,null,null,null,null,null,null,null,null,null,null,null,null,null,null,null,null,null,null,null,null,null,null,null,null,null,null,null,null,null,null,null,null,null,null,null,null,null,null,null,null,null,null,null,null,null,null,null,null,null,null,null,{"$f":"F8","v":2},"انتخاب ضخامت میل بافتنی   f1",null,"g4",{"$f":"NZ38+NZ36*NZ35","v":25.27232142857142},{"$f":"OA38+0.5*NZ35","v":2.2946428571428572},{"$f":"NZ45","v":24.9946065279015},{"$f":"OA45","v":2.0758114401846472},{"$f":"NY45","v":"g8"},null,"f'4",{"$f":"NV37","v":0.60000000000000009},"بزرگی فلش رج",null,"g4",{"$f":"OK38+OK36*OK35","v":36.743991596638658},{"$f":"OL38+0.5*OK35","v":2.2079831932773111},{"$f":"OK45","v":36.547963600367929},{"$f":"OL45","v":2.0535062785435128},{"$f":"OJ45","v":"g8"},null,"f'4",{"$f":"NV37","v":0.60000000000000009},"بزرگی فلش رج",null,"g4",{"$f":"OV38+OV36*OV35","v":33.173991596638658},{"$f":"OW38+0.5*OV35","v":2.2079831932773111},{"$f":"OV45","v":32.977963600367922},{"$f":"OW45","v":2.0535062785435216},{"$f":"OU45","v":"g8"}]
[null,null,null,null," b6  کل پهنای جادکمه ",{"$f":"2*F25","v":0},null,null,null,null,"a11",{"$f":"J31","v":299},null,"e10",{"$f":"N30","v":5},null,"e10",5,null,{"$error":"#DIV/0!"},0,{"$f":"(10/3)*((Y42/X42)*(1/L6)-1)","v":-3.3333333333333335},{"$f":"(100/68)*((AA42/Z42)*(1/L7)-1)","v":{"$error":"#DIV/0!"}},13.5,null,null,36,null,36,null,null,null,null,null,null,null,null,null,null,null,null,null,null,null,null,null,null,null,null,null,null,null,null,null,null,null,null,null,null,null,null,null,null,null,null,null,null,null,null,null,null,null,null,null,null,null,null,null,null,null,null,null,null,null,null,null,{"$f":"'طراحی همه الگوها'!U181+CI36","v":7},{"$f":"CJ36-'طراحی همه الگوها'!U180","v":92},"j8",null,{"$f":"CI41","v":5},{"$f":"CJ41","v":92},"j7",null,null,null,null,null,null,null,null,null,null,null,null,null,null,null,null,null,null,null,null,null,null,"(s2 →s14)",{"$f":"DM41*2*('متغیرها '!C10-0.5)","v":4.9348426905835847},null,null,{"$f":"DP40","v":46.103944262992613},{"$f":"DQ40","v":60.675856933218398},"s11",null,null,null,null,null,{"$f":"DU30","v":5},{"$f":"DV30","v":5},"2'",null,null,null,null,null,null,null,null,null,null,null,null,null,null,null,null,"α2",{"$f":"'متغیرها '!B245","v":0.33471040093341442},null,null,null,null,null,{"$f":"ET28","v":28},{"$f":"EU28","v":40.975000000000001},15,null,"j4",{"$f":"IF('متغیرها '!C37<1,'متغیرها '!C37*'متغیرها '!U59,IF('متغیرها '!C37<2,'متغیرها '!U59+('متغیرها '!C37-1)*('متغیرها '!U60-'متغیرها '!U59),IF('متغیرها '!C37<3,'متغیرها '!U60+('متغیرها '!C37-2)*(I105-'متغیرها '!U60),I105+('متغیرها '!C37-3)*(H127-H126))))","v":0},null,null,null,null,null,null,null,null,null,null,null,null,null,null,{"$f":"FO31","v":5},{"$f":"FP31","v":59.340824961544222},"s''12",null,null,null,null,null,null,54,{"$f":"GB12+GE12*SIN(RADIANS(GA42)+GA14)","v":{"$error":"#DIV/0!"}},{"$f":"GC12+GE12*COS(RADIANS(GA42)+GA14)","v":{"$error":"#DIV/0!"}},{"$f":"IF(GB13>GB42,ATAN((GC13-GC42)/(GB13-GB42)),ATAN((GC13-GC42)/(GB42-GB13)))","v":{"$error":"#DIV/0!"}},{"$f":"IF(GB13>GB42,(GB13-GB42)/COS(GD42),(GB42-GB13)/COS(GD42))","v":{"$error":"#DIV/0!"}},null,null,null,null,null,null,null,null,null,null,null,null,null,null,null,{"$f":"GU41+GT11","v":-38},-0.66322511575784526,{"$f":"HB13+HB10*COS(GV42)","v":{"$error":"#REF!"}},{"$f":"HC13-HB10*SIN(GV42)","v":{"$error":"#REF!"}},{"$f":"SQRT(POWER((HB12-GW42),2)+POWER((HC12-GX42),2))","v":{"$error":"#REF!"}},{"$f":"ABS(HB9-GY42)","v":{"$error":"#REF!"}},null,null,null,null,"یافتن راس سوم مثلث با داشتن دو راس و یک ضلع و یک زاویه",null,null,null,null,null,null,null,null,null,{"$f":"-HK42+HP9","v":0},{"$f":"HL42","v":0},null,null,null,null,null,null,null,null,null,null,null,null,null,null,null,null,null,null,null,null,null,null,null,null,null,null,null,null,null,null,null,null,null,null,null,null,null,null,null,null,null,null,null,null,null,null,null,null,null,null,null,null,null,null,null,null,null,null,null,null,null,null,null,null,null,null,null,null,null,null,null,null,null,null,null,null,null,null,null,null,null,null,null,null,null,null,null,null,null,null,null,null,null,null,null,null,null,null,null,null,null,null,null,null,null,null,null,null,null,null,null,null,null,null,null,null,null,null,null,null,null,null,null,null,null,null,null,null,null,null,null,null,null,null,null,null,null,null,null,null,null,null,null,null,null,null,null,null,null,null,null,null,null,null,null,null,null,null,null,null,null,{"$f":"L23","v":4},"بافت انتخابی یقه شکاری",null,"g5",{"$f":"NZ38+0.7*(NZ41-NZ38)","v":25.228124999999991},{"$f":"OA38+0.28*(OA41-OA38)","v":2.0825},{"$f":"NZ41","v":25.27232142857142},{"$f":"OA41","v":2.2946428571428572},{"$f":"NY41","v":"g4"},null,"f5",{"$f":"NV38","v":0.5},"زاویه فلش رج",null,"g5",{"$f":"OK38+0.7*(OK41-OK38)","v":36.712794117647064},{"$f":"OL38+0.28*(OL41-OL38)","v":2.0582352941176469},{"$f":"OK41","v":36.743991596638658},{"$f":"OL41","v":2.2079831932773111},{"$f":"OJ41","v":"g4"},null,"f5",{"$f":"NV38","v":0.5},"زاویه فلش رج",null,"g5",{"$f":"OV38+0.7*(OV41-OV38)","v":33.142794117647057},{"$f":"OW38+0.28*(OW41-OW38)","v":2.0582352941176469},{"$f":"OV41","v":33.173991596638658},{"$f":"OW41","v":2.2079831932773111},{"$f":"OU41","v":"g4"}]
[null,null,null,null,"b3  جلو بدون جادکمه\nبین خط رگلان و خط مرکزی جلو که نیمه جادکمه از آن کم شود",{"$f":"ROUNDUP(F7*(SQRT(POWER(AX129-AX131,2)+POWER(AX130,2))+SQRT(POWER(AX131-AX133,2)+POWER(AX132-AX130,2))),0)-F25","v":24},{"$f":"ROUNDUP(I7*(SQRT(POWER(AX129-AX131,2)+POWER(AX130,2))+SQRT(POWER(AX131-AX133,2)+POWER(AX132-AX130,2))),0)-F25","v":54},null,null,null,"a25",{"$f":"ROUND(I7*(F11-L15),0)","v":2},null,"e11",{"$f":"O30","v":8},null,"e11",8,null,{"$error":"#DIV/0!"},0,{"$f":"(10/3)*((Y43/X43)*(1/L6)-1)","v":-3.3333333333333335},{"$f":"(100/68)*((AA43/Z43)*(1/L7)-1)","v":{"$error":"#DIV/0!"}},13.5,null,null,36,null,37,null,null,null,null,null,null,null,null,null,null,null,null,null,null,null,null,null,null,null,null,null,null,null,null,null,null,null,null,null,null,null,null,null,null,null,null,null,null,null,null,null,null,null,null,null,null,null,null,null,null,null,null,null,null,null,null,null,{"$f":"CI36","v":5},{"$f":"CJ44","v":57},"j9",null,null,null,"انحنا",null,null,null,null,null,null,null,null,null,null,null,null,null,null,null,null,null,null,null,null,null,null,"شیفت افقی کل ",{"$f":"'متغیرها '!C51","v":5},null,null,{"$f":"DM28","v":30.708569295038156},{"$f":"DN28","v":63.595176990368884},"s12",null,null,null,null,null,null,null,null,null,null,null,null,null,null,null,null,null,null,null,null,null,null,null,null,"شیفت افقی مرغک",{"$f":"'متغیرها '!C33*0.5*('متغیرها '!U72-'متغیرها '!U73)","v":28},null,null,null,null,null,{"$f":"ET32","v":31.6},{"$f":"EU32","v":51.975000000000001},18,null,"(14 →19')",{"$f":"DM47+0.1*'متغیرها '!C40","v":10.5},null,null,"رسم چادر شماره 5   برای پرینت",null,null,null,null,null,null,null,null,null,null,null,null,null,null,null,null,null,null,null,null,56,{"$f":"GB12+GE12*SIN(RADIANS(GA43)+GA14)","v":{"$error":"#DIV/0!"}},{"$f":"GC12+GE12*COS(RADIANS(GA43)+GA14)","v":{"$error":"#DIV/0!"}},{"$f":"IF(GB13>GB43,ATAN((GC13-GC43)/(GB13-GB43)),ATAN((GC13-GC43)/(GB43-GB13)))","v":{"$error":"#DIV/0!"}},{"$f":"IF(GB13>GB43,(GB13-GB43)/COS(GD43),(GB43-GB13)/COS(GD43))","v":{"$error":"#DIV/0!"}},null,null,null,null,null,null,null,null,null,null,null,null,null,null,null,{"$f":"GU42+GT11","v":-36},-0.62831853071795862,{"$f":"HB13+HB10*COS(GV43)","v":{"$error":"#REF!"}},{"$f":"HC13-HB10*SIN(GV43)","v":{"$error":"#REF!"}},{"$f":"SQRT(POWER((HB12-GW43),2)+POWER((HC12-GX43),2))","v":{"$error":"#REF!"}},{"$f":"ABS(HB9-GY43)","v":{"$error":"#REF!"}},null,"اطلاعات  ورودی",null,null,null,null,null,null,null,null,null,null,null,null,{"$f":"-HK43+HP9","v":0},0,null,null,null,null,null,null,null,null,null,null,null,null,null,null,null,null,null,null,null,null,null,null,null,null,null,null,null,null,null,null,null,null,null,null,null,null,null,null,null,null,null,null,null,null,null,null,null,null,null,null,null,null,null,null,null,null,null,null,null,null,null,null,null,null,null,null,null,null,null,null,null,null,null,null,null,null,null,null,null,null,null,null,null,null,null,null,null,null,null,null,null,null,null,null,null,null,null,null,null,null,null,null,null,null,null,null,null,null,null,null,null,null,null,null,null,null,null,null,null,null,null,null,null,null,null,null,null,null,null,null,null,null,null,null,null,null,null,null,null,null,null,null,null,null,null,null,null,null,null,null,null,null,null,null,null,null,null,null,null,null,"محاسبات",null,null,null,"g6",{"$f":"NZ42","v":25.228124999999991},{"$f":"OA40-OA42+OA38","v":2.5067857142857144},null,null,null,null,"f9",{"$f":"'متغیرها '!C860","v":0.30000000000000004},"بزرگی خط عمودی دانه",null,"g6",{"$f":"OK42","v":36.712794117647064},{"$f":"OL40-OL42+OL38","v":2.3577310924369748},null,null,null,null,"f9",{"$f":"'متغیرها '!C860","v":0.30000000000000004},"بزرگی خط عمودی دانه",null,"g6",{"$f":"OV42","v":33.142794117647057},{"$f":"OW40-OW42+OW38","v":2.3577310924369748}]
[null,null,null,null,"b4  آستین",{"$f":"ROUNDDOWN(F7*(DE534+DE535),0)","v":27},{"$f":"ROUNDDOWN(I19*(DE534+DE535),0)","v":62},null,null,null,"خطا",{"$f":"IF((ROUND(0.6*L12,0)-6)<0,\" خطا : قد پشت یقه زیاد شود \",\" \")","v":" "},null,"خطا",{"$f":"IF((ROUNDUP(P12*P17*P9,0)-O39-O40-3)>-1,\" \",\"خطا : قد پایه یقه شومیزیه زیاد شود یا پهنای جادکمه جلو کم شود\")","v":" "},null,"خطا"," ",null,{"$error":"#DIV/0!"},0,{"$f":"(10/3)*((Y44/X44)*(1/L6)-1)","v":-3.3333333333333335},{"$f":"(100/68)*((AA44/Z44)*(1/L7)-1)","v":{"$error":"#DIV/0!"}},13.5,null,null,36,null,38,null,null,null,null,null,null,null,null,null,null,null,null,null,null,null,null,null,null,null,null,null,null,null,null,null,null,null,null,null,null,null,null,null,null,null,null,null,null,null,null,null,null,null,null,null,null,null,null,null,null,null,null,null,null,null,null,null,{"$f":"CI42","v":7},{"$f":"CJ41-'طراحی همه الگوها'!U182","v":57},"j10",null,{"$f":"CI39","v":62.5},{"$f":"CJ39","v":106},"j5",null,null,null,null,null,null,null,null,null,null,null,null,null,null,null,null,null,null,null,null,null,null,"شیفت عمودی کل",{"$f":"'متغیرها '!C52","v":5},null,null,null,null,null,null,null,null,null,null,{"$f":"DX42","v":5},{"$f":"DY42","v":5},"2'",null,null,null,null,null,null,null,null,null,null,null,null,null,null,null,null,"شیفت عمودی مرغک",{"$f":"IF('متغیرها '!C34<1,'متغیرها '!C34*'متغیرها '!U59,IF('متغیرها '!C34<2,'متغیرها '!U59+('متغیرها '!C34-1)*('متغیرها '!U60-'متغیرها '!U59),IF('متغیرها '!C34<3,'متغیرها '!U60+('متغیرها '!C34-2)*(I105-'متغیرها '!U60),I105+('متغیرها '!C34-3)*(H127-H126))))+'طراحی همه الگوها'!U245","v":40.975000000000001},null,null,null,null,null,null,null,null,null,"شیفت عمودی الگو دسته",7,null,null,null,"صاف","برای پرینت",null,null,"انحنا","برای پرینت",null,null,null,null,null,{"$f":"FR42","v":5},{"$f":"FS42","v":59.340824961544222},"s''12",null,null,null,null,null,null,58,{"$f":"GB12+GE12*SIN(RADIANS(GA44)+GA14)","v":{"$error":"#DIV/0!"}},{"$f":"GC12+GE12*COS(RADIANS(GA44)+GA14)","v":{"$error":"#DIV/0!"}},{"$f":"IF(GB13>GB44,ATAN((GC13-GC44)/(GB13-GB44)),ATAN((GC13-GC44)/(GB44-GB13)))","v":{"$error":"#DIV/0!"}},{"$f":"IF(GB13>GB44,(GB13-GB44)/COS(GD44),(GB44-GB13)/COS(GD44))","v":{"$error":"#DIV/0!"}},null,null,null,null,null,null,null,null,null,null,null,null,null,null,null,{"$f":"GU43+GT11","v":-34},-0.59341194567807209,{"$f":"HB13+HB10*COS(GV44)","v":{"$error":"#REF!"}},{"$f":"HC13-HB10*SIN(GV44)","v":{"$error":"#REF!"}},{"$f":"SQRT(POWER((HB12-GW44),2)+POWER((HC12-GX44),2))","v":{"$error":"#REF!"}},{"$f":"ABS(HB9-GY44)","v":{"$error":"#REF!"}},null,"مولفه افقی","مولفه عمودی","اسم نقطه ",null,"محاسبات ",null,null,null,null,null,null,null,null,{"$f":"-HK44+HP9","v":0},0,null,null,null,null,null,null,null,null,null,null,null,null,null,null,null,null,null,null,null,null,null,null,null,null,null,null,null,null,null,null,null,null,null,null,null,null,null,null,null,null,null,null,null,null,null,null,null,null,null,null,null,null,null,null,null,null,null,null,null,null,null,null,null,null,null,null,null,null,null,null,null,null,null,null,null,null,null,null,null,null,null,null,null,null,null,null,null,null,null,null,null,null,null,null,null,null,null,null,null,null,null,null,null,null,null,null,null,null,null,null,null,null,null,null,null,null,null,null,null,null,null,null,null,null,null,null,null,null,null,null,null,null,null,null,null,null,null,null,null,null,null,null,null,null,null,null,null,null,null,null,null,null,null,null,null,null,null,null,null,null,"g3",{"$f":"NV33","v":0.5892857142857143},"ارتفاع نیم دایره",null,"g7",{"$f":"NZ41+OA36*SIN(RADIANS(40)-ATAN((NZ41-NZ42)/(OA41-OA42+0.0001)))","v":25.439603618182229},{"$f":"OA41-OA36*COS(RADIANS(40)-ATAN((NZ41-NZ42)/(OA41-OA42+0.0001)))","v":1.9831473930650405},{"$f":"NZ41","v":25.27232142857142},{"$f":"OA41","v":2.2946428571428572},{"$f":"NY41","v":"g4"},null,"f10",{"$f":"'متغیرها '!C861","v":0.5},"بزرگی فلش دانه",null,"g7",{"$f":"OK41+OL36*SIN(RADIANS(40)-ATAN((OK41-OK42)/(OL41-OL42+0.0001)))","v":36.862081755605793},{"$f":"OL41-OL36*COS(RADIANS(40)-ATAN((OK41-OK42)/(OL41-OL42+0.0001)))","v":1.9881086680073121},{"$f":"OK41","v":36.743991596638658},{"$f":"OL41","v":2.2079831932773111},{"$f":"OJ41","v":"g4"},null,"f10",{"$f":"'متغیرها '!C861","v":0.5},"بزرگی فلش دانه",null,"g7",{"$f":"OV41+OW36*SIN(RADIANS(40)-ATAN((OV41-OV42)/(OW41-OW42+0.0001)))","v":33.292081755605786},{"$f":"OW41-OW36*COS(RADIANS(40)-ATAN((OV41-OV42)/(OW41-OW42+0.0001)))","v":1.9881086680073068},{"$f":"OV41","v":33.173991596638658},{"$f":"OW41","v":2.2079831932773111},{"$f":"OU41","v":"g4"}]
[null,null,null,null,"b5  پشت",{"$f":"ROUNDDOWN(F7*2*(SQRT(POWER(BI128-BI130,2)+POWER(BI129,2))+SQRT(POWER(BI130-BI132,2)+POWER(BI131-BI129,2))),0)","v":31},{"$f":"ROUNDDOWN(I13*2*(SQRT(POWER(BI128-BI130,2)+POWER(BI129,2))+SQRT(POWER(BI130-BI132,2)+POWER(BI131-BI129,2))),0)","v":71},null,null,null,"a22 خطا",{"$f":"ROUNDDOWN(L35-(L35/L41)*(L41-L42)-(G46-2*L43),0)","v":0},null,"خطا",{"$f":"IF(O41>0,\" \",\"خطا : قد پایه یقه شومیزیه زیاد شود \")","v":" "},null,"خطا"," ",null,{"$error":"#DIV/0!"},0,{"$f":"(10/3)*((Y45/X45)*(1/L6)-1)","v":-3.3333333333333335},{"$f":"(100/68)*((AA45/Z45)*(1/L7)-1)","v":{"$error":"#DIV/0!"}},13.5,null,null,36,null,39,null,null,null,null,null,null,null,null,null,null,null,null,null,null,null,null,null,null,null,null,null,null,null,null,null,null,null,null,null,null,null,null,null,null,null,null,null,null,null,null,null,null,null,null,null,null,null,null,null,null,null,null,null,null,null,null,null,{"$f":"CI38+'طراحی همه الگوها'!U183","v":24.5},{"$f":"CJ36","v":106},"j11",null,{"$f":"CI48","v":61.089999999999996},95.66,"j5'",null,null,null,null,null,null,null,null,null,null,null,null,null,null,null,null,null,null,null,null,null,null,"j4",{"$f":"IF('متغیرها '!C9<1,'متغیرها '!C9*'متغیرها '!U59,IF('متغیرها '!C9<2,'متغیرها '!U59+('متغیرها '!C9-1)*('متغیرها '!U60-'متغیرها '!U59),IF('متغیرها '!C9<3,'متغیرها '!U60+('متغیرها '!C9-2)*(I105-'متغیرها '!U60),I105+('متغیرها '!C9-3)*(H127-H126))))","v":0},"چادر 2",null,{"$f":"DP43","v":30.708569295038156},{"$f":"DQ43","v":63.595176990368884},"s12",null,null,null,null,null,{"$f":"DM15","v":5},{"$f":"DN15","v":70.099999999999994},"خط سینه",null,null,null,null,null,null,null,null,null,null,null,null,null,null,null,null,"شبیه ساز آستین(3→19)",{"$f":"BL516","v":24.963453160208608},null,null,null,null,null,{"$f":"ET34","v":35.200000000000003},{"$f":"EU34","v":40.975000000000001},17,null,"شیفت عمودی الگو دسته برای پرینت",{"$f":"-'متغیرها '!U56","v":-53.9},null,null,{"$f":"FF13+'طراحی همه الگوها'!U260+'طراحی همه الگوها'!U262","v":59},{"$f":"FG25+FC45","v":2.6000000000000014},13,null,{"$f":"FF45","v":59},{"$f":"FG45","v":2.6000000000000014},13,null,null,null,null,null,{"$f":"FO32","v":5},{"$f":"FP32","v":61.940824961544223},"s'12",null,null,null,null,null,null,60,{"$f":"GB12+GE12*SIN(RADIANS(GA45)+GA14)","v":{"$error":"#DIV/0!"}},{"$f":"GC12+GE12*COS(RADIANS(GA45)+GA14)","v":{"$error":"#DIV/0!"}},{"$f":"IF(GB13>GB45,ATAN((GC13-GC45)/(GB13-GB45)),ATAN((GC13-GC45)/(GB45-GB13)))","v":{"$error":"#DIV/0!"}},{"$f":"IF(GB13>GB45,(GB13-GB45)/COS(GD45),(GB45-GB13)/COS(GD45))","v":{"$error":"#DIV/0!"}},null,null,null,null,null,null,null,null,null,null,null,null,null,null,null,{"$f":"GU44+GT11","v":-32},-0.55850536063818546,{"$f":"HB13+HB10*COS(GV45)","v":{"$error":"#REF!"}},{"$f":"HC13-HB10*SIN(GV45)","v":{"$error":"#REF!"}},{"$f":"SQRT(POWER((HB12-GW45),2)+POWER((HC12-GX45),2))","v":{"$error":"#REF!"}},{"$f":"ABS(HB9-GY45)","v":{"$error":"#REF!"}},null,5,50,1,"راس بالا",{"$f":"SQRT(POWER(HB46-HB45,2)+POWER(HC45-HC46,2))","v":10.198039027185569},"m2",null,null,null,null,null,null,null,{"$f":"-HK45+HP9","v":0},0,null,null,null,null,null,null,null,null,null,null,null,null,null,null,null,null,null,null,null,null,null,null,null,null,null,null,null,null,null,null,null,null,null,null,null,null,null,null,null,null,null,null,null,null,null,null,null,null,null,null,null,null,null,null,null,null,null,null,null,null,null,null,null,null,null,null,null,null,null,null,null,null,null,null,null,null,null,null,null,null,null,null,null,null,null,null,null,null,null,null,null,null,null,null,null,null,null,null,null,null,null,null,null,null,null,null,null,null,null,null,null,null,null,null,null,null,null,null,null,null,null,null,null,null,null,null,null,null,null,null,null,null,null,null,null,null,null,null,null,null,null,null,null,null,null,null,null,null,null,null,null,null,null,null,null,null,null,null,null,null,"w12",{"$f":"L19*40/NV32","v":5.4421768707483},"ضریب کاهش تعداد دانه ها",null,"g8",{"$f":"NZ41-OA36*SIN(RADIANS(40)+ATAN((NZ41-NZ42)/(OA41-OA42+0.0001)))","v":24.9946065279015},{"$f":"OA41-OA36*COS(RADIANS(40)+ATAN((NZ41-NZ42)/(OA41-OA42+0.0001)))","v":2.0758114401846472},{"$f":"NZ44","v":25.439603618182229},{"$f":"OA44","v":1.9831473930650405},{"$f":"NY44","v":"g7"},null,"f11",{"$f":"'متغیرها '!C862","v":0.75},"زاویه فلش دانه",null,"g8",{"$f":"OK41-OL36*SIN(RADIANS(40)+ATAN((OK41-OK42)/(OL41-OL42+0.0001)))","v":36.547963600367929},{"$f":"OL41-OL36*COS(RADIANS(40)+ATAN((OK41-OK42)/(OL41-OL42+0.0001)))","v":2.0535062785435128},{"$f":"OK44","v":36.862081755605793},{"$f":"OL44","v":1.9881086680073121},{"$f":"OJ44","v":"g7"},null,"f11",{"$f":"'متغیرها '!C862","v":0.75},"زاویه فلش دانه",null,"g8",{"$f":"OV41-OW36*SIN(RADIANS(40)+ATAN((OV41-OV42)/(OW41-OW42+0.0001)))","v":32.977963600367922},{"$f":"OW41-OW36*COS(RADIANS(40)+ATAN((OV41-OV42)/(OW41-OW42+0.0001)))","v":2.0535062785435216},{"$f":"OV44","v":33.292081755605786},{"$f":"OW44","v":1.9881086680073068},{"$f":"OU44","v":"g7"}]
[null,null,null,null,"تعداد دانه ها  دور گردن + دو تا نیمه جادکمه که از خط مرکزی اضافه شده",{"$f":"F45+2*F44+2*F43+2*F42","v":133},{"$f":"G45+2*G44+2*G43+2*F42","v":303},"b''1",null,null,null,null,null,null,null,null,null,null,null,{"$error":"#DIV/0!"},0,{"$f":"(10/3)*((Y46/X46)*(1/L6)-1)","v":-3.3333333333333335},{"$f":"(100/68)*((AA46/Z46)*(1/L7)-1)","v":{"$error":"#DIV/0!"}},13.5,null,null,36,null,40,null,null,null,null,null,null,null,null,null,null,null,null,null,null,null,null,null,null,null,null,null,null,null,null,null,null,null,null,null,null,null,null,null,null,null,null,null,null,null,null,null,null,null,null,null,null,null,null,null,null,null,null,null,null,null,null,null,{"$f":"CI38","v":15.5},{"$f":"CJ36-'طراحی همه الگوها'!U184","v":98.5},"j12",null,55.449999999999996,82.5,"j5''",null,null,null,null,null,null,null,null,null,null,null,null,null,null,null,null,null,null,null,null,null,null,"(j1 → j2)",{"$f":"ROUND(CJ22+0.1*'متغیرها '!U85-DM45,1)","v":101},null,null,{"$f":"DM27","v":35.110411082048479},{"$f":"DN27","v":76.251550439431213},"s10",null,null,null,null,null,null,null,null,null,null,null,null,null,null,null,null,null,null,null,null,null,null,null,null," شبیه سازαk1",{"$f":"F423","v":1.3853219027147194},null,null,null,null,null,{"$f":"ET30","v":31.6},{"$f":"EU30","v":29.975000000000001},19,null,null,null,null,null,{"$f":"FF13","v":0},{"$f":"FG45","v":2.6000000000000014},12,null,{"$f":"FJ45+0.45*(FJ49-FJ45)","v":65.075000000000003},{"$f":"FK45+0.25*(FK49-FK45)","v":20.75},"13'",null,null,null,null,null,null,null,null,null,null,null,null,null,null,62,{"$f":"GB12+GE12*SIN(RADIANS(GA46)+GA14)","v":{"$error":"#DIV/0!"}},{"$f":"GC12+GE12*COS(RADIANS(GA46)+GA14)","v":{"$error":"#DIV/0!"}},{"$f":"IF(GB13>GB46,ATAN((GC13-GC46)/(GB13-GB46)),ATAN((GC13-GC46)/(GB46-GB13)))","v":{"$error":"#DIV/0!"}},{"$f":"IF(GB13>GB46,(GB13-GB46)/COS(GD46),(GB46-GB13)/COS(GD46))","v":{"$error":"#DIV/0!"}},null,null,null,null,null,null,null,null,null,null,null,null,null,null,null,{"$f":"GU45+GT11","v":-30},-0.52359877559829882,{"$f":"HB13+HB10*COS(GV46)","v":{"$error":"#REF!"}},{"$f":"HC13-HB10*SIN(GV46)","v":{"$error":"#REF!"}},{"$f":"SQRT(POWER((HB12-GW46),2)+POWER((HC12-GX46),2))","v":{"$error":"#REF!"}},{"$f":"ABS(HB9-GY46)","v":{"$error":"#REF!"}},null,7,40,2,"راس پایین",{"$f":"ATAN((HB46-HB45)/(HC45-HC46))","v":0.19739555984988078},"γ18",null,null,null,null,null,null,null,{"$f":"-HK46+HP9","v":0},0,null,null,null,null,null,null,null,null,null,null,null,null,null,null,null,null,null,null,null,null,null,null,null,null,null,null,null,null,null,null,null,null,null,null,null,null,null,null,null,null,null,null,null,null,null,null,null,null,null,null,null,null,null,null,null,null,null,null,null,null,null,null,null,null,null,null,null,null,null,null,null,null,null,null,null,null,null,null,null,null,null,null,null,null,null,null,null,null,null,null,null,null,null,null,null,null,null,null,null,null,null,null,null,null,null,null,null,null,null,null,null,null,null,null,null,null,null,null,null,null,null,null,null,null,null,null,null,null,null,null,null,null,null,null,null,null,null,null,null,null,null,null,null,null,null,null,null,null,null,null,null,null,null,null,null,null,null,null,null,null,"f4",{"$f":"NV37*NV33","v":0.35357142857142865},"بزرگی فلش رج"]
[null,null,null,null,null,null,null,null,null,null,null,null,null,null,null,null,null,null,null,{"$error":"#DIV/0!"},0,{"$f":"(10/3)*((Y47/X47)*(1/L6)-1)","v":-3.3333333333333335},{"$f":"(100/68)*((AA47/Z47)*(1/L7)-1)","v":{"$error":"#DIV/0!"}},13.5,null,null,36,null,41,null,null,null,null,null,null,null,null,null,null,null,null,null,null,null,null,null,null,null,null,null,null,null,null,null,null,null,null,null,null,null,null,null,null,null,null,null,null,null,null,null,null,null,null,null,null,null,null,null,null,null,null,null,null,null,null,null,{"$f":"CI38","v":15.5},{"$f":"CJ37","v":59},"j13",null,43.7,69.81,"j5'''",null,null,null,null,null,null,null,null,null,null,null,null,null,null,null,null,null,null,null,null,null,null,"(j1 → j3)",{"$f":"0.21*CJ16","v":10.5},"بدون انتخاب",null,null,null,null,null,null,null,null,null,null,null,null,null,null,null,null,null,null,null,null,null,null,null,null,null,null,null,null,null,null,null,null,null,null,null,null,null,null,null,null,null,null,null,{"$f":"FF13","v":0},{"$f":"FG46+'طراحی همه الگوها'!U258","v":10.100000000000001},18,null,{"$f":"FJ45+0.75*(FJ49-FJ45)","v":69.125},{"$f":"FK45+0.5*(FK49-FK45)","v":38.9},"13''",null,null,null,null,null,{"$f":"FR45","v":5},{"$f":"FS45","v":61.940824961544223},"s'12",null,null,null,null,null,null,64,{"$f":"GB12+GE12*SIN(RADIANS(GA47)+GA14)","v":{"$error":"#DIV/0!"}},{"$f":"GC12+GE12*COS(RADIANS(GA47)+GA14)","v":{"$error":"#DIV/0!"}},{"$f":"IF(GB13>GB47,ATAN((GC13-GC47)/(GB13-GB47)),ATAN((GC13-GC47)/(GB47-GB13)))","v":{"$error":"#DIV/0!"}},{"$f":"IF(GB13>GB47,(GB13-GB47)/COS(GD47),(GB47-GB13)/COS(GD47))","v":{"$error":"#DIV/0!"}},null,null,null,null,null,null,null,null,null,null,null,null,null,null,null,{"$f":"GU46+GT11","v":-28},-0.48869219055841229,{"$f":"HB13+HB10*COS(GV47)","v":{"$error":"#REF!"}},{"$f":"HC13-HB10*SIN(GV47)","v":{"$error":"#REF!"}},{"$f":"SQRT(POWER((HB12-GW47),2)+POWER((HC12-GX47),2))","v":{"$error":"#REF!"}},{"$f":"ABS(HB9-GY47)","v":{"$error":"#REF!"}},null,10,"m4","ضلع بالا",null,{"$f":"RADIANS(90)-RADIANS(HF46)-HB48","v":1.829150512145848},"m5",null,null,null,null,null,null,null,{"$f":"-HK47+HP9","v":0},0,null,null,null,null,null,null,null,null,null,null,null,null,null,null,null,null,null,null,null,null,null,null,null,null,null,null,null,null,null,null,null,null,null,null,null,null,null,null,null,null,null,null,null,null,null,null,null,null,null,null,null,null,null,null,null,null,null,null,null,null,null,null,null,null,null,null,null,null,null,null,null,null,null,null,null,null,null,null,null,null,null,null,null,null,null,null,null,null,null,null,null,null,null,null,null,null,null,null,null,null,null,null,null,null,null,null,null,null,null,null,null,null,null,null,null,null,null,null,null,null,null,null,null,null,null,null,null,null,null,null,null,null,null,null,null,null,null,null,null,null,null,null,null,null,null,null,null,null,null,null,null,null,null,null,null,null,null,null,null,null,null,null,null,null,null,null,"باکس نوشته a2",null,null,{"$f":"OA47","v":"باکس نوشته a2"},null,"محاسبات",null,null,null,null,null,null,{"$f":"OF62","v":36.64},{"$f":"OG62","v":2.4159663865546217},"m4",null,"محاسبات",null,null,null,null,null,null,{"$f":"OQ62","v":33.07},{"$f":"OR62","v":2.4159663865546217},"m4"]
[null,null,null,null,null,null,null,null,"مقادیر قدیمی تا تاریخ 12  99",null,null,null,null,null,null,null,null,null,null,{"$error":"#DIV/0!"},0,{"$f":"(10/3)*((Y48/X48)*(1/L6)-1)","v":-3.3333333333333335},{"$f":"(100/68)*((AA48/Z48)*(1/L7)-1)","v":{"$error":"#DIV/0!"}},13.5,null,null,36,null,42,null,null,null,null,null,null,null,null,null,null,null,null,null,null,null,null,null,null,null,null,null,null,null,null,null,null,null,null,null,null,null,null,null,null,null,null,null,null,null,null,null,null,null,null,null,null,null,null,null,null,null,null,null,null,null,null,null,{"$f":"CI47+0.97*(CI39-CI47)","v":61.089999999999996},{"$f":"CJ47+0.78*(CJ39-CJ47)","v":95.66},"j5'",null,27.25,60.88,"j5''''",null,null,null,null,null,null,null,null,null,null,null,null,null,null,null,null,null,null,null,null,null,null,null,null,null,null,{"$f":"DM30","v":47.1},{"$f":"DN30","v":5},"s13",null,null,null,null,null,null,null,null,null,null,null,null,null,null,null,null,null,null,null,null,null,null,null,null,null,null,null,null,null,null,null,{"$f":"ET28","v":28},{"$f":"EU28","v":40.975000000000001},15,null,null,null,null,null,{"$f":"FF13","v":0},{"$f":"FG47+'طراحی همه الگوها'!U259","v":75.199999999999989},14,null,{"$f":"FJ45+0.95*(FJ49-FJ45)","v":71.825000000000003},{"$f":"FK45+0.8*(FK49-FK45)","v":60.68},"13'''",null,null,null,null,null,{"$f":"FO23","v":18},{"$f":"FP23","v":61.940824961544223},"s12",null,null,null,null,null,null,"بهینه α",{"$f":"IF(GE13<GE16,GA16,IF(GE13<GE17,GA17,IF(GE13<GE18,GA18,IF(GE13<GE19,GA19,IF(GE13<GE20,GA20,IF(GE13<GE21,GA21,IF(GE13<GE22,GA22,IF(GE13<GE23,GA23,IF(GE13<GE24,GA24,IF(GE13<GE25,GA25,IF(GE13<GE26,GA26,IF(GE13<GE27,GA27,IF(GE13<GE28,GA28,IF(GE13<GE29,GA29,IF(GE13<GE30,GA30,IF(GE13<GE31,GA31,IF(GE13<GE32,GA32,IF(GE13<GE33,GA33,IF(GE13<GE34,GA34,IF(GE13<GE35,GA35,IF(GE13<GE36,GA36,IF(GE13<GE37,GA37,IF(GE13<GE38,GA38,IF(GE13<GE39,GA39,IF(GE13<GE40,GA40,IF(GE13<GE41,GA41,IF(GE13<GE42,GA42,IF(GE13<GE43,GA43,IF(GE13<GE44,GA44,IF(GE13<GE45,GA45,IF(GE13<GE46,GA46,GA47)))))))))))))))))))))))))))))))","v":{"$error":"#DIV/0!"}},{"$f":"RADIANS(GB48)","v":{"$error":"#DIV/0!"}},"c21",{"$f":"IF(GB13>GB50,ATAN((GC13-GC50)/(GB13-GB50)),ATAN((GC13-GC50)/(GB50-GB13)))","v":{"$error":"#DIV/0!"}},null,null,null,null,null,null,null,null,null,null,null,null,null,null,null,{"$f":"GU47+GT11","v":-26},-0.4537856055185257,{"$f":"HB13+HB10*COS(GV48)","v":{"$error":"#REF!"}},{"$f":"HC13-HB10*SIN(GV48)","v":{"$error":"#REF!"}},{"$f":"SQRT(POWER((HB12-GW48),2)+POWER((HC12-GX48),2))","v":{"$error":"#REF!"}},{"$f":"ABS(HB9-GY48)","v":{"$error":"#REF!"}},null,{"$f":"RADIANS(-15)","v":-0.26179938779914941},"m1","زاویه ضلع پایین با افق به رادیان ساعتگرزیر افق عدد مثبت",null,{"$f":"HB47*COS(HF49)-HF45*COS(HF47)","v":4.2754038455317325},"m7",null,null,null,null,null,null,null,{"$f":"-HK48+HP9","v":0},0,null,null,null,null,null,null,null,null,null,null,null,null,null,null,null,null,null,null,null,null,null,null,null,null,null,null,null,null,null,null,null,null,null,null,null,null,null,null,null,null,null,null,null,null,null,null,null,null,null,null,null,null,null,null,null,null,null,null,null,null,null,null,null,null,null,null,null,null,null,null,null,null,null,null,null,null,null,null,null,null,null,null,null,null,null,null,null,null,null,null,null,null,null,null,null,null,null,null,null,null,null,null,null,null,null,null,null,null,null,null,null,null,null,null,null,null,null,null,null,null,null,null,null,null,null,null,null,null,null,null,null,null,null,null,null,null,null,null,null,null,null,null,null,null,null,null,null,null,null,null,null,null,null,null,null,null,null,null,null,null,null,"نقاط خروجی ",null,null,null,"متغیرهای ورودی",null,{"$f":"NZ54","v":-30},{"$f":"OA54","v":2.5892857142857144},{"$f":"NY54","v":"w8"},null,"g3",{"$f":"OG37","v":0.41596638655462181},"ارتفاع نیم دایره",null,null,null,null,{"$f":"OF64","v":-30},{"$f":"OG64","v":2.4159663865546217},"m6",null,"g3",{"$f":"OR37","v":0.41596638655462181},"ارتفاع نیم دایره",null,null,null,null,{"$f":"OQ64","v":-30},{"$f":"OR64","v":2.4159663865546217},"m6"]
[null,null,null,null,null,null,null,"میل 2 و 2.5","میل  3 و 3.5","میل 4 و 4.5",null,null,null,null,null,null,null,null,null,{"$error":"#DIV/0!"},0,{"$f":"(10/3)*((Y49/X49)*(1/L6)-1)","v":-3.3333333333333335},{"$f":"(100/68)*((AA49/Z49)*(1/L7)-1)","v":{"$error":"#DIV/0!"}},13.5,null,null,36,null,43,null,null,null,null,null,null,null,null,null,null,null,null,null,null,null,null,null,null,null,null,null,null,null,null,null,null,null,null,null,null,null,null,null,null,null,null,null,null,null,null,null,null,null,null,null,null,null,null,null,null,null,null,null,null,null,null,null,{"$f":"CI47+0.85*(CI39-CI47)","v":55.449999999999996},{"$f":"CJ47+0.5*(CJ39-CJ47)","v":82.5},"j5''",null,{"$f":"CI47","v":15.5},{"$f":"CJ47","v":59},"j13",null,null,null,null,null,null,null,null,null,null,null,null,null,null,null,null,null,null,null,null,null,null,null,null,null,null,{"$f":"DM19","v":5},{"$f":"DN30","v":5},2,null,null,null,null,null,null,null,null,null,null,null,null,null,null,null,null,null,null,null,null,null,null,null,null,null,null,null,null,null,null,null,{"$f":"ET30","v":31.6},{"$f":"EU30","v":29.975000000000001},19,null,null,null,null,null,{"$f":"FF13+'طراحی همه الگوها'!U263","v":72.5},{"$f":"FG48","v":75.199999999999989},15,null,{"$f":"FF49","v":72.5},{"$f":"FG49","v":75.199999999999989},15,null,null,null,null,null,null,null,null,null,null,null,null,null,null,null,"مولفه افقی","مولفه عمودی",null,null,null,null,null,null,"پروسیجرها",null,null,null,null,null,null,null,null,null,null,{"$f":"GU48+GT11","v":-24},-0.41887902047863912,{"$f":"HB13+HB10*COS(GV49)","v":{"$error":"#REF!"}},{"$f":"HC13-HB10*SIN(GV49)","v":{"$error":"#REF!"}},{"$f":"SQRT(POWER((HB12-GW49),2)+POWER((HC12-GX49),2))","v":{"$error":"#REF!"}},{"$f":"ABS(HB9-GY49)","v":{"$error":"#REF!"}},null,"راس سوم",null,null,null,{"$f":"ASIN(HF50/HB47)","v":1.4030193189660189},"m8",null,null,null,null,null,null,null,{"$f":"-HK49+HP9","v":0},0,null,null,null,null,null,null,null,null,null,null,null,null,null,null,null,null,null,null,null,null,null,null,null,null,null,null,null,null,null,null,null,null,null,null,null,null,null,null,null,null,null,null,null,null,null,null,null,null,null,null,null,null,null,null,null,null,null,null,null,null,null,null,null,null,null,null,null,null,null,null,null,null,null,null,null,null,null,null,null,null,null,null,null,null,null,null,null,null,null,null,null,null,null,null,null,null,null,null,null,null,null,null,null,null,null,null,null,null,null,null,null,null,null,null,null,null,null,null,null,null,null,null,null,null,null,null,null,null,null,null,null,null,null,null,null,null,null,null,null,null,null,null,null,null,null,null,null,null,null,null,null,null,null,null,null,null,null,null,null,null,{"$f":"NV30+NV5/NV45","v":25.124999999999993},{"$f":"NV31","v":2},"w2",null,"طول باکس نوشته",{"$f":"1.1*NV35","v":4.95},"h3",{"$f":"NZ59","v":-4.9125000000000032},{"$f":"OA59","v":2.5892857142857144},{"$f":"NY59","v":"h8"},null,"m0",{"$f":"P18*40/OG36","v":3.3613445378151261},"ضریب کاهش تعداد دانه ها",null,"زاویه فلش",{"$f":"OG42","v":0.5},"f5",null,null,"فلش به سمت چپ",null,"m0",{"$f":"P18*40/OR36","v":3.3613445378151261},"ضریب کاهش تعداد دانه ها",null,"زاویه فلش",{"$f":"OR42","v":0.5},"f5",null,null,"فلش به سمت چپ"]
[null,null,null,null,null,null,null,3.5,2.8,2.6,"a''0",null,null,null,null,null,null,null,null,{"$error":"#DIV/0!"},0,{"$f":"(10/3)*((Y50/X50)*(1/L6)-1)","v":-3.3333333333333335},{"$f":"(100/68)*((AA50/Z50)*(1/L7)-1)","v":{"$error":"#DIV/0!"}},13.5,null,null,36,null,44,null,null,null,null,null,null,null,null,null,null,null,null,null,null,null,null,null,null,null,null,null,null,null,null,null,null,null,null,null,null,null,null,null,null,null,null,null,null,null,null,null,null,null,null,null,null,null,null,null,null,null,null,null,null,null,null,null,{"$f":"CI47+0.6*(CI39-CI47)","v":43.7},{"$f":"CJ47+0.23*(CJ39-CJ47)","v":69.81},"j5'''",null,{"$f":"CI37","v":5},{"$f":"CJ37","v":59},"j2",null,null,null,null,null,null,null,null,null,null,null,null,null,null,null,null,null,null,null,null,null,null,null,null,null,null,null,null,null,null,null,null,null,null,null,null,null,null,null,null,null,null,null,null,null,null,null,null,null,null,null,null,null,null,null,null,null,null,null,null,null,null,null,null,null,null,null,null,null,null,null,null,null,null,null,null,null,null,null,null,{"$f":"FR48","v":18},{"$f":"FS48","v":61.940824961544223},"s12",null,null,null,null,null,null,"e23",{"$f":"GB12+GE12*SIN(GC48+GA14)","v":{"$error":"#DIV/0!"}},{"$f":"GC12+GE12*COS(GC48+GA14)","v":{"$error":"#DIV/0!"}},"راس سوم ",null,null,null,null,null,null,null,null,null,null,null,null,null,null,null,null,{"$f":"GU49+GT11","v":-22},-0.38397243543875248,{"$f":"HB13+HB10*COS(GV50)","v":{"$error":"#REF!"}},{"$f":"HC13-HB10*SIN(GV50)","v":{"$error":"#REF!"}},{"$f":"SQRT(POWER((HB12-GW50),2)+POWER((HC12-GX50),2))","v":{"$error":"#REF!"}},{"$f":"ABS(HB9-GY50)","v":{"$error":"#REF!"}},null,{"$f":"HB46+HF48*COS(HB48)","v":11.129722992214699},{"$f":"HC46-HF48*SIN(HB48)","v":41.106555940728171},3,null,{"$f":"HF45*SIN(HF47)","v":9.8595842240901757},"m9",null,null,null,null,null,null,null,{"$f":"-HK50+HP9","v":0},0,null,null,null,null,null,null,null,null,null,null,null,null,null,null,null,null,null,null,null,null,null,null,null,null,null,null,null,null,null,null,null,null,null,null,null,null,null,null,null,null,null,null,null,null,null,null,null,null,null,null,null,null,null,null,null,null,null,null,null,null,null,null,null,null,null,null,null,null,null,null,null,null,null,null,null,null,null,null,null,null,null,null,null,null,null,null,null,null,null,null,null,null,null,null,null,null,null,null,null,null,null,null,null,null,null,null,null,null,null,null,null,null,null,null,null,null,null,null,null,null,null,null,null,null,null,null,null,null,null,null,null,null,null,null,null,null,null,null,null,null,null,null,null,null,null,null,null,null,null,null,null,null,null,null,null,null,null,null,null,null,{"$f":"NV30","v":-30},{"$f":"NV55+NV33*NV6","v":4.9464285714285712},"w3",null,"پهنای باکس نوشته",{"$f":"NV36","v":0.5},"h4",null,null,null,null,"f4",{"$f":"OG41*OG37","v":0.24957983193277314},"بزرگی فلش رج",null,"بزرگی فلش",{"$f":"OG50","v":0.24957983193277314},"f4",{"$f":"OK52","v":-23.335999999999999},{"$f":"OL52","v":2.4159663865546217},{"$f":"OJ52","v":"m5"},null,"f4",{"$f":"OR41*OR37","v":0.24957983193277314},"بزرگی فلش رج",null,"بزرگی فلش",{"$f":"OR50","v":0.24957983193277314},"f4",{"$f":"OV52","v":-23.692999999999998},{"$f":"OW52","v":2.4159663865546217},{"$f":"OU52","v":"m5"}]
[null,null,null,null,null,null,null,2.2999999999999998,1.8,1.7,"b''0",null,null,null,null,null,null,null,null,{"$error":"#DIV/0!"},0,{"$f":"(10/3)*((Y51/X51)*(1/L6)-1)","v":-3.3333333333333335},{"$f":"(100/68)*((AA51/Z51)*(1/L7)-1)","v":{"$error":"#DIV/0!"}},13.5,null,null,36,null,45,null,null,null,null,null,null,null,null,null,null,null,null,null,null,null,null,null,null,null,null,null,null,null,null,null,null,null,null,null,null,null,null,null,null,null,null,null,null,null,null,null,null,null,null,null,null,null,null,null,null,null,null,null,null,null,null,null,{"$f":"CI47+0.25*(CI39-CI47)","v":27.25},{"$f":"CJ47+0.04*(CJ39-CJ47)","v":60.88},"j5''''",null,null,null,null,null,null,null,null,null,null,null,null,null,null,null,null,null,null,null,null,null,null,null,null,null,null,null,null,null,null,{"$f":"DP49","v":5},{"$f":"DQ49","v":5},2,null,null,null,null,null,null,null,null,null,null,null,null,null,null,null,null,null,null,null,null,null,null,null,null,null,null,null,null,null,null,null,{"$f":"ET34","v":35.200000000000003},{"$f":"EU34","v":40.975000000000001},17,null,null,null,null,null,{"$f":"FJ54","v":35.6},{"$f":"FG46","v":2.6000000000000014},16,null,{"$f":"FF47","v":0},{"$f":"FG47","v":10.100000000000001},18,null,null,null,null,null,{"$f":"FO24","v":18},{"$f":"FP24","v":59.340824961544222},"41 شبیه ساز",null,null,null,null,null,null,null,null,null,null,null,null,null,null,null,null,null,null,null,null,null,null,null,null,null,null,{"$f":"GU50+GT11","v":-20},-0.3490658503988659,{"$f":"HB13+HB10*COS(GV51)","v":{"$error":"#REF!"}},{"$f":"HC13-HB10*SIN(GV51)","v":{"$error":"#REF!"}},{"$f":"SQRT(POWER((HB12-GW51),2)+POWER((HC12-GX51),2))","v":{"$error":"#REF!"}},{"$f":"ABS(HB9-GY51)","v":{"$error":"#REF!"}},null,null,null,null,null,null,null,null,null,null,null,null,null,null,{"$f":"-HK51+HP9","v":0},0,null,null,null,null,null,null,null,null,null,null,null,null,null,null,null,null,null,null,null,null,null,null,null,null,null,null,null,null,null,null,null,null,null,null,null,null,null,null,null,null,null,null,null,null,null,null,null,null,null,null,null,null,null,null,null,null,null,null,null,null,null,null,null,null,null,null,null,null,null,null,null,null,null,null,null,null,null,null,null,null,null,null,null,null,null,null,null,null,null,null,null,null,null,null,null,null,null,null,null,null,null,null,null,null,null,null,null,null,null,null,null,null,null,null,null,null,null,null,null,null,null,null,null,null,null,null,null,null,null,null,null,null,null,null,null,null,null,null,null,null,null,null,null,null,null,null,null,null,null,null,null,null,null,null,null,null,null,null,null,null,{"$f":"NU49","v":25.124999999999993},{"$f":"NV50","v":4.9464285714285712},"w4",null,null,null,null,{"$f":"NZ61","v":-4.9125000000000032},{"$f":"OA61","v":2.8392857142857144},{"$f":"NY61","v":"h10"},null,"m20",0.2,"فاصله فلش کم کردن",null,"نقطه ورودی سر فلش","مولفه افقی","مولفه عمودی",{"$f":"OK54","v":-23.086420168067225},{"$f":"OL54","v":2.5407563025210083},{"$f":"OJ54","v":"f3"},null,"m20",{"$f":"OG51","v":0.2},"فاصله فلش کم کردن",null,"نقطه ورودی سر فلش","مولفه افقی","مولفه عمودی",{"$f":"OV54","v":-23.443420168067224},{"$f":"OW54","v":2.5407563025210083},{"$f":"OU54","v":"f3"}]
[null,null,null,null,null,null,null,null,null,null,null,null,null,null,null,null,null,null,null,{"$error":"#DIV/0!"},0,{"$f":"(10/3)*((Y52/X52)*(1/L6)-1)","v":-3.3333333333333335},{"$f":"(100/68)*((AA52/Z52)*(1/L7)-1)","v":{"$error":"#DIV/0!"}},13.5,null,null,36,null,46,null,null,null,null,null,null,null,null,null,null,null,null,null,null,null,null,null,null,null,null,null,null,null,null,null,null,null,null,null,null,null,null,null,null,null,null,null,null,null,null,null,null,null,null,null,null,null,null,null,null,null,null,null,null,null,null,null,null,null,null,null,null,null,null,null,null,null,null,null,null,null,null,null,null,null,null,null,null,null,null,null,null,null,null,null,null,null,null,null,null,{"$f":"DM15","v":5},{"$f":"DN15","v":70.099999999999994},"خط سینه",null,null,null,null,null,null,null,null,null,null,null,null,null,null,null,null,null,null,null,null,null,null,null,null,null,null,null,null,null,null,null,{"$f":"ET32","v":31.6},{"$f":"EU32","v":51.975000000000001},18,null,null,null,null,null,null,null,null,null,{"$f":"FJ18","v":14.2},{"$f":"FG46+'طراحی همه الگوها'!U269","v":10.600000000000001},24,null,null,null,null,null,null,null,null,null,null,null,null,null,null,null,null,null,null,null,null,null,null,null,null,null,null,null,null,null,null,null,null,null,null,{"$f":"GU51+GT11","v":-18},-0.31415926535897931,{"$f":"HB13+HB10*COS(GV52)","v":{"$error":"#REF!"}},{"$f":"HC13-HB10*SIN(GV52)","v":{"$error":"#REF!"}},{"$f":"SQRT(POWER((HB12-GW52),2)+POWER((HC12-GX52),2))","v":{"$error":"#REF!"}},{"$f":"ABS(HB9-GY52)","v":{"$error":"#REF!"}},null,null,null,null,null,null,null,null,null,null,null,null,null,null,{"$f":"-HK52+HP9","v":0},0,null,null,null,null,null,null,null,null,null,null,null,null,null,null,null,null,null,null,null,null,null,null,null,null,null,null,null,null,null,null,null,null,null,null,null,null,null,null,null,null,null,null,null,null,null,null,null,null,null,null,null,null,null,null,null,null,null,null,null,null,null,null,null,null,null,null,null,null,null,null,null,null,null,null,null,null,null,null,null,null,null,null,null,null,null,null,null,null,null,null,null,null,null,null,null,null,null,null,null,null,null,null,null,null,null,null,null,null,null,null,null,null,null,null,null,null,null,null,null,null,null,null,null,null,null,null,null,null,null,null,null,null,null,null,null,null,null,null,null,null,null,null,null,null,null,null,null,null,null,null,null,null,null,null,null,null,null,null,null,null,{"$f":"NU49","v":25.124999999999993},{"$f":"NV31+NV33","v":2.5892857142857144},"w5",null,null,null,null,{"$f":"NZ62","v":-4.9125000000000032},{"$f":"OA62","v":2.3392857142857144},{"$f":"NY62","v":"h11"},null,"m30",0.25,"فاصله فلش کم کردن",null,"m5",{"$f":"OF63","v":-23.335999999999999},{"$f":"OG63","v":2.4159663865546217},null,null,null,null,"m30",{"$f":"OG52","v":0.25},"فاصله فلش کم کردن",null,"m5",{"$f":"OQ63","v":-23.692999999999998},{"$f":"OR63","v":2.4159663865546217}]
[null,null,null,null,null,null,null,null,null,null,null,null,null,null,null,null,null,null,null,{"$error":"#DIV/0!"},0,{"$f":"(10/3)*((Y53/X53)*(1/L6)-1)","v":-3.3333333333333335},{"$f":"(100/68)*((AA53/Z53)*(1/L7)-1)","v":{"$error":"#DIV/0!"}},13.5,null,null,36,null,47,null,null,null,null,null,null,null,null,null,null,null,null,null,null,null,null,null,null,null,null,null,null,null,null,null,null,null,null,null,null,null,null,null,null,null,null,null,null,null,null,null,null,null,null,null,null,null,null,null,null,null,null,null,null,null,null,null,null,null,null,null,null,null,null,null,null,null,null,null,null,null,null,null,null,null,null,null,null,null,null,null,null,null,null,null,null,null,null,null,null,null,null,null,null,null,null,null,null,null,null,null,null,null,null,null,null,null,null,null,null,null,null,null,null,null,null,null,null,null,null,null,null,null,null,null,null,null,null,null,null,null,null,null,null,null,null,{"$f":"FJ19","v":28.5},{"$f":"FG46+'طراحی همه الگوها'!U271","v":13.000000000000002},26,null,null,null,null,null,{"$f":"FR51","v":18},{"$f":"FS51","v":59.340824961544222},"41 شبیه ساز",null,null,null,null,null,null,null,null,null,null,null,null,null,null,null,null,null,null,null,null,null,null,null,null,null,null,null,null,null,null,null,null,null,null,null,null,null,null,null,null,null,null,null,null,null,null,{"$f":"-HK53+HP9","v":0},0,null,null,null,null,null,null,null,null,null,null,null,null,null,null,null,null,null,null,null,null,null,null,null,null,null,null,null,null,null,null,null,null,null,null,null,null,null,null,null,null,null,null,null,null,null,null,null,null,null,null,null,null,null,null,null,null,null,null,null,null,null,null,null,null,null,null,null,null,null,null,null,null,null,null,null,null,null,null,null,null,null,null,null,null,null,null,null,null,null,null,null,null,null,null,null,null,null,null,null,null,null,null,null,null,null,null,null,null,null,null,null,null,null,null,null,null,null,null,null,null,null,null,null,null,null,null,null,null,null,null,null,null,null,null,null,null,null,null,null,null,null,null,null,null,null,null,null,null,null,null,null,null,null,null,null,null,null,null,null,null,{"$f":"NV30+0.1*(NU49-NV30)","v":-24.487500000000001},{"$f":"NV31","v":2},"w6",null,"نقطه شروع رج(چپ)","مولفه افقی","مولفه عمودی",null,null,null,null,"m40",0.35,"فاصله فلش کم کردن",null,"f2",{"$f":"OK52+1*OK50","v":-23.086420168067225},{"$f":"OL52-OK49*OK50","v":2.2911764705882351},{"$f":"OK52","v":-23.335999999999999},{"$f":"OL52","v":2.4159663865546217},{"$f":"OJ52","v":"m5"},null,"m40",{"$f":"OG53","v":0.35},"فاصله فلش کم کردن",null,"f2",{"$f":"OV52+1*OV50","v":-23.443420168067224},{"$f":"OW52-OV49*OV50","v":2.2911764705882351},{"$f":"OV52","v":-23.692999999999998},{"$f":"OW52","v":2.4159663865546217},{"$f":"OU52","v":"m5"}]
[null,null,null,null,null,null,null,null,null,null,null,null,null,null,null,null,null,null,null,{"$error":"#DIV/0!"},0,{"$f":"(10/3)*((Y54/X54)*(1/L6)-1)","v":-3.3333333333333335},{"$f":"(100/68)*((AA54/Z54)*(1/L7)-1)","v":{"$error":"#DIV/0!"}},13.5,null,null,36,null,48,null,null,null,null,null,null,null,null,null,null,null,null,null,null,null,null,null,null,null,null,null,null,null,null,null,null,null,null,null,null,null,null,null,null,null,null,null,null,null,null,null,null,null,null,null,null,null,null,null,null,null,null,null,null,null,null,null,null,null,null,null,null,null,null,null,null,null,null,null,null,null,null,null,null,null,null,null,null,null,null,null,null,null,null,null,null,null,null,null,null,null,null,null,null,null,null,null,null,null,null,null,null,null,null,null,null,null,null,null,null,null,null,null,null,null,null,null,null,null,null,null,null,null,null,{"$f":"EP29","v":5},{"$f":"EQ29","v":106},1,null,null,null,null,null,null,null,null,null,{"$f":"FF46+'طراحی همه الگوها'!U260","v":35.6},{"$f":"FG46+'طراحی همه الگوها'!U261","v":15.400000000000002},17,null,null,null,null,null,{"$f":"FO31","v":5},{"$f":"FP31","v":59.340824961544222},"s''12",null,null,null,null,null,null,null,null,null,null,null,null,null,null,null,null,null,null,null,null,null,null,null,null,null,null,null,null,null,null,null,null,null,null,null,null,null,null,null,null,null,null,null,null,null,null,{"$f":"-HK54+HP9","v":0},0,null,null,null,null,null,null,null,null,null,null,null,null,null,null,null,null,null,null,null,null,null,null,null,null,null,null,null,null,null,null,null,null,null,null,null,null,null,null,null,null,null,null,null,null,null,null,null,null,null,null,null,null,null,null,null,null,null,null,null,null,null,null,null,null,null,null,null,null,null,null,null,null,null,null,null,null,null,null,null,null,null,null,null,null,null,null,null,null,null,null,null,null,null,null,null,null,null,null,null,null,null,null,null,null,null,null,null,null,null,null,null,null,null,null,null,null,null,null,null,null,null,null,null,null,null,null,null,null,null,null,null,null,null,null,null,null,null,null,null,null,null,null,null,null,null,null,null,null,null,null,null,null,null,null,null,null,null,null,null,null,{"$f":"NU55+0.1*(NU52-NU55)","v":-24.487500000000001},{"$f":"NV52","v":2.5892857142857144},"w7",null,"w8",{"$f":"NU55","v":-30},{"$f":"NV55","v":2.5892857142857144},{"$f":"NZ61","v":-4.9125000000000032},{"$f":"OA61","v":2.8392857142857144},{"$f":"NY61","v":"h10"},null,"m50",0.42,"فاصله فلش کم کردن",null,"f3",{"$f":"OK53","v":-23.086420168067225},{"$f":"OL52+OK49*OK50","v":2.5407563025210083},{"$f":"OK53","v":-23.086420168067225},{"$f":"OL53","v":2.2911764705882351},{"$f":"OJ53","v":"f2"},null,"m50",{"$f":"OG54","v":0.42},"فاصله فلش کم کردن",null,"f3",{"$f":"OV53","v":-23.443420168067224},{"$f":"OW52+OV49*OV50","v":2.5407563025210083},{"$f":"OV53","v":-23.443420168067224},{"$f":"OW53","v":2.2911764705882351},{"$f":"OU53","v":"f2"}]
[null,null,null,null,null,null,null,null,null,null,null,null,null,null,null,null,null,null,null,{"$error":"#DIV/0!"},0,{"$f":"(10/3)*((Y55/X55)*(1/L6)-1)","v":-3.3333333333333335},{"$f":"(100/68)*((AA55/Z55)*(1/L7)-1)","v":{"$error":"#DIV/0!"}},13.5,null,null,36,null,49,null,null,null,null,null,null,null,null,null,null,null,null,null,null,null,null,null,null,null,null,null,null,null,null,null,null,null,null,null,null,null,null,null,null,null,null,null,null,null,null,null,null,null,null,null,null,null,null,null,null,null,null,null,null,null,null,null,null,null,null,null,null,null,null,null,null,null,null,null,null,null,null,null,null,null,null,null,null,null,null,null,null,null,null,null,null,null,null,null,null,null,null,null,null,null,null,null,null,null,null,null,null,null,null,null,null,null,null,null,null,null,null,null,null,null,null,null,null,null,null,null,null,null,null,{"$f":"EP31","v":10.3},{"$f":"EQ31","v":5},5,null,null,null,null,null,null,null,null,null,null,null,null,null,null,null,null,null,null,null,null,null,null,null,null,null,null,null,null,null,null,null,null,null,null,null,null,null,null,null,null,null,null,null,null,null,null,null,null,null,null,null,null,null,null,null,null,null,null,null,null,null,null,null,null,null,null,{"$f":"-HK55+HP9","v":0},0,null,null,null,null,null,null,null,null,null,null,null,null,null,null,null,null,null,null,null,null,null,null,null,null,null,null,null,null,null,null,null,null,null,null,null,null,null,null,null,null,null,null,null,null,null,null,null,null,null,null,null,null,null,null,null,null,null,null,null,null,null,null,null,null,null,null,null,null,null,null,null,null,null,null,null,null,null,null,null,null,null,null,null,null,null,null,null,null,null,null,null,null,null,null,null,null,null,null,null,null,null,null,null,null,null,null,null,null,null,null,null,null,null,null,null,null,null,null,null,null,null,null,null,null,null,null,null,null,null,null,null,null,null,null,null,null,null,null,null,null,null,null,null,null,null,null,null,null,null,null,null,null,null,null,null,null,null,null,null,null,{"$f":"NV30","v":-30},{"$f":"NV52","v":2.5892857142857144},"w8",null,"نقطه پایان رج(راست)","مولفه افقی","مولفه عمودی",{"$f":"NZ64","v":3.7499999999996536E-2},{"$f":"OA64","v":2.8392857142857144},{"$f":"NY64","v":"h13"},null,null,{"$f":"P17","v":6.0101010101010104}," ea0 تعداد رج در یک سانت",null,null,null,null,null,null,null,null,null,{"$f":"P17","v":6.0101010101010104}," ea0 تعداد رج در یک سانت"]
[null,null,null,null,null,null,null,null,null,null,null,null,null,null,null,null,null,null,null,{"$error":"#DIV/0!"},0,{"$f":"(10/3)*((Y56/X56)*(1/L6)-1)","v":-3.3333333333333335},{"$f":"(100/68)*((AA56/Z56)*(1/L7)-1)","v":{"$error":"#DIV/0!"}},13.5,null,null,36,null,50,null,null,null,null,null,null,null,null,null,null,null,null,null,null,null,null,null,null,null,null,null,null,null,null,null,null,null,null,null,null,null,null,null,null,null,null,null,null,null,null,null,null,null,null,null,null,null,null,null,null,null,null,null,null,null,null,null,null,null,null,null,null,null,null,null,null,null,null,null,null,null,null,null,null,null,null,null,null,null,null,null,null,null,null,null,null,null,null,null,null,null,null,null,null,null,null,null,null,null,null,null,null,null,null,null,null,null,null,null,null,null,null,null,null,null,null,null,null,null,null,null,null,null,null,null,null,null,null,null,null,null,null,null,null,null,null,null,null,null,null,null,null,null,null,null,null,null,null,null,null,null,null,null,null,null,null,null,null,null,null,null,null,null,null,null,null,null,null,null,null,null,null,null,null,null,null,null,null,null,null,null,null,null,null,null,null,null,null,null,null,null,null,null,{"$f":"-HK56+HP9","v":0},0,null,null,null,null,null,null,null,null,null,null,null,null,null,null,null,null,null,null,null,null,null,null,null,null,null,null,null,null,null,null,null,null,null,null,null,null,null,null,null,null,null,null,null,null,null,null,null,null,null,null,null,null,null,null,null,null,null,null,null,null,null,null,null,null,null,null,null,null,null,null,null,null,null,null,null,null,null,null,null,null,null,null,null,null,null,null,null,null,null,null,null,null,null,null,null,null,null,null,null,null,null,null,null,null,null,null,null,null,null,null,null,null,null,null,null,null,null,null,null,null,null,null,null,null,null,null,null,null,null,null,null,null,null,null,null,null,null,null,null,null,null,null,null,null,null,null,null,null,null,null,null,null,null,null,null,null,null,null,null,null,{"$f":"NU50+0.1*(NU51-NU50)","v":-24.487500000000001},{"$f":"NV50","v":4.9464285714285712},"w9",null,"w5",{"$f":"NU52","v":25.124999999999993},{"$f":"NV52","v":2.5892857142857144},null,null,null,null,null,{"$f":"P18","v":3.5294117647058822},"تعداد دانه در یک سانت eb0 ",null,null,null,"انحنا راستگرد ",null,null,{"$f":"OL56","v":"انحنا راستگرد "},null,null,{"$f":"P18","v":3.5294117647058822},"تعداد دانه در یک سانت eb0 ",null,null,null,"انحنا راستگرد ",null,null,{"$f":"OW56","v":"انحنا راستگرد "}]
[null,null,null,null,null,null,null,null,null,null,null,null,null,null,null,null,null,null,null,null,null,null,null,null,null,null,null,null,null,null,null,null,null,null,null,null,null,null,null,null,null,null,null,null,null,null,null,null,null,null,null,null,null,null,null,null,null,null,null,null,null,null,null,null,null,null,null,null,null,null,null,null,null,null,null,null,null,null,null,null,null,null,null,null,null,null,null,null,null,null,null,null,null,null,null,null,null,null,null,null,null,null,null,null,null,null,null,null,null,null,null,null,null,null,null,null,null,null,null,null,null,null,null,null,null,null,null,null,null,null,null,null,null,null,null,null,null,null,null,null,null,null,null,null,null,null,null,null,null,null,null,null,null,null,null,null,null,null,null,null,null,null,null,null,null,null,null,null,null,null,null,null,null,null,null,null,null,null,null,null,null,null,null,null,null,null,null,null,null,null,null,null,null,null,null,null,null,null,null,null,null,null,null,null,null,null,null,null,null,null,null,null,null,null,null,null,null,null,null,null,null,null,{"$f":"-HK57+HP9","v":0},0,null,null,null,null,null,null,null,null,null,null,null,null,null,null,null,null,null,null,null,null,null,null,null,null,null,null,null,null,null,null,null,null,null,null,null,null,null,null,null,null,null,null,null,null,null,null,null,null,null,null,null,null,null,null,null,null,null,null,null,null,null,null,null,null,null,null,null,null,null,null,null,null,null,null,null,null,null,null,null,null,null,null,null,null,null,null,null,null,null,null,null,null,null,null,null,null,null,null,null,null,null,null,null,null,null,null,null,null,null,null,null,null,null,null,null,null,null,null,null,null,null,null,null,null,null,null,null,null,null,null,null,null,null,null,null,null,null,null,null,null,null,null,null,null,null,null,null,null,null,null,null,null,null,null,null,null,null,null,null,null,{"$f":"NU51","v":25.124999999999993},{"$f":"NV51+NV33","v":5.5357142857142856},"w10",null,"نقاط خروجی","مولفه افقی","مولفه عمودی",{"$f":"NZ62","v":-4.9125000000000032},{"$f":"OA62","v":2.3392857142857144},{"$f":"NY62","v":"h11"},null,null,{"$f":"F8","v":2},"انتخاب ضخامت میل بافتنی   f1",null,"ارتفاع نیم دایره",{"$f":"OG48","v":0.41596638655462181},"بزرگی فلش",{"$f":"OK60","v":-30},{"$f":"OL60","v":2.4159663865546217},{"$f":"OJ60","v":"m6"},null,null,{"$f":"F8","v":2},"انتخاب ضخامت میل بافتنی   f1",null,"ارتفاع نیم دایره",{"$f":"OR48","v":0.41596638655462181},"بزرگی فلش",{"$f":"OV60","v":-30},{"$f":"OW60","v":2.4159663865546217},{"$f":"OU60","v":"m6"}]
[null,null,null,null,null,null,null,null,null,null,null,null,null,null,null,null,null,null,null,null,null,null,null,null,null,null,null,null,null,null,null,null,null,null,null,null,null,null,null,null,null,null,null,null,null,null,null,null,null,null,null,null,null,null,null,null,null,null,null,null,null,null,null,null,null,null,null,null,null,null,null,null,null,null,null,null,null,null,null,null,null,null,null,null,null,null,null,null,null,null,null,null,null,null,null,null,null,null,null,null,null,null,null,null,null,null,null,null,null,null,null,null,null,null,null,null,null,null,null,null,null,null,null,null,null,null,null,null,null,null,null,null,null,null,null,null,null,null,null,null,null,null,null,null,null,null,null,null,null,null,null,null,null,null,null,null,null,null,null,null,null,null,null,null,null,null,null,null,null,null,null,null,null,null,null,null,null,null,null,null,null,null,null,null,null,null,null,null,null,null,null,null,null,null,null,null,null,null,null,null,null,null,null,null,null,null,null,null,null,null,null,null,null,null,null,null,null,null,null,null,null,null,{"$f":"-HK58+HP9","v":0},0,null,null,null,null,null,null,null,null,null,null,null,null,null,null,null,null,null,null,null,null,null,null,null,null,null,null,null,null,null,null,null,null,null,null,null,null,null,null,null,null,null,null,null,null,null,null,null,null,null,null,null,null,null,null,null,null,null,null,null,null,null,null,null,null,null,null,null,null,null,null,null,null,null,null,null,null,null,null,null,null,null,null,null,null,null,null,null,null,null,null,null,null,null,null,null,null,null,null,null,null,null,null,null,null,null,null,null,null,null,null,null,null,null,null,null,null,null,null,null,null,null,null,null,null,null,null,null,null,null,null,null,null,null,null,null,null,null,null,null,null,null,null,null,null,null,null,null,null,null,null,null,null,null,null,null,null,null,null,null,null,{"$f":"NU57-NV7/NV45","v":18.693749999999994},{"$f":"NV57","v":5.5357142857142856},"w13",null,"h5",{"$f":"NZ54+0.5*(NZ56-NZ54)","v":-2.4375000000000036},{"$f":"OA54","v":2.5892857142857144},{"$f":"NZ63","v":3.7499999999996536E-2},{"$f":"OA63","v":2.3392857142857144},{"$f":"NY63","v":"h12"},null,null,{"$f":"P20","v":2},"بافت انتخابی یقه شومیزیه",null,"پهنای نیم دایره",{"$f":"OG38","v":0.25},{"$f":"OG50","v":0.24957983193277314},{"$f":"OK64","v":-30.072794117647057},{"$f":"OL64","v":2.4742016806722686},{"$f":"OJ64","v":"g5"},null,null,{"$f":"P20","v":2},"بافت انتخابی یقه شومیزیه",null,"پهنای نیم دایره",{"$f":"OR38","v":0.25},{"$f":"OR50","v":0.24957983193277314},{"$f":"OV64","v":-30.072794117647057},{"$f":"OW64","v":2.4742016806722686},{"$f":"OU64","v":"g5"}]
[null,null,null,null,null,null,null,null,null,null,null,null,null,null,null,null,null,null,null,null,null,null,null,null,null,null,null,null,null,null,null,null,null,null,null,null,null,null,null,null,null,null,null,null,null,null,null,null,null,null,null,null,null,null,null,null,null,null,null,null,null,null,null,null,null,null,null,null,null,null,null,null,null,null,null,null,null,null,null,null,null,null,null,null,null,null,null,null,null,null,null,null,null,null,null,null,null,null,null,null,null,null,null,null,null,null,null,null,null,null,null,null,null,null,null,null,null,null,null,null,null,null,null,null,null,null,null,null,null,null,null,null,null,null,null,null,null,null,null,null,null,null,null,null,null,null,null,null,null,null,null,null,null,null,null,null,null,null,null,null,null,null,null,null,null,null,null,null,null,null,null,null,null,null,null,null,null,null,null,null,null,null,null,null,null,null,null,null,null,null,null,null,null,null,null,null,null,null,null,null,null,null,null,null,null,null,null,null,null,null,null,null,null,null,null,null,null,null,null,null,null,null,{"$f":"-HK59+HP9","v":0},0,null,null,null,null,null,null,null,null,null,null,null,null,null,null,null,null,null,null,null,null,null,null,null,null,null,null,null,null,null,null,null,null,null,null,null,null,null,null,null,null,null,null,null,null,null,null,null,null,null,null,null,null,null,null,null,null,null,null,null,null,null,null,null,null,null,null,null,null,null,null,null,null,null,null,null,null,null,null,null,null,null,null,null,null,null,null,null,null,null,null,null,null,null,null,null,null,null,null,null,null,null,null,null,null,null,null,null,null,null,null,null,null,null,null,null,null,null,null,null,null,null,null,null,null,null,null,null,null,null,null,null,null,null,null,null,null,null,null,null,null,null,null,null,null,null,null,null,null,null,null,null,null,null,null,null,null,null,null,null,null,{"$f":"NU58","v":18.693749999999994},{"$f":"NV58+NV33","v":6.125},"w14",null,"h8",{"$f":"NZ58-0.5*NZ49","v":-4.9125000000000032},{"$f":"OA54","v":2.5892857142857144},null,null,null,null,null,"نقاط خروجی ",null,null,"نقطه شروع انحنا","مولفه افقی","مولفه عمودی",{"$f":"OK63","v":-30.103991596638654},{"$f":"OL63","v":2.6239495798319328},{"$f":"OJ63","v":"g4"},null,null,"نقاط خروجی ",null,null,"نقطه شروع انحنا","مولفه افقی","مولفه عمودی",{"$f":"OV63","v":-30.103991596638654},{"$f":"OW63","v":2.6239495798319328},{"$f":"OU63","v":"g4"}]
[null,null,null,null,null,null,null,null,null,null,null,null,null,null,null,null,null,null,null,null,null,null,null,null,null,null,null,null,null,null,null,null,null,null,null,null,null,null,null,null,null,null,null,null,null,null,null,null,null,null,null,null,null,null,null,null,null,null,null,null,null,null,null,null,null,null,null,null,null,null,null,null,null,null,null,null,null,null,null,null,null,null,null,null,null,null,null,null,null,null,null,null,null,null,null,null,null,null,null,null,null,null,null,null,null,null,null,null,null,null,null,null,null,null,null,null,null,null,null,null,null,null,null,null,null,null,null,null,null,null,null,null,null,null,null,null,null,null,null,null,null,null,null,null,null,null,null,null,null,null,null,null,null,null,null,null,null,null,null,null,null,null,null,null,null,null,null,null,null,null,null,null,null,null,null,null,null,null,null,null,null,null,null,null,null,null,null,null,null,null,null,null,null,null,null,null,null,null,null,null,null,null,null,null,null,null,null,null,null,null,null,null,null,null,null,null,null,null,null,null,null,null,{"$f":"-HK60+HP9","v":0},0,null,null,null,null,null,null,null,null,null,null,null,null,null,null,null,null,null,null,null,null,null,null,null,null,null,null,null,null,null,null,null,null,null,null,null,null,null,null,null,null,null,null,null,null,null,null,null,null,null,null,null,null,null,null,null,null,null,null,null,null,null,null,null,null,null,null,null,null,null,null,null,null,null,null,null,null,null,null,null,null,null,null,null,null,null,null,null,null,null,null,null,null,null,null,null,null,null,null,null,null,null,null,null,null,null,null,null,null,null,null,null,null,null,null,null,null,null,null,null,null,null,null,null,null,null,null,null,null,null,null,null,null,null,null,null,null,null,null,null,null,null,null,null,null,null,null,null,null,null,null,null,null,null,null,null,null,null,null,null,null,{"$f":"NU57","v":25.124999999999993},{"$f":"NV59","v":6.125},"w15",null,"h9",{"$f":"NZ58+0.5*NZ49","v":3.7499999999996536E-2},{"$f":"OA54","v":2.5892857142857144},{"$f":"NZ63","v":3.7499999999996536E-2},{"$f":"OA63","v":2.3392857142857144},{"$f":"NY63","v":"h12"},null,{"$f":"OG34+OG5/OG49","v":36.64},{"$f":"OG35","v":2},"m2",null,"m6",{"$f":"OF64","v":-30},{"$f":"OG64","v":2.4159663865546217},{"$f":"OK65","v":-30.072794117647057},{"$f":"OL65","v":2.7736974789915965},{"$f":"OJ65","v":"g6"},null,{"$f":"OR34+OR5/OR49","v":33.07},{"$f":"OR35","v":2},"m2",null,"m6",{"$f":"OQ64","v":-30},{"$f":"OR64","v":2.4159663865546217},{"$f":"OV65","v":-30.072794117647057},{"$f":"OW65","v":2.7736974789915965},{"$f":"OU65","v":"g6"}]
[null,null,null,null,null,null,null,null,null,null,null,null,null,null,null,null,null,null,null,null,null,null,null,null,null,null,null,null,null,null,null,null,null,null,null,null,null,null,null,null,null,null,null,null,null,null,null,null,null,null,null,null,null,null,null,null,null,null,null,null,null,null,null,null,null,null,null,null,null,null,null,null,null,null,null,null,null,null,null,null,null,null,null,null,null,null,null,null,null,null,null,null,null,null,null,null,null,null,null,null,null,null,null,null,null,null,null,null,null,null,null,null,null,null,null,null,null,null,null,null,null,null,null,null,null,null,null,null,null,null,null,null,null,null,null,null,null,null,null,null,null,null,null,null,null,null,null,null,null,null,null,null,null,null,null,null,null,null,null,null,null,null,null,null,null,null,null,null,null,null,null,null,null,null,null,null,null,null,null,null,null,null,null,null,null,null,null,null,null,null,null,null,null,null,null,null,null,null,null,null,null,null,null,null,null,null,null,null,null,null,null,null,null,null,null,null,null,null,null,null,null,null,{"$f":"-HK61+HP9","v":0},0,null,null,null,null,null,null,null,null,null,null,null,null,null,null,null,null,null,null,null,null,null,null,null,null,null,null,null,null,null,null,null,null,null,null,null,null,null,null,null,null,null,null,null,null,null,null,null,null,null,null,null,null,null,null,null,null,null,null,null,null,null,null,null,null,null,null,null,null,null,null,null,null,null,null,null,null,null,null,null,null,null,null,null,null,null,null,null,null,null,null,null,null,null,null,null,null,null,null,null,null,null,null,null,null,null,null,null,null,null,null,null,null,null,null,null,null,null,null,null,null,null,null,null,null,null,null,null,null,null,null,null,null,null,null,null,null,null,null,null,null,null,null,null,null,null,null,null,null,null,null,null,null,null,null,null,null,null,null,null,null,{"$f":"NU59+0.5*(NU60-NU59)","v":21.909374999999994},{"$f":"NV59","v":6.125},"w16",null,"h10",{"$f":"NZ59","v":-4.9125000000000032},{"$f":"OA59+0.5*NZ50","v":2.8392857142857144},{"$f":"NZ64","v":3.7499999999996536E-2},{"$f":"OA64","v":2.8392857142857144},{"$f":"NY64","v":"h13"},null,{"$f":"OG34+0.1*(OF60-OG34)","v":-23.335999999999999},{"$f":"OG35","v":2},"m3",null,"نقاط خروجی","مولفه افقی","مولفه عمودی",{"$f":"OK62","v":-30},{"$f":"OL62","v":2.8319327731092434},{"$f":"OJ62","v":"g2"},null,{"$f":"OR34+0.1*(OQ60-OR34)","v":-23.692999999999998},{"$f":"OR35","v":2},"m3",null,"نقاط خروجی","مولفه افقی","مولفه عمودی",{"$f":"OV62","v":-30},{"$f":"OW62","v":2.8319327731092434},{"$f":"OU62","v":"g2"}]
[null,null,null,null,null,null,null,null,null,null,null,null,null,null,null,null,null,null,null,null,null,null,null,null,null,null,null,null,null,null,null,null,null,null,null,null,null,null,null,null,null,null,null,null,null,null,null,null,null,null,null,null,null,null,null,null,null,null,null,null,null,null,null,null,null,null,null,null,null,null,null,null,null,null,null,null,null,null,null,null,null,null,null,null,null,null,null,null,null,null,null,null,null,null,null,null,null,null,null,null,null,null,null,null,null,null,null,null,null,null,null,null,null,null,null,null,null,null,null,null,null,null,null,null,null,null,null,null,null,null,null,null,null,null,null,null,null,null,null,null,null,null,null,null,null,null,null,null,null,null,null,null,null,null,null,null,null,null,null,null,null,null,null,null,null,null,null,null,null,null,null,null,null,null,null,null,null,null,null,null,null,null,null,null,null,null,null,null,null,null,null,null,null,null,null,null,null,null,null,null,null,null,null,null,null,null,null,null,null,null,null,null,null,null,null,null,null,null,null,null,null,null,{"$f":"-HK62+HP9","v":0},0,null,null,null,null,null,null,null,null,null,null,null,null,null,null,null,null,null,null,null,null,null,null,null,null,null,null,null,null,null,null,null,null,null,null,null,null,null,null,null,null,null,null,null,null,null,null,null,null,null,null,null,null,null,null,null,null,null,null,null,null,null,null,null,null,null,null,null,null,null,null,null,null,null,null,null,null,null,null,null,null,null,null,null,null,null,null,null,null,null,null,null,null,null,null,null,null,null,null,null,null,null,null,null,null,null,null,null,null,null,null,null,null,null,null,null,null,null,null,null,null,null,null,null,null,null,null,null,null,null,null,null,null,null,null,null,null,null,null,null,null,null,null,null,null,null,null,null,null,null,null,null,null,null,null,null,null,null,null,null,null,{"$f":"NU60","v":25.124999999999993},{"$f":"NV60+NV33","v":6.7142857142857144},"w17",null,"h11",{"$f":"NZ59","v":-4.9125000000000032},{"$f":"OA59-0.5*NZ50","v":2.3392857142857144},null,null,null,null,{"$f":"OF60","v":36.64},{"$f":"OG35+OG37","v":2.4159663865546217},"m4",null,"g2",{"$f":"OK60","v":-30},{"$f":"OL60+OK57","v":2.8319327731092434},null,null,null,null,{"$f":"OQ60","v":33.07},{"$f":"OR35+OR37","v":2.4159663865546217},"m4",null,"g2",{"$f":"OV60","v":-30},{"$f":"OW60+OV57","v":2.8319327731092434}]
[null,null,null,null,null,null,null,null,null,null,null,null,null,null,null,null,null,null,null,null,null,null,null,null,null,null,null,null,null,null,null,null,null,null,null,null,null,null,null,null,null,null,null,null,null,null,null,null,null,null,null,null,null,null,null,null,null,null,null,null,null,null,null,null,null,null,null,null,null,null,null,null,null,null,null,null,null,null,null,null,null,null,null,null,null,null,null,null,null,null,null,null,null,null,null,null,null,null,null,null,null,null,null,null,null,null,null,null,null,null,null,null,null,null,null,null,null,null,null,null,null,null,null,null,null,null,null,null,null,null,null,null,null,null,null,null,null,null,null,null,null,null,null,null,null,null,null,null,null,null,null,null,null,null,null,null,null,null,null,null,null,null,null,null,null,null,null,null,null,null,null,null,null,null,null,null,null,null,null,null,null,null,null,null,null,null,null,null,null,null,null,null,null,null,null,null,null,null,null,null,null,null,null,null,null,null,null,null,null,null,null,null,null,null,null,null,null,null,null,null,null,null,{"$f":"-HK72+HP9","v":0},0,null,null,null,null,null,null,null,null,null,null,null,null,null,null,null,null,null,null,null,null,null,null,null,null,null,null,null,null,null,null,null,null,null,null,null,null,null,null,null,null,null,null,null,null,null,null,null,null,null,null,null,null,null,null,null,null,null,null,null,null,null,null,null,null,null,null,null,null,null,null,null,null,null,null,null,null,null,null,null,null,null,null,null,null,null,null,null,null,null,null,null,null,null,null,null,null,null,null,null,null,null,null,null,null,null,null,null,null,null,null,null,null,null,null,null,null,null,null,null,null,null,null,null,null,null,null,null,null,null,null,null,null,null,null,null,null,null,null,null,null,null,null,null,null,null,null,null,null,null,null,null,null,null,null,null,null,null,null,null,null,{"$f":"NU63","v":-24.487500000000001},{"$f":"NV70","v":8.4821428571428577},"w27",null,"f2",{"$f":"NZ71+1*NZ69","v":-24.133928571428573},{"$f":"OA71-NZ68*NZ69","v":2.4125000000000001},{"$f":"NZ71","v":-24.487500000000001},{"$f":"OA71","v":2.5892857142857144},{"$f":"NY71","v":"w7"},null,{"$f":"OF71-1/OG49","v":36.045000000000002},{"$f":"OG71","v":3.2478991596638651},"m14",null,"بزرگی فلش",{"$f":"OG50","v":0.24957983193277314},"f4",{"$f":"OK74","v":-23.335999999999999},{"$f":"OL74","v":2.8319327731092434},{"$f":"OJ74","v":"m11"},null,{"$f":"OQ71-1/OR49","v":32.623750000000001},{"$f":"OR71","v":3.2478991596638651},"m14",null,"بزرگی فلش",{"$f":"OR50","v":0.24957983193277314},"f4",{"$f":"OV74","v":-23.692999999999998},{"$f":"OW74","v":2.8319327731092434},{"$f":"OU74","v":"m11"}]
[null,null,null,null,null,null,null,null,null,null,null,null,null,null,null,null,null,null,null,null,null,null,null,null,null,null,null,null,null,null,null,null,null,null,null,null,null,null,null,null,null,null,null,null,null,null,null,null,null,null,null,null,null,null,null,null,null,null,null,null,null,null,null,null,null,null,null,null,null,null,null,null,null,null,null,null,null,null,null,null,null,null,null,null,null,null,null,null,null,null,null,null,null,null,null,null,null,null,null,null,null,null,null,null,null,null,null,null,null,null,null,null,null,null,null,null,null,null,null,null,null,null,null,null,null,null,null,null,null,null,null,null,null,null,null,null,null,null,null,null,null,null,null,null,null,null,null,null,null,null,null,null,null,null,null,null,null,null,null,null,null,null,null,null,null,null,null,null,null,null,null,null,null,null,null,null,null,null,null,null,null,null,null,null,null,null,null,null,null,null,null,null,null,null,null,null,null,null,null,null,null,null,null,null,null,null,null,null,null,null,null,null,null,null,null,null,null,null,null,null,null,null,{"$f":"-HK83+HP9","v":0},0,null,null,null,null,null,null,null,null,null,null,null,null,null,null,null,null,null,null,null,null,null,null,null,null,null,null,null,null,null,null,null,null,null,null,null,null,null,null,null,null,null,null,null,null,null,null,null,null,null,null,null,null,null,null,null,null,null,null,null,null,null,null,null,null,null,null,null,null,null,null,null,null,null,null,null,null,null,null,null,null,null,null,null,null,null,null,null,null,null,null,null,null,null,null,null,null,null,null,null,null,null,null,null,null,null,null,null,null,null,null,null,null,null,null,null,null,null,null,null,null,null,null,null,null,null,null,null,null,null,null,null,null,null,null,null,null,null,null,null,null,null,null,null,null,null,null,null,null,null,null,null,null,null,null,null,null,null,null,null,null,{"$f":"NU82","v":-17.321249999999999},{"$f":"NV82+NV33","v":11.428571428571425},"w38",null,"g5",{"$f":"NZ79+0.7*(NZ82-NZ79)","v":-30.412500000000001},{"$f":"OA79+0.28*(OA82-OA79)","v":2.9192857142857145},{"$f":"NZ82","v":-30.589285714285715},{"$f":"OA82","v":3.7678571428571432},{"$f":"NY82","v":"g4"},null,{"$f":"OF73","v":-21.223749999999999},{"$f":"OG81","v":6.9915966386554622},"m26",null,"m8",{"$f":"OF66","v":-29.702500000000001},{"$f":"OG66","v":2.8319327731092434},{"$f":"OK84","v":-29.858487394957983},{"$f":"OL84","v":3.0399159663865545},{"$f":"OJ84","v":"f6"},null,{"$f":"OQ73","v":-22.636874999999996},{"$f":"OR81","v":6.9915966386554622},"m26",null,"m8",{"$f":"OQ66","v":-29.702500000000001},{"$f":"OR66","v":2.8319327731092434},{"$f":"OV84","v":-29.858487394957983},{"$f":"OW84","v":3.0399159663865545},{"$f":"OU84","v":"f6"}]
[null,"شیفت افقی جلو",{"$f":"GM359","v":5},null,"دور کمر","a",null,{"$f":"'متغیرها '!U52+0.3*'متغیرها '!C60*('متغیرها '!U52+'متغیرها '!U54+'متغیرها '!U72)","v":51},{"$f":"'متغیرها '!U52","v":51},null,"نقطه دوم از خط دوم","اسم نقطه",4,4,null,null,{"$f":"L145","v":2.0976000000000004},{"$f":"L114-L146","v":20.188726831407767},28,null,{"$f":"L120","v":6.6952000000000007},0,8,null,null,null,null,null,null,null,null,null,null,null,null,{"$f":"Y121+Y123","v":6.625},0,10,null,null,null,null,null,null,null,null,null,{"$f":"AV156+AV157+AV158+1*(IF(('متغیرها '!U54-'متغیرها '!U55)>('متغیرها '!U52-'متغیرها '!U53),0.5*('متغیرها '!U54-'متغیرها '!U55),0.5*('متغیرها '!U52-'متغیرها '!U53))-AV156-AV158)-IF('متغیرها '!C125=1,2*AV150,AV157)","v":13.85},"(1 → 44)   با شرط  x5=1",{"$f":"AX156+AX157+AX158+1*(IF((H102-H103)>(H100-H101),0.5*(H102-H103),0.5*(H100-H101))+'متغیرها '!C62*H120-AX156-AX158)-IF('متغیرها '!C125=1,2*AX150,AX157)","v":13.29},null,{"$f":"BD156","v":18.952165447621006},{"$f":"BE156","v":69.058871180031616},"شیفت13",null,{"$f":"AZ106","v":5},{"$f":"BA106","v":34.975000000000001},1,null,"زاویه خط پهلو پشت",{"$f":"ATAN((BI106-BI108)/(BI110-BI112-BI107))","v":7.0419298681979898E-3},null,null,null,null,null,"انحنای حلقه آستین   پشت",null,null,null," انتقال قسمتی از ساسون سرشانه به خط مرکزی جلو و حلقه آستین با ساسون زیر بغل و خط رگلان",null,null,null,null,null,null,null," انتقال قسمتی از ساسون سرشانه به خط مرکزی پشت و حلقه آستین با ساسون زیر بغل",null,null,null,null,null,null,null," حلقه آستین و سرشانه و رگلان بدون ساسون ",null,null,null,null,null,null,null,"حلقه آستین و سرشانه و رگلان بدون ساسون ",null,null,null,null,null,null,null,null,null,null,null,"جیب با ساسون",null,null,null,null,null,null,null,"تکه پهلو جدا  ",null,null,null,null,null,null,null,null,null,null,null,null,"سرشانه حلقه آستین پهلو ترک و پایین کنترل گشادی",null,null,null,null,null,null,null,null,null,null,null,null,null,null,null,null,null,null,null,"کنترل گودی حلقه آستین ",null,null,null,null,null,null,null,null,null,null,null,"حلقه آستین با ساسون متغیر",null,null,null,"انگلیسی و آرشال چرخیده",null,null,null,"پهلو ترک ",null,null,null,"پهلو برای جیب با ساسون",null,null,null,"اطلاعات اندام",null,null,null,"پهلو جدا در پیراهن",null,null,null,"رسم انحنا جلو آستر کت ",null,null,null,"3حلقه آستین با ساسون متغیر",null,null,null,"حلقه آستین با ساسون متغیر",null,null,null,"17یقه گرد ",null,null,null,"یقه گرد ",null,null,null,"11پهلو جدا و ترک وسط و نیمی از حلقه آستین عصایی",null,null,null,"پهلو جدا و ترک وسط و نیمی از حلقه آستین عصایی",null,null,null,"12پهلو جدا و ترک وسط و حلقه آستین عصایی در آستر کت",null,null,null,"پهلو جدا و ترک وسط و حلقه آستین عصایی در آستر کت",null,null,null,null,null,null,"رسم قرینه جلو پیراهن ",null,null,null,null,null,null,null,null,null,null,null,null,null,null,null,null,null,null,null,null,null,null,null,null,null,null,null,null,null,null,null,null,null,null,null,null,null,null,null,null,null,null,null,null,null,null,null,null,null,null,null,null,null,null,null,null,null,null,null,null,null,null,null,null,null,null,null,null,null,null,null,null,null,null,null,null,null,null,null,null,null,null,null,null,null,null,null,null,null,null,null,null,null,null,null,null,null,null,null,null,null,null,null,null,null,null,null,null,null,null,null,null,null,null,null,null,null,null,null,null,null,null,null,null,null,null,null,null,null,null,null,null,null,null,null,null,null,null,null,null,null,null,null,null,null,null,null,null,null,null,null,null,null,null,null,null,null,null,null,null,null,{"$f":"NU97","v":-30},{"$f":"NV99","v":14.964285714285706},"w55",null,"نقطه شروع انحنا","مولفه افقی","مولفه عمودی",{"$f":"NZ104","v":25.27232142857142},{"$f":"OA104","v":5.2410714285714279},{"$f":"NY104","v":"g4"},null,{"$f":"OF99+0.5*(OF98-OF99)","v":-20.926250000000007},{"$f":"OG98","v":9.071428571428573},"m45",null,"پهنای نیم دایره",{"$f":"OG38","v":0.25},{"$f":"OG50","v":0.24957983193277314},{"$f":"OK106","v":36.415294117647065},{"$f":"OL106","v":2.8901680672268903},{"$f":"OJ106","v":"g5"},null,{"$f":"OQ99+0.5*(OQ98-OQ99)","v":-20.92625},{"$f":"OR98","v":9.071428571428573},"m45",null,"f12",{"$f":"OV97","v":-17.571737394957982},{"$f":"OW97+0.4*(OW99-OW97)","v":3.1967226890756302}]
[null,null,null,null,"دور کمر","a",null,{"$f":"'متغیرها '!U70+0.3*'متغیرها '!C60*('متغیرها '!U52+'متغیرها '!U54+'متغیرها '!U72)","v":51},null,"(5 → 6)",{"$f":"'متغیرها '!C90*(H124-H123)","v":1.1199999999999997},{"$f":"0.2*(H124-H123)","v":2.2399999999999998},null,null,null,null,{"$f":"AN122","v":6.6856330895242024},0,8,null,{"$f":"AN134","v":10.459759564674375},{"$f":"AO134","v":12.446871180031618},20,null,{"$f":"H148*'متغیرها '!U73","v":7},"(4 → 6)",{"$f":"G148*H121","v":7},null,null,null,null,{"$f":"AR123","v":0},0,9,null,{"$f":"AR136","v":11.850991201785181},{"$f":"AS136","v":12.485678171081849},22,null,0,{"$f":"K116+AP111","v":11.2},4,null,0,{"$f":"AA116+AT111","v":10.8},4,null,4.4000000000000004,"(15 → 16)",5.7200000000000006,null,{"$f":"AX104-AX119+AX99","v":16.76941177077936},{"$f":"AX113+AX120+AX98","v":69.91687118003162},18,null,null,null,"کش سویشرت",1.9719172730254164,"(8 → 15)",2.2060026806225315,null,null,null,null,null,null,null,null,null,{"$f":"J239","v":18.504506044097752},{"$f":"K239","v":92.711117144265899},"a2",null,{"$f":"BS104+SQRT(POWER(BS118-BS104,2)+POWER(BT118-BT104,2))*SIN(BT103-ATAN((BS104-BS118)/(BT118-BT104)))","v":18.504506044097752},{"$f":"BT104+SQRT(POWER(BS118-BS104,2)+POWER(BT118-BT104,2))*COS(BT103-ATAN((BS104-BS118)/(BT118-BT104)))","v":92.711117144265899},"a2",null,{"$f":"BO103-CB112","v":16.015592274861262},{"$f":"BP103-CB113","v":75.677635199837454},12,"نقطه حلقه آستین",{"$f":"CA104+SQRT(POWER(CA118-CA104,2)+POWER(CB118-CB104,2))*SIN(ATAN((CA118-CA104)/(CB118-CB104))-CB114)","v":16.015305225105987},{"$f":"CB104+SQRT(POWER(CA118-CA104,2)+POWER(CB118-CB104,2))*COS(ATAN((CA118-CA104)/(CB118-CB104))-CB114)","v":75.678064708702905},"b6",null,{"$f":"CI119+IF(CI117>CI119,0.3,0.7)*(CI117-CI119)","v":14.568709170039604},{"$f":"CJ119+0.5*(CJ117-CJ119)","v":79.083127170062454},"24f",null,null,null,null,null,"نقاط حلقه آستین پشت بدون ساسون سرشانه",null,null,null,{"$f":"CQ104","v":12},{"$f":"CR104","v":72.994241596638659},40,null,{"$f":"-CU118+CZ101","v":-2},{"$f":"CV118","v":72.994241596638659},40,null,{"$f":"BW133","v":16.76943195950836},{"$f":"BX133","v":69.917399322365256},"b8",null,{"$f":"DC105+(DC115-DC105+3)*COS(DD136-RADIANS('متغیرها '!C187))","v":19.338709666083595},{"$f":"DD105-(DC115-DC105+3)*SIN(DD136-RADIANS('متغیرها '!C187))","v":44.514237752600096},"s''2",null,null,{"$f":"'متغیرها '!C55","v":0},"شیفت افقی تکه پهلو",null,{"$f":"BO101-DP120","v":16.891153756379644},{"$f":"BP101","v":83.73675678948598},18,null,{"$f":"DS104+DD148*SIN(DD143)","v":22.255099702789966},{"$f":"DT104-DD148*COS(DD143)","v":50.448419084085501},"s'2m",null,null,null,null,"پهلو ترک ",null,null,null,"پهلو ترک ",null,{"$f":"BO170-EA138","v":19.167024675750596},{"$f":"BP170-EA139","v":68.857635199837461},10,null,{"$f":"-EF118+ED138","v":-9.1670246757505964},{"$f":"EG118","v":68.857635199837461},10,null,null,null,null,null,"αb12g",{"$f":"ES110*EW118","v":9.1249203639612766E-2},null,null,"αb12p",{"$f":"(RADIANS(180)-ES117-EW117+ES109)*(1/(1+ES110))","v":4.5624601819806383E-2},null,null,null,null,null,null,null,null,null,null,null,null,{"$f":"AZ167+BT130","v":11.985633089524203},{"$f":"BA167","v":58.9},"شیفت 40",null,{"$f":"DG112","v":18.952280348408973},{"$f":"DH112","v":69.059640309098882},"b2s",null,{"$f":"FR112","v":18.29},{"$f":"BE178-(H105-H107)","v":30.24082496154422},"g49",null,null,null,null,null,{"$f":"FZ115","v":15.429909109997627},{"$f":"GA115","v":35.315824961544223},"49'm",null,{"$f":"CE105","v":12.543936398830924},{"$f":"CF105","v":85.451540828968518},23,null,{"$f":"-GD118+FK99","v":-2.5439363988309243},{"$f":"GE118","v":85.451540828968518},23,null,16.706709777817739,35.051773939742539,"41'''",null,{"$f":"-GL118+FS99","v":-6.7067097778177391},35.051773939742539,"41'''",null,null,null,null,null,null,null,null,null,{"$f":"DO103","v":16.015592274861262},{"$f":"DP103","v":75.677635199837454},{"$f":"DQ103","v":"شیفت12p"},null,{"$f":"-HB118+GI99","v":-6.0155922748612625},{"$f":"HC118","v":75.677635199837454},{"$f":"DU103","v":"شیفت10m"},null,null,null,null,null,null,null,null,null,null,null,{"$f":"-FV117-HY101","v":-6.9071222949862161},{"$f":"FW117","v":50.023696936772623},"شیفت37'",null,{"$f":"-FB116-HY101","v":-5.0632717134597414},{"$f":"FC116","v":83.743029302247351},"شیفت 34b",null,null,null,null,null,{"$f":"-FN118-HY101","v":-8.9522803484089728},{"$f":"FO118","v":69.059640309098882},"b2s",null,{"$f":"-CR170-HY101","v":-1.9995985907132834},{"$f":"CS170","v":56.199999999999996}," dd5",null,{"$f":"-FD264-HY101","v":5},{"$f":"FE264","v":52.720362606618181},"p26",null,{"$f":"-FN156-HY101","v":-1.9716675883351229},56.199999999999996,"d5",null,{"$f":"-DI246-HY101","v":5},{"$f":"DJ246","v":47.682521032131341},"m9",null,{"$f":"-ES247-HY101","v":5},{"$f":"ET247","v":44.06},"p3",null,null,null,null,null,null,null,null,null,null,null,null,null,null,null,null,null,null,null,null,null,null,null,null,null,null,null,null,null,null,null,null,null,null,null,null,null,null,null,null,null,null,null,null,null,null,null,null,null,null,null,null,null,null,null,null,null,null,null,null,null,null,null,null,null,null,null,null,null,null,null,null,null,null,null,null,null,null,null,null,null,null,null,null,null,null,null,null,null,null,null,null,null,null,null,null,null,null,null,null,null,null,null,null,null,null,null,null,null,null,null,null,null,null,null,null,null,null,null,null,null,null,{"$f":"NU113","v":-30},{"$f":"NV116","v":20.857142857142851},"w73",null,"نقطه پایان رج(راست)","مولفه افقی","مولفه عمودی",{"$f":"NZ127","v":22.584374999999994},{"$f":"OA127","v":5.7857142857142856},{"$f":"NY127","v":"h13"},null,{"$f":"OF117","v":-7.6875000000000071},{"$f":"OG117+OG37","v":11.567226890756306},"m64",null,"m16",{"$f":"OF74","v":-27.62},{"$f":"OG74","v":3.2478991596638651},{"$f":"OK125","v":2.1112500000000018},{"$f":"OL125","v":3.4978991596638651},{"$f":"OJ125","v":"h10"},null,{"$f":"OQ117","v":-5.6050000000000004},{"$f":"OR117+OR37","v":11.567226890756306},"m64",null,null,"متغیرهای ورودی",null,{"$f":"OV124","v":-28.81},{"$f":"OW124","v":3.2478991596638651},{"$f":"OU124","v":"m16"}]
[null,null,null,null,"زاویه خام سرشانه پشت",{"$f":"ATAN((I126-I125)/(0.52*H168-H163))","v":0.35695359781063063},{"$f":"ROUND(DEGREES(F135),0)","v":20},null,null,"(17 → 18)",{"$f":"0.15*K133","v":0.8580000000000001},{"$f":"0.15*L133","v":0.66},null,"(36 → 32')",{"$f":"O130/COS(O133)","v":9.1265753928626854},{"$f":"P130/COS(P133)","v":9.1146255759664658},{"$f":"AN135","v":12.20331618787543},{"$f":"AO135","v":15.878871180031618},21,null,{"$f":"AN123","v":7.2856330895242021},{"$f":"AO123","v":0},9,null,{"$f":"H155+AE127","v":2.817024675750595},"(14 → 17)",{"$f":"G155+0.25*'متغیرها '!C76*G167*COS(AD140)+'متغیرها '!C61*H120-1.2*0.5*'متغیرها '!C78*G167*COS(AD140)+AD127-'متغیرها '!C77*O128*H130*((Y115-Y121-Y123-Y124-Y127)/(Y130))","v":3.1514324008893309},null,"(38 → 34')",{"$f":"AD130/COS(AD133)","v":4.6720840549985185},{"$f":"AE130/COS(AE133)","v":4.6721503990284434},{"$f":"AR132","v":10.905561481518381},{"$f":"AS132","v":16.57767817108185},18,null,{"$f":"AR122","v":7},{"$f":"AS122","v":13.894241596638659},8,null,{"$f":"K115-K132+K138","v":12.20331618787543},{"$f":"K127+K133+AP111","v":15.878871180031618},21,null,{"$f":"AA115-AA139","v":11.850991201785181},{"$f":"AA130+AT111","v":9.7576781710818494},21,null,{"$f":"L150","v":3.2885165869875141},"(25 → 31)",{"$f":"K150","v":0.98555581030272799},null,{"$f":"AX104-AX117+AX123-AX138+AX99","v":15.041053959584763},{"$f":"AX113+AX118+AX124+AX98","v":82.668554206504112},33,null,{"$f":"BD125","v":5},{"$f":"BE125","v":32.975000000000001},null,{"$f":"Y154","v":0.92639060299047404},"(29 → 30)",{"$f":"AA154","v":0.27791107329920567},null,{"$f":"BI131+BI98","v":10.657952299123194},{"$f":"BI103-BI132+BI97","v":81.840445735612917},28,null,null,null,null,null,{"$f":"AZ96-BT130","v":14.586658093937716},{"$f":"BA96","v":74.778871180031615},16,"نقطه حلقه آستین",{"$f":"BS104+SQRT(POWER(BS135-BS104,2)+POWER(BT135-BT104,2))*SIN(ATAN((BS135-BS104)/(BT135-BT104))-IF(AND(BX101=1,BX102=0),(ATAN((BS138-BS104)/(BT138-BT104))-ATAN((BS109-BS104)/(BT109-BT104))),BT131))","v":14.586141518920964},{"$f":"BT104+SQRT(POWER(BS135-BS104,2)+POWER(BT135-BT104,2))*COS(ATAN((BS135-BS104)/(BT135-BT104))-IF(AND(BX101=1,BX102=0),(ATAN((BS138-BS104)/(BT138-BT104))-ATAN((BS109-BS104)/(BT109-BT104))),BT131))","v":74.779158311229821},"b6",null,{"$f":"BO102-CB112","v":16.278260719316776},{"$f":"BP102-CB113","v":80.110152074144139},20,"نقطه حلقه آستین",{"$f":"CA104+SQRT(POWER(CA135-CA104,2)+POWER(CB135-CB104,2))*SIN(ATAN((CA135-CA104)/(CB135-CB104))-CB130)","v":15.493307525225175},{"$f":"CB104+SQRT(POWER(CA135-CA104,2)+POWER(CB135-CB104,2))*COS(ATAN((CA135-CA104)/(CB135-CB104))-CB130)","v":80.526605053119383},"b12",null,"نقطه تقاطع","g1",{"$f":"(CL133-CL131+CK131*((CL132-CL131)/(CK132-CK131))-CK133*((CL134-CL133)/(CK134-CK133)))/(((CL132-CL131)/(CK132-CK131))-((CL134-CL133)/(CK134-CK133)))","v":12.841293930858454},{"$f":"CL131+(CK135-CK131)*((CL132-CL131)/(CK132-CK131))","v":76.063650831197904},{"$f":"CI109","v":12.543630224039699},{"$f":"CJ109","v":84.250455876906486},25,null,"نقطه اول از خط دوم",40,{"$f":"CU118","v":12},{"$f":"CV118","v":72.994241596638659},{"$f":"CU105","v":16.222056087003999},{"$f":"CV105","v":72.725763572932536},"16fشیفت",null,{"$f":"-CU135+CZ101","v":-6.2220560870039989},{"$f":"CV135","v":72.725763572932536},"16fشیفت",null,"(45→s'2)",{"$f":"SQRT(POWER((DC115-DG119),2)+POWER((DD115-DH119),2))*IF('متغیرها '!C187>0,1,-1)","v":-5.3507582397409061},null,null,null,null,null,null,{"$f":"DK121","v":16.76941177077936},{"$f":"DL121","v":69.058871180031616},"شیفت 14m",null,null,{"$f":"SQRT(POWER(DK112-DK111,2)+POWER(DL112-DL111,2))","v":84.439868723143476},"m''",null,null,null,null,null,null,null,null,null,null,null,null,null,null,null,null,null,null,null,null,null,null,null,null,null,null,{"$f":"BW136","v":15.370703421877415},{"$f":"BX136","v":78.724086466118408},24,"نقطه حلقه آستین",null,{"$f":"CE119","v":16.277499547877813},{"$f":"CF119","v":80.110609653746607},20,"نقطه حلقه آستین",null,{"$f":"BW105","v":12.543630224039699},{"$f":"BX105","v":84.250455876906486},"چرخیده25",null,7.2077528124135686,97.309325910425457,"p6",null,null,null,null,null,{"$f":"DC107","v":11.985633089524203},{"$f":"DD107","v":58.9},39,null,{"$f":"BD97","v":5},{"$f":"BE97","v":34.975000000000001},"1'",null,{"$f":"DG126","v":16.769526671567327},{"$f":"DH126","v":69.917362104882514},{"$f":"DI126","v":"b'8s"},null,null,null,null,null,null,null,null,null,null,null,null,null,null,null,null,null,null,null,null,null,{"$f":"BO178","v":5},{"$f":"BP178","v":59.1},44,null,{"$f":"-GT135+GA99","v":5},{"$f":"GU135","v":59.1},44,null,null,null,null,null,null,null,null,null,null,null,{"$f":"HL129","v":-8.952165447621006},{"$f":"DT173","v":69.058871180031616},13,null,{"$f":"-CM143-HY101","v":-1.0349041792317593},{"$f":"CN143","v":77.591651022889494},30,null,null,null,null,null,null,null,null,null,{"$f":"IB132","v":-1.9406330895242014},{"$f":"IC132","v":34.975000000000001},52,null,{"$f":"-FR135-HY101","v":5},{"$f":"FS135","v":34.975000000000001},"1'",null,null,null,null,null,{"$f":"-AR279-HY101","v":5},{"$f":"AS279","v":34.975000000000001},1,null,{"$f":"-DI282-HY101","v":5},{"$f":"DJ282","v":66.7},"e'1",null,{"$f":"-DM267-HY101","v":5},{"$f":"DN267","v":56.725000000000001},"s1",null,null,null,null,null,null,null,null,null,null,null,null,null,null,null,null,null,null,null,null,null,null,null,null,null,null,null,null,null,null,null,null,null,null,null,null,null,null,null,null,null,null,null,null,null,null,null,null,null,null,null,null,null,null,null,null,null,null,null,null,null,null,null,null,null,null,null,null,null,null,null,null,null,null,null,null,null,null,null,null,null,null,null,null,null,null,null,null,null,null,null,null,null,null,null,null,null,null,null,null,null,null,null,null,null,null,null,null,null,null,null,null,null,null,null,null,null,null,null,null,null,null,null,null,null,null,null,null,null,null,"w13",{"$f":"NU58","v":18.693749999999994},{"$f":"NV58","v":5.5357142857142856},{"$f":"NZ140","v":18.590624999999996},{"$f":"OA140","v":6.0425000000000004},{"$f":"NY140","v":"g6"},null,{"$f":"OF132+0.1*(OF131-OF132)","v":-19.974250000000005},{"$f":"OG131","v":13.231092436974794},"m81",null,"ارتفاع هر رج",{"$f":"OG37","v":0.41596638655462181},"w11",null,null,null,null,{"$f":"OQ132+0.1*(OQ131-OQ132)","v":-21.283250000000002},{"$f":"OR131","v":13.231092436974794},"m81"]
[null,null,null,null,"نصف پهنای ساسون جلو کمر","y''",{"$f":"0.5*'متغیرها '!C87*(H120-H121-H118+H119)","v":0.30000000000000004},{"$f":"0.5*'متغیرها '!C87*('متغیرها '!U72-'متغیرها '!U73-'متغیرها '!U70+'متغیرها '!U71)","v":0.30000000000000004},null,"(25 → 32)","وصل",null,null,"(36' → 36)",{"$f":"SIN(G161)*K159","v":1.5771357000365951},{"$f":"SIN(H161)*L159","v":1.7216719465113977},{"$f":"AN116","v":0},{"$f":"AO116","v":25.350455876906491},2,null,null,null,"دکلته ساسون سرشانه",null,null,"(27→32→30→28)","هلال وصل",null,"(38' → 38)",{"$f":"IF((4*G170)<G172,SIN(G159)*(4*G170),SIN(G159)*G172)","v":0.86111975287224352},{"$f":"IF((4*H170)<H172,SIN(H159)*(4*H170),SIN(H159)*H172)","v":0.8611332786208965},{"$f":"AR141","v":7.5439363988309243},{"$f":"AS141","v":26.35154082896852},27,null,null,null,null,null,{"$f":"K162","v":0},{"$f":"K114-K144+AP111","v":12.03284616887251},38,null,{"$f":"AA115-AA135+AA141-AA156","v":9.7070765434558783},{"$f":"AA130+AA136+AA142+AA157+AT111","v":25.823618274482957},36,null,{"$f":"MIN(AV150,AV151)+0.5*ABS((AV150-AV151))","v":0.27749999999999997},"*",{"$f":"MIN(AX150,AX151)+0.5*ABS((AX150-AX151))","v":0.27749999999999997},null,null,null,null,null,{"$f":"0.42*AX104+AX99","v":10.859909488000822},{"$f":"0+AX98","v":34.975000000000001},"3'",{"$f":"BG148-1*('متغیرها '!U58-'متغیرها '!U60)","v":20.300000000000004},"(1 → 37)",{"$f":"BI148-'متغیرها '!C96*(H106-H108)","v":16.115000000000002},null,"ساسون کمر",null,null,null,{"$f":"BK126","v":19.297429614064797},{"$f":"BL126","v":50.339588981350069},"6شیفت",null,null,"به دست آوردن نقطه تقاطع دو خط (رگلان بدون درز)","مولفه افقی","مولفه عمودی",{"$f":"BW136","v":15.370703421877415},{"$f":"BX136","v":78.724086466118408},"b12",null,null,"به دست آوردن نقطه تقاطع دو خط (رگلان بدون درز)","مولفه افقی","مولفه عمودی",null,null,null,null,"نقاط  ورودی",null,null,null,null,"بعضی نقاط  ورودی جلو",null,null,null,null,null," جلو بالاتنه کمر جناقی ",null,null,null," 15پشت بالاتنه کمر جناقی ",null,null,null,null,null,null,null,null,null,null,null,null,null,null,null,null,"نقاط  ورودی",null,null,null,null,null,"حلقه آستین عصایی",null,"نقاط  ورودی",null,null,null,null,null,"حلقه آستین عصایی",null,"قرینه",{"$f":"2*C102","v":10},null,null,null,null,null,null,null,null,null,null,null,null,null,null,null,null,{"$f":"EW151+EX142*COS(EX147-RADIANS(EX137))","v":16.96707650005537},{"$f":"EX151-EX142*SIN(EX147-RADIANS(EX137))","v":83.869652259115114},"18b",null,null,{"$f":"BW140+BT130","v":18.952280348408973},{"$f":"BX140","v":69.059640309098882},"شیفت b2",null,8.0174520896158796,72.264607139675903,28,null,{"$f":"BW112","v":5.0000000715754735},{"$f":"BX112","v":70.100999999989753},"چرخیده 4'",null,{"$f":"CE184","v":5},{"$f":"CF184","v":60.750780775992631},"8n",null,{"$f":"BD175","v":11.985633089524203},{"$f":"BE175","v":68.98},43,null,{"$f":"ES161","v":11.284116867376101},{"$f":"ET161","v":30.975000000000001},"a'5",null,{"$f":"FF116","v":18.504506044097752},{"$f":"FG116","v":92.711117144265899},"a2",null,{"$f":"BK159","v":11.418749999999999},{"$f":"BL159","v":59.1},34,null,{"$f":"-GD152+FK99","v":-1.4187499999999993},{"$f":"GE152","v":59.1},34,null,{"$f":"BK129","v":19.404644768536738},{"$f":"BL129","v":35.114588981350067},"4شیفت",null,{"$f":"-GL152+FS99","v":-9.4046447685367376},{"$f":"GM152","v":35.114588981350067},"4شیفت",null,{"$f":"EX180","v":7.5875000000000004},{"$f":"EY180","v":30.975000000000001},"a'26",null,{"$f":"-GT152+GA99","v":2.4124999999999996},{"$f":"GU152","v":30.975000000000001},"a'26",null,{"$f":"BK165","v":20.090000000000003},{"$f":"BL162-(H105-H108)","v":50.339588981350069},"b42",null,{"$f":"-HB152+GI99","v":-10.090000000000003},{"$f":"HC152","v":50.339588981350069},"b42",null,null,null,null,null,"خطوط برش پیش سینه",null,null,null,null,null,{"$f":"-FR147-HY101","v":-1.9856330895242031},{"$f":"FS147","v":58.9},"40شیفت",null,null,null,null,null,null,null,null,null,{"$f":"-FR108-HY101","v":5},{"$f":"FS108","v":50.2},"g46",null,{"$f":"-CR204-HY101","v":5},{"$f":"CS204","v":52.42},"d4",null,null,null,null,null,null,null,null,null,null,null,null,null,{"$f":"-DP482-HY101","v":-4.5155387197801122},{"$f":"DQ482","v":59.518323206553042},"β11",null,null,null,null,null,null,null,null,null,null,null,null,null,null,null,null,null,null,null,null,null,null,null,null,null,null,null,null,null,null,null,null,null,null,null,null,null,null,null,null,null,null,null,null,null,null,null,null,null,null,null,null,null,null,null,null,null,null,null,null,null,null,null,null,null,null,null,null,null,null,null,null,null,null,null,null,null,null,null,null,null,null,null,null,null,null,null,null,null,null,null,null,null,null,null,null,null,null,null,null,null,null,null,null,null,null,null,null,null,null,null,null,null,null,null,null,null,null,null,null,null,null,null,null,null,null,null,null,null,null,null,null,null,{"$f":"OF149+1/OG49","v":-24.645000000000007},{"$f":"OG149","v":17.390756302521012},"m98",null,"زاویه فلش",{"$f":"OG42","v":0.5},"f5",null,null,"فلش به سمت چپ",null,{"$f":"OQ149+1/OR49","v":-26.430000000000003},{"$f":"OR149","v":17.390756302521012},"m98",null,"بزرگی فلش دانه",{"$f":"OR44","v":0.5},"f10",{"$f":"OV159","v":20.574999999999999},{"$f":"OW159","v":3.8478991596638652},{"$f":"OU159","v":"f8"}]
[null,null,null,null,"پهنای ساسون سرشانه پشت",null,{"$f":"(G181/COS(G158))-G167","v":1.1345275613061334},{"$f":"(H181/COS(H158))-H167","v":1.1345430608928657},null,null,null,null,null,null,null,null,null,null,null,null,null,null,null,null,null,null,null,null,null,null,null,null,null,null,null,null,null,null,null,null,null,null,null,null,null,null,null,null,"(52→52')",{"$f":"0.25*'متغیرها '!C130*(H102-H103)","v":0},null,{"$f":"0+AX99","v":5},{"$f":"AX155+(H124-H123)+AX98","v":70.099999999999994},"خط سینه",null,"خطوط برش ساسون کمر ",null,null,null,"(50→50')",{"$f":"BI169","v":0},null,{"$f":"-BI165+BI98","v":5},{"$f":"BI167+BI97","v":50.2},48,null,{"$f":"BI108+BI98+'متغیرها '!C56","v":19.167024675750596},{"$f":"BI110-BI112+BI97+'متغیرها '!C57","v":68.857635199837461},"10شیفت",null,"متغیرهای محاسبه ای چرخش کامل به ساسون زیر بغل",null,null,null,null,null,null,null,null,null,null,null,null,null,null,null,{"$f":"ER423","v":5},{"$f":"ES415","v":86.1},2,null,null,{"$f":"J309","v":5},{"$f":"K309","v":57.480000000000004},"d1",null,{"$f":"CN159","v":11.999598590713283},{"$f":"CO159","v":56.199999999999996}," dd5",null,{"$f":"CN173","v":18.662500000000001},{"$f":"CO173","v":59.139588981350066},"d3",null,{"$f":"-CV170+DA153","v":-8.6625000000000014},{"$f":"CW170","v":59.139588981350066},"d3",null,null,null,null,null,null,null,null,null,null,null,null,"نقاط  خروجی ",null,null,"شیفت",{"$f":"DO159+DP160","v":15.459759564674375},{"$f":"DP159","v":71.346871180031627},{"$f":"DQ159","v":"20g"},null,"(1 → 34)",{"$f":"DX154+0.75*(DX155-DX154)","v":75.00710893068684},null,"شیفت",{"$f":"CA122+DX161","v":19.167024675750596},{"$f":"CB122+DX162","v":68.857635199837461},{"$f":"CC122","v":9},null,{"$f":"-EA170+EF152","v":-9.1670246757505964},{"$f":"EB170","v":68.857635199837461},{"$f":"CG122","v":"b14"},null,null,null,null,null,null,null,{"$f":"EO169+0.3*(EO166-EO169)","v":12.787075928873714},{"$f":"EP169+0.9*(EP166-EP169)","v":61.591881931036589},"a6",null,{"$f":"DL118","v":0},"شیفت افقی",null,null,null,"αa23",{"$f":"ATAN((EX158-EX157)/(EY157-EY158))","v":0},null,null,10.902950784809375,36.963206366246858,"6n'",null,null,null,null,null,null,null,null,null,null,null,null,null,null,null,null,null,null,null,null,null,null,null,null,null,null,null,null,null,null,null,null,null,null,null,null,null,null,null,null,null,null,null,null,null,null,null,null,null,{"$f":"'متغیرها '!C53","v":5},{"$f":"'متغیرها '!C54","v":5},null,null,{"$f":"-HB170+GI99","v":5},{"$f":"HC170","v":5},null,null,null,null,null,null,null,null,{"$f":"-FF147-HY101","v":5},{"$f":"FG147","v":66.7},"e1",null,{"$f":"-CA191-HY101","v":2.7863934556964844},{"$f":"CB191","v":41.493505229179107},"7n'",null,{"$f":"-FN175-HY101","v":-9.082570385935206},{"$f":"FO175","v":50.540824961544217},"شیفت9",null,{"$f":"-FF156-HY101","v":-9.1897855404071507},{"$f":"FG156","v":35.315824961544223},"شیفت7",null,null,null,"70'",null,null,null,null,null,null,null,null,null,null,null,null,null,null,null,null,null,null,null,null,null,null,null,null,null,null,null,null,null,null,null,null,null,null,null,null,null,null,null,null,null,null,null,null,null,null,null,null,null,null,null,null,null,null,null,null,null,null,null,null,null,null,null,null,null,null,null,null,null,null,null,null,null,null,null,null,null,null,null,null,null,null,null,null,null,null,null,null,null,null,null,null,null,null,null,null,null,null,null,null,null,null,null,null,null,null,null,null,null,null,null,null,null,null,null,null,null,null,null,null,null,null,null,null,null,null,null,null,null,null,null,null,null,null,null,null,null,null,null,null,null,null,null,null,null,null,"نقطه ورودی سر فلش","مولفه افقی","مولفه عمودی",{"$f":"NZ173","v":-24.133928571428573},{"$f":"OA173","v":6.8910714285714292},{"$f":"NY173","v":"f3"},null,null,null,null,null,"g8",{"$f":"OK166-OL161*SIN(RADIANS(40)+ATAN((OK166-OK167)/(OL166-OL167+0.0001)))","v":-28.466006224096706},{"$f":"OL166-OL161*COS(RADIANS(40)+ATAN((OK166-OK167)/(OL166-OL167+0.0001)))","v":4.4838935023893098},{"$f":"OK169","v":-28.151895539582142},{"$f":"OL169","v":4.5493269860783139},{"$f":"OJ169","v":"g7"}]
[null,null,null,null,null,null,null,null,null,null,null,null,null,null,null,null,null,null,null,null,null,null,null,null,null,null,null,null,null,null,null,null,null,null,null,null,null,null,null,null,null,null,null,null,null,null,null,null,null,null,null,null,null,null,null,{"$f":"AZ106","v":5},{"$f":"BA106","v":34.975000000000001},1,null,null,null,null,null,null,null,null,{"$f":"BI168+BI98","v":12.4125},{"$f":"BL155","v":51.09},"38'",null,null,null,null,null,null,null,null,null,"مولفه افقی","مولفه عمودی","اسم نقطه ",null,null,null,null,null,null,null,null,null,null,null,null,null,null,null,null,null,null,null,null,null,null,null,null,null,null,null,null,null,null,null,null,null,null,null,null,null,null,null,null,null,null,null,null,null,null,null,null,null,null,null,null,null,null,null,null,null,null,null,null,null,null,null,null,null,null,null,null,null,null,null,null,null,null,null,null,null,null,null,null,null,null,null,null,null,null,null,null,null,null,null,null,null,null,null,null,null,null,null,null,null,null,null,null,null,null,null,null,null,null,null,null,null,null,null,null,null,null,null,null,null,null,null,null,null,null,null,null,null,null,null,null,null,null,null,null,null,null,{"$f":"-BD134+HM191","v":5},{"$f":"BE134","v":23.499175038455782},null,null,null,null,null,null,null,null,null,null,null,null,null,null,null,null,null,null,null,null,null,null,null,null,null,null,null,null,null,null,null,null,null,null,null,null,null,null,null,null,null,null,null,null,null,null,null,null,null,null,null,null,null,null,null,null,null,null,null,null,null,null,null,null,null,null,null,null,null,null,null,null,null,null,null,null,null,null,null,null,null,null,null,null,null,null,null,null,null,null,null,null,null,null,null,{"$f":"LE186","v":-4.3919970901294523},{"$f":"LF185","v":30.893033258796414},"j53",null,-4.3919970901294523,30.893033258796414,"j53",null,null,null,null,null,null,null,null,null,null,null,null,null,null,null,null,null,null,null,null,null,null,null,null,null,null,null,null,null,null,null,null,null,null,null,null,null,null,null,null,null,null,null,null,null,null,null,null,null,null,null,null,null,null,null,null,null,null,null,null,null,null,null,null,null,null,null,null,null,null,null,null,null,null,null,null,"h11",{"$f":"OK184","v":-25.022500000000004},{"$f":"OL184-0.5*OK175","v":5.9096638655462179},null,null,null,null,null,null,null,null,"پهنای باکس نوشته",{"$f":"OR40","v":0.5},"h4"]
[null,null,null,null,null,null,null,null,null,null,null,null,null,null,null,null,null,null,null,null,null,null,null,null,null,null,null,null,null,null,null,null,null,null,null,null,null,null,null,null,null,null,null,null,null,null,null,null,null,null,null,null,null,null,null,null,null,null,null,null,null,null,null,null,null,null,null,null,null,null,null,null,null,null,null,null,null,null,null,null,null,null,null,null,null,null,null,null,null,null,null,null,null,null,null,null,null,null,null,null,null,null,null,null,null,null,null,null,null,null,null,null,null,null,null,null,null,null,null,null,null,null,null,null,null,null,null,null,null,null,null,null,null,null,null,null,null,null,null,null,null,null,null,null,null,null,null,null,null,null,null,null,null,null,null,null,null,null,null,null,null,null,null,null,null,null,null,null,null,null,null,null,null,null,null,null,null,null,null,null,null,null,null,null,null,null,null,null,null,null,null,null,null,null,null,null,null,null,null,null,null,null,null,null,null,null,null,null,null,null,null,null,null,null,null,null,null,null,null,null,null,null,null,null,null,null,null,null,null,null,null,null,null,null,null,null,null,null,null,null,null,null,null,null,null,null,null,null,null,null,null,null,null,null,null,null,null,null,null,null,null,null,null,null,null,null,null,null,{"$f":"JE273","v":5},{"$f":"JF273","v":64.4020908279428},"e41",null,{"$f":"-JI205+JN198","v":5},{"$f":"JJ205","v":64.4020908279428},"e41",null,null,null,null,null,null,null,null,null,null,null,null,null,null,null,null,null,null,null,null,null,null,null,null,null,null,null,null,null,null,null,null,null,null,null,null,null,null,null,null,null,{"$f":"-LE203+2*LE193","v":-13.783994180258905},{"$f":"LF193","v":23.674999999999997},"j72",null,-20.045325573678539,17.45,"j64",null,null,null,null,null,null,null,null,null,null,null,null,null,null,null,null,null,null,null,null,null,null,null,null,null,null,null,null,null,null,null,null,null,null,null,null,null,null,null,null,null,null,null,null,null,null,null,null,null,null,null,null,null,null,null,null,null,null,null,null,null,null,null,null,null,"h13",{"$f":"NZ201","v":-26.109375},{"$f":"OA202","v":7.5535714285714288},{"$f":"NZ197","v":-23.568750000000001},{"$f":"OA197","v":7.3035714285714288},{"$f":"NY197","v":"w21"},null,null,null,null,null,null,null,null,null,null,null,null,null,null,null,null,null,null,"انحنا چپگرد ",null,null,{"$f":"OW205","v":"انحنا چپگرد "}]
[null,null,null,null,null,null,null,null,null,null,null,null,null,null,null,null,null,null,null,null,null,null,null,null,null,null,null,null,null,null,null,null,null,null,null,null,null,null,null,null,null,null,null,null,null,null,null,null,null,null,null,null,null,null,null,null,null,null,null,null,null,null,null,null,null,null,null,null,null,null,null,null,null,null,null,null,null,null,null,null,null,null,null,null,null,null,null,null,null,null,null,null,null,null,null,null,null,null,null,null,null,null,null,null,null,null,null,null,null,null,null,null,null,null,null,null,null,null,null,null,null,null,null,null,null,null,null,null,null,null,null,null,null,null,null,null,null,null,null,null,null,null,null,null,null,null,null,null,null,null,null,null,null,null,null,null,null,null,null,null,null,null,null,null,null,null,null,null,null,null,null,null,null,null,null,null,null,null,null,null,null,null,null,null,null,null,null,null,null,null,null,null,null,null,null,null,null,null,null,null,null,null,null,null,null,null,null,null,null,null,null,null,null,null,null,null,null,null,null,null,null,null,null,null,null,null,null,null,null,null,null,null,null,null,null,null,null,null,null,null,null,null,null,null,null,null,null,null,null,null,null,null,null,null,null,null,null,null,null,null,null,null,null,null,null,null,null,null,null,null,null,null,null,null,null,null,null,null,null,null,{"$f":"JI263","v":16.607388812777515},{"$f":"JJ263","v":70.641446669023935},"e65",null,{"$f":"-JI263+IY263","v":-6.6073888127775149},{"$f":"JJ263","v":70.641446669023935},"e65",null,null,null,null,null,null,null,null,null,null,null,null,null,null,null,null,null,null,null,null,null,null,null,null,null,null,null,null,null,{"$f":"LE218+0.5*(LE213-LE218)","v":23.783994180258905},{"$f":"LF212","v":17.45},"j90",null,{"$f":"LE207","v":11.261331393419635},23.674999999999997,"j74",null,null,40,{"$f":"BO164","v":12},{"$f":"BP164","v":72.994241596638659},null,"نقطه دوم از خط دوم",40,{"$f":"BO164","v":12},{"$f":"BP164","v":72.994241596638659},null,"d4  b12ʻ",12.855499909575563,76.16653037827767,null,{"$f":"LX278","v":7.0220000000000002},{"$f":"LY278","v":52.09167118508006},"m12",null,{"$f":"-MA222+MF212","v":2.9779999999999998},{"$f":"MB222","v":52.09167118508006},"m12",null,{"$f":"LX278","v":7.0220000000000002},{"$f":"LY278","v":52.09167118508006},"m12",null,{"$f":"-MI222+MN212","v":2.9779999999999998},{"$f":"MJ222","v":52.09167118508006},"m12",null,{"$f":"LX278","v":7.0220000000000002},{"$f":"LY278","v":52.09167118508006},"m12",null,{"$f":"-MQ222+MV212","v":2.9779999999999998},{"$f":"MR222","v":52.09167118508006},"m12",null,{"$f":"LX278","v":7.0220000000000002},{"$f":"LY278","v":52.09167118508006},"m12",null,{"$f":"-MY222+ND212","v":2.9779999999999998},{"$f":"MZ222","v":52.09167118508006},"m12",null,{"$f":"LX278","v":7.0220000000000002},{"$f":"LY278","v":52.09167118508006},"m12",null,{"$f":"-NG222+NL212","v":2.9779999999999998},{"$f":"NH222","v":52.09167118508006},"m12",null,null,null,null,null,null,null,null,null,null,null,null,null,null,{"$f":"NU67","v":-23.568750000000001},{"$f":"NV67","v":7.8928571428571432},"w22",null,null,null,null,null,"g4",{"$f":"OK219-OK217*OK216","v":-27.723991596638655},{"$f":"OL219+0.5*OK216","v":6.7836134453781511},{"$f":"OK226","v":-27.842081755605786},{"$f":"OL226","v":6.5637389201081495},{"$f":"OJ226","v":"g8"},null,null,null,null,null,"نقطه ورودی سر فلش","مولفه افقی","مولفه عمودی",{"$f":"OV225","v":-24.990420168067224},{"$f":"OW225","v":6.7004201680672271},{"$f":"OU225","v":"f3"}]
[null,null,null,null,null,"(a2 → a4)",{"$f":"2.4*G242*'متغیرها '!C164","v":4.5925163867064587},null,null,{"$f":"G245+AX99","v":18.504506044097752},{"$f":"AX103+G244+AX98","v":92.711117144265899},"a2",null,"(e → e4)",{"$f":"O236*G262/G260","v":7.4010947135415819},null,null,null,null,null,{"$f":"U249","v":5},{"$f":"V249","v":69.450455876906489},"49''",null,{"$f":"-U239+S257","v":5},{"$f":"V239","v":69.450455876906489},"49''",null,"نقاط  ورودی",null,null,null,"محاسبات",null,null,"پشت یقه پروانه ای ",null,null,"قرینه",{"$f":"2*C102","v":10},null,null,"d2",{"$f":"'متغیرها '!C453","v":0.9},null,null,null,null,null,null,null,null,null,null,null,"متغیر ورودی جلو",null,null,null,"(8 → 13)",{"$f":"BE245*(1+'متغیرها '!C320)*COS(2*BE240+BE244)","v":2.4711285226382702},null,null,null," انحنا لبه دامن فون روی خط مرکزی جلو",null,null,null,"قرینه انحنا لبه دامن فون روی خط مرکزی جلو",null,null,{"$f":"'متغیرها '!C56","v":0},"شیفت افقی تکه پهلو پیراهن",null,"(8 → 13)",{"$f":"BT246*(1+'متغیرها '!C320)*COS(2*BT241+BT245)","v":1.6412332930803069},null,null,null,"انحنا بالا",null,null,null,"انحنا بالا",null,null,null,null,null,null,null,null,null,null,null,null,null,null,null,null,null,"(m7→ m8)",{"$f":"0.28*(CY235-CY233)+CY233","v":6.4609940909090913},null,null,{"$f":"CY234","v":17.835000000000001},"(1 → m3)",null,{"$f":"CY241+AX99","v":9.4952485227272732},{"$f":"CY240+AX98","v":47.682521032131341},"m10",null,{"$f":"DE231","v":8.84},{"$f":"DF231","v":44.921570818663596},"m2",null,{"$f":"DE260","v":8.84},{"$f":"DF260","v":35.933997432269848},"m2",null,{"$f":"-DM239+DR229","v":1.1600000000000001},{"$f":"DN239","v":35.933997432269848},"m2",null,{"$f":"BO178","v":5},{"$f":"BP178","v":59.1},44,null,{"$f":"-DU239+DZ229","v":5},{"$f":"DV239","v":59.1},44,null,null,null,null,null,"نقاط تکه وسط پا ",null,null,null,{"$f":"EG237","v":18.745772644396549},{"$f":"EH237","v":34.975000000000001},"p14",null,{"$f":"-EK239+EP230","v":-8.7457726443965491},{"$f":"EL239","v":34.975000000000001},"p14",null,{"$f":"EG273","v":16.928166777436029},{"$f":"EH273","v":34.975000000000001},"p8",null,"(p19 → p20)",{"$f":"IF('متغیرها '!C432=1,0.85,0.5)*EX235","v":-1.3025848072308674},null,{"$f":"AZ99","v":18.952165447621006},{"$f":"BA99","v":69.058871180031616},12,null,{"$f":"AZ99-'متغیرها '!C55","v":18.952165447621006},{"$f":"BA99","v":69.058871180031616},12,null,"(p14 → p15)",{"$f":"IF('متغیرها '!C443=1,0.75,0.45)*FI235","v":3.9150247272661929},null,{"$f":"BK122-'متغیرها '!C56","v":19.167024675750596},{"$f":"BL122-'متغیرها '!C57","v":68.857635199837461},8,null,{"$f":"-FK239+FP230","v":-9.1670246757505964},{"$f":"FL239","v":68.857635199837461},8,null,null,{"$f":"O140","v":0.4397404172401369},"β4",null,"yd3",{"$f":"IF(FT240<3,'متغیرها '!U60+(FT240-2)*('متغیرها '!U56-'متغیرها '!U60),'متغیرها '!U56+(FT240-3)*(I124-I123))","v":59.5},"شیفت",{"$f":"FS249+'متغیرها '!C51","v":18.952165447621006},{"$f":"FT249+FT242+'متغیرها '!C52","v":69.058871180031616},13,null,null,{"$f":"AD140","v":0.51974531267101842},"β8","شیفت",{"$f":"GD248+'متغیرها '!C53","v":19.167024675750596},{"$f":"GE248+GE242+'متغیرها '!C54","v":68.857635199837461},{"$f":"GF248","v":9},null,null,null,{"$f":"AZ165","v":5},{"$f":"BA165","v":58.9},38,null,"(dp'5 →dp5)",{"$f":"2*(GV253-GN239)-4*GS237","v":26},null,null,null,null,null,null,null,"انحنا یقه",null,{"$f":"CR170","v":11.999598590713283},{"$f":"CS170","v":56.199999999999996},{"$f":"CT170","v":" dd5"},null,null,{"$f":"H123","v":14.8},"t2",null,"c8",{"$f":"IF(HO245>HO254,ATAN((HN254-HN235)/(HO235-HO254)),ATAN((HN255-HN235)/(HO235-HO255)))","v":0.82067515611884756},null,{"$f":"HN234+HL236*COS(HL232)","v":19.659155782711203},{"$f":"HO234-HL236*SIN(HL232)","v":69.675556223525845},"a7",null,{"$f":"HR238+(0.5-HI254)*(HR240-HR238)","v":11.793169706722436},{"$f":"HS240+0.5*(HS238-HS240)","v":68.732982745182326},"a44",null,{"$f":"HN243","v":10.511375734630199},{"$f":"HO243+HI260","v":69.006120878120143},"a11",null,{"$f":"HN243","v":10.511375734630199},{"$f":"HO243+HI260","v":69.006120878120143},"a11",null,null,null,null,null,{"$f":"-HN243+HH242","v":-0.51137573463019947},{"$f":"HO243+HI260","v":69.006120878120143},"a11",null,null,7,0.12217304763960307,{"$f":"HN240+HL247*SIN(HL250+IN239)","v":12.675124826412729},{"$f":"HO240+HL247*COS(HL250+IN239)","v":71.523503759918313},{"$f":"ATAN((IP239-HO235)/(IO239-HN235))","v":0.18689400019869754},{"$f":"(IO239-HN235)/COS(IQ239)","v":7.1002038058220167},null,null,{"$f":"HN234","v":11.985633089524203},{"$f":"HO234","v":70.099999999999994},"a2",null,"d8",{"$f":"'متغیرها '!C480","v":1.2},null,"yf6",{"$f":"IV240+5","v":71.629359625409762},null,{"$f":"JE237+IU237-IU234","v":9.2685105907036842},{"$f":"JF237+IV237-IV234","v":74.998109037101258},"e7",null,null,null,null,null,{"$f":"JE288","v":17.076920252573274},{"$f":"JF288","v":70.132662583683469},"e56",null,{"$f":"-JE288+IY263","v":-7.0769202525732737},{"$f":"JF288","v":70.132662583683469},"e56",null,null,null,null,null,null,null,null,null,null,2,{"$f":"KE235+KH235*SIN(RADIANS(KD239)+KD237)","v":11.569545737113952},{"$f":"KF235+KH235*COS(RADIANS(KD239)+KD237)","v":73.593644003301691},{"$f":"IF(KE236>KE239,ATAN((KF236-KF239)/(KE236-KE239)),ATAN((KF236-KF239)/(KE239-KE236)))","v":-0.59611007373546754},{"$f":"IF(KE236>KE239,(KE236-KE239)/COS(KG239),(KE239-KE236)/COS(KG239))","v":0.19106281795821758},null,null,{"$f":"BD228","v":5},52.42,"d4",null,{"$f":"KK284","v":30.045325573678539},{"$f":"KL284","v":23.674999999999997},"j22",null,{"$f":"-KO239+KR231","v":-20.045325573678539},{"$f":"KP239","v":23.674999999999997},"j''22",null,null,null,null,null,{"$f":"KW262","v":39.191718197185622},{"$f":"KX262","v":23.674999999999997},"j'22",null,{"$f":"-LE237+2*LE231","v":-7.5226627868392697},{"$f":"LF231","v":11.225},"j108",null,null,null,null,null,null,"d6  b6",{"$f":"0.6*(LO215-LO222)+LO222","v":14.409183135063593},{"$f":"LP227+((LO239-LO227)/(LO215-LO227))*(LP215-LP227)+0.5*'متغیرها '!C358*(LO214-LO227)","v":74.271700378840535},null,null,"به دست آوردن نقطه تقاطع دو خط (d''4b14)","مولفه افقی","مولفه عمودی",null,"d5  b14",8.15,68.991760697370154,null,{"$f":"LX278+LX263","v":37.021999999999998},{"$f":"LY278","v":52.09167118508006},"جدا m12",null,{"$f":"-MA239+MF212","v":-27.021999999999998},{"$f":"MB239","v":52.09167118508006},"جدا m12",null,{"$f":"LX278+LX263","v":37.021999999999998},{"$f":"LY278","v":52.09167118508006},"جدا m12",null,{"$f":"-MI239+MN212","v":-27.021999999999998},{"$f":"MJ239","v":52.09167118508006},"جدا m12",null,{"$f":"LX278+LX263","v":37.021999999999998},{"$f":"LY278","v":52.09167118508006},"جدا m12",null,{"$f":"-MQ239+MV212","v":-27.021999999999998},{"$f":"MR239","v":52.09167118508006},"جدا m12",null,{"$f":"LX278+LX263","v":37.021999999999998},{"$f":"LY278","v":52.09167118508006},"جدا m12",null,{"$f":"-MY239+ND212","v":-27.021999999999998},{"$f":"MZ239","v":52.09167118508006},"جدا m12",null,{"$f":"LX278+LX263","v":37.021999999999998},{"$f":"LY278","v":52.09167118508006},"جدا m12",null,{"$f":"-NG239+NL212","v":-27.021999999999998},{"$f":"NH239","v":52.09167118508006},"جدا m12",null,null,null,null,null,null,null,null,null,null,null,"g5",{"$f":"NZ235+0.7*(NZ238-NZ235)","v":-30.103124999999999},{"$f":"OA235+0.28*(OA238-OA235)","v":7.9753571428571428},{"$f":"NZ238","v":-30.147321428571427},{"$f":"OA238","v":8.1875},{"$f":"NY238","v":"g4"},null,null,null,null,null,"زاویه فلش دانه",{"$f":"OG45","v":0.75},"f11",{"$f":"OK242","v":-27.322500000000002},{"$f":"OL242","v":6.9915966386554622},{"$f":"OJ242","v":"m27"}]
[null,null,null,null,null,"یقه انگلیسی در مانتو راسته ",null,null,null,{"$f":"N256","v":12.13177918661202},{"$f":"O256","v":84.744182902203079},"a15",null,{"$f":"N256+0.25*(N255-N256)","v":13.553356302055253},{"$f":"O256+0.45*(O255-O256)","v":88.699598580103796},"a16",null,"قرینه",{"$f":"2*C100","v":10},null,{"$f":"CR182","v":5},{"$f":"CS182","v":52.42},"d4",null,{"$f":"-U257+S257","v":5},{"$f":"V257","v":52.42},"d4",null,null,"(1 → b9)",{"$f":"AD241-AD245+'متغیرها '!C389*AD236*COS(AD233)+'متغیرها '!C389*AD236*TAN(AH227-AD233)*SIN(AD233)","v":49.355148692217746},null,null,null,{"$f":"AE256+AC245","v":12.543936398830924},{"$f":"AE255+AD245","v":85.451540828968518},"b8",null,{"$f":"-AI257+AN252","v":-2.5439363988309243},{"$f":"AJ257","v":85.451540828968518},"b8",null,null,null,null,null,null,{"$f":"BO170-AW260-AW262","v":14.167024675750596},{"$f":"BP170-AW261-AW263","v":63.857635199837461},10,null,null,null,null,null,null,null,null,null,null,null,null,{"$f":"BI230+BI233+BK290","v":10.165626670749299},{"$f":"BI227+BI234+BI229+BE248","v":60.202630541685231},8,null,{"$f":"-BK257-BN226","v":-0.16562667074929927},60.202630541685231,8,null,null,null,null,null,"شیفت عمودی خط مرکزی پشت",{"$f":"'متغیرها '!C326","v":-5},null,{"$f":"BV286","v":29.050349177311571},{"$f":"BW286","v":61.172292625733647},"c3",null,{"$f":"-BZ257+CE227","v":-19.050349177311571},{"$f":"CA257","v":61.172292625733647},"c3",null,null,null,null,null,null,null,null,null,null,null,null,null,null,null,null,null,"(m9→ m10)",{"$f":"0.12*(CY251-CY249)+CY249","v":5.1450578094780983},null,null,{"$f":"CY257","v":5.1450578094780983},"(m9→ m10)",null,null,null,null,null,{"$f":"DE250","v":11.716002755681817},{"$f":"DF250","v":34.690813939962133},"s10",null,{"$f":"DA265","v":5},{"$f":"DB265","v":56.475346991145706},"s5",null,{"$f":"-DM257+DR229","v":5},{"$f":"DN257","v":56.475346991145706},"s5",null,null,null,null,null,null,null,null,null,null,"(38→p3)",{"$f":"H110","v":14.84},null,{"$f":"EG256-EC263+EC264","v":7.0133289900634672},{"$f":"EH256","v":5},"p''14",null,{"$f":"EG242","v":31.569175038455796},{"$f":"EH242","v":40.339588981350069},"p16",null,{"$f":"-EK257+EP230","v":-21.569175038455796},{"$f":"EL257","v":40.339588981350069},"p16",null,null,null,null,null,null,null,null,null,null,null,null,null,null,"جلو جادکمه پیش سینه در بالاتنه",{"$f":"FI240+BI98","v":7.5171200000000002},{"$f":"FI231-FI241+BI97","v":77.064959532477616},"p23",null,{"$f":"FK231","v":5},{"$f":"FL231","v":76.972177258308477},"p21",null,{"$f":"-FK257+FP230","v":5},{"$f":"FL257","v":76.972177258308477},"p21",null,{"$f":"FS258+0.6*(FS256-FS258)","v":4.5261781344238194},{"$f":"FT258+0.3*(FT256-FT258)","v":70.633892980415524},null,null,"(d3 → d5)",{"$f":"((FX261-FX256)-(FX260-FX255)*TAN(RADIANS(GE241)))*COS(RADIANS(GE241))*COS(RADIANS(GE241))","v":15.649493482595259},null,{"$f":"FX251+'متغیرها '!C51","v":-0.95934774381594146},{"$f":"FX252+FT242+'متغیرها '!C52","v":78.635405787908482},"d'4 شیفت",null,"yd9",{"$f":"GE259-GE254*COS(GE255)","v":67.93745053806208},null,null,{"$f":"FX268+'متغیرها '!C53","v":-1.4383354314301684},{"$f":"FX269+GE242+'متغیرها '!C54","v":79.879287213686254},"d'4 شیفت",null,"بهینه α1",65,1.1344640137963142,{"$f":"GV255+GS241*COS(GN257)","v":2.9880748052581847},{"$f":"GW255-GS241*SIN(GN257)","v":35.776822498591322},{"$f":"SQRT(POWER((GV252-GO257),2)+POWER((GW252-GP257),2))","v":32.36891675609305},{"$f":"ABS(GS238-GQ257)","v":9.5098936468493491},null,null,null,null,null,null,null,null,null,"قرینه",{"$f":"IJ106","v":-1.9716675883351229},{"$f":"IK106","v":56.199999999999996},{"$f":"IL106","v":"d5"},null,null,"b17",{"$f":"'متغیرها '!C470","v":0.70000000000000018},null,null,null,null,{"$f":"HG238","v":11.985633089524203},{"$f":"HH238","v":58.9},"a25",null,{"$f":"HN258+0.3*(HN239-HN258)+HH241","v":14.287689897480302},{"$f":"HO258+0.05*(HO239-HO258)","v":66.09641979687494},"a63",null,{"$f":"HR237","v":11.839141884802741},{"$f":"HS237+HI259","v":71.648931838145529},"a42",null,{"$f":"HN247","v":10.511375734630199},{"$f":"HO247+HI259","v":71.193879121879846},"a15",null,null,null,"قرینه پایه کرست روی جلو لباس ",null,{"$f":"-HR237+HH242","v":-1.839141884802741},{"$f":"HS237+HI259","v":71.648931838145529},"a42",null,"راس پایین","a50",{"$f":"HR245","v":12.281730601526922},{"$f":"HS245","v":68.642078705107593},"ضلع پایین",{"$f":"HL253","v":8.1889037408476728},null,null,null,{"$f":"HR237","v":11.839141884802741},{"$f":"HS237+IY254","v":71.648931838145529},"a42",null,{"$f":"HL237","v":9.7667366223559302E-2},"c6",null,"f21",{"$f":"(IU246-IU241+IU249-IU251)/SQRT(POWER((IU251-IU249),2)+POWER((IV249-IV251),2))","v":0.10467191248588742},null,{"$f":"IU260","v":12.281730601526922},{"$f":"IV260+IY256","v":68.642078705107593},"e25",null,"مولفه افقی","مولفه عمودی","اسم نقطه ",null,16.532867498436264,70.746508607973738,"e51",null,{"$f":"-JE283+IY263","v":-6.5328674984362642},{"$f":"JF283","v":70.746508607973738},"e51",null,{"$f":"JE253","v":14.197004877993699},{"$f":"JF253","v":75.570475700648288},"e21",null,{"$f":"-JE253+IY263","v":-4.1970048779936988},{"$f":"JF253","v":75.570475700648288},"e21",null,null,38,{"$f":"KE235+KH235*SIN(RADIANS(KD257)+KD237)","v":14.616018001121883},{"$f":"KF235+KH235*COS(RADIANS(KD257)+KD237)","v":73.066590940311727},{"$f":"IF(KE236>KE257,ATAN((KF236-KF257)/(KE236-KE257)),ATAN((KF236-KF257)/(KE257-KE236)))","v":0.13025362721006697},{"$f":"IF(KE236>KE257,(KE236-KE257)/COS(KG257),(KE257-KE236)/COS(KG257))","v":3.2319596569258131},null,null,{"$f":"'متغیرها '!C799","v":0.75},"j2",null,null,{"$f":"KK289","v":30.045325573678539},{"$f":"KL289","v":17.45},"j27",null,{"$f":"-KO257+KR231","v":-20.045325573678539},{"$f":"KP257","v":17.45},"j''27",null,{"$f":"SQRT(POWER((KW242-KW243),2)+POWER((KX242-KX243),2))+SQRT(POWER((KW244-KW245),2)+POWER((KX244-KX245),2))","v":13.117477560492404},"j'18",null,null,{"$f":"KW267","v":39.191718197185622},{"$f":"KX267","v":17.45},"j'27",null,null,null,null,null,null,null,null,null,null,null,null,null,null,"نقطه دوم از خط دوم",40,{"$f":"BO164","v":12},{"$f":"BP164","v":72.994241596638659},null,"شیفت10",{"$f":"BO170","v":19.167024675750596},{"$f":"BP170","v":68.857635199837461},null,{"$f":"IF(OR(LX259=2,LX259=3,LX259=4),LX239,LX275)+LX263","v":38.15},{"$f":"IF(OR(LX259=2,LX259=3,LX259=4),LY239,LY275)","v":68.991760697370154},"جدا m9 یا d5b14",null,{"$f":"-MA257+MF212","v":-28.15},{"$f":"MB257","v":68.991760697370154},"جدا m9 یا d5b14",null,{"$f":"IF(OR(LX259=2,LX259=3,LX259=4),LX233,LX274)+LX263","v":38.15},{"$f":"IF(OR(LX259=2,LX259=3,LX259=4),LY233,LY274)","v":69.667405356608086},"جدا m8 یا d5b10",null,{"$f":"-MI257+MN212","v":-28.15},{"$f":"MJ257","v":69.667405356608086},"جدا m8 یا d5b10",null,{"$f":"IF(OR(LX259=2,LX259=3,LX259=4),LX227,LX273)+LX263","v":38.15},{"$f":"IF(OR(LX259=2,LX259=3,LX259=4),LY227,LY273)","v":70.87567862451661},"جدا m7 یا d5b6",null,{"$f":"-MQ257+MV212","v":-28.15},{"$f":"MR257","v":70.87567862451661},"جدا m7 یا d5b6",null,{"$f":"IF(OR(LX259=2,LX259=3,LX259=4),LX221,LX272)+LX263","v":38.15},{"$f":"IF(OR(LX259=2,LX259=3,LX259=4),LY221,LY272)","v":72.075349291038123},"جدا m6 یا d5b12",null,{"$f":"-MY257+ND212","v":-28.15},{"$f":"MZ257","v":72.075349291038123},"جدا m6 یا d5b12",null,{"$f":"IF(OR(LX259=2,LX259=3,LX259=4),LX215,LX271)+LX263","v":38.15},{"$f":"IF(OR(LX259=2,LX259=3,LX259=4),LY215,LY271)","v":72.889238555510886},"جدا m5 یا d5b16",null,{"$f":"-NG257+NL212","v":-28.15},{"$f":"NH257","v":72.889238555510886},"جدا m5 یا d5b16",null,null,null,null,null,null,null,null,null,null,null,"w26",{"$f":"NU71","v":25.124999999999993},{"$f":"NV71","v":8.4821428571428577},{"$f":"NZ262","v":25.228124999999991},{"$f":"OA262","v":8.9889285714285716},{"$f":"NY262","v":"g6"},null,null,null,null,null,null,null,"انحنا چپگرد ",null,null,{"$f":"OL257","v":"انحنا چپگرد "},null,null,null,null,null,"f8",{"$f":"OV254","v":-28.512499999999999},{"$f":"OW254+2*OV249","v":7.5915966386554619},{"$f":"OV256","v":-28.356512605042017},{"$f":"OW256","v":7.1995798319327733},{"$f":"OU256","v":"f7"}]
[null,null,null,null,null,{"$f":"J232","v":11.789267201635731},{"$f":"K232","v":80.255172964496296},"e7",null,null,null,null,null,"α17",{"$f":"ATAN((O247-O246)/(N246-N247))","v":0.87556595856551522},null,null,null,null,null,null,null,null,null,null,null,null,"c2",{"$f":"(1+'متغیرها '!C496)*((AC269-AX99)+0.27*H130)+AX99","v":41.283857112060424},{"$f":"BE182+AC266","v":42.429625912923328},null,{"$f":"AC273","v":26.07188330003062},{"$f":"AD273","v":37.211387773877},"c5",null,{"$f":"-M279-AK265","v":-2.592288927195467},{"$f":"N279","v":80.248218167847526},"b4  ..",null,null,{"$f":"AX101","v":7.0419298681979889E-3},"زاویه پهلو با عمود",null,null,null,null,null,{"$f":"AV257+AW260+AW262","v":19.167024675750596},{"$f":"AW257+AW261+AW263","v":68.857635199837461},{"$f":"AX257","v":10},null,{"$f":"-AV271+BA270","v":-9.1670246757505964},{"$f":"AW271","v":68.857635199837461},10,null,{"$f":"BD269+BE265*0.4*(BD272-BD269)","v":11.218402761772555},{"$f":"BE272+0.08*BE265*(BE269-BE272)","v":41.545986692875282},"6n'",null,null,null,null,{"$f":"BV270","v":18.71520838892571},{"$f":"BW270","v":58.443595151804388},"c2",null,{"$f":"-BK271-BN226","v":-8.7152083889257099},{"$f":"BL271","v":58.443595151804388},"c2",null,null,"نقطه خروجی میانه","c3",{"$f":"BV263+BV266*BW268*SIN(BU268)/BW267","v":18.71520838892571},{"$f":"BW263-BV266*BW268*COS(BU268)/BW267","v":58.443595151804388},null,null,null,null,null,null,null,null,null,null,null,null,null,null,null,null,null,null,null,null,null,null,null,null,null,null,null,null,null,"محاسبات از شلوار جلو و پشت",null,null,null,{"$f":"BK170","v":5},{"$f":"CY248+BI97","v":35.933997432269848},"m'1",null,null,null,"خط مرغک در جلو",null,{"$f":"DE233","v":18.200693181818181},{"$f":"DF233","v":52.81},"m4",null,null,null,null,null,{"$f":"DE247","v":5},{"$f":"DF247","v":56.725000000000001},"s'1",null,null,null,null,null,null,{"$f":"'متغیرها '!C412","v":2},"جابجایی افقی وسط پا",null,{"$f":"EG255-0.25*EE259*(ED267-1)","v":4.177649404904888},{"$f":"ED249","v":34.975000000000001},"p6",null,null,null,null,null,null,null,null,null,null,null,null,null,null,null,null,null,null,null,null,null,null,null,null,null,null,null,{"$f":"CV179","v":5},{"$f":"CW179","v":57.480000000000004},{"$f":"CX179","v":"d1"},null,{"$f":"-FK271+FP230","v":5},{"$f":"FL271","v":57.480000000000004},{"$f":"DB179","v":"d1"},null,{"$f":"C101","v":5},"شیفت عمودی کل جلو",null,null,null,null,null,null,null,null,null,null,null,null,null,null,null,null,null,null,null,null,null,null,null,null,null,null,null,null,null,null,null,null,null,null,{"$f":"HC269","v":-1.9995985907132834},{"$f":"HD269","v":56.199999999999996},{"$f":"HE269","v":" dd5"},null,null,"نقطه دوم از خط اول","a36",{"$f":"HR233","v":20.993474728878699},{"$f":"HS233","v":71.165386062768732},null,null,null,null,null,null,null,null,null,null,{"$f":"HR235","v":12.281730601526922},{"$f":"HS235+HI259","v":71.557921294892395},"a40",null,{"$f":"HN234","v":11.985633089524203},{"$f":"HO234+HI259","v":70.099999999999994},"a2",null,null,null,null,null,{"$f":"-HR235+HH242","v":-2.2817306015269221},{"$f":"HS235+HI259","v":71.557921294892395},"a40",null,null,22,{"$f":"IN257+IQ257*SIN(RADIANS(IM271)+IM259)","v":4.7242780256754511},{"$f":"IO257+IQ257*COS(RADIANS(IM271)+IM259)","v":71.795339721995504},{"$f":"IF(IN258>IN271,ATAN((IO258-IO271)/(IN258-IN271)),ATAN((IO258-IO271)/(IN271-IN258)))","v":-0.23349305104418314},{"$f":"IF(IN258>IN271,(IN258-IN271)/COS(IP271),(IN271-IN258)/COS(IP271))","v":13.920713551234643},null,null,null,null,null,null,null,null,null,null,null,null,null,{"$f":"IU263-IY261*IY262*SIN(JC256)","v":18.997907995480752},{"$f":"IV263-IY261*IY262*COS(JC256)","v":66.422355003951722},"e39",null,{"$f":"IU249","v":12.281730601526922},{"$f":"IV249","v":71.557921294892395},"a40","نقطه مرکزی چرخش","مولفه افقی","مولفه عمودی","اسم نقطه ",null,null,null,null,null,null,null,null,null,null,null,null,null,null,"بهینه α",{"$f":"IF(KH236<KH239,KD239,IF(KH236<KH240,KD240,IF(KH236<KH241,KD241,IF(KH236<KH242,KD242,IF(KH236<KH243,KD243,IF(KH236<KH244,KD244,IF(KH236<KH245,KD245,IF(KH236<KH246,KD246,IF(KH236<KH247,KD247,IF(KH236<KH248,KD248,IF(KH236<KH249,KD249,IF(KH236<KH250,KD250,IF(KH236<KH251,KD251,IF(KH236<KH252,KD252,IF(KH236<KH253,KD253,IF(KH236<KH254,KD254,IF(KH236<KH255,KD255,IF(KH236<KH256,KD256,IF(KH236<KH257,KD257,IF(KH236<KH258,KD258,IF(KH236<KH259,KD259,IF(KH236<KH260,KD260,IF(KH236<KH261,KD261,IF(KH236<KH262,KD262,IF(KH236<KH263,KD263,IF(KH236<KH264,KD264,IF(KH236<KH265,KD265,IF(KH236<KH266,KD266,IF(KH236<KH267,KD267,IF(KH236<KH268,KD268,IF(KH236<KH269,KD269,KD270)))))))))))))))))))))))))))))))","v":64},{"$f":"RADIANS(KE271)","v":1.1170107212763709},"c21",{"$f":"IF(KE236>KE273,ATAN((KF236-KF273)/(KE236-KE273)),ATAN((KF236-KF273)/(KE273-KE236)))","v":0.36774101741275655},null,null,{"$f":"IF(KK257<1,KK257*I107,IF(KK257<2,I107+(KK257-1)*(I108-I107),IF(KK257<3,I108+(KK257-2)*(I105-I108),I105+(KK257-3)*(I127-I126))))","v":18.674999999999997},"j02",null,null,{"$f":"KK292","v":30.045325573678539},{"$f":"KL292","v":11.225},"j30",null,{"$f":"-KO271+KR231","v":-20.045325573678539},{"$f":"KP271","v":11.225},"j''30",null,{"$f":"KW270","v":39.191718197185622},{"$f":"KK274+KL250+KK268","v":5},"j'31",null,{"$f":"KW270","v":39.191718197185622},{"$f":"KX270","v":11.225},"j'30",null,null,null,null,null,-20.045325573678539,5,"j104",null,null,null,null,null,null,"نقطه دوم از خط دوم",40,{"$f":"BO164","v":12},{"$f":"BP164","v":72.994241596638659},null,"m5",{"$f":"IF(LX259=1,LX215,IF(LX259=2,LX214,IF(LX259=3,LX216,IF(LX259=4,LX217,LX213))))","v":10.600000000000001},{"$f":"IF(LX259=1,LY215,IF(LX259=2,LY214,IF(LX259=3,LY216,IF(LX259=4,LY217,LY213))))","v":75.514935197740527},null,{"$f":"LX247+LX250","v":12},{"$f":"LY247+LX251","v":72.994241596638659}," شیفت 40",null,{"$f":"-MA271+MF212","v":-2},{"$f":"MB271","v":72.994241596638659}," شیفت 40",null,{"$f":"LX247+LX250","v":12},{"$f":"LY247+LX251","v":72.994241596638659}," شیفت 40",null,{"$f":"-MI271+MN212","v":-2},{"$f":"MJ271","v":72.994241596638659}," شیفت 40",null,{"$f":"LX247+LX250","v":12},{"$f":"LY247+LX251","v":72.994241596638659}," شیفت 40",null,{"$f":"-MQ271+MV212","v":-2},{"$f":"MR271","v":72.994241596638659}," شیفت 40",null,{"$f":"LX247+LX250","v":12},{"$f":"LY247+LX251","v":72.994241596638659}," شیفت 40",null,{"$f":"-MY271+ND212","v":-2},{"$f":"MZ271","v":72.994241596638659}," شیفت 40",null,{"$f":"LX247+LX250","v":12},{"$f":"LY247+LX251","v":72.994241596638659}," شیفت 40",null,{"$f":"-NG271+NL212","v":-2},{"$f":"NH271","v":72.994241596638659}," شیفت 40",null,null,null,null,null,null,null,null,null,null,null,null,null,null,{"$f":"NZ281","v":18.110624999999992},{"$f":"OA281","v":8.8214285714285712},{"$f":"NY281","v":"h11"},null,null,null,null,null,null,"متغیرهای ورودی",null,{"$f":"OK277","v":27.417500000000008},{"$f":"OL277","v":7.4075630252100844},{"$f":"OJ277","v":"m31"},null,null,null,null,null,"پهنای نیم دایره",{"$f":"OR38","v":0.25},{"$f":"OR50","v":0.24957983193277314},{"$f":"OV277","v":31.655294117647056},{"$f":"OW277","v":7.0498319327731096},{"$f":"OU277","v":"g5"}]
[null,null,null,null,null,null,{"$f":"'متغیرها '!B245","v":0.33471040093341442},"زاویه سرشانه با افق",null,"(b5 →b6)",{"$f":"0.4*K286","v":4.0493432310874056},null,{"$f":"K290+BI98","v":9.0493432310874056},{"$f":"BI97+K289","v":80.713393534923853},"b6",null,{"$f":"-M290+R284","v":-9.0493432310874056},{"$f":"N290","v":80.713393534923853},"b6",null,null,null,null,null,null,null,null,null,"یقه مربعی جلو",null,null,null,null,null,null,null,null,null,null,null,null,null,null,{"$f":"AN270+AO272+AO274","v":5},{"$f":"AO270+AO275","v":34.975000000000001},1,null,null,null,null,null,null,null,null,null,null,null,null,null,null,null,null,{"$f":"BD232+BE250","v":5},{"$f":"0+BE248","v":39.975000000000001},1,null,{"$f":"-BK290-BN226","v":5},{"$f":"BL290","v":39.975000000000001},1,null,null,null,null,null,null,null,null,{"$f":"IF(BE241=1,KM329,BZ260)+BX256","v":9.0763657132500004},{"$f":"IF(BE241=1,KN329,CA260)+BX257","v":30.484766536023301},"b24",null,{"$f":"-BZ290+CE227","v":0.92363428674999959},{"$f":"CA290","v":30.484766536023301},"b24",null,null,null,null,null,null,null,null,null,null,null,null,null,null,null,null,null,null,null,null,null,null,null,null,null,null,null,null,{"$f":"DE247","v":5},{"$f":"DF247","v":56.725000000000001},"s'1",null,null,null,null,null,null,null,null,null,{"$f":"-DM283+DN289","v":5},{"$f":"DN283","v":56.725000000000001},"s'1",null,null,null,null,null,null,null,null,null,null,null,null,null,null,null,null,null,null,null,null,null,null,null,null,null,null,null,null,null,null,null,null,null,null,null,null,null,null,null,null,null,null,null,null,null,null,null,null,null,null,null,null,null,null,null,null,null,null,null,null,null,null,null,null,null,null,null,null,null,null,null,null,null,null,null,null,null,null,null,null,null,null,null,null,null,null,null,null,null,null,null,null,null,null,null,null,null,null,null,null,null,null,null,null,null,null,null,null,null,null,null,null,null,null,null,null,null,null,null,60,{"$f":"IN257+IQ257*SIN(RADIANS(IM290)+IM259)","v":8.2677180316272381},{"$f":"IO257+IQ257*COS(RADIANS(IM290)+IM259)","v":75.779714697896551},{"$f":"IF(IN258>IN290,ATAN((IO258-IO290)/(IN258-IN290)),ATAN((IO258-IO290)/(IN290-IN258)))","v":-0.62439535162852977},{"$f":"IF(IN258>IN290,(IN258-IN290)/COS(IP290),(IN290-IN258)/COS(IP290))","v":12.325053973344298},null,null,null,null,{"$f":"JE245","v":17.032062708029368},{"$f":"JF245","v":67.766495775795676},"e13","نقطه قبل از چرخش",{"$f":"IF(IW290>IW289,IF(IV290>IV289,IV289+SQRT(POWER(IV290-IV289,2)+POWER(IW290-IW289,2))*COS(ATAN((IW290-IW289)/(IV290-IV289+0.000123))+IW287),IV289-SQRT(POWER(IV290-IV289,2)+POWER(IW290-IW289,2))*COS(ATAN((IW290-IW289)/(IV289-IV290+0.000123))-IW287)),IF(IV290>IV289,IV289+SQRT(POWER(IV290-IV289,2)+POWER(IW290-IW289,2))*COS(ATAN((IW289-IW290)/(IV290-IV289+0.000123))-IW287),IV289-SQRT(POWER(IV290-IV289,2)+POWER(IW290-IW289,2))*COS(ATAN((IW289-IW290)/(IV289-IV290+0.000123))+IW287)))","v":16.834889218094929},{"$f":"IF(IW290>IW289,IF(IV290>IV289,IW289+SQRT(POWER(IV290-IV289,2)+POWER(IW290-IW289,2))*SIN(ATAN((IW290-IW289)/(IV290-IV289+0.000123))+IW287),IW289+SQRT(POWER(IV290-IV289,2)+POWER(IW290-IW289,2))*SIN(ATAN((IW290-IW289)/(IV289-IV290+0.000123))-IW287)),IF(IV290>IV289,IW289-SQRT(POWER(IV290-IV289,2)+POWER(IW290-IW289,2))*SIN(ATAN((IW289-IW290)/(IV290-IV289+0.000123))-IW287),IW289-SQRT(POWER(IV290-IV289,2)+POWER(IW290-IW289,2))*SIN(ATAN((IW289-IW290)/(IV289-IV290+0.000123))+IW287)))","v":68.232911755238206},"e64",null,null,{"$f":"IU255+0.3*(JE282-IU255)","v":11.042482194699216},{"$f":"JN252+0.8*(JF282-JN252)","v":71.485112860289888},"e57",null,{"$f":"JE250","v":11.41143632914358},{"$f":"JF250","v":73.486376042020638},"e18","نقطه قبل از چرخش",{"$f":"IF(JJ290>JJ289,IF(JI290>JI289,JI289+SQRT(POWER(JI290-JI289,2)+POWER(JJ290-JJ289,2))*COS(ATAN((JJ290-JJ289)/(JI290-JI289+0.000123))+JJ287),JI289-SQRT(POWER(JI290-JI289,2)+POWER(JJ290-JJ289,2))*COS(ATAN((JJ290-JJ289)/(JI289-JI290+0.000123))-JJ287)),IF(JI290>JI289,JI289+SQRT(POWER(JI290-JI289,2)+POWER(JJ290-JJ289,2))*COS(ATAN((JJ289-JJ290)/(JI290-JI289+0.000123))-JJ287),JI289-SQRT(POWER(JI290-JI289,2)+POWER(JJ290-JJ289,2))*COS(ATAN((JJ289-JJ290)/(JI289-JI290+0.000123))+JJ287)))","v":14.197004877993699},{"$f":"IF(JJ290>JJ289,IF(JI290>JI289,JJ289+SQRT(POWER(JI290-JI289,2)+POWER(JJ290-JJ289,2))*SIN(ATAN((JJ290-JJ289)/(JI290-JI289+0.000123))+JJ287),JJ289+SQRT(POWER(JI290-JI289,2)+POWER(JJ290-JJ289,2))*SIN(ATAN((JJ290-JJ289)/(JI289-JI290+0.000123))-JJ287)),IF(JI290>JI289,JJ289-SQRT(POWER(JI290-JI289,2)+POWER(JJ290-JJ289,2))*SIN(ATAN((JJ289-JJ290)/(JI290-JI289+0.000123))-JJ287),JJ289-SQRT(POWER(JI290-JI289,2)+POWER(JJ290-JJ289,2))*SIN(ATAN((JJ289-JJ290)/(JI289-JI290+0.000123))+JJ287)))","v":75.570475700648288},"e21","نقطه اول از خط اول","f5",{"$f":"JC236","v":17.032001336667864},{"$f":"JC237","v":61.629359625409762},null,14.287689897480302,66.09641979687494,"e35",null,{"$f":"-JE267+IY263","v":-4.2876898974803019},{"$f":"JF267","v":66.09641979687494},"e35",null,null,null,null,null,null,null,null,null,{"$f":"KK289","v":30.045325573678539},{"$f":"KK273+KL248+KK266","v":11.225},"j28",null,null,null,null,null,null,null,null,null,null,null,null,null,null,null,null,null,null,null,null,null,null,null,null,null,null,{"$f":"BK170","v":5},{"$f":"BL170","v":50.2},48,null,{"$f":"-LN290+LS282","v":5},{"$f":"LO290","v":50.2},48,null,null,{"$f":"IF(LP227<BL167,LO227,BK167)","v":5},{"$f":"IF(LP227<BL167,LP227,BL167)","v":69.900000000000006},"45 یا d3",null,{"$f":"-LW290+MB286","v":5},{"$f":"LX290","v":69.900000000000006},"45 یا d3",null,null,null,null,null,null,null,null,null,null,null,null,null,null,null,null,null,null,null,null,null,null,null,null,null,null,null,null,null,null,null,null,null,null,null,null,null,null,null,null,null,null,null,null,null,null,null,"نقطه شروع انحنا","مولفه افقی","مولفه عمودی",{"$f":"NZ294","v":12.298928571428565},{"$f":"OA294","v":9.3660714285714288},{"$f":"NY294","v":"g4"},null,null,null,null,null,null,null,null,null,null,null,null,null,null,null,null,"نقطه پایان رج(راست)","مولفه افقی","مولفه عمودی",{"$f":"OV299","v":28.6875},{"$f":"OW299","v":7.6575630252100844},{"$f":"OU299","v":"h13"}]
[null,null,null,null,null,{"$f":"BK167","v":5},{"$f":"BL167","v":75.300000000000011},45,null,{"$f":"F309-ABS(I314)*TAN(IF(I314>0,K314,K315))","v":5},{"$f":"G309+I314","v":59.1},"u1",null,{"$f":"J308","v":5},{"$f":"K308","v":59.1},{"$f":"L308","v":"u1"},null,{"$f":"BD150","v":5},{"$f":"BE150","v":34.975000000000001},1,null,"sf1",null,{"$f":"R308","v":5},{"$f":"S308","v":34.975000000000001},null,{"$f":"X323","v":18},{"$f":"Y323","v":58.9},"su3",null,{"$f":"X322","v":17.97206899762184},{"$f":"Y322","v":58.9},"sd3",null,{"$f":"AA354","v":27.97206899762184},{"$f":"AB354","v":158.9},"sd3",null,{"$f":"AA343","v":2.0279310023781605},{"$f":"AB343","v":158.9},"s'd3",null,{"$f":"BK168","v":5},{"$f":"BL168","v":34.975000000000001},1,null,"sf1",null,{"$f":"AQ308","v":5},{"$f":"AR308","v":34.975000000000001},null,{"$f":"AW323","v":17.5},{"$f":"AX323","v":59.1},"su3",null,{"$f":"AW322","v":17.901965790304878},{"$f":"AX322","v":59.1},"sd3",null,{"$f":"BD357","v":37.901965790304878},{"$f":"BE357","v":99.100000000000009},"sd3",null,{"$f":"AW329","v":6},{"$f":"AX329","v":40.049999999999997},"sp12",null,"مولفه افقی","مولفه عمودی","اسم نقطه ",null,"مولفه افقی","مولفه عمودی","اسم نقطه ",null,{"$f":"BP309","v":-1.9406330895242014},{"$f":"BQ309","v":50.2},{"$f":"BR309","v":"47'"},null,"مولفه افقی","مولفه عمودی","اسم نقطه ",null,{"$f":"CB309","v":11.940633089524201},{"$f":"CC309","v":50.2},{"$f":"CD309","v":"47'"},null,"مولفه افقی","مولفه عمودی","اسم نقطه ",null,null,"اوزمان",null,{"$f":"CJ309","v":12.030633089524205},{"$f":"CK309","v":50.2},{"$f":"CL309","v":"47''"},null,null,"مولفه افقی","مولفه عمودی","اسم نقطه ",null,"مولفه افقی","مولفه عمودی","اسم نقطه ",null,{"$f":"CV309","v":5},{"$f":"CW309","v":50.2},{"$f":"CX309","v":46},null,"مولفه افقی","مولفه عمودی","اسم نقطه ",null,"مولفه افقی","مولفه عمودی","اسم نقطه ",null,{"$f":"DL314","v":19.565963633802397},40.049999999999997,"e25",null,{"$f":"-DP308+DU307","v":-9.5659636338023972},{"$f":"DQ308","v":40.049999999999997},"e25",null,"مولفه افقی","مولفه عمودی","اسم نقطه ",null,{"$f":"DX309","v":12.4125},{"$f":"DY309","v":51.09},{"$f":"DZ309","v":"38'"},null,{"$f":"-EB308+EG307","v":-2.4124999999999996},{"$f":"EC308","v":51.09},"38'",null,"مولفه افقی","مولفه عمودی","اسم نقطه ",null,{"$f":"EJ309","v":11.5875},{"$f":"EK309","v":51.09},{"$f":"EL309","v":"38''شیفت"},null,{"$f":"-EN308+ES307","v":-1.5875000000000004},{"$f":"EO308","v":51.09},"38''شیفت",null,{"$f":"-CQ308-HY101","v":-2.0306330895242048},{"$f":"CR308","v":50.2},"47''",null,"b10",{"$f":"BW134-FA376","v":10.459621885782441},{"$f":"BX134-FA377","v":66.347254724747543},null,null,null,null,null,null,"جادکمه دکلته در پیراهن",null,{"$f":"FA356+FA376+FA378","v":17.201928556030211},{"$f":"FB356+FA377","v":82.669130175265153},{"$f":"EZ356","v":"b16"},null,{"$f":"FA340+FA376+FA378","v":14.586141518920964},{"$f":"FB340+FA377","v":74.779158311229821},{"$f":"EZ340","v":"b6"},null,{"$f":"-FG309-GA306","v":5},{"$f":"FH309","v":70.099999999999994},"d3",null,{"$f":"-FK308-GA306","v":-7.2019285560302109},{"$f":"FL308","v":82.669130175265153},"b16",null,{"$f":"-FO308-GA306","v":-4.5861415189209644},{"$f":"FP308","v":74.779158311229821},"b6",null,"b10",{"$f":"BW162-GM359","v":10.301051146612251},{"$f":"BX162-GM360","v":66.72241967803258},null,null,null,null,{"$f":"GF356-GM358+GM357","v":10.191462321920733},{"$f":"GG356","v":78.167330144745975},{"$f":"GE356","v":"b16"},null,{"$f":"GL308+GP354","v":15.191462321920733},{"$f":"GM308+GP355","v":83.167330144745975},"b16",null,null,null,null,null,null,null,null,null,null,null,null,null,null,null,null,null,null,null,null,null,null,null,null,null,null,null,null,null,"اسم نقطه","مولفه افقی","مولفه عمودی",null,"نقطه اول از خط اول","d4b10",{"$f":"HW354","v":5.6000000000000005},{"$f":"HX354","v":65.091199866953801},null,{"$f":"HW309","v":10.715127829090838},{"$f":"HX309","v":79.197939332235464}," شیفت b16",null,{"$f":"HW310","v":10.493307525225175},{"$f":"HX310","v":75.526605053119383},"شیفتb12",null,{"$f":"HW312-HW341+HW319","v":12.08314502402267},{"$f":"HX312","v":67.123869330302441},"شیفتb10",null,{"$f":"J338","v":5},{"$f":"K338","v":52.42},"d4",null,{"$f":"IQ309","v":11.971667588335123},{"$f":"IR309","v":56.199999999999996},"a2",null,{"$f":"-IU308+IR325","v":-1.9716675883351229},56.199999999999996,"a'2",null,{"$f":"IU313","v":5},{"$f":"IV313","v":34.975000000000001},"a7",null,{"$f":"IY312","v":-8.1999999999999957},{"$f":"IZ312","v":50.099999999999994},"d'62",null,null,null,"پیلی 5",null,null,null,"پیلی 5",null,{"$f":"IU313","v":5},{"$f":"IV313","v":34.975000000000001},"a7",null,{"$f":"IY313","v":5},{"$f":"IZ313","v":34.975000000000001},"a'7",null,{"$f":"IR360","v":5},42.825250000000004,"8n'",null,{"$f":"-KA308+IR325","v":5},42.825250000000004,"8n'",null,{"$f":"J309","v":5},{"$f":"K309","v":57.480000000000004},"d1",null,{"$f":"KI309","v":11.61973289515244},{"$f":"KJ309","v":57.480000000000004},"b2",null,{"$f":"-KM308+KJ323+KJ324+KJ334","v":-16.619732895152438},57.480000000000004,"b'2",null,{"$f":"KM319","v":20.344000000000001},{"$f":"KN319","v":54.65},"b13",null,{"$f":"KQ311+0.5*(KQ310-KQ311)","v":-21.346383552423781},{"$f":"KR311+0.5*(KR310-KR311)","v":58.239999999999995},"d'52",null,null,null,"پیلی 13",null,null,null,"پیلی 12",null,{"$f":"KM358","v":20.344000000000001},{"$f":"KN358","v":54.65},"b63",null,{"$f":"KQ358","v":-25.344000000000001},{"$f":"KR358","v":54.65},"b'13",null,null,{"$f":"IU307","v":5},52.42,"a1",null,{"$f":"LT316+(LU331-1)*(LT309-LT316)/39","v":6.6088463665388746},{"$f":"LU308+IF(LX308<LT308,0,(LX308-LT308)*((LU309-LU308)/(LT309-LT308)))","v":53.292307692307695},"an3",null,{"$f":"LT309","v":11.971667588335123},{"$f":"LU309","v":56.199999999999996},"a2",null,null,null,"کمر دامن دراپه",null,null,{"$f":"GN393","v":10.244},{"$f":"GO393","v":84.9},"25شبیه",null,{"$f":"MK325+(MP316-1)*(MK316-MK325)/29","v":10.773309840394898},{"$f":"ML308-(MO308-MK308)*TAN(MP312)","v":84.715907915241033},"a4",null,{"$f":"MK310","v":12.543630224039699},{"$f":"ML310","v":84.250455876906486},25,null,{"$f":"-MS308+ML327","v":-2.5436302240396991},{"$f":"MT308","v":84.250455876906486},25,null,null,{"$f":"GR403","v":10.244},{"$f":"GS403","v":86.1},"23شبیه",null,{"$f":"NB325+(NG316-1)*(NB316-NB325)/29","v":10.862217107207144},{"$f":"NC308-(NF308-NB308)*TAN(NG312)","v":85.869449029418547},"a4",null,{"$f":"NB310","v":12.543936398830924},{"$f":"NC310","v":85.451540828968518},25,null,{"$f":"-NJ308+NG326","v":-2.5439363988309243},{"$f":"NK308","v":85.451540828968518},25,null,null,null,null,null,null,null,null,null,null,null,null,null,null,null,null,null,null,null,"نقطه ورودی سر فلش","مولفه افقی","مولفه عمودی",{"$f":"OK311","v":30.440420168067231},{"$f":"OL311","v":7.9483193277310935},{"$f":"OJ311","v":"f3"},null,null,null,null,null,"نقاط خروجی","مولفه افقی","مولفه عمودی",{"$f":"OV309","v":24.442499999999999},{"$f":"OW309","v":7.8235294117647065},{"$f":"OU309","v":"g2"}]
[null,null,null,null,null,{"$f":"BK165","v":20.090000000000003},{"$f":"BL165","v":50.339588981350069},42,"محاسبات",null,"محاسبات",null,null,{"$f":"-N312+O320","v":-1.6197328951524401},{"$f":"O312","v":57.480000000000004},"d2",null,{"$f":"J354","v":18},{"$f":"K354","v":59.340824961544222},"d3",null,null,null,null,null,null,null,null,null,null,{"$f":"X308","v":5},{"$f":"Y308","v":34.975000000000001},"sf1",null,{"$f":"AA350","v":28},{"$f":"AB350","v":158.9},"su3",null,{"$f":"AA345","v":2},{"$f":"AB345","v":158.9},"s'u3",null,{"$f":"J320","v":12.581250000000001},{"$f":"K320","v":59.1}," پشت پهلوu2 ",null,null,null,null,null,null,null,null,null,null,{"$f":"AW308","v":5},{"$f":"AX308","v":34.975000000000001},"sf1",null,{"$f":"BD360","v":37.500128860911758},{"$f":"BE360","v":99.100000000000009},"sfp16",null,{"$f":"AW338","v":20.139609098592814},{"$f":"AX338","v":35.11458898135006},"sp33",null,"(47'→e22)",{"$f":"SQRT(POWER((BQ323),2)-POWER((BQ324),2))","v":15.225000000000001},null,null,{"$f":"BT310-1.5*BQ318*COS(BQ328)","v":-1.9406330895242014},{"$f":"BU310-1.5*BQ318*SIN(BQ328)","v":34.975000000000001},"e217",null,{"$f":"BT322","v":-1.9406330895242014},{"$f":"BU322","v":40.049999999999997},{"$f":"BV322","v":"e215"},null,{"$f":"CB310+0.6*(CB323-CB310)","v":11.940633089524201},{"$f":"CC310+0.4*(CC323-CC310)","v":34.975000000000001},"e24",null,{"$f":"CB335","v":11.940633089524201},{"$f":"CC335","v":40.049999999999997},{"$f":"CD335","v":"e215"},null,{"$f":"CJ310+0.6*(CJ323-CJ310)","v":12.030633089524205},{"$f":"CK310+0.4*(CK323-CK310)","v":34.975000000000001},"e24",null,null,null,null,null,null,null,null,null,"(47'→e22)",{"$f":"SQRT(POWER((CW323),2)-POWER((CW324),2))","v":15.225000000000001},null,null,{"$f":"CZ310-1.5*CW318*COS(CW328)","v":5},{"$f":"DA310-1.5*CW318*SIN(CW328)","v":34.975000000000001},"e217",null,{"$f":"CZ322","v":5},{"$f":"DA322","v":40.049999999999997},{"$f":"DB322","v":"e215"},null,"(e22→e21)",{"$f":"DI311*0.25*DI312+DH310-DH309","v":-0.77539090140719225},null,null,{"$f":"DL310+1.5*DI319*COS(DI329)","v":19.314609098592811},{"$f":"DM310+1.5*DI319*SIN(DI329)","v":35.114588981350067},"e217",null,{"$f":"DL320","v":19.565963633802397},{"$f":"DM320","v":40.049999999999997},{"$f":"DN320","v":"e213"},null,{"$f":"-DP325+DU307","v":-9.5659636338023972},40.049999999999997,"e213",null,{"$f":"DX310+0.3*(DX324-DX310)","v":12.4125},{"$f":"DY310+0.12*(DY324-DY310)","v":34.975000000000001},"e23",null,{"$f":"DX336","v":16.412500000000001},{"$f":"DY336","v":40.049999999999997},{"$f":"DZ336","v":"e215"},null,{"$f":"-EB325+EG307","v":-6.4125000000000014},40.049999999999997,"e215",null,{"$f":"EJ309+EL345","v":11.5875},{"$f":"EK309-EL346","v":34.975000000000001},"e21",null,{"$f":"EJ337","v":7.5875000000000004},{"$f":"EK337","v":40.049999999999997},{"$f":"EL337","v":"e215"},null,{"$f":"-EN325+ES307","v":2.4124999999999996},40.049999999999997,"e215",null,{"$f":"-CQ330-HY101","v":-2.0306330895242048},{"$f":"CR330","v":34.975000000000001},"e21",null,"به دست آوردن مختصات نقطه تقاطع دو خط با داشتن دونقطه از یک خط",null,null,null,null,null,null,{"$f":"FA372+FA376","v":5},{"$f":"FB372+FA377","v":70.099999999999994},"d3",null,null,null,"ساسون سرشانه",null,{"$f":"FA373+FA376+FA378","v":11.985633089524203},{"$f":"FB373+FA377","v":70.099999999999994},"شیفت بالاتنه 5",null,{"$f":"-FG326-GA306","v":5},{"$f":"FH326","v":52.42},"d4",null,null,null,"قرینه ساسون سرشانه",null,{"$f":"-FK327-GA306","v":-1.9856330895242031},{"$f":"FL327","v":70.099999999999994},"شیفت بالاتنه 5",null,"به دست آوردن مختصات نقطه تقاطع دو خط با داشتن دونقطه از یک خط",null,null,null,null,null,null,{"$f":"-GL320","v":-7.6537434353846265},72.549871149895054,"g7",null,{"$f":"GL325+GP354","v":-2.6537434353846265},{"$f":"GM325+GP355","v":77.549871149895054},"g7",null,null,null,null,null,null,null,null,null,null,null,null,null,null,null,null,null,null,null,null,null,null,null,null,null,null,null,null,null,"m5",{"$f":"LX271-HW320-HW341","v":5.6000000000000014},{"$f":"LY271-HW321","v":70.514935197740527},null,"نقطه دوم از خط دوم",40,{"$f":"HW317","v":7},{"$f":"HX317","v":67.994241596638659},null,{"$f":"-IE309","v":-9.2290766974545022},{"$f":"IF309","v":76.690332710322366},"شیفتd6  b16",null,{"$f":"-II309","v":-9.095984515135104},{"$f":"IJ309","v":73.586866333761336},"شیفتd6  b12",null,{"$f":"-IM309","v":-10.049887014413603},{"$f":"IN309","v":66.224988456406109},"شیفتd6  b10",null,"قرینه",{"$f":"-HY101","v":10},null,null,null,null,null,null,null,null,null,null,null,null,null,null,{"$f":"JG324","v":-1.9716675883351229},{"$f":"JH323","v":34.975000000000001},"c'48",null,{"$f":"IU331","v":8.4858337941675615},{"$f":"IV331","v":34.975000000000001},"a45",null,{"$f":"IY331","v":1.5141662058324385},{"$f":"IZ331","v":34.975000000000001},"a'45",null,null,null,null,null,null,null,null,null,{"$f":"IU351","v":18.154413799524363},{"$f":"IV351","v":51.879999999999995},"a65",null,{"$f":"IY351","v":-8.1544137995243631},{"$f":"IZ351","v":51.879999999999995},"a'27",null,"شیفت افقی قرینه طراحی دامن",{"$f":"-KJ334","v":0},null,null,{"$f":"KQ374","v":2},{"$f":"KR374","v":57.480000000000004},"b20",null,{"$f":"-KM325+KJ323+KJ324+KJ334","v":-7},{"$f":"KN325","v":57.480000000000004},"b'20",null,null,null,null,null,{"$f":"KY324","v":-13.309866447576219},{"$f":"KZ323","v":34.975000000000001},"c'43",null,{"$f":"KM340","v":8.3098664475762192},{"$f":"KN340","v":34.975000000000001},"b45",null,{"$f":"KQ345","v":-17.412500000000001},{"$f":"KR345","v":34.975000000000001},"b'50",null,null,null,null,null,null,null,null,null,null,"n6",{"$f":"9*LU328/(SQRT(POWER(LX308-LX307,2)+POWER(LY308-LY307,2))+SQRT(POWER(LX309-LT314,2)+POWER(LY309-LU314,2))+SQRT(POWER(LX310-LX311,2)+POWER(LY310-LY311,2)))","v":0.47039593040776428},null,null,null,null,null,null,{"$f":"LT318","v":18.154413799524363},{"$f":"LU318","v":51.879999999999995},"a27",null,{"$f":"LX371","v":4.287605303018152},{"$f":"LY371","v":50.184035687465965},"g10",null,null,{"$f":"BD150","v":5},{"$f":"BE150","v":34.975000000000001},1,null,null,null,null,null,{"$f":"MO360","v":24.846024497240762},{"$f":"MP360","v":52.285408878072062},"c9",null,{"$f":"-MS325+ML327","v":-14.846024497240762},{"$f":"MT325","v":52.285408878072062},"c9",null,null,{"$f":"BK168","v":5},{"$f":"BL168","v":34.975000000000001},1,null,"شیفت عمودی تکه پشت",{"$f":"C106","v":0},null,null,{"$f":"NF360","v":25.267835614666609},{"$f":"NG360","v":52.033917405545864},"c9",null,{"$f":"-NJ325+NG326","v":-15.267835614666609},{"$f":"NK325","v":52.033917405545864},"c9",null,null,null,null,null,null,null,null,"بزرگی فلش",{"$f":"NV46","v":0.35357142857142865},"f4",{"$f":"NZ327","v":-24.487500000000001},{"$f":"OA327","v":10.249999999999998},{"$f":"NY327","v":"w35"},null,null,null,null,null,null,null,null,null,null,null,null,null,null,null,null,null,null,"انحنا چپگرد ",null,null,{"$f":"OW325","v":"انحنا چپگرد "}]
[null,null,null,null,null,null,{"$f":"I105","v":54},"f","محاسبات",null,"محاسبات",null,null,{"$f":"J341","v":5},{"$f":"K341","v":58.9},{"$f":"L341","v":"u5"},null,"ys3",{"$f":"I105","v":54},null,{"$f":"S344+'متغیرها '!C51","v":18},{"$f":"S343+'متغیرها '!C52","v":59},"s4",null,null,null,{"$f":"-X322+R336+2*X308","v":2.0279310023781605},{"$f":"Y322-S333+R337","v":158.9},"s'd3",null,{"$f":"X330","v":5},{"$f":"Y330","v":34.975000000000001},"sp13",null,{"$f":"AA358","v":15},{"$f":"AB358","v":152.42000000000002},"sd6",null,{"$f":"AA345","v":2},{"$f":"AB345","v":158.9},"s'u3",null,"xs10",{"$f":"0.5*'متغیرها '!U53","v":12.5},null,{"$f":"AR344+'متغیرها '!C53","v":20.65},{"$f":"AR340+'متغیرها '!C54","v":29.9},"s12",null,null,null,null,null,null,"مولفه افقی","مولفه عمودی",null,null,null,{"$f":"BD354","v":37.5},{"$f":"BE354","v":99.100000000000009},"su3",null,null,null,null,null,null,null,null,null,null,null,null,null,{"$f":"BT310","v":-1.9406330895242014},{"$f":"BU310","v":34.975000000000001},{"$f":"BV310","v":"e21"},null,"(47'→52)",{"$f":"SQRT(POWER((CC309-CC310),2)+POWER((CB310-CB309),2))","v":15.225000000000001},"e210",{"$f":"ATAN((CB323-CB309)/(CC309-CC323))","v":0},{"$f":"CB323","v":11.940633089524201},{"$f":"CC323","v":34.975000000000001},{"$f":"CD323","v":"e21"},null,null,{"$f":"'متغیرها '!C143","v":0},"e211",null,{"$f":"CN337+0.3*(CN342-CN337)","v":-2.0306330895242048},{"$f":"CO337+0.12*(CO342-CO337)","v":34.975000000000001},"e27",null,{"$f":"CN341","v":-2.0306330895242048},40.049999999999997,"e25",null,null,null,null,null,null,null,null,null,{"$f":"CZ310","v":5},{"$f":"DA310","v":34.975000000000001},{"$f":"DB310","v":"e21"},null,{"$f":"BO176","v":3.0437500000000002},{"$f":"BP176","v":34.975000000000001},47,null,{"$f":"DH342+DI357","v":3.0437500000000002},{"$f":"DI342-DI358","v":34.975000000000001},"e21",null,null,null,null,null,null,null,null,null,null,"(47'→52)",{"$f":"SQRT(POWER((DY309-DY310),2)+POWER((DX310-DX309),2))","v":16.115000000000002},null,{"$f":"DX324","v":12.4125},{"$f":"DY324","v":34.975000000000001},{"$f":"DZ324","v":"e21"},null,{"$f":"-EB343+EG307","v":-2.4124999999999996},34.975000000000001,"e21",null,null,null,"اوزمان",null,{"$f":"EJ325","v":11.5875},{"$f":"EK325","v":34.975000000000001},{"$f":"EL325","v":"e21"},null,{"$f":"-EN343+ES307","v":-1.5875000000000004},34.975000000000001,"e21",null,{"$f":"-CF321-HY101","v":-1.9406330895242014},{"$f":"CG321","v":34.975000000000001},"e27",null,"خط اول","نقطه اول","d3",{"$f":"FA372","v":0},{"$f":"FB372","v":65.099999999999994},null,null,null,null,null,null,{"$f":"FD335+FA376","v":12.596843008824095},{"$f":"FE335+FA377","v":76.915393853028604},"g7",null,{"$f":"FD320+FA376","v":8.5313056249026751},{"$f":"FE320+FA377","v":70.529178637184515},"g8",null,null,null,null,null,{"$f":"-FK343-GA306","v":-2.596843008824095},{"$f":"FL343","v":76.915393853028604},"g7",null,{"$f":"-FO342-GA306","v":-2.0626112498053502},{"$f":"FP342","v":70.958357274369035},"g7",null,"خط اول","نقطه اول","d3",{"$f":"GM355","v":0},{"$f":"GN355","v":65.099999999999994},null,null,{"$f":"GI320","v":3.5431389562377835},{"$f":"GJ320","v":65.661128088748598},"g8",null,{"$f":"GL343+GP354","v":8.5431389562377831},{"$f":"GM343+GP355","v":70.661128088748598},"g8",null,null,null,null,null,null,null,null,null,null,null,null,null,null,null,null,null,null,null,null,null,null,null,null,null,null,null,null,null,"d5  b16",{"$f":"0.45*(HW317-HW341)+HW341","v":3.15},{"$f":"HX341+((HW343-HW341)/(HW309-HW341))*(HX309-HX341)+0.6*'متغیرها '!C358*(HW310-HW341)","v":68.473665346634121},null,"نقطه اول از خط اول","d4b10",{"$f":"HW354","v":5.6000000000000005},{"$f":"HX354","v":65.091199866953801},null,null,null,null,null,{"$f":"HW352-HW341+HW319","v":7.7411662599641469},{"$f":"HX352","v":68.589876628895311},"شیفتd4  b6'",null,{"$f":"HW360-HW341+HW319","v":8.5136093653000042},{"$f":"HX360","v":63.965288010779524},"شیفتd4  b14'",null,"a36",{"$f":"-2*'متغیرها '!C775","v":0},"پیلی 2",null,{"$f":"IU318+IR334+IR335+IR336+IR337","v":14.592097195748858},{"$f":"IV318","v":34.975000000000001},"a57",null,{"$f":"IY318+IR340+IR341+IR342+IR343","v":-4.5920971957488579},{"$f":"IZ318","v":34.975000000000001},"a'57",null,null,null,"پایین ",null,{"$f":"IU307+0.5*(IU308-IU307)","v":8.4858337941675615},{"$f":"IV307+0.5*(IV308-IV307)","v":54.31},"d42",null,{"$f":"IU333","v":11.971667588335123},{"$f":"IV333","v":50.2},"a47",null,{"$f":"IY333","v":-1.9716675883351229},{"$f":"IZ333","v":50.2},"a'47",null,null,null,null,null,null,null,null,null,{"$f":"IU337","v":11.971667588335123},{"$f":"IV337","v":56.199999999999996},"a51",null,{"$f":"IY337","v":-1.9716675883351229},{"$f":"IZ337","v":56.199999999999996},"a'51",null,"b36",{"$f":"-2*'متغیرها '!C788","v":0},"پیلی 10",null,{"$f":"KM342","v":12.4125},{"$f":"KN340","v":34.975000000000001},"b48",null,{"$f":"KQ342","v":-17.412500000000001},{"$f":"KR340","v":34.975000000000001},"b'48",null,null,null,"خط مرکزی پشت",null,{"$f":"KM309","v":12.4125},{"$f":"KN309","v":51.09},"d47",null,{"$f":"KM342","v":12.4125},{"$f":"KN342","v":51.09},"b47",null,{"$f":"KQ347","v":-21.346383552423781},{"$f":"KR347","v":58.239999999999995},"b'52",null,null,null,null,null,null,null,null,null,null,10.209427719325138,35.869579600000002,"6n'","نقطه قبل از چرخش",{"$f":"IF(LU343>LU338,IF(LT343>LT338,LT338+SQRT(POWER(LT343-LT338,2)+POWER(LU343-LU338,2))*COS(ATAN((LU343-LU338)/(LT343-LT338+0.000123))+LU336),LT338-SQRT(POWER(LT343-LT338,2)+POWER(LU343-LU338,2))*COS(ATAN((LU343-LU338)/(LT338-LT343+0.000123))-LU336)),IF(LT343>LT338,LT338+SQRT(POWER(LT343-LT338,2)+POWER(LU343-LU338,2))*COS(ATAN((LU338-LU343)/(LT343-LT338+0.000123))-LU336),LT338-SQRT(POWER(LT343-LT338,2)+POWER(LU343-LU338,2))*COS(ATAN((LU338-LU343)/(LT338-LT343+0.000123))+LU336)))","v":10.110032568434914},{"$f":"IF(LU343>LU338,IF(LT343>LT338,LU338+SQRT(POWER(LT343-LT338,2)+POWER(LU343-LU338,2))*SIN(ATAN((LU343-LU338)/(LT343-LT338+0.000123))+LU336),LU338+SQRT(POWER(LT343-LT338,2)+POWER(LU343-LU338,2))*SIN(ATAN((LU343-LU338)/(LT338-LT343+0.000123))-LU336)),IF(LT343>LT338,LU338-SQRT(POWER(LT343-LT338,2)+POWER(LU343-LU338,2))*SIN(ATAN((LU338-LU343)/(LT343-LT338+0.000123))-LU336),LU338-SQRT(POWER(LT343-LT338,2)+POWER(LU343-LU338,2))*SIN(ATAN((LU338-LU343)/(LT338-LT343+0.000123))+LU336)))","v":34.49518956493371},"e6",null,{"$f":"LT314","v":17.52266278683927},{"$f":"LU314","v":34.975000000000001},"a9",null,{"$f":"LX378","v":-1.7430324598661571},{"$f":"LY378","v":28.396280005505645},"efg3",null,null,15.731598524474643,35.077247488463271,"7''","نقطه قبل از چرخش",{"$f":"IF(ML343>ML331,IF(MK343>MK331,MK331+SQRT(POWER(MK343-MK331,2)+POWER(ML343-ML331,2))*COS(ATAN((ML343-ML331)/(MK343-MK331+0.000123))+ML329),MK331-SQRT(POWER(MK343-MK331,2)+POWER(ML343-ML331,2))*COS(ATAN((ML343-ML331)/(MK331-MK343+0.000123))-ML329)),IF(MK343>MK331,MK331+SQRT(POWER(MK343-MK331,2)+POWER(ML343-ML331,2))*COS(ATAN((ML331-ML343)/(MK343-MK331+0.000123))-ML329),MK331-SQRT(POWER(MK343-MK331,2)+POWER(ML343-ML331,2))*COS(ATAN((ML331-ML343)/(MK331-MK343+0.000123))+ML329)))","v":19.975382518448299},{"$f":"IF(ML343>ML331,IF(MK343>MK331,ML331+SQRT(POWER(MK343-MK331,2)+POWER(ML343-ML331,2))*SIN(ATAN((ML343-ML331)/(MK343-MK331+0.000123))+ML329),ML331+SQRT(POWER(MK343-MK331,2)+POWER(ML343-ML331,2))*SIN(ATAN((ML343-ML331)/(MK331-MK343+0.000123))-ML329)),IF(MK343>MK331,ML331-SQRT(POWER(MK343-MK331,2)+POWER(ML343-ML331,2))*SIN(ATAN((ML331-ML343)/(MK343-MK331+0.000123))-ML329),ML331-SQRT(POWER(MK343-MK331,2)+POWER(ML343-ML331,2))*SIN(ATAN((ML331-ML343)/(MK331-MK343+0.000123))+ML329)))","v":35.485457196820079},"b5",null,{"$f":"MO367","v":15.108393082729481},{"$f":"MP367","v":35.164268451803316},"c10",null,{"$f":"-MS343+ML327","v":-5.1083930827294814},{"$f":"MT343","v":35.164268451803316},"c10",null,null,15.873424272203618,35.012689024964516,"7''","نقطه قبل از چرخش",{"$f":"IF(NC343>NC331,IF(NB343>NB331,NB331+SQRT(POWER(NB343-NB331,2)+POWER(NC343-NC331,2))*COS(ATAN((NC343-NC331)/(NB343-NB331+0.000123))+NC329),NB331-SQRT(POWER(NB343-NB331,2)+POWER(NC343-NC331,2))*COS(ATAN((NC343-NC331)/(NB331-NB343+0.000123))-NC329)),IF(NB343>NB331,NB331+SQRT(POWER(NB343-NB331,2)+POWER(NC343-NC331,2))*COS(ATAN((NC331-NC343)/(NB343-NB331+0.000123))-NC329),NB331-SQRT(POWER(NB343-NB331,2)+POWER(NC343-NC331,2))*COS(ATAN((NC331-NC343)/(NB331-NB343+0.000123))+NC329)))","v":20.188800841626961},{"$f":"IF(NC343>NC331,IF(NB343>NB331,NC331+SQRT(POWER(NB343-NB331,2)+POWER(NC343-NC331,2))*SIN(ATAN((NC343-NC331)/(NB343-NB331+0.000123))+NC329),NC331+SQRT(POWER(NB343-NB331,2)+POWER(NC343-NC331,2))*SIN(ATAN((NC343-NC331)/(NB331-NB343+0.000123))-NC329)),IF(NB343>NB331,NC331-SQRT(POWER(NB343-NB331,2)+POWER(NC343-NC331,2))*SIN(ATAN((NC331-NC343)/(NB343-NB331+0.000123))-NC329),NC331-SQRT(POWER(NB343-NB331,2)+POWER(NC343-NC331,2))*SIN(ATAN((NC331-NC343)/(NB331-NB343+0.000123))+NC329)))","v":35.340091556542525},"b5",null,{"$f":"NF367","v":15.297838082138126},{"$f":"NG367","v":35.168658024002916},"c10",null,{"$f":"-NJ343+NG326","v":-5.2978380821381261},{"$f":"NK343","v":35.168658024002916},"c10",null,null,null,null,null,null,null,null,null,null,null,null,null,null,null,null,null,null,null,"f8",{"$f":"OK340","v":33.665000000000006},{"$f":"OL340+2*OK335","v":8.8394957983193283},{"$f":"OK342","v":33.820987394957989},{"$f":"OL342","v":8.4474789915966397},{"$f":"OJ342","v":"f7"},null,null,null,null,null,"m37",{"$f":"OQ93","v":-22.235250000000001},{"$f":"OR93","v":8.2394957983193287}]
[null,null,null,null,null,"u30",{"$f":"'متغیرها '!C340","v":0},null,{"$f":"G362*G357*0.01","v":0},"d3 d'3",{"$f":"ATAN((F356-F355)/(G355-G356+0.00001))","v":3.2942586246011644E-2},"αd3",null,{"$f":"-J341+G364","v":5},{"$f":"K341","v":58.9},"u5",null,null,null,null,null,null,null,null,null,null,{"$f":"-(X318-R308+R334)+R336+2*X308","v":15},{"$f":"AB358","v":152.42000000000002},"s'd6",null,null,null,null,null,null,null,null,null,null,null,null,null,null,"متغیر ورودی طول","a21",1,null,null,null,null,null,null,null,null,null,{"$f":"AW314+BA353","v":37.500128860911758},{"$f":"AX314-BA354+BA352","v":99.100000000000009},"sfp16",null,null,null,null,null,{"$f":"BD359","v":25},{"$f":"BE359","v":97.480000000000018},"sd1",null,null,{"$f":"'متغیرها '!C134","v":0},"انتخاب ترک گشاد",null,{"$f":"BT354+1*BQ358*COS(BQ368)","v":17.823279071053573},{"$f":"BU354+1*BQ358*SIN(BQ368)","v":40.049999999999997},"e213",null,{"$f":"BT366","v":17.612662786839273},{"$f":"BU366","v":35.315824961544223},{"$f":"BV366","v":"e216"},null,null,null,null,null,null,null,null,null,null,null,null,null,null,null,null,null,null,null,null,null,null,{"$f":"'متغیرها '!C134","v":0},"انتخاب ترک گشاد",null,{"$f":"CZ354-1*CW358*COS(CW368)","v":-7.8232790710535722},{"$f":"DA354-1*CW358*SIN(CW368)","v":40.049999999999997},"e213",null,{"$f":"CZ366","v":-7.6126627868392731},{"$f":"DA366","v":35.315824961544223},{"$f":"DB366","v":"e216"},null,"e01",{"$f":"IF(DI347<1,DI347*DI349,DI349+(DI347-1)*(DI350-DI349))+DI346","v":40.049999999999997},null,null,null,null,null,null,null,null,null,null,null,null,null,null,null,null,null,null,null,null,null,null,null,null,null,null,null,null,null,null,null,null,null,null,null,null,null,null,null,null,null,null,null,"نقطه دوم",{"$f":"EZ356","v":"b16"},{"$f":"FA356","v":12.201928556030211},{"$f":"FB356","v":77.669130175265153},null,null,null,null,null,null,{"$f":"FA373+FA376","v":11.985633089524203},{"$f":"FB373+FA377","v":70.099999999999994},{"$f":"EZ373","v":" بالاتنه 5"},null,{"$f":"BS104+BT130","v":11.985633089524203},{"$f":"BT104","v":70.099999999999994},"شیفت 5 بالاتنه",null,null,null,null,null,{"$f":"-FK329-GA306","v":-1.9856330895242031},{"$f":"FL329","v":70.099999999999994}," بالاتنه 5",null,null,null,null,null,null,"نقطه دوم",{"$f":"GE356","v":"b16"},{"$f":"GF356","v":10.78532447763264},{"$f":"GG356","v":78.167330144745975},null,null,"شیفت عمودی کل",{"$f":"'متغیرها '!C52","v":5},null,null,null,null,null,null,null,null,null,null,null,null,null,null,null,null,null,null,null,null,null,null,null,null,null,null,null,null,null,null,null,null,null,null,"d4  b14ʻ",{"$f":"0.2*(HW313-HW317)+HW317","v":8.5136093653000042},{"$f":"HX341+((HW360-HW341)/(HW313-HW341))*(HX313-HX341)+0.75*'متغیرها '!C358*(HW310-HW341)","v":63.965288010779524},null,"نقطه دوم از خط دوم",40,{"$f":"HW317","v":7},{"$f":"HX317","v":67.994241596638659},null,null,null,null,null,{"$f":"-II344","v":-6.9939265215537674},{"$f":"IJ344","v":68.139422460060473},"شیفتd4  b6''",null,{"$f":"-IM344","v":-7.1685837224855531},{"$f":"IN344","v":63.964404229800039},"شیفتd4  b14''",null,null,{"$f":"IR354","v":5},{"$f":"IS354+IS355*(IS353-IS354)","v":42.825250000000004},"8n'",null,"نقطه ورودی بالا","a5",{"$f":"IU311","v":17.97206899762184},{"$f":"IV311","v":59.000000000000007},null,null,null,{"$f":"IY321","v":5},{"$f":"IZ321","v":52.42},"a'15",null,{"$f":"JG359","v":14.971868292978481},{"$f":"JH358","v":34.975000000000001},"c53",null,{"$f":"IU353","v":18.199999999999996},{"$f":"IV353","v":50.099999999999994},"a67",null,{"$f":"IY353","v":-8.1999999999999957},{"$f":"IZ353","v":50.099999999999994},"a'67",null,{"$f":"IU339","v":14.971868292978481},{"$f":"IV339","v":34.975000000000001},"a53",null,{"$f":"IY339","v":-4.9718682929784812},{"$f":"IZ339","v":34.975000000000001},"a'53",null,null,null,null,null,null,null,null,null,null,null,null,null,{"$f":"KM323+KJ333+KJ335+KJ336+KJ337","v":20.629500000000004},{"$f":"KN323","v":52.04},"b65",null,{"$f":"KQ323+KJ340+KJ341+KJ342+KJ343","v":-25.629500000000004},{"$f":"KR323","v":52.04},"b'65",null,{"$f":"KM330","v":-0.16183832277329646},{"$f":"KN330","v":41.413632249273306},"b25",null,null,null,null,null,null,null,null,null,null,null,null,null,{"$f":"KM320","v":5},{"$f":"KN320","v":50.2},"b14",null,{"$f":"KQ320","v":-10},{"$f":"KR320","v":50.2},"b'14",null,null,{"$f":"LX308","v":6.6088463665388746},{"$f":"LY308","v":53.292307692307695},"an3","نقطه قبل از چرخش",{"$f":"IF(LU360>LU352,IF(LT360>LT352,LT352+SQRT(POWER(LT360-LT352,2)+POWER(LU360-LU352,2))*COS(ATAN((LU360-LU352)/(LT360-LT352+0.000123))+LU350),LT352-SQRT(POWER(LT360-LT352,2)+POWER(LU360-LU352,2))*COS(ATAN((LU360-LU352)/(LT352-LT360+0.000123))-LU350)),IF(LT360>LT352,LT352+SQRT(POWER(LT360-LT352,2)+POWER(LU360-LU352,2))*COS(ATAN((LU352-LU360)/(LT360-LT352+0.000123))-LU350),LT352-SQRT(POWER(LT360-LT352,2)+POWER(LU360-LU352,2))*COS(ATAN((LU352-LU360)/(LT352-LT360+0.000123))+LU350)))","v":-0.50797128318096085},{"$f":"IF(LU360>LU352,IF(LT360>LT352,LU352+SQRT(POWER(LT360-LT352,2)+POWER(LU360-LU352,2))*SIN(ATAN((LU360-LU352)/(LT360-LT352+0.000123))+LU350),LU352+SQRT(POWER(LT360-LT352,2)+POWER(LU360-LU352,2))*SIN(ATAN((LU360-LU352)/(LT352-LT360+0.000123))-LU350)),IF(LT360>LT352,LU352-SQRT(POWER(LT360-LT352,2)+POWER(LU360-LU352,2))*SIN(ATAN((LU352-LU360)/(LT360-LT352+0.000123))-LU350),LU352-SQRT(POWER(LT360-LT352,2)+POWER(LU360-LU352,2))*SIN(ATAN((LU352-LU360)/(LT352-LT360+0.000123))+LU350)))","v":46.356185570217143},"f3",null,null,null,null,null,null,null,null,null,null,21.965858667285886,51.182261880691151,"b9","نقطه قبل از چرخش",{"$f":"IF(ML360>ML351,IF(MK360>MK351,MK351+SQRT(POWER(MK360-MK351,2)+POWER(ML360-ML351,2))*COS(ATAN((ML360-ML351)/(MK360-MK351+0.000123))+ML349),MK351-SQRT(POWER(MK360-MK351,2)+POWER(ML360-ML351,2))*COS(ATAN((ML360-ML351)/(MK351-MK360+0.000123))-ML349)),IF(MK360>MK351,MK351+SQRT(POWER(MK360-MK351,2)+POWER(ML360-ML351,2))*COS(ATAN((ML351-ML360)/(MK360-MK351+0.000123))-ML349),MK351-SQRT(POWER(MK360-MK351,2)+POWER(ML360-ML351,2))*COS(ATAN((ML351-ML360)/(MK351-MK360+0.000123))+ML349)))","v":24.846024497240762},{"$f":"IF(ML360>ML351,IF(MK360>MK351,ML351+SQRT(POWER(MK360-MK351,2)+POWER(ML360-ML351,2))*SIN(ATAN((ML360-ML351)/(MK360-MK351+0.000123))+ML349),ML351+SQRT(POWER(MK360-MK351,2)+POWER(ML360-ML351,2))*SIN(ATAN((ML360-ML351)/(MK351-MK360+0.000123))-ML349)),IF(MK360>MK351,ML351-SQRT(POWER(MK360-MK351,2)+POWER(ML360-ML351,2))*SIN(ATAN((ML351-ML360)/(MK360-MK351+0.000123))-ML349),ML351-SQRT(POWER(MK360-MK351,2)+POWER(ML360-ML351,2))*SIN(ATAN((ML351-ML360)/(MK351-MK360+0.000123))+ML349)))","v":52.285408878072062},"c9",null,null,null,null,null,null,null,null,null,null,22.263945820980688,50.907103181491536,"b9","نقطه قبل از چرخش",{"$f":"IF(NC360>NC351,IF(NB360>NB351,NB351+SQRT(POWER(NB360-NB351,2)+POWER(NC360-NC351,2))*COS(ATAN((NC360-NC351)/(NB360-NB351+0.000123))+NC349),NB351-SQRT(POWER(NB360-NB351,2)+POWER(NC360-NC351,2))*COS(ATAN((NC360-NC351)/(NB351-NB360+0.000123))-NC349)),IF(NB360>NB351,NB351+SQRT(POWER(NB360-NB351,2)+POWER(NC360-NC351,2))*COS(ATAN((NC351-NC360)/(NB360-NB351+0.000123))-NC349),NB351-SQRT(POWER(NB360-NB351,2)+POWER(NC360-NC351,2))*COS(ATAN((NC351-NC360)/(NB351-NB360+0.000123))+NC349)))","v":25.267835614666609},{"$f":"IF(NC360>NC351,IF(NB360>NB351,NC351+SQRT(POWER(NB360-NB351,2)+POWER(NC360-NC351,2))*SIN(ATAN((NC360-NC351)/(NB360-NB351+0.000123))+NC349),NC351+SQRT(POWER(NB360-NB351,2)+POWER(NC360-NC351,2))*SIN(ATAN((NC360-NC351)/(NB351-NB360+0.000123))-NC349)),IF(NB360>NB351,NC351-SQRT(POWER(NB360-NB351,2)+POWER(NC360-NC351,2))*SIN(ATAN((NC351-NC360)/(NB360-NB351+0.000123))-NC349),NC351-SQRT(POWER(NB360-NB351,2)+POWER(NC360-NC351,2))*SIN(ATAN((NC351-NC360)/(NB351-NB360+0.000123))+NC349)))","v":52.033917405545864},"c9",null,null,null,null,null,null,null,null,null,null,null,null,null,null,null,null,"h12",{"$f":"NZ357","v":-22.985624999999999},{"$f":"OA359","v":10.589285714285712},{"$f":"NZ357","v":-22.985624999999999},{"$f":"OA357","v":10.839285714285712},{"$f":"NY357","v":"h9"},null,null,null,null,null,"نقاط خروجی","مولفه افقی","مولفه عمودی",{"$f":"OK361","v":-27.025000000000006},{"$f":"OL361","v":8.6554621848739508},{"$f":"OJ361","v":"g2"},null,null,null,null,null,"ارتفاع هر رج",{"$f":"OR37","v":0.41596638655462181},"w11"]
[null,null,null,null,null,null,null,null,null,null,null,null,null,null,null,null,null,null,null,null,null,null,null,"نقطه خروجی پایین","s'd8",{"$f":"Z378-Z372*COS(Y375)","v":2.0279310005880351},{"$f":"AA378+Z372*SIN(Y375)","v":158.89999000000066},null,null,null,null,null,null,null,null,null,null,null,null,null,null,null,null,null,null,null,null,null,null,null,null,null,null,null,null,null,null,null,null,null,null,null,null,{"$f":"BD375","v":12.098034209819511},{"$f":"BE375","v":99.099990000000005},"s'd8",null,null,null,null,null,null,null,null,null,null,null,null,null,{"$f":"-BX375-HY101","v":-7.6126627868392731},{"$f":"BY375","v":35.315824961544223},"e21",null,null,null,null,null,null,null,null,null,null,null,null,null,null,null,null,null,null,null,null,null,null,null,null,null,null,null,null,null,null,null,null,null,null,null,null,null,null,null,null,null,null,null,null,null,null,null,null,null,null,null,null,null,null,null,null,null,null,null,null,null,null,null,null,null,null,null,null,null,null,null,null,null,"شیفت عمودی کل",{"$f":"'متغیرها '!C52","v":5},null,"اسم نقطه","مولفه افقی","مولفه عمودی",null,null,null,null,null,null,null,null,null,null,null,null,null,null,null,null,null,null,null,null,null,null,null,null,null,null,null,null,null,null,null,null,null,null,null,null,null,null,null,null,null,null,null,null,null,null,null,null,null,null,null,null,null,null,null,null,null,null,null,null,null,null,null,null,null,null,null,null,null,null,null,null,null,null,null,null,null,null,null,null,null,null,null,null,null,null,null,null,null,null,null,null,null,null,null,null,null,null,null,null,null,null,null,"بالا کمر ",null,null,null,null,null,null,null,null,null,null,null,null,null,null,null,null,null,null,null,null,null,null,null,null,null,null,null,null,null,null,null,null,null,null,null,null,null,null,null,null,null,{"$f":"KQ324+KJ325","v":-24.487500000000001},{"$f":"KR324","v":58.999999999999993},"b'28",null,null,null,null,null,null,null,null,null,null,null,null,null,null,null,null,null,null,null,null,null,null,{"$f":"LX360","v":-0.50797128318096085},{"$f":"LY360","v":46.356185570217143},"f3","نقطه قبل از چرخش",{"$f":"IF(LU377>LU370,IF(LT377>LT370,LT370+SQRT(POWER(LT377-LT370,2)+POWER(LU377-LU370,2))*COS(ATAN((LU377-LU370)/(LT377-LT370+0.000123))+LU368),LT370-SQRT(POWER(LT377-LT370,2)+POWER(LU377-LU370,2))*COS(ATAN((LU377-LU370)/(LT370-LT377+0.000123))-LU368)),IF(LT377>LT370,LT370+SQRT(POWER(LT377-LT370,2)+POWER(LU377-LU370,2))*COS(ATAN((LU370-LU377)/(LT377-LT370+0.000123))-LU368),LT370-SQRT(POWER(LT377-LT370,2)+POWER(LU377-LU370,2))*COS(ATAN((LU370-LU377)/(LT370-LT377+0.000123))+LU368)))","v":-1.2207733864136756},{"$f":"IF(LU377>LU370,IF(LT377>LT370,LU370+SQRT(POWER(LT377-LT370,2)+POWER(LU377-LU370,2))*SIN(ATAN((LU377-LU370)/(LT377-LT370+0.000123))+LU368),LU370+SQRT(POWER(LT377-LT370,2)+POWER(LU377-LU370,2))*SIN(ATAN((LU377-LU370)/(LT370-LT377+0.000123))-LU368)),IF(LT377>LT370,LU370-SQRT(POWER(LT377-LT370,2)+POWER(LU377-LU370,2))*SIN(ATAN((LU370-LU377)/(LT377-LT370+0.000123))-LU368),LU370-SQRT(POWER(LT377-LT370,2)+POWER(LU377-LU370,2))*SIN(ATAN((LU370-LU377)/(LT370-LT377+0.000123))+LU368)))","v":37.427332804313011},"fg3",null,null,null,null,null,{"$f":"LT312","v":17.97206899762184},{"$f":"LU312","v":59.000000000000007},"a5",null,null,null,null,null,null,null,null,null,null,null,null,null,null,null,null,null,null,null,null,null,null,null,null,null,null,null,null,null,null,null,null,null,null,null,null,null,null,null,null,null,null,null,null,null,null,null,null,null,null,null,null,null,"m42",{"$f":"OF97","v":-14.827500000000006},{"$f":"OG97","v":8.6554621848739508},null,null,null,null,null,null,null,null,"g7",{"$f":"OV374+OW369*SIN(RADIANS(40)-ATAN((OV374-OV375)/(OW374-OW375+0.0001)))","v":-28.122963600367918},{"$f":"OW374-OW369*COS(RADIANS(40)-ATAN((OV374-OV375)/(OW374-OW375+0.0001)))","v":8.2930020768628463},{"$f":"OV374","v":-28.318991596638654},{"$f":"OW374","v":8.4474789915966397},{"$f":"OU374","v":"g4"}]
[null,null,null,null,null,{"$f":"DX395","v":19},{"$f":"DY395","v":70.378871180031609},{"$f":"AZ113","v":18.952165447621006},{"$f":"BA113","v":69.058871180031616},12,null,"آستین کیمونو و سرخود",null,null,null,null,{"$f":"Q440","v":20.090000000000003},{"$f":"R440","v":50.339588981350069},42,null,{"$f":"-Q395+V382","v":-10.090000000000003},{"$f":"R395","v":50.339588981350069},42,null,null,null,null,null,null,null,null,null,null,{"$f":"AP395","v":18.29},{"$f":"AQ395","v":50.540824961544217},45,null,{"$f":"AT395","v":-8.2899999999999991},{"$f":"AU395","v":50.540824961544217},45,null,{"$f":"AZ172-'متغیرها '!C55","v":18.29},{"$f":"BA172","v":50.540824961544217},45,null,{"$f":"-AP395-HY101","v":-8.2899999999999991},{"$f":"AQ395","v":50.540824961544217},45,null,null,{"$f":"AY394+AX391","v":-92},-1.6057029118347832,{"$f":"BF393+BF390*COS(AZ395)","v":19.650343207368689},{"$f":"BG393-BF390*SIN(AZ395)","v":62.929712252694657},{"$f":"SQRT(POWER((BF392-BA395),2)+POWER((BG392-BB395),2))","v":20.633944670576827},{"$f":"ABS(BF389-BC395)","v":2.2788263029535116},"رسم مثلث",null,null,null,null,null,{"$f":"BK394+BJ391","v":-92},-1.6057029118347832,{"$f":"BR393+BR390*COS(BL395)","v":18.42734932263518},{"$f":"BS393-BR390*SIN(BL395)","v":65.873423338018213},{"$f":"SQRT(POWER((BR392-BM395),2)+POWER((BS392-BN395),2))","v":22.814584684939263},{"$f":"ABS(BR389-BO395)","v":1.5932469578968949},"رسم مثلث",null,null,null,null,null,{"$f":"BW394+BV391","v":-86},-1.5009831567151235,{"$f":"CD393+CD390*COS(BX395)","v":20.917560008510623},{"$f":"CE393-CD390*SIN(BX395)","v":58.03785496997741},{"$f":"SQRT(POWER((CD392-BY395),2)+POWER((CE392-BZ395),2))","v":18.462279050114834},{"$f":"ABS(CD389-CA395)","v":4.1469437219460712},"رسم مثلث",null,null,null,null,null,{"$f":"CI394+CH391","v":-88},-1.5358897417550099,{"$f":"CP393+CP390*COS(CJ395)","v":18.843034027433319},{"$f":"CQ393-CP390*SIN(CJ395)","v":64.309407117115398},{"$f":"SQRT(POWER((CP392-CK395),2)+POWER((CQ392-CL395),2))","v":5.1462396893554514},{"$f":"ABS(CP389-CM395)","v":1.1841333083793617},"رسم مثلث",null,null,null,null,null,null,"آرنج",null,{"$f":"F396","v":18},{"$f":"G396","v":59.340824961544222},{"$f":"J396","v":41},null,null,null,null,null,null,null,"آرنج",null,null,{"$f":"I127","v":27},"t6","کمر تا سرشانه ",null,null,null,null,null,null,{"$f":"AV156+AV157+AV158+DV382","v":18},{"$f":"DU385+L125","v":59.340824961544222},41,null,{"$f":"AV104+DV382","v":19},{"$f":"AV113+DZ382","v":70.378871180031609},12,null,{"$f":"-DT395+EC383","v":-8},{"$f":"EC385+L125","v":59.340824961544222},41,null,{"$f":"-DX395+EC383","v":-9},{"$f":"AV113+DZ382","v":70.378871180031609},12,null,{"$f":"BG156+EL382","v":20.65},{"$f":"BG157+ET382","v":50.339588981350076},42,null,{"$f":"-EJ395+EK402","v":-10.649999999999999},{"$f":"EK395","v":50.339588981350076},42,null,{"$f":"ER425","v":19.167024675750596},{"$f":"ES425","v":70.177635199837454},8,null,{"$f":"-ER395+EK402","v":-9.1670246757505964},70.177635199837454,8,null,null,null,null,{"$f":"BD97-'متغیرها '!C51","v":0},{"$f":"BE97-'متغیرها '!C52","v":29.975000000000001},"1'","پایین لباس روی خط جادکمه",{"$f":"FC398-0.3*FD397","v":7.0843785853690528},{"$f":"FD398","v":79.250455876906486},"e'25",null,null,null,null,null,{"$f":"FK399+FG406","v":12.084378585369052},{"$f":"FL399+FG407","v":84.250455876906486},"e'25",null,null,{"$f":"DP410","v":11.692554197218977},{"$f":"DQ410","v":77.657215726498478},"پایین شبیه ساز سرشانه",null,{"$f":"FT399-0.3*FU398","v":7.0843785853690528},{"$f":"FU399","v":79.250455876906486},"e'25",null,null,null,null,null,null,null,null,null,{"$f":"GJ400+GK403*COS(GK402)","v":16.692554197218975},{"$f":"GK400-GK403*SIN(GK402)","v":82.657215726498478},"22f",null,7.0975999999999999,79.088726831407769,28,null,{"$f":"GR403+GS402*COS(GS401)","v":16.641076441678322},{"$f":"GS403-GS402*SIN(GS401)","v":83.714345890272341},"18f",null,{"$f":"BG131+EL382","v":8.9329999999999998},{"$f":"BG103-BG132+ET382","v":85.172177258308466},28,null,{"$f":"-GV395+GS413","v":1.0670000000000002},{"$f":"GW395","v":85.172177258308466},28,null,{"$f":"HD394+H167*COS('متغیرها '!B315)","v":11.692554197218975},{"$f":"HE394-H167*SIN('متغیرها '!B315)","v":78.857215726498467},"سرشانه",null,{"$f":"DT395","v":18},{"$f":"DU395","v":59.340824961544222},41,null,17.662120315908357,36.979999999999997,"q3",null,{"$f":"EJ398","v":18.662500000000001},{"$f":"EK398","v":59.1},36,null,19.425207482018745,36.399295509706882,"r3",null,{"$f":"-HT395+HQ412","v":-9.4252074820187453},36.399295509706882,"r3",null,null,null," باکس راست زیپ در پهلو دامن جلو","مولفه افقی","مولفه عمودی",null,null,null,null,null,null,null,null,null,null,null,null,null,null,null,null,null,null,null,null,null,null,{"$f":"IY317","v":-5.6387277639954334},{"$f":"IZ317","v":34.975000000000001},"a'11",null,11.971667588335123,56.199999999999996,"a4",null,{"$f":"JK398+0.55*(JK394-JK398)","v":-9.3461057471596263},{"$f":"JL398-0.85*(JL398-JL394)","v":21.444009945830622},"w18",null,{"$f":"JG394","v":11.971667588335123},{"$f":"JH394","v":50.2},"a3",null,{"$f":"JK415","v":12.774079498894036},{"$f":"JL415","v":38.134312398853979},"w40",null,null,null,null,null,null,null,null,null,null,null,null,null,null,null,null,null,null,null,null,null,null,null,null,null,{"$f":"KQ311+KJ325","v":-24.487500000000001},{"$f":"KR311","v":58.999999999999993},"b'5",null,null,null,null,null,null,null,null,null,null,null,null,null,null,null,null,null,null,null,null,null,null,null,null,null,null,null,null,null,null,null,null,null,null,null,null,null,null,null,null,null,null,null,null,null,null,null,null,null,null,null,null,null,null,null,null,null,null,null,null,null,null,null,null,null,null,null,null,null,null,null,null,null,null,null,null,null,null,null,"g5",{"$f":"NZ391+0.7*(NZ394-NZ391)","v":-30.103124999999999},{"$f":"OA391+0.28*(OA394-OA391)","v":11.511071428571425},{"$f":"NZ394","v":-30.147321428571427},{"$f":"OA394","v":11.723214285714283},{"$f":"NY394","v":"g4"},null,null,null,null,null,"g2",{"$f":"OK393","v":-14.827500000000006},{"$f":"OL393+OK390","v":9.071428571428573},null,null,null,null,null,null,null,null,"h11",{"$f":"OV392","v":-21.60125},{"$f":"OW392-0.5*OV383","v":8.4054621848739508}]
[null,null,null,null,null,{"$f":"F395+0.15*(G395-G396)*SIN(0.5*(F423-F424))","v":19.998695038467609},"k6",{"$f":"H395+'متغیرها '!C395*(I395-I396)*SIN(0.5*(H423-H424))","v":20.620983712103406},{"$f":"I395-'متغیرها '!C395*(I395-I396)*COS(0.5*(H423-H424))","v":65.548100158037286},{"$f":"G395-0.15*(G395-G396)*COS(0.5*(F423-F424))","v":69.058275228435093},null,"k15",{"$f":"L430+0.4*(M400-L430)","v":22.686182471458189},{"$f":"M430+0.13*(N400-M430)","v":37.804526942207957},null,null,{"$f":"Q442","v":20.090000000000003},{"$f":"R442","v":50.339588981350069},42,null,{"$f":"-Q412+V382","v":-10.090000000000003},{"$f":"R412","v":50.339588981350069},42,null,null,null,null,null,null,null,null,null,null,{"$f":"AH388","v":39.333900003854254},{"$f":"AI388","v":55.539506911076082},"k''5",null,{"$f":"AL388","v":-29.333900003854254},{"$f":"AM388","v":55.539506911076082},"k5",null,null,null,null,null,null,null,null,null,null,{"$f":"AY411+AX391","v":-58},-1.0122909661567112,{"$f":"BF393+BF390*COS(AZ412)","v":26.765815587037402},{"$f":"BG393-BF390*SIN(AZ412)","v":61.023127174796464},{"$f":"SQRT(POWER((BF392-BA412),2)+POWER((BG392-BB412),2))","v":13.277972388840963},{"$f":"ABS(BF389-BC412)","v":5.0771459787823527},null,null,null,null,null,null,{"$f":"BK411+BJ391","v":-58},-1.0122909661567112,{"$f":"BR393+BR390*COS(BL412)","v":22.233063638649124},{"$f":"BS393-BR390*SIN(BL412)","v":64.853685260418715},{"$f":"SQRT(POWER((BR392-BM412),2)+POWER((BS392-BN412),2))","v":18.928057497965046},{"$f":"ABS(BR389-BO412)","v":2.2932802290773218},null,null,null,null,null,null,{"$f":"BW411+BV391","v":-69},-1.2042771838760873,{"$f":"CD393+CD390*COS(BX412)","v":27.549633032230201},{"$f":"CE393-CD390*SIN(BX412)","v":56.567559778360561},{"$f":"SQRT(POWER((CD392-BY412),2)+POWER((CE392-BZ412),2))","v":11.785843387113815},{"$f":"ABS(CD389-CA412)","v":2.5294919410549479},null,null,null,null,null,null,{"$f":"CI411+CH391","v":-37},-0.64577182323790194,{"$f":"CP393+CP390*COS(CJ412)","v":22.793817030419167},{"$f":"CQ393-CP390*SIN(CJ412)","v":62.252759661881079},{"$f":"SQRT(POWER((CP392-CK412),2)+POWER((CQ392-CL412),2))","v":5.8888612170452017},{"$f":"ABS(CP389-CM412)","v":1.926754836069112},null,null,null,null,null,{"$f":"-CT383+2*CT434","v":-0.24399999999999977},{"$f":"CU383","v":86.1},23,null,{"$f":"DB412","v":9.2767168704171539},{"$f":"DC412","v":86.522000000000006},"g2","گردن",{"$f":"DK402+I403","v":9.2767168704171539},{"$f":"DL402+I402","v":86.522000000000006},"g2","گردن",{"$f":"DB406","v":5},{"$f":"DC406","v":101.78799999999998},"s15",null,null,null,null,null,null,null,null,null,"گردن",null,null,null,null,null,{"$f":"DX398","v":11.995200000000001},{"$f":"DY398","v":70.099999999999994},43,null,null,null,null,null,{"$f":"-DX412+EC383","v":-1.9952000000000005},{"$f":"EG398","v":70.099999999999994},43,null,null,null,null,null,null,null,null,null,{"$f":"ER410","v":13.095866721379107},{"$f":"ES410","v":80.208338338454354},22,null,{"$f":"-ER412+EK402","v":-3.0958667213791067},{"$f":"ES412","v":80.208338338454354},22,null,null,null,null,null,null,null,null,null,null,null,null,{"$f":"-FC399","v":0},{"$f":"FD399","v":61.7},"e1",null,null,null,"قرینه",null,null,null,null,null,null,null,null,null,null,{"$f":"-FT397","v":0},{"$f":"FU397","v":29.975000000000001},{"$f":"FV397","v":"1'"},null,{"$f":"-GF404+FX409","v":-4.0818505059544865},{"$f":"GG404","v":83.55574222897252},"e'9",null,{"$f":"-GJ395+EC383","v":-6.6925541972189748},{"$f":"GK395","v":82.657215726498478},"22f",null,{"$f":"DX404","v":11.995200000000001},{"$f":"DY404","v":58.9},39,null,null,null,null,null,{"$f":"GV423+BG155","v":12},{"$f":"EK385+BG154","v":72.994241596638659},40,null,{"$f":"-GV412+GS413","v":-2},{"$f":"GW412","v":72.994241596638659},40,null,null,null,null,null,{"$f":"HH395","v":18},{"$f":"HI395","v":59.340824961544222},"q1",null,5,44.06,"q16",null,"قرینه",{"$f":"2*C102","v":10},null,null,5,43.858764019805861,"r16",null,{"$f":"-HT412+HQ412","v":5},43.858764019805861,"r16",null,null,null,null,"ماکزیمم متغیر ورودی  ضریب طول",20,null,{"$f":"IF(CO160<CO156,CN160,CN156)","v":18},{"$f":"IF(CO160<CO156,CO160,CO156)","v":59.340824961544222}," شیفت41 یا d3",null,{"$f":"-IF(CO160<CO156,CN160,CN156)+IR325","v":-8},{"$f":"IF(CO160<CO156,CO160,CO156)","v":59.340824961544222}," شیفت41 یا d3",null,{"$f":"IF(CO160<CO156,CN160,CN156)","v":18},{"$f":"IF(CO160<CO156,CO160,CO156)","v":59.340824961544222}," شیفت41 یا d3",null,{"$f":"-IF(CO160<CO156,CN160,CN156)+IR325","v":-8},{"$f":"IF(CO160<CO156,CO160,CO156)","v":59.340824961544222}," شیفت41 یا d3",null,{"$f":"KM330","v":-0.16183832277329646},{"$f":"KN330","v":41.413632249273306},"b25",null,null,{"$f":"JG310","v":-8.1999999999999957},{"$f":"JH310","v":50.099999999999994},{"$f":"JI310","v":"c'62"},null,-24.487500000000001,58.999999999999993,"b'5",null,{"$f":"JK409","v":17.143211786464491},{"$f":"JL404+(JK412-JK404)*TAN(JG446)","v":38.134312398853979},"w37",null,{"$f":"JG400","v":18.154413799524363},{"$f":"JH400","v":51.879999999999995},"a26",null,{"$f":"-JS394+JG432","v":-8.1999999999999957},{"$f":"JT394","v":40.049999999999997},"w'29",null,null,null,null,null,null,null,null,null,null,null,null,null,null,null,null,null,null,null,null,null,null,null,null,null,{"$f":"KQ307+KJ325","v":-10},{"$f":"KR307","v":57.480000000000004},"b'1",null,null,null,null,null,null,null,null,null,null,null,null,null,null,null,null,null,null,null,null,null,null,null,null,null,null,null,null,null,null,null,null,null,null,null,null,null,null,null,null,null,null,null,null,null,null,null,null,null,null,null,null,null,null,null,null,null,null,null,null,null,null,null,null,null,null,null,null,null,null,null,null,null,null,null,null,null,null,null,"نقطه شروع انحنا","مولفه افقی","مولفه عمودی",{"$f":"NZ416","v":25.27232142857142},{"$f":"OA416","v":12.312499999999996},{"$f":"NY416","v":"g4"},null,null,null,null,null,"ارتفاع نیم دایره",{"$f":"OG48","v":0.41596638655462181},"بزرگی فلش",{"$f":"OK415","v":-27.025000000000006},{"$f":"OL415","v":9.071428571428573},{"$f":"OJ415","v":"m44"},null,null,null,null,null,"g8",{"$f":"OV408-OW403*SIN(RADIANS(40)+ATAN((OV408-OV409)/(OW408-OW409)))","v":-13.729556981985692},{"$f":"OW408-OW403*COS(RADIANS(40)+ATAN((OV408-OV409)/(OW408-OW409)))","v":8.7089945855765247},{"$f":"OV411","v":-13.415447543787172},{"$f":"OW411","v":8.6435551192851658},{"$f":"OU411","v":"g7"}]
[null,null,null,null,null,"اسم نقطه ","مولفه افقی","مولفه عمودی",null,null,null,{"$f":"BO192-'متغیرها '!C56","v":11.5875},{"$f":"BP192-'متغیرها '!C57","v":34.975000000000001},50,null,null,{"$f":"M406","v":27.631568776758407},{"$f":"N406","v":74.662389614790442},"k13",null,{"$f":"-Q430+V382","v":-17.631568776758407},{"$f":"R430","v":74.662389614790442},"k13",null,null,null,null,null,null,null,null,null,null,43.440111488181785,60.578259459671486,"k''4",null,-33.440111488181785,60.578259459671486,"k4",null,"αk2",{"$f":"ATAN((L426-L428)/(M426-M428))","v":-4.9800727336477051E-2},{"$f":"N428","v":42},"مربوط به نقطه ","k6",{"$f":"L426+'متغیرها '!C395*(M426-M428)*SIN(0.5*(O385-AQ430))","v":22.973968769285332},{"$f":"M426-'متغیرها '!C395*(M426-M428)*COS(0.5*(O385-AQ430))","v":62.50357646634226},null,null,{"$f":"AY429+AX391","v":-22},-0.38397243543875248,{"$f":"BF393+BF390*COS(AZ430)","v":31.770474453637586},{"$f":"BG393-BF390*SIN(AZ430)","v":55.058806990817224},{"$f":"SQRT(POWER((BF392-BA430),2)+POWER((BG392-BB430),2))","v":7.7484474551137135},{"$f":"ABS(BF389-BC430)","v":10.606670912509603},null,null,null,null,null,null,{"$f":"BK429+BJ391","v":-22},-0.38397243543875248,{"$f":"BR393+BR390*COS(BL430)","v":24.909808186180236},{"$f":"BS393-BR390*SIN(BL430)","v":61.663665329441542},{"$f":"SQRT(POWER((BR392-BM430),2)+POWER((BS392-BN430),2))","v":15.241388053574912},{"$f":"ABS(BR389-BO430)","v":5.9799496734674555},null,null,null,null,null,null,{"$f":"BW429+BV391","v":-51},-0.89011791851710809,{"$f":"CD393+CD390*COS(BX430)","v":33.775914828630903},{"$f":"CE393-CD390*SIN(BX430)","v":52.972814307158146},{"$f":"SQRT(POWER((CD392-BY430),2)+POWER((CE392-BZ430),2))","v":6.7149646643145626},{"$f":"ABS(CD389-CA430)","v":7.6003706638541999},null,null,null,null,null,null,{"$f":"CI429+CH391","v":17},0.29670597283903605,{"$f":"CP393+CP390*COS(CJ430)","v":23.609435209964531},{"$f":"CQ393-CP390*SIN(CJ430)","v":57.627159108475766},{"$f":"SQRT(POWER((CP392-CK430),2)+POWER((CQ392-CL430),2))","v":10.57507111976515},{"$f":"ABS(CP389-CM430)","v":6.61296473878906},null,null,null,null,null,{"$f":"HD440+CT434","v":0.72328312958284613},{"$f":"HE440+CT435","v":89.343999999999994},"قرینه g1",null,null,null,null,null,null,null,null,null,null,null,null,null,null,null,null,null,null,null,null,null,null,null,null,null,null,null,null,null,null,null,null,null,null,null,null,null,null,null,null,null,null,null,null,null,null,null,null,null,null,null,null,null,null,null,null,null,null,{"$f":"GF692","v":4.0146310609643248},{"$f":"GG692","v":9.4223109599841219},8,"تکه پشت یقه",null,{"$f":"RADIANS(90)-RADIANS(FD431)-FH426","v":1.2360859258614822},"m5",null,{"$f":"-FG397","v":-9.0879146592794946},{"$f":"FH397","v":78.553633137958698},{"$f":"FI397","v":"e'9"},null,{"$f":"-FO401+FG408","v":-4.0879146592794946},{"$f":"FP401","v":83.553633137958698},"e'9",null,null,null,null,null,null,null,{"$f":"IF(FY426>FY424,ASIN(FY431/FY426),0)","v":0.51365394960698474},"m8",null,null,null,"قرینه",null,null,null,null,null,{"$f":"-DX408+EC383","v":-1.9952000000000005},{"$f":"DY408","v":58.9},40,null,null,null,null,null,null,null,null,null,null,null,null,null,null,null,null,null,{"$f":"-DK409","v":-4.1136831295828467},{"$f":"DL409","v":94.761439999999993},"قرینهs16",null,null,null,null,null,{"$f":"-HH420+EC383","v":1.7891807498615471},{"$f":"HI420","v":5},"q9",null,{"$f":"HP407","v":6.3},{"$f":"HQ407","v":43.208764019805862},"r15",null,null,null,null,null,null,null,null,null,null,null,null,null,null,null,{"$f":"BD183","v":16.775358332242014},35.281742465389797,"شیفت50'''",null,{"$f":"-BD183+IR325","v":-6.7753583322420141},{"$f":"BE183","v":35.281742465389797},"شیفت50'''",null,{"$f":"BD183","v":16.775358332242014},35.281742465389797,"شیفت50'''",null,{"$f":"-BD183+IR325","v":-6.7753583322420141},{"$f":"BE183","v":35.281742465389797},"شیفت50'''",null,{"$f":"BO188","v":12.4125},{"$f":"BP188","v":34.975000000000001},49,null,null,-1.9716675883351229,34.975000000000001,"d'48",null,"w5",{"$f":"'متغیرها '!C826","v":1.5},null,null,null,null,null,null,{"$f":"JG408+JG435","v":34.114999999999995},{"$f":"JH408+JG436","v":57.480000000000004},"b'1",null,null,null,null,null,null,null,null,null,null,null,null,null,null,null,null,null,null,null,null,null,null,null,null,null,null,null,null,null,{"$f":"KY308+KJ325","v":-21.346383552423781},{"$f":"KZ308","v":58.239999999999995},"d'52",null,null,null,null,null,null,null,null,null,null,null,null,null,null,null,null,null,null,null,null,null,null,null,null,null,null,null,null,null,null,null,null,null,null,null,null,null,null,null,null,null,null,null,null,null,null,null,null,null,null,null,null,null,null,null,null,null,null,null,null,null,null,null,null,null,null,null,null,null,null,null,null,null,null,null,null,null,null,null,"نقطه پایان رج(راست)","مولفه افقی","مولفه عمودی",{"$f":"NZ439","v":16.153124999999996},{"$f":"OA439","v":12.857142857142852},{"$f":"NY439","v":"h13"},null,null,null,null,null,"نقطه ورودی سر فلش","مولفه افقی","مولفه عمودی",{"$f":"OK431","v":-26.727500000000006},{"$f":"OL431","v":9.4873949579831951},{"$f":"OJ431","v":"m48"},null,null,null,null,null,"g4",{"$f":"OV427-OV425*OV424","v":-28.318991596638654},{"$f":"OW427+0.5*OV424","v":9.279411764705884},{"$f":"OV434","v":-28.437081755605785},{"$f":"OW434","v":9.0595372394358815},{"$f":"OU434","v":"g8"}]
[null,null,null,null,null,null,null,"پهلو جلو منها پهلو پشت تا کمر",{"$f":"G446+G445-J446-J445","v":-0.55673477943251637},"آستین سرخود",null,null,null,null,null,null,null,null,null,null,null,null,null,null,null,null,null,null,null,null,null,null,null,null,null,null,null,null,null,null,null,null,null,null,null,null,null,null,null,null,null,null,null,null,null,null,null,null,null,null,null,null,null,null,null,null,null,null,null,null,null,null,null,null,null,null,null,null,null,null,null,null,null,null,null,null,null,null,null,null,null,null,null,null,null,null,null,null,null,null,null,null,null,null,null,null,null,null,null,null,null,null,null,null,null,null,null,null,null,null,null,null,null,null,null,null,null,null,null,null,null,null,null,null,null,null,null,null,null,null,null,null,null,null,null,null,null,null,null,null,null,null,null,null,null,null,null,null,null,null,null,null,null,null,null,null,{"$f":"-FC437","v":-7.0843785853690528},{"$f":"FD437","v":80.822043033804661},"e''9",null,null,null,null,null,null,null,null,null,null,null,null,null,null,null,null,null,null,null,null,null,null,null,null,null,null,null,null,null,null,null,null,null,null,null,null,null,null,null,null,null,null,null,null,null,null,null,null,null,null,null,null,null,null,null,null,null,null,null,null,null,null,null,null,null,null,null,null,null,null,null,null,null,"جادکمه  جلو دامن",null,null,null,"جادکمه  جلو دامن",null,null,{"$f":"CA183","v":6.0827387619657758},{"$f":"CB183","v":41.285602002637127},"7n",null,{"$f":"-IP447+IR325","v":3.9172612380342242},41.285602002637127,"7n",null,{"$f":"BK165","v":20.090000000000003},{"$f":"BL165","v":50.339588981350069},"شیفت 42",null,null,{"$f":"JG331","v":1.5141662058324385},{"$f":"JH331","v":54.31},{"$f":"JI331","v":"c'42"},null,{"$f":"0.25*(JG396-JG392-JG392+JK392-JH425)","v":0.82885721115734601},"w45",null,"نقطه اول از خط دوم","w17",{"$f":"JK394","v":18.199999999999996},{"$f":"JL394","v":11.225},null,null,null,null,null,{"$f":"JK394","v":18.199999999999996},{"$f":"JL394","v":11.225},"w17",null,null,null,null,null,null,null,null,null,null,null,null,null,null,null,null,null,null,null,null,null,null,null,null,null,null,null,null,null,null,null,null,null,null,null,null,null,null,null,null,null,null,null,null,null,null,null,null,null,null,null,null,null,null,null,null,null,null,null,null,null,null,null,null,null,null,null,null,null,null,null,null,null,null,null,null,null,null,null,null,null,null,null,null,null,null,null,null,null,null,null,null,null,null,null,null,null,null,null,null,null,null,null,null,null,null,null,"w45",{"$f":"NU90","v":5.8312499999999972},{"$f":"NV90","v":12.607142857142852},{"$f":"NZ452","v":5.7281249999999968},{"$f":"OA452","v":13.113928571428566},{"$f":"NY452","v":"g6"},null,null,null,null,null,"بزرگی فلش",{"$f":"OG50","v":0.24957983193277314},"f4",{"$f":"OK449","v":-20.985750000000003},{"$f":"OL449","v":9.4873949579831951},{"$f":"OJ449","v":"m49"}]
[null,null,null,null,null,null,{"$f":"BW134","v":15.459621885782441},{"$f":"BX134","v":71.347254724747543},"b10",{"$f":"SQRT(POWER(G463-G464,2)+POWER(H463-H464,2))","v":3.5413175765811209},"نقطه دوم از خط دوم",{"$f":"I467","v":32},{"$f":"G467","v":13.529186034342429},{"$f":"H467","v":83.972079824152132},null,{"$f":"G469+Q462*COS(Q463)","v":12.810181742677525},{"$f":"H469+Q462*SIN(Q463)","v":75.460119784937618},"g4",null,{"$f":"CE117","v":16.961172637064141},{"$f":"CF117","v":71.586165859151606},"b10",{"$f":"SQRT(POWER(T463-T464,2)+POWER(U463-U464,2))","v":4.1997977756034475},"نقطه دوم از خط دوم",{"$f":"V467","v":30},{"$f":"T467","v":13.52962342690132},{"$f":"U467","v":85.17362975566931},null,{"$f":"T469+AD462*COS(AD463)","v":13.490155576604},{"$f":"U469+AD462*SIN(AD463)","v":81.25528371916468},"g4",null,null,{"$f":"O139","v":0.27528460264055732},"β3",null,"نقطه تقاطع","g2",{"$f":"(AN462-AN460+AM460*((AN461-AN460)/(AM461-AM460))-AM462*((AN463-AN462)/(AM463-AM462)))/(((AN461-AN460)/(AM461-AM460))-((AN463-AN462)/(AM463-AM462)))","v":12.84434632354494},{"$f":"AN460+(AM464-AM460)*((AN461-AN460)/(AM461-AM460))","v":77.080563414703633},null,null,{"$f":"0.5*(P139+0.3*(P140-P139)+AE139+0.3*(AE140-AE139))","v":0.33471040093341442},"α2",null,"نقطه دوم از خط دوم",{"$f":"AR474","v":"g1"},{"$f":"AP474","v":14.904036697563145},{"$f":"AQ474","v":76.24598045878858},null,16.64684250932812,69.95561909302225,"18f",null,"نقطه دوم از خط دوم",{"$f":"BA466","v":" وسط 22f"},{"$f":"AY466","v":14.155768773344443},{"$f":"AZ466","v":83.689759808531107},null,16.222056087003999,72.725763572932536,"16f",null,"نقطه دوم از خط دوم",{"$f":"BJ467","v":"وسط 18f"},{"$f":"BH467","v":14.156074948135668},{"$f":"BI467","v":84.890844760593126},null,{"$f":"AZ168","v":18},{"$f":"BA168","v":59.340824961544222},41,null,null,{"$f":"BK114-'متغیرها '!C56","v":19.167024675750596},{"$f":"BL114-'متغیرها '!C57","v":68.857635199837461},9,null,null,null,{"$f":"O139","v":0.27528460264055732},"β3",null,null,null,null,"(5 → 6)",{"$f":"G163+CL464*COS(CL462)*(1-0.5*'متغیرها '!C76+0.5*'متغیرها '!C78)","v":10.725271067636129},null,"پهنا یقه روی خط سرشانه",{"$f":"IF('متغیرها '!C282=1,CP461,IF('متغیرها '!C282=2,CO461,CN461))","v":6.8274396761843494},null,{"$f":"IF('متغیرها '!C283=2,IF(Q460>H469,(M465-P460)+SQRT(POWER(P471-P464,2)+POWER(Q464-Q471,2)),(M486-P460)+SQRT(POWER(P476-M486,2)+POWER(N486-Q476,2))),IF(AZ477>AZ468,(BE465-AY477)+SQRT(POWER(AY488-AY481,2)+POWER(AZ481-AZ488,2)),(BE486-AY477)+(BE479-BE486)))","v":9.1114005989690572},{"$f":"CN464","v":9.1114005989690572},{"$f":"'متغیرها '!C293*G168","v":10.571400000000002},"نصف جلو کارور",null,null,{"$f":"SQRT(POWER(CS462-CS463,2)+POWER(CT462-CT463,2))","v":6.8275864228995351},"(25→30)",null,null,null,null,null,null,null,null,null,null,null,null,null,null,null,null,"افقی بالای جیب",{"$f":"DM477-0.5*SIN(RADIANS('متغیرها '!C198))*'متغیرها '!C197*(0.5*'متغیرها '!U84+0.06*H105)","v":13.575846098994203},null,null,{"$f":"DM466+DM462","v":17.846814915772125},{"$f":"DM467+DM463","v":50.3657170800983},"β5",null,"افقی بالای جیب",{"$f":"DU477-0.5*SIN(RADIANS('متغیرها '!C206))*IF('متغیرها '!C209=0,'متغیرها '!C205*(0.5*'متغیرها '!U84+0.06*H105),DU479)","v":7.830000000000001},null,null,{"$f":"DU466+DU462","v":17.57},{"$f":"DU467+DU463","v":55.6},"β5",null,"عمودی بالای جیب",{"$f":"EC477+'متغیرها '!C215*0.5*COS(RADIANS('متغیرها '!C216))*(0.5*'متغیرها '!U84+0.06*H105)","v":73.040000000000006},null,null,{"$f":"EC465+EC461","v":16.87},{"$f":"EC466+EC462","v":74.040000000000006},"β5",null,"افقی پایین جیب",{"$f":"2*EK468-EK462","v":12},null,null,{"$f":"EN480","v":12},{"$f":"EO480","v":73.040000000000006},"β3",null,"ضریب طول پاکت جادکمه یا عرض جیب مستطیل",{"$f":"'متغیرها '!C223","v":0},null,"افقی پایین جیب",{"$f":"2*EV468-EV462","v":13.461},null,null,{"$f":"EY482","v":13.461},{"$f":"EZ482","v":58},"β3",null,"ضریب طول پاکت جادکمه یا عرض جیب مستطیل",{"$f":"'متغیرها '!C231","v":0.30000000000000004},null,"متغیر محاسبه ای محلی",null,null,null,{"$f":"FG469+FG467","v":5},{"$f":"FG470+FG468","v":70.932846168872516},"β5",null,null,null,null,null,null,null,null,null,null,null,null,null,null,null,null,null,null,null,null,null,null,null,null,null,null,null,null,null,null,null,null,null,null,null,null,null,null,null,null,null,null,null,null,null,null,null,null,null,null,null,null,null,null,null,null,null,null,null,null,null,null,null,null,null,null,null,null,null,null,null,null,null,null,null,null,null,null,null,null,null,null,null,null,null,null,null,null,null,{"$f":"IE414","v":18.662500000000001},{"$f":"IF414","v":59.139588981350066},"c1",null,null,null,null,null,null,null,null,null,null,null,null,null,null,-41.330195198028299,64.874802215610799,"w20",null,null,null,null,null,null,null,null,null,null,null,null,null,null,null,null,null,null,null,null,null,null,null,null,null,null,null,null,null,{"$f":"KY326+KJ325","v":-13.309866447576219},{"$f":"KZ326","v":57.480000000000004},{"$f":"LA326","v":"c'44"},null,null,null,null,null,null,null,null,null,null,null,null,null,null,null,null,null,null,null,null,null,null,null,null,null,null,null,null,null,null,null,null,null,null,null,null,null,null,null,null,null,null,null,null,null,null,null,null,null,null,null,null,null,null,null,null,null,null,null,null,null,null,null,null,null,null,null,null,null,null,null,null,null,null,null,null,null,null,null,null,null,null,null,null,null,null,null,null,null,null,"g8",{"$f":"OK460-OL455*SIN(RADIANS(40)+ATAN((OK460-OK461)/(OL460-OL461+0.0001)))","v":33.275463600367935},{"$f":"OL460-OL455*COS(RADIANS(40)+ATAN((OK460-OK461)/(OL460-OL461+0.0001)))","v":9.5409012365267074},{"$f":"OK463","v":33.589581755605799},{"$f":"OL463","v":9.4755036259905072},{"$f":"OJ463","v":"g7"}]
[null,null,null,null,null,null,{"$f":"DX388","v":5},{"$f":"DY388","v":78.443029812675292},"26شبیه ساز",null,"نقطه اول از خط دوم","نقطه بالایی",{"$f":"IF(Q465>H462,G461,IF(Q465>H463,G462,IF(Q465>H464,G463,IF(Q465>H465,G464,IF(Q465>H466,G465,G466)))))","v":15.370703421877415},{"$f":"IF(Q465>H462,H461,IF(Q465>H463,H462,IF(Q465>H464,H463,IF(Q465>H465,H464,IF(Q465>H466,H465,H466)))))","v":78.724086466118408},null,null,{"$f":"Q468/COS(RADIANS(90)-Q466*(Q467-Q463)-Q469)","v":9.1380545921051992E-2},"(g7→g10)",null,{"$f":"ER423","v":5},{"$f":"ES423","v":84.553628763847442},"24شبیه ساز",null,"نقطه اول از خط دوم","نقطه بالایی",{"$f":"IF(AD465>U462,T461,IF(AD465>U463,T462,IF(AD465>U464,T463,IF(AD465>U465,T464,IF(AD465>U466,T465,T466)))))","v":16.890004664922763},{"$f":"IF(AD465>U462,U461,IF(AD465>U463,U462,IF(AD465>U464,U463,IF(AD465>U465,U464,IF(AD465>U466,U465,U466)))))","v":83.737279905894368},null,null,{"$f":"AD468/COS(RADIANS(90)-AD466*(AD467-AD463)-AD469)","v":0.40250386341557942},"(g7→g10)",null,null,{"$f":"O140","v":0.4397404172401369},"β4",null,"نقطه دوم از خط دوم",{"$f":"AI469","v":"b12"},{"$f":"AG469","v":15.370703421877415},{"$f":"AH469","v":78.724086466118408},null,null,{"$f":"0.5*(P139+0.3*(P140-P139)+AE139+0.3*(AE140-AE139))","v":0.33471040093341442},"α2",null,"نقطه اول از خط دوم",{"$f":"AR468","v":"22f"},{"$f":"AP468","v":15.767907322649187},{"$f":"AQ468","v":83.129063740155715},null,null,{"$f":"CN463","v":2.9599999999999986},"جلو یقه روی خط مرکزی",null,"نقطه اول از خط دوم","نقطه بالایی",{"$f":"IF(AZ482>AZ461,AY460,IF(AZ482>AZ462,AY461,IF(AZ482>AZ463,AY462,IF(AZ482>AZ464,AY463,IF(AZ482>AZ465,AY464,AY465)))))","v":14.568709170039604},{"$f":"IF(AZ482>AZ461,AZ460,IF(AZ482>AZ462,AZ461,IF(AZ482>AZ463,AZ462,IF(AZ482>AZ464,AZ463,IF(AZ482>AZ465,AZ464,AZ465)))))","v":79.083127170062454},null,{"$f":"ER423","v":5},{"$f":"ES423","v":84.553628763847442},"24شبیه ساز",null,"نقطه اول از خط دوم","نقطه بالایی",{"$f":"IF(BI485>BI462,BH461,IF(BI485>BI463,BH462,IF(BI485>BI464,BH463,IF(BI485>BI465,BH464,IF(BI485>BI466,BH465,BH466)))))","v":15.768213497440412},{"$f":"IF(BI485>BI462,BI461,IF(BI485>BI463,BI462,IF(BI485>BI464,BI463,IF(BI485>BI465,BI464,IF(BI485>BI466,BI465,BI466)))))","v":84.330148692217747},null,{"$f":"BQ469+0.6*BR467","v":18.619999999999997},{"$f":"BR469","v":75.483029812675298},"g2",null,null,{"$f":"BV469+0.6*BW467","v":18.619999999999997},{"$f":"BW469","v":79.385388763847445},"g2",null,null,"به دست آوردن مختصات نقطه تقاطع دو خط با داشتن دونقطه از یک خط",null,null,null,null,null,null,"(1 → 12)",{"$f":"CL465+G166-(AA146-G163)*TAN(CL462)","v":5.9147015156796678},null,null,null,null,null,"اسم نقطه ","مولفه افقی","مولفه عمودی",null,"برش سرشانه در پیراهن مردانه",null,null,null,null,null,null,null,null,null,null,null,{"$f":"DF462","v":13.492687673407692},{"$f":"DG462","v":18.190205832260869},"sq2",null,null,null,null,"(وسط جیب→β16)",{"$f":"'متغیرها '!C197*(0.5*'متغیرها '!U84+0.18*'متغیرها '!U83)*COS(0.5*(RADIANS(90)-RADIANS('متغیرها '!C198)))","v":10.485146166899096},null,null,{"$f":"DM466-DM462","v":15.967429674200307},{"$f":"DM467-DM463","v":49.681676793446961},"β3",null,"(وسط جیب→β16)",{"$f":"'متغیرها '!C205*(0.5*'متغیرها '!U84+(0.18-'متغیرها '!C208*0.08)*'متغیرها '!U83)*COS((0.5*'متغیرها '!C208+0.5)*(RADIANS(90)-RADIANS('متغیرها '!C206)))","v":10},null,null,{"$f":"DU466-DU462","v":17.57},{"$f":"DU467-DU463","v":53.6},"β3",null,"(β9→β15)",{"$f":"SQRT(POWER(EF487-EF489,2)+POWER(EG487-EG489,2))","v":10.23312757665026},null,null,{"$f":"EC465-EC461","v":16.87},{"$f":"EC466-EC462","v":72.040000000000006},"β3",null,null,null,null,null,{"$f":"EN481-EK472*COS(RADIANS(ES465))","v":12},{"$f":"EO481-EK472*SIN(RADIANS(ES465))","v":73.040000000000006},"β''3",null,"h",{"$f":"'متغیرها '!U59","v":24.9},null,null,null,null,null,{"$f":"EV464+EV460","v":13.461},{"$f":"EV465+EV461","v":60},"β5",null,"h",24.9,null,"عمودی پایین جادکمه",{"$f":"FG462-'متغیرها '!B239","v":70.932846168872516},null,null,{"$f":"FG469-FG467","v":5},{"$f":"FG470-FG468","v":70.932846168872516},"β3",null,null,null,null,null,null,null,null,null,null,null,null,null,null,null,null,null,null,null,null,null,null,null,null,null,null,null,null,null,null,null,null,null,null,null,null,null,null,null,null,null,null,null,null,null,null,null,null,null,null,null,null,null,null,null,null,null,null,null,null,null,null,null,null,null,null,null,null,null,null,null,null,null,null,null,null,null,null,null,null,null,null,null,null,null,null,null,null,null,{"$f":"IE416","v":19.804500000000004},{"$f":"IF416","v":52.099588981350067},"c3",null,null,null,null,null,null,null,null,null,null,null,null,null,null,{"$f":"JK399","v":-24.063568327021375},79.351732972204189,"w22",null,null,null,null,null,null,null,null,null,null,null,null,null,null,null,null,null,null,null,null,null,null,null,null,null,null,null,null,null,{"$f":"KY325+KJ325","v":-13.309866447576219},{"$f":"KZ325","v":34.975000000000001},{"$f":"LA325","v":"c'43"},null,null,null,null,null,null,null,null,null,null,null,null,null,null,null,null,null,null,null,null,null,null,null,null,null,null,null,null,null,null,null,null,null,null,null,null,null,null,null,null,null,null,null,null,null,null,null,null,null,null,null,null,null,null,null,null,null,null,null,null,null,null,null,null,null,null,null,null,null,null,null,null,null,null,null,null,null,null,null,"نقاط خروجی","مولفه افقی","مولفه عمودی",{"$f":"NZ471","v":25.124999999999993},{"$f":"OA471","v":13.785714285714279},{"$f":"NY471","v":"g2"},null,null,null,null,null,null,null,null,{"$f":"OK480","v":26.593750000000007},{"$f":"OL480","v":10.153361344537817},{"$f":"OJ480","v":"h10"},null,null,null,null,null,"نقاط خروجی","مولفه افقی","مولفه عمودی",{"$f":"OV471","v":30.987500000000001},{"$f":"OW471","v":9.9033613445378172},{"$f":"OU471","v":"g2"}]
[null,null,null,null,null,null,null,null,null,null,null,null,null,null,null,null,null,null,null,null,null,null,null,null,null,null,null,null,null,null,"نقاط  ورودی از جلو",null,null,null,null,null," حلقه آستین بدون ساسون سرشانه",null,null,null," حلقه آستین پیراهن با ساسون سرشانه",null,null,null," حلقه آستین با ساسون و اپل و کنترل گودی",null,null,null," حلقه آستین با ساسون عصایی",null,null,null," شبیه ساز حلقه آستین بدون ساسون سرشانه",null,null,null," شبیه ساز حلقه آستین پیراهن با ساسون سرشانه",null,null,null,null,"متغیرهای خروجی آستین ",null,"شبیه ساز",null,"رسم آستین بلند یا کوتاه",null,null,null,null,null,"نقاط آستین ساده",null,null,null,{"$f":"AH522-AI522","v":0.73252347978514543},null,null,null,"نقاط  خروجی مچ",null,"جادکمه آستین بلند",null,null,"هلال پایین آستین بلند یا کوتاه",null,null,null,null,null,null,null,null,null,null,"آستین کتی با آستر",null,null,null,null,null,null,null,null,null,null,null,"نقاط  ورودی رگلان بدون درز  و  با درز",null,null,null,null,null,null,"متغیرهای خروجی آستین رگلان",null,null,"متغیرهای خروجی آستین رگلان با درز ",null,null,"متغیرهای محاسبه ای آستین رگلان با درز",null,null,null,"رسم الگو آستین رگلان با درز",null,null,null,"رسم الگو آستین رگلان بدون درز",null,null,null,"آستین لاله ای",null,null,null,null,null,null,null,null,null,null,null,null,null,null,null,null,null,null,null,null,null,null,null,null,null,null,null,null,null,null,null,null,null,null,null,null,null,null,null,null,null,null,null,null,null,null,null,null,null,null,null,null,null,null,null,null,null,null,null,null,null,null,null,null,null,null,null,null,null,null,null,null,null,null,null,null,null,null,null,null,null,null,null,null,null,null,null,null,null,null,null,null,null,null,null,null,null,null,null,null,null,null,null,null,null,null,null,null,null,null,null,null,null,null,null,null,null,null,null,null,null,null,null,null,null,null,null,null,null,{"$f":"JG355","v":11.971667588335123},{"$f":"JH355","v":34.975000000000001},{"$f":"JI355","v":"c50"},null,null,null,null,null,null,null,null,null,null,null,null,null,null,null,null,null,null,null,null,null,null,null,null,null,null,null,null,null,null,null,null,null,null,null,null,null,null,null,null,null,null,null,null,null,null,null,null,null,null,null,null,null,null,null,null,null,null,null,null,null,null,null,null,null,null,null,null,null,null,null,null,null,null,null,null,null,null,null,null,null,null,null,null,null,null,null,null,null,null,null,null,null,null,null,null,null,null,null,null,null,null,null,null,null,null,null,null,null,null,null,null,null,null,null,null,null,null,null,null,null,null,null,"g8",{"$f":"NZ494-OA489*SIN(RADIANS(40)+ATAN((NZ494-NZ495)/(OA494-OA495+0.0001)))","v":-30.314603618182236},{"$f":"OA494-OA489*COS(RADIANS(40)+ATAN((NZ494-NZ495)/(OA494-OA495+0.0001)))","v":13.76886167877932},{"$f":"NZ497","v":-29.86960652790151},{"$f":"OA497","v":13.861525725898927},{"$f":"NY497","v":"g7"},null,null,null,null,null,"g8",{"$f":"OK494-OL489*SIN(RADIANS(40)+ATAN((OK494-OK495)/(OL494-OL495+0.0001)))","v":20.947918244394224},{"$f":"OL494-OL489*COS(RADIANS(40)+ATAN((OK494-OK495)/(OL494-OL495+0.0001)))","v":9.8914700125451258},{"$f":"OK497","v":21.262036399632091},{"$f":"OL497","v":9.9568676230813349},{"$f":"OJ497","v":"g7"}]
[null,null,null,null,null,"m'11",{"$f":"G500+BK508","v":16.714296906642797},null,"k11",{"$f":"J510-G520*COS(2*RADIANS('متغیرها '!C580))","v":14.452870121497625},{"$f":"K510+G520*SIN(2*RADIANS('متغیرها '!C580))","v":21.708829044594104},null,{"$f":"J510","v":18.307219890468321},{"$f":"K510","v":20.305960456237958},"m9",null,{"$f":"BN502","v":28.331875925471934},{"$f":"BO502","v":23.725953160208608},3,null,"en''15n''13",{"$f":"ATAN((R520-R521)/(Q520-Q521))","v":1.1174120549172799},null,null,"e7, 9",{"$f":"ATAN((R537-R536)/(Q536-Q537))","v":1.2938711974689101},null,"e7, 9",{"$f":"ATAN((BO505-BO504)/(BN504-BN505))","v":1.1193382722694774},null,{"$f":"BK122-'متغیرها '!C56","v":19.167024675750596},{"$f":"BL122-'متغیرها '!C57","v":68.857635199837461},8,null,null,null,"متغیر های محاسبه ای برای رسم آستین ",null,null,null,"متغیر های محاسبه ای برای رسم آستین ",null,null,null,"متغیر های محاسبه ای برای رسم آستین ",null,null,null,{"$f":"EA170-DX161","v":19.167024675750596},{"$f":"EB170-DX162","v":68.857635199837461},9,"نقطه انتهایی\n زیر حلقه","متغیر های محاسبه ای برای رسم شبیه ساز آستین",null,null,null,"متغیر های محاسبه ای برای رسم شبیه ساز آستین ",null,null,null,null,"(3 → 18)",{"$f":"AH520-BK500","v":21.064399405257078},{"$f":"AI520-BL500","v":20.188445195363251},null,{"$f":"BK499-BX498+'متغیرها '!C530","v":28.331875925471934},{"$f":"BK517+'متغیرها '!C531","v":23.725953160208608},1,null,{"$f":"BK499-BK500-BK507-BX498+'متغیرها '!C530","v":18.077592546756222},{"$f":"BK517+'متغیرها '!C531","v":23.725953160208608},10,null,{"$f":"BV513","v":26.86189788884365},{"$f":"BW513","v":15.749999999999998},25,null,"رسم مچ آستین",null,null,null,"(b1 →b2)",{"$f":"CE514*TAN(CE512)","v":0.19624139514524491},null,{"$f":"BK499-BK500-CE515-BX498-CE508-CE503+'متغیرها '!C530","v":12.14419706910175},{"$f":"BK517-CE514-CE510+CE502+'متغیرها '!C531","v":25.025000000000002},"c9",null,"(a17 →a14)",{"$f":"CL510","v":2.1601668866157211},null,{"$f":"CV506","v":15.527940113461627},{"$f":"CW506","v":21.153015334855088},"a26",null,{"$f":"BN505+CK554","v":32.179305898242504},{"$f":"BO505","v":33.662083029357234},9,null,"(a13→a23)",{"$f":"SQRT(POWER(CV503-CV502,2)+POWER(CW503-CW502,2))","v":1.9499999999999995},null,null,{"$f":"CR532","v":3.2516310230809569},28.035599850441745,"7''",null,{"$f":"IF('متغیرها '!C509=3,BK114-DE524,CE138)","v":19.167024675750596},{"$f":"IF('متغیرها '!C509=3,BL114-DE525,CF138)","v":68.857635199837461},9,"نقطه انتهایی\n زیر حلقه","b14",null,null,"(16 →17)",{"$f":"DL505+0.2*(DL511-DL505)","v":11.631162259502831},null,"(r19 →r23)",{"$f":"DR517*BL520-(DE552-1)*0.5*H132*(1-DE560)","v":0.43595581837713615},null,"(39→ 41)",{"$f":"DE534","v":4.073934682540612},null,null,{"$f":"DU561","v":18.57541087784594},{"$f":"DV561","v":20.474999999999998},"چپ z2",null,null,null,null,null,null,{"$f":"'متغیرها '!C567","v":0.7},"q21",null,{"$f":"IF(ED530>(ED533+ED534),EO513,EO516)","v":-8.0826017520880118},{"$f":"IF(ED530>(ED533+ED534),EP513,EP516)","v":31.218516377086164},"q46 یا q15",null,{"$f":"EC510-EL501","v":-13.796922885042223},23.725953160208608,2,null,{"$f":"EK505+SQRT(POWER(EK515-EK505,2)+POWER(EL515-EL505,2))*SIN(EL502-ATAN((EK505-EK515)/(EL515-EL505+0.0001)))","v":-13.643981465585549},{"$f":"EL505+SQRT(POWER(EK515-EK505,2)+POWER(EL515-EL505,2))*COS(EL502-ATAN((EK505-EK515)/(EL515-EL505+0.0001)))","v":21.192211418771791},"q1",null,null,null,null,null,null,null,null,null,null,null,null,null,null,null,null,null,null,null,null,null,null,null,null,null,null,null,null,null,null,null,null,null,null,null,null,null,null,null,null,null,null,null,null,null,null,null,null,null,null,null,null,null,null,null,null,null,null,null,null,null,null,null,null,null,null,null,null,null,null,null,null,null,null,null,null,null,null,null,null,null,null,null,null,null,null,null,null,null,null,null,null,null,null,null,null,null,null,null,null,null,null,null,null,null,null,null,null,null,null,null,null,null,null,null,null,null,null,null,null,null,null,null,null,null,null,null,null,null,null,null,null,null,null,null,null,null,null,null,null,null,null,null,null,null,null,null,null,null,null,null,null,null,null,null,null,null,null,null,{"$f":"KY346","v":12.4125},{"$f":"KZ346","v":34.975000000000001},{"$f":"LA346","v":"c48"},null,null,null,null,null,null,null,null,null,null,null,null,null,null,null,null,null,null,null,null,null,null,null,null,null,null,null,null,null,null,null,null,null,null,null,null,null,null,null,null,null,null,null,null,null,null,null,null,null,null,null,null,null,null,null,null,null,null,null,null,null,null,null,null,null,null,null,null,null,null,null,null,null,null,null,null,null,null,null,"h11",{"$f":"NZ512","v":-21.028125000000003},{"$f":"OA512-0.5*NZ503","v":14.124999999999993},null,null,null,null,null,null,null,null,"g2",{"$f":"OK513","v":33.367500000000007},{"$f":"OL513+OK510","v":10.735294117647062},null,null,null,null,null,null,null,null,"بزرگی فلش",{"$f":"OR50","v":0.24957983193277314},"f4",{"$f":"OV517","v":23.69875},{"$f":"OW517","v":10.319327731092439},{"$f":"OU517","v":"m56"}]
[null,null,null,null,null,"m'13",{"$f":"G528+BK510","v":19.682086317108002},null,"n''13",{"$f":"J523-G533*SIN(4*RADIANS('متغیرها '!C584))","v":7.7653234098461201},{"$f":"K523+G533*COS(4*RADIANS('متغیرها '!C584))","v":30.276059848317153},null,null,null,null,null,"محاسبات کاپ آستین کلوش",null,null,null,"محاسبات کاپ آستین کلوش",null,null,null,null,"رسم خطوط کاپ در آستین ساده",null,null,null,null,null,null,"β1",{"$f":"ATAN(BK520/BK516)","v":6.0291104656066193E-2},{"$f":"ATAN(BL520/BL516)","v":0.14299667728962187},null,null,"طول حلقه پشت تا نقطه 12f",{"$f":"SQRT(POWER(AK511-AK510,2)+POWER(AL510-AL511,2))+SQRT(POWER(AK512-AK511,2)+POWER(AL511-AL512,2))+SQRT(POWER(AK513-AK512,2)+POWER(AL512-AL513,2))","v":8.1157698647699998},null,null,"طول حلقه پشت تا نقطه 18",{"$f":"SQRT(POWER(AO511-AO510,2)+POWER(AP510-AP511,2))+SQRT(POWER(AO512-AO511,2)+POWER(AP511-AP512,2))+SQRT(POWER(AO513-AO512,2)+POWER(AP512-AP513,2))","v":7.7108848965741537},null,null,"طول حلقه پشت تا نقطه b6",{"$f":"SQRT(POWER(AS511-AS510,2)+POWER(AT510-AT511,2))+SQRT(POWER(AS512-AS511,2)+POWER(AT511-AT512,2))+SQRT(POWER(AS513-AS512,2)+POWER(AT512-AT513,2))","v":7.633782469109458},null,null,"طول حلقه جلو تا نقطه 20",{"$f":"SQRT(POWER(AW506-AW505,2)+POWER(AX505-AX506,2))+SQRT(POWER(AW507-AW506,2)+POWER(AX506-AX507,2))","v":4.2844258907619084},null,null,null,null,null,null,null,null,null,null,null,null,null,null,{"$f":"BN531","v":7.4090066344258894},{"$f":"BO531","v":21.381352156335304},"26 یا z2",null,{"$f":"BK499-BK500-BK524-BX498+'متغیرها '!C530","v":27.098240774907623},{"$f":"0+'متغیرها '!C531","v":0},27,null,{"$f":"BV528","v":9.3265473065196023},{"$f":"BW528","v":15.749999999999998},26,null,null,null,{"$f":"IF(BZ535=1,IF(CG539<CG532,IF(CG541<CG532,CF541,CF532),CF539),CF539)","v":27.835823699577155},{"$f":"IF(CG539<CG532,IF(CG541<CG532,CG541,CG532),CG539)","v":16.289438793282354},"z14 یا 28' یا z12",null,{"$f":"CF531","v":8.3659255365264187},{"$f":"CG532","v":16.289438793282354},"30'",null,null,"(a'22→a22)",{"$f":"CL531-CL529*COS(CL503+RADIANS('متغیرها '!C573))","v":-0.55259270751597844},null,null,"نقطه","مولفه افقی","مولفه عمودی",{"$f":"BR537-CL522-0.03*BK515","v":4.9435877805690494},{"$f":"BS537+CL523","v":24.587882498255237},"5'",null,{"$f":"CV503+CW515*COS(CW520)","v":16.313893689738155},{"$f":"CW503+CW515*SIN(CW520)","v":21.32135185332621},"a''13",null,{"$f":"CV538+CK554","v":24.792272304380337},{"$f":"CW538","v":25.434802164345953},{"$f":"CX538","v":"a''11"},null,"γ4",{"$f":"RADIANS(180)-DE532-DE519","v":1.4589000170460302},{"$f":"DEGREES(DE533)","v":83.588813708301387},null,null,null,null,null,null,null,null,"به دست آوردن z1 در کوتاهی آستین رگلان بدون درز",null,"جلو",null,null,null,{"$f":"DU549","v":23.050233940751465},{"$f":"DV549","v":20.474999999999998},"راست z2",null,null,null,null,null,null,{"$f":"SQRT(POWER((EC506-EC507),2)+POWER((ED506-ED507),2))","v":4.4145999178442397},"q32",null,null,null,null,null,null,null,null,null,null,null,null,null,{"$f":"EC546","v":23.061448764183282},{"$f":"ED546","v":31.842686369989007},"q24",null,null,null,null,null,null,null,null,null,null,null,null,null,null,null,null,null,null,null,null,null,null,null,null,null,null,null,null,null,null,null,null,null,null,null,null,null,null,null,null,null,null,null,null,null,null,null,null,null,null,null,null,null,null,null,null,null,null,null,null,null,null,null,null,null,null,null,null,null,null,null,null,null,null,null,null,null,null,null,null,null,null,null,null,null,null,null,null,null,null,null,null,null,null,null,null,null,null,null,null,null,null,null,null,null,null,null,null,null,null,null,null,null,null,null,null,null,null,null,null,null,null,null,null,null,null,null,null,null,null,null,null,null,null,null,null,null,null,null,null,null,null,null,null,null,null,null,null,null,null,null,null,null,null,null,{"$f":"KY352","v":16.346383552423781},{"$f":"KZ352","v":58.239999999999995},{"$f":"LA352","v":"c52"},null,null,null,null,null,null,null,null,null,null,null,null,null,null,null,null,null,null,null,null,null,null,null,null,null,null,null,null,null,null,null,null,null,null,null,null,null,null,null,null,null,null,null,null,null,null,null,null,null,null,null,null,null,null,null,null,null,null,null,null,null,null,null,null,null,null,null,null,null,null,null,null,null,null,null,null,null,null,null,null,null,null,null,null,null,null,null,null,null,null,"زاویه فلش دانه",{"$f":"OG45","v":0.75},"f11",{"$f":"OK536","v":33.070000000000007},{"$f":"OL536","v":10.735294117647062},{"$f":"OJ536","v":"m59"}]
[null,null,null,null,null,null,null,null,null,null,null,null,null,null,null,null,null,null,null,null,null,null,null,null,null,null,null,null,null,null,null,null,null,null,null,null,null,null,null,null,null,null,null,null,null,null,null,null,null,null,null,null,null,null,null,null,null,null,null,null,null,null,null,null,null,null,null,null,null,null,null,null,null,null,null,null,null,null,null,null,null,null,null,null,null,null,null,null,{"$f":"BR537-CL524+CL518-0.03*BK515","v":2.661344470063669},{"$f":"BK517-CL507-CL509+CL512+'متغیرها '!C531","v":1.0643727802660523},"a'8",null,null,null,"به دست آوردن z4 در کوتاهی آستین کتی",null,null,null,null,null,null,null,null,null,null,null,null,"شیفت افقی نقطه 11",{"$f":"DE540+DE544-SQRT(POWER(DI538-DY499,2)+POWER(DZ499-DJ538,2))-SQRT(POWER(DI539-DI538,2)+POWER(DJ538-DJ539,2))-SQRT(POWER(DY542-DI539,2)+POWER(DJ539-DZ542,2))","v":0.12895954936303688},null,null,null,null,null,null,null,null,null,null,null,{"$f":"BV506+DO525","v":18.827604910814486},{"$f":"DR546","v":0},"35'",null,null,null,null,null,{"$f":"-DL509+DE528+'متغیرها '!C530","v":2.7674765202148546},{"$f":"DL499-DL506-DL508+'متغیرها '!C531","v":26.447832644225848},13,null,{"$f":"EC549-0.5*(EC549-EC551)","v":19.575507153518238},{"$f":"ED549+0.5*(ED551-ED549)","v":27.195928492171632},"q40",null,null,null,null,null,null,null,null,null,null,null,null,null,null,null,null,null,null,null,null,null,null,null,null,null,null,null,null,null,null,null,null,null,null,null,null,null,null,null,null,null,null,null,null,null,null,null,null,null,null,null,null,null,null,null,null,null,null,null,null,null,null,null,null,null,null,null,null,null,null,null,null,null,null,null,null,null,null,null,null,null,null,null,null,null,null,null,null,null,null,null,null,null,null,null,null,null,null,null,null,null,null,null,null,null,null,null,null,null,null,null,null,null,null,null,null,null,null,null,null,null,null,null,null,null,null,null,null,null,null,null,null,null,null,null,null,null,null,null,null,null,null,null,null,null,null,null,null,null,null,null,null,null,null,null,null,null,null,null,null,null,null,null,null,null,null,null,null,null,null,null,null,null,null,null,null,null,null,null,null,null,null,null,null,null,null,null,null,null,null,null,null,null,null,null,null,null,null,null,null,null,null,null,null,null,null,null,null,null,null,null,null,null,null,null,null,null,null,null,null,null,null,null,null,null,null,null,null,null,null,null,null,null,null,null,null,null,null,null,null,null,null,null,null,null,null,null,null,null,null,null,null,null,"g4",{"$f":"NZ547-NZ545*NZ544","v":-30.147321428571427},{"$f":"OA547+0.5*NZ544","v":15.258928571428564},{"$f":"NZ554","v":-30.314603618182236},{"$f":"OA554","v":14.947433107350747},{"$f":"NY554","v":"g8"},null,null,null,null,null,null,null,null,null,null,null,null,null,null,null,null,"f7",{"$f":"OV548+OV548-OV549","v":30.845987394957984},{"$f":"OW549","v":10.943277310924373},{"$f":"OV548","v":30.69},{"$f":"OW548","v":10.735294117647062},{"$f":"OU548","v":"m59"}]
[null,null,null,null,null,"t2",{"$f":"'متغیرها '!C591","v":1.8000000000000007},null,null,"t34",{"$f":"'متغیرها '!C654","v":0},null,null,"s2",{"$f":"G571*G568*L591/(G571+1)","v":16.121454545454551},{"$f":"H571*1*K591/(H571+1)","v":9.6},null,"s33",{"$f":"1.5*L592*G584","v":19.5},null,{"$f":"U567+P567","v":18},2,{"$f":"W567+O567","v":28.434545454545461},{"$f":"X567","v":24.9},{"$f":"Y567","v":0},null,42,{"$f":"W578+S573","v":15.830673084692897},{"$f":"X578","v":45.2},null,{"$f":"AE567+P568","v":19.600000000000001},"p2",{"$f":"AG567+O568","v":26.121454545454551},{"$f":"AH567","v":24.9},{"$f":"AI567","v":0},null,"p37",{"$f":"AG616+0.5*K582*G591*SIN(O572-O581-RADIANS(G592)+RADIANS(G589))","v":18.184410318394992},{"$f":"AH616-0.5*K582*G591*COS(O572-O581-RADIANS(G592)+RADIANS(G589))","v":39.281247249045151},null,1,{"$f":"RADIANS(1)+O581","v":9.2214055106809203E-2},{"$f":"AG574-O576*SIN(AP568)","v":8.1254704526491075},{"$f":"AH574+O576*COS(AP568)","v":45.170372224332453},{"$f":"AG573+O575*SIN(O573+(AP568-O581)*G579)","v":27.891416254395811},{"$f":"AH573+O575*COS(O573+(AP568-O581)*G579)","v":39.179684774033419},{"$f":"AQ568+0.5*L582*COS(AP568-O581)","v":23.035699206668792},{"$f":"AR568+0.5*L582*SIN(AP568-O581)","v":45.430631235328441},{"$f":"SQRT(POWER((AS568-AU568),2)+POWER((AT568-AV568),2))","v":7.9153218323428618},null,"(β3→β4)",{"$f":"0.5*'متغیرها '!C690*SIN(RADIANS('متغیرها '!C692)+RADIANS('متغیرها '!C693))","v":1},{"$f":"0.5*'متغیرها '!C690*SIN(RADIANS('متغیرها '!C692))","v":1},"(41→β8)","(β3→β4)",{"$f":"0.5*'متغیرها '!C681*SIN(RADIANS('متغیرها '!C683)+RADIANS('متغیرها '!C684))","v":1},{"$f":"0.5*'متغیرها '!C681*SIN(RADIANS('متغیرها '!C683))","v":1},null,{"$f":"AE567","v":10},{"$f":"AI567","v":0},{"$f":"AF567","v":"p1"},null,{"$f":"U567","v":10},{"$f":"Y567","v":0},{"$f":"V567","v":1},null,{"$f":"W584","v":21.347022727272726},{"$f":"X584","v":48.9},{"$f":"V584","v":16},null,26.673656666592763,53.999614462765393,{"$f":"V601","v":24},null,{"$f":"W606","v":14.119949667293477},{"$f":"X606","v":36.650007881624973},{"$f":"V606","v":29},null,{"$f":"AB569","v":15.860815326922509},{"$f":"AC569","v":48.969732537659361},{"$f":"AA569","v":43},null,{"$f":"AG587","v":6.1219770058120231},{"$f":"AH587","v":48.725152896333903},{"$f":"AF587","v":"p20"},null,{"$f":"AG599","v":20.378628491656794},{"$f":"AH599","v":55.631082711711102},{"$f":"AF599","v":"p22"},null,{"$f":"AZ571-BA568","v":18.510482021208905},{"$f":"AZ572+BA567","v":45.2},"β7",null,{"$f":"AG605","v":13.604479722875642},{"$f":"AH605","v":47.38764448373567},{"$f":"AF605","v":"p26"},null,{"$f":"AG568","v":26.121454545454551},{"$f":"AH568","v":24.9},"p2",null,null,{"$f":"AZ166","v":11.985633089524203},{"$f":"BA166","v":58.9},39,null,{"$f":"CZ569","v":11.940633089524201},{"$f":"DE583","v":29.900000000000002},"52r",null,3.8974171262652462,49.00168,{"$f":"DF577","v":"14r"},null,16.582153479324074,29.900000000000002,{"$f":"DF573","v":"7r"},null,{"$f":"DH612","v":3.9234776981923112},50.460118106745135,{"$f":"DJ612","v":"p12r"},null,{"$f":"DX401","v":11.995200000000001},{"$f":"DY401","v":58.9},39,null,{"$f":"DX567-DT582+DT581","v":15.097401082797813},{"$f":"DY576","v":29.899999999999995},"7r",null,null,null,null,null,{"$f":"DX571","v":4.5398888490498379},54.55,{"$f":"DZ571","v":"12r"},null,null,null,null,null,null,null,null,null,null,null,null,null,null,null,null,null,null,null,null,null,null,null,null,null,null,null,null,null,null,null,null,null,null,null,null,null,null,null,null,null,null,null,null,null,null,null,null,null,null,null,null,null,null,null,null,null,null,null,null,null,null,null,null,null,null,null,null,null,null,null,null,null,null,null,null,null,null,null,null,null,null,null,null,null,null,null,null,null,null,null,null,null,null,null,null,null,null,null,null,null,null,null,null,null,null,null,null,null,null,null,null,null,null,null,null,null,null,null,null,null,null,null,null,null,null,null,null,null,null,null,null,null,null,null,null,null,null,null,null,null,null,null,null,null,null,null,null,null,null,null,null,null,null,null,null,null,null,null,null,null,null,null,null,null,null,null,null,null,null,null,null,null,null,null,null,null,null,null,null,null,null,null,null,null,null,null,null,null,null,null,null,null,null,null,null,null,null,null,null,null,null,null,null,null,null,null,null,null,null,null,null,null,null,null,null,null,null,null,null,null,null,null,null,null,null,null,null,null,null,null,null,null,null,null,null,null,null,null,null,null,null,null,null,null,null,null,null,null,null,"نقطه شروع انحنا","مولفه افقی","مولفه عمودی",{"$f":"NZ572","v":25.27232142857142},{"$f":"OA572","v":15.848214285714278},{"$f":"NY572","v":"g4"},null,null,null,null,null,null,null,null,{"$f":"OK578","v":-17.733750000000008},{"$f":"OL578","v":11.401260504201684},{"$f":"OJ578","v":"h10"},null,null,null,null,null,"نقاط خروجی","مولفه افقی","مولفه عمودی",{"$f":"OV569","v":-27.62},{"$f":"OW569","v":11.151260504201684},{"$f":"OU569","v":"g2"}]
[null,null,null,null,null,"t19",{"$f":"'متغیرها '!C640","v":0.5},null,null,{"$f":"'متغیرها '!T58","v":"g"},54.1,{"$f":"K585+G606*K585","v":54.1},null,"s19",{"$f":"(L582-L580)/8","v":0.71375000000000011},{"$f":"(K582-K580)/8","v":0.78750000000000009},null,"s50",{"$f":"AC600-AC601","v":24},null,{"$f":"U580-(Y585-Y580)*(U582-U580)/(Y580-Y582)-(4-2*H609-2*H610)*P583","v":18.694888849049839},"15a",{"$f":"W580-(X585-X580)*(W582-W580)/(X580-X582)-(4-2*G609-2*G610)*O583","v":26.049939853537975},{"$f":"X576","v":53.9},{"$f":"Y576","v":53.9},null,59,{"$f":"W611+S573","v":22.173530853129691},{"$f":"X611","v":45.62741757481659},null,{"$f":"AE581","v":17.544991925723131},"p15c",{"$f":"AG581+G573*SIN(O572-O581)","v":20.799523860791819},{"$f":"AH581-G573*COS(O572-O581)","v":50.267825234102688},{"$f":"AI581","v":55.142489165215373},null,"p53",{"$f":"AG568","v":26.121454545454551},{"$f":"AM583","v":24.9},null,null,"شبیه ساز محاسبه s6 به روش تخمین",null,null,null,null,null,null,"شبیه ساز",null,null,null,null,"پروسیجر یافتن راس سوم مثلث با داشتن دو راس و دو ضلع",null,null,null,null,{"$f":"AE584","v":19.983398021097106},{"$f":"AI584","v":42.132467297739588},{"$f":"AF584","v":"p14"},null,{"$f":"U582","v":19.745000000000001},{"$f":"Y582","v":43.972000000000001},{"$f":"V582","v":14},null,{"$f":"W579","v":29.955022727272727},{"$f":"X579","v":39.208399999999997},{"$f":"V579","v":11},null,{"$f":"W579","v":29.955022727272727},{"$f":"X579","v":39.208399999999997},{"$f":"V579","v":11},null,{"$f":"BD569+BD567","v":15.65277272727273},{"$f":"BD570+BD568","v":46.2},"β11",null,{"$f":"AB571","v":7.6550979059828137},{"$f":"AC571","v":24.9},{"$f":"AA571","v":45},null,null,null,"خط اتو",null,{"$f":"AG607","v":6.0541860525152993},{"$f":"AH607","v":46.827507109779134},{"$f":"AF607","v":"p27"},null,{"$f":"AZ569-AZ567","v":9.7704820212089025},{"$f":"AZ570-AZ568","v":44.2},"β9",null,{"$f":"AG608","v":20.816118892836567},{"$f":"AH608","v":49.145618303706399},{"$f":"AF608","v":"p28"},null,{"$f":"AL596","v":13.33726698982721},{"$f":"AM596","v":50.110819753623325},"p82",null,null,{"$f":"W609","v":13.459429096388716},{"$f":"X609","v":43.442291501252207},32,null,{"$f":"CZ571-CZ595+CZ583","v":10.564600597145255},{"$f":"DA571-DA583+DA595","v":59.246317183941997},"31r",null,{"$f":"CZ570","v":11.985633089524203},{"$f":"DA570","v":58.9},"40b",null,null,null,null,null,{"$f":"DD615","v":12.4125},{"$f":"DE615","v":51.09},"38'b",null,{"$f":"U573","v":19.5},{"$f":"Y573","v":24.9},6,null,{"$f":"DX584-(DT603-DT601)+(DU601-DU603)*TAN(DU607-DU608)","v":17.058834275066182},{"$f":"DY584-(DU601-DU603)","v":5.5110651201001275},"p1 r",null,null,null,null,null,13.597401082797813,9.9799999999999969,{"$f":"DZ569","v":"5r"},null,null,null,null,null,null,null,null,null,null,null,null,null,null,null,null,null,null,null,null,null,null,null,null,null,null,null,null,null,null,null,null,null,null,null,null,null,null,null,null,null,null,null,null,null,null,null,null,null,null,null,null,null,null,null,null,null,null,null,null,null,null,null,null,null,null,null,null,null,null,null,null,null,null,null,null,null,null,null,null,null,null,null,null,null,null,null,null,null,null,null,null,null,null,null,null,null,null,null,null,null,null,null,null,null,null,null,null,null,null,null,null,null,null,null,null,null,null,null,null,null,null,null,null,null,null,null,null,null,null,null,null,null,null,null,null,null,null,null,null,null,null,null,null,null,null,null,null,null,null,null,null,null,null,null,null,null,null,null,null,null,null,null,null,null,null,null,null,null,null,null,null,null,null,null,null,null,null,null,null,null,null,null,null,null,null,null,null,null,null,null,null,null,null,null,null,null,null,null,null,null,null,null,null,null,null,null,null,null,null,null,null,null,null,null,null,null,null,null,null,null,null,null,null,null,null,null,null,null,null,null,null,null,null,null,null,null,null,null,null,null,null,null,null,null,null,null,null,null,null,null,null,"انحنا راستگرد ",null,null,{"$f":"OA585","v":"انحنا راستگرد "},null,null,null,null,null,null,null,"انحنا چپگرد ",null,null,{"$f":"OL585","v":"انحنا چپگرد "},null,null,null,null,null,"m63",{"$f":"OQ117","v":-5.6050000000000004},{"$f":"OR117","v":11.151260504201684}]
[null,null,null,null,null,"t37",{"$f":"'متغیرها '!C659","v":0},null,null,null,null,null,"مولفه افقی","مولفه عمودی",null,null,null,null,null,null,null,25,{"$f":"W601","v":26.673656666592763},{"$f":"X601+G574","v":57.499614462765393},null,null,76,{"$f":"AB601-S585*SIN(RADIANS(G612))","v":19.778813631653499},{"$f":"AC601+S585*(1-COS(RADIANS(G612)))","v":25.133566350202308},null,null,"p25a",{"$f":"AG588+0.7*(L584-L587)*SIN(O572-O581)","v":13.50537299584261},{"$f":"AH588-0.7*(L584-L587)*COS(O572-O581)","v":48.334789481236051},null,null,"p87",{"$f":"AL600-S594*COS(O572-O581)*COS(3*RADIANS(G613))","v":-3.5788238790158067},{"$f":"AM600+S594*COS(O572-O581)*SIN(3*RADIANS(G613))","v":30.071484850788952},null,null,{"$f":"IF(AW587>P579,AP587,IF(AW588>P579,AP588,IF(AW589>P579,AP589,IF(AW590>P579,AP590,IF(AW591>P579,AP591,IF(AW592>P579,AP592,IF(AW593>P579,AP593,IF(AW594>P579,AP594,IF(AW595>P579,AP595,IF(AW596>P579,AP596,IF(AW597>P579,AP597,IF(AW598>P579,AP598,IF(AW599>P579,AP599,AP600)))))))))))))","v":0.26082831719171995},null,null,null,null,null,null,null,null,null,null,null,22,{"$f":"BC588+BF588*SIN(RADIANS(BB602)+BB590)","v":7.1142456039629218},{"$f":"BD588+BF588*COS(RADIANS(BB602)+BB590)","v":48.521490064784018},{"$f":"IF(BC589>BC602,ATAN((BD589-BD602)/(BC589-BC602)),ATAN((BD589-BD602)/(BC602-BC589)))","v":0.20015448510401845},{"$f":"IF(BC589>BC602,(BC589-BC602)/COS(BE602),(BC602-BC589)/COS(BE602))","v":2.8705132202268371},null,null,"اطلاعات اندام در شلوار",null,{"$f":"U593","v":5.5974010827978127},{"$f":"Y593","v":53.996984001208894},{"$f":"V593","v":18},null,{"$f":"AB593","v":19.299054545454545},{"$f":"AC593","v":24.9},{"$f":"AA593","v":67},null,{"$f":"AB609","v":17.495079297236906},{"$f":"AC609","v":50.059782838914927},{"$f":"AA609","v":81},null,null,null,null,null,{"$f":"AB580","v":15.860815326922509},{"$f":"AC580","v":48.969732537659361},{"$f":"AA580","v":54},null,null,null,null,null,{"$f":"AG612","v":6.1223407125398772},{"$f":"AH612","v":49.731972367519241},{"$f":"AF612","v":"p32"},null,{"$f":"AG616","v":18.061501746060422},{"$f":"AH616","v":46.322674642184033},{"$f":"AF616","v":"p35"},null,null,null,null,null,{"$f":"AG589","v":13.383727996714878},{"$f":"AH589","v":49.492164336970873},"p19",null,null,null,null,"نقاط ورودی از پشت شلوار",null,null,null,null,null,null,null,null,null,{"$f":"CZ574","v":5},{"$f":"DA574","v":70.932846168872516},26,null,{"$f":"DD617","v":18.662500000000001},{"$f":"DE617","v":59.139588981350066},"36b",null,{"$f":"AE568","v":19.600000000000001},{"$f":"AI568","v":0},"p2",null,{"$f":"BS116","v":5},{"$f":"BT116","v":66.7},"e1",null,{"$f":"FG332","v":5},{"$f":"FH332","v":70.099999999999994},"d3'",null,{"$f":"DX589","v":-2.5708741861304438},42.688288597882504,{"$f":"DZ589","v":"p11r"},null,null,null,null,null,null,null,null,null,null,null,null,null,null,null,null,null,null,null,null,null,null,null,null,null,null,null,null,null,null,null,null,null,null,null,null,null,null,null,null,null,null,null,null,null,null,null,null,null,null,null,null,null,null,null,null,null,null,null,null,null,null,null,null,null,null,null,null,null,null,null,null,null,null,null,null,null,null,null,null,null,null,null,null,null,null,null,null,null,null,null,null,null,null,null,null,null,null,null,null,null,null,null,null,null,null,null,null,null,null,null,null,null,null,null,null,null,null,null,null,null,null,null,null,null,null,null,null,null,null,null,null,null,null,null,null,null,null,null,null,null,null,null,null,null,null,null,null,null,null,null,null,null,null,null,null,null,null,null,null,null,null,null,null,null,null,null,null,null,null,null,null,null,null,null,null,null,null,null,null,null,null,null,null,null,null,null,null,null,null,null,null,null,null,null,null,null,null,null,null,null,null,null,null,null,null,null,null,null,null,null,null,null,null,null,null,null,null,null,null,null,null,null,null,null,null,null,null,null,null,null,null,null,null,null,null,null,null,null,null,null,null,null,null,null,null,null,null,null,null,null,null,null,{"$f":"NZ612","v":-4.4625000000000039},{"$f":"OA612","v":16.392857142857135},{"$f":"NY612","v":"h10"},null,null,null,null,null,"نقطه ورودی سر فلش","مولفه افقی","مولفه عمودی",{"$f":"OK605","v":-16.809170168067233},{"$f":"OL605","v":11.692016806722693},{"$f":"OJ605","v":"f3"},null,null,null,null,null,"نقاط خروجی","مولفه افقی","مولفه عمودی",{"$f":"OV603","v":-5.6050000000000004},{"$f":"OW603","v":11.567226890756306},{"$f":"OU603","v":"g2"}]
[null,null,null,null,null,null,null,null,null,null,null,null,null,null,null,null,null,null,null,null,null,null,null,null,null,null,null,null,null,null,null,null,null,null,null,null,null,null,null,null,null,"نقطه دوم","p15b",{"$f":"AE593","v":16.761805933120616},{"$f":"AI593","v":55.060173000392098},null,null,"نقطه دوم",{"$f":"AF591","v":"p17"},{"$f":"AG591","v":13.384652758038936},{"$f":"AH591","v":49.488490877254286},null,null,58,{"$f":"BC588+BF588*SIN(RADIANS(BB620)+BB590)","v":9.3943769588861858},{"$f":"BD588+BF588*COS(RADIANS(BB620)+BB590)","v":48.896032668860421},{"$f":"IF(BC589>BC620,ATAN((BD589-BD620)/(BC589-BC620)),ATAN((BD589-BD620)/(BC620-BC589)))","v":3.849696366857671E-2},{"$f":"IF(BC589>BC620,(BC589-BC620)/COS(BE620),(BC620-BC589)/COS(BE620))","v":5.0971138257488784},null,null,null,null,null,null,null,null,{"$f":"W567","v":15},{"$f":"X567","v":24.9},{"$f":"V567","v":1},null,null,null,null,null,null,null,null,null,null,null,null,null,null,null,"لبه پایین",null,null,null,null,null,null,null,null,null,null,null,null,null,null,null,null,null,null,null,null,null,null,null,null,null,null,null,null,null,"نقطه تقاطع",null,{"$f":"(DN618-DN616+DM616*((DN617-DN616)/(DM617-DM616+0.0001))-DM618*((DN619-DN618)/(DM619-DM618+0.0001)))/(((DN617-DN616)/(DM617-DM616+0.0001))-((DN619-DN618)/(DM619-DM618+0.0001)))","v":12.000004314304091},{"$f":"DN616+(DM620-DM616)*((DN617-DN616)/(DM617-DM616))","v":29.830053784761667},null,{"$f":"FK231","v":5},{"$f":"FL231","v":76.972177258308477},"p21",null,{"$f":"DT618","v":5},{"$f":"DU618","v":69.900000000000006},"45 یا d3",null,null,null,null,null,null,null,null,null,null,null,null,null,null,null,null,null,null,null,null,null,null,null,null,null,null,null,null,null,null,null,null,null,null,null,null,null,null,null,null,null,null,null,null,null,null,null,null,null,null,null,null,null,null,null,null,null,null,null,null,null,null,null,null,null,null,null,null,null,null,null,null,null,null,null,null,null,null,null,null,null,null,null,null,null,null,null,null,null,null,null,null,null,null,null,null,null,null,null,null,null,null,null,null,null,null,null,null,null,null,null,null,null,null,null,null,null,null,null,null,null,null,null,null,null,null,null,null,null,null,null,null,null,null,null,null,null,null,null,null,null,null,null,null,null,null,null,null,null,null,null,null,null,null,null,null,null,null,null,null,null,null,null,null,null,null,null,null,null,null,null,null,null,null,null,null,null,null,null,null,null,null,null,null,null,null,null,null,null,null,null,null,null,null,null,null,null,null,null,null,null,null,null,null,null,null,null,null,null,null,null,null,null,null,null,null,null,null,null,null,null,null,null,null,null,null,null,null,null,null,null,null,null,null,null,null,null,null,null,null,null,null,null,null,null,null,null,null,null,null,null,null,null,null,null,null,null,null,null,null,null,null,"بزرگی فلش",{"$f":"NV46","v":0.35357142857142865},"f4",{"$f":"NZ622","v":-24.487500000000001},{"$f":"OA622","v":19.67857142857142},{"$f":"NY622","v":"w65"},null,null,null,null,null,null,null,null,{"$f":"OF121","v":-26.430000000000007},{"$f":"OG121","v":11.983193277310928},"m67",null,null,null,null,null,"ارتفاع نیم دایره",{"$f":"OR48","v":0.41596638655462181},"بزرگی فلش",{"$f":"OV623","v":-27.62},{"$f":"OW623","v":11.567226890756306},{"$f":"OU623","v":"m65"}]
[null,null,null,null,null,null,null,null,null,null,null,null,null,null,null,null,null,null,null,null,null,null,null,null,null,null,null,null,null,null,null,null,null,null,null,null,null,null,null,null,null,null,null,null,null,null,null,null,null,null,null,null,null,null,null,null,null,null,null,null,null,null,null,null,null,null,null,null,null,null,null,null,null,null,null,null,null,null,null,null,null,null,null,null,null,null,null,null,null,null,null,null,null,null,null,null,null,null,null,null,null,null,null,null,null,null,null,null,null,null,null,null,null,null,null,null,null,null,null,null,null,null,null,null,null,null,null,null,null,null,null,null,null,null,null,null,null,null,null,null,null,null,null,null,null,null,null,null,null,null,null,null,null,null,null,null,null,null,null,null,null,null,null,null,null,null,null,null,null,null,null,null,null,null,null,null,null,null,null,null,null,null,null,null,null,null,null,null,null,null,null,null,null,null,null,null,null,null,null,null,null,null,null,null,null,null,null,null,null,null,null,null,null,null,null,null,null,null,null,null,null,null,null,null,null,null,null,null,null,null,null,null,null,null,null,null,null,null,null,null,null,null,null,null,null,null,null,null,null,null,null,null,null,null,null,null,null,null,null,null,null,null,null,null,null,null,null,null,null,null,null,null,null,null,null,null,null,null,null,null,null,null,null,null,null,null,null,null,null,null,null,null,null,null,null,null,null,null,null,null,null,null,null,null,null,null,null,null,null,null,null,null,null,null,null,null,null,null,null,null,null,null,null,null,null,null,null,null,null,null,null,null,null,null,null,null,null,null,null,null,null,null,null,null,null,null,null,null,null,null,null,null,null,null,null,null,null,null,null,null,null,null,null,null,null,null,null,null,null,null,null,null,null,null,null,null,null,null,null,null,null,null,null,null,null,null,null,null,"h5",{"$f":"NZ633+0.5*(NZ635-NZ633)","v":-2.4375000000000036},{"$f":"OA633","v":19.67857142857142},{"$f":"NZ642","v":2.287499999999997},{"$f":"OA642","v":19.42857142857142},{"$f":"NY642","v":"h12"},null,null,null,null,null,"f8",{"$f":"OK634","v":-26.132500000000007},{"$f":"OL634+2*OK629","v":12.583193277310928},{"$f":"OK636","v":-25.976512605042025},{"$f":"OL636","v":12.191176470588239},{"$f":"OJ636","v":"f7"},null,null,null,null,null,"m71",{"$f":"OQ125","v":-21.818750000000001},{"$f":"OR125","v":11.983193277310928}]
[null,null,null,null,null,null,null,null,null,null,null,null,null,null,null,null,null,null,null,null,null,null,null,null,null,null,null,null,null,null,null,null,null,null,null,null,null,null,null,null,null,null,null,null,null,null,null,null,null,null,null,null,null,null,null,null,null,null,null,null,null,null,null,null,null,null,null,null,null,null,null,null,null,null,null,null,null,null,null,null,null,null,null,null,null,null,null,null,null,null,null,null,null,null,null,null,null,null,null,null,null,null,null,null,null,null,null,null,null,null,null,null,null,null,null,null,null,null,null,null,null,null,null,null,null,null,null,null,null,null,null,null,null,null,null,null,null,null,null,null,null,null,null,null,null,null,null,null,null,null,null,null,null,null,null,null,null,null,null,null,null,null,null,null,null,null,null,null,null,null,null,null,null,null,null,null,null,null,null,null,null,null,null,null,null,null,null,null,null,null,null,null,null,null,null,null,null,null,null,null,null,null,null,null,null,null,null,null,null,null,null,null,null,null,null,null,null,null,null,null,null,null,null,null,null,null,null,null,null,null,null,null,null,null,null,null,null,null,null,null,null,null,null,null,null,null,null,null,null,null,null,null,null,null,null,null,null,null,null,null,null,null,null,null,null,null,null,null,null,null,null,null,null,null,null,null,null,null,null,null,null,null,null,null,null,null,null,null,null,null,null,null,null,null,null,null,null,null,null,null,null,null,null,null,null,null,null,null,null,null,null,null,null,null,null,null,null,null,null,null,null,null,null,null,null,null,null,null,null,null,null,null,null,null,null,null,null,null,null,null,null,null,null,null,null,null,null,null,null,null,null,null,null,null,null,null,null,null,null,null,null,null,null,null,null,null,null,null,null,null,null,null,null,null,null,null,null,null,null,null,null,null,null,null,null,null,null,null,"w64",{"$f":"NU109","v":25.124999999999993},{"$f":"NV109","v":19.67857142857142},{"$f":"NZ661","v":24.633749999999992},{"$f":"OA661","v":19.92857142857142},{"$f":"NY661","v":"h10"},null,null,null,null,null,"نقاط خروجی","مولفه افقی","مولفه عمودی",{"$f":"OK655","v":32.772500000000008},{"$f":"OL655","v":12.39915966386555},{"$f":"OJ655","v":"g2"},null,null,null,null,null,"ارتفاع هر رج",{"$f":"OR37","v":0.41596638655462181},"w11"]
[null,null,null,null,null,null,null,null,null,null,null,null,null,null,null,null,null,null,null,null,null,null,null,null,null,null,null,null,null,null,null,null,null,null,null,null,null,null,null,null,null,null,null,null,null,null,null,null,null,null,null,null,null,null,null,null,null,null,null,null,null,null,null,null,null,null,null,null,null,null,null,null,null,null,null,null,null,null,null,null,null,null,null,null,null,null,null,null,null,null,null,null,null,null,null,null,null,null,null,null,null,null,null,null,null,null,null,null,null,null,null,null,null,null,null,null,null,null,null,null,null,null,null,null,null,null,null,null,null,null,null,null,null,null,null,null,null,null,null,null,null,null,null,null,null,null,null,null,null,null,null,null,null,null,null,null,null,null,null,null,null,null,null,null,null,null,null,null,null,null,null,null,null,null,null,null,null,null,null,null,null,null,null,null,null,null,null,null,null,null,null,null,null,null,null,null,null,null,null,null,null,null,null,null,null,null,null,null,null,null,null,null,null,null,null,null,null,null,null,null,null,null,null,null,null,null,null,null,null,null,null,null,null,null,null,null,null,null,null,null,null,null,null,null,null,null,null,null,null,null,null,null,null,null,null,null,null,null,null,null,null,null,null,null,null,null,null,null,null,null,null,null,null,null,null,null,null,null,null,null,null,null,null,null,null,null,null,null,null,null,null,null,null,null,null,null,null,null,null,null,null,null,null,null,null,null,null,null,null,null,null,null,null,null,null,null,null,null,null,null,null,null,null,null,null,null,null,null,null,null,null,null,null,null,null,null,null,null,null,null,null,null,null,null,null,null,null,null,null,null,null,null,null,null,null,null,null,null,null,null,null,null,null,null,null,null,null,null,null,null,null,null,null,null,null,null,null,null,null,null,null,null,null,null,null,null,null,null,"نقطه پایان رج(راست)","مولفه افقی","مولفه عمودی",{"$f":"NZ664","v":25.983749999999993},{"$f":"OA664","v":19.92857142857142},{"$f":"NY664","v":"h13"},null,null,null,null,null,"g2",{"$f":"OK653","v":32.772500000000008},{"$f":"OL653+OK650","v":12.39915966386555},null,null,null,null,null,null,null,null,"نقطه ورودی سر فلش","مولفه افقی","مولفه عمودی",{"$f":"OV656","v":-3.2547500000000014},{"$f":"OW656","v":11.983193277310928},{"$f":"OU656","v":"m70"}]
[null,null,null,null,null,null,null,null,null,null,null,null,null,null,null,null,null,null,null,null,null,null,null,null,null,null,null,null,null,null,null,null,null,null,null,null,null,null,null,null,null,null,null,null,null,null,null,null,null,null,null,null,null,null,null,null,null,null,null,null,null,null,null,null,null,null,null,null,null,null,null,null,null,null,null,null,null,null,null,null,null,null,null,null,null,null,null,null,null,null,null,null,null,null,null,null,null,null,null,null,null,null,null,null,null,null,null,null,null,null,null,null,null,null,null,null,null,null,null,null,null,null,null,null,null,null,null,null,null,null,null,null,null,null,null,null,null,null,null,null,null,null,null,null,null,null,null,null,null,null,null,null,null,null,null,null,null,null,null,null,null,null,null,null,null,null,null,null,null,null,null,null,null,null,null,null,null,null,null,null,null,null,null,null,null,null,null,null,null,null,null,null,null,null,null,null,null,null,null,null,null,null,null,null,null,null,null,null,null,null,null,null,null,null,null,null,null,null,null,null,null,null,null,null,null,null,null,null,null,null,null,null,null,null,null,null,null,null,null,null,null,null,null,null,null,null,null,null,null,null,null,null,null,null,null,null,null,null,null,null,null,null,null,null,null,null,null,null,null,null,null,null,null,null,null,null,null,null,null,null,null,null,null,null,null,null,null,null,null,null,null,null,null,null,null,null,null,null,null,null,null,null,null,null,null,null,null,null,null,null,null,null,null,null,null,null,null,null,null,null,null,null,null,null,null,null,null,null,null,null,null,null,null,null,null,null,null,null,null,null,null,null,null,null,null,null,null,null,null,null,null,null,null,null,null,null,null,null,null,null,null,null,null,null,null,null,null,null,null,null,null,null,null,null,null,null,null,null,null,null,null,null,null,null,null,null,null,null,"w66",{"$f":"NU111","v":25.492499999999993},{"$f":"NV111","v":19.67857142857142},{"$f":"NZ677","v":25.595624999999991},{"$f":"OA677","v":20.185357142857136},{"$f":"NY677","v":"g6"},null,null,null,null,null,"نقاط خروجی","مولفه افقی","مولفه عمودی",{"$f":"OK677","v":22.726250000000007},{"$f":"OL677","v":12.14915966386555},{"$f":"OJ677","v":"h11"},null,null,null,null,null,"g8",{"$f":"OV668-OW663*SIN(RADIANS(40)+ATAN((OV668-OV669)/(OW668-OW669+0.0001)))","v":30.30046360036792},{"$f":"OW668-OW663*COS(RADIANS(40)+ATAN((OV668-OV669)/(OW668-OW669+0.0001)))","v":12.036699555854446},{"$f":"OV671","v":30.614581755605787},{"$f":"OW671","v":11.971301945318237},{"$f":"OU671","v":"g7"}]
[null,null,null,null,null,null,{"$f":"G708","v":0},{"$f":"H708","v":65.932846168872516},"m3",null,null,null,null,null,null,null,null,null,null,{"$f":"T702+0.65*U689*U691*SIN(RADIANS(15))*IF(U688=-1,1,U688)","v":0.43459310181728183},{"$f":"U702-0.65*U689*U691*COS(RADIANS(15))*IF(U688=-1,1,U688)","v":67.181245373963009},"m3",null,null,null,null,null,null,null,null,null,{"$f":"AF708","v":0},{"$f":"AG708","v":65.932846168872516},"m3",null,null,null,null,null,null,null,null,null,null,{"$f":"AS702+0.7*AT689*AT691*SIN(RADIANS(10))*(1.5*IF(AT688=-1,1,AT688)-0.5)","v":0.25120686195898401},{"$f":"AT702-0.7*AT689*AT691*COS(RADIANS(10))*IF(AT688=-1,1,AT688)","v":66.804439453034533},"m3",null,{"$f":"-AS701","v":-6.6648902570108248},{"$f":"AT701","v":81.371921823106874},"قرینهm1",null,{"$f":"AW703+AS725","v":-1.6648902570108248},{"$f":"AX703+AS726","v":86.371921823106874},"قرینهm1",null,null,{"$f":"C101","v":5},"شیفت عمودی کل جلو",null,3.0174520896158796,67.264607139675903,28,null,{"$f":"BI703+BF702","v":8.0174520896158796},{"$f":"BJ703+BF703","v":72.264607139675903},28,null,null,{"$f":"'متغیرها '!B245","v":0.33471040093341442},"زاویه سرشانه با افق",null,8.8381590219976633,74.894332157604609,"bs4",null,null,{"$f":"CW680","v":3.4137198380921747},"پهنا یقه ب ب",null,{"$f":"BY705","v":0},{"$f":"BZ705","v":71.019329168617006},{"$f":"CA705","v":"m3"},null,null,null,null,null,null,null,null,null,null,{"$f":"-CP689+CH702","v":-0.24399999999999977},{"$f":"CQ689","v":84.9},"25 شبیه ساز",null,null,null,"(1 → 23)",{"$f":"CW686+0.3*(K144-CW680*SIN(EY679)+CW680)*COS(EY679+EY678)+(1-0.95)*(AA146+CW680*COS(EY679))*SIN(EY679+EY678)","v":7.0451960871108881},null,0,{"$f":"CW693","v":4.1601813537718426},13,null,{"$f":"CW694+CW677","v":7.5439363988309243},{"$f":"CW693+CW678","v":34.16018135377184},14,null,null,null,null,null,{"$f":"DG701","v":15.313397993571954},{"$f":"DH701","v":33.212994962703505},{"$f":"DI701","v":13},null,null,null,null,null,{"$f":"DO701","v":15.170630044065541},{"$f":"DP701","v":33.314047009870379},{"$f":"DQ701","v":13},null,{"$f":"DW702","v":4.0146310609643248},{"$f":"DX701","v":33.827096988922051},4,null,null,null,null,null,{"$f":"EE705+IF(EF688>=0,EF692*EF688*EF681,EF692*EF681+EF686)*COS(EF684)","v":26.13145359291363},{"$f":"EF701+IF(EF688>=0,EF679*EF688*'متغیرها '!C742,'متغیرها '!C742*EF679)","v":27.907112855896177},7,null,{"$f":"EE702","v":10.36748707752422},{"$f":"EF702","v":33.248343046186612},{"$f":"EG702","v":6},null,"(1 → 23)",{"$f":"EN705-0.65*(EN705-EN678)","v":17.411755090460897},null,null,null,null,null,null,"(22 → 23)",{"$f":"EV686+0.3*(EV705-EV686)","v":19.893781020234094},null,{"$f":"EX692","v":25},{"$f":"EY692","v":1.0855018008819739},4,null,null,null,"سرشانه",null,"(21 → 10)","وصل",null,null,-30,20,33,null,"(14 → 15)",{"$f":"G264","v":6.7892672016357301},null,{"$f":"FO707","v":14.571036545279917},{"$f":"FO708","v":6.3679282391745744},19,null,null,null,null,null,null,null,"رسم انحنا پایه",null,"(22 → 23)",{"$f":"GD700+(O238-H232*H124)*SIN(RADIANS(90)-O233-2*O232)","v":6.7745097042398772},null,{"$f":"GF679","v":-0.16017887437437706},{"$f":"GG679","v":12.93764662024293},24,null,null,null,null,null,{"$f":"GJ699","v":14.571036545279917},{"$f":"GK699","v":36.367928239174574},19,null,null,null,null,null,null,null,null,null,null,null,null,null,null,null,null,null,null,null,null,null,null,null,null,null,null,null,null,null,null,null,null,null,null,null,null,null,null,null,null,null,null,null,null,null,null,null,null,null,null,null,null,null,null,null,null,null,null,null,null,null,null,null,null,null,null,null,null,null,null,null,null,null,null,null,null,null,null,null,null,null,null,null,null,null,null,null,null,null,null,null,null,null,null,null,null,null,null,null,null,null,null,null,null,null,null,null,null,null,null,null,null,null,null,null,null,null,null,null,null,null,null,null,null,null,null,null,null,null,null,null,null,null,null,null,null,null,null,null,null,null,null,null,null,null,null,null,null,null,null,null,null,null,null,null,null,null,null,null,null,null,null,null,null,null,null,null,null,null,null,null,null,null,null,null,null,null,null,null,null,null,null,null,null,null,null,null,null,null,null,"h9",{"$f":"NZ701+0.5*NZ692","v":-29.508749999999999},{"$f":"OA697","v":20.267857142857135},{"$f":"NZ706","v":-29.508749999999999},{"$f":"OA706","v":20.017857142857135},{"$f":"NY706","v":"h12"},null,null,null,null,null,null,null,null,{"$f":"OF128","v":14.030000000000008},{"$f":"OG128","v":12.815126050420172},"m74",null,null,null,null,null,"g5",{"$f":"OV699+0.7*(OV702-OV699)","v":8.3047058823529429},{"$f":"OW699+0.28*(OW702-OW699)","v":12.457394957983198},{"$f":"OV702","v":8.2735084033613457},{"$f":"OW702","v":12.607142857142861},{"$f":"OU702","v":"g4"}]
[null,null,null,null,null,null,{"$f":"G702+0.5*(G701-G702)","v":3.7718151120198495},{"$f":"H702+0.2*(H701-H702)","v":68.940806839482292},"m6",null,null,null,null,null,null,null,null,null,null,{"$f":"T702+0.65*(T701-T702)","v":4.6598356519806545},{"$f":"U702+0.28*(U701-U702)","v":72.525223946305587},"m6",null,null,null,null,null,null,null,null,null,{"$f":"AF702+0.5*(AF701-AF702)","v":3.7718151120198495},{"$f":"AG702+0.2*(AG701-AG702)","v":68.902535869593081},"m6",null,null,null,null,null,null,null,null,null,null,{"$f":"AS702+0.45*(1.2*IF(AT688=-1,1,AT688)-0.2)*(AS701-AS702)","v":2.9992006156548712},{"$f":"AT702+(0.1/(1.2*IF(AT688=-1,1,AT688)-0.2))*(AT701-AT702)","v":69.543386108313854},"m6",null,{"$f":"-AS704","v":-0.63325289843447952},{"$f":"AT704","v":67.697742088707429},"قرینهm4",null,{"$f":"AW706+AS725","v":4.3667471015655206},{"$f":"AX706+AS726","v":72.697742088707429},"قرینهm4",null,null,null,null,null,-6.0349041792317593,72.591651022889494,"قرینه 30",null,{"$f":"BI706+BF702","v":-1.0349041792317593},{"$f":"BJ706+BF703","v":77.591651022889494},"قرینه 30",null,{"$f":"BQ702+0.8*(BQ705-BQ702)","v":8.8381590219976633},{"$f":"BR702+0.75*(BR705-BR702)","v":74.894332157604609},"bs4",null,{"$f":"-BQ707","v":-4.4190795109988317},{"$f":"BR707","v":67.964116326318461},"قرینه bs6",null,{"$f":"BY699+BZ703*COS(BZ702)","v":10.768213497440412},{"$f":"BZ699-BZ703*SIN(BZ702)","v":79.330148692217747},"m4",null,{"$f":"BY710","v":-10.768213497440412},{"$f":"BZ710","v":79.330148692217747},{"$f":"CA710","v":"قرینهm4"},null,null,null,null,null,"قرینه",{"$f":"-CG689","v":-11.388820298661262},{"$f":"CH689","v":65.882538177235787},{"$f":"CI689","v":"d8"},null,null,null,null,null,null,null,"(25 → 26)",{"$f":"CW687+0.5*(K144-CW680*SIN(EY679)+CW680)*SIN(EY679+EY678)-(1-0.86)*(AA146+CW680*COS(EY679))*COS(EY679+EY678)","v":14.429253222997215},null,0,{"$f":"CW695","v":7.5272697929801886},15,null,{"$f":"CW702+CW677","v":9.8921248252439735},{"$f":"CW701+CW678","v":49.284853774660391},22,null,"نقاط  ورودی و محاسبات برگردان",null,null,null,{"$f":"DG696","v":26.227861648101388},{"$f":"DH696","v":31.107322912016674},{"$f":"DI696","v":7},null,null,null,null,null,{"$f":"DO696","v":25.960923821294966},{"$f":"DP696","v":33.321968736050025},{"$f":"DQ696","v":7},null,{"$f":"DW708+IF(DX687>=0,DX691*DX687*DX681,DX691*DX681+DX686)*COS(DX684)","v":25.812331697752725},{"$f":"DX704+IF(DX687>=0,DX679*DX687*'متغیرها '!C700,'متغیرها '!C700*DX679)","v":26.599058390831285},7,null,{"$f":"DW701","v":0},{"$f":"DX701","v":33.827096988922051},{"$f":"DY701","v":2},null,{"$f":"EE703-EF682*SIN(EF684)","v":26.138890317732841},{"$f":"EF703+EF682*COS(EF684)","v":31.734202619377061},14,null,{"$f":"EE703","v":26.13145359291363},{"$f":"EF703","v":27.907112855896177},{"$f":"EG703","v":7},null,"(25→ 26)",{"$f":"EN698","v":6.6588048540169904},"عمود",null,null,null,null,null,"(1 → 26)",{"$f":"EV700+(G165+EV678-K144)*COS(EY679+EY678)","v":46.289775137704439},null,null,null,"سرشانه",null,null,null,null,null,"انحنا جلو صورت",null,null,null,{"$f":"EQ725","v":-30},{"$f":"ER725","v":20},1,null,"(17 → 21)",{"$f":"MIN(FO713,FO701)+0.4*ABS(FO701-FO713)*(FO712-FO705)/(FO712-FO698)","v":9.6687578182538694},null,{"$f":"FO712","v":24.205290759039524},{"$f":"FO713","v":8.8478410701728833},26,null,null,null,"رسم انحنا پایه",null,{"$f":"FQ716+FO729","v":10.780824847374802},{"$f":"FR716+FO730","v":30.642952294138905},"p7",null,"(3 → 24')",{"$f":"(GD683-GD684)*SIN(RADIANS(GD708))*SIN(RADIANS(GD708))","v":5.5935695494752384E-3},null,null,null,"خطوط برش یفه دوبل",null,null,null,null,null,{"$f":"GJ702","v":22.636438615898442},{"$f":"GK702","v":36.774509704239875},23,null,null,null,null,null,null,null,null,null,null,null,null,null,null,null,null,null,null,null,null,null,null,null,null,null,null,null,null,null,null,null,null,null,null,null,null,null,null,null,null,null,null,null,null,null,null,null,null,null,null,null,null,null,null,null,null,null,null,null,null,null,null,null,null,null,null,null,null,null,null,null,null,null,null,null,null,null,null,null,null,null,null,null,null,null,null,null,null,null,null,null,null,null,null,null,null,null,null,null,null,null,null,null,null,null,null,null,null,null,null,null,null,null,null,null,null,null,null,null,null,null,null,null,null,null,null,null,null,null,null,null,null,null,null,null,null,null,null,null,null,null,null,null,null,null,null,null,null,null,null,null,null,null,null,null,null,null,null,null,null,null,null,null,null,null,null,null,null,null,null,null,null,null,null,null,null,null,null,null,null,null,null,null,null,null,null,null,null,null,null,"h12",{"$f":"NZ703","v":-29.508749999999999},{"$f":"OA705","v":20.017857142857135},{"$f":"NZ703","v":-29.508749999999999},{"$f":"OA703","v":20.267857142857135},{"$f":"NY703","v":"h9"},null,null,null,null,null,"ارتفاع نیم دایره",{"$f":"OG48","v":0.41596638655462181},"بزرگی فلش",{"$f":"OK709","v":32.772500000000008},{"$f":"OL709","v":12.815126050420172},{"$f":"OJ709","v":"m75"},null,null,null,null,null,"g8",{"$f":"OV702-OW697*SIN(RADIANS(40)+ATAN((OV702-OV703)/(OW702-OW703+0.0001)))","v":8.1554182443942125},{"$f":"OW702-OW697*COS(RADIANS(40)+ATAN((OV702-OV703)/(OW702-OW703+0.0001)))","v":12.387268331872859},{"$f":"OV705","v":8.4695363996320818},{"$f":"OW705","v":12.452665942409068},{"$f":"OU705","v":"g7"}]
[null,null,null,null,null,null,null,{"$f":"ATAN((H705-H704)/(G705-G704))","v":0.92028314735317152},"m11",null,null,null,null,null,null,null,null,null,null,null,{"$f":"ATAN((U705-U704)/(T705-T704))","v":1.1108814714708231},"m11",null,null,null,null,null,null,null,null,null,null,{"$f":"ATAN((AG705-AG704)/(AF705-AF704))","v":0.91410189413481191},"m11",null,null,null,null,null,null,null,null,null,null,{"$f":"BW113-'متغیرها '!C51","v":6.7892672016357309},{"$f":"BX113-'متغیرها '!C52","v":75.255172964496296},"e7",null,-3.0174520896158796,67.264607139675903,"قرینه 28",null,{"$f":"AW723+AS725","v":1.9825479103841204},{"$f":"AX723+AS726","v":72.264607139675903},"قرینه 28",null,null,null,null,null,null,null,null,null,null,null,null,null,null,null,null,null,null,null,null,null,null,null,null,null,{"$f":"BY706+BZ714","v":15.768213497440412},{"$f":"BZ706+BZ715","v":84.330148692217747},{"$f":"CA706","v":"m4"},null,{"$f":"-CG717","v":-7.5439363988309243},{"$f":"BL104-'متغیرها '!C54","v":80.451540828968518},"23قرینه",null,null,null,null,null,null,null,null,null,null,null,null,"خروجی",null,null,null,null,null,null,null,null,null,null,{"$f":"DG722-DH710*SIN(DH713)","v":10.173533894188584},{"$f":"DH722+DH710*COS(DH713)","v":48.805221651680824},6,null,{"$f":"DG720","v":4.0146310609643248},{"$f":"DH720","v":45},{"$f":"DI720","v":3},null,null,null,null,null,{"$f":"DS685","v":-10.019617043130635},{"$f":"DT685","v":30.451645994358486},{"$f":"DU685","v":"قرینه5"},null,null,null,null,null,{"$f":"DW716","v":16.063638193792894},{"$f":"DX716","v":25},21,null,null,null,null,null,null,null,null,null,null,null,null,null,{"$f":"0+'متغیرها '!C727","v":-30},{"$f":"EN679+'متغیرها '!C728","v":49.622326795623792},3,null,"محاسبات کلاه ملوانی ",null,null,null,null,null,null,{"$f":"EX720+EY728","v":-17.481259120955436},{"$f":"EY720+EY729","v":69.462482666447428},17,null,null,null,null,null,-26.7,54.547326795623789,41,null,"(p3 → p2)",{"$f":"SQRT(POWER((FO717-FO722),2)+POWER((FO719),2))+SQRT(POWER((FO722-FO721),2)+POWER((FO720-FO719),2))+SQRT(POWER((FO721),2)+POWER((FO718-FO720),2))","v":13.565272891868995},null,{"$f":"0+FO724","v":0},{"$f":"FO717+FO725","v":1.0715871568981736},"p3",null,null,null,"پایه مستطیل",null,{"$f":"FQ698+FO729","v":8.6779205005517177},{"$f":"FR698+FO730","v":38.797728319404037},12,null,null,null,null,null,null,null,null,null,null,null,null,null,null,null,null,null,null,null,null,null,null,null,null,null,null,null,null,null,null,null,null,null,null,null,null,null,null,null,null,null,null,null,null,null,null,null,null,null,null,null,null,null,null,null,null,null,null,null,null,null,null,null,null,null,null,null,null,null,null,null,null,null,null,null,null,null,null,null,null,null,null,null,null,null,null,null,null,null,null,null,null,null,null,null,null,null,null,null,null,null,null,null,null,null,null,null,null,null,null,null,null,null,null,null,null,null,null,null,null,null,null,null,null,null,null,null,null,null,null,null,null,null,null,null,null,null,null,null,null,null,null,null,null,null,null,null,null,null,null,null,null,null,null,null,null,null,null,null,null,null,null,null,null,null,null,null,null,null,null,null,null,null,null,null,null,null,null,null,null,null,null,null,null,null,null,null,null,null,null,null,null,null,null,null,null,null,null,null,null,null,null,null,null,null,null,null,null,null,null,null,null,null,null,null,null,"ارتفاع هر رج",{"$f":"OG37","v":0.41596638655462181},"w11",null,null,null,null,null,null,null,null,"g2",{"$f":"OV721","v":30.392500000000002},{"$f":"OW721+OV718","v":13.231092436974794}]
[null,null,null,null,null,null,null,null,null,null,null,null,null,null,null,null,null,null,null,null,null,null,null,null,null,null,null,null,null,null,null,null,null,null,null,null,null,null,null,null,null,null,null,null,null,null,null,null,null,null,null,null,null,null,null,null,null,null,null,null,null,null,null,null,null,null,null,null,null,null,null,null,null,null,null,null,null,null,null,null,null,null,null,null,null,null,null,null,null,null,null,null,null,null,null,null,null,null,null,null,null,null,null,null,null,null,null,null,null,null,null,null,null,null,{"$f":"DK729","v":-24.482649601632723},{"$f":"DL729","v":47.183605505216576},"قرینه15",null,null,null,null,null,null,null,null,null,null,null,null,null,null,null,null,null,null,null,null,null,null,null,null,null,{"$f":"EM727+EN735*(EM729-EM727)","v":-27.45},{"$f":"EN728+(EM741-EM728)*(EN729-EN728)/(EM729-EM728)","v":49.734826795623789},41,null,-26.6,33.033823790074472,40,null,null,null,null,null,null,null,null,null,null,null,null,null,null,null,null,null,null,null,null,{"$f":"FN739","v":0},{"$f":"FO739+FO733","v":1.0715871568981736},"p10",null,"γ18",{"$f":"'متغیرها '!C157","v":-15},null,{"$f":"FN744+FO729","v":17.473864877081731},{"$f":"FO744+FO730","v":27.747842133328547},"p13",null,null,null,null,null,null,null,null,null,null,null,null,null,null,null,null,null,null,null,null,null,null,null,null,null,null,null,null,null,null,null,null,null,null,null,null,null,null,null,null,null,null,null,null,null,null,null,null,null,null,null,null,null,null,null,null,null,null,null,null,null,null,null,null,null,null,null,null,null,null,null,null,null,null,null,null,null,null,null,null,null,null,null,null,null,null,null,null,null,null,null,null,null,null,null,null,null,null,null,null,null,null,null,null,null,null,null,null,null,null,null,null,null,null,null,null,null,null,null,null,null,null,null,null,null,null,null,null,null,null,null,null,null,null,null,null,null,null,null,null,null,null,null,null,null,null,null,null,null,null,null,null,null,null,null,null,null,null,null,null,null,null,null,null,null,null,null,null,null,null,null,null,null,null,null,null,null,null,null,null,null,null,null,null,null,null,null,null,null,null,null,null,null,null,null,null,null,null,null,null,null,null,null,null,null,null,null,null,null,"w73",{"$f":"NU118","v":-30},{"$f":"NV118","v":20.857142857142851},{"$f":"NZ748","v":-7.1625000000000041},{"$f":"OA748","v":21.107142857142851},{"$f":"NY748","v":"h10"},null,null,null,null,null,"بزرگی فلش",{"$f":"OG50","v":0.24957983193277314},"f4",{"$f":"OK743","v":-19.974250000000005},{"$f":"OL743","v":13.231092436974794},{"$f":"OJ743","v":"m81"}]
[null,null,null,null,null,null,null,null,null,null,null,null,null,null,null,null,null,null,null,null,null,null,null,null,null,null,null,null,null,null,null,null,null,null,null,null,null,null,null,null,null,null,null,null,null,null,null,null,null,null,null,null,null,null,null,null,null,null,null,null,null,null,null,null,null,null,null,null,null,null,null,null,null,null,null,null,null,null,null,null,null,null,null,null,null,null,null,null,null,null,null,null,null,null,null,null,null,null,null,null,null,null,null,null,null,null,null,null,null,null,null,null,null,null,null,null,null,null,null,null,null,null,null,null,null,null,null,null,null,null,null,null,null,null,null,null,null,null,null,null,null,null,null,null,null,null,null,null,null,null,null,null,null,null,null,null,null,null,null,null,null,null,null,null,null,null,null,null,null,null,null,null,null,null,null,null,null,null,null,null,null,null,null,null,null,null,null,null,null,null,null,null,null,null,null,null,null,null,null,null,null,null,null,null,null,null,null,null,null,null,null,null,null,null,null,null,null,null,null,null,null,null,null,null,null,null,null,null,null,null,null,null,null,null,null,null,null,null,null,null,null,null,null,null,null,null,null,null,null,null,null,null,null,null,null,null,null,null,null,null,null,null,null,null,null,null,null,null,null,null,null,null,null,null,null,null,null,null,null,null,null,null,null,null,null,null,null,null,null,null,null,null,null,null,null,null,null,null,null,null,null,null,null,null,null,null,null,null,null,null,null,null,null,null,null,null,null,null,null,null,null,null,null,null,null,null,null,null,null,null,null,null,null,null,null,null,null,null,null,null,null,null,null,null,null,null,null,null,null,null,null,null,null,null,null,null,null,null,null,null,null,null,null,null,null,null,null,null,null,null,null,null,null,null,null,null,null,null,null,null,null,null,null,null,null,null,null,null,"نقطه شروع رج(چپ)","مولفه افقی","مولفه عمودی",null,null,null,null,null,null,null,null,"g8",{"$f":"OK754-OL749*SIN(RADIANS(40)+ATAN((OK754-OK755)/(OL754-OL755+0.0001)))","v":-26.057081755605793},{"$f":"OL754-OL749*COS(RADIANS(40)+ATAN((OK754-OK755)/(OL754-OL755+0.0001)))","v":13.219201104982103},{"$f":"OK757","v":-25.742963600367926},{"$f":"OL757","v":13.284598715518312},{"$f":"OJ757","v":"g7"}]
[null,null,null,null,null,null,null,null,null,null,null,null,null,null,null,null,null,null,null,null,null,null,null,null,null,null,null,null,null,null,null,null,null,null,null,null,null,null,null,null,null,null,null,null,null,null,null,null,null,null,null,null,null,null,null,null,null,null,null,null,null,null,null,null,null,null,null,null,null,null,null,null,null,null,null,null,null,null,null,null,null,null,null,null,null,null,null,null,null,null,null,null,null,null,null,null,null,null,null,null,null,null,null,null,null,null,null,null,null,null,null,null,null,null,null,null,null,null,null,null,null,null,null,null,null,null,null,null,null,null,null,null,null,null,null,null,null,null,null,null,null,null,null,null,null,null,null,null,null,null,null,null,null,null,null,null,null,null,null,null,null,null,null,null,null,null,null,null,null,null,null,null,null,null,null,null,null,null,null,null,null,null,null,null,null,null,null,null,null,null,null,null,null,null,null,null,null,null,null,null,null,null,null,null,null,null,null,null,null,null,null,null,null,null,null,null,null,null,null,null,null,null,null,null,null,null,null,null,null,null,null,null,null,null,null,null,null,null,null,null,null,null,null,null,null,null,null,null,null,null,null,null,null,null,null,null,null,null,null,null,null,null,null,null,null,null,null,null,null,null,null,null,null,null,null,null,null,null,null,null,null,null,null,null,null,null,null,null,null,null,null,null,null,null,null,null,null,null,null,null,null,null,null,null,null,null,null,null,null,null,null,null,null,null,null,null,null,null,null,null,null,null,null,null,null,null,null,null,null,null,null,null,null,null,null,null,null,null,null,null,null,null,null,null,null,null,null,null,null,null,null,null,null,null,null,null,null,null,null,null,null,null,null,null,null,null,null,null,null,null,null,null,null,null,null,null,null,null,null,null,null,null,null,null,null,null,null,null,"w2",{"$f":"NU49","v":25.124999999999993},{"$f":"NV49-2*NV33","v":0.8214285714285714},null,null,null,null,null,null,null,null,"f7",{"$f":"OK774+OK774-OK775","v":-25.381512605042026},{"$f":"OL775","v":13.855042016806728},{"$f":"OK774","v":-25.537500000000009},{"$f":"OL774","v":13.647058823529417},{"$f":"OJ774","v":"m84"},null,null,null,null,null,"نقطه ورودی سر فلش","مولفه افقی","مولفه عمودی",{"$f":"OV779","v":-21.532829831932776},{"$f":"OW779","v":13.771848739495804},{"$f":"OU779","v":"f3"}]
[null,null,null,null,null,null,null,null,null,null,null,null,null,null,null,null,null,null,null,null,null,null,null,null,null,null,null,null,null,null,null,null,null,null,null,null,null,null,null,null,null,null,null,null,null,null,null,null,null,null,null,null,null,null,null,null,null,null,null,null,null,null,null,null,null,null,null,null,null,null,null,null,null,null,null,null,null,null,null,null,null,null,null,null,null,null,null,null,null,null,null,null,null,null,null,null,null,null,null,null,null,null,null,null,null,null,null,null,null,null,null,null,null,null,null,null,null,null,null,null,null,null,null,null,null,null,null,null,null,null,null,null,null,null,null,null,null,null,null,null,null,null,null,null,null,null,null,null,null,null,null,null,null,null,null,null,null,null,null,null,null,null,null,null,null,null,null,null,null,null,null,null,null,null,null,null,null,null,null,null,null,null,null,null,null,null,null,null,null,null,null,null,null,null,null,null,null,null,null,null,null,null,null,null,null,null,null,null,null,null,null,null,null,null,null,null,null,null,null,null,null,null,null,null,null,null,null,null,null,null,null,null,null,null,null,null,null,null,null,null,null,null,null,null,null,null,null,null,null,null,null,null,null,null,null,null,null,null,null,null,null,null,null,null,null,null,null,null,null,null,null,null,null,null,null,null,null,null,null,null,null,null,null,null,null,null,null,null,null,null,null,null,null,null,null,null,null,null,null,null,null,null,null,null,null,null,null,null,null,null,null,null,null,null,null,null,null,null,null,null,null,null,null,null,null,null,null,null,null,null,null,null,null,null,null,null,null,null,null,null,null,null,null,null,null,null,null,null,null,null,null,null,null,null,null,null,null,null,null,null,null,null,null,null,null,null,null,null,null,null,null,null,null,null,null,null,null,null,null,null,null,null,null,null,null,null,null,null,null,null,null,null,null,null,null,null,null,null,null,null,"متغیرهای ورودی",null,{"$f":"OK799","v":-24.645000000000007},{"$f":"OL799","v":14.063025210084039},{"$f":"OJ799","v":"m87"}]
[null,null,null,null,null,null,null,null,null,null,null,null,null,null,null,null,null,null,null,null,null,null,null,null,null,null,null,null,null,null,null,null,null,null,null,null,null,null,null,null,null,null,null,null,null,null,null,null,null,null,null,null,null,null,null,null,null,null,null,null,null,null,null,null,null,null,null,null,null,null,null,null,null,null,null,null,null,null,null,null,null,null,null,null,null,null,null,null,null,null,null,null,null,null,null,null,null,null,null,null,null,null,null,null,null,null,null,null,null,null,null,null,null,null,null,null,null,null,null,null,null,null,null,null,null,null,null,null,null,null,null,null,null,null,null,null,null,null,null,null,null,null,null,null,null,null,null,null,null,null,null,null,null,null,null,null,null,null,null,null,null,null,null,null,null,null,null,null,null,null,null,null,null,null,null,null,null,null,null,null,null,null,null,null,null,null,null,null,null,null,null,null,null,null,null,null,null,null,null,null,null,null,null,null,null,null,null,null,null,null,null,null,null,null,null,null,null,null,null,null,null,null,null,null,null,null,null,null,null,null,null,null,null,null,null,null,null,null,null,null,null,null,null,null,null,null,null,null,null,null,null,null,null,null,null,null,null,null,null,null,null,null,null,null,null,null,null,null,null,null,null,null,null,null,null,null,null,null,null,null,null,null,null,null,null,null,null,null,null,null,null,null,null,null,null,null,null,null,null,null,null,null,null,null,null,null,null,null,null,null,null,null,null,null,null,null,null,null,null,null,null,null,null,null,null,null,null,null,null,null,null,null,null,null,null,null,null,null,null,null,null,null,null,null,null,null,null,null,null,null,null,null,null,null,null,null,null,null,null,null,null,null,null,null,null,null,null,null,null,null,null,null,null,null,null,null,null,null,null,null,null,null,null,null,null,null,null,null,null,null,null,null,null,null,null,null,null,null,null,null,null,null,null,null,null,null,null,null,null,null,"پهنای باکس نوشته",{"$f":"OR40","v":0.5},"h4"]
[null,null,null,null,null,null,null,null,null,null,null,null,null,null,null,null,null,null,null,null,null,null,null,null,null,null,null,null,null,null,null,null,null,null,null,null,null,null,null,null,null,null,null,null,null,null,null,null,null,null,null,null,null,null,null,null,null,null,null,null,null,null,null,null,null,null,null,null,null,null,null,null,null,null,null,null,null,null,null,null,null,null,null,null,null,null,null,null,null,null,null,null,null,null,null,null,null,null,null,null,null,null,null,null,null,null,null,null,null,null,null,null,null,null,null,null,null,null,null,null,null,null,null,null,null,null,null,null,null,null,null,null,null,null,null,null,null,null,null,null,null,null,null,null,null,null,null,null,null,null,null,null,null,null,null,null,null,null,null,null,null,null,null,null,null,null,null,null,null,null,null,null,null,null,null,null,null,null,null,null,null,null,null,null,null,null,null,null,null,null,null,null,null,null,null,null,null,null,null,null,null,null,null,null,null,null,null,null,null,null,null,null,null,null,null,null,null,null,null,null,null,null,null,null,null,null,null,null,null,null,null,null,null,null,null,null,null,null,null,null,null,null,null,null,null,null,null,null,null,null,null,null,null,null,null,null,null,null,null,null,null,null,null,null,null,null,null,null,null,null,null,null,null,null,null,null,null,null,null,null,null,null,null,null,null,null,null,null,null,null,null,null,null,null,null,null,null,null,null,null,null,null,null,null,null,null,null,null,null,null,null,null,null,null,null,null,null,null,null,null,null,null,null,null,null,null,null,null,null,null,null,null,null,null,null,null,null,null,null,null,null,null,null,null,null,null,null,null,null,null,null,null,null,null,null,null,null,null,null,null,null,null,null,null,null,null,null,null,null,null,null,null,null,null,null,null,null,null,null,null,null,null,null,null,null,null,null,null,null,null,null,null,null,null,null,null,null,null,null,"نقطه ورودی سر فلش","مولفه افقی","مولفه عمودی",{"$f":"OK831","v":-19.271829831932781},{"$f":"OL831","v":17.099579831932775},{"$f":"OJ831","v":"f3"},null,null,null,null,null,null,null,"انحنا راستگرد ",null,null,{"$f":"OW828","v":"انحنا راستگرد "}]
[null,null,null,null,null,null,null,null,null,null,null,null,null,null,null,null,null,null,null,null,null,null,null,null,null,null,null,null,null,null,null,null,null,null,null,null,null,null,null,null,null,null,null,null,null,null,null,null,null,null,null,null,null,null,null,null,null,null,null,null,null,null,null,null,null,null,null,null,null,null,null,null,null,null,null,null,null,null,null,null,null,null,null,null,null,null,null,null,null,null,null,null,null,null,null,null,null,null,null,null,null,null,null,null,null,null,null,null,null,null,null,null,null,null,null,null,null,null,null,null,null,null,null,null,null,null,null,null,null,null,null,null,null,null,null,null,null,null,null,null,null,null,null,null,null,null,null,null,null,null,null,null,null,null,null,null,null,null,null,null,null,null,null,null,null,null,null,null,null,null,null,null,null,null,null,null,null,null,null,null,null,null,null,null,null,null,null,null,null,null,null,null,null,null,null,null,null,null,null,null,null,null,null,null,null,null,null,null,null,null,null,null,null,null,null,null,null,null,null,null,null,null,null,null,null,null,null,null,null,null,null,null,null,null,null,null,null,null,null,null,null,null,null,null,null,null,null,null,null,null,null,null,null,null,null,null,null,null,null,null,null,null,null,null,null,null,null,null,null,null,null,null,null,null,null,null,null,null,null,null,null,null,null,null,null,null,null,null,null,null,null,null,null,null,null,null,null,null,null,null,null,null,null,null,null,null,null,null,null,null,null,null,null,null,null,null,null,null,null,null,null,null,null,null,null,null,null,null,null,null,null,null,null,null,null,null,null,null,null,null,null,null,null,null,null,null,null,null,null,null,null,null,null,null,null,null,null,null,null,null,null,null,null,null,null,null,null,null,null,null,null,null,null,null,null,null,null,null,null,null,null,null,null,null,null,null,null,null,null,null,null,null,null,null,null,null,null,null,null,"بزرگی خط عمودی دانه",{"$f":"OG43","v":0.30000000000000004},"f9",null,null,"فلش به سمت بالا",null,null,null,null,null,"f2",{"$f":"OV844-1*OV842","v":-21.056829831932777},{"$f":"OW844-OV841*OV842","v":16.850000000000005},{"$f":"OV844","v":-20.807250000000003},{"$f":"OW844","v":16.97478991596639},{"$f":"OU844","v":"m90"}]
[null,null,null,null,null,null,null,null,null,null,null,null,null,null,null,null,null,null,null,null,null,null,null,null,null,null,null,null,null,null,null,null,null,null,null,null,null,null,null,null,null,null,null,null,null,null,null,null,null,null,null,null,null,null,null,null,null,null,null,null,null,null,null,null,null,null,null,null,null,null,null,null,null,null,null,null,null,null,null,null,null,null,null,null,null,null,null,null,null,null,null,null,null,null,null,null,null,null,null,null,null,null,null,null,null,null,null,null,null,null,null,null,null,null,null,null,null,null,null,null,null,null,null,null,null,null,null,null,null,null,null,null,null,null,null,null,null,null,null,null,null,null,null,null,null,null,null,null,null,null,null,null,null,null,null,null,null,null,null,null,null,null,null,null,null,null,null,null,null,null,null,null,null,null,null,null,null,null,null,null,null,null,null,null,null,null,null,null,null,null,null,null,null,null,null,null,null,null,null,null,null,null,null,null,null,null,null,null,null,null,null,null,null,null,null,null,null,null,null,null,null,null,null,null,null,null,null,null,null,null,null,null,null,null,null,null,null,null,null,null,null,null,null,null,null,null,null,null,null,null,null,null,null,null,null,null,null,null,null,null,null,null,null,null,null,null,null,null,null,null,null,null,null,null,null,null,null,null,null,null,null,null,null,null,null,null,null,null,null,null,null,null,null,null,null,null,null,null,null,null,null,null,null,null,null,null,null,null,null,null,null,null,null,null,null,null,null,null,null,null,null,null,null,null,null,null,null,null,null,null,null,null,null,null,null,null,null,null,null,null,null,null,null,null,null,null,null,null,null,null,null,null,null,null,null,null,null,null,null,null,null,null,null,null,null,null,null,null,null,null,null,null,null,null,null,null,null,null,null,null,null,null,null,null,null,null,null,null,null,null,null,null,null,null,null,null,null,null,null,"g4",{"$f":"OK859+OK857*OK856","v":31.68649159663866},{"$f":"OL859+0.5*OK856","v":17.182773109243701},{"$f":"OK866","v":31.490463600367924},{"$f":"OL866","v":17.028296194509906},{"$f":"OJ866","v":"g8"},null,null,null,null,null,"زاویه فلش دانه",{"$f":"OR45","v":0.75},"f11",{"$f":"OV865","v":29.500000000000004},{"$f":"OW865","v":16.97478991596639},{"$f":"OU865","v":"m92"}]
[null,null,null,null,null,null,null,null,null,null,null,null,null,null,null,null,null,null,null,null,null,null,null,null,null,null,null,null,null,null,null,null,null,null,null,null,null,null,null,null,null,null,null,null,null,null,null,null,null,null,null,null,null,null,null,null,null,null,null,null,null,null,null,null,null,null,null,null,null,null,null,null,null,null,null,null,null,null,null,null,null,null,null,null,null,null,null,null,null,null,null,null,null,null,null,null,null,null,null,null,null,null,null,null,null,null,null,null,null,null,null,null,null,null,null,null,null,null,null,null,null,null,null,null,null,null,null,null,null,null,null,null,null,null,null,null,null,null,null,null,null,null,null,null,null,null,null,null,null,null,null,null,null,null,null,null,null,null,null,null,null,null,null,null,null,null,null,null,null,null,null,null,null,null,null,null,null,null,null,null,null,null,null,null,null,null,null,null,null,null,null,null,null,null,null,null,null,null,null,null,null,null,null,null,null,null,null,null,null,null,null,null,null,null,null,null,null,null,null,null,null,null,null,null,null,null,null,null,null,null,null,null,null,null,null,null,null,null,null,null,null,null,null,null,null,null,null,null,null,null,null,null,null,null,null,null,null,null,null,null,null,null,null,null,null,null,null,null,null,null,null,null,null,null,null,null,null,null,null,null,null,null,null,null,null,null,null,null,null,null,null,null,null,null,null,null,null,null,null,null,null,null,null,null,null,null,null,null,null,null,null,null,null,null,null,null,null,null,null,null,null,null,null,null,null,null,null,null,null,null,null,null,null,null,null,null,null,null,null,null,null,null,null,null,null,null,null,null,null,null,null,null,null,null,null,null,null,null,null,null,null,null,null,null,null,null,null,null,null,null,null,null,null,null,null,null,null,null,null,null,null,null,null,null,null,null,null,null,null,null,null,null,null,null,null,null,null,null,null,"h8",{"$f":"OK879-0.5*OK870","v":1.0700000000000003},{"$f":"OL875","v":17.390756302521012},null,null,null,null,null,null,null,null,"g7",{"$f":"OV877+OW872*SIN(RADIANS(40)-ATAN((OV877-OV878)/(OW877-OW878+0.0001)))","v":30.019581755605788},{"$f":"OW877-OW872*COS(RADIANS(40)-ATAN((OV877-OV878)/(OW877-OW878+0.0001)))","v":16.962898583973701},{"$f":"OV877","v":29.901491596638657},{"$f":"OW877","v":17.182773109243701},{"$f":"OU877","v":"g4"}]
[null,null,null,null,null,null,null,null,null,null,null,null,null,null,null,null,null,null,null,null,null,null,null,null,null,null,null,null,null,null,null,null,null,null,null,null,null,null,null,null,null,null,null,null,null,null,null,null,null,null,null,null,null,null,null,null,null,null,null,null,null,null,null,null,null,null,null,null,null,null,null,null,null,null,null,null,null,null,null,null,null,null,null,null,null,null,null,null,null,null,null,null,null,null,null,null,null,null,null,null,null,null,null,null,null,null,null,null,null,null,null,null,null,null,null,null,null,null,null,null,null,null,null,null,null,null,null,null,null,null,null,null,null,null,null,null,null,null,null,null,null,null,null,null,null,null,null,null,null,null,null,null,null,null,null,null,null,null,null,null,null,null,null,null,null,null,null,null,null,null,null,null,null,null,null,null,null,null,null,null,null,null,null,null,null,null,null,null,null,null,null,null,null,null,null,null,null,null,null,null,null,null,null,null,null,null,null,null,null,null,null,null,null,null,null,null,null,null,null,null,null,null,null,null,null,null,null,null,null,null,null,null,null,null,null,null,null,null,null,null,null,null,null,null,null,null,null,null,null,null,null,null,null,null,null,null,null,null,null,null,null,null,null,null,null,null,null,null,null,null,null,null,null,null,null,null,null,null,null,null,null,null,null,null,null,null,null,null,null,null,null,null,null,null,null,null,null,null,null,null,null,null,null,null,null,null,null,null,null,null,null,null,null,null,null,null,null,null,null,null,null,null,null,null,null,null,null,null,null,null,null,null,null,null,null,null,null,null,null,null,null,null,null,null,null,null,null,null,null,null,null,null,null,null,null,null,null,null,null,null,null,null,null,null,null,null,null,null,null,null,null,null,null,null,null,null,null,null,null,null,null,null,null,null,null,null,null,null,null,null,null,null,null,null,null,null,null,null,null,"زاویه فلش",{"$f":"OG42","v":0.5},"f5",null,null,"فلش به سمت راست",null,null,null,null,null,null,null,null,{"$f":"OV894","v":1.5350000000000001},{"$f":"OW894","v":17.390756302521012},{"$f":"OU894","v":"h5"}]
[null,null,null,null,null,null,null,null,null,null,null,null,null,null,null,null,null,null,null,null,null,null,null,null,null,null,null,null,null,null,null,null,null,null,null,null,null,null,null,null,null,null,null,null,null,null,null,null,null,null,null,null,null,null,null,null,null,null,null,null,null,null,null,null,null,null,null,null,null,null,null,null,null,null,null,null,null,null,null,null,null,null,null,null,null,null,null,null,null,null,null,null,null,null,null,null,null,null,null,null,null,null,null,null,null,null,null,null,null,null,null,null,null,null,null,null,null,null,null,null,null,null,null,null,null,null,null,null,null,null,null,null,null,null,null,null,null,null,null,null,null,null,null,null,null,null,null,null,null,null,null,null,null,null,null,null,null,null,null,null,null,null,null,null,null,null,null,null,null,null,null,null,null,null,null,null,null,null,null,null,null,null,null,null,null,null,null,null,null,null,null,null,null,null,null,null,null,null,null,null,null,null,null,null,null,null,null,null,null,null,null,null,null,null,null,null,null,null,null,null,null,null,null,null,null,null,null,null,null,null,null,null,null,null,null,null,null,null,null,null,null,null,null,null,null,null,null,null,null,null,null,null,null,null,null,null,null,null,null,null,null,null,null,null,null,null,null,null,null,null,null,null,null,null,null,null,null,null,null,null,null,null,null,null,null,null,null,null,null,null,null,null,null,null,null,null,null,null,null,null,null,null,null,null,null,null,null,null,null,null,null,null,null,null,null,null,null,null,null,null,null,null,null,null,null,null,null,null,null,null,null,null,null,null,null,null,null,null,null,null,null,null,null,null,null,null,null,null,null,null,null,null,null,null,null,null,null,null,null,null,null,null,null,null,null,null,null,null,null,null,null,null,null,null,null,null,null,null,null,null,null,null,null,null,null,null,null,null,null,null,null,null,null,null,null,null,null,null,null,"ارتفاع هر رج",{"$f":"OG37","v":0.41596638655462181},"w11",null,null,null,null,null,null,null,null,"g7",{"$f":"OV911+OW906*SIN(RADIANS(40)-ATAN((OV911-OV912)/(OW911-OW912+0.0001)))","v":-26.567073176405966},{"$f":"OW911-OW906*COS(RADIANS(40)-ATAN((OV911-OV912)/(OW911-OW912+0.0001)))","v":17.199567059154344},{"$f":"OV911","v":-26.727500000000003},{"$f":"OW911","v":17.390756302521012},{"$f":"OU911","v":"g4"}]
[null,null,null,null,null,null,null,null,null,null,null,null,null,null,null,null,null,null,null,null,null,null,null,null,null,null,null,null,null,null,null,null,null,null,null,null,null,null,null,null,null,null,null,null,null,null,null,null,null,null,null,null,null,null,null,null,null,null,null,null,null,null,null,null,null,null,null,null,null,null,null,null,null,null,null,null,null,null,null,null,null,null,null,null,null,null,null,null,null,null,null,null,null,null,null,null,null,null,null,null,null,null,null,null,null,null,null,null,null,null,null,null,null,null,null,null,null,null,null,null,null,null,null,null,null,null,null,null,null,null,null,null,null,null,null,null,null,null,null,null,null,null,null,null,null,null,null,null,null,null,null,null,null,null,null,null,null,null,null,null,null,null,null,null,null,null,null,null,null,null,null,null,null,null,null,null,null,null,null,null,null,null,null,null,null,null,null,null,null,null,null,null,null,null,null,null,null,null,null,null,null,null,null,null,null,null,null,null,null,null,null,null,null,null,null,null,null,null,null,null,null,null,null,null,null,null,null,null,null,null,null,null,null,null,null,null,null,null,null,null,null,null,null,null,null,null,null,null,null,null,null,null,null,null,null,null,null,null,null,null,null,null,null,null,null,null,null,null,null,null,null,null,null,null,null,null,null,null,null,null,null,null,null,null,null,null,null,null,null,null,null,null,null,null,null,null,null,null,null,null,null,null,null,null,null,null,null,null,null,null,null,null,null,null,null,null,null,null,null,null,null,null,null,null,null,null,null,null,null,null,null,null,null,null,null,null,null,null,null,null,null,null,null,null,null,null,null,null,null,null,null,null,null,null,null,null,null,null,null,null,null,null,null,null,null,null,null,null,null,null,null,null,null,null,null,null,null,null,null,null,null,null,null,null,null,null,null,null,null,null,null,null,null,null,null,null,null,null,null,"g7",{"$f":"OK928+OL923*SIN(RADIANS(40)-ATAN((OK928-OK929)/(OL928-OL929+0.0001)))","v":31.953331755605792},{"$f":"OL928-OL923*COS(RADIANS(40)-ATAN((OK928-OK929)/(OL928-OL929+0.0001)))","v":17.378864970528323},{"$f":"OK928","v":31.83524159663866},{"$f":"OL928","v":17.598739495798323},{"$f":"OJ928","v":"g4"},null,null,null,null,null,"m98",{"$f":"OQ152","v":-26.430000000000003},{"$f":"OR152","v":17.390756302521012},{"$f":"OV932","v":-26.585987394957986},{"$f":"OW932","v":17.782773109243703},{"$f":"OU932","v":"f6"}]
[null,null,null,null,null,null,null,null,null,null,null,null,null,null,null,null,null,null,null,null,null,null,null,null,null,null,null,null,null,null,null,null,null,null,null,null,null,null,null,null,null,null,null,null,null,null,null,null,null,null,null,null,null,null,null,null,null,null,null,null,null,null,null,null,null,null,null,null,null,null,null,null,null,null,null,null,null,null,null,null,null,null,null,null,null,null,null,null,null,null,null,null,null,null,null,null,null,null,null,null,null,null,null,null,null,null,null,null,null,null,null,null,null,null,null,null,null,null,null,null,null,null,null,null,null,null,null,null,null,null,null,null,null,null,null,null,null,null,null,null,null,null,null,null,null,null,null,null,null,null,null,null,null,null,null,null,null,null,null,null,null,null,null,null,null,null,null,null,null,null,null,null,null,null,null,null,null,null,null,null,null,null,null,null,null,null,null,null,null,null,null,null,null,null,null,null,null,null,null,null,null,null,null,null,null,null,null,null,null,null,null,null,null,null,null,null,null,null,null,null,null,null,null,null,null,null,null,null,null,null,null,null,null,null,null,null,null,null,null,null,null,null,null,null,null,null,null,null,null,null,null,null,null,null,null,null,null,null,null,null,null,null,null,null,null,null,null,null,null,null,null,null,null,null,null,null,null,null,null,null,null,null,null,null,null,null,null,null,null,null,null,null,null,null,null,null,null,null,null,null,null,null,null,null,null,null,null,null,null,null,null,null,null,null,null,null,null,null,null,null,null,null,null,null,null,null,null,null,null,null,null,null,null,null,null,null,null,null,null,null,null,null,null,null,null,null,null,null,null,null,null,null,null,null,null,null,null,null,null,null,null,null,null,null,null,null,null,null,null,null,null,null,null,null,null,null,null,null,null,null,null,null,null,null,null,null,null,null,null,null,null,null,null,null,null,null,null,null,null,"h10",{"$f":"OK946","v":1.3674999999999997},{"$f":"OL946+0.5*OK937","v":18.056722689075634},{"$f":"OK951","v":5.8674999999999997},{"$f":"OL951","v":18.056722689075634},{"$f":"OJ951","v":"h13"}]
[null,null,null,null,null,null,null,null,null,null,null,null,null,null,null,null,null,null,null,null,null,null,null,null,null,null,null,null,null,null,null,null,null,null,null,null,null,null,null,null,null,null,null,null,null,null,null,null,null,null,null,null,null,null,null,null,null,null,null,null,null,null,null,null,null,null,null,null,null,null,null,null,null,null,null,null,null,null,null,null,null,null,null,null,null,null,null,null,null,null,null,null,null,null,null,null,null,null,null,null,null,null,null,null,null,null,null,null,null,null,null,null,null,null,null,null,null,null,null,null,null,null,null,null,null,null,null,null,null,null,null,null,null,null,null,null,null,null,null,null,null,null,null,null,null,null,null,null,null,null,null,null,null,null,null,null,null,null,null,null,null,null,null,null,null,null,null,null,null,null,null,null,null,null,null,null,null,null,null,null,null,null,null,null,null,null,null,null,null,null,null,null,null,null,null,null,null,null,null,null,null,null,null,null,null,null,null,null,null,null,null,null,null,null,null,null,null,null,null,null,null,null,null,null,null,null,null,null,null,null,null,null,null,null,null,null,null,null,null,null,null,null,null,null,null,null,null,null,null,null,null,null,null,null,null,null,null,null,null,null,null,null,null,null,null,null,null,null,null,null,null,null,null,null,null,null,null,null,null,null,null,null,null,null,null,null,null,null,null,null,null,null,null,null,null,null,null,null,null,null,null,null,null,null,null,null,null,null,null,null,null,null,null,null,null,null,null,null,null,null,null,null,null,null,null,null,null,null,null,null,null,null,null,null,null,null,null,null,null,null,null,null,null,null,null,null,null,null,null,null,null,null,null,null,null,null,null,null,null,null,null,null,null,null,null,null,null,null,null,null,null,null,null,null,null,null,null,null,null,null,null,null,null,null,null,null,null,null,null,null,null,null,null,null,null,null,null,null,null,"m100",{"$f":"OF154","v":-24.496250000000007},{"$f":"OG154","v":17.806722689075634},{"$f":"OK971","v":-24.20507352941177},{"$f":"OL971","v":16.375798319327735},{"$f":"OJ971","v":"g6"},null,null,null,null,null,"h13",{"$f":"OV962","v":4.0824999999999996},{"$f":"OW963","v":18.056722689075634},{"$f":"OV958","v":29.946250000000003},{"$f":"OW958","v":17.806722689075634},{"$f":"OU958","v":"m99"}]
[null,null,null,null,null,null,null,null,null,null,null,null,null,null,null,null,null,null,null,null,null,null,null,null,null,null,null,null,null,null,null,null,null,null,null,null,null,null,null,null,null,null,null,null,null,null,null,null,null,null,null,null,null,null,null,null,null,null,null,null,null,null,null,null,null,null,null,null,null,null,null,null,null,null,null,null,null,null,null,null,null,null,null,null,null,null,null,null,null,null,null,null,null,null,null,null,null,null,null,null,null,null,null,null,null,null,null,null,null,null,null,null,null,null,null,null,null,null,null,null,null,null,null,null,null,null,null,null,null,null,null,null,null,null,null,null,null,null,null,null,null,null,null,null,null,null,null,null,null,null,null,null,null,null,null,null,null,null,null,null,null,null,null,null,null,null,null,null,null,null,null,null,null,null,null,null,null,null,null,null,null,null,null,null,null,null,null,null,null,null,null,null,null,null,null,null,null,null,null,null,null,null,null,null,null,null,null,null,null,null,null,null,null,null,null,null,null,null,null,null,null,null,null,null,null,null,null,null,null,null,null,null,null,null,null,null,null,null,null,null,null,null,null,null,null,null,null,null,null,null,null,null,null,null,null,null,null,null,null,null,null,null,null,null,null,null,null,null,null,null,null,null,null,null,null,null,null,null,null,null,null,null,null,null,null,null,null,null,null,null,null,null,null,null,null,null,null,null,null,null,null,null,null,null,null,null,null,null,null,null,null,null,null,null,null,null,null,null,null,null,null,null,null,null,null,null,null,null,null,null,null,null,null,null,null,null,null,null,null,null,null,null,null,null,null,null,null,null,null,null,null,null,null,null,null,null,null,null,null,null,null,null,null,null,null,null,null,null,null,null,null,null,null,null,null,null,null,null,null,null,null,null,null,null,null,null,null,null,null,null,null,null,null,null,null,null,null,null,null,"g2",{"$f":"OK981","v":31.136250000000008},{"$f":"OL981+OK978","v":16.558823529411768},null,null,null,null,null,null,null,null,"g2",{"$f":"OV981","v":-26.281250000000004},{"$f":"OW981+OV978","v":16.142857142857146}]
[null,null,null,null,null,null,null,null,null,null,null,null,null,null,null,null,null,null,null,null,null,null,null,null,null,null,null,null,null,null,null,null,null,null,null,null,null,null,null,null,null,null,null,null,null,null,null,null,null,null,null,null,null,null,null,null,null,null,null,null,null,null,null,null,null,null,null,null,null,null,null,null,null,null,null,null,null,null,null,null,null,null,null,null,null,null,null,null,null,null,null,null,null,null,null,null,null,null,null,null,null,null,null,null,null,null,null,null,null,null,null,null,null,null,null,null,null,null,null,null,null,null,null,null,null,null,null,null,null,null,null,null,null,null,null,null,null,null,null,null,null,null,null,null,null,null,null,null,null,null,null,null,null,null,null,null,null,null,null,null,null,null,null,null,null,null,null,null,null,null,null,null,null,null,null,null,null,null,null,null,null,null,null,null,null,null,null,null,null,null,null,null,null,null,null,null,null,null,null,null,null,null,null,null,null,null,null,null,null,null,null,null,null,null,null,null,null,null,null,null,null,null,null,null,null,null,null,null,null,null,null,null,null,null,null,null,null,null,null,null,null,null,null,null,null,null,null,null,null,null,null,null,null,null,null,null,null,null,null,null,null,null,null,null,null,null,null,null,null,null,null,null,null,null,null,null,null,null,null,null,null,null,null,null,null,null,null,null,null,null,null,null,null,null,null,null,null,null,null,null,null,null,null,null,null,null,null,null,null,null,null,null,null,null,null,null,null,null,null,null,null,null,null,null,null,null,null,null,null,null,null,null,null,null,null,null,null,null,null,null,null,null,null,null,null,null,null,null,null,null,null,null,null,null,null,null,null,null,null,null,null,null,null,null,null,null,null,null,null,null,null,null,null,null,null,null,null,null,null,null,null,null,null,null,null,null,null,null,null,null,null,null,null,null,null,null,null,null,null,"h5",{"$f":"OK997+0.5*(OK999-OK997)","v":3.3200000000000003},{"$f":"OL997","v":16.558823529411768},{"$f":"OK1006","v":5.57},{"$f":"OL1006","v":16.308823529411768},{"$f":"OJ1006","v":"h12"},null,null,null,null,null,"g6",{"$f":"OV1000","v":29.42404411764706},{"$f":"OW998-OW1000+OW996","v":16.500588235294121}]
[null,null,null,null,null,null,null,null,null,null,null,null,null,null,null,null,null,null,null,null,null,null,null,null,null,null,null,null,null,null,null,null,null,null,null,null,null,null,null,null,null,null,null,null,null,null,null,null,null,null,null,null,null,null,null,null,null,null,null,null,null,null,null,null,null,null,null,null,null,null,null,null,null,null,null,null,null,null,null,null,null,null,null,null,null,null,null,null,null,null,null,null,null,null,null,null,null,null,null,null,null,null,null,null,null,null,null,null,null,null,null,null,null,null,null,null,null,null,null,null,null,null,null,null,null,null,null,null,null,null,null,null,null,null,null,null,null,null,null,null,null,null,null,null,null,null,null,null,null,null,null,null,null,null,null,null,null,null,null,null,null,null,null,null,null,null,null,null,null,null,null,null,null,null,null,null,null,null,null,null,null,null,null,null,null,null,null,null,null,null,null,null,null,null,null,null,null,null,null,null,null,null,null,null,null,null,null,null,null,null,null,null,null,null,null,null,null,null,null,null,null,null,null,null,null,null,null,null,null,null,null,null,null,null,null,null,null,null,null,null,null,null,null,null,null,null,null,null,null,null,null,null,null,null,null,null,null,null,null,null,null,null,null,null,null,null,null,null,null,null,null,null,null,null,null,null,null,null,null,null,null,null,null,null,null,null,null,null,null,null,null,null,null,null,null,null,null,null,null,null,null,null,null,null,null,null,null,null,null,null,null,null,null,null,null,null,null,null,null,null,null,null,null,null,null,null,null,null,null,null,null,null,null,null,null,null,null,null,null,null,null,null,null,null,null,null,null,null,null,null,null,null,null,null,null,null,null,null,null,null,null,null,null,null,null,null,null,null,null,null,null,null,null,null,null,null,null,null,null,null,null,null,null,null,null,null,null,null,null,null,null,null,null,null,null,null,null,null,null,"g4",{"$f":"OK1015-OK1013*OK1012","v":-26.47209033613446},{"$f":"OL1015+0.5*OK1012","v":20.510504201680675},{"$f":"OK1022","v":-26.59015273876922},{"$f":"OL1022","v":20.290614771303272},{"$f":"OJ1022","v":"g8"},null,null,null,null,null,"h9",{"$f":"OV1016+0.5*OV1007","v":3.7850000000000001},{"$f":"OW1012","v":16.558823529411768},{"$f":"OV1021","v":3.7850000000000001},{"$f":"OW1021","v":16.308823529411768},{"$f":"OU1021","v":"h12"}]
[null,null,null,null,null,null,null,null,null,null,null,null,null,null,null,null,null,null,null,null,null,null,null,null,null,null,null,null,null,null,null,null,null,null,null,null,null,null,null,null,null,null,null,null,null,null,null,null,null,null,null,null,null,null,null,null,null,null,null,null,null,null,null,null,null,null,null,null,null,null,null,null,null,null,null,null,null,null,null,null,null,null,null,null,null,null,null,null,null,null,null,null,null,null,null,null,null,null,null,null,null,null,null,null,null,null,null,null,null,null,null,null,null,null,null,null,null,null,null,null,null,null,null,null,null,null,null,null,null,null,null,null,null,null,null,null,null,null,null,null,null,null,null,null,null,null,null,null,null,null,null,null,null,null,null,null,null,null,null,null,null,null,null,null,null,null,null,null,null,null,null,null,null,null,null,null,null,null,null,null,null,null,null,null,null,null,null,null,null,null,null,null,null,null,null,null,null,null,null,null,null,null,null,null,null,null,null,null,null,null,null,null,null,null,null,null,null,null,null,null,null,null,null,null,null,null,null,null,null,null,null,null,null,null,null,null,null,null,null,null,null,null,null,null,null,null,null,null,null,null,null,null,null,null,null,null,null,null,null,null,null,null,null,null,null,null,null,null,null,null,null,null,null,null,null,null,null,null,null,null,null,null,null,null,null,null,null,null,null,null,null,null,null,null,null,null,null,null,null,null,null,null,null,null,null,null,null,null,null,null,null,null,null,null,null,null,null,null,null,null,null,null,null,null,null,null,null,null,null,null,null,null,null,null,null,null,null,null,null,null,null,null,null,null,null,null,null,null,null,null,null,null,null,null,null,null,null,null,null,null,null,null,null,null,null,null,null,null,null,null,null,null,null,null,null,null,null,null,null,null,null,null,null,null,null,null,null,null,null,null,null,null,null,null,null,null,null,null,null,"h5",{"$f":"OK1031+0.5*(OK1033-OK1031)","v":3.3200000000000003},{"$f":"OL1031","v":24.462184873949582},{"$f":"OK1040","v":8.0450000000000017},{"$f":"OL1040","v":24.212184873949582},{"$f":"OJ1040","v":"h12"},null,null,null,null,null,"g6",{"$f":"OV1034","v":-27.664338235294121},{"$f":"OW1032-OW1034+OW1030","v":23.355714285714289}]
[null,null,null,null,null,null,null,null,null,null,null,null,null,null,null,null,null,null,null,null,null,null,null,null,null,null,null,null,null,null,null,null,null,null,null,null,null,null,null,null,null,null,null,null,null,null,null,null,null,null,null,null,null,null,null,null,null,null,null,null,null,null,null,null,null,null,null,null,null,null,null,null,null,null,null,null,null,null,null,null,null,null,null,null,null,null,null,null,null,null,null,null,null,null,null,null,null,null,null,null,null,null,null,null,null,null,null,null,null,null,null,null,null,null,null,null,null,null,null,null,null,null,null,null,null,null,null,null,null,null,null,null,null,null,null,null,null,null,null,null,null,null,null,null,null,null,null,null,null,null,null,null,null,null,null,null,null,null,null,null,null,null,null,null,null,null,null,null,null,null,null,null,null,null,null,null,null,null,null,null,null,null,null,null,null,null,null,null,null,null,null,null,null,null,null,null,null,null,null,null,null,null,null,null,null,null,null,null,null,null,null,null,null,null,null,null,null,null,null,null,null,null,null,null,null,null,null,null,null,null,null,null,null,null,null,null,null,null,null,null,null,null,null,null,null,null,null,null,null,null,null,null,null,null,null,null,null,null,null,null,null,null,null,null,null,null,null,null,null,null,null,null,null,null,null,null,null,null,null,null,null,null,null,null,null,null,null,null,null,null,null,null,null,null,null,null,null,null,null,null,null,null,null,null,null,null,null,null,null,null,null,null,null,null,null,null,null,null,null,null,null,null,null,null,null,null,null,null,null,null,null,null,null,null,null,null,null,null,null,null,null,null,null,null,null,null,null,null,null,null,null,null,null,null,null,null,null,null,null,null,null,null,null,null,null,null,null,null,null,null,null,null,null,null,null,null,null,null,null,null,null,null,null,null,null,null,null,null,null,null,null,null,null,null,null,null,null,null,null,"g5",{"$f":"OK1049+0.7*(OK1052-OK1049)","v":31.209044117647064},{"$f":"OL1049+0.28*(OL1052-OL1049)","v":24.520420168067229},{"$f":"OK1052","v":31.240241596638661},{"$f":"OL1052","v":24.670168067226893},{"$f":"OJ1052","v":"g4"},null,null,null,null,null,"h10",{"$f":"OV1051","v":-3.1900000000000004},{"$f":"OW1051+0.5*OV1042","v":24.712184873949582},{"$f":"OV1056","v":6.2600000000000007},{"$f":"OW1056","v":24.712184873949582},{"$f":"OU1056","v":"h13"}]
[null,null,null,null,null,null,null,null,null,null,null,null,null,null,null,null,null,null,null,null,null,null,null,null,null,null,null,null,null,null,null,null,null,null,null,null,null,null,null,null,null,null,null,null,null,null,null,null,null,null,null,null,null,null,null,null,null,null,null,null,null,null,null,null,null,null,null,null,null,null,null,null,null,null,null,null,null,null,null,null,null,null,null,null,null,null,null,null,null,null,null,null,null,null,null,null,null,null,null,null,null,null,null,null,null,null,null,null,null,null,null,null,null,null,null,null,null,null,null,null,null,null,null,null,null,null,null,null,null,null,null,null,null,null,null,null,null,null,null,null,null,null,null,null,null,null,null,null,null,null,null,null,null,null,null,null,null,null,null,null,null,null,null,null,null,null,null,null,null,null,null,null,null,null,null,null,null,null,null,null,null,null,null,null,null,null,null,null,null,null,null,null,null,null,null,null,null,null,null,null,null,null,null,null,null,null,null,null,null,null,null,null,null,null,null,null,null,null,null,null,null,null,null,null,null,null,null,null,null,null,null,null,null,null,null,null,null,null,null,null,null,null,null,null,null,null,null,null,null,null,null,null,null,null,null,null,null,null,null,null,null,null,null,null,null,null,null,null,null,null,null,null,null,null,null,null,null,null,null,null,null,null,null,null,null,null,null,null,null,null,null,null,null,null,null,null,null,null,null,null,null,null,null,null,null,null,null,null,null,null,null,null,null,null,null,null,null,null,null,null,null,null,null,null,null,null,null,null,null,null,null,null,null,null,null,null,null,null,null,null,null,null,null,null,null,null,null,null,null,null,null,null,null,null,null,null,null,null,null,null,null,null,null,null,null,null,null,null,null,null,null,null,null,null,null,null,null,null,null,null,null,null,null,null,null,null,null,null,null,null,null,null,null,null,null,null,null,null,null,"h8",{"$f":"OK1069-0.5*OK1060","v":1.0700000000000003},{"$f":"OL1065","v":24.878151260504204},null,null,null,null,null,null,null,null,"g7",{"$f":"OV1067+OW1062*SIN(RADIANS(40)-ATAN((OV1067-OV1068)/(OW1067-OW1068+0.0001)))","v":29.573331755605789},{"$f":"OW1067-OW1062*COS(RADIANS(40)-ATAN((OV1067-OV1068)/(OW1067-OW1068+0.0001)))","v":24.450293541956892},{"$f":"OV1067","v":29.455241596638658},{"$f":"OW1067","v":24.670168067226893},{"$f":"OU1067","v":"g4"}]
[null,null,null,null,null,null,null,null,null,null,null,null,null,null,null,null,null,null,null,null,null,null,null,null,null,null,null,null,null,null,null,null,null,null,null,null,null,null,null,null,null,null,null,null,null,null,null,null,null,null,null,null,null,null,null,null,null,null,null,null,null,null,null,null,null,null,null,null,null,null,null,null,null,null,null,null,null,null,null,null,null,null,null,null,null,null,null,null,null,null,null,null,null,null,null,null,null,null,null,null,null,null,null,null,null,null,null,null,null,null,null,null,null,null,null,null,null,null,null,null,null,null,null,null,null,null,null,null,null,null,null,null,null,null,null,null,null,null,null,null,null,null,null,null,null,null,null,null,null,null,null,null,null,null,null,null,null,null,null,null,null,null,null,null,null,null,null,null,null,null,null,null,null,null,null,null,null,null,null,null,null,null,null,null,null,null,null,null,null,null,null,null,null,null,null,null,null,null,null,null,null,null,null,null,null,null,null,null,null,null,null,null,null,null,null,null,null,null,null,null,null,null,null,null,null,null,null,null,null,null,null,null,null,null,null,null,null,null,null,null,null,null,null,null,null,null,null,null,null,null,null,null,null,null,null,null,null,null,null,null,null,null,null,null,null,null,null,null,null,null,null,null,null,null,null,null,null,null,null,null,null,null,null,null,null,null,null,null,null,null,null,null,null,null,null,null,null,null,null,null,null,null,null,null,null,null,null,null,null,null,null,null,null,null,null,null,null,null,null,null,null,null,null,null,null,null,null,null,null,null,null,null,null,null,null,null,null,null,null,null,null,null,null,null,null,null,null,null,null,null,null,null,null,null,null,null,null,null,null,null,null,null,null,null,null,null,null,null,null,null,null,null,null,null,null,null,null,null,null,null,null,null,null,null,null,null,null,null,null,null,null,null,null,null,null,null,null,null,null,"h8",{"$f":"OK1086-0.5*OK1080","v":-15.59},{"$f":"OL1083","v":1.1680672268907564},{"$f":"OK1091","v":-11.09},{"$f":"OL1091","v":0.91806722689075637},{"$f":"OJ1091","v":"h12"},null,null,null,null,null,"h10",{"$f":"OV1085","v":-0.71499999999999986},{"$f":"OW1085+0.5*OV1076","v":25.128151260504204},{"$f":"OV1090","v":3.7850000000000001},{"$f":"OW1090","v":25.128151260504204},{"$f":"OU1090","v":"h13"}]
[null,null,null,null,null,null,null,null,null,null,null,null,null,null,null,null,null,null,null,null,null,null,null,null,null,null,null,null,null,null,null,null,null,null,null,null,null,null,null,null,null,null,null,null,null,null,null,null,null,null,null,null,null,null,null,null,null,null,null,null,null,null,null,null,null,null,null,null,null,null,null,null,null,null,null,null,null,null,null,null,null,null,null,null,null,null,null,null,null,null,null,null,null,null,null,null,null,null,null,null,null,null,null,null,null,null,null,null,null,null,null,null,null,null,null,null,null,null,null,null,null,null,null,null,null,null,null,null,null,null,null,null,null,null,null,null,null,null,null,null,null,null,null,null,null,null,null,null,null,null,null,null,null,null,null,null,null,null,null,null,null,null,null,null,null,null,null,null,null,null,null,null,null,null,null,null,null,null,null,null,null,null,null,null,null,null,null,null,null,null,null,null,null,null,null,null,null,null,null,null,null,null,null,null,null,null,null,null,null,null,null,null,null,null,null,null,null,null,null,null,null,null,null,null,null,null,null,null,null,null,null,null,null,null,null,null,null,null,null,null,null,null,null,null,null,null,null,null,null,null,null,null,null,null,null,null,null,null,null,null,null,null,null,null,null,null,null,null,null,null,null,null,null,null,null,null,null,null,null,null,null,null,null,null,null,null,null,null,null,null,null,null,null,null,null,null,null,null,null,null,null,null,null,null,null,null,null,null,null,null,null,null,null,null,null,null,null,null,null,null,null,null,null,null,null,null,null,null,null,null,null,null,null,null,null,null,null,null,null,null,null,null,null,null,null,null,null,null,null,null,null,null,null,null,null,null,null,null,null,null,null,null,null,null,null,null,null,null,null,null,null,null,null,null,null,null,null,null,null,null,null,null,null,null,null,null,null,null,null,null,null,null,null,null,null,null,null,null,null,"h11",{"$f":"OK1102","v":15.030000000000001},{"$f":"OL1102-0.5*OK1096","v":0.91806722689075637},{"$f":"OK1107","v":24.93},{"$f":"OL1107","v":1.4180672268907564},{"$f":"OJ1107","v":"h13"},null,null,null,null,null,"h11",{"$f":"OV1102","v":-16.482500000000002},{"$f":"OW1102-0.5*OV1096","v":0.91806722689075637},{"$f":"OV1107","v":-11.9825},{"$f":"OW1107","v":1.4180672268907564},{"$f":"OU1107","v":"h13"}]
[null,null,null,null,null,null,null,null,null,null,null,null,null,null,null,null,null,null,null,null,null,null,null,null,null,null,null,null,null,null,null,null,null,null,null,null,null,null,null,null,null,null,null,null,null,null,null,null,null,null,null,null,null,null,null,null,null,null,null,null,null,null,null,null,null,null,null,null,null,null,null,null,null,null,null,null,null,null,null,null,null,null,null,null,null,null,null,null,null,null,null,null,null,null,null,null,null,null,null,null,null,null,null,null,null,null,null,null,null,null,null,null,null,null,null,null,null,null,null,null,null,null,null,null,null,null,null,null,null,null,null,null,null,null,null,null,null,null,null,null,null,null,null,null,null,null,null,null,null,null,null,null,null,null,null,null,null,null,null,null,null,null,null,null,null,null,null,null,null,null,null,null,null,null,null,null,null,null,null,null,null,null,null,null,null,null,null,null,null,null,null,null,null,null,null,null,null,null,null,null,null,null,null,null,null,null,null,null,null,null,null,null,null,null,null,null,null,null,null,null,null,null,null,null,null,null,null,null,null,null,null,null,null,null,null,null,null,null,null,null,null,null,null,null,null,null,null,null,null,null,null,null,null,null,null,null,null,null,null,null,null,null,null,null,null,null,null,null,null,null,null,null,null,null,null,null,null,null,null,null,null,null,null,null,null,null,null,null,null,null,null,null,null,null,null,null,null,null,null,null,null,null,null,null,null,null,null,null,null,null,null,null,null,null,null,null,null,null,null,null,null,null,null,null,null,null,null,null,null,null,null,null,null,null,null,null,null,null,null,null,null,null,null,null,null,null,null,null,null,null,null,null,null,null,null,null,null,null,null,null,null,null,null,null,null,null,null,null,null,null,null,null,null,null,null,null,null,null,null,null,null,null,null,null,null,null,null,null,null,null,null,null,null,null,null,null,null,null,null,null,null,null,null,null,null,null,null,null,null,null,"نقطه شروع رج(چپ)","مولفه افقی","مولفه عمودی"]
[null,null,null,null,null,null,null,null,null,null,null,null,null,null,null,null,null,null,null,null,null,null,null,null,null,null,null,null,null,null,null,null,null,null,null,null,null,null,null,null,null,null,null,null,null,null,null,null,null,null,null,null,null,null,null,null,null,null,null,null,null,null,null,null,null,null,null,null,null,null,null,null,null,null,null,null,null,null,null,null,null,null,null,null,null,null,null,null,null,null,null,null,null,null,null,null,null,null,null,null,null,null,null,null,null,null,null,null,null,null,null,null,null,null,null,null,null,null,null,null,null,null,null,null,null,null,null,null,null,null,null,null,null,null,null,null,null,null,null,null,null,null,null,null,null,null,null,null,null,null,null,null,null,null,null,null,null,null,null,null,null,null,null,null,null,null,null,null,null,null,null,null,null,null,null,null,null,null,null,null,null,null,null,null,null,null,null,null,null,null,null,null,null,null,null,null,null,null,null,null,null,null,null,null,null,null,null,null,null,null,null,null,null,null,null,null,null,null,null,null,null,null,null,null,null,null,null,null,null,null,null,null,null,null,null,null,null,null,null,null,null,null,null,null,null,null,null,null,null,null,null,null,null,null,null,null,null,null,null,null,null,null,null,null,null,null,null,null,null,null,null,null,null,null,null,null,null,null,null,null,null,null,null,null,null,null,null,null,null,null,null,null,null,null,null,null,null,null,null,null,null,null,null,null,null,null,null,null,null,null,null,null,null,null,null,null,null,null,null,null,null,null,null,null,null,null,null,null,null,null,null,null,null,null,null,null,null,null,null,null,null,null,null,null,null,null,null,null,null,null,null,null,null,null,null,null,null,null,null,null,null,null,null,null,null,null,null,null,null,null,null,null,null,null,null,null,null,null,null,null,null,null,null,null,null,null,null,null,null,null,null,null,null,null,null,null,null,null,null,null,null,null,null,null,null,null,null,null,null,null,"m'2",{"$f":"OR34+0.5*(OQ60-OR34)","v":1.5350000000000001},{"$f":"OR60-2*OR37","v":1.1680672268907564},{"$f":"OV1119","v":12.352500000000003},{"$f":"OW1119","v":1.4180672268907564},{"$f":"OU1119","v":"h10"}]
[null,null,null,null,null,null,null,null,null,null,null,null,null,null,null,null,null,null,null,null,null,null,null,null,null,null,null,null,null,null,null,null,null,null,null,null,null,null,null,null,null,null,null,null,null,null,null,null,null,null,null,null,null,null,null,null,null,null,null,null,null,null,null,null,null,null,null,null,null,null,null,null,null,null,null,null,null,null,null,null,null,null,null,null,null,null,null,null,null,null,null,null,null,null,null,null,null,null,null,null,null,null,null,null,null,null,null,null,null,null,null,null,null,null,null,null,null,null,null,null,null,null,null,null,null,null,null,null,null,null,null,null,null,null,null,null,null,null,null,null,null,null,null,null,null,null,null,null,null,null,null,null,null,null,null,null,null,null,null,null,null,null,null,null,null,null,null,null,null,null,null,null,null,null,null,null,null,null,null,null,null,null,null,null,null,null,null,null,null,null,null,null,null,null,null,null,null,null,null,null,null,null,null,null,null,null,null,null,null,null,null,null,null,null,null,null,null,null,null,null,null,null,null,null,null,null,null,null,null,null,null,null,null,null,null,null,null,null,null,null,null,null,null,null,null,null,null,null,null,null,null,null,null,null,null,null,null,null,null,null,null,null,null,null,null,null,null,null,null,null,null,null,null,null,null,null,null,null,null,null,null,null,null,null,null,null,null,null,null,null,null,null,null,null,null,null,null,null,null,null,null,null,null,null,null,null,null,null,null,null,null,null,null,null,null,null,null,null,null,null,null,null,null,null,null,null,null,null,null,null,null,null,null,null,null,null,null,null,null,null,null,null,null,null,null,null,null,null,null,null,null,null,null,null,null,null,null,null,null,null,null,null,null,null,null,null,null,null,null,null,null,null,null,null,null,null,null,null,null,null,null,null,null,null,null,null,null,null,null,null,null,null,null,null,null,null,null,null,null,null,null,null,null,null,null,null,null,null,null,null,"نقطه پایان رج(راست)","مولفه افقی","مولفه عمودی",{"$f":"OV1122","v":22.252500000000001},{"$f":"OW1122","v":1.4180672268907564},{"$f":"OU1122","v":"h13"}]
[null,null,null,null,null,null,null,null,null,null,null,null,null,null,null,null,null,null,null,null,null,null,null,null,null,null,null,null,null,null,null,null,null,null,null,null,null,null,null,null,null,null,null,null,null,null,null,null,null,null,null,null,null,null,null,null,null,null,null,null,null,null,null,null,null,null,null,null,null,null,null,null,null,null,null,null,null,null,null,null,null,null,null,null,null,null,null,null,null,null,null,null,null,null,null,null,null,null,null,null,null,null,null,null,null,null,null,null,null,null,null,null,null,null,null,null,null,null,null,null,null,null,null,null,null,null,null,null,null,null,null,null,null,null,null,null,null,null,null,null,null,null,null,null,null,null,null,null,null,null,null,null,null,null,null,null,null,null,null,null,null,null,null,null,null,null,null,null,null,null,null,null,null,null,null,null,null,null,null,null,null,null,null,null,null,null,null,null,null,null,null,null,null,null,null,null,null,null,null,null,null,null,null,null,null,null,null,null,null,null,null,null,null,null,null,null,null,null,null,null,null,null,null,null,null,null,null,null,null,null,null,null,null,null,null,null,null,null,null,null,null,null,null,null,null,null,null,null,null,null,null,null,null,null,null,null,null,null,null,null,null,null,null,null,null,null,null,null,null,null,null,null,null,null,null,null,null,null,null,null,null,null,null,null,null,null,null,null,null,null,null,null,null,null,null,null,null,null,null,null,null,null,null,null,null,null,null,null,null,null,null,null,null,null,null,null,null,null,null,null,null,null,null,null,null,null,null,null,null,null,null,null,null,null,null,null,null,null,null,null,null,null,null,null,null,null,null,null,null,null,null,null,null,null,null,null,null,null,null,null,null,null,null,null,null,null,null,null,null,null,null,null,null,null,null,null,null,null,null,null,null,null,null,null,null,null,null,null,null,null,null,null,null,null,null,null,null,null,null,null,null,null,null,null,null,null,null,null,null,null,"m2",{"$f":"OQ60","v":33.07},{"$f":"OR60-2*OR37","v":1.1680672268907564}]
[null,null,null,null,null,null,null,null,null,null,null,null,null,null,null,null,null,null,null,null,null,null,null,null,null,null,null,null,null,null,null,null,null,null,null,null,null,null,null,null,null,null,null,null,null,null,null,null,null,null,null,null,null,null,null,null,null,null,null,null,null,null,null,null,null,null,null,null,null,null,null,null,null,null,null,null,null,null,null,null,null,null,null,null,null,null,null,null,null,null,null,null,null,null,null,null,null,null,null,null,null,null,null,null,null,null,null,null,null,null,null,null,null,null,null,null,null,null,null,null,null,null,null,null,null,null,null,null,null,null,null,null,null,null,null,null,null,null,null,null,null,null,null,null,null,null,null,null,null,null,null,null,null,null,null,null,null,null,null,null,null,null,null,null,null,null,null,null,null,null,null,null,null,null,null,null,null,null,null,null,null,null,null,null,null,null,null,null,null,null,null,null,null,null,null,null,null,null,null,null,null,null,null,null,null,null,null,null,null,null,null,null,null,null,null,null,null,null,null,null,null,null,null,null,null,null,null,null,null,null,null,null,null,null,null,null,null,null,null,null,null,null,null,null,null,null,null,null,null,null,null,null,null,null,null,null,null,null,null,null,null,null,null,null,null,null,null,null,null,null,null,null,null,null,null,null,null,null,null,null,null,null,null,null,null,null,null,null,null,null,null,null,null,null,null,null,null,null,null,null,null,null,null,null,null,null,null,null,null,null,null,null,null,null,null,null,null,null,null,null,null,null,null,null,null,null,null,null,null,null,null,null,null,null,null,null,null,null,null,null,null,null,null,null,null,null,null,null,null,null,null,null,null,null,null,null,null,null,null,null,null,null,null,null,null,null,null,null,null,null,null,null,null,null,null,null,null,null,null,null,null,null,null,null,null,null,null,null,null,null,null,null,null,null,null,null,null,null,null,null,null,null,null,null,null,null,null,null,null,null,"h5",{"$f":"OV1113+0.5*(OV1115-OV1113)","v":17.302500000000002},{"$f":"OW1113","v":1.1680672268907564},{"$f":"OV1120","v":12.352500000000003},{"$f":"OW1120","v":0.91806722689075637},{"$f":"OU1120","v":"h11"}]
[null,null,null,null,null,null,null,null,null,null,null,null,null,null,null,null,null,null,null,null,null,null,null,null,null,null,null,null,null,null,null,null,null,null,null,null,null,null,null,null,null,null,null,null,null,null,null,null,null,null,null,null,null,null,null,null,null,null,null,null,null,null,null,null,null,null,null,null,null,null,null,null,null,null,null,null,null,null,null,null,null,null,null,null,null,null,null,null,null,null,null,null,null,null,null,null,null,null,null,null,null,null,null,null,null,null,null,null,null,null,null,null,null,null,null,null,null,null,null,null,null,null,null,null,null,null,null,null,null,null,null,null,null,null,null,null,null,null,null,null,null,null,null,null,null,null,null,null,null,null,null,null,null,null,null,null,null,null,null,null,null,null,null,null,null,null,null,null,null,null,null,null,null,null,null,null,null,null,null,null,null,null,null,null,null,null,null,null,null,null,null,null,null,null,null,null,null,null,null,null,null,null,null,null,null,null,null,null,null,null,null,null,null,null,null,null,null,null,null,null,null,null,null,null,null,null,null,null,null,null,null,null,null,null,null,null,null,null,null,null,null,null,null,null,null,null,null,null,null,null,null,null,null,null,null,null,null,null,null,null,null,null,null,null,null,null,null,null,null,null,null,null,null,null,null,null,null,null,null,null,null,null,null,null,null,null,null,null,null,null,null,null,null,null,null,null,null,null,null,null,null,null,null,null,null,null,null,null,null,null,null,null,null,null,null,null,null,null,null,null,null,null,null,null,null,null,null,null,null,null,null,null,null,null,null,null,null,null,null,null,null,null,null,null,null,null,null,null,null,null,null,null,null,null,null,null,null,null,null,null,null,null,null,null,null,null,null,null,null,null,null,null,null,null,null,null,null,null,null,null,null,null,null,null,null,null,null,null,null,null,null,null,null,null,null,null,null,null,null,null,null,null,null,null,null,null,null,null,null,null,"h8",{"$f":"OV1116-0.5*OV1110","v":12.352500000000003},{"$f":"OW1113","v":1.1680672268907564},{"$f":"OV1121","v":22.252500000000001},{"$f":"OW1121","v":0.91806722689075637},{"$f":"OU1121","v":"h12"}]
[null,null,null,null,null,null,null,null,null,null,null,null,null,null,null,null,null,null,null,null,null,null,null,null,null,null,null,null,null,null,null,null,null,null,null,null,null,null,null,null,null,null,null,null,null,null,null,null,null,null,null,null,null,null,null,null,null,null,null,null,null,null,null,null,null,null,null,null,null,null,null,null,null,null,null,null,null,null,null,null,null,null,null,null,null,null,null,null,null,null,null,null,null,null,null,null,null,null,null,null,null,null,null,null,null,null,null,null,null,null,null,null,null,null,null,null,null,null,null,null,null,null,null,null,null,null,null,null,null,null,null,null,null,null,null,null,null,null,null,null,null,null,null,null,null,null,null,null,null,null,null,null,null,null,null,null,null,null,null,null,null,null,null,null,null,null,null,null,null,null,null,null,null,null,null,null,null,null,null,null,null,null,null,null,null,null,null,null,null,null,null,null,null,null,null,null,null,null,null,null,null,null,null,null,null,null,null,null,null,null,null,null,null,null,null,null,null,null,null,null,null,null,null,null,null,null,null,null,null,null,null,null,null,null,null,null,null,null,null,null,null,null,null,null,null,null,null,null,null,null,null,null,null,null,null,null,null,null,null,null,null,null,null,null,null,null,null,null,null,null,null,null,null,null,null,null,null,null,null,null,null,null,null,null,null,null,null,null,null,null,null,null,null,null,null,null,null,null,null,null,null,null,null,null,null,null,null,null,null,null,null,null,null,null,null,null,null,null,null,null,null,null,null,null,null,null,null,null,null,null,null,null,null,null,null,null,null,null,null,null,null,null,null,null,null,null,null,null,null,null,null,null,null,null,null,null,null,null,null,null,null,null,null,null,null,null,null,null,null,null,null,null,null,null,null,null,null,null,null,null,null,null,null,null,null,null,null,null,null,null,null,null,null,null,null,null,null,null,null,null,null,null,null,null,null,null,null,null,null,null,"h9",{"$f":"OV1116+0.5*OV1110","v":22.252500000000001},{"$f":"OW1113","v":1.1680672268907564}]
[null,null,null,null,null,null,null,null,null,null,null,null,null,null,null,null,null,null,null,null,null,null,null,null,null,null,null,null,null,null,null,null,null,null,null,null,null,null,null,null,null,null,null,null,null,null,null,null,null,null,null,null,null,null,null,null,null,null,null,null,null,null,null,null,null,null,null,null,null,null,null,null,null,null,null,null,null,null,null,null,null,null,null,null,null,null,null,null,null,null,null,null,null,null,null,null,null,null,null,null,null,null,null,null,null,null,null,null,null,null,null,null,null,null,null,null,null,null,null,null,null,null,null,null,null,null,null,null,null,null,null,null,null,null,null,null,null,null,null,null,null,null,null,null,null,null,null,null,null,null,null,null,null,null,null,null,null,null,null,null,null,null,null,null,null,null,null,null,null,null,null,null,null,null,null,null,null,null,null,null,null,null,null,null,null,null,null,null,null,null,null,null,null,null,null,null,null,null,null,null,null,null,null,null,null,null,null,null,null,null,null,null,null,null,null,null,null,null,null,null,null,null,null,null,null,null,null,null,null,null,null,null,null,null,null,null,null,null,null,null,null,null,null,null,null,null,null,null,null,null,null,null,null,null,null,null,null,null,null,null,null,null,null,null,null,null,null,null,null,null,null,null,null,null,null,null,null,null,null,null,null,null,null,null,null,null,null,null,null,null,null,null,null,null,null,null,null,null,null,null,null,null,null,null,null,null,null,null,null,null,null,null,null,null,null,null,null,null,null,null,null,null,null,null,null,null,null,null,null,null,null,null,null,null,null,null,null,null,null,null,null,null,null,null,null,null,null,null,null,null,null,null,null,null,null,null,null,null,null,null,null,null,null,null,null,null,null,null,null,null,null,null,null,null,null,null,null,null,null,null,null,null,null,null,null,null,null,null,null,null,null,null,null,null,null,null,null,null,null,null,null,null,null,null,null,null,null,null,null,null,"h10",{"$f":"OV1117","v":12.352500000000003},{"$f":"OW1117+0.5*OV1111","v":1.4180672268907564},{"$f":"OV1121","v":22.252500000000001},{"$f":"OW1121","v":0.91806722689075637},{"$f":"OU1121","v":"h12"}]
[null,null,null,null,null,null,null,null,null,null,null,null,null,null,null,null,null,null,null,null,null,null,null,null,null,null,null,null,null,null,null,null,null,null,null,null,null,null,null,null,null,null,null,null,null,null,null,null,null,null,null,null,null,null,null,null,null,null,null,null,null,null,null,null,null,null,null,null,null,null,null,null,null,null,null,null,null,null,null,null,null,null,null,null,null,null,null,null,null,null,null,null,null,null,null,null,null,null,null,null,null,null,null,null,null,null,null,null,null,null,null,null,null,null,null,null,null,null,null,null,null,null,null,null,null,null,null,null,null,null,null,null,null,null,null,null,null,null,null,null,null,null,null,null,null,null,null,null,null,null,null,null,null,null,null,null,null,null,null,null,null,null,null,null,null,null,null,null,null,null,null,null,null,null,null,null,null,null,null,null,null,null,null,null,null,null,null,null,null,null,null,null,null,null,null,null,null,null,null,null,null,null,null,null,null,null,null,null,null,null,null,null,null,null,null,null,null,null,null,null,null,null,null,null,null,null,null,null,null,null,null,null,null,null,null,null,null,null,null,null,null,null,null,null,null,null,null,null,null,null,null,null,null,null,null,null,null,null,null,null,null,null,null,null,null,null,null,null,null,null,null,null,null,null,null,null,null,null,null,null,null,null,null,null,null,null,null,null,null,null,null,null,null,null,null,null,null,null,null,null,null,null,null,null,null,null,null,null,null,null,null,null,null,null,null,null,null,null,null,null,null,null,null,null,null,null,null,null,null,null,null,null,null,null,null,null,null,null,null,null,null,null,null,null,null,null,null,null,null,null,null,null,null,null,null,null,null,null,null,null,null,null,null,null,null,null,null,null,null,null,null,null,null,null,null,null,null,null,null,null,null,null,null,null,null,null,null,null,null,null,null,null,null,null,null,null,null,null,null,null,null,null,null,null,null,null,null,null,null,null,"h11",{"$f":"OV1117","v":12.352500000000003},{"$f":"OW1117-0.5*OV1111","v":0.91806722689075637},{"$f":"OV1122","v":22.252500000000001},{"$f":"OW1122","v":1.4180672268907564},{"$f":"OU1122","v":"h13"}]
[null,null,null,null,null,null,null,null,null,null,null,null,null,null,null,null,null,null,null,null,null,null,null,null,null,null,null,null,null,null,null,null,null,null,null,null,null,null,null,null,null,null,null,null,null,null,null,null,null,null,null,null,null,null,null,null,null,null,null,null,null,null,null,null,null,null,null,null,null,null,null,null,null,null,null,null,null,null,null,null,null,null,null,null,null,null,null,null,null,null,null,null,null,null,null,null,null,null,null,null,null,null,null,null,null,null,null,null,null,null,null,null,null,null,null,null,null,null,null,null,null,null,null,null,null,null,null,null,null,null,null,null,null,null,null,null,null,null,null,null,null,null,null,null,null,null,null,null,null,null,null,null,null,null,null,null,null,null,null,null,null,null,null,null,null,null,null,null,null,null,null,null,null,null,null,null,null,null,null,null,null,null,null,null,null,null,null,null,null,null,null,null,null,null,null,null,null,null,null,null,null,null,null,null,null,null,null,null,null,null,null,null,null,null,null,null,null,null,null,null,null,null,null,null,null,null,null,null,null,null,null,null,null,null,null,null,null,null,null,null,null,null,null,null,null,null,null,null,null,null,null,null,null,null,null,null,null,null,null,null,null,null,null,null,null,null,null,null,null,null,null,null,null,null,null,null,null,null,null,null,null,null,null,null,null,null,null,null,null,null,null,null,null,null,null,null,null,null,null,null,null,null,null,null,null,null,null,null,null,null,null,null,null,null,null,null,null,null,null,null,null,null,null,null,null,null,null,null,null,null,null,null,null,null,null,null,null,null,null,null,null,null,null,null,null,null,null,null,null,null,null,null,null,null,null,null,null,null,null,null,null,null,null,null,null,null,null,null,null,null,null,null,null,null,null,null,null,null,null,null,null,null,null,null,null,null,null,null,null,null,null,null,null,null,null,null,null,null,null,null,null,null,null,null,null,null,null,null,null,null,"h12",{"$f":"OV1118","v":22.252500000000001},{"$f":"OW1120","v":0.91806722689075637}]
[null,null,null,null,null,null,null,null,null,null,null,null,null,null,null,null,null,null,null,null,null,null,null,null,null,null,null,null,null,null,null,null,null,null,null,null,null,null,null,null,null,null,null,null,null,null,null,null,null,null,null,null,null,null,null,null,null,null,null,null,null,null,null,null,null,null,null,null,null,null,null,null,null,null,null,null,null,null,null,null,null,null,null,null,null,null,null,null,null,null,null,null,null,null,null,null,null,null,null,null,null,null,null,null,null,null,null,null,null,null,null,null,null,null,null,null,null,null,null,null,null,null,null,null,null,null,null,null,null,null,null,null,null,null,null,null,null,null,null,null,null,null,null,null,null,null,null,null,null,null,null,null,null,null,null,null,null,null,null,null,null,null,null,null,null,null,null,null,null,null,null,null,null,null,null,null,null,null,null,null,null,null,null,null,null,null,null,null,null,null,null,null,null,null,null,null,null,null,null,null,null,null,null,null,null,null,null,null,null,null,null,null,null,null,null,null,null,null,null,null,null,null,null,null,null,null,null,null,null,null,null,null,null,null,null,null,null,null,null,null,null,null,null,null,null,null,null,null,null,null,null,null,null,null,null,null,null,null,null,null,null,null,null,null,null,null,null,null,null,null,null,null,null,null,null,null,null,null,null,null,null,null,null,null,null,null,null,null,null,null,null,null,null,null,null,null,null,null,null,null,null,null,null,null,null,null,null,null,null,null,null,null,null,null,null,null,null,null,null,null,null,null,null,null,null,null,null,null,null,null,null,null,null,null,null,null,null,null,null,null,null,null,null,null,null,null,null,null,null,null,null,null,null,null,null,null,null,null,null,null,null,null,null,null,null,null,null,null,null,null,null,null,null,null,null,null,null,null,null,null,null,null,null,null,null,null,null,null,null,null,null,null,null,null,null,null,null,null,null,null,null,null,null,null,null,null,null,null,null,null,"h13",{"$f":"OV1118","v":22.252500000000001},{"$f":"OW1119","v":1.4180672268907564},{"$f":"OV1116","v":17.302500000000002},{"$f":"OW1116","v":1.1680672268907564},{"$f":"OU1116","v":"h5"}]
[]
[null,null,null,null,null,null,null,null,null,null,null,null,null,null,null,null,null,null,null,null,null,null,null,null,null,null,null,null,null,null,null,null,null,null,null,null,null,null,null,null,null,null,null,null,null,null,null,null,null,null,null,null,null,null,null,null,null,null,null,null,null,null,null,null,null,null,null,null,null,null,null,null,null,null,null,null,null,null,null,null,null,null,null,null,null,null,null,null,null,null,null,null,null,null,null,null,null,null,null,null,null,null,null,null,null,null,null,null,null,null,null,null,null,null,null,null,null,null,null,null,null,null,null,null,null,null,null,null,null,null,null,null,null,null,null,null,null,null,null,null,null,null,null,null,null,null,null,null,null,null,null,null,null,null,null,null,null,null,null,null,null,null,null,null,null,null,null,null,null,null,null,null,null,null,null,null,null,null,null,null,null,null,null,null,null,null,null,null,null,null,null,null,null,null,null,null,null,null,null,null,null,null,null,null,null,null,null,null,null,null,null,null,null,null,null,null,null,null,null,null,null,null,null,null,null,null,null,null,null,null,null,null,null,null,null,null,null,null,null,null,null,null,null,null,null,null,null,null,null,null,null,null,null,null,null,null,null,null,null,null,null,null,null,null,null,null,null,null,null,null,null,null,null,null,null,null,null,null,null,null,null,null,null,null,null,null,null,null,null,null,null,null,null,null,null,null,null,null,null,null,null,null,null,null,null,null,null,null,null,null,null,null,null,null,null,null,null,null,null,null,null,null,null,null,null,null,null,null,null,null,null,null,null,null,null,null,null,null,null,null,null,null,null,null,null,null,null,null,null,null,null,null,null,null,null,null,null,null,null,null,null,null,null,null,null,null,null,null,null,null,null,null,null,null,null,null,null,null,null,null,null,null,null,null,null,null,null,null,null,null,null,null,null,null,null,null,null,null,null,null,null,null,null,null,null,null,null,null,null,null,null,null,null,{"$f":"OR34+0.25*(OQ60-OR34)","v":-14.2325},{"$f":"OR60-1*OR37","v":1.5840336134453783},"m'1"]
[]
[null,null,null,null,null,null,null,null,null,null,null,null,null,null,null,null,null,null,null,null,null,null,null,null,null,null,null,null,null,null,null,null,null,null,null,null,null,null,null,null,null,null,null,null,null,null,null,null,null,null,null,null,null,null,null,null,null,null,null,null,null,null,null,null,null,null,null,null,null,null,null,null,null,null,null,null,null,null,null,null,null,null,null,null,null,null,null,null,null,null,null,null,null,null,null,null,null,null,null,null,null,null,null,null,null,null,null,null,null,null,null,null,null,null,null,null,null,null,null,null,null,null,null,null,null,null,null,null,null,null,null,null,null,null,null,null,null,null,null,null,null,null,null,null,null,null,null,null,null,null,null,null,null,null,null,null,null,null,null,null,null,null,null,null,null,null,null,null,null,null,null,null,null,null,null,null,null,null,null,null,null,null,null,null,null,null,null,null,null,null,null,null,null,null,null,null,null,null,null,null,null,null,null,null,null,null,null,null,null,null,null,null,null,null,null,null,null,null,null,null,null,null,null,null,null,null,null,null,null,null,null,null,null,null,null,null,null,null,null,null,null,null,null,null,null,null,null,null,null,null,null,null,null,null,null,null,null,null,null,null,null,null,null,null,null,null,null,null,null,null,null,null,null,null,null,null,null,null,null,null,null,null,null,null,null,null,null,null,null,null,null,null,null,null,null,null,null,null,null,null,null,null,null,null,null,null,null,null,null,null,null,null,null,null,null,null,null,null,null,null,null,null,null,null,null,null,null,null,null,null,null,null,null,null,null,null,null,null,null,null,null,null,null,null,null,null,null,null,null,null,null,null,null,null,null,null,null,null,null,null,null,null,null,null,null,null,null,null,null,null,null,null,null,null,null,null,null,null,null,null,null,null,null,null,null,null,null,null,null,null,null,null,null,null,null,null,null,null,null,null,null,null,null,null,null,null,null,null,null,null,null,null,null,{"$f":"OR34+0.75*(OQ60-OR34)","v":17.302500000000002},{"$f":"OR60-1*OR37","v":1.5840336134453783},"m''1"]

{"sheet":"متغیرها ","index":2,"n_rows":862,"n_cols":149,"rows_kept":862,"cut":false,"hidden":true,"merged":[]}
[]
[]
["متغیرهای ورودی چادر",null,null,null,"تبدیل رنج متغیر ورودی","توضیح متغیر ورودی برای صفحه نمایش"]
[" متغیر ورودی چادر شماره 1 یا مقنعه ",null,null,null,null," متغیر ورودی چادر شماره 1 یا مقنعه ","x1","y1","x2","y2(بهینه)","a","b",null,"کمترین",null,"بیشترین",null,null,null,null,"انتخاب ستون سلول مرجع برای انتخاب سایز در رسم الگو","انتخاب نوع الگو","انتخاب نوع اندازه گیری","اندازه جدید یا اندازه موجود","انتخاب ستون سلول مرجع برای انتخاب سایز در بررسی اندازه ها"]
["ضریب فاصله لبه چادر یا مقنعه تا زمین   j0","(از -0.1 الی 4.5)",{"$f":"K5*E5+L5","v":3},"خط زمین=0 \nخط زانو=1 \nخط باسن=2 \nخط کمر=3 \nخط سینه=4  ",{"$f":"'طراحی همه الگوها'!Q177","v":70},"ضریب فاصله لبه چادر یا مقنعه تا زمین   ",10,0,30,1,{"$f":"(J5-H5)/(I5-G5)","v":0.05},{"$f":"H5-G5*K5","v":-0.5},2,{"$f":"(M5-L5)/K5","v":50},4,{"$f":"(O5-L5)/K5","v":90},3,{"$f":"(Q5-L5)/K5","v":70},null,"سلول مرجع",{"$f":"MATCH('الگوهای مدل 39'!D4,'متغیرها '!AJ51:AJ179,0)","v":7},1,3,2,32]
["انتخاب چادر تا پایین پیشانی=1    انتخاب چادر تا بالای پیشانی=0\nانتخاب چادر روی سر = -1"," -1 یا 0 یا 1",{"$f":"K6*E6+L6","v":0},null,{"$f":"'طراحی همه الگوها'!Q178","v":2},"انتخاب چادر تا پایین پیشانی=3    انتخاب چادر تا بالای پیشانی=2\nانتخاب چادر روی سر = 1",2,0,1,-1,{"$f":"(J6-H6)/(I6-G6)","v":1},{"$f":"H6-G6*K6","v":-2},0,{"$f":"(M6-L6)/K6","v":2},2,{"$f":"(O6-L6)/K6","v":4},1,{"$f":"(Q6-L6)/K6","v":3},null,null," 1ماهه","1 تا 3 ماهه"," 3 تا 6 ماهه","6ماهه تا یکساله","بچگانه 1 ساله","بچگانه 2 ساله","بچگانه 3 ساله","بچگانه 4 ساله","بچگانه 5 ساله","بچگانه 6 ساله","بچگانه 7 ساله","بچگانه 8 ساله","بچگانه 9 ساله","بچگانه 10 ساله","بچگانه 11 ساله","بچگانه 12 ساله","بچگانه 13 ساله","بچگانه 14 ساله","34زنانه","36زنانه","38زنانه","40زنانه","42زنانه","44زنانه","46زنانه","48زنانه","50زنانه","52زنانه","54زنانه","56زنانه","58زنانه","60زنانه","37 مردانه","38 مردانه","39 مردانه","40 مردانه","41 مردانه","42 مردانه","43 مردانه","44 مردانه","45 مردانه","46 مردانه","47 مردانه","48 مردانه","49 مردانه","50 مردانه","6ماهه تا یکساله کت","1ساله کت","2ساله کت","3ساله کت","4ساله کت","5ساله کت","6ساله کت","7ساله کت","8ساله کت","9ساله کت","10ساله کت","11ساله کت","12ساله کت","13ساله کت","14ساله کت","34زنانه کمر پهن","36زنانه کمر پهن","38زنانه کمر پهن","40زنانه کمر پهن","42زنانه کمر پهن","44زنانه کمر پهن","46زنانه کمر پهن","48زنانه کمر پهن","50زنانه کمر پهن","52زنانه کمر پهن","54زنانه کمر پهن","56زنانه کمر پهن","58زنانه کمر پهن","60زنانه کمر پهن","37مردانه کت","38مردانه کت","39مردانه کت","40مردانه کت","41مردانه کت","42مردانه کت","43مردانه کت","44مردانه کت","45مردانه کت","46 مردانه کت","47 مردانه کت","48 مردانه کت","49 مردانه کت","50 مردانه کت",{"$f":"'اندازه های شخصی'!G5","v":"عنوان 1"},{"$f":"'اندازه های شخصی'!I5","v":"عنوان 2"},{"$f":"'اندازه های شخصی'!K5","v":"عنوان 3"},{"$f":"'اندازه های شخصی'!M5","v":"عنوان 4"},{"$f":"'اندازه های شخصی'!O5","v":"عنوان 5"},{"$f":"'اندازه های شخصی'!Q5","v":"عنوان 6"},{"$f":"'اندازه های شخصی'!S5","v":"عنوان 7"},{"$f":"'اندازه های شخصی'!U5","v":"عنوان 8"},{"$f":"'اندازه های شخصی'!W5","v":"عنوان 9"},{"$f":"'اندازه های شخصی'!Y5","v":"عنوان 10"},{"$f":"'اندازه های شخصی'!AA5","v":"عنوان 11"},{"$f":"'اندازه های شخصی'!AC5","v":"عنوان 12"},{"$f":"'اندازه های شخصی'!AE5","v":"عنوان 13"},{"$f":"'اندازه های شخصی'!AG5","v":"عنوان 14"},{"$f":"'اندازه های شخصی'!AI5","v":"عنوان 15"},{"$f":"'اندازه های شخصی'!AK5","v":"عنوان 16"},{"$f":"'اندازه های شخصی'!AM5","v":"عنوان 17"},{"$f":"'اندازه های شخصی'!AO5","v":"عنوان 18"},{"$f":"'اندازه های شخصی'!AQ5","v":"عنوان 19"},{"$f":"'اندازه های شخصی'!AS5","v":"عنوان 20"},{"$f":"'اندازه های شخصی'!AU5","v":"عنوان 21"},{"$f":"'اندازه های شخصی'!AW5","v":"عنوان 22"},{"$f":"'اندازه های شخصی'!AY5","v":"عنوان 23"},{"$f":"'اندازه های شخصی'!BA5","v":"عنوان 24"},{"$f":"'اندازه های شخصی'!BC5","v":"عنوان 25"},{"$f":"'اندازه های شخصی'!BE5","v":"عنوان 26"},{"$f":"'اندازه های شخصی'!BG5","v":"عنوان 27"},{"$f":"'اندازه های شخصی'!BI5","v":"عنوان 28"},{"$f":"'اندازه های شخصی'!BK5","v":"عنوان 29"},{"$f":"'اندازه های شخصی'!BM5","v":"عنوان 30"},{"$f":"'اندازه های شخصی'!BO5","v":"عنوان 31"},{"$f":"'اندازه های شخصی'!BQ5","v":"عنوان 32"},{"$f":"'اندازه های شخصی'!BS5","v":"عنوان 33"},{"$f":"'اندازه های شخصی'!BU5","v":"عنوان 34"},{"$f":"'اندازه های شخصی'!BW5","v":"عنوان 35"},{"$f":"'اندازه های شخصی'!BY5","v":"عنوان 36"},{"$f":"'اندازه های شخصی'!CA5","v":"عنوان 37"},{"$f":"'اندازه های شخصی'!CC5","v":"عنوان 38"},{"$f":"'اندازه های شخصی'!CE5","v":"عنوان 39"},{"$f":"'اندازه های شخصی'!CG5","v":"عنوان 40"}]
[null,null,null,null,null,null,null,null,null,null,null,null,null,null,null,null,null,null,null,"a",41,42,45,47,48,49,51,53,55,57,59,61,63,65.5,68,71,73,75,63,65,68,72,77,82,87,92,97,103,110,117,124,131,74,78,82,86,90,94,98,102,106,111,116,121,126,131,47,48,49,51,53,55,57,59,61,63,65.5,68,71,73,75,67,69,72,76,81,86,91,96,101,107,114,121,127,135,75.5,79.599999999999994,83.6,87.7,91.8,95.9,100,104,108.1,113.2,118.3,123.4,128.5,133.6,{"$f":"'اندازه های شخصی'!G8","v":0},{"$f":"'اندازه های شخصی'!I8","v":0},{"$f":"'اندازه های شخصی'!K8","v":0},{"$f":"'اندازه های شخصی'!M8","v":0},{"$f":"'اندازه های شخصی'!O8","v":0},{"$f":"'اندازه های شخصی'!Q8","v":0},{"$f":"'اندازه های شخصی'!S8","v":0},{"$f":"'اندازه های شخصی'!U8","v":0},{"$f":"'اندازه های شخصی'!W8","v":0},{"$f":"'اندازه های شخصی'!Y8","v":0},{"$f":"'اندازه های شخصی'!AA8","v":0},{"$f":"'اندازه های شخصی'!AC8","v":0},{"$f":"'اندازه های شخصی'!AE8","v":0},{"$f":"'اندازه های شخصی'!AG8","v":0},{"$f":"'اندازه های شخصی'!AI8","v":0},{"$f":"'اندازه های شخصی'!AK8","v":0},{"$f":"'اندازه های شخصی'!AM8","v":0},{"$f":"'اندازه های شخصی'!AO8","v":0},{"$f":"'اندازه های شخصی'!AQ8","v":0},{"$f":"'اندازه های شخصی'!AS8","v":0},{"$f":"'اندازه های شخصی'!AU8","v":0},{"$f":"'اندازه های شخصی'!AW8","v":0},{"$f":"'اندازه های شخصی'!AY8","v":0},{"$f":"'اندازه های شخصی'!BA8","v":0},{"$f":"'اندازه های شخصی'!BC8","v":0},{"$f":"'اندازه های شخصی'!BE8","v":0},{"$f":"'اندازه های شخصی'!BG8","v":0},{"$f":"'اندازه های شخصی'!BI8","v":0},{"$f":"'اندازه های شخصی'!BK8","v":0},{"$f":"'اندازه های شخصی'!BM8","v":0},{"$f":"'اندازه های شخصی'!BO8","v":0},{"$f":"'اندازه های شخصی'!BQ8","v":0},{"$f":"'اندازه های شخصی'!BS8","v":0},{"$f":"'اندازه های شخصی'!BU8","v":0},{"$f":"'اندازه های شخصی'!BW8","v":0},{"$f":"'اندازه های شخصی'!BY8","v":0},{"$f":"'اندازه های شخصی'!CA8","v":0},{"$f":"'اندازه های شخصی'!CC8","v":0},{"$f":"'اندازه های شخصی'!CE8","v":0},{"$f":"'اندازه های شخصی'!CG8","v":0}]
[" متغیرهای ورودی چادر شماره 2",null,null,null,null," متغیرهای ورودی چادر شماره 2","x1","y1","x2","y2(بهینه)","a","b",null,"کمترین",null,"بیشترین",null,null,null,"b",20.100000000000001,20.6,22.1,23,23.5,24,25,26,27,27.9,28.9,29.9,30.9,32.1,33.299999999999997,34.799999999999997,35.799999999999997,36.799999999999997,32.200000000000003,32.700000000000003,33.700000000000003,35.200000000000003,36.9,38.700000000000003,40.6,42.3,44.3,47.5,51,54.8,59.2,63.6,37,39,41,43,45,47,49,51,53,55.5,58,60.5,63,65.5,23,23.5,24,25,26,27,27.9,28.9,29.9,30.9,32.1,33.299999999999997,34.799999999999997,35.799999999999997,36.799999999999997,34.200000000000003,34.700000000000003,35.700000000000003,37.1,38.799999999999997,40.6,42.4,44.2,46.1,49.4,52.8,56.7,60.7,64.5,37.799999999999997,39.799999999999997,41.8,43.9,45.9,48,50,52,54.1,56.6,59.2,61.7,64.3,66.8,{"$f":"'اندازه های شخصی'!G9","v":0},{"$f":"'اندازه های شخصی'!I9","v":0},{"$f":"'اندازه های شخصی'!K9","v":0},{"$f":"'اندازه های شخصی'!M9","v":0},{"$f":"'اندازه های شخصی'!O9","v":0},{"$f":"'اندازه های شخصی'!Q9","v":0},{"$f":"'اندازه های شخصی'!S9","v":0},{"$f":"'اندازه های شخصی'!U9","v":0},{"$f":"'اندازه های شخصی'!W9","v":0},{"$f":"'اندازه های شخصی'!Y9","v":0},{"$f":"'اندازه های شخصی'!AA9","v":0},{"$f":"'اندازه های شخصی'!AC9","v":0},{"$f":"'اندازه های شخصی'!AE9","v":0},{"$f":"'اندازه های شخصی'!AG9","v":0},{"$f":"'اندازه های شخصی'!AI9","v":0},{"$f":"'اندازه های شخصی'!AK9","v":0},{"$f":"'اندازه های شخصی'!AM9","v":0},{"$f":"'اندازه های شخصی'!AO9","v":0},{"$f":"'اندازه های شخصی'!AQ9","v":0},{"$f":"'اندازه های شخصی'!AS9","v":0},{"$f":"'اندازه های شخصی'!AU9","v":0},{"$f":"'اندازه های شخصی'!AW9","v":0},{"$f":"'اندازه های شخصی'!AY9","v":0},{"$f":"'اندازه های شخصی'!BA9","v":0},{"$f":"'اندازه های شخصی'!BC9","v":0},{"$f":"'اندازه های شخصی'!BE9","v":0},{"$f":"'اندازه های شخصی'!BG9","v":0},{"$f":"'اندازه های شخصی'!BI9","v":0},{"$f":"'اندازه های شخصی'!BK9","v":0},{"$f":"'اندازه های شخصی'!BM9","v":0},{"$f":"'اندازه های شخصی'!BO9","v":0},{"$f":"'اندازه های شخصی'!BQ9","v":0},{"$f":"'اندازه های شخصی'!BS9","v":0},{"$f":"'اندازه های شخصی'!BU9","v":0},{"$f":"'اندازه های شخصی'!BW9","v":0},{"$f":"'اندازه های شخصی'!BY9","v":0},{"$f":"'اندازه های شخصی'!CA9","v":0},{"$f":"'اندازه های شخصی'!CC9","v":0},{"$f":"'اندازه های شخصی'!CE9","v":0},{"$f":"'اندازه های شخصی'!CG9","v":0}]
["ضریب فاصله لبه چادر تا زمین   j0","(از -0.1 الی 0.5)",{"$f":"K9*E9+L9","v":0},"خط زمین=0 \nخط زانو=1  ",{"$f":"'طراحی همه الگوها'!Q188","v":10},"ضریب فاصله لبه چادر تا زمین   ",10,0,30,1,{"$f":"(J9-H9)/(I9-G9)","v":0.05},{"$f":"H9-G9*K9","v":-0.5},-0.1,{"$f":"(M9-L9)/K9","v":8},0.5,{"$f":"(O9-L9)/K9","v":20},0,{"$f":"(Q9-L9)/K9","v":10},null,"c",43,45,48,50,53,56,59,62,65,68,71,74,77,80,83,85,89,93,85,89,93,97,102,107,112,117,122,126,132,138,144,150,92,96,100,104,108,112,116,120,124,128,132,136,140,144,50,53,56,59,62,65,68,71,74,77,80,83,85,89,93,85,89,93,97,102,107,112,117,122,126,132,138,144,150,92,96,100,104,108,112,116,120,124,128,132,136,140,144,{"$f":"'اندازه های شخصی'!G10","v":0},{"$f":"'اندازه های شخصی'!I10","v":0},{"$f":"'اندازه های شخصی'!K10","v":0},{"$f":"'اندازه های شخصی'!M10","v":0},{"$f":"'اندازه های شخصی'!O10","v":0},{"$f":"'اندازه های شخصی'!Q10","v":0},{"$f":"'اندازه های شخصی'!S10","v":0},{"$f":"'اندازه های شخصی'!U10","v":0},{"$f":"'اندازه های شخصی'!W10","v":0},{"$f":"'اندازه های شخصی'!Y10","v":0},{"$f":"'اندازه های شخصی'!AA10","v":0},{"$f":"'اندازه های شخصی'!AC10","v":0},{"$f":"'اندازه های شخصی'!AE10","v":0},{"$f":"'اندازه های شخصی'!AG10","v":0},{"$f":"'اندازه های شخصی'!AI10","v":0},{"$f":"'اندازه های شخصی'!AK10","v":0},{"$f":"'اندازه های شخصی'!AM10","v":0},{"$f":"'اندازه های شخصی'!AO10","v":0},{"$f":"'اندازه های شخصی'!AQ10","v":0},{"$f":"'اندازه های شخصی'!AS10","v":0},{"$f":"'اندازه های شخصی'!AU10","v":0},{"$f":"'اندازه های شخصی'!AW10","v":0},{"$f":"'اندازه های شخصی'!AY10","v":0},{"$f":"'اندازه های شخصی'!BA10","v":0},{"$f":"'اندازه های شخصی'!BC10","v":0},{"$f":"'اندازه های شخصی'!BE10","v":0},{"$f":"'اندازه های شخصی'!BG10","v":0},{"$f":"'اندازه های شخصی'!BI10","v":0},{"$f":"'اندازه های شخصی'!BK10","v":0},{"$f":"'اندازه های شخصی'!BM10","v":0},{"$f":"'اندازه های شخصی'!BO10","v":0},{"$f":"'اندازه های شخصی'!BQ10","v":0},{"$f":"'اندازه های شخصی'!BS10","v":0},{"$f":"'اندازه های شخصی'!BU10","v":0},{"$f":"'اندازه های شخصی'!BW10","v":0},{"$f":"'اندازه های شخصی'!BY10","v":0},{"$f":"'اندازه های شخصی'!CA10","v":0},{"$f":"'اندازه های شخصی'!CC10","v":0},{"$f":"'اندازه های شخصی'!CE10","v":0},{"$f":"'اندازه های شخصی'!CG10","v":0}]
["ضریب قرارگیری نقطه اتصال جلو چادر به پشت چادر  a0","(از 0.5 الی 1.2)",1,"روی پیشانی=0.5 \nبالای گوش=1  ",{"$f":"'طراحی همه الگوها'!Q189","v":20},"مکان نقطه اتصال جلو چادر به پشت چادر  ",10,0.5,20,1,0.05,0,0.5,10,1.2,23.999999999999996,0.5,10,null,"d",24.1,25.2,26.9,28,29.7,31.4,31.3,32.9,34.5,36,37.6,39.200000000000003,40.799999999999997,42.4,44,45.1,47.2,49.3,47.5,49,50.4,51.9,53.6,55.4,57.2,59,61,63.7,67,70.8,75.3,79.8,50.6,52.8,55,57.2,59.4,61.6,63.8,66,68.2,70.400000000000006,72.599999999999994,74.8,77,79.2,28,29.7,31.4,31.3,33.5,35.1,36.700000000000003,38.299999999999997,40,41.6,43.2,44,45.1,47.2,49.3,47.5,49,50.4,51.9,53.6,55.4,57.2,59,61,63.7,67,70.8,75.3,79.8,48.3,50.4,52.5,54.6,56.7,58.8,60.9,63,65.099999999999994,67.2,69.3,71.400000000000006,73.5,75.599999999999994,{"$f":"'اندازه های شخصی'!G11","v":0},{"$f":"'اندازه های شخصی'!I11","v":0},{"$f":"'اندازه های شخصی'!K11","v":0},{"$f":"'اندازه های شخصی'!M11","v":0},{"$f":"'اندازه های شخصی'!O11","v":0},{"$f":"'اندازه های شخصی'!Q11","v":0},{"$f":"'اندازه های شخصی'!S11","v":0},{"$f":"'اندازه های شخصی'!U11","v":0},{"$f":"'اندازه های شخصی'!W11","v":0},{"$f":"'اندازه های شخصی'!Y11","v":0},{"$f":"'اندازه های شخصی'!AA11","v":0},{"$f":"'اندازه های شخصی'!AC11","v":0},{"$f":"'اندازه های شخصی'!AE11","v":0},{"$f":"'اندازه های شخصی'!AG11","v":0},{"$f":"'اندازه های شخصی'!AI11","v":0},{"$f":"'اندازه های شخصی'!AK11","v":0},{"$f":"'اندازه های شخصی'!AM11","v":0},{"$f":"'اندازه های شخصی'!AO11","v":0},{"$f":"'اندازه های شخصی'!AQ11","v":0},{"$f":"'اندازه های شخصی'!AS11","v":0},{"$f":"'اندازه های شخصی'!AU11","v":0},{"$f":"'اندازه های شخصی'!AW11","v":0},{"$f":"'اندازه های شخصی'!AY11","v":0},{"$f":"'اندازه های شخصی'!BA11","v":0},{"$f":"'اندازه های شخصی'!BC11","v":0},{"$f":"'اندازه های شخصی'!BE11","v":0},{"$f":"'اندازه های شخصی'!BG11","v":0},{"$f":"'اندازه های شخصی'!BI11","v":0},{"$f":"'اندازه های شخصی'!BK11","v":0},{"$f":"'اندازه های شخصی'!BM11","v":0},{"$f":"'اندازه های شخصی'!BO11","v":0},{"$f":"'اندازه های شخصی'!BQ11","v":0},{"$f":"'اندازه های شخصی'!BS11","v":0},{"$f":"'اندازه های شخصی'!BU11","v":0},{"$f":"'اندازه های شخصی'!BW11","v":0},{"$f":"'اندازه های شخصی'!BY11","v":0},{"$f":"'اندازه های شخصی'!CA11","v":0},{"$f":"'اندازه های شخصی'!CC11","v":0},{"$f":"'اندازه های شخصی'!CE11","v":0},{"$f":"'اندازه های شخصی'!CG11","v":0}]
["ضریب گشادی عرضی چادر  a1","(از 0.35 الی 0.53)",0.45,"بهینه=0.45",{"$f":"'طراحی همه الگوها'!Q190","v":20},"ضریب گشادی عرضی چادر  ",21,0.46,20,0.45,1.0000000000000009E-2,0.24999999999999983,0.35,10.000000000000005,0.53,27.999999999999993,0.45,20,null,"e",23,25,32,38,42,48,53.9,60.4,66.400000000000006,70.400000000000006,74.400000000000006,77.900000000000006,80.900000000000006,84.4,87.9,91.9,95.9,99.9,101,102,103,104,104.4,104.9,105.4,105.9,106.4,106.9,107.4,107.9,108.4,108.9,103.8,105.1,106.5,107.2,107.8,108.4,109,109.6,110.2,110.7,111.2,111.7,112.2,112.7,38,42,48,53.9,60.4,66.400000000000006,70.400000000000006,74.400000000000006,77.900000000000006,80.900000000000006,84.4,87.9,91.9,95.9,99.9,101,102,103,104,104.4,104.9,105.4,105.9,106.4,106.9,107.4,107.9,108.4,108.9,104.7,106.1,107.5,108.2,108.8,109.4,110,110.6,111.2,111.7,112.2,112.7,113.2,113.7,{"$f":"'اندازه های شخصی'!G12","v":0},{"$f":"'اندازه های شخصی'!I12","v":0},{"$f":"'اندازه های شخصی'!K12","v":0},{"$f":"'اندازه های شخصی'!M12","v":0},{"$f":"'اندازه های شخصی'!O12","v":0},{"$f":"'اندازه های شخصی'!Q12","v":0},{"$f":"'اندازه های شخصی'!S12","v":0},{"$f":"'اندازه های شخصی'!U12","v":0},{"$f":"'اندازه های شخصی'!W12","v":0},{"$f":"'اندازه های شخصی'!Y12","v":0},{"$f":"'اندازه های شخصی'!AA12","v":0},{"$f":"'اندازه های شخصی'!AC12","v":0},{"$f":"'اندازه های شخصی'!AE12","v":0},{"$f":"'اندازه های شخصی'!AG12","v":0},{"$f":"'اندازه های شخصی'!AI12","v":0},{"$f":"'اندازه های شخصی'!AK12","v":0},{"$f":"'اندازه های شخصی'!AM12","v":0},{"$f":"'اندازه های شخصی'!AO12","v":0},{"$f":"'اندازه های شخصی'!AQ12","v":0},{"$f":"'اندازه های شخصی'!AS12","v":0},{"$f":"'اندازه های شخصی'!AU12","v":0},{"$f":"'اندازه های شخصی'!AW12","v":0},{"$f":"'اندازه های شخصی'!AY12","v":0},{"$f":"'اندازه های شخصی'!BA12","v":0},{"$f":"'اندازه های شخصی'!BC12","v":0},{"$f":"'اندازه های شخصی'!BE12","v":0},{"$f":"'اندازه های شخصی'!BG12","v":0},{"$f":"'اندازه های شخصی'!BI12","v":0},{"$f":"'اندازه های شخصی'!BK12","v":0},{"$f":"'اندازه های شخصی'!BM12","v":0},{"$f":"'اندازه های شخصی'!BO12","v":0},{"$f":"'اندازه های شخصی'!BQ12","v":0},{"$f":"'اندازه های شخصی'!BS12","v":0},{"$f":"'اندازه های شخصی'!BU12","v":0},{"$f":"'اندازه های شخصی'!BW12","v":0},{"$f":"'اندازه های شخصی'!BY12","v":0},{"$f":"'اندازه های شخصی'!CA12","v":0},{"$f":"'اندازه های شخصی'!CC12","v":0},{"$f":"'اندازه های شخصی'!CE12","v":0},{"$f":"'اندازه های شخصی'!CG12","v":0}]
["ضریب گشادی دور مچ  a2","(از 1.1 الی 2)",1.7000000000000006,"بهینه=1.7",{"$f":"'طراحی همه الگوها'!Q191","v":7},"ضریب گشادی دور مچ  ",1,1.1000000000000001,0,1,0.10000000000000009,1,1.1000000000000001,1,2,9.9999999999999911,1.7,6.9999999999999938,null,"f",23,25,32,38,42,48,54,60.5,66.5,70.5,74.5,78,81,84.5,88,92,96,100,102,103,104,105,105.5,106,106.5,107,107.5,108,108.5,109,109.5,110,104.8,106.2,107.6,108.3,108.9,109.5,110.1,110.7,111.3,111.8,112.3,112.8,113.3,113.8,38,42,48,54,60.5,66.5,70.5,74.5,78,81,84.5,88,92,96,100,102,103,104,105,105.5,106,106.5,107,107.5,108,108.5,109,109.5,110,104.8,106.2,107.6,108.3,108.9,109.5,110.1,110.7,111.3,111.8,112.3,112.8,113.3,113.8,{"$f":"'اندازه های شخصی'!G13","v":0},{"$f":"'اندازه های شخصی'!I13","v":0},{"$f":"'اندازه های شخصی'!K13","v":0},{"$f":"'اندازه های شخصی'!M13","v":0},{"$f":"'اندازه های شخصی'!O13","v":0},{"$f":"'اندازه های شخصی'!Q13","v":0},{"$f":"'اندازه های شخصی'!S13","v":0},{"$f":"'اندازه های شخصی'!U13","v":0},{"$f":"'اندازه های شخصی'!W13","v":0},{"$f":"'اندازه های شخصی'!Y13","v":0},{"$f":"'اندازه های شخصی'!AA13","v":0},{"$f":"'اندازه های شخصی'!AC13","v":0},{"$f":"'اندازه های شخصی'!AE13","v":0},{"$f":"'اندازه های شخصی'!AG13","v":0},{"$f":"'اندازه های شخصی'!AI13","v":0},{"$f":"'اندازه های شخصی'!AK13","v":0},{"$f":"'اندازه های شخصی'!AM13","v":0},{"$f":"'اندازه های شخصی'!AO13","v":0},{"$f":"'اندازه های شخصی'!AQ13","v":0},{"$f":"'اندازه های شخصی'!AS13","v":0},{"$f":"'اندازه های شخصی'!AU13","v":0},{"$f":"'اندازه های شخصی'!AW13","v":0},{"$f":"'اندازه های شخصی'!AY13","v":0},{"$f":"'اندازه های شخصی'!BA13","v":0},{"$f":"'اندازه های شخصی'!BC13","v":0},{"$f":"'اندازه های شخصی'!BE13","v":0},{"$f":"'اندازه های شخصی'!BG13","v":0},{"$f":"'اندازه های شخصی'!BI13","v":0},{"$f":"'اندازه های شخصی'!BK13","v":0},{"$f":"'اندازه های شخصی'!BM13","v":0},{"$f":"'اندازه های شخصی'!BO13","v":0},{"$f":"'اندازه های شخصی'!BQ13","v":0},{"$f":"'اندازه های شخصی'!BS13","v":0},{"$f":"'اندازه های شخصی'!BU13","v":0},{"$f":"'اندازه های شخصی'!BW13","v":0},{"$f":"'اندازه های شخصی'!BY13","v":0},{"$f":"'اندازه های شخصی'!CA13","v":0},{"$f":"'اندازه های شخصی'!CC13","v":0},{"$f":"'اندازه های شخصی'!CE13","v":0},{"$f":"'اندازه های شخصی'!CG13","v":0}]
["ضریب بلند شدن آستین نسبت به مچ  a4","(از -0.4 الی 0.4)",0,"آستین تا مچ=0 \nآستین کوتاه تر از مچ = منفی \nآستین بلند تر از مچ = مثبت   ",{"$f":"'طراحی همه الگوها'!Q192","v":10},"بلند شدن آستین چادر نسبت به مچ اندام ",30,-0.45,10,0,-2.2499999999999999E-2,0.22499999999999992,-0.4,27.777777777777779,0.4,-7.7777777777777821,0,9.9999999999999964,null,"g",23,25,32,38,42,48,54.1,60.6,66.599999999999994,70.599999999999994,74.599999999999994,78.099999999999994,81.099999999999994,84.6,88.1,92.1,96.1,100.1,103,104,105,106.1,106.6,107.1,107.6,108.1,108.6,109.1,109.6,110.1,110.6,111.1,105.8,107.3,108.7,109.4,110,110.6,111.2,111.8,112.4,112.9,113.4,113.9,114.4,114.9,38,42,48,54.1,60.6,66.599999999999994,70.599999999999994,74.599999999999994,78.099999999999994,81.099999999999994,84.6,88.1,92.1,96.1,100.1,103,104,105,106.1,106.6,107.1,107.6,108.1,108.6,109.1,109.6,110.1,110.6,111.1,104.9,106.3,107.7,108.4,109,109.6,110.2,110.8,111.4,111.9,112.4,112.9,113.4,113.9,{"$f":"'اندازه های شخصی'!G14","v":0},{"$f":"'اندازه های شخصی'!I14","v":0},{"$f":"'اندازه های شخصی'!K14","v":0},{"$f":"'اندازه های شخصی'!M14","v":0},{"$f":"'اندازه های شخصی'!O14","v":0},{"$f":"'اندازه های شخصی'!Q14","v":0},{"$f":"'اندازه های شخصی'!S14","v":0},{"$f":"'اندازه های شخصی'!U14","v":0},{"$f":"'اندازه های شخصی'!W14","v":0},{"$f":"'اندازه های شخصی'!Y14","v":0},{"$f":"'اندازه های شخصی'!AA14","v":0},{"$f":"'اندازه های شخصی'!AC14","v":0},{"$f":"'اندازه های شخصی'!AE14","v":0},{"$f":"'اندازه های شخصی'!AG14","v":0},{"$f":"'اندازه های شخصی'!AI14","v":0},{"$f":"'اندازه های شخصی'!AK14","v":0},{"$f":"'اندازه های شخصی'!AM14","v":0},{"$f":"'اندازه های شخصی'!AO14","v":0},{"$f":"'اندازه های شخصی'!AQ14","v":0},{"$f":"'اندازه های شخصی'!AS14","v":0},{"$f":"'اندازه های شخصی'!AU14","v":0},{"$f":"'اندازه های شخصی'!AW14","v":0},{"$f":"'اندازه های شخصی'!AY14","v":0},{"$f":"'اندازه های شخصی'!BA14","v":0},{"$f":"'اندازه های شخصی'!BC14","v":0},{"$f":"'اندازه های شخصی'!BE14","v":0},{"$f":"'اندازه های شخصی'!BG14","v":0},{"$f":"'اندازه های شخصی'!BI14","v":0},{"$f":"'اندازه های شخصی'!BK14","v":0},{"$f":"'اندازه های شخصی'!BM14","v":0},{"$f":"'اندازه های شخصی'!BO14","v":0},{"$f":"'اندازه های شخصی'!BQ14","v":0},{"$f":"'اندازه های شخصی'!BS14","v":0},{"$f":"'اندازه های شخصی'!BU14","v":0},{"$f":"'اندازه های شخصی'!BW14","v":0},{"$f":"'اندازه های شخصی'!BY14","v":0},{"$f":"'اندازه های شخصی'!CA14","v":0},{"$f":"'اندازه های شخصی'!CC14","v":0},{"$f":"'اندازه های شخصی'!CE14","v":0},{"$f":"'اندازه های شخصی'!CG14","v":0}]
["انتخاب چادر تا پایین پیشانی=1    انتخاب چادر تا بالای پیشانی=0\nانتخاب چادر روی سر = -1"," -1 یا 0 یا 1",0,null,{"$f":"'طراحی همه الگوها'!Q193","v":2},"انتخاب چادر تا پایین پیشانی=3    انتخاب چادر تا بالای پیشانی=2\nانتخاب چادر روی سر = 1",2,0,1,-1,1,-2,0,2,1,3,1,3,null,"h",7.4,8.4,11.1,13.4,14.9,17.2,24.9,27.4,30.3,32.1,33.9,35.4,36.6,38.200000000000003,39.700000000000003,41.4,43.5,45.7,44.5,45,45.5,46,46,46,46,46,46.3,46.3,46.4,46.5,46.6,46.7,48.1,48.8,49.6,50,50.4,50.8,51.2,51.5,51.9,52.3,52.6,53,53.2,53.6,13.4,14.9,17.2,24.9,27.4,30.3,32.1,33.9,35.4,36.6,38.200000000000003,39.700000000000003,41.4,43.5,45.7,44.5,45,45.5,46,46,46,46,46,46.3,46.3,46.4,46.5,46.6,46.7,48.1,48.8,49.6,50,50.3,50.8,51.2,51.5,51.9,52.3,52.6,52.9,53.3,53.6,{"$f":"'اندازه های شخصی'!G15","v":0},{"$f":"'اندازه های شخصی'!I15","v":0},{"$f":"'اندازه های شخصی'!K15","v":0},{"$f":"'اندازه های شخصی'!M15","v":0},{"$f":"'اندازه های شخصی'!O15","v":0},{"$f":"'اندازه های شخصی'!Q15","v":0},{"$f":"'اندازه های شخصی'!S15","v":0},{"$f":"'اندازه های شخصی'!U15","v":0},{"$f":"'اندازه های شخصی'!W15","v":0},{"$f":"'اندازه های شخصی'!Y15","v":0},{"$f":"'اندازه های شخصی'!AA15","v":0},{"$f":"'اندازه های شخصی'!AC15","v":0},{"$f":"'اندازه های شخصی'!AE15","v":0},{"$f":"'اندازه های شخصی'!AG15","v":0},{"$f":"'اندازه های شخصی'!AI15","v":0},{"$f":"'اندازه های شخصی'!AK15","v":0},{"$f":"'اندازه های شخصی'!AM15","v":0},{"$f":"'اندازه های شخصی'!AO15","v":0},{"$f":"'اندازه های شخصی'!AQ15","v":0},{"$f":"'اندازه های شخصی'!AS15","v":0},{"$f":"'اندازه های شخصی'!AU15","v":0},{"$f":"'اندازه های شخصی'!AW15","v":0},{"$f":"'اندازه های شخصی'!AY15","v":0},{"$f":"'اندازه های شخصی'!BA15","v":0},{"$f":"'اندازه های شخصی'!BC15","v":0},{"$f":"'اندازه های شخصی'!BE15","v":0},{"$f":"'اندازه های شخصی'!BG15","v":0},{"$f":"'اندازه های شخصی'!BI15","v":0},{"$f":"'اندازه های شخصی'!BK15","v":0},{"$f":"'اندازه های شخصی'!BM15","v":0},{"$f":"'اندازه های شخصی'!BO15","v":0},{"$f":"'اندازه های شخصی'!BQ15","v":0},{"$f":"'اندازه های شخصی'!BS15","v":0},{"$f":"'اندازه های شخصی'!BU15","v":0},{"$f":"'اندازه های شخصی'!BW15","v":0},{"$f":"'اندازه های شخصی'!BY15","v":0},{"$f":"'اندازه های شخصی'!CA15","v":0},{"$f":"'اندازه های شخصی'!CC15","v":0},{"$f":"'اندازه های شخصی'!CE15","v":0},{"$f":"'اندازه های شخصی'!CG15","v":0}]
[null,null,null,null,null,null,null,null,null,null,null,null,null,null,null,null,null,null,null,"j",15.8,17.899999999999999,23.8,28.7,31.8,36.700000000000003,45.2,49.8,55.1,58.3,61.6,64.3,66.5,69.400000000000006,72.099999999999994,75.3,79.099999999999994,83,82.5,82.7,83.4,84.1,84.3,84.5,84.7,85,85.3,85.7,86.1,86.5,86.9,87.3,87.4,88.8,90.2,90.9,91.6,92.3,93,93.7,94.3,95,95.7,96.3,96.8,97.5,28.7,31.8,36.700000000000003,45.2,49.8,55.1,58.3,61.6,64.3,66.5,69.400000000000006,72.099999999999994,75.3,79.099999999999994,83,82.5,82.7,83.4,84.1,84.3,84.5,84.7,85,85.3,85.7,86.1,86.5,86.9,87.3,87.4,88.8,90.2,90.9,91.5,92.3,93,93.6,94.4,95,95.7,96.2,96.9,97.5,{"$f":"'اندازه های شخصی'!G16","v":0},{"$f":"'اندازه های شخصی'!I16","v":0},{"$f":"'اندازه های شخصی'!K16","v":0},{"$f":"'اندازه های شخصی'!M16","v":0},{"$f":"'اندازه های شخصی'!O16","v":0},{"$f":"'اندازه های شخصی'!Q16","v":0},{"$f":"'اندازه های شخصی'!S16","v":0},{"$f":"'اندازه های شخصی'!U16","v":0},{"$f":"'اندازه های شخصی'!W16","v":0},{"$f":"'اندازه های شخصی'!Y16","v":0},{"$f":"'اندازه های شخصی'!AA16","v":0},{"$f":"'اندازه های شخصی'!AC16","v":0},{"$f":"'اندازه های شخصی'!AE16","v":0},{"$f":"'اندازه های شخصی'!AG16","v":0},{"$f":"'اندازه های شخصی'!AI16","v":0},{"$f":"'اندازه های شخصی'!AK16","v":0},{"$f":"'اندازه های شخصی'!AM16","v":0},{"$f":"'اندازه های شخصی'!AO16","v":0},{"$f":"'اندازه های شخصی'!AQ16","v":0},{"$f":"'اندازه های شخصی'!AS16","v":0},{"$f":"'اندازه های شخصی'!AU16","v":0},{"$f":"'اندازه های شخصی'!AW16","v":0},{"$f":"'اندازه های شخصی'!AY16","v":0},{"$f":"'اندازه های شخصی'!BA16","v":0},{"$f":"'اندازه های شخصی'!BC16","v":0},{"$f":"'اندازه های شخصی'!BE16","v":0},{"$f":"'اندازه های شخصی'!BG16","v":0},{"$f":"'اندازه های شخصی'!BI16","v":0},{"$f":"'اندازه های شخصی'!BK16","v":0},{"$f":"'اندازه های شخصی'!BM16","v":0},{"$f":"'اندازه های شخصی'!BO16","v":0},{"$f":"'اندازه های شخصی'!BQ16","v":0},{"$f":"'اندازه های شخصی'!BS16","v":0},{"$f":"'اندازه های شخصی'!BU16","v":0},{"$f":"'اندازه های شخصی'!BW16","v":0},{"$f":"'اندازه های شخصی'!BY16","v":0},{"$f":"'اندازه های شخصی'!CA16","v":0},{"$f":"'اندازه های شخصی'!CC16","v":0},{"$f":"'اندازه های شخصی'!CE16","v":0},{"$f":"'اندازه های شخصی'!CG16","v":0}]
[" متغیرهای ورودی چادر شماره 3",null,null,null,null," متغیرهای ورودی چادر شماره 3","x1","y1","x2","y2(بهینه)","a","b",null,"کمترین",null,"بیشترین",null,null,null,"L",17.600000000000001,18.5,19.7,20.5,21.7,23,24.2,25.4,26.7,27.9,29.1,30.3,31.6,32.799999999999997,34,34.9,36.5,38.1,34.9,36.5,38.1,39.799999999999997,41.8,43.9,45.9,48,50,51.7,54.1,56.6,59,61.5,37.700000000000003,39.4,41,42.6,44.3,45.9,47.6,49.2,50.8,52.5,54.1,55.8,57.4,59,20.5,21.7,23,24.2,25.4,26.7,27.9,29.1,30.3,31.6,32.799999999999997,34,34.9,36.5,38.1,34.9,36.5,38.1,39.799999999999997,41.8,43.9,45.9,48,50,51.7,54.1,56.6,59,61.5,37.700000000000003,39.4,41,42.6,44.3,45.9,47.6,49.2,50.8,52.5,54.1,55.8,57.4,59,{"$f":"'اندازه های شخصی'!G17","v":0},{"$f":"'اندازه های شخصی'!I17","v":0},{"$f":"'اندازه های شخصی'!K17","v":0},{"$f":"'اندازه های شخصی'!M17","v":0},{"$f":"'اندازه های شخصی'!O17","v":0},{"$f":"'اندازه های شخصی'!Q17","v":0},{"$f":"'اندازه های شخصی'!S17","v":0},{"$f":"'اندازه های شخصی'!U17","v":0},{"$f":"'اندازه های شخصی'!W17","v":0},{"$f":"'اندازه های شخصی'!Y17","v":0},{"$f":"'اندازه های شخصی'!AA17","v":0},{"$f":"'اندازه های شخصی'!AC17","v":0},{"$f":"'اندازه های شخصی'!AE17","v":0},{"$f":"'اندازه های شخصی'!AG17","v":0},{"$f":"'اندازه های شخصی'!AI17","v":0},{"$f":"'اندازه های شخصی'!AK17","v":0},{"$f":"'اندازه های شخصی'!AM17","v":0},{"$f":"'اندازه های شخصی'!AO17","v":0},{"$f":"'اندازه های شخصی'!AQ17","v":0},{"$f":"'اندازه های شخصی'!AS17","v":0},{"$f":"'اندازه های شخصی'!AU17","v":0},{"$f":"'اندازه های شخصی'!AW17","v":0},{"$f":"'اندازه های شخصی'!AY17","v":0},{"$f":"'اندازه های شخصی'!BA17","v":0},{"$f":"'اندازه های شخصی'!BC17","v":0},{"$f":"'اندازه های شخصی'!BE17","v":0},{"$f":"'اندازه های شخصی'!BG17","v":0},{"$f":"'اندازه های شخصی'!BI17","v":0},{"$f":"'اندازه های شخصی'!BK17","v":0},{"$f":"'اندازه های شخصی'!BM17","v":0},{"$f":"'اندازه های شخصی'!BO17","v":0},{"$f":"'اندازه های شخصی'!BQ17","v":0},{"$f":"'اندازه های شخصی'!BS17","v":0},{"$f":"'اندازه های شخصی'!BU17","v":0},{"$f":"'اندازه های شخصی'!BW17","v":0},{"$f":"'اندازه های شخصی'!BY17","v":0},{"$f":"'اندازه های شخصی'!CA17","v":0},{"$f":"'اندازه های شخصی'!CC17","v":0},{"$f":"'اندازه های شخصی'!CE17","v":0},{"$f":"'اندازه های شخصی'!CG17","v":0}]
["ضریب فاصله لبه چادر تا زمین   j0","(از -0.1 الی 0.5)",{"$f":"K17*E17+L17","v":0},"خط زمین=0 \nخط زانو=1  ",{"$f":"'طراحی همه الگوها'!Q210","v":10},"ضریب فاصله لبه چادر تا زمین   ",10,0,30,1,{"$f":"(J17-H17)/(I17-G17)","v":0.05},{"$f":"H17-G17*K17","v":-0.5},-0.1,{"$f":"(M17-L17)/K17","v":8},0.5,{"$f":"(O17-L17)/K17","v":20},0,{"$f":"(Q17-L17)/K17","v":10},null,"m",10,10,11,12,13,14,14,16,17,18,19,20,21,22,23,24,24.5,25,25.1,25.8,26.4,27.1,27.8,28.4,29.1,29.7,30.3,31,31.6,32.299999999999997,32.9,33.5,23.1,23.5,23.8,24.2,24.5,24.7,25,25.3,25.6,25.8,26.1,26.4,26.7,26.9,12,13,14,14,16,17,18,19,20,21,22,23,24,24.5,25,25.1,25.8,26.4,27.1,27.8,28.4,29.1,29.7,30.3,31,31.6,32.299999999999997,32.9,33.5,23.1,23.5,23.8,24.2,24.5,24.7,25,25.3,25.5,25.8,26.1,26.4,26.6,26.9,{"$f":"'اندازه های شخصی'!G18","v":0},{"$f":"'اندازه های شخصی'!I18","v":0},{"$f":"'اندازه های شخصی'!K18","v":0},{"$f":"'اندازه های شخصی'!M18","v":0},{"$f":"'اندازه های شخصی'!O18","v":0},{"$f":"'اندازه های شخصی'!Q18","v":0},{"$f":"'اندازه های شخصی'!S18","v":0},{"$f":"'اندازه های شخصی'!U18","v":0},{"$f":"'اندازه های شخصی'!W18","v":0},{"$f":"'اندازه های شخصی'!Y18","v":0},{"$f":"'اندازه های شخصی'!AA18","v":0},{"$f":"'اندازه های شخصی'!AC18","v":0},{"$f":"'اندازه های شخصی'!AE18","v":0},{"$f":"'اندازه های شخصی'!AG18","v":0},{"$f":"'اندازه های شخصی'!AI18","v":0},{"$f":"'اندازه های شخصی'!AK18","v":0},{"$f":"'اندازه های شخصی'!AM18","v":0},{"$f":"'اندازه های شخصی'!AO18","v":0},{"$f":"'اندازه های شخصی'!AQ18","v":0},{"$f":"'اندازه های شخصی'!AS18","v":0},{"$f":"'اندازه های شخصی'!AU18","v":0},{"$f":"'اندازه های شخصی'!AW18","v":0},{"$f":"'اندازه های شخصی'!AY18","v":0},{"$f":"'اندازه های شخصی'!BA18","v":0},{"$f":"'اندازه های شخصی'!BC18","v":0},{"$f":"'اندازه های شخصی'!BE18","v":0},{"$f":"'اندازه های شخصی'!BG18","v":0},{"$f":"'اندازه های شخصی'!BI18","v":0},{"$f":"'اندازه های شخصی'!BK18","v":0},{"$f":"'اندازه های شخصی'!BM18","v":0},{"$f":"'اندازه های شخصی'!BO18","v":0},{"$f":"'اندازه های شخصی'!BQ18","v":0},{"$f":"'اندازه های شخصی'!BS18","v":0},{"$f":"'اندازه های شخصی'!BU18","v":0},{"$f":"'اندازه های شخصی'!BW18","v":0},{"$f":"'اندازه های شخصی'!BY18","v":0},{"$f":"'اندازه های شخصی'!CA18","v":0},{"$f":"'اندازه های شخصی'!CC18","v":0},{"$f":"'اندازه های شخصی'!CE18","v":0},{"$f":"'اندازه های شخصی'!CG18","v":0}]
["ضریب گشادی دور مچ  b2","(از 1.1 الی 2)",1.5000000000000004,"بهینه=1.5",{"$f":"'طراحی همه الگوها'!Q211","v":5},"ضریب گشادی دور مچ  ",1,1.1000000000000001,0,1,0.10000000000000009,1,1.1000000000000001,1,2,9.9999999999999911,1.5,4.9999999999999956,null,"q",29.1,29.6,32.799999999999997,35.700000000000003,38.5,41.7,37.700000000000003,42.6,45,47.6,50,52.7,55.3,57.7,60.3,62.6,64.400000000000006,66,65.2,67.2,69.2,71.099999999999994,73.400000000000006,75.2,77.3,79.400000000000006,81.2,83.3,85.3,87.5,89.7,91.7,66.5,67.8,69.2,70.5,71.599999999999994,72.8,73.900000000000006,75.099999999999994,76.400000000000006,77.400000000000006,78.5,79.599999999999994,80.900000000000006,81.8,35.700000000000003,38.5,41.7,37.700000000000003,42.6,45,47.6,50.1,52.7,55.3,57.7,60.3,62.6,64.400000000000006,66,65.2,67.2,69.2,71.099999999999994,73.400000000000006,75.2,77.3,79.400000000000006,81.2,83.3,85.3,87.5,89.7,91.7,66.3,67.7,69,70.3,71.7,72.599999999999994,73.8,75.099999999999994,76.099999999999994,77.2,78.3,79.599999999999994,80.5,81.7,{"$f":"'اندازه های شخصی'!G19","v":0},{"$f":"'اندازه های شخصی'!I19","v":0},{"$f":"'اندازه های شخصی'!K19","v":0},{"$f":"'اندازه های شخصی'!M19","v":0},{"$f":"'اندازه های شخصی'!O19","v":0},{"$f":"'اندازه های شخصی'!Q19","v":0},{"$f":"'اندازه های شخصی'!S19","v":0},{"$f":"'اندازه های شخصی'!U19","v":0},{"$f":"'اندازه های شخصی'!W19","v":0},{"$f":"'اندازه های شخصی'!Y19","v":0},{"$f":"'اندازه های شخصی'!AA19","v":0},{"$f":"'اندازه های شخصی'!AC19","v":0},{"$f":"'اندازه های شخصی'!AE19","v":0},{"$f":"'اندازه های شخصی'!AG19","v":0},{"$f":"'اندازه های شخصی'!AI19","v":0},{"$f":"'اندازه های شخصی'!AK19","v":0},{"$f":"'اندازه های شخصی'!AM19","v":0},{"$f":"'اندازه های شخصی'!AO19","v":0},{"$f":"'اندازه های شخصی'!AQ19","v":0},{"$f":"'اندازه های شخصی'!AS19","v":0},{"$f":"'اندازه های شخصی'!AU19","v":0},{"$f":"'اندازه های شخصی'!AW19","v":0},{"$f":"'اندازه های شخصی'!AY19","v":0},{"$f":"'اندازه های شخصی'!BA19","v":0},{"$f":"'اندازه های شخصی'!BC19","v":0},{"$f":"'اندازه های شخصی'!BE19","v":0},{"$f":"'اندازه های شخصی'!BG19","v":0},{"$f":"'اندازه های شخصی'!BI19","v":0},{"$f":"'اندازه های شخصی'!BK19","v":0},{"$f":"'اندازه های شخصی'!BM19","v":0},{"$f":"'اندازه های شخصی'!BO19","v":0},{"$f":"'اندازه های شخصی'!BQ19","v":0},{"$f":"'اندازه های شخصی'!BS19","v":0},{"$f":"'اندازه های شخصی'!BU19","v":0},{"$f":"'اندازه های شخصی'!BW19","v":0},{"$f":"'اندازه های شخصی'!BY19","v":0},{"$f":"'اندازه های شخصی'!CA19","v":0},{"$f":"'اندازه های شخصی'!CC19","v":0},{"$f":"'اندازه های شخصی'!CE19","v":0},{"$f":"'اندازه های شخصی'!CG19","v":0}]
["ضریب بلندی طول مچ  b3  معادل ضریب تنگی پایین چادر","(از0 الی 0.4)",0.15,"بهینه=0.15",{"$f":"'طراحی همه الگوها'!Q212","v":15},"گشادی پایین چادر (معادل بلندی طول مچ)",1,0.01,0,0,0.01,0,0,0,0.4,40,0.15,15,null,"r",13.5,13.5,14.2,14.9,16.2,16.2,17.600000000000001,17.600000000000001,17.600000000000001,18.899999999999999,18.899999999999999,20.3,21.6,20.3,21.6,22.3,23,23.6,23,23.5,24,24.5,25.1,25.7,26.3,26.9,27.5,28,28.5,29,29.5,30,24,25,26,27,28,29,29,29,29,29.4,29.8,30.2,32.6,31,14.9,16.2,16.2,17.600000000000001,17.600000000000001,17.600000000000001,18.899999999999999,18.899999999999999,20.3,21.6,20.3,21.6,22.3,23,23.6,23,23.5,24,24.5,25.1,25.7,26.3,26.9,27.5,28,28.5,29,29.5,30,24,25,26,27,28,29,29,29,29,29.4,29.8,30.2,32.6,31,{"$f":"'اندازه های شخصی'!G20","v":0},{"$f":"'اندازه های شخصی'!I20","v":0},{"$f":"'اندازه های شخصی'!K20","v":0},{"$f":"'اندازه های شخصی'!M20","v":0},{"$f":"'اندازه های شخصی'!O20","v":0},{"$f":"'اندازه های شخصی'!Q20","v":0},{"$f":"'اندازه های شخصی'!S20","v":0},{"$f":"'اندازه های شخصی'!U20","v":0},{"$f":"'اندازه های شخصی'!W20","v":0},{"$f":"'اندازه های شخصی'!Y20","v":0},{"$f":"'اندازه های شخصی'!AA20","v":0},{"$f":"'اندازه های شخصی'!AC20","v":0},{"$f":"'اندازه های شخصی'!AE20","v":0},{"$f":"'اندازه های شخصی'!AG20","v":0},{"$f":"'اندازه های شخصی'!AI20","v":0},{"$f":"'اندازه های شخصی'!AK20","v":0},{"$f":"'اندازه های شخصی'!AM20","v":0},{"$f":"'اندازه های شخصی'!AO20","v":0},{"$f":"'اندازه های شخصی'!AQ20","v":0},{"$f":"'اندازه های شخصی'!AS20","v":0},{"$f":"'اندازه های شخصی'!AU20","v":0},{"$f":"'اندازه های شخصی'!AW20","v":0},{"$f":"'اندازه های شخصی'!AY20","v":0},{"$f":"'اندازه های شخصی'!BA20","v":0},{"$f":"'اندازه های شخصی'!BC20","v":0},{"$f":"'اندازه های شخصی'!BE20","v":0},{"$f":"'اندازه های شخصی'!BG20","v":0},{"$f":"'اندازه های شخصی'!BI20","v":0},{"$f":"'اندازه های شخصی'!BK20","v":0},{"$f":"'اندازه های شخصی'!BM20","v":0},{"$f":"'اندازه های شخصی'!BO20","v":0},{"$f":"'اندازه های شخصی'!BQ20","v":0},{"$f":"'اندازه های شخصی'!BS20","v":0},{"$f":"'اندازه های شخصی'!BU20","v":0},{"$f":"'اندازه های شخصی'!BW20","v":0},{"$f":"'اندازه های شخصی'!BY20","v":0},{"$f":"'اندازه های شخصی'!CA20","v":0},{"$f":"'اندازه های شخصی'!CC20","v":0},{"$f":"'اندازه های شخصی'!CE20","v":0},{"$f":"'اندازه های شخصی'!CG20","v":0}]
["ضریب بلند شدن آستین نسبت به مچ  b5","(از -0.4 الی 0.4)",0,"آستین تا مچ=0 \nآستین کوتاه تر از مچ = منفی \nآستین بلند تر از مچ = مثبت   ",{"$f":"'طراحی همه الگوها'!Q213","v":10},"بلند شدن آستین چادر نسبت به مچ اندام ",30,-0.45,10,0,-2.2499999999999999E-2,0.22499999999999992,-0.4,27.777777777777779,0.4,-7.7777777777777821,0,9.9999999999999964]
["عرض پارچه به سانتیمتر b1","(از 90 الی 200)",110," 90 یا 100 یا 110 \n115 یا 120 یا ...",{"$f":"'طراحی همه الگوها'!Q214","v":110},"عرض پارچه ",2,2,1,1,1,0,90,90,200,200,100,100,null,null,2,2,2,2,2,2,0,0,0,0,0,0,0,0,0,0,0,0,0,0,0,0,0,0,0,0,0,0,0,0,0,0,1,1,1,1,1,1,1,1,1,1,1,1,1,1,2,2,2,0,0,0,0,0,0,0,0,0,0,0,0,0,0,0,0,0,0,0,0,0,0,0,0,0,0,1,1,1,1,1,1,1,1,1,1,1,1,1,1,{"$f":"'اندازه های شخصی'!G21","v":0},{"$f":"'اندازه های شخصی'!I21","v":0},{"$f":"'اندازه های شخصی'!K21","v":0},{"$f":"'اندازه های شخصی'!M21","v":0},{"$f":"'اندازه های شخصی'!O21","v":0},{"$f":"'اندازه های شخصی'!Q21","v":0},{"$f":"'اندازه های شخصی'!S21","v":0},{"$f":"'اندازه های شخصی'!U21","v":0},{"$f":"'اندازه های شخصی'!W21","v":0},{"$f":"'اندازه های شخصی'!Y21","v":0},{"$f":"'اندازه های شخصی'!AA21","v":0},{"$f":"'اندازه های شخصی'!AC21","v":0},{"$f":"'اندازه های شخصی'!AE21","v":0},{"$f":"'اندازه های شخصی'!AG21","v":0},{"$f":"'اندازه های شخصی'!AI21","v":0},{"$f":"'اندازه های شخصی'!AK21","v":0},{"$f":"'اندازه های شخصی'!AM21","v":0},{"$f":"'اندازه های شخصی'!AO21","v":0},{"$f":"'اندازه های شخصی'!AQ21","v":0},{"$f":"'اندازه های شخصی'!AS21","v":0},{"$f":"'اندازه های شخصی'!AU21","v":0},{"$f":"'اندازه های شخصی'!AW21","v":0},{"$f":"'اندازه های شخصی'!AY21","v":0},{"$f":"'اندازه های شخصی'!BA21","v":0},{"$f":"'اندازه های شخصی'!BC21","v":0},{"$f":"'اندازه های شخصی'!BE21","v":0},{"$f":"'اندازه های شخصی'!BG21","v":0},{"$f":"'اندازه های شخصی'!BI21","v":0},{"$f":"'اندازه های شخصی'!BK21","v":0},{"$f":"'اندازه های شخصی'!BM21","v":0},{"$f":"'اندازه های شخصی'!BO21","v":0},{"$f":"'اندازه های شخصی'!BQ21","v":0},{"$f":"'اندازه های شخصی'!BS21","v":0},{"$f":"'اندازه های شخصی'!BU21","v":0},{"$f":"'اندازه های شخصی'!BW21","v":0},{"$f":"'اندازه های شخصی'!BY21","v":0},{"$f":"'اندازه های شخصی'!CA21","v":0},{"$f":"'اندازه های شخصی'!CC21","v":0},{"$f":"'اندازه های شخصی'!CE21","v":0},{"$f":"'اندازه های شخصی'!CG21","v":0}]
["انتخاب چادر تا پایین پیشانی=1    انتخاب چادر تا بالای پیشانی=0\nانتخاب چادر روی سر = -1"," -1 یا 0 یا 1",0,null,{"$f":"'طراحی همه الگوها'!Q215","v":2},"انتخاب چادر تا پایین پیشانی=3    انتخاب چادر تا بالای پیشانی=2\nانتخاب چادر روی سر = 1",2,0,1,-1,1,-2,0,2,2,4,1,3]
[]
[" متغیرهای ورودی چادر شماره 4",null,null,null,null," متغیرهای ورودی چادر شماره 4","x1","y1","x2","y2(بهینه)","a","b",null,"کمترین",null,"بیشترین",null,null,null,null,"اندازه شخص","اندازه شخص","اندازه شخص","اندازه شخص","اندازه شخص","اندازه شخص","اندازه شخص","اندازه شخص","اندازه شخص","اندازه شخص","اندازه شخص","اندازه شخص","اندازه شخص","اندازه شخص","اندازه شخص","اندازه شخص","اندازه شخص","اندازه شخص","اندازه شخص","اندازه شخص","اندازه شخص","اندازه شخص","اندازه شخص","اندازه شخص","اندازه شخص","اندازه شخص","اندازه شخص","اندازه شخص","اندازه شخص","اندازه شخص","اندازه شخص","اندازه شخص","اندازه شخص","اندازه شخص","اندازه شخص","اندازه شخص","اندازه شخص","اندازه شخص","اندازه شخص","اندازه شخص","اندازه شخص","اندازه شخص","اندازه شخص","اندازه شخص","اندازه شخص","اندازه شخص","اندازه شخص","اندازه شخص","اندازه شخص","اندازه شخص","اندازه شخص","اندازه شخص","اندازه شخص","اندازه شخص","اندازه شخص","اندازه شخص","اندازه شخص","اندازه شخص","اندازه شخص","اندازه شخص","اندازه شخص","اندازه شخص","اندازه شخص","اندازه شخص","اندازه شخص","اندازه شخص","اندازه شخص","اندازه شخص","اندازه شخص","اندازه شخص","اندازه شخص","اندازه شخص","اندازه شخص","اندازه شخص","اندازه شخص","اندازه شخص","اندازه شخص","اندازه شخص","اندازه شخص","اندازه شخص","اندازه شخص","اندازه شخص","اندازه شخص","اندازه شخص","اندازه شخص","اندازه شخص","اندازه شخص","اندازه شخص","اندازه شخص"]
["ضریب فاصله لبه چادر تا زمین   j0","(از -0.1 الی 0.5)",{"$f":"K25*E25+L25","v":0},"خط زمین=0 \nخط زانو=1  ",{"$f":"'طراحی همه الگوها'!Q232","v":10},"ضریب فاصله لبه چادر تا زمین   ",10,0,30,1,{"$f":"(J25-H25)/(I25-G25)","v":0.05},{"$f":"H25-G25*K25","v":-0.5},-0.1,{"$f":"(M25-L25)/K25","v":8},0.5,{"$f":"(O25-L25)/K25","v":20},0,{"$f":"(Q25-L25)/K25","v":10},null,"a",41,42,45,47,48,49,51,53,55,57,59,61,63,65.5,68,71,73,75,63,65,68,72,77,82,87,92,97,103,110,117,124,131,74,78,82,86,90,94,98,102,106,111,116,121,126,131,47,48,49,51,53,55,57,59,61,63,65.5,68,71,73,75,67,69,72,76,81,86,91,96,101,107,114,121,127,135,75.5,79.599999999999994,83.6,87.7,91.8,95.9,100,104,108.1,113.2,118.3,123.4,128.5,133.6,{"$f":"DF7","v":0},0,0,0,0,0,0,0,0,0,0,0,0,0,0,0,0,0,0,0,{"$f":"DZ7","v":0},0,0,{"$f":"EC7","v":0},{"$f":"ED7","v":0},0,0,{"$f":"EG7","v":0},{"$f":"EH7","v":0},0,0,{"$f":"EK7","v":0},{"$f":"EL7","v":0},0,0,{"$f":"EO7","v":0},{"$f":"EP7","v":0},0,0,0]
["ضریب گشادی پشت چادر نسبت به جلو چادر (به درجه)  c1","(از -5 الی 5)",3,"بهینه=3",{"$f":"'طراحی همه الگوها'!Q233","v":3},"ضریب گشادی پشت چادر نسبت به جلو چادر (درجه)  ",1,1,0,0,1,0,-5,-5,5,5,3,3,null,"b",20.100000000000001,20.6,22.1,23,23.5,24,25,26,27,27.9,28.9,29.9,30.9,32.1,33.299999999999997,34.799999999999997,35.799999999999997,36.799999999999997,32.200000000000003,32.700000000000003,33.700000000000003,35.200000000000003,36.9,38.700000000000003,40.6,42.3,44.3,47.5,51,54.8,59.2,63.6,37,39,41,43,45,47,49,51,53,55.5,58,60.5,63,65.5,23,23.5,24,25,26,27,27.9,28.9,29.9,30.9,32.1,33.299999999999997,34.799999999999997,35.799999999999997,36.799999999999997,34.200000000000003,34.700000000000003,35.700000000000003,37.1,38.799999999999997,40.6,42.4,44.2,46.1,49.4,52.8,56.7,60.7,64.5,37.799999999999997,39.799999999999997,41.8,43.9,45.9,48,50,52,54.1,56.6,59.2,61.7,64.3,66.8,{"$f":"DF8","v":0},0,0,0,0,0,0,0,0,0,0,0,0,0,0,0,0,0,0,0,0,0,0,{"$f":"EC8","v":0},0,0,0,{"$f":"EG8","v":0},0,0,0,{"$f":"EK8","v":0},0,0,0,{"$f":"EO8","v":0},0,0,0,0]
["ضریب بلند شدن آستین نسبت به مچ  c2","(از -0.4 الی 0.4)",0,"آستین تا مچ=0 \nآستین کوتاه تر از مچ = منفی \nآستین بلند تر از مچ = مثبت   ",{"$f":"'طراحی همه الگوها'!Q234","v":10},"بلند شدن آستین چادر نسبت به مچ اندام ",30,-0.45,10,0,-2.2499999999999999E-2,0.22499999999999992,-0.4,27.777777777777779,0.4,-7.7777777777777821,0,9.9999999999999964,null,"s1",43,45,47,50,52,54,56,58,60,62,64,66,68,71,75,78,82,86,80,84,88,92,97,102,107,112,117,122,128,134,140,146,88,92,96,100,104,108,112,116,120,124,128,132,136,140,50,52,54,56,58,60,62,64,66,68,71,75,78,82,86,80,84,88,92,97,102,107,112,117,122,128,134,140,146,88,92,96,100,104,108,112,116,120,124,128,132,136,140,{"$f":"'اندازه های شخصی'!G22","v":0},{"$f":"'اندازه های شخصی'!I22","v":0},{"$f":"'اندازه های شخصی'!K22","v":0},{"$f":"'اندازه های شخصی'!M22","v":0},{"$f":"'اندازه های شخصی'!O22","v":0},{"$f":"'اندازه های شخصی'!Q22","v":0},{"$f":"'اندازه های شخصی'!S22","v":0},{"$f":"'اندازه های شخصی'!U22","v":0},{"$f":"'اندازه های شخصی'!W22","v":0},{"$f":"'اندازه های شخصی'!Y22","v":0},{"$f":"'اندازه های شخصی'!AA22","v":0},{"$f":"'اندازه های شخصی'!AC22","v":0},{"$f":"'اندازه های شخصی'!AE22","v":0},{"$f":"'اندازه های شخصی'!AG22","v":0},{"$f":"'اندازه های شخصی'!AI22","v":0},{"$f":"'اندازه های شخصی'!AK22","v":0},{"$f":"'اندازه های شخصی'!AM22","v":0},{"$f":"'اندازه های شخصی'!AO22","v":0},{"$f":"'اندازه های شخصی'!AQ22","v":0},{"$f":"'اندازه های شخصی'!AS22","v":0},{"$f":"'اندازه های شخصی'!AU22","v":0},{"$f":"'اندازه های شخصی'!AW22","v":0},{"$f":"'اندازه های شخصی'!AY22","v":0},{"$f":"'اندازه های شخصی'!BA22","v":0},{"$f":"'اندازه های شخصی'!BC22","v":0},{"$f":"'اندازه های شخصی'!BE22","v":0},{"$f":"'اندازه های شخصی'!BG22","v":0},{"$f":"'اندازه های شخصی'!BI22","v":0},{"$f":"'اندازه های شخصی'!BK22","v":0},{"$f":"'اندازه های شخصی'!BM22","v":0},{"$f":"'اندازه های شخصی'!BO22","v":0},{"$f":"'اندازه های شخصی'!BQ22","v":0},{"$f":"'اندازه های شخصی'!BS22","v":0},{"$f":"'اندازه های شخصی'!BU22","v":0},{"$f":"'اندازه های شخصی'!BW22","v":0},{"$f":"'اندازه های شخصی'!BY22","v":0},{"$f":"'اندازه های شخصی'!CA22","v":0},{"$f":"'اندازه های شخصی'!CC22","v":0},{"$f":"'اندازه های شخصی'!CE22","v":0},{"$f":"'اندازه های شخصی'!CG22","v":0}]
["ضریب گشادی دور مچ  c3","(از 1.1 الی 3)",1.7000000000000006,"بدون گشادی=1",{"$f":"'طراحی همه الگوها'!Q235","v":7},"ضریب گشادی دور مچ  ",1,1.1000000000000001,0,1,0.10000000000000009,1,1.1000000000000001,1,3,19.999999999999982,1,0,null,"s2",21.5,22.5,23.5,25,26,27,28,29,30,31,32,33,34,35.5,37.5,39,41,43,38.9,40.200000000000003,41.5,42.8,44.3,45.9,47.5,49.1,50.9,53.6,56.5,59.8,63.7,67.5,44,46,48,50,52,54,56,58,60,62,64,66,68,70,25,26,27,28,29,30,31,32,33,34,35.5,37.5,39,41,43,38.9,40.200000000000003,41.5,42.8,44.3,45.9,47.5,49.1,50.9,53.6,56.5,59.8,63.7,67.5,44,46,48,50,52,54,56,58,60,62,64,66,68,70,{"$f":"'اندازه های شخصی'!G23","v":0},{"$f":"'اندازه های شخصی'!I23","v":0},{"$f":"'اندازه های شخصی'!K23","v":0},{"$f":"'اندازه های شخصی'!M23","v":0},{"$f":"'اندازه های شخصی'!O23","v":0},{"$f":"'اندازه های شخصی'!Q23","v":0},{"$f":"'اندازه های شخصی'!S23","v":0},{"$f":"'اندازه های شخصی'!U23","v":0},{"$f":"'اندازه های شخصی'!W23","v":0},{"$f":"'اندازه های شخصی'!Y23","v":0},{"$f":"'اندازه های شخصی'!AA23","v":0},{"$f":"'اندازه های شخصی'!AC23","v":0},{"$f":"'اندازه های شخصی'!AE23","v":0},{"$f":"'اندازه های شخصی'!AG23","v":0},{"$f":"'اندازه های شخصی'!AI23","v":0},{"$f":"'اندازه های شخصی'!AK23","v":0},{"$f":"'اندازه های شخصی'!AM23","v":0},{"$f":"'اندازه های شخصی'!AO23","v":0},{"$f":"'اندازه های شخصی'!AQ23","v":0},{"$f":"'اندازه های شخصی'!AS23","v":0},{"$f":"'اندازه های شخصی'!AU23","v":0},{"$f":"'اندازه های شخصی'!AW23","v":0},{"$f":"'اندازه های شخصی'!AY23","v":0},{"$f":"'اندازه های شخصی'!BA23","v":0},{"$f":"'اندازه های شخصی'!BC23","v":0},{"$f":"'اندازه های شخصی'!BE23","v":0},{"$f":"'اندازه های شخصی'!BG23","v":0},{"$f":"'اندازه های شخصی'!BI23","v":0},{"$f":"'اندازه های شخصی'!BK23","v":0},{"$f":"'اندازه های شخصی'!BM23","v":0},{"$f":"'اندازه های شخصی'!BO23","v":0},{"$f":"'اندازه های شخصی'!BQ23","v":0},{"$f":"'اندازه های شخصی'!BS23","v":0},{"$f":"'اندازه های شخصی'!BU23","v":0},{"$f":"'اندازه های شخصی'!BW23","v":0},{"$f":"'اندازه های شخصی'!BY23","v":0},{"$f":"'اندازه های شخصی'!CA23","v":0},{"$f":"'اندازه های شخصی'!CC23","v":0},{"$f":"'اندازه های شخصی'!CE23","v":0},{"$f":"'اندازه های شخصی'!CG23","v":0}]
["ضریب بلند شدن آستین به سمت زیر بغل c4","(از 0 الی 1)",0.7,"آستین تا زیر بغل=0 \nبدون آستین= 1  ",{"$f":"'طراحی همه الگوها'!Q236","v":30}," بلند شدن آستین به سمت زیر بغل ",30,0.7,10,0.1,0.03,-0.19999999999999996,0,6.6666666666666652,1,40,0,6.6666666666666652,null,"t1",15.8,16.2,18.3,20.3,21.3,24.4,26.5,26.9,28.6,30.2,31.8,33.299999999999997,35.5,36.5,37.299999999999997,38.200000000000003,39,39.799999999999997,43.6,43.8,44.1,44.4,44.8,45,45,45.6,45.9,46.3,46.3,46.6,46.3,46.5,43.9,44.2,44.3,44.5,44.8,44.8,44.9,44.9,45.2,45.1,45.3,45.6,45.5,45.7,21.8,22.8,25.8,28.2,28.4,30.2,31.7,33.299999999999997,34.9,37.200000000000003,38.200000000000003,39.1,39.700000000000003,40.5,40.9,43.6,43.8,44.1,44.4,44.8,45,45,45.6,45.9,46.3,46.3,46.6,46.3,46.5,46.3,46.3,46,46,45.6,45.6,45.4,45,44.8,44.4,44.4,44.2,44,43.6,{"$f":"'اندازه های شخصی'!G24","v":0},{"$f":"'اندازه های شخصی'!I24","v":0},{"$f":"'اندازه های شخصی'!K24","v":0},{"$f":"'اندازه های شخصی'!M24","v":0},{"$f":"'اندازه های شخصی'!O24","v":0},{"$f":"'اندازه های شخصی'!Q24","v":0},{"$f":"'اندازه های شخصی'!S24","v":0},{"$f":"'اندازه های شخصی'!U24","v":0},{"$f":"'اندازه های شخصی'!W24","v":0},{"$f":"'اندازه های شخصی'!Y24","v":0},{"$f":"'اندازه های شخصی'!AA24","v":0},{"$f":"'اندازه های شخصی'!AC24","v":0},{"$f":"'اندازه های شخصی'!AE24","v":0},{"$f":"'اندازه های شخصی'!AG24","v":0},{"$f":"'اندازه های شخصی'!AI24","v":0},{"$f":"'اندازه های شخصی'!AK24","v":0},{"$f":"'اندازه های شخصی'!AM24","v":0},{"$f":"'اندازه های شخصی'!AO24","v":0},{"$f":"'اندازه های شخصی'!AQ24","v":0},{"$f":"'اندازه های شخصی'!AS24","v":0},{"$f":"'اندازه های شخصی'!AU24","v":0},{"$f":"'اندازه های شخصی'!AW24","v":0},{"$f":"'اندازه های شخصی'!AY24","v":0},{"$f":"'اندازه های شخصی'!BA24","v":0},{"$f":"'اندازه های شخصی'!BC24","v":0},{"$f":"'اندازه های شخصی'!BE24","v":0},{"$f":"'اندازه های شخصی'!BG24","v":0},{"$f":"'اندازه های شخصی'!BI24","v":0},{"$f":"'اندازه های شخصی'!BK24","v":0},{"$f":"'اندازه های شخصی'!BM24","v":0},{"$f":"'اندازه های شخصی'!BO24","v":0},{"$f":"'اندازه های شخصی'!BQ24","v":0},{"$f":"'اندازه های شخصی'!BS24","v":0},{"$f":"'اندازه های شخصی'!BU24","v":0},{"$f":"'اندازه های شخصی'!BW24","v":0},{"$f":"'اندازه های شخصی'!BY24","v":0},{"$f":"'اندازه های شخصی'!CA24","v":0},{"$f":"'اندازه های شخصی'!CC24","v":0},{"$f":"'اندازه های شخصی'!CE24","v":0},{"$f":"'اندازه های شخصی'!CG24","v":0}]
["ضریب گشادی پایین چادر (به درجه) c5","(از 0 الی حداکثر)",20,"چادر راسته بدون گشادی=0  ",{"$f":"'طراحی همه الگوها'!Q237","v":20},"ضریب گشادی پایین چادر (درجه) ",21,21,20,20,1,0,0,0,2,2,0,0,null,"t2",19.399999999999999,19.899999999999999,22.2,24.5,25.7,28.7,31,31.6,33.4,35.200000000000003,36.9,38.6,40.9,42.1,43.3,44.5,45.7,46.9,50.8,51.4,51.9,52.5,53.5,54.3,55.1,56.4,57.5,58.7,59.8,61,62.1,63.3,50.7,51.3,51.7,52.3,52.7,53,53.6,54,54.6,55,55.4,56,56.4,56.9,26.6,27.9,31.1,33.6,34.200000000000003,36.1,37.9,39.799999999999997,41.8,44.3,45.5,46.9,48,49.4,50.6,50.8,51.4,51.9,52.5,53.5,54.3,55.1,56.4,57.5,58.7,59.8,61,62.1,63.3,55.9,56.4,56.7,57.3,57.7,58.3,58.9,59.3,59.9,60.2,60.8,61.4,62,62.4,{"$f":"'اندازه های شخصی'!G25","v":0},{"$f":"'اندازه های شخصی'!I25","v":0},{"$f":"'اندازه های شخصی'!K25","v":0},{"$f":"'اندازه های شخصی'!M25","v":0},{"$f":"'اندازه های شخصی'!O25","v":0},{"$f":"'اندازه های شخصی'!Q25","v":0},{"$f":"'اندازه های شخصی'!S25","v":0},{"$f":"'اندازه های شخصی'!U25","v":0},{"$f":"'اندازه های شخصی'!W25","v":0},{"$f":"'اندازه های شخصی'!Y25","v":0},{"$f":"'اندازه های شخصی'!AA25","v":0},{"$f":"'اندازه های شخصی'!AC25","v":0},{"$f":"'اندازه های شخصی'!AE25","v":0},{"$f":"'اندازه های شخصی'!AG25","v":0},{"$f":"'اندازه های شخصی'!AI25","v":0},{"$f":"'اندازه های شخصی'!AK25","v":0},{"$f":"'اندازه های شخصی'!AM25","v":0},{"$f":"'اندازه های شخصی'!AO25","v":0},{"$f":"'اندازه های شخصی'!AQ25","v":0},{"$f":"'اندازه های شخصی'!AS25","v":0},{"$f":"'اندازه های شخصی'!AU25","v":0},{"$f":"'اندازه های شخصی'!AW25","v":0},{"$f":"'اندازه های شخصی'!AY25","v":0},{"$f":"'اندازه های شخصی'!BA25","v":0},{"$f":"'اندازه های شخصی'!BC25","v":0},{"$f":"'اندازه های شخصی'!BE25","v":0},{"$f":"'اندازه های شخصی'!BG25","v":0},{"$f":"'اندازه های شخصی'!BI25","v":0},{"$f":"'اندازه های شخصی'!BK25","v":0},{"$f":"'اندازه های شخصی'!BM25","v":0},{"$f":"'اندازه های شخصی'!BO25","v":0},{"$f":"'اندازه های شخصی'!BQ25","v":0},{"$f":"'اندازه های شخصی'!BS25","v":0},{"$f":"'اندازه های شخصی'!BU25","v":0},{"$f":"'اندازه های شخصی'!BW25","v":0},{"$f":"'اندازه های شخصی'!BY25","v":0},{"$f":"'اندازه های شخصی'!CA25","v":0},{"$f":"'اندازه های شخصی'!CC25","v":0},{"$f":"'اندازه های شخصی'!CE25","v":0},{"$f":"'اندازه های شخصی'!CG25","v":0}]
["حداکثر مقدار  c5  برای اندام شما",{"$f":"ROUND(DEGREES(محاسبات!ER46-RADIANS(45)+محاسبات!ER42),0)","v":54},null,null,null,"حداکثر مقدار ضریب گشادی پایین چادر  برای اندام شما",null,null,null,null,null,null,null,null,null,null,null,null,null,"t3",33,34,38,42,44,49,53,54,57,60,63,66,70,72,74,76,78,80,80,81,82,83,84.4,85.7,87,88.9,90.8,92.6,94.5,96.3,98.2,100,86.8,87.6,88.4,89.2,90,90.8,91.6,92.4,93.2,94,94.8,95.6,96.4,97.2,42,44,49,53,54,57,60,63,66,70,72,74,76,78,80,80,81,82,83,84.4,85.7,87,88.9,90.8,92.6,94.5,96.3,98.2,100,88.2,89,89.7,90.5,91.3,92.1,92.9,93.7,94.5,95.3,96.1,97.1,97.9,98.7,{"$f":"'اندازه های شخصی'!G26","v":0},{"$f":"'اندازه های شخصی'!I26","v":0},{"$f":"'اندازه های شخصی'!K26","v":0},{"$f":"'اندازه های شخصی'!M26","v":0},{"$f":"'اندازه های شخصی'!O26","v":0},{"$f":"'اندازه های شخصی'!Q26","v":0},{"$f":"'اندازه های شخصی'!S26","v":0},{"$f":"'اندازه های شخصی'!U26","v":0},{"$f":"'اندازه های شخصی'!W26","v":0},{"$f":"'اندازه های شخصی'!Y26","v":0},{"$f":"'اندازه های شخصی'!AA26","v":0},{"$f":"'اندازه های شخصی'!AC26","v":0},{"$f":"'اندازه های شخصی'!AE26","v":0},{"$f":"'اندازه های شخصی'!AG26","v":0},{"$f":"'اندازه های شخصی'!AI26","v":0},{"$f":"'اندازه های شخصی'!AK26","v":0},{"$f":"'اندازه های شخصی'!AM26","v":0},{"$f":"'اندازه های شخصی'!AO26","v":0},{"$f":"'اندازه های شخصی'!AQ26","v":0},{"$f":"'اندازه های شخصی'!AS26","v":0},{"$f":"'اندازه های شخصی'!AU26","v":0},{"$f":"'اندازه های شخصی'!AW26","v":0},{"$f":"'اندازه های شخصی'!AY26","v":0},{"$f":"'اندازه های شخصی'!BA26","v":0},{"$f":"'اندازه های شخصی'!BC26","v":0},{"$f":"'اندازه های شخصی'!BE26","v":0},{"$f":"'اندازه های شخصی'!BG26","v":0},{"$f":"'اندازه های شخصی'!BI26","v":0},{"$f":"'اندازه های شخصی'!BK26","v":0},{"$f":"'اندازه های شخصی'!BM26","v":0},{"$f":"'اندازه های شخصی'!BO26","v":0},{"$f":"'اندازه های شخصی'!BQ26","v":0},{"$f":"'اندازه های شخصی'!BS26","v":0},{"$f":"'اندازه های شخصی'!BU26","v":0},{"$f":"'اندازه های شخصی'!BW26","v":0},{"$f":"'اندازه های شخصی'!BY26","v":0},{"$f":"'اندازه های شخصی'!CA26","v":0},{"$f":"'اندازه های شخصی'!CC26","v":0},{"$f":"'اندازه های شخصی'!CE26","v":0},{"$f":"'اندازه های شخصی'!CG26","v":0}]
["انتخاب چادر تا پایین پیشانی=1    انتخاب چادر تا بالای پیشانی=0\nانتخاب چادر روی سر = -1"," -1 یا 0 یا 1",{"$f":"K32*E32+L32","v":0},null,{"$f":"'طراحی همه الگوها'!Q239","v":2},"انتخاب چادر تا پایین پیشانی=3    انتخاب چادر تا بالای پیشانی=2\nانتخاب چادر روی سر = 1",2,0,1,-1,{"$f":"(J32-H32)/(I32-G32)","v":1},{"$f":"H32-G32*K32","v":-2},0,{"$f":"(M32-L32)/K32","v":2},1,{"$f":"(O32-L32)/K32","v":3},0,{"$f":"(Q32-L32)/K32","v":2},null,"t4",8.1,8.3000000000000007,9.4,10.4,10.9,12.5,13.6,13.8,14.7,15.5,16.3,17.100000000000001,18.2,18.7,19.100000000000001,19.600000000000001,20,20.399999999999999,21.9,22.1,22.3,22.5,22.8,23,23.1,23.5,23.7,23.9,23.9,24,23.8,23.8,21.9,22,22,22.1,22.2,22.2,22.2,22.2,22.3,22.2,22.3,22.4,22.3,22.4,10.8,11.3,12.8,14,14.1,15,15.8,16.600000000000001,17.399999999999999,18.600000000000001,19,19.399999999999999,19.7,20.100000000000001,20.3,21.9,22.1,22.3,22.5,22.8,23,23.1,23.5,23.7,23.9,23.9,24,23.8,23.8,22.9,22.9,22.7,22.7,22.5,22.5,22.4,22.2,22.1,21.9,21.9,21.8,21.7,21.5,{"$f":"'اندازه های شخصی'!G27","v":0},{"$f":"'اندازه های شخصی'!I27","v":0},{"$f":"'اندازه های شخصی'!K27","v":0},{"$f":"'اندازه های شخصی'!M27","v":0},{"$f":"'اندازه های شخصی'!O27","v":0},{"$f":"'اندازه های شخصی'!Q27","v":0},{"$f":"'اندازه های شخصی'!S27","v":0},{"$f":"'اندازه های شخصی'!U27","v":0},{"$f":"'اندازه های شخصی'!W27","v":0},{"$f":"'اندازه های شخصی'!Y27","v":0},{"$f":"'اندازه های شخصی'!AA27","v":0},{"$f":"'اندازه های شخصی'!AC27","v":0},{"$f":"'اندازه های شخصی'!AE27","v":0},{"$f":"'اندازه های شخصی'!AG27","v":0},{"$f":"'اندازه های شخصی'!AI27","v":0},{"$f":"'اندازه های شخصی'!AK27","v":0},{"$f":"'اندازه های شخصی'!AM27","v":0},{"$f":"'اندازه های شخصی'!AO27","v":0},{"$f":"'اندازه های شخصی'!AQ27","v":0},{"$f":"'اندازه های شخصی'!AS27","v":0},{"$f":"'اندازه های شخصی'!AU27","v":0},{"$f":"'اندازه های شخصی'!AW27","v":0},{"$f":"'اندازه های شخصی'!AY27","v":0},{"$f":"'اندازه های شخصی'!BA27","v":0},{"$f":"'اندازه های شخصی'!BC27","v":0},{"$f":"'اندازه های شخصی'!BE27","v":0},{"$f":"'اندازه های شخصی'!BG27","v":0},{"$f":"'اندازه های شخصی'!BI27","v":0},{"$f":"'اندازه های شخصی'!BK27","v":0},{"$f":"'اندازه های شخصی'!BM27","v":0},{"$f":"'اندازه های شخصی'!BO27","v":0},{"$f":"'اندازه های شخصی'!BQ27","v":0},{"$f":"'اندازه های شخصی'!BS27","v":0},{"$f":"'اندازه های شخصی'!BU27","v":0},{"$f":"'اندازه های شخصی'!BW27","v":0},{"$f":"'اندازه های شخصی'!BY27","v":0},{"$f":"'اندازه های شخصی'!CA27","v":0},{"$f":"'اندازه های شخصی'!CC27","v":0},{"$f":"'اندازه های شخصی'!CE27","v":0},{"$f":"'اندازه های شخصی'!CG27","v":0}]
["ضریب فاصله افقی مرغک از خط مرکزی جلو","(از -1 الی 4)",{"$f":"K33*E33+L33","v":2},"خط مرکزی جلو=0 \nخط پهلو=1  ",{"$f":"'طراحی همه الگوها'!Q240","v":40},"ضریب فاصله افقی مرغک از خط مرکزی جلو",20,1,0,0,{"$f":"(J33-H33)/(I33-G33)","v":0.05},{"$f":"H33-G33*K33","v":0},-1,{"$f":"(M33-L33)/K33","v":-20},4,{"$f":"(O33-L33)/K33","v":80},0,{"$f":"(Q33-L33)/K33","v":0},null,"t5",10.1,10.4,11.6,12.8,13.4,15,16.2,16.5,17.5,18.399999999999999,19.3,20.2,21.4,22,22.6,23.3,23.9,24.5,25.4,25.7,26,26.3,26.7,27,27.3,27.8,28.2,28.7,29.1,29.6,30,30.5,26,26.3,26.5,26.8,27,27.2,27.5,27.7,28,28.2,28.4,28.7,28.9,29.2,13.7,14.4,16,17.3,17.600000000000001,18.600000000000001,19.600000000000001,20.6,21.6,22.9,23.5,24.2,24.8,25.5,26.1,25.4,25.7,26,26.3,26.7,27,27.3,27.8,28.2,28.7,29.1,29.6,30,30.5,28.8,29.1,29.3,29.6,29.8,30.1,30.4,30.6,30.9,31.1,31.4,31.7,32,32.200000000000003,{"$f":"'اندازه های شخصی'!G28","v":0},{"$f":"'اندازه های شخصی'!I28","v":0},{"$f":"'اندازه های شخصی'!K28","v":0},{"$f":"'اندازه های شخصی'!M28","v":0},{"$f":"'اندازه های شخصی'!O28","v":0},{"$f":"'اندازه های شخصی'!Q28","v":0},{"$f":"'اندازه های شخصی'!S28","v":0},{"$f":"'اندازه های شخصی'!U28","v":0},{"$f":"'اندازه های شخصی'!W28","v":0},{"$f":"'اندازه های شخصی'!Y28","v":0},{"$f":"'اندازه های شخصی'!AA28","v":0},{"$f":"'اندازه های شخصی'!AC28","v":0},{"$f":"'اندازه های شخصی'!AE28","v":0},{"$f":"'اندازه های شخصی'!AG28","v":0},{"$f":"'اندازه های شخصی'!AI28","v":0},{"$f":"'اندازه های شخصی'!AK28","v":0},{"$f":"'اندازه های شخصی'!AM28","v":0},{"$f":"'اندازه های شخصی'!AO28","v":0},{"$f":"'اندازه های شخصی'!AQ28","v":0},{"$f":"'اندازه های شخصی'!AS28","v":0},{"$f":"'اندازه های شخصی'!AU28","v":0},{"$f":"'اندازه های شخصی'!AW28","v":0},{"$f":"'اندازه های شخصی'!AY28","v":0},{"$f":"'اندازه های شخصی'!BA28","v":0},{"$f":"'اندازه های شخصی'!BC28","v":0},{"$f":"'اندازه های شخصی'!BE28","v":0},{"$f":"'اندازه های شخصی'!BG28","v":0},{"$f":"'اندازه های شخصی'!BI28","v":0},{"$f":"'اندازه های شخصی'!BK28","v":0},{"$f":"'اندازه های شخصی'!BM28","v":0},{"$f":"'اندازه های شخصی'!BO28","v":0},{"$f":"'اندازه های شخصی'!BQ28","v":0},{"$f":"'اندازه های شخصی'!BS28","v":0},{"$f":"'اندازه های شخصی'!BU28","v":0},{"$f":"'اندازه های شخصی'!BW28","v":0},{"$f":"'اندازه های شخصی'!BY28","v":0},{"$f":"'اندازه های شخصی'!CA28","v":0},{"$f":"'اندازه های شخصی'!CC28","v":0},{"$f":"'اندازه های شخصی'!CE28","v":0},{"$f":"'اندازه های شخصی'!CG28","v":0}]
["ضریب فاصله عمودی مرغک از زمین","(از 0 الی 5)",{"$f":"K34*E34+L34","v":1.25},"خط زمین=0 \nخط زانو=1 \nخط باسن=2 \nخط کمر=3 \nخط سینه=4  ",{"$f":"'طراحی همه الگوها'!Q241","v":35},"ضریب فاصله عمودی مرغک از زمین",10,0,30,1,{"$f":"(J34-H34)/(I34-G34)","v":0.05},{"$f":"H34-G34*K34","v":-0.5},0,{"$f":"(M34-L34)/K34","v":10},5,{"$f":"(O34-L34)/K34","v":110},0,{"$f":"(Q34-L34)/K34","v":10},null,"t6",16.8,17.3,19.399999999999999,21.4,22.4,25,27,27.5,29.1,30.6,32.1,33.700000000000003,35.700000000000003,36.700000000000003,37.700000000000003,38.799999999999997,39.799999999999997,40.799999999999997,39,39.5,40,40.5,41,41.5,42,42.7,43.4,44.1,44.8,45.5,46.2,46.9,43.4,43.8,44.2,44.6,45,45.4,45.8,46.2,46.6,47,47.4,47.8,48.2,48.6,21.1,22.1,24.6,26.6,27.1,28.6,30.2,31.7,33.200000000000003,35.200000000000003,36.200000000000003,37.200000000000003,38.200000000000003,39.200000000000003,40.200000000000003,39,39.5,40,40.5,41,41.5,42,42.7,43.4,44.1,44.8,45.5,46.2,46.9,44.3,44.7,45.1,45.5,45.9,46.3,46.7,47.1,47.5,47.9,48.3,48.8,49.2,49.6,{"$f":"'اندازه های شخصی'!G29","v":0},{"$f":"'اندازه های شخصی'!I29","v":0},{"$f":"'اندازه های شخصی'!K29","v":0},{"$f":"'اندازه های شخصی'!M29","v":0},{"$f":"'اندازه های شخصی'!O29","v":0},{"$f":"'اندازه های شخصی'!Q29","v":0},{"$f":"'اندازه های شخصی'!S29","v":0},{"$f":"'اندازه های شخصی'!U29","v":0},{"$f":"'اندازه های شخصی'!W29","v":0},{"$f":"'اندازه های شخصی'!Y29","v":0},{"$f":"'اندازه های شخصی'!AA29","v":0},{"$f":"'اندازه های شخصی'!AC29","v":0},{"$f":"'اندازه های شخصی'!AE29","v":0},{"$f":"'اندازه های شخصی'!AG29","v":0},{"$f":"'اندازه های شخصی'!AI29","v":0},{"$f":"'اندازه های شخصی'!AK29","v":0},{"$f":"'اندازه های شخصی'!AM29","v":0},{"$f":"'اندازه های شخصی'!AO29","v":0},{"$f":"'اندازه های شخصی'!AQ29","v":0},{"$f":"'اندازه های شخصی'!AS29","v":0},{"$f":"'اندازه های شخصی'!AU29","v":0},{"$f":"'اندازه های شخصی'!AW29","v":0},{"$f":"'اندازه های شخصی'!AY29","v":0},{"$f":"'اندازه های شخصی'!BA29","v":0},{"$f":"'اندازه های شخصی'!BC29","v":0},{"$f":"'اندازه های شخصی'!BE29","v":0},{"$f":"'اندازه های شخصی'!BG29","v":0},{"$f":"'اندازه های شخصی'!BI29","v":0},{"$f":"'اندازه های شخصی'!BK29","v":0},{"$f":"'اندازه های شخصی'!BM29","v":0},{"$f":"'اندازه های شخصی'!BO29","v":0},{"$f":"'اندازه های شخصی'!BQ29","v":0},{"$f":"'اندازه های شخصی'!BS29","v":0},{"$f":"'اندازه های شخصی'!BU29","v":0},{"$f":"'اندازه های شخصی'!BW29","v":0},{"$f":"'اندازه های شخصی'!BY29","v":0},{"$f":"'اندازه های شخصی'!CA29","v":0},{"$f":"'اندازه های شخصی'!CC29","v":0},{"$f":"'اندازه های شخصی'!CE29","v":0},{"$f":"'اندازه های شخصی'!CG29","v":0}]
[null,null,null,null,null,null,null,null,null,null,null,null,null,null,null,null,null,null,null,"v",25,27,27,28,28,30,30,31,31,32,32,33,34,35,36,37,38,39,36,37,38,39,40.200000000000003,41.4,42.6,43.8,45,46,47,48,49,50,39,40,41,42,43,44,45,46,47,48,49,50,51,52,28,28,30,30,31,31,32,32,33,34,35,36,37,38,39,36,37,38,39,40.200000000000003,41.4,42.6,43.8,45,46,47,48,49,50,39,40,41,42,43,44,45,46,47,48,49,50,51,52,{"$f":"'اندازه های شخصی'!G30","v":0},{"$f":"'اندازه های شخصی'!I30","v":0},{"$f":"'اندازه های شخصی'!K30","v":0},{"$f":"'اندازه های شخصی'!M30","v":0},{"$f":"'اندازه های شخصی'!O30","v":0},{"$f":"'اندازه های شخصی'!Q30","v":0},{"$f":"'اندازه های شخصی'!S30","v":0},{"$f":"'اندازه های شخصی'!U30","v":0},{"$f":"'اندازه های شخصی'!W30","v":0},{"$f":"'اندازه های شخصی'!Y30","v":0},{"$f":"'اندازه های شخصی'!AA30","v":0},{"$f":"'اندازه های شخصی'!AC30","v":0},{"$f":"'اندازه های شخصی'!AE30","v":0},{"$f":"'اندازه های شخصی'!AG30","v":0},{"$f":"'اندازه های شخصی'!AI30","v":0},{"$f":"'اندازه های شخصی'!AK30","v":0},{"$f":"'اندازه های شخصی'!AM30","v":0},{"$f":"'اندازه های شخصی'!AO30","v":0},{"$f":"'اندازه های شخصی'!AQ30","v":0},{"$f":"'اندازه های شخصی'!AS30","v":0},{"$f":"'اندازه های شخصی'!AU30","v":0},{"$f":"'اندازه های شخصی'!AW30","v":0},{"$f":"'اندازه های شخصی'!AY30","v":0},{"$f":"'اندازه های شخصی'!BA30","v":0},{"$f":"'اندازه های شخصی'!BC30","v":0},{"$f":"'اندازه های شخصی'!BE30","v":0},{"$f":"'اندازه های شخصی'!BG30","v":0},{"$f":"'اندازه های شخصی'!BI30","v":0},{"$f":"'اندازه های شخصی'!BK30","v":0},{"$f":"'اندازه های شخصی'!BM30","v":0},{"$f":"'اندازه های شخصی'!BO30","v":0},{"$f":"'اندازه های شخصی'!BQ30","v":0},{"$f":"'اندازه های شخصی'!BS30","v":0},{"$f":"'اندازه های شخصی'!BU30","v":0},{"$f":"'اندازه های شخصی'!BW30","v":0},{"$f":"'اندازه های شخصی'!BY30","v":0},{"$f":"'اندازه های شخصی'!CA30","v":0},{"$f":"'اندازه های شخصی'!CC30","v":0},{"$f":"'اندازه های شخصی'!CE30","v":0},{"$f":"'اندازه های شخصی'!CG30","v":0}]
[" متغیرهای ورودی چادر شماره 5",null,null,null,null," متغیرهای ورودی چادر شماره 5","x1","y1","x2","y2(بهینه)","a","b",null,"کمترین",null,"بیشترین",null,null,null,"v3",17.7,18.399999999999999,19.2,20.399999999999999,21.2,22,22.7,23.5,24.2,25.2,26,27,27.8,28.9,30.5,31.8,33.4,35.1,31.9,32.9,33.9,34.799999999999997,36,37.1,38.299999999999997,39.5,40.9,43.2,45.7,48.6,52.1,55.5,35.200000000000003,36.9,38.6,40.200000000000003,41.9,43.6,45.4,47.3,49.1,51.8,52.8,54.6,56.5,58.3,20.399999999999999,21.2,22,22.7,23.5,24.2,25.2,26,27,27.8,28.9,30.5,31.8,33.4,35.1,31.9,32.9,33.9,34.799999999999997,36,37.1,38.299999999999997,39.5,40.9,43.2,45.7,48.6,52.1,55.5,35.5,37.200000000000003,38.9,40.6,42.3,44,45.8,47.7,49.5,51.4,53.2,55.1,56.9,58.8,{"$f":"'اندازه های شخصی'!G31","v":0},{"$f":"'اندازه های شخصی'!I31","v":0},{"$f":"'اندازه های شخصی'!K31","v":0},{"$f":"'اندازه های شخصی'!M31","v":0},{"$f":"'اندازه های شخصی'!O31","v":0},{"$f":"'اندازه های شخصی'!Q31","v":0},{"$f":"'اندازه های شخصی'!S31","v":0},{"$f":"'اندازه های شخصی'!U31","v":0},{"$f":"'اندازه های شخصی'!W31","v":0},{"$f":"'اندازه های شخصی'!Y31","v":0},{"$f":"'اندازه های شخصی'!AA31","v":0},{"$f":"'اندازه های شخصی'!AC31","v":0},{"$f":"'اندازه های شخصی'!AE31","v":0},{"$f":"'اندازه های شخصی'!AG31","v":0},{"$f":"'اندازه های شخصی'!AI31","v":0},{"$f":"'اندازه های شخصی'!AK31","v":0},{"$f":"'اندازه های شخصی'!AM31","v":0},{"$f":"'اندازه های شخصی'!AO31","v":0},{"$f":"'اندازه های شخصی'!AQ31","v":0},{"$f":"'اندازه های شخصی'!AS31","v":0},{"$f":"'اندازه های شخصی'!AU31","v":0},{"$f":"'اندازه های شخصی'!AW31","v":0},{"$f":"'اندازه های شخصی'!AY31","v":0},{"$f":"'اندازه های شخصی'!BA31","v":0},{"$f":"'اندازه های شخصی'!BC31","v":0},{"$f":"'اندازه های شخصی'!BE31","v":0},{"$f":"'اندازه های شخصی'!BG31","v":0},{"$f":"'اندازه های شخصی'!BI31","v":0},{"$f":"'اندازه های شخصی'!BK31","v":0},{"$f":"'اندازه های شخصی'!BM31","v":0},{"$f":"'اندازه های شخصی'!BO31","v":0},{"$f":"'اندازه های شخصی'!BQ31","v":0},{"$f":"'اندازه های شخصی'!BS31","v":0},{"$f":"'اندازه های شخصی'!BU31","v":0},{"$f":"'اندازه های شخصی'!BW31","v":0},{"$f":"'اندازه های شخصی'!BY31","v":0},{"$f":"'اندازه های شخصی'!CA31","v":0},{"$f":"'اندازه های شخصی'!CC31","v":0},{"$f":"'اندازه های شخصی'!CE31","v":0},{"$f":"'اندازه های شخصی'!CG31","v":0}]
["ضریب فاصله لبه چادر تا زمین   j0","(از -0.1 الی 0.5)",{"$f":"K37*E37+L37","v":0},"خط زمین=0 \nخط زانو=1  ",{"$f":"'طراحی همه الگوها'!Q249","v":10},"ضریب فاصله لبه چادر تا زمین   ",10,0,30,1,{"$f":"(J37-H37)/(I37-G37)","v":0.05},{"$f":"H37-G37*K37","v":-0.5},-0.1,{"$f":"(M37-L37)/K37","v":8},0.5,{"$f":"(O37-L37)/K37","v":20},0,{"$f":"(Q37-L37)/K37","v":10},null,"w2",16,17,18,19,20,21,22,23,24,24,25,25,26,27.5,29,30,31.5,33,27,28.2,29.4,30.6,32,33.799999999999997,35.4,37,38.5,40,41.5,43,44.5,46,33.9,35.1,36.299999999999997,37.6,38.799999999999997,40,40.700000000000003,41.3,41.9,42.5,43.1,43.7,44.4,45,19,20,21,22,23,24,24,25,25,26,27.5,29,30,31.5,33,27,28.2,29.4,30.6,32,33.799999999999997,35.4,37,38.5,40,41.5,43,44.5,46,33.9,35.1,36.299999999999997,37.6,38.799999999999997,40,40.700000000000003,41.3,41.9,42.5,43.1,43.7,44.4,45,{"$f":"'اندازه های شخصی'!G32","v":0},{"$f":"'اندازه های شخصی'!I32","v":0},{"$f":"'اندازه های شخصی'!K32","v":0},{"$f":"'اندازه های شخصی'!M32","v":0},{"$f":"'اندازه های شخصی'!O32","v":0},{"$f":"'اندازه های شخصی'!Q32","v":0},{"$f":"'اندازه های شخصی'!S32","v":0},{"$f":"'اندازه های شخصی'!U32","v":0},{"$f":"'اندازه های شخصی'!W32","v":0},{"$f":"'اندازه های شخصی'!Y32","v":0},{"$f":"'اندازه های شخصی'!AA32","v":0},{"$f":"'اندازه های شخصی'!AC32","v":0},{"$f":"'اندازه های شخصی'!AE32","v":0},{"$f":"'اندازه های شخصی'!AG32","v":0},{"$f":"'اندازه های شخصی'!AI32","v":0},{"$f":"'اندازه های شخصی'!AK32","v":0},{"$f":"'اندازه های شخصی'!AM32","v":0},{"$f":"'اندازه های شخصی'!AO32","v":0},{"$f":"'اندازه های شخصی'!AQ32","v":0},{"$f":"'اندازه های شخصی'!AS32","v":0},{"$f":"'اندازه های شخصی'!AU32","v":0},{"$f":"'اندازه های شخصی'!AW32","v":0},{"$f":"'اندازه های شخصی'!AY32","v":0},{"$f":"'اندازه های شخصی'!BA32","v":0},{"$f":"'اندازه های شخصی'!BC32","v":0},{"$f":"'اندازه های شخصی'!BE32","v":0},{"$f":"'اندازه های شخصی'!BG32","v":0},{"$f":"'اندازه های شخصی'!BI32","v":0},{"$f":"'اندازه های شخصی'!BK32","v":0},{"$f":"'اندازه های شخصی'!BM32","v":0},{"$f":"'اندازه های شخصی'!BO32","v":0},{"$f":"'اندازه های شخصی'!BQ32","v":0},{"$f":"'اندازه های شخصی'!BS32","v":0},{"$f":"'اندازه های شخصی'!BU32","v":0},{"$f":"'اندازه های شخصی'!BW32","v":0},{"$f":"'اندازه های شخصی'!BY32","v":0},{"$f":"'اندازه های شخصی'!CA32","v":0},{"$f":"'اندازه های شخصی'!CC32","v":0},{"$f":"'اندازه های شخصی'!CE32","v":0},{"$f":"'اندازه های شخصی'!CG32","v":0}]
["ضریب گشادی دامن چادر  d1","(از 1.5 الی 2.3)",{"$f":"K38*E38+L38","v":1.8},"بهینه=1.8",{"$f":"'طراحی همه الگوها'!Q250","v":20},"ضریب گشادی دامن چادر  ",21,1.85,20,1.8,{"$f":"(J38-H38)/(I38-G38)","v":5.0000000000000044E-2},{"$f":"H38-G38*K38","v":0.79999999999999916},1.5,{"$f":"(M38-L38)/K38","v":14.000000000000004},2.2999999999999998,{"$f":"(O38-L38)/K38","v":29.999999999999986},1.8,{"$f":"(Q38-L38)/K38","v":20},null,"w10",17,18,21,23,27,31,35,38,41,44,46,48,50,52,54,56,58,60,57.2,57.8,58.4,59,59.5,60,60.5,61,61.2,62,62.5,63,63.5,64,60,60.3,60.8,61.4,62,62.5,63,63.5,64,64.400000000000006,64.8,65.2,65.599999999999994,66,23,27,31,35,38,41,44,46,48,50,52,54,56,58,60,57.2,57.8,58.4,59,59.5,60,60.5,61,61.2,62,62.5,63,63.5,64,60,60.3,60.8,61.4,62,62.5,63,63.5,64,64.400000000000006,64.8,65.2,65.599999999999994,66,{"$f":"'اندازه های شخصی'!G33","v":0},{"$f":"'اندازه های شخصی'!I33","v":0},{"$f":"'اندازه های شخصی'!K33","v":0},{"$f":"'اندازه های شخصی'!M33","v":0},{"$f":"'اندازه های شخصی'!O33","v":0},{"$f":"'اندازه های شخصی'!Q33","v":0},{"$f":"'اندازه های شخصی'!S33","v":0},{"$f":"'اندازه های شخصی'!U33","v":0},{"$f":"'اندازه های شخصی'!W33","v":0},{"$f":"'اندازه های شخصی'!Y33","v":0},{"$f":"'اندازه های شخصی'!AA33","v":0},{"$f":"'اندازه های شخصی'!AC33","v":0},{"$f":"'اندازه های شخصی'!AE33","v":0},{"$f":"'اندازه های شخصی'!AG33","v":0},{"$f":"'اندازه های شخصی'!AI33","v":0},{"$f":"'اندازه های شخصی'!AK33","v":0},{"$f":"'اندازه های شخصی'!AM33","v":0},{"$f":"'اندازه های شخصی'!AO33","v":0},{"$f":"'اندازه های شخصی'!AQ33","v":0},{"$f":"'اندازه های شخصی'!AS33","v":0},{"$f":"'اندازه های شخصی'!AU33","v":0},{"$f":"'اندازه های شخصی'!AW33","v":0},{"$f":"'اندازه های شخصی'!AY33","v":0},{"$f":"'اندازه های شخصی'!BA33","v":0},{"$f":"'اندازه های شخصی'!BC33","v":0},{"$f":"'اندازه های شخصی'!BE33","v":0},{"$f":"'اندازه های شخصی'!BG33","v":0},{"$f":"'اندازه های شخصی'!BI33","v":0},{"$f":"'اندازه های شخصی'!BK33","v":0},{"$f":"'اندازه های شخصی'!BM33","v":0},{"$f":"'اندازه های شخصی'!BO33","v":0},{"$f":"'اندازه های شخصی'!BQ33","v":0},{"$f":"'اندازه های شخصی'!BS33","v":0},{"$f":"'اندازه های شخصی'!BU33","v":0},{"$f":"'اندازه های شخصی'!BW33","v":0},{"$f":"'اندازه های شخصی'!BY33","v":0},{"$f":"'اندازه های شخصی'!CA33","v":0},{"$f":"'اندازه های شخصی'!CC33","v":0},{"$f":"'اندازه های شخصی'!CE33","v":0},{"$f":"'اندازه های شخصی'!CG33","v":0}]
["ضریب بلند شدن دسته چادر d2","(از 0.1 الی 1)",{"$f":"K39*E39+L39","v":0.5},"بهینه=0.5",{"$f":"'طراحی همه الگوها'!Q251","v":20},"ضریب بلند شدن دسته چادر ",21,0.55000000000000004,20,0.5,{"$f":"(J39-H39)/(I39-G39)","v":5.0000000000000044E-2},{"$f":"H39-G39*K39","v":-0.50000000000000089},0.1,{"$f":"(M39-L39)/K39","v":12.000000000000007},1,{"$f":"(O39-L39)/K39","v":29.999999999999993},0.5,{"$f":"(Q39-L39)/K39","v":20},null,"w11",10,10,10.5,11,12,12,13,13,13,14,14,15,16,15,16,16.5,17,17.5,16.5,17,17.5,18,18.5,19,19.5,20,20.5,21,21.5,22,22.5,23,17.899999999999999,18.3,18.7,19.100000000000001,19.5,19.899999999999999,20.3,20.7,21.1,21.5,21.9,22.3,22.7,23.1,11,12,12,13,13,13,14,14,15,16,15,16,16.5,17,17.5,16.5,17,17.5,18,18.5,19,19.5,20,20.5,21,21.5,22,22.5,23,17.899999999999999,18.3,18.7,19.100000000000001,19.5,19.899999999999999,20.3,20.7,21.1,21.5,21.9,22.3,22.7,23.1,{"$f":"'اندازه های شخصی'!G34","v":0},{"$f":"'اندازه های شخصی'!I34","v":0},{"$f":"'اندازه های شخصی'!K34","v":0},{"$f":"'اندازه های شخصی'!M34","v":0},{"$f":"'اندازه های شخصی'!O34","v":0},{"$f":"'اندازه های شخصی'!Q34","v":0},{"$f":"'اندازه های شخصی'!S34","v":0},{"$f":"'اندازه های شخصی'!U34","v":0},{"$f":"'اندازه های شخصی'!W34","v":0},{"$f":"'اندازه های شخصی'!Y34","v":0},{"$f":"'اندازه های شخصی'!AA34","v":0},{"$f":"'اندازه های شخصی'!AC34","v":0},{"$f":"'اندازه های شخصی'!AE34","v":0},{"$f":"'اندازه های شخصی'!AG34","v":0},{"$f":"'اندازه های شخصی'!AI34","v":0},{"$f":"'اندازه های شخصی'!AK34","v":0},{"$f":"'اندازه های شخصی'!AM34","v":0},{"$f":"'اندازه های شخصی'!AO34","v":0},{"$f":"'اندازه های شخصی'!AQ34","v":0},{"$f":"'اندازه های شخصی'!AS34","v":0},{"$f":"'اندازه های شخصی'!AU34","v":0},{"$f":"'اندازه های شخصی'!AW34","v":0},{"$f":"'اندازه های شخصی'!AY34","v":0},{"$f":"'اندازه های شخصی'!BA34","v":0},{"$f":"'اندازه های شخصی'!BC34","v":0},{"$f":"'اندازه های شخصی'!BE34","v":0},{"$f":"'اندازه های شخصی'!BG34","v":0},{"$f":"'اندازه های شخصی'!BI34","v":0},{"$f":"'اندازه های شخصی'!BK34","v":0},{"$f":"'اندازه های شخصی'!BM34","v":0},{"$f":"'اندازه های شخصی'!BO34","v":0},{"$f":"'اندازه های شخصی'!BQ34","v":0},{"$f":"'اندازه های شخصی'!BS34","v":0},{"$f":"'اندازه های شخصی'!BU34","v":0},{"$f":"'اندازه های شخصی'!BW34","v":0},{"$f":"'اندازه های شخصی'!BY34","v":0},{"$f":"'اندازه های شخصی'!CA34","v":0},{"$f":"'اندازه های شخصی'!CC34","v":0},{"$f":"'اندازه های شخصی'!CE34","v":0},{"$f":"'اندازه های شخصی'!CG34","v":0}]
["انتخاب چادر تا پایین پیشانی=1    انتخاب چادر تا بالای پیشانی=0\nانتخاب چادر روی سر = -1"," -1 یا 0 یا 1",{"$f":"K40*E40+L40","v":0},null,{"$f":"'طراحی همه الگوها'!Q252","v":2},"انتخاب چادر تا پایین پیشانی=3    انتخاب چادر تا بالای پیشانی=2\nانتخاب چادر روی سر = 1",2,0,1,-1,{"$f":"(J40-H40)/(I40-G40)","v":1},{"$f":"H40-G40*K40","v":-2},0,{"$f":"(M40-L40)/K40","v":2},1,{"$f":"(O40-L40)/K40","v":3},0,{"$f":"(Q40-L40)/K40","v":2},null,"w12",37,38,42,45,47,49,50,51,52,53,53.5,54,54.5,55,55.5,56,56.5,57,57,57,57,57,57,57,57,57,57,57,57,57,57,57,59,59,59,59,59,59,59,59,59,59,59,59,59,59,45,47,49,50,51,52,53,53.5,54,54.5,55,55.5,56,56.5,57,57,57,57,57,57,57,57,57,57,57,57,57,57,57,59,59,59,59,59,59,59,59,59,59,59,59,59,59,{"$f":"'اندازه های شخصی'!G35","v":0},{"$f":"'اندازه های شخصی'!I35","v":0},{"$f":"'اندازه های شخصی'!K35","v":0},{"$f":"'اندازه های شخصی'!M35","v":0},{"$f":"'اندازه های شخصی'!O35","v":0},{"$f":"'اندازه های شخصی'!Q35","v":0},{"$f":"'اندازه های شخصی'!S35","v":0},{"$f":"'اندازه های شخصی'!U35","v":0},{"$f":"'اندازه های شخصی'!W35","v":0},{"$f":"'اندازه های شخصی'!Y35","v":0},{"$f":"'اندازه های شخصی'!AA35","v":0},{"$f":"'اندازه های شخصی'!AC35","v":0},{"$f":"'اندازه های شخصی'!AE35","v":0},{"$f":"'اندازه های شخصی'!AG35","v":0},{"$f":"'اندازه های شخصی'!AI35","v":0},{"$f":"'اندازه های شخصی'!AK35","v":0},{"$f":"'اندازه های شخصی'!AM35","v":0},{"$f":"'اندازه های شخصی'!AO35","v":0},{"$f":"'اندازه های شخصی'!AQ35","v":0},{"$f":"'اندازه های شخصی'!AS35","v":0},{"$f":"'اندازه های شخصی'!AU35","v":0},{"$f":"'اندازه های شخصی'!AW35","v":0},{"$f":"'اندازه های شخصی'!AY35","v":0},{"$f":"'اندازه های شخصی'!BA35","v":0},{"$f":"'اندازه های شخصی'!BC35","v":0},{"$f":"'اندازه های شخصی'!BE35","v":0},{"$f":"'اندازه های شخصی'!BG35","v":0},{"$f":"'اندازه های شخصی'!BI35","v":0},{"$f":"'اندازه های شخصی'!BK35","v":0},{"$f":"'اندازه های شخصی'!BM35","v":0},{"$f":"'اندازه های شخصی'!BO35","v":0},{"$f":"'اندازه های شخصی'!BQ35","v":0},{"$f":"'اندازه های شخصی'!BS35","v":0},{"$f":"'اندازه های شخصی'!BU35","v":0},{"$f":"'اندازه های شخصی'!BW35","v":0},{"$f":"'اندازه های شخصی'!BY35","v":0},{"$f":"'اندازه های شخصی'!CA35","v":0},{"$f":"'اندازه های شخصی'!CC35","v":0},{"$f":"'اندازه های شخصی'!CE35","v":0},{"$f":"'اندازه های شخصی'!CG35","v":0}]
[]
[null,null,null,null,null,null,null,null,null,null,null,null,null,null,null,null,null,null,null,null,"سایز مناسب برای الگوهای شلوار",{"$f":"IF(W43=1,(IF(Y43<U9-1,\" کوچکتر از یک ماهه \",IF(Y43<V9-1,U6,IF(Y43<W9-1,V6,IF(Y43<X9-1,W6,IF(Y43<Y9-1,X6,IF(Y43<Z9-1,Y6,IF(Y43<AA9-1,Z6,IF(Y43<AB9-1,AA6,IF(Y43<AC9-1,AB6,IF(Y43<AD9-1,AC6,IF(Y43<AE9-1,AD6,IF(Y43<AF9-1,AE6,IF(Y43<AG9-1,AF6,IF(Y43<AH9-1,AG6,IF(Y43<AI9-1,AH6,IF(Y43<AJ9-1,AI6,IF(Y43<AK9-1,AJ6,IF(Y43<AL9-1,AK6,IF(Y43<AL9+3,AL6,\" بزرگتر از 14 ساله \")))))))))))))))))))),IF(W43=2,(IF(Y43<AM9-1,\" کوچکتر از سایز 34 \",IF(Y43<AN9-1,AM6,IF(Y43<AO9-1,AN6,IF(Y43<AP9-1,AO6,IF(Y43<AQ9-1,AP6,IF(Y43<AR9-1,AQ6,IF(Y43<AS9-1,AR6,IF(Y43<AT9-1,AS6,IF(Y43<AU9-1,AT6,IF(Y43<AV9-1,AU6,IF(Y43<AW9-1,AV6,IF(Y43<AX9-1,AW6,IF(Y43<AY9-1,AX6,IF(Y43<AZ9-1,AY6,IF(Y43<AZ9+3,AZ6,\" بزرگتر از سایز 60 \")))))))))))))))),IF(Y43<BA9-1,\"  کوچکتراز سایز 37  \",IF(Y43<BB9-1,BA6,IF(Y43<BC9-1,BB6,IF(Y43<BD9-1,BC6,IF(Y43<BE9-1,BD6,IF(Y43<BF9-1,BE6,IF(Y43<BG9-1,BF6,IF(Y43<BH9-1,BG6,IF(Y43<BI9-1,BH6,IF(Y43<BJ9-1,BI6,IF(Y43<BK9-1,BJ6,IF(Y43<BL9-1,BK6,IF(Y43<BM9-1,BL6,IF(Y43<BN9-1,BM6,IF(Y43<BN9+3,BN6,\" بزرگتر از سایز 50 \")))))))))))))))))","v":" کوچکتر از سایز 34 "},"انتخاب نوع اندازه گیری","کمر اندام","باسن اندام","دور سینه اندام"]
[null,null,null,null,null,null,null,null,null,null,null,null,null,null,null,null,null,null,null,null,"سایز مناسب برای الگوهای دامن",{"$f":"IF(W43=1,(IF(X43<U7-1,\" کوچکتر از یک ماهه \",IF(X43<V7-1,U6,IF(X43<W7-1,V6,IF(X43<X7-1,W6,IF(X43<Y7-1,X6,IF(X43<Z7-1,Y6,IF(X43<AA7-1,Z6,IF(X43<AB7-1,AA6,IF(X43<AC7-1,AB6,IF(X43<AD7-1,AC6,IF(X43<AE7-1,AD6,IF(X43<AF7-1,AE6,IF(X43<AG7-1,AF6,IF(X43<AH7-1,AG6,IF(X43<AI7-1,AH6,IF(X43<AJ7-1,AI6,IF(X43<AK7-1,AJ6,IF(X43<AL7-1,AK6,IF(X43<AL7+3,AL6,\" بزرگتر از 14 ساله \")))))))))))))))))))),IF(W43=2,(IF(X43<AM7-1,\" کوچکتر از سایز 34 \",IF(X43<AN7-1,AM6,IF(X43<AO7-1,AN6,IF(X43<AP7-1,AO6,IF(X43<AQ7-1,AP6,IF(X43<AR7-1,AQ6,IF(X43<AS7-1,AR6,IF(X43<AT7-1,AS6,IF(X43<AU7-1,AT6,IF(X43<AV7-1,AU6,IF(X43<AW7-1,AV6,IF(X43<AX7-1,AW6,IF(X43<AY7-1,AX6,IF(X43<AZ7-1,AY6,IF(X43<AZ7+3,AZ6,\" بزرگتر از سایز 60 \")))))))))))))))),IF(X43<BA7-1,\" کوچکتر از سایز 37 \",IF(X43<BB7-1,BA6,IF(X43<BC7-1,BB6,IF(X43<BD7-1,BC6,IF(X43<BE7-1,BD6,IF(X43<BF7-1,BE6,IF(X43<BG7-1,BF6,IF(X43<BH7-1,BG6,IF(X43<BI7-1,BH6,IF(X43<BJ7-1,BI6,IF(X43<BK7-1,BJ6,IF(X43<BL7-1,BK6,IF(X43<BM7-1,BL6,IF(X43<BN7-1,BM6,IF(X43<BN7+3,BN6,\" بزرگتر از سایز 50 \")))))))))))))))))","v":" کوچکتر از سایز 34 "},2,{"$f":"'اندازه گیری و تحلیل'!E275","v":0},{"$f":"'اندازه گیری و تحلیل'!E272","v":0},{"$f":"'اندازه گیری و تحلیل'!E269","v":0}]
[null,null,null,null,null,null,null,null,null,null,null,null,null,null,null,null,null,null,null,null,"سایز مناسب برای الگوهای پیراهن",{"$f":"IF(W43=1,(IF(Z43<U27-1,\" کوچکتر از یک ماهه \",IF(Z43<V27-1,U6,IF(Z43<W27-1,V6,IF(Z43<X27-1,W6,IF(Z43<Y27-1,X6,IF(Z43<Z27-1,Y6,IF(Z43<AA27-1,Z6,IF(Z43<AB27-1,AA6,IF(Z43<AC27-1,AB6,IF(Z43<AD27-1,AC6,IF(Z43<AE27-1,AD6,IF(Z43<AF27-1,AE6,IF(Z43<AG27-1,AF6,IF(Z43<AH27-1,AG6,IF(Z43<AI27-1,AH6,IF(Z43<AJ27-1,AI6,IF(Z43<AK27-1,AJ6,IF(Z43<AL27-1,AK6,IF(Z43<AL27+3,AL6,\" بزرگتر از 14 ساله \")))))))))))))))))))),IF(W43=2,(IF(Z43<AM27-1,\" کوچکتر از سایز 34 \",IF(Z43<AN27-1,AM6,IF(Z43<AO27-1,AN6,IF(Z43<AP27-1,AO6,IF(Z43<AQ27-1,AP6,IF(Z43<AR27-1,AQ6,IF(Z43<AS27-1,AR6,IF(Z43<AT27-1,AS6,IF(Z43<AU27-1,AT6,IF(Z43<AV27-1,AU6,IF(Z43<AW27-1,AV6,IF(Z43<AX27-1,AW6,IF(Z43<AY27-1,AX6,IF(Z43<AZ27-1,AY6,IF(Z43<AZ27+3,AZ6,\" بزرگتر از سایز 60 \")))))))))))))))),IF(Z43<BA27-1,\" کوچکتر از سایز 37 \",IF(Z43<BB27-1,BA6,IF(Z43<BC27-1,BB6,IF(Z43<BD27-1,BC6,IF(Z43<BE27-1,BD6,IF(Z43<BF27-1,BE6,IF(Z43<BG27-1,BF6,IF(Z43<BH27-1,BG6,IF(Z43<BI27-1,BH6,IF(Z43<BJ27-1,BI6,IF(Z43<BK27-1,BJ6,IF(Z43<BL27-1,BK6,IF(Z43<BM27-1,BL6,IF(Z43<BN27-1,BM6,IF(Z43<BN27+3,BN6,\" بزرگتر از سایز 50 \")))))))))))))))))","v":" کوچکتر از سایز 34 "}]
[]
["متغیرهای ورودی پیراهن ",null,null,null,null,"متغیرهای ورودی پیراهن "]
[]
[null,"برچسب الگو :",null,null,null," پنج ساله میل سه"]
[]
[" متغیرهای ورودی - شیفت الگو پیراهن",null,null,null,null," متغیرهای ورودی - شیفت الگو پیراهن","x1","y1","x2","y2(بهینه)","a","b","کمترین قبلی","کمترین جدید","بیشترین قبلی","بیشترین جدید",null,null,"اندازه های خوانده شده در محاسبه الگوها",null,null,null,"اندازه های خوانده شده برای بررسی اندازه ها",null,null,null,null,null,null,null,null,null,null,null,null,"رنج تغییرات اندزه ها","رنج تغییرات متغیرها مثبت و منفی","رنج تغییرات متغیرها مثبت",null,null,"انتخاب نوع سایزبندی","رنج تغییرات  کوچک متغیرها مثبت و منفی"]
["شیفت افقی کل الگو جلو پیراهن  برحسب سانتیمتر","(از -100 الی100)",{"$f":"K51*E51+L51","v":5},"بدون شیفت=0 ",{"$f":"'طراحی همه الگوها'!B182","v":5},"شیفت افقی کل الگو جلو پیراهن  (سانتیمتر)",1,1,0,0,{"$f":"(J51-H51)/(I51-G51)","v":1},{"$f":"H51-G51*K51","v":0},-100,{"$f":"(M51-L51)/K51","v":-100},100,{"$f":"(O51-L51)/K51","v":100},null,null,"اندازه ها در دامن و شلوار",null,"اندازه شخص",null,"اندازه شخص",null,null,null,null,null,null,null,null,null,null,null,null,{"$f":"U6","v":" 1ماهه"},-100,1,"اندازه جدید",null,"سایزبندی بچگانه",-50]
["شیفت عمودی کل الگو جلو پیراهن   برحسب سانتیمتر","(از -100 الی100)",5,"بدون شیفت =0  ",{"$f":"'طراحی همه الگوها'!B183","v":5},"شیفت عمودی کل الگو جلو پیراهن   (سانتیمتر)",1,1,0,0,1,0,-100,-100,100,100,null,null,"دور کمر","a",{"$f":"OFFSET('متغیرها '!T5,2,'متغیرها '!U5)","v":51},null,{"$f":"OFFSET('متغیرها '!T5,2,'متغیرها '!Y5)","v":131},null,null,null,null,null,null,null,null,null,null,null,null,{"$f":"V6","v":"1 تا 3 ماهه"},-99,2,"اندازه های موجود",null,"سایزبندی زنانه",-49.5]
["شیفت افقی کل الگو پشت پیراهن  برحسب سانتیمتر","(از -100 الی100)",5,"بدون شیفت=0 ",{"$f":"'طراحی همه الگوها'!B184","v":5},"شیفت افقی کل الگو پشت پیراهن  (سانتیمتر)",1,1,0,0,1,0,-100,-100,100,100,null,null,"نوار کمر از پشت بین دو خط پهلو","b",{"$f":"OFFSET('متغیرها '!T5,3,'متغیرها '!U5)","v":25},null,{"$f":"OFFSET('متغیرها '!T5,3,'متغیرها '!Y5)","v":63.6},null,null,null,null,null,null,null,null,null,null,null,null,{"$f":"W6","v":" 3 تا 6 ماهه"},-98,3,"انتخاب نوع اندازه گیری",null,"سایزبندی مردانه",-49]
["شیفت عمودی کل الگو پشت پیراهن  برحسب سانتیمتر","(از -100 الی100)",5,"بدون شیفت =0  ",{"$f":"'طراحی همه الگوها'!B185","v":5},"شیفت عمودی کل الگو پشت پیراهن  (سانتیمتر)",1,1,0,0,1,0,-100,-100,100,100,null,null,"دور باسن","c",{"$f":"OFFSET('متغیرها '!T5,4,'متغیرها '!U5)","v":59},null,{"$f":"OFFSET('متغیرها '!T5,4,'متغیرها '!Y5)","v":150},null,null,null,null,null,null,null,null,null,null,null,null,{"$f":"X6","v":"6ماهه تا یکساله"},-97,4,"اندازه گیری پیشرفته و با جزئیات",null,null,-48.5]
["شیفت افقی تکه  پهلو جلو   برحسب سانتیمتر","(از -100 الی100)",0,"بدون شیفت=0 ",{"$f":"'طراحی همه الگوها'!B187","v":0},"شیفت افقی تکه  پهلو جلو   (سانتیمتر)",1,1,0,0,1,0,-100,-100,100,100,null,null,"نوار باسن از پشت بین دو خط پهلو","d",{"$f":"OFFSET('متغیرها '!T5,5,'متغیرها '!U5)","v":31.3},null,{"$f":"OFFSET('متغیرها '!T5,5,'متغیرها '!Y5)","v":79.8},null,null,null,null,null,null,null,null,null,null,null,null,{"$f":"Y6","v":"بچگانه 1 ساله"},-96,5,"اندازه گیری مردان و بچه ها",null,null,-48]
["شیفت افقی تکه پهلو پشت  برحسب سانتیمتر","(از -100 الی100)",0,"بدون شیفت=0 ",{"$f":"'طراحی همه الگوها'!B188","v":0},"شیفت افقی تکه پهلو پشت  (سانتیمتر)",1,1,0,0,1,0,-100,-100,100,100,null,null,"فاصله نوار کمر تا زمین، از قسمت جلو","e",{"$f":"OFFSET('متغیرها '!T5,6,'متغیرها '!U5)","v":53.9},null,{"$f":"OFFSET('متغیرها '!T5,6,'متغیرها '!Y5)","v":108.9},null,null,null,null,null,null,null,null,null,null,null,null,{"$f":"Z6","v":"بچگانه 2 ساله"},-95,6,"اندازه گیری زنان",null,null,-47.5]
["شیفت عمودی تکه پهلو پشت  برحسب سانتیمتر","(از -100 الی100)",0,"بدون شیفت=0 ",{"$f":"'طراحی همه الگوها'!B189","v":0},"شیفت عمودی تکه پهلو پشت  (سانتیمتر)",1,1,0,0,1,0,-100,-100,100,100,null,null,"فاصله نوار کمر تا زمین، از قسمت پهلو","f",{"$f":"OFFSET('متغیرها '!T5,7,'متغیرها '!U5)","v":54},null,{"$f":"OFFSET('متغیرها '!T5,7,'متغیرها '!Y5)","v":110},null,null,null,null,null,null,null,null,null,null,null,null,{"$f":"AA6","v":"بچگانه 3 ساله"},-94,7,"اندازه گیری پیشرفته زنان",null,null,-47]
[null,null,null,null,null,null,null,null,null,null,null,null,null,null,null,null,null,null,"فاصله نوار کمر تا زمین، از قسمت پشت","g",{"$f":"OFFSET('متغیرها '!T5,8,'متغیرها '!U5)","v":54.1},null,{"$f":"OFFSET('متغیرها '!T5,8,'متغیرها '!Y5)","v":111.1},null,null,null,null,null,null,null,null,null,null,null,null,{"$f":"AB6","v":"بچگانه 4 ساله"},-93,8,null,null,null,-46.5]
[" متغیرهای ورودی - گشاد یا تنگ شدن پیراهن",null,null,null,null," متغیرهای ورودی - گشاد یا تنگ شدن پیراهن","x1","y1","x2","y2(بهینه)","a","b","کمترین قبلی","کمترین جدید","بیشترین قبلی","بیشترین جدید",null,null,"فاصله نوار زانو تا زمین","h",{"$f":"OFFSET('متغیرها '!T5,9,'متغیرها '!U5)","v":24.9},null,{"$f":"OFFSET('متغیرها '!T5,9,'متغیرها '!Y5)","v":46.7},null,null,null,null,null,null,null,null,null,null,null,null,{"$f":"AC6","v":"بچگانه 5 ساله"},-92,9,null,null,null,-46]
["ضریب تغییر اندازه های عرضی در پیراهن f2  ","(از -0.2 الی 0.2)",{"$f":"K60*E60+L60","v":0},"اندامی =0",{"$f":"'طراحی همه الگوها'!B192","v":0}," اندازه های عرضی در پیراهن   ",1,0.01,0,0,{"$f":"(J60-H60)/(I60-G60)","v":0.01},{"$f":"H60-G60*K60","v":0},-0.2,{"$f":"(M60-L60)/K60","v":-20},0.2,{"$f":"(O60-L60)/K60","v":20},null,null,"فاصله نوار باسن تا زمین","j",{"$f":"OFFSET('متغیرها '!T5,10,'متغیرها '!U5)","v":45.2},null,{"$f":"OFFSET('متغیرها '!T5,10,'متغیرها '!Y5)","v":87.3},null,null,null,null,null,null,null,null,null,null,null,null,{"$f":"AD6","v":"بچگانه 6 ساله"},-91,10,"انتخاب نوع الگو",null,null,-45.5]
["ضریب گشاد یا تنگ شدن از خط پهلو زیر حلقهf3 ","(از -0.03 الی 0.03)",{"$f":"K61*E61+L61","v":0},"اندامی =0",{"$f":"'طراحی همه الگوها'!B193","v":0}," گشاد یا تنگ شدن از خط پهلو زیر حلقه ",1,5.0000000000000001E-3,0,0,{"$f":"(J61-H61)/(I61-G61)","v":5.0000000000000001E-3},{"$f":"H61-G61*K61","v":0},-0.03,{"$f":"(M61-L61)/K61","v":-6},0.03,{"$f":"(O61-L61)/K61","v":6},null,null,"دور زانو","L",{"$f":"OFFSET('متغیرها '!T5,11,'متغیرها '!U5)","v":24.2},null,{"$f":"OFFSET('متغیرها '!T5,11,'متغیرها '!Y5)","v":61.5},null,null,null,null,null,null,null,null,null,null,null,null,{"$f":"AE6","v":"بچگانه 7 ساله"},-90,11,"فاق معمولی مناسب زنان و بچه ها",null,null,-45]
["ضریب گشاد یا تنگ شدن از خط پهلو دور باسن f4 ","(از -0.03 الی 0.08)",{"$f":"K62*E62+L62","v":-0.01},"اندامی =0",{"$f":"'طراحی همه الگوها'!B194","v":-2}," گشاد یا تنگ شدن از خط پهلو دور باسن  ",1,5.0000000000000001E-3,0,0,{"$f":"(J62-H62)/(I62-G62)","v":5.0000000000000001E-3},{"$f":"H62-G62*K62","v":0},-0.03,{"$f":"(M62-L62)/K62","v":-6},0.08,{"$f":"(O62-L62)/K62","v":16},null,null,"بلندی فاق","m",{"$f":"OFFSET('متغیرها '!T5,12,'متغیرها '!U5)","v":14},null,{"$f":"OFFSET('متغیرها '!T5,12,'متغیرها '!Y5)","v":33.5},null,null,null,null,null,null,null,null,null,null,null,null,{"$f":"AF6","v":"بچگانه 8 ساله"},-89,12,"فاق کمی بلند مناسب مردان",null,null,-44.5]
["ضریب تغییر اندازه های طولی در پیراهن f5 ","(از -0.2 الی 0.2)",{"$f":"K63*E63+L63","v":0},"اندامی =0",{"$f":"'طراحی همه الگوها'!B195","v":0}," اندازه های طولی در پیراهن  ",1,0.01,0,0,{"$f":"(J63-H63)/(I63-G63)","v":0.01},{"$f":"H63-G63*K63","v":0},-0.2,{"$f":"(M63-L63)/K63","v":-20},0.2,{"$f":"(O63-L63)/K63","v":20},null,null,"آنفورشور","q",{"$f":"OFFSET('متغیرها '!T5,13,'متغیرها '!U5)","v":37.700000000000003},null,{"$f":"OFFSET('متغیرها '!T5,13,'متغیرها '!Y5)","v":91.7},null,null,null,null,null,null,null,null,null,null,null,null,{"$f":"AG6","v":"بچگانه 9 ساله"},-88,13,"فاق کاملا بلند مناسب بچه با پوشک",null,null,-44]
[null,null,null,null,null,null,null,null,null,null,null,null,null,null,null,null,null,null,"دور مچ پا","r",{"$f":"OFFSET('متغیرها '!T5,14,'متغیرها '!U5)","v":17.600000000000001},null,{"$f":"OFFSET('متغیرها '!T5,14,'متغیرها '!Y5)","v":30},null,null,null,null,null,null,null,null,null,null,null,null,{"$f":"AH6","v":"بچگانه 10 ساله"},-87,14,null,null,null,-43.5]
[" متغیرهای ورودی - جادکمه و پایین لباس",null,null,null,null," متغیرهای ورودی - جادکمه و پایین لباس","x1","y1","x2","y2(بهینه)","a","b","کمترین قبلی","کمترین جدید","بیشترین قبلی","بیشترین جدید",null,null,null,null,null,null,null,null,null,null,null,null,null,null,null,null,null,null,null,{"$f":"AI6","v":"بچگانه 11 ساله"},-86,15,"ارتفاع یقه گرد کش",null,null,-43]
["ضریب بزرگی پهنای جادکمه جلو    مرحله اول","(از 0 الی 0.1)",{"$f":"K66*E66+L66","v":0},"بهینه=0.015",{"$f":"'طراحی همه الگوها'!B198","v":0},"پهنای جادکمه جلو      مرحله اول در طراحی یقه انگلیسی",0,0,1,5.0000000000000001E-3,{"$f":"(J66-H66)/(I66-G66)","v":5.0000000000000001E-3},{"$f":"H66-G66*K66","v":0},0,{"$f":"(M66-L66)/K66","v":0},0.1,{"$f":"(O66-L66)/K66","v":20},null,null,"شلوار زنانه و بچگانه = 0       مردانه=1      بچه با پوشک=2",null,{"$f":"OFFSET('متغیرها '!T5,16,'متغیرها '!U5)","v":0},null,{"$f":"OFFSET('متغیرها '!T5,16,'متغیرها '!Y5)","v":0},null,null,null,null,null,null,null,null,null,null,null,null,{"$f":"AJ6","v":"بچگانه 12 ساله"},-85,16,0.5,"نوع آستین",null,-42.5]
["ضریب فاصله لبه دامن یا پیراهن تا زمین   k0","(از 0 الی 4)",{"$f":"K67*E67+L67","v":1.25},"خط زمین=0 \nخط زانو=1 \nخط باسن=2 \nخط کمر=3 \nخط سینه=4  ",{"$f":"'طراحی همه الگوها'!B199","v":35},"لبه پایین لباس",10,0,30,1,{"$f":"(J67-H67)/(I67-G67)","v":0.05},{"$f":"H67-G67*K67","v":-0.5},0,{"$f":"(M67-L67)/K67","v":10},4,{"$f":"(O67-L67)/K67","v":90},null,null,null,null,null,null,null,null,null,null,null,null,null,null,null,null,null,null,null,{"$f":"AK6","v":"بچگانه 13 ساله"},-84,17,1,1,null,-42]
["ضریب انحنا لبه پایین لباس ","(از 0 الی 0.9)",{"$f":"K68*E68+L68","v":0},"بهینه =0.1",{"$f":"'طراحی همه الگوها'!B200","v":0}," انحنا لبه پایین لباس نزدیک خط پهلو",0,0,1,0.05,{"$f":"(J68-H68)/(I68-G68)","v":0.05},{"$f":"H68-G68*K68","v":0},0,{"$f":"(M68-L68)/K68","v":0},0.9,{"$f":"(O68-L68)/K68","v":18},null,null,null,null,null,null,null,null,null,null,null,null,null,null,null,null,null,null,null,{"$f":"AL6","v":"بچگانه 14 ساله"},-83,18,1.5,2,null,-41.5]
[" ضریب طول انحنا لبه پایین لباس نزدیک خط پهلو","(از 0 الی 1)",{"$f":"K69*E69+L69","v":0.75},"بهینه =0.9",{"$f":"'طراحی همه الگوها'!B201","v":15}," طول انحنا لبه پایین لباس نزدیک خط پهلو",0,0,1,0.05,{"$f":"(J69-H69)/(I69-G69)","v":0.05},{"$f":"H69-G69*K69","v":0},0,{"$f":"(M69-L69)/K69","v":0},1,{"$f":"(O69-L69)/K69","v":20},null,null,"اندازه ها در بالاتنه",null,"اندازه شخص",null,"اندازه شخص",null,null,null,null,null,null,null,null,null,null,null,null,{"$f":"AM6","v":"34زنانه"},-82,19,2,4,null,-41]
[" متغیرهای ورودی - یقه",null,null,null,null," متغیرهای ورودی - یقه","x1","y1","x2","y2(بهینه)","a","b","کمترین قبلی","کمترین جدید","بیشترین قبلی","بیشترین جدید",null,null,"دور کمر","a",{"$f":"OFFSET('متغیرها '!T5,20,'متغیرها '!U5)","v":51},null,{"$f":"OFFSET('متغیرها '!T5,20,'متغیرها '!Y5)","v":131},null,null,null,null,null,null,null,null,null,null,null,null,{"$f":"AN6","v":"36زنانه"},-81,20,2.5,null,null,-40.5]
["ضریب باز شدن یقه روی سرشانه (گرد یا مربعی یا دلبری)   مرحله دوم   x6 ","(از 0 الی 0.99)",{"$f":"K71*E71+L71","v":0.70000000000000007},"یقه کیپ=0",{"$f":"'طراحی همه الگوها'!E177","v":14},"باز شدن یقه روی سرشانه (گرد یا مربعی یا دلبری)   مرحله دوم در طراحی یقه انگلیسی    ",0,0,1,0.05,{"$f":"(J71-H71)/(I71-G71)","v":0.05},{"$f":"H71-G71*K71","v":0},0,{"$f":"(M71-L71)/K71","v":0},0.95,{"$f":"(O71-L71)/K71","v":18.999999999999996},null,null,"نوار کمر از پشت بین دو خط پهلو","b",{"$f":"OFFSET('متغیرها '!T5,21,'متغیرها '!U5)","v":25},null,{"$f":"OFFSET('متغیرها '!T5,21,'متغیرها '!Y5)","v":63.6},null,null,null,null,null,null,null,null,null,null,null,null,{"$f":"AO6","v":"38زنانه"},-80,21,3,null,null,-40]
["ضریب باز شدن یقه روی خط مرکزی جلو (گرد یا مربعی یا قایقی یا پروانه ای)  x'6","(از 0 الی 3)",{"$f":"K72*E72+L72","v":2.2000000000000002},"یقه کیپ=0",{"$f":"'طراحی همه الگوها'!E178","v":44},"باز شدن یقه روی خط مرکزی جلو (گرد یا مربعی یا قایقی یا پروانه ای)  ",0,0,1,0.05,{"$f":"(J72-H72)/(I72-G72)","v":0.05},{"$f":"H72-G72*K72","v":0},0,{"$f":"(M72-L72)/K72","v":0},3,{"$f":"(O72-L72)/K72","v":60},null,null,"دور سینه : از برجسته ترین قسمت سینه","s1",{"$f":"OFFSET('متغیرها '!T5,22,'متغیرها '!U5)","v":56},null,{"$f":"OFFSET('متغیرها '!T5,22,'متغیرها '!Y5)","v":146},null,null,null,null,null,null,null,null,null,null,null,null,{"$f":"AP6","v":"40زنانه"},-79,22,3.5,null,null,-39.5]
["ضریب باز شدن یقه روی خط مرکزی پشت  (گرد یا مربعی یا قایقی یا پروانه ای) مرحله دوم    x7","(از 0 الی 3)",{"$f":"K73*E73+L73","v":1.5},"یقه کیپ=0",{"$f":"'طراحی همه الگوها'!E179","v":30},"باز شدن یقه روی خط مرکزی پشت(گرد؛ مربعی؛ قایقی؛ پروانه ای)مرحله دوم در طراحی یقه انگلیسی    ",0,0,1,0.05,{"$f":"(J73-H73)/(I73-G73)","v":0.05},{"$f":"H73-G73*K73","v":0},0,{"$f":"(M73-L73)/K73","v":0},3,{"$f":"(O73-L73)/K73","v":60},null,null,"پشت نوار سینه، بین دو خط پهلو","s2",{"$f":"OFFSET('متغیرها '!T5,23,'متغیرها '!U5)","v":28},null,{"$f":"OFFSET('متغیرها '!T5,23,'متغیرها '!Y5)","v":67.5},null,null,null,null,null,null,null,null,null,null,null,null,{"$f":"AQ6","v":"42زنانه"},-78,23,4,null,null,-39]
[null,null,null,null,null,null,null,null,null,null,null,null,null,null,null,null,null,null,"فاصله عمودی از خط سینه جلو تا خط سینه پشت که از کنار حلقه آستین بگذرد","t1",{"$f":"OFFSET('متغیرها '!T5,24,'متغیرها '!U5)","v":26.5},null,{"$f":"OFFSET('متغیرها '!T5,24,'متغیرها '!Y5)","v":46.5},null,null,null,null,null,null,null,null,null,null,null,null,{"$f":"AR6","v":"44زنانه"},-77,24,4.5,null,null,-38.5]
[" متغیرهای ورودی - سرشانه و حلقه آستین",null,null,null,null," متغیرهای ورودی - سرشانه و حلقه آستین","x1","y1","x2","y2(بهینه)","a","b","کمترین قبلی","کمترین جدید","بیشترین قبلی","بیشترین جدید",null,null,"فاصله عمودی از خط سینه جلو تا خط سینه پشت که از کنارگردن بگذرد","t2",{"$f":"OFFSET('متغیرها '!T5,25,'متغیرها '!U5)","v":31},null,{"$f":"OFFSET('متغیرها '!T5,25,'متغیرها '!Y5)","v":63.3},null,null,null,null,null,null,null,null,null,null,null,null,{"$f":"AS6","v":"46زنانه"},-76,25,5,null,null,-38]
["میزان کم شدن سرشانه x8 ","(از -0.5 الی 0.9)",{"$f":"K76*E76+L76","v":0.30000000000000004},"اندامی =0",{"$f":"'طراحی همه الگوها'!B204","v":6},"ضریب کم شدن سرشانه  ",0,0,1,0.05,{"$f":"(J76-H76)/(I76-G76)","v":0.05},{"$f":"H76-G76*K76","v":0},-0.5,{"$f":"(M76-L76)/K76","v":-10},0.9,{"$f":"(O76-L76)/K76","v":18},null,null,"فاصله عمودی از خط کمر جلو تا خط کمر پشت که از کنار گردن بگذرد","t3",{"$f":"OFFSET('متغیرها '!T5,26,'متغیرها '!U5)","v":53},null,{"$f":"OFFSET('متغیرها '!T5,26,'متغیرها '!Y5)","v":100},null,null,null,null,null,null,null,null,null,null,null,null,{"$f":"AT6","v":"48زنانه"},-75,26,null,null,null,-37.5]
["میزان بزرگ شدن زیر حلقه آستین x9 ","(از -0.5 الی 1.5)",{"$f":"K77*E77+L77","v":0.30000000000000004},"اندامی =0",{"$f":"'طراحی همه الگوها'!B205","v":6},"ضریب بزرگ شدن زیر حلقه آستین  ",0,0,1,0.05,{"$f":"(J77-H77)/(I77-G77)","v":0.05},{"$f":"H77-G77*K77","v":0},-0.5,{"$f":"(M77-L77)/K77","v":-10},1.5,{"$f":"(O77-L77)/K77","v":30},null,null,"فاصله عمودی بین خط سینه پشت و سرشانه، نزدیک دست","t4",{"$f":"OFFSET('متغیرها '!T5,27,'متغیرها '!U5)","v":13.6},null,{"$f":"OFFSET('متغیرها '!T5,27,'متغیرها '!Y5)","v":23.8},null,null,null,null,null,null,null,null,null,null,null,null,{"$f":"AU6","v":"50زنانه"},-74,27,"متغیر ورودی به سانتیمتر","متغیر ورودی به سانتیمتر",null,-37]
["میزان زیاد شدن سرشانه x10 ","(از -0.5 الی 0.5)",{"$f":"K78*E78+L78","v":0},"اندامی =0",{"$f":"'طراحی همه الگوها'!B206","v":0},"ضریب زیاد شدن سرشانه  ",0,0,1,0.05,{"$f":"(J78-H78)/(I78-G78)","v":0.05},{"$f":"H78-G78*K78","v":0},-0.5,{"$f":"(M78-L78)/K78","v":-10},0.5,{"$f":"(O78-L78)/K78","v":10},null,null,"فاصله عمودی بین خط سینه پشت و سرشانه، نزدیک گردن","t5",{"$f":"OFFSET('متغیرها '!T5,28,'متغیرها '!U5)","v":16.2},null,{"$f":"OFFSET('متغیرها '!T5,28,'متغیرها '!Y5)","v":30.5},null,null,null,null,null,null,null,null,null,null,null,null,{"$f":"AV6","v":"52زنانه"},-73,28,-10,0,null,-36.5]
["انتخاب آستین حلقه ای یا پیش سینه رکابی یا تکه پهلو جدا=0        و انتخاب آستین دیگر=1","0 یا 1 ",{"$f":"K79*E79+L79","v":0},null,{"$f":"'طراحی همه الگوها'!B207","v":1},"انتخاب آستین حلقه ای یا پیش سینه رکابی یا تکه پهلو جدا=1        و انتخاب آستین دیگر=2",1,0,2,1,{"$f":"(J79-H79)/(I79-G79)","v":1},{"$f":"H79-G79*K79","v":-1},null,1,null,2,null,null,"فاصله عمودی بین خط کمرپشت و سرشانه، نزدیک گردن","t6",{"$f":"OFFSET('متغیرها '!T5,29,'متغیرها '!U5)","v":27},null,{"$f":"OFFSET('متغیرها '!T5,29,'متغیرها '!Y5)","v":46.9},null,null,null,null,null,null,null,null,null,null,null,null,{"$f":"AW6","v":"54زنانه"},-72,29,-9.5,0.1,null,-36]
[null,null,null,null,null,null,null,null,null,null,null,null,null,null,null,null,null,null,"دور گردن (متر به طور عمودی دور گردن قرار می گیرد و از روی استخوان ترقوه می گذرد)","v",{"$f":"OFFSET('متغیرها '!T5,30,'متغیرها '!U5)","v":30},null,{"$f":"OFFSET('متغیرها '!T5,30,'متغیرها '!Y5)","v":50},null,null,null,null,null,null,null,null,null,null,null,null,{"$f":"AX6","v":"56زنانه"},-71,30,-9,0.2,null,-35.5]
[" متغیرهای ورودی - تنظیم ساسون های بالای کمر\nمجموع ضرایب پهنای دو ساسون پشت باید کمتر از یک یا مساوی یک باشد.\nبا تغییر ضرایب پهنای ساسون، باقیمانده ساسون ها روی خط پهلو قرار میگیرد.",null,null,null,null," متغیرهای ورودی - تنظیم ساسون های بالای کمر\nمجموع ضرایب پهنای دو ساسون پشت باید کمتر از یک یا مساوی یک باشد.\nبا تغییر ضرایب پهنای ساسون، باقیمانده ساسون ها روی خط پهلو قرار میگیرد.","x1","y1","x2","y2","a","b",null,"کمترین",null,"بیشترین",null,"تست جدید","کارور پشت (بین دو خط امتداد زیر بغل)","v3",{"$f":"OFFSET('متغیرها '!T5,31,'متغیرها '!U5)","v":22.7},null,{"$f":"OFFSET('متغیرها '!T5,31,'متغیرها '!Y5)","v":55.5},null,null,null,null,null,null,null,null,null,null,null,null,{"$f":"AY6","v":"58زنانه"},-70,31,-8.5,0.3,null,-35]
[" ضریب پهنای ساسون روی خط مرکزی پشت بالاتنه   y'1","(از 0 الی 1)",{"$f":"K82*E82+L82","v":0},"بدون ساسون=0 \nبهینه=0.5  ",{"$f":"'طراحی همه الگوها'!B241","v":0}," ضریب پهنای ساسون روی خط مرکزی پشت بالاتنه   ",0,0,1,0.05,{"$f":"(J82-H82)/(I82-G82)","v":0.05},{"$f":"H82-G82*K82","v":0},0,{"$f":"(M82-L82)/K82","v":0},1,{"$f":"(O82-L82)/K82","v":20},0.5,{"$f":"(Q82-L82)/K82","v":10},"دور بازو از ناحیه زیر بغل","w2",{"$f":"OFFSET('متغیرها '!T5,32,'متغیرها '!U5)","v":22},null,{"$f":"OFFSET('متغیرها '!T5,32,'متغیرها '!Y5)","v":46},null,null,null,null,null,null,null,null,null,null,null,null,{"$f":"AZ6","v":"60زنانه"},-69,32,-8,0.4,"متغیر ورودی خاص شلوار",-34.5]
[" ضریب طول ساسون روی خط مرکزی پشت بالاتنه   y'3","(از0.1 الی 0.9)",0.60000000000000009,"بهینه=0.75 ",{"$f":"'طراحی همه الگوها'!B242","v":12}," ضریب طول ساسون روی خط مرکزی پشت بالاتنه   ",0,0,1,0.05,{"$f":"(J83-H83)/(I83-G83)","v":0.05},{"$f":"H83-G83*K83","v":0},0.1,2,0.9,18,0.75,15,"قد آستین (دست به طور خمیده، قد از سرشانه تا مچ)","w10",{"$f":"OFFSET('متغیرها '!T5,33,'متغیرها '!U5)","v":35},null,{"$f":"OFFSET('متغیرها '!T5,33,'متغیرها '!Y5)","v":64},null,null,null,null,null,null,null,null,null,null,null,null,{"$f":"BA6","v":"37 مردانه"},-68,33,-7.5,0.5,0.5,-34]
[" ضریب پهنای ساسون میانی پشت بالاتنه   y'2","(از 0 الی 1)",0.5,"بدون ساسون=0\nبهینه=0.5",{"$f":"'طراحی همه الگوها'!B243","v":10}," ضریب پهنای ساسون میانی پشت بالاتنه   ",0,0,1,0.05,{"$f":"(J84-H84)/(I84-G84)","v":0.05},{"$f":"H84-G84*K84","v":0},0,0,1,20,0.5,10,"دور مچ دست","w11",{"$f":"OFFSET('متغیرها '!T5,34,'متغیرها '!U5)","v":13},null,{"$f":"OFFSET('متغیرها '!T5,34,'متغیرها '!Y5)","v":23},null,null,null,null,null,null,null,null,null,null,null,null,{"$f":"BB6","v":"38 مردانه"},-67,34,-7,0.6,0.55000000000000004,-33.5]
[" ضریب طول ساسون میانی پشت بالاتنه   y'4","(از 0.3 الی 1)",0.9,"بهینه =0.9",{"$f":"'طراحی همه الگوها'!B244","v":18}," ضریب طول ساسون میانی پشت بالاتنه   ",0,0,1,0.05,0.05,0,0.3,5.9999999999999991,1,20,0.9,18,"دور سر","w12",{"$f":"OFFSET('متغیرها '!T5,35,'متغیرها '!U5)","v":50},null,{"$f":"OFFSET('متغیرها '!T5,35,'متغیرها '!Y5)","v":57},null,null,null,null,null,null,null,null,null,null,null,null,{"$f":"BC6","v":"39 مردانه"},-66,35,-6.5,0.7,0.6,-33]
[" ضریب فاصله افقی ساسون وسط بالاتنه از خط مرکزی پشت   y'5","(از0.2 الی 0.8)",0.5,"بهینه=0.5",{"$f":"'طراحی همه الگوها'!B245","v":25}," ضریب فاصله افقی ساسون وسط بالاتنه از خط مرکزی پشت   ",0,0,1,0.02,0.02,0,0.2,10,0.8,40,0.5,25,null,null,null,null,null,null,null,null,null,null,null,null,null,null,null,null,null,{"$f":"BD6","v":"40 مردانه"},-65,36,-6,0.8,0.65,-32.5]
[" ضریب پهنای ساسون میانی جلو بالاتنه    y'6","(از 0 الی 0.5)",0.30000000000000004,"بدون ساسون=0\nبهینه=0.333",{"$f":"'طراحی همه الگوها'!B246","v":6}," ضریب پهنای ساسون میانی جلو بالاتنه    ",0,0,1,0.05,0.05,0,0,0,0.5,10,0.35,6.9999999999999991,null,null,null,null,null,null,null,null,null,null,null,null,null,null,null,null,null,{"$f":"BE6","v":"41 مردانه"},-64,37,-5.5,0.9,0.7,-32]
[" ضریب طول ساسون میانی جلو بالاتنه  y'7","(از 0 الی 0.5)",9.9999999999999978E-2,"بهینه =0.2\nتا خط سینه=0",{"$f":"'طراحی همه الگوها'!B247","v":18}," ضریب طول ساسون میانی جلو بالاتنه  ",20,0,0,1,-0.05,1,0,20,0.5,10,0.2,16,null,null,null,null,null,null,null,null,null,null,null,null,null,null,null,null,null,{"$f":"BF6","v":"42 مردانه"},-63,38,-5,1,0.75,-31.5]
[" ضریب فاصله افقی ساسون میانی بالاتنه از خط مرکزی جلو   y'8","(از0.2 الی 0.8)",0.5,"بهینه=0.5",{"$f":"'طراحی همه الگوها'!B248","v":25}," ضریب فاصله افقی ساسون میانی بالاتنه از خط مرکزی جلو   ",0,0,1,0.02,0.02,0,0.2,10,0.8,40,0.5,25,null,null,null,null,null,null,null,null,null,null,null,null,null,null,null,null,null,{"$f":"BG6","v":"43 مردانه"},-62,39,-4.5,1.1000000000000001,0.8,-31]
[" ضریب نوک ساسون سرشانه جلو تا نوک سینه  y'15","(از 0 الی 0.5)",9.9999999999999978E-2,"بهینه =0.2\nتا خط سینه=0",{"$f":"'طراحی همه الگوها'!B249","v":18}," ضریب نوک ساسون سرشانه جلو تا نوک سینه  ",20,0,0,1,{"$f":"(J90-H90)/(I90-G90)","v":-0.05},{"$f":"H90-G90*K90","v":1},0,20,0.5,10,0.2,16,null,null,null,null,null,null,null,null,null,null,null,null,null,null,null,null,null,{"$f":"BH6","v":"44 مردانه"},-61,40,-4,1.2,0.85,-30.5]
[null,null,null,null,null,null,null,null,null,null,null,null,null,null,null,null,null,null,null,null,null,null,null,null,null,null,null,null,null,null,null,null,null,null,null,{"$f":"BI6","v":"45 مردانه"},-60,41,-3.5,1.3,0.9,-30]
[" متغیرهای ورودی - تنظیم ساسون های پایین کمر\nمجموع پهنای دو ساسون پشت باید کمتر از یک یا مساوی یک باشد.\nبا تغییر ضرایب پهنای ساسون، باقیمانده ساسون ها روی خط پهلو قرار میگیرد.",null,null,null,null," متغیرهای ورودی - تنظیم ساسون های پایین کمر\nمجموع پهنای دو ساسون پشت باید کمتر از یک یا مساوی یک باشد.\nبا تغییر ضرایب پهنای ساسون، باقیمانده ساسون ها روی خط پهلو قرار میگیرد.","x1","y1","x2","y2(بهینه)","a","b",null,"کمترین",null,"بیشترین",null,null,null,null,null,null,null,null,null,null,null,null,null,null,null,null,null,null,null,{"$f":"BJ6","v":"46 مردانه"},-59,42,-3,1.4,0.95,-29.5]
[" ضریب پهنای ساسون روی خط مرکزی پشت دامن   y'9","(از 0 الی 1)",{"$f":"K93*E93+L93","v":0},"بدون ساسون=0 \nبهینه=025  ",{"$f":"'طراحی همه الگوها'!B254","v":0}," ضریب پهنای ساسون روی خط مرکزی پشت دامن   ",0,0,1,0.05,{"$f":"(J93-H93)/(I93-G93)","v":0.05},{"$f":"H93-G93*K93","v":0},0,{"$f":"(M93-L93)/K93","v":0},1,{"$f":"(O93-L93)/K93","v":20},0.25,{"$f":"(Q93-L93)/K93","v":5},null,null,null,null,null,null,null,null,null,null,null,null,null,null,null,null,null,{"$f":"BK6","v":"47 مردانه"},-58,43,-2.5,1.5,1,-29]
[" ضریب طول ساسون روی خط مرکزی پشت دامن   y'10     غیر فعال","(از0.1 الی 0.9)",0.9,"بهینه=0.9 ",{"$f":"'طراحی همه الگوها'!B236","v":18}," ضریب طول ساسون روی خط مرکزی پشت دامن        غیر فعال",0,0,1,0.05,0.05,0,0.1,2,0.9,18,0.9,18,null,null,null,null,null,null,null,null,null,null,null,null,null,null,null,null,null,{"$f":"BL6","v":"48 مردانه"},-57,44,-2,1.6,1.05,-28.5]
[" ضریب پهنای ساسون میانی پشت دامن   y'11","(از 0 الی 1)",0.5,"بدون ساسون=0\nبهینه=0.5",{"$f":"'طراحی همه الگوها'!B255","v":10}," ضریب پهنای ساسون میانی پشت دامن   ",0,0,1,0.05,0.05,0,0,0,1,20,0.5,10,null,null,null,null,null,null,null,null,null,null,null,null,null,null,null,null,null,{"$f":"BM6","v":"49 مردانه"},-56,45,-1.5,1.7,1.1000000000000001,-28]
[" ضریب طول ساسون میانی پشت دامن   y'12    ","(از 0.3 الی 1)",0.9,"بلندی ساسون تا خط باسن=1\nبهینه =0.9",{"$f":"'طراحی همه الگوها'!B256","v":18}," ضریب طول ساسون میانی پشت دامن       ",0,0,1,0.05,0.05,0,0.3,5.9999999999999991,1,20,0.9,18,null,null,null,null,null,null,null,null,null,null,null,null,null,null,null,null,null,{"$f":"BN6","v":"50 مردانه"},-55,46,-1,1.8,1.1499999999999999,-27.5]
[" ضریب پهنای ساسون میانی جلو دامن    y'13","(از 0 الی 0.5)",0.30000000000000004,"بدون ساسون=0\nبهینه=0.25",{"$f":"'طراحی همه الگوها'!B257","v":6}," ضریب پهنای ساسون میانی جلو دامن    ",0,0,1,0.05,0.05,0,0,0,0.5,10,0.25,5,null,null,null,null,null,null,null,null,null,null,null,null,null,null,null,null,null,{"$f":"BO6","v":"6ماهه تا یکساله کت"},-54,47,-0.5,1.9,1.2,-27]
[" ضریب طول ساسون میانی جلو دامن  y'14     ","(از 0.3 الی 0.99)",1,"بلندی ساسون تا خط باسن=1\nبهینه =0.9",{"$f":"'طراحی همه الگوها'!B258","v":20}," ضریب طول ساسون میانی جلو دامن       ",0,0,1,0.05,0.05,0,0.3,5.9999999999999991,0.95,18.999999999999996,0.9,18,null,null,null,null,null,null,null,null,null,null,null,null,null,null,null,null,null,{"$f":"BP6","v":"1ساله کت"},-53,48,0,2,1.25,-26.5]
[null,null,null,null,null,null,null,null,null,null,null,null,null,null,null,null,null,null,null,null,null,null,null,null,null,null,null,null,null,null,null,null,null,null,null,{"$f":"BQ6","v":"2ساله کت"},-52,49,0.5,2.1,1.3,-26]
[" متغیرهای ورودی-بالاتنه عصایی ساسون ها",null,null,null,null," متغیرهای ورودی-بالاتنه عصایی ساسون ها","x1","y1","x2","y2(بهینه)","a","b",null,"کمترین",null,"بیشترین",null,null,null,null,null,null,null,null,null,null,null,null,null,null,null,null,null,null,null,{"$f":"BR6","v":"3ساله کت"},-51,50,1,2.2000000000000002,1.35,-25.5]
["انتخاب بالاتنه عصایی=1        انتخاب دیگر=0","0 یا 1 ",{"$f":"K101*E101+L101","v":0},null,{"$f":"'طراحی همه الگوها'!B260","v":1},"انتخاب بالاتنه عصایی=2        انتخاب دیگر=1",1,0,2,1,{"$f":"(J101-H101)/(I101-G101)","v":1},{"$f":"H101-G101*K101","v":-1},0,{"$f":"(M101-L101)/K101","v":1},1,{"$f":"(O101-L101)/K101","v":2},1,{"$f":"(Q101-L101)/K101","v":2},null,null,null,null,null,null,null,null,null,null,null,null,null,null,null,null,null,{"$f":"BS6","v":"4ساله کت"},-50,51,1.5,2.2999999999999998,1.4,-25]
["ضریب مکان ساسون جلو عصایی در بالاتنه","(از 0.1 الی 0.3)",{"$f":"K102*E102+L102","v":0.2},"بهینه عصایی=0.2",{"$f":"'طراحی همه الگوها'!B261","v":4},"مکان ساسون عصایی جلو در حلقه آستین بالاتنه",0,0,1,0.05,{"$f":"(J102-H102)/(I102-G102)","v":0.05},{"$f":"H102-G102*K102","v":0},0.1,{"$f":"(M102-L102)/K102","v":2},0.3,{"$f":"(O102-L102)/K102","v":5.9999999999999991},0.2,{"$f":"(Q102-L102)/K102","v":4},null,null,null,null,null,null,null,null,null,null,null,null,null,null,null,null,null,{"$f":"BT6","v":"5ساله کت"},-49,52,2,2.4,1.45,-24.5]
["ضریب مکان ساسون پشت عصایی در بالاتنه","(از 0.1 الی 0.4)",{"$f":"K103*E103+L103","v":0.30000000000000004},"بهینه عصایی=0.3",{"$f":"'طراحی همه الگوها'!B262","v":6},"مکان ساسون عصایی پشت در حلقه آستین بالاتنه",0,0,1,0.05,{"$f":"(J103-H103)/(I103-G103)","v":0.05},{"$f":"H103-G103*K103","v":0},0.1,{"$f":"(M103-L103)/K103","v":2},0.4,{"$f":"(O103-L103)/K103","v":8},0.3,{"$f":"(Q103-L103)/K103","v":5.9999999999999991},null,null,null,null,null,null,null,null,null,null,null,null,null,null,null,null,null,{"$f":"BU6","v":"6ساله کت"},-48,53,2.5,2.5,1.5,-24]
[null,null,null,null,null,null,null,null,null,null,null,null,null,null,null,null,null,null,null,null,null,null,null,null,null,null,null,null,null,null,null,null,null,null,null,{"$f":"BV6","v":"7ساله کت"},-47,54,3,2.6,1.55,-23.5]
[" متغیرهای ورودی- انتقال ساسون سرشانه به زیر بغل، عصایی یا خط مرکزی جلو\nبرای حذف کامل ساسون سرشانه مجموع c1 و c2 باید 1 شود.",null,null,null,null," متغیرهای ورودی- انتقال ساسون سرشانه به زیر بغل، عصایی یا خط مرکزی جلو\nبرای حذف کامل ساسون سرشانه مجموع c1 و c2 باید 30 شود.","x1","y1","x2","y2(بهینه)","a","b",null,"کمترین",null,"بیشترین",null,null,null,null,null,null,null,null,null,null,null,null,null,null,null,null,null,null,null,{"$f":"BW6","v":"8ساله کت"},-46,55,3.5,2.7,1.6,-23]
["ضریب انتقال ساسون سرشانه جلو به ساسون زیر بغل یا ساسون عصایی  c1","(از 0 الی 1)",{"$f":"K106*E106+L106","v":0},"بدون انتقال=0 \nبهیه برای کت جلو باز=0.8 ",{"$f":"'طراحی همه الگوها'!B223","v":0},"انتقال ساسون سرشانه جلو به ساسون زیر بغل یا ساسون عصایی  c1",0,0,10,1,{"$f":"(J106-H106)/(I106-G106)","v":0.1},{"$f":"H106-G106*K106","v":0},0,{"$f":"(M106-L106)/K106","v":0},1,{"$f":"(O106-L106)/K106","v":10},null,null,null,null,null,null,null,null,null,null,null,null,null,null,null,null,null,null,null,{"$f":"BX6","v":"9ساله کت"},-45,56,4,2.8,1.65,-22.5]
["ضریب انتقال ساسون سرشانه به خط مرکزی جلو c2","(از 0 الی 1)",{"$f":"K107*E107+L107","v":0},"بدون انتقال=0 \nبهیه برای کت جلو باز=0.2 ",{"$f":"'طراحی همه الگوها'!B224","v":0},"انتقال ساسون سرشانه به خط مرکزی جلو c2",0,0,10,1,{"$f":"(J107-H107)/(I107-G107)","v":0.1},{"$f":"H107-G107*K107","v":0},0,{"$f":"(M107-L107)/K107","v":0},1,{"$f":"(O107-L107)/K107","v":10},null,null,null,null,null,null,null,null,null,null,null,null,null,null,null,null,null,null,null,{"$f":"BY6","v":"10ساله کت"},-44,57,4.5,2.9,1.7,-22]
["انتخاب (اصلاح سرشانه و حلقه آستین برای c1 >1 ) = 1         و انتخاب دیگر=0","0 یا 1 ",{"$f":"K108*E108+L108","v":0},null,{"$f":"'طراحی همه الگوها'!B225","v":1},"انتخاب (اصلاح سرشانه و حلقه آستین برای c1 >30 ) = 2        انتخاب دیگر=1",1,0,2,1,{"$f":"(J108-H108)/(I108-G108)","v":1},{"$f":"H108-G108*K108","v":-1},0,{"$f":"(M108-L108)/K108","v":1},1,{"$f":"(O108-L108)/K108","v":2},null,null,null,null,null,null,null,null,null,null,null,null,null,null,null,null,null,null,null,{"$f":"BZ6","v":"11ساله کت"},-43,58,5,3,1.75,-21.5]
[null,null,null,null,null,null,null,null,null,null,null,null,null,null,null,null,null,null,null,null,null,null,null,null,null,null,null,null,null,null,null,null,null,null,null,{"$f":"CA6","v":"12ساله کت"},-42,59,5.5,3.1,1.8,-21]
[" متغیرهای ورودی- انتقال ساسون سرشانه به زیر بغل، عصایی یا خط مرکزی پشت\nبرای حذف کامل ساسون سرشانه مجموع c1 و c2 باید 1 شود.",null,null,null,null," متغیرهای ورودی- انتقال ساسون سرشانه به زیر بغل، عصایی یا خط مرکزی پشت\nبرای حذف کامل ساسون سرشانه مجموع c1 و c2 باید 30 شود.","x1","y1","x2","y2(بهینه)","a","b",null,"کمترین",null,"بیشترین",null,null,null,null,null,null,null,null,null,null,null,null,null,null,null,null,null,null,null,{"$f":"CB6","v":"13ساله کت"},-41,60,6,3.2,null,-20.5]
["ضریب انتقال ساسون سرشانه پشت به ساسون زیر بغل یا عصایی  c1","(از 0 الی 1)",{"$f":"K111*E111+L111","v":0},"بدون انتقال=0 \nبهیه برای کت پشت باز=0.8 ",{"$f":"'طراحی همه الگوها'!B229","v":0},"انتقال ساسون سرشانه پشت به ساسون زیر بغل یا عصایی  c1",0,0,10,1,{"$f":"(J111-H111)/(I111-G111)","v":0.1},{"$f":"H111-G111*K111","v":0},0,{"$f":"(M111-L111)/K111","v":0},1,{"$f":"(O111-L111)/K111","v":10},null,null,null,null,null,null,null,null,null,null,null,null,null,null,null,null,null,null,null,{"$f":"CC6","v":"14ساله کت"},-40,61,6.5,3.3,null,-20]
["ضریب انتقال ساسون سرشانه به خط مرکزی پشت c2","(از 0 الی 1)",{"$f":"K112*E112+L112","v":0},"بدون انتقال=0 \nبهیه برای کت پشت باز=0.2 ",{"$f":"'طراحی همه الگوها'!B230","v":0},"انتقال ساسون سرشانه به خط مرکزی پشت c2",0,0,10,1,{"$f":"(J112-H112)/(I112-G112)","v":0.1},{"$f":"H112-G112*K112","v":0},0,{"$f":"(M112-L112)/K112","v":0},1,{"$f":"(O112-L112)/K112","v":10},null,null,null,null,null,null,null,null,null,null,null,null,null,null,null,null,null,null,null,{"$f":"CD6","v":"34زنانه کمر پهن"},-39,62,7,3.4,null,-19.5]
[null,null,null,null,null,null,null,null,null,null,null,null,null,null,null,null,null,null,null,null,null,null,null,null,null,null,null,null,null,null,null,null,null,null,null,{"$f":"CE6","v":"36زنانه کمر پهن"},-38,63,7.5,3.5,null,-19]
[" متغیرهای ورودی-ساسون زیر بغل",null,null,null,null," متغیرهای ورودی-ساسون زیر بغل","x1","y1","x2","y2(بهینه)","a","b",null,"کمترین",null,"بیشترین",null,null,null,null,null,null,null,null,null,null,null,null,null,null,null,null,null,null,null,{"$f":"CF6","v":"38زنانه کمر پهن"},-37,64,8,3.6,null,-18.5]
["ضریب کوتاه شدن ساسون زیر بغل جلو  c3","(از0.1 الی 1)",{"$f":"K115*E115+L115","v":0.8},"بلندی ساسون تا نوک سینه=1\nبهینه =0.9",{"$f":"'طراحی همه الگوها'!B233","v":8},"ضریب کوتاه شدن ساسون زیر بغل جلو  ",0,0,1,0.1,{"$f":"(J115-H115)/(I115-G115)","v":0.1},{"$f":"H115-G115*K115","v":0},0.1,{"$f":"(M115-L115)/K115","v":1},1,{"$f":"(O115-L115)/K115","v":10},null,null,null,null,null,null,null,null,null,null,null,null,null,null,null,null,null,null,null,{"$f":"CG6","v":"40زنانه کمر پهن"},-36,65,8.5,3.7,null,-18]
["ضریب کوتاه شدن ساسون زیر بغل پشت  c3","(از 0.1 الی 1)",{"$f":"K116*E116+L116","v":0.5},"بلندی ساسون تا نوک سینه=1\nبهینه =0.9",{"$f":"'طراحی همه الگوها'!B234","v":5},"ضریب کوتاه شدن ساسون زیر بغل پشت  ",0,0,1,0.1,{"$f":"(J116-H116)/(I116-G116)","v":0.1},{"$f":"H116-G116*K116","v":0},0.1,{"$f":"(M116-L116)/K116","v":1},1,{"$f":"(O116-L116)/K116","v":10},null,null,null,null,null,null,null,null,null,null,null,null,null,null,null,null,null,null,null,{"$f":"CH6","v":"42زنانه کمر پهن"},-35,66,9,3.8,null,-17.5]
[null,null,null,null,null,null,null,null,null,null,null,null,null,null,null,null,null,null,null,null,null,null,null,null,null,null,null,null,null,null,null,null,null,null,null,{"$f":"CI6","v":"44زنانه کمر پهن"},-34,67,9.5,3.9,null,-17]
[" متغیرهای ورودی - کنترل گودی حلقه آستین و اپل",null,null,null,null," متغیرهای ورودی - کنترل گودی حلقه آستین و اپل","x1","y1","x2","y2(بهینه)","a","b",null,"کمترین",null,"بیشترین",null,null,null,null,null,null,null,null,null,null,null,null,null,null,null,null,null,null,null,{"$f":"CJ6","v":"46زنانه کمر پهن"},-33,68,10,4,null,-16.5]
["انتخاب کنترل گودی حلقه آستین=1        و انتخاب دیگر=0","0 یا 1 ",{"$f":"K119*E119+L119","v":0},null,{"$f":"'طراحی همه الگوها'!B331","v":1},"انتخاب کنترل گودی حلقه آستین=2        و انتخاب دیگر=1",1,0,2,1,{"$f":"(J119-H119)/(I119-G119)","v":1},{"$f":"H119-G119*K119","v":-1},0,{"$f":"(M119-L119)/K119","v":1},1,{"$f":"(O119-L119)/K119","v":2},4,{"$f":"(Q119-L119)/K119","v":5},null,null,null,null,null,null,null,null,null,null,null,null,null,null,null,null,null,{"$f":"CK6","v":"48زنانه کمر پهن"},-32,69,10.5,4.0999999999999996,null,-16]
[" ضریب میزان روی هم آمدن سرشانه پشت و جلو g2","(از 0 الی 1)",{"$f":"K120*E120+L120","v":0.5},"بهینه=0.5",{"$f":"'طراحی همه الگوها'!B332","v":10},"روی هم آمدن سرشانه پشت و جلو ",1,0.05,0,0,{"$f":"(J120-H120)/(I120-G120)","v":0.05},{"$f":"H120-G120*K120","v":0},0,{"$f":"(M120-L120)/K120","v":0},1,{"$f":"(O120-L120)/K120","v":20},0.5,{"$f":"(Q120-L120)/K120","v":10},null,null,null,null,null,null,null,null,null,null,null,null,null,null,null,null,null,{"$f":"CL6","v":"50زنانه کمر پهن"},-31,70,11,4.2,null,-15.5]
[" نسبت اعمال تغییر در حلقه جلو به حلقه پشت  g1","(از 0.5 الی 5)",{"$f":"K121*E121+L121","v":2},"بهینه=2",{"$f":"'طراحی همه الگوها'!B333","v":20},"نسبت اعمال تغییر در حلقه جلو به حلقه پشت  ",1,0.1,0,0,{"$f":"(J121-H121)/(I121-G121)","v":0.1},{"$f":"H121-G121*K121","v":0},0.5,{"$f":"(M121-L121)/K121","v":5},5,{"$f":"(O121-L121)/K121","v":50},2,{"$f":"(Q121-L121)/K121","v":20},null,null,null,null,null,null,null,null,null,null,null,null,null,null,null,null,null,{"$f":"CM6","v":"52زنانه کمر پهن"},-30,71,11.5,4.3,null,-15]
["زاویه اپل  (به درجه)  b","(از 0 الی 10)",{"$f":"K122*E122+L122","v":3},"بهینه =3",{"$f":"'طراحی همه الگوها'!B334","v":15},"زاویه اپل    ",1,0.2,0,0,{"$f":"(J122-H122)/(I122-G122)","v":0.2},{"$f":"H122-G122*K122","v":0},0,{"$f":"(M122-L122)/K122","v":0},10,{"$f":"(O122-L122)/K122","v":50},3,{"$f":"(Q122-L122)/K122","v":15},null,null,null,null,null,null,null,null,null,null,null,null,null,null,null,null,null,{"$f":"CN6","v":"54زنانه کمر پهن"},-29,72,12,4.4000000000000004,null,-14.5]
[null,null,null,null,null,null,null,null,null,null,null,null,null,null,null,null,null,null,null,null,null,null,null,null,null,null,null,null,null,null,null,null,null,null,null,{"$f":"CO6","v":"56زنانه کمر پهن"},-28,73,12.5,4.5,null,-14]
[" متغیرهای ورودی - نوع پیراهن",null,null,null,null," متغیرهای ورودی - نوع پیراهن","x1","y1","x2","y2(بهینه)","a","b",null,"کمترین",null,"بیشترین",null,null,null,null,null,null,null,null,null,null,null,null,null,null,null,null,null,null,null,{"$f":"CP6","v":"58زنانه کمر پهن"},-27,74,13,4.5999999999999996,null,-13.5]
["انتخاب جلو ترک ( سوتین) =1         انتخاب جلو با ساسون  (مایو) = 0","0 یا 1 ",{"$f":"K125*E125+L125","v":0},null,{"$f":"'طراحی همه الگوها'!B210","v":1},"انتخاب الگو جلو ترک ( سوتین) =2         انتخاب الگو جلو با ساسون  (مایو) = 1",1,0,2,1,{"$f":"(J125-H125)/(I125-G125)","v":1},{"$f":"H125-G125*K125","v":-1},null,1,null,2,null,null,null,null,null,null,null,null,null,null,null,null,null,null,null,null,null,null,null,{"$f":"CQ6","v":"60زنانه کمر پهن"},-26,75,13.5,4.7,null,-13]
[null,null,null,null,null,null,null,null,null,null,null,null,null,null,null,null,null,null,null,null,null,null,null,null,null,null,null,null,null,null,null,null,null,null,null,{"$f":"CR6","v":"37مردانه کت"},-25,76,14,4.8,null,-12.5]
[" متغیر ورودی اوزمان ها",null,null,null,null," متغیر ورودی اوزمان ها","x1","y1","x2","y2(بهینه)","a","b",null,"کمترین",null,"بیشترین",null,null,null,null,null,null,null,null,null,null,null,null,null,null,null,null,null,null,null,{"$f":"CS6","v":"38مردانه کت"},-24,77,14.5,4.9000000000000004,null,-12]
["میزان پایین آمدن نقطه شروع اوزمان از خط کمر x5 ","(از 0 الی 1)",{"$f":"K128*E128+L128","v":1},"روی خط باسن=1",{"$f":"'طراحی همه الگوها'!B213","v":30},"میزان پایین آمدن نقطه شروع اوزمان از خط کمر  ",10,0,30,1,{"$f":"(J128-H128)/(I128-G128)","v":0.05},{"$f":"H128-G128*K128","v":-0.5},0,{"$f":"(M128-L128)/K128","v":10},1,{"$f":"(O128-L128)/K128","v":30},null,null,null,null,null,null,null,null,null,null,null,null,null,null,null,null,null,null,null,{"$f":"CT6","v":"39مردانه کت"},-23,78,15,5,"متغیر ورودی خاص چادر",-11.5]
["ضریب بزرگ شدن اوزمان در خط پهلو جلو دامن f0 ","(از -0.5 الی 2)",-0.1,"بهینه=0.5",{"$f":"'طراحی همه الگوها'!B214","v":-2},"اوزمان در خط پهلو جلو دامن  ",0,0,1,0.05,0.05,0,-0.5,-10,2,40,null,null,null,null,null,null,null,null,null,null,null,null,null,null,null,null,null,null,null,{"$f":"CU6","v":"40مردانه کت"},-22,79,15.5,null,70,-11]
["ضریب بزرگ شدن اوزمان در خط ترک جلو دامن e20 ","(از -0.5 الی 2)",0,"بهینه=0.5",{"$f":"'طراحی همه الگوها'!B215","v":0},"اوزمان در خط ترک جلو دامن  ",0,0,1,0.05,0.05,0,-0.5,-10,2,40,null,null,null,null,null,null,null,null,null,null,null,null,null,null,null,null,null,null,null,{"$f":"CV6","v":"41مردانه کت"},-21,80,16,null,75,-10.5]
["ضریب بزرگ شدن اوزمان در خط  پهلو پشت دامن f1  ","(از -0.5 الی 2)",-0.1,"بهینه=0.5",{"$f":"'طراحی همه الگوها'!B216","v":-2},"اوزمان در خط  پهلو پشت دامن   ",0,0,1,0.05,0.05,0,-0.5,-10,2,40,null,null,null,null,null,null,null,null,null,null,null,null,null,null,null,null,null,null,null,{"$f":"CW6","v":"42مردانه کت"},-20,81,16.5,null,80,-10]
["ضریب بزرگ شدن اوزمان در خط مرکزی پشت دامن e40 ","(از -0.5 الی 2)",0.25,"بهینه=0.5",{"$f":"'طراحی همه الگوها'!B217","v":5},"اوزمان در خط مرکزی پشت دامن  ",0,0,1,0.05,0.05,0,-0.5,-10,2,40,null,null,null,null,null,null,null,null,null,null,null,null,null,null,null,null,null,null,null,{"$f":"CX6","v":"43مردانه کت"},-19,82,17,null,85,-9.5]
["ضریب بزرگ شدن اوزمان در خط ترک پشت دامن e50 ","(از -0.5 الی 2)",0,"بهینه=0.5",{"$f":"'طراحی همه الگوها'!B218","v":0},"اوزمان در خط ترک پشت دامن  ",0,0,1,0.05,0.05,0,-0.5,-10,2,40,null,null,null,null,null,null,null,null,null,null,null,null,null,null,null,null,null,null,null,{"$f":"CY6","v":"44مردانه کت"},-18,83,17.5,null,90,-9]
["انتخاب پیراهن ترک گشاد=1            انتخاب دیگر=0","0 یا 1 ",0,null,{"$f":"'طراحی همه الگوها'!B219","v":1},"انتخاب پیراهن ترک گشاد=2            انتخاب دیگر=1",1,0,2,1,1,-1,null,1,null,2,null,null,null,null,null,null,null,null,null,null,null,null,null,null,null,null,null,null,null,{"$f":"CZ6","v":"45مردانه کت"},-17,84,18,null,95,-8.5]
[null,null,null,null,null,null,null,null,null,null,null,null,null,null,null,null,null,null,null,null,null,null,null,null,null,null,null,null,null,null,null,null,null,null,null,{"$f":"DA6","v":"46 مردانه کت"},-16,85,18.5,null,100,-8]
[" متغیرهای ورودی - پیلی ها و گوده ها",null,null,null,null," متغیرهای ورودی - پیلی ها و گوده ها","x1","y1","x2","y2(بهینه)","a","b",null,"کمترین",null,"بیشترین",null,null,null,null,null,null,null,null,null,null,null,null,null,null,null,null,null,null,null,{"$f":"DB6","v":"47 مردانه کت"},-15,86,19,null,105,-7.5]
[" عرض پیلی 1 - روی خط مرکزی جلو  (سانتیمتر)    e119","(از 0 الی 10)",{"$f":"K137*E137+L137","v":0},"بهینه=4",{"$f":"'طراحی همه الگوها'!B299","v":0}," عرض پیلی 1 - روی خط مرکزی جلو  (سانتیمتر)    ",1,1,0,0,{"$f":"(J137-H137)/(I137-G137)","v":1},{"$f":"H137-G137*K137","v":0},0,{"$f":"(M137-L137)/K137","v":0},10,{"$f":"(O137-L137)/K137","v":10},4,{"$f":"(Q137-L137)/K137","v":4},null,null,null,null,null,null,null,null,null,null,null,null,null,null,null,null,null,{"$f":"DC6","v":"48 مردانه کت"},-14,87,19.5,null,110,-7]
[" عرض پیلی 2 - روی خط ترک جلو   (سانتیمتر)    e219","(از 0 الی 10)",0,"بهینه=4",{"$f":"'طراحی همه الگوها'!B300","v":0}," عرض پیلی 2 - روی خط ترک جلو   (سانتیمتر)    ",1,1,0,0,1,0,0,0,10,10,4,4,null,null,null,null,null,null,null,null,null,null,null,null,null,null,null,null,null,{"$f":"DD6","v":"49 مردانه کت"},-13,88,20,null,115,-6.5]
[" عرض پیلی 3 - روی خط پهلو  (سانتیمتر)    e319","(از 0 الی 10",0,"بهینه=4",{"$f":"'طراحی همه الگوها'!B301","v":0}," عرض پیلی 3 - روی خط پهلو  (سانتیمتر)    ",1,1,0,0,1,0,0,0,10,10,4,4,null,null,null,null,null,null,null,null,null,null,null,null,null,null,null,null,null,{"$f":"DE6","v":"50 مردانه کت"},-12,89,null,null,120,-6]
[" عرض پیلی 4 - روی خط مرکزی پشت  (سانتیمتر)    e419","(از 0 الی 10",2,"بهینه=4",{"$f":"'طراحی همه الگوها'!B302","v":2}," عرض پیلی 4 - روی خط مرکزی پشت  (سانتیمتر)    ",1,1,0,0,1,0,0,0,10,10,4,4,null,null,null,null,null,null,null,null,null,null,null,null,null,null,null,null,null,{"$f":"DF6","v":"عنوان 1"},-11,90,null,null,125,-5.5]
[" عرض پیلی 5 و لبه برگردان پایین کت یا پیراهن- روی خط ترک پشت  (سانتیمتر) e519","(از 0 الی 10)",2,"بهینه=4",{"$f":"'طراحی همه الگوها'!B303","v":2}," عرض پیلی 5 و لبه برگردان پایین کت یا پیراهن- روی خط ترک پشت  (سانتیمتر) ",1,1,0,0,1,0,0,0,10,10,4,4,null,null,null,null,null,null,null,null,null,null,null,null,null,null,null,null,null,{"$f":"DG6","v":"عنوان 2"},-10,91,null,null,130,-5]
[" عرض گوده 1 - روی خط مرکزی جلو  (سانتیمتر)    e111","(از 0 الی 15)",0,"بهینه=7",{"$f":"'طراحی همه الگوها'!B304","v":0}," عرض گوده 1 - روی خط مرکزی جلو  (سانتیمتر)    ",1,1,0,0,1,0,0,0,15,15,7,7,null,null,null,null,null,null,null,null,null,null,null,null,null,null,null,null,null,{"$f":"DH6","v":"عنوان 3"},-9,92,null,null,135,-4.5]
[" عرض گوده 2 - روی خط ترک جلو  (سانتیمتر)    e211","(از 0 الی 15)",0,"بهینه=7",{"$f":"'طراحی همه الگوها'!B305","v":0}," عرض گوده 2 - روی خط ترک جلو  (سانتیمتر)    ",1,1,0,0,1,0,0,0,15,15,7,7,null,null,null,null,null,null,null,null,null,null,null,null,null,null,null,null,null,{"$f":"DI6","v":"عنوان 4"},-8,93,null,null,140,-4]
[" عرض گوده 3 - روی خط پهلو   (سانتیمتر)    e311","(از 0 الی 15)",5,"بهینه=7",{"$f":"'طراحی همه الگوها'!B306","v":5}," عرض گوده 3 - روی خط پهلو   (سانتیمتر)    ",1,1,0,0,1,0,0,0,15,15,7,7,null,null,null,null,null,null,null,null,null,null,null,null,null,null,null,null,null,{"$f":"DJ6","v":"عنوان 5"},-7,94,null,null,145,-3.5]
[" عرض گوده 4 - روی خط مرکزی پشت  (سانتیمتر)    e411","(از 0 الی 15)",5,"بهینه=7",{"$f":"'طراحی همه الگوها'!B307","v":5}," عرض گوده 4 - روی خط مرکزی پشت  (سانتیمتر)    ",1,1,0,0,1,0,0,0,15,15,7,7,null,null,null,null,null,null,null,null,null,null,null,null,null,null,null,null,null,{"$f":"DK6","v":"عنوان 6"},-6,95,null,null,150,-3]
[" عرض گوده 5 - روی خط ترک پشت  (سانتیمتر)    e511","(از 0 الی 15)",5,"بهینه=7",{"$f":"'طراحی همه الگوها'!B308","v":5}," عرض گوده 5 - روی خط ترک پشت  (سانتیمتر)    ",1,1,0,0,1,0,0,0,15,15,7,7,null,null,null,null,null,null,null,null,null,null,null,null,null,null,null,null,null,{"$f":"DL6","v":"عنوان 7"},-5,96,null,null,155,-2.5]
["ضریب نقطه شروع گوده و پیلی از زمین    e0","(از 0 الی 2)",1.5,"خط زمین=0 \nخط زانو=1 \nخط باسن=2  ",{"$f":"'طراحی همه الگوها'!B309","v":40},"ضریب نقطه شروع گوده و پیلی از زمین    ",10,0,30,1,0.05,-0.5,null,1,null,50,0,10,null,null,null,null,null,null,null,null,null,null,null,null,null,null,null,null,null,{"$f":"DM6","v":"عنوان 8"},-4,97,null,null,160,-2]
[null,null,null,null,null,null,null,null,null,null,null,null,null,null,null,null,null,null,null,null,null,null,null,null,null,null,null,null,null,null,null,null,null,null,null,{"$f":"DN6","v":"عنوان 9"},-3,98,null,null,165,-1.5]
[" متغیرهای ورودی جزئی - طراحی تکه پشت یقه انگلیسی  ",null,null,null,null," متغیرهای ورودی جزئی - طراحی تکه پشت یقه انگلیسی  ","x1","y1","x2","y2(بهینه)","a","b",null,"کمترین",null,"بیشترین",null,null,null,null,null,null,null,null,null,null,null,null,null,null,null,null,null,null,null,{"$f":"DO6","v":"عنوان 10"},-2,99,null,null,170,-1]
["γ11      زاویه تکه پشت یقه روی خط مرکزی ","(از -10 الی 20)",{"$f":"K150*E150+L150","v":2},"بهینه=2",{"$f":"'طراحی همه الگوها'!E225","v":20},"زاویه تکه پشت یقه روی خط مرکزی ",19,1,20,2,{"$f":"(J150-H150)/(I150-G150)","v":1},{"$f":"H150-G150*K150","v":-18},-10,{"$f":"(M150-L150)/K150","v":8},20,{"$f":"(O150-L150)/K150","v":38},2,{"$f":"(Q150-L150)/K150","v":20},null,null,null,null,null,null,null,null,null,null,null,null,null,null,null,null,null,{"$f":"DP6","v":"عنوان 11"},-1,100,null,null,175,-0.5]
["γ12       زاویه تکه پشت یقه با پایه روی خط مرکزی ","(از -10 الی 20)",4,"بهینه=4",{"$f":"'طراحی همه الگوها'!E226","v":20},"زاویه تکه پشت یقه با پایه روی خط مرکزی ",19,3,20,4,1,-16,-10,6,20,36,4,20,null,null,null,null,null,null,null,null,null,null,null,null,null,null,null,null,null,{"$f":"DQ6","v":"عنوان 12"},0,101,null,null,180,0]
[" ضریب تغییر انحنا بالا سمت چپ     مرحله نهم          γ13","(از -1 الی 1)",0,"بهینه=0",{"$f":"'طراحی همه الگوها'!E223","v":20},"ضریب تغییر انحنا بالا سمت چپ     مرحله نهم در طراحی یقه انگلیسی          ",19,-0.1,20,0,0.1,-2,-1,10,1,30,0,20,null,null,null,null,null,null,null,null,null,null,null,null,null,null,null,null,null,{"$f":"DR6","v":"عنوان 13"},1,102,null,null,185,0.5]
["γ14        ضریب تغییر انحنا بالا    مرحله نهم ","(از 0.5 الی 2)",1.18,"بهینه=1.18",{"$f":"'طراحی همه الگوها'!E224","v":40},"ضریب تغییر انحنا بالا    مرحله نهم در طراحی یقه انگلیسی ",39,1.1599999999999999,40,1.18,2.0000000000000018E-2,0.37999999999999923,0.5,6.0000000000000329,2,80.999999999999972,1.18,40,null,null,null,null,null,null,null,null,null,null,null,null,null,null,null,null,null,{"$f":"DS6","v":"عنوان 14"},2,103,null,null,190,1]
["γ15        ضریب تغییر انحنا پایین روی خط مرکزی پشت","(از 0 الی 2)",0.5,"بهینه=0.5",{"$f":"'طراحی همه الگوها'!E227","v":20},"ضریب تغییر انحنا پایین روی خط مرکزی پشت",19,0.45,20,0.5,4.9999999999999989E-2,-0.49999999999999972,0,9.9999999999999964,2,50,0.5,20,null,null,null,null,null,null,null,null,null,null,null,null,null,null,null,null,null,{"$f":"DT6","v":"عنوان 15"},3,104,null,null,195,1.5]
["γ16        ضریب تغییر انحنا پایین","(از 0 الی 2)",0.6,"بهینه=0.6",{"$f":"'طراحی همه الگوها'!E228","v":20},"ضریب تغییر انحنا پایین",19,0.55000000000000004,20,0.6,4.9999999999999933E-2,-0.39999999999999869,0,7.999999999999984,2,48.000000000000036,0.6,20,null,null,null,null,null,null,null,null,null,null,null,null,null,null,null,null,null,{"$f":"DU6","v":"عنوان 16"},4,105,null,null,200,2]
["γ17      ضریب پهنای پشت پایه (انگلیسی و آرشال) مرحله سوم","(از 0.2 الی 2)",0.7,"بهینه=1\nبهینه پایه مستطیل=0.7",{"$f":"'طراحی همه الگوها'!E219","v":20},"پهنای پشت پایه (انگلیسی و آرشال)    مرحله سوم در طراحی یقه انگلیسی      ",19,0.65,20,0.7,4.9999999999999933E-2,-0.29999999999999871,0.2,9.9999999999999876,2,46.000000000000043,1,26.000000000000011,null,null,null,null,null,null,null,null,null,null,null,null,null,null,null,null,null,{"$f":"DV6","v":"عنوان 17"},5,106,null,null,null,2.5]
["γ18        زاویه کج شدن پایه مستطیل به قسمت گردن بر حسب درجه  مرحله سوم ","(از -30 الی 30)",-15,"بهینه=5",{"$f":"'طراحی همه الگوها'!E220","v":20},"زاویه کج شدن پایه مستطیل به قسمت گردن    مرحله سوم در طراحی یقه انگلیسی ",39,4,40,5,1,-35,-30,5,30,65,5,40,null,null,null,null,null,null,null,null,null,null,null,null,null,null,null,null,null,{"$f":"DW6","v":"عنوان 18"},6,107,null,null,null,3]
[" ضریب پهنای جلو پایه مستطیل  مرحله سوم       γ19","(از 0 الی 1)",0.7,"بهینه=0.7",{"$f":"'طراحی همه الگوها'!E221","v":20},"پهنای جلو پایه مستطیل      مرحله سوم در طراحی یقه انگلیسی       ",19,0.65,20,0.7,4.9999999999999933E-2,-0.29999999999999871,0,5.9999999999999822,1,26.000000000000011,0.7,20,null,null,null,null,null,null,null,null,null,null,null,null,null,null,null,null,null,{"$f":"DX6","v":"عنوان 19"},7,108,null,null,null,3.5]
["انتخاب یقه انگلیسی با پایه جدا=1            انتخاب دیگر=0  مرحله سوم","0 یا 1 ",0,null,{"$f":"'طراحی همه الگوها'!E222","v":1},"انتخاب یقه انگلیسی پایه سرخود یا پایه جدا    مرحله سوم در طراحی یقه انگلیسی",1,0,2,1,1,-1,0,1,1,2,0,1,null,null,null,null,null,null,null,null,null,null,null,null,null,null,null,null,null,{"$f":"DY6","v":"عنوان 20"},8,109,null,null,null,4]
["γ20        جابجایی عمودی پایه مستطیل","(از -100 الی100)",0,"بهینه=دلخواه",{"$f":"'طراحی همه الگوها'!E231","v":0},"جابجایی عمودی پایه مستطیل (سانتیمتر)",1,1,0,0,1,0,-100,{"$f":"(M160-L160)/K160","v":-100},100,{"$f":"(O160-L160)/K160","v":100},null,null,null,null,null,null,null,null,null,null,null,null,null,null,null,null,null,null,null,{"$f":"DZ6","v":"عنوان 21"},9,110,null,null,null,4.5]
["γ21        جابجایی افقی پایه مستطیل","(از -100 الی100)",0,"بهینه=دلخواه",{"$f":"'طراحی همه الگوها'!E230","v":0},"جابجایی افقی پایه مستطیل (سانتیمتر)",1,1,0,0,1,0,-100,{"$f":"(M161-L161)/K161","v":-100},100,{"$f":"(O161-L161)/K161","v":100},null,null,null,null,null,null,null,null,null,null,null,null,null,null,null,null,null,null,null,{"$f":"EA6","v":"عنوان 22"},10,111,null,null,null,5]
[null,null,null,null,null,null,null,null,null,null,null,null,null,null,null,null,null,null,null,null,null,null,null,null,null,null,null,null,null,null,null,null,null,null,null,{"$f":"EB6","v":"عنوان 23"},11,112,null,null,null,5.5]
[" متغیرهای ورودی-طراحی یقه انگلیسی و آرشال و یقه هفت",null,null,null,null," متغیرهای ورودی-طراحی یقه انگلیسی و آرشال و یقه هفت","x1","y1","x2","y2(بهینه)","a","b",null,"کمترین",null,"بیشترین",null,null,"مراحل مختلف در طراحی یقه انگلیسی",null,null,null,null,null,null,null,null,null,null,null,null,null,null,null,null,{"$f":"EC6","v":"عنوان 24"},12,113,null,null,null,6]
["پهنای یقه در پشت گردن (انگلیسی یا آرشال)  مرحله سوم","(از 0.7 الی 3)",{"$f":"K164*E164+L164","v":1},"بهینه=1",{"$f":"'طراحی همه الگوها'!E207","v":20},"پهنای یقه در پشت گردن (انگلیسی یا آرشال)  مرحله سوم در طراحی یقه انگلیسی",19,0.95,20,1,{"$f":"(J164-H164)/(I164-G164)","v":5.0000000000000044E-2},{"$f":"H164-G164*K164","v":-8.8817841970012523E-16},0.7,{"$f":"(M164-L164)/K164","v":14.000000000000004},3,{"$f":"(O164-L164)/K164","v":59.999999999999964},1,{"$f":"(Q164-L164)/K164","v":20},"پهنای جادکمه جلو - میزان روی هم آمدن یقه انگلیسی","مرحله اول",null,null,null,null,null,null,null,null,null,null,null,null,null,null,null,{"$f":"ED6","v":"عنوان 25"},13,114,null,null,null,6.5]
["γ1      باز بودن یقه انگلیسی یا آرشال یا هفت   مرحله چهارم ","(از 0.5 الی 1.5)",0.7,"بهینه=0.7",{"$f":"'طراحی همه الگوها'!E208","v":20}," باز بودن یقه انگلیسی یا آرشال یا هفت   مرحله چهارم در طراحی یقه انگلیسی ",19,0.65,20,0.7,4.9999999999999933E-2,-0.29999999999999871,0.5,15.999999999999995,1.5,36.000000000000021,0.7,20,"میزان باز بودن یقه گرد - نشان میدهد یقه چقدر به گردن میچسبد","مرحله دوم",null,null,null,null,null,null,null,null,null,null,null,null,null,null,null,{"$f":"EE6","v":"عنوان 26"},14,115,null,null,null,7]
["γ7        پهنای بالای دال   مرحله پنجم ","(از 0.01 الی 0.4)",9.9999999999999992E-2,"بهینه=0.1",{"$f":"'طراحی همه الگوها'!E209","v":20}," پهنای بالای دال   مرحله پنجم در طراحی یقه انگلیسی ",21,0.11,20,0.1,9.999999999999995E-3,-9.9999999999999908E-2,0.01,10.999999999999996,0.4,50.000000000000021,0.1,20,"پهنای تکه پشت یقه انگلیسی","مرحله سوم",null,null,null,null,null,null,null,null,null,null,null,null,null,null,null,{"$f":"EF6","v":"عنوان 27"},15,116,null,null,null,7.5]
[" پهنای پایین دال   مرحله پنجم         γ6","(از 0.01 الی 0.4)",9.9999999999999992E-2,"بهینه=0.1",{"$f":"'طراحی همه الگوها'!E210","v":20}," پهنای پایین دال   مرحله پنجم در طراحی یقه انگلیسی      ",21,0.11,20,0.1,9.999999999999995E-3,-9.9999999999999908E-2,0.01,10.999999999999996,0.4,50.000000000000021,0.1,20,"باز بودن یقه انگلیسی","مرحله چهارم",null,null,null,null,null,null,null,null,null,null,null,null,null,null,null,{"$f":"EG6","v":"عنوان 28"},16,117,null,null,null,8]
["γ4          پهنای یقه انگلیسی یا آرشال   مرحله ششم ","(از -5 الی 40)",8,"بهینه=8",{"$f":"'طراحی همه الگوها'!E211","v":20}," پهنای یقه انگلیسی یا آرشال   مرحله ششم در طراحی یقه انگلیسی ",19,7,20,8,1,-12,-5,7,40,52,8,20,"پهنای بالا و پایین دال","مرحله پنجم",null,null,null,null,null,null,null,null,null,null,null,null,null,null,null,{"$f":"EH6","v":"عنوان 29"},17,118,null,null,null,8.5]
["γ5        وسط دال پایین یا بالا رود (انگلیسی یا آرشال)  مرحله هفتم","(از -0.2 الی 0.3)",0,"عدد منفی یعنی دال رو به سرشانه برود\nبهینه=0",{"$f":"'طراحی همه الگوها'!E212","v":20}," وسط دال پایین یا بالا رود (انگلیسی یا آرشال)  مرحله هفتم در طراحی یقه انگلیسی",19,-0.01,20,0,0.01,-0.2,-0.2,0,0.3,50,0,20,"پهنای یقه انگلیسی","مرحله ششم",null,null,null,null,null,null,null,null,null,null,null,null,null,null,null,{"$f":"EI6","v":"عنوان 30"},18,119,"متغیر ورودی خاص یقه","متغیر ورودی خاص شلوار",null,9]
["γ9       زاویه بالای دال   مرحله هشتم","(از 90 الی 180)",130,"بهینه=130",{"$f":"'طراحی همه الگوها'!E213","v":20}," زاویه بالای دال   مرحله هشتم در طراحی یقه انگلیسی",19,125,20,130,5,30,90,12,180,30,130,20,"بالا و پایین رفتن نقطه وسط دال","مرحله هفتم",null,null,null,null,null,null,null,null,null,null,null,null,null,null,null,{"$f":"EJ6","v":"عنوان 31"},19,120,"خط جادکمه","روش مولر",null,9.5]
["γ10       زاویه پایین دال    مرحله هشتم ","(از 90 الی 180)",160,"بهینه=160",{"$f":"'طراحی همه الگوها'!E214","v":20}," زاویه پایین دال    مرحله هشتم در طراحی یقه انگلیسی ",19,155,20,160,5,60,90,6,180,24,160,20,"تنظیم زاویه های نوک دال","مرحله هشتم",null,null,null,null,null,null,null,null,null,null,null,null,null,null,null,{"$f":"EK6","v":"عنوان 32"},20,null,"مرکزی جلو",0,null,10]
["  γ3  دال رو به پایین شود یا رو به بالا شود مرحله هشتم  (در آستین رگلان = 0.05)","(از 0.01 الی 0.3)",5.0000000000000017E-2,"بهینه=0.05",{"$f":"'طراحی همه الگوها'!E215","v":20}," دال رو به پایین یا رو به بالا شود مرحله هشتم در طراحی یقه انگلیسی  ",19,0.04,20,0.05,{"$f":"(J172-H172)/(I172-G172)","v":1.0000000000000002E-2},{"$f":"H172-G172*K172","v":-0.15000000000000002},0.01,{"$f":"(M172-L172)/K172","v":16},0.3,{"$f":"(O172-L172)/K172","v":44.999999999999993},0.05,{"$f":"(Q172-L172)/K172","v":19.999999999999996},"اصلاح انحنای بالای تکه پشت یقه انگلیسی","مرحله نهم",null,null,null,null,null,null,null,null,null,null,null,null,null,null,null,{"$f":"EL6","v":"عنوان 33"},21,null,1,0.5,null,10.5]
["γ1      محاسبه در یقه شکاری متصل به یقه هفت   ",{"$f":"ROUND(1-(محاسبات!AX103-محاسبات!AX129-محاسبات!AX155-'متغیرها '!C169*محاسبات!H124)/محاسبات!H124,2)","v":0.54},null,null,null,"   محاسبه در یقه شکاری متصل به یقه هفت   ",null,null,null,null,null,null,null,null,null,null,null,null,null,null,null,null,null,null,null,null,null,null,null,null,null,null,null,null,null,{"$f":"EM6","v":"عنوان 34"},22,null,2,1,null,11]
[null,null,null,null,null,null,null,null,null,null,null,null,null,null,null,null,null,null,null,null,null,null,null,null,null,null,null,null,null,null,null,null,null,null,null,{"$f":"EN6","v":"عنوان 35"},23,null,3,1.5,null,11.5]
[" متغیرهای ورودی -ضخیم دوزی در سجاف یقه انگلیسی و آرشال",null,null,null,null," متغیرهای ورودی -ضخیم دوزی در سجاف یقه انگلیسی و آرشال","x1","y1","x2","y2(بهینه)","a","b",null,"کمترین",null,"بیشترین",null,null,null,null,null,null,null,null,null,null,null,null,null,null,null,null,null,null,null,{"$f":"EO6","v":"عنوان 36"},24,null,4,2,null,12]
["ضریب اعمال ضخیم دوزی در سجاف  (سانتیمتر) a'0","(از 0 الی 1)",{"$f":"K176*E176+L176","v":0.5},"بهینه کت مردانه=0.5",{"$f":"'طراحی همه الگوها'!E229","v":20},"ضریب اعمال ضخیم دوزی در سجاف  (سانتیمتر) ",19,0.45,20,0.5,{"$f":"(J176-H176)/(I176-G176)","v":4.9999999999999989E-2},{"$f":"H176-G176*K176","v":-0.49999999999999972},0,{"$f":"(M176-L176)/K176","v":9.9999999999999964},1,{"$f":"(O176-L176)/K176","v":30.000000000000004},0.5,{"$f":"(Q176-L176)/K176","v":20},null,null,null,null,null,null,null,null,null,null,null,null,null,null,null,null,null,{"$f":"EP6","v":"عنوان 37"},25,null,5,2.5,null,12.5]
[null,null,null,null,null,null,null,null,null,null,null,null,null,null,null,null,null,null,null,null,null,null,null,null,null,null,null,null,null,null,null,null,null,null,null,{"$f":"EQ6","v":"عنوان 38"},26,null,6,3,null,13]
[" متغیرهای ورودی - پایه یقه انگلیسی  ",null,null,null,null," متغیرهای ورودی - پایه یقه انگلیسی  ","x1","y1","x2","y2(بهینه)","a","b",null,"کمترین",null,"بیشترین",null,null,null,null,null,null,null,null,null,null,null,null,null,null,null,null,null,null,null,{"$f":"ER6","v":"عنوان 39"},27,null,7,3.5,null,13.5]
["شیفت افقی پایه (به سانتیمتر)","(از -100 الی100)",{"$f":"K179*E179+L179","v":0},"بهینه=دلخواه",{"$f":"'طراحی همه الگوها'!E232","v":0},"شیفت افقی پایه (سانتیمتر)",1,1,0,0,{"$f":"(J179-H179)/(I179-G179)","v":1},{"$f":"H179-G179*K179","v":0},-100,{"$f":"(M179-L179)/K179","v":-100},100,{"$f":"(O179-L179)/K179","v":100},null,null,null,null,null,null,null,null,null,null,null,null,null,null,null,null,null,null,null,{"$f":"ES6","v":"عنوان 40"},28,null,8,4,null,14]
["شیفت عمودی پایه (به سانتیمتر)","(از -100 الی100)",{"$f":"K180*E180+L180","v":0},"بهینه=دلخواه",{"$f":"'طراحی همه الگوها'!E233","v":0},"شیفت عمودی پایه (سانتیمتر)",1,1,0,0,{"$f":"(J180-H180)/(I180-G180)","v":1},{"$f":"H180-G180*K180","v":0},-100,{"$f":"(M180-L180)/K180","v":-100},100,{"$f":"(O180-L180)/K180","v":100},null,null,null,null,null,null,null,null,null,null,null,null,null,null,null,null,null,null,null,null,29,null,9,4.5,null,14.5]
[null,null,null,null,null,null,null,null,null,null,null,null,null,null,null,null,null,null,null,null,null,null,null,null,null,null,null,null,null,null,null,null,null,null,null,null,30,null,10,5,null,15]
[" متغیرهای ورودی - پایه یقه آرشال  ",null,null,null,null," متغیرهای ورودی - پایه یقه آرشال  ","x1","y1","x2","y2(بهینه)","a","b",null,"کمترین",null,"بیشترین",null,null,null,null,null,null,null,null,null,null,null,null,null,null,null,null,null,null,null,null,31,null,11,5.5,null,15.5]
["شیفت افقی پایه (به سانتیمتر)","(از -100 الی100)",{"$f":"K183*E183+L183","v":0},"بهینه=دلخواه",{"$f":"'طراحی همه الگوها'!E234","v":0},"شیفت افقی پایه (سانتیمتر)",1,1,0,0,{"$f":"(J183-H183)/(I183-G183)","v":1},{"$f":"H183-G183*K183","v":0},-100,{"$f":"(M183-L183)/K183","v":-100},100,{"$f":"(O183-L183)/K183","v":100},null,null,null,null,null,null,null,null,null,null,null,null,null,null,null,null,null,null,null,null,32,null,12,6,null,16]
["شیفت عمودی پایه (به سانتیمتر)","(از -100 الی100)",{"$f":"K184*E184+L184","v":0},"بهینه=دلخواه",{"$f":"'طراحی همه الگوها'!E235","v":0},"شیفت عمودی پایه (سانتیمتر)",1,1,0,0,{"$f":"(J184-H184)/(I184-G184)","v":1},{"$f":"H184-G184*K184","v":0},-100,{"$f":"(M184-L184)/K184","v":-100},100,{"$f":"(O184-L184)/K184","v":100},null,null,null,null,null,null,null,null,null,null,null,null,null,null,null,null,null,null,null,null,33,null,13,6.5,null,16.5]
[null,null,null,null,null,null,null,null,null,null,null,null,null,null,null,null,null,null,null,null,null,null,null,null,null,null,null,null,null,null,null,null,null,null,null,null,34,null,14,7,null,17]
[" متغیرهای ورودی-انتقال ساسون زیر بغل بر روی جیب در تکه پهلو جدا",null,null,null,null," متغیرهای ورودی-انتقال ساسون زیر بغل بر روی جیب در تکه پهلو جدا","x1","y1","x2","y2(بهینه)","a","b",null,"کمترین",null,"بیشترین",null,null,null,null,null,null,null,null,null,null,null,null,null,null,null,null,null,null,null,null,35,null,15,7.5,null,17.5]
["تغییر زاویه جیب با افق  (درجه)","(از -45 الی 45)",{"$f":"K187*E187+L187","v":-41},"بهینه =دلخواه",{"$f":"'طراحی همه الگوها'!B337","v":40},"تغییر زاویه جیب با افق  (درجه)",-2,1,-1,0,{"$f":"(J187-H187)/(I187-G187)","v":-1},{"$f":"H187-G187*K187","v":-1},-45,{"$f":"(M187-L187)/K187","v":44},45,{"$f":"(O187-L187)/K187","v":-46},0,{"$f":"(Q187-L187)/K187","v":-1},null,null,null,null,null,null,null,null,null,null,null,null,null,null,null,null,null,null,36,null,16,8,null,18]
["ضریب پهنای جیب در مدل تکه پهلو جدا","(از 0.01 الی 1.5)",{"$f":"K188*E188+L188","v":1},"بهینه=1",{"$f":"'طراحی همه الگوها'!B338","v":20},"ضریب پهنای جیب در مدل تکه پهلو جدا",19,0.95,20,1,{"$f":"(J188-H188)/(I188-G188)","v":5.0000000000000044E-2},{"$f":"H188-G188*K188","v":-8.8817841970012523E-16},0.01,{"$f":"(M188-L188)/K188","v":0.20000000000001758},1.5,{"$f":"(O188-L188)/K188","v":29.999999999999993},1,{"$f":"(Q188-L188)/K188","v":20},null,null,null,null,null,null,null,null,null,null,null,null,null,null,null,null,null,null,37,null,17,8.5,null,18.5]
[null,null,null,null,null,null,null,null,null,null,null,null,null,null,null,null,null,null,null,null,null,null,null,null,null,null,null,null,null,null,null,null,null,null,null,null,38,null,18,9,null,19]
[" متغیرهای ورودی-انحنا لبه پیراهن روی خط مرکزی جلو ",null,null,null,null," متغیرهای ورودی-انحنا لبه پیراهن روی خط مرکزی جلو ","x1","y1","x2","y2(بهینه)","a","b",null,"کمترین",null,"بیشترین",null,null,null,null,null,null,null,null,null,null,null,null,null,null,null,null,null,null,null,null,39,null,19,9.5,null,19.5]
["ضریب انحنا بالای لبه پیراهن  روی خط مرکزی جلو n11","(از 0.01 الی 0.9)",{"$f":"K191*E191+L191","v":0.45},"بهینه کت مردانه=0.45",{"$f":"'طراحی همه الگوها'!B312","v":9},"ضریب انحنا بالای لبه پیراهن  روی خط مرکزی جلو ",1,0.05,0,0,{"$f":"(J191-H191)/(I191-G191)","v":0.05},{"$f":"H191-G191*K191","v":0},0.01,{"$f":"(M191-L191)/K191","v":0.19999999999999998},0.9,{"$f":"(O191-L191)/K191","v":18},0.45,{"$f":"(Q191-L191)/K191","v":9},null,null,null,null,null,null,null,null,null,null,null,null,null,null,null,null,null,null,40,null,20,10,null,20]
["ضریب انحنا میانی لبه پیراهن  روی خط مرکزی جلو n13","(از 0.5 الی 1.7)",{"$f":"K192*E192+L192","v":1.3},"بهینه کت مردانه=1.3",{"$f":"'طراحی همه الگوها'!B313","v":26},"ضریب انحنا میانی لبه پیراهن  روی خط مرکزی جلو ",1,0.05,0,0,{"$f":"(J192-H192)/(I192-G192)","v":0.05},{"$f":"H192-G192*K192","v":0},0.5,{"$f":"(M192-L192)/K192","v":10},1.7,{"$f":"(O192-L192)/K192","v":34},1.3,{"$f":"(Q192-L192)/K192","v":26},null,null,null,null,null,null,null,null,null,null,null,null,null,null,null,null,null,null,41,null,null,10.5,null,20.5]
["ضریب انحنا پایین لبه پیراهن روی خط مرکزی جلو n12","(از 0.3 الی 1)",{"$f":"K193*E193+L193","v":0.8},"بهینه کت مردانه=0.8",{"$f":"'طراحی همه الگوها'!B314","v":16},"ضریب انحنا پایین لبه پیراهن روی خط مرکزی جلو ",1,0.05,0,0,{"$f":"(J193-H193)/(I193-G193)","v":0.05},{"$f":"H193-G193*K193","v":0},0.3,{"$f":"(M193-L193)/K193","v":5.9999999999999991},1,{"$f":"(O193-L193)/K193","v":20},0.8,{"$f":"(Q193-L193)/K193","v":16},null,null,null,null,null,null,null,null,null,null,null,null,null,null,null,null,null,null,42,null,null,11,null,21]
[null,null,null,null,null,null,null,null,null,null,null,null,null,null,null,null,null,null,null,null,null,null,null,null,null,null,null,null,null,null,null,null,null,null,null,null,43,null,null,11.5,null,21.5]
[" متغیرهای ورودی - جیب پهلو",null,null,null,null," متغیرهای ورودی - جیب پهلو آبی با بلیطی  (جلو)","x1","y1","x2","y2(بهینه)","a","b",null,"کمترین",null,"بیشترین",null,null,null,null,null,null,null,null,null,null,null,null,null,null,null,null,null,null,null,null,44,null,null,12,null,22]
["عرض پاکت جیب به سانتیمتر","(از 0 الی 4)",{"$f":"K196*E196+L196","v":2},"بهینه=2",{"$f":"'طراحی همه الگوها'!E326","v":2},"پهنای بلیطی جیب  (سانتیمتر)",1,1,0,0,{"$f":"(J196-H196)/(I196-G196)","v":1},{"$f":"H196-G196*K196","v":0},0,{"$f":"(M196-L196)/K196","v":0},4,{"$f":"(O196-L196)/K196","v":4},2,{"$f":"(Q196-L196)/K196","v":2},null,null,null,null,null,null,null,null,null,null,null,null,null,null,null,null,null,null,45,null,null,12.5,null,22.5]
["ضریب طول پاکت جیب","(از 0.01 الی 1.5)",{"$f":"K197*E197+L197","v":1},"بهینه=1",{"$f":"'طراحی همه الگوها'!E327","v":20},"ضریب طول بلیطی جیب",19,0.95,20,1,{"$f":"(J197-H197)/(I197-G197)","v":5.0000000000000044E-2},{"$f":"H197-G197*K197","v":-8.8817841970012523E-16},0.01,{"$f":"(M197-L197)/K197","v":0.20000000000001758},1.5,{"$f":"(O197-L197)/K197","v":29.999999999999993},1,{"$f":"(Q197-L197)/K197","v":20},null,null,null,null,null,null,null,null,null,null,null,null,null,null,null,null,null,null,46,null,null,13,null,23]
["زاویه جیب با عمود به درجه","(از 0 الی 90)",{"$f":"K198*E198+L198","v":20},"بهینه=20",{"$f":"'طراحی همه الگوها'!E328","v":4},"زاویه جیب با عمود ",1,5,0,0,{"$f":"(J198-H198)/(I198-G198)","v":5},{"$f":"H198-G198*K198","v":0},0,{"$f":"(M198-L198)/K198","v":0},90,{"$f":"(O198-L198)/K198","v":18},20,{"$f":"(Q198-L198)/K198","v":4},null,null,null,null,null,null,null,null,null,null,null,null,null,null,null,null,null,null,47,null,null,13.5,null,23.5]
["زاویه چرخش پاکت جیب از مستطیل به متوازی الاضلاع (به درجه)","(از -90 الی 90)",{"$f":"K199*E199+L199","v":0},"پاکت مستطیل=0  ",{"$f":"'طراحی همه الگوها'!E329","v":20},"زاویه چرخش بلیطی جیب از مستطیل به متوازی الاضلاع ",21,5,20,0,{"$f":"(J199-H199)/(I199-G199)","v":5},{"$f":"H199-G199*K199","v":-100},-90,{"$f":"(M199-L199)/K199","v":2},90,{"$f":"(O199-L199)/K199","v":38},0,{"$f":"(Q199-L199)/K199","v":20},null,null,null,null,null,null,null,null,null,null,null,null,null,null,null,null,null,null,48,null,null,14,null,24]
[null,null,null,null,null,null,null,null,null,null,null,null,null,null,null,null,null,null,null,null,null,null,null,null,null,null,null,null,null,null,null,null,null,null,null,null,49,null,null,14.5,null,24.5]
[" متغیرهای ورودی - جیب اول درمکان دلخواه",null,null,null,null," متغیرهای ورودی - جیب اول سبز با بلیطی  (جلو)","x1","y1","x2","y2(بهینه)","a","b",null,"کمترین",null,"بیشترین",null,null,null,null,null,null,null,null,null,null,null,null,null,null,null,null,null,null,null,null,50,null,null,15,null,25]
["ضریب فاصله افقی وسط جیب از خط مرکزی جلو ","(از 0 الی 1)",{"$f":"K202*E202+L202","v":0.55000000000000004},"خط مرکزی جلو=0 \nخط پهلو=1  ",{"$f":"'طراحی همه الگوها'!E338","v":11},"ضریب فاصله افقی وسط جیب از خط مرکزی جلو ",20,1,0,0,{"$f":"(J202-H202)/(I202-G202)","v":0.05},{"$f":"H202-G202*K202","v":0},0,{"$f":"(M202-L202)/K202","v":0},1,{"$f":"(O202-L202)/K202","v":20},0.5,{"$f":"(Q202-L202)/K202","v":10},null,null,null,null,null,null,null,null,null,null,null,null,null,null,null,null,null,null,51,null,null,null,null,25.5]
["ضریب فاصله عمودی بالای جیب از زمین ","(از0 الی 5)",2.5,"خط زمین=0 \nخط زانو=1 \nخط باسن=2 \nخط کمر=3 \nخط سینه=4  ",{"$f":"'طراحی همه الگوها'!E339","v":60},"ضریب فاصله عمودی بالای جیب از زمین ",10,0,30,1,0.05,-0.5,0,10,5,110,2,50,null,null,null,null,null,null,null,null,null,null,null,null,null,null,null,null,null,null,52,null,null,null,null,26]
["عرض پاکت جیب به سانتیمتر","(از 0 الی 4)",2,"بهینه=2",{"$f":"'طراحی همه الگوها'!E332","v":2},"پهنای بلیطی جیب  (سانتیمتر)",1,1,0,0,1,0,0,0,4,4,2,2,null,null,null,null,null,null,null,null,null,null,null,null,null,null,null,null,null,null,53,null,null,"متغیر ورودی بافت یقه شکاری",null,26.5]
["ضریب طول پاکت جیب","(از 0.01 الی 2)",1,"بهینه=1",{"$f":"'طراحی همه الگوها'!E333","v":20},"ضریب طول بلیطی جیب",19,0.95,20,1,5.0000000000000044E-2,-8.8817841970012523E-16,0.01,0.20000000000001758,2,39.999999999999986,1,20,null,null,null,null,null,null,null,null,null,null,null,null,null,null,null,null,null,null,54,null,null,0,null,27]
["زاویه جیب با عمود به درجه","(از 0 الی 180)",90,"بهینه=دلخواه",{"$f":"'طراحی همه الگوها'!E334","v":18},"زاویه جیب با عمود ",1,5,0,0,5,0,0,0,180,36,20,4,null,null,null,null,null,null,null,null,null,null,null,null,null,null,null,null,null,null,55,null,null,5,null,27.5]
["زاویه چرخش پاکت جیب از مستطیل به متوازی الاضلاع (به درجه)","(از -90 الی 90)",0,"پاکت مستطیل=0  ",{"$f":"'طراحی همه الگوها'!E335","v":20},"زاویه چرخش بلیطی جیب از مستطیل به متوازی الاضلاع ",21,5,20,0,5,-100,-90,2,90,38,0,20,null,null,null,null,null,null,null,null,null,null,null,null,null,null,null,null,null,null,56,null,null,8,null,28]
["انتخاب جیب روکار=1        انتخاب دیگر=0","0 یا 1 ",1,null,{"$f":"'طراحی همه الگوها'!E336","v":2},"انتخاب جیب روکار=2        انتخاب دیگر=1",1,0,2,1,1,-1,0,1,1,2,0,1,null,null,null,null,null,null,null,null,null,null,null,null,null,null,null,null,null,null,57,null,null,10,null,28.5]
["انتخاب طول جیب منطبق با جیب با ساسون=1        انتخاب طول جیب دستی=0","0 یا 1 ",0,null,{"$f":"'طراحی همه الگوها'!E337","v":1},"انتخاب طول جیب منطبق با جیب با ساسون=2        انتخاب طول جیب دستی=1",1,0,2,1,{"$f":"(J209-H209)/(I209-G209)","v":1},{"$f":"H209-G209*K209","v":-1},0,1,1,2,0,1,null,null,null,null,null,null,null,null,null,null,null,null,null,null,null,null,null,null,58,null,null,12,null,29]
[null,null,null,null,null,null,null,null,null,null,null,null,null,null,null,null,null,null,null,null,null,null,null,null,null,null,null,null,null,null,null,null,null,null,null,null,59,null,null,15,null,29.5]
[" متغیرهای ورودی - جیب دوم درمکان دلخواه",null,null,null,null," متغیرهای ورودی - جیب دوم سیاه با بلیطی (جلو)","x1","y1","x2","y2(بهینه)","a","b",null,"کمترین",null,"بیشترین",null,null,null,null,null,null,null,null,null,null,null,null,null,null,null,null,null,null,null,null,60,null,null,20,null,30]
["ضریب فاصله افقی وسط جیب از خط مرکزی جلو ","(از 0 الی 1)",{"$f":"K212*E212+L212","v":0.5},"خط مرکزی جلو=0 \nخط پهلو=1  ",{"$f":"'طراحی همه الگوها'!E347","v":10},"ضریب فاصله افقی وسط جیب از خط مرکزی جلو ",20,1,0,0,{"$f":"(J212-H212)/(I212-G212)","v":0.05},{"$f":"H212-G212*K212","v":0},0,{"$f":"(M212-L212)/K212","v":0},1,{"$f":"(O212-L212)/K212","v":20},0.5,{"$f":"(Q212-L212)/K212","v":10},null,null,null,null,null,null,null,null,null,null,null,null,null,null,null,null,null,null,61,null,null,null,null,30.5]
["ضریب فاصله عمودی بالای جیب از زمین ","(از0 الی 5)",4.3000000000000007,"خط زمین=0 \nخط زانو=1 \nخط باسن=2 \nخط کمر=3 \nخط سینه=4  ",{"$f":"'طراحی همه الگوها'!E348","v":96},"ضریب فاصله عمودی بالای جیب از زمین ",10,0,30,1,0.05,-0.5,0,10,5,110,2,50,null,null,null,null,null,null,null,null,null,null,null,null,null,null,null,null,null,null,62,null,null,null,null,31]
["عرض پاکت جیب به سانتیمتر","(از 0 الی 4)",2,"بهینه=2",{"$f":"'طراحی همه الگوها'!E342","v":2},"پهنای بلیطی جیب  (سانتیمتر)",1,1,0,0,1,0,0,0,4,4,2,2,null,null,null,null,null,null,null,null,null,null,null,null,null,null,null,null,null,null,63,null,null,null,null,31.5]
["ضریب طول پاکت جیب","(از 0.01 الی 2)",1,"بهینه=1",{"$f":"'طراحی همه الگوها'!E343","v":20},"ضریب طول بلیطی جیب",19,0.95,20,1,5.0000000000000044E-2,-8.8817841970012523E-16,0.01,0.20000000000001758,2,39.999999999999986,1,20,null,null,null,null,null,null,null,null,null,null,null,null,null,null,null,null,null,null,64,null,null,null,null,32]
["زاویه جیب با عمود به درجه","(از 0 الی 180)",90,"بهینه=دلخواه",{"$f":"'طراحی همه الگوها'!E344","v":18},"زاویه جیب با عمود ",1,5,0,0,5,0,0,0,180,36,20,4,null,null,null,null,null,null,null,null,null,null,null,null,null,null,null,null,null,null,65,null,null,null,null,32.5]
["زاویه چرخش پاکت جیب از مستطیل به متوازی الاضلاع (به درجه)","(از -90 الی 90)",0,"پاکت مستطیل=0  ",{"$f":"'طراحی همه الگوها'!E345","v":20},"زاویه چرخش بلیطی جیب از مستطیل به متوازی الاضلاع ",21,5,20,0,5,-100,-90,2,90,38,0,20,null,null,null,null,null,null,null,null,null,null,null,null,null,null,null,null,null,null,66,null,null,null,null,33]
["انتخاب جیب روکار=1        انتخاب دیگر=0","0 یا 1 ",1,null,{"$f":"'طراحی همه الگوها'!E346","v":2},"انتخاب جیب روکار=2        انتخاب دیگر=1",1,0,2,1,1,-1,0,1,1,2,0,1,null,null,null,null,null,null,null,null,null,null,null,null,null,null,null,null,null,null,67,null,null,null,null,33.5]
[null,null,null,null,null,null,null,null,null,null,null,null,null,null,null,null,null,null,null,null,null,null,null,null,null,null,null,null,null,null,null,null,null,null,null,null,68,null,null,null,null,34]
["متغیرهای ورودی -  جیب مستطیل",null,null,null,null,"متغیرهای ورودی -  جیب مستطیل قرمز   (جلو)","x1","y1","x2","y2(بهینه)","a","b",null,"کمترین",null,"بیشترین",null,null,null,null,null,null,null,null,null,null,null,null,null,null,null,null,null,null,null,null,69,null,null,null,null,34.5]
["ضریب فاصله افقی وسط  جیب از خط مرکزی جلو لباس ","(از 0 الی 1)",{"$f":"K221*E221+L221","v":0.5},"لبه جلو=0 \nلبه کناری=1  ",{"$f":"'طراحی همه الگوها'!E354","v":10},"ضریب فاصله افقی وسط  جیب از خط مرکزی جلو لباس ",20,1,0,0,{"$f":"(J221-H221)/(I221-G221)","v":0.05},{"$f":"H221-G221*K221","v":0},0,{"$f":"(M221-L221)/K221","v":0},1,{"$f":"(O221-L221)/K221","v":20},0.5,{"$f":"(Q221-L221)/K221","v":10},null,null,null,null,null,null,null,null,null,null,null,null,null,null,null,null,null,null,70,null,null,null,null,35]
["ضریب فاصله عمودی بالای  جیب از زمین ","(از0 الی 5)",{"$f":"K222*E222+L222","v":4.3000000000000007},"خط زمین=0 \nخط زانو=1 \nخط باسن=2 \nخط کمر=3 \nخط سینه=4  ",{"$f":"'طراحی همه الگوها'!E355","v":96},"ضریب فاصله عمودی بالای  جیب از زمین ",10,0,30,1,{"$f":"(J222-H222)/(I222-G222)","v":0.05},{"$f":"H222-G222*K222","v":-0.5},0,{"$f":"(M222-L222)/K222","v":10},5,{"$f":"(O222-L222)/K222","v":110},2,{"$f":"(Q222-L222)/K222","v":50},null,null,null,null,null,null,null,null,null,null,null,null,null,null,null,null,null,null,71,null,null,null,null,35.5]
["ضریب عرض جیب مستطیل","(از 0.01 الی 1.5)",{"$f":"K223*E223+L223","v":0},"بهینه جیب=1.2",{"$f":"'طراحی همه الگوها'!E351","v":0},"ضریب عرض جیب مستطیل",1,0.05,0,0,{"$f":"(J223-H223)/(I223-G223)","v":0.05},{"$f":"H223-G223*K223","v":0},0.01,{"$f":"(M223-L223)/K223","v":0.19999999999999998},1.5,{"$f":"(O223-L223)/K223","v":30},1.2,{"$f":"(Q223-L223)/K223","v":23.999999999999996},null,null,null,null,null,null,null,null,null,null,null,null,null,null,null,null,null,null,72,null,null,null,null,36]
["زاویه  جیب با عمود (به درجه)","(از 0 الی 180)",{"$f":"K224*E224+L224","v":0},"افقی=90",{"$f":"'طراحی همه الگوها'!E352","v":0},"زاویه  جیب با عمود ",1,5,0,0,{"$f":"(J224-H224)/(I224-G224)","v":5},{"$f":"H224-G224*K224","v":0},0,{"$f":"(M224-L224)/K224","v":0},180,{"$f":"(O224-L224)/K224","v":36},90,{"$f":"(Q224-L224)/K224","v":18},null,null,null,null,null,null,null,null,null,null,null,null,null,null,null,null,null,null,73,null,null,null,null,36.5]
["ضریب ارتفاع جیب مستطیل","(از 0 الی 1.5)",{"$f":"K225*E225+L225","v":0},"بهینه جیب=1.1",{"$f":"'طراحی همه الگوها'!E353","v":0},"ضریب ارتفاع جیب مستطیل",1,0.05,0,0,{"$f":"(J225-H225)/(I225-G225)","v":0.05},{"$f":"H225-G225*K225","v":0},0,{"$f":"(M225-L225)/K225","v":0},1.5,{"$f":"(O225-L225)/K225","v":30},1.1000000000000001,{"$f":"(Q225-L225)/K225","v":22},null,null,null,null,null,null,null,null,null,null,null,null,null,null,null,null,null,null,74,null,null,null,null,37]
[null,null,null,null,null,null,null,null,null,null,null,null,null,null,null,null,null,null,null,null,null,null,null,null,null,null,null,null,null,null,null,null,null,null,null,null,75,null,null,null,null,37.5]
["متغیرهای ورودی -  جادکمه با بلیطی",null,null,null,null,"متغیرهای ورودی -  جادکمه با بلیطی (جلو)","x1","y1","x2","y2(بهینه)","a","b",null,"کمترین",null,"بیشترین",null,null,null,null,null,null,null,null,null,null,null,null,null,null,null,null,null,null,null,null,76,null,null,null,null,38]
["ضریب فاصله افقی وسط جادکمه  از خط مرکزی جلو لباس ","(از 0 الی 1)",{"$f":"K228*E228+L228","v":0.5},"لبه جلو=0 \nلبه کناری=1  ",{"$f":"'طراحی همه الگوها'!E361","v":10},"ضریب فاصله افقی وسط جادکمه  از خط مرکزی جلو لباس ",20,1,0,0,{"$f":"(J228-H228)/(I228-G228)","v":0.05},{"$f":"H228-G228*K228","v":0},0,{"$f":"(M228-L228)/K228","v":0},1,{"$f":"(O228-L228)/K228","v":20},0.5,{"$f":"(Q228-L228)/K228","v":10},null,null,null,null,null,null,null,null,null,null,null,null,null,null,null,null,null,null,77,null,null,null,null,38.5]
["ضریب فاصله عمودی بالای جادکمه از زمین ","(از0 الی 5)",{"$f":"K229*E229+L229","v":3},"خط زمین=0 \nخط زانو=1 \nخط باسن=2 \nخط کمر=3 \nخط سینه=4  ",{"$f":"'طراحی همه الگوها'!E362","v":70},"ضریب فاصله عمودی بالای جادکمه از زمین ",10,0,30,1,{"$f":"(J229-H229)/(I229-G229)","v":0.05},{"$f":"H229-G229*K229","v":-0.5},0,{"$f":"(M229-L229)/K229","v":10},5,{"$f":"(O229-L229)/K229","v":110},2,{"$f":"(Q229-L229)/K229","v":50},null,null,null,null,null,null,null,null,null,null,null,null,null,null,null,null,null,null,78,null,null,null,null,39]
["عرض پاکت جادکمه به سانتیمتر","(از 0 الی 4)",{"$f":"K230*E230+L230","v":2},"بهینه جادکمه=2",{"$f":"'طراحی همه الگوها'!E358","v":2},"پهنای جادکمه  (سانتیمتر)",1,1,0,0,{"$f":"(J230-H230)/(I230-G230)","v":1},{"$f":"H230-G230*K230","v":0},0,{"$f":"(M230-L230)/K230","v":0},4,{"$f":"(O230-L230)/K230","v":4},2,{"$f":"(Q230-L230)/K230","v":2},null,null,null,null,null,null,null,null,null,null,null,null,null,null,null,null,null,null,79,null,null,null,null,39.5]
["ضریب طول پاکت جادکمه ","(از 0.01 الی 1.5)",{"$f":"K231*E231+L231","v":0.30000000000000004},"بهینه جادکمه=0.3",{"$f":"'طراحی همه الگوها'!E359","v":20},"ضریب طول جادکمه ",19,0.25,20,0.3,{"$f":"(J231-H231)/(I231-G231)","v":4.9999999999999989E-2},{"$f":"H231-G231*K231","v":-0.69999999999999973},0.01,{"$f":"(M231-L231)/K231","v":14.199999999999998},1.5,{"$f":"(O231-L231)/K231","v":44.000000000000007},0.3,{"$f":"(Q231-L231)/K231","v":20},null,null,null,null,null,null,null,null,null,null,null,null,null,null,null,null,null,null,80,null,null,null,null,40]
["زاویه جادکمه با عمود (به درجه)","(از 0 الی 180)",{"$f":"K232*E232+L232","v":90},"افقی=90",{"$f":"'طراحی همه الگوها'!E360","v":18},"زاویه جادکمه با عمود ",1,5,0,0,{"$f":"(J232-H232)/(I232-G232)","v":5},{"$f":"H232-G232*K232","v":0},0,{"$f":"(M232-L232)/K232","v":0},180,{"$f":"(O232-L232)/K232","v":36},90,{"$f":"(Q232-L232)/K232","v":18},null,null,null,null,null,null,null,null,null,null,null,null,null,null,null,null,null,null,81,null,null,null,null,40.5]
[null,null,null,null,null,null,null,null,null,null,null,null,null,null,null,null,null,null,null,null,null,null,null,null,null,null,null,null,null,null,null,null,null,null,null,null,82,null,null,null,null,41]
[" متغیرهای ورودی - جادکمه با طول دلخواه",null,null,null,null,"جادکمه متصل به یقه گرد","x1","y1","x2","y2(بهینه)","a","b",null,"کمترین",null,"بیشترین",null,null,null,null,null,null,null,null,null,null,null,null,null,null,null,null,null,null,null,null,83,null,null,null,null,41.5]
["ضریب عرض جادکمه به سانتیمتر","(از 0 الی 0.03)",{"$f":"K235*E235+L235","v":0},"بهینه=0.01",{"$f":"'طراحی همه الگوها'!E365","v":0},"ضریب عرض جادکمه ",1,5.0000000000000001E-4,0,0,{"$f":"(J235-H235)/(I235-G235)","v":5.0000000000000001E-4},{"$f":"H235-G235*K235","v":0},0,{"$f":"(M235-L235)/K235","v":0},0.03,{"$f":"(O235-L235)/K235","v":60},0.01,{"$f":"(Q235-L235)/K235","v":20},null,null,null,null,null,null,null,null,null,null,null,null,null,null,null,null,null,null,84,null,null,null,null,42]
["ضریب طول جادکمه ","(از 0.7 الی 2.5)",{"$f":"K236*E236+L236","v":1},"حداقل طول جادکمه با پارچه کش برای رد شدن از سر=0.7 \nحداقل طول جادکمه با پارچه غیر کش برای رد شدن از سر=1 \nجادکمه بلند  >1 ",{"$f":"'طراحی همه الگوها'!E366","v":0},"ضریب طول جادکمه ",1,1.02,0,1,{"$f":"(J236-H236)/(I236-G236)","v":2.0000000000000018E-2},{"$f":"H236-G236*K236","v":1},1,{"$f":"(M236-L236)/K236","v":0},2.5,{"$f":"(O236-L236)/K236","v":74.999999999999929},1,{"$f":"(Q236-L236)/K236","v":0},null,null,null,null,null,null,null,null,null,null,null,null,null,null,null,null,null,null,85,null,null,null,null,42.5]
["حداقل طول جادکمه با پارچه غیر کش به سانتیمتر (عدد منفی یعنی دور یقه بزرگتر از دور سر میباشد)  *",{"$f":"ROUND(محاسبات!FH465,0)","v":-1},null,null,{"$f":"IF((B261+B239)<B260,\"خیر\",\"بله \")","v":"بله "},"آیا یقه گرد متصل به جادکمه با پارچه غیر کش از سر رد میشود؟",null,null,null,null,null,null,null,null,null,null,null,null,null,null,null,null,null,null,null,null,null,null,null,null,null,null,null,null,null,null,86,null,null,null,null,43]
["حداقل طول جادکمه با پارچه کش به سانتیمتر (عدد منفی یعنی دور یقه بزرگتر از حد لازم برای رد شدن از دور سر میباشد)  '*",{"$f":"ROUND(0.5*('متغیرها '!U85-1.2*(2.12*SQRT(محاسبات!K144*محاسبات!K144+محاسبات!K143*محاسبات!K143)+2.08*SQRT(محاسبات!AA147*محاسبات!AA147+محاسبات!AA146*محاسبات!AA146))),0)","v":-7},null,null,{"$f":"IF((B261+B239)<0.85*B260,\"خیر\",\"بله \")","v":"بله "},"آیا یقه گرد متصل به جادکمه با پارچه نیم کش از سر رد میشود؟",null,null,null,null,null,null,null,null,null,null,null,null,null,null,null,null,null,null,null,null,null,null,null,null,null,null,null,null,null,null,87,null,null,null,null,43.5]
[" طول جادکمه اختیار شده برای لباس شما به سانتیمتر",{"$f":"ROUND((C236-1)*'متغیرها '!U77,1)","v":0},null,null,{"$f":"IF((B261+B239)<0.7*B260,\"خیر\",\"بله \")","v":"بله "},"آیا یقه گرد متصل به جادکمه با پارچه کش زیاد از سر رد میشود؟",null,null,null,null,null,null,null,null,null,null,null,null,null,null,null,null,null,null,null,null,null,null,null,null,null,null,null,null,null,null,88,null,null,null,null,44]
[" عرض جادکمه اختیار شده برای لباس شما به سانتیمتر",{"$f":"ROUND(محاسبات!FH471,1)","v":0},null,null,null,null,null,null,null,null,null,null,null,null,null,null,null,null,null,null,null,null,null,null,null,null,null,null,null,null,null,null,null,null,null,null,89,null,null,null,null,44.5]
[null,null,null,null,null,null,null,null,null,null,null,null,null,null,null,null,null,null,null,null,null,null,null,null,null,null,null,null,null,null,null,null,null,null,null,null,90,null,null,null,null,45]
[" مشخصات مستطیل با پارچه کش برای یقه گرد کیپ :",null,null,null,null," مشخصات مستطیل با پارچه کش برای یقه گرد کیپ :",null,null,null,null,null,null,null,null,null,null,null,null,null,null,null,null,null,null,null,null,null,null,null,null,null,null,null,null,null,null,91,null,null,null,null,45.5]
["طول",{"$f":"'متغیرها '!U80","v":30},null,null,null,"طول",null,null,null,null,null,null,null,null,null,null,null,null,null,null,null,null,null,null,null,null,null,null,null,null,null,null,null,null,null,null,92,null,null,null,null,46]
["عرض",{"$f":"0.5*'متغیرها '!C72*محاسبات!G167","v":7.5101836438027849},null,null,null,"عرض",null,null,null,null,null,null,null,null,null,null,null,null,null,null,null,null,null,null,null,null,null,null,null,null,null,null,null,null,null,null,93,null,null,null,null,46.5]
["زاویه متوسط سرشانه",{"$f":"0.5*(محاسبات!P139+0.3*(محاسبات!P140-محاسبات!P139)+محاسبات!AE139+0.3*(محاسبات!AE140-محاسبات!AE139))","v":0.33471040093341442},null,null,null,"زاویه متوسط سرشانه",null,null,null,null,null,null,null,null,null,null,null,null,null,null,null,null,null,null,null,null,null,null,null,null,null,null,null,null,null,null,94,null,null,null,null,47]
[null,null,null,null,null,null,null,null,null,null,null,null,null,null,null,null,null,null,null,null,null,null,null,null,null,null,null,null,null,null,null,null,null,null,null,null,95,null,null,null,null,47.5]
["متغیر ورودی یقه گرد کش :",null,null,null,null,"متغیر ورودی یقه گرد کش :","x1","y1","x2","y2(بهینه)","a","b",null,"کمترین",null,"بیشترین",null,null,null,null,null,null,null,null,null,null,null,null,null,null,null,null,null,null,null,null,96,null,null,null,null,48]
["ارتفاع یقه گرد کش  به سانتیمتر - متغیر ورودی","(از 0.5 الی 5)",{"$f":"K248*E248+L248","v":1},"cm",{"$f":"'طراحی همه الگوها'!E189","v":1},"ارتفاع یقه گرد کش  به سانتیمتر - متغیر ورودی",0,0,0.5,0.5,{"$f":"(J248-H248)/(I248-G248)","v":1},{"$f":"H248-G248*K248","v":0},0.5,{"$f":"(M248-L248)/K248","v":0.5},5,{"$f":"(O248-L248)/K248","v":5},1,{"$f":"(Q248-L248)/K248","v":1},null,null,null,null,null,null,null,null,null,null,null,null,null,null,null,null,null,null,97,null,null,null,null,48.5]
["طول (دور تا دور) یقه گرد کش به سانتیمتر",{"$f":"ROUND(2.12*SQRT(POWER((محاسبات!K144-C248*(1-SIN(B245))),2)+POWER((محاسبات!K143-C248*COS(B245)),2))+2.08*SQRT(POWER((محاسبات!AA147-C248*(1-SIN(B245))),2)+POWER((محاسبات!AA146-C248*COS(B245)),2)),0)","v":48},null,null,null,"طول (دور تا دور) یقه گرد کش به سانتیمتر",null,null,null,null,null,null,null,null,null,null,null,null,null,null,null,null,null,null,null,null,null,null,null,null,null,null,null,null,null,null,98,null,null,null,null,49]
[null,null,null,null,null,null,null,null,null,null,null,null,null,null,null,null,null,null,null,null,null,null,null,null,null,null,null,null,null,null,null,null,null,null,null,null,99,null,null,null,null,49.5]
[" مشخصات نوار دور یقه گرد کش :",null,null,null,null," مشخصات نوار دور یقه گرد کش :",null,null,null,null,null,null,null,null,null,null,null,null,null,null,null,null,null,null,null,null,null,null,null,null,null,null,null,null,null,null,100,null,null,null,null,50]
["ارتفاع نوار  (بعد از دوخت)",0.5,"cm",null,null,"ارتفاع نوار  (بعد از دوخت)",null,null,null,null,null,null,null,null,null,null,null,null,null,null,null,null,null,null,null,null,null,null,null,null,null,null,null,null,null,null,101]
["طول  نوار  (بعد از دوخت)",{"$f":"ROUND(2.12*SQRT(POWER((محاسبات!K144-B252*(1-SIN(محاسبات!BI101))),2)+POWER((محاسبات!K143-B252*COS(محاسبات!BI101)),2))+2.08*SQRT(POWER((محاسبات!AA147-B252*(1-SIN(محاسبات!BI101))),2)+POWER((محاسبات!AA146-B252*COS(محاسبات!BI101)),2)),0)","v":50},"cm",null,null,"طول  نوار  (بعد از دوخت)",null,null,null,null,null,null,null,null,null,null,null,null,null,null,null,null,null,null,null,null,null,null,null,null,null,null,null,null,null,null,102]
[null,null,null,null,null,null,null,null,null,null,null,null,null,null,null,null,null,null,null,null,null,null,null,null,null,null,null,null,null,null,null,null,null,null,null,null,103]
[" مشخصات نوار دور یقه گرد کش :",null,null,null,null," مشخصات نوار دور یقه گرد کش :",null,null,null,null,null,null,null,null,null,null,null,null,null,null,null,null,null,null,null,null,null,null,null,null,null,null,null,null,null,null,104]
["ارتفاع نوار  (بعد از دوخت)",1,"cm",null,null,"ارتفاع نوار  (بعد از دوخت)",null,null,null,null,null,null,null,null,null,null,null,null,null,null,null,null,null,null,null,null,null,null,null,null,null,null,null,null,null,null,105]
["طول  نوار  (بعد از دوخت)",{"$f":"ROUND(2.12*SQRT(POWER((محاسبات!K144-B256*(1-SIN(محاسبات!BI101))),2)+POWER((محاسبات!K143-B256*COS(محاسبات!BI101)),2))+2.08*SQRT(POWER((محاسبات!AA147-B256*(1-SIN(محاسبات!BI101))),2)+POWER((محاسبات!AA146-B256*COS(محاسبات!BI101)),2)),0)","v":48},"cm",null,null,"طول  نوار  (بعد از دوخت)",null,null,null,null,null,null,null,null,null,null,null,null,null,null,null,null,null,null,null,null,null,null,null,null,null,null,null,null,null,null,106]
[null,null,null,null,null,null,null,null,null,null,null,null,null,null,null,null,null,null,null,null,null,null,null,null,null,null,null,null,null,null,null,null,null,null,null,null,107]
[" کنترل یقه گرد بدون زیپ ",null,null,null,null," کنترل یقه گرد بدون زیپ ",null,null,null,null,null,null,null,null,null,null,null,null,null,null,null,null,null,null,null,null,null,null,null,null,null,null,null,null,null,null,108]
["دور سر",{"$f":"'متغیرها '!U85","v":50},null,null,null,"دور سر",null,null,null,null,null,null,null,null,null,null,null,null,null,null,null,null,null,null,null,null,null,null,null,null,null,null,null,null,null,null,109]
[" دور یقه گرد لباس",{"$f":"ROUND(2.12*SQRT(محاسبات!K144*محاسبات!K144+محاسبات!K143*محاسبات!K143)+2.08*SQRT(محاسبات!AA147*محاسبات!AA147+محاسبات!AA146*محاسبات!AA146)+2*'متغیرها '!C66*محاسبات!H129,1)","v":52.5},null,null,null," دور یقه گرد لباس",null,null,null,null,null,null,null,null,null,null,null,null,null,null,null,null,null,null,null,null,null,null,null,null,null,null,null,null,null,null,110]
["حداقل دور یقه گرد با پارچه غیر کش ",{"$f":"'متغیرها '!U85","v":50},null,{"$f":"IF(B261<B262,\"خطا\",\"صحیح \")","v":"صحیح "},{"$f":"IF(B261<B262,\"خیر\",\"بله \")","v":"بله "},"حداقل دور یقه گرد با پارچه غیر کش ",null,null,null,null,null,null,null,null,null,null,null,null,null,null,null,null,null,null,null,null,null,null,null,null,null,null,null,null,null,null,111]
[" حداقل دور یقه گرد با پارچه نیم کش ",{"$f":"ROUND(0.85*'متغیرها '!U85,1)","v":42.5},null,{"$f":"IF(B261<B263,\"خطا\",\"صحیح \")","v":"صحیح "},{"$f":"IF(B261<B263,\"خیر\",\"بله \")","v":"بله "}," حداقل دور یقه گرد با پارچه نیم کش ",null,null,null,null,null,null,null,null,null,null,null,null,null,null,null,null,null,null,null,null,null,null,null,null,null,null,null,null,null,null,112]
["حداقل دور یقه گرد با پارچه کش زیاد ",{"$f":"ROUND(0.7*'متغیرها '!U85,1)","v":35},null,{"$f":"IF(B261<B264,\"خطا\",\"صحیح \")","v":"صحیح "},{"$f":"IF(B261<B264,\"خیر\",\"بله \")","v":"بله "},"حداقل دور یقه گرد با پارچه کش زیاد ",null,null,null,null,null,null,null,null,null,null,null,null,null,null,null,null,null,null,null,null,null,null,null,null,null,null,null,null,null,null,113]
[null,null,null,null,null,null,null,null,null,null,null,null,null,null,null,null,null,null,null,null,null,null,null,null,null,null,null,null,null,null,null,null,null,null,null,null,114]
[" کنترل یقه هفت بدون زیپ ",null,null,null,null," کنترل یقه هفت بدون زیپ ",null,null,null,null,null,null,null,null,null,null,null,null,null,null,null,null,null,null,null,null,null,null,null,null,null,null,null,null,null,null,115]
["دور سر",{"$f":"'متغیرها '!U85","v":50},null,null,null,"دور سر",null,null,null,null,null,null,null,null,null,null,null,null,null,null,null,null,null,null,null,null,null,null,null,null,null,null,null,null,null,null,116]
[" دور یقه هفت لباس",{"$f":"ROUND(2.08*SQRT(محاسبات!AA147*محاسبات!AA147+محاسبات!AA146*محاسبات!AA146)+2*(('متغیرها '!C169*محاسبات!H124+محاسبات!K144)/SIN(محاسبات!O233)),1)","v":55.2},null,null,null," دور یقه هفت لباس",null,null,null,null,null,null,null,null,null,null,null,null,null,null,null,null,null,null,null,null,null,null,null,null,null,null,null,null,null,null,117]
["حداقل دور یقه هفت با پارچه غیر کش ",{"$f":"'متغیرها '!U85","v":50},null,{"$f":"IF(B268<B269,\"خطا\",\"صحیح \")","v":"صحیح "},{"$f":"IF(B268<B269,\"خیر\",\"بله \")","v":"بله "},"حداقل دور یقه هفت با پارچه غیر کش ",null,null,null,null,null,null,null,null,null,null,null,null,null,null,null,null,null,null,null,null,null,null,null,null,null,null,null,null,null,null,118]
[" حداقل دور یقه هفت با پارچه نیم کش ",{"$f":"ROUND(0.85*'متغیرها '!U85,1)","v":42.5},null,{"$f":"IF(B268<B270,\"خطا\",\"صحیح \")","v":"صحیح "},{"$f":"IF(B268<B270,\"خیر\",\"بله \")","v":"بله "}," حداقل دور یقه هفت با پارچه نیم کش ",null,null,null,null,null,null,null,null,null,null,null,null,null,null,null,null,null,null,null,null,null,null,null,null,null,null,null,null,null,null,119]
[null,null,null,null,null,null,null,null,null,null,null,null,null,null,null,null,null,null,null,null,null,null,null,null,null,null,null,null,null,null,null,null,null,null,null,null,120]
[" مشخصات کمربند به شکل مستطیل (مناسب برای لباس شما)",null,null,null,null," مشخصات کمربند به شکل مستطیل (مناسب برای لباس شما)"]
["طول کمربند به سانتیمتر",{"$f":"ROUND(3*(محاسبات!K120+محاسبات!K124)+2*(محاسبات!AA123+محاسبات!AA127),1)","v":64},null,null,null,"طول کمربند به سانتیمتر"]
["عرض کمربند به سانتیمتر",{"$f":"ROUND(0.07*'متغیرها '!U83,1)","v":2.5},null,null,null,"عرض کمربند به سانتیمتر"]
[]
[" مشخصات کش یا پارچه پایین سویشرت :",null,null,null,null," مشخصات کش پایین سویشرت :"]
["طول  کش از ساسون جلو- دور باسن -تا ساسون دیگر جلو",{"$f":"ROUND(C279*2*(محاسبات!AV110-محاسبات!AV164+محاسبات!BG106+محاسبات!BG165),0)","v":29},"cm",null,null,"طول  کش از ساسون جلو- دور باسن -تا ساسون دیگر جلو"]
["ضریب پهنای کش","(از -0.1 الی 0.1)",{"$f":"K278*E278+L278","v":-0.29999999999999982},"بهینه=   - 0.05 ",{"$f":"'طراحی همه الگوها'!B321","v":45},"ضریب پهنای کش",50,-0.05,51,0,{"$f":"(J278-H278)/(I278-G278)","v":0.05},{"$f":"H278-G278*K278","v":-2.5499999999999998},-0.1,{"$f":"(M278-L278)/K278","v":48.999999999999993},0.1,{"$f":"(O278-L278)/K278","v":52.999999999999993},-0.05,{"$f":"(Q278-L278)/K278","v":50}]
["ضریب کوچک شدن کش","(از 0.5  الی 1)",{"$f":"K279*E279+L279","v":0.64999999999999969},"بهینه=   0.9 ",{"$f":"'طراحی همه الگوها'!B322","v":8},"ضریب کوچک شدن کش",2,0.95,1,1,{"$f":"(J279-H279)/(I279-G279)","v":-5.0000000000000044E-2},{"$f":"H279-G279*K279","v":1.05},0.5,{"$f":"(M279-L279)/K279","v":10.999999999999991},1,{"$f":"(O279-L279)/K279","v":1},0.9,{"$f":"(Q279-L279)/K279","v":2.9999999999999978}]
[]
[" متغیرهای ورودی-طراحی یقه مربعی یا برش سرشانه در پیراهن",null,null,null,null," متغیرهای ورودی-طراحی یقه مربعی یا برش سرشانه در پیراهن","x1","y1","x2","y2(بهینه)","a","b",null,"کمترین",null,"بیشترین"]
["انتخاب یقه مربعی=1         انتخاب برش سرشانه در پیراهن مردانه=2  \nانتخاب برش سرشانه در پیراهن برش از کارور=3","1 یا 2 یا 3",{"$f":"K282*E282+L282","v":2},null,{"$f":"'طراحی همه الگوها'!E249","v":2},"انتخاب یقه مربعی=1         انتخاب برش سرشانه در پیراهن مردانه=2  \nانتخاب برش سرشانه در پیراهن برش از کارور=3",2,2,1,1,{"$f":"(J282-H282)/(I282-G282)","v":1},{"$f":"H282-G282*K282","v":0},1,{"$f":"(M282-L282)/K282","v":1},3,{"$f":"(O282-L282)/K282","v":3},1,{"$f":"(Q282-L282)/K282","v":1}]
["  انتخاب آستین با هر نوع ساسون=2    \n  انتخاب آستین بدون ساسون=3           ","2 یا 3",{"$f":"K283*E283+L283","v":3},null,{"$f":"'طراحی همه الگوها'!E250","v":2},"  انتخاب آستین با هر نوع ساسون=1    \n  انتخاب آستین بدون ساسون=2           ",1,2,2,3,{"$f":"(J283-H283)/(I283-G283)","v":1},{"$f":"H283-G283*K283","v":1},2,{"$f":"(M283-L283)/K283","v":1},3,{"$f":"(O283-L283)/K283","v":2},2,{"$f":"(Q283-L283)/K283","v":1}]
["پهنا یقه روی خط سرشانه  (فقط موثر در انتخاب یقه مربعی) ","(از 0.2 الی 1.2)",{"$f":"K284*E284+L284","v":1},"بهینه=1",{"$f":"'طراحی همه الگوها'!E257","v":20},"پهنا یقه روی خط سرشانه  (فقط موثر در انتخاب یقه مربعی) ",19,0.95,20,1,{"$f":"(J284-H284)/(I284-G284)","v":5.0000000000000044E-2},{"$f":"H284-G284*K284","v":-8.8817841970012523E-16},0.2,{"$f":"(M284-L284)/K284","v":4.0000000000000142},1.2,{"$f":"(O284-L284)/K284","v":23.999999999999996},1,{"$f":"(Q284-L284)/K284","v":20}]
["ضریب پایین آمدن خط کارور پشت","(از0.01 الی 0.6)",{"$f":"K285*E285+L285","v":0.22},"بهینه مربعی=0.4 \nبهینه مردانه=0.22 \nبهینه برش از کارور=0.25",{"$f":"'طراحی همه الگوها'!E251","v":20},"ضریب پایین آمدن خط کارور پشت",19,0.21,20,0.22,{"$f":"(J285-H285)/(I285-G285)","v":1.0000000000000009E-2},{"$f":"H285-G285*K285","v":1.9999999999999823E-2},0.01,{"$f":"(M285-L285)/K285","v":-0.99999999999998146},0.6,{"$f":"(O285-L285)/K285","v":57.999999999999964},0.4,{"$f":"(Q285-L285)/K285","v":37.999999999999986}]
[{"$f":"IF(محاسبات!AD460<محاسبات!U466+1,\"ضریب خط کارور پشت کم شود\",\" \")","v":" "},{"$f":"IF(محاسبات!AD460<محاسبات!U466+1,\" خطا - خط کارور پشت بالا برود \",\"عدم خطا\")","v":"عدم خطا"},"حلقه آستین با ساسون سرشانه یا بدون ساسون : ",null,null,{"$f":"IF(محاسبات!AI460<محاسبات!Z466+1,\"ضریب خط کارور پشت کم شود\",\" \")","v":" "}]
[{"$f":"IF(محاسبات!BW469<محاسبات!BW463,\"ضریب خط کارور پشت کم شود\",\" \")","v":" "},{"$f":"IF(محاسبات!BW469<محاسبات!BW463,\"  خطا - خط کارور پشت بالا برود \",\"عدم خطا\")","v":"عدم خطا"},"حلقه آستین با ساسون عصایی : "]
[]
["ضریب پایین آمدن خط کارور جلو","(از 0.1 الی 0.45)",{"$f":"K289*E289+L289","v":0.1999999999999999},"بهینه مربعی=0.3 \nبهینه برش از کارور=0.3",{"$f":"'طراحی همه الگوها'!E254","v":10},"ضریب پایین آمدن خط کارور جلو",19,0.28999999999999998,20,0.3,{"$f":"(J289-H289)/(I289-G289)","v":1.0000000000000009E-2},{"$f":"H289-G289*K289","v":9.9999999999999811E-2},0.1,{"$f":"(M289-L289)/K289","v":1.9428902930940224E-14},0.45,{"$f":"(O289-L289)/K289","v":34.999999999999986},0.3,{"$f":"(Q289-L289)/K289","v":20}]
[{"$f":"IF(محاسبات!Q460<محاسبات!H466+1,\"ضریب خط کارور جلو کم شود\",\" \")","v":" "},{"$f":"IF(محاسبات!Q460<محاسبات!H466+1,\" خطا - خط کارور جلو بالا برود \",\"عدم خطا\")","v":"عدم خطا"},"حلقه آستین با ساسون سرشانه یا بدون ساسون : ",null,null,{"$f":"IF(محاسبات!V460<محاسبات!M466+1,\"ضریب خط کارور جلو کم شود\",\" \")","v":" "}]
[{"$f":"IF(محاسبات!BR470<محاسبات!BR463,\"ضریب خط کارور جلو کم شود\",\" \")","v":" "},{"$f":"IF(محاسبات!BR470<محاسبات!BR463,\" خطا - خط کارور جلو بالا برود \",\"عدم خطا\")","v":"عدم خطا"},"حلقه آستین با ساسون عصایی : ",null,null,{"$f":"IF(محاسبات!BW470<محاسبات!BW463,\"ضریب خط کارور جلو کم شود\",\" \")","v":" "}]
[]
["نصف جلو کارور  (فقط موثر در انتخاب یقه مربعی) ","(از 0.2 الی 0.55)",{"$f":"K293*E293+L293","v":0.45000000000000007},"بهینه=0.45",{"$f":"'طراحی همه الگوها'!E258","v":20},"نصف جلو کارور  (فقط موثر در انتخاب یقه مربعی) ",19,0.4,20,0.45,{"$f":"(J293-H293)/(I293-G293)","v":4.9999999999999989E-2},{"$f":"H293-G293*K293","v":-0.54999999999999971},0.2,{"$f":"(M293-L293)/K293","v":14.999999999999998},0.55000000000000004,{"$f":"(O293-L293)/K293","v":21.999999999999996},0.45,{"$f":"(Q293-L293)/K293","v":20}]
["نصف پشت کارور  (فقط موثر در انتخاب یقه مربعی) ","(از 0.2 الی 0.6)",{"$f":"K294*E294+L294","v":0.5},"بهینه=0.5",{"$f":"'طراحی همه الگوها'!E259","v":20},"نصف پشت کارور  (فقط موثر در انتخاب یقه مربعی) ",19,0.45,20,0.5,{"$f":"(J294-H294)/(I294-G294)","v":4.9999999999999989E-2},{"$f":"H294-G294*K294","v":-0.49999999999999972},0.2,{"$f":"(M294-L294)/K294","v":13.999999999999998},0.6,{"$f":"(O294-L294)/K294","v":21.999999999999996},0.5,{"$f":"(Q294-L294)/K294","v":20}]
[]
["بررسی خطا گردی یقه تا خط کارور جلو",null,null,null,null,"بررسی خطا گردی یقه تا خط کارور جلو"]
[{"$f":"IF((محاسبات!H474-محاسبات!H475)/محاسبات!H474>0.1,\"دور یقه گشاد شود یا ضریب خط کارور جلو زیاد شود\",\"  \")","v":"دور یقه گشاد شود یا ضریب خط کارور جلو زیاد شود"},{"$f":"IF((محاسبات!H474-محاسبات!H475)/محاسبات!H474>0.1,\"خطا\",\"صحیح \")","v":"خطا"}," پارچه کش   ",null,{"$f":"IF((محاسبات!H474-محاسبات!H475)/محاسبات!H474>0.1,\"خیر- گردی یقه زیاد شود یا کارور جلو پایین بیاید\",\" بله \")","v":"خیر- گردی یقه زیاد شود یا کارور جلو پایین بیاید"}]
[{"$f":"IF((محاسبات!H474-محاسبات!H475)/محاسبات!H474>0.05,\"دور یقه گشاد شود یا ضریب خط کارور جلو زیاد شود\",\"  \")","v":"دور یقه گشاد شود یا ضریب خط کارور جلو زیاد شود"},{"$f":"IF((محاسبات!H474-محاسبات!H475)/محاسبات!H474>0.05,\"خطا\",\"صحیح \")","v":"خطا"}," پارچه غیر کش ",null,{"$f":"IF((محاسبات!H474-محاسبات!H475)/محاسبات!H474>0.05,\"خیر- گردی یقه زیاد شود یا کارور جلو پایین بیاید\",\" بله \")","v":"خیر- گردی یقه زیاد شود یا کارور جلو پایین بیاید"}]
[]
[" متغیرهای ورودی شیفت افقی برش سرشانه و یقه مربعی و ملوانی",null,null,null,null," متغیرهای ورودی شیفت افقی برش سرشانه و یقه مربعی و ملوانی","x1","y1","x2","y2(بهینه)","a","b",null,"کمترین",null,"بیشترین"]
["شیفت افقی   (به سانتیمتر)   ","(از -100 الی100)",{"$f":"K301*E301+L301","v":0},"بهینه=دلخواه",{"$f":"'طراحی همه الگوها'!E260","v":0},"شیفت افقی   (به سانتیمتر)   ",1,1,0,0,{"$f":"(J301-H301)/(I301-G301)","v":1},{"$f":"H301-G301*K301","v":0},-100,{"$f":"(M301-L301)/K301","v":-100},100,{"$f":"(O301-L301)/K301","v":100}]
["شیفت عمودی  (به سانتیمتر)  ","(از -100 الی100)",{"$f":"K302*E302+L302","v":0},"بهینه=دلخواه",{"$f":"'طراحی همه الگوها'!E261","v":0},"شیفت عمودی  (به سانتیمتر)  ",1,1,0,0,{"$f":"(J302-H302)/(I302-G302)","v":1},{"$f":"H302-G302*K302","v":0},-100,{"$f":"(M302-L302)/K302","v":-100},100,{"$f":"(O302-L302)/K302","v":100}]
[]
[" متغیرهای ورودی - دراپه از پهلو",null,null,null,null," متغیرهای ورودی - دراپه از پهلو","x1","y1","x2","y2(بهینه)","a","b",null,"کمترین",null,"بیشترین"]
["حد بالا برش دراپه   dp1","(از 3 الی 4)",{"$f":"K305*E305+L305","v":3.5},"زیر بغل=4 \nخط کمر=3 ",{"$f":"'طراحی همه الگوها'!B326","v":80},"حد بالا برش دراپه   ",10,0,30,1,{"$f":"(J305-H305)/(I305-G305)","v":0.05},{"$f":"H305-G305*K305","v":-0.5},3,{"$f":"(M305-L305)/K305","v":70},4,{"$f":"(O305-L305)/K305","v":90},-0.05,{"$f":"(Q305-L305)/K305","v":9}]
["پهنای هر دراپه به سانتیمتر   dp3","(از 2 الی 8)",{"$f":"K306*E306+L306","v":6},"بدون دراپه=0",{"$f":"'طراحی همه الگوها'!B327","v":6},"پهنای هر دراپه  (سانتیمتر)   ",2,2,1,1,{"$f":"(J306-H306)/(I306-G306)","v":1},{"$f":"H306-G306*K306","v":0},2,{"$f":"(M306-L306)/K306","v":2},8,{"$f":"(O306-L306)/K306","v":8},0.9,{"$f":"(Q306-L306)/K306","v":0.9}]
["تعداد دراپه ها      -      خط بالای برش دراپه با هر طراحی می تواند باشد.",{"$f":"محاسبات!GS236","v":3},null,null,null,"تعداد دراپه ها     "]
[" متغیرهای ورودی- یقه دراپه ",null,null,null,null," متغیرهای ورودی- یقه دراپه ","x1","y1","x2","y2(بهینه)","a","b",null,"کمترین",null,"بیشترین"]
["نقطه شروع دراپه جلو    d1","(از 2 الی 4)",{"$f":"K309*E309+L309","v":3.5},"خط باسن=2 \nخط کمر=3 \nخط سینه=4  ",{"$f":"'طراحی همه الگوها'!E268","v":80},"نقطه شروع دراپه جلو    ",10,0,30,1,{"$f":"(J309-H309)/(I309-G309)","v":0.05},{"$f":"H309-G309*K309","v":-0.5},2,{"$f":"(M309-L309)/K309","v":50},4,{"$f":"(O309-L309)/K309","v":90},3,{"$f":"(Q309-L309)/K309","v":70}]
["میزان باز بودن یقه جلو به سمت  خط سینه    d2","(از 0 الی 50)",20,"یقه کیپ=0",{"$f":"'طراحی همه الگوها'!E269","v":20},"میزان باز بودن یقه جلو به سمت  خط سینه    ",1,1,0,0,1,0,0,0,5,5,0,{"$f":"(Q310-L310)/K310","v":0}]
["شیفت عمودی یقه دراپه جلو","(از -100 الی100)",0,"بدون شیفت=0 ",{"$f":"'طراحی همه الگوها'!E270","v":0},"شیفت عمودی یقه دراپه جلو (سانتیمتر)",1,1,0,0,1,0,-100,-100,100,100]
["نقطه شروع دراپه پشت    d1","(از 2 الی 4)",3.5,"خط باسن=2 \nخط کمر=3 \nخط سینه=4  ",{"$f":"'طراحی همه الگوها'!E271","v":80},"نقطه شروع دراپه پشت    ",10,0,30,1,0.05,-0.5,2,50,4,90,3,{"$f":"(Q312-L312)/K312","v":70}]
["میزان باز بودن یقه پشت به سمت  خط سینه    d2","(از 0 الی 50)",20,"یقه کیپ=0",{"$f":"'طراحی همه الگوها'!E272","v":20},"میزان باز بودن یقه پشت به سمت  خط سینه    ",1,1,0,0,1,0,0,0,50,50,0,{"$f":"(Q313-L313)/K313","v":0}]
["شیفت عمودی یقه دراپه پشت","(از -100 الی100)",0,"بدون شیفت=0 ",{"$f":"'طراحی همه الگوها'!E273","v":0},"شیفت عمودی یقه دراپه پشت (سانتیمتر)",1,1,0,0,1,0,-100,-100,100,100]
["زاویه متوسط سرشانه",{"$f":"0.5*(محاسبات!P139+0.3*(محاسبات!P140-محاسبات!P139)+محاسبات!AE139+0.3*(محاسبات!AE140-محاسبات!AE139))","v":0.33471040093341442},null,null,null,"زاویه متوسط سرشانه"]
[]
[" متغیرهای ورودی-طراحی دامن فون",null,null,null,null," متغیرهای ورودی-طراحی دامن فون","x1","y1","x2","y2(بهینه)","a","b",null,"کمترین",null,"بیشترین"]
["اتصال به دامن تنگ = 2    اتصال به بالاتنه با ساسون=1   اتصال به پیراهن راسته=0","0 یا 1 یا 2",{"$f":"K318*E318+L318","v":1},null,{"$f":"'طراحی همه الگوها'!B265","v":2},"اتصال به دامن تنگ = 2    اتصال به بالاتنه با ساسون=1   اتصال به پیراهن راسته=0",1,0,2,1,{"$f":"(J318-H318)/(I318-G318)","v":1},{"$f":"H318-G318*K318","v":-1},null,1,null,2]
["ضریب پایین دامن فون تا زمین \nدرانتخاب دامن فون متصل به پیراهن راسته    k'1","(از 0 الی 4)",0.75,"خط زمین=0 \nخط زانو=1 \nخط باسن=2 \nخط کمر=3 \nخط سینه=4  ",{"$f":"'طراحی همه الگوها'!B266","v":25},"مکان پایین دامن فون \nدرانتخاب دامن فون متصل به پیراهن راسته    ",10,0,30,1,0.05,-0.5,0,{"$f":"(M319-L319)/K319","v":10},4,100,0.25,{"$f":"(Q319-L319)/K319","v":15}]
["ضریب چین در دامن فون","(از 0 الی 3)",0,null,{"$f":"'طراحی همه الگوها'!B267","v":1},"چین در دامن فون",2,1,1,0,1,-1,0,1,3,{"$f":"(O320-L320)/K320","v":4},0.9,{"$f":"(Q320-L320)/K320","v":1.9}]
["  مقدار اوزمان در جلو دامن فون    β1","(از 0 الی 0.5",0.05,"بهینه=تامین دور باسن",{"$f":"'طراحی همه الگوها'!B268","v":5},"  اوزمان در جلو دامن فون    ",1,0.01,0,0,0.01,0,0,0,0.5,50,0.25,{"$f":"(Q321-L321)/K321","v":25}]
["  مقدار اوزمان در پشت دامن فون   β4","(از 0 الی 0.5)",0.39,"بهینه=تامین دور باسن",{"$f":"'طراحی همه الگوها'!B269","v":39},"  اوزمان در پشت دامن فون   ",1,0.01,0,0,0.01,0,0,0,0.5,50,0.9,{"$f":"(Q322-L322)/K322","v":90}]
["شیفت افقی جلو دامن فون (به سانتیمتر)","(از -100 الی100)",0,"بهینه=دلخواه",{"$f":"'طراحی همه الگوها'!B270","v":0},"شیفت افقی جلو دامن فون (به سانتیمتر)",1,1,0,0,1,0,-100,-100,100,100]
["شیفت عمودی جلو دامن فون (به سانتیمتر)","(از -100 الی100)",5,"بهینه=دلخواه",{"$f":"'طراحی همه الگوها'!B271","v":5},"شیفت عمودی جلو دامن فون (به سانتیمتر)",1,1,0,0,1,0,-100,-100,100,100]
["شیفت افقی پشت دامن فون (به سانتیمتر)","(از -100 الی100)",10,"بهینه=دلخواه",{"$f":"'طراحی همه الگوها'!B272","v":10},"شیفت افقی پشت دامن فون (به سانتیمتر)",1,1,0,0,1,0,-100,-100,100,100]
["شیفت عمودی پشت دامن فون (به سانتیمتر)","(از -100 الی100)",-5,"بهینه=دلخواه",{"$f":"'طراحی همه الگوها'!B273","v":-5},"شیفت عمودی پشت دامن فون (به سانتیمتر)",1,1,0,0,1,0,-100,-100,100,100]
[]
[" متغیرهای ورودی - جلو کمر پهن",null,null,null,null,"  جلو کمر پهن","x1","y1","x2","y2(بهینه)","a","b",null,"کمترین",null,"بیشترین"]
["انتخاب کمر برای جلیقه =1         انتخاب دیگر = 0","0 یا 1 ",{"$f":"K329*E329+L329","v":0},null,{"$f":"'طراحی همه الگوها'!B276","v":1},"انتخاب کمر برای جلیقه =2         انتخاب دیگر = 1",1,0,2,1,{"$f":"(J329-H329)/(I329-G329)","v":1},{"$f":"H329-G329*K329","v":-1},null,{"$f":"(M329-L329)/K329","v":1},null,{"$f":"(O329-L329)/K329","v":1}]
["بالای کمر روی خط مرکزی جلو -  ضریب فاصله u4 از خط کمر","(از -7 الی 7)",0,"بهینه=دلخواه",{"$f":"'طراحی همه الگوها'!B277","v":0},"بالای کمر پهن یکسره روی خط مرکزی جلو ",1,1,0,0,1,0,-7,-7,7,7,0.25,{"$f":"(Q330-L330)/K330","v":0.25}]
["پایین کمر روی خط مرکزی جلو -  ضریب فاصله d4 از خط کمر  -  (کمر جناقی و حد پایین برش دراپه)","(از -10 الی 30)",12,"مثبت= پایین خط کمر\nمنفی= بالای خط کمر",{"$f":"'طراحی همه الگوها'!B278","v":-12},"پایین کمر روی خط مرکزی جلو  (کمر جناقی و حد پایین برش دراپه)",1,-1,0,0,-1,0,-10,10,30,-30,0.9,-0.9]
["فاصله عمودی دال جلو -  ضریب فاصله u5 از خط کمر - (جلیقه)","(از -10 الی 30)",0,"بهینه=دلخواه",{"$f":"'طراحی همه الگوها'!B279","v":0},"فاصله عمودی دال جلو   (جلیقه)",1,1,0,0,1,0,-10,-10,30,30,0.25,0.25]
["فاصله افقی دال جلو -  ضریب فاصله u5 از خط مرکزی جلو - (جلیقه)","(از 0 الی 10)",0,"بهینه=دلخواه",{"$f":"'طراحی همه الگوها'!B280","v":0},"فاصله افقی دال جلو  (جلیقه)",1,0.5,0,0,0.5,0,0,0,10,20,0.9,1.8]
["پایین کمر روی خط ترک جلو -  ضریب فاصله d5 از خط کمر -  (کمر جناقی و حد پایین برش دراپه)","(از -10 الی 30)",5,"مثبت= پایین خط کمر\nمنفی= بالای خط کمر",{"$f":"'طراحی همه الگوها'!B281","v":-5},"پایین کمر روی خط ترک جلو   (کمر جناقی و حد پایین برش دراپه)",1,-1,0,0,-1,0,-10,10,30,-30,0.25,-0.25]
["بالای کمر روی خط ترک جلو -  ضریب فاصله u6 از خط کمر","(از -7 الی 7)",0,"بهینه=دلخواه",{"$f":"'طراحی همه الگوها'!B282","v":0},"بالای کمر پهن یکسره روی خط ترک جلو ",1,1,0,0,1,0,-7,-7,7,7,0.9,0.9]
["شیفت عمودی کمر پهن یکسره نسبت به زمین (به سانتیمتر)","(از -100 الی100)",{"$f":"K336*E336+L336","v":150},"بهینه=دلخواه",{"$f":"'طراحی همه الگوها'!B284","v":100},"شیفت عمودی کمر پهن یکسره  (به سانتیمتر)",1,51,0,50,1,50,-100,-150,100,50]
["شیفت افقی کمر پهن یکسره (به سانتیمتر)","(از -100 الی100)",{"$f":"K337*E337+L337","v":10},"بهینه=دلخواه",{"$f":"'طراحی همه الگوها'!B283","v":10},"شیفت افقی کمر پهن یکسره (به سانتیمتر)",1,1,0,0,1,0,-100,-100,100,100]
[]
[" متغیرهای ورودی - پهلو کمر پهن",null,null,null,null,"  پهلو کمر پهن","x1","y1","x2","y2(بهینه)","a","b",null,"کمترین",null,"بیشترین"]
["بالای کمر روی خط پهلو -  ضریب فاصله u3 از خط کمر","(از -7 الی 7)",{"$f":"K340*E340+L340","v":0},"بهینه=دلخواه",{"$f":"'طراحی همه الگوها'!B287","v":0},"بالای کمر پهن یکسره روی خط پهلو ",1,1,0,0,{"$f":"(J340-H340)/(I340-G340)","v":1},{"$f":"H340-G340*K340","v":0},-7,{"$f":"(M340-L340)/K340","v":-7},7,{"$f":"(O340-L340)/K340","v":7},0.25,{"$f":"(Q340-L340)/K340","v":0.25}]
["پایین کمر روی خط پهلو -  ضریب فاصله d3 از خط کمر -  (کمر جناقی و حد پایین برش دراپه)","(از -10 الی 30)",{"$f":"K341*E341+L341","v":0},"مثبت= پایین خط کمر\nمنفی= بالای خط کمر",{"$f":"'طراحی همه الگوها'!B288","v":0},"پایین کمر روی خط پهلو   (کمر جناقی و حد پایین برش دراپه)",1,-1,0,0,{"$f":"(J341-H341)/(I341-G341)","v":-1},{"$f":"H341-G341*K341","v":0},-10,{"$f":"(M341-L341)/K341","v":10},30,{"$f":"(O341-L341)/K341","v":-30},0.9,{"$f":"(Q341-L341)/K341","v":-0.9}]
[]
[" متغیرهای ورودی - پشت کمر پهن",null,null,null,null," پشت کمر پهن","x1","y1","x2","y2(بهینه)","a","b",null,"کمترین",null,"بیشترین"]
["بالای کمر روی خط مرکزی پشت -  ضریب فاصله u1 از خط کمر","(از -7 الی 7)",{"$f":"K344*E344+L344","v":0},"بهینه=دلخواه",{"$f":"'طراحی همه الگوها'!B291","v":0},"بالای کمر پهن یکسره روی خط مرکزی پشت ",1,1,0,0,{"$f":"(J344-H344)/(I344-G344)","v":1},{"$f":"H344-G344*K344","v":0},-7,{"$f":"(M344-L344)/K344","v":-7},7,{"$f":"(O344-L344)/K344","v":7},0.25,{"$f":"(Q344-L344)/K344","v":0.25}]
["پایین کمر روی خط مرکزی پشت -  ضریب فاصله d1 از خط کمر -  (کمر جناقی)","(از -10 الی 30)",3,"مثبت= پایین خط کمر\nمنفی= بالای خط کمر",{"$f":"'طراحی همه الگوها'!B292","v":-3},"پایین کمر روی خط مرکزی پشت   (کمر جناقی)",1,-1,0,0,-1,0,-10,10,30,-30,0.9,{"$f":"(Q345-L345)/K345","v":-0.9}]
["بالای کمر روی خط ترک پشت -  ضریب فاصله u2 از خط کمر","(از -7 الی 7)",0,"بهینه=دلخواه",{"$f":"'طراحی همه الگوها'!B293","v":0},"بالای کمر پهن یکسره روی خط ترک پشت ",1,1,0,0,1,0,-7,-7,7,7,0.25,{"$f":"(Q346-L346)/K346","v":0.25}]
["پایین کمر روی خط ترک پشت -  ضریب فاصله d2 از خط کمر -  (کمر جناقی)","(از -10 الی 30)",3,"مثبت= پایین خط کمر\nمنفی= بالای خط کمر",{"$f":"'طراحی همه الگوها'!B294","v":-3},"پایین کمر روی خط ترک پشت   (کمر جناقی)",1,-1,0,0,-1,0,-10,10,30,-30,0.9,{"$f":"(Q347-L347)/K347","v":-0.9}]
["شیفت عمودی کمر پهن یکسره نسبت به زمین (به سانتیمتر)","(از -100 الی100)",90,"بهینه=دلخواه",{"$f":"'طراحی همه الگوها'!B296","v":40},"شیفت عمودی کمر پهن یکسره  (سانتیمتر)",1,51,0,50,1,50,-100,-150,100,50]
["شیفت افقی کمر پهن یکسره (به سانتیمتر)","(از -100 الی100)",20,"بهینه=دلخواه",{"$f":"'طراحی همه الگوها'!B295","v":20},"شیفت افقی کمر پهن یکسره (سانتیمتر)",1,1,0,0,1,0,-100,-100,100,100]
[]
["متغیرهای ورودی-یقه دکلته جلو",null,null,null,null,"متغیرهای ورودی-یقه دکلته جلو","x1","y1","x2","y2(بهینه)","a","b",null,"کمترین",null,"بیشترین"]
["میزان باز بودن یقه در خط مرکزی جلو  d1","(از 3.5 الی 5)",{"$f":"K352*E352+L352","v":4},"خط کمر=3 \nخط سینه=4  ",{"$f":"'طراحی همه الگوها'!E276","v":90},"میزان باز بودن یقه در خط مرکزی جلو  ",10,0,30,1,{"$f":"(J352-H352)/(I352-G352)","v":0.05},{"$f":"H352-G352*K352","v":-0.5},3.5,{"$f":"(M352-L352)/K352","v":80},5,{"$f":"(O352-L352)/K352","v":110},3,{"$f":"(Q352-L352)/K352","v":70}]
["میزان اضافه شدن ساسون سرشانه  ","(از 0 الی 0.5)",{"$f":"K353*E353+L353","v":0.2},"بدون اضافه شدن=0 \nبهینه=0.2  ",{"$f":"'طراحی همه الگوها'!E277","v":20},"میزان اضافه شدن ساسون سرشانه  ",19,0.18,20,0.2,{"$f":"(J353-H353)/(I353-G353)","v":2.0000000000000018E-2},{"$f":"H353-G353*K353","v":-0.20000000000000034},0,{"$f":"(M353-L353)/K353","v":10.000000000000009},0.5,{"$f":"(O353-L353)/K353","v":34.999999999999986},0.2,{"$f":"(Q353-L353)/K353","v":20}]
["میزان انحنا یقه  d2","(از -0.5 الی 0.5)",{"$f":"K354*E354+L354","v":0},"خط محدب =+ \nخط صاف =0 \nخط مقعر= - ",{"$f":"'طراحی همه الگوها'!E278","v":20},"میزان انحنا یقه  ",19,-0.1,20,0,{"$f":"(J354-H354)/(I354-G354)","v":0.1},{"$f":"H354-G354*K354","v":-2},-0.5,{"$f":"(M354-L354)/K354","v":15},0.5,{"$f":"(O354-L354)/K354","v":25},0,{"$f":"(Q354-L354)/K354","v":20}]
[]
[" متغیرهای ورودی-یقه دکلته پشت",null,null,null,null," متغیرهای ورودی-یقه دکلته پشت","x1","y1","x2","y2(بهینه)","a","b",null,"کمترین",null,"بیشترین"]
["میزان باز بودن یقه در خط مرکزی پشت  d1","(از 3 الی 5.5)",{"$f":"K357*E357+L357","v":4},"خط کمر=3 \nخط سینه=4  ",{"$f":"'طراحی همه الگوها'!E281","v":90},"میزان باز بودن یقه در خط مرکزی پشت  ",10,0,30,1,{"$f":"(J357-H357)/(I357-G357)","v":0.05},{"$f":"H357-G357*K357","v":-0.5},3,{"$f":"(M357-L357)/K357","v":70},5.5,{"$f":"(O357-L357)/K357","v":120},3.5,{"$f":"(Q357-L357)/K357","v":80}]
["میزان انحنا یقه  d2","(از -1 الی 0.5)",{"$f":"K358*E358+L358","v":-9.9999999999999867E-2},"خط صاف =0 \nخط مقعر= -  ",{"$f":"'طراحی همه الگوها'!E282","v":19},"میزان انحنا یقه  ",19,-0.1,20,0,{"$f":"(J358-H358)/(I358-G358)","v":0.1},{"$f":"H358-G358*K358","v":-2},-1,{"$f":"(M358-L358)/K358","v":10},0.5,{"$f":"(O358-L358)/K358","v":25},0,{"$f":"(Q358-L358)/K358","v":20}]
[]
[" طول بند برای لباس دکلته از جلو تا پشت به سانتیمتر",null,null,null,null," طول بند برای لباس دکلته از جلو تا پشت به سانتیمتر"]
["دکلته آبی جلو     به     دکلته آبی پشت",{"$f":"ROUND(محاسبات!FB356-محاسبات!FB324+محاسبات!LP213-محاسبات!LP214,0)","v":8},null,null,null,"دکلته آبی جلو     به     دکلته آبی پشت"]
["دکلته آبی جلو     به     دکلته سبز پشت",{"$f":"ROUND(محاسبات!FB356-محاسبات!FB324+محاسبات!LP213-محاسبات!LP215,0)","v":12},null,null,null,"دکلته آبی جلو     به     دکلته سبز پشت"]
["دکلته آبی جلو     به     دکلته بنفش پشت",{"$f":"ROUND(محاسبات!FB356-محاسبات!FB324+محاسبات!LP213-محاسبات!LP216,0)","v":16},null,null,null,"دکلته آبی جلو     به     دکلته بنفش پشت"]
["دکلته آبی جلو     به     دکلته سیاه پشت",{"$f":"ROUND(محاسبات!FB356-محاسبات!FB324+محاسبات!LP213-محاسبات!LP247,0)","v":19},null,null,null,"دکلته آبی جلو     به     دکلته سیاه پشت"]
["دکلته سبز جلو     به     دکلته آبی پشت",{"$f":"ROUND(محاسبات!FB356-محاسبات!FB340+محاسبات!LP213-محاسبات!LP214,0)","v":12},null,null,null,"دکلته سبز جلو     به     دکلته آبی پشت"]
["دکلته سبز جلو     به     دکلته سبز پشت",{"$f":"ROUND(محاسبات!FB356-محاسبات!FB340+محاسبات!LP213-محاسبات!LP215,0)","v":16},null,null,null,"دکلته سبز جلو     به     دکلته سبز پشت"]
["دکلته سبز جلو     به     دکلته بنفش پشت",{"$f":"ROUND(محاسبات!FB356-محاسبات!FB340+محاسبات!LP213-محاسبات!LP216,0)","v":20},null,null,null,"دکلته سبز جلو     به     دکلته بنفش پشت"]
["دکلته سبز جلو     به     دکلته سیاه پشت",{"$f":"ROUND(محاسبات!FB356-محاسبات!FB340+محاسبات!LP213-محاسبات!LP247,0)","v":23},null,null,null,"دکلته سبز جلو     به     دکلته سیاه پشت"]
["دکلته سیاه جلو     به     دکلته آبی پشت",{"$f":"ROUND(محاسبات!FB356-محاسبات!FB308+محاسبات!LP213-محاسبات!LP214,0)","v":15},null,null,null,"دکلته سیاه جلو     به     دکلته آبی پشت"]
["دکلته سیاه جلو     به     دکلته سبز پشت",{"$f":"ROUND(محاسبات!FB356-محاسبات!FB308+محاسبات!LP213-محاسبات!LP215,0)","v":19},null,null,null,"دکلته سیاه جلو     به     دکلته سبز پشت"]
["دکلته سیاه جلو     به     دکلته بنفش پشت",{"$f":"ROUND(محاسبات!FB356-محاسبات!FB308+محاسبات!LP213-محاسبات!LP216,0)","v":23},null,null,null,"دکلته سیاه جلو     به     دکلته بنفش پشت"]
["دکلته سیاه جلو     به     دکلته سیاه پشت",{"$f":"ROUND(محاسبات!FB356-محاسبات!FB308+محاسبات!LP213-محاسبات!LP247,0)","v":27},null,null,null,"دکلته سیاه جلو     به     دکلته سیاه پشت"]
[]
[" متغیرهای ورودی رگلاژ یقه دکلته پشت",null,null,null,null," متغیرهای ورودی رگلاژ یقه دکلته پشت","x1","y1","x2","y2(بهینه)","a","b",null,"کمترین",null,"بیشترین"]
["نقطه بالای رگلاژ روی یقه دکلته   m1 ","(0 یا 1 یا 2 یا 3 یا 4)",{"$f":"K375*E375+L375","v":2},"نقطه روی خط مرکزی پشت=0\nبهینه = 2",{"$f":"'طراحی همه الگوها'!E299","v":2},"نقطه بالای رگلاژ روی یقه دکلته    ",1,1,0,0,{"$f":"(J375-H375)/(I375-G375)","v":1},{"$f":"H375-G375*K375","v":0},0,{"$f":"(M375-L375)/K375","v":0},4,{"$f":"(O375-L375)/K375","v":4},0,{"$f":"(Q375-L375)/K375","v":0}]
["نقطه وسط رگلاژ روی خط کمر   m2 ","(از 0 الی 1)",{"$f":"K376*E376+L376","v":0.8},"نقطه روی خط مرکزی پشت=0\nنقطه روی ساسون میانی پشت=1",{"$f":"'طراحی همه الگوها'!E300","v":16},"نقطه وسط رگلاژ روی خط کمر    ",1,0.05,0,0,{"$f":"(J376-H376)/(I376-G376)","v":0.05},{"$f":"H376-G376*K376","v":0},0,{"$f":"(M376-L376)/K376","v":0},1,{"$f":"(O376-L376)/K376","v":20},0.8,{"$f":"(Q376-L376)/K376","v":16}]
["نقطه پایین رگلاژ روی خط مرکزی پشت   m3","(از 0 الی 1)",{"$f":"K377*E377+L377","v":0.8},"نقطه روی خط  کمر=0 \nنقطه روی خط باسن=1 ",{"$f":"'طراحی همه الگوها'!E301","v":16},"نقطه پایین رگلاژ روی خط مرکزی پشت   ",1,0.05,0,0,{"$f":"(J377-H377)/(I377-G377)","v":0.05},{"$f":"H377-G377*K377","v":0},0,{"$f":"(M377-L377)/K377","v":0},1,{"$f":"(O377-L377)/K377","v":20},0.8,{"$f":"(Q377-L377)/K377","v":16}]
["پهنای جادکمه برای تکه رگلاژ m4","(از 0 الی 0.08)",{"$f":"K378*E378+L378","v":0.03},"بدون جادکمه =0  \nبهینه =0.03  ",{"$f":"'طراحی همه الگوها'!E302","v":6},"پهنای جادکمه برای تکه رگلاژ ",1,5.0000000000000001E-3,0,0,{"$f":"(J378-H378)/(I378-G378)","v":5.0000000000000001E-3},{"$f":"H378-G378*K378","v":0},0,{"$f":"(M378-L378)/K378","v":0},0.08,{"$f":"(O378-L378)/K378","v":16},0.03,{"$f":"(Q378-L378)/K378","v":6}]
["شیفت افقی تکه رگلاژ جدا (به سانتیمتر)  m21","(از -100 الی100)",{"$f":"K379*E379+L379","v":30},"بهینه=دلخواه",{"$f":"'طراحی همه الگوها'!E303","v":30},"شیفت افقی تکه رگلاژ جدا (سانتیمتر)  ",1,1,0,0,{"$f":"(J379-H379)/(I379-G379)","v":1},{"$f":"H379-G379*K379","v":0},-100,{"$f":"(M379-L379)/K379","v":-100},100,{"$f":"(O379-L379)/K379","v":100}]
[]
["متغیرهای ورودی-یقه قایقی بدون شیفت تکه پهلو",null,null,null,null,"متغیرهای ورودی-یقه قایقی بدون شیفت تکه پهلو","x1","y1","x2","y2(بهینه)","a","b",null,"کمترین",null,"بیشترین"]
["ضریب بزرگ شدن سرشانه  b7","(از 0 الی 0.5)",{"$f":"K382*E382+L382","v":9.9999999999999978E-2},"بهینه=0.1",{"$f":"'طراحی همه الگوها'!E306","v":20},"باز شدن یقه روی سرشانه  ",19,0.05,20,0.1,{"$f":"(J382-H382)/(I382-G382)","v":0.05},{"$f":"H382-G382*K382","v":-0.9},0,{"$f":"(M382-L382)/K382","v":18},0.5,{"$f":"(O382-L382)/K382","v":27.999999999999996},0,{"$f":"(Q382-L382)/K382","v":18}]
[]
[" متغیرهای ورودی-یقه پروانه ای متصل به حلقه آستین بدون ساسون\nبدون شیفت تکه پهلو",null,null,null,null,"یقه پروانه ای متصل به حلقه آستین بدون ساسون  \nبدون شیفت تکه پهلو","x1","y1","x2","y2(بهینه)","a","b",null,"کمترین",null,"بیشترین"]
["ضریب پهنای سرشانه به سمت پشت    ζ3","(از 0 الی 1)",{"$f":"K385*E385+L385","v":1},"بهینه=1",{"$f":"'طراحی همه الگوها'!E309","v":20},"پهنای سرشانه به سمت پشت    ",19,0.9,20,1,{"$f":"(J385-H385)/(I385-G385)","v":9.9999999999999978E-2},{"$f":"H385-G385*K385","v":-0.99999999999999944},0,{"$f":"(M385-L385)/K385","v":9.9999999999999964},30,{"$f":"(O385-L385)/K385","v":310.00000000000006},0,{"$f":"(Q385-L385)/K385","v":9.9999999999999964}]
["ضریب پهنای سرشانه به سمت جلو   ζ4","(از 0 الی 1)",{"$f":"K386*E386+L386","v":0.8},"بهینه=0.8",{"$f":"'طراحی همه الگوها'!E310","v":20},"پهنای سرشانه به سمت جلو   ",19,0.7,20,0.8,{"$f":"(J386-H386)/(I386-G386)","v":0.10000000000000009},{"$f":"H386-G386*K386","v":-1.2000000000000017},0.3,{"$f":"(M386-L386)/K386","v":15.000000000000004},1.2,{"$f":"(O386-L386)/K386","v":23.999999999999996},0.3,{"$f":"(Q386-L386)/K386","v":15.000000000000004}]
[]
[" متغیرهای ورودی-سرشانه دکمه خور متصل به حلقه آستین بدون ساسون\nبدون شیفت تکه پهلو",null,null,null,null,"سرشانه پشت دکمه خور متصل به حلقه آستین بدون ساسون \nبدون شیفت تکه پهلو","x1","y1","x2","y2(بهینه)","a","b",null,"کمترین",null,"بیشترین"]
["ضریب پهنای جادکمه سرشانه","(از 0 الی 0.1)",{"$f":"K389*E389+L389","v":0},"بهینه=0.05",{"$f":"'طراحی همه الگوها'!B341","v":0},"ضریب پهنای جادکمه سرشانه",1,0.01,0,0,{"$f":"(J389-H389)/(I389-G389)","v":0.01},{"$f":"H389-G389*K389","v":0},0,{"$f":"(M389-L389)/K389","v":0},0.1,{"$f":"(O389-L389)/K389","v":10},0.05,{"$f":"(Q389-L389)/K389","v":5}]
[]
[" متغیرهای ورودی - آستین کیمونو و آستین سرخود بدون شیفت تکه پهلو",null,null,null,null," متغیرهای ورودی - آستین کیمونو و آستین سرخود بدون شیفت تکه پهلو","x1","y1","x2","y2(بهینه)","a","b",null,"کمترین",null,"بیشترین"]
["میزان خمیدگی آستین کیمونو نسبت به خط سرشانه (به درجه)   k1","(از 0 الی 30)",{"$f":"K392*E392+L392","v":20},"آستین در امتداد سرشانه=0",{"$f":"'طراحی همه الگوها'!B344","v":20},"میزان خمیدگی آستین کیمونو نسبت به خط سرشانه   ",1,1,0,0,{"$f":"(J392-H392)/(I392-G392)","v":1},{"$f":"H392-G392*K392","v":0},0,{"$f":"(M392-L392)/K392","v":0},30,{"$f":"(O392-L392)/K392","v":30},0,{"$f":"(Q392-L392)/K392","v":0}]
["ضریب کوتاهی آستین کیمونو   k16","(از 0.3 الی 1.2)",1,"آستین تا مچ=1",{"$f":"'طراحی همه الگوها'!B345","v":10},"کوتاهی آستین کیمونو   ",11,0.97750000000000004,10,1,-2.2499999999999964E-2,1.2249999999999996,0.3,41.111111111111157,1.2,1.1111111111110989,1,10]
["ضریب گشادی دور مچ   k2","(از 1 الی 2)",1,"بدون گشادی مچ=1",{"$f":"'طراحی همه الگوها'!B346","v":0},"گشادی دور مچ   ",1,1.05,0,1,5.0000000000000044E-2,1,1,0,2,19.999999999999982,1,0]
["ضریب انحنا پهلو برای آستین کیمونو   k3","(از 0.2 الی 0.8) ",0.4,"بهینه=0.4",{"$f":"'طراحی همه الگوها'!B347","v":8},"انحنا پهلو برای آستین کیمونو   ",1,0.05,0,0,0.05,0,0.2,4,0.8,16,0.4,8]
["ضریب انحنا پهلو برای آستین سرخود   k14","(از 0 الی 0.2)",9.9999999999999978E-2,"بدون انحنا=0",{"$f":"'طراحی همه الگوها'!B348","v":5},"انحنا پهلو برای آستین سرخود   ",9,0.02,10,0,-0.02,0.19999999999999998,0,9.9999999999999982,0.2,-1.3877787807814457E-15,0,9.9999999999999982]
["ضریب کوتاهی آستین سرخود   k9","(از 0.35 الی 2)",0.79500000000000037,"لبه آستین روی خط آرنج=1",{"$f":"'طراحی همه الگوها'!B349","v":35},"کوتاهی آستین سرخود   ",29,1.0409999999999999,30,1,-4.0999999999999925E-2,2.2299999999999978,0.35,45.853658536585392,2,5.6097560975609309,1,30]
["ضریب کوتاهی تاج آستین سرخود   k12","(از 0 الی 0.25)",0,"بدون کوتاهی=0",{"$f":"'طراحی همه الگوها'!B350","v":0},"کوتاهی تاج آستین سرخود   ",1,0.05,0,0,0.05,0,0,0,0.25,5,0,0]
["گشادی لبه آستین : در طراحی آستین سرخود",{"$f":"IF(محاسبات!O393<محاسبات!O392,\" \",\"مقدار x9 زیاد شود \")","v":"مقدار x9 زیاد شود "},null,{"$f":"IF(محاسبات!O393<محاسبات!O392,\"صحیح \",\"خطا\")","v":"خطا"},{"$f":"IF(محاسبات!O393<محاسبات!O392,\" صحیح\",\" گشاد تر شود \")","v":" گشاد تر شود "},"گشادی لبه آستین : در طراحی آستین سرخود"]
[]
[" متغیرهای ورودی-شورت بدون شیفت تکه پهلو",null,null,null,null," متغیرهای ورودی-شورت بدون شیفت تکه پهلو","x1","y1","x2","y2(بهینه)","a","b",null,"کمترین",null,"بیشترین"]
["ضریب فاصله کمر شورت تا زمین s0","(از 2.2 الی 3.5)",{"$f":"K402*E402+L402","v":2.75},"خط باسن=2 \nخط کمر=3 \nخط سینه=4  ",{"$f":"'طراحی همه الگوها'!B354","v":65},"ضریب فاصله کمر شورت تا زمین ",10,0,30,1,{"$f":"(J402-H402)/(I402-G402)","v":0.05},{"$f":"H402-G402*K402","v":-0.5},2.2000000000000002,{"$f":"(M402-L402)/K402","v":54},3.5,{"$f":"(O402-L402)/K402","v":80},0,{"$f":"(Q402-L402)/K402","v":10}]
["میزان انحنا جلو شورت مردانه s9","(از 0 الی 0.6)",{"$f":"K403*E403+L403","v":0},"بدون انحنا (زنانه)=0 \nبهیه مردانه =0.4 ",{"$f":"'طراحی همه الگوها'!B355","v":0},"میزان انحنا جلو شورت مردانه ",1,0.05,0,0,{"$f":"(J403-H403)/(I403-G403)","v":0.05},{"$f":"H403-G403*K403","v":0},0,{"$f":"(M403-L403)/K403","v":0},0.6,{"$f":"(O403-L403)/K403","v":11.999999999999998},0.4,{"$f":"(Q403-L403)/K403","v":8}]
["ضریب حرکت افقی مرغک","(از -1 الی 3)",{"$f":"K404*E404+L404","v":0.45},"خط مرکزی جلو=0 \nخط پهلو=1  ",{"$f":"'طراحی همه الگوها'!B372","v":9},"ضریب شیفت افقی مرغک",20,1,0,0,{"$f":"(J404-H404)/(I404-G404)","v":0.05},{"$f":"H404-G404*K404","v":0},-1,{"$f":"(M404-L404)/K404","v":-20},3,{"$f":"(O404-L404)/K404","v":60},0,{"$f":"(Q404-L404)/K404","v":0}]
["ضریب حرکت عمودی مرغک","(از -3 الی 3)",{"$f":"K405*E405+L405","v":-1.2000000000000002},null,{"$f":"'طراحی همه الگوها'!B373","v":-12},"ضریب شیفت عمودی مرغک",1,0.1,0,0,{"$f":"(J405-H405)/(I405-G405)","v":0.1},{"$f":"H405-G405*K405","v":0},-3,{"$f":"(M405-L405)/K405","v":-30},3,{"$f":"(O405-L405)/K405","v":30},0.3,{"$f":"(Q405-L405)/K405","v":2.9999999999999996}]
[]
[" متغیرهای ورودی - مایو پادار",null,null,null,null," متغیرهای ورودی - مایو پادار","x1","y1","x2","y2(بهینه)","a","b",null,"کمترین",null,"بیشترین"]
["ضریب گشادی دور مچ پا    p1  ","(از 1 الی 2.5)",{"$f":"K408*E408+L408","v":1.1500000000000001},"بهینه=1.7",{"$f":"'طراحی همه الگوها'!B360","v":3},"ضریب گشادی دور مچ پا      ",1,1.05,0,1,{"$f":"(J408-H408)/(I408-G408)","v":5.0000000000000044E-2},{"$f":"H408-G408*K408","v":1},1,{"$f":"(M408-L408)/K408","v":0},2.5,{"$f":"(O408-L408)/K408","v":29.999999999999975},1.7,{"$f":"(Q408-L408)/K408","v":13.999999999999988}]
["ضریب ارتفاع راسته بودن پایین پاچه   p2 ","(از 0 الی 0.5)",0.2,"بهینه=0.2",{"$f":"'طراحی همه الگوها'!B361","v":10},"ضریب ارتفاع راسته بودن پایین پاچه    ",1,0.02,0,0,0.02,0,0,0,0.5,25,0.2,10]
["ضریب عرض جادکمه وسط پا  p20","(از 0 الی 0.1)",1.4999999999999999E-2,"بهینه=0.015",{"$f":"'طراحی همه الگوها'!B362","v":3},"ضریب عرض جادکمه وسط پا  ",1,5.0000000000000001E-3,0,0,5.0000000000000001E-3,0,0,0,0.1,20,1.4999999999999999E-2,3]
["زاویه خط پهلو شلوار  برحسب درجه   p23","(از -5 الی 10)",5,"بهینه=3",{"$f":"'طراحی همه الگوها'!B363","v":5},"زاویه خط پهلو شلوار    ",1,1,0,0,1,0,-5,-5,10,10,3,3]
["ضریب افقی شیفت تکه وسط پا  ","(از -100 الی100)",2,"بدون شیفت=0 ",{"$f":"'طراحی همه الگوها'!B364","v":2},"ضریب شیفت افقی تکه وسط پا  ",1,1,0,0,{"$f":"(J412-H412)/(I412-G412)","v":1},{"$f":"H412-G412*K412","v":0},-100,{"$f":"(M412-L412)/K412","v":-100},100,{"$f":"(O412-L412)/K412","v":100}]
["ضریب عمودی شیفت تکه وسط پا","(از -100 الی100)",-10,"بدون شیفت=0 ",{"$f":"'طراحی همه الگوها'!B365","v":-10},"ضریب شیفت عمودی تکه وسط پا",1,1,0,0,{"$f":"(J413-H413)/(I413-G413)","v":1},{"$f":"H413-G413*K413","v":0},-100,{"$f":"(M413-L413)/K413","v":-100},100,{"$f":"(O413-L413)/K413","v":100}]
[]
[" متغیرهای ورودی-مایو بدون شیفت تکه پهلو      باید  x5=1",null,null,null,null," متغیرهای ورودی-مایو بدون شیفت تکه پهلو      باید  شروع اوزمان = خط باسن","x1","y1","x2","y2(بهینه)","a","b",null,"کمترین",null,"بیشترین"]
[" ضریب بالا آمدن خط مایو در پهلو   mx","(از 0 الی 0.7)",{"$f":"K416*E416+L416","v":0.3},"بهینه مایو=0.3\nبهینه شورت زنانه=0.2\nبهینه شورت مردانه=0.2\nبهینه زیردکمه دار بچه=0",{"$f":"'طراحی همه الگوها'!B367","v":15}," ضریب بالا آمدن خط مایو در پهلو   ",1,0.02,0,0,{"$f":"(J416-H416)/(I416-G416)","v":0.02},{"$f":"H416-G416*K416","v":0},0,{"$f":"(M416-L416)/K416","v":0},0.7,{"$f":"(O416-L416)/K416","v":35},0.3,{"$f":"(Q416-L416)/K416","v":15}]
["انتخاب مایو دکمه دار از وسط پا=1            انتخاب مایو بدون دکمه=0","0 یا 1 ",{"$f":"K417*E417+L417","v":1},null,{"$f":"'طراحی همه الگوها'!B368","v":2},"انتخاب مایو دکمه دار از وسط پا=2            انتخاب مایو بدون دکمه=1",1,0,2,1,{"$f":"(J417-H417)/(I417-G417)","v":1},{"$f":"H417-G417*K417","v":-1},0,{"$f":"(M417-L417)/K417","v":1},1,{"$f":"(O417-L417)/K417","v":2},0,{"$f":"(Q417-L417)/K417","v":1}]
["شیفت محل دکمه از پشت به جلو برای پوشک بچه در انتخاب مایو دکمه دار  (cm)","(از 0 الی 4)",{"$f":"K418*E418+L418","v":2},"بهینه=2",{"$f":"'طراحی همه الگوها'!B369","v":2},"شیفت محل دکمه از پشت به جلو برای پوشک بچه در انتخاب مایو دکمه دار  ",0.5,0.5,0,0,{"$f":"(J418-H418)/(I418-G418)","v":1},{"$f":"H418-G418*K418","v":0},0,{"$f":"(M418-L418)/K418","v":0},4,{"$f":"(O418-L418)/K418","v":4},2,{"$f":"(Q418-L418)/K418","v":2}]
["اضافه پهنا وسط پا برای پوشک بچه در انتخاب مایو دکمه دار  (cm)","(از0 الی 4)",{"$f":"K419*E419+L419","v":1.5},"بهینه=1.5",{"$f":"'طراحی همه الگوها'!B370","v":1.5},"اضافه پهنا وسط پا برای پوشک بچه در انتخاب مایو دکمه دار  ",0.5,0.5,0,0,{"$f":"(J419-H419)/(I419-G419)","v":1},{"$f":"H419-G419*K419","v":0},0,{"$f":"(M419-L419)/K419","v":0},4,{"$f":"(O419-L419)/K419","v":4},1.5,{"$f":"(Q419-L419)/K419","v":1.5}]
["اضافه جادکمه وسط پا در انتخاب مایو دکمه دار  (cm)","(از 0 الی 4)",{"$f":"K420*E420+L420","v":2},"بهینه=2",{"$f":"'طراحی همه الگوها'!B371","v":2},"اضافه جادکمه وسط پا در انتخاب مایو دکمه دار  ",0.5,0.5,0,0,{"$f":"(J420-H420)/(I420-G420)","v":1},{"$f":"H420-G420*K420","v":0},0,{"$f":"(M420-L420)/K420","v":0},4,{"$f":"(O420-L420)/K420","v":4},2,{"$f":"(Q420-L420)/K420","v":2}]
[]
[" متغیر ورودی پیش بند حمام بچه یا انحنا لبه پیراهن",null,null,null,null," متغیر ورودی پیش بند حمام بچه یا انحنا لبه پیراهن","x1","y1","x2","y2(بهینه)","a","b",null,"کمترین",null,"بیشترین"]
["ضریب بزرگی کلاه بچه   n10","(از 0.8 الی 1.3)",{"$f":"K423*E423+L423","v":1},"بهینه برای نوزاد=1\nبهینه یک ساله=1.2",{"$f":"'طراحی همه الگوها'!B375","v":20},"ضریب بزرگی کلاه بچه   ",19,0.95,20,1,{"$f":"(J423-H423)/(I423-G423)","v":5.0000000000000044E-2},{"$f":"H423-G423*K423","v":-8.8817841970012523E-16},0.8,{"$f":"(M423-L423)/K423","v":16.000000000000004},1.3,{"$f":"(O423-L423)/K423","v":25.999999999999996},1,{"$f":"(Q423-L423)/K423","v":20}]
["ضریب انحنا بالای لبه پیراهن  n11","(از 0.1 الی 0.9)",{"$f":"K424*E424+L424","v":0.4},"بهینه=0.4",{"$f":"'طراحی همه الگوها'!B376","v":20},"ضریب انحنا بالای لبه پیراهن  ",19,0.35,20,0.4,{"$f":"(J424-H424)/(I424-G424)","v":5.0000000000000044E-2},{"$f":"H424-G424*K424","v":-0.60000000000000087},0.1,{"$f":"(M424-L424)/K424","v":14.000000000000004},0.9,{"$f":"(O424-L424)/K424","v":29.999999999999993},0.4,{"$f":"(Q424-L424)/K424","v":20}]
["ضریب انحنا پایین لبه پیراهن  n12","(از 0.3 الی 0.9)",{"$f":"K425*E425+L425","v":0.6},"بهینه=0.6",{"$f":"'طراحی همه الگوها'!B377","v":20},"ضریب انحنا پایین لبه پیراهن  ",19,0.55000000000000004,20,0.6,{"$f":"(J425-H425)/(I425-G425)","v":4.9999999999999933E-2},{"$f":"H425-G425*K425","v":-0.39999999999999869},0.3,{"$f":"(M425-L425)/K425","v":13.999999999999991},0.9,{"$f":"(O425-L425)/K425","v":26.000000000000011},0.6,{"$f":"(Q425-L425)/K425","v":20}]
[]
[" متغیرهای ورودی- جلو پیش سینه رکابی بدون شیفت تکه پهلو",null,null,null,null," متغیرهای ورودی- جلو پیش سینه رکابی بدون شیفت تکه پهلو","x1","y1","x2","y2(بهینه)","a","b",null,"کمترین",null,"بیشترین"]
["ضریب پایین آمدن پیش سینه از خط سرشانه      γ0","(از 0.2 الی 0.8)",{"$f":"K428*E428+L428","v":0.71999999999999831},null,{"$f":"'طراحی همه الگوها'!B380","v":57},"بالا یا پایین رفتن بند پیش سینه جلو",19,0.34,20,0.35,{"$f":"(J428-H428)/(I428-G428)","v":9.9999999999999534E-3},{"$f":"H428-G428*K428","v":0.15000000000000091},0.8,{"$f":"(M428-L428)/K428","v":65.000000000000213},1.3,{"$f":"(O428-L428)/K428","v":115.00000000000044},1,{"$f":"(Q428-L428)/K428","v":85.000000000000298}]
["ضریب بزرگ شدن پهنای کف حلقه آستین      γ1","(از 1 الی 2.5)",{"$f":"K429*E429+L429","v":1.8},null,{"$f":"'طراحی همه الگوها'!B381","v":20},"فاصله بند تا زیر حلقه آستین",19,1.75,20,1.8,{"$f":"(J429-H429)/(I429-G429)","v":5.0000000000000044E-2},{"$f":"H429-G429*K429","v":0.79999999999999916},0.1,{"$f":"(M429-L429)/K429","v":-13.999999999999972},0.9,{"$f":"(O429-L429)/K429","v":2.0000000000000155},0.4,{"$f":"(Q429-L429)/K429","v":-7.999999999999976}]
["ضریب کوچک شدن ارتفاع یقه      γ2","(از 0 الی 1.5)",{"$f":"K430*E430+L430","v":2.0999999999999979},"صاف=0",{"$f":"'طراحی همه الگوها'!B382","v":50},"گودی بین دو بند در جلو سینه",19,0.55000000000000004,20,0.6,{"$f":"(J430-H430)/(I430-G430)","v":4.9999999999999933E-2},{"$f":"H430-G430*K430","v":-0.39999999999999869},0.3,{"$f":"(M430-L430)/K430","v":13.999999999999991},0.9,{"$f":"(O430-L430)/K430","v":26.000000000000011},0.6,{"$f":"(Q430-L430)/K430","v":20}]
["ضریب بزرگ شدن پهنای یقه      γ3","(از 0.5 الی 2.5)",{"$f":"K431*E431+L431","v":1.4},null,{"$f":"'طراحی همه الگوها'!B383","v":20},"فاصله بند تا خط مرکزی جلو",19,1.35,20,1.4,{"$f":"(J431-H431)/(I431-G431)","v":4.9999999999999822E-2},{"$f":"H431-G431*K431","v":0.40000000000000346},0.8,{"$f":"(M431-L431)/K431","v":7.99999999999996},1.3,{"$f":"(O431-L431)/K431","v":17.999999999999996},1,{"$f":"(Q431-L431)/K431","v":11.999999999999973}]
["انتخاب خط راست پهلو جلو=1        انتخاب دیگر=0","0 یا 1 ",{"$f":"K432*E432+L432","v":0},null,{"$f":"'طراحی همه الگوها'!B384","v":1},"انتخاب خط راست پهلو جلو=2        انتخاب دیگر=1",1,0,2,1,{"$f":"(J432-H432)/(I432-G432)","v":1},{"$f":"H432-G432*K432","v":-1},0.1,{"$f":"(M432-L432)/K432","v":1.1000000000000001},0.9,{"$f":"(O432-L432)/K432","v":1.9},0.4,{"$f":"(Q432-L432)/K432","v":1.4}]
[]
[" متغیرهای ورودی-مکان بندینک در پیش سینه یا پیش بند",null,null,null,null," متغیرهای ورودی-مکان بندینک در پیش سینه یا پیش بند","x1","y1","x2","y2(بهینه)","a","b",null,"کمترین",null,"بیشترین"]
["ضریب فاصله افقی نقطه پایین بندینک از خط مرکزی جلو ","(از 0 الی 2)",{"$f":"K435*E435+L435","v":1},"خط مرکزی جلو=0 \nخط پهلو=1  ",{"$f":"'طراحی همه الگوها'!B387","v":20},"شیفت افقی بند جدا",20,1,0,0,{"$f":"(J435-H435)/(I435-G435)","v":0.05},{"$f":"H435-G435*K435","v":0},0.8,{"$f":"(M435-L435)/K435","v":16},1.3,{"$f":"(O435-L435)/K435","v":26},1,{"$f":"(Q435-L435)/K435","v":20}]
["ضریب فاصله عمودی نقطه پایین بندینک از زمین ","(از0 الی 5)",{"$f":"K436*E436+L436","v":2},"خط زمین=0 \nخط زانو=1 \nخط باسن=2 \nخط کمر=3 \nخط سینه=4  ",{"$f":"'طراحی همه الگوها'!B388","v":50},"شیفت عمودی بند جدا",10,0,30,1,{"$f":"(J436-H436)/(I436-G436)","v":0.05},{"$f":"H436-G436*K436","v":-0.5},0.1,{"$f":"(M436-L436)/K436","v":11.999999999999998},0.9,{"$f":"(O436-L436)/K436","v":27.999999999999996},0.4,{"$f":"(Q436-L436)/K436","v":18}]
[]
[" متغیرهای ورودی- پشت پیش سینه رکابی بدون شیفت تکه پهلو",null,null,null,null," متغیرهای ورودی- پشت پیش سینه رکابی بدون شیفت تکه پهلو","x1","y1","x2","y2(بهینه)","a","b",null,"کمترین",null,"بیشترین"]
["ضریب پایین آمدن پیش سینه از خط سرشانه      γ0","(از 0.2 الی 0.8)",{"$f":"K439*E439+L439","v":0.3},null,{"$f":"'طراحی همه الگوها'!B391","v":20},"بالا یا پایین رفتن بند پیش سینه پشت",19,0.28999999999999998,20,0.3,{"$f":"(J439-H439)/(I439-G439)","v":1.0000000000000009E-2},{"$f":"H439-G439*K439","v":9.9999999999999811E-2},0.8,{"$f":"(M439-L439)/K439","v":69.999999999999957},1.3,{"$f":"(O439-L439)/K439","v":119.99999999999991},1,{"$f":"(Q439-L439)/K439","v":89.999999999999929}]
["ضریب بزرگ شدن پهنای کف حلقه آستین      γ1","(از 1 الی 4)",{"$f":"K440*E440+L440","v":2.6},null,{"$f":"'طراحی همه الگوها'!B392","v":20},"فاصله بند تا زیر حلقه آستین",19,2.5,20,2.6,{"$f":"(J440-H440)/(I440-G440)","v":0.10000000000000009},{"$f":"H440-G440*K440","v":0.59999999999999831},0.1,{"$f":"(M440-L440)/K440","v":-4.9999999999999787},0.9,{"$f":"(O440-L440)/K440","v":3.0000000000000142},0.4,{"$f":"(Q440-L440)/K440","v":-1.9999999999999811}]
["ضریب کوچک شدن ارتفاع یقه      γ2","(از 0 الی 3)",{"$f":"K441*E441+L441","v":0.60000000000000009},"صاف=0",{"$f":"'طراحی همه الگوها'!B393","v":20},"گودی بین دو بند در پشت سینه",19,0.5,20,0.6,{"$f":"(J441-H441)/(I441-G441)","v":9.9999999999999978E-2},{"$f":"H441-G441*K441","v":-1.3999999999999995},0.3,{"$f":"(M441-L441)/K441","v":17},0.9,{"$f":"(O441-L441)/K441","v":23},0.6,{"$f":"(Q441-L441)/K441","v":20}]
["ضریب بزرگ شدن پهنای یقه      γ3","(از 0.5 الی 2.5)",{"$f":"K442*E442+L442","v":1.2},null,{"$f":"'طراحی همه الگوها'!B394","v":20},"فاصله بند تا خط مرکزی پشت",19,1.1000000000000001,20,1.2,{"$f":"(J442-H442)/(I442-G442)","v":9.9999999999999867E-2},{"$f":"H442-G442*K442","v":-0.79999999999999738},0.8,{"$f":"(M442-L442)/K442","v":15.999999999999995},1.3,{"$f":"(O442-L442)/K442","v":21.000000000000004},1,{"$f":"(Q442-L442)/K442","v":17.999999999999996}]
["انتخاب خط راست پهلو پشت=1        انتخاب دیگر=0","0 یا 1 ",{"$f":"K443*E443+L443","v":0},null,{"$f":"'طراحی همه الگوها'!B395","v":1},"انتخاب خط راست پهلو پشت=2        انتخاب دیگر=1",1,0,2,1,{"$f":"(J443-H443)/(I443-G443)","v":1},{"$f":"H443-G443*K443","v":-1},0.1,{"$f":"(M443-L443)/K443","v":1.1000000000000001},0.9,{"$f":"(O443-L443)/K443","v":1.9},0.4,{"$f":"(Q443-L443)/K443","v":1.4}]
[]
[" متغیرهای ورودی-طراحی یقه دلبری",null,null,null,null," متغیرهای ورودی-طراحی یقه دلبری","x1","y1","x2","y2(بهینه)","a","b",null,"کمترین",null,"بیشترین"]
["γ1         باز شدن یقه نسبت به وسط گردن       ","(از 0.3 الی 1.5)",{"$f":"K446*E446+L446","v":0.99999999999999978},"بهینه=1",{"$f":"'طراحی همه الگوها'!E313","v":14}," باز شدن یقه نسبت به وسط گردن       ",1,0.35,0,0.3,{"$f":"(J446-H446)/(I446-G446)","v":4.9999999999999989E-2},{"$f":"H446-G446*K446","v":0.3},0.3,{"$f":"(M446-L446)/K446","v":0},1.5,{"$f":"(O446-L446)/K446","v":24.000000000000004},1,{"$f":"(Q446-L446)/K446","v":14.000000000000002}]
["γ2       فاصله عمودی نقطه شکست یقه دلبری   ","(از 0.1 الی 0.9)",{"$f":"K447*E447+L447","v":0.5},"بهینه=0.5",{"$f":"'طراحی همه الگوها'!E314","v":20},"  فاصله عمودی نقطه شکست یقه دلبری   ",19,0.45,20,0.5,{"$f":"(J447-H447)/(I447-G447)","v":4.9999999999999989E-2},{"$f":"H447-G447*K447","v":-0.49999999999999972},0.1,{"$f":"(M447-L447)/K447","v":11.999999999999998},0.9,{"$f":"(O447-L447)/K447","v":28},0.4,{"$f":"(Q447-L447)/K447","v":17.999999999999996}]
["γ3        فاصله افقی نقطه شکست یقه دلبری","(از 0.3 الی 2)",{"$f":"K448*E448+L448","v":1},"بهینه=1",{"$f":"'طراحی همه الگوها'!E315","v":20}," فاصله افقی نقطه شکست یقه دلبری",19,0.95,20,1,{"$f":"(J448-H448)/(I448-G448)","v":5.0000000000000044E-2},{"$f":"H448-G448*K448","v":-8.8817841970012523E-16},0.3,{"$f":"(M448-L448)/K448","v":6.0000000000000124},0.9,{"$f":"(O448-L448)/K448","v":18.000000000000004},0.6,{"$f":"(Q448-L448)/K448","v":12.000000000000007}]
[]
[" متغیرهای ورودی - یقه پشت گردنی بدون شیفت تکه پهلو - روی حلقه آستین با ساسون",null,null,null,null," متغیرهای ورودی - یقه پشت گردنی بدون شیفت تکه پهلو - روی حلقه آستین با ساسون","x1","y1","x2","y2(بهینه)","a","b",null,"کمترین",null,"بیشترین"]
["ضریب طول یقه پشت گردن  d0","(از 0.5 الی 1.3)",{"$f":"K451*E451+L451","v":0.9},"بهینه=0.9",{"$f":"'طراحی همه الگوها'!E319","v":20}," طول یقه پشت گردن  ",19,0.85,20,0.9,{"$f":"(J451-H451)/(I451-G451)","v":5.0000000000000044E-2},{"$f":"H451-G451*K451","v":-0.10000000000000087},0.5,{"$f":"(M451-L451)/K451","v":12.000000000000007},1.3,{"$f":"(O451-L451)/K451","v":27.999999999999993},0.9,{"$f":"(Q451-L451)/K451","v":20}]
["ضریب پهنای یقه پشت گردن  d1","(از 0 الی 3)",{"$f":"K452*E452+L452","v":1.5},"بهینه=1.5",{"$f":"'طراحی همه الگوها'!E318","v":20}," پهنای یقه پشت گردن  ",0,0,20,1.5,{"$f":"(J452-H452)/(I452-G452)","v":7.4999999999999997E-2},{"$f":"H452-G452*K452","v":0},0,{"$f":"(M452-L452)/K452","v":0},3,{"$f":"(O452-L452)/K452","v":40},1.5,{"$f":"(Q452-L452)/K452","v":20}]
["ضریب افقی انحنا یقه جلو   d2    ","(از 0 الی 1.5)",{"$f":"K453*E453+L453","v":0.9},"بهینه=0.9",{"$f":"'طراحی همه الگوها'!E320","v":20},"  انحنا افقی یقه جلو       ",19,0.85,20,0.9,{"$f":"(J453-H453)/(I453-G453)","v":5.0000000000000044E-2},{"$f":"H453-G453*K453","v":-0.10000000000000087},0,{"$f":"(M453-L453)/K453","v":2.0000000000000155},1.5,{"$f":"(O453-L453)/K453","v":31.999999999999993},0.9,{"$f":"(Q453-L453)/K453","v":20}]
["ضریب عمودی انحنا یقه جلو     d3","(از 0 الی 1)",{"$f":"K454*E454+L454","v":0.5},"بهینه=0.5",{"$f":"'طراحی همه الگوها'!E321","v":20}," انحنا عمودی یقه جلو    ",19,0.55000000000000004,20,0.5,{"$f":"(J454-H454)/(I454-G454)","v":-5.0000000000000044E-2},{"$f":"H454-G454*K454","v":1.5000000000000009},0,{"$f":"(M454-L454)/K454","v":29.999999999999993},1,{"$f":"(O454-L454)/K454","v":10.000000000000009},0.5,{"$f":"(Q454-L454)/K454","v":20}]
[]
[" متغیرهای ورودی - سوتین کلی",null,null,null,null," متغیرهای ورودی - سوتین کلی","x1","y1","x2","y2(بهینه)","a","b",null,"کمترین",null,"بیشترین"]
["ضریب ساسون وسط سینه    b1  ","(از -1 الی 2)",{"$f":"K457*E457+L457","v":-0.29999999999999982},"بهینه= - 0.3",{"$f":"'طراحی همه الگوها'!B398","v":20},"ضریب ساسون وسط سینه      ",19,-0.4,20,-0.3,{"$f":"(J457-H457)/(I457-G457)","v":0.10000000000000003},{"$f":"H457-G457*K457","v":-2.3000000000000007},0,{"$f":"(M457-L457)/K457","v":23},0.7,{"$f":"(O457-L457)/K457","v":30},1,{"$f":"(Q457-L457)/K457","v":32.999999999999993}]
["ضریب پایین آمدن از خط پهلو   b2 ","(از 0 الی 0.5)",0.25,"زیر بغل منطبق با بالاتنه=0 \nخط کمر=1  \nبهینه = 0.25",{"$f":"'طراحی همه الگوها'!B399","v":20},"ضریب پایین آمدن از خط پهلو    ",19,0.2,20,0.25,4.9999999999999989E-2,-0.74999999999999978,0,14.999999999999998,1,35,0.4,23.000000000000004]
["ضریب بزرگ شدن کاسه در خط مرکزی جلو    b3  ","(از0.5 الی 1.5)",0.9,"بهینه= 0.9",{"$f":"'طراحی همه الگوها'!B400","v":20},"ضریب بزرگ شدن کاسه در خط مرکزی جلو      ",19,0.88,20,0.9,2.0000000000000018E-2,0.49999999999999967,0,-24.999999999999961,4,174.99999999999986,0.6,5.0000000000000107]
["ضریب بزرگ شدن کاسه زیر نوک سینه   b4 ","(از0.4 الی 1.3)",0.6,"بهینه= 0.6",{"$f":"'طراحی همه الگوها'!B401","v":20},"ضریب بزرگ شدن کاسه زیر نوک سینه    ",19,0.57999999999999996,20,0.6,2.0000000000000018E-2,0.19999999999999962,0,-9.9999999999999716,4,189.99999999999986,1,39.999999999999986]
["ضریب بزرگ شدن کاسه در پهلو    b5  ","(از0.7 الی 1.7)",1.1000000000000001,"بهینه= 1.1",{"$f":"'طراحی همه الگوها'!B402","v":20},"ضریب بزرگ شدن کاسه در پهلو      ",19,1.08,20,1.1000000000000001,2.0000000000000018E-2,0.69999999999999973,0,-34.999999999999957,0.7,1.1102230246251556E-14,0.4,-14.999999999999972]
["ضریب بالا یا پایین آمدن یقه روی خط مرکزی جلو   b6 ","(از -0.7 الی 0.5)",0,"بالای خط سینه =+ \nروی خط سینه =0 \nپایین خط سینه= - ",{"$f":"'طراحی همه الگوها'!B403","v":20},"ضریب بالا یا پایین آمدن یقه روی خط مرکزی جلو    ",19,-0.05,20,0,0.05,-1,0,20,1,40,1,40]
["ضریب عمودی نقطه اتصال بند جلو    b7  ","(از 0.1 الی 1)",0.25,"بهینه=0.25",{"$f":"'طراحی همه الگوها'!B404","v":20},"ضریب عمودی نقطه اتصال بند جلو      ",19,0.2,20,0.25,4.9999999999999989E-2,-0.74999999999999978,0,14.999999999999998,4,95.000000000000014,0.4,23.000000000000004]
["ضریب افقی نقطه اتصال بند جلو   b8 ","(از 0.5 الی 3)",1.4,"بهینه=1.4",{"$f":"'طراحی همه الگوها'!B405","v":20},"ضریب افقی نقطه اتصال بند جلو    ",19,1.3,20,1.4,9.9999999999999867E-2,-0.59999999999999742,0,5.9999999999999822,4,46.000000000000043,0.6,11.999999999999991]
["میزان انحنا یقه جلو  b9 ","(از -0.5 الی 0.5)",0,"خط محدب =+ \nخط صاف =0 \nخط مقعر= - ",{"$f":"'طراحی همه الگوها'!B406","v":20},"میزان انحنا یقه جلو   ",19,-0.05,20,0,0.05,-1,0,20,0.7,34,1,40]
["ضریب گودی خطوط افقی کاسه    b10  ","(از 0 الی 0.5)",0.25,"بهینه=0.25",{"$f":"'طراحی همه الگوها'!B407","v":20},"ضریب گودی خطوط افقی کاسه      ",19,0.2,20,0.25,4.9999999999999989E-2,-0.74999999999999978,0,14.999999999999998,1,35,0.4,23.000000000000004]
["ضریب گودی خطوط عمودی کاسه   b11 ","(از 0 الی 0.5)",0.15000000000000002,"بهینه=0.15",{"$f":"'طراحی همه الگوها'!B408","v":20},"ضریب گودی خطوط عمودی کاسه    ",19,0.1,20,0.15,4.9999999999999989E-2,-0.84999999999999976,0,17,4,97.000000000000014,1,37]
["میزان انحنا یقه در پهلو   b12 ","(از -0.5 الی 0.5)",0,"خط محدب =+ \nخط صاف =0 \nخط مقعر= - ",{"$f":"'طراحی همه الگوها'!B409","v":20},"انحنا یقه در پهلو    ",19,-0.05,20,0,0.05,-1,0,20,4,100,0.4,27.999999999999996]
["ضریب افزایش یا کاهش ساسون زیر بغل    b15 ","(از -0.5 الی 2)",0,"اندامی=0",{"$f":"'طراحی همه الگوها'!B410","v":20},"ضریب افزایش یا کاهش ساسون زیر بغل     ",19,-0.1,20,0,{"$f":"(J469-H469)/(I469-G469)","v":0.1},{"$f":"H469-G469*K469","v":-2},0,20,4,60,0.6,26]
["ضریب افزایش یا کاهش طول عمودی کاسه    b17 ","(از 0.1 الی 2)",0.70000000000000018,"بهینه=0.7",{"$f":"'طراحی همه الگوها'!B411","v":20},"ضریب افزایش یا کاهش طول عمودی کاسه     ",19,0.6,20,0.7,9.9999999999999978E-2,-1.2999999999999994,0,12.999999999999996,4,53,1,23]
["ضریب افزایش یا کاهش طول افقی کاسه    b18 ","(از 0.1 الی 2)",0.5,"بهینه=0.5",{"$f":"'طراحی همه الگوها'!B412","v":20},"ضریب افزایش یا کاهش طول افقی کاسه     ",19,0.4,20,0.5,9.9999999999999978E-2,-1.4999999999999996,0,{"$f":"(M471-L471)/K471","v":14.999999999999998},4,{"$f":"(O471-L471)/K471","v":55.000000000000014},0.4,19]
["شیفت عمودی کاسه پایین به سانتیمتر   b13 ","(از -100 الی100)",0,"بدون شیفت=0",{"$f":"'طراحی همه الگوها'!B414","v":0},"شیفت عمودی کاسه پایین (سانتیمتر)    ",1,1,0,0,1,0,-100,{"$f":"(M472-L472)/K472","v":-100},100,{"$f":"(O472-L472)/K472","v":100}]
["شیفت عمودی کاسه بالا به سانتیمتر   b14 ","(از -100 الی100)",0,"بدون شیفت=0",{"$f":"'طراحی همه الگوها'!B415","v":0},"شیفت عمودی کاسه بالا (سانتیمتر)    ",1,1,0,0,1,0,-100,{"$f":"(M473-L473)/K473","v":-100},100,{"$f":"(O473-L473)/K473","v":100}]
["شیفت افقی کاسه پایین راست به سانتیمتر   b16 ","(از -100 الی100)",0,"بدون شیفت=0",{"$f":"'طراحی همه الگوها'!B413","v":0},"شیفت افقی کاسه پایین راست (سانتیمتر)    ",1,1,0,0,1,0,-100,{"$f":"(M474-L474)/K474","v":-100},100,{"$f":"(O474-L474)/K474","v":100}]
[]
[" متغیرهای ورودی -  اختصاصی سوتین 6 تکه",null,null,null,null," متغیرهای ورودی -  اختصاصی سوتین 6 تکه","x1","y1","x2","y2(بهینه)","a","b",null,"کمترین",null,"بیشترین"]
["انتقال ساسون روی خط سینه به زیر سینه   d17 ","(از 0 الی 1)",{"$f":"K477*E477+L477","v":0.9},"بدون انتقال=0 \nانتقال کامل=1  ",{"$f":"'طراحی همه الگوها'!B418","v":9},"انتقال ساسون روی خط سینه به زیر سینه    ",1,0.1,0,0,{"$f":"(J477-H477)/(I477-G477)","v":0.1},{"$f":"H477-G477*K477","v":0},0,{"$f":"(M477-L477)/K477","v":0},1,{"$f":"(O477-L477)/K477","v":10},0.9,{"$f":"(Q477-L477)/K477","v":9}]
["ضریب چرخش تکه پهلو به درجه    d2 ","(از0 الی 100)",20,"بهینه= 20",{"$f":"'طراحی همه الگوها'!B419","v":20},"چرخش تکه پهلو     ",19,19,20,20,{"$f":"(J478-H478)/(I478-G478)","v":1},{"$f":"H478-G478*K478","v":0},0,0,1,1,0.4,0.4]
["پهنای بند جلو به سانتیمتر    d3  ","(از0 الی 5)",1.5,"بهینه= 1.5",{"$f":"'طراحی همه الگوها'!B420","v":1.5},"پهنای بند جلو       ",1,1,0,0,{"$f":"(J479-H479)/(I479-G479)","v":1},{"$f":"H479-G479*K479","v":0},0,{"$f":"(M479-L479)/K479","v":0},5,{"$f":"(O479-L479)/K479","v":5},1.5,{"$f":"(Q479-L479)/K479","v":1.5}]
["ضریب عمودی برش جلو بند   d8 ","(از 0.1 الی 2)",1.2,"بهینه=1.2",{"$f":"'طراحی همه الگوها'!B421","v":20},"بالا یا پایین رفتن مکان بند جلو",19,1.1000000000000001,20,1.2,{"$f":"(J480-H480)/(I480-G480)","v":9.9999999999999867E-2},{"$f":"H480-G480*K480","v":-0.79999999999999738},0,7.999999999999984,4,48.000000000000036,1,17.999999999999996]
["ضریب افقی برش جلو بند   d14 ","(از 0.1 الی 2)",0.8,"بهینه=0.8",{"$f":"'طراحی همه الگوها'!B422","v":20},"چپ و راست رفتن مکان بند جلو",19,0.75,20,0.8,{"$f":"(J481-H481)/(I481-G481)","v":5.0000000000000044E-2},{"$f":"H481-G481*K481","v":-0.20000000000000084},0,4.0000000000000133,0.7,18,0.4,12.000000000000007]
["ضریب پهنای افقی برش جلو بند   d9 ","(از 0 الی 1)",0.30000000000000004,"بهینه=0.3",{"$f":"'طراحی همه الگوها'!B423","v":20},"پهنای افقی برش جلو بند    ",19,0.25,20,0.3,4.9999999999999989E-2,-0.69999999999999973,0,13.999999999999998,1,34,1,34]
["ضریب پهنای برش کاسه در پهلو    d10  ","(از 0.1 الی 0.7)",0.25,"بهینه=0.25",{"$f":"'طراحی همه الگوها'!B424","v":20},"پهنای برش کاسه در پهلو      ",19,0.2,20,0.25,4.9999999999999989E-2,-0.74999999999999978,0,14.999999999999998,4,95.000000000000014,0.4,23.000000000000004]
["ضریب بالا یا پایین رفتن خط پایین پایه    d1  ","(از 0.2 الی 0.7)",0.5,"خط کمر=0 \nخط سینه=1  ",{"$f":"'طراحی همه الگوها'!B425","v":80},"بالا یا پایین رفتن خط پایین پایه      ",79,0.45,80,0.5,4.9999999999999989E-2,-3.4999999999999991,0.2,74,0.7,84,0,70]
["پهنای بند پشت به سانتیمتر   d4 ","(از0 الی 5)",1.5,"بهینه= 1.5",{"$f":"'طراحی همه الگوها'!B426","v":1.5},"پهنای بند پشت     ",1,1,0,0,1,0,0,0,5,5,1.5,1.5]
["ضریب عمودی نقطه اتصال بند پشت    d5  ","(از0 الی 1)",0.38,"خط کمر =0 \nخط سرشانه= 1 \nبهینه = 0.38",{"$f":"'طراحی همه الگوها'!B427","v":20},"بالا یا پایین رفتن مکان بند پشت",21,0.4,20,0.38,2.0000000000000018E-2,-2.0000000000000351E-2,0,1.0000000000000167,1,50.999999999999979,0.4,21]
["ضریب افقی نقطه اتصال بند پشت    d6 ","(از0.1 الی 0.9)",0.45,"خط مرکزی پشت =0 \nخط پهلو= 1 \nبهینه = 0.45",{"$f":"'طراحی همه الگوها'!B428","v":9},"چپ و راست رفتن مکان بند پشت",1,0.05,0,0,0.05,0,0.1,2,0.9,18,0.45,9]
["میزان انحنا یقه پشت پهلو    d7  ","(از -0.5 الی 0.5)",0,"خط محدب =+ \nخط صاف =0 \nخط مقعر= - ",{"$f":"'طراحی همه الگوها'!B429","v":20},"انحنا یقه پشت پهلو      ",19,-0.05,20,0,0.05,-1,0,20,4,100,0.4,27.999999999999996]
["پهنای قزن در پشت به سانتیمتر   d11 ","(از 0 الی 10)",3,"بهینه=3",{"$f":"'طراحی همه الگوها'!B430","v":3},"پهنای قزن در پشت (سانتیمتر)    ",2,2,3,3,{"$f":"(J489-H489)/(I489-G489)","v":1},{"$f":"H489-G489*K489","v":0},0,{"$f":"(M489-L489)/K489","v":0},10,{"$f":"(O489-L489)/K489","v":10},3,3]
["میزان انحنا یقه پشت مرکزی    d15  ","(از -0.5 الی 0.5)",0,"خط محدب =+ \nخط صاف =0 \nخط مقعر= - ",{"$f":"'طراحی همه الگوها'!B431","v":20},"انحنا یقه پشت مرکزی      ",19,-0.05,20,0,{"$f":"(J490-H490)/(I490-G490)","v":0.05},{"$f":"H490-G490*K490","v":-1},0,{"$f":"(M490-L490)/K490","v":20},4,{"$f":"(O490-L490)/K490","v":100},1,40]
["شیفت افقی تکه جلو مرکزی به سانتیمتر   d12 ","(از -100 الی100)",0,"بدون شیفت=0",{"$f":"'طراحی همه الگوها'!B432","v":0},"شیفت افقی تکه جلو مرکزی (سانتیمتر)    ",1,1,0,0,{"$f":"(J491-H491)/(I491-G491)","v":1},{"$f":"H491-G491*K491","v":0},-100,{"$f":"(M491-L491)/K491","v":-100},100,{"$f":"(O491-L491)/K491","v":100},0.4,0.4]
["شیفت عمودی کاسه یک تکه زیرین به سانتیمتر   d16 ","(از -100 الی100)",0,"بدون شیفت=0",{"$f":"'طراحی همه الگوها'!B434","v":0},"شیفت عمودی کاسه یک تکه زیرین (سانتیمتر)    ",1,1,0,0,{"$f":"(J492-H492)/(I492-G492)","v":1},{"$f":"H492-G492*K492","v":0},-100,{"$f":"(M492-L492)/K492","v":-100},100,{"$f":"(O492-L492)/K492","v":100}]
["شیفت افقی تکه پهلوجلو به سانتیمتر   d13 ","(از -100 الی100)",0,"بدون شیفت=0",{"$f":"'طراحی همه الگوها'!B433","v":0},"شیفت افقی تکه پهلوجلو (سانتیمتر)    ",1,1,0,0,{"$f":"(J493-H493)/(I493-G493)","v":1},{"$f":"H493-G493*K493","v":0},-100,{"$f":"(M493-L493)/K493","v":-100},100,{"$f":"(O493-L493)/K493","v":100}]
[]
[" متغیرهای ورودی- شنل بدون شیفت تکه پهلو",null,null,null,null," متغیرهای ورودی- شنل بدون شیفت تکه پهلو","x1","y1","x2","y2(بهینه)","a","b",null,"کمترین",null,"بیشترین"]
["ضریب بزرگ شدن اوزمان در شنل  c1","(از 0.5 الی 2)",{"$f":"K496*E496+L496","v":1},"بهینه=1",{"$f":"'طراحی همه الگوها'!B437","v":20},"ضریب بزرگ شدن اوزمان در شنل  ",19,0.95,20,1,{"$f":"(J496-H496)/(I496-G496)","v":5.0000000000000044E-2},{"$f":"H496-G496*K496","v":-8.8817841970012523E-16},0.5,{"$f":"(M496-L496)/K496","v":10.000000000000009},2,{"$f":"(O496-L496)/K496","v":39.999999999999986},1,{"$f":"(Q496-L496)/K496","v":20}]
[]
["پیراهن کلوش (با حلقه آستین بدون ساسون سرشانه)"]
[" اوزمان در جلو پیراهن کلوش   a1","(از 1 الی 50)",{"$f":"K499*E499+L499","v":5},null,{"$f":"'طراحی همه الگوها'!B440","v":5},null,1,1,2,2,{"$f":"(J499-H499)/(I499-G499)","v":1},{"$f":"H499-G499*K499","v":0},null,1,null,2]
[" فاصله اوزمان اول از خط مرکزی جلو  a6   ","(از 1 الی 30)",{"$f":"K500*E500+L500","v":13},null,{"$f":"'طراحی همه الگوها'!B441","v":13},null,1,1,2,2,{"$f":"(J500-H500)/(I500-G500)","v":1},{"$f":"H500-G500*K500","v":0},null,1,null,2]
[" فاصله اوزمان اول از خط مرکزی جلو  a8   ","(از 1 الی 30)",{"$f":"K501*E501+L501","v":18},null,{"$f":"'طراحی همه الگوها'!B442","v":18},null,1,1,2,2,{"$f":"(J501-H501)/(I501-G501)","v":1},{"$f":"H501-G501*K501","v":0},null,1,null,2]
[" اوزمان در پشت پیراهن کلوش   a2","(از 1 الی 50)",{"$f":"K502*E502+L502","v":5},null,{"$f":"'طراحی همه الگوها'!B443","v":5},null,1,1,2,2,{"$f":"(J502-H502)/(I502-G502)","v":1},{"$f":"H502-G502*K502","v":0},null,1,null,2]
[" فاصله اوزمان اول از خط مرکزی پشت  a7   ","(از 1 الی 30)",{"$f":"K503*E503+L503","v":13},null,{"$f":"'طراحی همه الگوها'!B444","v":13},null,1,1,2,2,{"$f":"(J503-H503)/(I503-G503)","v":1},{"$f":"H503-G503*K503","v":0},null,1,null,2]
[" فاصله اوزمان اول از خط مرکزی پشت  a9   ","(از 1 الی 30)",20,null,{"$f":"'طراحی همه الگوها'!B445","v":20},null,1,1,2,2,1,0,null,1,null,2]
[]
["متغیرهای ورودی آستین",null,null,null,null,"متغیرهای ورودی آستین"]
[null,null,null,null,"x",null,"x1","y1","x2","y2(بهینه)","a","b",null,"کمترین",null,"بیشترین"]
[" متغیر ورودی نوع آستین :",null,null,null,null," متغیر ورودی نوع آستین :","x1","y1","x2","y2(بهینه)","a","b",null,"کمترین",null,"بیشترین"]
["انتخاب آستین با ساسون سرشانه یا زیر بغل یا عصایی = 0\nانتخاب آستین رگلان (بدون درز یا با درز) برای حلقه آستین با ساسون = 0   \nانتخاب آستین با هر نوع ساسون و اپل و کنترل گودی حلقه آستین = 1\n انتخاب آستین بدون ساسون سرشانه = 3 \n انتخاب آستین رگلان (بدون درز یا با درز) برای حلقه آستین بدون ساسون سرشانه = 3 ","0 یا 1 یا 3",{"$f":"K509*E509+L509","v":3},null,{"$f":"'طراحی همه الگوها'!K176","v":4},"انتخاب آستین با ساسون سرشانه یا زیر بغل یا عصایی = 0\nانتخاب آستین رگلان (بدون درز یا با درز) برای حلقه آستین با ساسون = 0   \nانتخاب آستین با هر نوع ساسون و اپل و کنترل گودی حلقه آستین = 1\n انتخاب آستین بدون ساسون سرشانه = 3 \n انتخاب آستین رگلان (بدون درز یا با درز) برای حلقه آستین بدون ساسون سرشانه = 3 ",1,0,4,3,{"$f":"(J509-H509)/(I509-G509)","v":1},{"$f":"H509-G509*K509","v":-1},null,1,null,4,0.15,{"$f":"(Q509-L509)/K509","v":1.1499999999999999}]
[]
[" متغیرهای ورودی - آستین رگلان درز دار",null,null,null,null," متغیرهای ورودی - آستین رگلان درز دار","x1","y1","x2","y2(بهینه)","a","b",null,"کمترین",null,"بیشترین"]
["میزان خمیدگی بدن به سمت جلو - زاویه به درجه  α1","(از -20 الی 20)",{"$f":"K512*E512+L512","v":3},"بهینه=3",{"$f":"'طراحی همه الگوها'!K234","v":3},"میزان خمیدگی بدن به سمت جلو   ",1,1,0,0,{"$f":"(J512-H512)/(I512-G512)","v":1},{"$f":"H512-G512*K512","v":0},-20,{"$f":"(M512-L512)/K512","v":-20},20,{"$f":"(O512-L512)/K512","v":20},3,{"$f":"(Q512-L512)/K512","v":3}]
["میزان خم شدن سرشانه در آستین - زاویه به درجه  α2","(از -20 الی 20)",3,"بهینه=3",{"$f":"'طراحی همه الگوها'!K235","v":3},"میزان خم شدن سرشانه در آستین  ",1,1,0,0,1,0,-20,-20,20,20,3,3]
["پهنای ساسون مچ روی درز آستین  α3","(از 0 الی 2)",0.70000000000000007,"بهینه=0.7\nبدون ساسون=1",{"$f":"'طراحی همه الگوها'!K236","v":3},"پهنای ساسون مچ روی درز آستین  ",1,0.9,0,1,-9.9999999999999978E-2,1,0,10.000000000000002,2,-10.000000000000002,0.7,3.0000000000000013]
["میزان روی هم آمدن سرشانه در دو تکه آستین رگلان  α4","(از 0 الی 2)",1,"بهینه=1\nروی هم نمی آید=0",{"$f":"'طراحی همه الگوها'!K237","v":10},"میزان روی هم آمدن سرشانه در دو تکه آستین رگلان  ",1,0.1,0,0,0.1,0,0,0,2,20,1,10]
["زاویه درز روی آستین نسبت به عمود به درجه  α5","(از -20 الی 20)",3,"بهینه=3",{"$f":"'طراحی همه الگوها'!K238","v":3},"زاویه درز روی آستین نسبت به عمود  ",1,1,0,0,{"$f":"(J516-H516)/(I516-G516)","v":1},{"$f":"H516-G516*K516","v":0},-20,-20,20,20,3,3]
["میزان انحنا لبه جلو آستین  α6","(از -20 الی 20)",1,"بهینه=1",{"$f":"'طراحی همه الگوها'!K239","v":1},"میزان انحنا لبه جلو آستین  ",1,1,0,0,{"$f":"(J517-H517)/(I517-G517)","v":1},{"$f":"H517-G517*K517","v":0},-20,-20,20,20,1,1]
["میزان انحنا لبه پشت آستین  α7","(از -20 الی 20)",1,"بهینه=1",{"$f":"'طراحی همه الگوها'!K240","v":1},"میزان انحنا لبه پشت آستین  ",1,1,0,0,1,0,-20,-20,20,20,1,1]
["سهم گشادی مچ آستین بر روی درز  α8","(از 0 الی 1)",0.2,"بهینه=0.2",{"$f":"'طراحی همه الگوها'!K241","v":4},"سهم گشادی مچ آستین بر روی درز  ",1,0.05,0,0,0.05,0,0,0,1,20,0.2,4]
["شیفت افقی تکه جلو آستین رگلان درز دار    به سانتیمتر","(از -100 الی100)",5,"بدون شیفت=0",{"$f":"'طراحی همه الگوها'!K242","v":5},"شیفت افقی تکه جلو آستین رگلان درز دار    به سانتیمتر",1,1,0,0,1,0,null,1,null,100,0]
["شیفت افقی کل آستین رگلان بدون درز   به سانتیمتر","(از -100 الی100)",-4.5,"بدون شیفت=0",{"$f":"'طراحی همه الگوها'!K186","v":-4.5},"شیفت افقی کل آستین رگلان بدون درز   به سانتیمتر",1,1,0,0,{"$f":"(J521-H521)/(I521-G521)","v":1},{"$f":"H521-G521*K521","v":0},null,1,null,100,0]
[]
[" متغیرهای ورودی کلی آستین ساده (بلند یا کوتاه)",null,null,null,null," متغیرهای ورودی کلی آستین ساده (بلند یا کوتاه)","x1","y1","x2","y2(بهینه)","a","b",null,"کمترین",null,"بیشترین"]
["ضریب پهنای مچ در آستین ساده و مچ بلند","(از 0 الی 0.5)",{"$f":"K524*E524+L524","v":0.20000000000000007},"بهینه=0.15",{"$f":"'طراحی همه الگوها'!K183","v":14},"ضریب پهنای مچ در آستین ساده و مچ بلند",11,0.05,10,0,{"$f":"(J524-H524)/(I524-G524)","v":0.05},{"$f":"H524-G524*K524","v":-0.5},0,{"$f":"(M524-L524)/K524","v":10},0.5,{"$f":"(O524-L524)/K524","v":20},0.15,{"$f":"(Q524-L524)/K524","v":13}]
["ضریب گشادی مچ آستین  ζ4","(از 0.1 الی 4)",1.4000000000000004,"اندامی=1",{"$f":"'طراحی همه الگوها'!K179","v":4},"ضریب گشادی مچ آستین  ",1,1.1000000000000001,0,1,0.10000000000000009,1,0.1,-8.9999999999999929,4,29.999999999999975,1,0]
["ضریب بلند یا کوتاه شدن اندازه های طولی در آستین","(از -0.2 الی 0.2)",0,"بدون تغییر=0",{"$f":"'طراحی همه الگوها'!K180","v":0},"ضریب بلند یا کوتاه شدن اندازه های طولی در آستین",1,0.01,0,0,0.01,0,-0.2,-20,0.2,20,0,0]
["ضریب بلندی تاج آستین","(از -1 الی 1)",0,"اندامی=0",{"$f":"'طراحی همه الگوها'!K181","v":0},"ضریب بلندی تاج آستین",1,0.05,0,0,0.05,0,-1,-20,1,20,0,0]
["ضریب گشادی تاج آستین","(از 0 الی 1)",0,"اندامی=0",{"$f":"'طراحی همه الگوها'!K182","v":0},"ضریب گشادی تاج آستین",1,0.05,0,0,0.05,0,0,0,1,20,0,0]
["ضریب کوتاهی آستین  (آستین پفی > 0.6)","(از -0.45 الی 1.7)",1.3,"آستین تا مچ=0 \nآستین تا آرنج=1 \nآستین کوتاه بالای آرنج بزرگتر از یک",{"$f":"'طراحی همه الگوها'!K178","v":36},"بلندی پایین آستین",10,0,30,1,0.05,-0.5,-0.45,0.99999999999999978,1.7,44,0.3,16]
["شیفت افقی کل الگو آستین به سانتیمتر","(از -100 الی100)",8,"بدون شیفت=0",{"$f":"'طراحی همه الگوها'!K184","v":8},"شیفت افقی کل الگو آستین (سانتیمتر)",1,1,0,0,1,0,null,1,null,100,0]
["شیفت عمودی کل الگو آستین به سانتیمتر","(از -100 الی100)",{"$f":"K531*E531+L531","v":0},"بدون شیفت=0",{"$f":"'طراحی همه الگوها'!K185","v":0},"شیفت عمودی کل الگو آستین (سانتیمتر)",1,1,0,0,1,0,null,1,null,100,0]
[]
["اطلاعات طول حلقه آستین و طول تاج آستین",null,null,null,null,"اطلاعات طول حلقه آستین و طول تاج آستین"]
["طول کل حلقه آستین با اپل",{"$f":"محاسبات!BL538","v":32.1},null,null,null,"طول کل حلقه آستین با اپل (سانتیمتر)"]
["طول کل حلقه آستین با ساسون",{"$f":"محاسبات!BL539","v":32.200000000000003},null,null,null,"طول کل حلقه آستین با ساسون (سانتیمتر)"]
["طول کل حلقه آستین بدون ساسون",{"$f":"محاسبات!BL540","v":33.4},null,null,null,"طول کل حلقه آستین بدون ساسون (سانتیمتر)"]
["طول حلقه آستین مدل 85",{"$f":"محاسبات!BL541","v":32.6},null,null,null,"طول حلقه آستین مدل 85  (سانتیمتر)"]
["طول حلقه آستین مدل 83 کت مردانه",{"$f":"محاسبات!BL542","v":32},null,null,null,"طول حلقه آستین مدل 83 کت مردانه  (سانتیمتر)"]
["طول تاج آستین کتی",{"$f":"محاسبات!BL543","v":33.1},null,null,null,"طول تاج آستین کتی (سانتیمتر)"]
["طول تاج آستین ساده",{"$f":"محاسبات!BL544","v":32.9},null,null,null,"طول تاج آستین ساده (سانتیمتر) "]
[]
[" متغیرهای ورودی- جادکمه آستین بلند یا کوتاه",null,null,null,null," متغیرهای ورودی- جادکمه آستین بلند یا کوتاه","x1","y1","x2","y2(بهینه)","a","b",null,"کمترین",null,"بیشترین"]
["ضریب طول مستطیل ","(از 0 الی 0.5)",{"$f":"K543*E543+L543","v":0.35000000000000003},"بهینه=0.35",{"$f":"'طراحی همه الگوها'!K204","v":7},"ضریب طول مستطیل ",1,0.05,0,0,{"$f":"(J543-H543)/(I543-G543)","v":0.05},{"$f":"H543-G543*K543","v":0},0,{"$f":"(M543-L543)/K543","v":0},0.5,{"$f":"(O543-L543)/K543","v":10},0.35,{"$f":"(Q543-L543)/K543","v":6.9999999999999991}]
["ضریب عرض مستطیل ","(از 0 الی 0.4)",{"$f":"K544*E544+L544","v":0.25},"بهینه=0.25",{"$f":"'طراحی همه الگوها'!K205","v":5},"ضریب عرض مستطیل ",1,0.05,0,0,{"$f":"(J544-H544)/(I544-G544)","v":0.05},{"$f":"H544-G544*K544","v":0},0,{"$f":"(M544-L544)/K544","v":0},0.4,{"$f":"(O544-L544)/K544","v":8},0.25,{"$f":"(Q544-L544)/K544","v":5}]
[]
[" متغیرهای ورودی - مچ آستین",null,null,null,null," متغیرهای ورودی - مچ آستین","x1","y1","x2","y2(بهینه)","a","b",null,"کمترین",null,"بیشترین"]
["انتخاب مچ اندامی=1        انتخاب مچ مستطیل یا مچ پفی=0","0 یا 1 ",{"$f":"K547*E547+L547","v":0},null,{"$f":"'طراحی همه الگوها'!K189","v":1},"انتخاب مچ اندامی=2        انتخاب مچ مستطیل یا مچ پفی=1",1,0,2,1,{"$f":"(J547-H547)/(I547-G547)","v":1},{"$f":"H547-G547*K547","v":-1},0,{"$f":"(M547-L547)/K547","v":1},1,{"$f":"(O547-L547)/K547","v":2},0,{"$f":"(Q547-L547)/K547","v":1}]
["ضریب گشادی بالای مچ  z3","(از 0.8 الی 3)",1.3000000000000003,"اندامی=1",{"$f":"'طراحی همه الگوها'!K190","v":3},"ضریب گشادی بالای مچ  ",1,1.1000000000000001,0,1,0.10000000000000009,1,0.8,{"$f":"(M548-L548)/K548","v":-1.9999999999999978},3,{"$f":"(O548-L548)/K548","v":19.999999999999982},1,{"$f":"(Q548-L548)/K548","v":0}]
["ضریب گشادی پایین مچ یا مچ مستطیل یا مچ پفی  z4","(از 0.8 الی 3)",2.5000000000000013,"اندامی=1",{"$f":"'طراحی همه الگوها'!K191","v":15},"ضریب گشادی پایین مچ یا مچ مستطیل یا مچ پفی  ",1,1.1000000000000001,0,1,0.10000000000000009,1,0.8,{"$f":"(M549-L549)/K549","v":-1.9999999999999978},3,{"$f":"(O549-L549)/K549","v":19.999999999999982},1,{"$f":"(Q549-L549)/K549","v":0}]
["ضریب ارتفاع بالای مچ    z5","(از 0 الی 1.7)",0.5,"ارتفاع تا مچ دست =0 \nارتفاع تا آرنج=1 \nارتفاع بالای آرنج بزرگتر از یک",{"$f":"'طراحی همه الگوها'!K192","v":20},"ضریب ارتفاع بالای مچ    ",10,0,30,1,0.05,-0.5,0,{"$f":"(M550-L550)/K550","v":10},1.7,{"$f":"(O550-L550)/K550","v":44},1,{"$f":"(Q550-L550)/K550","v":30}]
["ضریب ارتفاع پایین مچ   z6","(از 0 الی 1.7)",0,"ارتفاع تا مچ دست =0 \nارتفاع تا آرنج=1 \nارتفاع بالای آرنج بزرگتر از یک",{"$f":"'طراحی همه الگوها'!K193","v":10},"ضریب ارتفاع پایین مچ   ",10,0,30,1,0.05,-0.5,0,{"$f":"(M551-L551)/K551","v":10},1.7,{"$f":"(O551-L551)/K551","v":44},1,{"$f":"(Q551-L551)/K551","v":30}]
["شیفت افقی مچ  به سانتیمتر   z7","(از -100 الی100)",0,"بدون شیفت=0",{"$f":"'طراحی همه الگوها'!K194","v":0},"شیفت افقی مچ  (سانتیمتر)   ",1,1,0,0,1,0,null,1,null,100,0]
["شیفت عمودی مچ  به سانتیمتر  z8","(از -100 الی100)",0,"بدون شیفت=0",{"$f":"'طراحی همه الگوها'!K195","v":0},"شیفت عمودی مچ  (سانتیمتر)  ",1,1,0,0,1,0,null,1,null,100,0]
[]
[" متغیرهای ورودی - آستر مچ آستین",null,null,null,null," متغیرهای ورودی - آستر مچ آستین","x1","y1","x2","y2(بهینه)","a","b",null,"کمترین",null,"بیشترین"]
["انتخاب مچ اندامی=1        انتخاب مچ مستطیل یا مچ پفی=0","0 یا 1 ",{"$f":"K556*E556+L556","v":0},null,{"$f":"'طراحی همه الگوها'!K220","v":1},"انتخاب مچ اندامی=2        انتخاب مچ مستطیل یا مچ پفی=1",1,0,2,1,{"$f":"(J556-H556)/(I556-G556)","v":1},{"$f":"H556-G556*K556","v":-1},0,{"$f":"(M556-L556)/K556","v":1},1,{"$f":"(O556-L556)/K556","v":2},0,{"$f":"(Q556-L556)/K556","v":1}]
["ضریب گشادی بالای مچ  z3","(از 0.8 الی 3)",1,"اندامی=1",{"$f":"'طراحی همه الگوها'!K221","v":0},"ضریب گشادی بالای مچ  ",1,1.1000000000000001,0,1,0.10000000000000009,1,0.8,{"$f":"(M557-L557)/K557","v":-1.9999999999999978},3,{"$f":"(O557-L557)/K557","v":19.999999999999982},1,{"$f":"(Q557-L557)/K557","v":0}]
["ضریب گشادی پایین مچ یا مچ مستطیل یا مچ پفی  z4","(از 0.8 الی 3)",1.4000000000000004,"اندامی=1",{"$f":"'طراحی همه الگوها'!K222","v":4},"ضریب گشادی پایین مچ یا مچ مستطیل یا مچ پفی  ",1,1.1000000000000001,0,1,0.10000000000000009,1,0.8,{"$f":"(M558-L558)/K558","v":-1.9999999999999978},3,{"$f":"(O558-L558)/K558","v":19.999999999999982},1,{"$f":"(Q558-L558)/K558","v":0}]
["ضریب ارتفاع بالای مچ    z5","(از 0 الی 1.7)",0.45000000000000007,"ارتفاع تا مچ دست =0 \nارتفاع تا آرنج=1 \nارتفاع بالای آرنج بزرگتر از یک",{"$f":"'طراحی همه الگوها'!K223","v":19},"ضریب ارتفاع بالای مچ    ",10,0,30,1,0.05,-0.5,0,{"$f":"(M559-L559)/K559","v":10},1.7,{"$f":"(O559-L559)/K559","v":44},1,{"$f":"(Q559-L559)/K559","v":30}]
["ضریب ارتفاع پایین مچ   z6","(از 0 الی 1.7)",0,"ارتفاع تا مچ دست =0 \nارتفاع تا آرنج=1 \nارتفاع بالای آرنج بزرگتر از یک",{"$f":"'طراحی همه الگوها'!K224","v":10},"ضریب ارتفاع پایین مچ   ",10,0,30,1,0.05,-0.5,0,{"$f":"(M560-L560)/K560","v":10},1.7,{"$f":"(O560-L560)/K560","v":44},1,{"$f":"(Q560-L560)/K560","v":30}]
["شیفت افقی آستر مچ  به سانتیمتر   z7","(از -100 الی100)",0,"بدون شیفت=0",{"$f":"'طراحی همه الگوها'!K225","v":0},"شیفت افقی آستر مچ  (سانتیمتر)   ",1,1,0,0,1,0,null,1,null,100,0]
["شیفت عمودی آستر مچ  به سانتیمتر  z8","(از -100 الی100)",13,"بدون شیفت=0",{"$f":"'طراحی همه الگوها'!K226","v":13},"شیفت عمودی آستر مچ  (سانتیمتر)  ",1,1,0,0,1,0,null,1,null,100,0]
[]
[" متغیرهای ورودی آستین لاله ای",null,null,null,null," متغیرهای ورودی آستین لاله ای","x1","y1","x2","y2(بهینه)","a","b",null,"کمترین",null,"بیشترین"]
["ضریب قرارگیری نقطه بالای جلو انحنا آستین  q20 ","(از 0 الی 1)",{"$f":"K565*E565+L565","v":0.4},"نقطه بالا روی سرشانه=0 \nنقطه بالا زیر بغل=1 ",{"$f":"'طراحی همه الگوها'!K249","v":20},"ضریب قرارگیری نقطه بالای جلو انحنا آستین   ",19,0.35,20,0.4,{"$f":"(J565-H565)/(I565-G565)","v":5.0000000000000044E-2},{"$f":"H565-G565*K565","v":-0.60000000000000087},0,{"$f":"(M565-L565)/K565","v":12.000000000000007},1,{"$f":"(O565-L565)/K565","v":31.999999999999993},1,{"$f":"(Q565-L565)/K565","v":31.999999999999993}]
["ضریب قرارگیری نقطه بالای پشت انحنا آستین  q'20 ","(از 0 الی 1)",0.30000000000000004,"نقطه بالا روی سرشانه=0 \nنقطه بالا زیر بغل=1 ",{"$f":"'طراحی همه الگوها'!K250","v":20},"ضریب قرارگیری نقطه بالای پشت انحنا آستین   ",19,0.25,20,0.3,4.9999999999999989E-2,-0.69999999999999973,0,13.999999999999998,1,34,1,34]
["ضریب قرارگیری نقطه پایین جلو انحنا آستین  q21 ","(از 0 الی 1)",0.7,"نقطه پایین وسط آستین=0 \nنقطه پایین روی خط پهلو=1 ",{"$f":"'طراحی همه الگوها'!K251","v":20},"ضریب قرارگیری نقطه پایین جلو انحنا آستین   ",19,0.65,20,0.7,4.9999999999999933E-2,-0.29999999999999871,0,5.9999999999999822,1,26.000000000000011,1,26.000000000000011]
["ضریب قرارگیری نقطه پایین پشت انحنا آستین  q'21 ","(از 0 الی 1)",0.7,"نقطه پایین وسط آستین=0 \nنقطه پایین روی خط پهلو=1 ",{"$f":"'طراحی همه الگوها'!K252","v":20},"ضریب قرارگیری نقطه پایین پشت انحنا آستین   ",19,0.65,20,0.7,4.9999999999999933E-2,-0.29999999999999871,0,5.9999999999999822,1,26.000000000000011,2,46.000000000000043]
["ضریب انحنا جلو  q22 ","(از -0.5 الی 0.5)",0.15000000000000013,"خط محدب =+ \nخط صاف =0 \nخط مقعر= - ",{"$f":"'طراحی همه الگوها'!K253","v":23},"ضریب انحنا جلو   ",21,0.05,20,0,0.05,-1,-0.5,10,0.5,30,0.15,22.999999999999996]
["ضریب انحنا پشت  q'22 ","(از -0.5 الی 0.5)",0.15000000000000013,"خط محدب =+ \nخط صاف =0 \nخط مقعر= - ",{"$f":"'طراحی همه الگوها'!K254","v":23},"ضریب انحنا پشت   ",21,0.05,20,0,0.05,-1,-0.5,10,0.5,30,0.15,22.999999999999996]
[]
["متغیرهای ورودی آستین کتی",null,null,null,null,"متغیرهای ورودی آستین کتی","x1","y1","x2","y2(بهینه)","a","b",null,"کمترین",null,"بیشترین"]
["میزان خمیدگی آستین کتی - زاویه به درجه  ζ2","(از 0 الی 7)",{"$f":"K573*E573+L573","v":5},"بهینه=3",{"$f":"'طراحی همه الگوها'!K198","v":5},"میزان خمیدگی آستین کتی - زاویه به درجه  ",1,1,0,0,{"$f":"(J573-H573)/(I573-G573)","v":1},{"$f":"H573-G573*K573","v":0},0,{"$f":"(M573-L573)/K573","v":0},7,{"$f":"(O573-L573)/K573","v":7},3,{"$f":"(Q573-L573)/K573","v":3}]
["ضریب طول مستطیل جادکمه کتی","(از 0.01 الی 0.5)",{"$f":"K574*E574+L574","v":0.4},"بهینه=0.4",{"$f":"'طراحی همه الگوها'!K199","v":20},"ضریب طول مستطیل جادکمه کتی",1,0.02,0,0,{"$f":"(J574-H574)/(I574-G574)","v":0.02},{"$f":"H574-G574*K574","v":0},0.01,{"$f":"(M574-L574)/K574","v":0.5},0.5,{"$f":"(O574-L574)/K574","v":25},0.4,{"$f":"(Q574-L574)/K574","v":20}]
["ضریب عرض مستطیل جادکمه کتی","(از 0 الی 0.5)",{"$f":"K575*E575+L575","v":0.3},"بهینه=0.3",{"$f":"'طراحی همه الگوها'!K200","v":15},"ضریب عرض مستطیل جادکمه کتی",1,0.02,0,0,{"$f":"(J575-H575)/(I575-G575)","v":0.02},{"$f":"H575-G575*K575","v":0},0,{"$f":"(M575-L575)/K575","v":0},0.5,{"$f":"(O575-L575)/K575","v":25},0.3,{"$f":"(Q575-L575)/K575","v":15}]
["شیفت افقی تکه جلو آستین کتی به سانتیمتر","(از -100 الی100)",{"$f":"K576*E576+L576","v":10},"بهینه=دلخواه",{"$f":"'طراحی همه الگوها'!K201","v":10},"شیفت افقی تکه جلو آستین کتی (سانتیمتر)",1,1,0,0,{"$f":"(J576-H576)/(I576-G576)","v":1},{"$f":"H576-G576*K576","v":0},null,1,null,100,0]
[]
[" متغیر ورودی آستین کلوش :",null,null,null,null," متغیر ورودی آستین کلوش :","x1","y1","x2","y2(بهینه)","a","b",null,"کمترین",null,"بیشترین"]
["بلندی آستین","(از 0 الی 1)",{"$f":"K579*E579+L579","v":0.18999999999999995},"بدون بلندی=0 \nآستین تا مچ=1 ",{"$f":"'طراحی همه الگوها'!K245","v":37},"بلندی پایین آستین کلوش",30,0.4,10,1,{"$f":"(J579-H579)/(I579-G579)","v":-0.03},{"$f":"H579-G579*K579","v":1.2999999999999998},0,{"$f":"(M579-L579)/K579","v":43.333333333333329},1,{"$f":"(O579-L579)/K579","v":9.9999999999999947},1,{"$f":"(Q579-L579)/K579","v":9.9999999999999947}]
["زاویه اوزمان آستین (برحسب درجه)","(از 0 الی 30)",{"$f":"K580*E580+L580","v":10},"بدون کلوش=0 \nبهینه=15 ",{"$f":"'طراحی همه الگوها'!K246","v":10}," اوزمان آستین کلوش ",1,1,0,0,{"$f":"(J580-H580)/(I580-G580)","v":1},{"$f":"H580-G580*K580","v":0},0,{"$f":"(M580-L580)/K580","v":0},30,{"$f":"(O580-L580)/K580","v":30},15,{"$f":"(Q580-L580)/K580","v":15}]
[]
[" متغیر ورودی آستین کلوش معکوس :",null,null,null,null," متغیر ورودی آستین کلوش معکوس :","x1","y1","x2","y2(بهینه)","a","b",null,"کمترین",null,"بیشترین"]
["بلندی آستین","(از 0 الی 1)",{"$f":"K583*E583+L583","v":0.39999999999999991},"بدون بلندی=0 \nآستین تا مچ=1 ",{"$f":"'طراحی همه الگوها'!K230","v":30},"بلندی پایین آستین کلوش معکوس",30,0.4,10,1,{"$f":"(J583-H583)/(I583-G583)","v":-0.03},{"$f":"H583-G583*K583","v":1.2999999999999998},0,{"$f":"(M583-L583)/K583","v":43.333333333333329},1,{"$f":"(O583-L583)/K583","v":9.9999999999999947},1,{"$f":"(Q583-L583)/K583","v":9.9999999999999947}]
["زاویه اوزمان آستین (برحسب درجه)","(از 0 الی 10)",{"$f":"K584*E584+L584","v":5},"بدون کلوش=0 \nبهینه=5 ",{"$f":"'طراحی همه الگوها'!K231","v":5}," اوزمان آستین کلوش معکوس ",1,1,0,0,{"$f":"(J584-H584)/(I584-G584)","v":1},{"$f":"H584-G584*K584","v":0},0,{"$f":"(M584-L584)/K584","v":0},10,{"$f":"(O584-L584)/K584","v":10},5,{"$f":"(Q584-L584)/K584","v":5}]
["متغیرهای ورودی شلوار",null,null,null,null,"متغیرهای ورودی شلوار"]
[]
[" متغیرهای ورودی کلی شلوار",null,null,null,null," متغیرهای ورودی کلی شلوار","x1","y1","x2","y2(بهینه)","a","b",null,"کمترین",null,"بیشترین"]
["ضریب گشاد یا تنگ شدن اندازه های عرضی در شلوار   t4 ","(از -0.2 الی 0.3)",{"$f":"K588*E588+L588","v":-0.05},"اندامی=0\nرکاب دار= - 0.15",{"$f":"'طراحی همه الگوها'!N177","v":-5},"ضریب گشاد یا تنگ شدن اندازه های عرضی در شلوار    ",1,0.01,0,0,{"$f":"(J588-H588)/(I588-G588)","v":0.01},{"$f":"H588-G588*K588","v":0},-0.2,{"$f":"(M588-L588)/K588","v":-20},0.3,{"$f":"(O588-L588)/K588","v":30},-0.15,{"$f":"(Q588-L588)/K588","v":-15}]
["ضریب گشاد یا تنگ شدن اندازه های طولی در شلوار   t41 ","(از -0.2 الی 0.2)",0,"اندامی=0\nرکاب دار= - 0.07",{"$f":"'طراحی همه الگوها'!B196","v":0},"ضریب گشاد یا تنگ شدن اندازه های طولی در شلوار    ",1,0.01,0,0,0.01,0,-0.2,-20,0.2,20,-7.0000000000000007E-2,-7.0000000000000009]
["ضریب کوتاهی لبه شلوار تا زمین  (قد شلوار)   t1","(از -0.1 الی 1.8)",1,"خط زمین=0 \nخط زانو=1 \nخط باسن = 2",{"$f":"'طراحی همه الگوها'!N179","v":30},"ضریب کوتاهی پایین شلوار  (قد شلوار)   ",10,0,30,1,0.05,-0.5,-0.1,8,1.8,45.999999999999993,1,30]
["ضریب گشادی پاچه شلوار t2","(از 0.8 الی 3)",1.8000000000000007,"بهینه=1.6",{"$f":"'طراحی همه الگوها'!N180","v":16},"ضریب گشادی پاچه شلوار ",1,1.05,0,1,5.0000000000000044E-2,1,0.8,-3.9999999999999956,3,39.999999999999964,1.6,11.999999999999991]
["ضریب گشادی دور زانو t3","(از 0.8 الی 2)",1.2000000000000002,"بهینه=1.2",{"$f":"'طراحی همه الگوها'!N181","v":4},"ضریب گشادی دور زانو ",1,1.05,0,1,5.0000000000000044E-2,1,0.8,-3.9999999999999956,2,19.999999999999982,1.2,3.9999999999999956]
["ضریب عرض زیپ  t14 ","(از 0 الی 0.5)",0.30000000000000004,"بهینه=0.3",{"$f":"'طراحی همه الگوها'!N182","v":6},"ضریب عرض زیپ   ",1,0.05,0,0,0.05,0,0,0,0.5,10,0.3,5.9999999999999991]
["شیفت افقی کل الگو جلو شلوار (به سانتیمتر)  x1","(از -100 الی100)",15,"بهینه=دلخواه",{"$f":"'طراحی همه الگوها'!N183","v":15},"شیفت افقی کل الگو جلو شلوار (سانتیمتر)  ",1,1,0,0,1,0,-100,-100,100,100]
["شیفت عمودی کل الگو جلو شلوار (به سانتیمتر)  y1","(از -100 الی100)",0,"بهینه=دلخواه",{"$f":"'طراحی همه الگوها'!N184","v":0},"شیفت عمودی کل الگو جلو شلوار (سانتیمتر)  ",1,1,0,0,1,0,-100,-100,100,100]
["شیفت افقی کل الگو پشت شلوار (به سانتیمتر)  xp1","(از -100 الی100)",10,"بهینه=دلخواه",{"$f":"'طراحی همه الگوها'!N185","v":10},"شیفت افقی کل الگو پشت شلوار (سانتیمتر)  ",1,1,0,0,1,0,-100,-100,100,100]
["شیفت عمودی کل الگو پشت شلوار (به سانتیمتر)  yp1","(از -100 الی100)",0,"بهینه=دلخواه",{"$f":"'طراحی همه الگوها'!N186","v":0},"شیفت عمودی کل الگو پشت شلوار (سانتیمتر)  ",1,1,0,0,1,0,-100,-100,100,100]
[]
[" متغیرهای ورودی - شلوار متصل به بالاتنه",null,null,null,null," متغیرهای ورودی - شلوار متصل به بالاتنه","x1","y1","x2","y2(بهینه)","a","b",null,"کمترین",null,"بیشترین"]
[" ضریب بلند شدن فاق در شلوار متصل به بالاتنه   t53 ","(از 0 الی 4)",{"$f":"K600*E600+L600","v":0},"بهینه شلوار متصل به بالاتنه=1\nغیر از آن= 0",{"$f":"'طراحی همه الگوها'!N205","v":10}," ضریب بلند شدن فاق در شلوار متصل به بالاتنه    ",11,0.1,10,0,{"$f":"(J600-H600)/(I600-G600)","v":0.1},{"$f":"H600-G600*K600","v":-1},0,{"$f":"(M600-L600)/K600","v":10},4,{"$f":"(O600-L600)/K600","v":50},1,{"$f":"(Q600-L600)/K600","v":20}]
["ضریب بزرگی پهنای جادکمه پهلو","(از 0 الی 0.1)",{"$f":"K601*E601+L601","v":0.04},"بهینه=0.04",{"$f":"'طراحی همه الگوها'!N206","v":4},"ضریب بزرگی پهنای جادکمه پهلو",1,0.01,0,0,{"$f":"(J601-H601)/(I601-G601)","v":0.01},{"$f":"H601-G601*K601","v":0},0,{"$f":"(M601-L601)/K601","v":0},0.1,{"$f":"(O601-L601)/K601","v":10},0.04,{"$f":"(Q601-L601)/K601","v":4}]
[]
[" متغیرهای ورودی کمر شلوار",null,null,null,null," متغیرهای ورودی کمر شلوار","x1","y1","x2","y2(بهینه)","a","b",null,"کمترین",null,"بیشترین"]
[" پایین آمدن کمر لباس نسبت به کمر اندام به سانتیمتر  t7","(از -2 الی 10)",{"$f":"K604*E604+L604","v":5},"پهنای کش=2الی3  ",{"$f":"'طراحی همه الگوها'!N196","v":-5}," پایین آمدن کمر شلوار نسبت به کمر اندام   ",1,-1,0,0,{"$f":"(J604-H604)/(I604-G604)","v":-1},{"$f":"H604-G604*K604","v":0},-2,{"$f":"(M604-L604)/K604","v":2},10,{"$f":"(O604-L604)/K604","v":-10},2,{"$f":"(Q604-L604)/K604","v":-2}]
[" پهنای کمر شلوار به سانتیمتر  t8","(از 0 الی 10)",3.5,"پهنای کش=2الی3  ",{"$f":"'طراحی همه الگوها'!N197","v":3.5}," پهنای کمر جدا در شلوار  (cm) ",1,1,0,0,1,0,0,0,10,10,2,{"$f":"(Q605-L605)/K605","v":2}]
["کوتاهی جلو کمر شلوار به سانتیمتر t9","(از -2 الی 10)",0,"بدون کوتاهی=0",{"$f":"'طراحی همه الگوها'!N198","v":0},"کوتاهی جلو کمر شلوار نسبت به پشت کمر شلوار (cm) ",1,-1,0,0,-1,0,-2,2,10,-10,0,{"$f":"(Q606-L606)/K606","v":0}]
["شیفت افقی  جلو کمر شلوار (به سانتیمتر)  t49","(از -100 الی100)",0,"بهینه=دلخواه",{"$f":"'طراحی همه الگوها'!N199","v":0},"شیفت افقی  جلو کمر شلوار (سانتیمتر)  ",1,1,0,0,1,0,-100,-100,100,100]
["شیفت عمودی  جلو کمر شلوار (به سانتیمتر)  t50","(از -100 الی100)",5,"بهینه=دلخواه",{"$f":"'طراحی همه الگوها'!N200","v":5},"شیفت عمودی  جلو کمر شلوار (سانتیمتر)  ",1,1,0,0,1,0,-100,-100,100,100]
["شیفت افقی  پشت کمر شلوار (به سانتیمتر)  t51","(از -100 الی100)",0,"بهینه=دلخواه",{"$f":"'طراحی همه الگوها'!N201","v":0},"شیفت افقی  پشت کمر شلوار (سانتیمتر)  ",1,1,0,0,1,0,-100,-100,100,100]
["شیفت عمودی  پشت کمر شلوار (به سانتیمتر)  t52","(از -100 الی100)",5,"بهینه=دلخواه",{"$f":"'طراحی همه الگوها'!N202","v":5},"شیفت عمودی  پشت کمر شلوار (سانتیمتر)  ",1,1,0,0,1,0,-100,-100,100,100]
[]
["اطلاعات شلوار و اندام",null,null,null,null,"اطلاعات شلوار و اندام"]
["گشادی لبه شلوار (محاسبه شده)",{"$f":"ROUND(محاسبات!W568-محاسبات!W567+محاسبات!AG568-محاسبات!AG567,1)","v":29.6},null,null,null,"گشادی لبه شلوار (سانتیمتر) (محاسبه شده)"]
["دور کمر (اندازه گیری شده)",{"$f":"'متغیرها '!U52","v":51},null,null,null,"دور کمر (سانتیمتر) (اندازه گیری شده)"]
["طول کش برای کل کمر شلوار (محاسبه شده)",{"$f":"ROUND(0.8*B614,1)","v":40.799999999999997},null,null,null,"طول کش برای کل کمر شلوار (سانتیمتر) (محاسبه شده)"]
["طول کش برای پشت کمر بین دو خط پهلو (محاسبه شده)",{"$f":"ROUND(0.8*'متغیرها '!U53,1)","v":20},null,null,null,"طول کش برای پشت کمر بین دو خط پهلو (سانتیمتر) (محاسبه شده)"]
["طول کش از ساسون جلو - پشت - تا ساسون دیگر جلو (محاسبه شده)",{"$f":"ROUND(0.8*('متغیرها '!U53+0.3*('متغیرها '!U52-'متغیرها '!U53)),1)","v":26.2},null,null,null,"طول کش از ساسون جلو - پشت - تا ساسون دیگر جلو (سانتیمتر) (محاسبه شده)"]
[]
[" متغیرهای ورودی جزئی شلوار",null,null,null,null," متغیرهای ورودی جزئی شلوار","x1","y1","x2","y2(بهینه)","a","b",null,"کمترین",null,"بیشترین"]
["ضریب گشادی دور ران یا نسبت گشادی پشت پاچه به جلو پاچه  t5","(از 1 الی 1.5)",{"$f":"K620*E620+L620","v":1.2},"بهینه=1.2",{"$f":"'طراحی همه الگوها'!N209","v":1.2},"ضریب گشادی دور ران یا نسبت گشادی پشت پاچه به جلو پاچه  ",2,2,1,1,{"$f":"(J620-H620)/(I620-G620)","v":1},{"$f":"H620-G620*K620","v":0},1,{"$f":"(M620-L620)/K620","v":1},1.5,{"$f":"(O620-L620)/K620","v":1.5},1.2,{"$f":"(Q620-L620)/K620","v":1.2}]
["زاویه خط پهلو جلو به درجه  t6","(از 0 الی 10)",-1,"بهینه=7\nبهينه پا پرانتزی=4\nکد برای اعمال روش مولر= -1",{"$f":"IF('طراحی همه الگوها'!N210=AN170,-1,'طراحی همه الگوها'!N210)","v":-1},"زاویه خط پهلو جلو به درجه  ",1,1,0,0,1,0,0,0,10,10,7,7]
["ضریب پهنای صافی لبه پایین شلوار  t10 ","(از 0 الی 0.5)",0,"بهینه=0.1",{"$f":"'طراحی همه الگوها'!N211","v":0},"ضریب پهنای صافی لبه پایین شلوار   ",1,0.05,0,0,0.05,0,0,0,0.5,10,0.1,2]
["ضریب بالا یا پایین رفتن خط زانو  t11 ","(از -0.4 الی 0.6)",0,"بدون تغییر=0\nمنفی به سمت بالای زانو\nمثبت به سمت پایین زانو",{"$f":"'طراحی همه الگوها'!N212","v":0},"ضریب بالا یا پایین رفتن خط زانو   ",-1,0.05,0,0,-0.05,0,-0.4,8,0.6,-11.999999999999998,0,0]
["ضریب پهنای فاق جلو (در روش مولر این ضریب ثابت مساوی 0.06 می باشد)  t12 ","(از 0.03 الی 0.08)",0.05,"بهینه=0.05",{"$f":"'طراحی همه الگوها'!N213","v":5},"ضریب پهنای فاق جلو (در روش مولر این ضریب ثابت مساوی 0.06 می باشد)   ",1,0.01,0,0,0.01,0,0.03,3,0.08,8,0.05,5]
["تغییر زاویه خط وسط پا در پشت شلوار  t13 ","(از 0 الی 5)",1,"بهینه=1",{"$f":"'طراحی همه الگوها'!N214","v":2},"تغییر زاویه خط وسط پا در پشت شلوار   ",1,0.5,0,0,0.5,0,0,0,5,10,1,2]
["ضریب کوتاه شدن ساسون پشت شلوار  t20 ","(از 0.07 الی 1.5)",1,"بهینه=1",{"$f":"'طراحی همه الگوها'!N215","v":20},"ضریب کوتاه شدن ساسون پشت شلوار   ",1,0.05,0,0,0.05,0,7.0000000000000007E-2,1.4000000000000001,1.5,30,1,20]
["ضریب کوتاه شدن ساسون جلو شلوار  t21 ","(از 0.1 الی 1.5)",1,"بهینه=1",{"$f":"'طراحی همه الگوها'!N216","v":20},"ضریب کوتاه شدن ساسون جلو شلوار   ",1,0.05,0,0,0.05,0,0.1,2,1.5,30,1,20]
["ضریب پهنای ساسون وسط پشت شلوار  t42 ","(از 0 الی 1.5)",1,"بهینه=1\nبهینه جین=0.5\nحذف ساسون وسط=0",{"$f":"'طراحی همه الگوها'!N217","v":10},"ضریب پهنای ساسون وسط پشت شلوار   ",1,0.1,0,0,0.1,0,0,0,1.5,15,0.5,5]
["ضریب پهنای ساسون پهلو پشت شلوار  t43 ","(از 0 الی 3)",0.5,"بهینه=1\nبهینه جین=1.5\nانتقال ساسون وسط به پهلو=3",{"$f":"'طراحی همه الگوها'!N218","v":5},"ضریب پهنای ساسون پهلو پشت شلوار   ",1,0.1,0,0,0.1,0,0,0,3,30,1,10]
["ضریب پهنای ساسون وسط جلو شلوار  t44 ","(از 0 الی 1.5)",1,"بهینه=1\nحذف ساسون وسط=0",{"$f":"'طراحی همه الگوها'!N219","v":10},"ضریب پهنای ساسون وسط جلو شلوار   ",1,0.1,0,0,0.1,0,0,0,1.5,15,1,10]
["ضریب پهنای ساسون پهلو جلو شلوار  t45 ","(از 0 الی 2)",0.5,"بهینه=1\nانتقال ساسون وسط به پهلو=2",{"$f":"'طراحی همه الگوها'!N220","v":5},"ضریب پهنای ساسون پهلو جلو شلوار   ",1,0.1,0,0,0.1,0,0,0,2,20,1,10]
["ضریب حذف ساسون پهلو در کمر جدا شلوار   t15","(از 0 الی 1)",0,"ساسون حذف شود=0\nساسون حذف نشود=1",{"$f":"'طراحی همه الگوها'!N221","v":0},"ضریب حذف ساسون پهلو در کمر جدا شلوار   ",1,0.1,0,0,{"$f":"(J632-H632)/(I632-G632)","v":0.1},{"$f":"H632-G632*K632","v":0},0,0,1,10,1,10]
[" شبیه ساز   فاق اندازه گیری منهای فاق پشت و جلو",{"$f":"ROUND(محاسبات!L597,1)","v":0.5}]
[" زاویه خط پهلو جلوبه درجه",{"$f":"ROUND(محاسبات!K598,1)","v":4.3}]
[" شبیه ساز   زاویه خط پهلو جلوبه درجه",{"$f":"ROUND(محاسبات!L598,1)","v":8.9}]
["زاویه خط پهلو پشت به درجه",{"$f":"ROUND(محاسبات!K599,1)","v":10.3}]
[" شبیه ساز   زاویه خط پهلو پشت به درجه",{"$f":"ROUND(محاسبات!L599,1)","v":14.9}]
[]
[" متغیرهای ورودی شلوار - برش پشت جین",null,null,null,null," متغیرهای ورودی شلوار - برش پشت جین","x1","y1","x2","y2(بهینه)","a","b",null,"کمترین",null,"بیشترین"]
["ضریب بالا یا پایین شدن خط برش در قسمت پهلو پشت شلوار جین  t19 ","(از 0.01 الی 1",{"$f":"K640*E640+L640","v":0.5},"بهینه=0.5",{"$f":"'طراحی همه الگوها'!N224","v":20},"ضریب بالا یا پایین شدن خط برش در قسمت پهلو پشت شلوار جین   ",19,0.45,20,0.5,{"$f":"(J640-H640)/(I640-G640)","v":4.9999999999999989E-2},{"$f":"H640-G640*K640","v":-0.49999999999999972},0.01,{"$f":"(M640-L640)/K640","v":10.199999999999996},1,{"$f":"(O640-L640)/K640","v":30.000000000000004},0.5,{"$f":"(Q640-L640)/K640","v":20}]
["ضریب بالا یا پایین شدن خط برش در قسمت مرکزی پشت شلوار جین  t28 ","(از 0.01 الی 1",{"$f":"K641*E641+L641","v":0.6},"بهینه=0.6",{"$f":"'طراحی همه الگوها'!N225","v":20},"ضریب بالا یا پایین شدن خط برش در قسمت مرکزی پشت شلوار جین   ",19,0.55000000000000004,20,0.6,{"$f":"(J641-H641)/(I641-G641)","v":4.9999999999999933E-2},{"$f":"H641-G641*K641","v":-0.39999999999999869},0.01,{"$f":"(M641-L641)/K641","v":8.1999999999999851},1,{"$f":"(O641-L641)/K641","v":28.000000000000011},0.6,{"$f":"(Q641-L641)/K641","v":20}]
[]
[" متغیرهای ورودی دامن شلواری",null,null,null,null," متغیرهای ورودی دامن شلواری","x1","y1","x2","y2(بهینه)","a","b",null,"کمترین",null,"بیشترین"]
[" ضریب بلند شدن فاق در دامن شلواری   t46 ","(از 0 الی 2)",{"$f":"K644*E644+L644","v":0},"بهینه دامن شلواری=1\nغیر از دامن شلواری = 0",{"$f":"'طراحی همه الگوها'!N228","v":10}," ضریب بلند شدن فاق در دامن شلواری    ",11,0.1,10,0,{"$f":"(J644-H644)/(I644-G644)","v":0.1},{"$f":"H644-G644*K644","v":-1},0,{"$f":"(M644-L644)/K644","v":10},2,{"$f":"(O644-L644)/K644","v":30},1,{"$f":"(Q644-L644)/K644","v":20}]
["زاویه اوزمان در جلو دامن شلواری به درجه    t47 ","(از 0 الی 30)",{"$f":"K645*E645+L645","v":8},"بهینه=8",{"$f":"'طراحی همه الگوها'!N229","v":8},"زاویه اوزمان در جلو دامن شلواری به درجه     ",1,1,0,0,{"$f":"(J645-H645)/(I645-G645)","v":1},{"$f":"H645-G645*K645","v":0},0,{"$f":"(M645-L645)/K645","v":0},30,{"$f":"(O645-L645)/K645","v":30},8,{"$f":"(Q645-L645)/K645","v":8}]
["زاویه اوزمان در پشت دامن شلواری به درجه    t48 ","(از 0 الی 30)",{"$f":"K646*E646+L646","v":8},"بهینه=8",{"$f":"'طراحی همه الگوها'!N230","v":8},"زاویه اوزمان در پشت دامن شلواری به درجه     ",1,1,0,0,{"$f":"(J646-H646)/(I646-G646)","v":1},{"$f":"H646-G646*K646","v":0},0,{"$f":"(M646-L646)/K646","v":0},30,{"$f":"(O646-L646)/K646","v":30},8,{"$f":"(Q646-L646)/K646","v":8}]
[]
[" متغیرهای ورودی شلوار با تکه پهلو جدا",null,null,null,null," متغیرهای ورودی شلوار با تکه پهلو جدا","x1","y1","x2","y2(بهینه)","a","b",null,"کمترین",null,"بیشترین"]
["ضریب پهنای تکه پهلو جلو شلوار  t29 ","(از 0 الی 0.9)",{"$f":"K649*E649+L649","v":0.60000000000000009},"بهینه=0.6",{"$f":"'طراحی همه الگوها'!N233","v":12},"ضریب پهنای تکه پهلو جلو شلوار   ",1,0.05,0,0,{"$f":"(J649-H649)/(I649-G649)","v":0.05},{"$f":"H649-G649*K649","v":0},0,{"$f":"(M649-L649)/K649","v":0},0.9,{"$f":"(O649-L649)/K649","v":18},0.6,{"$f":"(Q649-L649)/K649","v":11.999999999999998}]
["ضریب پهنای تکه پهلو پشت شلوار  t30 ","(از 0 الی 0.9)",0.30000000000000004,"بهینه=0.3",{"$f":"'طراحی همه الگوها'!N234","v":6},"ضریب پهنای تکه پهلو پشت شلوار   ",1,0.05,0,0,0.05,0,0,0,0.9,18,0.3,{"$f":"(Q650-L650)/K650","v":5.9999999999999991}]
["ضریب باریک شدن پایین تکه پهلو جلو شلوار  t31 ","(از 0 الی 4)",0.5,"بهینه=0.5",{"$f":"'طراحی همه الگوها'!N235","v":5},"ضریب باریک شدن پایین تکه پهلو جلو شلوار   ",1,0.1,0,0,0.1,0,0,0,4,40,0.5,{"$f":"(Q651-L651)/K651","v":5}]
["ضریب باریک شدن پایین تکه پهلو پشت شلوار  t32 ","(از 0 الی 4)",0.5,"بهینه=0.5",{"$f":"'طراحی همه الگوها'!N236","v":5},"ضریب باریک شدن پایین تکه پهلو پشت شلوار   ",1,0.1,0,0,0.1,0,0,0,4,40,0.5,{"$f":"(Q652-L652)/K652","v":5}]
["شیفت افقی تکه پهلو شلوار (به سانتیمتر)  t33","(از -100 الی100)",7,"بهینه=3",{"$f":"'طراحی همه الگوها'!N237","v":7},"شیفت افقی تکه پهلو شلوار (سانتیمتر)  ",1,1,0,0,1,0,-100,-100,100,100]
["شیفت عمودی تکه پهلو شلوار (به سانتیمتر)  t34","(از -100 الی100)",0,"بهینه=3",{"$f":"'طراحی همه الگوها'!N238","v":0},"شیفت عمودی تکه پهلو شلوار (سانتیمتر)  ",1,1,0,0,1,0,-100,-100,100,100]
[]
[" متغیرهای ورودی شلوار - رکاب دار",null,null,null,null," متغیرهای ورودی شلوار - رکاب دار","x1","y1","x2","y2(بهینه)","a","b",null,"کمترین",null,"بیشترین"]
["ضریب پهنای رکاب جلو شلوار  t35 ","(از 0.1 الی 2)",{"$f":"K657*E657+L657","v":1},"بهینه=1",{"$f":"'طراحی همه الگوها'!N241","v":20},"ضریب پهنای رکاب جلو شلوار   ",1,0.05,0,0,{"$f":"(J657-H657)/(I657-G657)","v":0.05},{"$f":"H657-G657*K657","v":0},0.1,{"$f":"(M657-L657)/K657","v":2},2,{"$f":"(O657-L657)/K657","v":40},1,{"$f":"(Q657-L657)/K657","v":20}]
["ضریب پهنای رکاب پشت شلوار  t36 ","(از 0.1 الی 2)",1,"بهینه=1",{"$f":"'طراحی همه الگوها'!N242","v":20},"ضریب پهنای رکاب پشت شلوار   ",1,0.05,0,0,0.05,0,0.1,2,2,40,1,20]
["ضریب قله رکاب جلو شلوار  t37 ","(از 0 الی 2)",0,"بهینه=1\nبدون رکاب = 0",{"$f":"'طراحی همه الگوها'!N243","v":0},"ضریب قله رکاب جلو شلوار   ",1,0.05,0,0,0.05,0,0,0,2,40,1,20]
["ضریب قله رکاب پشت شلوار  t38 ","(از 0 الی 2)",0,"بهینه=1\nبدون رکاب = 0",{"$f":"'طراحی همه الگوها'!N244","v":0},"ضریب قله رکاب پشت شلوار   ",1,0.05,0,0,0.05,0,0,0,2,40,1,20]
["ضریب ارتفاع رکاب جلو شلوار  t39 ","(از 0 الی 2)",0,"بهینه=1\nبدون رکاب = 0",{"$f":"'طراحی همه الگوها'!N245","v":0},"ضریب ارتفاع رکاب جلو شلوار   ",1,0.05,0,0,0.05,0,0,0,2,40,1,20]
["ضریب ارتفاع رکاب پشت شلوار  t40 ","(از 0 الی 2)",0,"بهینه=1\nبدون رکاب = 0",{"$f":"'طراحی همه الگوها'!N246","v":0},"ضریب ارتفاع رکاب پشت شلوار   ",1,0.05,0,0,0.05,0,0,0,2,40,1,20]
[]
[" متغیرهای ورودی شلوار - جیب پشت جین",null,null,null,null," متغیرهای ورودی شلوار - جیب پشت جین","x1","y1","x2","y2(بهینه)","a","b",null,"کمترین",null,"بیشترین"]
["ضریب بالا یا پایین شدن جیب پشت شلوار  t22 ","(از 0 الی 4)",{"$f":"K665*E665+L665","v":0.75},"بهینه=0.75",{"$f":"'طراحی همه الگوها'!N255","v":20},"ضریب بالا یا پایین شدن جیب پشت شلوار   ",19,0.7,20,0.75,{"$f":"(J665-H665)/(I665-G665)","v":5.0000000000000044E-2},{"$f":"H665-G665*K665","v":-0.25000000000000089},0,{"$f":"(M665-L665)/K665","v":5.0000000000000133},4,{"$f":"(O665-L665)/K665","v":84.999999999999943},0.75,{"$f":"(Q665-L665)/K665","v":20}]
["زاویه چرخش کل جیب پشت شلوار به درجه t'22 ","(از -90 الی 90)",0,"بهینه=0",{"$f":"'طراحی همه الگوها'!N253","v":45},"زاویه چرخش کل جیب پشت شلوار به درجه  ",46,2,45,0,2,-90,-90,0,90,90,0,45]
["ضریب پهنای جیب پشت شلوار  t23 ","(از 0 الی 1)",0.55000000000000004,"بهینه=0.55",{"$f":"'طراحی همه الگوها'!N249","v":11},"ضریب پهنای جیب پشت شلوار   ",1,0.05,0,0,0.05,0,0,0,1,20,0.55000000000000004,11]
["ضریب ارتفاع جیب پشت شلوار  t24 ","(از 0 الی 1)",0.45,"بهینه=0.45",{"$f":"'طراحی همه الگوها'!N250","v":9},"ضریب ارتفاع جیب پشت شلوار   ",1,0.05,0,0,0.05,0,0,0,1,20,0.45,9]
["زاویه خط پهلو جیب پشت شلوار به درجه t25 ","(از 0 الی 45",5,"بهینه=5",{"$f":"'طراحی همه الگوها'!N251","v":5},"زاویه خط پهلو جیب پشت شلوار به درجه  ",1,1,0,0,1,0,0,0,45,45,5,5]
["زاویه مثلث پایین جیب پشت شلوار به درجه t26 ","(از 0 الی 45)",20,"بهینه=20",{"$f":"'طراحی همه الگوها'!N252","v":20},"زاویه مثلث پایین جیب پشت شلوار به درجه  ",1,1,0,0,1,0,0,0,45,45,20,20]
["چپ و راست رفتن جیب پشت شلوار به سانتی متر   t27 ","(از -100 الی100)",0,"بهینه=0",{"$f":"'طراحی همه الگوها'!N254","v":0},"چپ و راست رفتن جیب پشت شلوار به سانتی متر    ",1,1,0,0,1,0,-100,-100,100,100]
[]
[" متغیرهای ورودی شلوار - جیب جلو مردانه و جین",null,null,null,null," متغیرهای ورودی شلوار - جیب جلو مردانه و جین","x1","y1","x2","y2(بهینه)","a","b",null,"کمترین",null,"بیشترین"]
["ضریب بزرگی عمودی جیب جلو مردانه و جیب جین  t16 ","(از 0.5 الی 1.5)",{"$f":"K674*E674+L674","v":1},"بهینه=1",{"$f":"'طراحی همه الگوها'!N258","v":10},"ضریب بزرگی عمودی جیب جلو مردانه و جیب جین   ",1,0.1,0,0,{"$f":"(J674-H674)/(I674-G674)","v":0.1},{"$f":"H674-G674*K674","v":0},0.5,{"$f":"(M674-L674)/K674","v":5},1.5,{"$f":"(O674-L674)/K674","v":15},1,{"$f":"(Q674-L674)/K674","v":10}]
["ضریب بزرگی افقی جیب جلو مردانه و جیب جین  t17 ","(از 0.5 الی 1.5)",{"$f":"K675*E675+L675","v":1},"بهینه=1",{"$f":"'طراحی همه الگوها'!N259","v":10},"ضریب بزرگی افقی جیب جلو مردانه و جیب جین   ",1,0.1,0,0,{"$f":"(J675-H675)/(I675-G675)","v":0.1},{"$f":"H675-G675*K675","v":0},0.5,{"$f":"(M675-L675)/K675","v":5},1.5,{"$f":"(O675-L675)/K675","v":15},1,{"$f":"(Q675-L675)/K675","v":10}]
["ضریب بزرگی کیسه جیب جلو  t18 ","(از 0.5 الی 1.5)",{"$f":"K676*E676+L676","v":1},"بهینه=1",{"$f":"'طراحی همه الگوها'!N260","v":10},"ضریب بزرگی کیسه جیب جلو   ",1,0.1,0,0,{"$f":"(J676-H676)/(I676-G676)","v":0.1},{"$f":"H676-G676*K676","v":0},0.5,{"$f":"(M676-L676)/K676","v":5},1.5,{"$f":"(O676-L676)/K676","v":15},1,{"$f":"(Q676-L676)/K676","v":10}]
[]
[" متغیرهای ورودی شلوار - جیب جلو درمکان دلخواه",null,null,null,null," متغیرهای ورودی شلوار - جیب جلو درمکان دلخواه","x1","y1","x2","y2(بهینه)","a","b",null,"کمترین",null,"بیشترین"]
["ضریب فاصله افقی وسط جیب از خط مرکزی جلو ","(از 0 الی 1)",{"$f":"K679*E679+L679","v":0.5},"خط مرکزی جلو=0 \nخط پهلو=1  ",{"$f":"'طراحی همه الگوها'!N268","v":10},"ضریب فاصله افقی وسط جیب از خط مرکزی جلو ",20,1,0,0,{"$f":"(J679-H679)/(I679-G679)","v":0.05},{"$f":"H679-G679*K679","v":0},0,{"$f":"(M679-L679)/K679","v":0},1,{"$f":"(O679-L679)/K679","v":20},1,{"$f":"(Q679-L679)/K679","v":20}]
["ضریب فاصله عمودی بالای جیب از زمین ","(از0 الی 5)",2,"خط زمین=0 \nخط زانو=1 \nخط باسن=2 \nخط کمر=3 \nخط سینه=4  ",{"$f":"'طراحی همه الگوها'!N269","v":50},"ضریب فاصله عمودی بالای جیب از زمین ",10,0,30,1,0.05,-0.5,0,10,5,110,1,30]
["عرض پاکت جیب به سانتیمتر","(از 0 الی 4)",2,"بهینه=2",{"$f":"'طراحی همه الگوها'!N263","v":2},"پهنای بلیطی جیب  (سانتیمتر)",1,1,0,0,1,0,0,0,4,4,2,2]
["ضریب طول پاکت جیب","(از 0.01 الی 2)",0.89999999999999991,"بهینه=1",{"$f":"'طراحی همه الگوها'!N264","v":18},"ضریب طول پاکت جیب",19,0.95,20,1,5.0000000000000044E-2,-8.8817841970012523E-16,0.01,0.20000000000001758,2,39.999999999999986,1,20]
["زاویه جیب با عمود به درجه","(از 0 الی 180)",90,"بهینه=دلخواه",{"$f":"'طراحی همه الگوها'!N265","v":18},"زاویه جیب با عمود ",1,5,0,0,5,0,0,0,180,36,20,4]
["زاویه چرخش پاکت جیب از مستطیل به متوازی الاضلاع (به درجه)","(از -90 الی 90)",0,"پاکت مستطیل=0  ",{"$f":"'طراحی همه الگوها'!N266","v":20},"زاویه چرخش پاکت جیب از مستطیل به متوازی الاضلاع ",21,5,20,0,5,-100,-90,2,90,38,0,20]
["انتخاب جیب روکار=1        انتخاب دیگر=0","0 یا 1 ",1,null,{"$f":"'طراحی همه الگوها'!N267","v":2},"انتخاب جیب روکار=2        انتخاب دیگر=1",1,0,2,1,1,-1,0,1,1,2,0,1]
[]
[" متغیرهای ورودی شلوار - جیب پشت درمکان دلخواه",null,null,null,null," متغیرهای ورودی شلوار - جیب پشت درمکان دلخواه","x1","y1","x2","y2(بهینه)","a","b",null,"کمترین",null,"بیشترین"]
["ضریب فاصله افقی وسط جیب از خط مرکزی جلو ","(از 0 الی 1)",{"$f":"K688*E688+L688","v":0.5},"خط مرکزی پشت=0 \nخط پهلو=1  ",{"$f":"'طراحی همه الگوها'!N277","v":10},"ضریب فاصله افقی وسط جیب از خط مرکزی جلو ",20,1,0,0,{"$f":"(J688-H688)/(I688-G688)","v":0.05},{"$f":"H688-G688*K688","v":0},0,{"$f":"(M688-L688)/K688","v":0},1,{"$f":"(O688-L688)/K688","v":20},1,{"$f":"(Q688-L688)/K688","v":20}]
["ضریب فاصله عمودی بالای جیب از زمین ","(از0 الی 5)",2,"خط زمین=0 \nخط زانو=1 \nخط باسن=2 \nخط کمر=3 \nخط سینه=4  ",{"$f":"'طراحی همه الگوها'!N278","v":50},"ضریب فاصله عمودی بالای جیب از زمین ",10,0,30,1,0.05,-0.5,0,10,5,110,1,30]
["عرض پاکت جیب به سانتیمتر","(از 0 الی 4)",2,"بهینه=2",{"$f":"'طراحی همه الگوها'!N272","v":2},"پهنای بلیطی جیب  (سانتیمتر)",1,1,0,0,1,0,0,0,4,4,2,2]
["ضریب طول پاکت جیب","(از 0.01 الی 2)",1,"بهینه=1",{"$f":"'طراحی همه الگوها'!N273","v":20},"ضریب طول پاکت جیب",19,0.95,20,1,5.0000000000000044E-2,-8.8817841970012523E-16,0.01,0.20000000000001758,2,39.999999999999986,1,20]
["زاویه جیب با عمود به درجه","(از 0 الی 180)",90,"بهینه=دلخواه",{"$f":"'طراحی همه الگوها'!N274","v":18},"زاویه جیب با عمود ",1,5,0,0,5,0,0,0,180,36,20,4]
["زاویه چرخش پاکت جیب از مستطیل به متوازی الاضلاع (به درجه)","(از -90 الی 90)",0,"پاکت مستطیل=0  ",{"$f":"'طراحی همه الگوها'!N275","v":20},"زاویه چرخش پاکت جیب از مستطیل به متوازی الاضلاع ",21,5,20,0,5,-100,-90,2,90,38,0,20]
["انتخاب جیب روکار=1        انتخاب دیگر=0","0 یا 1 ",1,null,{"$f":"'طراحی همه الگوها'!N276","v":2},"انتخاب جیب روکار=2        انتخاب دیگر=1",1,0,2,1,1,-1,0,1,1,2,0,1]
["متغیرهای ورودی یقه",null,null,null,null,"متغیرهای ورودی یقه"]
[null,null,"y",null,"x",null,"x1","y1","x2","y2(بهینه)","a","b",null,"کمترین",null,"بیشترین"]
[" متغیرهای ورودی یقه شکاری با پایه",null,null,null,null," متغیرهای ورودی یقه شکاری با پایه"]
["ضریب قد پایه یقه   c20","(از 0.5 الی 2)",{"$f":"K698*E698+L698","v":0.8},"بهینه =0.8",{"$f":"'طراحی همه الگوها'!H206","v":8},"ضریب قد پایه یقه   ",1,0.1,0,0,{"$f":"(J698-H698)/(I698-G698)","v":0.1},{"$f":"H698-G698*K698","v":0},0.5,{"$f":"(M698-L698)/K698","v":5},2,{"$f":"(O698-L698)/K698","v":20},0.8,{"$f":"(Q698-L698)/K698","v":8}]
["ضریب قد پشت برگردان یقه   c1","(از 0.5 الی 3)",2,"بهینه =2",{"$f":"'طراحی همه الگوها'!H207","v":20},"ضریب قد پشت برگردان یقه   ",1,0.1,0,0,0.1,0,0.5,5,3,30,2,20]
["ضریب کج شدن یقه به سمت گردن   c2","(از- 2 الی 0)",-1.3,"بهینه = - 1.3",{"$f":"'طراحی همه الگوها'!H208","v":-13},"ضریب کج شدن یقه به سمت گردن   ",1,0.1,0,0,0.1,0,-2,-20,0,0,-1.3,-13]
["ضریب قرار گرفتن لبه یقه نسبت به لباس   c3","(از 0.3 الی 1)\n- 1 و ",1,"لبه یقه روی خط جادکمه= - 1\nلبه یقه روی خط سرشانه=0\nلبه یقه روی خط مرکزی جلو=1\nبین خط مرکزی جلو تا سرشانه= \nبین 0 تا 1",{"$f":"IF('طراحی همه الگوها'!H209='متغیرها '!AM170,58,IF('طراحی همه الگوها'!H209='متغیرها '!AM171,0,'طراحی همه الگوها'!H209))","v":0},"ضریب قرار گرفتن لبه یقه نسبت به لباس   ",58,-1,0,1,-3.4482758620689655E-2,1,0.3,20.3,1,0,0.3,20.3]
["زاویه لبه برگردان یقه نسبت به عمود  (به درجه)   c14","(از- 40 الی 60)",17,"بهینه =17 \nلبه برگردان عمود به پایه=0",{"$f":"'طراحی همه الگوها'!H210","v":57},"زاویه لبه برگردان یقه نسبت به عمود    ",1,-39,57,17,1,-40,-40,0,60,100,17,57]
["ضریب قد لبه برگردان یقه   c15","(از0.5 الی 4)",2.3000000000000003,"بهینه =2.3",{"$f":"'طراحی همه الگوها'!H211","v":23},"ضریب قد لبه برگردان یقه   ",1,0.1,0,0,0.1,0,0.5,5,4,40,2.2999999999999998,22.999999999999996]
["شیفت افقی پایه یقه  (به سانتیمتر)   c23","(از -100 الی100)",0,"بهینه=دلخواه",{"$f":"'طراحی همه الگوها'!H212","v":0},"شیفت افقی پایه یقه  (سانتیمتر)   ",1,1,0,0,1,0,null,1,null,100,0]
["شیفت عمودی پایه یقه  (به سانتیمتر)  c24","(از -100 الی100)",-5,"بهینه=دلخواه",{"$f":"'طراحی همه الگوها'!H213","v":-5},"شیفت عمودی پایه یقه  (سانتیمتر)  ",1,1,0,0,1,0,null,1,null,100,0]
[]
[" متغیرهای ورودی یقه فرنچی ایستاده و کاسبرگی",null,null,null,null," متغیرهای ورودی یقه فرنچی ایستاده و کاسبرگی","x1","y1","x2","y2(بهینه)","a","b",null,"کمترین",null,"بیشترین"]
["ضریب قد یقه    c1","(از 0.5 الی 2)",{"$f":"K708*E708+L708","v":1.2000000000000002},"بهینه فرنچی=1.2\nبهینه ایستاده=1.4\nبهینه کاسبرگی=1.8",{"$f":"'طراحی همه الگوها'!H188","v":12},"ضریب قد یقه    ",1,0.1,0,0,{"$f":"(J708-H708)/(I708-G708)","v":0.1},{"$f":"H708-G708*K708","v":0},0.5,{"$f":"(M708-L708)/K708","v":5},2,{"$f":"(O708-L708)/K708","v":20},1.4,{"$f":"(Q708-L708)/K708","v":13.999999999999998}]
["ضریب کج شدن یقه به سمت گردن   c2","(از -2 الی 2)",{"$f":"K709*E709+L709","v":1.5},"بهینه فرنچی=1.5\nبهینه ایستاده=0\nبهینه کاسبرگی= - 1\nیقه فرنچی= + \nیقه کاسبرگی= -   ",{"$f":"'طراحی همه الگوها'!H189","v":15},"ضریب کج شدن یقه به سمت گردن  ",1,0.1,0,0,{"$f":"(J709-H709)/(I709-G709)","v":0.1},{"$f":"H709-G709*K709","v":0},-2,{"$f":"(M709-L709)/K709","v":-20},2,{"$f":"(O709-L709)/K709","v":20},-1,{"$f":"(Q709-L709)/K709","v":-10}]
["ضریب قرار گرفتن لبه یقه نسبت به لباس   c3     یقه هفت","(از 0.2 الی 1)\n- 1 و ",{"$f":"K710*E710+L710","v":1},"لبه یقه روی خط جادکمه= - 1\nلبه یقه روی خط سرشانه=0\nلبه یقه روی خط مرکزی جلو=1\nبین خط مرکزی جلو تا سرشانه= \nبین 0 تا 1\nبهینه یقه هفت=0.2",{"$f":"IF('طراحی همه الگوها'!H190='متغیرها '!AM170,58,IF('طراحی همه الگوها'!H190='متغیرها '!AM171,0,'طراحی همه الگوها'!H190))","v":0},"ضریب قرار گرفتن لبه یقه نسبت به لباس        ",58,-1,0,1,{"$f":"(J710-H710)/(I710-G710)","v":-3.4482758620689655E-2},{"$f":"H710-G710*K710","v":1},0.2,{"$f":"(M710-L710)/K710","v":23.200000000000003},1,{"$f":"(O710-L710)/K710","v":0},-1,{"$f":"(Q710-L710)/K710","v":58}]
["ضریب انحنا لبه یقه  c4","(از 0.2 الی 1.2)",{"$f":"K711*E711+L711","v":0.89999999999999991},"بهینه انحنا=0.9",{"$f":"'طراحی همه الگوها'!H191","v":20},"ضریب انحنا لبه یقه  ",5,0.2,20,0.9,{"$f":"(J711-H711)/(I711-G711)","v":4.6666666666666662E-2},{"$f":"H711-G711*K711","v":-3.3333333333333298E-2},0.2,{"$f":"(M711-L711)/K711","v":5},1.2,{"$f":"(O711-L711)/K711","v":26.428571428571427},0.01,{"$f":"(Q711-L711)/K711","v":0.92857142857142794}]
[]
[" متغیرهای ورودی شیفت افقی یقه",null,null,null,null," متغیرهای ورودی شیفت افقی یقه"]
["شیفت افقی همه یقه های جدا  (به سانتیمتر)   c5","(از -100 الی100)",{"$f":"K714*E714+L714","v":0},"بهینه=دلخواه",{"$f":"'طراحی همه الگوها'!H177","v":0},"شیفت افقی همه یقه های جدا  (سانتیمتر)   ",1,1,0,0,{"$f":"(J714-H714)/(I714-G714)","v":1},{"$f":"H714-G714*K714","v":0},null,1,null,100,0]
["شیفت عمودی همه یقه های جدا  (به سانتیمتر)  c6","(از -100 الی100)",{"$f":"K715*E715+L715","v":30},"بهینه=دلخواه",{"$f":"'طراحی همه الگوها'!H178","v":30},"شیفت عمودی همه یقه های جدا  (سانتیمتر)  ",1,1,0,0,{"$f":"(J715-H715)/(I715-G715)","v":1},{"$f":"H715-G715*K715","v":0},null,1,null,100,0]
[]
[" متغیرهای ورودی کلاه کلی",null,null,null,null," متغیرهای ورودی کلاه کلی","x1","y1","x2","y2(بهینه)","a","b",null,"کمترین",null,"بیشترین"]
["ضریب بزرگ یا کوچک شدن کلاه","(از -0.2 الی 0.2)",{"$f":"K718*E718+L718","v":0},"بدون تغییر = 0\nکلاه بزرگتر = + \nکلاه کوچکتر =  -  ",{"$f":"'طراحی همه الگوها'!H225","v":0},"ضریب بزرگ یا کوچک شدن کلاه",1,0.01,0,0,{"$f":"(J718-H718)/(I718-G718)","v":0.01},{"$f":"H718-G718*K718","v":0},-0.2,{"$f":"(M718-L718)/K718","v":-20},0.2,{"$f":"(O718-L718)/K718","v":20},0,{"$f":"(Q718-L718)/K718","v":0}]
["انتخاب کلاه برای موهای دم اسبی که از پشت بسته شود =1      انتخاب دیگر=0","0 یا 1 ",0,null,{"$f":"'طراحی همه الگوها'!H226","v":1},"انتخاب کلاه ملوانی برای موهای دم اسبی که از پشت بسته شود ",1,0,2,1,1,-1,0,1,1,2,1,2]
["ضریب پهنای بلیطی جلو کلاه","(از 0  الی 0.8)",0,"بهینه=0.4",{"$f":"'طراحی همه الگوها'!H227","v":0},"ضریب پهنای بلیطی جلو کلاه",1,0.05,0,0,0.05,0,0,0,0.8,16,0.4,8]
["ضریب بلندی بلیطی جلو کلاه","(از 0 الی 1.6)",0,"بهینه=0.7",{"$f":"'طراحی همه الگوها'!H228","v":0},"ضریب بلندی بلیطی جلو کلاه",1,0.05,0,0,0.05,0,0,0,1.6,32,0.7,13.999999999999998]
["ضریب بلندی انحنا جلو کلاه","(از 0  الی 1)",0.2,"بهینه=0.2",{"$f":"'طراحی همه الگوها'!H229","v":4},"ضریب بلندی انحنا جلو کلاه",1,0.05,0,0,0.05,0,0,0,1,20,0.2,4]
["ضریب پهنای انحنا روی صورت","(از 0  الی 1)",0.4,"بهینه=0.4",{"$f":"'طراحی همه الگوها'!H230","v":8},"ضریب پهنای انحنا روی صورت",1,0.05,0,0,0.05,0,0,0,1,20,0.4,8]
["ضریب پهنای انحنا بالای پیشانی","(از 0 الی 1)",0.30000000000000004,"بهینه=0.3",{"$f":"'طراحی همه الگوها'!H231","v":6},"ضریب پهنای انحنا بالای پیشانی",1,0.05,0,0,{"$f":"(J724-H724)/(I724-G724)","v":0.05},{"$f":"H724-G724*K724","v":0},0,0,1,20,0.3,5.9999999999999991]
[]
[" متغیرهای ورودی شیفت افقی کلاه",null,null,null,null," متغیرهای ورودی شیفت افقی کلاه","x1","y1","x2","y2(بهینه)","a","b",null,"کمترین",null,"بیشترین"]
["شیفت افقی کلاه  (به سانتیمتر)","(از -100 الی100)",{"$f":"K727*E727+L727","v":-30},"بهینه=دلخواه",{"$f":"'طراحی همه الگوها'!H220","v":-30},"شیفت افقی کلاه  (سانتیمتر)",1,1,0,0,{"$f":"(J727-H727)/(I727-G727)","v":1},{"$f":"H727-G727*K727","v":0},null,1,null,100,0]
["شیفت عمودی کلاه (به سانتیمتر)","(از -100 الی100)",{"$f":"K728*E728+L728","v":20},"بهینه=دلخواه",{"$f":"'طراحی همه الگوها'!H221","v":20},"شیفت عمودی کلاه (سانتیمتر)",1,1,0,0,{"$f":"(J728-H728)/(I728-G728)","v":1},{"$f":"H728-G728*K728","v":0},null,1,null,100,0]
["جابجایی افقی تکه پشت سر در کلاه سه تکه  (سانتیمتر)","(از -20 الی20)",{"$f":"K729*E729+L729","v":3},"بهینه=دلخواه",{"$f":"'طراحی همه الگوها'!H222","v":3},"جابجایی افقی تکه پشت سر در کلاه سه تکه  (سانتیمتر)",1,1,0,0,{"$f":"(J729-H729)/(I729-G729)","v":1},{"$f":"H729-G729*K729","v":0},null,1,null,100,0]
[]
[" متغیرهای ورودی کلاه متصل به یقه مربعی",null,null,null,null," متغیرهای ورودی کلاه متصل به یقه مربعی","x1","y1","x2","y2(بهینه)","a","b",null,"کمترین",null,"بیشترین"]
["ضریب جلو یقه روی خط مرکزی","(از 0.1 الی 0.45)",{"$f":"K732*E732+L732","v":0.3},"بهینه=0.3",{"$f":"'طراحی همه الگوها'!H234","v":30},"ضریب جلو یقه روی خط مرکزی",1,0.01,0,0,{"$f":"(J732-H732)/(I732-G732)","v":0.01},{"$f":"H732-G732*K732","v":0},0.1,{"$f":"(M732-L732)/K732","v":10},0.45,{"$f":"(O732-L732)/K732","v":45},0.3,{"$f":"(Q732-L732)/K732","v":30}]
["ضریب نصف جلو کارور","(از 0.2 الی 0.55)",{"$f":"K733*E733+L733","v":0.48},"بهینه=0.48",{"$f":"'طراحی همه الگوها'!H235","v":48},"ضریب نصف جلو کارور",1,0.01,0,0,{"$f":"(J733-H733)/(I733-G733)","v":0.01},{"$f":"H733-G733*K733","v":0},0.2,{"$f":"(M733-L733)/K733","v":20},0.55000000000000004,{"$f":"(O733-L733)/K733","v":55},0.48,{"$f":"(Q733-L733)/K733","v":48}]
[]
[" متغیرهای ورودی کلاه ملوانی",null,null,null,null," متغیرهای ورودی کلاه ملوانی","x1","y1","x2","y2(بهینه)","a","b",null,"کمترین",null,"بیشترین"]
["  باز شدن یقه هفت γ1   تعیین شده در یقه انگلیسی لباس","(از 0.6 الی 0.99)",{"$f":"C165","v":0.7}]
["ضریب جلو یقه روی خط مرکزی","(از 0.4 الی 0.99)",{"$f":"K737*E737+L737","v":0.60000000000000009},null,{"$f":"'طراحی همه الگوها'!H238","v":12},"ضریب جلو یقه روی خط مرکزی",1,0.05,0,0,{"$f":"(J737-H737)/(I737-G737)","v":0.05},{"$f":"H737-G737*K737","v":0},0.4,{"$f":"(M737-L737)/K737","v":8},0.99,{"$f":"(O737-L737)/K737","v":19.799999999999997},0.5,{"$f":"(Q737-L737)/K737","v":10}]
["ضریب نصف جلو کارور","(از 0.01 الی 0.1)",{"$f":"K738*E738+L738","v":0.02},null,{"$f":"'طراحی همه الگوها'!H239","v":4},"ضریب نصف جلو کارور",1,5.0000000000000001E-3,0,0,{"$f":"(J738-H738)/(I738-G738)","v":5.0000000000000001E-3},{"$f":"H738-G738*K738","v":0},0.01,{"$f":"(M738-L738)/K738","v":2},0.1,{"$f":"(O738-L738)/K738","v":20},0.02,{"$f":"(Q738-L738)/K738","v":4}]
[]
[" متغیرهای ورودی یقه شکاری ",null,null,null,null," متغیرهای ورودی یقه شکاری ","x1","y1","x2","y2(بهینه)","a","b",null,"کمترین",null,"بیشترین"]
["ضریب قد پشت یقه   c1","(از 0.5 الی 3)",{"$f":"K741*E741+L741","v":2},"بهینه =2",{"$f":"'طراحی همه الگوها'!H181","v":20},"ضریب قد پشت یقه   ",1,0.1,0,0,{"$f":"(J741-H741)/(I741-G741)","v":0.1},{"$f":"H741-G741*K741","v":0},0.5,{"$f":"(M741-L741)/K741","v":5},3,{"$f":"(O741-L741)/K741","v":30},2,{"$f":"(Q741-L741)/K741","v":20}]
["ضریب کج شدن  یقه به سمت گردن   c2","(از- 2 الی 0)",{"$f":"K742*E742+L742","v":-0.8},"بهینه = - 0.8",{"$f":"'طراحی همه الگوها'!H182","v":-8},"ضریب کج شدن  یقه به سمت گردن   ",1,0.1,0,0,{"$f":"(J742-H742)/(I742-G742)","v":0.1},{"$f":"H742-G742*K742","v":0},-2,{"$f":"(M742-L742)/K742","v":-20},0,{"$f":"(O742-L742)/K742","v":0},-0.8,{"$f":"(Q742-L742)/K742","v":-8}]
["ضریب قرار گرفتن لبه یقه نسبت به لباس   c3","(از 0.3 الی 1)\n- 1 و ",{"$f":"K743*E743+L743","v":1},"لبه یقه روی خط جادکمه= - 1\nلبه یقه روی خط سرشانه=0\nلبه یقه روی خط مرکزی جلو=1\nبین خط مرکزی جلو تا سرشانه= \nبین 0 تا 1",{"$f":"IF('طراحی همه الگوها'!H183='متغیرها '!AM170,58,IF('طراحی همه الگوها'!H183='متغیرها '!AM171,0,'طراحی همه الگوها'!H183))","v":0},"ضریب قرار گرفتن لبه یقه نسبت به لباس   ",58,-1,0,1,{"$f":"(J743-H743)/(I743-G743)","v":-3.4482758620689655E-2},{"$f":"H743-G743*K743","v":1},0.3,{"$f":"(M743-L743)/K743","v":20.3},1,{"$f":"(O743-L743)/K743","v":0},-1,{"$f":"(Q743-L743)/K743","v":58}]
["زاویه لبه برگردان یقه نسبت به عمود  (به درجه)   c14","(از- 40 الی 60)",{"$f":"K744*E744+L744","v":17},"بهینه =17 \nلبه برگردان عمود به پایه=0",{"$f":"'طراحی همه الگوها'!H184","v":57},"زاویه لبه برگردان یقه نسبت به عمود     ",1,-39,57,17,{"$f":"(J744-H744)/(I744-G744)","v":1},{"$f":"H744-G744*K744","v":-40},-40,{"$f":"(M744-L744)/K744","v":0},60,{"$f":"(O744-L744)/K744","v":100},17,{"$f":"(Q744-L744)/K744","v":57}]
["ضریب قد لبه برگردان یقه   c15","(از0.5 الی 4)",{"$f":"K745*E745+L745","v":2.3000000000000003},"بهینه =2.3",{"$f":"'طراحی همه الگوها'!H185","v":23},"ضریب قد لبه برگردان یقه   ",1,0.1,0,0,{"$f":"(J745-H745)/(I745-G745)","v":0.1},{"$f":"H745-G745*K745","v":0},0.5,{"$f":"(M745-L745)/K745","v":5},4,{"$f":"(O745-L745)/K745","v":40},2.2999999999999998,{"$f":"(Q745-L745)/K745","v":22.999999999999996}]
[]
[" متغیرهای ورودی یقه شومیزیه ",null,null,null,null," متغیرهای ورودی یقه شومیزیه ","x1","y1","x2","y2(بهینه)","a","b",null,"کمترین",null,"بیشترین"]
["ضریب قد پایه یقه   c1","(از 0.5 الی 2)",{"$f":"K748*E748+L748","v":1.5},"بهینه =1.5",{"$f":"'طراحی همه الگوها'!H194","v":15},"ضریب قد پایه یقه   ",1,0.1,0,0,{"$f":"(J748-H748)/(I748-G748)","v":0.1},{"$f":"H748-G748*K748","v":0},0.5,{"$f":"(M748-L748)/K748","v":5},2,{"$f":"(O748-L748)/K748","v":20},1.5,{"$f":"(Q748-L748)/K748","v":15}]
["ضریب کج شدن پایه یقه به سمت گردن   c2","پایه جدا :\n(از0.1 الی 2)\nپایه سرخود :\n(از 0 الی -1 )",0.5,"بهینه پایه جدا =0.5 \nبهینه پایه سرخود= - 0.4",{"$f":"'طراحی همه الگوها'!H195","v":5},"ضریب کج شدن پایه یقه به سمت گردن   ",1,0.1,0,0,{"$f":"(J749-H749)/(I749-G749)","v":0.1},{"$f":"H749-G749*K749","v":0},-1,-10,2,20,-0.4,-4]
["ضریب قرار گرفتن لبه پایه یقه نسبت به لباس   c3","(از 0.3 الی 1)\n- 1 و ",1,"لبه یقه روی خط جادکمه= - 1\nلبه یقه روی خط سرشانه=0\nلبه یقه روی خط مرکزی جلو=1\nبین خط مرکزی جلو تا سرشانه= \nبین 0 تا 1",{"$f":"IF('طراحی همه الگوها'!H196='متغیرها '!AM170,58,IF('طراحی همه الگوها'!H196='متغیرها '!AM171,0,'طراحی همه الگوها'!H196))","v":0},"ضریب قرار گرفتن لبه پایه یقه نسبت به لباس   ",58,-1,0,1,{"$f":"(J750-H750)/(I750-G750)","v":-3.4482758620689655E-2},{"$f":"H750-G750*K750","v":1},0.3,20.3,1,0,1,0]
["ضریب انحنا لبه پایه یقه  c4","(از 0.2 الی 1.2)",0.89999999999999991,"بهینه انحنا=0.9",{"$f":"'طراحی همه الگوها'!H197","v":20},"ضریب انحنا لبه پایه یقه  ",5,0.2,20,0.9,{"$f":"(J751-H751)/(I751-G751)","v":4.6666666666666662E-2},{"$f":"H751-G751*K751","v":-3.3333333333333298E-2},0.2,5,1.2,26.428571428571427,0.9,20.000000000000004]
["ضریب قد پشت برگردان یقه   c1","(از 0.5 الی 3)",2.1,"بهینه =2.1",{"$f":"'طراحی همه الگوها'!H198","v":21},"ضریب قد پشت برگردان یقه   ",1,0.1,0,0,{"$f":"(J752-H752)/(I752-G752)","v":0.1},{"$f":"H752-G752*K752","v":0},0.5,5,3,30,2.1,21]
["ضریب کج شدن برگردان یقه به سمت گردن   c2","پایه جدا :\n(از - 0.1 الی -2 )\nپایه سرخود :\n(از 0 الی  -1  )",-0.70000000000000007,"بهینه پایه جدا =  - 0.7 \nبهینه پایه سرخود= - 0.4",{"$f":"'طراحی همه الگوها'!H199","v":-7},"ضریب کج شدن برگردان یقه به سمت گردن   ",1,0.1,0,0,0.1,0,-2,-20,0,0,-0.7,-6.9999999999999991]
["زاویه لبه برگردان یقه نسبت به عمود  (به درجه)   c14","(از- 40 الی 60)",5,"بهینه =5 \nلبه برگردان عمود به پایه=0",{"$f":"'طراحی همه الگوها'!H200","v":45},"زاویه لبه برگردان یقه نسبت به عمود    ",1,-39,57,17,1,-40,-40,0,60,100,5,45]
["ضریب قد لبه برگردان یقه   c15","(از0.5 الی 4)",2,"بهینه =2",{"$f":"'طراحی همه الگوها'!H201","v":20},"ضریب قد لبه برگردان یقه   ",1,0.1,0,0,0.1,0,0.5,5,4,40,2,20]
["شیفت افقی برگردان یقه  (به سانتیمتر)   c16","(از -100 الی100)",0,"بهینه=دلخواه",{"$f":"'طراحی همه الگوها'!H202","v":0},"شیفت افقی برگردان یقه  (سانتیمتر)   ",1,1,0,0,1,0,null,1,null,100,0]
["شیفت عمودی برگردان یقه  (به سانتیمتر)  c17","(از -100 الی100)",45,"بهینه=دلخواه",{"$f":"'طراحی همه الگوها'!H203","v":45},"شیفت عمودی برگردان یقه  (سانتیمتر)  ",1,1,0,0,1,0,null,1,null,100,0]
[]
[" متغیرهای ورودی یقه ب ب مثلثی و گرد",null,null,null,null," متغیرهای ورودی یقه ب ب مثلثی و گرد","x1","y1","x2","y2(بهینه)","a","b",null,"کمترین",null,"بیشترین"]
["زاویه جلو یقه ب ب مثلثی","(از 0 الی 50)",{"$f":"K760*E760+L760","v":25},"بهینه=25",{"$f":"'طراحی همه الگوها'!H216","v":25},"زاویه جلو یقه ب ب مثلثی",19,19,20,20,{"$f":"(J760-H760)/(I760-G760)","v":1},{"$f":"H760-G760*K760","v":0},0,{"$f":"(M760-L760)/K760","v":0},50,{"$f":"(O760-L760)/K760","v":50},25,{"$f":"(Q760-L760)/K760","v":25}]
["ضریب پهنای یقه ب ب مثلثی و گرد ","(از 0.3 الی 1)",{"$f":"K761*E761+L761","v":0.5},"بهینه=0.5",{"$f":"'طراحی همه الگوها'!H217","v":20},"ضریب پهنای یقه ب ب مثلثی و گرد ",10,0.3,20,0.5,{"$f":"(J761-H761)/(I761-G761)","v":0.02},{"$f":"H761-G761*K761","v":9.9999999999999978E-2},0.3,{"$f":"(M761-L761)/K761","v":10},1,{"$f":"(O761-L761)/K761","v":45},0.5,{"$f":"(Q761-L761)/K761","v":20}]
[]
[]
["متغیرهای ورودی دامن",null,null,null,null,"متغیرهای ورودی یقه"]
[null,null,"y",null,"x",null,"x1","y1","x2","y2(بهینه)","a","b",null,"کمترین",null,"بیشترین"]
[" متغیرهای ورودی زیپ و چاک دامن",null,null,null,null," متغیرهای ورودی یقه شکاری با پایه"]
["عرض (پهنا) زیپ در خط پهلو  (سانتیمتر)   ","(از 0 الی 10)",{"$f":"K767*E767+L767","v":0},"بهینه =3",{"$f":"'طراحی همه الگوها'!E376","v":0},"ضریب قد پایه یقه   ",1,1,0,0,{"$f":"(J767-H767)/(I767-G767)","v":1},{"$f":"H767-G767*K767","v":0},0,{"$f":"(M767-L767)/K767","v":0},10,{"$f":"(O767-L767)/K767","v":10},3,{"$f":"(Q767-L767)/K767","v":3}]
["ضریب طول (بلندی) زیپ در خط پهلو  ","(از 0 الی 20)",16,"بهینه =16",{"$f":"'طراحی همه الگوها'!E377","v":16},"ضریب قد پشت برگردان یقه   ",1,1,0,0,1,0,0,0,20,20,16,16]
["عرض (پهنا) زیپ در خط مرکزی پشت  (سانتیمتر)   ","(از 0 الی 10)",3,"بهینه =3",{"$f":"'طراحی همه الگوها'!E378","v":3},"ضریب کج شدن یقه به سمت گردن   ",1,1,0,0,1,0,0,0,10,10,3,3]
["ضریب طول (بلندی) زیپ در خط مرکزی پشت  ","(از 0 الی 20)",16,"بهینه =16",{"$f":"'طراحی همه الگوها'!E379","v":16},"ضریب قرار گرفتن لبه یقه نسبت به لباس   ",1,1,0,0,1,0,0,0,20,20,16,16]
["عرض (پهنا) چاک در خط مرکزی پشت  (سانتیمتر)   ","(از 0 الی 10)",4,"بهینه =4",{"$f":"'طراحی همه الگوها'!E380","v":4},"زاویه لبه برگردان یقه نسبت به عمود    ",1,1,0,0,1,0,0,0,10,10,4,4]
["ضریب طول (بلندی) چاک در خط مرکزی پشت  ","(از 0 الی 20)",13,"بهینه =16",{"$f":"'طراحی همه الگوها'!E381","v":13},"ضریب قد لبه برگردان یقه   ",1,1,0,0,1,0,0,0,20,20,16,16]
[]
[" پیلی ها  (متقارن یا نامتقارن در جلو دامن)",null,null,null,null," پیلی ها  (متقارن یا نامتقارن در جلو دامن)"]
[" عرض پیلی 2 (بعد از دوخت) - جلو  (سانتیمتر)     ","(از 0 الی 10)",{"$f":"K775*E775+L775","v":0},"بهینه =3",{"$f":"'طراحی همه الگوها'!E384","v":0}," عرض پیلی 2 (بعد از دوخت) - جلو  (سانتیمتر)     ",1,1,0,0,{"$f":"(J775-H775)/(I775-G775)","v":1},{"$f":"H775-G775*K775","v":0},0,{"$f":"(M775-L775)/K775","v":0},10,{"$f":"(O775-L775)/K775","v":10},3,{"$f":"(Q775-L775)/K775","v":3}]
[" عرض پیلی 3 (بعد از دوخت) - جلو  (سانتیمتر)   ","(از 0 الی 10)",0,"بهینه =3",{"$f":"'طراحی همه الگوها'!E385","v":0}," عرض پیلی 3 (بعد از دوخت) - جلو  (سانتیمتر)   ",1,1,0,0,1,0,0,0,20,20,16,16]
[" عرض پیلی 4 (بعد از دوخت) - جلو   (سانتیمتر)   ","(از 0 الی 10)",0,"بهینه =3",{"$f":"'طراحی همه الگوها'!E386","v":0}," عرض پیلی 4 (بعد از دوخت) - جلو   (سانتیمتر)   ",1,1,0,0,1,0,0,0,10,10,3,3]
[" عرض پیلی 5 (بعد از دوخت) - روی خط مرکزی جلو  (سانتیمتر)    ","(از 0 الی 10)",0,"بهینه =3",{"$f":"'طراحی همه الگوها'!E387","v":0}," عرض پیلی 5 (بعد از دوخت) - روی خط مرکزی جلو  (سانتیمتر)    ",1,1,0,0,1,0,0,0,20,20,16,16]
[" عرض پیلی 6 (بعد از دوخت) -  جلو  (سانتیمتر)     ","(از 0 الی 10)",0,"بهینه =3",{"$f":"'طراحی همه الگوها'!E388","v":0}," عرض پیلی 6 (بعد از دوخت) -  جلو  (سانتیمتر)     ",1,1,0,0,1,0,0,0,10,10,4,4]
[" عرض پیلی 7 (بعد از دوخت) - جلو   (سانتیمتر)   ","(از 0 الی 10)",0,"بهینه =3",{"$f":"'طراحی همه الگوها'!E389","v":0}," عرض پیلی 7 (بعد از دوخت) - جلو   (سانتیمتر)   ",1,1,0,0,1,0,0,0,20,20,16,16]
[" عرض پیلی 8 (بعد از دوخت) - جلو   (سانتیمتر)   ","(از 0 الی 10)",0,"بهینه =3",{"$f":"'طراحی همه الگوها'!E390","v":0}," عرض پیلی 8 (بعد از دوخت) - جلو   (سانتیمتر)   ",1,1,0,0,1,0,0,0,10,10,4,4]
[]
[" پیلی ها  (متقارن یا نامتقارن در پهلو دامن)",null,null,null,null," پیلی ها  (متقارن یا نامتقارن در پهلو دامن)"]
[" عرض پیلی 1 (بعد از دوخت) - روی پهلو چپ  (سانتیمتر)    ","(از 0 الی 10)",{"$f":"K784*E784+L784","v":0},"بهینه =3",{"$f":"'طراحی همه الگوها'!E393","v":0}," عرض پیلی 1 (بعد از دوخت) - روی پهلو چپ  (سانتیمتر)    ",1,1,0,0,{"$f":"(J784-H784)/(I784-G784)","v":1},{"$f":"H784-G784*K784","v":0},0,{"$f":"(M784-L784)/K784","v":0},10,{"$f":"(O784-L784)/K784","v":10},4,{"$f":"(Q784-L784)/K784","v":4}]
[" عرض پیلی 9 (بعد از دوخت) - روی پهلو راست   (سانتیمتر)   ","(از 0 الی 10)",{"$f":"K785*E785+L785","v":0},"بهینه =3",{"$f":"'طراحی همه الگوها'!E394","v":0}," عرض پیلی 9 (بعد از دوخت) - روی پهلو راست   (سانتیمتر)   ",1,1,0,0,1,0,0,0,20,20,16,16]
[]
[" پیلی ها  (متقارن یا نامتقارن در پشت دامن)",null,null,null,null," پیلی ها  (متقارن یا نامتقارن در پشت دامن)"]
[" عرض پیلی 10 (بعد از دوخت) - پشت  (سانتیمتر)     ","(از 0 الی 10)",{"$f":"K788*E788+L788","v":0},"بهینه =3",{"$f":"'طراحی همه الگوها'!E397","v":0}," عرض پیلی 10 (بعد از دوخت) - پشت  (سانتیمتر)     ",1,1,0,0,{"$f":"(J788-H788)/(I788-G788)","v":1},{"$f":"H788-G788*K788","v":0},0,{"$f":"(M788-L788)/K788","v":0},10,{"$f":"(O788-L788)/K788","v":10},3,{"$f":"(Q788-L788)/K788","v":3}]
[" عرض پیلی 11 (بعد از دوخت) - پشت  (سانتیمتر)   ","(از 0 الی 10)",0,"بهینه =3",{"$f":"'طراحی همه الگوها'!E398","v":0}," عرض پیلی 11 (بعد از دوخت) - پشت  (سانتیمتر)   ",1,1,0,0,1,0,0,0,20,20,16,16]
[" عرض پیلی 12 (بعد از دوخت) - پشت   (سانتیمتر)   ","(از 0 الی 10)",0,"بهینه =3",{"$f":"'طراحی همه الگوها'!E399","v":0}," عرض پیلی 12 (بعد از دوخت) - پشت   (سانتیمتر)   ",1,1,0,0,1,0,0,0,10,10,3,3]
[" عرض پیلی 13 (بعد از دوخت) - روی خط مرکزی پشت  (سانتیمتر)    ","(از 0 الی 10)",0,"بهینه =3",{"$f":"'طراحی همه الگوها'!E400","v":0}," عرض پیلی 13 (بعد از دوخت) - روی خط مرکزی پشت  (سانتیمتر)    ",1,1,0,0,1,0,0,0,20,20,16,16]
[" عرض پیلی 14 (بعد از دوخت) -  پشت  (سانتیمتر)     ","(از 0 الی 10)",0,"بهینه =3",{"$f":"'طراحی همه الگوها'!E401","v":0}," عرض پیلی 14 (بعد از دوخت) -  پشت  (سانتیمتر)     ",1,1,0,0,1,0,0,0,10,10,4,4]
[" عرض پیلی 15 (بعد از دوخت) - پشت   (سانتیمتر)   ","(از 0 الی 10)",0,"بهینه =3",{"$f":"'طراحی همه الگوها'!E402","v":0}," عرض پیلی 15 (بعد از دوخت) - پشت   (سانتیمتر)   ",1,1,0,0,1,0,0,0,20,20,16,16]
[" عرض پیلی 16 (بعد از دوخت) - پشت   (سانتیمتر)   ","(از 0 الی 10)",0,"بهینه =3",{"$f":"'طراحی همه الگوها'!E403","v":0}," عرض پیلی 16 (بعد از دوخت) - پشت   (سانتیمتر)   ",1,1,0,0,1,0,0,0,10,10,4,4]
["جابجایی افقی قرینه پشت دامن (سانتیمتر)","(از -50 الی50)",-15,"بهینه=دلخواه",{"$f":"'طراحی همه الگوها'!E404","v":-15},"جابجایی افقی قرینه پشت دامن (سانتیمتر)",1,1,0,0,1,0,null,1,null,100,0]
[]
["طراحی دامن چند طبقه چین"]
["j0   اتصال به دامن تنگ = 3    اتصال به بالاتنه با ساسون=2   اتصال به پیراهن راسته=1","1 یا 2 یا 3 ",{"$f":"K798*E798+L798","v":3},null,{"$f":"'طراحی همه الگوها'!E407","v":3},"اتصال به دامن تنگ = 3    اتصال به بالاتنه با ساسون=2   اتصال به پیراهن راسته=1",1,1,2,2,{"$f":"(J798-H798)/(I798-G798)","v":1},{"$f":"H798-G798*K798","v":0},null,1,null,2]
["مکان پایین دامن طبقه اول   j2 ","(از 0 الی 4)",{"$f":"K799*E799+L799","v":0.75},"خط زمین=0 \nخط زانو=1 \nخط باسن=2 \nخط کمر=3 \nخط سینه=4  ",{"$f":"'طراحی همه الگوها'!E408","v":25},"مکان پایین دامن طبقه اول    ",10,0,30,1,{"$f":"(J799-H799)/(I799-G799)","v":0.05},{"$f":"H799-G799*K799","v":-0.5},0,{"$f":"(M799-L799)/K799","v":10},4,100,0.25,{"$f":"(Q799-L799)/K799","v":15}]
["چین در دامن طبقه اول   j3","(از 0 الی 3)",{"$f":"K800*E800+L800","v":1},null,{"$f":"'طراحی همه الگوها'!E409","v":2},"چین در دامن طبقه اول",2,1,1,0,{"$f":"(J800-H800)/(I800-G800)","v":1},{"$f":"H800-G800*K800","v":-1},0,{"$f":"(M800-L800)/K800","v":1},3,{"$f":"(O800-L800)/K800","v":4},0.9,1.9]
["مکان پایین دامن طبقه دوم    j4","(از 0 الی 4)",0.5,"خط زمین=0 \nخط زانو=1 \nخط باسن=2 \nخط کمر=3 \nخط سینه=4  ",{"$f":"'طراحی همه الگوها'!E410","v":20},"مکان پایین دامن طبقه دوم    ",10,0,30,1,0.05,-0.5,0,10,4,100,0.25,15]
["چین در دامن طبقه دوم    j5","(از 0 الی 3)",{"$f":"K802*E802+L802","v":0},null,{"$f":"'طراحی همه الگوها'!E411","v":1},"چین در دامن طبقه دوم",2,1,1,0,{"$f":"(J802-H802)/(I802-G802)","v":1},{"$f":"H802-G802*K802","v":-1},0,{"$f":"(M802-L802)/K802","v":1},3,{"$f":"(O802-L802)/K802","v":4},0.9,1.9]
["مکان پایین دامن طبقه سوم    j6","(از 0 الی 4)",0.25,"خط زمین=0 \nخط زانو=1 \nخط باسن=2 \nخط کمر=3 \nخط سینه=4  ",{"$f":"'طراحی همه الگوها'!E412","v":15},"مکان پایین دامن طبقه سوم    ",10,0,30,1,0.05,-0.5,0,10,4,100,0.25,15]
["چین در دامن طبقه سوم   j7","(از 0 الی 3)",0,null,{"$f":"'طراحی همه الگوها'!E413","v":1},"چین در دامن طبقه سوم",2,1,1,0,1,-1,0,1,3,{"$f":"(O804-L804)/K804","v":4},0.9,1.9]
["مکان پایین دامن طبقه چهارم    j8","(از 0 الی 4)",0,"خط زمین=0 \nخط زانو=1 \nخط باسن=2 \nخط کمر=3 \nخط سینه=4  ",{"$f":"'طراحی همه الگوها'!E414","v":10},"مکان پایین دامن طبقه چهارم    ",10,0,30,1,0.05,-0.5,0,10,4,100,0.25,15]
["چین در دامن طبقه چهارم    j9","(از 0 الی 3)",0,null,{"$f":"'طراحی همه الگوها'!E415","v":1},"چین در دامن طبقه چهارم",2,1,1,0,1,-1,0,1,3,{"$f":"(O806-L806)/K806","v":4},0.9,1.9]
["جابجایی افقی جلو دامن چند طبقه (سانتیمتر)  j10","(از -100 الی100)",{"$f":"K807*E807+L807","v":0},"بهینه=دلخواه",{"$f":"'طراحی همه الگوها'!E416","v":0},"جابجایی افقی جلو دامن چند طبقه (سانتیمتر)",1,1,0,0,{"$f":"(J807-H807)/(I807-G807)","v":1},{"$f":"H807-G807*K807","v":0},-100,{"$f":"(M807-L807)/K807","v":-100},100,{"$f":"(O807-L807)/K807","v":100}]
["جابجایی عمودی جلو دامن چند طبقه (سانتیمتر)  j11","(از -100 الی100)",{"$f":"K808*E808+L808","v":0},"بهینه=دلخواه",{"$f":"'طراحی همه الگوها'!E417","v":0},"جابجایی عمودی جلو دامن چند طبقه (سانتیمتر)",1,1,0,0,{"$f":"(J808-H808)/(I808-G808)","v":1},{"$f":"H808-G808*K808","v":0},-100,{"$f":"(M808-L808)/K808","v":-100},100,{"$f":"(O808-L808)/K808","v":100}]
["جابجایی افقی پشت دامن چند طبقه (سانتیمتر)   j12","(از -100 الی100)",{"$f":"K809*E809+L809","v":0},"بهینه=دلخواه",{"$f":"'طراحی همه الگوها'!E418","v":0},"جابجایی افقی پشت دامن چند طبقه (سانتیمتر)",1,1,0,0,{"$f":"(J809-H809)/(I809-G809)","v":1},{"$f":"H809-G809*K809","v":0},-100,{"$f":"(M809-L809)/K809","v":-100},100,{"$f":"(O809-L809)/K809","v":100}]
["جابجایی عمودی پشت دامن چند طبقه (سانتیمتر)  j13","(از -100 الی100)",{"$f":"K810*E810+L810","v":0},"بهینه=دلخواه",{"$f":"'طراحی همه الگوها'!E419","v":0},"جابجایی عمودی پشت دامن چند طبقه (سانتیمتر)",1,1,0,0,{"$f":"(J810-H810)/(I810-G810)","v":1},{"$f":"H810-G810*K810","v":0},-100,{"$f":"(M810-L810)/K810","v":-100},100,{"$f":"(O810-L810)/K810","v":100}]
[]
["طراحی دامن لنگی دراپه"]
["پهنای هر دراپه (پیلی) به سانتیمتر   n0","(از 0 الی 20)",{"$f":"K813*E813+L813","v":3},null,{"$f":"'طراحی همه الگوها'!E422","v":3},null,1,1,2,2,{"$f":"(J813-H813)/(I813-G813)","v":1},{"$f":"H813-G813*K813","v":0},null,1,null,2]
["مکان نقطه شروع دراپه روی خط پهلو  n1 ","(از 1 الی 40)",26,null,{"$f":"'طراحی همه الگوها'!E423","v":26},null,1,1,2,2,1,0,null,1,null,2]
["مکان نقطه شروع دراپه در پایین لباس   n2","(از 1 الی 40)",26,null,{"$f":"'طراحی همه الگوها'!E424","v":26},null,1,1,2,2,1,0,null,1,null,2]
["مکان پیلی اول روی خط کمر  n3","(از 1 الی 40)",{"$f":"K816*E816+L816","v":10},null,{"$f":"'طراحی همه الگوها'!E425","v":10},null,1,1,2,2,{"$f":"(J816-H816)/(I816-G816)","v":1},{"$f":"H816-G816*K816","v":0},null,1,null,2]
["مکان پیلی دوم روی خط کمر  n4","(از 1 الی 40)",20,null,{"$f":"'طراحی همه الگوها'!E426","v":20},null,1,1,2,2,1,0,null,1,null,2]
["مکان پیلی سوم روی خط کمر  n5","(از 1 الی 40)",30,null,{"$f":"'طراحی همه الگوها'!E427","v":30},null,1,1,2,2,1,0,null,1,null,2]
["پهنای هر دراپه به درجه   n0",{"$f":"ROUND(DEGREES(محاسبات!LU325),1)","v":27}]
[]
[" دامن با والان"]
["پهنای هر یک از پیلی ها روی کمر  (سانتیمتر)  w1","(از 0 الی 20)",{"$f":"K822*E822+L822","v":5},null,{"$f":"'طراحی همه الگوها'!E430","v":5},null,1,1,2,2,{"$f":"(J822-H822)/(I822-G822)","v":1},{"$f":"H822-G822*K822","v":0},null,1,null,2]
["فاصله  پیلی اول تا خط مرکزی جلو   w0","(از 0 الی 40)",{"$f":"K823*E823+L823","v":15},null,{"$f":"'طراحی همه الگوها'!E431","v":15},null,1,1,2,2,{"$f":"(J823-H823)/(I823-G823)","v":1},{"$f":"H823-G823*K823","v":0},null,1,null,2]
[" لبه پایینی دامن والان روی خط مرکزی پشت    w2","(از 0 الی 4)",{"$f":"K824*E824+L824","v":0},"خط زمین=0 \nخط زانو=1 \nخط باسن=2 \nخط کمر=3 \nخط سینه=4  ",{"$f":"'طراحی همه الگوها'!E432","v":10},null,10,0,30,1,{"$f":"(J824-H824)/(I824-G824)","v":0.05},{"$f":"H824-G824*K824","v":-0.5},0,{"$f":"(M824-L824)/K824","v":10},4,100,0.25,{"$f":"(Q824-L824)/K824","v":15}]
[" لبه پایینی دامن والان روی درز پهلو  w3  ","(از 0 الی 4)",{"$f":"K825*E825+L825","v":0.25},"خط زمین=0 \nخط زانو=1 \nخط باسن=2 \nخط کمر=3 \nخط سینه=4  ",{"$f":"'طراحی همه الگوها'!E433","v":15},null,10,0,30,1,{"$f":"(J825-H825)/(I825-G825)","v":0.05},{"$f":"H825-G825*K825","v":-0.5},0,{"$f":"(M825-L825)/K825","v":10},4,100,0.25,{"$f":"(Q825-L825)/K825","v":15}]
[" لبه بالایی دامن والان روی درز پهلو   w5","(از 0 الی 4)",{"$f":"K826*E826+L826","v":1.5},"خط زمین=0 \nخط زانو=1 \nخط باسن=2 \nخط کمر=3 \nخط سینه=4  ",{"$f":"'طراحی همه الگوها'!E434","v":40},null,10,0,30,1,{"$f":"(J826-H826)/(I826-G826)","v":0.05},{"$f":"H826-G826*K826","v":-0.5},0,{"$f":"(M826-L826)/K826","v":10},4,100,0.25,{"$f":"(Q826-L826)/K826","v":15}]
[]
[]
[]
["متغیرهای ورودی بافت ",null,null,null,null,"متغیرهای ورودی بافت ","x1","y1","x2","y2(بهینه)","a","b",null,"کمترین",null,"بیشترین"]
["طراحی بافت جلو پشت آستین"]
["انتخاب ضخامت میل بافتنی","(2 یا 3 یا 4) ",{"$f":"K832*E832+L832","v":2},null,{"$f":"'طراحی همه الگوها'!H244","v":2},"انتخاب ضخامت میل بافتنی",3,3,2,2,{"$f":"(J832-H832)/(I832-G832)","v":1},{"$f":"H832-G832*K832","v":0},2,{"$f":"(M832-L832)/K832","v":2},4,{"$f":"(O832-L832)/K832","v":4},3,{"$f":"(Q832-L832)/K832","v":3}]
["شماره بافت انتخابی جلو","(1 الی 50) ",{"$f":"K833*E833+L833","v":4},null,{"$f":"'طراحی همه الگوها'!H245","v":4},"شماره بافت انتخابی جلو",3,3,2,2,{"$f":"(J833-H833)/(I833-G833)","v":1},{"$f":"H833-G833*K833","v":0},2,{"$f":"(M833-L833)/K833","v":2},4,{"$f":"(O833-L833)/K833","v":4},3,{"$f":"(Q833-L833)/K833","v":3}]
["شماره بافت انتخابی پشت","(1 الی 50) ",{"$f":"K834*E834+L834","v":4},null,{"$f":"'طراحی همه الگوها'!H246","v":4},"شماره بافت انتخابی پشت",3,3,2,2,{"$f":"(J834-H834)/(I834-G834)","v":1},{"$f":"H834-G834*K834","v":0},2,{"$f":"(M834-L834)/K834","v":2},4,{"$f":"(O834-L834)/K834","v":4},3,{"$f":"(Q834-L834)/K834","v":3}]
["شماره بافت انتخابی آستین","(1 الی 50) ",{"$f":"K835*E835+L835","v":4},null,{"$f":"'طراحی همه الگوها'!H247","v":4},"شماره بافت انتخابی آستین",3,3,2,2,{"$f":"(J835-H835)/(I835-G835)","v":1},{"$f":"H835-G835*K835","v":0},2,{"$f":"(M835-L835)/K835","v":2},4,{"$f":"(O835-L835)/K835","v":4},3,{"$f":"(Q835-L835)/K835","v":3}]
[]
["طراحی بافت یقه شکاری"]
["شماره مدل یقه شکاری","(1 الی 50) ",{"$f":"K838*E838+L838","v":4},null,{"$f":"'طراحی همه الگوها'!H250","v":4},"شماره مدل یقه شکاری",3,3,2,2,{"$f":"(J838-H838)/(I838-G838)","v":1},{"$f":"H838-G838*K838","v":0},2,{"$f":"(M838-L838)/K838","v":2},4,{"$f":"(O838-L838)/K838","v":4},3,{"$f":"(Q838-L838)/K838","v":3}]
[]
["طراحی بافت یقه شومیزیه"]
["شماره مدل یقه شومیزیه","(1 الی 50) ",{"$f":"K841*E841+L841","v":2},null,{"$f":"'طراحی همه الگوها'!H253","v":2},"شماره مدل یقه شومیزیه",3,3,2,2,{"$f":"(J841-H841)/(I841-G841)","v":1},{"$f":"H841-G841*K841","v":0},2,{"$f":"(M841-L841)/K841","v":2},4,{"$f":"(O841-L841)/K841","v":4},3,{"$f":"(Q841-L841)/K841","v":3}]
[]
[]
[]
[]
[]
[]
[]
[]
["طراحی نقشه بافت"]
["جابجایی افقی کل نقشه  (سانتیمتر)   ","(از -100 الی100)",{"$f":"K851*E851+L851","v":-10},"بهینه=دلخواه",{"$f":"'طراحی همه الگوها'!H267","v":-10},"جابجایی افقی کل نقشه  (سانتیمتر)   ",1,1,0,0,{"$f":"(J851-H851)/(I851-G851)","v":1},{"$f":"H851-G851*K851","v":0},-100,{"$f":"(M851-L851)/K851","v":-100},100,{"$f":"(O851-L851)/K851","v":100}]
["جابجایی عمودی کل نقشه  (سانتیمتر)  ","(از -100 الی100)",-3,"بهینه=دلخواه",{"$f":"'طراحی همه الگوها'!H268","v":-3},"جابجایی عمودی کل نقشه  (سانتیمتر)  ",1,1,0,0,{"$f":"(J852-H852)/(I852-G852)","v":1},{"$f":"H852-G852*K852","v":0},-100,{"$f":"(M852-L852)/K852","v":-100},100,{"$f":"(O852-L852)/K852","v":100}]
["نسبت نقشه بافت به سایز واقعی","(1 الی 40) ",42,"بهینه=20",{"$f":"'طراحی همه الگوها'!H269","v":42},"نسبت نقشه بافت به سایز واقعی",3,3,2,2,{"$f":"(J853-H853)/(I853-G853)","v":1},{"$f":"H853-G853*K853","v":0},2,{"$f":"(M853-L853)/K853","v":2},4,{"$f":"(O853-L853)/K853","v":4},3,{"$f":"(Q853-L853)/K853","v":3}]
["ارتفاع هر رج","(0.05 الی 3) ",2.5,"بهینه=0.8",{"$f":"'طراحی همه الگوها'!H270","v":50},"ارتفاع هر رج",1,0.05,0,0,{"$f":"(J854-H854)/(I854-G854)","v":0.05},{"$f":"H854-G854*K854","v":0},0,{"$f":"(M854-L854)/K854","v":0},2,{"$f":"(O854-L854)/K854","v":40},1,{"$f":"(Q854-L854)/K854","v":20}]
["پهنای نیم دایره","(0 الی 3) ",0.25,"بهینه=0.5",{"$f":"'طراحی همه الگوها'!H271","v":5},"پهنای نیم دایره",1,0.05,0,0,0.05,0,0,0,2,40,1,20]
["طول باکس نوشته","(2 الی 20) ",4.5,"بهینه=4.5",{"$f":"'طراحی همه الگوها'!H272","v":9},"طول باکس نوشته",1,0.5,0,0,{"$f":"(J856-H856)/(I856-G856)","v":0.5},{"$f":"H856-G856*K856","v":0},0,{"$f":"(M856-L856)/K856","v":0},2,{"$f":"(O856-L856)/K856","v":4},1,{"$f":"(Q856-L856)/K856","v":2}]
["پهنای باکس نوشته","(0.2 الی 2) ",0.5,"بهینه=0.6",{"$f":"'طراحی همه الگوها'!H273","v":10},"پهنای باکس نوشته",1,0.05,0,0,0.05,0,0,0,2,40,1,20]
["بزرگی فلش رج","(0 الی 2) ",0.60000000000000009,"بهینه=0.3",{"$f":"'طراحی همه الگوها'!H274","v":12},"بزرگی فلش",1,0.05,0,0,0.05,0,0,0,2,40,1,20]
["زاویه فلش رج","(0 الی 2) ",0.5,"بهینه=0.5",{"$f":"'طراحی همه الگوها'!H275","v":10},"زاویه فلش",1,0.05,0,0,{"$f":"(J859-H859)/(I859-G859)","v":0.05},{"$f":"H859-G859*K859","v":0},0,{"$f":"(M859-L859)/K859","v":0},2,{"$f":"(O859-L859)/K859","v":40},1,{"$f":"(Q859-L859)/K859","v":20}]
["بزرگی خط عمودی دانه","(0 الی 2) ",{"$f":"K860*E860+L860","v":0.30000000000000004},"بهینه=0.3",{"$f":"'طراحی همه الگوها'!H276","v":6},"بزرگی فلش",1,0.05,0,0,0.05,0,0,0,2,40,1,20]
["بزرگی فلش دانه","(0 الی 2) ",0.5,"بهینه=0.3",{"$f":"'طراحی همه الگوها'!H277","v":10},"بزرگی فلش",1,0.05,0,0,0.05,0,0,0,2,40,1,20]
["زاویه فلش دانه","(0 الی 2) ",0.75,"بهینه=0.5",{"$f":"'طراحی همه الگوها'!H278","v":15},"زاویه فلش",1,0.05,0,0,{"$f":"(J862-H862)/(I862-G862)","v":0.05},{"$f":"H862-G862*K862","v":0},0,{"$f":"(M862-L862)/K862","v":0},2,{"$f":"(O862-L862)/K862","v":40},1,{"$f":"(Q862-L862)/K862","v":20}]

{"sheet":"انتخاب بافت","index":3,"n_rows":0,"n_cols":0,"rows_kept":0,"cut":false,"hidden":true,"merged":[]}

{"sheet":"اندازه های شخصی","index":4,"n_rows":35,"n_cols":85,"rows_kept":35,"cut":false,"hidden":false,"merged":[]}
[]
[]
[]
[]
[null,null,null,null,"عنوان مورد نظر خود را در قسمت سبز رنگ وارد کنید",null,"عنوان 1",null,"عنوان 2",null,"عنوان 3",null,"عنوان 4",null,"عنوان 5",null,"عنوان 6",null,"عنوان 7",null,"عنوان 8",null,"عنوان 9",null,"عنوان 10",null,"عنوان 11",null,"عنوان 12",null,"عنوان 13",null,"عنوان 14",null,"عنوان 15",null,"عنوان 16",null,"عنوان 17",null,"عنوان 18",null,"عنوان 19",null,"عنوان 20",null,"عنوان 21",null,"عنوان 22",null,"عنوان 23",null,"عنوان 24",null,"عنوان 25",null,"عنوان 26",null,"عنوان 27",null,"عنوان 28",null,"عنوان 29",null,"عنوان 30",null,"عنوان 31",null,"عنوان 32",null,"عنوان 33",null,"عنوان 34",null,"عنوان 35",null,"عنوان 36",null,"عنوان 37",null,"عنوان 38",null,"عنوان 39",null,"عنوان 40"]
[]
[null,null,null,null,null,null,"اندازه شخصی 1",null,"اندازه شخصی 2",null,"اندازه شخصی 3",null,"اندازه شخصی 3",null,"اندازه شخصی 5",null,"اندازه شخصی 6",null,"اندازه شخصی 7",null,"اندازه شخصی 8",null,"اندازه شخصی 9",null,"اندازه شخصی 10",null,"اندازه شخصی 11",null,"اندازه شخصی 12",null,"اندازه شخصی 13",null,"اندازه شخصی 14",null,"اندازه شخصی 15",null,"اندازه شخصی 16",null,"اندازه شخصی 17",null,"اندازه شخصی 18",null,"اندازه شخصی 19",null,"اندازه شخصی 20",null,"اندازه شخصی 21",null,"اندازه شخصی 22",null,"اندازه شخصی 23",null,"اندازه شخصی 24",null,"اندازه شخصی 25",null,"اندازه شخصی 26",null,"اندازه شخصی 27",null,"اندازه شخصی 28",null,"اندازه شخصی 29",null,"اندازه شخصی 30",null,"اندازه شخصی 31",null,"اندازه شخصی 32",null,"اندازه شخصی 33",null,"اندازه شخصی 34",null,"اندازه شخصی 35",null,"اندازه شخصی 36",null,"اندازه شخصی 37",null,"اندازه شخصی 38",null,"اندازه شخصی 39",null,"اندازه شخصی 40"]
[null,null,null,null,"دور کمر","a"]
[null,null,null,null,"نوار کمر از پشت بین دو خط پهلو","b"]
[null,null,null,null,"دور باسن","c"]
[null,null,null,null,"نوار باسن از پشت بین دو خط پهلو","d"]
[null,null,null,null,"فاصله نوار کمر تا زمین، از قسمت جلو","e"]
[null,null,null,null,"فاصله نوار کمر تا زمین، از قسمت پهلو","f"]
[null,null,null,null,"فاصله نوار کمر تا زمین، از قسمت پشت","g"]
[null,null,null,null,"فاصله نوار زانو تا زمین","h"]
[null,null,null,null,"فاصله نوار باسن تا زمین","j"]
[null,null,null,null,"دور زانو","L"]
[null,null,null,null,"بلندی فاق","m"]
[null,null,null,null,"آنفورشور","q"]
[null,null,null,null,"دور مچ پا","r"]
[null,null,null,null,"شلوار زنانه و بچگانه = 0       مردانه=1      بچه با پوشک=2"]
[null,null,null,null,"دور سینه : از برجسته ترین قسمت سینه","s1"]
[null,null,null,null,"پشت نوار سینه، بین دو خط پهلو","s2"]
[null,null,null,null,"فاصله عمودی از خط سینه جلو تا خط سینه پشت که از کنار حلقه آستین بگذرد","t1"]
[null,null,null,null,"فاصله عمودی از خط سینه جلو تا خط سینه پشت که از کنارگردن بگذرد","t2"]
[null,null,null,null,"فاصله عمودی از خط کمر جلو تا خط کمر پشت که از کنار گردن بگذرد","t3"]
[null,null,null,null,"فاصله عمودی بین خط سینه پشت و سرشانه، نزدیک دست","t4"]
[null,null,null,null,"فاصله عمودی بین خط سینه پشت و سرشانه، نزدیک گردن","t5"]
[null,null,null,null,"فاصله عمودی بین خط کمرپشت و سرشانه، نزدیک گردن","t6"]
[null,null,null,null,"دور گردن (متر به طور عمودی دور گردن قرار می گیرد و از روی استخوان ترقوه می گذرد)","v"]
[null,null,null,null,"کارور پشت (بین دو خط امتداد زیر بغل)","v3"]
[null,null,null,null,"دور بازو از ناحیه زیر بغل","w2"]
[null,null,null,null,"قد آستین (دست به طور خمیده، قد از سرشانه تا مچ)","w10"]
[null,null,null,null,"دور مچ دست","w11"]
[null,null,null,null,"دور سر","w12"]

{"sheet":"اندازه گیری و تحلیل","index":5,"n_rows":487,"n_cols":26,"rows_kept":487,"cut":false,"hidden":false,"merged":[[401,25,402,25],[222,8,222,13]]}
[]
[]
[]
[null,null,null,null,null,"0 الی 30","خیلی کم"]
[null,null,null,"برای اندام شما :",null,"30 الی 50","کم",null,null,null,"قد سرشانه تا زمین",{"$f":"L419","v":160}]
[null,null,null,"برجستگی سینه جلو",null,"50 الی 70","متوسط",null,null,null,"تمام قد (تقریبی)",{"$f":"L420","v":180}]
[null,null,null,{"$f":"L479","v":73},null,"70 الی 90","زیاد"]
[null,null,null,null,null,"90 الی 200","خیلی زیاد"]
[]
[]
[]
[null,null,null,null,null,"0 الی 20","خیلی کم"]
[null,null,null,"برای اندام شما :",null,"20 الی 40","کم"]
[null,null,null,"برجستگی باسن",null,"40 الی 60","متوسط"]
[null,null,null,{"$f":"L476","v":57},null,"60 الی 80","زیاد"]
[null,null,null,null,null,"80 الی 200","خیلی زیاد"]
[]
[]
[]
[null,null,null,null,null,"3 الی - 20","شکم تخت"]
[null,null,null,"برای اندام شما :",null,"3 الی 6"]
[null,null,null,"برجستگی شکم نسبت به سینه",null,"6 الی 10"]
[null,null,null,{"$f":"L484","v":5},null,"10 الی 20","شکم در امتداد سینه"]
[null,null,null,null,null,"20 الی 30","شکم برجسته تراز سینه"]
[null,null,null,null,null,"30 الی 40","شکم حاملگی"]
[null,null,null,null,null,"40 الی 150","شکم حاملگی بزرگ"]
[]
[]
[]
[null,null,null,null,null,"0الی 10","خیلی کم"]
[null,null,null,"برای اندام شما :",null,"10 الی 15","کم"]
[null,null,null,"افتادگی سرشانه",null,"15 الی 20","متوسط"]
[null,null,null,{"$f":"L474","v":20},null,"20 الی 25","زیاد"]
[null,null,null,null,null,"25 الی 50","خیلی زیاد"]
[]
[]
[]
[]
[]
[]
[]
[]
[]
[]
[]
[]
[]
[]
[]
[]
[]
[]
[null,null,null,"خطای درجه 1 "]
[null,null,null,{"$f":"IF(AND(V404>20,V404<200),\" \",\" اندازه  a تکرار شود.\")","v":" "}]
[null,null,null,{"$f":"IF(AND(V405>10,V405<100),\" \",\" اندازه  b تکرار شود.\")","v":" "}]
[null,null,null,{"$f":"IF(AND(V406>20,V406<200),\" \",\" اندازه  c تکرار شود.\")","v":" "}]
[null,null,null,{"$f":"IF(AND(V407>10,V407<100),\" \",\" اندازه  d تکرار شود.\")","v":" "}]
[null,null,null,{"$f":"IF(AND(V408>15,V408<140),\" \",\" اندازه  e تکرار شود.\")","v":" "}]
[]
[null,null,null,{"$f":"IF(AND(V410>15,V410<140),\" \",\" اندازه  g تکرار شود.\")","v":" "}]
[null,null,null,{"$f":"IF(AND(V411>5,V411<70),\" \",\" اندازه  h تکرار شود.\")","v":" "}]
[null,null,null,{"$f":"IF(AND(V412>10,V412<120),\" \",\" اندازه  j تکرار شود.\")","v":" "}]
[null,null,null,{"$f":"IF(AND(V413>15,V413<70),\" \",\" اندازه  L تکرار شود.\")","v":" "}]
[null,null,null,{"$f":"IF(AND(W414>10,W414<50),\" \",\" اندازه  m تکرار شود.\")","v":" "}]
[null,null,null,{"$f":"IF(AND(V415>25,V415<140),\" \",\" اندازه  q تکرار شود.\")","v":" "}]
[null,null,null,{"$f":"IF(AND(V416>10,V416<80),\" \",\" اندازه  r تکرار شود.\")","v":" "}]
[null,null,null,{"$f":"IF(AND(V424>20,V424<200),\" \",\" اندازه  s1 تکرار شود.\")","v":" "}]
[null,null,null,{"$f":"IF(AND(V425>10,V425<100),\" \",\" اندازه  s2 تکرار شود.\")","v":" "}]
[null,null,null,{"$f":"IF(AND(V426>12,V426<75),\" \",\" اندازه  t1 تکرار شود.\")","v":" "}]
[null,null,null,{"$f":"IF(AND(V427>13,V427<80),\" \",\" اندازه  t2 تکرار شود.\")","v":" "}]
[null,null,null,{"$f":"IF(AND(V428>20,V428<120),\" \",\" اندازه  t3 تکرار شود.\")","v":" "}]
[null,null,null,{"$f":"IF(AND(V429>6,V429<40),\" \",\" اندازه  t4 تکرار شود.\")","v":" "}]
[null,null,null,{"$f":"IF(AND(V430>7,V430<50),\" \",\" اندازه  t5 تکرار شود.\")","v":" "}]
[null,null,null,{"$f":"IF(AND(V431>10,V431<70),\" \",\" اندازه  t6 تکرار شود.\")","v":" "}]
[null,null,null,{"$f":"IF(AND(V432>15,V432<55),\" \",\" اندازه  v  تکرار شود.\")","v":" "}]
[null,null,null,{"$f":"IF(AND(V433>10,V433<80),\" \",\" اندازه  v3 تکرار شود.\")","v":" "}]
[null,null,null,{"$f":"IF(AND(V434>10,V434<70),\" \",\" اندازه  w2 تکرار شود.\")","v":" "}]
[null,null,null,{"$f":"IF(AND(V435>10,V435<80),\" \",\" اندازه  w10 تکرار شود.\")","v":" "}]
[null,null,null,{"$f":"IF(AND(V436>8,V436<30),\" \",\" اندازه  w11 تکرار شود.\")","v":" "}]
[null,null,null,{"$f":"IF(AND(V437>20,V437<70),\" \",\" اندازه  w12 تکرار شود.\")","v":" "}]
[]
[null,null,null,"خطای درجه 2 "]
[null,null,null,{"$f":"IF(W412>0.9*W410,\"اندازه  j  را دوباره تکرار کنید - j کم شود.\",\"  \")","v":"  "}]
[null,null,null,{"$f":"IF(W411>0.65*W412,\"اندازه گیری h را دوباره تکرار کنید - h کم شود.\",\"  \")","v":"  "}]
[null,null,null,{"$f":"IF(W414>0.45*W415,\"یا m کم شود یا q زیاد شود.\",\"  \")","v":"  "}]
[null,null,null,{"$f":"IF(V413>0.47*V406,\"اندازه گیری  L را دوباره تکرار کنید - L کم شود.\",\"  \")","v":"  "}]
[null,null,null,{"$f":"IF(V416>1.7*V436,\"دور مچ پا (r)  کم شود\",\"  \")","v":"  "}]
[null,null,null,{"$f":"IF(V416<1.2*V436,\"دور مچ پا (r)  زیاد شود\",\"  \")","v":"  "}]
[null,null,null,{"$f":"IF(V413<0.3*V406,\"اندازه گیری  L را دوباره تکرار کنید - زیاد شود.\",\"  \")","v":"  "}]
[null,null,null,{"$f":"IF(W412<0.65*W410,\"اندازه  j  را دوباره تکرار کنید - j زیاد شود.\",\"  \")","v":"  "}]
[null,null,null,{"$f":"IF(W415<0.5*V406,\"اندازه گیری  q را دوباره تکرار کنید - q زیاد شود.\",\"  \")","v":"  "}]
[null,null,null,{"$f":"IF(W414<0.3*W415,\"یا m زیاد شود یا q کم شود.\",\"  \")","v":"  "}]
[null,null,null,{"$f":"IF(V407>0.7*V406,\"نوار پهلو در قسمت باسن به سمت پشت متمایل شود و اندازه های d و c تکرار شود\",\"  \")","v":"  "}]
[null,null,null,{"$f":"IF(V405>0.7*V404,\"نوار پهلو در قسمت کمر به سمت پشت متمایل شود و اندازه های a و b تکرار شود\",\"  \")","v":"  "}]
[null,null,null,{"$f":"IF(W427>0.8*W428,\"نوار سینه و نوار کمر در جلو از هم دور شود و اندازه های t2 و t3 و t5 و t6 تکرار شود.\",\"  \")","v":"  "}]
[null,null,null,{"$f":"IF(V430>0.75*V431,\"نوار کمر و نوار سینه در پشت از هم دور شود و اندازه های t6  و t5 تکرار شود.\",\"  \")","v":"  "}]
[null,null,null,{"$f":"IF(W426>0.99*W427,\"اندام با سینه تو رفته، نوار سینه و نوار سرشانه افقی و صاف شود و اندازه های t1 و t2 و t4 و t5 تکرار شود.\",\"  \")","v":"  "}]
[null,null,null,{"$f":"IF(V429>V430,\"نوار سینه و نوار سرشانه افقی و صاف شود و اندازه های t5  و t4 تکرار شود.\",\"  \")","v":"  "}]
[null,null,null,{"$f":"IF(V432>0.6*V424,\"اندازه های s1  و v تکرار شود.\",\"  \")","v":"  "}]
[null,null,null,{"$f":"IF(V434>0.6*V424,\"اندازه های s1  و w2 تکرار شود.\",\"  \")","v":"  "}]
[null,null,null,{"$f":"IF(V435<0.5*V428,\"اندازه های t3  و w10 تکرار شود.\",\"  \")","v":"  "}]
[null,null,null,{"$f":"IF(V436>V434,\"اندازه های w2  و w11 تکرار شود.\",\"  \")","v":"  "}]
[null,null,null,{"$f":"IF((V433)>V425,\"اندازه - کارور پشت - باید کوچکتر از اندازه - سینه از پشت - باشد.\",\"  \")","v":"  "}]
[null,null,null,{"$f":"IF(V425>0.6*V424,\"نوار پهلو در قسمت سینه به سمت پشت متمایل شود و اندازه های s2 و s1 تکرار شود\",\"  \")","v":"  "}]
[null,null,null,{"$f":"IF(V425<0.35*V424,\"نوار پهلو در قسمت سینه به سمت جلو متمایل شود و اندازه های s2 و s1 تکرار شود\",\"  \")","v":"  "}]
[]
[null,null,null,"خطای درجه 3 "]
[null,null,null,{"$f":"IF(((V415-2*W414-0.03*V406)/(V406))<0.1,\" یا m کم شود و یا q زیاد شود\",\"  \")","v":"  "}]
[null,null,null,{"$f":"IF(((V415-2*W414-0.03*V406)/(V406))>0.16,\"یا m زیاد شود و یا q کم شود\",\"  \")","v":"  "}]
[null,null,null,{"$f":"IF(V412>(W409-0.5*W414),\"یا اندازه j کم شود یا اندازه m کم شود.\",\"  \")","v":"  "}]
[null,null,null,{"$f":"IF(V412<(W409-0.8*W414),\"یا اندازه j زیاد شود یا اندازه m زیاد شود.\",\"  \")","v":"  "}]
[null,null,null,{"$f":"IF(((V415-2*W414-0.03*V406)/(V406))<0.105,\" بهتر است یا m کم شود و یا q زیاد شود\",\"  \")","v":"  "}]
[null,null,null,{"$f":"IF(((V415-2*W414-0.03*V406)/(V406))>0.14,\"بهتر است یا m زیاد شود و یا q کم شود\",\"  \")","v":"  "}]
[null,null,null,{"$f":"IF((0.5*(V425-V433))<(0.05*V434),\"نوار پهلو در قسمت سینه به سمت جلو متمایل شود تا اندازه   s2  زیاد شود.\",\"  \")","v":"  "}]
[null,null,null,{"$f":"IF((0.5*(V425-V433))>(0.15*V434),\"نوار پهلو در قسمت سینه به سمت پشت متمایل شود تا اندازه  s2  کم شود.\",\"  \")","v":"  "}]
[null,null,null,{"$f":"IF(L470<-0.22,\"برای کاهش اختلاف بین افتادگی سرشانه پشت و جلو،اندازه t5 کم شود.\",\"  \")","v":"  "}]
[null,null,null,{"$f":"IF(AND(L469<30,L468<30,L470>0,L470>0.22),\"برای کاهش اختلاف بین افتادگی سرشانه پشت و جلو اندازه t5 زیاد شود.\",\"  \")","v":"  "}]
[null,null,null,{"$f":"IF(OR(L470>0.22,L470<-0.22,L469>30,L468>30),\" \",IF(L472<-3,\"اندازه t3 زیاد شود.\",\"  \"))","v":"  "}]
[null,null,null,{"$f":"IF(OR(L469>30,L468>30,L470>0.22,L470<-0.22),\" \",IF(L472>30,\"شکم برجسته تر از سینه است (در حد بارداری) برای کم کردن برجستگی t3 کم شود.\",\"  \"))","v":"  "}]
[null,null,null,{"$f":"IF(OR(L468>30,L469>30,L470>0.22,L470<-0.22),\" \",IF(AND(L472>15,L472<30),\"شکم برجسته تر از سینه است - برای کم کردن برجستگی t3 کم شود.\",\"  \"))","v":"  "}]
[null,null,null,{"$f":"IF(L469>30,\"سرشانه جلو بیش از حد افتاده است.  t2 کم شود.\",\"  \")","v":"  "}]
[null,null,null,{"$f":"IF(L468>30,\"سرشانه پشت بیش از حد افتاده است.  t5 کم شود.\",\"  \")","v":"  "}]
[null,null,null,{"$f":"IF(M433>1.14*M432-0.14*M425,\"اندازه کارور پشت کم شود\",\"  \")","v":"  "}]
[null,null,null,{"$f":"IF(L478<1,\"اندازه کارور پشت کم شود\",\"  \")","v":"  "}]
[]
[]
[]
[]
[]
[]
[]
[]
[]
[]
[]
[]
[]
[]
[]
[]
[]
[]
[null,null,null,"انتخاب نوع اندازه گیری"]
[null,null,null,"انتخاب بلندی فاق"]
[null,null,null,"گزینه \" اندازه جدید \" را انتخاب کنید"]
[]
[]
[]
[null,null,null,"a   دور کمر",0]
[]
[]
[null,null,null," c   دور باسن",0]
[]
[]
[null,null,null," s1    دور سینه : از برجسته ترین قسمت سینه",0]
[]
[]
[null,null,null," w10   قد آستین (دست به طور خمیده، قد از سرشانه تا مچ)",0]
[]
[]
[null,null,null," f    فاصله نوار کمر تا زمین، از قسمت پهلو",0]
[]
[]
[null,null,null," m   بلندی فاق",0]
[]
[]
[null,null,null," w2   دور بازو از ناحیه زیر بغل",0]
[]
[]
[null,null,null," w11   دور مچ دست",0]
[]
[]
[null,null,null," V    دور گردن (متر به طور عمودی دور گردن قرار می گیرد و از روی استخوان ترقوه می گذرد)",0]
[]
[]
[null,null,null," w12   دور سر",0]
[]
[]
[null,null,null," t3     فاصله عمودی از خط کمر جلو تا خط کمر پشت که از کنار گردن بگذرد",0]
[]
[]
[null,null,null,{"$f":"IF(OR('متغیرها '!W5=1,'متغیرها '!W5=3,'متغیرها '!W5=4),\" t2    فاصله عمودی از خط سینه جلو تا خط سینه پشت که از کنارگردن بگذرد  \",\"   \")","v":" t2    فاصله عمودی از خط سینه جلو تا خط سینه پشت که از کنارگردن بگذرد  "},0]
[]
[]
[null,null,null,{"$f":"IF(OR('متغیرها '!W5=1,'متغیرها '!W5=3,'متغیرها '!W5=4),\"V3   کارور پشت (بین دو خط امتداد زیر بغل)  \",\"   \")","v":"V3   کارور پشت (بین دو خط امتداد زیر بغل)  "},0]
[]
[]
[null,null,null,{"$f":"IF(OR('متغیرها '!W5=1,'متغیرها '!W5=4),\" g    فاصله نوار کمر تا زمین، از قسمت پشت  \",\"   \")","v":"   "}]
[]
[]
[null,null,null,{"$f":"IF(OR('متغیرها '!W5=1,'متغیرها '!W5=4),\" e   فاصله نوار کمر تا زمین، از قسمت جلو  \",\"   \")","v":"   "}]
[]
[]
[null,null,null,{"$f":"IF(OR('متغیرها '!W5=1,'متغیرها '!W5=4),\" j    فاصله نوار باسن تا زمین  \",\"   \")","v":"   "}]
[]
[]
[null,null,null,{"$f":"IF(OR('متغیرها '!W5=1,'متغیرها '!W5=4),\" h    فاصله نوار زانو تا زمین  \",\"   \")","v":"   "}]
[]
[]
[null,null,null,{"$f":"IF(OR('متغیرها '!W5=1,'متغیرها '!W5=4),\"  L   دور زانو  \",\"   \")","v":"   "}]
[]
[]
[null,null,null,{"$f":"IF(OR('متغیرها '!W5=1,'متغیرها '!W5=4),\" r    دور مچ پا  \",\"   \")","v":"   "}]
[]
[]
[null,null,null,{"$f":"IF(OR('متغیرها '!W5=1,'متغیرها '!W5=4),\"  q    آنفورشور  \",\"   \")","v":"   "}]
[]
[]
[null,null,null,{"$f":"IF(OR('متغیرها '!W5=1,'متغیرها '!W5=4),\" b   نوار کمر از پشت بین دو خط پهلو  \",\"   \")","v":"   "}]
[]
[]
[null,null,null,{"$f":"IF(OR('متغیرها '!W5=1,'متغیرها '!W5=4),\" s2    پشت نوار سینه، بین دو خط پهلو  \",\"   \")","v":"   "}]
[]
[]
[null,null,null,{"$f":"IF(OR('متغیرها '!W5=1,'متغیرها '!W5=4),\"  d   نوار باسن از پشت بین دو خط پهلو  \",\"   \")","v":"   "}]
[]
[]
[null,null,null,{"$f":"IF('متغیرها '!W5=1,\" t1    فاصله عمودی از خط سینه جلو تا خط سینه پشت که از کنار حلقه آستین بگذرد  \",\"   \")","v":"   "}]
[]
[]
[null,null,null,{"$f":"IF('متغیرها '!W5=1,\"t4     فاصله عمودی بین خط سینه پشت و سرشانه، نزدیک دست  \",\"   \")","v":"   "}]
[]
[null,null,null,null,null,null,null,null,"اگر تحلیل اندام با شکل واقعی اندام که مشاهده میکنید متفاوت است، میتوانید تغییرات زیر را در اندازه هایی که وارد کردید اعمال کنید :"]
[null,null,null,{"$f":"IF('متغیرها '!W5=1,\"t5     فاصله عمودی بین خط سینه پشت و سرشانه، نزدیک گردن  \",\"   \")","v":"   "},null,null,null,null,"برای افزایش برجستگی سینه ،  v3 (کارور پشت) کم شود."]
[null,null,null,null,null,null,null,null,"برای افزایش برجستگی باسن ،  d  زیاد شود."]
[null,null,null,null,null,null,null,null,"برای کاهش برجستگی شکم، t3 کم شود."]
[null,null,null,{"$f":"IF('متغیرها '!W5=1,\" t6    فاصله عمودی بین خط کمر و سرشانه، نزدیک گردن  \",\"   \")","v":"   "},null,null,null,null,{"$f":"ROUND(L469,0)","v":22},"زاویه سرشانه جلو",null,"برای کاهش افتادگی سرشانه جلو، t2 کم شود."]
[null,null,null,null,null,null,null,null,{"$f":"ROUND(L468,0)","v":18},"زاویه سرشانه پشت",null,"برای کاهش افتادگی سرشانه پشت، t5 کم شود."]
[]
[]
[]
[]
[]
[]
[]
[]
[]
[]
[]
[]
[]
[]
[]
[]
[]
[]
[]
[]
[]
[]
[]
[]
[]
[]
[]
[]
[]
[]
[]
[]
[]
[]
[]
[]
[]
[null,null,null,"انتخاب نوع سایزبندی"]
[]
[]
[null,null,null,"    دور سینه : از برجسته ترین قسمت سینه",0,null,null,null,null,{"$f":"'متغیرها '!V44","v":" کوچکتر از سایز 34 "}]
[]
[]
[null,null,null,"    دور باسن",0,null,null,null,null,{"$f":"'متغیرها '!V42","v":" کوچکتر از سایز 34 "}]
[]
[]
[null,null,null,"   دور کمر",0,null,null,null,null,{"$f":"'متغیرها '!V43","v":" کوچکتر از سایز 34 "}]
[]
[]
[]
[]
[]
[]
[]
[]
[]
[]
[]
[]
[]
[]
[]
[]
[]
[]
[]
[]
[]
[]
[]
[]
[]
[]
[null,null,null,null,null,"ستون آبی رنگ را کپی کرده بعد به صورت عدد در صفحه اندازه های شخصی ذخیره کنید"]
[]
[null,null,null,"دور کمر","a",{"$f":"V404","v":131}]
[null,null,null,"نوار کمر از پشت بین دو خط پهلو","b",63.6]
[null,null,null,"دور باسن","c",150]
[null,null,null,"نوار باسن از پشت بین دو خط پهلو","d",79.8]
[null,null,null,"فاصله نوار کمر تا زمین، از قسمت جلو","e",108.9]
[null,null,null,"فاصله نوار کمر تا زمین، از قسمت پهلو","f",110]
[null,null,null,"فاصله نوار کمر تا زمین، از قسمت پشت","g",111.1]
[null,null,null,"فاصله نوار زانو تا زمین","h",46.7]
[null,null,null,"فاصله نوار باسن تا زمین","j",87.3]
[null,null,null,"دور زانو","L",61.5]
[null,null,null,"بلندی فاق","m",33.5]
[null,null,null,"آنفورشور","q",91.7]
[null,null,null,"دور مچ پا","r",30]
[null,null,null,"شلوار زنانه و بچگانه = 0       مردانه=1      بچه با پوشک=2",null,{"$f":"V418","v":0}]
[null,null,null,"دور سینه : از برجسته ترین قسمت سینه","s1",{"$f":"V424","v":146}]
[null,null,null,"پشت نوار سینه، بین دو خط پهلو","s2",67.5]
[null,null,null,"فاصله عمودی از خط سینه جلو تا خط سینه پشت که از کنار حلقه آستین بگذرد","t1",46.5]
[null,null,null,"فاصله عمودی از خط سینه جلو تا خط سینه پشت که از کنارگردن بگذرد","t2",63.3]
[null,null,null,"فاصله عمودی از خط کمر جلو تا خط کمر پشت که از کنار گردن بگذرد","t3",100]
[null,null,null,"فاصله عمودی بین خط سینه پشت و سرشانه، نزدیک دست","t4",23.8]
[null,null,null,"فاصله عمودی بین خط سینه پشت و سرشانه، نزدیک گردن","t5",30.5]
[null,null,null,"فاصله عمودی بین خط کمرپشت و سرشانه، نزدیک گردن","t6",46.9]
[null,null,null,"دور گردن (متر به طور عمودی دور گردن قرار می گیرد و از روی استخوان ترقوه می گذرد)","v",50]
[null,null,null,"کارور پشت (بین دو خط امتداد زیر بغل)","v3",55.5]
[null,null,null,"دور بازو از ناحیه زیر بغل","w2",46]
[null,null,null,"قد آستین (دست به طور خمیده، قد از سرشانه تا مچ)","w10",64]
[null,null,null,"دور مچ دست","w11",23]
[null,null,null,"دور سر","w12",57]
[]
[]
[]
[]
[]
[]
[]
[]
[]
[]
[]
[]
[]
[]
[]
[]
[]
[]
[]
[]
[null,null,null,"گزینه \" اندازه های موجود \" را انتخاب کنید"]
[null,null,null,"سایز یا اندازه شخصی خود را انتخاب کنید"]
[]
[null,null,null,"دور کمر","a",{"$f":"'متغیرها '!W52","v":131}]
[null,null,null,"نوار کمر از پشت بین دو خط پهلو","b",{"$f":"'متغیرها '!W53","v":63.6}]
[null,null,null,"دور باسن","c",{"$f":"'متغیرها '!W54","v":150}]
[null,null,null,"نوار باسن از پشت بین دو خط پهلو","d",{"$f":"'متغیرها '!W55","v":79.8}]
[null,null,null,"فاصله نوار کمر تا زمین، از قسمت جلو","e",{"$f":"'متغیرها '!W56","v":108.9}]
[null,null,null,"فاصله نوار کمر تا زمین، از قسمت پهلو","f",{"$f":"'متغیرها '!W57","v":110}]
[null,null,null,"فاصله نوار کمر تا زمین، از قسمت پشت","g",{"$f":"'متغیرها '!W58","v":111.1}]
[null,null,null,"فاصله نوار زانو تا زمین","h",{"$f":"'متغیرها '!W59","v":46.7}]
[null,null,null,"فاصله نوار باسن تا زمین","j",{"$f":"'متغیرها '!W60","v":87.3}]
[null,null,null,"دور زانو","L",{"$f":"'متغیرها '!W61","v":61.5}]
[null,null,null,"بلندی فاق","m",{"$f":"'متغیرها '!W62","v":33.5}]
[null,null,null,"آنفورشور","q",{"$f":"'متغیرها '!W63","v":91.7}]
[null,null,null,"دور مچ پا","r",{"$f":"'متغیرها '!W64","v":30}]
[null,null,null,"شلوار زنانه و بچگانه = 0       مردانه=1      بچه با پوشک=2",null,{"$f":"'متغیرها '!W66","v":0}]
[null,null,null,"دور سینه : از برجسته ترین قسمت سینه","s1",{"$f":"'متغیرها '!W72","v":146}]
[null,null,null,"پشت نوار سینه، بین دو خط پهلو","s2",{"$f":"'متغیرها '!W73","v":67.5}]
[null,null,null,"فاصله عمودی از خط سینه جلو تا خط سینه پشت که از کنار حلقه آستین بگذرد","t1",{"$f":"'متغیرها '!W74","v":46.5}]
[null,null,null,"فاصله عمودی از خط سینه جلو تا خط سینه پشت که از کنارگردن بگذرد","t2",{"$f":"'متغیرها '!W75","v":63.3}]
[null,null,null,"فاصله عمودی از خط کمر جلو تا خط کمر پشت که از کنار گردن بگذرد","t3",{"$f":"'متغیرها '!W76","v":100}]
[null,null,null,"فاصله عمودی بین خط سینه پشت و سرشانه، نزدیک دست","t4",{"$f":"'متغیرها '!W77","v":23.8}]
[null,null,null,"فاصله عمودی بین خط سینه پشت و سرشانه، نزدیک گردن","t5",{"$f":"'متغیرها '!W78","v":30.5}]
[null,null,null,"فاصله عمودی بین خط کمرپشت و سرشانه، نزدیک گردن","t6",{"$f":"'متغیرها '!W79","v":46.9}]
[null,null,null,"دور گردن (متر به طور عمودی دور گردن قرار می گیرد و از روی استخوان ترقوه می گذرد)","v",{"$f":"'متغیرها '!W80","v":50}]
[null,null,null,"کارور پشت (بین دو خط امتداد زیر بغل)","v3",{"$f":"'متغیرها '!W81","v":55.5}]
[null,null,null,"دور بازو از ناحیه زیر بغل","w2",{"$f":"'متغیرها '!W82","v":46}]
[null,null,null,"قد آستین (دست به طور خمیده، قد از سرشانه تا مچ)","w10",{"$f":"'متغیرها '!W83","v":64}]
[null,null,null,"دور مچ دست","w11",{"$f":"'متغیرها '!W84","v":23}]
[null,null,null,"دور سر","w12",{"$f":"'متغیرها '!W85","v":57}]
[]
[]
[]
[]
[]
[]
[]
[]
[]
[]
[]
[]
[]
[]
[]
[]
[]
[]
[]
[null,null,null,null,null,null,null,null,null,null,null,null,null,"کپی شود",null,"کپی شود",null,"کپی شود",null,"کپی شود",null,"اندازه جدید یا اندازه قبلی",null,null,null,"کپی اندازه های قبلی از فایل دیگر"]
[null,null,null,null,null,null,null,null,null,null,null,"اندازه ها در دامن و شلوار","اندازه جدید","اندازه گیری پیشرفته و با جزییات",null,"اندازه گیری مردان و بچه ها",null,"اندازه گیری زنان",null,"اندازه گیری پیشرفته زنان",null,"اندازه گیری تحلیل شده"," اندازه محاسبه شده برای تحلیل"]
[null,null,null,null,null,null,null,null,null,null,null,"دور کمر",{"$f":"E149","v":0},{"$f":"ROUND(M404,1)","v":0},{"$f":"ROUND(N404-0.02*N404*N418,1)","v":0},{"$f":"ROUND(M404,1)","v":0},{"$f":"ROUND(P404-0.02*P404*P418,1)","v":0},{"$f":"ROUND(M404,1)","v":0},{"$f":"ROUND(R404-0.02*R404*R418,1)","v":0},{"$f":"ROUND(M404,1)","v":0},{"$f":"ROUND(T404-0.02*T404*T418,1)","v":0},{"$f":"IF('متغیرها '!X5=2,'اندازه گیری و تحلیل'!F355,IF('متغیرها '!W5=1,'اندازه گیری و تحلیل'!N404,(IF('متغیرها '!W5=2,'اندازه گیری و تحلیل'!P404,(IF('متغیرها '!W5=3,'اندازه گیری و تحلیل'!R404,'اندازه گیری و تحلیل'!T404))))))","v":131},{"$f":"ROUND(V404-0.02*V404*V418,1)","v":131}]
[null,null,null,null,null,null,null,null,null,null,null,"نوار کمر از پشت بین دو خط پهلو",{"$f":"E209","v":0},0,{"$f":"ROUND(N405-0.02*N405*N418,1)","v":0},{"$f":"ROUND(0.49*P404,1)","v":0},{"$f":"ROUND(P405-0.02*P405*P418,1)","v":0},{"$f":"ROUND(0.46*R404,1)","v":0},{"$f":"ROUND(R405-0.02*R405*R418,1)","v":0},0,{"$f":"ROUND(T405-0.02*T405*T418,1)","v":0},{"$f":"IF('متغیرها '!X5=2,'اندازه گیری و تحلیل'!F356,IF('متغیرها '!W5=1,'اندازه گیری و تحلیل'!N405,(IF('متغیرها '!W5=2,'اندازه گیری و تحلیل'!P405,(IF('متغیرها '!W5=3,'اندازه گیری و تحلیل'!R405,'اندازه گیری و تحلیل'!T405))))))","v":63.6},{"$f":"ROUND(V405-0.02*V405*V418,1)","v":63.6}]
[null,null,null,null,null,null,null,null,null,null,null,"دور باسن",{"$f":"E152","v":0},0,{"$f":"ROUND(N406+0.01*N406*N418,1)","v":0},{"$f":"ROUND(M406,1)","v":0},{"$f":"ROUND(P406+0.01*P406*P418,1)","v":0},{"$f":"ROUND(M406,1)","v":0},{"$f":"ROUND(R406+0.01*R406*R418,1)","v":0},0,{"$f":"ROUND(T406+0.01*T406*T418,1)","v":0},{"$f":"IF('متغیرها '!X5=2,'اندازه گیری و تحلیل'!F357,IF('متغیرها '!W5=1,'اندازه گیری و تحلیل'!N406,(IF('متغیرها '!W5=2,'اندازه گیری و تحلیل'!P406,(IF('متغیرها '!W5=3,'اندازه گیری و تحلیل'!R406,'اندازه گیری و تحلیل'!T406))))))","v":150},{"$f":"ROUND(V406+0.01*V406*V418,1)","v":150}]
[null,null,null,null,null,null,null,null,null,null,null,"نوار باسن از پشت بین دو خط پهلو",{"$f":"E215","v":0},0,{"$f":"ROUND(N407+0.01*N406*N418,1)","v":0},{"$f":"ROUND(0.53*P406+0.03*P406*IF(P418=2,1,0),1)","v":0},{"$f":"ROUND(P407+0.01*P406*P418,1)","v":0},{"$f":"ROUND(0.51*R406,1)","v":0},{"$f":"ROUND(R407+0.01*R406*R418,1)","v":0},0,{"$f":"ROUND(T407+0.01*T406*T418,1)","v":0},{"$f":"IF('متغیرها '!X5=2,'اندازه گیری و تحلیل'!F358,IF('متغیرها '!W5=1,'اندازه گیری و تحلیل'!N407,(IF('متغیرها '!W5=2,'اندازه گیری و تحلیل'!P407,(IF('متغیرها '!W5=3,'اندازه گیری و تحلیل'!R407,'اندازه گیری و تحلیل'!T407))))))","v":79.8},{"$f":"ROUND(V407+0.01*V406*V418,1)","v":79.8}]
[null,null,null,null,null,null,null,null,null,null,null,"فاصله نوار کمر تا زمین، از قسمت جلو",{"$f":"E191","v":0},0,{"$f":"ROUND(N408,1)","v":0},{"$f":"ROUND(0.999*P409,1)","v":0},{"$f":"ROUND(P408,1)","v":0},{"$f":"ROUND(0.995*R409,1)","v":0},{"$f":"ROUND(R408,1)","v":0},0,{"$f":"ROUND(T408,1)","v":0},{"$f":"IF('متغیرها '!X5=2,'اندازه گیری و تحلیل'!F359,IF('متغیرها '!W5=1,'اندازه گیری و تحلیل'!N408,(IF('متغیرها '!W5=2,'اندازه گیری و تحلیل'!P408,(IF('متغیرها '!W5=3,'اندازه گیری و تحلیل'!R408,'اندازه گیری و تحلیل'!T408))))))","v":108.9},{"$f":"ROUND(V408,1)","v":108.9}]
[null,null,null,null,null,null,null,null,null,null,null,"فاصله نوار کمر تا زمین، از قسمت پهلو",{"$f":"E161","v":0},0,0,{"$f":"ROUND(M409,1)","v":0},0,{"$f":"ROUND(M409,1)","v":0},0,0,0,{"$f":"IF('متغیرها '!X5=2,'اندازه گیری و تحلیل'!F360,IF('متغیرها '!W5=1,'اندازه گیری و تحلیل'!N409,(IF('متغیرها '!W5=2,'اندازه گیری و تحلیل'!P409,(IF('متغیرها '!W5=3,'اندازه گیری و تحلیل'!R409,'اندازه گیری و تحلیل'!T409))))))","v":110},{"$f":"ROUND(0.5*(V408+V410),1)","v":110}]
[null,null,null,null,null,null,null,null,null,null,null,"فاصله نوار کمر تا زمین، از قسمت پشت",{"$f":"E188","v":0},0,0,{"$f":"ROUND(1.001*P409,1)","v":0},0,{"$f":"ROUND(1.005*R409,1)","v":0},0,0,0,{"$f":"IF('متغیرها '!X5=2,'اندازه گیری و تحلیل'!F361,IF('متغیرها '!W5=1,'اندازه گیری و تحلیل'!N410,(IF('متغیرها '!W5=2,'اندازه گیری و تحلیل'!P410,(IF('متغیرها '!W5=3,'اندازه گیری و تحلیل'!R410,'اندازه گیری و تحلیل'!T410))))))","v":111.1},{"$f":"ROUND(V410,1)","v":111.1}]
[null,null,null,null,null,null,null,null,null,null,null,"فاصله نوار زانو تا زمین",{"$f":"E197","v":0},0,0,{"$f":"ROUND(0.55*P412*(1-0.15*IF(M418=2,1,0)),1)","v":0},0,{"$f":"ROUND(0.53*R412,1)","v":0},0,0,0,{"$f":"IF('متغیرها '!X5=2,'اندازه گیری و تحلیل'!F362,IF('متغیرها '!W5=1,'اندازه گیری و تحلیل'!N411,(IF('متغیرها '!W5=2,'اندازه گیری و تحلیل'!P411,(IF('متغیرها '!W5=3,'اندازه گیری و تحلیل'!R411,'اندازه گیری و تحلیل'!T411))))))","v":46.7},{"$f":"ROUND(V411,1)","v":46.7}]
[null,null,null,null,null,null,null,null,null,null,null,"فاصله نوار باسن تا زمین",{"$f":"E194","v":0},0,0,{"$f":"ROUND(P409-Q414+L445+0.1*L446,1)","v":0},0,{"$f":"ROUND(R409-S414+L445-0.3*L446,1)","v":0},0,0,0,{"$f":"IF('متغیرها '!X5=2,'اندازه گیری و تحلیل'!F363,IF('متغیرها '!W5=1,'اندازه گیری و تحلیل'!N412,(IF('متغیرها '!W5=2,'اندازه گیری و تحلیل'!P412,(IF('متغیرها '!W5=3,'اندازه گیری و تحلیل'!R412,'اندازه گیری و تحلیل'!T412))))))","v":87.3},{"$f":"ROUND(V412,1)","v":87.3}]
[null,null,null,null,null,null,null,null,null,null,null,"دور زانو",{"$f":"E200","v":0},0,0,{"$f":"ROUND(0.41*M406,1)","v":0},0,{"$f":"ROUND(0.39*M406,1)","v":0},0,0,0,{"$f":"IF('متغیرها '!X5=2,'اندازه گیری و تحلیل'!F364,IF('متغیرها '!W5=1,'اندازه گیری و تحلیل'!N413,(IF('متغیرها '!W5=2,'اندازه گیری و تحلیل'!P413,(IF('متغیرها '!W5=3,'اندازه گیری و تحلیل'!R413,'اندازه گیری و تحلیل'!T413))))))","v":61.5},{"$f":"ROUND(V413,1)","v":61.5}]
[null,null,null,null,null,null,null,null,null,null,null,"بلندی فاق",{"$f":"E164","v":0},0,{"$f":"ROUND(1.06*N414+0.022*N408*N418,1)","v":0},{"$f":"ROUND(M414,1)","v":0},{"$f":"ROUND(1.06*P414+0.022*P408*P418,1)","v":0},{"$f":"ROUND(M414,1)","v":0},{"$f":"ROUND(1.06*R414+0.022*R408*R418,1)","v":0},0,{"$f":"ROUND(1.06*T414+0.022*T408*T418,1)","v":0},{"$f":"IF('متغیرها '!X5=2,'اندازه گیری و تحلیل'!F365,IF('متغیرها '!W5=1,'اندازه گیری و تحلیل'!N414,(IF('متغیرها '!W5=2,'اندازه گیری و تحلیل'!P414,(IF('متغیرها '!W5=3,'اندازه گیری و تحلیل'!R414,'اندازه گیری و تحلیل'!T414))))))","v":33.5},{"$f":"ROUND(1.06*V414+0.022*V408*V418,1)","v":35.5}]
[null,null,null,null,null,null,null,null,null,null,null,"آنفورشور",{"$f":"E206","v":0},0,{"$f":"ROUND(N415,1)","v":0},{"$f":"ROUND(1.02*(SQRT(POWER((Q414+0.5*(Q410-Q408)-L445),2)+2.25*L448*L448)+1.45*L445+L446+1.45*L444+SQRT(POWER((Q414-0.5*(Q410-Q408)-L444),2)+POWER(IF(L447>1,(0.25*L448+(5/4)*L447),IF(L447>0,(0.25*L448+(7/4)*L447),0.2*L444)),2))),1)","v":5.7},{"$f":"ROUND(P415,1)","v":5.7},{"$f":"ROUND(1.02*(SQRT(POWER((S414+0.5*(S410-S408)-L445),2)+2.25*L448*L448)+1.45*L445+L446+1.45*L444+SQRT(POWER((S414-0.5*(S410-S408)-L444),2)+POWER(IF(L447>1,(0.25*L448+(5/4)*L447),IF(L447>0,(0.25*L448+(7/4)*L447),0.2*L444)),2))),1)","v":5.7},{"$f":"ROUND(R415,1)","v":5.7},0,{"$f":"ROUND(T415,1)","v":0},{"$f":"IF('متغیرها '!X5=2,'اندازه گیری و تحلیل'!F366,IF('متغیرها '!W5=1,'اندازه گیری و تحلیل'!N415,(IF('متغیرها '!W5=2,'اندازه گیری و تحلیل'!P415,(IF('متغیرها '!W5=3,'اندازه گیری و تحلیل'!R415,'اندازه گیری و تحلیل'!T415))))))","v":91.7},{"$f":"ROUND(V415,1)","v":91.7}]
[null,null,null,null,null,null,null,null,null,null,null,"دور مچ پا",{"$f":"E203","v":0},0,{"$f":"ROUND(N416,1)","v":0},{"$f":"ROUND(1.35*P436,1)","v":0},{"$f":"ROUND(P416,1)","v":0},{"$f":"ROUND(1.4*R436,1)","v":0},{"$f":"ROUND(R416,1)","v":0},0,{"$f":"ROUND(T416,1)","v":0},{"$f":"IF('متغیرها '!X5=2,'اندازه گیری و تحلیل'!F367,IF('متغیرها '!W5=1,'اندازه گیری و تحلیل'!N416,(IF('متغیرها '!W5=2,'اندازه گیری و تحلیل'!P416,(IF('متغیرها '!W5=3,'اندازه گیری و تحلیل'!R416,'اندازه گیری و تحلیل'!T416))))))","v":30},{"$f":"ROUND(V416,1)","v":30}]
[]
[null,null,null,null,null,null,null,null,null,null,null,"شلوار زنانه و بچگانه = 0       مردانه=1      بچه با پوشک=2",{"$f":"'متغیرها '!V5-1","v":0},{"$f":"ROUND(M418,1)","v":0},null,{"$f":"ROUND(M418,1)","v":0},null,0,null,{"$f":"ROUND(M418,1)","v":0},null,{"$f":"IF('متغیرها '!X5=2,'اندازه گیری و تحلیل'!F368,IF('متغیرها '!W5=1,'اندازه گیری و تحلیل'!N418,(IF('متغیرها '!W5=2,'اندازه گیری و تحلیل'!P418,(IF('متغیرها '!W5=3,'اندازه گیری و تحلیل'!R418,'اندازه گیری و تحلیل'!T418))))))","v":0}]
[null,null,null,null,null,null,null,null,null,null,"قد سرشانه تا زمین",{"$f":"0.5*(V428+V408+V410)","v":160}]
[null,null,null,null,null,null,null,null,null,null,"تمام قد (تقریبی)",{"$f":"ROUND(L419+IF(V437>51.5,0.35,IF(V437>50.5,0.33,0.31))*V437,0)","v":180}]
[null,null,null,null,null,null,null,null,null,null,null,"اندازه ها در بالاتنه","اندازه شخص","اندازه شخص",null,"اندازه شخص",null,"اندازه شخص",null,"اندازه شخص",null,"اندازه شخص"]
[null,null,null,null,null,null,null,null,null,null,null,"دور کمر",null,{"$f":"ROUND(N404,1)","v":0},{"$f":"N422","v":0},{"$f":"P404","v":0},{"$f":"P422","v":0},{"$f":"R404","v":0},{"$f":"R422","v":0},{"$f":"T404","v":0},{"$f":"T422","v":0},{"$f":"IF('متغیرها '!X5=2,V404,IF('متغیرها '!W5=1,'اندازه گیری و تحلیل'!N422,(IF('متغیرها '!W5=2,'اندازه گیری و تحلیل'!P422,(IF('متغیرها '!W5=3,'اندازه گیری و تحلیل'!R422,'اندازه گیری و تحلیل'!T422))))))","v":131},{"$f":"V422","v":131}]
[null,null,null,null,null,null,null,null,null,null,null,"نوار کمر از پشت بین دو خط پهلو",null,{"$f":"ROUND(N405,1)","v":0},{"$f":"N423","v":0},{"$f":"P405","v":0},{"$f":"P423","v":0},{"$f":"R405","v":0},{"$f":"R423","v":0},{"$f":"T405","v":0},{"$f":"T423","v":0},{"$f":"IF('متغیرها '!X5=2,V405,IF('متغیرها '!W5=1,'اندازه گیری و تحلیل'!N423,(IF('متغیرها '!W5=2,'اندازه گیری و تحلیل'!P423,(IF('متغیرها '!W5=3,'اندازه گیری و تحلیل'!R423,'اندازه گیری و تحلیل'!T423))))))","v":63.6},{"$f":"V423","v":63.6}]
[null,null,null,null,null,null,null,null,null,null,null,"دور سینه : از برجسته ترین قسمت سینه",{"$f":"E155","v":0},{"$f":"ROUND(M424,1)","v":0},{"$f":"N424","v":0},{"$f":"ROUND(M424,1)","v":0},{"$f":"P424","v":0},{"$f":"ROUND(M424,1)","v":0},{"$f":"R424","v":0},{"$f":"ROUND(M424,1)","v":0},{"$f":"T424","v":0},{"$f":"IF('متغیرها '!X5=2,'اندازه گیری و تحلیل'!F369,IF('متغیرها '!W5=1,'اندازه گیری و تحلیل'!N424,(IF('متغیرها '!W5=2,'اندازه گیری و تحلیل'!P424,(IF('متغیرها '!W5=3,'اندازه گیری و تحلیل'!R424,'اندازه گیری و تحلیل'!T424))))))","v":146},{"$f":"V424","v":146}]
[null,null,null,null,null,null,null,null,null,null,null,"پشت نوار سینه، بین دو خط پهلو",{"$f":"E212","v":0},0,{"$f":"N425","v":0},{"$f":"ROUND(0.5*P424,1)","v":0},{"$f":"P425","v":0},{"$f":"ROUND(M433+0.24*M434,1)","v":0},{"$f":"R425","v":0},{"$f":"ROUND(M425,1)","v":0},{"$f":"T425","v":0},{"$f":"IF('متغیرها '!X5=2,'اندازه گیری و تحلیل'!F370,IF('متغیرها '!W5=1,'اندازه گیری و تحلیل'!N425,(IF('متغیرها '!W5=2,'اندازه گیری و تحلیل'!P425,(IF('متغیرها '!W5=3,'اندازه گیری و تحلیل'!R425,'اندازه گیری و تحلیل'!T425))))))","v":67.5},{"$f":"V425","v":67.5}]
[null,null,null,null,null,null,null,null,null,null,null,"فاصله عمودی از خط سینه جلو تا خط سینه پشت که از کنار حلقه آستین بگذرد",{"$f":"E218","v":0},0,{"$f":"N426-N429","v":0},{"$f":"ROUND(2*P429-0.5*(2*P430-P427),1)","v":{"$error":"#DIV/0!"}},{"$f":"P426-P429","v":{"$error":"#DIV/0!"}},{"$f":"ROUND(M427-R430+R429-(L462+L458)*SIN(RADIANS(L461)),1)","v":-14.5},{"$f":"R426-R429","v":-7.3},{"$f":"ROUND(M427-T430+T429-(L462+L458)*SIN(RADIANS(L461)),1)","v":-14.5},{"$f":"T426-T429","v":-7.3},{"$f":"IF('متغیرها '!X5=2,'اندازه گیری و تحلیل'!F371,IF('متغیرها '!W5=1,'اندازه گیری و تحلیل'!N426,(IF('متغیرها '!W5=2,'اندازه گیری و تحلیل'!P426,(IF('متغیرها '!W5=3,'اندازه گیری و تحلیل'!R426,'اندازه گیری و تحلیل'!T426))))))","v":46.5},{"$f":"V426-V429","v":22.7}]
[null,null,null,null,null,null,null,null,null,null,null,"فاصله عمودی از خط سینه جلو تا خط سینه پشت که از کنارگردن بگذرد",{"$f":"E182","v":0},0,{"$f":"N427-N430","v":0},{"$f":"ROUND(P430+(P428-P431)*0.95*P430/P431,1)","v":{"$error":"#DIV/0!"}},{"$f":"P427-P430","v":{"$error":"#DIV/0!"}},{"$f":"ROUND(M427,1)","v":0},{"$f":"R427-R430","v":1.3},{"$f":"ROUND(M427,1)","v":0},{"$f":"T427-T430","v":1.3},{"$f":"IF('متغیرها '!X5=2,'اندازه گیری و تحلیل'!F372,IF('متغیرها '!W5=1,'اندازه گیری و تحلیل'!N427,(IF('متغیرها '!W5=2,'اندازه گیری و تحلیل'!P427,(IF('متغیرها '!W5=3,'اندازه گیری و تحلیل'!R427,'اندازه گیری و تحلیل'!T427))))))","v":63.3},{"$f":"V427-V430","v":32.799999999999997}]
[null,null,null,null,null,null,null,null,null,null,null,"فاصله عمودی از خط کمر جلو تا خط کمر پشت که از کنار گردن بگذرد",{"$f":"E179","v":0},0,{"$f":"N428-N431","v":0},{"$f":"ROUND(M428,1)","v":0},{"$f":"P428-P431","v":0},{"$f":"ROUND(M428,1)","v":0},{"$f":"R428-R431","v":2.4},{"$f":"ROUND(M428,1)","v":0},{"$f":"T428-T431","v":1.3},{"$f":"IF('متغیرها '!X5=2,'اندازه گیری و تحلیل'!F373,IF('متغیرها '!W5=1,'اندازه گیری و تحلیل'!N428,(IF('متغیرها '!W5=2,'اندازه گیری و تحلیل'!P428,(IF('متغیرها '!W5=3,'اندازه گیری و تحلیل'!R428,'اندازه گیری و تحلیل'!T428))))))","v":100},{"$f":"V428-V431","v":53.1}]
[null,null,null,null,null,null,null,null,null,null,null,"فاصله عمودی بین خط سینه پشت و سرشانه، نزدیک دست",{"$f":"E221","v":0},0,{"$f":"N429","v":0},{"$f":"ROUND(P430-(P433-0.036*P434)*SIN(0.12),1)","v":0},{"$f":"P429","v":0},{"$f":"ROUND(R430-0.5*0.01*M428-L462*SIN(RADIANS(L461)),1)","v":-7.2},{"$f":"R429","v":-7.2},{"$f":"ROUND(T430-0.5*0.01*M428-L462*SIN(RADIANS(L461)),1)","v":-7.2},{"$f":"T429","v":-7.2},{"$f":"IF('متغیرها '!X5=2,'اندازه گیری و تحلیل'!F374,IF('متغیرها '!W5=1,'اندازه گیری و تحلیل'!N429,(IF('متغیرها '!W5=2,'اندازه گیری و تحلیل'!P429,(IF('متغیرها '!W5=3,'اندازه گیری و تحلیل'!R429,'اندازه گیری و تحلیل'!T429))))))","v":23.8},{"$f":"V429","v":23.8}]
[null,null,null,null,null,null,null,null,null,null,null,"فاصله عمودی بین خط سینه پشت و سرشانه، نزدیک گردن",{"$f":"E224","v":0},0,0,{"$f":"ROUND(0.6*P431,1)","v":0},0,{"$f":"ROUND(0.5*M427+0.01*M428-0.5*(L458-0.05*M434)*SIN(RADIANS(L461)),1)","v":-1.3},-1.3,{"$f":"ROUND(0.5*M427+0.01*M428-0.5*(L458-0.05*M434)*SIN(RADIANS(L461)),1)","v":-1.3},-1.3,{"$f":"IF('متغیرها '!X5=2,'اندازه گیری و تحلیل'!F375,IF('متغیرها '!W5=1,'اندازه گیری و تحلیل'!N430,(IF('متغیرها '!W5=2,'اندازه گیری و تحلیل'!P430,(IF('متغیرها '!W5=3,'اندازه گیری و تحلیل'!R430,'اندازه گیری و تحلیل'!T430))))))","v":30.5},30.5]
[null,null,null,null,null,null,null,null,null,null,null,"فاصله عمودی بین خط کمرپشت و سرشانه، نزدیک گردن",{"$f":"E227","v":0},0,0,{"$f":"ROUND(0.51*P428,1)","v":0},0,{"$f":"ROUND(0.5*R428-0.5*L460-0.9*(L458-0.05*R434)*SIN(RADIANS(L461)),1)","v":-2.4},-2.4,{"$f":"ROUND(0.51*T428-0.5*L460-0.5*(L458-0.05*T434)*SIN(RADIANS(L461)),1)","v":-1.3},-1.3,{"$f":"IF('متغیرها '!X5=2,'اندازه گیری و تحلیل'!F376,IF('متغیرها '!W5=1,'اندازه گیری و تحلیل'!N431,(IF('متغیرها '!W5=2,'اندازه گیری و تحلیل'!P431,(IF('متغیرها '!W5=3,'اندازه گیری و تحلیل'!R431,'اندازه گیری و تحلیل'!T431))))))","v":46.9},46.9]
[null,null,null,null,null,null,null,null,null,null,null,"دور گردن (متر به طور عمودی دور گردن قرار می گیرد و از روی استخوان ترقوه می گذرد)",{"$f":"E173","v":0},0,0,{"$f":"ROUND(M432,1)","v":0},0,{"$f":"ROUND(M432,1)","v":0},0,{"$f":"ROUND(M432,1)","v":0},0,{"$f":"IF('متغیرها '!X5=2,'اندازه گیری و تحلیل'!F377,IF('متغیرها '!W5=1,'اندازه گیری و تحلیل'!N432,(IF('متغیرها '!W5=2,'اندازه گیری و تحلیل'!P432,(IF('متغیرها '!W5=3,'اندازه گیری و تحلیل'!R432,'اندازه گیری و تحلیل'!T432))))))","v":50},50]
[null,null,null,null,{"$f":"V425-0.26*V434","v":55.54},":(زنانه)   v3  محاسبه ",null,null,null,null,null,"کارور پشت (بین دو خط امتداد زیر بغل)",{"$f":"E185","v":0},0,0,{"$f":"ROUND(P425-0.24*P434,1)","v":0},0,0,0,0,0,{"$f":"IF('متغیرها '!X5=2,'اندازه گیری و تحلیل'!F378,IF('متغیرها '!W5=1,'اندازه گیری و تحلیل'!N433,(IF('متغیرها '!W5=2,'اندازه گیری و تحلیل'!P433,(IF('متغیرها '!W5=3,'اندازه گیری و تحلیل'!R433,'اندازه گیری و تحلیل'!T433))))))","v":55.5},55.5]
[null,null,null,null,{"$f":"V425-0.23*V434","v":56.92}," :( بچگانه و مردانه)   v3  محاسبه ",null,null,null,null,null,"دور بازو از ناحیه زیر بغل",{"$f":"E167","v":0},0,0,{"$f":"ROUND(M434,1)","v":0},0,0,0,0,0,{"$f":"IF('متغیرها '!X5=2,'اندازه گیری و تحلیل'!F379,IF('متغیرها '!W5=1,'اندازه گیری و تحلیل'!N434,(IF('متغیرها '!W5=2,'اندازه گیری و تحلیل'!P434,(IF('متغیرها '!W5=3,'اندازه گیری و تحلیل'!R434,'اندازه گیری و تحلیل'!T434))))))","v":46},46]
[null,null,null,null,null,null,null,null,null,null,null,"قد آستین (دست به طور خمیده، قد از سرشانه تا مچ)",{"$f":"E158","v":0},0,0,{"$f":"ROUND(M435,1)","v":0},0,0,0,0,0,{"$f":"IF('متغیرها '!X5=2,'اندازه گیری و تحلیل'!F380,IF('متغیرها '!W5=1,'اندازه گیری و تحلیل'!N435,(IF('متغیرها '!W5=2,'اندازه گیری و تحلیل'!P435,(IF('متغیرها '!W5=3,'اندازه گیری و تحلیل'!R435,'اندازه گیری و تحلیل'!T435))))))","v":64},64]
[null,null,null,null,null,null,null,null,null,null,null,"دور مچ دست",{"$f":"E170","v":0},0,{"$f":"1.2*N436","v":0},{"$f":"ROUND(M436,1)","v":0},{"$f":"1.2*P436","v":0},0,{"$f":"1.2*R436","v":0},0,{"$f":"1.2*T436","v":0},{"$f":"IF('متغیرها '!X5=2,'اندازه گیری و تحلیل'!F381,IF('متغیرها '!W5=1,'اندازه گیری و تحلیل'!N436,(IF('متغیرها '!W5=2,'اندازه گیری و تحلیل'!P436,(IF('متغیرها '!W5=3,'اندازه گیری و تحلیل'!R436,'اندازه گیری و تحلیل'!T436))))))","v":23},{"$f":"1.2*V436","v":27.599999999999998}]
[null,null,null,null,null,null,null,null,null,null,null,"دور سر",{"$f":"E176","v":0},0,null,{"$f":"ROUND(M437,1)","v":0},null,0,null,0,null,{"$f":"IF('متغیرها '!X5=2,'اندازه گیری و تحلیل'!F382,IF('متغیرها '!W5=1,'اندازه گیری و تحلیل'!N437,(IF('متغیرها '!W5=2,'اندازه گیری و تحلیل'!P437,(IF('متغیرها '!W5=3,'اندازه گیری و تحلیل'!R437,'اندازه گیری و تحلیل'!T437))))))","v":57}]
[null,null,null,null,null,null,null,null,null,null,"زاویه سرشانه با افق       کم = 1       متوسط=2     زیاد=3","p",2]
[null,null,null,null,null,null,null,null,null,null,"شکم جلوتر از سینه است = 1       شکم در امتداد سینه است=2      شکم عقب تر از سینه است=3","p3",2]
[]
[]
[]
[]
[null,null,null,null,null,null,null,null,null,null,"x1",{"$f":"(2*0.35)*M406/(3.5*3.14)","v":0},null,null,null,null,null,null,null,"اضافه طول عمودی ناشی از برجستگی شکم (ناشی از محاسبه)",null,{"$f":"L485","v":-0.8}]
[null,null,null,null,null,null,null,null,null,null,"x2",{"$f":"1.5*L444","v":0},null,null,null,null,null,null,null,"اضافه طول عمودی ناشی از برجستگی شکم (ناشی از اندازه گیری t3)    s'3 ",null,{"$f":"L487","v":2.2000000000000002}]
[null,null,null,null,null,null,null,null,null,null,"x'2",{"$f":"1*L444","v":0}]
[null,null,null,null,null,null,null,null,null,null,"y",{"$f":"0.167*(W406-W407-W404+W405)","v":0.46760000000000074}]
[null,null,null,null,null,null,null,null,null,null,"x",{"$f":"0.167*(V407-V405)","v":2.7053999999999996}]
[null,null,null,null,null,null,null,null,null,null,"نسبت برای x1",{"$f":"((V415-2*W414)/(0.28*(V406-V407)))","v":1.0531135531135531}]
[null,null,null,null,null,null,null,null,null,null,"زاویه خام سرشانه پشت",{"$f":"DEGREES(ATAN((V430-V429)/(0.5*V433+0.018*V434-0.16*V432)))","v":18.034753931062454}]
[null,null,null,null,null,null,null,null,null,null,"زاویه خام سرشانه جلو",{"$f":"DEGREES(ATAN((V427-V430-V426+V429-0.15*(V424-2*V425))/(0.5*V433+0.018*V434-0.16*V432)))","v":22.324657171603633}]
[null,null,null,null,null,null,null,null,null,null,"اختلاف نسبی زاویه سرشانه",{"$f":"(L451-L450)/(L451+L450)","v":0.10629251327846539}]
[null,null,null,null,null,null,null,null,null,null,"α'6",{"$f":"IF(ATAN((0.5*(V424-V425-V404+V405))/(V431-V430))>0,ATAN((0.5*(V424-V425-V404+V405))/(V431-V430)),0)","v":0.32631673270712425}]
[null,null,null,null,null,null,null,null,null,null,"زاویه s'3 با خط افق به درجه",{"$f":"ROUND(DEGREES(ATAN((V428-V427-V431+V430-((V431-V430)/COS(L453)))/(0.25*(V404-V405)))),1)","v":10.1}]
[null,null,null,null,null,null,null,null,null,null," w1 محاسبه",{"$f":"V425-0.23*V434","v":56.92}]
[null,null,null,null,null,null,null,null,null,null,"زاویه خام متوسط سرشانه ",{"$f":"ROUND(0.5*(L450+L451),0)","v":20}]
[]
[null,null,null,null,null,null,null,null,null,null,"پهنای ساسون سرشانه جلو   p1",{"$f":"(1/COS(RADIANS(L461)))*(0.5*V424+(0.122-0.3)*V434-V433)","v":9.6872683467432346}]
[null,null,null,null,null,null,null,null,null,null,"α'6",{"$f":"ATAN((V424-V425-V404+V405)/(V428-V427))","v":0.29370510445421028}]
[null,null,null,null,null,null,null,null,null,null,"s'3",{"$f":"IF(M439=3,0.5*(V428-V427)*((1/COS(L459))-1),IF(M439=1,0.2*0.5*(V428-V427),0))","v":0}]
[null,null,null,null,null,null,null,null,null,null,"p2",{"$f":"IF(M438=1,10,IF(M438=3,23,16))","v":16}]
[null,null,null,null,null,null,null,null,null,null,"w",{"$f":"(1/COS(RADIANS(L461)))*(0.5*V433+0.018*V434-0.16*V432)","v":21.407281791160045}]
[]
[]
[null,null,null,null,null,null,null,null,null,null,"y",{"$f":"0.167*(W406-W407-W404+W405)","v":0.46760000000000074}]
[null,null,null,null,null,null,null,null,null,null,"x",{"$f":"0.167*(V407-V405)","v":2.7053999999999996}]
[]
[null,null,null,null,null,null,null,null,null,null,"زاویه خام سرشانه پشت",{"$f":"DEGREES(ATAN((V430-V429)/(0.5*V433+0.018*V434-0.16*V432)))","v":18.034753931062454}]
[null,null,null,null,null,null,null,null,null,null,"زاویه خام سرشانه جلو",{"$f":"DEGREES(ATAN((V427-V430-V426+V429-0.15*(V424-2*V425))/(0.5*V433+0.018*V434-0.16*V432)))","v":22.324657171603633}]
[null,null,null,null,null,null,null,null,null,null,"اختلاف نسبی زاویه سرشانه",{"$f":"(L469-L468)/(L469+L468)","v":0.10629251327846539}]
[null,null,null,null,null,null,null,null,null,null,"α'6",{"$f":"ATAN((0.5*(V424-V425-V404+V405))/(V431-V430))","v":0.32631673270712425},{"$f":"DEGREES(L471)","v":18.696571568616811}]
[null,null,null,null,null,null,null,null,null,null,"زاویه s'3 با خط افق به درجه",{"$f":"ROUND(DEGREES(ATAN((V428-V427-V431+V430-((V431-V430)/COS(L471)))/(0.25*(V404-V405)))),1)","v":10.1}]
[]
[null,null,null,null,null,null,null,null,null,null,"زاویه خام متوسط سرشانه p2",{"$f":"ROUND(0.5*(L468+L469),0)","v":20}]
[]
[null,null,null,null,null,null,null,null,null,null,"میزان برجستگی باسن",{"$f":"ROUND(500*(L466/(V410-V412)),0)","v":57}]
[]
[null,null,null,null,null,null,null,null,null,null,"پهنای ساسون سرشانه جلو  p1",{"$f":"(1/COS(RADIANS(L474)))*(0.5*V424+(0.122-0.3)*V434-V433)","v":9.9096234172956912}]
[null,null,null,null,null,null,null,null,null,null,"میزان برجستگی سینه",{"$f":"ROUND(500*(L478/V425),0)","v":73}]
[]
[null,null,null,null,null,null,null,null,null,null,"  ناشی از ساسون کمر    α''6",{"$f":"ATAN((0.5*(V424-V425-V405))/(V431-V430))","v":0.42639776650560146},{"$f":"DEGREES(L481)","v":24.430792414575699}]
[null,null,null,null,null,null,null,null,null,null,"  ناشی از ساسون سرشانه    α''6",{"$f":"ATAN((L478)/(V428-V431-V427+V430))","v":0.45412984553313457},{"$f":"DEGREES(L482)","v":26.01972349997661}]
[null,null,null,null,null,null,null,null,null,null,"متوسط    α''6",{"$f":"0.5*(L481+L482)","v":0.44026380601936799},{"$f":"DEGREES(L483)","v":25.225257957276153}]
[null,null,null,null,null,null,null,null,null,null,"میزان برجستگی عمودی شکم",{"$f":"ROUND(IF(L471>0,20*(L483-L471)/L483,20+150*(L483-L471)*L483),0)","v":5}]
[null,null,null,null,null,null,null,null,null,null,"اضافه طول عمودی ناشی از برجستگی شکم (ناشی از محاسبه)",{"$f":"ROUND(IF(L471>0,(V431-V430)*(-(1/COS(L483))+(1/COS(L471))),(V431-V430)*((1/COS(L483))+(1/COS(L471))-2)),1)","v":-0.8}]
[null,null,null,null,null,null,null,null,null,null,"اضافه طول عمودی ناشی از برجستگی سینه",{"$f":"ROUND((V431-V430)*((1/COS(L483))-1),1)","v":1.7}]
[null,null,null,null,null,null,null,null,null,null,"اضافه طول عمودی ناشی از برجستگی شکم (ناشی از اندازه گیری t3)    s'3 ",{"$f":"ROUND(V428-V427-V431+V430-((V431-V430)/COS(L483)),1)","v":2.2000000000000002}]

{"sheet":"طراحی همه الگوها","index":6,"n_rows":519,"n_cols":22,"rows_kept":519,"cut":false,"hidden":true,"merged":[]}
[]
[]
[]
[]
[null,null,null,null,null,null,null,null,null,null,null,null,null,null,null,null,null,null,""]
[]
[]
[]
[]
[]
[]
[]
[]
[]
[]
[]
[]
[]
[]
[]
[]
[]
[]
[]
[]
[]
[]
[]
[]
[]
[]
[]
[]
[]
[]
[]
[]
[]
[]
[]
[]
[]
[]
[]
[]
[]
[]
[]
[]
[]
[]
[]
[]
[]
[]
[]
[]
[]
[]
[]
[]
[]
[]
[]
[]
[]
[]
[]
[]
[]
[]
[]
[]
[]
[]
[]
[]
[]
[]
[]
[]
[]
[]
[]
[]
[]
[]
[]
[]
[]
[]
[]
[]
[]
[]
[]
[]
[]
[]
[]
[]
[]
[]
[]
[]
[]
[]
[]
[]
[]
[]
[]
[]
[]
[]
[]
[]
[]
[]
[]
[]
[]
[]
[]
[]
[]
[]
[]
[]
[]
[]
[]
[]
[]
[]
[]
[]
[]
[]
[]
[]
[]
[]
[]
[]
[]
[]
[]
[]
[]
[{"$f":"'طراحی همه الگوها'!A179","v":"بچگانه 3 ساله"},null,null,{"$f":"'طراحی همه الگوها'!A179","v":"بچگانه 3 ساله"},null,null,{"$f":"'طراحی همه الگوها'!A179","v":"بچگانه 3 ساله"},null,null,{"$f":"'طراحی همه الگوها'!A179","v":"بچگانه 3 ساله"}]
["محاسبات در بافت بالاتنه و آستین (بافت انتخابی) ",null,null,"یقه شکاری  - بافت انتخابی ","تعداد دانه",null,"یقه شومیزیه تا خط جادکمه - بافت انتخابی","تعداد دانه",null,"یقه انگلیسی - بافت جودانه","تعداد دانه"]
[" b6   تعداد دانه های جادکمه (فرض بافت جادکمه بدون جمع شوندگی افقی) ",{"$f":"محاسبات!F42","v":0},null,"a1",{"$f":"محاسبات!L35","v":300},null,"e1",{"$f":"محاسبات!O33","v":224},null,"d1",{"$f":"محاسبات!AJ20","v":125}]
[" b3  تعداد دانه های جلو بدون جادکمه (بین خط رگلان و خط مرکزی جلو که نیمه جادکمه از آن کم شود) ",{"$f":"محاسبات!G43","v":54},null,"a2",{"$f":"محاسبات!L36","v":4},null,"e2",{"$f":"محاسبات!O34","v":7},null,"d2",{"$f":"محاسبات!AJ21","v":9}]
["b4   تعداد دانه های آستین",{"$f":"محاسبات!G44","v":62},null,"a3",{"$f":"محاسبات!L37","v":35},null,"e3",{"$f":"محاسبات!O35","v":22},null,"d3",{"$f":"محاسبات!AJ22","v":7}]
["b5  تعداد دانه های پشت",{"$f":"محاسبات!G45","v":71},null,"a4",{"$f":"محاسبات!L38","v":69},null,"e4",{"$f":"محاسبات!O36","v":41},null,"d4",{"$f":"محاسبات!AJ23","v":3}]
["تعداد دانه ها  دور گردن + دو تا نیمه جادکمه که از خط مرکزی اضافه شده",{"$f":"محاسبات!G46","v":303},null,"a5",{"$f":"محاسبات!L39","v":105},null,"e5",{"$f":"محاسبات!O37","v":63},null,"d5",{"$f":"محاسبات!AJ24","v":139}]
[" b2  تعداد دانه های اضافه شده  از خط مرکزی تا خط جادکمه = نیمه جادکمه",{"$f":"محاسبات!F25","v":0},null,"a6",{"$f":"محاسبات!L40","v":6},null,"e6",{"$f":"محاسبات!O38","v":7},null,"d6",{"$f":"محاسبات!AJ25","v":31}]
[" تعداد دانه ها  دور تا دور گردن (پهنای جادکمه بافت بدون جمع شوندگی افقی) ",{"$f":"محاسبات!G46","v":303},null,"a10",{"$f":"محاسبات!L41","v":300},null,"e7",{"$f":"محاسبات!O39","v":0},null,"d7",{"$f":"محاسبات!AJ26","v":27}]
["تعداد رج دوبل برای گودی گردن جلو b13",{"$f":"محاسبات!F27","v":7},null,"a11",{"$f":"محاسبات!L42","v":299},null,"e8",{"$f":"محاسبات!O40","v":-4},null,"d8",{"$f":"محاسبات!AJ27","v":27}]
["تعداد رج سوبل برای گودی گردن جلو b13",{"$f":"محاسبات!F28","v":4},null,"a25",{"$f":"محاسبات!L43","v":2},null,"e9",{"$f":"محاسبات!O41","v":19},null,"d9",{"$f":"محاسبات!AJ28","v":3}]
["فاصله  گردن تا محل جدا شدن آستین در قسمت جلو (cm)     b7",{"$f":"محاسبات!F29","v":10},null,"خطا",null,null,"e10",{"$f":"محاسبات!O42","v":5},null,"d10",{"$f":"محاسبات!AJ29","v":10}]
["تعداد دانه های اضافه شده زیر بغل   b8",{"$f":"محاسبات!F30","v":17},null,null,null,null,"e11",{"$f":"محاسبات!O43","v":8},null,"d12",{"$f":"محاسبات!AJ30","v":47}]
["تعداد دانه های سرتاسر آستین در قسمت زیر بغل   b20",{"$f":"محاسبات!F31","v":120},null,{"$f":"'طراحی همه الگوها'!A179","v":"بچگانه 3 ساله"},null,null,"خطا"]
["فاصله زیر بغل تا پایین لباس (cm)     b9",{"$f":"محاسبات!F32","v":34},null,"یقه ب ب گرد - بافت همه از زیر","تعداد دانه",null,"خطا"]
["فاصله زیر بغل تا لبه پایین آستین (cm)     b10",{"$f":"محاسبات!F33","v":6},null,"c1",{"$f":"محاسبات!AF20","v":159}]
["گشادی لبه پایین آستین (cm)     b'11",{"$f":"محاسبات!F34","v":26},null,"c2",{"$f":"محاسبات!AF21","v":6}]
["تعداد دانه ها  لبه پایین آستین      b'12",{"$f":"محاسبات!F35","v":149},null,"c3",{"$f":"محاسبات!AF22","v":12}]
["پهنای مچ جدا در پایین آستین (cm)     b14",{"$f":"محاسبات!F36","v":8},null,"c4",{"$f":"محاسبات!AF23","v":7}]
["گشادی مچ جدا در پایین آستین (cm)     b15",{"$f":"محاسبات!F37","v":35}]
["در بالای مچ جدا هر b12   دانه یکی کم شود",{"$f":"محاسبات!F38","v":-3}]
["هر b11   رج در بافت آستین یکدانه از ابتدا و یکدانه از انتها کم شود",{"$f":"محاسبات!F39","v":-2}]
[]
["طراحی الگو جلو و پشت",null,null,"طراحی یقه و جیب و دامن در الگو جلو و پشت",null,null,"طراحی الگو یقه جدا و کلاه و بافت ",null,null,"طراحی الگو آستین ",null,null,"طراحی الگو شلوار",null,null,"طراحی الگو چادر یا مقنعه",null,null,null,null,"رسم الگو چادر یا مقنعه"]
[]
["اندازه نوشته ها هنگام چاپ به سایز واقعی",8,null," طراحی یقه گرد",null,null," جابجایی همه الگوهای یقه",null,null,"انتخاب نوع آستین و سرشانه",4,null,"طراحی کلی شلوار",null,null,"طراحی چادر شماره 1 یا مقنعه ","عکس راهنما",null,null,"رسم دستی چادر 1 یا مقنعه چانه دار(بر حسب سانتیمتر)"]
[null,null,null,"باز شدن یقه روی سرشانه     ",14,null,"جابجایی افقی همه یقه های جدا  (سانتیمتر)   ",0,null," طراحی کلی آستین ",null,null," گشاد یا تنگ شدن اندازه های عرضی در شلوار    ",-5,null,"لبه پایین چادر یا مقنعه",70,null,null,"(j1 → j2)",{"$f":"ROUND(محاسبات!CJ22+0.1*محاسبات!CJ16-محاسبات!CJ23,1)","v":47}]
["برچسب الگو : ",null,null,"باز شدن یقه روی خط مرکزی جلو ",44,null,"جابجایی عمودی همه یقه های جدا  (سانتیمتر)  ",30,null,"بلندی پایین آستین",36,null,null,null,null,"انتخاب چادر تا پایین پیشانی یا بالای پیشانی یا روی سر",2,null,null,"(j1 → j3)",{"$f":"ROUND((0.21+'متغیرها '!C6*0.1)*محاسبات!CJ16,1)","v":10.5}]
[{"$f":"'الگوهای مدل 39'!D4","v":"بچگانه 3 ساله"},null,null,"باز شدن یقه روی خط مرکزی پشت  ",30,null,null,null,null,"گشادی لبه پایین آستین",4,null,"کوتاهی پایین شلوار  (قد شلوار)   ",30,null,null,null,null,null,"(j1 → j6)",{"$f":"ROUND(0.1*محاسبات!CJ16,1)","v":5}]
[null,null,null,null,null,null,"  یقه شکاری ",null,null,"ضریب بلند یا کوتاه شدن اندازه های طولی در آستین",0,null," گشادی پاچه شلوار ",16,null,null,null,null,null,"(j1 → j7)",{"$f":"ROUND(0.28*محاسبات!CJ16,1)","v":14}]
[" جابجایی الگو جلو و پشت لباس",null,null," کنترل یقه گرد بدون زیپ ",null,null," قد پشت یقه   ",20,null,"ضریب بلندی تاج آستین",0,null," گشادی دور زانو ",4,null,null,null,null,null,"(j7 → j8)",{"$f":"ROUND(1+0.2*U179,1)","v":2}]
["جابجایی افقی کل الگو جلو لباس  (سانتیمتر)",5,null,"دور سر",{"$f":"'متغیرها '!B260","v":50},null," کج شدن  یقه به سمت گردن   ",-8,null,"ضریب گشادی تاج آستین",0,null,"ضریب عرض زیپ   ",6,null,null,null,null,null,"(j7 → j9)",{"$f":"ROUND(0.3*محاسبات!CJ16+20,1)","v":35}]
["جابجایی عمودی کل الگو جلو لباس  (سانتیمتر)",5,null," دور یقه گرد لباس",{"$f":"'متغیرها '!B261","v":52.5},null,"مکان لبه یقه نسبت به جلو لباس        ","مرکزی جلو",null,"مکان لبه بالایی صافی سرآستین ",14,null,"جابجایی افقی کل الگو جلو شلوار (سانتیمتر)  ",15,null,null,null,null,null,"(j3 → j11)",{"$f":"ROUND(0.18*محاسبات!CJ16,1)","v":9}]
["جابجایی افقی کل الگو پشت لباس  (سانتیمتر)",5,null,"آیا یقه گرد با پارچه غیر کش از سر رد میشود؟",{"$f":"'متغیرها '!E262","v":"بله "},null,"زاویه لبه برگردان یقه (میزان نوک تیز بودن لبه)     ",57,null,"جابجایی افقی کل الگو آستین (سانتیمتر)",8,null,"جابجایی عمودی کل الگو جلو شلوار (سانتیمتر)  ",0,null,null,null,null,null,"(j3 → j12)",{"$f":"ROUND(0.15*محاسبات!CJ16,1)","v":7.5}]
["جابجایی عمودی کل الگو پشت لباس  (سانتیمتر)",5,null,"آیا یقه گرد با پارچه نیم کش از سر رد میشود؟",{"$f":"'متغیرها '!E263","v":"بله "},null," قد لبه برگردان یقه   ",23,null,"جابجایی عمودی کل الگو آستین (سانتیمتر)",0,null,"جابجایی افقی کل الگو پشت شلوار (سانتیمتر)  ",10,null,null,null,null,null,{"$f":"'طراحی همه الگوها'!A179","v":"بچگانه 3 ساله"}]
[null,null,null,"آیا یقه گرد با پارچه کش زیاد از سر رد میشود؟",{"$f":"'متغیرها '!E264","v":"بله "},null,null,null,null,"جابجایی افقی کل آستین رگلان بدون درز (سانتیمتر)",-4.5,null,"جابجایی عمودی کل الگو پشت شلوار (سانتیمتر)  ",0]
["جابجایی افقی تکه  پهلو جلو   (سانتیمتر)",0,null,null,null,null,"  یقه فرنچی ایستاده و کاسبرگی",null,null,null,null,null,null,null,null,"طراحی چادر شماره 2",null,null,null,"رسم دستی چادر 2 (بر حسب سانتیمتر)"]
["جابجایی افقی تکه پهلو پشت  (سانتیمتر)",0,null,"طراحی نوار یقه گرد کش ",null,null," قد یقه    ",12,null,"  مچ جدا در آستین",null,null,"اطلاعات شلوار و اندام",null,null,"لبه پایین چادر",10,null,null,"(1 →2)",{"$f":"ROUND(محاسبات!DM46+محاسبات!DM47-0.07*'متغیرها '!U85+0.1*'متغیرها '!C14*'متغیرها '!U85,1)","v":108}]
["جابجایی عمودی تکه پهلو پشت  (سانتیمتر)",0,null,"ارتفاع نوار یقه گرد کش به سانتیمتر (بعد از دوخت)",1,null," کج شدن یقه به سمت گردن  ",15,null,"انتخاب مچ اندامی=2   انتخاب مچ مستطیل، مچ پفی یا مچ بافت=1",1,null,"گشادی لبه شلوار (سانتیمتر) (محاسبه شده)",{"$f":"'متغیرها '!B613","v":29.6},null,"مکان نقطه اتصال جلو چادر به پشت چادر  ",20,null,null,"(1 →3)",{"$f":"ROUND('متغیرها '!C11*((محاسبات!DM46+محاسبات!DM47-0.07*'متغیرها '!U85)+محاسبات!DM45),1)","v":48.6}]
[null,null,null,"طول مستطیل (بدون جای دوخت) برای دوخت یقه گرد کش (سانتیمتر)",{"$f":"'متغیرها '!B249","v":48},null,"مکان لبه یقه نسبت به جلو لباس        ","مرکزی جلو",null,"گشادی لبه بالایی مچ ",3,null,"دور کمر (سانتیمتر) (اندازه گیری شده)",{"$f":"'متغیرها '!B614","v":51},null,"گشادی عرضی چادر  ",20,null,null,"(1 → 4)",{"$f":"ROUND(0.26*'متغیرها '!U85*'متغیرها '!C10,1)","v":13}]
[" گشاد یا تنگ شدن لباس",null,null,"عرض مستطیل (بدون جای دوخت) که در موقع دوخت باید دولا شود  (سانتیمتر)",{"$f":"2*'متغیرها '!C248","v":2},null," انحنا لبه یقه  ",20,null,"گشادی لبه پایینی مچ یا(گشادی مچ مستطیل، مچ پفی یا مچ بافت)  ",15,null,"طول کش برای کل کمر شلوار (سانتیمتر) (محاسبه شده)",{"$f":"'متغیرها '!B615","v":40.799999999999997},null,"گشادی لبه پایینی مچ  ",7,null,null,"(6→7)",{"$f":"0.93*U201","v":23.436}]
[" اندازه های عرضی در لباس   ",0,null,null,null,null,null,null,null,"مکان لبه بالایی مچ",20,null,"طول کش برای پشت کمر بین دو خط پهلو (سانتیمتر) (محاسبه شده)",{"$f":"'متغیرها '!B616","v":20},null,"مکان لبه پایینی آستین چادر ",10,null,null,"(5 →8)",{"$f":"ROUND(0.73*U189-U190,1)","v":22.5}]
[" گشاد یا تنگ شدن از خط پهلو زیر حلقه ",0,null,"طراحی یقه هفت",null,null," یقه شومیزیه ",null,null,"مکان لبه پایینی مچ",10,null,"طول کش از ساسون جلو - پشت - تا ساسون دیگر جلو (سانتیمتر) (محاسبه شده)",{"$f":"'متغیرها '!B617","v":26.2},null,"انتخاب چادر تا پایین پیشانی یا بالای پیشانی یا روی سر",2,null,null,"(8 →9)",{"$f":"ROUND(0.5*U191,1)","v":11.7}]
[" گشاد یا تنگ شدن از خط پهلو دور باسن  ",-2,null,"باز شدن یقه هفت روی سرشانه     ",null,null," قد پایه یقه   ",15,null,"جابجایی افقی مچ  (سانتیمتر)   ",0,null,null,null,null,null,null,null,null,"(8 →10)",{"$f":"ROUND(U195+(U188-U195-محاسبات!DB38+'متغیرها '!U83)*(1-COS(ASIN(U192/(U188-U195-محاسبات!DB38+'متغیرها '!U83)))),1)","v":28.3}]
[" اندازه های طولی در بالاتنه",0,null,"باز شدن یقه هفت روی خط مرکزی جلو ",null,null," کج شدن پایه یقه به سمت گردن   ",5,null,"جابجایی عمودی مچ  (سانتیمتر)  ",0,null," کمر شلوار",null,null,null,null,null,null,"(5 →11)",{"$f":"ROUND('طراحی همه الگوها'!U178+U190+0.1*'متغیرها '!C14*'متغیرها '!U85*1.5,1)","v":23.5}]
[" گشاد یا تنگ شدن اندازه های طولی در پایین تنه  ",0,null,null,null,null,"مکان لبه پایه یقه نسبت به جلو لباس   ","مرکزی جلو",null,null,null,null," پایین آمدن کمر شلوار نسبت به کمر اندام   (سانتیمتر)",-5,null,null,null,null,null,"(3 →12)",{"$f":"ROUND(محاسبات!DB38-U189+'متغیرها '!C13*'متغیرها '!U83,1)","v":15.5}]
[" جادکمه ","عکس راهنما",null," کنترل یقه هفت بدون زیپ ",null,null," انحنا لبه پایه یقه  ",20,null," آستین کتی",null,null," پهنای کمر جدا در شلوار  (سانتیمتر) ",3.5,null,null,null,null,null,"(12 →13)",{"$f":"ROUND(محاسبات!F425*'متغیرها '!C12,1)","v":11.1}]
["پهنای جادکمه جلو      ",0,null,"دور سر",{"$f":"'متغیرها '!B267","v":50},null," قد پشت برگردان یقه   ",21,null,"میزان خمیدگی آستین کتی  ",5,null,"کوتاهی جلو کمر شلوار نسبت به پشت کمر شلوار (سانتیمتر) ",0,null,null,null,null,null,"(3 →14)",{"$f":"ROUND(U197+U196*TAN(محاسبات!F423-RADIANS(90)+'متغیرها '!B245),1)","v":13.4}]
["لبه پایین لباس",35,null," دور یقه هفت لباس",{"$f":"'متغیرها '!B268","v":55.2},null," کج شدن برگردان یقه به سمت گردن   ",-7,null,"ضریب طول مستطیل جادکمه کتی",20,null,"جابجایی افقی  جلو کمر شلوار (سانتیمتر)  ",0,null,null,null,null,null,"(5 →15)",{"$f":"ROUND(0.5*(محاسبات!DD19-محاسبات!DD18),1)","v":11.3}]
[" ارتفاع انحنا لبه پایین لباس نزدیک خط پهلو",0,null,"آیا یقه هفت با پارچه غیر کش از سر رد میشود؟",{"$f":"'متغیرها '!E269","v":"بله "},null,"زاویه لبه برگردان یقه (میزان نوک تیز بودن لبه)     ",45,null,"ضریب عرض مستطیل جادکمه کتی",15,null,"جابجایی عمودی  جلو کمر شلوار (سانتیمتر)  ",5,null,null,null,null,null,"(15 →16)",{"$f":"ROUND(0.35*(محاسبات!DE20-محاسبات!DE19),1)","v":4.0999999999999996}]
[" طول انحنا لبه پایین لباس نزدیک خط پهلو",15,null,"آیا یقه هفت با پارچه نیم کش از سر رد میشود؟",{"$f":"'متغیرها '!E270","v":"بله "},null," قد لبه برگردان یقه   ",20,null,"جابجایی افقی تکه جلو آستین کتی (سانتیمتر)",10,null,"جابجایی افقی  پشت کمر شلوار (سانتیمتر)  ",0,null,null,null,null,null,"(15 →17)",{"$f":"ROUND(محاسبات!DE17+0.35*(محاسبات!DE21-محاسبات!DE17),1)","v":25.2}]
[null,null,null,null,null,null,"جابجایی افقی برگردان یقه  (سانتیمتر)   ",0,null,null,null,null,"جابجایی عمودی  پشت کمر شلوار (سانتیمتر)  ",5,null,null,null,null,null,"(8 →18)",{"$f":"ROUND(0.5*(محاسبات!DD24-محاسبات!DD23),1)","v":6.6}]
[" سرشانه و حلقه آستین",null,null,"طراحی یقه انگلیسی و آرشال ",null,null,"جابجایی عمودی برگردان یقه  (سانتیمتر)  ",45,null," جادکمه آستین بلند یا کوتاه",null,null,null,null,null,null,null,null,null,"(18 →19)",{"$f":"ROUND(محاسبات!DE20+0.45*(محاسبات!DE25-محاسبات!DE20),1)","v":17}]
["ضریب کم شدن سرشانه  ",6,null,"پهنای جادکمه جلو      مرحله اول در طراحی یقه انگلیسی",null,null,null,null,null,"ضریب طول مستطیل ",7,null,"  شلوار متصل به بالاتنه",null,null,null,null,null,null,"(18 →20)",{"$f":"ROUND(محاسبات!DE25+0.8*(محاسبات!DE21-محاسبات!DE25),1)","v":27.3}]
["ضریب بزرگ شدن زیر حلقه آستین  ",6,null,"باز شدن یقه روی سرشانه    مرحله دوم در طراحی یقه انگلیسی    ",null,null," یقه شکاری با پایه",null,null,"ضریب عرض مستطیل ",5,null," بلند شدن فاق در شلوار متصل به بالاتنه    ",10,null,null,null,null,null,"(1 →21)",{"$f":"ROUND(0.1*'متغیرها '!U85,1)","v":5}]
["ضریب زیاد شدن سرشانه  ",0,null,"باز شدن یقه روی خط مرکزی پشت   مرحله دوم در طراحی یقه انگلیسی    ",null,null," قد پایه یقه   ",8,null,null,null,null," بزرگی پهنای جادکمه پهلو",4,null,null,null,null,null,"(4 →22)",{"$f":"ROUND(0.7*U205,1)","v":3.5}]
["انتخاب آستین حلقه ای یا پیش سینه رکابی یا تکه پهلو جدا=1   انتخاب دیگر=2",1,null,"پهنای یقه در پشت گردن (انگلیسی، آرشال)    مرحله سوم در طراحی یقه انگلیسی",20,null," قد پشت برگردان یقه   ",20,null,null,null,null,null,null,null,null,null,null,null,{"$f":"'طراحی همه الگوها'!A179","v":"بچگانه 3 ساله"}]
[null,null,null,"باز بودن جلو یقه (انگلیسی، آرشال، هفت، پشت گردنی) مرحله چهارم در طراحی یقه انگلیسی ",20,null," کج شدن یقه به سمت گردن   ",-13,null,"طول کل حلقه آستین با اپل (سانتیمتر)",{"$f":"'متغیرها '!B534","v":32.1},null," جزئی شلوار"]
["  نوع پیراهن",null,null,"پهنای بالای دال   مرحله پنجم در طراحی یقه انگلیسی ",20,null,"مکان لبه یقه نسبت به جلو لباس   ","مرکزی جلو",null,"طول کل حلقه آستین با ساسون (سانتیمتر)",{"$f":"'متغیرها '!B535","v":32.200000000000003},null,"ضریب گشادی دور ران یا نسبت گشادی پشت پاچه به جلو پاچه  ",1.2,null,"طراحی چادر شماره 3",null,null,null,"رسم دستی چادر 3 (بر حسب سانتیمتر)"]
["انتخاب الگو جلو ترک (دامن،سوتین)=2    انتخاب الگو جلو با ساسون (مایو)=1",1,null,"پهنای پایین دال   مرحله پنجم در طراحی یقه انگلیسی      ",20,null,"زاویه لبه برگردان یقه (میزان نوک تیز بودن لبه)     ",57,null,null,null,null,"زاویه خط پهلو جلو   ","روش مولر",null,"لبه پایین چادر",10,null,null,"(1 →2)",{"$f":"ROUND(محاسبات!CJ22+0.1*'متغیرها '!U85-محاسبات!EC35,1)","v":101}]
[null,null,null,"پهنای جلو یقه (انگلیسی، آرشال)   مرحله ششم در طراحی یقه انگلیسی ",20,null," قد لبه برگردان یقه   ",23,null,"طول حلقه آستین مدل 85 (سانتیمتر)",{"$f":"'متغیرها '!B537","v":32.6},null," پهنای صافی لبه پایین شلوار   ",0,null,"گشادی لبه پایینی مچ  ",5,null,null,"(1 →3)",{"$f":"ROUND('متغیرها '!C21,1)","v":110}]
[" اوزمان ها در دامن (پایین تنه ترک)",null,null,"وسط دال پایین یا بالا رود (انگلیسی، آرشال)   مرحله هفتم در طراحی یقه انگلیسی",20,null,"جابجایی افقی پایه یقه  (سانتیمتر)   ",0,null,"طول حلقه آستین مدل 83 کت مردانه (سانتیمتر)",{"$f":"'متغیرها '!B538","v":32},null," بالا یا پایین رفتن خط زانو   ",0,null,"گشادی پایین چادر (معادل کوتاهی طول مچ چادر)",15,null,null,"(1 → 4)",{"$f":"ROUND(محاسبات!EC36*COS(RADIANS(محاسبات!EC34)),1)","v":49.4}]
["میزان پایین آمدن نقطه شروع اوزمان از خط کمر  ",30,null," زاویه بالای دال     مرحله هشتم در طراحی یقه انگلیسی",20,null,"جابجایی عمودی پایه یقه  (سانتیمتر)  ",-5,null,null,null,null," پهنای فاق جلو (در روش مولر این ضریب ثابت مساوی 0.06 می باشد)   ",5,null,"مکان لبه پایینی آستین چادر ",10,null,null,"(4→5)",{"$f":"ROUND(محاسبات!EC36*SIN(RADIANS(محاسبات!EC34)),1)","v":32.1}]
["اوزمان در خط پهلو جلو دامن  ",-2,null," زاویه پایین دال      مرحله هشتم در طراحی یقه انگلیسی ",20,null,null,null,null,"اطلاعات طول حلقه آستین و طول تاج آستین",null,null," زاویه خط وسط پا در پشت شلوار   ",2,null,"عرض پارچه  (سانتیمتر)",110,null,null,"(5 →6)",{"$f":"ROUND(U225*COS(RADIANS(محاسبات!EC37)),1)","v":10.199999999999999}]
["اوزمان در خط ترک جلو دامن  ",0,null," دال رو به پایین یا رو به بالا شود    مرحله هشتم در طراحی یقه انگلیسی  ",20,null," یقه ب ب مثلثی و گرد",null,null,"طول کل حلقه آستین بدون ساسون (سانتیمتر) ",{"$f":"'متغیرها '!B536","v":33.4},null," بلندی ساسون پشت شلوار   ",20,null,"انتخاب چادر تا پایین پیشانی یا بالای پیشانی یا روی سر",2,null,null,"(6 →7)",{"$f":"ROUND(U225*SIN(RADIANS(محاسبات!EC37)),1)","v":2.7}]
["اوزمان در خط  پهلو پشت دامن   ",-2,null,"   محاسبه در یقه شکاری متصل به یقه هفت   ",{"$f":"'متغیرها '!B173","v":0.54},null,"زاویه جلو یقه ب ب مثلثی",25,null,"طول تاج آستین کتی (سانتیمتر)",{"$f":"'متغیرها '!B539","v":33.1},null,"بلندی ساسون جلو شلوار   ",20,null,null,null,null,null,"(2 →8)",{"$f":"ROUND(U211,1)","v":110}]
["اوزمان در خط مرکزی پشت دامن  ",5,null,null,null,null,"ضریب پهنای یقه ب ب مثلثی و گرد ",20,null,"طول تاج آستین ساده (سانتیمتر)",{"$f":"'متغیرها '!B540","v":32.9},null," پهنای ساسون وسط پشت شلوار   ",10,null,null,null,null,null,"(8 →9)",{"$f":"ROUND(U219,1)","v":1.5}]
["اوزمان در خط ترک پشت دامن  ",0,null," طراحی تکه پشت یقه انگلیسی و آرشال  ",null,null,null,null,null,null,null,null," پهنای ساسون پهلو پشت شلوار   ",5,null,null,null,null,null,"(9→10)",{"$f":"ROUND(2*(U210-U212+U215-U217),1)","v":105.6}]
["انتخاب پیراهن ترک گشاد=2            انتخاب دیگر=1",1,null,"پهنای پشت پایه (انگلیسی، آرشال)    مرحله سوم در طراحی یقه انگلیسی      ",20,null," جابجایی کلاه",null,null,"  آستر مچ جدا در آستین",null,null," پهنای ساسون وسط جلو شلوار   ",10,null,null,null,null,null,"(3→11)",{"$f":"ROUND(U210+محاسبات!DM47-U211+0.1*'متغیرها '!C22*'متغیرها '!U85,1)","v":1.5}]
[null,null,null,"زاویه کج شدن پایه مستطیل به قسمت گردن    مرحله سوم در طراحی یقه انگلیسی ",20,null,"جابجایی افقی کلاه  (سانتیمتر)",-30,null,"انتخاب مچ اندامی=2        انتخاب مچ مستطیل یا مچ پفی=1",1,null," پهنای ساسون پهلو جلو شلوار   ",5,null,null,null,null,null,"(12 →13)",{"$f":"ROUND(1+1.5*(U211+U219-محاسبات!DM47-((U210-U217-U218)/TAN((U210-U217-U218)/(U211+U219-محاسبات!DM47)))),1)","v":1.2}]
[" انتقال ساسون سرشانه به زیر بغل، عصایی یا خط مرکزی جلو",null,null,"پهنای جلو پایه مستطیل      مرحله سوم در طراحی یقه انگلیسی       ",20,null,"جابجایی عمودی کلاه (سانتیمتر)",20,null,"گشادی لبه بالایی مچ ",0,null," ساسون پهلو در کمر جدا شلوار   ",0,null,null,null,null,null,"(8 →14)",{"$f":"U220","v":1.2}]
[" برای حذف کامل ساسون سرشانه مجموع c1 و c2 باید 10 شود.",null,null,"انتخاب یقه انگلیسی پایه سرخود یا پایه جدا    مرحله سوم در طراحی یقه انگلیسی",1,null,"جابجایی افقی تکه پشت سر در کلاه سه تکه  (سانتیمتر)",3,null,"گشادی لبه پایینی مچ یا (گشادی مچ مستطیل یا مچ پفی)  ",4,null,null,null,null,null,null,null,null,"(2→15)",{"$f":"0.4*(U211+U210-U217-U218)","v":41.56}]
["انتقال ساسون سرشانه جلو به ساسون زیر بغل یا ساسون عصایی  c1",0,null,"تغییر انحنا بالا سمت چپ     مرحله نهم در طراحی یقه انگلیسی          ",20,null,null,null,null,"مکان لبه بالایی مچ",19,null," برش پشت  شلوار جین",null,null,null,null,null,null,"(15→16)",{"$f":"ROUND((U210-محاسبات!DB38+'متغیرها '!U83)*(1-COS(ASIN((U222)/(U210-محاسبات!DB38+'متغیرها '!U83)))),1)","v":13.2}]
["انتقال ساسون سرشانه به خط مرکزی جلو c2",0,null,"تغییر انحنا بالا    مرحله نهم در طراحی یقه انگلیسی ",40,null,"طراحی کلی کلاه ",null,null,"مکان لبه پایینی مچ",10,null," بالا یا پایین شدن خط برش در قسمت پهلو پشت شلوار جین   ",20,null,null,null,null,null,"(17 →18)",{"$f":"ROUND(('متغیرها '!C20+'متغیرها '!C19)*'متغیرها '!U83,1)","v":5.3}]
["انتخاب (اصلاح سرشانه و حلقه آستین برای c1 >10 ) = 2     انتخاب دیگر=1",1,null,"زاویه تکه پشت یقه روی خط مرکزی پشت",20,null,"ضریب بزرگ یا کوچک شدن کلاه",0,null,"جابجایی افقی آستر مچ  (سانتیمتر)   ",0,null," بالا یا پایین شدن خط برش در قسمت مرکزی پشت شلوار جین   ",20,null,null,null,null,null,"(17→19)",{"$f":"ROUND(U226+U224*TAN(محاسبات!EC38-RADIANS(90)+محاسبات!DM17),1)","v":10.6}]
[null,null,null,"زاویه تکه پشت یقه با پایه روی خط مرکزی پشت",20,null,"انتخاب کلاه ملوانی برای موهای دم اسبی که از پشت بسته شود ",1,null,"جابجایی عمودی آستر مچ  (سانتیمتر)  ",13,null,null,null,null,null,null,null,null,"(18→20)",{"$f":"ROUND(محاسبات!EC39*'متغیرها '!C18,1)","v":9.8000000000000007}]
[" انتقال ساسون سرشانه به زیر بغل، عصایی یا خط مرکزی پشت",null,null,"تغییر انحنا پایین روی خط مرکزی پشت",20,null," پهنای بلیطی جلو کلاه",0,null,null,null,null,"  دامن شلواری",null,null,null,null,null,null,"(2→21)",{"$f":"0.6*U222","v":24.936}]
[" برای حذف کامل ساسون سرشانه مجموع c1 و c2 باید 10 شود.",null,null,"تغییر انحنا پایین",20,null," بلندی بلیطی جلو کلاه",0,null,null,null,null," بلند شدن فاق در دامن شلواری    ",10,null,null,null,null,null,"(21→22)",{"$f":"ROUND(0.45*U223,1)","v":5.9}]
["انتقال ساسون سرشانه پشت به ساسون زیر بغل یا عصایی  c1",0,null,"اعمال ضخیم دوزی در سجاف یقه انگلیسی و آرشال  ",20,null," بلندی انحنا جلو کلاه",4,null," آستین کلوش معکوس ",null,null," اوزمان در جلو دامن شلواری      ",8,null,null,null,null,null,{"$f":"'طراحی همه الگوها'!A179","v":"بچگانه 3 ساله"}]
["انتقال ساسون سرشانه به خط مرکزی پشت c2",0,null,"جابجایی افقی پایه مستطیل  (سانتیمتر)",0,null," پهنای انحنا روی صورت",8,null,"بلندی پایین آستین کلوش معکوس",30,null," اوزمان در پشت دامن شلواری      ",8]
[null,null,null,"جابجایی عمودی پایه مستطیل  (سانتیمتر)",0,null," پهنای انحنا بالای پیشانی",6,null," اوزمان آستین کلوش معکوس ",5,null,null,null,null,"طراحی چادر شماره 4",null,null,null,"رسم دستی چادر  4  (بر حسب سانتیمتر)"]
[" ساسون زیر بغل",null,null,"جابجایی افقی پایه لبه گرد یقه انگلیسی (سانتیمتر)",0,null,null,null,null,null,null,null," شلوار با تکه پهلو جدا",null,null,"لبه پایین چادر",10,null,null,"(1 →2)",{"$f":"ROUND(U233+محاسبات!DM47+0.1*'متغیرها '!C32*'متغیرها '!U85,1)","v":111.5}]
["ضریب کوتاه شدن ساسون زیر بغل جلو  ",8,null,"جابجایی عمودی پایه لبه گرد یقه انگلیسی (سانتیمتر)",0,null," کلاه متصل به یقه مربعی",null,null," آستین رگلان درز دار",null,null," پهنای تکه پهلو جلو شلوار   ",12,null,"گشادی پشت چادر نسبت به جلو چادر  ",3,null,null,"(1 →4)",{"$f":"ROUND(محاسبات!CJ22+0.1*'متغیرها '!U85-محاسبات!ER39,1)","v":101}]
["ضریب کوتاه شدن ساسون زیر بغل پشت  ",5,null,"جابجایی افقی پایه یقه آرشال (سانتیمتر)",0,null,"بالا یا پایین رفتن خط کارور",30,null,"میزان خمیدگی بدن به سمت جلو   ",3,null," پهنای تکه پهلو پشت شلوار   ",6,null,"مکان لبه پایینی آستین چادر ",10,null,null,"(2 → 3)",{"$f":"ROUND(U232*TAN(RADIANS('متغیرها '!C26)),1)","v":5.8},"عمود"]
[null,null,null,"جابجایی عمودی پایه یقه آرشال (سانتیمتر)",0,null,"پهنای کارور جلو",48,null,"میزان خم شدن سرشانه در آستین  ",3,null," باریک شدن پایین تکه پهلو جلو شلوار   ",5,null,"گشادی لبه پایینی آستین چادر ",7,null,null,"(4→5)",{"$f":"ROUND(U233*TAN(RADIANS('متغیرها '!C26)),1)","v":5.3},"عمود"]
[" ضریب طول ساسون روی خط مرکزی پشت پایین تنه        غیر فعال",18,null,null,null,null,null,null,null,"پهنای ساسون مچ روی درز آستین  ",3,null," باریک شدن پایین تکه پهلو پشت شلوار   ",5,null,"مکان لبه بالایی آستین چادر ",30,null,null,"(1 →10)",{"$f":"ROUND(محاسبات!DB38+'متغیرها '!C27*'متغیرها '!U83,1)","v":64.099999999999994},"زاویه 45"]
[null,null,null,"مراحل مختلف در طراحی یقه انگلیسی",null,null," کلاه ملوانی",null,null,"میزان روی هم آمدن سرشانه در دو تکه آستین رگلان  ",10,null,"جابجایی افقی تکه پهلو شلوار (سانتیمتر)  ",7,null,"گشادی پایین چادر  ",20,null,null,"(10 →11)",{"$f":"ROUND('متغیرها '!C28*'متغیرها '!U84*0.5,1)","v":11.1},"عمود"]
["  تنظیم ساسون های بالای کمر",null,null,"پهنای جادکمه جلو - میزان روی هم آمدن یقه انگلیسی","مرحله اول",null,"بالا یا پایین رفتن قسمت پایین کلاه روی خط مرکزی جلو",12,null,"زاویه درز روی آستین نسبت به عمود  ",3,null,"جابجایی عمودی تکه پهلو شلوار (سانتیمتر)  ",0,null," بیشترین مقدار گشادی پایین چادر  برای اندام شما",{"$f":"'متغیرها '!B31","v":54},null,null,"(12 →13)",{"$f":"ROUND(محاسبات!EQ35-محاسبات!EQ37,1)","v":10.4}]
["مجموع ضرایب پهنای دو ساسون پشت باید کمتر از 20 یا مساوی 20 باشد.",null,null,"میزان باز بودن یقه گرد - نشان میدهد یقه چقدر به گردن میچسبد","مرحله دوم",null,"پهنای قسمت پایین کلاه",4,null,"میزان انحنا لبه جلو آستین  ",1,null,null,null,null,"انتخاب چادر تا پایین پیشانی یا بالای پیشانی یا روی سر",2,null,null,"(13 →9)",{"$f":"ROUND(محاسبات!EP35-محاسبات!EP29,1)","v":23.4},"عمود"]
["اگر مجموع پهنای ساسون ها کمتر از 20 باشد، باقیمانده ساسون ها روی خط پهلو قرار میگیرد.",null,null,"پهنای تکه پشت یقه انگلیسی","مرحله سوم",null,null,null,null,"میزان انحنا لبه پشت آستین  ",1,null,"  شلوار رکاب دار",null,null,"مکان افقی الگو مرغک",40,null,null,"(12 →14)",{"$f":"ROUND(محاسبات!EQ37-محاسبات!EQ34,1)","v":43}]
[" ضریب پهنای ساسون روی خط مرکزی پشت بالاتنه   ",0,null,"باز بودن یقه انگلیسی","مرحله چهارم",null,"طراحی بافت ",null,null,"سهم گشادی مچ آستین بر روی درز  ",4,null," پهنای رکاب جلو شلوار   ",20,null,"مکان عمودی الگو مرغک",35,null,null,"(14 →8)",{"$f":"ROUND(محاسبات!EP34-محاسبات!EP29,1)","v":42.9},"عمود"]
[" ضریب طول ساسون روی خط مرکزی پشت بالاتنه   ",12,null,"پهنای بالا و پایین دال","مرحله پنجم",null,null,null,null,"جابجایی افقی تکه جلو آستین رگلان درز دار (سانتیمتر)",5,null," پهنای رکاب پشت شلوار   ",20,null,null,null,null,null,"(15 →16)",{"$f":"ROUND(0.33*U244,1)","v":3.6}]
[" ضریب پهنای ساسون میانی پشت بالاتنه   ",10,null,"پهنای یقه انگلیسی","مرحله ششم",null,"طراحی بافت جلو پشت آستین","انتخاب بافت",null,null,null,null," قله رکاب جلو شلوار   ",0,null,null,null,null,null,"(16 →17)",{"$f":"U242","v":3.6}]
[" ضریب طول ساسون میانی پشت بالاتنه   ",18,null,"بالا و پایین رفتن نقطه وسط دال","مرحله هفتم",null,"انتخاب ضخامت میل بافتنی",2,null,"  آستین کلوش ",null,null," قله رکاب پشت شلوار   ",0,null,null,null,null,null,"(16 →18)",{"$f":"ROUND(محاسبات!ER40-3-0.2*محاسبات!ER40,1)","v":11},"عمود"]
[" ضریب فاصله افقی ساسون وسط بالاتنه از خط مرکزی پشت   ",25,null,"تنظیم زاویه های نوک دال","مرحله هشتم",null,"شماره بافت انتخابی جلو",4,null,"بلندی پایین آستین کلوش",37,null," ارتفاع رکاب جلو شلوار   ",0,null,null,null,null,null,"(16 →19)",{"$f":"U244","v":11}]
[" ضریب پهنای ساسون میانی جلو بالاتنه    ",6,null,"اصلاح انحنای بالای تکه پشت یقه انگلیسی","مرحله نهم",null,"شماره بافت انتخابی پشت",4,null," اوزمان آستین کلوش ",10,null," ارتفاع رکاب پشت شلوار   ",0,null,null,null,null,null,{"$f":"'طراحی همه الگوها'!A179","v":"بچگانه 3 ساله"}]
[" ضریب طول ساسون میانی جلو بالاتنه  ",18,null,null,null,null,"شماره بافت انتخابی آستین",4]
[" ضریب فاصله افقی ساسون میانی بالاتنه از خط مرکزی جلو   ",25,null,"طراحی یقه مربعی یا برش سرشانه در پیراهن",null,null,null,null,null," آستین لاله ای",null,null," جیب جین پشت شلوار یا پیراهن ",null,null,"طراحی چادر شماره 5",null,null,null,"رسم دستی چادر 5 (بر حسب سانتیمتر)"]
[" ضریب نوک ساسون سرشانه جلو تا نوک سینه  ",18,null,"انتخاب یقه مربعی یا برش سرشانه",2,null,"طراحی بافت یقه شکاری","انتخاب بافت",null,"مکان نقطه بالای انحنا جلو آستین   ",20,null,"ضریب پهنای جیب    ",11,null,"لبه پایین چادر",10,null,null,"(1 →2)",{"$f":"ROUND(0.5*'متغیرها '!C38*'متغیرها '!U54,1)","v":53.1}]
[null,null,null,"  انتخاب آستین با هر نوع ساسون=1    انتخاب آستین بدون ساسون=2           ",2,null,"شماره بافت انتخابی یقه شکاری",4,null,"مکان نقطه بالای انحنا پشت آستین   ",20,null,"ضریب ارتفاع جیب    ",9,null,"گشادی دامن چادر  ",20,null,null,"(1 →3)",{"$f":"ROUND('متغیرها '!U56-محاسبات!FC42,1)","v":53.9},"عمود"]
[" تنظیم ساسون های پایین کمر",null,null,"بالا یا پایین آمدن خط کارور پشت",20,null,null,null,null,"مکان نقطه پایین انحنا جلو آستین   ",20,null,"زاویه خط پهلو جیب    ",5,null,"بلند شدن دسته چادر ",20,null,null,"(2 → 4)",{"$f":"U250","v":53.9},"عمود"]
["مجموع ضرایب پهنای دو ساسون پشت باید کمتر از 20 یا مساوی 20 باشد.",null,null,"  حلقه آستین با ساسون سرشانه یا حلقه آستین بدون ساسون ",{"$f":"'متغیرها '!B286","v":"عدم خطا"},null,"طراحی بافت یقه شومیزیه","انتخاب بافت",null,"مکان نقطه پایین انحنا پشت آستین   ",20,null,"زاویه مثلث پایین جیب    ",20,null,"انتخاب چادر تا پایین پیشانی یا بالای پیشانی یا روی سر",2,null,null,"(3→5)",{"$f":"ROUND(0.14*'متغیرها '!U56,1)","v":7.5}]
["اگر مجموع پهنای ساسون ها کمتر از 20 باشد، باقیمانده ساسون ها روی خط پهلو قرار میگیرد.",null,null,"  حلقه آستین با ساسون عصایی  ",{"$f":"'متغیرها '!B287","v":"عدم خطا"},null,"شماره بافت انتخابی یقه شومیزیه",2,null,"ضریب انحنا جلو   ",23,null,"زاویه چرخش کل جیب    ",45,null,null,null,null,null,"(4 →6)",{"$f":"ROUND(0.33*U249,1)","v":17.5},"عمود"]
[" ضریب پهنای ساسون روی خط مرکزی پشت پایین تنه   ",0,null,"بالا یا پایین آمدن خط کارور جلو",10,null,null,null,null,"ضریب انحنا پشت   ",23,null,"مکان افقی جیب  (سانتیمتر)    ",0,null,null,null,null,null,"(6 →7)",{"$f":"U261","v":12.8},"عمود"]
[" ضریب پهنای ساسون میانی پشت پایین تنه   ",10,null,"  حلقه آستین با ساسون سرشانه یا حلقه آستین بدون ساسون ",{"$f":"'متغیرها '!B290","v":"عدم خطا"},null,null,null,null,null,null,null,"مکان عمودی جیب    ",20,null,null,null,null,null,"(4→8)",{"$f":"ROUND(0.2*('متغیرها '!U52-'متغیرها '!U53),1)","v":5.2}]
[" ضریب طول ساسون میانی پشت پایین تنه       ",18,null,"  حلقه آستین با ساسون عصایی  ",{"$f":"'متغیرها '!B291","v":"عدم خطا"},null,null,null,null,null,null,null,null,null,null,null,null,null,null,"(4 →11)",{"$f":"ROUND(3*U255+'متغیرها '!U52+10,1)","v":76.599999999999994}]
[" ضریب پهنای ساسون میانی جلو پایین تنه    ",6,null,"پهنا یقه روی خط سرشانه  (فقط موثر در انتخاب یقه مربعی) ",20,null,null,null,null,null,null,null," جیب جلو شلوار مردانه و جیب جین جلو شلوار",null,null,null,null,null,null,"(4 →9)",{"$f":"ROUND(1+0.03*'متغیرها '!U56,1)","v":2.6},"عمود"]
[" ضریب طول ساسون میانی جلو پایین تنه       ",20,null,"پهنای کارور جلو  (فقط موثر در انتخاب یقه مربعی) ",20,null,null,null,null,null,null,null," بزرگی عمودی دهانه جیب   ",10,null,null,null,null,null,"(12 →18)",{"$f":"U252","v":7.5}]
["ساسون ها در بالاتنه عصایی ",null,null,"پهنای کارور پشت  (فقط موثر در انتخاب یقه مربعی) ",20,null,null,null,null,null,null,null," بزرگی افقی دهانه جیب   ",10,null,null,null,null,null,"(18 →14)",{"$f":"ROUND(محاسبات!DM47+محاسبات!CJ22+0.1*'متغیرها '!U85-'متغیرها '!U56+U252+0.1*'متغیرها '!C40*'متغیرها '!U85,1)","v":65.099999999999994}]
["انتخاب بالاتنه عصایی=2        انتخاب دیگر=1",1,null,"جابجایی افقی   (سانتیمتر)   ",0,null,null,null,null,null,null,null," بزرگی کیسه جیب    ",10,null,null,null,null,null,"(12 →16)",{"$f":"U249-U253","v":35.6},"عمود"]
["مکان ساسون عصایی جلو در حلقه آستین بالاتنه",4,null,"جابجایی عمودی  (سانتیمتر)  ",0,null,null,null,null,null,null,null,null,null,null,null,null,null,null,"(16 →17)",{"$f":"ROUND(U258+0.5*(SQRT(POWER(U259-محاسبات!FC43,2)+U260*U260)-U259+محاسبات!FC43),1)","v":12.8},"عمود"]
["مکان ساسون عصایی پشت در حلقه آستین بالاتنه",6,null,null,null,null,null,null,null,null,null,null,"  جیب جلو شلوار با بلیطی",null,null,null,null,null,null,"(16 →13)",{"$f":"ROUND(1.9*(U253-U255),1)","v":23.4}]
[null,null,null,"بررسی خطای گردی یقه تا خط کارور جلو",null,null,null,null,null,null,null,null,"پهنای بلیطی جیب  (سانتیمتر)",2,null,null,null,null,null,"(14 →15)",{"$f":"ROUND(U260+U262+0.5*'متغیرها '!C39*'متغیرها '!U56,1)","v":72.5},"عمود"]
["طراحی دامن فون",null,null,"آیا یقه گرد که تا خط کارور جلو باز شده، با پارچه کش از سر رد میشود؟",{"$f":"'متغیرها '!E297","v":"خیر- گردی یقه زیاد شود یا کارور جلو پایین بیاید"},null,null,null,null,null,null,null,"ضریب طول بلیطی جیب",18,null,null,null,null,null,"(3→19)",{"$f":"ROUND(0.4*(محاسبات!FJ25-محاسبات!FJ22),1)","v":14.2}]
["اتصال به دامن تنگ = 3    اتصال به بالاتنه با ساسون=2   اتصال به پیراهن راسته=1",2,null,"آیا یقه گرد که تا خط کارور جلو باز شده، با پارچه غیر کش از سر رد میشود؟",{"$f":"'متغیرها '!E298","v":"خیر- گردی یقه زیاد شود یا کارور جلو پایین بیاید"},null,null,null,null,null,null,null,"زاویه جیب با عمود ",18,null,null,null,null,null,"(19 →20)",{"$f":"ROUND(محاسبات!FG17-(محاسبات!FK25+0.9*(محاسبات!FK22-محاسبات!FK25)),1)","v":8},"عمود"]
["مکان پایین دامن فون \nدراتصال به پیراهن راسته یا دامن تنگ   ",25,null,null,null,null,"طراحی نقشه بافت",null,null,null,null,null,"تبدیل بلیطی جیب از مستطیل به متوازی الاضلاع ",20,null,null,null,null,null,"(3 →21)",{"$f":"ROUND(0.8*(محاسبات!FJ25-محاسبات!FJ22),1)","v":28.5}]
["چین در دامن فون",1,null," یقه دراپه ",null,null,"جابجایی افقی کل نقشه  (سانتیمتر)   ",-10,null,null,null,null,"انتخاب جیب روکار=2        انتخاب دیگر=1",2,null,null,null,null,null,"(21→22)",{"$f":"ROUND(محاسبات!FG17-(محاسبات!FK25+0.45*(محاسبات!FK22-محاسبات!FK25)),1)","v":10.4},"عمود"]
[" اوزمان در جلو دامن فون    ",5,null,"نقطه شروع دراپه جلو    ",80,null,"جابجایی عمودی کل نقشه  (سانتیمتر)  ",-3,null,null,null,null,"مکان افقی وسط جیب",10,null,null,null,null,null,"(12 →23)",{"$f":"U264","v":14.2}]
[" اوزمان در پشت دامن فون   ",39,null,"میزان باز بودن یقه جلو به سمت  خط سینه    ",20,null,"نسبت افقی نقشه بافت به سایز واقعی الگو",42,null,null,null,null,"مکان عمودی بالای جیب  ",50,null,null,null,null,null,"(23 →24)",{"$f":"U265","v":8},"عمود"]
["جابجایی افقی جلو دامن فون (سانتیمتر)",0,null,"جابجایی عمودی یقه دراپه جلو (سانتیمتر)",0,null,"ارتفاع هر رج (نسبت عمودی نقشه بافت به سایز واقعی الگو)",50,null,null,null,null,null,null,null,null,null,null,null,"(12 →25)",{"$f":"U266","v":28.5}]
["جابجایی عمودی جلو دامن فون (سانتیمتر)",5,null,"نقطه شروع دراپه پشت    ",80,null,"پهنای نیم دایره",5,null,null,null,null," جیب پشت شلوار یا پیراهن با بلیطی",null,null,null,null,null,null,"(25 →26)",{"$f":"U267","v":10.4},"عمود"]
["جابجایی افقی پشت دامن فون (سانتیمتر)",10,null,"میزان باز بودن یقه پشت به سمت  خط سینه    ",20,null,"طول باکس نوشته",9,null,null,null,null,"پهنای بلیطی جیب  (سانتیمتر)",2,null,null,null,null,null,"(15 →27)",{"$f":"ROUND(محاسبات!FJ15-(محاسبات!FJ11+0.75*(محاسبات!FJ15-محاسبات!FJ11)),1)","v":3.4}]
["جابجایی عمودی پشت دامن فون (سانتیمتر)",-5,null,"جابجایی عمودی یقه دراپه پشت (سانتیمتر)",0,null,"پهنای باکس نوشته",10,null,null,null,null,"ضریب طول بلیطی جیب",20,null,null,null,null,null,"(27 →28)",{"$f":"ROUND(محاسبات!FK15-محاسبات!FK13,1)","v":36.299999999999997},"عمود"]
[null,null,null,null,null,null,"بزرگی فلش رج",12,null,null,null,null,"زاویه جیب با عمود ",18,null,null,null,null,null,"(4 →29)",{"$f":"ROUND(0.5*('متغیرها '!U52-'متغیرها '!U53),1)","v":13},"نقطه انتهای اتصال به کمر-خط پهلو"]
["  جلو کمر پهن","عکس راهنما",null,"یقه دکلته جلو",null,null,"زاویه فلش رج",10,null,null,null,null,"تبدیل بلیطی جیب از مستطیل به متوازی الاضلاع ",20,null,null,null,null,null,{"$f":"'طراحی همه الگوها'!A179","v":"بچگانه 3 ساله"}]
["انتخاب کمر برای جلیقه =2         انتخاب دیگر = 1",1,null,"میزان باز بودن یقه در خط مرکزی جلو  ",90,null,"بزرگی خط عمودی دانه",6,null,null,null,null,"انتخاب جیب روکار=2        انتخاب دیگر=1",2]
["بالای کمر پهن یکسره روی خط مرکزی جلو (ضریب فاصله نقطه u4 از خط کمر)",0,null,"میزان اضافه شدن ساسون سرشانه  ",20,null,"بزرگی فلش دانه",10,null,null,null,null,"مکان افقی وسط جیب",10]
["پایین کمر روی خط مرکزی جلو (ضریب فاصله نقطه d4 از خط کمر)  (کمر جناقی و حد پایین برش دراپه)",-12,null,"میزان انحنا یقه  ",20,null,"زاویه فلش دانه",15,null,null,null,null,"مکان عمودی بالای جیب  ",50]
["ضریب فاصله عمودی دال جلو  (جلیقه) - (ضریب فاصله نقطه u5 از خط کمر)",0]
["ضریب فاصله افقی دال جلو  (جلیقه) - (ضریب فاصله نقطه u5 از خط مرکزی جلو)",0,null,"یقه دکلته پشت"]
["پایین کمر روی خط ترک جلو (ضریب فاصله نقطه d5 از خط کمر)  (کمر جناقی و حد پایین برش دراپه)",-5,null,"میزان باز بودن یقه در خط مرکزی پشت  ",90]
["بالای کمر پهن یکسره روی خط ترک جلو (ضریب فاصله نقطه u6 از خط کمر)",0,null,"میزان انحنا یقه  ",19]
["جابجایی افقی کمر پهن یکسره (سانتیمتر)",10]
["جابجایی عمودی کمر پهن یکسره  (سانتیمتر)",100,null," طول بند برای لباس دکلته از جلو تا پشت (سانتیمتر)"]
[null,null,null,"دکلته آبی جلو     به     دکلته آبی پشت",{"$f":"'متغیرها '!B361","v":8}]
["  پهلو کمر پهن",null,null,"دکلته آبی جلو     به     دکلته سبز پشت",{"$f":"'متغیرها '!B362","v":12}]
["بالای کمر پهن یکسره روی خط پهلو (ضریب فاصله نقطه u3 از خط کمر)",0,null,"دکلته آبی جلو     به     دکلته بنفش پشت",{"$f":"'متغیرها '!B363","v":16}]
["پایین کمر روی خط پهلو (ضریب فاصله نقطه d3 از خط کمر)  (کمر جناقی و حد پایین برش دراپه)",0,null,"دکلته آبی جلو     به     دکلته سیاه پشت",{"$f":"'متغیرها '!B364","v":19}]
[null,null,null,"دکلته سبز جلو     به     دکلته آبی پشت",{"$f":"'متغیرها '!B365","v":12}]
[" پشت کمر پهن","عکس راهنما",null,"دکلته سبز جلو     به     دکلته سبز پشت",{"$f":"'متغیرها '!B366","v":16}]
["بالای کمر پهن یکسره روی خط مرکزی پشت (ضریب فاصله نقطه u1 از خط کمر)",0,null,"دکلته سبز جلو     به     دکلته بنفش پشت",{"$f":"'متغیرها '!B367","v":20}]
["پایین کمر روی خط مرکزی پشت (ضریب فاصله نقطه d1 از خط کمر) (کمر جناقی)",-3,null,"دکلته سبز جلو     به     دکلته سیاه پشت",{"$f":"'متغیرها '!B368","v":23}]
["بالای کمر پهن یکسره روی خط ترک پشت (ضریب فاصله نقطه u2 از خط کمر)",0,null,"دکلته سیاه جلو     به     دکلته آبی پشت",{"$f":"'متغیرها '!B369","v":15}]
["پایین کمر روی خط ترک پشت (ضریب فاصله نقطه d2 از خط کمر) (کمر جناقی)",-3,null,"دکلته سیاه جلو     به     دکلته سبز پشت",{"$f":"'متغیرها '!B370","v":19}]
["جابجایی افقی کمر پهن یکسره (سانتیمتر)",20,null,"دکلته سیاه جلو     به     دکلته بنفش پشت",{"$f":"'متغیرها '!B371","v":23}]
["جابجایی عمودی کمر پهن یکسره  (سانتیمتر)",40,null,"دکلته سیاه جلو     به     دکلته سیاه پشت",{"$f":"'متغیرها '!B372","v":27}]
[]
[" پیلی ها و گوده ها (متقارن در پیراهن)","عکس راهنما",null," رگلاژ یقه دکلته پشت"]
[" عرض پیلی 1 (بعد از دوخت) - روی خط مرکزی جلو  (سانتیمتر)    ",0,null,"نقطه بالای رگلاژ روی یقه دکلته    ",2]
[" عرض پیلی 2 (بعد از دوخت) - روی خط ترک جلو  (سانتیمتر)     ",0,null,"نقطه وسط رگلاژ روی خط کمر    ",16]
[" عرض پیلی 3 (بعد از دوخت) - روی خط پهلو   (سانتیمتر)   ",0,null,"نقطه پایین رگلاژ روی خط مرکزی پشت   ",16]
[" عرض پیلی 4 (بعد از دوخت) - روی خط مرکزی پشت   (سانتیمتر)   ",2,null,"ضریب پهنای جادکمه برای تکه رگلاژ ",6]
[" عرض پیلی 5 (بعد از دوخت)  روی خط ترک پشت (سانتیمتر) و نصف پهنای لبه برگرد پایین کت",2,null,"جابجایی افقی تکه رگلاژ جدا (سانتیمتر)  ",30]
[" عرض پایین گوده 1 - روی خط مرکزی جلو  (سانتیمتر)    ",0]
[" عرض پایین گوده 2 - روی خط ترک جلو  (سانتیمتر)    ",0,null,"یقه قایقی بدون شیفت تکه پهلو"]
[" عرض پایین گوده 3 - روی خط پهلو  (سانتیمتر)    ",5,null,"باز شدن یقه قایقی روی سرشانه  ",20]
[" عرض پایین گوده 4 - روی خط مرکزی پشت  (سانتیمتر)   ",5]
[" عرض پایین گوده 5 - روی خط ترک پشت   (سانتیمتر)  ",5,null,"یقه پروانه ای متصل به حلقه آستین بدون ساسون  \nبدون شیفت تکه پهلو"]
[" نقطه شروع گوده یا پیلی ",40,null,"پهنای سرشانه به سمت پشت    ",20]
[null,null,null,"پهنای سرشانه به سمت جلو   ",20]
["انحنا لبه پیراهن یا دامن روی خط مرکزی جلو "]
["انحنا نقطه بالایی روی خط مرکزی جلو ",9,null," طراحی یقه دلبری"]
["انحنا نقطه میانی روی خط مرکزی جلو ",26,null," باز شدن یقه نسبت به وسط گردن       ",14]
["انحنا نقطه پایینی روی خط مرکزی جلو ",16,null,"  فاصله عمودی نقطه شکست یقه دلبری   ",20]
[null,null,null," فاصله افقی نقطه شکست یقه دلبری",20]
[" مشخصات کمربند به شکل مستطیل (مناسب برای لباس شما)"]
["طول کمربند (سانتیمتر)",{"$f":"'متغیرها '!B273","v":64},null," یقه پشت گردنی متصل به حلقه آستین با ساسون بدون شیفت تکه پهلو "]
["عرض کمربند (سانتیمتر)",{"$f":"'متغیرها '!B274","v":2.5},null," پهنای یقه پشت گردن  ",20]
[null,null,null," طول یقه پشت گردن  ",20]
[" طراحی کش پایین سویشرت ",null,null,"  انحنا افقی یقه جلو       ",20]
["بالا یا پایین رفتن برش پایین سویشرت",45,null," انحنا عمودی یقه جلو    ",20]
["ضریب کوچک شدن کش",8]
["طول  کش از ساسون جلو- دور باسن - تا ساسون دیگر جلو (سانتیمتر)",{"$f":"'متغیرها '!B277","v":29},null,"طراحی جیب و جادکمه"]
[]
[" دراپه از پهلو",null,null,"  جیب پهلو با بلیطی  (جلو) (آبی)"]
["حد بالا برش دراپه   ",80,null,"پهنای بلیطی جیب  (سانتیمتر)",2]
["پهنای هر دراپه به سانتیمتر   ",6,null,"ضریب طول بلیطی جیب",20]
["تعداد دراپه ها    ",{"$f":"'متغیرها '!B307","v":3},null,"زاویه جیب با عمود ",4]
[null,null,null,"زاویه چرخش بلیطی جیب از مستطیل به متوازی الاضلاع ",20]
["  کنترل گودی حلقه آستین و اپل"]
["انتخاب کنترل گودی حلقه آستین=2        و انتخاب دیگر=1",1,null," جیب اول با بلیطی  (جلو) (سبز)"]
["روی هم آمدن سرشانه پشت و جلو ",10,null,"پهنای بلیطی جیب  (سانتیمتر)",2]
["نسبت اعمال تغییر در حلقه جلو به حلقه پشت  ",20,null,"ضریب طول بلیطی جیب",20]
["زاویه اپل    ",15,null,"زاویه جیب با عمود ",18]
[null,null,null,"زاویه چرخش بلیطی جیب از مستطیل به متوازی الاضلاع ",20]
[" انتقال ساسون زیر بغل بر روی جیب در تکه پهلو جدا",null,null,"انتخاب جیب روکار=2        انتخاب دیگر=1",2]
[" زاویه جیب با افق  ",40,null,"انتخاب طول جیب منطبق با جیب با ساسون=2     انتخاب طول جیب دستی=1",1]
[" پهنای جیب در مدل تکه پهلو جدا",20,null,"مکان افقی وسط جیب",11]
[null,null,null,"مکان عمودی بالای جیب  ",60]
["سرشانه دکمه خور متصل به حلقه آستین بدون ساسون"]
["پهنای جادکمه سرشانه",0,null,"جیب دوم با بلیطی (جلو) (سیاه)"]
[null,null,null,"پهنای بلیطی جیب  (سانتیمتر)",2]
["  آستین کیمونو و آستین سرخود بدون شیفت تکه پهلو",null,null,"ضریب طول بلیطی جیب",20]
["میزان خمیدگی آستین کیمونو نسبت به خط سرشانه   ",20,null,"زاویه جیب با عمود ",18]
["کوتاهی آستین کیمونو   ",10,null,"زاویه چرخش بلیطی جیب از مستطیل به متوازی الاضلاع ",20]
["گشادی دور مچ   (کیمونو و سرخود)",0,null,"انتخاب جیب روکار=2        انتخاب دیگر=1",2]
["انحنا پهلو برای آستین کیمونو   ",8,null,"مکان افقی وسط جیب",10]
["انحنا پهلو برای آستین سرخود   ",5,null,"مکان عمودی بالای جیب  ",96]
["کوتاهی آستین سرخود   ",35]
["کوتاهی تاج آستین سرخود   ",0,null,"  جیب مستطیل  (جلو)  (قرمز)"]
[" : گشادی لبه آستین سرخود",{"$f":"'متغیرها '!E399","v":" گشاد تر شود "},null,"ضریب عرض جیب مستطیل",0]
[null,null,null,"زاویه  جیب با عمود ",0]
[" شورت بدون شیفت تکه پهلو",null,null,"ضریب ارتفاع جیب مستطیل",0]
["ضریب فاصله کمر شورت تا زمین ",65,null,"مکان افقی وسط جیب",10]
["میزان انحنا جلو شورت مردانه ",0,null,"مکان عمودی بالای جیب  ",96]
[]
[null,null,null," جادکمه با بلیطی (جلو)"]
[null,null,null,"پهنای جادکمه  (سانتیمتر)",2]
[" مایو پادار",null,null,"ضریب طول جادکمه ",20]
["گشادی پایین پاچه     ",3,null,"زاویه جادکمه با عمود ",18]
["پهنای صافی لبه پایین پاچه",10,null,"مکان افقی وسط جادکمه",10]
["ضریب عرض جادکمه وسط پا  ",3,null,"مکان عمودی بالای جادکمه ",70]
["زاویه خط پهلو پاچه  ",5]
["جابجایی افقی تکه وسط پا (سانتیمتر)",2,null,"جادکمه متصل به یقه  (جلو)"]
["جابجایی عمودی تکه وسط پا (سانتیمتر)",-10,null,"ضریب عرض جادکمه ",0]
[" طراحی مایو      ",null,null,"ضریب طول جادکمه ",0]
[" ضریب بالا آمدن خط مایو در پهلو   ",15,null," طول جادکمه  (سانتیمتر)",{"$f":"'متغیرها '!B239","v":0}]
["انتخاب مایو دکمه دار از وسط پا=2            انتخاب مایو بدون دکمه=1",2,null," عرض جادکمه  (سانتیمتر)",{"$f":"'متغیرها '!B240","v":0}]
["جابجایی محل دکمه از پشت به جلو برای پوشک بچه در انتخاب مایو دکمه دار (سانتیمتر)",2,null,"آیا یقه گرد متصل به جادکمه با پارچه غیر کش از سر رد میشود؟",{"$f":"'متغیرها '!E237","v":"بله "}]
["اضافه پهنا وسط پا برای پوشک بچه در انتخاب مایو دکمه دار (سانتیمتر) ",1.5,null,"آیا یقه گرد متصل به جادکمه با پارچه نیم کش از سر رد میشود؟",{"$f":"'متغیرها '!E238","v":"بله "}]
["اضافه جادکمه وسط پا در انتخاب مایو دکمه دار  (سانتیمتر)",2,null,"آیا یقه گرد متصل به جادکمه با پارچه کش زیاد از سر رد میشود؟",{"$f":"'متغیرها '!E239","v":"بله "}]
["مکان افقی مرغک",9]
["مکان عمودی مرغک",-12,null,"طراحی دامن"]
["  پیش بند حمام بچه و طراحی اانحنا روی خط پهلو پیراهن"]
[" بزرگی کلاه بچه   ",20,null,"طراحی زیپ و چاک دامن"]
["نقطه بالای انحنا روی خط پهلو",20,null,"عرض (پهنا) زیپ در خط پهلو  (سانتیمتر)   ",0]
["نقطه پایین انحنا روی خط پهلو",20,null,"ضریب طول (بلندی) زیپ در خط پهلو  ",16]
[null,null,null,"عرض (پهنا) زیپ در خط مرکزی پشت  (سانتیمتر)   ",3]
["  جلو پیش سینه رکابی بدون شیفت تکه پهلو",null,null,"ضریب طول (بلندی) زیپ در خط مرکزی پشت  ",16]
["بالا یا پایین رفتن بند پیش سینه جلو",57,null,"عرض (پهنا) چاک در خط مرکزی پشت  (سانتیمتر)   ",4]
["فاصله بند تا زیر حلقه آستین",20,null,"ضریب طول (بلندی) چاک در خط مرکزی پشت  ",13]
["گودی بین دو بند در جلو سینه",50]
["فاصله بند تا خط مرکزی جلو",20,null," پیلی ها  (متقارن یا نامتقارن در جلو دامن)"]
["انتخاب خط راست پهلو جلو=2        انتخاب دیگر=1",1,null," عرض پیلی 2 (بعد از دوخت) - جلو  (سانتیمتر)     ",0]
[null,null,null," عرض پیلی 3 (بعد از دوخت) - جلو  (سانتیمتر)   ",0]
["مکان بند جدا پیش سینه یا پیش بند در الگو پشت",null,null," عرض پیلی 4 (بعد از دوخت) - جلو   (سانتیمتر)   ",0]
["مکان افقی بند جدا",20,null," عرض پیلی 5 (بعد از دوخت) - روی خط مرکزی جلو  (سانتیمتر)    ",0]
["مکان عمودی بند جدا",50,null," عرض پیلی 6 (بعد از دوخت) -  جلو  (سانتیمتر)     ",0]
[null,null,null," عرض پیلی 7 (بعد از دوخت) - جلو   (سانتیمتر)   ",0]
[" پشت پیش سینه رکابی بدون شیفت تکه پهلو",null,null," عرض پیلی 8 (بعد از دوخت) - جلو   (سانتیمتر)   ",0]
["بالا یا پایین رفتن بند پیش سینه پشت",20]
["فاصله بند تا زیر حلقه آستین",20,null," پیلی ها  (متقارن یا نامتقارن در پهلو دامن)"]
["گودی بین دو بند در پشت سینه",20,null," عرض پیلی 1 (بعد از دوخت) - درز پهلو چپ  (سانتیمتر)    ",0]
["فاصله بند تا خط مرکزی پشت",20,null," عرض پیلی 9 (بعد از دوخت) - درز پهلو راست   (سانتیمتر)   ",0]
["انتخاب خط راست پهلو پشت=2        انتخاب دیگر=1",1]
[null,null,null," پیلی ها  (متقارن یا نامتقارن در پشت دامن)"]
["  طراحی سوتین کلی",null,null," عرض پیلی 10 (بعد از دوخت) - پشت  (سانتیمتر)     ",0]
["ضریب ساسون وسط سینه      ",20,null," عرض پیلی 11 (بعد از دوخت) - پشت  (سانتیمتر)   ",0]
["ضریب پایین آمدن از خط پهلو    ",20,null," عرض پیلی 12 (بعد از دوخت) - پشت   (سانتیمتر)   ",0]
[" بزرگ شدن کاسه در خط مرکزی جلو      ",20,null," عرض پیلی 13 (بعد از دوخت) - روی خط مرکزی پشت  (سانتیمتر)    ",0]
[" بزرگ شدن کاسه زیر نوک سینه    ",20,null," عرض پیلی 14 (بعد از دوخت) -  پشت  (سانتیمتر)     ",0]
[" بزرگ شدن کاسه در پهلو      ",20,null," عرض پیلی 15 (بعد از دوخت) - پشت   (سانتیمتر)   ",0]
[" بالا یا پایین آمدن یقه روی خط مرکزی جلو    ",20,null," عرض پیلی 16 (بعد از دوخت) - پشت   (سانتیمتر)   ",0]
["حرکت عمودی نقطه اتصال بند جلو      ",20,null,"جابجایی افقی قرینه پشت دامن (سانتیمتر)",-15]
["حرکت افقی نقطه اتصال بند جلو    ",20]
["میزان انحنا یقه جلو   ",20,null," دامن چند طبقه چین"]
["ضریب گودی خطوط افقی کاسه      ",20,null,"اتصال به دامن تنگ = 3    اتصال به بالاتنه با ساسون=2   اتصال به پیراهن راسته=1",3]
["ضریب گودی خطوط عمودی کاسه    ",20,null,"مکان پایین دامن طبقه اول    ",25]
["میزان انحنا یقه در پهلو    ",20,null,"چین در دامن طبقه اول",2]
[" افزایش یا کاهش ساسون زیر بغل     ",20,null,"مکان پایین دامن طبقه دوم    ",20]
[" افزایش یا کاهش طول عمودی کاسه     ",20,null,"چین در دامن طبقه دوم",1]
[" افزایش یا کاهش طول افقی کاسه     ",20,null,"مکان پایین دامن طبقه سوم    ",15]
["جابجایی افقی کاسه پایین راست (سانتیمتر)    ",0,null,"چین در دامن طبقه سوم",1]
["جابجایی عمودی کاسه پایین (سانتیمتر)    ",0,null,"مکان پایین دامن طبقه چهارم    ",10]
["جابجایی عمودی کاسه بالا (سانتیمتر)    ",0,null,"چین در دامن طبقه چهارم",1]
[null,null,null,"جابجایی افقی جلو دامن چند طبقه (سانتیمتر)",0]
["  طراحی اختصاصی سوتین 6 تکه",null,null,"جابجایی عمودی جلو دامن چند طبقه (سانتیمتر)",0]
["انتقال ساسون روی خط سینه به زیر سینه    ",9,null,"جابجایی افقی پشت دامن چند طبقه (سانتیمتر)",0]
["چرخش تکه پهلو     ",20,null,"جابجایی عمودی پشت دامن چند طبقه (سانتیمتر)",0]
["پهنای بند جلو       ",1.5]
["بالا یا پایین رفتن مکان بند جلو",20,null," دامن لنگی دراپه"]
["چپ و راست رفتن مکان بند جلو",20,null,"پهنای هر دراپه (پیلی) (سانتیمتر)  ",3]
["پهنای افقی برش جلو بند    ",20,null,"مکان نقطه شروع دراپه روی خط پهلو   ",26]
["پهنای برش کاسه در پهلو      ",20,null,"مکان نقطه شروع دراپه در پایین لباس   ",26]
["بالا یا پایین رفتن خط پایین پایه      ",80,null,"مکان پیلی اول روی کمر دامن",10]
["پهنای بند پشت  (سانتیمتر)   ",1.5,null,"مکان پیلی دوم روی کمر دامن",20]
["بالا یا پایین رفتن مکان بند پشت",20,null,"مکان پیلی سوم روی کمر دامن",30]
["چپ و راست رفتن مکان بند پشت",9]
["انحنا یقه پشت پهلو      ",20,null," دامن با والان"]
["پهنای قزن در پشت (سانتیمتر)    ",3,null,"پهنای هر یک از 3 تا پیلی (بعد از دوخت) روی کمر  (سانتیمتر)  ",5]
["انحنا یقه پشت مرکزی      ",20,null,"فاصله  پیلی اول تا خط مرکزی جلو   ",15]
["جابجایی افقی تکه جلو مرکزی (سانتیمتر)    ",0,null," لبه پایینی دامن والان روی خط مرکزی پشت    ",10]
["جابجایی افقی تکه پهلوجلو (سانتیمتر)    ",0,null," لبه پایینی دامن والان روی درز پهلو    ",15]
["جابجایی عمودی کاسه یک تکه زیرین (سانتیمتر)    ",0,null," لبه بالایی دامن والان روی درز پهلو   ",40]
[]
[" شنل  بدون شیفت تکه پهلو"]
["اوزمان در شنل  ",20]
[]
["پیراهن کلوش (با حلقه آستین بدون ساسون سرشانه)"]
[" اوزمان در جلو پیراهن کلوش   ",5]
[" فاصله اوزمان اول از خط مرکزی جلو     ",13]
[" فاصله اوزمان دوم از خط مرکزی جلو     ",18]
[" اوزمان در پشت پیراهن کلوش",5]
[" فاصله اوزمان اول از خط مرکزی پشت     ",13]
[" فاصله اوزمان دوم از خط مرکزی پشت     ",20]
[]
[]
[]
[]
[]
[]
[]
[]
[]
[]
[]
[]
[]
[]
[]
[]
[]
[]
[]
[]
[]
[]
[]
[]
[]
[]
[]
[]
[]
[]
[]
[]
[]
[]
[]
[]
[]
[]
[]
[]
[]
[]
[]
[]
[]
[]
[]
[]
[]
[]
[]
[]
[]
[]
[]
[]
[]
[]
[]
[]
[]
[]
[]
[]
[]
[]
[]
[]
[]
[]
[]
[]
[]
[null,null,null,null,{"$f":"'طراحی همه الگوها'!J349","v":0}]

{"sheet":"الگوهای مدل 39","index":7,"n_rows":19,"n_cols":5,"rows_kept":19,"cut":false,"hidden":false,"merged":[]}
[]
[]
[null,null,null,"انتخاب سایز :"]
[null," ",null,"بچگانه 3 ساله","سایز من"]
[]
[]
[]
[]
[]
[]
[]
[]
[]
[]
[]
[]
[]
[]
["in"]

{"sheet":"temp_print_sheet","index":8,"n_rows":0,"n_cols":0,"rows_kept":0,"cut":false,"hidden":true,"merged":[]}