{"text_format":"1","workbook":"xlsx","n_sheets":12,"sheets":["Chart Index","محاسبات","متغیرها ","رسم دستی دامن نیم کلوش","رسم دستی دامن کلوش","نمونه بافت","راهنما ","اندازه های شخصی","اندازه گیری و تحلیل","طراحی همه الگوها","الگوهای مدل 50","temp_print_sheet"],"not_rendered":{"charts":31,"images":68,"macros":1,"external_links":1,"defined_names":4,"comments":2,"pivot_tables":0},"unopened":[],"bounds":{"document_bytes":16777216,"sheet_cells":100000,"rows_first":2000,"rows_last":500,"rows_between":2000,"halvings":0,"cell_chars":16384,"cell_head_chars":4096},"cells_cut":0,"cells_raw":0,"read":"whole","date_system":"1900"}

{"sheet":"Chart Index","index":0,"n_rows":22,"n_cols":4,"rows_kept":22,"cut":false,"hidden":true,"merged":[]}
[]
[]
[]
[]
[]
[]
["Preview","Sheet (and graph link)","Chart Title","Chart Series"]
[null,"طراحی همه الگوها","رسم دستی چادر2","انحنا, صاف"]
[null,"طراحی همه الگوها","رسم دستی چادر 3","انحنا, صاف"]
[null,"طراحی همه الگوها","رسم دستی چادر 5","انحنا, صاف"]
[null,"طراحی همه الگوها","طراحی چادرها و رسم چادر 4","شبیه ساز دست خمیده و سر, شبیه ساز دامن, رسم یا طراحی چادر4"]
[null,"طراحی همه الگوها","  چادر1 و مقنعه برای پرینت ","شبیه ساز دست خمیده و سر, شبیه ساز دامن, چادر 1 با نقطه گذاری"]
[null,"طراحی همه الگوها","شلوار پشت","1شبیه ساز, 2کمر شلوار,  3وسط شلوار و خط اتو, 4پهلو, 6فاق, 7لبه پایین, 9کمر جدا, اطلاعات اندام در شلوار"]
[null,"طراحی همه الگوها","طراحی پشت یقه ","شبیه ساز برش, شبیه ساز انحنا, طراحی یقه گرد"]
[null,"طراحی همه الگوها","طراحی جلو یقه","شبیه ساز اندام, طراحی یقه شکاری"]
[null,"طراحی همه الگوها","شلوار جلو","1شبیه ساز جلو, 2کمر شلوار, 3وسط شلوار, 4پهلو, 6فاق, 7لبه پایین شلوار, 8زیپ, 9کمر جدا, 10جیب مردانه, 11جیب جین, اطلاعات اندام در شلوار"]
[null,"طراحی همه الگوها","طراحی جلو دامن ترک با کمر پهن","شبیه ساز دامن تنگ, کمر پهن, خط مرکزی جلو کمر, خطوط اصلی دامن ترک, خطوط فرعی دامن ترک, خط اوزمان, پیلی"]
[null,"طراحی همه الگوها","طراحی پشت دامن ترک با کمر پهن","شبیه ساز دامن تنگ, کمر یکسره, خطوط اصلی دامن ترک, خطوط فرعی دامن ترک, پیلی"]
[null,"طراحی همه الگوها"," آستین ","شبیه ساز آستین, آستین بلند یا کوتاه, مچ آستین بلند یا کوتاه"]
[null,"طراحی همه الگوها","الگو پشت","0 اطلاعات اندام, 72شبیه ساز بالاتنه بدون ساسون, 2شبیه ساز دامن, 5حلقه آستین بدون ساسون, 6سرشانه بدون ساسون, 10پهلو صاف وپایین لباس, 17یقه گرد , 18خط پشت در پیراهن, 24بدون شیفت ساسون کمر"]
[null,"طراحی همه الگوها","یقه و کلاه","شومیزیه"]
[null,"طراحی همه الگوها","الگو جلو","0اطلاعات اندام, 1شبیه ساز بالاتنه, 2شبیه ساز دامن, 6حلقه آستین بدون ساسون  , 7سرشانه بدون ساسون, 11پهلو صاف , 22یقه گرد چرخیده, 23جادکمه یقه گرد در پیراهن, 29پایین پیراهن بدون ترک, 70ساسون کمر, 76جادکمه متصل به یقه"]

{"sheet":"محاسبات","index":1,"n_rows":1128,"n_cols":599,"rows_kept":139,"cut":true,"hidden":true,"merged":[[9,157,9,159],[144,5,144,6],[86,31,86,34],[10,131,10,132],[8,143,8,145],[95,16,95,22],[112,25,112,26],[11,90,11,92],[11,98,11,100],[10,107,10,113],[10,104,10,105]],"bounds":{"rows_first":62,"rows_last":15,"rows_between":62,"halvings":5}}
["height_print ",30.734968314580009]
["width_print ",30.623780540051243]
["charts_resized ",null,null,null,null,null,null,null,null,null,"محاسبات بافت",null,null,null,null,null,null,null,null,null,null,null,null,null,null,null,null,null,null,null,null,null,null,null,null,null,null,null,null,null,null,null,null,null,null,null,null,null,null,null,null,null,null,null,null,null,null,null,null,null,null,null,null,null,null,null,null,null,null,null,null,null,null,null,null,null,null,null,null,null,null,null,null,null,null,null,null,null,null,null,null,null,null,null,null,null,null,null,null,null,null,null,null,null,null,null,null,null,null,null,null,null,null,null,null,null,null,null,null,null,null,null,null,null,null,null,null,null,null,null,null,null,null,null,null,null,null,null,null,null,null,null,null,null,null,null,null,null,null,null,null,null,null,null,null,null,null,null,null,null,null,null,null,null,null,null,null,null,null,null,null,null,null,null,null,null,null,null,null,null,null,null,null,null,null,null,null,null,null,null,null,null,null,null,null,null,null,null,null,null,null,null,null,null,null,null,null,null,null,null,null,null,null,null,null,null,null,null,null,null,null,null,null,null,null,null,null,null,null,null,null,null,null,null,null,null,null,null,null,null,null,null,null,null,null,null,null,null,null,null,null,null,null,null,null,null,null,null,null,null,null,null,null,null,null,null,null,null,null,null,null,null,null,null,null,null,null,null,null,null,null,null,null,null,null,null,null,null,null,null,null,null,null,null,null,null,null,null,null,null,null,null,null,null,null,null,null,null,null,null,null,null,null,null,null,null,null,null,null,null,null,null,null,null,null,null,null,null,null,null,null,null,null,null,null,null,null,null,null,null,null,null,null,null,null,null,null,null,null,null,null,null,null,null,null,null,null,null,null,null,null,null,null,null,null,null,null,null,null,null,null,null,null,null,null,null,null,null,null,null,null,null,null,null,"یقه شکاری ",null,null,null,null,null,null,null,null,null,null,"یقه شومیزیه نوک تیز تا خط جادکمه",null,null,null,null,null,null,null,null,null,null,"یقه شومیزیه معمولی تا خط جادکمه",null,null,null,null,null,null,null,null,null,null,"یقه ب ب غیر مسطح",null,null,null,null,null,null,null,null,null,null,"یقه ب ب معمولی",null,null,null,null,null,null,null,null,null,null,"راهنما نقشه بافت",null,null,null,null,null,null,null,null,null,null,"نقشه بافت بالاتنه",null,null,null,null,null,null,null,"رج دوبل",null,null,null,null,null,null,null,null,null,null,"یقه انگلیسی",null,null,null,null,null,null,null,null,null,null,null,null,null,null,null,null,null,null,"توری بافت"]
["print_body_chartS",null,null,null,null,null,null,null,null,null,null,null,null,null,null,null,null,null,null,null,null,null,null,null,null,null,null,null,"  متغیر محاسبه ای یقه انگلیسی ",null,null,null,null,null,null,null,null,null,null,null,null,null,null,null,null,null,null,null,null,null,null,null,null,null,null,null,null,null,null,null,null,null,null,null,null,null,null,null,null,null,null,null,null,null,null,null,null,null,null,null,null,null,null,null,null,null,null,null,null,null,null,null,null,null,null,null,null,null,null,null,null,null,null,null,null,null,null,null,null,null,null,null,null,null,null,null,null,null,null,null,null,null,null,null,null,null,null,null,null,null,null,null,null,null,null,null,null,null,null,null,null,null,null,null,null,null,null,null,null,null,null,null,null,null,null,null,null,null,null,null,null,null,null,null,null,null,null,null,null,null,null,null,null,null,null,null,null,null,null,null,null,null,null,null,null,null,null,null,null,null,null,null,null,null,null,null,null,null,null,null,null,null,null,null,null,null,null,null,null,null,null,null,null,null,null,null,null,null,null,null,null,null,null,null,null,null,null,null,null,null,null,null,null,null,null,null,null,null,null,null,null,null,null,null,null,null,null,null,null,null,null,null,null,null,null,null,null,null,null,null,null,null,null,null,null,null,null,null,null,null,null,null,null,null,null,null,null,null,null,null,null,null,null,null,null,null,null,null,null,null,null,null,null,null,null,null,null,null,null,null,null,null,null,null,null,null,null,null,null,null,null,null,null,null,null,null,null,null,null,null,null,null,null,null,null,null,null,null,null,null,null,null,null,null,null,null,null,null,null,null,null,null,null,null,null,null,null,null,null,null,null,null,null,null,null,null,null,null,null,null,null,null,null,null,null,null,null,null,null,null,null,null,null,null,null,null,null,null,null,null,null,null,null,null,"بافت  انتخابی",null,null,null,null,null,null,null,"نقشه بافت ",null,null,"بافت  انتخابی",null,null,null,null,null,null,null,"نقشه بافت  ",null,null,"بافت  انتخابی",null,null,null,null,null,null,null,"نقشه بافت  ",null,null,"بافت  انتخابی",null,null,null,null,null,null,null,"نقشه بافت ",null,null,"بافت  انتخابی",null,null,null,null,null,null,null,"نقشه بافت ",null,null,"متغیرهای  ورودی ",null,null,null,null,null,null,null,"راهنمای نقشه بافت ",null,null,"متغیرهای  ورودی ",null,null,null,null,"نقشه بافت بالاتنه یقه گرد",null,null,"متغیرهای  ورودی ",null,null,null,null,null,null,null,"رسم رج دوبل",null,null,"بافت  انتخابی",null,null,null,null,null,null,null,"نقشه بافت ",null,null,null,"آستین",null,null,"جلو",null,null,"پشت ",null,null,"کلاه",null,null,"جلو شلوار",null,null,"پشت شلوار"]
["ActiveWindow.Zoom",15,null,null,"متغیرهای ورودی مربوط به ضخامت میل (متناسب با ضخامت نخ)",null,"میل 2 ","میل  2.5","میل  3","میل   3.5","میل 4 ","میل  4.5","میل  5",null,null,null,null,null,"متغیرهای ورودی یقه شومیزیه بافت انتخابی",null,null,null,"یقه ب ب تا خط مرکزی جلو",null,null,null,null,"طول دور گردن در یقه انگلیسی","d'5",{"$f":"2*(SQRT(POWER((AZ148-AZ140),2)+POWER((BA148-BA140),2))+SQRT(POWER((BK138-BK132),2)+POWER((BL138-BL132),2))+SQRT(POWER((BK132-BK135),2)+POWER((BL132-BL135),2))+SQRT(POWER((BK135-BK104),2)+POWER((BL104-BL135),2))+SQRT(POWER((AC13-J233),2)+POWER((AD13-K233),2)))","v":38.886804355122806},null,null,null,null,null,"سلول مرجع",null,null,null,null,null,null,null,null,null,null,null,null,null,null,null,null,null,null,null,null,null,null,null,null,null,null,null,null,null,null,null,null,null,null,null,null,null,null,null,null,null,null,null,null,null,null,null,null,null,null,null,null,null,null,null,null,null,null,null,null,null,null,null,null,null,null,null,null,null,null,null,null,null,null,null,null,null,null,null,null,null,null,null,null,null,null,null,null,null,null,null,null,null,null,null,null,null,null,null,null,null,null,null,null,null,null,null,null,null,null,null,null,null,null,null,null,null,null,null,null,null,null,null,null,null,null,null,null,null,null,null,null,null,null,null,null,null,null,null,null,null,null,null,null,null,null,null,null,null,null,null,null,null,null,null,null,null,null,null,null,null,null,null,null,null,null,null,null,null,null,null,null,null,null,null,null,null,null,null,null,null,null,null,null,null,null,null,null,null,null,null,null,null,null,null,null,null,null,null,null,null,null,null,null,null,null,null,null,null,null,null,null,null,null,null,null,null,null,null,null,null,null,null,null,null,null,null,null,null,null,null,null,null,null,null,null,null,null,null,null,null,null,null,null,null,null,null,null,null,null,null,null,null,null,null,null,null,null,null,null,null,null,null,null,null,null,null,null,null,null,null,null,null,null,null,null,null,null,null,null,null,null,null,null,null,null,null,null,null,null,null,null,null,null,null,null,null,null,null,null,null,null,null,null,null,null,null,null,null,null,null,null,null,null,null,null,null,null,null,null,null,null,null,null,null,null,null,null,null,null,null,null,null,null,null,null,null,null,null,null,null,null,null,null,null,null,null,null,"a1",{"$f":"O33","v":82},null,null,null,null,null,{"$f":"NV31","v":-35},{"$f":"NV32","v":5},"w1",null,"e1",{"$f":"R34","v":40},null,null,null,null,null,{"$f":"OG36","v":-35},{"$f":"OG37","v":5},"m1",null,"e1",{"$f":"U34","v":38},null,null,null,null,null,{"$f":"OR36","v":-35},{"$f":"OR37","v":5},"m1",null,"c1",{"$f":"X33","v":55},null,null,null,null,null,{"$f":"PB60","v":-35},{"$f":"PC60","v":5},"n1",null,"c1",{"$f":"AA33","v":61},null,null,null,null,null,{"$f":"PM60","v":-35},{"$f":"PN60","v":5},"n1",null,"Xt1",{"$f":"'متغیرها '!C868","v":-45},"جابجایی افقی کل راهنما نقشه",null,null,null,null,{"$f":"PX29","v":-45},5,"t1",null,null,{"$f":"QJ9","v":0},"جابجایی افقی ",null,{"$f":"QI69","v":-7.532},{"$f":"QJ69","v":35.888726831407766},"26'",null,"جابجایی افقی ",{"$f":"'متغیرها '!C880","v":2},"k2",null,null,null,null,{"$f":"QQ20","v":-19.83740728933228},{"$f":"QR20","v":3.9494958193589338},"k9",null,"d1",{"$f":"AD33","v":31},null,null,null,null,null,{"$f":"RB60","v":-35},{"$f":"RC60","v":5},"p1",null,null," a001 تعداد رج در یک سانت آستین",{"$f":"I36","v":2.373015873015873},null," a0 تعداد رج در یک سانت جلو",{"$f":"I22","v":2.4338624338624335},null," a01 تعداد رج در یک سانت پشت",{"$f":"I29","v":2.4338624338624335},null," a02 تعداد رج در یک سانت کلاه",{"$f":"I48","v":2.373015873015873},null," a03 تعداد رج در یک سانت شلوار",{"$f":"L48","v":2.373015873015873},null," a04 تعداد رج در یک سانت پشت شلوار",{"$f":"O48","v":2.373015873015873}]
["per_font_size_chart",{"$f":"0.1*'طراحی همه الگوها'!B176","v":0.8},null,null,"  (بدون احتساب بافت انتخابی)      a'0 ضریب تعداد رج",{"$f":"IF(F8=2,G6,IF(F8=2.5,H6,IF(F8=3,I6,IF(F8=3.5,J6,IF(F8=4,K6,IF(F8=4.5,L6,M6))))))","v":2.2999999999999998},3.5,3.27,3.04,2.8,2.57,2.2999999999999998,2.0699999999999998,"a''0","متغیرهای ورودی  یقه شکاری کشباف",null,null,{"$f":"ROUND(S12*S9,1)","v":1.8},"پهنا (cm)=",null,null,null,"متغیر محاسبه ای ",null,null,null,null,"دال بالا","d''3",{"$f":"H231*H124","v":3.3399999999999981},null,null,null,"تعداد دانه در یک سانت eb0 "," ea0 تعداد رج در یک سانت","میزان جمع شوندگی عمودی مدل","میزان جمع شوندگی افقی مدل","ارتفاع رجها به سانتیمتر","تعداد رج","پهنا به سانتیمتر","تعداد دانه","اسم مدل","شماره مدل",null,null,null,null,null,null,null,null,null,null,null,null,null,null,null,null,null,null,null,null,null,null,null,null,null,null,null,null,null,null,null,null,null,null,null,null,null,null,null,null,null,null,null,null,null,null,null,null,null,null,null,null,null,null,null,null,null,null,null,null,null,null,null,null,null,null,null,null,null,null,null,null,null,null,null,null,null,null,null,null,null,null,null,null,null,null,null,null,null,null,null,null,null,null,null,null,null,null,null,null,null,null,null,null,null,null,null,null,null,null,null,null,null,null,null,null,null,null,null,null,null,null,null,null,null,null,null,null,null,null,null,null,null,null,null,null,null,null,null,null,null,null,null,null,null,null,null,null,null,null,null,null,null,null,null,null,null,null,null,null,null,null,null,null,null,null,null,null,null,null,null,null,null,null,null,null,null,null,null,null,null,null,null,null,null,null,null,null,null,null,null,null,null,null,null,null,null,null,null,null,null,null,null,null,null,null,null,null,null,null,null,null,null,null,null,null,null,null,null,null,null,null,null,null,null,null,null,null,null,null,null,null,null,null,null,null,null,null,null,null,null,null,null,null,null,null,null,null,null,null,null,null,null,null,null,null,null,null,null,null,null,null,null,null,null,null,null,null,null,null,null,null,null,null,null,null,null,null,null,null,null,null,null,null,null,null,null,null,null,null,null,null,null,null,null,null,null,null,null,null,null,null,null,null,null,null,null,null,null,null,null,null,null,null,null,null,null,null,null,null,null,null,null,null,null,null,null,null,null,null,null,null,null,null,null,null,null,null,null,null,null,"a2"," خطا  ",null,null,null,null,"باکس نوشتهa1",null,null,{"$f":"OA6","v":"باکس نوشتهa1"},null,"e2",0,null,null,null,null,"باکس نوشتهe1",null,null,{"$f":"OL6","v":"باکس نوشتهe1"},null,"e2",0,null,null,null,null,"باکس نوشتهe1",null,null,{"$f":"OW6","v":"باکس نوشتهe1"},null,"c2",0,null,null,null,null,"باکس نوشتهc1",null,null,{"$f":"PH6","v":"باکس نوشتهc1"},null,"c2",0,null,null,null,null,"باکس نوشتهc1",null,null,{"$f":"PS6","v":"باکس نوشتهc1"},null,"Yt1",{"$f":"'متغیرها '!C869","v":5},"جابجایی عمودی کل راهنما نقشه",null,null,null,null,-41.5,5,"t2",null,null,{"$f":"QJ10","v":0},"جابجایی عمودی",null,{"$f":"QI68","v":-7.532},{"$f":"QJ68","v":17.899999999999999},"1'",null,"جابجایی عمودی",{"$f":"'متغیرها '!C881","v":2},"k3",null,null,null,null,{"$f":"QQ22","v":-18.532},{"$f":"QR22","v":4.4246252162700106},"k11",null,"d2",{"$f":"AD34","v":4},null,null,null,null,"باکس نوشتهd1",null,null,{"$f":"RH6","v":"باکس نوشتهd1"},null,null,"تعداد دانه در یک سانت آستینb001 ",{"$f":"I37","v":1.5567567567567568},null,"تعداد دانه در یک سانت جلوb0 ",{"$f":"I23","v":1.6457142857142857},null,"تعداد دانه در یک سانت پشتb01 ",{"$f":"I30","v":1.6457142857142857},null,"تعداد دانه در یک سانت کلاهb02 ",{"$f":"I49","v":1.5567567567567568},null,"تعداد دانه در یک سانت شلوارb03 ",{"$f":"L49","v":1.5567567567567568},null,"تعداد دانه در یک سانت پشت شلوارb04 ",{"$f":"O49","v":1.5567567567567568}]
["ChartFieldRange( باید خالی باشد )",null,null,null,"  (بدون احتساب بافت انتخابی)      b'0 ضریب تعداد دانه",{"$f":"IF(F8=2,G7,IF(F8=2.5,H7,IF(F8=3,I7,IF(F8=3.5,J7,IF(F8=4,K7,IF(F8=4.5,L7,M7))))))","v":1.6},2.6,2.4,2.2000000000000002,2,1.8,1.6,1.4,"b''0",{"$f":"ROUND(O11*(0.4*G166+0.037*H131),1)","v":2.4},"پهنا (cm)=",null,{"$f":"ROUND(S13*S9,1)","v":2.6},"پهنا (cm)=",null,null,null,"c'6",{"$f":"DD692-DD682","v":3.0462219970988293},null,null,null,"دال پایین","d'3",{"$f":"H232*H124","v":10.854999999999997},null,null,null,{"$f":"AO7/AN7","v":1.875},{"$f":"AM7/AL7","v":3.3333333333333335},{"$f":"(10/3)*((AM7/AL7)*(1/F6)-1)","v":1.4975845410628028},{"$f":"(100/68)*((AO7/AN7)*(1/F7)-1)","v":0.25275735294117652},{"$f":"'طراحی همه الگوها'!H400","v":6},20,{"$f":"'طراحی همه الگوها'!H399","v":16},30,{"$f":"'طراحی همه الگوها'!G398","v":" اول مخصوص کاربر"},1,null,null,null,null,null,null,null,null,null,null,null,null,null,null,null,null,null,null,null,null,null,null,null,null,null,null,null,null,null,null,null,null,null,null,null,null,null,null,null,null,null,null,null,null,null,null,null,null,null,null,null,null,null,null,null,null,null,null,null,null,null,null,null,null,null,null,null,null,null,null,null,null,null,null,null,null,null,null,null,null,null,null,null,null,null,null,null,null,null,null,null,null,null,null,null,null,null,null,null,null,null,null,null,null,null,null,null,null,null,null,null,null,null,null,null,null,null,null,null,null,null,null,null,null,null,null,null,null,null,null,null,null,null,null,null,null,null,null,null,null,null,null,null,null,null,null,null,null,null,null,null,null,null,null,null,null,null,null,null,null,null,null,null,null,null,null,null,null,null,null,null,null,null,null,null,null,null,null,null,null,null,null,null,null,null,null,null,null,null,null,null,null,null,null,null,null,null,null,null,null,null,null,null,null,null,null,null,null,null,null,null,null,null,null,null,null,null,null,null,null,null,null,null,null,null,null,null,null,null,null,null,null,null,null,null,null,null,null,null,null,null,null,null,null,null,null,null,null,null,null,null,null,null,null,null,null,null,null,null,null,null,null,null,null,null,null,null,null,null,null,null,null,null,null,null,null,null,null,null,null,null,null,null,null,null,null,null,null,null,null,null,null,null,null,null,null,null,null,null,null,null,null,null,null,null,null,null,null,null,null,null,null,null,null,null,null,null,null,null,null,null,null,null,null,null,null,null,null,null,null,null,null,null,null,null,null,null,null,null,null,null,"a3",10,null,null,null,"متغیرهای ورودی",null,{"$f":"NZ13","v":-35},{"$f":"OA13","v":5},{"$f":"NY13","v":"w1"},null,"e3",4,null,null,null,"متغیرهای ورودی",null,{"$f":"OK13","v":-35},{"$f":"OL13","v":5},{"$f":"OJ13","v":"m1"},null,"e3",4,null,null,null,"متغیرهای ورودی",null,{"$f":"OV13","v":-35},{"$f":"OW13","v":5},{"$f":"OU13","v":"m1"},null,"c3",1,null,null,null,"متغیرهای ورودی",null,{"$f":"PG13","v":-35},{"$f":"PH13","v":5},{"$f":"PF13","v":"n1"},null,"c3",1,null,null,null,"متغیرهای ورودی",null,{"$f":"PR13","v":-35},{"$f":"PS13","v":5},{"$f":"PQ13","v":"n1"},null,"w11",{"$f":"4/PX18","v":1.4285714285714286},"ارتفاع هر رج",null,"نسبت سایز افقی",{"$f":"PY17","v":42},"انحنا چپگرد ",null,null,{"$f":"QD7","v":"انحنا چپگرد "},null,null,null,null,null,null,null,null,null,"شعاع",{"$f":"0.5*'متغیرها '!C879","v":4},"k4",null,null,null,null,{"$f":"QQ24","v":-17.067898384862247},{"$f":"QR24","v":5.8887268314077659},"k13",null,"d3",{"$f":"AD35","v":16},null,null,null,"متغیرهای ورودی",null,{"$f":"RG13","v":-35},{"$f":"RH13","v":5},{"$f":"RF13","v":"p1"},null,null,"بافت انتخابی آستین",{"$f":"I40","v":11},null,"بافت انتخابی جلو",{"$f":"I26","v":15},null,"بافت انتخابی پشت",{"$f":"I33","v":15},null,"بافت انتخابی کلاه",{"$f":"I52","v":11},null,"بافت انتخابی شلوار",{"$f":"L52","v":11},null,"بافت انتخابی پشت شلوار",{"$f":"O52","v":11}]
["show_temp_print_sheet ",0,null,null,"انتخاب ضخامت میل بافتنی   f1",{"$f":"'متغیرها '!C834","v":4.5},null,null,null,null,null,null,null,null,"  متغیر محاسبه ای یقه شکاری  ",null,null,"متغیر محاسبه ای شومیزیه",null,null,null,null,"c6",{"$f":"ROUNDUP(X19*X7,0)","v":10},null,null,null,null,"d11",{"$f":"SQRT(POWER((GF680-GF686),2)+POWER((GG680-GG686),2))","v":3.3776911943537229},null,null,null,30,20,{"$f":"(10/3)*((AM8/AL8)*(1/F6)-1)","v":25.652173913043484},{"$f":"(100/68)*((AO8/AN8)*(1/F7)-1)","v":26.102941176470591},{"$f":"'طراحی همه الگوها'!H404","v":1},20,{"$f":"'طراحی همه الگوها'!H403","v":1},30,{"$f":"'طراحی همه الگوها'!G402","v":" دوم مخصوص کاربر"},{"$f":"AQ7+1","v":2},null,null,null,null,null,null,null,null,null,null,null,null,null,null,null,null,null,null,null,null,null,null,null,null,null,null,null,null,null,null,null,null,null,null,null,null,null,null,null,null,null,null,null,null,null,null,null,null,null,null,null,null,null,null,null,null,null,null,null,null,null,null,null,null,null,null,null,null,null,null,null,null,null,null,null,null,null,null,null,null,null,null,null,null,null,null,null,null,null,null,null,null,null,null,null,null,null,null,null,null,null,null,null,null,null,null,null,null,null,null,null,null,null,null,null,null,null,null,null,null,null,null,null,null,null,null,null,null,null,null,null,null,null,null,null,null,null,null,null,null,null,null,null,null,null,null,null,null,null,null,null,null,null,null,null,null,null,null,null,null,null,null,null,null,null,null,null,null,null,null,null,null,null,null,null,null,null,null,null,null,null,null,null,null,null,null,null,null,null,null,null,null,null,null,null,null,null,null,null,null,null,null,null,null,null,null,null,null,null,null,null,null,null,null,null,null,null,null,null,null,null,null,null,null,null,null,null,null,null,null,null,null,null,null,null,null,null,null,null,null,null,null,null,null,null,null,null,null,null,null,null,null,null,null,null,null,null,null,null,null,null,null,null,null,null,null,null,null,null,null,null,null,null,null,null,null,null,null,null,null,null,null,null,null,null,null,null,null,null,null,null,null,null,null,null,null,null,null,null,null,null,null,null,null,null,null,null,null,null,null,null,null,null,null,null,null,null,null,null,null,null,null,null,null,null,null,null,null,null,null,null,null,null,null,null,null,null,null,null,null,null,"a4",19,null,null,"طول باکس نوشته",{"$f":"NV36","v":4.5},"h3",{"$f":"NZ18","v":-21.5546875},{"$f":"OA18","v":5},{"$f":"NY18","v":"h8"},null,"e4",7,null,null,"طول باکس نوشته",{"$f":"OG41","v":4.5},"h3",{"$f":"OK18","v":-24.854166666666668},{"$f":"OL18","v":5},{"$f":"OJ18","v":"h8"},null,"e4",9,null,null,"طول باکس نوشته",{"$f":"OR41","v":4.5},"h3",{"$f":"OV18","v":-25.473958333333336},{"$f":"OW18","v":5},{"$f":"OU18","v":"h8"},null,"c4",4,null,null,"طول باکس نوشته",{"$f":"PC39","v":4.5},"h3",{"$f":"PG18","v":-20.205729166666668},{"$f":"PH18","v":5},{"$f":"PF18","v":"h8"},null,"c4",5,null,null,"طول باکس نوشته",{"$f":"PN39","v":4.5},"h3",{"$f":"PR18","v":-18.346354166666671},{"$f":"PS18","v":5},{"$f":"PQ18","v":"h8"},null,"g9",0.5,"پهنای نیم دایره",null,"ارتفاع نیم دایره",{"$f":"PY14","v":1.4285714285714286},"بزرگی فلش",{"$f":"QC11","v":-41.5},{"$f":"QD11","v":5},{"$f":"QB11","v":"t2"},null,"نقاط ورودی",null,null,null,{"$f":"QI68","v":-7.532},{"$f":"QJ68","v":17.899999999999999},"1'",null,"ارتفاع",{"$f":"0.1*'متغیرها '!C878","v":0.60000000000000009},"k17",null,null,null,null,{"$f":"QQ16","v":-16.532},{"$f":"QR16","v":7.8887268314077659},"k5",null,"d4",{"$f":"AD36","v":-4},null,null,"طول باکس نوشته",{"$f":"1.3*RC41","v":5.8500000000000005},"h3",{"$f":"RG18","v":-26.622916666666669},{"$f":"RH18","v":5},{"$f":"RF18","v":"h8"},null,null,"بافت انتخابی آستین",{"$f":"I41","v":"ساده "},null,"بافت انتخابی جلو",{"$f":"I27","v":"سبدی (5 تایی)"},null,"بافت انتخابی پشت",{"$f":"I34","v":"سبدی (5 تایی)"},null,"بافت انتخابی کلاه",{"$f":"I53","v":"ساده "},null,"بافت انتخابی شلوار",{"$f":"L53","v":"ساده "},null,"بافت انتخابی پشت شلوار",{"$f":"O53","v":"ساده "}]
["per_line_size_chart",null,null,null," از آستین رگلان   γ9",{"$f":"DE542","v":0.6881298831878051},null,null,"مقادیر قدیمی تا تاریخ 12  99",null,null,null,null,null,"   a7",{"$f":"O16*O11*(0.4*G166+0.037*H131)","v":5.356562635303467},null,"e'1",{"$f":"(0.4*G166+0.037*H131)","v":1.2226936450149219},null,null,null,"c7",0.15,null,null,null,null,"d'10",{"$f":"SQRT(POWER((J236-AC13),2)+POWER((K236-AD13),2))*SIN(RADIANS(H234))","v":-3.2945591353411543},null,null,null,30,20,{"$f":"(10/3)*((AM9/AL9)*(1/F6)-1)","v":25.652173913043484},{"$f":"(100/68)*((AO9/AN9)*(1/F7)-1)","v":26.102941176470591},{"$f":"'طراحی همه الگوها'!H408","v":1},20,{"$f":"'طراحی همه الگوها'!H407","v":1},30,{"$f":"'طراحی همه الگوها'!G406","v":" سوم مخصوص کاربر"},3,null,null,null,null,null,null,null,null,null,null,null,null,null,null,null,null,null,null,null,null,null,null,null,null,null,null,null,null,null,null,null,null,null,null,null,null,null,null,null,null,null,null,null,null,null,null,null,null,null,null,null,null,null,null,null,null,null,null,null,null,null,null,null,null,null,null,null,null,null,null,null,null,null,null,null,null,null,null,null,null,null,null,null,null,null,null,null,null,null,null,null,null,null,null,null,null,null,null,null,null,"رسم دستی چادر  4",null,null,null,null,null,"رسم و طراحی چادر شماره 4",null,null,null,null,null,null,null,null,null,null,null,"رسم چادر شماره 5",null,null,null,null,null,null,null,"طراحی چادر شماره 5",null,null,null," طراحی چادر شماره 5",null,null,null,null,null,null,null,null,"پروسیجر یافتن راس سوم مثلث با داشتن دو راس و دو ضلع",null,null,null,null,null,"پروسیجر چرخش یک نقطه حول نقطه دیگر",null,null,null,null,null,"کامل شده",null,null,"رسم باکس زیپ دامن- باکس دوطرفه راست و چپ","مولفه افقی","مولفه عمودی",null,null,"به دست آوردن راس سوم مثلث وقتی دو راس و دو ضلع را داریم",null,null,null,null,null,"جلو(k''5 →k6)",{"$f":"SQRT(POWER((#REF!-#REF!),2)+POWER((#REF!-#REF!),2))","v":{"$error":"#REF!"}},"ضلع راست",null,null,null,null,null,null,null,null,null,null,null,"قرینه",null,null,null,null,null,null,null,null,null,null,null,null,null,null,null,null,null,null,null,null,null,null,null,null,null,null,null,null,null,null,null,null,null,null,null,null,null,null,null,null,null,null,null,null,null,null,null,null,null,null,null,null,null,null,null,null,null,null,null,null,null,null,null,null,null,null,null,null,null,null,null,null,null,null,null,null,null,null,null,null,null,null,null,null,null,null,null,null,null,null,null,null,null,null,null,null,null,null,null,null,null,null,null,null,null,null,null,null,null,null,null,null,null,null,null,null,null,null,null,null,null,null,null,null,null,null,null,null,null,null,null,null,null,null,null,null,null,null,null,null,null,null,null,null,null,null,null,null,null,null,null,null,null,null,null,null,null,null,null,null,null,"a5",29,null,null,"پهنای باکس نوشته",{"$f":"NV37","v":0.5},"h4",null,null,null,null,"e5",11,null,null,"پهنای باکس نوشته",{"$f":"OG42","v":0.5},"h4",null,null,null,null,"e5",13,null,null,"پهنای باکس نوشته",{"$f":"OR42","v":0.5},"h4",null,null,null,null,"c10",12,null,null,"پهنای باکس نوشته",{"$f":"PC40","v":0.5},"h4",null,null,null,null,"c10",12,null,null,"پهنای باکس نوشته",{"$f":"PN40","v":0.5},"h4",null,null,null,null,"f'4",0.4,"بزرگی فلش رج",null,"پهنای نیم دایره",{"$f":"PY8","v":0.5},{"$f":"PY16","v":0.57142857142857151},{"$f":"QC15","v":-41.1325},{"$f":"QD15","v":5.2},{"$f":"QB15","v":"g5"},null,null,{"$f":"C100","v":0},"شیفت افقی جلو",null,{"$f":"QI71","v":6.2951119999999996},{"$f":"QJ71","v":17.899999999999999},50,null,{"$f":"QI69","v":-7.532},{"$f":"QJ69","v":35.888726831407766},"26'",null,null,null,null,{"$f":"QQ26","v":-18.532},{"$f":"QR26","v":11.352828446545521},"k15",null,"d14",{"$f":"AD45","v":1},null,null,"پهنای باکس نوشته",{"$f":"RC42","v":0.5},"h4",null,null,null,null,null,null,{"$f":"\" بافت  \"&TEXT(0,RO8)&\"  با میل \"&TEXT(0,RP11)","v":" بافت  ساده   با میل 4.5"},null,null,{"$f":"\" بافت  \"&TEXT(0,RR8)&\"  با میل \"&TEXT(0,RP11)","v":" بافت  سبدی (5 تایی)  با میل 4.5"},null,null,{"$f":"\" بافت  \"&TEXT(0,RU8)&\"  با میل \"&TEXT(0,RP11)","v":" بافت  سبدی (5 تایی)  با میل 4.5"},null,null,{"$f":"\" بافت  \"&TEXT(0,RX8)&\"  با میل \"&TEXT(0,RP11)","v":" بافت  ساده   با میل 4.5"},null,null,{"$f":"\" بافت  \"&TEXT(0,SA8)&\"  با میل \"&TEXT(0,RP11)","v":" بافت  ساده   با میل 4.5"},null,null,{"$f":"\" بافت  \"&TEXT(0,SD8)&\"  با میل \"&TEXT(0,RP11)","v":" بافت  ساده   با میل 4.5"}]
["Max_H_Chart",41.300688577032062,null,null,"γ10 از آستین رگلان",{"$f":"DE543","v":0.69715902273333619},null,"میل 2 و 2.5","میل  3 و 3.5","میل 4 و 4.5",null,null,null,"متغیرهای ورودی  یقه شکاری کشباف",null,null,null,"e''1",{"$f":"S13*S9","v":2.5676566545313362},null,null,null,"c8",0.25,null,null,null,null,"d9",{"$f":"ROUNDDOWN((K233-K236)*AD19/((J233-AC14)*AD20),0)","v":-9},null,null,null,30,20,{"$f":"(10/3)*((AM10/AL10)*(1/F6)-1)","v":25.652173913043484},{"$f":"(100/68)*((AO10/AN10)*(1/F7)-1)","v":26.102941176470591},{"$f":"'طراحی همه الگوها'!H412","v":1},20,{"$f":"'طراحی همه الگوها'!H411","v":1},30,{"$f":"'طراحی همه الگوها'!G410","v":" چهارم مخصوص کاربر"},4,null,null,null,null,null,null,null,null,null,null,null,null,null,null,null,null,null,null,null,null,null,null,null,null,null,null,null,null,null,null,null,null,null,null,null,null,null,null,null,null,null,null,null,null,null,null,null,null,null,null,null,null,null,null,null,null,null,null,null,null,null,null,null,null,null,null,null,null,null,null,null,null,null,null,null,null,null,null,null,null,null,null,null,null,null,null,null,null,null,null,null,null,null,null,null,null,null,null,null,null,null,null,null,null,null,null,"رسم دستی چادر4 با نقطه گذاری",null,null,null,null,"خطوط پرینت الگو یا طراحی چادر4",null,null,"رسم دستی چادر 5 (بر حسب سانتیمتر)",null,null,null,null,"صاف",null,null,null,"انحنا",null,null,"اسم نقطه ","مولفه افقی","مولفه عمودی",null,{"$f":"FO14","v":0},54.825985999999986,"s'6",null,null,null,null,null,null,null,null,"اطلاعات ورودی",null,null,null,"رادیان",{"$f":"-#REF!","v":{"$error":"#REF!"}},"زاویه چرخش","چرخش مخالف عقربه های ساعت",null,null,null,null,"نقطه ورودی بالا","b5",1,1,null,null," درجه α1"," رادیان α1","xdp'6","ydp'6","(dp4→dp'6)","(dp4→dp6)-(dp4→dp'6) ","(k6 →45)جلو",{"$f":"SQRT(POWER((#REF!-#REF!),2)+POWER((#REF!-#REF!),2))","v":{"$error":"#REF!"}},"ضلع چپ",null,null,null,null,null,null,null,null,null,null,null,{"$f":"-HK10+HP9","v":0},{"$f":"HL10","v":0},null,null,null,null,null,null,null,null,null,null,null,null,null,null,null,null,null,null,null,null,null,null,null,null,null,null,null,null,null,null,null,null,null,null,null,null,null,null,null,null,null,null,null,null,null,null,null,null,null,null,null,null,null,null,null,null,null,null,null,null,null,null,null,null,null,null,null,null,null,null,null,null,null,null,null,null,null,null,null,null,null,null,null,null,null,null,null,null,null,null,null,null,null,null,null,null,null,null,null,null,null,null,null,null,null,null,null,null,null,null,null,null,null,null,null,null,null,null,null,null,null,null,null,null,null,null,null,null,null,null,null,null,null,null,null,null,null,null,null,null,null,null,null,null,null,null,null,null,null,null,null,null,null,null,null,null,null,null,null,null,"a6",2,null,null,null,null,null,{"$f":"NZ20","v":-21.5546875},{"$f":"OA20","v":5.25},{"$f":"NY20","v":"h10"},null,"e6",0,null,null,null,null,null,{"$f":"OK20","v":-24.854166666666668},{"$f":"OL20","v":5.25},{"$f":"OJ20","v":"h10"},null,"e6",0,null,null,null,null,null,{"$f":"OV20","v":-25.473958333333336},{"$f":"OW20","v":5.25},{"$f":"OU20","v":"h10"},null,"c11",10,null,null,null,null,null,{"$f":"PG20","v":-20.205729166666668},{"$f":"PH20","v":5.25},{"$f":"PF20","v":"h10"},null,"c11",10,null,null,null,null,null,{"$f":"PR20","v":-18.346354166666671},{"$f":"PS20","v":5.25},{"$f":"PQ20","v":"h10"},null,"f5",0.5,"زاویه فلش رج",null,"نقطه شروع انحنا","مولفه افقی","مولفه عمودی",{"$f":"QC14","v":-40.975000000000001},{"$f":"QD14","v":5.7142857142857144},{"$f":"QB14","v":"g4"},null,null,0,"شیفت عمودی جلو",null,{"$f":"QI70","v":11.64122823458538},{"$f":"QJ70","v":18.265691432475336},7,null,"f5",0.5,"زاویه فلش رج",null,null,null,null,{"$f":"QQ18","v":-20.532},{"$f":"QR18","v":11.888726831407766},"k7",null,"d15",{"$f":"AD46","v":1},null,null,null,null,null,{"$f":"RG20","v":-26.622916666666669},{"$f":"RH20","v":5.25},{"$f":"RF20","v":"h10"},null,null,"محاسبات کلی"]
["Max_W_Chart",7.532,null,null," (نصف طول دور گردن بعلاوه جادکمه)     (b'1)/2+b'2",{"$f":"AZ102-BD98+SQRT(POWER((AZ102-AZ145),2)+POWER((BA145-BA102),2))+SQRT(POWER((AZ145-AZ148),2)+POWER((BA145-BA148),2))+SQRT(POWER((AZ148-AZ140),2)+POWER((BA148-BA140),2))+SQRT(POWER((BK138-BK132),2)+POWER((BL138-BL132),2))+SQRT(POWER((BK132-BK135),2)+POWER((BL132-BL135),2))+SQRT(POWER((BK135-BK104),2)+POWER((BL104-BL135),2))","v":22.359691878394937},null,3.5,2.8,2.6,"a''0",null,null,"    ضریب پهنای یقه  (1.5 الی 3)",{"$f":"EF682/EF679","v":2},null,null,null,"متغیرهای ورودی یقه شومیزیه بافت انتخابی",null,null,null,"c12",{"$f":"2*(F11-F12)","v":29.655383756789874},null,null,null,null,"d10",{"$f":"ROUNDDOWN((AD19*AD43/(AD20*AD9)),0)","v":-4},null,null,null,30,20,{"$f":"(10/3)*((AM11/AL11)*(1/F6)-1)","v":25.652173913043484},{"$f":"(100/68)*((AO11/AN11)*(1/F7)-1)","v":26.102941176470591},{"$f":"'طراحی همه الگوها'!H416","v":1},20,{"$f":"'طراحی همه الگوها'!H415","v":1},30,{"$f":"'طراحی همه الگوها'!G414","v":" پنجم مخصوص کاربر"},5,null,null,null,null,null,null,null,null,null,null,null,null,null,null,null,null,null,null,null,null,null,null,null,null,null,null,null,null,null,null,null,null,null,null,null,null,null,null,null,null,null,null,null,null,null,null,null,null,null,null,null,null,null,null,null,null,null,null,null,null,null,"رسم دستی چادر 2 (بر حسب سانتیمتر)",null,null,"رسم چادر شماره 2",null,null,null,null,null,null,null,"نقاط ورودی",null,null,null," طراحی چادر شماره 2",null,null,null,null,null,null,null," طراحی چادر شماره 3",null,null,null,"رسم دستی چادر 3 (بر حسب سانتیمتر)",null,null,"رسم چادر شماره 3",null,null,null,null,null,null,null,null,null,null,null,null,null,null,{"$f":"EP29","v":0},{"$f":"EQ30","v":-8},2,null,{"$f":"EP30","v":-3.4},{"$f":"EQ30","v":-8},3,null,null,null,null,null,{"$f":"FF15-'طراحی همه الگوها'!U274","v":29.8},{"$f":"FG15","v":25},"خط پهلو",null,{"$f":"FF30","v":44.400000000000006},{"$f":"FG30","v":33.799999999999997},13,null,"s1",{"$f":"DB400","v":0},{"$f":"DC400","v":53.384999999999998},null,2.9434675007192275,53.567205344855793,"s''7",null,null,null,null,null,null,"اسم نقطه ","مولفه افقی","مولفه عمودی",null,null,null,"مولفه افقی","مولفه عمودی","اسم نقطه ",null,"نقطه  خروجی چرخیده",null,null,null,"نقطه ورودی پایین","b6",1,1,null,2,-100,{"$f":"RADIANS(GU11)","v":-1.7453292519943295},{"$f":"HB13+HB10*COS(GV11)","v":{"$error":"#REF!"}},{"$f":"HC13-HB10*SIN(GV11)","v":{"$error":"#REF!"}},{"$f":"SQRT(POWER((HB12-GW11),2)+POWER((HC12-GX11),2))","v":{"$error":"#REF!"}},{"$f":"ABS(HB9-GY11)","v":{"$error":"#REF!"}},"اسم نقطه ","مولفه افقی","مولفه عمودی",null,null,null,null,null,null,null,null,null,null,null,{"$f":"-HK11+HP9","v":0},0,null,null,null,null,null,null,null,null,null,null,null,null,null,null,null,null,null,null,null,null,null,null,null,null,null,null,null,null,null,null,null,null,null,null,null,null,null,null,null,null,null,null,null,null,null,null,null,null,null,null,null,null,null,null,null,null,null,null,null,null,null,null,null,null,null,null,null,null,null,null,null,null,null,null,null,null,null,null,null,null,null,null,null,null,null,null,null,null,null,null,null,null,null,null,null,null,null,null,null,null,null,null,null,null,null,null,null,null,null,null,null,null,null,null,null,null,null,null,null,null,null,null,null,null,null,null,null,null,null,null,null,null,null,null,null,null,null,null,null,null,null,null,null,null,null,null,null,null,null,null,null,null,null,null,null,null,null,null,null,null,"a10",4,null,null,null,null,null,{"$f":"NZ21","v":-21.5546875},{"$f":"OA21","v":4.75},{"$f":"NY21","v":"h11"},null,"e7",13,null,null,null,null,null,{"$f":"OK21","v":-24.854166666666668},{"$f":"OL21","v":4.75},{"$f":"OJ21","v":"h11"},null,"e7",13,null,null,null,null,null,{"$f":"OV21","v":-25.473958333333336},{"$f":"OW21","v":4.75},{"$f":"OU21","v":"h11"},null,"خطا","خطا : پهنای یقه ب ب زیاد شود ",null,null,null,null,null,{"$f":"PG21","v":-20.205729166666668},{"$f":"PH21","v":4.75},{"$f":"PF21","v":"h11"},null,"خطا","خطا : پهنای یقه ب ب زیاد شود ",null,null,null,null,null,{"$f":"PR21","v":-18.346354166666671},{"$f":"PS21","v":4.75},{"$f":"PQ21","v":"h11"},null,"f9",0.5,"بزرگی خط عمودی دانه",null,{"$f":"PZ30","v":"t2"},{"$f":"PX30","v":-41.5},{"$f":"PY30","v":5},{"$f":"QC16","v":-41.1325},{"$f":"QD16","v":6.2285714285714286},{"$f":"QB16","v":"g6"},null,null,0,"شیفت افقی پشت",null,null,null,null,null,"f4",{"$f":"0.7*QR8","v":0.42000000000000004},"بزرگی فلش رج",null,null,null,null,{"$f":"QQ27","v":-22.532},{"$f":"QR27","v":11.352828446545521},"k16",null,"d8",{"$f":"AD40","v":15},null,null,null,null,null,{"$f":"RG21","v":-26.622916666666669},{"$f":"RH21","v":4.75},{"$f":"RF21","v":"h11"},null,null,{"$f":"2/RO6","v":1.2847222222222221},"c1",{"$f":"RB20","v":4.5},"انتخاب ضخامت میل بافتنی "]
["Min_H_Chart",17.899999999999999,null,null," ( از خط مرکزی جلو تا خط جادکمه = طول جادکمه)     b'2",{"$f":"AZ102-BD98","v":7.532},null,2.2999999999999998,1.8,1.7,"b''0",null,null,"a15",{"$f":"EE699-EE697+SQRT(POWER((EE699-EE701),2)+POWER((EF699-EF701),2))+SQRT(POWER((EE701-EE704),2)+POWER((EF701-EF704),2))+SQRT(POWER((EE704-EE705),2)+POWER((EF704-EF705),2))+SQRT(POWER((EE705-EE703),2)+POWER((EF705-EF703),2))","v":14.864649550859216},null,null,"    ضریب پهنای پایه یقه    (1 الی 2)",{"$f":"DH682/DH679","v":1.5},null,null,null,"c13",{"$f":"2*(SQRT(POWER((DC682-DC683),2)+POWER((DD682-DD683),2))+SQRT(POWER((DC683-DC684),2)+POWER((DD683-DD684),2))+SQRT(POWER((DC684-DC685),2)+POWER((DD684-DD685),2))+SQRT(POWER((DC685-DC686),2)+POWER((DD685-DD686),2))+SQRT(POWER((DC686-DC687),2)+POWER((DD686-DD687),2))+SQRT(POWER((DC687-DC688),2)+POWER((DD687-DD688),2))+SQRT(POWER((DC688-DC689),2)+POWER((DD688-DD689),2))+SQRT(POWER((DC689-DC690),2)+POWER((DD689-DD690),2)))","v":41.266200573099965},null,null,null,null,"d12",{"$f":"ROUND(SQRT(POWER((J236-J250),2)+POWER((K236-K250),2))-SQRT(POWER((J250-AC13),2)+POWER((K250-AD13),2)),0)","v":10},null,null,null,30,20,{"$f":"(10/3)*((AM12/AL12)*(1/F6)-1)","v":25.652173913043484},{"$f":"(100/68)*((AO12/AN12)*(1/F7)-1)","v":26.102941176470591},{"$f":"'طراحی همه الگوها'!H420","v":1},20,{"$f":"'طراحی همه الگوها'!H419","v":1},30,{"$f":"'طراحی همه الگوها'!G418","v":" ششم مخصوص کاربر"},6,null,null,null,null,null,null,null,null,null,null,null,null,null,null,null,null,null,null,null,null,null,null,null,null,null,null,null,null,null,null,null,null,null,null,null,null,null,null,null,null,null,null,null,"نقاط ورودی",null,null,null,"رسم چادر شماره 1 و مقنعه چانه دار",null,null,null,"نقاط ورودی",null,null,null,"رسم مقنعه دراپه",null,null,null,null,null,null,null,null,null,"صاف",null,null,null,"انحنا",null,null,"اسم نقطه ","مولفه افقی","مولفه عمودی",null,{"$f":"DM23","v":0},54.825985999999986,"s6",null,"طراحی چادر شماره 3",null,null,null,{"$f":"DU14","v":0},54.825985999999986,"s'6",null,null,null,null,null,"صاف",null,null,null,"انحنا",null,null,null,null,null,null,null,null,null,{"$f":"EP29","v":0},{"$f":"EQ29","v":57.8},1,null,{"$f":"EP32","v":2.2921883481010714},{"$f":"EQ32","v":-8.2983149505847802},6,null,null,null,null,null,null,null,null,null,{"$f":"FJ11+0.45*(FJ15-FJ11)","v":47.235000000000007},{"$f":"FK11+0.25*(FK15-FK11)","v":45.75},"13'",null,"s3",{"$f":"DB402","v":4.2476399999999996},{"$f":"DC402","v":48.56955},null,7.8492466685846072,44.755740758846414,"s''8",null,null,null,null,null,"راس پایین","منهای شیفتa50",{"$f":"ER37","v":22.052133030061892},{"$f":"ES37","v":0},"ضلع پایین",{"$f":"EZ25","v":8},null,{"$f":"#REF!","v":{"$error":"#REF!"}},{"$f":"#REF!","v":{"$error":"#REF!"}},"a40","نقطه مرکزی چرخش","مولفه افقی","مولفه عمودی","اسم نقطه ",null,"متغیر ورودی پهنا","a20",1,"(سانتیمتر)",null,null,{"$f":"GU11+GT11","v":-98},-1.7104226669544429,{"$f":"HB13+HB10*COS(GV12)","v":{"$error":"#REF!"}},{"$f":"HC13-HB10*SIN(GV12)","v":{"$error":"#REF!"}},{"$f":"SQRT(POWER((HB12-GW12),2)+POWER((HC12-GX12),2))","v":{"$error":"#REF!"}},{"$f":"ABS(HB9-GY12)","v":{"$error":"#REF!"}},"پشتk''5",{"$f":"GQ33","v":{"$error":"#REF!"}},{"$f":"GR33","v":{"$error":"#REF!"}},"راس راست",null,null,null,null,null,null,null,null,null,null,{"$f":"-HK12+HP9","v":0},0,null,null,null,null,null,null,null,null,null,null,null,null,null,null,null,null,null,null,null,null,null,null,null,null,null,null,null,null,null,null,null,null,null,null,null,null,null,null,null,null,null,null,null,null,null,null,null,null,null,null,null,null,null,null,null,null,null,null,null,null,null,null,null,null,null,null,null,null,null,null,null,null,null,null,null,null,null,null,null,null,null,null,null,null,null,null,null,null,null,null,null,null,null,null,null,null,null,null,null,null,null,null,null,null,null,null,null,null,null,null,null,null,null,null,null,null,null,null,null,null,null,null,null,null,null,null,null,null,null,null,null,null,null,null,null,null,null,null,null,null,null,null,null,null,null,null,null,null,null,null,null,null,null,null,null,null,null,null,null,null,"a11",2,null,null,"نقطه شروع رج(چپ)","مولفه افقی","مولفه عمودی",null,null,null,null,"e8",22,null,null,"نقطه شروع رج(چپ)","مولفه افقی","مولفه عمودی",null,null,null,null,"e8",22,null,null,"نقطه شروع رج(چپ)","مولفه افقی","مولفه عمودی",null,null,null,null,"c16",{"$f":"X15","v":50},"تعداد دانه دور یقه ب ب",null,"نقطه شروع رج(چپ)","مولفه افقی","مولفه عمودی",null,null,null,null,"c16",{"$f":"X15","v":50},"تعداد دانه دور یقه ب ب",null,"نقطه شروع رج(چپ)","مولفه افقی","مولفه عمودی",null,null,null,null,"f10",0.3,"بزرگی فلش دانه",null,"g11",{"$f":"QC16+0.8*(QC14-QC16)","v":-41.006500000000003},{"$f":"QD14+0.6*(QD16-QD14)","v":6.0228571428571431},{"$f":"QC13","v":-41.5},{"$f":"QD13","v":6.4285714285714288},{"$f":"QB13","v":"g2"},null,null,0,"شیفت عمودی پشت",null,{"$f":"QI70","v":11.64122823458538},{"$f":"QJ70","v":18.265691432475336},7,null,null,null,null,null,null,null,null,{"$f":"QQ17","v":-24.532},{"$f":"QR17","v":7.8887268314077659},"k6",null,"d5",{"$f":"AD37","v":56},"تعداد دانه دور یقه انگلیسی",null,"نقطه شروع رج(چپ)","مولفه افقی","مولفه عمودی",null,null,null,null,null,{"$f":"2/RO5","v":0.84280936454849498},"c2"]
["Min_W_Chart",-11.64122823458538,null,null,"گشادی بالای مچ آستین (cm)     b'11",{"$f":"ROUND(DY522-DY523,0)","v":15},null,null,null,null,null,null,null,"a'25",{"$f":"F11-O12","v":7.495042327535721},null,null,"ضریب پهنای برگرد یقه  (1.5 الی 3)",{"$f":"DH710/DH707","v":2.1},null,null,null,"c14",{"$f":"0.88*X12","v":36.314256504327972},null,null,null,"d16",{"$f":"J250+((AD36+4)/AD19)*SIN(RADIANS(H234))","v":-4.2374408646588462},{"$f":"K250-((AD36+4)/AD19)*COS(RADIANS(H234))","v":39.061726831407768},null,null,null,30,20,{"$f":"(10/3)*((AM13/AL13)*(1/F6)-1)","v":25.652173913043484},{"$f":"(100/68)*((AO13/AN13)*(1/F7)-1)","v":26.102941176470591},{"$f":"'طراحی همه الگوها'!H424","v":1},20,{"$f":"'طراحی همه الگوها'!H423","v":1},30,{"$f":"'طراحی همه الگوها'!G422","v":" هفتم مخصوص کاربر"},7,null,null,null,null,null,null,null,null,null,null,null,null,null,null,null,null,null,null,null,null,null,null,null,null,null,null,null,null,null,null,null,null,null,null,null,null,null,null,null,null,null,null,null,"مولفه افقی","مولفه عمودی","اسم نقطه",null,"مولفه افقی","مولفه عمودی","اسم نقطه",null,"مولفه افقی","مولفه عمودی","اسم نقطه",null,"مولفه افقی","مولفه عمودی","اسم نقطه",null,null,null,null,null,null,{"$f":"DB37+'طراحی همه الگوها'!U190","v":9.9},{"$f":"DE14","v":0},5,null,{"$f":"DD17","v":9.9},{"$f":"DE17","v":17.899999999999999},11,null,"s2",{"$f":"DB401","v":2.9733479999999997},{"$f":"DC401","v":52.181137499999998},null,1.7801097268135198,53.798398131916379,"s7",null,"اسم نقطه ","مولفه افقی","مولفه عمودی",null,2.4311415329435295,53.535385539702389,"s'7",null,null,null,null,{"$f":"DB37","v":0},{"$f":"'طراحی همه الگوها'!U210+EC35","v":57.8},1,null,{"$f":"EE32","v":65.8},{"$f":"EF32","v":57.8},11,null,null,null,null,null,null,null,null,null,null,null,null,null,null,null,null,null,null,null,null,0,{"$f":"FC42","v":0},1,null,{"$f":"FJ11+0.75*(FJ15-FJ11)","v":49.125},{"$f":"FK11+0.5*(FK15-FK11)","v":57.699999999999996},28,null,"s5",{"$f":"DB404","v":0},{"$f":"DC404","v":42.684000000000005},null,13.736181670023061,36.699544565923553,"s''9",null,null,null,null,null,"راس بالا "," منهای شیفتe18",{"$f":"FB27-EW21","v":0},{"$f":"FC27","v":0},"ضلع بالا",{"$f":"EZ26","v":0},null,{"$f":"#REF!-#REF!+#REF!","v":{"$error":"#REF!"}},{"$f":"#REF!","v":{"$error":"#REF!"}},"a48-b16+f22","نقطه قبل از چرخش",{"$f":"IF(GH13>GH12,IF(GG13>GG12,GG12+SQRT(POWER(GG13-GG12,2)+POWER(GH13-GH12,2))*COS(ATAN((GH13-GH12)/(GG13-GG12+0.000123))+GH10),GG12-SQRT(POWER(GG13-GG12,2)+POWER(GH13-GH12,2))*COS(ATAN((GH13-GH12)/(GG12-GG13+0.000123))-GH10)),IF(GG13>GG12,GG12+SQRT(POWER(GG13-GG12,2)+POWER(GH13-GH12,2))*COS(ATAN((GH12-GH13)/(GG13-GG12+0.000123))-GH10),GG12-SQRT(POWER(GG13-GG12,2)+POWER(GH13-GH12,2))*COS(ATAN((GH12-GH13)/(GG12-GG13+0.000123))+GH10)))","v":{"$error":"#REF!"}},{"$f":"IF(GH13>GH12,IF(GG13>GG12,GH12+SQRT(POWER(GG13-GG12,2)+POWER(GH13-GH12,2))*SIN(ATAN((GH13-GH12)/(GG13-GG12+0.000123))+GH10),GH12+SQRT(POWER(GG13-GG12,2)+POWER(GH13-GH12,2))*SIN(ATAN((GH13-GH12)/(GG12-GG13+0.000123))-GH10)),IF(GG13>GG12,GH12-SQRT(POWER(GG13-GG12,2)+POWER(GH13-GH12,2))*SIN(ATAN((GH12-GH13)/(GG13-GG12+0.000123))-GH10),GH12-SQRT(POWER(GG13-GG12,2)+POWER(GH13-GH12,2))*SIN(ATAN((GH12-GH13)/(GG12-GG13+0.000123))+GH10)))","v":{"$error":"#REF!"}},"e52",null,"متغیر ورودی طول","a21",1,null,null,null,{"$f":"GU12+GT11","v":-96},-1.6755160819145565,{"$f":"HB13+HB10*COS(GV13)","v":{"$error":"#REF!"}},{"$f":"HC13-HB10*SIN(GV13)","v":{"$error":"#REF!"}},{"$f":"SQRT(POWER((HB12-GW13),2)+POWER((HC12-GX13),2))","v":{"$error":"#REF!"}},{"$f":"ABS(HB9-GY13)","v":{"$error":"#REF!"}},"42پشت",{"$f":"GQ35","v":1},{"$f":"GR35","v":0},"راس چپ",null,null,null,null,null,null,null,null,null,null,{"$f":"-HK13+HP9","v":0},0,null,null,null,null,null,null,null,null,null,null,null,null,null,null,null,null,null,null,null,null,null,null,null,null,null,null,null,null,null,null,null,null,null,null,null,null,null,null,null,null,null,null,null,null,null,null,null,null,null,null,null,null,null,null,null,null,null,null,null,null,null,null,null,null,null,null,null,null,null,null,null,null,null,null,null,null,null,null,null,null,null,null,null,null,null,null,null,null,null,null,null,null,null,null,null,null,null,null,null,null,null,null,null,null,null,null,null,null,null,null,null,null,null,null,null,null,null,null,null,null,null,null,null,null,null,null,null,null,null,null,null,null,null,null,null,null,null,null,null,null,null,null,null,null,null,null,null,null,null,null,null,null,null,null,null,null,null,null,null,null,"a25",11,null,null,"w1",{"$f":"NV31","v":-35},{"$f":"NV32","v":5},{"$f":"NZ20","v":-21.5546875},{"$f":"OA20","v":5.25},{"$f":"NY20","v":"h10"},null,"e9","خطا",null,null,"m1",{"$f":"OG36","v":-35},{"$f":"OG37","v":5},{"$f":"OK20","v":-24.854166666666668},{"$f":"OL20","v":5.25},{"$f":"OJ20","v":"h10"},null,"e9","خطا",null,null,"m1",{"$f":"OR36","v":-35},{"$f":"OR37","v":5},{"$f":"OV20","v":-25.473958333333336},{"$f":"OW20","v":5.25},{"$f":"OU20","v":"h10"},null,"c17",{"$f":"X16","v":42},"تعداد دانه دور یقه لباس",null,"n1",{"$f":"PB60","v":-35},{"$f":"PC60","v":5},{"$f":"PG20","v":-20.205729166666668},{"$f":"PH20","v":5.25},{"$f":"PF20","v":"h10"},null,"c17",{"$f":"X16","v":42},"تعداد دانه دور یقه لباس",null,"n1",{"$f":"PM60","v":-35},{"$f":"PN60","v":5},{"$f":"PR20","v":-18.346354166666671},{"$f":"PS20","v":5.25},{"$f":"PQ20","v":"h10"},null,"f11",0.75,"زاویه فلش دانه",null,"g2",{"$f":"QC11","v":-41.5},{"$f":"QD11+QC8","v":6.4285714285714288},null,null,null,null,null,0,"شیفت افقی تکه جلو",null,{"$f":"IF(QJ65>QJ70,QI65,QI70)","v":11.64122823458538},{"$f":"IF(QJ65>QJ70,QJ65,QJ70)","v":18.265691432475336},"9 یا 7",null,null,null,null,null,null,null,null,{"$f":"QQ25","v":-23.996101615137754},{"$f":"QR25","v":5.8887268314077659},"k14",null,"d13",{"$f":"AD44","v":58},"تعداد دانه دور یقه لباس",null,"p1",{"$f":"RB60","v":-35},{"$f":"RC60","v":5},{"$f":"RG20","v":-26.622916666666669},{"$f":"RH20","v":5.25},{"$f":"RF20","v":"h10"},null,null,{"$f":"2/RR6","v":1.2152777777777779},"c7",null,null,"محاسبات توری در صفحه چاپ"]
["print_baft_grid",null,null,null,"تعداد دانه ها  در بالای مچ آستین      b'12",{"$f":"ROUND(I37*F13,0)","v":23},null,"محاسبه برای بافت بالاتنه ( بافت انتخابی) ",null,null,null,null,null,"یقه شکاری",null,null,null,"یقه شومیزیه تا خط جادکمه",null,null,null,null,"c15",{"$f":"ROUND(X20*X13,0)","v":62},null,null,null,"d17",{"$f":"J236+2*F12","v":7.532},{"$f":"K236","v":30.01},null,null,null,30,20,{"$f":"(10/3)*((AM14/AL14)*(1/F6)-1)","v":25.652173913043484},{"$f":"(100/68)*((AO14/AN14)*(1/F7)-1)","v":26.102941176470591},{"$f":"'طراحی همه الگوها'!H428","v":1},20,{"$f":"'طراحی همه الگوها'!H427","v":1},30,{"$f":"'طراحی همه الگوها'!G426","v":" هشتم مخصوص کاربر"},8,null,null,null,null,null,null,null,null,null,null,null,null,null,null,null,null,null,null,null,null,null,null,null,null,null,null,null,null,null,null,null,null,null,null,null,null,null,null,null,null,null,null,null,{"$f":"DB406","v":0},{"$f":"DC406","v":54.661999999999992},"شبیه ساز s15",null,{"$f":"CI39","v":40.799999999999997},{"$f":"CJ39","v":57.8},"j5",null,{"$f":"DB404","v":0},{"$f":"DC404","v":42.684000000000005},"شبیه ساز s5",null,{"$f":"CQ27","v":0},{"$f":"CR27","v":15.200999999999999},"d6",null,null,null,null,null,null,{"$f":"DB37","v":0},{"$f":"CR36","v":0},2,null,{"$f":"'طراحی همه الگوها'!U190+'طراحی همه الگوها'!U199","v":15.3},{"$f":"DE14+'طراحی همه الگوها'!U201","v":18.8},17,null,"s3",{"$f":"DB402","v":4.2476399999999996},{"$f":"DC402","v":48.56955},null,5.9336990893783996,46.262753765969933,"s8",null,"s'6",{"$f":"DM16","v":0},{"$f":"1.003*DN16","v":54.825985999999986},null,8.1038051098117645,44.501182317619254,"s'8",null,null,null,null,{"$f":"DB37","v":0},{"$f":"EF13-'طراحی همه الگوها'!U212","v":26.099999999999998},4,null,{"$f":"EI15+0.7*(EI13-EI15)","v":60.55},{"$f":"EJ15+0.4*(EJ13-EJ15)","v":83.48},"13'",null,null,null,null,null,null,null,null,{"$f":"EP31","v":3},{"$f":"EQ31","v":0},5,null,{"$f":"EP32","v":2.2921883481010714},{"$f":"EQ32","v":-8.2983149505847802},6,null,null,null,null,null,{"$f":"FF13+'طراحی همه الگوها'!U249","v":40.5},{"$f":"FG13","v":0},2,null,{"$f":"FJ11+0.95*(FJ15-FJ11)","v":50.385000000000005},{"$f":"FK11+0.8*(FK15-FK11)","v":72.039999999999992},"13'''",null,"s'6",{"$f":"DU14","v":0},{"$f":"DV14","v":54.825985999999986},null,19.623116671461517,29.65037289711605,"s''10",null,null,null,null,null,"c19",{"$f":"ATAN((GB13-GB12)/(GC13-GC12))","v":{"$error":"#DIV/0!"}},null,"محاسبات",null,null,null,null,null,null,null,null,null,null,null,null,null,"ماکزیمم متغیر ورودی  ضریب طول",20,null,null,{"$f":"GU13+GT11","v":-94},-1.6406094968746698,{"$f":"HB13+HB10*COS(GV14)","v":{"$error":"#REF!"}},{"$f":"HC13-HB10*SIN(GV14)","v":{"$error":"#REF!"}},{"$f":"SQRT(POWER((HB12-GW14),2)+POWER((HC12-GX14),2))","v":{"$error":"#REF!"}},{"$f":"ABS(HB9-GY14)","v":{"$error":"#REF!"}},"k6",{"$f":"HB13+HB10*COS(RADIANS(GT24))","v":{"$error":"#REF!"}},{"$f":"HC13-HB10*SIN(RADIANS(GT24))","v":{"$error":"#REF!"}},"راس سوم",null,null,null,null,null,null,null,null,null,null,{"$f":"-HK14+HP9","v":0},0,null,null,null,null,null,null,null,null,null,null,null,null,null,null,null,null,null,null,null,null,null,null,null,null,null,null,null,null,null,null,null,null,null,null,null,null,null,null,null,null,null,null,null,null,null,null,null,null,null,null,null,null,null,null,null,null,null,null,null,null,null,null,null,null,null,null,null,null,null,null,null,null,null,null,null,null,null,null,null,null,null,null,null,null,null,null,null,null,null,null,null,null,null,null,null,null,null,null,null,null,null,null,null,null,null,null,null,null,null,null,null,null,null,null,null,null,null,null,null,null,null,null,null,null,null,null,null,null,null,null,null,null,null,null,null,null,null,null,null,null,null,null,null,null,null,null,null,null,null,null,null,null,null,null,null,null,null,null,null,null,"خطا"," خطا : قد پشت یقه زیاد شود ",null,null,"نقطه پایان رج(راست)","مولفه افقی","مولفه عمودی",{"$f":"NZ23","v":-17.0546875},{"$f":"OA23","v":5.25},{"$f":"NY23","v":"h13"},null,"e10",13,null,null,"نقطه پایان رج(راست)","مولفه افقی","مولفه عمودی",{"$f":"OK23","v":-20.354166666666668},{"$f":"OL23","v":5.25},{"$f":"OJ23","v":"h13"},null,"e10",13,null,null,"نقطه پایان رج(راست)","مولفه افقی","مولفه عمودی",{"$f":"OV23","v":-20.973958333333336},{"$f":"OW23","v":5.25},{"$f":"OU23","v":"h13"},null,"b''1",{"$f":"G46","v":64},null,null,"نقطه پایان رج(راست)","مولفه افقی","مولفه عمودی",{"$f":"PG23","v":-15.705729166666668},{"$f":"PH23","v":5.25},{"$f":"PF23","v":"h13"},null,"b''1",{"$f":"G46","v":64},null,null,"نقطه پایان رج(راست)","مولفه افقی","مولفه عمودی",{"$f":"PR23","v":-13.846354166666671},{"$f":"PS23","v":5.25},{"$f":"PQ23","v":"h13"},null,"g3",{"$f":"PY7","v":1.4285714285714286},"ارتفاع نیم دایره",null,"g4",{"$f":"QC11+QC9*QC7/40","v":-40.975000000000001},{"$f":"QD11+0.5*QC8","v":5.7142857142857144},{"$f":"QC18","v":-41.256622955421101},{"$f":"QD18","v":5.7107057257989862},{"$f":"QB18","v":"g8"},null,null,0,"شیفت افقی تکه پشت",null,{"$f":"QI66","v":11.25},{"$f":"QJ66","v":29.530675303443079},12,null,null,"نقاط خروجی ",null,null,null,null,null,{"$f":"QQ23","v":-22.532},{"$f":"QR23","v":4.4246252162700106},"k12",null,"d9",{"$f":"AD41","v":0},null,null,"نقطه پایان رج(راست)","مولفه افقی","مولفه عمودی",{"$f":"RG23","v":-20.772916666666667},{"$f":"RH23","v":5.25},{"$f":"RF23","v":"h13"},null,null,{"$f":"2/RR5","v":0.82173913043478275},"c8",null,"Max_H_Chart",{"$f":"B10","v":41.300688577032062}]
[null,null,null,null,"تعداد دانه های اضافه شده زیر بغل   b8",{"$f":"ROUNDUP(I23*(AX119+AX114+BI116),0)","v":4},null,"تعداد رج در یک سانت جادکمه",{"$f":"F6+0.3*I17*F6","v":2.1904761904761902},null,null,null,null,"بافت انتخابی یقه شکاری",null,null,null,"جمع شوندگی عمودی  e9  ",{"$f":"OFFSET(AJ6,S20,0)","v":1.1640211640211644},null,null,null,"c16",{"$f":"ROUND(X20*X11,0)","v":50},null,null,null,null,"d5-2*d8",{"$f":"AD37-2*AD40","v":26},null,null,null,30,20,{"$f":"(10/3)*((AM15/AL15)*(1/F6)-1)","v":25.652173913043484},{"$f":"(100/68)*((AO15/AN15)*(1/F7)-1)","v":26.102941176470591},{"$f":"'طراحی همه الگوها'!H432","v":1},20,{"$f":"'طراحی همه الگوها'!H431","v":1},30,{"$f":"'طراحی همه الگوها'!G430","v":" نهم مخصوص کاربر"},9,null,null,null,null,null,null,null,null,null,null,null,null,null,null,null,null,null,null,null,null,null,null,null,null,null,null,null,null,null,null,null,null,null,null,null,null,null,null,null,null,null,null,null,null,{"$f":"'متغیرها '!C52","v":0},"شیفت عمودی",null,{"$f":"CI36","v":0},{"$f":"CJ36","v":57.8},"j1",null,{"$f":"CI37","v":0},{"$f":"CJ37","v":25},"j2",null,{"$f":"CQ25","v":0},{"$f":"CR25","v":64.810999999999993},"d3",null,null,null,null,null,null,{"$f":"DB37","v":0},{"$f":"'طراحی همه الگوها'!U188+CR36","v":63.1},1,null,{"$f":"DD21","v":20.700000000000003},{"$f":"DE21","v":20.6},10,null,"خط سینه",{"$f":"DT400","v":0},{"$f":"DU400","v":32.200000000000003},null,10.383973406412197,41.124814425551897,"s9",null,"s'7",{"$f":"DU14+0.12*(DU18-DU14)","v":2.4311415329435295},{"$f":"DV18+0.95*(DV14-DV18)","v":53.535385539702389},null,14.181658942170587,36.757579555833708,"s'9",null,null,null,null,{"$f":"DB37","v":0},{"$f":"EC35","v":0},2,null,{"$f":"EE31-'طراحی همه الگوها'!U220","v":48.3},{"$f":"EF31","v":100.60000000000001},13,null,null,null,null,null,null,null,null,{"$f":"EP29","v":0},{"$f":"EQ31","v":0},4,null,{"$f":"EX14+0.3*(EX17-EX14)","v":9.1870855481284845},{"$f":"EY14+0.05*(EY17-EY14)","v":-7.7543427063043708},"6''",null,null,null,null,null,{"$f":"FF13+'طراحی همه الگوها'!U249","v":40.5},{"$f":"FG13+'طراحی همه الگوها'!U251","v":25},4,null,{"$f":"FF34","v":50.7},{"$f":"FG34","v":81.599999999999994},15,null,"s''7",{"$f":"FO14+0.15*(FO18-FO14)","v":2.9434675007192275},{"$f":"FP18+0.95*(FP14-FP18)","v":53.567205344855793},null,22.16870108373309,27.10478848484448,"k4 شبیه ساز",null,null,null,null,null,null," درجه α","x","y","c21","c'17",null,"پروسیجر چرخش چند نقطه حول نقطه دیگر",null,null,null,null,null,"کامل شده",null,"m1",{"$f":"ATAN(IF(GQ11>GQ10,1,-1)*(GQ11-GQ10)/(GR10-GR11))","v":{"$error":"#DIV/0!"}},"m2",{"$f":"SQRT(POWER(GQ10-GQ11,2)+POWER(GR10-GR11,2))","v":0},null,null,{"$f":"GU14+GT11","v":-92},-1.6057029118347832,{"$f":"HB13+HB10*COS(GV15)","v":{"$error":"#REF!"}},{"$f":"HC13-HB10*SIN(GV15)","v":{"$error":"#REF!"}},{"$f":"SQRT(POWER((HB12-GW15),2)+POWER((HC12-GX15),2))","v":{"$error":"#REF!"}},{"$f":"ABS(HB9-GY15)","v":{"$error":"#REF!"}},"رسم مثلث",null,null,null,null,null,null,null,null,null,null,null,null,null,{"$f":"-HK15+HP9","v":0},0,null,null,null,null,null,null,null,null,null,null,null,null,null,null,null,null,null,null,null,null,null,null,null,null,null,null,null,null,null,null,null,null,null,null,null,null,null,null,null,null,null,null,null,null,null,null,null,null,null,null,null,null,null,null,null,null,null,null,null,null,null,null,null,null,null,null,null,null,null,null,null,null,null,null,null,null,null,null,null,null,null,null,null,null,null,null,null,null,null,null,null,null,null,null,null,null,null,null,null,null,null,null,null,null,null,null,null,null,null,null,null,null,null,null,null,null,null,null,null,null,null,null,null,null,null,null,null,null,null,null,null,null,null,null,null,null,null,null,null,null,null,null,null,null,null,null,null,null,null,null,null,null,null,null,null,null,null,null,null,null,"b''1-2*a25",{"$f":"NV17-2*NV13","v":42},null,null,"w2",{"$f":"NU51","v":-3.6093750000000036},{"$f":"NV51","v":5},null,null,null,null,"e11",11,null,null,"m2",{"$f":"OF61","v":-10.208333333333336},{"$f":"OG61","v":5},null,null,null,null,"e11",11,null,null,"m2",{"$f":"OQ61","v":-11.447916666666671},{"$f":"OR61","v":5},null,null,null,null,"b2",{"$f":"ROUND(F12*I16,0)","v":11},"دانه ها جادکمه",null,"n2",{"$f":"PB61","v":-0.9114583333333357},{"$f":"PC61","v":5},null,null,null,null,"b2",{"$f":"ROUND(F12*I16,0)","v":11},"دانه ها جادکمه",null,"n2",{"$f":"PM61","v":2.8072916666666572},{"$f":"PN61","v":5},null,null,null,null,"n0",{"$f":"PX19*40/PY17","v":1.9047619047619047},"ضریب کاهش تعداد دانه ها",null,"g5",{"$f":"QC11+0.7*(QC14-QC11)","v":-41.1325},{"$f":"QD11+0.28*(QD14-QD11)","v":5.2},{"$f":"QC12","v":-41.006500000000003},{"$f":"QD12","v":6.0228571428571431},{"$f":"QB12","v":"g11"},null,null,0,"شیفت عمودی تکه پشت",null,null,null,null,null,{"$f":"QQ9+QR5-15","v":-20.532},{"$f":"QR9+QR6-30","v":7.8887268314077659},"k1",null,null,null,null,{"$f":"QQ29","v":-22.832000000000001},{"$f":"QR29","v":3.905009973999348},"k19",null,"d10",{"$f":"AD42","v":0},null,null,"p2",{"$f":"RB61","v":-12.395833333333336},{"$f":"RC61","v":5},null,null,null,null,null,{"$f":"2/RU6","v":1.2152777777777779},"c9",null,"Max_W_Chart",{"$f":"B11","v":7.532}]
[null,null,null,null,"تعداد دانه های سرتاسر آستین در قسمت زیر بغل   b20",{"$f":"ROUNDUP(F15+I22*F29*COS(0.4*(F9+F10))+G44+0.5*F27,0)","v":33},null,"تعداد دانه در یک سانت جادکمه ",{"$f":"F7+0.68*I18*F7","v":1.4400000000000002},null,null,null,null," aa0 تعداد رج در یک سانت",{"$f":"F6+0.3*O19*F6","v":2.1904761904761902},null,null,"جمع شوندگی افقی e8",{"$f":"OFFSET(AJ6,S20,1)","v":8.6505190311418706E-2},null,null,null,"c17",{"$f":"G46-G42","v":42},null,null,null,null,"d13-2*d8",{"$f":"AD44-2*AD40","v":28},null,null,null,30,20,{"$f":"(10/3)*((AM16/AL16)*(1/F6)-1)","v":25.652173913043484},{"$f":"(100/68)*((AO16/AN16)*(1/F7)-1)","v":26.102941176470591},{"$f":"'طراحی همه الگوها'!H436","v":1},20,{"$f":"'طراحی همه الگوها'!H435","v":1},30,{"$f":"'طراحی همه الگوها'!G434","v":" دهم مخصوص کاربر"},10,null,"اسم نمونه بافت","میزان جمع شوندگی افقی کاربر","میزان جمع شوندگی عمودی کاربر",null,null,null,null,null,null,null,null,null,null,null,null,null,null,null,null,null,null,null,null,null,null,null,null,null,null,null,null,null,null,null,null,null,null,null,null,null,null,null,"دور سر",{"$f":"'متغیرها '!U85","v":38},"w12",null,null,null,null,null,null,{"$f":"CJ22","v":54},"تمام قد",null,null,null,null,null,null,null,null,null,null,{"$f":"DB37+'طراحی همه الگوها'!U190","v":9.9},{"$f":"DE15","v":63.1},4,null,{"$f":"'طراحی همه الگوها'!U190+'طراحی همه الگوها'!U192+'طراحی همه الگوها'!U202","v":24.6},{"$f":"DE14+'طراحی همه الگوها'!U204","v":20},20,null,"s15",{"$f":"DB406","v":0},{"$f":"DC406","v":54.661999999999992},null,14.834247723445998,37.699521531939872,"s10",null,"s'8",{"$f":"DU14+0.4*(DU18-DU14)","v":8.1038051098117645},{"$f":"DV18+0.6*(DV14-DV18)","v":44.501182317619254},null,20.259512774529412,29.013976794048158,"s'10",null,null,null,null,{"$f":"DB37+'طراحی همه الگوها'!U216","v":110},{"$f":"EF15","v":0},8,null,null,null,null,null,null,null,null,null,null,null,null,{"$f":"EP29","v":0},{"$f":"EQ30","v":-8},2,null,{"$f":"EX14+0.7*(EX17-EX14)","v":18.380281814831701},{"$f":"EY14+0.4*(EY17-EY14)","v":-3.9465369963415089},"6'''",null,null,null,null,null,{"$f":"FF13+'طراحی همه الگوها'!U249-'طراحی همه الگوها'!U255","v":36.200000000000003},{"$f":"FG15","v":25},8,null,null,null,null,null,"s''8",{"$f":"FO14+0.4*(FO18-FO14)","v":7.8492466685846072},{"$f":"FP18+0.6*(FP14-FP18)","v":44.755740758846414},null,null,null,null,null,null,null,null,null,null,2,{"$f":"GB12+GE12*SIN(RADIANS(GA16)+GA14)","v":{"$error":"#DIV/0!"}},{"$f":"GC12+GE12*COS(RADIANS(GA16)+GA14)","v":{"$error":"#DIV/0!"}},{"$f":"IF(GB13>GB16,ATAN((GC13-GC16)/(GB13-GB16)),ATAN((GC13-GC16)/(GB16-GB13)))","v":{"$error":"#DIV/0!"}},{"$f":"IF(GB13>GB16,(GB13-GB16)/COS(GD16),(GB16-GB13)/COS(GD16))","v":{"$error":"#DIV/0!"}},null,"رادیان",1,"زاویه چرخش","چرخش مخالف عقربه های ساعت",null,null,null,null,"نقطه خروجی بالا","b28",{"$f":"GQ10+IF(GQ11>GQ10,1,-1)*GQ12*COS(GP15)","v":{"$error":"#DIV/0!"}},{"$f":"GR10+GQ12*SIN(GP15)","v":{"$error":"#DIV/0!"}},null,null,{"$f":"GU15+GT11","v":-90},-1.5707963267948966,{"$f":"HB13+HB10*COS(GV16)","v":{"$error":"#REF!"}},{"$f":"HC13-HB10*SIN(GV16)","v":{"$error":"#REF!"}},{"$f":"SQRT(POWER((HB12-GW16),2)+POWER((HC12-GX16),2))","v":{"$error":"#REF!"}},{"$f":"ABS(HB9-GY16)","v":{"$error":"#REF!"}},{"$f":"HA12","v":"پشتk''5"},{"$error":"#REF!"},{"$error":"#REF!"},null,null,null,null,null,null,null,null,null,null,null,{"$f":"-HK16+HP9","v":0},0,null,null,null,null,null,null,null,null,null,null,null,null,null,null,null,null,null,null,null,null,null,null,null,null,null,null,null,null,null,null,null,null,null,null,null,null,null,null,null,null,null,null,null,null,null,null,null,null,null,null,null,null,null,null,null,null,null,null,null,null,null,null,null,null,null,null,null,null,null,null,null,null,null,null,null,null,null,null,null,null,null,null,null,null,null,null,null,null,null,null,null,null,null,null,null,null,null,null,null,null,null,null,null,null,null,null,null,null,null,null,null,null,null,null,null,null,null,null,null,null,null,null,null,null,null,null,null,null,null,null,null,null,null,null,null,null,null,null,null,null,null,null,null,null,null,null,null,null,null,null,null,null,null,null,null,null,null,null,null,null,"b2",{"$f":"F25","v":13},null,null,"نقاط خروجی","مولفه افقی","مولفه عمودی",{"$f":"NZ21","v":-21.5546875},{"$f":"OA21","v":4.75},{"$f":"NY21","v":"h11"},null,"خطا","خطا : قد پایه یقه شومیزیه زیاد شود یا پهنای جادکمه جلو کم شود",null,null,"نقاط خروجی","مولفه افقی","مولفه عمودی",{"$f":"OK21","v":-24.854166666666668},{"$f":"OL21","v":4.75},{"$f":"OJ21","v":"h11"},null,"خطا","خطا : قد پایه یقه شومیزیه زیاد شود یا پهنای جادکمه جلو کم شود",null,null,"نقاط خروجی","مولفه افقی","مولفه عمودی",{"$f":"OV21","v":-25.473958333333336},{"$f":"OW21","v":4.75},{"$f":"OU21","v":"h11"},null,{"$f":"X19","v":3.1031746031746033}," ca0 تعداد رج در یک سانت",null,null,"نقاط خروجی","مولفه افقی","مولفه عمودی",{"$f":"PG21","v":-20.205729166666668},{"$f":"PH21","v":4.75},{"$f":"PF21","v":"h11"},null,{"$f":"X19","v":3.1031746031746033}," ca0 تعداد رج در یک سانت",null,null,"نقاط خروجی","مولفه افقی","مولفه عمودی",{"$f":"PR21","v":-18.346354166666671},{"$f":"PS21","v":4.75},{"$f":"PQ21","v":"h11"},null,"f4",{"$f":"PY9*PY7","v":0.57142857142857151},"بزرگی فلش رج",null,"g6",{"$f":"QC15","v":-41.1325},{"$f":"QD13-QD15+QD11","v":6.2285714285714286},null,null,null,null,null,"جلو",null,null,{"$f":"QI66","v":11.25},{"$f":"QJ66","v":29.530675303443079},12,null,{"$f":"QQ15+QR7","v":-16.532},{"$f":"QR15","v":7.8887268314077659},"k5",null,null,null,null,{"$f":"QQ31","v":-24.515716857408417},{"$f":"QR31","v":5.5887268314077652},"k21",null,"d12",{"$f":"AD43","v":10},null,null,"نقاط خروجی","مولفه افقی","مولفه عمودی",{"$f":"RG21","v":-26.622916666666669},{"$f":"RH21","v":4.75},{"$f":"RF21","v":"h11"},null,null,{"$f":"2/RU5","v":0.82173913043478275},"c10",null,"Min_H_Chart",{"$f":"B12","v":17.899999999999999}]
[null,null,null,null,"تعداد دانه های اضافه شده در کنار آستین در هر طرف b21",{"$f":"0.5*(F16-F14)","v":5},null,"جمع شوندگی عمودی بافت جادکمه",{"$f":"OFFSET(AJ6,I19,0)","v":-0.15873015873015892},null,null,null,null,"تعداد دانه در یک سانت ab0 ",{"$f":"F7+0.68*O20*F7","v":2.7428571428571429},null,null," ea0 تعداد رج در یک سانت",{"$f":"F6+0.3*S15*F6","v":3.1031746031746033},null,null,null,"جمع شوندگی عمودی  e9  ",{"$f":"OFFSET(AJ6,X21,0)","v":1.1640211640211644},null,null,null,null,"جمع شوندگی عمودی    ",{"$f":"OFFSET(AJ6,AD21,0)","v":-0.15873015873015892},null,null,null,{"$f":"AO17/AN17","v":1.9459459459459461},{"$f":"AM17/AL17","v":2.8888888888888888},{"$f":"(10/3)*((AM17/AL17)*(1/J6)-1)","v":0.10582010582010619},{"$f":"(100/68)*((AO17/AN17)*(1/J7)-1)","v":-3.9745627980922023E-2},13.5,39,18.5,36,"ساده ",11,null,{"$f":"IF(AM17=0,\"  \",AP17)","v":"ساده "},{"$f":"IF(AN17=0,\"  \",ROUND(AK17*100+20,0))","v":16},{"$f":"IF(AM17=0,\"  \",ROUND(AJ17*50+30,0))","v":35},null,null,null,null,null,null,null,null,null,null,null,null,null,null,null,null,null,null,null,null,null,null,null,null,null,null,null,null,null,null,null,null,null,null,null,null,null,null,null,null,{"$f":"'متغیرها '!U76","v":34},"t3",null,{"$f":"CI36","v":0},{"$f":"CJ36","v":57.8},"j1",null,null,{"$f":"'متغیرها '!C52","v":0},"شیفت عمودی",null,{"$f":"CQ25","v":0},{"$f":"CR25","v":64.810999999999993},"d3",null,null,null,null,null,null,{"$f":"DB37+'طراحی همه الگوها'!U190","v":9.9},{"$f":"DE14+'طراحی همه الگوها'!U195","v":17.899999999999999},11,null,{"$f":"DD25","v":28.4},{"$f":"DE25","v":17.484000000000002},7,null,"زاویه متوسط سرشانه",{"$f":"'متغیرها '!B245","v":0.37663262401204339},"α2",null,null,null,null,null,"s'9",{"$f":"DU14+0.7*(DU18-DU14)","v":14.181658942170587},{"$f":"DV18+0.3*(DV14-DV18)","v":36.757579555833708},null,null,null,null,null,null,null,null,{"$f":"EE16","v":110},{"$f":"EF16+'طراحی همه الگوها'!U221","v":17.5},14,null,{"$f":"EE15","v":0},{"$f":"EF15","v":0},2,null,null,null,null,null,null,null,null,{"$f":"EP30","v":-3.4},{"$f":"EQ30","v":-8},3,null,{"$f":"EP34","v":25.275179014859113},{"$f":"EQ34","v":2.581129935023398},8,null,null,null,null,null,{"$f":"FF13","v":0},{"$f":"FG15","v":25},3,null,{"$f":"FF32","v":0},{"$f":"FG32","v":37.299999999999997},18,null,"s''9",{"$f":"FO14+0.7*(FO18-FO14)","v":13.736181670023061},{"$f":"FP18+0.28*(FP14-FP18)","v":36.699544565923553},null,{"$f":"FO19","v":22.16870108373309},27.10478848484448,"k4 شبیه ساز",null,null,null,null,null,null,4,{"$f":"GB12+GE12*SIN(RADIANS(GA17)+GA14)","v":{"$error":"#DIV/0!"}},{"$f":"GC12+GE12*COS(RADIANS(GA17)+GA14)","v":{"$error":"#DIV/0!"}},{"$f":"IF(GB13>GB17,ATAN((GC13-GC17)/(GB13-GB17)),ATAN((GC13-GC17)/(GB17-GB13)))","v":{"$error":"#DIV/0!"}},{"$f":"IF(GB13>GB17,(GB13-GB17)/COS(GD17),(GB17-GB13)/COS(GD17))","v":{"$error":"#DIV/0!"}},null,"مولفه افقی","مولفه عمودی","اسم نقطه ",null,"نقطه  خروجی چرخیده",null,null,null,"نقطه خروجی پایین","b27",{"$f":"GQ18+IF(GQ11>GQ10,1,-1)*GQ12*COS(GP15)","v":{"$error":"#DIV/0!"}},{"$f":"GR18+GQ12*SIN(GP15)","v":{"$error":"#DIV/0!"}},null,null,{"$f":"GU16+GT11","v":-88},-1.5358897417550099,{"$f":"HB13+HB10*COS(GV17)","v":{"$error":"#REF!"}},{"$f":"HC13-HB10*SIN(GV17)","v":{"$error":"#REF!"}},{"$f":"SQRT(POWER((HB12-GW17),2)+POWER((HC12-GX17),2))","v":{"$error":"#REF!"}},{"$f":"ABS(HB9-GY17)","v":{"$error":"#REF!"}},"42پشت",1,0,null,null,null,null,null,null,null,null,null,null,null,{"$f":"-HK17+HP9","v":0},0,null,null,null,null,null,null,null,null,null,null,null,null,null,null,null,null,null,null,null,null,null,null,null,null,null,null,null,null,null,null,null,null,null,null,null,null,null,null,null,null,null,null,null,null,null,null,null,null,null,null,null,null,null,null,null,null,null,null,null,null,null,null,null,null,null,null,null,null,null,null,null,null,null,null,null,null,null,null,null,null,null,null,null,null,null,null,null,null,null,null,null,null,null,null,null,null,null,null,null,null,null,null,null,null,null,null,null,null,null,null,null,null,null,null,null,null,null,null,null,null,null,null,null,null,null,null,null,null,null,null,null,null,null,null,null,null,null,null,null,null,null,null,null,null,null,null,null,null,null,null,null,null,null,null,null,null,null,null,null,null,"b''1",{"$f":"G46","v":64},null,null,"h5",{"$f":"NZ13+0.5*(NZ15-NZ13)","v":-19.3046875},{"$f":"OA13","v":5},{"$f":"NZ22","v":-17.0546875},{"$f":"OA22","v":4.75},{"$f":"NY22","v":"h12"},null,"e12-4*eb0*b'2",{"$f":"ROUND(S19-4*S18*F12,0)","v":25},null,null,"h5",{"$f":"OK13+0.5*(OK15-OK13)","v":-22.604166666666668},{"$f":"OL13","v":5},{"$f":"OK22","v":-20.354166666666668},{"$f":"OL22","v":4.75},{"$f":"OJ22","v":"h12"},null,"e12-4*eb0*b'2",{"$f":"OG17","v":25},null,null,"h5",{"$f":"OV13+0.5*(OV15-OV13)","v":-23.223958333333336},{"$f":"OW13","v":5},{"$f":"OV22","v":-20.973958333333336},{"$f":"OW22","v":4.75},{"$f":"OU22","v":"h12"},null,{"$f":"X20","v":1.6941176470588237},"تعداد دانه در یک سانت cb0 ",null,null,"h5",{"$f":"PG13+0.5*(PG15-PG13)","v":-17.955729166666668},{"$f":"PH13","v":5},{"$f":"PG22","v":-15.705729166666668},{"$f":"PH22","v":4.75},{"$f":"PF22","v":"h12"},null,{"$f":"X20","v":1.6941176470588237},"تعداد دانه در یک سانت cb0 ",null,null,"h5",{"$f":"PR13+0.5*(PR15-PR13)","v":-16.096354166666671},{"$f":"PS13","v":5},{"$f":"PR22","v":-13.846354166666671},{"$f":"PS22","v":4.75},{"$f":"PQ22","v":"h12"},null,"w'12",42,"نسبت نقشه بافت به سایز واقعی",null,"g7",{"$f":"QC12+0.7*QD9*SIN(RADIANS(30)+2*ATAN((QC12-QC15)/(QD12-QD15+0.0001)))","v":-40.712016253334198},{"$f":"QD12-0.7*QD9*COS(RADIANS(30)+2*ATAN((QC12-QC15)/(QD12-QD15+0.0001)))","v":5.7521556043508548},{"$f":"QC12","v":-41.006500000000003},{"$f":"QD12","v":6.0228571428571431},{"$f":"QB12","v":"g11"},null,null,null,"یقه گرد جلو",null,{"$f":"QI75","v":18.937161970737396},{"$f":"QJ75","v":23.475771168757738},"k''5",null,{"$f":"QQ15-QR7","v":-24.532},{"$f":"QR15","v":7.8887268314077659},"k6",null,null,null,null,{"$f":"QQ33","v":-25.131999999999998},{"$f":"QR33","v":7.8887268314077659},"k23",null,"خطا",{"$f":"AD47","v":" "},null,null,"h5",{"$f":"RG13+0.5*(RG15-RG13)","v":-23.697916666666668},{"$f":"RH13","v":5},{"$f":"RG22","v":-20.772916666666667},{"$f":"RH22","v":4.75},{"$f":"RF22","v":"h12"},null,null,{"$f":"2/RX6","v":1.2847222222222221},"c11",null,"Min_W_Chart",{"$f":"B13","v":-11.64122823458538}]
[null,null,null,null,"طول اضافه شده در کنار آستین در هر طرف b'21",{"$f":"F17/I23","v":3.0381944444444446},null,"جمع شوندگی افقی بافت جادکمه",{"$f":"OFFSET(AJ6,I19,1)","v":-0.14705882352941174},null,null,null,null,"متغیر ورودی بافت یقه شکاری ",null,null,null,"تعداد دانه در یک سانت eb0 ",{"$f":"F7+0.68*S16*F7","v":1.6941176470588237},null,null,null,"جمع شوندگی افقی e8",{"$f":"OFFSET(AJ6,X21,1)","v":8.6505190311418706E-2},null,null,null,null,"جمع شوندگی افقی ",{"$f":"OFFSET(AJ6,AD21,1)","v":-0.14705882352941174},null,null,null,2.1176470588235294,3.7777777777777777,{"$f":"(10/3)*((AM18/AL18)*(1/J6)-1)","v":1.1640211640211644},{"$f":"(100/68)*((AO18/AN18)*(1/J7)-1)","v":8.6505190311418706E-2},13.5,51,17,36,"همه از زیر",12,null,"همه از زیر",29,88,null,null,null,null,null,null,null,null,null,null,null,null,null,null,null,null,null,null,null,null,null,null,null,null,null,null,null,null,null,null,null,null,null,null,null,null,null,null,null,null,{"$f":"'متغیرها '!U56","v":25},"e",null,{"$f":"CI37","v":0},{"$f":"CJ37","v":25},"j2",null,"محاسبات",null,null,null,{"$f":"CQ26","v":40.529999999999994},{"$f":"CR26","v":24.280999999999999},"d4",null,null,null,null,null,null,{"$f":"DB37+'طراحی همه الگوها'!U190","v":9.9},{"$f":"DE14","v":0},5,null,null,null,null,null,"دست صاف شبیه ساز k4",{"$f":"F406","v":26.179130163629324},{"$f":"J406","v":33.212468777801583},null,{"$f":"DM28","v":10.567869694921066},{"$f":"DN28","v":26.912584129798347},"s12",null,"s'10",{"$f":"EC41-('متغیرها '!C19*'متغیرها '!U83)*COS(DM17+RADIANS(EC40))","v":20.259512774529412},{"$f":"ED41+('متغیرها '!C19*'متغیرها '!U83)*SIN(DM17+RADIANS(EC40))","v":29.013976794048158},null,{"$f":"DU20","v":14.461237168799723},23.215701188318469,"s'12",null,null,null,null,{"$f":"DB37+'طراحی همه الگوها'!U216","v":110},{"$f":"EF15+'طراحی همه الگوها'!U217","v":-44.2},9,null,{"$f":"EI17+0.3*(EI20-EI17)","v":8.0639999999999983},{"$f":"EJ17+0.15*(EJ20-EJ17)","v":1.8599999999999999},"16'",null,null,null,null,null,null,null,null,null,null,null,null,null,null,null,null,null,null,null,null,{"$f":"FF13","v":0},{"$f":"FG17-'طراحی همه الگوها'!U252","v":21.5},5,null,{"$f":"FJ17+'طراحی همه الگوها'!U268","v":10.8},{"$f":"FG31+'طراحی همه الگوها'!U269","v":37.799999999999997},24,null,"s''10",{"$f":"EC41-0.2*'متغیرها '!U83*COS(DM17+RADIANS(EC40))","v":19.623116671461517},{"$f":"ED41+0.2*'متغیرها '!U83*SIN(DM17+RADIANS(EC40))","v":29.65037289711605},null,18.147046317087163,16.906796404541861,"s''11",null,null,null,null,null,null,6,{"$f":"GB12+GE12*SIN(RADIANS(GA18)+GA14)","v":{"$error":"#DIV/0!"}},{"$f":"GC12+GE12*COS(RADIANS(GA18)+GA14)","v":{"$error":"#DIV/0!"}},{"$f":"IF(GB13>GB18,ATAN((GC13-GC18)/(GB13-GB18)),ATAN((GC13-GC18)/(GB18-GB13)))","v":{"$error":"#DIV/0!"}},{"$f":"IF(GB13>GB18,(GB13-GB18)/COS(GD18),(GB18-GB13)/COS(GD18))","v":{"$error":"#DIV/0!"}},null,2,1,"a40","نقطه مرکزی چرخش","مولفه افقی","مولفه عمودی","اسم نقطه ",null,"نقطه خروجی میانه","b26",{"$f":"GQ10+IF(GQ11>GQ10,1,-1)*GQ13*GR15*SIN(GP15)/GR14","v":{"$error":"#DIV/0!"}},{"$f":"GR10-GQ13*GR15*COS(GP15)/GR14","v":{"$error":"#DIV/0!"}},null,null,{"$f":"GU17+GT11","v":-86},-1.5009831567151235,{"$f":"HB13+HB10*COS(GV18)","v":{"$error":"#REF!"}},{"$f":"HC13-HB10*SIN(GV18)","v":{"$error":"#REF!"}},{"$f":"SQRT(POWER((HB12-GW18),2)+POWER((HC12-GX18),2))","v":{"$error":"#REF!"}},{"$f":"ABS(HB9-GY18)","v":{"$error":"#REF!"}},null,null,null,null,null,null,null,null,null,null,null,null,null,null,{"$f":"-HK18+HP9","v":0},0,null,null,null,null,null,null,null,null,null,null,null,null,null,null,null,null,null,null,null,null,null,null,null,null,null,null,null,null,null,null,null,null,null,null,null,null,null,null,null,null,null,null,null,null,null,null,null,null,null,null,null,null,null,null,null,null,null,null,null,null,null,null,null,null,null,null,null,null,null,null,null,null,null,null,null,null,null,null,null,null,null,null,null,null,null,null,null,null,null,null,null,null,null,null,null,null,null,null,null,null,null,null,null,null,null,null,null,null,null,null,null,null,null,null,null,null,null,null,null,null,null,null,null,null,null,null,null,null,null,null,null,null,null,null,null,null,null,null,null,null,null,null,null,null,null,null,null,null,null,null,null,null,null,null,null,null,null,null,null,null,"نوشته ها یقه شکاری ",null,null,null,"h8",{"$f":"NZ17-0.5*NZ8","v":-21.5546875},{"$f":"OA13","v":5},null,null,null,null,"e12",{"$f":"ROUND(S19,0)","v":76},null,null,"h8",{"$f":"OK17-0.5*OK8","v":-24.854166666666668},{"$f":"OL13","v":5},null,null,null,null,"e12",{"$f":"ROUND(S19,0)","v":76},null,null,"h8",{"$f":"OV17-0.5*OV8","v":-25.473958333333336},{"$f":"OW13","v":5},null,null,null,null,{"$f":"I16","v":1.4400000000000002}," تعداد دانه در یک سانت جادکمه ",null,null,"h8",{"$f":"PG17-0.5*PG8","v":-20.205729166666668},{"$f":"PH13","v":5},null,null,null,null,{"$f":"I16","v":1.4400000000000002}," تعداد دانه در یک سانت جادکمه ",null,null,"h8",{"$f":"PR17-0.5*PR8","v":-18.346354166666671},{"$f":"PS13","v":5},null,null,null,null,2.8,"  تعداد رج در یک سانت",null,null,"g8",{"$f":"QC12-0.7*QD9*SIN(RADIANS(30)+ATAN((QC12-QC15)/(QD12-QD15+0.0001)))","v":-41.256622955421101},{"$f":"QD12-0.7*QD9*COS(RADIANS(30)+ATAN((QC12-QC15)/(QD12-QD15+0.0001)))","v":5.7107057257989862},{"$f":"QC17","v":-40.712016253334198},{"$f":"QD17","v":5.7521556043508548},{"$f":"QB17","v":"g7"},null,{"$f":"FF150","v":5.9244108634080561},41.300688577032062,25,null,null,null,null,null,{"$f":"QQ15","v":-20.532},{"$f":"QR15+QR7","v":11.888726831407766},"k7",null,null,null,null,{"$f":"QQ35","v":-22.832000000000001},{"$f":"QR35","v":11.872443688816183},"k25",null,{"$f":"AD19","v":2.1904761904761902}," da0 تعداد رج در یک سانت",null,null,"h8",{"$f":"RG17-0.5*RG8","v":-26.622916666666669},{"$f":"RH13","v":5},null,null,null,null,null,{"$f":"2/RX5","v":0.84280936454849498},"c12",null,"print_baft_grid",{"$f":"B14","v":0}]
[null,null,null,null,"هر b11   رج در بافت آستین یکدانه از ابتدا و یکدانه از انتها کم شود",{"$f":"IF(OR(ROUND(F21/F17,0)>50,ROUND(F21/F17,0)<-50),0,ROUND(F21/F17,0))","v":6},null,"بافت انتخابی جادکمه",{"$f":"'متغیرها '!C835","v":13},null,null,null,null,"جمع شوندگی عمودی  a9  ",{"$f":"OFFSET(AJ6,O21,0)","v":-0.15873015873015892},null,null,"e12",{"$f":"S18*2*F11","v":75.759897187973436},null,null,null," ca0 تعداد رج در یک سانت",{"$f":"F6+0.3*X17*F6","v":3.1031746031746033},null,null,null,null," da0 تعداد رج در یک سانت",{"$f":"F6+0.3*AD17*F6","v":2.1904761904761902},null,null,null,1.8,2.6666666666666665,{"$f":"(10/3)*((AM19/AL19)*(1/J6)-1)","v":-0.15873015873015892},{"$f":"(100/68)*((AO19/AN19)*(1/J7)-1)","v":-0.14705882352941174},13.5,36,20,36,"جودانه",13,null,"جودانه",5,22,null,null,null,null,null,null,null,null,null,null,null,null,null,null,null,null,null,null,null,null,null,null,null,null,null,null,null,null,null,null,null,null,null,null,null,null,null,null,null,null,{"$f":"'متغیرها '!U58","v":25},"g",null,null,null,null,null,"(d1 → d2)",{"$f":"0.45*'متغیرها '!U85","v":17.100000000000001},null,null,null,null,null,null,null,null,null,null,null,{"$f":"DD18+'طراحی همه الگوها'!U192","v":20.700000000000003},{"$f":"DE14","v":0},8,null,{"$f":"DD18","v":9.9},{"$f":"DE18","v":0},5,null,"شبیه ساز 26",{"$f":"DX388","v":0},{"$f":"DY388","v":35.888726831407766},null,{"$f":"DP18+0.25*(DP21-DP18)","v":13.788402271190799},{"$f":"DQ21+0.5*(DQ18-DQ21)","v":13.456292064899174},"s12'",null,"s'11",{"$f":"DU29-'طراحی همه الگوها'!U226*SIN(DM17+RADIANS(EC40))","v":16.865400224833984},{"$f":"DV29-'طراحی همه الگوها'!U226*COS(DM17+RADIANS(EC40))","v":21.801487625945374},null,20.202866018159803,11.607850594159235,"s''13",null,null,null,null,{"$f":"EE26","v":28.5},{"$f":"EF14+'طراحی همه الگوها'!U215","v":28.2},7,null,{"$f":"DB37+'طراحی همه الگوها'!U227","v":16.127999999999997},{"$f":"EJ17+'طراحی همه الگوها'!U228","v":5.6},22,null,null,null,null,null,null,null,null,{"$f":"EP29","v":0},{"$f":"EQ35","v":26.767166026060487},13,null,{"$f":"EP31","v":3},{"$f":"EQ31","v":0},5,null,null,null,null,null,{"$f":"FF13","v":0},{"$f":"FG13","v":0},1,null,{"$f":"FJ17+'طراحی همه الگوها'!U270","v":21.7},{"$f":"FG31+'طراحی همه الگوها'!U271","v":39.799999999999997},26,null,"k4 شبیه ساز",{"$f":"K384","v":22.16870108373309},{"$f":"L384","v":27.10478848484448},null,10.103736783795311,8.7484027402997651,"s'11",null,null,null,null,null,null,8,{"$f":"GB12+GE12*SIN(RADIANS(GA19)+GA14)","v":{"$error":"#DIV/0!"}},{"$f":"GC12+GE12*COS(RADIANS(GA19)+GA14)","v":{"$error":"#DIV/0!"}},{"$f":"IF(GB13>GB19,ATAN((GC13-GC19)/(GB13-GB19)),ATAN((GC13-GC19)/(GB19-GB13)))","v":{"$error":"#DIV/0!"}},{"$f":"IF(GB13>GB19,(GB13-GB19)/COS(GD19),(GB19-GB13)/COS(GD19))","v":{"$error":"#DIV/0!"}},null,1,2,"نقطه 1","نقطه قبل از چرخش",{"$f":"IF(GH19>GH18,IF(GG19>GG18,GG18+SQRT(POWER(GG19-GG18,2)+POWER(GH19-GH18,2))*COS(ATAN((GH19-GH18)/(GG19-GG18+0.000123))+GH16),GG18-SQRT(POWER(GG19-GG18,2)+POWER(GH19-GH18,2))*COS(ATAN((GH19-GH18)/(GG18-GG19+0.000123))-GH16)),IF(GG19>GG18,GG18+SQRT(POWER(GG19-GG18,2)+POWER(GH19-GH18,2))*COS(ATAN((GH18-GH19)/(GG19-GG18+0.000123))-GH16),GG18-SQRT(POWER(GG19-GG18,2)+POWER(GH19-GH18,2))*COS(ATAN((GH18-GH19)/(GG18-GG19+0.000123))+GH16)))","v":0.61824523267144293},{"$f":"IF(GH19>GH18,IF(GG19>GG18,GH18+SQRT(POWER(GG19-GG18,2)+POWER(GH19-GH18,2))*SIN(ATAN((GH19-GH18)/(GG19-GG18+0.000123))+GH16),GH18+SQRT(POWER(GG19-GG18,2)+POWER(GH19-GH18,2))*SIN(ATAN((GH19-GH18)/(GG18-GG19+0.000123))-GH16)),IF(GG19>GG18,GH18-SQRT(POWER(GG19-GG18,2)+POWER(GH19-GH18,2))*SIN(ATAN((GH18-GH19)/(GG19-GG18+0.000123))-GH16),GH18-SQRT(POWER(GG19-GG18,2)+POWER(GH19-GH18,2))*SIN(ATAN((GH18-GH19)/(GG18-GG19+0.000123))+GH16)))","v":0.69874634779839551},"نقطه چرخیده",null,null,null,null,null,null,null,{"$f":"GU18+GT11","v":-84},-1.4660765716752369,{"$f":"HB13+HB10*COS(GV19)","v":{"$error":"#REF!"}},{"$f":"HC13-HB10*SIN(GV19)","v":{"$error":"#REF!"}},{"$f":"SQRT(POWER((HB12-GW19),2)+POWER((HC12-GX19),2))","v":{"$error":"#REF!"}},{"$f":"ABS(HB9-GY19)","v":{"$error":"#REF!"}},{"$f":"HA13","v":"42پشت"},{"$f":"HB13","v":1},{"$f":"HC13","v":0},null,null,null,null,null,null,null,null,null,null,null,{"$f":"-HK19+HP9","v":0},0,null,null,null,null,null,null,null,null,null,null,null,null,null,null,null,null,null,null,null,null,null,null,null,null,null,null,null,null,null,null,null,null,null,null,null,null,null,null,null,null,null,null,null,null,null,null,null,null,null,null,null,null,null,null,null,null,null,null,null,null,null,null,null,null,null,null,null,null,null,null,null,null,null,null,null,null,null,null,null,null,null,null,null,null,null,null,null,null,null,null,null,null,null,null,null,null,null,null,null,null,null,null,null,null,null,null,null,null,null,null,null,null,null,null,null,null,null,null,null,null,null,null,null,null,null,null,null,null,null,null,null,null,null,null,null,null,null,null,null,null,null,null,null,null,null,null,null,null,null,null,null,null,null,null,null,null,null,null,null,null,"a1",{"$f":"TEXT(0,NV5)&\" دانه سر می اندازیم\"","v":"82 دانه سر می اندازیم"},null,null,"h9",{"$f":"NZ17+0.5*NZ8","v":-17.0546875},{"$f":"OA13","v":5},{"$f":"NZ22","v":-17.0546875},{"$f":"OA22","v":4.75},{"$f":"NY22","v":"h12"},null,"b''1",{"$f":"G46","v":64},null,null,"h9",{"$f":"OK17+0.5*OK8","v":-20.354166666666668},{"$f":"OL13","v":5},{"$f":"OK22","v":-20.354166666666668},{"$f":"OL22","v":4.75},{"$f":"OJ22","v":"h12"},null,"b''1",{"$f":"OG19","v":64},null,null,"h9",{"$f":"OV17+0.5*OV8","v":-20.973958333333336},{"$f":"OW13","v":5},{"$f":"OV22","v":-20.973958333333336},{"$f":"OW22","v":4.75},{"$f":"OU22","v":"h12"},null,{"$f":"IF(PB20<11,\" مخصوص \",F8)","v":4.5},"انتخاب ضخامت میل بافتنی   f1",null,null,"h9",{"$f":"PG17+0.5*PG8","v":-15.705729166666668},{"$f":"PH13","v":5},{"$f":"PG22","v":-15.705729166666668},{"$f":"PH22","v":4.75},{"$f":"PF22","v":"h12"},null,{"$f":"IF(PM20<11,\" مخصوص \",F8)","v":4.5},"انتخاب ضخامت میل بافتنی   f1",null,null,"h9",{"$f":"PR17+0.5*PR8","v":-13.846354166666671},{"$f":"PS13","v":5},{"$f":"PR22","v":-13.846354166666671},{"$f":"PS22","v":4.75},{"$f":"PQ22","v":"h12"},null,2,"تعداد دانه در یک سانت ",null,null,null,null,null,null,null,null,null,4.7395286907264449,38.594707704219914,30,null,{"$f":"QI75","v":18.937161970737396},{"$f":"QJ75","v":23.475771168757738},"k''5",null,{"$f":"QQ15","v":-20.532},{"$f":"QR15-QR7","v":3.8887268314077659},"k8",null,null,null,null,{"$f":"QQ36","v":-20.532},{"$f":"QR36","v":12.488726831407766},"k26",null,{"$f":"AD20","v":1.4400000000000002},"تعداد دانه در یک سانت db0 ",null,null,"h9",{"$f":"RG17+0.5*RG8","v":-20.772916666666667},{"$f":"RH13","v":5},{"$f":"RG22","v":-20.772916666666667},{"$f":"RH22","v":4.75},{"$f":"RF22","v":"h12"},null,null,{"$f":"2/SA6","v":1.2847222222222221},"c13",null,"پهنا افقی",{"$f":"RR15-RR17","v":19.17322823458538}]
[null,null,null,null," b22",{"$f":"SQRT(POWER(F33,2)-POWER(F18,2))","v":11.609021255805629},null,"بافت انتخابی جادکمه",{"$f":"OFFSET(AJ6,I19,6)","v":"جودانه"},null,null,null,null,"جمع شوندگی افقی a8",{"$f":"OFFSET(AJ6,O21,1)","v":1.0504201680672269},null,null,"بافت انتخابی یقه شومیزیه",{"$f":"'متغیرها '!C850","v":12},null,null,null,"تعداد دانه در یک سانت cb0 ",{"$f":"F7+0.68*X18*F7","v":1.6941176470588237},null,null,null,null,"تعداد دانه در یک سانت db0 ",{"$f":"F7+0.68*AD18*F7","v":1.4400000000000002},null,null,null,3.4285714285714284,2.6666666666666665,{"$f":"(10/3)*((AM20/AL20)*(1/J6)-1)","v":-0.15873015873015892},{"$f":"(100/68)*((AO20/AN20)*(1/J7)-1)","v":1.0504201680672269},13.5,36,10.5,36,"کشباف (دوتایی)",14,null,"کشباف (دوتایی)",125,22,null,null,null,null,null,null,null,null,null,null,null,null,null,null,null,null,null,null,null,null,null,null,null,null,null,null,null,null,null,null,null,null,null,null,null,null,null,null,null,"محاسبات",null,null,null,{"$f":"CI37","v":0},{"$f":"CJ37","v":25},"j2",null,"(d1 →d4)",{"$f":"'طراحی همه الگوها'!U178+'طراحی همه الگوها'!U177","v":40.799999999999997},null,null,{"$f":"CQ31","v":0},{"$f":"CR31","v":23.355070000000001},"j'2",null,null,null,null,null,null,{"$f":"DD18+'طراحی همه الگوها'!U192","v":20.700000000000003},{"$f":"DE14+'طراحی همه الگوها'!U193","v":8.6999999999999993},9,null,{"$f":"'طراحی همه الگوها'!U190+'طراحی همه الگوها'!U199","v":15.3},{"$f":"DE14+'طراحی همه الگوها'!U200","v":3},16,null,null,null,null,null,{"$f":"DP18+0.6*(DP21-DP18)","v":18.297147877968428},{"$f":"DQ21+0.2*(DQ18-DQ21)","v":5.3825168259596694},"s12''",null,"s'12",{"$f":"DU18-'طراحی همه الگوها'!U225*SIN(DM17+RADIANS(EC40))","v":14.461237168799723},{"$f":"DV18-'طراحی همه الگوها'!U225*COS(DM17+RADIANS(EC40))","v":23.215701188318469},null,24.987556725959873,5.8039252970796174,"s'''13",null,null,null,null,{"$f":"DB37+'طراحی همه الگوها'!U216","v":110},{"$f":"EF18+'طراحی همه الگوها'!U218","v":100.60000000000001},10,null,{"$f":"DB37+'طراحی همه الگوها'!U222","v":26.879999999999995},{"$f":"EF15+'طراحی همه الگوها'!U223","v":12.4},16,null,null,null,null,null,null,null,null,{"$f":"EP35","v":16.472181792833521},{"$f":"EQ35","v":26.767166026060487},9,null,{"$f":"EP33","v":7.493832906395582},{"$f":"EQ33","v":0.23551180309324726},7,null,null,null,null,null,null,null,null,null,{"$f":"FF37","v":27.1},{"$f":"FG37","v":41.8},17,null,"s''11",{"$f":"FO22+0.8*(FO19-FO22)","v":18.147046317087163},{"$f":"FP22+0.5*(FP19-FP22)","v":16.906796404541861},null,2.0604272505034591,6.7088043242392414,"s11",null,null,null,null,null,null,10,{"$f":"GB12+GE12*SIN(RADIANS(GA20)+GA14)","v":{"$error":"#DIV/0!"}},{"$f":"GC12+GE12*COS(RADIANS(GA20)+GA14)","v":{"$error":"#DIV/0!"}},{"$f":"IF(GB13>GB20,ATAN((GC13-GC20)/(GB13-GB20)),ATAN((GC13-GC20)/(GB20-GB13)))","v":{"$error":"#DIV/0!"}},{"$f":"IF(GB13>GB20,(GB13-GB20)/COS(GD20),(GB20-GB13)/COS(GD20))","v":{"$error":"#DIV/0!"}},null,1,2,"نقطه2","نقطه قبل از چرخش",{"$f":"IF(GH20>GH18,IF(GG20>GG18,GG18+SQRT(POWER(GG20-GG18,2)+POWER(GH20-GH18,2))*COS(ATAN((GH20-GH18)/(GG20-GG18+0.000123))+GH16),GG18-SQRT(POWER(GG20-GG18,2)+POWER(GH20-GH18,2))*COS(ATAN((GH20-GH18)/(GG18-GG20+0.000123))-GH16)),IF(GG20>GG18,GG18+SQRT(POWER(GG20-GG18,2)+POWER(GH20-GH18,2))*COS(ATAN((GH18-GH20)/(GG20-GG18+0.000123))-GH16),GG18-SQRT(POWER(GG20-GG18,2)+POWER(GH20-GH18,2))*COS(ATAN((GH18-GH20)/(GG18-GG20+0.000123))+GH16)))","v":0.61824523267144293},{"$f":"IF(GH20>GH18,IF(GG20>GG18,GH18+SQRT(POWER(GG20-GG18,2)+POWER(GH20-GH18,2))*SIN(ATAN((GH20-GH18)/(GG20-GG18+0.000123))+GH16),GH18+SQRT(POWER(GG20-GG18,2)+POWER(GH20-GH18,2))*SIN(ATAN((GH20-GH18)/(GG18-GG20+0.000123))-GH16)),IF(GG20>GG18,GH18-SQRT(POWER(GG20-GG18,2)+POWER(GH20-GH18,2))*SIN(ATAN((GH18-GH20)/(GG20-GG18+0.000123))-GH16),GH18-SQRT(POWER(GG20-GG18,2)+POWER(GH20-GH18,2))*SIN(ATAN((GH18-GH20)/(GG18-GG20+0.000123))+GH16)))","v":0.69874634779839551},"نقطه چرخیده",null,null,"رسم باکس زیپ دامن- باکس راست","مولفه افقی","مولفه عمودی",null,null,{"$f":"GU19+GT11","v":-82},-1.4311699866353502,{"$f":"HB13+HB10*COS(GV20)","v":{"$error":"#REF!"}},{"$f":"HC13-HB10*SIN(GV20)","v":{"$error":"#REF!"}},{"$f":"SQRT(POWER((HB12-GW20),2)+POWER((HC12-GX20),2))","v":{"$error":"#REF!"}},{"$f":"ABS(HB9-GY20)","v":{"$error":"#REF!"}},{"$f":"HA14","v":"k6"},{"$f":"#REF!","v":{"$error":"#REF!"}},{"$f":"#REF!","v":{"$error":"#REF!"}},null,null,null,null,null,null,null,null,null,null,null,{"$f":"-HK20+HP9","v":0},0,null,null,null,null,null,null,null,null,null,null,null,null,null,null,null,null,null,null,null,null,null,null,null,null,null,null,null,null,null,null,null,null,null,null,null,null,null,null,null,null,null,null,null,null,null,null,null,null,null,null,null,null,null,null,null,null,null,null,null,null,null,null,null,null,null,null,null,null,null,null,null,null,null,null,null,null,null,null,null,null,null,null,null,null,null,null,null,null,null,null,null,null,null,null,null,null,null,null,null,null,null,null,null,null,null,null,null,null,null,null,null,null,null,null,null,null,null,null,null,null,null,null,null,null,null,null,null,null,null,null,null,null,null,null,null,null,null,null,null,null,null,null,null,null,null,null,null,null,null,null,null,null,null,null,null,null,null,null,null,null,"a2",{"$f":"TEXT(0,NV6)&\" رج بافت انتخابی یقه میبافیم\"","v":" خطا   رج بافت انتخابی یقه میبافیم"},null,null,"h10",{"$f":"NZ18","v":-21.5546875},{"$f":"OA18+0.5*NZ9","v":5.25},{"$f":"NZ23","v":-17.0546875},{"$f":"OA23","v":5.25},{"$f":"NY23","v":"h13"},null,"خطا",{"$f":"R46","v":" "},null,null,"h10",{"$f":"OK18","v":-24.854166666666668},{"$f":"OL18+0.5*OK9","v":5.25},{"$f":"OK23","v":-20.354166666666668},{"$f":"OL23","v":5.25},{"$f":"OJ23","v":"h13"},null,"خطا",{"$f":"U46","v":" "},null,null,"h10",{"$f":"OV18","v":-25.473958333333336},{"$f":"OW18+0.5*OV9","v":5.25},{"$f":"OV23","v":-20.973958333333336},{"$f":"OW23","v":5.25},{"$f":"OU23","v":"h13"},null,{"$f":"X21","v":12},"بافت انتخابی یقه ب ب",null,null,"h10",{"$f":"PG18","v":-20.205729166666668},{"$f":"PH18+0.5*PG9","v":5.25},{"$f":"PG23","v":-15.705729166666668},{"$f":"PH23","v":5.25},{"$f":"PF23","v":"h13"},null,{"$f":"X21","v":12},"بافت انتخابی یقه ب ب",null,null,"h10",{"$f":"PR18","v":-18.346354166666671},{"$f":"PS18+0.5*PR9","v":5.25},{"$f":"PR23","v":-13.846354166666671},{"$f":"PS23","v":5.25},{"$f":"PQ23","v":"h13"},null,null,null,null,null,null,null,null,{"$f":"PX31","v":-41.5},{"$f":"PY31","v":6.4285714285714288},{"$f":"PZ31","v":"t3"},null,2.3697643453632224,36.429923005970196,28,null,{"$f":"QI74","v":22.919110502054707},{"$f":"QJ74","v":27.963987506451357},"k''4",null,{"$f":"QQ15+QR7*SIN(RADIANS(10))","v":-19.83740728933228},{"$f":"QR15-QR7*COS(RADIANS(10))","v":3.9494958193589338},"k9",null,null,null,null,{"$f":"QQ34","v":-18.231999999999999},{"$f":"QR34","v":11.872443688816183},"k24",null,{"$f":"IF(PB20<11,\" مخصوص \",F8)","v":4.5},"انتخاب ضخامت میل بافتنی   f1",null,null,"h10",{"$f":"RG18","v":-26.622916666666669},{"$f":"RH18+0.5*RG9","v":5.25},{"$f":"RG23","v":-20.772916666666667},{"$f":"RH23","v":5.25},{"$f":"RF23","v":"h13"},null,null,{"$f":"2/SA5","v":0.84280936454849498},"c14",null,"پهنا عمودی",{"$f":"RR14-RR16","v":23.400688577032064}]
[null,null,null,null," b'22",{"$f":"F20*I36","v":27.548391710205422},null,null,null,null,null,null,null,"بافت انتخابی یقه شکاری",{"$f":"'متغیرها '!C847","v":14},null,null,"بافت انتخابی یقه شومیزیه",{"$f":"OFFSET(AJ6,S20,6)","v":"همه از زیر"},null,null,null,"بافت انتخابی یقه ب ب",{"$f":"'متغیرها '!C853","v":12},null,null,null,null,"بافت انتخابی یقه انگلیسی",{"$f":"'متغیرها '!C844","v":13},null,null,null,2.0571428571428569,2.9629629629629628,{"$f":"(10/3)*((AM21/AL21)*(1/J6)-1)","v":0.19400352733686049},{"$f":"(100/68)*((AO21/AN21)*(1/J7)-1)","v":4.2016806722688926E-2},13.5,40,17.5,36,"سبدی (5 تایی)",15,null,"سبدی (5 تایی)",24,40,null,null,null,null,null,null,null,null,null,null,null,null,null,null,null,null,null,null,null,null,null,null,null,null,null,null,null,null,null,null,null,null,null,null,null,null,null,null,null,"قد سرشانه تا زمین",{"$f":"0.5*(CJ17+CJ18+CJ19)","v":42},null,null,{"$f":"CI47","v":8},{"$f":"CJ47","v":25},"j13",null,"(d5 →d6)",{"$f":"5+0.1*CR20","v":9.08},null,null,null,null,null,null,null,null,null,null,null,{"$f":"DD18+'طراحی همه الگوها'!U192","v":20.700000000000003},{"$f":"DE14+'طراحی همه الگوها'!U194","v":20.6},10,null,{"$f":"DD20","v":20.700000000000003},{"$f":"DE20","v":8.6999999999999993},9,null,"طراحی چادر شماره 2",null,null,null,{"$f":"DM30","v":23.45},{"$f":"DN30","v":0},"s13",null,"s''13",{"$f":"DU20+0.3*(DU23-DU20)","v":20.202866018159803},{"$f":"DV23+0.5*(DV20-DV23)","v":11.607850594159235},null,33.599999999999994,0,"s'13",null,null,null,null,{"$f":"DB37+'طراحی همه الگوها'!U216","v":110},{"$f":"EF18","v":-44.2},9,null,{"$f":"EI20+0.5*(EI22-EI20)","v":68.44},{"$f":"EJ22+0.8*(EJ20-EJ22)","v":13.42},"14'",null,null,null,null,null,null,null,null,null,null,null,null,null,null,null,null,null,null,null,null,{"$f":"FF13+'طراحی همه الگوها'!U249-'طراحی همه الگوها'!U253","v":27.1},{"$f":"FG15","v":25},6,null,null,null,null,null,"s'11",{"$f":"FO22+0.4*(FO19-FO22)","v":10.103736783795311},{"$f":"FP22+0.1*(FP19-FP22)","v":8.7484027402997651},null,null,null,null,null,null,null,null,null,null,12,{"$f":"GB12+GE12*SIN(RADIANS(GA21)+GA14)","v":{"$error":"#DIV/0!"}},{"$f":"GC12+GE12*COS(RADIANS(GA21)+GA14)","v":{"$error":"#DIV/0!"}},{"$f":"IF(GB13>GB21,ATAN((GC13-GC21)/(GB13-GB21)),ATAN((GC13-GC21)/(GB21-GB13)))","v":{"$error":"#DIV/0!"}},{"$f":"IF(GB13>GB21,(GB13-GB21)/COS(GD21),(GB21-GB13)/COS(GD21))","v":{"$error":"#DIV/0!"}},null,1,2,"نقطه 3","نقطه قبل از چرخش",{"$f":"IF(GH21>GH18,IF(GG21>GG18,GG18+SQRT(POWER(GG21-GG18,2)+POWER(GH21-GH18,2))*COS(ATAN((GH21-GH18)/(GG21-GG18+0.000123))+GH16),GG18-SQRT(POWER(GG21-GG18,2)+POWER(GH21-GH18,2))*COS(ATAN((GH21-GH18)/(GG18-GG21+0.000123))-GH16)),IF(GG21>GG18,GG18+SQRT(POWER(GG21-GG18,2)+POWER(GH21-GH18,2))*COS(ATAN((GH18-GH21)/(GG21-GG18+0.000123))-GH16),GG18-SQRT(POWER(GG21-GG18,2)+POWER(GH21-GH18,2))*COS(ATAN((GH18-GH21)/(GG18-GG21+0.000123))+GH16)))","v":0.61824523267144293},{"$f":"IF(GH21>GH18,IF(GG21>GG18,GH18+SQRT(POWER(GG21-GG18,2)+POWER(GH21-GH18,2))*SIN(ATAN((GH21-GH18)/(GG21-GG18+0.000123))+GH16),GH18+SQRT(POWER(GG21-GG18,2)+POWER(GH21-GH18,2))*SIN(ATAN((GH21-GH18)/(GG18-GG21+0.000123))-GH16)),IF(GG21>GG18,GH18-SQRT(POWER(GG21-GG18,2)+POWER(GH21-GH18,2))*SIN(ATAN((GH18-GH21)/(GG21-GG18+0.000123))-GH16),GH18-SQRT(POWER(GG21-GG18,2)+POWER(GH21-GH18,2))*SIN(ATAN((GH18-GH21)/(GG18-GG21+0.000123))+GH16)))","v":0.69874634779839551},"نقطه چرخیده",null,"نقطه ورودی بالا","su3",{"$f":"#REF!","v":{"$error":"#REF!"}},{"$f":"#REF!","v":{"$error":"#REF!"}},null,null,{"$f":"GU20+GT11","v":-80},-1.3962634015954636,{"$f":"HB13+HB10*COS(GV21)","v":{"$error":"#REF!"}},{"$f":"HC13-HB10*SIN(GV21)","v":{"$error":"#REF!"}},{"$f":"SQRT(POWER((HB12-GW21),2)+POWER((HC12-GX21),2))","v":{"$error":"#REF!"}},{"$f":"ABS(HB9-GY21)","v":{"$error":"#REF!"}},null,null,null,null,null,null,null,null,null,null,null,null,null,null,{"$f":"-HK21+HP9","v":0},0,null,null,null,null,null,null,null,null,null,null,null,null,null,null,null,null,null,null,null,null,null,null,null,null,null,null,null,null,null,null,null,null,null,null,null,null,null,null,null,null,null,null,null,null,null,null,null,null,null,null,null,null,null,null,null,null,null,null,null,null,null,null,null,null,null,null,null,null,null,null,null,null,null,null,null,null,null,null,null,null,null,null,null,null,null,null,null,null,null,null,null,null,null,null,null,null,null,null,null,null,null,null,null,null,null,null,null,null,null,null,null,null,null,null,null,null,null,null,null,null,null,null,null,null,null,null,null,null,null,null,null,null,null,null,null,null,null,null,null,null,null,null,null,null,null,null,null,null,null,null,null,null,null,null,null,null,null,null,null,null,"a3",{"$f":"TEXT(0,NV7)&\" دانه\"","v":"10 دانه"},null,null,"h11",{"$f":"NZ18","v":-21.5546875},{"$f":"OA18-0.5*NZ9","v":4.75},null,null,null,null,"خطا",{"$f":"R47","v":"خطا : قد برگردان یقه شومیزیه زیاد شود "},null,null,"h11",{"$f":"OK18","v":-24.854166666666668},{"$f":"OL18-0.5*OK9","v":4.75},null,null,null,null,"خطا",{"$f":"U47","v":"خطا : قد برگردان یقه شومیزیه زیاد شود "},null,null,"h11",{"$f":"OV18","v":-25.473958333333336},{"$f":"OW18-0.5*OV9","v":4.75},null,null,null,null,{"$f":"X22","v":"همه از زیر"},"بافت انتخابی یقه ب ب",null,null,"h11",{"$f":"PG18","v":-20.205729166666668},{"$f":"PH18-0.5*PG9","v":4.75},null,null,null,null,{"$f":"X22","v":"همه از زیر"},"بافت انتخابی یقه ب ب",null,null,"h11",{"$f":"PR18","v":-18.346354166666671},{"$f":"PS18-0.5*PR9","v":4.75},null,null,null,null,null,"بعد از دانه اول یکدانه اضافه میکنیم","علامت اول",null,null,null,null,{"$f":"PX34","v":-48.5},{"$f":"PY34","v":6.4285714285714288},{"$f":"PZ34","v":"t6"},null,0,35.888726831407766,26,null,null,null,null,null,{"$f":"2*QQ15-QQ20","v":-21.22659271066772},{"$f":"QR20","v":3.9494958193589338},"k10",null,null,null,null,{"$f":"QQ32","v":-15.932},{"$f":"QR32","v":7.8887268314077659},"k22",null,{"$f":"AD21","v":13},{"$f":"AC21","v":"بافت انتخابی یقه انگلیسی"},null,null,"h11",{"$f":"RG18","v":-26.622916666666669},{"$f":"RH18-0.5*RG9","v":4.75},null,null,null,null,null,{"$f":"2/SD6","v":1.2847222222222221},"c15"]
[null,null,null,null," b12",{"$f":"IF(F37=F13,0,ROUND(F14/((F13-F37)*I37),0))","v":4},null," a0 تعداد رج در یک سانت جلو",{"$f":"F6+0.3*I24*F6","v":2.4338624338624335},null,null,null,null,"بافت انتخابی یقه شکاری",{"$f":"OFFSET(AJ6,O21,6)","v":"کشباف (دوتایی)"},null,null,{"$f":"ROUND(OF144-OF143-2/OG50,0)","v":15},{"$f":"(S18*40*(G46-2*F42)/I23/OG38)/OG50","v":7.291666666666667},null,null,null,"بافت انتخابی یقه ب ب",{"$f":"OFFSET(AJ6,X21,6)","v":"همه از زیر"},null,null,null,null,"بافت انتخابی یقه انگلیسی",{"$f":"OFFSET(AJ6,AD21,6)","v":"جودانه"},null,null,null,2.5714285714285716,2.8148148148148149,{"$f":"(10/3)*((AM22/AL22)*(1/J6)-1)","v":1.7636684303351156E-2},{"$f":"(100/68)*((AO22/AN22)*(1/J7)-1)","v":0.42016806722689093},13.5,38,14,36,"تمشکی",16,null,"تمشکی",62,31,null,null,null,null,null,null,null,null,null,null,null,null,null,null,null,null,null,null,null,null,null,null,null,null,null,null,null,null,null,null,null,null,null,null,null,null,null,null,null,"تمام قد",{"$f":"ROUND(CJ21+IF(CJ16>51.5,0.35,IF(CJ16>50.5,0.33,0.31))*CJ16,0)","v":54},null,null,null,null,null,null,"نقاط خروجی در مقنعه دراپه",null,null,null,{"$f":"CQ24","v":0},{"$f":"CR24","v":40.699999999999996},"d2",null,null,null,null,null,null,null,null,null,null,{"$f":"'طراحی همه الگوها'!U190+'طراحی همه الگوها'!U192+'طراحی همه الگوها'!U202","v":24.6},{"$f":"DE14+'طراحی همه الگوها'!U203","v":12.7},19,null,"اسم نقطه ","مولفه افقی","مولفه عمودی",null,null,null,null,null,"s'''13",{"$f":"DU20+0.55*(DU23-DU20)","v":24.987556725959873},{"$f":"DV23+0.25*(DV20-DV23)","v":5.8039252970796174},null,null,null,null,null,null,null,null,null,null,null,null,{"$f":"EE16","v":110},{"$f":"EF16+'طراحی همه الگوها'!U221","v":17.5},14,null,null,null,null,null,null,null,null,{"$f":"EP29","v":0},{"$f":"EQ37","v":23.081057043740515},12,null,{"$f":"EP33","v":7.493832906395582},{"$f":"EQ33","v":0.23551180309324726},7,null,null,null,null,null,{"$f":"FF13+'طراحی همه الگوها'!U249-'طراحی همه الگوها'!U253","v":27.1},{"$f":"FG15-'طراحی همه الگوها'!U254","v":17},7,null,{"$f":"FF18","v":0},{"$f":"FG18","v":21.5},5,null,"s11",{"$f":"0.7*FO15","v":2.0604272505034591},{"$f":"FP15-'طراحی همه الگوها'!U263+1.2*SQRT(POWER(FO15-FO14,2)+POWER(FP15-FP14,2))","v":6.7088043242392414},null,{"$f":"FO28","v":0},{"$f":"FP28","v":53.284999999999997},"s''17",null,null,null,null,null,null,14,{"$f":"GB12+GE12*SIN(RADIANS(GA22)+GA14)","v":{"$error":"#DIV/0!"}},{"$f":"GC12+GE12*COS(RADIANS(GA22)+GA14)","v":{"$error":"#DIV/0!"}},{"$f":"IF(GB13>GB22,ATAN((GC13-GC22)/(GB13-GB22)),ATAN((GC13-GC22)/(GB22-GB13)))","v":{"$error":"#DIV/0!"}},{"$f":"IF(GB13>GB22,(GB13-GB22)/COS(GD22),(GB22-GB13)/COS(GD22))","v":{"$error":"#DIV/0!"}},null,1,2,"نقطه 4","نقطه قبل از چرخش",{"$f":"IF(GH22>GH18,IF(GG22>GG18,GG18+SQRT(POWER(GG22-GG18,2)+POWER(GH22-GH18,2))*COS(ATAN((GH22-GH18)/(GG22-GG18+0.000123))+GH16),GG18-SQRT(POWER(GG22-GG18,2)+POWER(GH22-GH18,2))*COS(ATAN((GH22-GH18)/(GG18-GG22+0.000123))-GH16)),IF(GG22>GG18,GG18+SQRT(POWER(GG22-GG18,2)+POWER(GH22-GH18,2))*COS(ATAN((GH18-GH22)/(GG22-GG18+0.000123))-GH16),GG18-SQRT(POWER(GG22-GG18,2)+POWER(GH22-GH18,2))*COS(ATAN((GH18-GH22)/(GG18-GG22+0.000123))+GH16)))","v":0.61824523267144293},{"$f":"IF(GH22>GH18,IF(GG22>GG18,GH18+SQRT(POWER(GG22-GG18,2)+POWER(GH22-GH18,2))*SIN(ATAN((GH22-GH18)/(GG22-GG18+0.000123))+GH16),GH18+SQRT(POWER(GG22-GG18,2)+POWER(GH22-GH18,2))*SIN(ATAN((GH22-GH18)/(GG18-GG22+0.000123))-GH16)),IF(GG22>GG18,GH18-SQRT(POWER(GG22-GG18,2)+POWER(GH22-GH18,2))*SIN(ATAN((GH18-GH22)/(GG22-GG18+0.000123))-GH16),GH18-SQRT(POWER(GG22-GG18,2)+POWER(GH22-GH18,2))*SIN(ATAN((GH18-GH22)/(GG18-GG22+0.000123))+GH16)))","v":0.69874634779839551},"نقطه چرخیده",null,"نقطه ورودی پایین","sd3",{"$f":"#REF!","v":{"$error":"#REF!"}},{"$f":"#REF!","v":{"$error":"#REF!"}},null,"به روش تخمین",{"$f":"GU21+GT11","v":-78},-1.3613568165555769,{"$f":"HB13+HB10*COS(GV22)","v":{"$error":"#REF!"}},{"$f":"HC13-HB10*SIN(GV22)","v":{"$error":"#REF!"}},{"$f":"SQRT(POWER((HB12-GW22),2)+POWER((HC12-GX22),2))","v":{"$error":"#REF!"}},{"$f":"ABS(HB9-GY22)","v":{"$error":"#REF!"}},{"$f":"HA14","v":"k6"},{"$f":"#REF!","v":{"$error":"#REF!"}},{"$f":"#REF!","v":{"$error":"#REF!"}},null,null,null,null,null,null,null,null,null,null,null,{"$f":"-HK22+HP9","v":0},0,null,null,null,null,null,null,null,null,null,null,null,null,null,null,null,null,null,null,null,null,null,null,null,null,null,null,null,null,null,null,null,null,null,null,null,null,null,null,null,null,null,null,null,null,null,null,null,null,null,null,null,null,null,null,null,null,null,null,null,null,null,null,null,null,null,null,null,null,null,null,null,null,null,null,null,null,null,null,null,null,null,null,null,null,null,null,null,null,null,null,null,null,null,null,null,null,null,null,null,null,null,null,null,null,null,null,null,null,null,null,null,null,null,null,null,null,null,null,null,null,null,null,null,null,null,null,null,null,null,null,null,null,null,null,null,null,null,null,null,null,null,null,null,null,null,null,null,null,null,null,null,null,null,null,null,null,null,null,null,null,"a4",{"$f":"TEXT(0,NV8)&\" دانه\"","v":"19 دانه"},null,null,"h12",{"$f":"NZ19","v":-17.0546875},{"$f":"OA21","v":4.75},{"$f":"NZ19","v":-17.0546875},{"$f":"OA19","v":5},{"$f":"NY19","v":"h9"},null,"نوشته ها یقه شومیزیه نوک تیز",null,null,null,"h12",{"$f":"OK19","v":-20.354166666666668},{"$f":"OL21","v":4.75},{"$f":"OK19","v":-20.354166666666668},{"$f":"OL19","v":5},{"$f":"OJ19","v":"h9"},null,"نوشته ها یقه شومیزیه ",null,null,null,"h12",{"$f":"OV19","v":-20.973958333333336},{"$f":"OW21","v":4.75},{"$f":"OV19","v":-20.973958333333336},{"$f":"OW19","v":5},{"$f":"OU19","v":"h9"},null,{"$f":"I20","v":"جودانه"},"بافت انتخابی جادکمه",null,null,"h12",{"$f":"PG19","v":-15.705729166666668},{"$f":"PH21","v":4.75},{"$f":"PG19","v":-15.705729166666668},{"$f":"PH19","v":5},{"$f":"PF19","v":"h9"},null,{"$f":"I20","v":"جودانه"},"بافت انتخابی جادکمه",null,null,"h12",{"$f":"PR19","v":-13.846354166666671},{"$f":"PS21","v":4.75},{"$f":"PR19","v":-13.846354166666671},{"$f":"PS19","v":5},{"$f":"PQ19","v":"h9"},null,null,"قبل از دانه آخر یکدانه اضافه میکنیم","علامت دوم",null,"زاویه فلش",{"$f":"PY10","v":0.5},"f5",null,null,"فلش به سمت چپ",null,null,null,"پهلو صاف",null,{"$f":"QI74","v":22.919110502054707},{"$f":"QJ74","v":27.963987506451357},"k''4",null,{"$f":"QQ15+QR7*SIN(RADIANS(30))","v":-18.532},{"$f":"QR15-QR7*COS(RADIANS(30))","v":4.4246252162700106},"k11",null,null,null,null,{"$f":"QQ30","v":-16.548283142591583},{"$f":"QR30","v":5.5887268314077652},"k20",null,{"$f":"AD22","v":"جودانه"},{"$f":"AC22","v":"بافت انتخابی یقه انگلیسی"},null,null,"h12",{"$f":"RG19","v":-20.772916666666667},{"$f":"RH21","v":4.75},{"$f":"RG19","v":-20.772916666666667},{"$f":"RH19","v":5},{"$f":"RF19","v":"h9"},null,null,{"$f":"2/SD5","v":0.84280936454849498},"c16"]
[null,null,null,null,"محاسبات در بافت بالاتنه و آستین (بافت انتخابی) ",null,null,"تعداد دانه در یک سانت جلوb0 ",{"$f":"F7+0.68*I25*F7","v":1.6457142857142857},null,null,"محاسبات یقه شکاری ",null,null,null,null,null,"پهنای یقه منهای جادکمه روی نقشه بافت","پهنای یقه منهای جادکمه روی بافت",null,null,null,"محاسبات یقه ب ب",null,null,null,null,null,"یقه انگلیسی ",null,null,null,null,2.5714285714285716,2.8148148148148149,{"$f":"(10/3)*((AM23/AL23)*(1/J6)-1)","v":1.7636684303351156E-2},{"$f":"(100/68)*((AO23/AN23)*(1/J7)-1)","v":0.42016806722689093},13.5,38,14,36,"کج راه",17,null,"کج راه",62,31,null,null,null,null,null,null,null,null,null,null,null,null,null,null,null,null,null,null,null,null,null,null,null,null,null,null,null,null,null,null,null,null,null,null,null,null,null,null,null,"j4",{"$f":"IF('متغیرها '!C5<1,'متغیرها '!C5*'متغیرها '!U59,IF('متغیرها '!C5<2,'متغیرها '!U59+('متغیرها '!C5-1)*('متغیرها '!U60-'متغیرها '!U59),IF('متغیرها '!C5<3,'متغیرها '!U60+('متغیرها '!C5-2)*(I105-'متغیرها '!U60),I105+('متغیرها '!C5-3)*(H127-H126))))","v":25},null,null,{"$f":"CI46","v":8},{"$f":"CJ46","v":52.099999999999994},"j12",null,"مولفه افقی","مولفه عمودی","اسم نقطه",null,null,null,null,null,null,null,null,null,null,{"$f":"DD18+'طراحی همه الگوها'!U192","v":20.700000000000003},{"$f":"DE14","v":0},8,null,{"$f":"DD25","v":28.4},{"$f":"DE25","v":17.484000000000002},7,null,"s6",{"$f":"DM16","v":0},{"$f":"1.003*DN16","v":54.825985999999986},null,{"$f":"DM34","v":0},{"$f":"DN34","v":53.284999999999997},"s17",null,"s'13",{"$f":"DM19+0.5*('طراحی همه الگوها'!U216+'طراحی همه الگوها'!U210-'طراحی همه الگوها'!U217-'طراحی همه الگوها'!U218)","v":33.599999999999994},{"$f":"EC35+DM44","v":0},null,{"$f":"DU27","v":0},{"$f":"DV27","v":53.284999999999997},"s'17",null,null,null,null,{"$f":"DB37","v":0},{"$f":"EF14","v":26.099999999999998},4,null,null,null,null,null,null,null,null,null,null,null,null,{"$f":"EP37","v":22.698127676088177},{"$f":"EQ37","v":23.081057043740515},11,null,{"$f":"EX22+0.3*(EX25-EX22)","v":12.828236738934642},{"$f":"MIN(EY22,EY25)+IF(EY25>EY22,0.15,0.9)*ABS(EY25-EY22)","v":0.5873545228827699},"7''",null,null,null,null,null,null,null,null,null,{"$f":"FJ22+'طراحی همه الگوها'!U264","v":10.8},{"$f":"FG17-'طراحی همه الگوها'!U265","v":21},20,null,"s12",{"$f":"FO24","v":10.7},{"$f":"FP24+'طراحی همه الگوها'!U257","v":27.165691432475338},null,{"$f":"FO29","v":2.1238199999999998},{"$f":"FP29","v":51.870365},"s''18",null,null,null,null,null,null,16,{"$f":"GB12+GE12*SIN(RADIANS(GA23)+GA14)","v":{"$error":"#DIV/0!"}},{"$f":"GC12+GE12*COS(RADIANS(GA23)+GA14)","v":{"$error":"#DIV/0!"}},{"$f":"IF(GB13>GB23,ATAN((GC13-GC23)/(GB13-GB23)),ATAN((GC13-GC23)/(GB23-GB13)))","v":{"$error":"#DIV/0!"}},{"$f":"IF(GB13>GB23,(GB13-GB23)/COS(GD23),(GB23-GB13)/COS(GD23))","v":{"$error":"#DIV/0!"}},null,1,2,"نقطه 5","نقطه قبل از چرخش",{"$f":"IF(GH23>GH18,IF(GG23>GG18,GG18+SQRT(POWER(GG23-GG18,2)+POWER(GH23-GH18,2))*COS(ATAN((GH23-GH18)/(GG23-GG18+0.000123))+GH16),GG18-SQRT(POWER(GG23-GG18,2)+POWER(GH23-GH18,2))*COS(ATAN((GH23-GH18)/(GG18-GG23+0.000123))-GH16)),IF(GG23>GG18,GG18+SQRT(POWER(GG23-GG18,2)+POWER(GH23-GH18,2))*COS(ATAN((GH18-GH23)/(GG23-GG18+0.000123))-GH16),GG18-SQRT(POWER(GG23-GG18,2)+POWER(GH23-GH18,2))*COS(ATAN((GH18-GH23)/(GG18-GG23+0.000123))+GH16)))","v":0.61824523267144293},{"$f":"IF(GH23>GH18,IF(GG23>GG18,GH18+SQRT(POWER(GG23-GG18,2)+POWER(GH23-GH18,2))*SIN(ATAN((GH23-GH18)/(GG23-GG18+0.000123))+GH16),GH18+SQRT(POWER(GG23-GG18,2)+POWER(GH23-GH18,2))*SIN(ATAN((GH23-GH18)/(GG18-GG23+0.000123))-GH16)),IF(GG23>GG18,GH18-SQRT(POWER(GG23-GG18,2)+POWER(GH23-GH18,2))*SIN(ATAN((GH18-GH23)/(GG23-GG18+0.000123))-GH16),GH18-SQRT(POWER(GG23-GG18,2)+POWER(GH23-GH18,2))*SIN(ATAN((GH18-GH23)/(GG18-GG23+0.000123))+GH16)))","v":0.69874634779839551},"نقطه چرخیده",null,"متغیر ورودی پهنا","a20",{"$f":"#REF!","v":{"$error":"#REF!"}},"(سانتیمتر)",null,"بهینه α1",{"$f":"GU22+GT11","v":-76},-1.3264502315156905,{"$f":"HB13+HB10*COS(GV23)","v":{"$error":"#REF!"}},{"$f":"HC13-HB10*SIN(GV23)","v":{"$error":"#REF!"}},{"$f":"SQRT(POWER((HB12-GW23),2)+POWER((HC12-GX23),2))","v":{"$error":"#REF!"}},{"$f":"ABS(HB9-GY23)","v":{"$error":"#REF!"}},{"$f":"HA12","v":"پشتk''5"},{"$f":"HB12","v":{"$error":"#REF!"}},{"$f":"HC12","v":{"$error":"#REF!"}},null,null,null,null,null,null,null,null,null,null,null,{"$f":"-HK23+HP9","v":0},0,null,null,null,null,null,null,null,null,null,null,null,null,null,null,null,null,null,null,null,null,null,null,null,null,null,null,null,null,null,null,null,null,null,null,null,null,null,null,null,null,null,null,null,null,null,null,null,null,null,null,null,null,null,null,null,null,null,null,null,null,null,null,null,null,null,null,null,null,null,null,null,null,null,null,null,null,null,null,null,null,null,null,null,null,null,null,null,null,null,null,null,null,null,null,null,null,null,null,null,null,null,null,null,null,null,null,null,null,null,null,null,null,null,null,null,null,null,null,null,null,null,null,null,null,null,null,null,null,null,null,null,null,null,null,null,null,null,null,null,null,null,null,null,null,null,null,null,null,null,null,null,null,null,null,null,null,null,null,null,null,"a5",{"$f":"TEXT(0,NV9)&\" دانه\"","v":"29 دانه"},null,null,"h13",{"$f":"NZ19","v":-17.0546875},{"$f":"OA20","v":5.25},{"$f":"NZ15","v":-3.6093750000000036},{"$f":"OA15","v":5},{"$f":"NY15","v":"w2"},null,{"$f":"OF5","v":"e1"},{"$f":"TEXT(0,OG5)&\" دانه سر می اندازیم\"","v":"40 دانه سر می اندازیم"},null,null,"h13",{"$f":"OK19","v":-20.354166666666668},{"$f":"OL20","v":5.25},{"$f":"OK15","v":-10.208333333333336},{"$f":"OL15","v":5},{"$f":"OJ15","v":"m2"},null,{"$f":"OQ5","v":"e1"},{"$f":"TEXT(0,OR5)&\" دانه سر می اندازیم\"","v":"38 دانه سر می اندازیم"},null,null,"h13",{"$f":"OV19","v":-20.973958333333336},{"$f":"OW20","v":5.25},{"$f":"OV15","v":-11.447916666666671},{"$f":"OW15","v":5},{"$f":"OU15","v":"m2"},null,"نوشته ها یقه ب ب ",null,null,null,"h13",{"$f":"PG19","v":-15.705729166666668},{"$f":"PH20","v":5.25},{"$f":"PG15","v":-0.9114583333333357},{"$f":"PH15","v":5},{"$f":"PF15","v":"n2"},null,"نوشته ها یقه ب ب ",null,null,null,"h13",{"$f":"PR19","v":-13.846354166666671},{"$f":"PS20","v":5.25},{"$f":"PR15","v":2.8072916666666572},{"$f":"PS15","v":5},{"$f":"PQ15","v":"n2"},null,null,"یک رج درمیان یکدانه کم میکنیم","علامت سوم",null,"بزرگی فلش",{"$f":"PY16","v":0.57142857142857151},"f4",{"$f":"QC25","v":-45},{"$f":"QD25","v":6.4285714285714288},{"$f":"QB25","v":"t5"},null,{"$f":"FN173","v":11.64122823458538},{"$f":"FO173","v":18.265691432475336},"شیفت9",null,{"$f":"QI73","v":9.4652951301894817},{"$f":"QJ73","v":39.900221486683812},"22f",null,{"$f":"2*QQ15-QQ22","v":-22.532},{"$f":"QR22","v":4.4246252162700106},"k12",null,null,null,null,{"$f":"QQ28","v":-18.231999999999999},{"$f":"QR28","v":3.905009973999348},"k18",null,"نوشته ها یقه انگلیسی ",null,null,null,"h13",{"$f":"RG19","v":-20.772916666666667},{"$f":"RH20","v":5.25},{"$f":"RG15","v":-12.395833333333336},{"$f":"RH15","v":5},{"$f":"RF15","v":"p2"},null,"متغیرهای  ورودی ",null,null,null,null,null,null,null,null,null,null,"توری بافت آستین",null,null,null,null,null,null,null,null,"متغیرهای  ورودی ",null,null,null,null,null,null,null,null,null,null,"توری بافت یقه و کلاه",null,null,null,null,null,null,null,null,"متغیرهای  ورودی ",null,null,null,null,null,null,null,null,null,null,"توری بافت جلو پیراهن",null,null,null,null,null,null,null,null,"متغیرهای  ورودی ",null,null,null,null,null,null,null,null,null,null,"توری بافت پشت پیراهن",null,null,null,null,null,null,null,null,"متغیرهای  ورودی ",null,null,null,null,null,null,null,null,null,null,"توری بافت جلو شلوار",null,null,null,null,null,null,null,null,"متغیرهای  ورودی ",null,null,null,null,null,null,null,null,null,null,"توری بافت پشت شلوار"]
[null,null,null,null,"تعداد دانه ها  دور گردن + دو تا نیمه جادکمه که از خط مرکزی اضافه شده",{"$f":"F26+2*F25","v":74},null,"جمع شوندگی عمودی بافت جلو   f2",{"$f":"OFFSET(AJ6,I26,0)","v":0.19400352733686049},null,null,"a10","a11","a22","a22",null,"محاسبات یقه شومیزیه تا خط جادکمه",null,null,null,null,null,"c10","c11","c22","c22",null,null,"d14","d15","d22","d22",null,2.88,3.1111111111111112,{"$f":"(10/3)*((AM24/AL24)*(1/J6)-1)","v":0.37037037037037057},{"$f":"(100/68)*((AO24/AN24)*(1/J7)-1)","v":0.64705882352941169},13.5,42,12.5,36,"تیغ ماهی",18,null,"تیغ ماهی",85,49,null,null,null,null,null,null,null,null,null,null,null,null,null,null,null,null,null,null,null,null,null,null,null,null,null,null,null,null,null,null,null,null,null,null,null,null,null,null,null,"رسم دستی چادر 1 یا مقنعه چانه دار(بر حسب سانتیمتر)",null,null,null,{"$f":"CI38","v":8},{"$f":"CJ38","v":57.8},"j3",null,{"$f":"CQ14","v":0},{"$f":"CR16+0.1*'متغیرها '!U85-CR19+CR17","v":40.699999999999996},"d2",null,null,null,"انحنا",null,null,null,null,null,null,{"$f":"DB37+'طراحی همه الگوها'!U189","v":28.4},{"$f":"DE14","v":0},6,null,null,null,null,null,"s7",{"$f":"DM23+0.12*(DM27-DM23)","v":1.7801097268135198},{"$f":"DN27+0.94*(DN23-DN27)","v":53.798398131916379},null,{"$f":"DM35","v":2.1238199999999998},{"$f":"DN35","v":51.870365},"s18",null,"s'14",{"$f":"DM13+DM42*COS(DM40)","v":4.2476399999999996},{"$f":"DN13-DM42*SIN(DM40)","v":48.56955},null,{"$f":"DU28","v":2.5485839999999995},{"$f":"DV28","v":51.870365},"s'18",null,null,null,null,{"$f":"DB37+'طراحی همه الگوها'!U213","v":20.6},{"$f":"EF14","v":26.099999999999998},5,null,{"$f":"EI20","v":26.879999999999995},{"$f":"EJ20","v":12.4},16,null,null,null,null,null,null,null,null,null,null,null,null,{"$f":"EX22+0.7*(EX25-EX22)","v":19.940775182320053},{"$f":"MIN(EY22,EY25)+0.5*ABS(EY25-EY22)","v":1.4083208690583227},"7'''",null,null,null,null,null,{"$f":"FF15","v":40.5},{"$f":"FG15","v":25},4,null,{"$f":"FJ22+'طراحی همه الگوها'!U266","v":21.7},{"$f":"FG17-'طراحی همه الگوها'!U267","v":19},22,null,"41 شبیه ساز",{"$f":"DT395","v":10.7},{"$f":"DU395","v":25.365691432475337},null,{"$f":"FO12","v":4.2476399999999996},{"$f":"FP12","v":48.56955},"s3",null,null,null,null,null,null,18,{"$f":"GB12+GE12*SIN(RADIANS(GA24)+GA14)","v":{"$error":"#DIV/0!"}},{"$f":"GC12+GE12*COS(RADIANS(GA24)+GA14)","v":{"$error":"#DIV/0!"}},{"$f":"IF(GB13>GB24,ATAN((GC13-GC24)/(GB13-GB24)),ATAN((GC13-GC24)/(GB24-GB13)))","v":{"$error":"#DIV/0!"}},{"$f":"IF(GB13>GB24,(GB13-GB24)/COS(GD24),(GB24-GB13)/COS(GD24))","v":{"$error":"#DIV/0!"}},null,1,2,"نقطه 6","نقطه قبل از چرخش",{"$f":"IF(GH24>GH18,IF(GG24>GG18,GG18+SQRT(POWER(GG24-GG18,2)+POWER(GH24-GH18,2))*COS(ATAN((GH24-GH18)/(GG24-GG18+0.000123))+GH16),GG18-SQRT(POWER(GG24-GG18,2)+POWER(GH24-GH18,2))*COS(ATAN((GH24-GH18)/(GG18-GG24+0.000123))-GH16)),IF(GG24>GG18,GG18+SQRT(POWER(GG24-GG18,2)+POWER(GH24-GH18,2))*COS(ATAN((GH18-GH24)/(GG24-GG18+0.000123))-GH16),GG18-SQRT(POWER(GG24-GG18,2)+POWER(GH24-GH18,2))*COS(ATAN((GH18-GH24)/(GG18-GG24+0.000123))+GH16)))","v":0.61824523267144293},{"$f":"IF(GH24>GH18,IF(GG24>GG18,GH18+SQRT(POWER(GG24-GG18,2)+POWER(GH24-GH18,2))*SIN(ATAN((GH24-GH18)/(GG24-GG18+0.000123))+GH16),GH18+SQRT(POWER(GG24-GG18,2)+POWER(GH24-GH18,2))*SIN(ATAN((GH24-GH18)/(GG18-GG24+0.000123))-GH16)),IF(GG24>GG18,GH18-SQRT(POWER(GG24-GG18,2)+POWER(GH24-GH18,2))*SIN(ATAN((GH18-GH24)/(GG24-GG18+0.000123))-GH16),GH18-SQRT(POWER(GG24-GG18,2)+POWER(GH24-GH18,2))*SIN(ATAN((GH18-GH24)/(GG18-GG24+0.000123))+GH16)))","v":0.69874634779839551},"نقطه چرخیده",null,"متغیر ورودی طول","a21",1,null,null,{"$f":"IF(GZ12>GZ11,GU11,IF(GZ13>GZ12,GU12,IF(GZ14>GZ13,GU13,IF(GZ15>GZ14,GU14,IF(GZ16>GZ15,GU15,IF(GZ17>GZ16,GU16,IF(GZ18>GZ17,GU17,IF(GZ19>GZ18,GU18,IF(GZ20>GZ19,GU19,IF(GZ21>GZ20,GU20,IF(GZ22>GZ21,GU21,IF(GZ23>GZ22,GU22,IF(GZ24>GZ23,GU23,IF(GZ25>GZ24,GU24,IF(GZ26>GZ25,GU25,IF(GZ27>GZ26,GU26,IF(GZ28>GZ27,GU27,IF(GZ29>GZ28,GU28,IF(GZ30>GZ29,GU29,IF(GZ31>GZ30,GU30,IF(GZ32>GZ31,GU31,IF(GZ33>GZ32,GU32,IF(GZ34>GZ33,GU33,IF(GZ35>GZ34,GU34,IF(GZ36>GZ35,GU35,IF(GZ37>GZ36,GU36,IF(GZ38>GZ37,GU37,IF(GZ39>GZ38,GU38,IF(GZ40>GZ39,GU39,IF(GZ41>GZ40,GU40,IF(GZ42>GZ41,GU41,IF(GZ43>GZ42,GU42,IF(GZ44>GZ43,GU43,IF(GZ45>GZ44,GU44,IF(GZ46>GZ45,GU45,IF(GZ47>GZ46,GU46,IF(GZ48>GZ47,GU47,IF(GZ49>GZ48,GU48,IF(GZ50>GZ49,GU49,IF(GZ51>GZ50,GU50,IF(GZ52>GZ51,GU51,GU52)))))))))))))))))))))))))))))))))))))))))","v":{"$error":"#REF!"}},{"$f":"GU23+GT11","v":-74},-1.2915436464758039,{"$f":"HB13+HB10*COS(GV24)","v":{"$error":"#REF!"}},{"$f":"HC13-HB10*SIN(GV24)","v":{"$error":"#REF!"}},{"$f":"SQRT(POWER((HB12-GW24),2)+POWER((HC12-GX24),2))","v":{"$error":"#REF!"}},{"$f":"ABS(HB9-GY24)","v":{"$error":"#REF!"}},null,null,null,null,null,null,null,null,null,null,null,null,null,null,{"$f":"-HK24+HP9","v":0},0,null,null,null,null,null,null,null,null,null,null,null,null,null,null,null,null,null,null,null,null,null,null,null,null,null,null,null,null,null,null,null,null,null,null,null,null,null,null,null,null,null,null,null,null,null,null,null,null,null,null,null,null,null,null,null,null,null,null,null,null,null,null,null,null,null,null,null,null,null,null,null,null,null,null,null,null,null,null,null,null,null,null,null,null,null,null,null,null,null,null,null,null,null,null,null,null,null,null,null,null,null,null,null,null,null,null,null,null,null,null,null,null,null,null,null,null,null,null,null,null,null,null,null,null,null,null,null,null,null,null,null,null,null,null,null,null,null,null,null,null,null,null,null,null,null,null,null,null,null,null,null,null,null,null,null,null,null,null,null,null,"a6",{"$f":"TEXT(0,NV10)&\" رج مثل رج قبل میبافیم\"","v":"2 رج مثل رج قبل میبافیم"},null,null,null,null,null,null,null,null,null,"e2",{"$f":"TEXT(0,OG6)&\" رج مثل رج قبل میبافیم\"","v":"0 رج مثل رج قبل میبافیم"},null,null,null,null,null,null,null,null,null,"e2",{"$f":"TEXT(0,OR6)&\" رج مثل رج قبل میبافیم\"","v":"0 رج مثل رج قبل میبافیم"},null,null,null,null,null,null,null,null,null,{"$f":"PB5","v":"c1"},{"$f":"TEXT(0,PC5)&\" دانه سر می اندازیم\"","v":"55 دانه سر می اندازیم"},null,null,null,null,null,null,null,null,null,{"$f":"PM5","v":"c1"},{"$f":"TEXT(0,PN5)&\" دانه سر می اندازیم\"","v":"61 دانه سر می اندازیم"},null,null,null,null,null,null,null,null,null,null,"بکدانه کم میکنیم","علامت چهارم",null,"نقطه ورودی سر فلش","مولفه افقی","مولفه عمودی",{"$f":"QC27","v":-44.428571428571431},{"$f":"QD27","v":6.7142857142857144},{"$f":"QB27","v":"f3"},null,{"$f":"AZ113","v":11.25},{"$f":"BA113","v":29.530675303443079},12,null,{"$f":"QI61","v":5.9244108634080561},{"$f":"QJ61","v":41.300688577032062},25,null,{"$f":"QQ15+QR7*SIN(RADIANS(60))","v":-17.067898384862247},{"$f":"QR15-QR7*COS(RADIANS(60))","v":5.8887268314077659},"k13",null,null,null,null,{"$f":"QQ37","v":-17.932000000000002},{"$f":"QR37","v":3.3853947317286845},"k27",null,{"$f":"RB5","v":"d1"},{"$f":"TEXT(0,RC5)&\" دانه سر می اندازیم\"","v":"31 دانه سر می اندازیم"},null,null,null,null,null,null,null,null,null,"c3",{"$f":"IF(RR18=1,RR17,'متغیرها '!C886)","v":0},"جابجایی افقی ",null,null,"رسم توری اصلی عمودی بافت ",null,null,null,"محاسبات رسم افقی",null,null,null,"رسم توری اصلی افقی بافت ",null,null,null,"رسم توری فرعی افقی بافت ",null,null,"c3",{"$f":"IF(RR18=1,RR17,'متغیرها '!C892)","v":0},"جابجایی افقی ",null,null,"رسم توری اصلی عمودی بافت ",null,null,null,"محاسبات رسم افقی",null,null,null,"رسم توری اصلی افقی بافت ",null,null,null,"رسم توری فرعی افقی بافت ",null,null,"c3",{"$f":"IF(RR18=1,RR17,'متغیرها '!C898)","v":0},"جابجایی افقی ",null,null,"رسم توری اصلی عمودی بافت ",null,null,null,"محاسبات رسم افقی",null,null,null,"رسم توری اصلی افقی بافت ",null,null,null,"رسم توری فرعی افقی بافت ",null,null,"c3",{"$f":"IF(RR18=1,RR17,'متغیرها '!C904)","v":0},"جابجایی افقی ",null,null,"رسم توری اصلی عمودی بافت ",null,null,null,"محاسبات رسم افقی",null,null,null,"رسم توری اصلی افقی بافت ",null,null,null,"رسم توری فرعی افقی بافت ",null,null,"c3",{"$f":"IF(RR18=1,RR17,'متغیرها '!C910)","v":0},"جابجایی افقی ",null,null,"رسم توری اصلی عمودی بافت ",null,null,null,"محاسبات رسم افقی",null,null,null,"رسم توری اصلی افقی بافت ",null,null,null,"رسم توری فرعی افقی بافت ",null,null,"c3",{"$f":"IF(RR18=1,RR17,'متغیرها '!C916)","v":0},"جابجایی افقی ",null,null,"رسم توری اصلی عمودی بافت ",null,null,null,"محاسبات رسم افقی",null,null,null,"رسم توری اصلی افقی بافت ",null,null,null,"رسم توری فرعی افقی بافت "]
[null,null,null,null," b2  (بدون اعمال بافت اننتخابی) تعداد دانه های اضافه شده  از خط مرکزی تا خط جادکمه = نیمه جادکمه",{"$f":"ROUNDUP(F7*(-AX147),0)","v":13},null,"جمع شوندگی افقی بافت جلو   f3",{"$f":"OFFSET(AJ6,I26,1)","v":4.2016806722688926E-2},null,null,{"$f":"IF(((O33-(G46-2*O41))/(O33+(G46-2*O41)))<1,1,ABS(ROUND(O33/(O33-(G46-2*O41+0.001)),0)))","v":1},{"$f":"IF(((O33-(G46-2*O41))/(O33+(G46-2*O41)))<1,1,ABS(ROUND(O33/(O33-(G46-2*O41)+0.0001),0)-1))","v":1},{"$f":"O33-(O33/L25)*(L25-M25)-(G46-2*O41)","v":40},{"$f":"ROUNDDOWN(ABS(N25),0)","v":40},null,"e10","e11","e22","e22",null,null,{"$f":"IF(((X15-X16)/(X15+X16))<1,1,ABS(ROUND(X15/(X15-(X16+0.0001)),0)))","v":1},{"$f":"IF(((X15-X16)/(X15+X16))<1,1,ABS(ROUND(X15/(X15-X16+0.0001),0)-1))","v":1},{"$f":"X15-(X15/W25)*(W25-X25)-X16","v":8},{"$f":"ROUNDDOWN(ABS(Y25),0)","v":8},null,null,{"$f":"IF(((AD15-AD16)/(AD15+AD16))<1,1,ABS(ROUND(AD15/(AD15-(AD16+0.0001)),0)))","v":1},{"$f":"IF(((AD15-AD16)/(AD15+AD16))<1,1,ABS(ROUND(AD15/(AD15-AD16+0.0001),0)-1))","v":1},{"$f":"AD15-(AD15/AC25)*(AC25-AD25)-AD16","v":-2},{"$f":"ROUNDDOWN(ABS(AE25),0)","v":2},null,3.4285714285714284,2.6666666666666665,{"$f":"(10/3)*((AM25/AL25)*(1/J6)-1)","v":-0.15873015873015892},{"$f":"(100/68)*((AO25/AN25)*(1/J7)-1)","v":1.0504201680672269},13.5,36,10.5,36,"اسموکینگ",19,null,"اسموکینگ",125,22,null,null,null,null,null,null,null,null,null,null,null,null,null,null,null,null,null,null,null,null,null,null,null,null,null,null,null,null,null,null,null,null,null,null,null,null,null,null,null,null,null,null,null,null,null,null,null,{"$f":"CQ24","v":0},{"$f":"CR24+1.41*CR19","v":64.810999999999993},"d3",null,{"$f":"CQ27","v":0},{"$f":"CR27","v":15.200999999999999},"d6",null,null,null,null,null,null,{"$f":"DB37+'طراحی همه الگوها'!U189","v":28.4},{"$f":"DE14+'طراحی همه الگوها'!U191","v":17.484000000000002},7,null,{"$f":"DD15","v":0},{"$f":"DE15","v":63.1},1,null,"s8",{"$f":"DM23+0.4*(DM27-DM23)","v":5.9336990893783996},{"$f":"DN27+0.5*(DN23-DN27)","v":46.262753765969933},null,{"$f":"DM31","v":4.2476399999999996},{"$f":"DN31","v":48.56955},"s14",null,"s'16",{"$f":"DM15","v":0},{"$f":"DN15","v":32.200000000000003},null,{"$f":"DU24","v":4.2476399999999996},{"$f":"DV24","v":48.56955},"s'14",null,null,null,null,{"$f":"DB37+'طراحی همه الگوها'!U213+'طراحی همه الگوها'!U214","v":28.5},{"$f":"EF14","v":26.099999999999998},6,null,{"$f":"EI20","v":26.879999999999995},{"$f":"EF15","v":0},15,null,null,"(3 →6)",{"$f":"ROUND(0.2*(EP34-EP30),1)","v":5.7},null,null,null,null,{"$f":"EP29","v":0},{"$f":"EQ34","v":2.581129935023398},14,null,{"$f":"EP34","v":25.275179014859113},{"$f":"EQ34","v":2.581129935023398},8,null,null,null,null,null,{"$f":"FF15","v":40.5},{"$f":"FG15+'طراحی همه الگوها'!U257","v":26.8},9,null,{"$f":"FF22","v":27.1},{"$f":"FG22","v":17},7,null,"41'",{"$f":"FO24+0.5*(FO27-FO24)","v":15.475},{"$f":"FP27+0.7*(FP24-FP27)","v":17.755984002732735},null,null,null,null,null,null,null,null,null,null,20,{"$f":"GB12+GE12*SIN(RADIANS(GA25)+GA14)","v":{"$error":"#DIV/0!"}},{"$f":"GC12+GE12*COS(RADIANS(GA25)+GA14)","v":{"$error":"#DIV/0!"}},{"$f":"IF(GB13>GB25,ATAN((GC13-GC25)/(GB13-GB25)),ATAN((GC13-GC25)/(GB25-GB13)))","v":{"$error":"#DIV/0!"}},{"$f":"IF(GB13>GB25,(GB13-GB25)/COS(GD25),(GB25-GB13)/COS(GD25))","v":{"$error":"#DIV/0!"}},null,1,2,"نقطه 7","نقطه قبل از چرخش",{"$f":"IF(GH25>GH18,IF(GG25>GG18,GG18+SQRT(POWER(GG25-GG18,2)+POWER(GH25-GH18,2))*COS(ATAN((GH25-GH18)/(GG25-GG18+0.000123))+GH16),GG18-SQRT(POWER(GG25-GG18,2)+POWER(GH25-GH18,2))*COS(ATAN((GH25-GH18)/(GG18-GG25+0.000123))-GH16)),IF(GG25>GG18,GG18+SQRT(POWER(GG25-GG18,2)+POWER(GH25-GH18,2))*COS(ATAN((GH18-GH25)/(GG25-GG18+0.000123))-GH16),GG18-SQRT(POWER(GG25-GG18,2)+POWER(GH25-GH18,2))*COS(ATAN((GH18-GH25)/(GG18-GG25+0.000123))+GH16)))","v":0.61824523267144293},{"$f":"IF(GH25>GH18,IF(GG25>GG18,GH18+SQRT(POWER(GG25-GG18,2)+POWER(GH25-GH18,2))*SIN(ATAN((GH25-GH18)/(GG25-GG18+0.000123))+GH16),GH18+SQRT(POWER(GG25-GG18,2)+POWER(GH25-GH18,2))*SIN(ATAN((GH25-GH18)/(GG18-GG25+0.000123))-GH16)),IF(GG25>GG18,GH18-SQRT(POWER(GG25-GG18,2)+POWER(GH25-GH18,2))*SIN(ATAN((GH18-GH25)/(GG25-GG18+0.000123))-GH16),GH18-SQRT(POWER(GG25-GG18,2)+POWER(GH25-GH18,2))*SIN(ATAN((GH18-GH25)/(GG18-GG25+0.000123))+GH16)))","v":0.69874634779839551},"نقطه چرخیده",null,null,null,"ماکزیمم متغیر ورودی  ضریب طول",1,null,null,{"$f":"GU24+GT11","v":-72},-1.2566370614359172,{"$f":"HB13+HB10*COS(GV25)","v":{"$error":"#REF!"}},{"$f":"HC13-HB10*SIN(GV25)","v":{"$error":"#REF!"}},{"$f":"SQRT(POWER((HB12-GW25),2)+POWER((HC12-GX25),2))","v":{"$error":"#REF!"}},{"$f":"ABS(HB9-GY25)","v":{"$error":"#REF!"}},null,null,null,null,null,null,null,null,null,null,null,null,null,null,{"$f":"-HK25+HP9","v":0},0,null,null,null,null,null,null,null,null,null,null,null,null,null,null,null,null,null,null,null,null,null,null,null,null,null,null,null,null,null,null,null,null,null,null,null,null,null,null,null,null,null,null,null,null,null,null,null,null,null,null,null,null,null,null,null,null,null,null,null,null,null,null,null,null,null,null,null,null,null,null,null,null,null,null,null,null,null,null,null,null,null,null,null,null,null,null,null,null,null,null,null,null,null,null,null,null,null,null,null,null,null,null,null,null,null,null,null,null,null,null,null,null,null,null,null,null,null,null,null,null,null,null,null,null,null,null,null,null,null,null,null,null,null,null,null,null,null,null,null,null,null,null,null,null,null,null,null,null,null,null,null,null,null,null,null,null,null,null,null,null,"a10,a11,b1",{"$f":"\"تعداد دانه ها\"&TEXT(0,NV5)&\"میباشد. هر\"&TEXT(0,NV11)&\"  دانه را تبدیل به  \"&TEXT(0,NV12)&\"  دانه میکنیم تا تعداد دانه ها  \"&TEXT(0,NV15)&\" شود\"","v":"تعداد دانه ها82میباشد. هر4  دانه را تبدیل به  2  دانه میکنیم تا تعداد دانه ها  42 شود"},null,null,null,null,"نقطه وسط باکس جایی برای لیبل نوشته",{"$f":"NZ17","v":-19.3046875},{"$f":"OA17","v":5},{"$f":"NY17","v":"h5"},null,"e3",{"$f":"TEXT(0,OG7)&\" دانه\"","v":"4 دانه"},null,null,null,null,"نقطه وسط باکس جایی برای لیبل نوشته",{"$f":"OK17","v":-22.604166666666668},{"$f":"OL17","v":5},{"$f":"OJ17","v":"h5"},null,"e3",{"$f":"TEXT(0,OR7)&\" دانه\"","v":"4 دانه"},null,null,null,null,"نقطه وسط باکس جایی برای لیبل نوشته",{"$f":"OV17","v":-23.223958333333336},{"$f":"OW17","v":5},{"$f":"OU17","v":"h5"},null,{"$f":"PB6","v":"c2"},{"$f":"TEXT(0,PC6)&\" رج مثل رج قبل میبافیم\"","v":"0 رج مثل رج قبل میبافیم"},null,null,null,null,"نقطه وسط باکس جایی برای لیبل نوشته",{"$f":"PG17","v":-17.955729166666668},{"$f":"PH17","v":5},{"$f":"PF17","v":"h5"},null,{"$f":"PM6","v":"c2"},{"$f":"TEXT(0,PN6)&\" رج مثل رج قبل میبافیم\"","v":"0 رج مثل رج قبل میبافیم"},null,null,null,null,"نقطه وسط باکس جایی برای لیبل نوشته",{"$f":"PR17","v":-16.096354166666671},{"$f":"PS17","v":5},{"$f":"PQ17","v":"h5"},null,null,"یکدانه اضافه میکنیم","علامت پنجم",null,{"$f":"PZ33","v":"t5"},{"$f":"PX33","v":-45},{"$f":"PY33","v":6.4285714285714288},null,null,null,null,null,null,"جادکمه",null,null,null,null,null,{"$f":"2*QQ15-QQ24","v":-23.996101615137754},{"$f":"QR24","v":5.8887268314077659},"k14",null,null,null,null,{"$f":"QQ38","v":-16.028667900320919},{"$f":"QR38","v":5.2887268314077653},"k28",null,{"$f":"RB6","v":"d2"},{"$f":"TEXT(0,RC6)&\" رج مثل رج قبل میبافیم\"","v":"4 رج مثل رج قبل میبافیم"},null,null,null,null,"نقطه وسط باکس جایی برای لیبل نوشته",{"$f":"RG17","v":-23.697916666666668},{"$f":"RH17","v":5},{"$f":"RF17","v":"h5"},null,"c4",{"$f":"IF(RR18=1,RR14,'متغیرها '!C887+80)","v":-20},"جابجایی عمودی ",null,"مولفه افقی","مولفه عمودی","اسم نقطه",null,"c3",{"$f":"RN25-RN27","v":-40},"جابجایی عمودی ",null,"مولفه عمودی","مولفه افقی","اسم نقطه",null,"مولفه عمودی","مولفه افقی","اسم نقطه",null,"c4",{"$f":"IF(RR18=1,RR14,'متغیرها '!C893+80)","v":-20},"جابجایی عمودی ",null,"مولفه افقی","مولفه عمودی","اسم نقطه",null,"c3",{"$f":"SH25-SH27","v":-40},"جابجایی عمودی ",null,"مولفه عمودی","مولفه افقی","اسم نقطه",null,"مولفه عمودی","مولفه افقی","اسم نقطه",null,"c4",{"$f":"IF(RR18=1,RR14,'متغیرها '!C899+80)","v":-20},"جابجایی عمودی ",null,"مولفه افقی","مولفه عمودی","اسم نقطه",null,"c3",{"$f":"TB25-TB27","v":-40},"جابجایی عمودی ",null,"مولفه عمودی","مولفه افقی","اسم نقطه",null,"مولفه عمودی","مولفه افقی","اسم نقطه",null,"c4",{"$f":"IF(RR18=1,RR14,'متغیرها '!C905+80)","v":-20},"جابجایی عمودی ",null,"مولفه افقی","مولفه عمودی","اسم نقطه",null,"c3",{"$f":"TV25-TV27","v":-40},"جابجایی عمودی ",null,"مولفه عمودی","مولفه افقی","اسم نقطه",null,"مولفه عمودی","مولفه افقی","اسم نقطه",null,"c4",{"$f":"IF(RR18=1,RR14,'متغیرها '!C911+80)","v":-20},"جابجایی عمودی ",null,"مولفه افقی","مولفه عمودی","اسم نقطه",null,"c3",{"$f":"UP25-UP27","v":-40},"جابجایی عمودی ",null,"مولفه عمودی","مولفه افقی","اسم نقطه",null,"مولفه عمودی","مولفه افقی","اسم نقطه",null,"c4",{"$f":"IF(RR18=1,RR14,'متغیرها '!C917+80)","v":-20},"جابجایی عمودی ",null,"مولفه افقی","مولفه عمودی","اسم نقطه",null,"c3",{"$f":"VJ25-VJ27","v":-40},"جابجایی عمودی ",null,"مولفه عمودی","مولفه افقی","اسم نقطه",null,"مولفه عمودی","مولفه افقی","اسم نقطه"]
[null,null,null,null,"(بدون اعمال بافت اننتخابی)  b1 تعداد دانه ها  دور تا دور گردن ",{"$f":"F45+2*F44+2*F43+F42","v":48},null,"بافت انتخابی جلو",{"$f":"'متغیرها '!C836","v":15},null,null,{"$f":"ABS(ROUND(2*O33/(O33-(G46-2*O41)+0.001),0))","v":4},{"$f":"ABS(ROUND(2*(O33/(O33-(G46-2*O41)+0.001)-1),0))","v":2},{"$f":"O33-(O33/L26)*(L26-M26)-(G46-2*O41)","v":-1},{"$f":"ROUNDDOWN(ABS(N26),0)","v":1},null,{"$f":"IF(((S19-G46)/(S19+G46))<1,1,ABS(ROUND(S19/(S19-(G46+0.0001)),0)))","v":1},{"$f":"IF(((S19-G46)/(S19+G46))<1,1,ABS(ROUND(S19/(S19-G46+0.0001),0)-1))","v":1},{"$f":"S19-(S19/Q26)*(Q26-R26)-G46","v":11.759897187973436},{"$f":"ROUNDDOWN(ABS(S26),0)","v":11},null,null,{"$f":"ABS(ROUND(2*X15/(X15-(X16)+0.001),0))","v":12},{"$f":"ABS(ROUND(2*(X15/(X15-X16+0.0001)-1),0))","v":10},{"$f":"X15-(X15/W26)*(W26-X26)-X16","v":-0.3333333333333357},{"$f":"ROUNDDOWN(ABS(Y26),0)","v":0},null,null,{"$f":"ABS(ROUND(2*AD15/(AD15-(AD16)+0.001),0))","v":26},{"$f":"ABS(ROUND(2*(AD15/(AD15-AD16+0.0001)-1),0))","v":28},{"$f":"AD15-(AD15/AC26)*(AC26-AD26)-AD16","v":0},{"$f":"ROUNDDOWN(ABS(AE26),0)","v":0},null,2.7692307692307692,2.8148148148148149,{"$f":"(10/3)*((AM26/AL26)*(1/J6)-1)","v":1.7636684303351156E-2},{"$f":"(100/68)*((AO26/AN26)*(1/J7)-1)","v":0.56561085972850678},13.5,38,13,36,"زنبوری",20,null,"زنبوری",77,31,null,null,null,null,null,null,null,null,null,null,null,null,null,null,null,null,null,null,null,null,null,null,null,null,null,null,null,null,null,null,null,null,null,null,null,null,null,null,null,null,null,null,null,{"$f":"CI45","v":14.8},{"$f":"CJ45","v":57.8},"j11",null,{"$f":"0.7*(CR20+CR19)+CQ24","v":40.529999999999994},{"$f":"CR25-0.7*(CR19+CR20)","v":24.280999999999999},"d4",null,{"$f":"CQ28","v":8.1059999999999999},{"$f":"CR28","v":15.200999999999999},"d7",null,null,null,null,null,null,{"$f":"DB37+'طراحی همه الگوها'!U189","v":28.4},{"$f":"DE15-'طراحی همه الگوها'!U198","v":51.5},14,null,null,null,null,null,"s9",{"$f":"DM23+0.7*(DM27-DM23)","v":10.383973406412197},{"$f":"DN27+0.2*(DN23-DN27)","v":41.124814425551897},null,null,null,null,null,"s'15",{"$f":"DU25+0.7*(DU24-DU25)","v":2.9733479999999997},{"$f":"DV25+0.5*(DV24-DV25)","v":40.384775000000005},null,{"$f":"DU26","v":2.9733479999999997},{"$f":"DV26","v":40.384775000000005},"s'15",null,null,null,null,{"$f":"EE25","v":28.5},{"$f":"EF19","v":28.2},7,null,null,null,null,null,null,"(5 →7)",{"$f":"ROUND(0.2*(EP34-EP31),1)","v":4.5},null,null,null,null,{"$f":"EP34","v":25.275179014859113},{"$f":"EQ34","v":2.581129935023398},8,null,null,null,null,null,null,null,null,null,{"$f":"FF13+'طراحی همه الگوها'!U249-'طراحی همه الگوها'!U256","v":-24.400000000000006},{"$f":"FG25","v":26.8},10,null,null,null,null,null,"41''",{"$f":"FO24+0.88*(FO27-FO24)","v":19.103999999999999},{"$f":"FP27+0.3*(FP24-FP27)","v":7.6097074297426008},null,{"$f":"FO12","v":4.2476399999999996},{"$f":"FP12","v":48.56955},"s3",null,null,null,null,null,null,22,{"$f":"GB12+GE12*SIN(RADIANS(GA26)+GA14)","v":{"$error":"#DIV/0!"}},{"$f":"GC12+GE12*COS(RADIANS(GA26)+GA14)","v":{"$error":"#DIV/0!"}},{"$f":"IF(GB13>GB26,ATAN((GC13-GC26)/(GB13-GB26)),ATAN((GC13-GC26)/(GB26-GB13)))","v":{"$error":"#DIV/0!"}},{"$f":"IF(GB13>GB26,(GB13-GB26)/COS(GD26),(GB26-GB13)/COS(GD26))","v":{"$error":"#DIV/0!"}},null,1,2,"نقطه 8","نقطه قبل از چرخش",{"$f":"IF(GH26>GH18,IF(GG26>GG18,GG18+SQRT(POWER(GG26-GG18,2)+POWER(GH26-GH18,2))*COS(ATAN((GH26-GH18)/(GG26-GG18+0.000123))+GH16),GG18-SQRT(POWER(GG26-GG18,2)+POWER(GH26-GH18,2))*COS(ATAN((GH26-GH18)/(GG18-GG26+0.000123))-GH16)),IF(GG26>GG18,GG18+SQRT(POWER(GG26-GG18,2)+POWER(GH26-GH18,2))*COS(ATAN((GH18-GH26)/(GG26-GG18+0.000123))-GH16),GG18-SQRT(POWER(GG26-GG18,2)+POWER(GH26-GH18,2))*COS(ATAN((GH18-GH26)/(GG18-GG26+0.000123))+GH16)))","v":0.61824523267144293},{"$f":"IF(GH26>GH18,IF(GG26>GG18,GH18+SQRT(POWER(GG26-GG18,2)+POWER(GH26-GH18,2))*SIN(ATAN((GH26-GH18)/(GG26-GG18+0.000123))+GH16),GH18+SQRT(POWER(GG26-GG18,2)+POWER(GH26-GH18,2))*SIN(ATAN((GH26-GH18)/(GG18-GG26+0.000123))-GH16)),IF(GG26>GG18,GH18-SQRT(POWER(GG26-GG18,2)+POWER(GH26-GH18,2))*SIN(ATAN((GH18-GH26)/(GG26-GG18+0.000123))-GH16),GH18-SQRT(POWER(GG26-GG18,2)+POWER(GH26-GH18,2))*SIN(ATAN((GH18-GH26)/(GG18-GG26+0.000123))+GH16)))","v":0.69874634779839551},"نقطه چرخیده",null,"m1",{"$f":"IF(GR21>GR22,ATAN((GQ22-GQ21)/(GR21-GR22)),2*RADIANS(90)-ATAN((GQ22-GQ21)/(GR22-GR21)))","v":{"$error":"#REF!"}},"m2",{"$f":"SQRT(POWER(GQ21-GQ22,2)+POWER(GR21-GR22,2))","v":{"$error":"#REF!"}},null,null,{"$f":"GU25+GT11","v":-70},-1.2217304763960306,{"$f":"HB13+HB10*COS(GV26)","v":{"$error":"#REF!"}},{"$f":"HC13-HB10*SIN(GV26)","v":{"$error":"#REF!"}},{"$f":"SQRT(POWER((HB12-GW26),2)+POWER((HC12-GX26),2))","v":{"$error":"#REF!"}},{"$f":"ABS(HB9-GY26)","v":{"$error":"#REF!"}},null,null,null,null,null,null,null,null,null,null,null,null,null,null,{"$f":"-HK26+HP9","v":0},0,null,null,null,null,null,null,null,null,null,null,null,null,null,null,null,null,null,null,null,null,null,null,null,null,null,null,null,null,null,null,null,null,null,null,null,null,null,null,null,null,null,null,null,null,null,null,null,null,null,null,null,null,null,null,null,null,null,null,null,null,null,null,null,null,null,null,null,null,null,null,null,null,null,null,null,null,null,null,null,null,null,null,null,null,null,null,null,null,null,null,null,null,null,null,null,null,null,null,null,null,null,null,null,null,null,null,null,null,null,null,null,null,null,null,null,null,null,null,null,null,null,null,null,null,null,null,null,null,null,null,null,null,null,null,null,null,null,null,null,null,null,null,null,null,null,null,null,null,null,null,null,null,null,null,null,null,null,null,null,null,"a25",{"$f":"TEXT(0,NV13)&\"دانه\"","v":"11دانه"},null,null,null,null,null,null,null,null,null,"e4",{"$f":"TEXT(0,OG8)&\" دانه\"","v":"7 دانه"},null,null,null,null,null,null,null,null,null,"e4",{"$f":"TEXT(0,OR8)&\" دانه\"","v":"9 دانه"},null,null,null,null,null,null,null,null,null,{"$f":"PB7","v":"c3"},{"$f":"TEXT(0,PC7)&\" رج مثل رج قبل میبافیم\"","v":"1 رج مثل رج قبل میبافیم"},null,null,null,null,null,null,null,null,null,{"$f":"PM7","v":"c3"},{"$f":"TEXT(0,PN7)&\" رج مثل رج قبل میبافیم\"","v":"1 رج مثل رج قبل میبافیم"},null,null,null,null,null,null,null,null,null,null,"راهنمای نقشه بافت","عنوان",null,"f2",{"$f":"QC25+1*QC23","v":-44.428571428571431},{"$f":"QD25-QC22*QC23","v":6.1428571428571432},{"$f":"QC25","v":-45},{"$f":"QD25","v":6.4285714285714288},{"$f":"QB25","v":"t5"},null,{"$f":"FJ146","v":0},{"$f":"FK146","v":17.899999999999999},1,null,{"$f":"QI61","v":5.9244108634080561},{"$f":"QJ61","v":41.300688577032062},25,null,{"$f":"QQ15+QR7*SIN(RADIANS(30))","v":-18.532},{"$f":"QR15+QR7*COS(RADIANS(30))","v":11.352828446545521},"k15",null,null,null,null,{"$f":"QQ40","v":-15.332000000000001},{"$f":"QR40","v":7.8887268314077659},"k30",null,{"$f":"RB7","v":"d3"},{"$f":"TEXT(0,RC7)&\" دانه\"","v":"16 دانه"},null,null,null,null,null,null,null,null,null,"c5",{"$f":"IF(RR18=1,RR19,'متغیرها '!C884)","v":10},"پهنا افقی",null,{"$f":"RM40","v":0},{"$f":"RN40","v":-20},{"$f":"RO40","v":0},null,"c4",{"$f":"RN24","v":0},"جابجایی افقی ",null,{"$f":"RU40","v":-40},{"$f":"RV40","v":0},{"$f":"RW40","v":0},null,{"$f":"RU65","v":-39.157190635451506},{"$f":"RV65","v":0},1,null,"c5",{"$f":"IF(RR18=1,RR19,'متغیرها '!C890)","v":10},"پهنا افقی",null,{"$f":"SG40","v":0},{"$f":"SH40","v":-20},{"$f":"SI40","v":0},null,"c4",{"$f":"SH24","v":0},"جابجایی افقی ",null,{"$f":"SO40","v":-40},{"$f":"SP40","v":0},{"$f":"SQ40","v":0},null,{"$f":"SO65","v":-39.157190635451506},{"$f":"SP65","v":0},1,null,"c5",{"$f":"IF(RR18=1,RR19,'متغیرها '!C896)","v":10},"پهنا افقی",null,{"$f":"TA40","v":0},{"$f":"TB40","v":-20},{"$f":"TC40","v":0},null,"c4",{"$f":"TB24","v":0},"جابجایی افقی ",null,{"$f":"TI40","v":-40},{"$f":"TJ40","v":0},{"$f":"TK40","v":0},null,{"$f":"TI65","v":-39.178260869565214},{"$f":"TJ65","v":0},1,null,"c5",{"$f":"IF(RR18=1,RR19,'متغیرها '!C902)","v":10},"پهنا افقی",null,{"$f":"TU40","v":0},{"$f":"TV40","v":-20},{"$f":"TW40","v":0},null,"c4",{"$f":"TV24","v":0},"جابجایی افقی ",null,{"$f":"UC40","v":-40},{"$f":"UD40","v":0},{"$f":"UE40","v":0},null,{"$f":"UC65","v":-39.178260869565214},{"$f":"UD65","v":0},1,null,"c5",{"$f":"IF(RR18=1,RR19,'متغیرها '!C908)","v":10},"پهنا افقی",null,{"$f":"UO40","v":0},{"$f":"UP40","v":-20},{"$f":"UQ40","v":0},null,"c4",{"$f":"UP24","v":0},"جابجایی افقی ",null,{"$f":"UW40","v":-40},{"$f":"UX40","v":0},{"$f":"UY40","v":0},null,{"$f":"UW65","v":-39.157190635451506},{"$f":"UX65","v":0},1,null,"c5",{"$f":"IF(RR18=1,RR19,'متغیرها '!C914)","v":10},"پهنا افقی",null,{"$f":"VI40","v":0},{"$f":"VJ40","v":-20},{"$f":"VK40","v":0},null,"c4",{"$f":"VJ24","v":0},"جابجایی افقی ",null,{"$f":"VQ40","v":-40},{"$f":"VR40","v":0},{"$f":"VS40","v":0},null,{"$f":"VQ65","v":-39.157190635451506},{"$f":"VR65","v":0},1]
[null,null,null,null,"تعداد رج دوبل برای ایجاد گودی گردن جلو b13",{"$f":"ROUNDDOWN(0.25*I22*((AX129-BI128)),0)","v":2},null,"بافت انتخابی جلو",{"$f":"OFFSET(AJ6,I26,6)","v":"سبدی (5 تایی)"},null,null,{"$f":"ABS(ROUND(3*O33/(O33-(G46-2*O41)+0.001),0))","v":6},{"$f":"ABS(ROUND(3*(O33/(O33-(G46-2*O41)+0.001)-1),0))","v":3},{"$f":"O33-(O33/L27)*(L27-M27)-(G46-2*O41)","v":-1},{"$f":"ROUNDDOWN(ABS(N27),0)","v":1},null,{"$f":"ABS(ROUND(2*S19/(S19-(G46)+0.001),0))","v":13},{"$f":"ABS(ROUND(2*(S19/(S19-G46+0.0001)-1),0))","v":11},{"$f":"S19-(S19/Q27)*(Q27-R27)-G46","v":0.10452838982368462},{"$f":"ROUNDDOWN(ABS(S27),0)","v":0},null,null,{"$f":"ABS(ROUND(3*X15/(X15-X16+0.001),0))","v":19},{"$f":"ABS(ROUND(3*(X15/(X15-X16+0.0001)-1),0))","v":16},{"$f":"X15-(X15/W27)*(W27-X27)-X16","v":0.10526315789473983},{"$f":"ROUNDDOWN(ABS(Y27),0)","v":0},null,null,{"$f":"ABS(ROUND(3*AD15/(AD15-AD16+0.001),0))","v":39},{"$f":"ABS(ROUND(3*(AD15/(AD15-AD16+0.0001)-1),0))","v":42},{"$f":"AD15-(AD15/AC27)*(AC27-AD27)-AD16","v":0},{"$f":"ROUNDDOWN(ABS(AE27),0)","v":0},null,3.1428571428571428,3.1111111111111112,{"$f":"(10/3)*((AM27/AL27)*(1/J6)-1)","v":0.37037037037037057},{"$f":"(100/68)*((AO27/AN27)*(1/J7)-1)","v":0.84033613445378152},13.5,42,7,22,"پیچ گیسباف",21,null,"پیچ گیسباف",104,49,null,null,null,null,null,null,null,null,null,null,null,null,null,null,null,null,null,null,null,null,null,null,null,null,null,null,null,null,null,null,null,null,null,null,null,null,null,null,null,null,null,null,null,{"$f":"CI46","v":8},{"$f":"CJ46","v":52.099999999999994},"j12",null,{"$f":"CQ24","v":0},{"$f":"CR26-CR21+'متغیرها '!C6*0.1*'متغیرها '!U85*0.7","v":15.200999999999999},"d6",null,{"$f":"CQ30","v":28.370999999999995},{"$f":"CR30","v":16.108999999999998},"d9",null,null,null,null,null,null,{"$f":"DD29+'طراحی همه الگوها'!U196","v":40.599999999999994},{"$f":"DE15-'طراحی همه الگوها'!U197","v":54.6},13,null,null,"صاف",null,null,"s10",{"$f":"DM18-('طراحی همه الگوها'!U196-'متغیرها '!C13*'متغیرها '!U83)*COS(DM17)","v":14.834247723445998},{"$f":"DN18+('طراحی همه الگوها'!U196-'متغیرها '!C13*'متغیرها '!U83)*SIN(DM17)","v":37.699521531939872},null,{"$f":"DM31","v":4.2476399999999996},{"$f":"DN31","v":48.56955},"s14",null,"s'17",{"$f":"DB400","v":0},{"$f":"IF('متغیرها '!C22=-1,DQ12,IF('متغیرها '!C22=0,DC400-0.1,DC400-0.25*(DC400-DC404)))","v":53.284999999999997},null,{"$f":"DU25","v":0},{"$f":"DV25","v":32.200000000000003},"s'16",null,null,null,null,{"$f":"EE24","v":20.6},{"$f":"EF24","v":26.099999999999998},5,null,{"$f":"EI19","v":16.127999999999997},{"$f":"EJ17","v":0},21,null,null,null,"نقاط در چادر شماره 4",null,null,null,null,null,null,null,null,{"$f":"EP29","v":0},{"$f":"EQ29","v":57.8},1,null,null,null,null,null,{"$f":"FF26","v":-24.400000000000006},{"$f":"FG17","v":25},11,null,{"$f":"FJ23","v":10.8},{"$f":"FG17","v":25},19,null,"s13",{"$f":"FO30+0.5*'طراحی همه الگوها'!U249","v":20.25},{"$f":"FP30","v":0},null,{"$f":"FO33","v":3.1540336252517296},{"$f":"FP33","v":31.825251729695697},"s'3",null,null,null,null,null,null,24,{"$f":"GB12+GE12*SIN(RADIANS(GA27)+GA14)","v":{"$error":"#DIV/0!"}},{"$f":"GC12+GE12*COS(RADIANS(GA27)+GA14)","v":{"$error":"#DIV/0!"}},{"$f":"IF(GB13>GB27,ATAN((GC13-GC27)/(GB13-GB27)),ATAN((GC13-GC27)/(GB27-GB13)))","v":{"$error":"#DIV/0!"}},{"$f":"IF(GB13>GB27,(GB13-GB27)/COS(GD27),(GB27-GB13)/COS(GD27))","v":{"$error":"#DIV/0!"}},null,1,2,"نقطه 9","نقطه قبل از چرخش",{"$f":"IF(GH27>GH18,IF(GG27>GG18,GG18+SQRT(POWER(GG27-GG18,2)+POWER(GH27-GH18,2))*COS(ATAN((GH27-GH18)/(GG27-GG18+0.000123))+GH16),GG18-SQRT(POWER(GG27-GG18,2)+POWER(GH27-GH18,2))*COS(ATAN((GH27-GH18)/(GG18-GG27+0.000123))-GH16)),IF(GG27>GG18,GG18+SQRT(POWER(GG27-GG18,2)+POWER(GH27-GH18,2))*COS(ATAN((GH18-GH27)/(GG27-GG18+0.000123))-GH16),GG18-SQRT(POWER(GG27-GG18,2)+POWER(GH27-GH18,2))*COS(ATAN((GH18-GH27)/(GG18-GG27+0.000123))+GH16)))","v":0.61824523267144293},{"$f":"IF(GH27>GH18,IF(GG27>GG18,GH18+SQRT(POWER(GG27-GG18,2)+POWER(GH27-GH18,2))*SIN(ATAN((GH27-GH18)/(GG27-GG18+0.000123))+GH16),GH18+SQRT(POWER(GG27-GG18,2)+POWER(GH27-GH18,2))*SIN(ATAN((GH27-GH18)/(GG18-GG27+0.000123))-GH16)),IF(GG27>GG18,GH18-SQRT(POWER(GG27-GG18,2)+POWER(GH27-GH18,2))*SIN(ATAN((GH18-GH27)/(GG27-GG18+0.000123))-GH16),GH18-SQRT(POWER(GG27-GG18,2)+POWER(GH27-GH18,2))*SIN(ATAN((GH18-GH27)/(GG18-GG27+0.000123))+GH16)))","v":0.69874634779839551},"نقطه چرخیده",null,"نقطه خروجی بالا","su9",{"$f":"GQ21+GQ23*COS(GP26)","v":{"$error":"#REF!"}},{"$f":"GR21+GQ23*SIN(GP26)","v":{"$error":"#REF!"}},null,null,{"$f":"GU26+GT11","v":-68},-1.1868238913561442,{"$f":"HB13+HB10*COS(GV27)","v":{"$error":"#REF!"}},{"$f":"HC13-HB10*SIN(GV27)","v":{"$error":"#REF!"}},{"$f":"SQRT(POWER((HB12-GW27),2)+POWER((HC12-GX27),2))","v":{"$error":"#REF!"}},{"$f":"ABS(HB9-GY27)","v":{"$error":"#REF!"}},null,null,"به دست آوردن نقطه تقاطع دو خط ","مولفه افقی","مولفه عمودی",null,null,null,null,null,null,null,null,null,{"$f":"-HK27+HP9","v":0},0,null,null,null,null,null,null,null,null,null,null,null,null,null,null,null,null,null,null,null,null,null,null,null,null,null,null,null,null,null,null,null,null,null,null,null,null,null,null,null,null,null,null,null,null,null,null,null,null,null,null,null,null,null,null,null,null,null,null,null,null,null,null,null,null,null,null,null,null,null,null,null,null,null,null,null,null,null,null,null,null,null,null,null,null,null,null,null,null,null,null,null,null,null,null,null,null,null,null,null,null,null,null,null,null,null,null,null,null,null,null,null,null,null,null,null,null,null,null,null,null,null,null,null,null,null,null,null,null,null,null,null,null,null,null,null,null,null,null,null,null,null,null,null,null,null,null,null,null,null,null,null,null,null,null,null,null,null,null,null,null,"b''1",{"$f":"\"تعداد دانه ها \"&TEXT(0,NV17)&\"  -  تقسیم بندی بالاتنه و آستین \"","v":"تعداد دانه ها 64  -  تقسیم بندی بالاتنه و آستین "},null,null,"زاویه فلش",{"$f":"NV39","v":0.5},"f5",null,null,"فلش به سمت راست",null,"e5",{"$f":"TEXT(0,OG9)&\" دانه\"","v":"11 دانه"},null,null,"زاویه فلش",{"$f":"OG44","v":0.5},"f5",null,null,"فلش به سمت راست",null,"e5",{"$f":"TEXT(0,OR9)&\" دانه\"","v":"13 دانه"},null,null,"زاویه فلش",{"$f":"OR44","v":0.5},"f5",null,null,"فلش به سمت راست",null,{"$f":"PB8","v":"c4"},{"$f":"TEXT(0,PC8)&\" رج مثل رج قبل میبافیم\"","v":"4 رج مثل رج قبل میبافیم"},null,null,"زاویه فلش",{"$f":"PC42","v":0.5},"f5",null,null,"فلش به سمت راست",null,{"$f":"PM8","v":"c4"},{"$f":"TEXT(0,PN8)&\" رج مثل رج قبل میبافیم\"","v":"5 رج مثل رج قبل میبافیم"},null,null,"زاویه فلش",{"$f":"PN42","v":0.5},"f5",null,null,"فلش به سمت راست",null,null,null,null,null,"f3",{"$f":"QC26","v":-44.428571428571431},{"$f":"QD25+QC22*QC23","v":6.7142857142857144},{"$f":"QC26","v":-44.428571428571431},{"$f":"QD26","v":6.1428571428571432},{"$f":"QB26","v":"f2"},null,{"$f":"FJ145","v":-7.532},{"$f":"FK145","v":17.899999999999999},"1'",null,{"$f":"QI62","v":4.7395286907264449},{"$f":"QJ62","v":38.594707704219914},30,null,{"$f":"2*QQ15-QQ26","v":-22.532},{"$f":"QR26","v":11.352828446545521},"k16",null,null,null,null,{"$f":"QQ42","v":-17.932000000000002},{"$f":"QR42","v":12.392058931086847},"k32",null,{"$f":"RB8","v":"d4"},{"$f":"TEXT(0,RC8)&\" رج مثل رج قبل میبافیم\"","v":"-4 رج مثل رج قبل میبافیم"},null,null,"زاویه فلش",{"$f":"RC44","v":0.5},"f5",null,null,"فلش به سمت راست",null,"c6",{"$f":"IF(RR18=1,RR20,'متغیرها '!C885)","v":20},"پهنا عمودی",null,{"$f":"RM38","v":0},{"$f":"RN38","v":-40.22742474916388},null,null,"c5",{"$f":"RN27","v":20},"پهنا عمودی",null,{"$f":"RU38","v":-40},{"$f":"RV38","v":10.277777777777777},null,null,{"$f":"SC26","v":-39.157190635451506},{"$f":"RV38","v":10.277777777777777},null,null,"c6",{"$f":"IF(RR18=1,RR20,'متغیرها '!C891)","v":20},"پهنا عمودی",null,{"$f":"SG38","v":0},{"$f":"SH38","v":-40.22742474916388},null,null,"c5",{"$f":"SH27","v":20},"پهنا عمودی",null,{"$f":"SO38","v":-40},{"$f":"SP38","v":10.277777777777777},null,null,{"$f":"SW26","v":-39.157190635451506},{"$f":"SP38","v":10.277777777777777},null,null,"c6",{"$f":"IF(RR18=1,RR20,'متغیرها '!C897)","v":20},"پهنا عمودی",null,{"$f":"TA38","v":0},{"$f":"TB38","v":-39.721739130434784},null,null,"c5",{"$f":"TB27","v":20},"پهنا عمودی",null,{"$f":"TI38","v":-40},{"$f":"TJ38","v":9.7222222222222232},null,null,{"$f":"TQ26","v":-39.178260869565214},{"$f":"TJ38","v":9.7222222222222232},null,null,"c6",{"$f":"IF(RR18=1,RR20,'متغیرها '!C903)","v":20},"پهنا عمودی",null,{"$f":"TU38","v":0},{"$f":"TV38","v":-39.721739130434784},null,null,"c5",{"$f":"TV27","v":20},"پهنا عمودی",null,{"$f":"UC38","v":-40},{"$f":"UD38","v":9.7222222222222232},null,null,{"$f":"UK26","v":-39.178260869565214},{"$f":"UD38","v":9.7222222222222232},null,null,"c6",{"$f":"IF(RR18=1,RR20,'متغیرها '!C909)","v":20},"پهنا عمودی",null,{"$f":"UO38","v":0},{"$f":"UP38","v":-40.22742474916388},null,null,"c5",{"$f":"UP27","v":20},"پهنا عمودی",null,{"$f":"UW38","v":-40},{"$f":"UX38","v":10.277777777777777},null,null,{"$f":"VE26","v":-39.157190635451506},{"$f":"UX38","v":10.277777777777777},null,null,"c6",{"$f":"IF(RR18=1,RR20,'متغیرها '!C915)","v":20},"پهنا عمودی",null,{"$f":"VI38","v":0},{"$f":"VJ38","v":-40.22742474916388},null,null,"c5",{"$f":"VJ27","v":20},"پهنا عمودی",null,{"$f":"VQ38","v":-40},{"$f":"VR38","v":10.277777777777777},null,null,{"$f":"VY26","v":-39.157190635451506},{"$f":"VR38","v":10.277777777777777}]
[null,null,null,null,"تعداد رج دوبل جدید برای ایجاد گودی گردن جلو b'''13",{"$f":"ROUNDDOWN(0.5*(1/6)*(I22*AX129-I29*BI128),0)","v":0},null,null,null,null,null,{"$f":"ABS(ROUND(4*O33/(O33-(G46-2*O41)+0.001),0))","v":8},{"$f":"ABS(ROUND(4*(O33/(O33-(G46-2*O41)+0.001)-1),0))","v":4},{"$f":"O33-(O33/L28)*(L28-M28)-(G46-2*O41)","v":-1},{"$f":"ROUNDDOWN(ABS(N28),0)","v":1},null,{"$f":"ABS(ROUND(3*S19/(S19-G46+0.001),0))","v":19},{"$f":"ABS(ROUND(3*(S19/(S19-G46+0.0001)-1),0))","v":16},{"$f":"S19-(S19/Q28)*(Q28-R28)-G46","v":-0.20219184170657911},{"$f":"ROUNDDOWN(ABS(S28),0)","v":0},null,null,{"$f":"ABS(ROUND(4*X15/(X15-X16+0.001),0))","v":25},{"$f":"ABS(ROUND(4*(X15/(X15-X16+0.0001)-1),0))","v":21},{"$f":"X15-(X15/W28)*(W28-X28)-X16","v":0},{"$f":"ROUNDDOWN(ABS(Y28),0)","v":0},null,null,{"$f":"ABS(ROUND(4*AD15/(AD15-AD16+0.001),0))","v":52},{"$f":"ABS(ROUND(4*(AD15/(AD15-AD16+0.0001)-1),0))","v":56},{"$f":"AD15-(AD15/AC28)*(AC28-AD28)-AD16","v":0},{"$f":"ROUNDDOWN(ABS(AE28),0)","v":0},null,3.2727272727272729,2.9629629629629628,{"$f":"(10/3)*((AM28/AL28)*(1/J6)-1)","v":0.19400352733686049},{"$f":"(100/68)*((AO28/AN28)*(1/J7)-1)","v":0.93582887700534778},13.5,40,11,36,"پیچ چپ و راستی",{"$f":"AQ27+1","v":22},null,"پیچ چپ و راستی",114,40,null,null,null,null,null,null,null,null,null,null,null,null,null,null,null,null,null,null,null,null,null,null,null,null,null,null,null,null,null,null,null,null,null,null,null,null,null,null,null,null,null,null,null,null,null,null,null,{"$f":"0.2*(CQ26-CQ24)+CQ24","v":8.1059999999999999},{"$f":"CR27","v":15.200999999999999},"d7",null,{"$f":"CQ29","v":36.476999999999997},{"$f":"CR29","v":19.741},"d8",null,null,null,null,null,null,{"$f":"DD29+'طراحی همه الگوها'!U196","v":40.599999999999994},{"$f":"DE15","v":63.1},12,null,{"$f":"DH20","v":15.3},{"$f":"DE14","v":0},15,null,"s12",{"$f":"DM27-'طراحی همه الگوها'!U198*SIN(DM17)","v":10.567869694921066},{"$f":"DN27-'طراحی همه الگوها'!U198*COS(DM17)","v":26.912584129798347},null,{"$f":"DM33","v":2.9733479999999997},{"$f":"DN33","v":40.384775000000005},"s15",null,"s'18",{"$f":"DU27+0.6*(DU24-DU27)","v":2.5485839999999995},{"$f":"DV27-0.3*(DV27-DV24)","v":51.870365},null,null,null,null,null,null,null,null,null,null,null,null,{"$f":"EI19","v":16.127999999999997},{"$f":"EJ19","v":5.6},22,null,null,"افقی شبیه ساز","اسم نقطه ","مولفه افقی","مولفه عمودی","عمودی شبیه ساز",null,{"$f":"ER43","v":22.5},{"$f":"ER44","v":13.574999999999999},15,null,{"$f":"EP36","v":28.708535316173833},{"$f":"EQ36","v":29.091464683826167},10,null,null,null,null,null,{"$f":"FF16","v":36.200000000000003},{"$f":"FG16","v":25},8,null,{"$f":"FJ23","v":10.8},{"$f":"FK23","v":21},20,null,"s''17",{"$f":"FO11","v":0},{"$f":"IF('متغیرها '!C40=-1,FP14,IF('متغیرها '!C40=0,FP11-0.1,FP11-0.25*(FP11-FP13)))","v":53.284999999999997},null,{"$f":"FO22","v":2.0604272505034591},{"$f":"FP22","v":6.7088043242392414},"s11",null,null,null,null,null,null,26,{"$f":"GB12+GE12*SIN(RADIANS(GA28)+GA14)","v":{"$error":"#DIV/0!"}},{"$f":"GC12+GE12*COS(RADIANS(GA28)+GA14)","v":{"$error":"#DIV/0!"}},{"$f":"IF(GB13>GB28,ATAN((GC13-GC28)/(GB13-GB28)),ATAN((GC13-GC28)/(GB28-GB13)))","v":{"$error":"#DIV/0!"}},{"$f":"IF(GB13>GB28,(GB13-GB28)/COS(GD28),(GB28-GB13)/COS(GD28))","v":{"$error":"#DIV/0!"}},null,1,2,"نقطه 10","نقطه قبل از چرخش",{"$f":"IF(GH28>GH18,IF(GG28>GG18,GG18+SQRT(POWER(GG28-GG18,2)+POWER(GH28-GH18,2))*COS(ATAN((GH28-GH18)/(GG28-GG18+0.000123))+GH16),GG18-SQRT(POWER(GG28-GG18,2)+POWER(GH28-GH18,2))*COS(ATAN((GH28-GH18)/(GG18-GG28+0.000123))-GH16)),IF(GG28>GG18,GG18+SQRT(POWER(GG28-GG18,2)+POWER(GH28-GH18,2))*COS(ATAN((GH18-GH28)/(GG28-GG18+0.000123))-GH16),GG18-SQRT(POWER(GG28-GG18,2)+POWER(GH28-GH18,2))*COS(ATAN((GH18-GH28)/(GG18-GG28+0.000123))+GH16)))","v":0.61824523267144293},{"$f":"IF(GH28>GH18,IF(GG28>GG18,GH18+SQRT(POWER(GG28-GG18,2)+POWER(GH28-GH18,2))*SIN(ATAN((GH28-GH18)/(GG28-GG18+0.000123))+GH16),GH18+SQRT(POWER(GG28-GG18,2)+POWER(GH28-GH18,2))*SIN(ATAN((GH28-GH18)/(GG18-GG28+0.000123))-GH16)),IF(GG28>GG18,GH18-SQRT(POWER(GG28-GG18,2)+POWER(GH28-GH18,2))*SIN(ATAN((GH18-GH28)/(GG28-GG18+0.000123))-GH16),GH18-SQRT(POWER(GG28-GG18,2)+POWER(GH28-GH18,2))*SIN(ATAN((GH18-GH28)/(GG18-GG28+0.000123))+GH16)))","v":0.69874634779839551},"نقطه چرخیده",null,"نقطه خروجی پایین","sd8",{"$f":"GQ29+GQ23*COS(GP26)","v":{"$error":"#REF!"}},{"$f":"GR29+GQ23*SIN(GP26)","v":{"$error":"#REF!"}},null,null,{"$f":"GU27+GT11","v":-66},-1.1519173063162575,{"$f":"HB13+HB10*COS(GV28)","v":{"$error":"#REF!"}},{"$f":"HC13-HB10*SIN(GV28)","v":{"$error":"#REF!"}},{"$f":"SQRT(POWER((HB12-GW28),2)+POWER((HC12-GX28),2))","v":{"$error":"#REF!"}},{"$f":"ABS(HB9-GY28)","v":{"$error":"#REF!"}},null,"نقطه اول از خط اول","f5",{"$f":"#REF!","v":{"$error":"#REF!"}},{"$f":"#REF!","v":{"$error":"#REF!"}},null,null,null,null,null,null,null,null,null,{"$f":"-HK28+HP9","v":0},0,null,null,null,null,null,null,null,null,null,null,null,null,null,null,null,null,null,null,null,null,null,null,null,null,null,null,null,null,null,null,null,null,null,null,null,null,null,null,null,null,null,null,null,null,null,null,null,null,null,null,null,null,null,null,null,null,null,null,null,null,null,null,null,null,null,null,null,null,null,null,null,null,null,null,null,null,null,null,null,null,null,null,null,null,null,null,null,null,null,null,null,null,null,null,null,null,null,null,null,null,null,null,null,null,null,null,null,null,null,null,null,null,null,null,null,null,null,null,null,null,null,null,null,null,null,null,null,null,null,null,null,null,null,null,null,null,null,null,null,null,null,null,null,null,null,null,null,null,null,null,null,null,null,null,null,null,null,null,null,null,null,{"$f":"\"نقشه بافت یقه شکاری با میل \"&TEXT(0,NV43)&\"  بافت   \"&TEXT(0,NU44)","v":"نقشه بافت یقه شکاری با میل 4.5  بافت   کشباف (دوتایی)"},null,null,"بزرگی فلش",{"$f":"NV49","v":0.82173913043478275},"f4",{"$f":"NZ30","v":-31.860937499999999},{"$f":"OA30","v":5},{"$f":"NY30","v":"w6"},null,"e6",{"$f":"TEXT(0,OG10)&\" رج مثل رج قبل میبافیم\"","v":"0 رج مثل رج قبل میبافیم"},null,null,"بزرگی فلش",{"$f":"OG51","v":0.5800511508951407},"f4",{"$f":"OK30","v":-32.520833333333336},{"$f":"OL30","v":5},{"$f":"OJ30","v":"m3"},null,"e6",{"$f":"TEXT(0,OR10)&\" رج مثل رج قبل میبافیم\"","v":"0 رج مثل رج قبل میبافیم"},null,null,"بزرگی فلش",{"$f":"OR51","v":0.5800511508951407},"f4",{"$f":"OV30","v":-32.64479166666667},{"$f":"OW30","v":5},{"$f":"OU30","v":"m3"},null,null,{"$f":"\"در اینجا تعداد دانه ها \"&TEXT(0,PC12)&\"   میباشد \"","v":"در اینجا تعداد دانه ها 50   میباشد "},null,null,"بزرگی فلش",{"$f":"PC49","v":0.5800511508951407},"f4",{"$f":"PG30","v":-31.591145833333332},{"$f":"PH30","v":5},{"$f":"PF30","v":"n3"},null,null,{"$f":"\"در اینجا تعداد دانه ها \"&TEXT(0,PN12)&\"   میباشد \"","v":"در اینجا تعداد دانه ها 50   میباشد "},null,null,"بزرگی فلش",{"$f":"PN49","v":0.5800511508951407},"f4",{"$f":"PR30","v":-31.219270833333333},{"$f":"PS30","v":5},{"$f":"PQ30","v":"n3"},null,null,"نقاط خروجی ",null,null,null,null,null,null,null,null,null,{"$f":"BD98","v":-7.532},{"$f":"BE98","v":35.888726831407766},"26'",null,{"$f":"QI78","v":7.532},{"$f":"QJ78","v":35.888726831407766},"26''",null,{"$f":"QQ15+(QR7+QR8)*SIN(RADIANS(30))","v":-18.231999999999999},{"$f":"QR15-(QR7+QR8)*COS(RADIANS(30))","v":3.905009973999348},"k18",null,null,null,null,{"$f":"QQ44","v":-20.532},{"$f":"QR44","v":13.088726831407765},"k34",null,"a10,a11,b1",{"$f":"\"تعداد دانه ها \"&TEXT(0,RC12)&\"میباشد. در قسمت پشت و آستین هر\"&TEXT(0,RC9)&\"  دانه را تبدیل به  \"&TEXT(0,RC10)&\"  دانه میکنیم   \"","v":"تعداد دانه ها 56میباشد. در قسمت پشت و آستین هر1  دانه را تبدیل به  1  دانه میکنیم   "},null,null,"بزرگی فلش",{"$f":"RC51","v":0.5800511508951407},"f4",{"$f":"RG30","v":-32.739583333333336},{"$f":"RH30","v":5},{"$f":"RF30","v":"p3"},null,null,{"$f":"RN11","v":1.2847222222222221},"c1",null,null,null,null,null,"c6",{"$f":"RN26","v":10},"پهنا افقی",null,null,null,null,null,null,null,null,null,null,{"$f":"RN17","v":1.2847222222222221},"c1",null,null,null,null,null,"c6",{"$f":"SH26","v":10},"پهنا افقی",null,null,null,null,null,null,null,null,null,null,{"$f":"RN13","v":1.2152777777777779},"c1",null,null,null,null,null,"c6",{"$f":"TB26","v":10},"پهنا افقی",null,null,null,null,null,null,null,null,null,null,{"$f":"RN15","v":1.2152777777777779},"c1",null,null,null,null,null,"c6",{"$f":"TV26","v":10},"پهنا افقی",null,null,null,null,null,null,null,null,null,null,{"$f":"RN19","v":1.2847222222222221},"c1",null,null,null,null,null,"c6",{"$f":"UP26","v":10},"پهنا افقی",null,null,null,null,null,null,null,null,null,null,{"$f":"RN21","v":1.2847222222222221},"c1",null,null,null,null,null,"c6",{"$f":"VJ26","v":10},"پهنا افقی"]
[null,null,null,null,"فاصله  گردن تا محل جدا شدن آستین در قسمت جلو (cm)     b7",{"$f":"ROUNDUP(SQRT(POWER(CI103-CI121,2)+POWER(CJ103-CJ121,2)),0)","v":10},null," a01 تعداد رج در یک سانت پشت",{"$f":"F6+0.3*I31*F6","v":2.4338624338624335},null,null,{"$f":"ABS(ROUND(5*O33/(O33-(G46-2*O41)+0.001),0))","v":10},{"$f":"ABS(ROUND(5*(O33/(O33-(G46-F412*O41)+0.001)-1),0))","v":2},{"$f":"O33-(O33/L29)*(L29-M29)-(G46-2*O41)","v":-25.599999999999994},{"$f":"ROUNDDOWN(ABS(N29),0)","v":25},null,{"$f":"ABS(ROUND(4*S19/(S19-G46+0.001),0))","v":26},{"$f":"ABS(ROUND(4*(S19/(S19-G46+0.0001)-1),0))","v":22},{"$f":"S19-(S19/Q29)*(Q29-R29)-G46","v":0.10452838982368462},{"$f":"ROUNDDOWN(ABS(S29),0)","v":0},null,null,{"$f":"ABS(ROUND(5*X15/(X15-X16+0.001),0))","v":31},{"$f":"ABS(ROUND(5*(X15/(X15-X16+0.0001)-1),0))","v":26},{"$f":"X15-(X15/W29)*(W29-X29)-X16","v":-6.4516129032256231E-2},{"$f":"ROUNDDOWN(ABS(Y29),0)","v":0},null,null,{"$f":"ABS(ROUND(5*AD15/(AD15-AD16+0.001),0))","v":65},{"$f":"ABS(ROUND(5*(AD15/(AD15-AD16+0.0001)-1),0))","v":70},{"$f":"AD15-(AD15/AC29)*(AC29-AD29)-AD16","v":0},{"$f":"ROUNDDOWN(ABS(AE29),0)","v":0},null,2.5714285714285716,2.4444444444444446,{"$f":"(10/3)*((AM29/AL29)*(1/J6)-1)","v":-0.42328042328042292},{"$f":"(100/68)*((AO29/AN29)*(1/J7)-1)","v":0.42016806722689093},13.5,33,14,36,"کشباف (یکی)",23,null,"کشباف (یکی)",62,9,null,null,null,null,null,null,null,null,null,null,null,null,null,null,null,null,null,null,null,null,null,null,null,null,null,null,null,null,null,null,null,null,null,null,null,null,null,null,null,null,null,null,null,{"$f":"CI40","v":3.8},{"$f":"CJ40","v":57.8},"j6",null,{"$f":"0.9*(CQ26-CQ24)+CQ24","v":36.476999999999997},{"$f":"CR27+0.5*(CR26-CR27)","v":19.741},"d8",null,{"$f":"CQ26","v":40.529999999999994},{"$f":"CR26","v":24.280999999999999},"d4",null,null,null,null,null,null,{"$f":"DB37+'طراحی همه الگوها'!U189","v":28.4},{"$f":"DE15","v":63.1},3,null,{"$f":"DH20","v":15.3},{"$f":"DI20","v":3},16,null,"s11",{"$f":"DM36-'طراحی همه الگوها'!U197*SIN(DM17)","v":23.052904884106745},{"$f":"DN36-'طراحی همه الگوها'!U197*COS(DM17)","v":25.308247405542708},null,{"$f":"DM32","v":0},{"$f":"DN32","v":32.200000000000003},"s16",null,"s'19",{"$f":"EC41+('متغیرها '!C20*'متغیرها '!U83)*COS(DM17+RADIANS(EC40))","v":22.16870108373309},{"$f":"ED41-('متغیرها '!C20*'متغیرها '!U83)*SIN(DM17+RADIANS(EC40))","v":27.10478848484448},null,{"$f":"DU18","v":20.259512774529412},{"$f":"DV18","v":29.013976794048158},"s'10",null,null,null,null,{"$f":"DB37+'طراحی همه الگوها'!U216","v":110},{"$f":"EF20","v":100.60000000000001},10,null,null,null,null,null,null,null,1,{"$f":"DM19","v":0},{"$f":"'طراحی همه الگوها'!U233+ER39+DM44","v":57.8},null,null,{"$f":"ET28+'طراحی همه الگوها'!U242","v":23.4},{"$f":"EU28","v":13.574999999999999},16,null,null,null,null,null,null,null,null,null,null,null,null,null,null,null,null,null,"s''18",{"$f":"FO28+0.5*(FO12-FO28)","v":2.1238199999999998},{"$f":"FP28-0.3*(FP28-FP12)","v":51.870365},null,null,null,null,null,null,null,null,null,null,28,{"$f":"GB12+GE12*SIN(RADIANS(GA29)+GA14)","v":{"$error":"#DIV/0!"}},{"$f":"GC12+GE12*COS(RADIANS(GA29)+GA14)","v":{"$error":"#DIV/0!"}},{"$f":"IF(GB13>GB29,ATAN((GC13-GC29)/(GB13-GB29)),ATAN((GC13-GC29)/(GB29-GB13)))","v":{"$error":"#DIV/0!"}},{"$f":"IF(GB13>GB29,(GB13-GB29)/COS(GD29),(GB29-GB13)/COS(GD29))","v":{"$error":"#DIV/0!"}},null,1,2,"نقطه 11","نقطه قبل از چرخش",{"$f":"IF(GH29>GH18,IF(GG29>GG18,GG18+SQRT(POWER(GG29-GG18,2)+POWER(GH29-GH18,2))*COS(ATAN((GH29-GH18)/(GG29-GG18+0.000123))+GH16),GG18-SQRT(POWER(GG29-GG18,2)+POWER(GH29-GH18,2))*COS(ATAN((GH29-GH18)/(GG18-GG29+0.000123))-GH16)),IF(GG29>GG18,GG18+SQRT(POWER(GG29-GG18,2)+POWER(GH29-GH18,2))*COS(ATAN((GH18-GH29)/(GG29-GG18+0.000123))-GH16),GG18-SQRT(POWER(GG29-GG18,2)+POWER(GH29-GH18,2))*COS(ATAN((GH18-GH29)/(GG18-GG29+0.000123))+GH16)))","v":0.61824523267144293},{"$f":"IF(GH29>GH18,IF(GG29>GG18,GH18+SQRT(POWER(GG29-GG18,2)+POWER(GH29-GH18,2))*SIN(ATAN((GH29-GH18)/(GG29-GG18+0.000123))+GH16),GH18+SQRT(POWER(GG29-GG18,2)+POWER(GH29-GH18,2))*SIN(ATAN((GH29-GH18)/(GG18-GG29+0.000123))-GH16)),IF(GG29>GG18,GH18-SQRT(POWER(GG29-GG18,2)+POWER(GH29-GH18,2))*SIN(ATAN((GH18-GH29)/(GG29-GG18+0.000123))-GH16),GH18-SQRT(POWER(GG29-GG18,2)+POWER(GH29-GH18,2))*SIN(ATAN((GH18-GH29)/(GG18-GG29+0.000123))+GH16)))","v":0.69874634779839551},"نقطه چرخیده",null,"نقطه خروجی میانه",null,{"$f":"GQ21+GQ24*GR26*SIN(GP26)/GR25","v":{"$error":"#REF!"}},{"$f":"GR21-GQ24*GR26*COS(GP26)/GR25","v":{"$error":"#REF!"}},null,null,{"$f":"GU28+GT11","v":-64},-1.1170107212763709,{"$f":"HB13+HB10*COS(GV29)","v":{"$error":"#REF!"}},{"$f":"HC13-HB10*SIN(GV29)","v":{"$error":"#REF!"}},{"$f":"SQRT(POWER((HB12-GW29),2)+POWER((HC12-GX29),2))","v":{"$error":"#REF!"}},{"$f":"ABS(HB9-GY29)","v":{"$error":"#REF!"}},null,"نقطه دوم از خط اول","f6",{"$f":"#REF!","v":{"$error":"#REF!"}},{"$f":"#REF!","v":{"$error":"#REF!"}},null,null,null,null,null,null,null,null,null,{"$f":"-HK29+HP9","v":0},0,null,null,null,null,null,null,null,null,null,null,null,null,null,null,null,null,null,null,null,null,null,null,null,null,null,null,null,null,null,null,null,null,null,null,null,null,null,null,null,null,null,null,null,null,null,null,null,null,null,null,null,null,null,null,null,null,null,null,null,null,null,null,null,null,null,null,null,null,null,null,null,null,null,null,null,null,null,null,null,null,null,null,null,null,null,null,null,null,null,null,null,null,null,null,null,null,null,null,null,null,null,null,null,null,null,null,null,null,null,null,null,null,null,null,null,null,null,null,null,null,null,null,null,null,null,null,null,null,null,null,null,null,null,null,null,null,null,null,null,null,null,null,null,null,null,null,null,null,null,null,null,null,null,null,null,null,null,null,null,null,null,{"$f":"\"بافت جادکمه: \"&TEXT(0,NU45)&\"-  \"&TEXT(0,'طراحی همه الگوها'!A179)","v":"بافت جادکمه: جودانه-  1 تا 3 ماهه"},null,null,"نقطه ورودی سر فلش","مولفه افقی","مولفه عمودی",{"$f":"NZ32","v":-32.682676630434784},{"$f":"OA32","v":5.410869565217391},{"$f":"NY32","v":"f3"},null,null,{"$f":"\"در اینجا تعداد دانه ها \"&TEXT(0,OG17)&\"   میباشد \"","v":"در اینجا تعداد دانه ها 25   میباشد "},null,null,"نقطه ورودی سر فلش","مولفه افقی","مولفه عمودی",{"$f":"OK32","v":-33.100884484228473},{"$f":"OL32","v":5.2900255754475705},{"$f":"OJ32","v":"f3"},null,null,{"$f":"\"در اینجا تعداد دانه ها \"&TEXT(0,OR17)&\"   میباشد \"","v":"در اینجا تعداد دانه ها 25   میباشد "},null,null,"نقطه ورودی سر فلش","مولفه افقی","مولفه عمودی",{"$f":"OV32","v":-33.224842817561807},{"$f":"OW32","v":5.2900255754475705},{"$f":"OU32","v":"f3"},null,"a10,a11,b1",{"$f":"\"تعداد دانه\"&TEXT(0,PC12)&\"میباشد. هر\"&TEXT(0,PC9)&\"  دانه را تبدیل به  \"&TEXT(0,PC10)&\"  دانه میکنیم تا تعداد دانه ها  \"&TEXT(0,PC13)&\" شود\"","v":"تعداد دانه50میباشد. هر12  دانه را تبدیل به  10  دانه میکنیم تا تعداد دانه ها  42 شود"},null,null,"نقطه ورودی سر فلش","مولفه افقی","مولفه عمودی",{"$f":"PG32","v":-32.171196984228473},{"$f":"PH32","v":5.2900255754475705},{"$f":"PF32","v":"f3"},null,"a10,a11,b1",{"$f":"\"تعداد دانه\"&TEXT(0,PN12)&\"میباشد. هر\"&TEXT(0,PN9)&\"  دانه را تبدیل به  \"&TEXT(0,PN10)&\"  دانه میکنیم تا تعداد دانه ها  \"&TEXT(0,PN13)&\" شود\"","v":"تعداد دانه50میباشد. هر12  دانه را تبدیل به  10  دانه میکنیم تا تعداد دانه ها  42 شود"},null,null,"نقطه ورودی سر فلش","مولفه افقی","مولفه عمودی",{"$f":"PR32","v":-31.799321984228474},{"$f":"PS32","v":5.2900255754475705},{"$f":"PQ32","v":"f3"},null,{"$f":"PY5","v":-45},{"$f":"PY6","v":5},"t1",null,"بزرگی خط عمودی دانه",{"$f":"PY11","v":0.5},"f9",null,null,"فلش به سمت بالا",null,null,null,"پایین پیراهن",null,{"$f":"QI78","v":7.532},{"$f":"QJ78","v":35.888726831407766},"26''",null,{"$f":"2*QQ15-QQ28","v":-22.832000000000001},{"$f":"QR28","v":3.905009973999348},"k19",null,null,null,null,{"$f":"QQ43","v":-23.131999999999998},{"$f":"QR43","v":12.392058931086847},"k33",null,"a10,a11,b1",{"$f":"\"   تا تعداد دانه ها  \"&TEXT(0,RC13)&\" شود\"","v":"   تا تعداد دانه ها  58 شود"},null,null,"نقطه ورودی سر فلش","مولفه افقی","مولفه عمودی",{"$f":"RG32","v":-33.319634484228473},{"$f":"RH32","v":5.2900255754475705},{"$f":"RF32","v":"f3"},null,null,{"$f":"RN12","v":0.84280936454849498},"c2",null,{"$f":"RM41","v":6.4236111111111107},{"$f":"RN41","v":-20},{"$f":"RO41","v":5},null,null,null,null,null,{"$f":"RU41","v":-35.785953177257525},{"$f":"RV41","v":0},{"$f":"RW41","v":5},null,{"$f":"RU66","v":-38.314381270903013},{"$f":"RV66","v":0},{"$f":"RW66","v":2},null,null,{"$f":"RN18","v":0.84280936454849498},"c2",null,{"$f":"SG41","v":6.4236111111111107},{"$f":"SH41","v":-20},{"$f":"SI41","v":5},null,null,null,null,null,{"$f":"SO41","v":-35.785953177257525},{"$f":"SP41","v":0},{"$f":"SQ41","v":5},null,{"$f":"SO66","v":-38.314381270903013},{"$f":"SP66","v":0},{"$f":"SQ66","v":2},null,null,{"$f":"RN14","v":0.82173913043478275},"c2",null,{"$f":"TA41","v":6.0763888888888893},{"$f":"TB41","v":-20},{"$f":"TC41","v":5},null,null,null,null,null,{"$f":"TI41","v":-35.891304347826086},{"$f":"TJ41","v":0},{"$f":"TK41","v":5},null,{"$f":"TI66","v":-38.356521739130436},{"$f":"TJ66","v":0},{"$f":"TK66","v":2},null,null,{"$f":"RN16","v":0.82173913043478275},"c2",null,{"$f":"TU41","v":6.0763888888888893},{"$f":"TV41","v":-20},{"$f":"TW41","v":5},null,null,null,null,null,{"$f":"UC41","v":-35.891304347826086},{"$f":"UD41","v":0},{"$f":"UE41","v":5},null,{"$f":"UC66","v":-38.356521739130436},{"$f":"UD66","v":0},{"$f":"UE66","v":2},null,null,{"$f":"RN20","v":0.84280936454849498},"c2",null,{"$f":"UO41","v":6.4236111111111107},{"$f":"UP41","v":-20},{"$f":"UQ41","v":5},null,null,null,null,null,{"$f":"UW41","v":-35.785953177257525},{"$f":"UX41","v":0},{"$f":"UY41","v":5},null,{"$f":"UW66","v":-38.314381270903013},{"$f":"UX66","v":0},{"$f":"UY66","v":2},null,null,{"$f":"RN22","v":0.84280936454849498},"c2",null,{"$f":"VI41","v":6.4236111111111107},{"$f":"VJ41","v":-20},{"$f":"VK41","v":5},null,null,null,null,null,{"$f":"VQ41","v":-35.785953177257525},{"$f":"VR41","v":0},{"$f":"VS41","v":5},null,{"$f":"VQ66","v":-38.314381270903013},{"$f":"VR66","v":0},{"$f":"VS66","v":2}]
[null,null,null,null,"تعداد دانه های اضافه شده زیر بغل   b8",{"$f":"F15","v":4},null,"تعداد دانه در یک سانت پشتb01 ",{"$f":"F7+0.68*I32*F7","v":1.6457142857142857},null,null,{"$f":"IF(O33+2*O41-G46=0,1,IF(O25<=2,L25,IF(O26<=2,L26,IF(O27<=2,L27,IF(O28<=2,L28,L29)))))","v":4},{"$f":"IF(O33+2*O41-G46=0,1,IF(O25<=2,M25,IF(O26<=2,M26,IF(O27<=2,M27,IF(O28<=2,M28,M29)))))","v":2},null,null,null,{"$f":"ABS(ROUND(5*S19/(S19-G46+0.001),0))","v":32},{"$f":"ABS(ROUND(5*(S19/(S19-G46+0.0001)-1),0))","v":27},{"$f":"S19-(S19/Q30)*(Q30-R30)-G46","v":-7.7586747647416132E-2},{"$f":"ROUNDDOWN(ABS(S30),0)","v":0},null,null,{"$f":"IF(X33+2*F25-G46=0,1,IF(Z25<=2,W25,IF(Z26<=2,W26,IF(Z27<=2,W27,IF(Z28<=2,W28,W29)))))","v":12},{"$f":"IF(X33+2*F25-G46=0,1,IF(Z25<=2,X25,IF(Z26<=2,X26,IF(Z27<=2,X27,IF(Z28<=2,X28,X29)))))","v":10},null,null,null,null,{"$f":"IF(AD33+2*L25-M46=0,1,IF(AF25<=2,AC25,IF(AF26<=2,AC26,IF(AF27<=2,AC27,IF(AF28<=2,AC28,AC29)))))","v":1},{"$f":"IF(AD33+2*L25-M46=0,1,IF(AF25<=2,AD25,IF(AF26<=2,AD26,IF(AF27<=2,AD27,IF(AF28<=2,AD28,AD29)))))","v":1},null,null,null,2.5714285714285716,2.8888888888888888,{"$f":"(10/3)*((AM30/AL30)*(1/J6)-1)","v":0.10582010582010619},{"$f":"(100/68)*((AO30/AN30)*(1/J7)-1)","v":0.42016806722689093},13.5,39,14,36,"پیچ با فاصله",24,null,"پیچ با فاصله",62,35,null,null,null,null,null,null,null,null,null,null,null,null,null,null,null,null,null,null,null,null,null,null,null,null,null,null,null,null,null,null,null,null,null,null,null,null,null,null,null,null,null,null,null,{"$f":"CI42","v":1.8},{"$f":"CJ42","v":47.199999999999996},"j8",null,{"$f":"0.7*(CQ26-CQ24)+CQ24","v":28.370999999999995},{"$f":"CR27+0.1*(CR26-CR27)","v":16.108999999999998},"d9",null,null,null,null,null,null,null,null,null,null,{"$f":"DB37+'طراحی همه الگوها'!U189","v":28.4},{"$f":"DE15-'طراحی همه الگوها'!U198","v":51.5},14,null,{"$f":"DH14","v":15.3},{"$f":"DI14","v":18.8},17,null,"s13",{"$f":"DM19+'طراحی همه الگوها'!U189-0.5*'طراحی همه الگوها'!U190","v":23.45},{"$f":"DM45+DM44","v":0},null,null,null,null,null,"2'",{"$f":"DM19","v":0},{"$f":"EC35+DM44","v":0},null,{"$f":"DU29","v":22.16870108373309},{"$f":"DV29","v":27.10478848484448},"s'19",null,null,null,null,{"$f":"EI15","v":48.3},{"$f":"EJ15","v":100.60000000000001},13,null,{"$f":"DB37","v":0},{"$f":"EF13","v":57.8},1,null,null,null,3,{"$f":"EP29-'طراحی همه الگوها'!U234","v":-3.4},{"$f":"EQ29-'طراحی همه الگوها'!U232","v":-8},null,null,{"$f":"ET28+'طراحی همه الگوها'!U242","v":23.4},{"$f":"EU28-'طراحی همه الگوها'!U245","v":10.774999999999999},19,null,{"$f":"EP36","v":28.708535316173833},{"$f":"EQ36","v":29.091464683826167},10,null,null,null,null,null,{"$f":"FF13+'طراحی همه الگوها'!U260+'طراحی همه الگوها'!U262","v":44.400000000000006},{"$f":"FG25+FC44","v":33.799999999999997},13,null,{"$f":"FJ24","v":21.7},{"$f":"FG17","v":25},21,null,2,{"$f":"FO14","v":0},{"$f":"FC42+DM44","v":0},null,{"$f":"FO24","v":10.7},25.365691432475337,"41شبیه ساز",null,null,null,null,null,null,30,{"$f":"GB12+GE12*SIN(RADIANS(GA30)+GA14)","v":{"$error":"#DIV/0!"}},{"$f":"GC12+GE12*COS(RADIANS(GA30)+GA14)","v":{"$error":"#DIV/0!"}},{"$f":"IF(GB13>GB30,ATAN((GC13-GC30)/(GB13-GB30)),ATAN((GC13-GC30)/(GB30-GB13)))","v":{"$error":"#DIV/0!"}},{"$f":"IF(GB13>GB30,(GB13-GB30)/COS(GD30),(GB30-GB13)/COS(GD30))","v":{"$error":"#DIV/0!"}},null,1,2,"نقطه 12","نقطه قبل از چرخش",{"$f":"IF(GH30>GH18,IF(GG30>GG18,GG18+SQRT(POWER(GG30-GG18,2)+POWER(GH30-GH18,2))*COS(ATAN((GH30-GH18)/(GG30-GG18+0.000123))+GH16),GG18-SQRT(POWER(GG30-GG18,2)+POWER(GH30-GH18,2))*COS(ATAN((GH30-GH18)/(GG18-GG30+0.000123))-GH16)),IF(GG30>GG18,GG18+SQRT(POWER(GG30-GG18,2)+POWER(GH30-GH18,2))*COS(ATAN((GH18-GH30)/(GG30-GG18+0.000123))-GH16),GG18-SQRT(POWER(GG30-GG18,2)+POWER(GH30-GH18,2))*COS(ATAN((GH18-GH30)/(GG18-GG30+0.000123))+GH16)))","v":0.61824523267144293},{"$f":"IF(GH30>GH18,IF(GG30>GG18,GH18+SQRT(POWER(GG30-GG18,2)+POWER(GH30-GH18,2))*SIN(ATAN((GH30-GH18)/(GG30-GG18+0.000123))+GH16),GH18+SQRT(POWER(GG30-GG18,2)+POWER(GH30-GH18,2))*SIN(ATAN((GH30-GH18)/(GG18-GG30+0.000123))-GH16)),IF(GG30>GG18,GH18-SQRT(POWER(GG30-GG18,2)+POWER(GH30-GH18,2))*SIN(ATAN((GH18-GH30)/(GG30-GG18+0.000123))-GH16),GH18-SQRT(POWER(GG30-GG18,2)+POWER(GH30-GH18,2))*SIN(ATAN((GH18-GH30)/(GG18-GG30+0.000123))+GH16)))","v":0.69874634779839551},"نقطه چرخیده",null,null,null,null,null,null,null,{"$f":"GU29+GT11","v":-62},-1.0821041362364843,{"$f":"HB13+HB10*COS(GV30)","v":{"$error":"#REF!"}},{"$f":"HC13-HB10*SIN(GV30)","v":{"$error":"#REF!"}},{"$f":"SQRT(POWER((HB12-GW30),2)+POWER((HC12-GX30),2))","v":{"$error":"#REF!"}},{"$f":"ABS(HB9-GY30)","v":{"$error":"#REF!"}},null,"نقطه اول از خط دوم","f7",{"$f":"#REF!","v":{"$error":"#REF!"}},{"$f":"#REF!","v":{"$error":"#REF!"}},null,null,null,null,null,null,null,null,null,{"$f":"-HK30+HP9","v":0},0,null,null,null,null,null,null,null,null,null,null,null,null,null,null,null,null,null,null,null,null,null,null,null,null,null,null,null,null,null,null,null,null,null,null,null,null,null,null,null,null,null,null,null,null,null,null,null,null,null,null,null,null,null,null,null,null,null,null,null,null,null,null,null,null,null,null,null,null,null,null,null,null,null,null,null,null,null,null,null,null,null,null,null,null,null,null,null,null,null,null,null,null,null,null,null,null,null,null,null,null,null,null,null,null,null,null,null,null,null,null,null,null,null,null,null,null,null,null,null,null,null,null,null,null,null,null,null,null,null,null,null,null,null,null,null,null,null,null,null,null,null,null,null,null,null,null,null,null,null,null,null,null,null,null,null,null,null,null,null,null,"متغیرهای  ورودی ",null,null,null,"w6",{"$f":"NU55","v":-31.860937499999999},{"$f":"NV55","v":5},null,null,null,null,{"$f":"OF11","v":"e7"},{"$f":"TEXT(0,OG11)&\" رج مثل رج قبل میبافیم\"","v":"13 رج مثل رج قبل میبافیم"},null,null,"m3",{"$f":"OF62","v":-32.520833333333336},{"$f":"OG62","v":5},null,null,null,null,{"$f":"OQ11","v":"e7"},{"$f":"TEXT(0,OR11)&\" رج مثل رج قبل میبافیم\"","v":"13 رج مثل رج قبل میبافیم"},null,null,"m3",{"$f":"OQ62","v":-32.64479166666667},{"$f":"OR62","v":5},null,null,null,null,null,{"$f":"\"نقشه بافت یقه ب ب غیر مسطح تا خط مرکزی جلو با میل \"&TEXT(0,PB19)&\"  بافت   \"&TEXT(0,PB21)","v":"نقشه بافت یقه ب ب غیر مسطح تا خط مرکزی جلو با میل 4.5  بافت   همه از زیر"},null,null,"n3",{"$f":"PB62","v":-31.591145833333332},{"$f":"PC62","v":5},null,null,null,null,null,{"$f":"\"نقشه بافت یقه ب ب معمولی تا خط مرکزی جلو بافت \"&TEXT(0,PM21)&\"  با میل \"&TEXT(0,PM19)","v":"نقشه بافت یقه ب ب معمولی تا خط مرکزی جلو بافت همه از زیر  با میل 4.5"},null,null,"n3",{"$f":"PM62","v":-31.219270833333333},{"$f":"PN62","v":5},null,null,null,null,{"$f":"PX29+3.5","v":-41.5},{"$f":"PY29","v":5},"t2",null,"بزرگی فلش دانه",{"$f":"PY12","v":0.3},"f10",{"$f":"QC37","v":-42.55},{"$f":"QD37","v":7.4285714285714288},{"$f":"QB37","v":"f8"},null,{"$f":"FF156","v":11.64122823458538},{"$f":"FG156","v":18.265691432475336},"شیفت7",null,null,null,null,null,{"$f":"QQ15+(QR7+QR8)*SIN(RADIANS(60))","v":-16.548283142591583},{"$f":"QR15-(QR7+QR8)*COS(RADIANS(60))","v":5.5887268314077652},"k20",null,null,null,null,{"$f":"QQ41","v":-25.731999999999999},{"$f":"QR41","v":7.8887268314077659},"k31",null,null,{"$f":"\"یقه انگلیسی بافت  \"&TEXT(0,RB22)&\"  با میل \"&TEXT(0,RB20)","v":"یقه انگلیسی بافت  جودانه  با میل 4.5"},null,null,"p3",{"$f":"RB62","v":-32.739583333333336},{"$f":"RC62","v":5},null,null,null,null,null,null,null,null,{"$f":"RQ29","v":6.4236111111111107},{"$f":"RN38","v":-40.22742474916388},null,null,"پهنا عمودی",{"$f":"IF(AND(ABS(RY87-RY150)>0,(RY86-RY26)>0,(2*RV27-(RY86-RY26))>(RU66-RU65)),\"پهنای عمودی توری کوچکتر از انتخاب شما است \",\"  \")","v":"  "},"خطا : ",null,{"$f":"RY29","v":-35.785953177257525},{"$f":"RV38","v":10.277777777777777},null,null,{"$f":"SC29","v":-38.314381270903013},{"$f":"RV38","v":10.277777777777777},null,null,null,null,null,null,{"$f":"SK29","v":6.4236111111111107},{"$f":"SH38","v":-40.22742474916388},null,null,"پهنا عمودی",{"$f":"IF(AND(ABS(SS87-SS150)>0,(SS86-SS26)>0,(2*SP27-(SS86-SS26))>(SO66-SO65)),\"پهنای عمودی توری کوچکتر از انتخاب شما است \",\"  \")","v":"  "},"خطا : ",null,{"$f":"SS29","v":-35.785953177257525},{"$f":"SP38","v":10.277777777777777},null,null,{"$f":"SW29","v":-38.314381270903013},{"$f":"SP38","v":10.277777777777777},null,null,null,null,null,null,{"$f":"TE29","v":6.0763888888888893},{"$f":"TB38","v":-39.721739130434784},null,null,"پهنا عمودی",{"$f":"IF(AND(ABS(TM87-TM150)>0,(TM86-TM26)>0,(2*TJ27-(TM86-TM26))>(TI66-TI65)),\"پهنای عمودی توری کوچکتر از انتخاب شما است \",\"  \")","v":"  "},"خطا : ",null,{"$f":"TM29","v":-35.891304347826086},{"$f":"TJ38","v":9.7222222222222232},null,null,{"$f":"TQ29","v":-38.356521739130436},{"$f":"TJ38","v":9.7222222222222232},null,null,null,null,null,null,{"$f":"TY29","v":6.0763888888888893},{"$f":"TV38","v":-39.721739130434784},null,null,"پهنا عمودی",{"$f":"IF(AND(ABS(UG87-UG150)>0,(UG86-UG26)>0,(2*UD27-(UG86-UG26))>(UC66-UC65)),\"پهنای عمودی توری کوچکتر از انتخاب شما است \",\"  \")","v":"  "},"خطا : ",null,{"$f":"UG29","v":-35.891304347826086},{"$f":"UD38","v":9.7222222222222232},null,null,{"$f":"UK29","v":-38.356521739130436},{"$f":"UD38","v":9.7222222222222232},null,null,null,null,null,null,{"$f":"US29","v":6.4236111111111107},{"$f":"UP38","v":-40.22742474916388},null,null,"پهنا عمودی",{"$f":"IF(AND(ABS(VA87-VA150)>0,(VA86-VA26)>0,(2*UX27-(VA86-VA26))>(UW66-UW65)),\"پهنای عمودی توری کوچکتر از انتخاب شما است \",\"  \")","v":"  "},"خطا : ",null,{"$f":"VA29","v":-35.785953177257525},{"$f":"UX38","v":10.277777777777777},null,null,{"$f":"VE29","v":-38.314381270903013},{"$f":"UX38","v":10.277777777777777},null,null,null,null,null,null,{"$f":"VM29","v":6.4236111111111107},{"$f":"VJ38","v":-40.22742474916388},null,null,"پهنا عمودی",{"$f":"IF(AND(ABS(VU87-VU150)>0,(VU86-VU26)>0,(2*VR27-(VU86-VU26))>(VQ66-VQ65)),\"پهنای عمودی توری کوچکتر از انتخاب شما است \",\"  \")","v":"  "},"خطا : ",null,{"$f":"VU29","v":-35.785953177257525},{"$f":"VR38","v":10.277777777777777},null,null,{"$f":"VY29","v":-38.314381270903013},{"$f":"VR38","v":10.277777777777777}]
[null,null,null,null,"تعداد دانه های سرتاسر آستین در قسمت زیر بغل   b20",{"$f":"F16","v":33},null,"جمع شوندگی عمودی بافت پشت   f02",{"$f":"OFFSET(AJ6,I33,0)","v":0.19400352733686049},null,null,null,null,"یقه شکاری",null,null,{"$f":"IF(S19=G46,1,IF(T26<=2,Q26,IF(T27<=2,Q27,IF(T28<=2,Q28,IF(T29<=2,Q29,Q30)))))","v":13},{"$f":"IF(S19=G46,1,IF(T26<=2,R26,IF(T27<=2,R27,IF(T28<=2,R28,IF(T29<=2,R29,R30)))))","v":11},null,null,null,null,"یقه ب ب غیر مسطح تا خط مرکزی جلو",null,null,"یقه ب ب مسطح تا خط مرکزی جلو",null,null,"یقه انگلیسی ",null,null,null,null,{"$f":"AO31/AN31","v":2.8571428571428572},{"$f":"AM31/AL31","v":2.8888888888888888},{"$f":"(10/3)*((AM31/AL31)*(1/J6)-1)","v":0.10582010582010619},{"$f":"(100/68)*((AO31/AN31)*(1/J7)-1)","v":0.63025210084033623},13.5,39,3.5,10,"پیچ متراکم",25,null,"پیچ متراکم",83,35,null,null,null,null,null,null,null,null,null,null,null,null,null,null,null,null,null,null,null,null,null,null,null,null,null,null,null,null,null,null,null,null,null,null,null,null,null,null,null,null,null,null,null,null,null,null,null,{"$f":"CQ24","v":0},{"$f":"CR15-1-0.013*(CR25-CR27)","v":23.355070000000001},"j'2",null,null,null,null,null,null,null,null,null,null,null,null,null,null,null,null,null,null,"s14",{"$f":"DM13+DM42*COS(DM40)","v":4.2476399999999996},{"$f":"DN13-DM42*SIN(DM40)","v":48.56955},null,{"$f":"DP25","v":4.2476399999999996},{"$f":"DQ25","v":48.56955},"s14",null,null,null,null,null,null,null,null,null,null,null,null,{"$f":"DB37+'طراحی همه الگوها'!U211+'طراحی همه الگوها'!U219","v":65.8},{"$f":"EF20","v":100.60000000000001},12,null,{"$f":"DB37+'طراحی همه الگوها'!U216","v":110},{"$f":"EF33","v":57.8},3,null,null,null,5,{"$f":"EP29+'طراحی همه الگوها'!U235","v":3},{"$f":"EQ29-'طراحی همه الگوها'!U233","v":0},null,null,null,null,null,null,{"$f":"EP37","v":22.698127676088177},{"$f":"EQ37","v":23.081057043740515},11,null,null,null,null,null,{"$f":"FF13","v":0},{"$f":"FG30","v":33.799999999999997},12,null,{"$f":"FJ24","v":21.7},{"$f":"FK24","v":19},22,null,"s''12",{"$f":"FO30","v":0},{"$f":"FP24","v":25.365691432475337},null,15.475,17.755984002732735,"41'",null,null,null,null,null,null,32,{"$f":"GB12+GE12*SIN(RADIANS(GA31)+GA14)","v":{"$error":"#DIV/0!"}},{"$f":"GC12+GE12*COS(RADIANS(GA31)+GA14)","v":{"$error":"#DIV/0!"}},{"$f":"IF(GB13>GB31,ATAN((GC13-GC31)/(GB13-GB31)),ATAN((GC13-GC31)/(GB31-GB13)))","v":{"$error":"#DIV/0!"}},{"$f":"IF(GB13>GB31,(GB13-GB31)/COS(GD31),(GB31-GB13)/COS(GD31))","v":{"$error":"#DIV/0!"}},null,1,2,"نقطه 13","نقطه قبل از چرخش",{"$f":"IF(GH31>GH18,IF(GG31>GG18,GG18+SQRT(POWER(GG31-GG18,2)+POWER(GH31-GH18,2))*COS(ATAN((GH31-GH18)/(GG31-GG18+0.000123))+GH16),GG18-SQRT(POWER(GG31-GG18,2)+POWER(GH31-GH18,2))*COS(ATAN((GH31-GH18)/(GG18-GG31+0.000123))-GH16)),IF(GG31>GG18,GG18+SQRT(POWER(GG31-GG18,2)+POWER(GH31-GH18,2))*COS(ATAN((GH18-GH31)/(GG31-GG18+0.000123))-GH16),GG18-SQRT(POWER(GG31-GG18,2)+POWER(GH31-GH18,2))*COS(ATAN((GH18-GH31)/(GG18-GG31+0.000123))+GH16)))","v":0.61824523267144293},{"$f":"IF(GH31>GH18,IF(GG31>GG18,GH18+SQRT(POWER(GG31-GG18,2)+POWER(GH31-GH18,2))*SIN(ATAN((GH31-GH18)/(GG31-GG18+0.000123))+GH16),GH18+SQRT(POWER(GG31-GG18,2)+POWER(GH31-GH18,2))*SIN(ATAN((GH31-GH18)/(GG18-GG31+0.000123))-GH16)),IF(GG31>GG18,GH18-SQRT(POWER(GG31-GG18,2)+POWER(GH31-GH18,2))*SIN(ATAN((GH18-GH31)/(GG31-GG18+0.000123))-GH16),GH18-SQRT(POWER(GG31-GG18,2)+POWER(GH31-GH18,2))*SIN(ATAN((GH18-GH31)/(GG18-GG31+0.000123))+GH16)))","v":0.69874634779839551},"نقطه چرخیده",null,null,"رسم باکس زیپ دامن-باکس چپ","مولفه افقی","مولفه عمودی",null,null,{"$f":"GU30+GT11","v":-60},-1.0471975511965976,{"$f":"HB13+HB10*COS(GV31)","v":{"$error":"#REF!"}},{"$f":"HC13-HB10*SIN(GV31)","v":{"$error":"#REF!"}},{"$f":"SQRT(POWER((HB12-GW31),2)+POWER((HC12-GX31),2))","v":{"$error":"#REF!"}},{"$f":"ABS(HB9-GY31)","v":{"$error":"#REF!"}},null,"نقطه دوم از خط دوم","f8",{"$f":"#REF!","v":{"$error":"#REF!"}},{"$f":"#REF!","v":{"$error":"#REF!"}},null,null,null,null,null,null,null,null,null,{"$f":"-HK31+HP9","v":0},0,null,null,null,null,null,null,null,null,null,null,null,null,null,null,null,null,null,null,null,null,null,null,null,null,null,null,null,null,null,null,null,null,null,null,null,null,null,null,null,null,null,null,null,null,null,null,null,null,null,null,null,null,null,null,null,null,null,null,null,null,null,null,null,null,null,null,null,null,null,null,null,null,null,null,null,null,null,null,null,null,null,null,null,null,null,null,null,null,null,null,null,null,null,null,null,null,null,null,null,null,null,null,null,null,null,null,null,null,null,null,null,null,null,null,null,null,null,null,null,null,null,null,null,null,null,null,null,null,null,null,null,null,null,null,null,null,null,null,null,null,null,null,null,null,null,null,null,null,null,null,null,null,null,null,null,null,null,null,null,null,"Xw1",{"$f":"'متغیرها '!C856-20","v":-35},"جابجایی افقی کل نقشه",null,"f2",{"$f":"NZ30-1*NZ28","v":-32.682676630434784},{"$f":"OA30-NZ27*NZ28","v":4.589130434782609},{"$f":"NZ30","v":-31.860937499999999},{"$f":"OA30","v":5},{"$f":"NY30","v":"w6"},null,{"$f":"OF12","v":"e8"},{"$f":"TEXT(0,OG12)&\" رج مثل رج قبل میبافیم\"","v":"22 رج مثل رج قبل میبافیم"},null,null,"f2",{"$f":"OK30-1*OK28","v":-33.100884484228473},{"$f":"OL30-OK27*OK28","v":4.7099744245524295},{"$f":"OK30","v":-32.520833333333336},{"$f":"OL30","v":5},{"$f":"OJ30","v":"m3"},null,{"$f":"OQ12","v":"e8"},{"$f":"TEXT(0,OR12)&\" رج مثل رج قبل میبافیم\"","v":"22 رج مثل رج قبل میبافیم"},null,null,"f2",{"$f":"OV30-1*OV28","v":-33.224842817561807},{"$f":"OW30-OV27*OV28","v":4.7099744245524295},{"$f":"OV30","v":-32.64479166666667},{"$f":"OW30","v":5},{"$f":"OU30","v":"m3"},null,"b2",{"$f":"TEXT(0,PC15)&\"دانه\"","v":"11دانه"},null,null,"f2",{"$f":"PG30-1*PG28","v":-32.171196984228473},{"$f":"PH30-PG27*PG28","v":4.7099744245524295},{"$f":"PG30","v":-31.591145833333332},{"$f":"PH30","v":5},{"$f":"PF30","v":"n3"},null,"b2",{"$f":"TEXT(0,PN15)&\"دانه\"","v":"11دانه"},null,null,"f2",{"$f":"PR30-1*PR28","v":-31.799321984228474},{"$f":"PS30-PR27*PR28","v":4.7099744245524295},{"$f":"PR30","v":-31.219270833333333},{"$f":"PS30","v":5},{"$f":"PQ30","v":"n3"},null,{"$f":"PX30","v":-41.5},{"$f":"PY30+PY7","v":6.4285714285714288},"t3",null,"زاویه فلش دانه",{"$f":"PY13","v":0.75},"f11",{"$f":"QC34","v":-42.55},{"$f":"QD34","v":6.4285714285714288},{"$f":"QB34","v":"t4"},null,{"$f":"FF159","v":6.2951119999999996},{"$f":"FG159","v":17.899999999999999},"شیفت50",null,{"$f":"QI78","v":7.532},{"$f":"QJ78","v":35.888726831407766},"26''",null,{"$f":"2*QQ15-QQ30","v":-24.515716857408417},{"$f":"QR30","v":5.5887268314077652},"k21",null,null,null,null,{"$f":"QQ39","v":-25.035332099679081},{"$f":"QR39","v":5.2887268314077653},"k29",null,"d8",{"$f":"TEXT(0,RC11)&\" دانه جلوانگلیسی\"","v":"15 دانه جلوانگلیسی"},null,null,"f2",{"$f":"RG30-1*RG28","v":-33.319634484228473},{"$f":"RH30-RG27*RG28","v":4.7099744245524295},{"$f":"RG30","v":-32.739583333333336},{"$f":"RH30","v":5},{"$f":"RF30","v":"p3"},null,null,"محاسبات رسم عمودی",null,null,null,null,null,null,null,{"$f":"RN29","v":0.84280936454849498},"c1",null,null,null,null,null,null,null,null,null,null,"محاسبات رسم عمودی",null,null,null,null,null,null,null,{"$f":"SH29","v":0.84280936454849498},"c1",null,null,null,null,null,null,null,null,null,null,"محاسبات رسم عمودی",null,null,null,null,null,null,null,{"$f":"TB29","v":0.82173913043478275},"c1",null,null,null,null,null,null,null,null,null,null,"محاسبات رسم عمودی",null,null,null,null,null,null,null,{"$f":"TV29","v":0.82173913043478275},"c1",null,null,null,null,null,null,null,null,null,null,"محاسبات رسم عمودی",null,null,null,null,null,null,null,{"$f":"UP29","v":0.84280936454849498},"c1",null,null,null,null,null,null,null,null,null,null,"محاسبات رسم عمودی",null,null,null,null,null,null,null,{"$f":"VJ29","v":0.84280936454849498},"c1"]
[null,null,null,null,"فاصله زیر بغل تا پایین لباس (cm)     b9",{"$f":"ROUND(AX113,0)","v":12},null,"جمع شوندگی افقی بافت پشت   f03",{"$f":"OFFSET(AJ6,I33,1)","v":4.2016806722688926E-2},null,null,null,null,"بافت انتخابی",null,null,"یقه شومیزیه نوک تیز تا خط جادکمه",null,null,"یقه شومیزیه معمولی تا خط جادکمه",null,null,"بافت انتخابی",null,null,"بافت انتخابی",null,null,"بافت انتخابی",null,null,null,null,4,2.5185185185185186,{"$f":"(10/3)*((AM32/AL32)*(1/J6)-1)","v":-0.33509700176366825},{"$f":"(100/68)*((AO32/AN32)*(1/J7)-1)","v":1.4705882352941178},13.5,34,9,36,"کشباف سه تایی",26,null,"کشباف سه تایی",167,13,null,null,null,null,null,null,null,null,null,null,null,null,null,null,null,null,null,null,null,null,null,null,null,null,null,null,null,null,null,null,null,null,null,null,null,null,null,null,null,null,null,null,null,{"$f":"CI42","v":1.8},{"$f":"CJ42","v":47.199999999999996},"j8",null,null,null,null,null,null,null,null,null,null,null,null,null,null,{"$f":"DD29","v":28.4},{"$f":"DE15","v":63.1},3,null,{"$f":"DH22","v":24.6},{"$f":"DE14","v":0},18,null,"s16",{"$f":"DM15","v":0},{"$f":"DN15","v":32.200000000000003},null,{"$f":"DP31+0.32*(DP34-DP31)","v":7.3411215040182407},{"$f":"DQ34+0.5*(DQ31-DQ34)","v":41.972150270049511},null,null,null,null,null,null,{"$f":"DX30","v":22.16870108373309},{"$f":"DY30","v":27.10478848484448},"s'19",null,"شیفت افقی مچ",{"$f":"EE20+10","v":120},null,{"$f":"EE31","v":65.8},{"$f":"EF13","v":57.8},11,null,null,null,null,null,null,null,6,{"$f":"EP30+EO25*COS(RADIANS('متغیرها '!C26))","v":2.2921883481010714},{"$f":"EQ30-EO25*SIN(RADIANS('متغیرها '!C26))","v":-8.2983149505847802},null,null,{"$f":"ET28+'طراحی همه الگوها'!U242","v":23.4},{"$f":"EU28+'طراحی همه الگوها'!U244","v":16.375},18,null,null,null,null,null,null,null,null,null,{"$f":"FF13","v":0},{"$f":"FG31+'طراحی همه الگوها'!U258","v":37.299999999999997},18,null,null,null,null,null,"s'12",{"$f":"FO30","v":0},{"$f":"FP23","v":27.165691432475338},null,19.103999999999999,7.6097074297426008,"41''",null,null,null,null,null,null,34,{"$f":"GB12+GE12*SIN(RADIANS(GA32)+GA14)","v":{"$error":"#DIV/0!"}},{"$f":"GC12+GE12*COS(RADIANS(GA32)+GA14)","v":{"$error":"#DIV/0!"}},{"$f":"IF(GB13>GB32,ATAN((GC13-GC32)/(GB13-GB32)),ATAN((GC13-GC32)/(GB32-GB13)))","v":{"$error":"#DIV/0!"}},{"$f":"IF(GB13>GB32,(GB13-GB32)/COS(GD32),(GB32-GB13)/COS(GD32))","v":{"$error":"#DIV/0!"}},null,1,2,"نقطه 14","نقطه قبل از چرخش",{"$f":"IF(GH32>GH18,IF(GG32>GG18,GG18+SQRT(POWER(GG32-GG18,2)+POWER(GH32-GH18,2))*COS(ATAN((GH32-GH18)/(GG32-GG18+0.000123))+GH16),GG18-SQRT(POWER(GG32-GG18,2)+POWER(GH32-GH18,2))*COS(ATAN((GH32-GH18)/(GG18-GG32+0.000123))-GH16)),IF(GG32>GG18,GG18+SQRT(POWER(GG32-GG18,2)+POWER(GH32-GH18,2))*COS(ATAN((GH18-GH32)/(GG32-GG18+0.000123))-GH16),GG18-SQRT(POWER(GG32-GG18,2)+POWER(GH32-GH18,2))*COS(ATAN((GH18-GH32)/(GG18-GG32+0.000123))+GH16)))","v":0.61824523267144293},{"$f":"IF(GH32>GH18,IF(GG32>GG18,GH18+SQRT(POWER(GG32-GG18,2)+POWER(GH32-GH18,2))*SIN(ATAN((GH32-GH18)/(GG32-GG18+0.000123))+GH16),GH18+SQRT(POWER(GG32-GG18,2)+POWER(GH32-GH18,2))*SIN(ATAN((GH32-GH18)/(GG18-GG32+0.000123))-GH16)),IF(GG32>GG18,GH18-SQRT(POWER(GG32-GG18,2)+POWER(GH32-GH18,2))*SIN(ATAN((GH18-GH32)/(GG32-GG18+0.000123))-GH16),GH18-SQRT(POWER(GG32-GG18,2)+POWER(GH32-GH18,2))*SIN(ATAN((GH18-GH32)/(GG18-GG32+0.000123))+GH16)))","v":0.69874634779839551},"نقطه چرخیده",null,"نقطه ورودی بالا","s'u3",{"$f":"#REF!","v":{"$error":"#REF!"}},{"$f":"#REF!","v":{"$error":"#REF!"}},null,null,{"$f":"GU31+GT11","v":-58},-1.0122909661567112,{"$f":"HB13+HB10*COS(GV32)","v":{"$error":"#REF!"}},{"$f":"HC13-HB10*SIN(GV32)","v":{"$error":"#REF!"}},{"$f":"SQRT(POWER((HB12-GW32),2)+POWER((HC12-GX32),2))","v":{"$error":"#REF!"}},{"$f":"ABS(HB9-GY32)","v":{"$error":"#REF!"}},null,"نقطه تقاطع","f10",{"$f":"(HE30-HE28+HD28*((HE29-HE28)/(HD29-HD28+0.0001))-HD30*((HE31-HE30)/(HD31-HD30+0.0001)))/(((HE29-HE28)/(HD29-HD28+0.0001))-((HE31-HE30)/(HD31-HD30+0.0001)))","v":{"$error":"#REF!"}},{"$f":"HE28+(HD32-HD28)*((HE29-HE28)/(HD29-HD28+0.0001))","v":{"$error":"#REF!"}},null,null,null,null,null,null,null,null,null,{"$f":"-HK32+HP9","v":0},0,null,null,null,null,null,null,null,null,null,null,null,null,null,null,null,null,null,null,null,null,null,null,null,null,null,null,null,null,null,null,null,null,null,null,null,null,null,null,null,null,null,null,null,null,null,null,null,null,null,null,null,null,null,null,null,null,null,null,null,null,null,null,null,null,null,null,null,null,null,null,null,null,null,null,null,null,null,null,null,null,null,null,null,null,null,null,null,null,null,null,null,null,null,null,null,null,null,null,null,null,null,null,null,null,null,null,null,null,null,null,null,null,null,null,null,null,null,null,null,null,null,null,null,null,null,null,null,null,null,null,null,null,null,null,null,null,null,null,null,null,null,null,null,null,null,null,null,null,null,null,null,null,null,null,null,null,null,null,null,null,"Yw1",{"$f":"'متغیرها '!C857+5","v":5},"جابجایی عمودی کل نقشه",null,"f3",{"$f":"NZ31","v":-32.682676630434784},{"$f":"OA30+NZ27*NZ28","v":5.410869565217391},{"$f":"NZ31","v":-32.682676630434784},{"$f":"OA31","v":4.589130434782609},{"$f":"NY31","v":"f2"},null,{"$f":"OF13","v":"e9"},{"$f":"TEXT(0,OG13)&\" رج مثل رج قبل میبافیم\"","v":"خطا رج مثل رج قبل میبافیم"},null,null,"f3",{"$f":"OK31","v":-33.100884484228473},{"$f":"OL30+OK27*OK28","v":5.2900255754475705},{"$f":"OK31","v":-33.100884484228473},{"$f":"OL31","v":4.7099744245524295},{"$f":"OJ31","v":"f2"},null,{"$f":"OQ13","v":"e9"},{"$f":"TEXT(0,OR13)&\" رج مثل رج قبل میبافیم\"","v":"خطا رج مثل رج قبل میبافیم"},null,null,"f3",{"$f":"OV31","v":-33.224842817561807},{"$f":"OW30+OV27*OV28","v":5.2900255754475705},{"$f":"OV31","v":-33.224842817561807},{"$f":"OW31","v":4.7099744245524295},{"$f":"OU31","v":"f2"},null,null,{"$f":"\"بافت جادکمه: \"&TEXT(0,PB22)&\"-  \"&TEXT(0,'طراحی همه الگوها'!A179)","v":"بافت جادکمه: جودانه-  1 تا 3 ماهه"},null,null,"f3",{"$f":"PG31","v":-32.171196984228473},{"$f":"PH30+PG27*PG28","v":5.2900255754475705},{"$f":"PG31","v":-32.171196984228473},{"$f":"PH31","v":4.7099744245524295},{"$f":"PF31","v":"f2"},null,null,{"$f":"\"بافت جادکمه: \"&TEXT(0,PM22)&\"-  \"&TEXT(0,'طراحی همه الگوها'!A179)","v":"بافت جادکمه: جودانه-  1 تا 3 ماهه"},null,null,"f3",{"$f":"PR31","v":-31.799321984228474},{"$f":"PS30+PR27*PR28","v":5.2900255754475705},{"$f":"PR31","v":-31.799321984228474},{"$f":"PS31","v":4.7099744245524295},{"$f":"PQ31","v":"f2"},null,{"$f":"PX31-2/PY15","v":-42.55},{"$f":"PY31","v":6.4285714285714288},"t4",null,"ارتفاع هر رج",{"$f":"PY7","v":1.4285714285714286},"w11",null,null,null,null,null,null,"رگلان",null,{"$f":"QI69","v":-7.532},{"$f":"QJ69","v":35.888726831407766},"26'",null,{"$f":"QQ15+QR7+QR8","v":-15.932},{"$f":"QR15","v":7.8887268314077659},"k22",null,null,null,null,{"$f":"QQ46","v":-25.554947341949745},{"$f":"QR46","v":4.9887268314077655},"k36",null,"d9",{"$f":"\"هر  \"&TEXT(0,RC14)&\"  رج یکدانه از بافت یقه را به بافت جلو تبدیل میکنیم \"","v":"هر  0  رج یکدانه از بافت یقه را به بافت جلو تبدیل میکنیم "},null,null,"f3",{"$f":"RG31","v":-33.319634484228473},{"$f":"RH30+RG27*RG28","v":5.2900255754475705},{"$f":"RG31","v":-33.319634484228473},{"$f":"RH31","v":4.7099744245524295},{"$f":"RF31","v":"f2"},null,"پهنا افقی",{"$f":"IF(AND((RQ86-RQ26)>0,(RN26-(RQ86-RQ26))>(RM66-RM65)),\"پهنای افقی توری کوچکتر از انتخاب شما است \",\"  \")","v":"  "},"خطا : ",null,{"$f":"IF(RN26>(RM42-RM40),RM42,RM40)","v":0},{"$f":"IF(RN26>(RM42-RM40),RN42,RN40)","v":-20},{"$f":"RO42","v":10},null,null,{"$f":"RN28","v":1.2847222222222221},"c2",null,{"$f":"IF(RV27>(RU42-RU40),RU42,RU40)","v":-31.57190635451505},{"$f":"IF(RV27>(RU42-RU40),RV42,RV40)","v":0},{"$f":"RW42","v":10},null,{"$f":"RU67","v":-37.471571906354512},{"$f":"RV67","v":0},{"$f":"RW67","v":3},null,"پهنا افقی",{"$f":"IF(AND((SK86-SK26)>0,(SH26-(SK86-SK26))>(SG66-SG65)),\"پهنای افقی توری کوچکتر از انتخاب شما است \",\"  \")","v":"  "},"خطا : ",null,{"$f":"IF(SH26>(SG42-SG40),SG42,SG40)","v":0},{"$f":"IF(SH26>(SG42-SG40),SH42,SH40)","v":-20},{"$f":"SI42","v":10},null,null,{"$f":"SH28","v":1.2847222222222221},"c2",null,{"$f":"IF(SP27>(SO42-SO40),SO42,SO40)","v":-31.57190635451505},{"$f":"IF(SP27>(SO42-SO40),SP42,SP40)","v":0},{"$f":"SQ42","v":10},null,{"$f":"SO67","v":-37.471571906354512},{"$f":"SP67","v":0},{"$f":"SQ67","v":3},null,"پهنا افقی",{"$f":"IF(AND((TE86-TE26)>0,(TB26-(TE86-TE26))>(TA66-TA65)),\"پهنای افقی توری کوچکتر از انتخاب شما است \",\"  \")","v":"  "},"خطا : ",null,{"$f":"IF(TB26>(TA42-TA40),TA42,TA40)","v":0},{"$f":"IF(TB26>(TA42-TA40),TB42,TB40)","v":-20},{"$f":"TC42","v":10},null,null,{"$f":"TB28","v":1.2152777777777779},"c2",null,{"$f":"IF(TJ27>(TI42-TI40),TI42,TI40)","v":-31.782608695652172},{"$f":"IF(TJ27>(TI42-TI40),TJ42,TJ40)","v":0},{"$f":"TK42","v":10},null,{"$f":"TI67","v":-37.53478260869565},{"$f":"TJ67","v":0},{"$f":"TK67","v":3},null,"پهنا افقی",{"$f":"IF(AND((TY86-TY26)>0,(TV26-(TY86-TY26))>(TU66-TU65)),\"پهنای افقی توری کوچکتر از انتخاب شما است \",\"  \")","v":"  "},"خطا : ",null,{"$f":"IF(TV26>(TU42-TU40),TU42,TU40)","v":0},{"$f":"IF(TV26>(TU42-TU40),TV42,TV40)","v":-20},{"$f":"TW42","v":10},null,null,{"$f":"TV28","v":1.2152777777777779},"c2",null,{"$f":"IF(UD27>(UC42-UC40),UC42,UC40)","v":-31.782608695652172},{"$f":"IF(UD27>(UC42-UC40),UD42,UD40)","v":0},{"$f":"UE42","v":10},null,{"$f":"UC67","v":-37.53478260869565},{"$f":"UD67","v":0},{"$f":"UE67","v":3},null,"پهنا افقی",{"$f":"IF(AND((US86-US26)>0,(UP26-(US86-US26))>(UO66-UO65)),\"پهنای افقی توری کوچکتر از انتخاب شما است \",\"  \")","v":"  "},"خطا : ",null,{"$f":"IF(UP26>(UO42-UO40),UO42,UO40)","v":0},{"$f":"IF(UP26>(UO42-UO40),UP42,UP40)","v":-20},{"$f":"UQ42","v":10},null,null,{"$f":"UP28","v":1.2847222222222221},"c2",null,{"$f":"IF(UX27>(UW42-UW40),UW42,UW40)","v":-31.57190635451505},{"$f":"IF(UX27>(UW42-UW40),UX42,UX40)","v":0},{"$f":"UY42","v":10},null,{"$f":"UW67","v":-37.471571906354512},{"$f":"UX67","v":0},{"$f":"UY67","v":3},null,"پهنا افقی",{"$f":"IF(AND((VM86-VM26)>0,(VJ26-(VM86-VM26))>(VI66-VI65)),\"پهنای افقی توری کوچکتر از انتخاب شما است \",\"  \")","v":"  "},"خطا : ",null,{"$f":"IF(VJ26>(VI42-VI40),VI42,VI40)","v":0},{"$f":"IF(VJ26>(VI42-VI40),VJ42,VJ40)","v":-20},{"$f":"VK42","v":10},null,null,{"$f":"VJ28","v":1.2847222222222221},"c2",null,{"$f":"IF(VR27>(VQ42-VQ40),VQ42,VQ40)","v":-31.57190635451505},{"$f":"IF(VR27>(VQ42-VQ40),VR42,VR40)","v":0},{"$f":"VS42","v":10},null,{"$f":"VQ67","v":-37.471571906354512},{"$f":"VR67","v":0},{"$f":"VS67","v":3}]
[null,null,null,null,"فاصله زیر بغل تا بالای مچ آستین (cm)     b10",{"$f":"ROUNDUP(SQRT(POWER(DY513-DY520,2)+POWER(DZ513-DZ520,2)),0)","v":12},null,"بافت انتخابی پشت",{"$f":"'متغیرها '!C837","v":15},null,null,null,null,"a1",{"$f":"ROUND(2*O12*O17,0)","v":82},null,"بافت انتخابی",null,null,"بافت انتخابی",null,null,"c1",{"$f":"ROUND(X20*X11+1.5*(X36+1)+0.5*(X35+1)-0.5*(X34+1)-3,0)","v":55},null,"c1",{"$f":"ROUND(X20*X11+2*(X36+1)+1*(X35+1)+X34+1-2,0)","v":61},null,"d1",{"$f":"AD37+AD36-2*AD35+AD34+7","v":31},null,null,null,{"$error":"#DIV/0!"},0,{"$f":"IF(AM33=0,\"  \",(10/3)*((AM33/AL33)*(1/J6)-1))","v":"  "},{"$f":"IF(AN33=0,\"  \",(100/68)*((AO33/AN33)*(1/J7)-1))","v":"  "},13.5,0,0,36,null,27,null,"  ","  ","  ",null,null,null,null,null,null,null,null,null,null,null,null,null,null,null,null,null,null,null,null,null,null,null,null,null,null,null,null,null,null,null,null,null,null,null,null,null,null,null,null,null,null,null,{"$f":"CI41","v":0},{"$f":"CJ41","v":47.199999999999996},"j7",null,null,null,null,null,null,null,null,null,null,null,null,null,null,{"$f":"DD16","v":9.9},{"$f":"DE15","v":63.1},4,null,{"$f":"DH22","v":24.6},{"$f":"DI22","v":12.7},19,null,"s15",{"$f":"DM32+0.7*(DM31-DM32)","v":2.9733479999999997},{"$f":"DN32+0.5*(DN31-DN32)","v":40.384775000000005},null,{"$f":"DP31+0.67*(DP34-DP31)","v":10.724616899038192},{"$f":"DQ34+0.2*(DQ31-DQ34)","v":38.013710432079222},null,null,null,null,null,null,{"$f":"DU19","v":16.865400224833984},{"$f":"DV19","v":21.801487625945374},"s'11",null,"شیفت عمودی مچ",{"$f":"EF20-10","v":90.600000000000009},null,{"$f":"DB37+'طراحی همه الگوها'!U216","v":110},{"$f":"EF13","v":57.8},3,null,{"$f":"EE21","v":110},{"$f":"EF21","v":-44.2},9,null,null,null,7,{"$f":"EP31+EO26*COS(RADIANS('متغیرها '!C26))","v":7.493832906395582},{"$f":"EQ31+EO26*SIN(RADIANS('متغیرها '!C26))","v":0.23551180309324726},null,null,{"$f":"ET28+'طراحی همه الگوها'!U242","v":23.4},{"$f":"EU28","v":13.574999999999999},16,null,{"$f":"EP37","v":22.698127676088177},{"$f":"EQ37","v":23.081057043740515},11,null,null,null,null,null,{"$f":"FF13","v":0},{"$f":"FG32+'طراحی همه الگوها'!U259","v":81.599999999999994},14,null,{"$f":"FJ18","v":10.8},{"$f":"FG31","v":33.799999999999997},23,null,"s'3",{"$f":"FO22+0.5*(FO12-FO22)","v":3.1540336252517296},{"$f":"FP22+0.6*(FP12-FP22)","v":31.825251729695697},null,20.25,0,"s13",null,null,null,null,null,null,36,{"$f":"GB12+GE12*SIN(RADIANS(GA33)+GA14)","v":{"$error":"#DIV/0!"}},{"$f":"GC12+GE12*COS(RADIANS(GA33)+GA14)","v":{"$error":"#DIV/0!"}},{"$f":"IF(GB13>GB33,ATAN((GC13-GC33)/(GB13-GB33)),ATAN((GC13-GC33)/(GB33-GB13)))","v":{"$error":"#DIV/0!"}},{"$f":"IF(GB13>GB33,(GB13-GB33)/COS(GD33),(GB33-GB13)/COS(GD33))","v":{"$error":"#DIV/0!"}},null,1,2,"نقطه 15","نقطه قبل از چرخش",{"$f":"IF(GH33>GH18,IF(GG33>GG18,GG18+SQRT(POWER(GG33-GG18,2)+POWER(GH33-GH18,2))*COS(ATAN((GH33-GH18)/(GG33-GG18+0.000123))+GH16),GG18-SQRT(POWER(GG33-GG18,2)+POWER(GH33-GH18,2))*COS(ATAN((GH33-GH18)/(GG18-GG33+0.000123))-GH16)),IF(GG33>GG18,GG18+SQRT(POWER(GG33-GG18,2)+POWER(GH33-GH18,2))*COS(ATAN((GH18-GH33)/(GG33-GG18+0.000123))-GH16),GG18-SQRT(POWER(GG33-GG18,2)+POWER(GH33-GH18,2))*COS(ATAN((GH18-GH33)/(GG18-GG33+0.000123))+GH16)))","v":0.61824523267144293},{"$f":"IF(GH33>GH18,IF(GG33>GG18,GH18+SQRT(POWER(GG33-GG18,2)+POWER(GH33-GH18,2))*SIN(ATAN((GH33-GH18)/(GG33-GG18+0.000123))+GH16),GH18+SQRT(POWER(GG33-GG18,2)+POWER(GH33-GH18,2))*SIN(ATAN((GH33-GH18)/(GG18-GG33+0.000123))-GH16)),IF(GG33>GG18,GH18-SQRT(POWER(GG33-GG18,2)+POWER(GH33-GH18,2))*SIN(ATAN((GH18-GH33)/(GG33-GG18+0.000123))-GH16),GH18-SQRT(POWER(GG33-GG18,2)+POWER(GH33-GH18,2))*SIN(ATAN((GH18-GH33)/(GG18-GG33+0.000123))+GH16)))","v":0.69874634779839551},"نقطه چرخیده",null,"نقطه ورودی پایین","s'd3",{"$f":"#REF!","v":{"$error":"#REF!"}},{"$f":"#REF!","v":{"$error":"#REF!"}},null,null,{"$f":"GU32+GT11","v":-56},-0.97738438111682457,{"$f":"HB13+HB10*COS(GV33)","v":{"$error":"#REF!"}},{"$f":"HC13-HB10*SIN(GV33)","v":{"$error":"#REF!"}},{"$f":"SQRT(POWER((HB12-GW33),2)+POWER((HC12-GX33),2))","v":{"$error":"#REF!"}},{"$f":"ABS(HB9-GY33)","v":{"$error":"#REF!"}},null,null,null,null,null,null,null,null,null,null,null,null,null,null,{"$f":"-HK33+HP9","v":0},0,null,null,null,null,null,null,null,null,null,null,null,null,null,null,null,null,null,null,null,null,null,null,null,null,null,null,null,null,null,null,null,null,null,null,null,null,null,null,null,null,null,null,null,null,null,null,null,null,null,null,null,null,null,null,null,null,null,null,null,null,null,null,null,null,null,null,null,null,null,null,null,null,null,null,null,null,null,null,null,null,null,null,null,null,null,null,null,null,null,null,null,null,null,null,null,null,null,null,null,null,null,null,null,null,null,null,null,null,null,null,null,null,null,null,null,null,null,null,null,null,null,null,null,null,null,null,null,null,null,null,null,null,null,null,null,null,null,null,null,null,null,null,null,null,null,null,null,null,null,null,null,null,null,null,null,null,null,null,null,null,"w'12",{"$f":"'متغیرها '!C858","v":42},"نسبت نقشه بافت به سایز واقعی",null,null,null,null,null,null,null,null,"a10,a11,b1",{"$f":"\"تعداد دانه ها\"&TEXT(0,OG18)&\"میباشد. هر\"&TEXT(0,OG14)&\"  دانه را تبدیل به  \"&TEXT(0,OG15)&\"  دانه میکنیم تا تعداد دانه ها  \"&TEXT(0,OG19)&\" شود\"","v":"تعداد دانه ها76میباشد. هر13  دانه را تبدیل به  11  دانه میکنیم تا تعداد دانه ها  64 شود"},null,null,null,null,null,null,null,null,null,"a10,a11,b1",{"$f":"\"تعداد دانه ها\"&TEXT(0,OR18)&\"میباشد. هر\"&TEXT(0,OR14)&\"  دانه را تبدیل به  \"&TEXT(0,OR15)&\"  دانه میکنیم تا تعداد دانه ها  \"&TEXT(0,OR19)&\" شود\"","v":"تعداد دانه ها76میباشد. هر13  دانه را تبدیل به  11  دانه میکنیم تا تعداد دانه ها  64 شود"},null,null,null,null,null,null,null,null,null,"متغیرهای  ورودی ",null,null,null,null,null,null,null,null,null,null,"متغیرهای  ورودی ",null,null,null,null,null,null,null,null,null,null,{"$f":"PX29","v":-45},{"$f":"PY31","v":6.4285714285714288},"t5",null,"نقطه ورودی سر فلش","مولفه افقی","مولفه عمودی",{"$f":"QC37","v":-42.55},{"$f":"QD37","v":7.4285714285714288},{"$f":"QB37","v":"f8"},null,{"$f":"FB146","v":6.4686539445017948},{"$f":"FC146","v":35.69282973798768},"5'",null,null,null,null,null,{"$f":"2*QQ15-QQ32","v":-25.131999999999998},{"$f":"QR15","v":7.8887268314077659},"k23",null,null,null,null,{"$f":"QQ48","v":-26.332000000000001},{"$f":"QR48","v":7.8887268314077659},"k38",null,"d10",{"$f":"\"هر  \"&TEXT(0,RC15)&\"  رج یکدانه کم میکنیم \"","v":"هر  0  رج یکدانه کم میکنیم "},null,null,null,null,null,null,null,null,null,null,null,null,null,{"$f":"RQ32","v":0},{"$f":"RN38","v":-40.22742474916388},null,null,null,{"$f":"2*RV40","v":0},"قرینه",null,{"$f":"RY32","v":-31.57190635451505},{"$f":"RV38","v":10.277777777777777},null,null,{"$f":"SC32","v":-37.471571906354512},{"$f":"RV38","v":10.277777777777777},null,null,null,null,null,null,{"$f":"SK32","v":0},{"$f":"SH38","v":-40.22742474916388},null,null,null,{"$f":"2*SP40","v":0},"قرینه",null,{"$f":"SS32","v":-31.57190635451505},{"$f":"SP38","v":10.277777777777777},null,null,{"$f":"SW32","v":-37.471571906354512},{"$f":"SP38","v":10.277777777777777},null,null,null,null,null,null,{"$f":"TE32","v":0},{"$f":"TB38","v":-39.721739130434784},null,null,null,{"$f":"2*TJ40","v":0},"قرینه",null,{"$f":"TM32","v":-31.782608695652172},{"$f":"TJ38","v":9.7222222222222232},null,null,{"$f":"TQ32","v":-37.53478260869565},{"$f":"TJ38","v":9.7222222222222232},null,null,null,null,null,null,{"$f":"TY32","v":0},{"$f":"TV38","v":-39.721739130434784},null,null,null,{"$f":"2*UD40","v":0},"قرینه",null,{"$f":"UG32","v":-31.782608695652172},{"$f":"UD38","v":9.7222222222222232},null,null,{"$f":"UK32","v":-37.53478260869565},{"$f":"UD38","v":9.7222222222222232},null,null,null,null,null,null,{"$f":"US32","v":0},{"$f":"UP38","v":-40.22742474916388},null,null,null,{"$f":"2*UX40","v":0},"قرینه",null,{"$f":"VA32","v":-31.57190635451505},{"$f":"UX38","v":10.277777777777777},null,null,{"$f":"VE32","v":-37.471571906354512},{"$f":"UX38","v":10.277777777777777},null,null,null,null,null,null,{"$f":"VM32","v":0},{"$f":"VJ38","v":-40.22742474916388},null,null,null,{"$f":"2*VR40","v":0},"قرینه",null,{"$f":"VU32","v":-31.57190635451505},{"$f":"VR38","v":10.277777777777777},null,null,{"$f":"VY32","v":-37.471571906354512},{"$f":"VR38","v":10.277777777777777}]
[null,null,null,null,"گشادی لبه پایین آستین (cm)     b'11",{"$f":"F13","v":15},null,"بافت انتخابی پشت",{"$f":"OFFSET(AJ6,I33,6)","v":"سبدی (5 تایی)"},null,null,null,null,"a2",{"$f":"IF((ROUND(0.6*P9,0)-6)<0,\" خطا  \",(ROUND(0.6*P9,0)-6))","v":" خطا  "},null,"e1",{"$f":"ROUND(S19-4*S18*F12+3*R35+15,0)","v":40},null,"e1",{"$f":"ROUND(S19-4*S18*F12+1.5*U35+13.5,0)","v":38},null,"c2",{"$f":"ROUND(X9*X19*X7,0)-1","v":0},null,"c2",{"$f":"X34","v":0},null,"d2",{"$f":"ROUND(AD19*AD6,0)-3","v":4},null,null,null,{"$error":"#DIV/0!"},0,{"$f":"IF(AM34=0,\"  \",(10/3)*((AM34/AL34)*(1/J6)-1))","v":"  "},{"$f":"IF(AN34=0,\"  \",(100/68)*((AO34/AN34)*(1/J7)-1))","v":"  "},13.5,0,0,36,null,28,null,"  ","  ","  ",null,null,null,null,null,null,null,null,null,null,null,null,null,null,null,null,null,null,null,null,null,null,null,null,null,null,null,null,null,null,null,null,null,null,null,null,null,null,null,"نقاط خروجی ",null,null,null,null,null,null,null,null,null,null,null,null,null,null,null,null,null,null,null,null,null,null,"نقاب",null,{"$f":"DH16","v":24.6},{"$f":"DI16","v":20},20,null,"s17",{"$f":"DB400","v":0},{"$f":"IF('متغیرها '!C14=-1,DQ12,IF('متغیرها '!C14=0,DC400-0.1,DC400-0.25*(DC400-DC404)))","v":53.284999999999997},null,{"$f":"DM37","v":13.914769700057004},{"$f":"DN37","v":35.374750540099029},"s20",null,null,null,null,null,null,null,null,null,"زاویه گشادی نسبی جلو به پشت",33,null,{"$f":"DB37+'طراحی همه الگوها'!U216","v":110},{"$f":"EF20","v":100.60000000000001},10,null,{"$f":"EI22","v":110},{"$f":"EJ22","v":17.5},14,null,null,null,8,{"$f":"EP35+ER41*SIN(RADIANS('متغیرها '!C30))","v":25.275179014859113},{"$f":"EQ35-ER41*COS(RADIANS('متغیرها '!C30))","v":2.581129935023398},null,null,{"$f":"ET28+'طراحی همه الگوها'!U242+'طراحی همه الگوها'!U243","v":24.299999999999997},{"$f":"EU28","v":13.574999999999999},17,null,{"$f":"EP35","v":16.472181792833521},{"$f":"EQ35","v":26.767166026060487},9,null,null,null,null,null,{"$f":"FF13+'طراحی همه الگوها'!U263","v":50.7},{"$f":"FG33","v":81.599999999999994},15,null,{"$f":"FJ18","v":10.8},{"$f":"FK18","v":37.799999999999997},24,null,null,null,null,null,null,null,null,null,null,null,null,null,null,38,{"$f":"GB12+GE12*SIN(RADIANS(GA34)+GA14)","v":{"$error":"#DIV/0!"}},{"$f":"GC12+GE12*COS(RADIANS(GA34)+GA14)","v":{"$error":"#DIV/0!"}},{"$f":"IF(GB13>GB34,ATAN((GC13-GC34)/(GB13-GB34)),ATAN((GC13-GC34)/(GB34-GB13)))","v":{"$error":"#DIV/0!"}},{"$f":"IF(GB13>GB34,(GB13-GB34)/COS(GD34),(GB34-GB13)/COS(GD34))","v":{"$error":"#DIV/0!"}},null,1,2,"نقطه 16","نقطه قبل از چرخش",{"$f":"IF(GH34>GH18,IF(GG34>GG18,GG18+SQRT(POWER(GG34-GG18,2)+POWER(GH34-GH18,2))*COS(ATAN((GH34-GH18)/(GG34-GG18+0.000123))+GH16),GG18-SQRT(POWER(GG34-GG18,2)+POWER(GH34-GH18,2))*COS(ATAN((GH34-GH18)/(GG18-GG34+0.000123))-GH16)),IF(GG34>GG18,GG18+SQRT(POWER(GG34-GG18,2)+POWER(GH34-GH18,2))*COS(ATAN((GH18-GH34)/(GG34-GG18+0.000123))-GH16),GG18-SQRT(POWER(GG34-GG18,2)+POWER(GH34-GH18,2))*COS(ATAN((GH18-GH34)/(GG18-GG34+0.000123))+GH16)))","v":0.61824523267144293},{"$f":"IF(GH34>GH18,IF(GG34>GG18,GH18+SQRT(POWER(GG34-GG18,2)+POWER(GH34-GH18,2))*SIN(ATAN((GH34-GH18)/(GG34-GG18+0.000123))+GH16),GH18+SQRT(POWER(GG34-GG18,2)+POWER(GH34-GH18,2))*SIN(ATAN((GH34-GH18)/(GG18-GG34+0.000123))-GH16)),IF(GG34>GG18,GH18-SQRT(POWER(GG34-GG18,2)+POWER(GH34-GH18,2))*SIN(ATAN((GH18-GH34)/(GG34-GG18+0.000123))-GH16),GH18-SQRT(POWER(GG34-GG18,2)+POWER(GH34-GH18,2))*SIN(ATAN((GH18-GH34)/(GG18-GG34+0.000123))+GH16)))","v":0.69874634779839551},"نقطه چرخیده",null,"متغیر ورودی پهنا","a20",{"$f":"#REF!","v":{"$error":"#REF!"}},"(سانتیمتر)",null,null,{"$f":"GU33+GT11","v":-54},-0.94247779607693793,{"$f":"HB13+HB10*COS(GV34)","v":{"$error":"#REF!"}},{"$f":"HC13-HB10*SIN(GV34)","v":{"$error":"#REF!"}},{"$f":"SQRT(POWER((HB12-GW34),2)+POWER((HC12-GX34),2))","v":{"$error":"#REF!"}},{"$f":"ABS(HB9-GY34)","v":{"$error":"#REF!"}},null,null,null,null,"قرینه نقطه نسبت به خط با داشتن دو نقطه از یک خط",null,null,null,null,null,null,null,null,null,{"$f":"-HK34+HP9","v":0},0,null,null,null,null,null,null,null,null,null,null,null,null,null,null,null,null,null,null,null,null,null,null,null,null,null,null,null,null,null,null,null,null,null,null,null,null,null,null,null,null,null,null,null,null,null,null,null,null,null,null,null,null,null,null,null,null,null,null,null,null,null,null,null,null,null,null,null,null,null,null,null,null,null,null,null,null,null,null,null,null,null,null,null,null,null,null,null,null,null,null,null,null,null,null,null,null,null,null,null,null,null,null,null,null,null,null,null,null,null,null,null,null,null,null,null,null,null,null,null,null,null,null,null,null,null,null,null,null,null,null,null,null,null,null,null,null,null,null,null,null,null,null,null,null,null,null,null,null,null,null,null,null,null,null,null,null,null,null,null,null,"w11",{"$f":"'متغیرها '!C859/NV40","v":1.3695652173913044},"ارتفاع هر رج",null,"نسبت سایز افقی",{"$f":"NV33","v":42},"انحنا چپگرد ",null,null,{"$f":"OA34","v":"انحنا چپگرد "},null,null,{"$f":"\"نقشه بافت یقه شومیزیه نوک تیز با میل \"&TEXT(0,OG58)&\"  بافت   \"&TEXT(0,OF59)","v":"نقشه بافت یقه شومیزیه نوک تیز با میل 4.5  بافت   همه از زیر"},null,null,"نسبت سایز افقی",{"$f":"OG38","v":42},"انحنا چپگرد ",null,null,{"$f":"OL34","v":"انحنا چپگرد "},null,null,{"$f":"\"نقشه بافت یقه شومیزیه معمولی با میل \"&TEXT(0,OR58)&\"  بافت   \"&TEXT(0,OQ59)","v":"نقشه بافت یقه شومیزیه معمولی با میل 4.5  بافت   همه از زیر"},null,null,"نسبت سایز افقی",{"$f":"OR38","v":42},"انحنا چپگرد ",null,null,{"$f":"OW34","v":"انحنا چپگرد "},null,"Xw1",{"$f":"NV31","v":-35},"جابجایی افقی کل نقشه",null,"نسبت سایز افقی",{"$f":"PC36","v":42},"انحنا چپگرد ",null,null,{"$f":"PH34","v":"انحنا چپگرد "},null,"Xw1",{"$f":"NV31","v":-35},"جابجایی افقی کل نقشه",null,"نسبت سایز افقی",{"$f":"PN36","v":42},"انحنا چپگرد ",null,null,{"$f":"PS34","v":"انحنا چپگرد "},null,{"$f":"PX29-PX30+PX29","v":-48.5},{"$f":"PY31","v":6.4285714285714288},"t6",null,{"$f":"PZ32","v":"t4"},{"$f":"PX32","v":-42.55},{"$f":"PY32","v":6.4285714285714288},{"$f":"QC35","v":-42.871428571428567},{"$f":"QD35","v":7},{"$f":"QB35","v":"f6"},null,{"$f":"CI121","v":9.6148808172717555},{"$f":"CJ121","v":30.186481208085286},"18f",null,{"$f":"QI62","v":4.7395286907264449},{"$f":"QJ62","v":38.594707704219914},30,null,{"$f":"QQ15+(QR7+QR8)*SIN(RADIANS(30))","v":-18.231999999999999},{"$f":"QR15+(QR7+QR8)*COS(RADIANS(30))","v":11.872443688816183},"k24",null,null,null,null,{"$f":"QQ50","v":-23.431999999999999},{"$f":"QR50","v":12.911674173357511},"k40",null,"d12",{"$f":"TEXT(0,RC16)&\"  سانت تا اولین جادکمه میبافیم \"","v":"10  سانت تا اولین جادکمه میبافیم "},null,null,"نسبت سایز افقی",{"$f":"RC38","v":42},"انحنا چپگرد ",null,null,{"$f":"RH34","v":"انحنا چپگرد "},null,null,null,null,null,null,null,null,null,null,"نقاط خروجی افقی - اصلی ",null,null,null,null,null,null,null,null,null,null,null,"نقاط خروجی عمودی - اصلی ",null,null,null,null,null,null,null,"نقاط خروجی افقی - اصلی ",null,null,null,null,null,null,null,null,null,null,null,null,null,null,null,null,null,null,null,"نقاط خروجی افقی - اصلی ",null,null,null,null,null,null,null,null,null,null,null,null,null,null,null,null,null,null,null,"نقاط خروجی افقی - اصلی ",null,null,null,null,null,null,null,null,null,null,null,null,null,null,null,null,null,null,null,"نقاط خروجی افقی - اصلی ",null,null,null,null,null,null,null,null,null,null,null,null,null,null,null,null,null,null,null,"نقاط خروجی افقی - اصلی "]
[null,null,null,null,"تعداد دانه ها  در بالای مچ آستین      b'12",{"$f":"F14","v":23},null,null,null,null,null,null,null,"a3",{"$f":"ROUND(0.33*O37,0)","v":10},null,"e2",{"$f":"ROUNDDOWN(0.5*(S17*S10-9),0)","v":0},null,"e2",{"$f":"R35","v":0},null,"c3",{"$f":"ROUND(X10*X19*X7,0)-1","v":1},null,"c3",{"$f":"X35","v":1},null,"d3",{"$f":"ROUND(AD20*AD7,0)","v":16},null,null,null,{"$error":"#DIV/0!"},0,{"$f":"IF(AM35=0,\"  \",(10/3)*((AM35/AL35)*(1/J6)-1))","v":"  "},{"$f":"IF(AN35=0,\"  \",(100/68)*((AO35/AN35)*(1/J7)-1))","v":"  "},13.5,0,0,36,null,29,null,"  ","  ","  ",null,null,null,null,null,null,null,null,null,null,null,null,null,null,null,null,null,null,null,null,null,null,null,null,null,null,null,null,null,null,null,null,null,null,null,null,null,null,null,"مولفه افقی","مولفه عمودی","اسم نقطه",null,{"$f":"CI42","v":1.8},{"$f":"CJ42","v":47.199999999999996},"j8",null,null,null,null,null,null,null,null,null,null,null,null,null,null,{"$f":"DD15","v":0},{"$f":"DE15","v":63.1},1,null,null,null,null,null,"s18",{"$f":"DM34+0.5*(DM31-DM34)","v":2.1238199999999998},{"$f":"DN34-0.3*(DN34-DN31)","v":51.870365},null,null,null,null,null,null,null,null,null,{"$f":"DX33","v":16.865400224833984},{"$f":"DY33","v":21.801487625945374},"s'11",null,"j4",{"$f":"IF('متغیرها '!C17<1,'متغیرها '!C17*'متغیرها '!U59,IF('متغیرها '!C17<2,'متغیرها '!U59+('متغیرها '!C17-1)*('متغیرها '!U60-'متغیرها '!U59),IF('متغیرها '!C17<3,'متغیرها '!U60+('متغیرها '!C17-2)*(I105-'متغیرها '!U60),I105+('متغیرها '!C17-3)*(H127-H126))))","v":0},"چادر 3",null,null,null,null,null,null,null,null,null,{"$f":"EN37-ER45*SIN(ER46-RADIANS(45)+ER42)","v":12.711522941557648},9,{"$f":"EP37-ER40*SIN(ER46-RADIANS(45)+ER42)","v":16.472181792833521},{"$f":"EQ37+ER40*COS(ER46-RADIANS(45)+ER42)","v":26.767166026060487},{"$f":"ER37+ER45*COS(ER46-RADIANS(45)+ER42)","v":27.318003004804709},null,null,null,null,null,null,null,null,null,null,null,null,null,null,null,null,null,null,null,null,null,null,null,null,null,{"$f":"FO18","v":19.623116671461517},{"$f":"FP18","v":29.65037289711605},"s''10",null,null,null,null,null,null,40,{"$f":"GB12+GE12*SIN(RADIANS(GA35)+GA14)","v":{"$error":"#DIV/0!"}},{"$f":"GC12+GE12*COS(RADIANS(GA35)+GA14)","v":{"$error":"#DIV/0!"}},{"$f":"IF(GB13>GB35,ATAN((GC13-GC35)/(GB13-GB35)),ATAN((GC13-GC35)/(GB35-GB13)))","v":{"$error":"#DIV/0!"}},{"$f":"IF(GB13>GB35,(GB13-GB35)/COS(GD35),(GB35-GB13)/COS(GD35))","v":{"$error":"#DIV/0!"}},null,null,null,null,null,null,null,null,null,"متغیر ورودی طول","a21",1,null,null,null,{"$f":"GU34+GT11","v":-52},-0.90757121103705141,{"$f":"HB13+HB10*COS(GV35)","v":{"$error":"#REF!"}},{"$f":"HC13-HB10*SIN(GV35)","v":{"$error":"#REF!"}},{"$f":"SQRT(POWER((HB12-GW35),2)+POWER((HC12-GX35),2))","v":{"$error":"#REF!"}},{"$f":"ABS(HB9-GY35)","v":{"$error":"#REF!"}},null,"مولفه افقی","مولفه عمودی","اسم نقطه ورودی",null,null,null,null,null,null,null,null,null,null,{"$f":"-HK35+HP9","v":0},0,null,null,null,null,null,null,null,null,null,null,null,null,null,null,null,null,null,null,null,null,null,null,null,null,null,null,null,null,null,null,null,null,null,null,null,null,null,null,null,null,null,null,null,null,null,null,null,null,null,null,null,null,null,null,null,null,null,null,null,null,null,null,null,null,null,null,null,null,null,null,null,null,null,null,null,null,null,null,null,null,null,null,null,null,null,null,null,null,null,null,null,null,null,null,null,null,null,null,null,null,null,null,null,null,null,null,null,null,null,null,null,null,null,null,null,null,null,null,null,null,null,null,null,null,null,null,null,null,null,null,null,null,null,null,null,null,null,null,null,null,null,null,null,null,null,null,null,null,null,null,null,null,null,null,null,null,null,null,null,null,"g9",{"$f":"'متغیرها '!C860","v":0.5},"پهنای نیم دایره",null,"ارتفاع نیم دایره",{"$f":"NV47","v":1.3695652173913044},"بزرگی فلش",{"$f":"NZ38","v":-3.6093750000000036},{"$f":"OA38","v":5},{"$f":"NY38","v":"w2"},null,"متغیرهای  ورودی ",null,null,null,"ارتفاع نیم دایره",{"$f":"OG49","v":0.96675191815856776},"بزرگی فلش",{"$f":"OK38","v":-10.208333333333336},{"$f":"OL38","v":5},{"$f":"OJ38","v":"m2"},null,"متغیرهای  ورودی ",null,null,null,"ارتفاع نیم دایره",{"$f":"OR49","v":0.96675191815856776},"بزرگی فلش",{"$f":"OV38","v":-11.447916666666671},{"$f":"OW38","v":5},{"$f":"OU38","v":"m2"},null,"Yw1",{"$f":"NV32","v":5},"جابجایی عمودی کل نقشه",null,"ارتفاع نیم دایره",{"$f":"PC47","v":0.96675191815856776},"بزرگی فلش",{"$f":"PG38","v":-0.9114583333333357},{"$f":"PH38","v":5},{"$f":"PF38","v":"n2"},null,"Yw1",{"$f":"NV32","v":5},"جابجایی عمودی کل نقشه",null,"ارتفاع نیم دایره",{"$f":"PN47","v":0.96675191815856776},"بزرگی فلش",{"$f":"PR38","v":2.8072916666666572},{"$f":"PS38","v":5},{"$f":"PQ38","v":"n2"},null,{"$f":"PX30+5","v":-36.5},{"$f":"PY30+0.5*PY7","v":5.7142857142857144},"t7",null,"f6",{"$f":"QC34-QC31*QC30*QC32","v":-42.871428571428567},{"$f":"QD37-QC30*QC32","v":7},null,null,null,null,null,null,"کیمونو",null,{"$f":"QI72","v":6.4686539445017948},{"$f":"QJ72","v":35.69282973798768},"5'",null,{"$f":"2*QQ15-QQ34","v":-22.832000000000001},{"$f":"QR34","v":11.872443688816183},"k25",null,null,null,null,{"$f":"QQ51","v":-20.532},{"$f":"QR51","v":13.688726831407767},"k41",null,"متغیرهای  ورودی ",null,null,null,"ارتفاع نیم دایره",{"$f":"RC49","v":0.96675191815856776},"بزرگی فلش",{"$f":"RG38","v":-12.395833333333336},{"$f":"RH38","v":5},{"$f":"RF38","v":"p2"},null,null,null,null,null,{"$f":"IF(RN26>(RM43-RM40),RM43,RM40)","v":0},{"$f":"IF(RN26>(RM43-RM40),RN43,RN40)","v":-20},{"$f":"RO43","v":15},null,null,null,"b",null,{"$f":"IF(RV27>(RU43-RU40),RU43,RU40)","v":-27.357859531772576},{"$f":"IF(RV27>(RU43-RU40),RV43,RV40)","v":0},{"$f":"RW43","v":15},null,{"$f":"RU68","v":-36.628762541806019},{"$f":"RV68","v":0},{"$f":"RW68","v":4},null,null,null,"a",null,{"$f":"IF(SH26>(SG43-SG40),SG43,SG40)","v":0},{"$f":"IF(SH26>(SG43-SG40),SH43,SH40)","v":-20},{"$f":"SI43","v":15},null,null,null,"b",null,{"$f":"IF(SP27>(SO43-SO40),SO43,SO40)","v":-27.357859531772576},{"$f":"IF(SP27>(SO43-SO40),SP43,SP40)","v":0},{"$f":"SQ43","v":15},null,{"$f":"SO68","v":-36.628762541806019},{"$f":"SP68","v":0},{"$f":"SQ68","v":4},null,null,null,null,null,{"$f":"IF(TB26>(TA43-TA40),TA43,TA40)","v":0},{"$f":"IF(TB26>(TA43-TA40),TB43,TB40)","v":-20},{"$f":"TC43","v":15},null,null,null,"b",null,{"$f":"IF(TJ27>(TI43-TI40),TI43,TI40)","v":-27.673913043478258},{"$f":"IF(TJ27>(TI43-TI40),TJ43,TJ40)","v":0},{"$f":"TK43","v":15},null,{"$f":"TI68","v":-36.713043478260872},{"$f":"TJ68","v":0},{"$f":"TK68","v":4},null,null,null,null,null,{"$f":"IF(TV26>(TU43-TU40),TU43,TU40)","v":0},{"$f":"IF(TV26>(TU43-TU40),TV43,TV40)","v":-20},{"$f":"TW43","v":15},null,null,null,"b",null,{"$f":"IF(UD27>(UC43-UC40),UC43,UC40)","v":-27.673913043478258},{"$f":"IF(UD27>(UC43-UC40),UD43,UD40)","v":0},{"$f":"UE43","v":15},null,{"$f":"UC68","v":-36.713043478260872},{"$f":"UD68","v":0},{"$f":"UE68","v":4},null,null,null,null,null,{"$f":"IF(UP26>(UO43-UO40),UO43,UO40)","v":0},{"$f":"IF(UP26>(UO43-UO40),UP43,UP40)","v":-20},{"$f":"UQ43","v":15},null,null,null,"b",null,{"$f":"IF(UX27>(UW43-UW40),UW43,UW40)","v":-27.357859531772576},{"$f":"IF(UX27>(UW43-UW40),UX43,UX40)","v":0},{"$f":"UY43","v":15},null,{"$f":"UW68","v":-36.628762541806019},{"$f":"UX68","v":0},{"$f":"UY68","v":4},null,null,null,null,null,{"$f":"IF(VJ26>(VI43-VI40),VI43,VI40)","v":0},{"$f":"IF(VJ26>(VI43-VI40),VJ43,VJ40)","v":-20},{"$f":"VK43","v":15},null,null,null,"b",null,{"$f":"IF(VR27>(VQ43-VQ40),VQ43,VQ40)","v":-27.357859531772576},{"$f":"IF(VR27>(VQ43-VQ40),VR43,VR40)","v":0},{"$f":"VS43","v":15},null,{"$f":"VQ68","v":-36.628762541806019},{"$f":"VR68","v":0},{"$f":"VS68","v":4}]
[null,null,null,null,"پهنای مچ آستین (cm)     b14",{"$f":"ROUNDUP(CA513-CA511,0)","v":0},null," a001 تعداد رج در یک سانت آستین",{"$f":"F6+0.3*I38*F6","v":2.373015873015873},null,null,null,null,"a4",{"$f":"ROUND(0.66*O37,0)","v":19},null,"e3",{"$f":"ROUND(0.35*(R38),0)","v":4},null,"e3",{"$f":"ROUND(0.33*(U38),0)","v":4},null,"c4",{"$f":"X8-X34-X35-5","v":4},null,"c4",{"$f":"X8-X34-X35-4","v":5},null,"d4",{"$f":"ROUND(AD19*AD8,0)-AD34-7","v":-4},null,null,null,{"$error":"#DIV/0!"},0,{"$f":"IF(AM36=0,\"  \",(10/3)*((AM36/AL36)*(1/J6)-1))","v":"  "},{"$f":"IF(AN36=0,\"  \",(100/68)*((AO36/AN36)*(1/J7)-1))","v":"  "},13.5,0,0,36,null,30,null,"  ","  ","  ",null,null,null,null,null,null,null,null,null,null,null,null,null,null,null,null,null,null,null,null,null,null,null,null,null,null,null,null,null,null,null,null,null,null,null,null,null,null,null,{"$f":"CI14","v":0},{"$f":"CJ23+'طراحی همه الگوها'!U177+CJ15","v":57.8},"j1",null,{"$f":"CI44","v":1.8},{"$f":"CJ44","v":15.799999999999997},"j10",null,null,null,null,null,null,null,null,null,null,null,"محاسبات",null,null,{"$f":"DD15","v":0},{"$f":"DE15-'طراحی همه الگوها'!U205","v":59.300000000000004},21,null,null,null,null,null,"s19",{"$f":"DM18+'متغیرها '!C13*'متغیرها '!U83*COS(DM17)","v":26.179130163629324},{"$f":"DN18-'متغیرها '!C13*'متغیرها '!U83*SIN(DM17)","v":33.212468777801583},null,{"$f":"DM27","v":14.834247723445998},{"$f":"DN27","v":37.699521531939872},"s10",null,null,null,null,null,{"$f":"DU20","v":14.461237168799723},{"$f":"DV20","v":23.215701188318469},"s'12",null,"(1 → 5)",{"$f":"DB38-'متغیرها '!C19*'متغیرها '!U83","v":37.855118294795666},null,{"$f":"EC32","v":120},{"$f":"EC33","v":90.600000000000009},17,null,{"$f":"EE20","v":110},{"$f":"EF20","v":100.60000000000001},10,null,null,{"$f":"EP29+DB38*COS(RADIANS(45))","v":28.676799158072633},10,{"$f":"EP29+'طراحی همه الگوها'!U236*COS(RADIANS(45))","v":28.708535316173833},{"$f":"EQ29-'طراحی همه الگوها'!U236*SIN(RADIANS(45))","v":29.091464683826167},{"$f":"EQ29-DB38*SIN(RADIANS(45))","v":29.123200841927368},null,{"$f":"EP36","v":28.708535316173833},{"$f":"EQ36","v":29.091464683826167},10,null,{"$f":"EP35","v":16.472181792833521},{"$f":"EQ35","v":26.767166026060487},9,null,null,null,null,null,{"$f":"FF31+'طراحی همه الگوها'!U260","v":27.1},{"$f":"FG31","v":33.799999999999997},16,null,{"$f":"FJ19","v":21.7},{"$f":"FG31","v":33.799999999999997},25,null,null,null,null,null,{"$f":"FO19","v":22.16870108373309},{"$f":"FP19","v":27.10478848484448},"k4 شبیه ساز",null,null,null,null,null,null,42,{"$f":"GB12+GE12*SIN(RADIANS(GA36)+GA14)","v":{"$error":"#DIV/0!"}},{"$f":"GC12+GE12*COS(RADIANS(GA36)+GA14)","v":{"$error":"#DIV/0!"}},{"$f":"IF(GB13>GB36,ATAN((GC13-GC36)/(GB13-GB36)),ATAN((GC13-GC36)/(GB36-GB13)))","v":{"$error":"#DIV/0!"}},{"$f":"IF(GB13>GB36,(GB13-GB36)/COS(GD36),(GB36-GB13)/COS(GD36))","v":{"$error":"#DIV/0!"}},null,null,null,null,null,null,null,null,null,null,null,"ماکزیمم متغیر ورودی  ضریب طول",1,null,null,{"$f":"GU35+GT11","v":-50},-0.87266462599716477,{"$f":"HB13+HB10*COS(GV36)","v":{"$error":"#REF!"}},{"$f":"HC13-HB10*SIN(GV36)","v":{"$error":"#REF!"}},{"$f":"SQRT(POWER((HB12-GW36),2)+POWER((HC12-GX36),2))","v":{"$error":"#REF!"}},{"$f":"ABS(HB9-GY36)","v":{"$error":"#REF!"}},null,0,0,1,"نقطه اول خط تقارن","نقاط قرینه شده نسبت به خط تقارن",null,null,null,null,null,null,null,null,{"$f":"-HK36+HP9","v":0},0,null,null,null,null,null,null,null,null,null,null,null,null,null,null,null,null,null,null,null,null,null,null,null,null,null,null,null,null,null,null,null,null,null,null,null,null,null,null,null,null,null,null,null,null,null,null,null,null,null,null,null,null,null,null,null,null,null,null,null,null,null,null,null,null,null,null,null,null,null,null,null,null,null,null,null,null,null,null,null,null,null,null,null,null,null,null,null,null,null,null,null,null,null,null,null,null,null,null,null,null,null,null,null,null,null,null,null,null,null,null,null,null,null,null,null,null,null,null,null,null,null,null,null,null,null,null,null,null,null,null,null,null,null,null,null,null,null,null,null,null,null,null,null,null,null,null,null,null,null,null,null,null,null,null,null,null,null,null,null,null,"h3",{"$f":"'متغیرها '!C861","v":4.5},"طول باکس نوشته",null,"پهنای نیم دایره",{"$f":"NV35","v":0.5},{"$f":"NV49","v":0.82173913043478275},{"$f":"NZ42","v":-3.2418750000000038},{"$f":"OA42","v":5.1917391304347831},{"$f":"NY42","v":"g5"},null,"Xm1",{"$f":"NV31","v":-35},"جابجایی افقی کل نقشه",null,"پهنای نیم دایره",{"$f":"OG40","v":0.5},{"$f":"OG51","v":0.5800511508951407},{"$f":"OK42","v":-9.840833333333336},{"$f":"OL42","v":5.1353452685421992},{"$f":"OJ42","v":"g5"},null,"Xm1",{"$f":"NV31","v":-35},"جابجایی افقی کل نقشه",null,"پهنای نیم دایره",{"$f":"OR40","v":0.5},{"$f":"OR51","v":0.5800511508951407},{"$f":"OV42","v":-11.080416666666672},{"$f":"OW42","v":5.1353452685421992},{"$f":"OU42","v":"g5"},null,"w'12",{"$f":"NV33","v":42},"نسبت نقشه بافت به سایز واقعی",null,"پهنای نیم دایره",{"$f":"PC38","v":0.5},{"$f":"PC49","v":0.5800511508951407},{"$f":"PG42","v":-0.54395833333333576},{"$f":"PH42","v":5.1353452685421992},{"$f":"PF42","v":"g5"},null,"w'12",{"$f":"NV33","v":42},"نسبت نقشه بافت به سایز واقعی",null,"پهنای نیم دایره",{"$f":"PN38","v":0.5},{"$f":"PN49","v":0.5800511508951407},{"$f":"PR42","v":3.1747916666666569},{"$f":"PS42","v":5.1353452685421992},{"$f":"PQ42","v":"g5"},null,{"$f":"PX29","v":-45},{"$f":"PY34+2*PY7","v":9.2857142857142865},"t8",null,"f7",{"$f":"QC34+QC34-QC35","v":-42.228571428571428},{"$f":"QD35","v":7},{"$f":"QC37","v":-42.55},{"$f":"QD37","v":7.4285714285714288},{"$f":"QB37","v":"f8"},null,{"$f":"AH384","v":9.4652951301894817},{"$f":"AI384","v":39.900221486683812},"22f",null,{"$f":"QI79","v":9.6148808172717555},{"$f":"QJ79","v":29.530675303443079},"a1",null,{"$f":"QQ15","v":-20.532},{"$f":"QR15+QR7+QR8","v":12.488726831407766},"k26",null,null,null,null,{"$f":"QQ49","v":-17.632000000000001},{"$f":"QR49","v":12.911674173357511},"k39",null,"Xw1",{"$f":"PN34","v":-35},"جابجایی افقی کل نقشه",null,"پهنای نیم دایره",{"$f":"RC40","v":0.5},{"$f":"RC51","v":0.5800511508951407},{"$f":"RG42","v":-12.028333333333336},{"$f":"RH42","v":5.1353452685421992},{"$f":"RF42","v":"g5"},null,null,"نقاط خروجی عمودی - اصلی ",null,null,{"$f":"RQ35","v":0},{"$f":"RN38","v":-40.22742474916388},null,null,null,null,null,null,{"$f":"RY35","v":-27.357859531772576},{"$f":"RV38","v":10.277777777777777},null,null,{"$f":"SC35","v":-36.628762541806019},{"$f":"RV38","v":10.277777777777777},null,null,null,null,null,null,{"$f":"SK35","v":0},{"$f":"SH38","v":-40.22742474916388},null,null,null,null,null,null,{"$f":"SS35","v":-27.357859531772576},{"$f":"SP38","v":10.277777777777777},null,null,{"$f":"SW35","v":-36.628762541806019},{"$f":"SP38","v":10.277777777777777},null,null,null,"نقاط خروجی عمودی - اصلی ",null,null,{"$f":"TE35","v":0},{"$f":"TB38","v":-39.721739130434784},null,null,null,null,null,null,{"$f":"TM35","v":-27.673913043478258},{"$f":"TJ38","v":9.7222222222222232},null,null,{"$f":"TQ35","v":-36.713043478260872},{"$f":"TJ38","v":9.7222222222222232},null,null,null,"نقاط خروجی عمودی - اصلی ",null,null,{"$f":"TY35","v":0},{"$f":"TV38","v":-39.721739130434784},null,null,null,null,null,null,{"$f":"UG35","v":-27.673913043478258},{"$f":"UD38","v":9.7222222222222232},null,null,{"$f":"UK35","v":-36.713043478260872},{"$f":"UD38","v":9.7222222222222232},null,null,null,"نقاط خروجی عمودی - اصلی ",null,null,{"$f":"US35","v":0},{"$f":"UP38","v":-40.22742474916388},null,null,null,null,null,null,{"$f":"VA35","v":-27.357859531772576},{"$f":"UX38","v":10.277777777777777},null,null,{"$f":"VE35","v":-36.628762541806019},{"$f":"UX38","v":10.277777777777777},null,null,null,"نقاط خروجی عمودی - اصلی ",null,null,{"$f":"VM35","v":0},{"$f":"VJ38","v":-40.22742474916388},null,null,null,null,null,null,{"$f":"VU35","v":-27.357859531772576},{"$f":"VR38","v":10.277777777777777},null,null,{"$f":"VY35","v":-36.628762541806019},{"$f":"VR38","v":10.277777777777777}]
[null,null,null,null,"گشادی مچ جدار در پایین آستین (cm)     b15",{"$f":"ROUND(BZ520-BZ519,0)","v":11},null,"تعداد دانه در یک سانت آستینb001 ",{"$f":"F7+0.68*I39*F7","v":1.5567567567567568},null,null,null,null,"a5",{"$f":"ROUND(0.35*O33,0)","v":29},null,"e4",{"$f":"ROUND(0.65*(R38),0)","v":7},null,"e4",{"$f":"ROUND(0.66*(U38),0)","v":9},null,"c10",{"$f":"W30","v":12},null,"c10",{"$f":"X37","v":12},null,"d5",{"$f":"ROUND(AD20*AD5,0)","v":56},null,null,null,{"$error":"#DIV/0!"},0,{"$f":"IF(AM37=0,\"  \",(10/3)*((AM37/AL37)*(1/J6)-1))","v":"  "},{"$f":"IF(AN37=0,\"  \",(100/68)*((AO37/AN37)*(1/J7)-1))","v":"  "},13.5,0,0,36,null,31,null,"  ","  ","  ",null,null,null,null,null,null,null,null,null,null,null,null,null,null,null,null,null,null,null,null,null,null,null,null,null,null,null,null,null,null,null,null,null,null,null,null,null,null,null,{"$f":"CI36","v":0},{"$f":"CJ36-'طراحی همه الگوها'!U177","v":25},"j2",null,null,null,null,null,null,null,null,null,null,null,null,null,null,null,"مولفه افقی نقطه 1",{"$f":"0","v":0},null,{"$f":"DD16","v":9.9},{"$f":"DE16-'طراحی همه الگوها'!U206","v":60.4},22,null,null,null,null,null,"s20",{"$f":"DM27-0.25*'متغیرها '!U84*SIN(DM17)","v":13.914769700057004},{"$f":"DN27-0.25*'متغیرها '!U84*COS(DM17)","v":35.374750540099029},null,{"$f":"DM36","v":26.179130163629324},{"$f":"DN36","v":33.212468777801583},"s19",null,null,null,null,null,null,null,null,null,"زاویه مچ",15,null,{"$f":"EC32+'طراحی همه الگوها'!U224","v":122.7},{"$f":"EC33","v":90.600000000000009},18,null,{"$f":"EI15","v":48.3},{"$f":"EJ15","v":100.60000000000001},13,null,null,{"$f":"EN36-'متغیرها '!U84*COS(RADIANS(45))","v":21.605731346207158},11,{"$f":"EP36-'طراحی همه الگوها'!U237*COS(RADIANS(45))","v":22.698127676088177},{"$f":"EQ36-'طراحی همه الگوها'!U237*SIN(RADIANS(45))","v":23.081057043740515},{"$f":"ER36-'متغیرها '!U84*SIN(RADIANS(45))","v":22.052133030061892},null,null,null,null,null,{"$f":"EP34","v":25.275179014859113},{"$f":"EQ34","v":2.581129935023398},8,null,null,null,null,null,{"$f":"FF36","v":27.1},{"$f":"FG31+'طراحی همه الگوها'!U261","v":41.8},17,null,{"$f":"FJ19","v":21.7},{"$f":"FK19","v":39.799999999999997},26,null,null,null,null,null,null,null,null,null,null,null,null,null,null,44,{"$f":"GB12+GE12*SIN(RADIANS(GA37)+GA14)","v":{"$error":"#DIV/0!"}},{"$f":"GC12+GE12*COS(RADIANS(GA37)+GA14)","v":{"$error":"#DIV/0!"}},{"$f":"IF(GB13>GB37,ATAN((GC13-GC37)/(GB13-GB37)),ATAN((GC13-GC37)/(GB37-GB13)))","v":{"$error":"#DIV/0!"}},{"$f":"IF(GB13>GB37,(GB13-GB37)/COS(GD37),(GB37-GB13)/COS(GD37))","v":{"$error":"#DIV/0!"}},null,null,null,null,null,null,null,null,null,"m1",{"$f":"ATAN((-GQ33+GQ32)/(GR32-GR33))","v":{"$error":"#REF!"}},"m2",{"$f":"SQRT(POWER(GQ32-GQ33,2)+POWER(GR32-GR33,2))","v":{"$error":"#REF!"}},null,null,{"$f":"GU36+GT11","v":-48},-0.83775804095727824,{"$f":"HB13+HB10*COS(GV37)","v":{"$error":"#REF!"}},{"$f":"HC13-HB10*SIN(GV37)","v":{"$error":"#REF!"}},{"$f":"SQRT(POWER((HB12-GW37),2)+POWER((HC12-GX37),2))","v":{"$error":"#REF!"}},{"$f":"ABS(HB9-GY37)","v":{"$error":"#REF!"}},null,{"$f":"HF29","v":0},{"$f":"HG29","v":0},2,"نقطه دوم خط تقارن","مولفه افقی","مولفه عمودی","اسم نقطه ",null,null,null,null,null,null,{"$f":"-HK37+HP9","v":0},0,null,null,null,null,null,null,null,null,null,null,null,null,null,null,null,null,null,null,null,null,null,null,null,null,null,null,null,null,null,null,null,null,null,null,null,null,null,null,null,null,null,null,null,null,null,null,null,null,null,null,null,null,null,null,null,null,null,null,null,null,null,null,null,null,null,null,null,null,null,null,null,null,null,null,null,null,null,null,null,null,null,null,null,null,null,null,null,null,null,null,null,null,null,null,null,null,null,null,null,null,null,null,null,null,null,null,null,null,null,null,null,null,null,null,null,null,null,null,null,null,null,null,null,null,null,null,null,null,null,null,null,null,null,null,null,null,null,null,null,null,null,null,null,null,null,null,null,null,null,null,null,null,null,null,null,null,null,null,null,null,"h4",{"$f":"'متغیرها '!C862","v":0.5},"پهنای باکس نوشته",null,"نقطه شروع انحنا","مولفه افقی","مولفه عمودی",{"$f":"NZ41","v":-3.0843750000000036},{"$f":"OA41","v":5.6847826086956523},{"$f":"NY41","v":"g4"},null,"Ym1",{"$f":"NV32","v":5},"جابجایی عمودی کل نقشه",null,"نقطه شروع انحنا","مولفه افقی","مولفه عمودی",{"$f":"OK41","v":-9.6833333333333353},{"$f":"OL41","v":5.4833759590792841},{"$f":"OJ41","v":"g4"},null,"Ym1",{"$f":"NV32","v":5},"جابجایی عمودی کل نقشه",null,"نقطه شروع انحنا","مولفه افقی","مولفه عمودی",{"$f":"OV41","v":-10.922916666666671},{"$f":"OW41","v":5.4833759590792841},{"$f":"OU41","v":"g4"},null,"wn11",{"$f":"'متغیرها '!C859/PB16","v":0.96675191815856776},"ارتفاع هر رج",null,"نقطه شروع انحنا","مولفه افقی","مولفه عمودی",{"$f":"PG41","v":-0.38645833333333568},{"$f":"PH41","v":5.4833759590792841},{"$f":"PF41","v":"g4"},null,"wn11",{"$f":"'متغیرها '!C859/PM16","v":0.96675191815856776},"ارتفاع هر رج",null,"نقطه شروع انحنا","مولفه افقی","مولفه عمودی",{"$f":"PR41","v":3.3322916666666571},{"$f":"PS41","v":5.4833759590792841},{"$f":"PQ41","v":"g4"},null,{"$f":"PX36-PX30+PX29","v":-48.5},{"$f":"PY36","v":9.2857142857142865},"t9",null,"f8",{"$f":"QC34","v":-42.55},{"$f":"QD34+2*QC29","v":7.4285714285714288},{"$f":"QC36","v":-42.228571428571428},{"$f":"QD36","v":7},{"$f":"QB36","v":"f7"},null,{"$f":"AH385","v":22.919110502054707},{"$f":"AI385","v":27.963987506451357},"k''4",null,null,null,null,null,{"$f":"QQ15+(QR7+2*QR8)*SIN(RADIANS(30))","v":-17.932000000000002},{"$f":"QR15-(QR7+2*QR8)*COS(RADIANS(30))","v":3.3853947317286845},"k27",null,null,null,null,{"$f":"QQ47","v":-14.731999999999999},{"$f":"QR47","v":7.8887268314077659},"k37",null,"Yw1",5,"جابجایی عمودی کل نقشه",null,"نقطه شروع انحنا","مولفه افقی","مولفه عمودی",{"$f":"RG41","v":-11.870833333333335},{"$f":"RH41","v":5.4833759590792841},{"$f":"RF41","v":"g4"},null,null,null,"a",null,null,null,null,null,null,null,null,null,null,null,null,null,null,null,null,null,null,null,null,null,null,null,null,null,null,null,null,null,null,null,null,null,null,null,null,null,null,null,"a",null,null,null,null,null,null,null,null,null,null,null,null,null,null,null,null,null,null,null,"a",null,null,null,null,null,null,null,null,null,null,null,null,null,null,null,null,null,null,null,"a",null,null,null,null,null,null,null,null,null,null,null,null,null,null,null,null,null,null,null,"a"]
[null,null,null,null,"در بالای مچ هر b12   دانه یکی کم شود",{"$f":"F22","v":4},null,"جمع شوندگی عمودی بافت آستین   f002",{"$f":"OFFSET(AJ6,I40,0)","v":0.10582010582010619},null,null,null,null,"a6",{"$f":"ROUND(0.4*P9,0)","v":2},null,"e5",{"$f":"ROUND(0.28*(R34),0)","v":11},null,"e5",{"$f":"ROUND(0.35*(U34),0)","v":13},null,"c11",{"$f":"X30","v":10},null,"c11",{"$f":"X38","v":10},null,"d6",{"$f":"G45","v":14},null,null,null,{"$error":"#DIV/0!"},0,{"$f":"IF(AM38=0,\"  \",(10/3)*((AM38/AL38)*(1/J6)-1))","v":"  "},{"$f":"IF(AN38=0,\"  \",(100/68)*((AO38/AN38)*(1/J7)-1))","v":"  "},13.5,0,0,36,null,32,null,"  ","  ","  ",null,null,null,null,null,null,null,null,null,null,null,null,null,null,null,null,null,null,null,null,null,null,null,null,null,null,null,null,null,null,null,null,null,null,null,null,null,null,null,{"$f":"CI36+'طراحی همه الگوها'!U178","v":8},{"$f":"CJ36","v":57.8},"j3",null,{"$f":"CI44","v":1.8},{"$f":"CJ44","v":15.799999999999997},"j10",null,null,null,null,null,null,null,null,null,null,null,"نوک سر تا مچ دست شبیه ساز  a3",{"$f":"1.03*(SQRT(POWER(0.5*H168,2)+POWER((0.47*'متغیرها '!U85+H167*SIN('متغیرها '!B245)),2)))+'متغیرها '!U83","v":40.555118294795669},null,null,null,null,null,null,null,null,null,null,null,null,null,null,null,null,null,null,null,null,null,{"$f":"DX36","v":14.461237168799723},{"$f":"DY36","v":23.215701188318469},"s'12",null," شبیه سازαk1",{"$f":"F423","v":1.445003975267326},null,{"$f":"EC32+'طراحی همه الگوها'!U224","v":122.7},{"$f":"EC33-'طراحی همه الگوها'!U226","v":83.100000000000009},20,null,null,null,null,null,null,null,null,null,null,null,null,null,null,null,null,null,null,null,null,null,null,null,null,null,null,null,null,null,null,null,null,null,null,null,null,{"$f":"FO27","v":20.25},{"$f":"FP27","v":0},"s13",null,null,null,null,null,null,46,{"$f":"GB12+GE12*SIN(RADIANS(GA38)+GA14)","v":{"$error":"#DIV/0!"}},{"$f":"GC12+GE12*COS(RADIANS(GA38)+GA14)","v":{"$error":"#DIV/0!"}},{"$f":"IF(GB13>GB38,ATAN((GC13-GC38)/(GB13-GB38)),ATAN((GC13-GC38)/(GB38-GB13)))","v":{"$error":"#DIV/0!"}},{"$f":"IF(GB13>GB38,(GB13-GB38)/COS(GD38),(GB38-GB13)/COS(GD38))","v":{"$error":"#DIV/0!"}},null,null,null,null,null,null,null,null,null,"نقطه خروجی بالا","s'u9",{"$f":"GQ32-GQ34*COS(GP37)","v":{"$error":"#REF!"}},{"$f":"GR32+GQ34*SIN(GP37)","v":{"$error":"#REF!"}},null,null,{"$f":"GU37+GT11","v":-46},-0.8028514559173916,{"$f":"HB13+HB10*COS(GV38)","v":{"$error":"#REF!"}},{"$f":"HC13-HB10*SIN(GV38)","v":{"$error":"#REF!"}},{"$f":"SQRT(POWER((HB12-GW38),2)+POWER((HC12-GX38),2))","v":{"$error":"#REF!"}},{"$f":"ABS(HB9-GY38)","v":{"$error":"#REF!"}},null,0,0,3,null,{"$f":"HB38+2*(SIN(ATAN((HB37-HB36)/(HC37-HC36)))*(HC38-HC36)+COS(ATAN((HB37-HB36)/(HC37-HC36)))*(HB36-HB38))*COS(ATAN((HB37-HB36)/(HC37-HC36)))","v":{"$error":"#DIV/0!"}},{"$f":"HC38-2*(SIN(ATAN((HB37-HB36)/(HC37-HC36)))*(HC38-HC36)+COS(ATAN((HB37-HB36)/(HC37-HC36)))*(HB36-HB38))*SIN(ATAN((HB37-HB36)/(HC37-HC36)))","v":{"$error":"#DIV/0!"}},{"$f":"HD38","v":3},null,null,null,null,null,null,{"$f":"-HK38+HP9","v":0},0,null,null,null,null,null,null,null,null,null,null,null,null,null,null,null,null,null,null,null,null,null,null,null,null,null,null,null,null,null,null,null,null,null,null,null,null,null,null,null,null,null,null,null,null,null,null,null,null,null,null,null,null,null,null,null,null,null,null,null,null,null,null,null,null,null,null,null,null,null,null,null,null,null,null,null,null,null,null,null,null,null,null,null,null,null,null,null,null,null,null,null,null,null,null,null,null,null,null,null,null,null,null,null,null,null,null,null,null,null,null,null,null,null,null,null,null,null,null,null,null,null,null,null,null,null,null,null,null,null,null,null,null,null,null,null,null,null,null,null,null,null,null,null,null,null,null,null,null,null,null,null,null,null,null,null,null,null,null,null,null,"f'4",{"$f":"'متغیرها '!C863","v":0.60000000000000009},"بزرگی فلش رج",null,"w2",{"$f":"NU51","v":-3.6093750000000036},{"$f":"NV51","v":5},{"$f":"NZ43","v":-3.2418750000000038},{"$f":"OA43","v":6.1778260869565216},{"$f":"NY43","v":"g6"},null,"w'12",{"$f":"NV33","v":42},"نسبت نقشه بافت به سایز واقعی",null,"m2",{"$f":"OF61","v":-10.208333333333336},{"$f":"OG61","v":5},{"$f":"OK43","v":-9.840833333333336},{"$f":"OL43","v":5.831406649616369},{"$f":"OJ43","v":"g6"},null,"w'12",{"$f":"NV33","v":42},"نسبت نقشه بافت به سایز واقعی",null,"m2",{"$f":"OQ61","v":-11.447916666666671},{"$f":"OR61","v":5},{"$f":"OV43","v":-11.080416666666672},{"$f":"OW43","v":5.831406649616369},{"$f":"OU43","v":"g6"},null,"g9",{"$f":"NV35","v":0.5},"پهنای نیم دایره",null,"n2",{"$f":"PB61","v":-0.9114583333333357},{"$f":"PC61","v":5},{"$f":"PG43","v":-0.54395833333333576},{"$f":"PH43","v":5.831406649616369},{"$f":"PF43","v":"g6"},null,"g9",{"$f":"NV35","v":0.5},"پهنای نیم دایره",null,"n2",{"$f":"PM61","v":2.8072916666666572},{"$f":"PN61","v":5},{"$f":"PR43","v":3.1747916666666569},{"$f":"PS43","v":5.831406649616369},{"$f":"PQ43","v":"g6"},null,{"$f":"PX37","v":-48.5},{"$f":"PY37+PY7","v":10.714285714285715},"t10",null,null,null,null,null,null,null,null,{"$f":"AH388","v":18.937161970737396},{"$f":"AI388","v":23.475771168757738},"k''5",null,{"$f":"QI79","v":9.6148808172717555},{"$f":"QJ79","v":29.530675303443079},"a1",null,{"$f":"QQ15+(QR7+2*QR8)*SIN(RADIANS(60))","v":-16.028667900320919},{"$f":"QR15-(QR7+2*QR8)*COS(RADIANS(60))","v":5.2887268314077653},"k28",null,null,null,null,{"$f":"QQ45","v":-15.509052658050255},{"$f":"QR45","v":4.9887268314077655},"k35",null,"w'12",42,"نسبت نقشه بافت به سایز واقعی",null,"p2",{"$f":"RB61","v":-12.395833333333336},{"$f":"RC61","v":5},{"$f":"RG43","v":-12.028333333333336},{"$f":"RH43","v":5.831406649616369},{"$f":"RF43","v":"g6"},null,{"$f":"RM40","v":0},{"$f":"RN40-ROUND(RN27/RN29,0)*RN29","v":-40.22742474916388},"1'",null,{"$f":"IF(RN26>(RM44-RM40),RM44,RM40)","v":0},{"$f":"IF(RN26>(RM44-RM40),RN44,RN40)","v":-20},{"$f":"RO44","v":20},null,{"$f":"RU40","v":-40},{"$f":"-(RV40-ROUND(RV28/RV32,0)*RV32)+RV33","v":10.277777777777777},"1'",null,{"$f":"IF(RV27>(RU44-RU40),RU44,RU40)","v":-23.143812709030101},{"$f":"IF(RV27>(RU44-RU40),RV44,RV40)","v":0},{"$f":"RW44","v":20},null,{"$f":"IF(RV27>(RU69-RU40),RU69,RU40)","v":-34.943143812709032},{"$f":"IF(RV27>(RU69-RU40),RV69,RV40)","v":0},6,null,{"$f":"SG40","v":0},{"$f":"SH40-ROUND(SH27/SH29,0)*SH29","v":-40.22742474916388},"1'",null,{"$f":"IF(SH26>(SG44-SG40),SG44,SG40)","v":0},{"$f":"IF(SH26>(SG44-SG40),SH44,SH40)","v":-20},{"$f":"SI44","v":20},null,{"$f":"SO40","v":-40},{"$f":"-(SP40-ROUND(SP28/SP32,0)*SP32)+SP33","v":10.277777777777777},"1'",null,{"$f":"IF(SP27>(SO44-SO40),SO44,SO40)","v":-23.143812709030101},{"$f":"IF(SP27>(SO44-SO40),SP44,SP40)","v":0},{"$f":"SQ44","v":20},null,{"$f":"IF(SP27>(SO69-SO40),SO69,SO40)","v":-34.943143812709032},{"$f":"IF(SP27>(SO69-SO40),SP69,SP40)","v":0},6,null,{"$f":"TA40","v":0},{"$f":"TB40-ROUND(TB27/TB29,0)*TB29","v":-39.721739130434784},"1'",null,{"$f":"IF(TB26>(TA44-TA40),TA44,TA40)","v":0},{"$f":"IF(TB26>(TA44-TA40),TB44,TB40)","v":-20},{"$f":"TC44","v":20},null,{"$f":"TI40","v":-40},{"$f":"-(TJ40-ROUND(TJ28/TJ32,0)*TJ32)+TJ33","v":9.7222222222222232},"1'",null,{"$f":"IF(TJ27>(TI44-TI40),TI44,TI40)","v":-23.565217391304344},{"$f":"IF(TJ27>(TI44-TI40),TJ44,TJ40)","v":0},{"$f":"TK44","v":20},null,{"$f":"IF(TJ27>(TI69-TI40),TI69,TI40)","v":-35.0695652173913},{"$f":"IF(TJ27>(TI69-TI40),TJ69,TJ40)","v":0},6,null,{"$f":"TU40","v":0},{"$f":"TV40-ROUND(TV27/TV29,0)*TV29","v":-39.721739130434784},"1'",null,{"$f":"IF(TV26>(TU44-TU40),TU44,TU40)","v":0},{"$f":"IF(TV26>(TU44-TU40),TV44,TV40)","v":-20},{"$f":"TW44","v":20},null,{"$f":"UC40","v":-40},{"$f":"-(UD40-ROUND(UD28/UD32,0)*UD32)+UD33","v":9.7222222222222232},"1'",null,{"$f":"IF(UD27>(UC44-UC40),UC44,UC40)","v":-23.565217391304344},{"$f":"IF(UD27>(UC44-UC40),UD44,UD40)","v":0},{"$f":"UE44","v":20},null,{"$f":"IF(UD27>(UC69-UC40),UC69,UC40)","v":-35.0695652173913},{"$f":"IF(UD27>(UC69-UC40),UD69,UD40)","v":0},6,null,{"$f":"UO40","v":0},{"$f":"UP40-ROUND(UP27/UP29,0)*UP29","v":-40.22742474916388},"1'",null,{"$f":"IF(UP26>(UO44-UO40),UO44,UO40)","v":0},{"$f":"IF(UP26>(UO44-UO40),UP44,UP40)","v":-20},{"$f":"UQ44","v":20},null,{"$f":"UW40","v":-40},{"$f":"-(UX40-ROUND(UX28/UX32,0)*UX32)+UX33","v":10.277777777777777},"1'",null,{"$f":"IF(UX27>(UW44-UW40),UW44,UW40)","v":-23.143812709030101},{"$f":"IF(UX27>(UW44-UW40),UX44,UX40)","v":0},{"$f":"UY44","v":20},null,{"$f":"IF(UX27>(UW69-UW40),UW69,UW40)","v":-34.943143812709032},{"$f":"IF(UX27>(UW69-UW40),UX69,UX40)","v":0},6,null,{"$f":"VI40","v":0},{"$f":"VJ40-ROUND(VJ27/VJ29,0)*VJ29","v":-40.22742474916388},"1'",null,{"$f":"IF(VJ26>(VI44-VI40),VI44,VI40)","v":0},{"$f":"IF(VJ26>(VI44-VI40),VJ44,VJ40)","v":-20},{"$f":"VK44","v":20},null,{"$f":"VQ40","v":-40},{"$f":"-(VR40-ROUND(VR28/VR32,0)*VR32)+VR33","v":10.277777777777777},"1'",null,{"$f":"IF(VR27>(VQ44-VQ40),VQ44,VQ40)","v":-23.143812709030101},{"$f":"IF(VR27>(VQ44-VQ40),VR44,VR40)","v":0},{"$f":"VS44","v":20},null,{"$f":"IF(VR27>(VQ69-VQ40),VQ69,VQ40)","v":-34.943143812709032},{"$f":"IF(VR27>(VQ69-VQ40),VR69,VR40)","v":0},6]
[null,null,null,null,"هر b11   رج در بافت آستین یکدانه از ابتدا و یکدانه از انتها کم شود",{"$f":"F19","v":6},null,"جمع شوندگی افقی بافت آستین   f003",{"$f":"OFFSET(AJ6,I40,1)","v":-3.9745627980922023E-2},null,null,null,null,"a10",{"$f":"L30","v":4},null,"e6",{"$f":"R35","v":0},null,"e6",{"$f":"U35","v":0},null,"خطا",{"$f":"IF(X34>0,\" \",\"خطا : پهنای یقه ب ب زیاد شود \")","v":"خطا : پهنای یقه ب ب زیاد شود "},null,"خطا",{"$f":"X39","v":"خطا : پهنای یقه ب ب زیاد شود "},null,"d7",{"$f":"G44","v":7},null,null,null,{"$error":"#DIV/0!"},0,{"$f":"IF(AM39=0,\"  \",(10/3)*((AM39/AL39)*(1/J6)-1))","v":"  "},{"$f":"IF(AN39=0,\"  \",(100/68)*((AO39/AN39)*(1/J7)-1))","v":"  "},13.5,0,0,36,null,33,null,"  ","  ","  ",null,null,null,null,null,null,null,null,null,null,null,null,null,null,null,null,null,null,null,null,null,null,null,null,null,null,null,null,null,null,null,null,null,null,null,null,null,null,null,{"$f":"'طراحی همه الگوها'!U178+'طراحی همه الگوها'!U177+CI36","v":40.799999999999997},{"$f":"CJ36","v":57.8},"j5",null,{"$f":"CI43","v":0},{"$f":"CJ43","v":15.799999999999997},"j9",null,null,null,null,null,null,null,null,null,null,null,null,null,null,null,null,null,null,null,null,null,null,"محاسبات طراحی چادر 2",null,null,null,{"$f":"DP37","v":26.179130163629324},{"$f":"DQ37","v":33.212468777801583},"s19",null,null,null,null,null,{"$f":"DU18","v":20.259512774529412},{"$f":"DV18","v":29.013976794048158},"s'10",null,"(k4 →k5)شبیه ساز",{"$f":"F425","v":5.0078203532802066},null,{"$f":"EC32","v":120},{"$f":"EC33-'طراحی همه الگوها'!U225","v":82.4},19,null,{"$f":"EE37","v":122.7},{"$f":"EF37","v":90.600000000000009},18,null,null,null,null,null,"j4",{"$f":"IF('متغیرها '!C25<1,'متغیرها '!C25*'متغیرها '!U59,IF('متغیرها '!C25<2,'متغیرها '!U59+('متغیرها '!C25-1)*('متغیرها '!U60-'متغیرها '!U59),IF('متغیرها '!C25<3,'متغیرها '!U60+('متغیرها '!C25-2)*(I105-'متغیرها '!U60),I105+('متغیرها '!C25-3)*(H127-H126))))","v":0},null,null,null,null,null,{"$f":"EP29","v":0},{"$f":"EQ29","v":57.8},1,null,null,null,null,null,{"$f":"FF13","v":0},{"$f":"FG33-FC43","v":73.61999999999999},"19'",null,{"$f":"FJ13","v":49.125},{"$f":"FG33","v":81.599999999999994},27,null,null,null,null,null,{"$f":"FO30","v":0},{"$f":"FP30","v":0},2,null,null,null,null,null,null,48,{"$f":"GB12+GE12*SIN(RADIANS(GA39)+GA14)","v":{"$error":"#DIV/0!"}},{"$f":"GC12+GE12*COS(RADIANS(GA39)+GA14)","v":{"$error":"#DIV/0!"}},{"$f":"IF(GB13>GB39,ATAN((GC13-GC39)/(GB13-GB39)),ATAN((GC13-GC39)/(GB39-GB13)))","v":{"$error":"#DIV/0!"}},{"$f":"IF(GB13>GB39,(GB13-GB39)/COS(GD39),(GB39-GB13)/COS(GD39))","v":{"$error":"#DIV/0!"}},null,null,null,null,null,null,null,null,null,"نقطه خروجی پایین","s'd8",{"$f":"GQ40-GQ34*COS(GP37)","v":{"$error":"#REF!"}},{"$f":"GR40+GQ34*SIN(GP37)","v":{"$error":"#REF!"}},null,null,{"$f":"GU38+GT11","v":-44},-0.76794487087750496,{"$f":"HB13+HB10*COS(GV39)","v":{"$error":"#REF!"}},{"$f":"HC13-HB10*SIN(GV39)","v":{"$error":"#REF!"}},{"$f":"SQRT(POWER((HB12-GW39),2)+POWER((HC12-GX39),2))","v":{"$error":"#REF!"}},{"$f":"ABS(HB9-GY39)","v":{"$error":"#REF!"}},null,0,0,4,null,{"$f":"HB39+2*(SIN(ATAN((HB37-HB36)/(HC37-HC36)))*(HC39-HC36)+COS(ATAN((HB37-HB36)/(HC37-HC36)))*(HB36-HB39))*COS(ATAN((HB37-HB36)/(HC37-HC36)))","v":{"$error":"#DIV/0!"}},{"$f":"HC39-2*(SIN(ATAN((HB37-HB36)/(HC37-HC36)))*(HC39-HC36)+COS(ATAN((HB37-HB36)/(HC37-HC36)))*(HB36-HB39))*SIN(ATAN((HB37-HB36)/(HC37-HC36)))","v":{"$error":"#DIV/0!"}},{"$f":"HD39","v":4},null,null,null,null,null,null,{"$f":"-HK39+HP9","v":0},0,null,null,null,null,null,null,null,null,null,null,null,null,null,null,null,null,null,null,null,null,null,null,null,null,null,null,null,null,null,null,null,null,null,null,null,null,null,null,null,null,null,null,null,null,null,null,null,null,null,null,null,null,null,null,null,null,null,null,null,null,null,null,null,null,null,null,null,null,null,null,null,null,null,null,null,null,null,null,null,null,null,null,null,null,null,null,null,null,null,null,null,null,null,null,null,null,null,null,null,null,null,null,null,null,null,null,null,null,null,null,null,null,null,null,null,null,null,null,null,null,null,null,null,null,null,null,null,null,null,null,null,null,null,null,null,null,null,null,null,null,null,null,null,null,null,null,null,null,null,null,null,null,null,null,null,null,null,null,null,null,"f5",{"$f":"'متغیرها '!C864","v":0.5},"زاویه فلش رج",null,"g11",{"$f":"NZ43+0.8*(NZ41-NZ43)","v":-3.1158750000000035},{"$f":"OA41+0.6*(OA43-OA41)","v":5.9806086956521742},{"$f":"NZ40","v":-3.6093750000000036},{"$f":"OA40","v":6.3695652173913047},{"$f":"NY40","v":"g2"},null,"w11",{"$f":"'متغیرها '!C859/OG56","v":0.96675191815856776},"ارتفاع هر رج",null,"g11",{"$f":"OK43+0.8*(OK41-OK43)","v":-9.7148333333333348},{"$f":"OL41+0.6*(OL43-OL41)","v":5.6921943734015352},{"$f":"OK40","v":-10.208333333333336},{"$f":"OL40","v":5.9667519181585682},{"$f":"OJ40","v":"g2"},null,"w11",{"$f":"'متغیرها '!C859/OR56","v":0.96675191815856776},"ارتفاع هر رج",null,"g11",{"$f":"OV43+0.8*(OV41-OV43)","v":-10.95441666666667},{"$f":"OW41+0.6*(OW43-OW41)","v":5.6921943734015352},{"$f":"OV40","v":-11.447916666666671},{"$f":"OW40","v":5.9667519181585682},{"$f":"OU40","v":"g2"},null,"h3",{"$f":"NV36","v":4.5},"طول باکس نوشته",null,"g11",{"$f":"PG43+0.8*(PG41-PG43)","v":-0.41795833333333565},{"$f":"PH41+0.6*(PH43-PH41)","v":5.6921943734015352},{"$f":"PG40","v":-0.9114583333333357},{"$f":"PH40","v":5.9667519181585682},{"$f":"PF40","v":"g2"},null,"h3",{"$f":"NV36","v":4.5},"طول باکس نوشته",null,"g11",{"$f":"PR43+0.8*(PR41-PR43)","v":3.3007916666666572},{"$f":"PS41+0.6*(PS43-PS41)","v":5.6921943734015352},{"$f":"PR40","v":2.8072916666666572},{"$f":"PS40","v":5.9667519181585682},{"$f":"PQ40","v":"g2"},null,{"$f":"PX38+PX31-PX34","v":-41.5},{"$f":"PY38","v":10.714285714285715},"t11",null,null,null,null,{"$f":"PX35","v":-36.5},{"$f":"PY35","v":5.7142857142857144},{"$f":"PZ35","v":"t7"},null,null,null,"قرینه یقه گرد جلو",null,{"$f":"QI66","v":11.25},{"$f":"QJ66","v":29.530675303443079},12,null,{"$f":"2*QQ15-QQ38","v":-25.035332099679081},{"$f":"QR38","v":5.2887268314077653},"k29",null,null,null,null,{"$f":"QQ52","v":-14.989437415779593},{"$f":"QR52","v":4.6887268314077648},"k42",null,"wn11",0.96675191815856776,"ارتفاع هر رج",null,"g11",{"$f":"RG43+0.8*(RG41-RG43)","v":-11.902333333333335},{"$f":"RH41+0.6*(RH43-RH41)","v":5.6921943734015352},{"$f":"RG40","v":-12.395833333333336},{"$f":"RH40","v":5.9667519181585682},{"$f":"RF40","v":"g2"},null,null,null,null,null,{"$f":"RQ38","v":0},{"$f":"RN38","v":-40.22742474916388},null,null,null,null,null,null,{"$f":"RY38","v":-23.143812709030101},{"$f":"RV38","v":10.277777777777777},null,null,{"$f":"SC38","v":-34.943143812709032},{"$f":"RV38","v":10.277777777777777},null,null,null,null,null,null,{"$f":"SK38","v":0},{"$f":"SH38","v":-40.22742474916388},null,null,null,null,null,null,{"$f":"SS38","v":-23.143812709030101},{"$f":"SP38","v":10.277777777777777},null,null,{"$f":"SW38","v":-34.943143812709032},{"$f":"SP38","v":10.277777777777777},null,null,null,null,null,null,{"$f":"TE38","v":0},{"$f":"TB38","v":-39.721739130434784},null,null,null,null,null,null,{"$f":"TM38","v":-23.565217391304344},{"$f":"TJ38","v":9.7222222222222232},null,null,{"$f":"TQ38","v":-35.0695652173913},{"$f":"TJ38","v":9.7222222222222232},null,null,null,null,null,null,{"$f":"TY38","v":0},{"$f":"TV38","v":-39.721739130434784},null,null,null,null,null,null,{"$f":"UG38","v":-23.565217391304344},{"$f":"UD38","v":9.7222222222222232},null,null,{"$f":"UK38","v":-35.0695652173913},{"$f":"UD38","v":9.7222222222222232},null,null,null,null,null,null,{"$f":"US38","v":0},{"$f":"UP38","v":-40.22742474916388},null,null,null,null,null,null,{"$f":"VA38","v":-23.143812709030101},{"$f":"UX38","v":10.277777777777777},null,null,{"$f":"VE38","v":-34.943143812709032},{"$f":"UX38","v":10.277777777777777},null,null,null,null,null,null,{"$f":"VM38","v":0},{"$f":"VJ38","v":-40.22742474916388},null,null,null,null,null,null,{"$f":"VU38","v":-23.143812709030101},{"$f":"VR38","v":10.277777777777777},null,null,{"$f":"VY38","v":-34.943143812709032},{"$f":"VR38","v":10.277777777777777}]
[null,null,null,null,null,null,null,"بافت انتخابی آستین",{"$f":"'متغیرها '!C838","v":11},null,null,null,null,"a11",{"$f":"M30","v":2},null,"e7",{"$f":"ROUND(S18*F12,0)","v":13},null,"e7",{"$f":"R40","v":13},null,"اختلاف دور یقه ب ب خیاطی با بافتنی (سانتیمتر)",{"$f":"ROUND((X14-X33)/X20,1)","v":4.0999999999999996},null,"اختلاف دور یقه ب ب خیاطی با بافتنی (سانتیمتر)",{"$f":"ROUND((X14-AA33)/X20,1)","v":0.6},null,"d8",{"$f":"ROUND(AD20*SQRT(POWER((AC13-J233),2)+POWER((AD13-K233),2)),0)","v":15},null,null,null,{"$error":"#DIV/0!"},0,{"$f":"IF(AM40=0,\"  \",(10/3)*((AM40/AL40)*(1/J6)-1))","v":"  "},{"$f":"IF(AN40=0,\"  \",(100/68)*((AO40/AN40)*(1/J7)-1))","v":"  "},13.5,0,0,36,null,34,null,"  ","  ","  ",null,null,null,null,null,null,null,null,null,null,null,null,null,null,null,null,null,null,null,null,null,null,null,null,null,null,null,null,null,null,null,null,null,null,null,null,null,null,null,{"$f":"'طراحی همه الگوها'!U179+CI36","v":3.8},{"$f":"CJ36","v":57.8},"j6",null,null,null,null,null,null,null,null,null,null,null,null,null,null,null,null,null,null,null,null,null,null,null,null,null,null,"αs2",{"$f":"ATAN((DN13-DN14)/(DM14-DM13))","v":1.231598740435446},null,null,{"$f":"DM29","v":23.052904884106745},{"$f":"DN29","v":25.308247405542708},"s11",null,null,null,null,null,null,null,null,null,"زاویه خم بودن دست",{"$f":"K390","v":23.420540217172327},null,{"$f":"EC32","v":120},{"$f":"EC33","v":90.600000000000009},17,null,null,null,null,null,null,null,null,null,"(9→11)",{"$f":"'متغیرها '!C29*ER45+'متغیرها '!C27*'متغیرها '!U83","v":7.2353162730288156},null,null,null,null,null,{"$f":"EP30","v":-3.4},{"$f":"EQ30","v":-8},3,null,null,null,null,null,null,null,null,null,{"$f":"FJ13","v":49.125},{"$f":"FK13","v":57.699999999999996},28,null,null,null,null,null,null,null,null,null,null,null,null,null,null,50,{"$f":"GB12+GE12*SIN(RADIANS(GA40)+GA14)","v":{"$error":"#DIV/0!"}},{"$f":"GC12+GE12*COS(RADIANS(GA40)+GA14)","v":{"$error":"#DIV/0!"}},{"$f":"IF(GB13>GB40,ATAN((GC13-GC40)/(GB13-GB40)),ATAN((GC13-GC40)/(GB40-GB13)))","v":{"$error":"#DIV/0!"}},{"$f":"IF(GB13>GB40,(GB13-GB40)/COS(GD40),(GB40-GB13)/COS(GD40))","v":{"$error":"#DIV/0!"}},null,null,null,null,null,null,null,null,null,"نقطه خروجی میانه",null,{"$f":"GQ32-GQ35*GR37*SIN(GP37)/GR36","v":{"$error":"#REF!"}},{"$f":"GR32-GQ35*GR37*COS(GP37)/GR36","v":{"$error":"#REF!"}},null,null,{"$f":"GU39+GT11","v":-42},-0.73303828583761843,{"$f":"HB13+HB10*COS(GV40)","v":{"$error":"#REF!"}},{"$f":"HC13-HB10*SIN(GV40)","v":{"$error":"#REF!"}},{"$f":"SQRT(POWER((HB12-GW40),2)+POWER((HC12-GX40),2))","v":{"$error":"#REF!"}},{"$f":"ABS(HB9-GY40)","v":{"$error":"#REF!"}},null,{"$f":"HF30","v":0},{"$f":"HG30","v":0},5,null,{"$f":"HB40+2*(SIN(ATAN((HB37-HB36)/(HC37-HC36)))*(HC40-HC36)+COS(ATAN((HB37-HB36)/(HC37-HC36)))*(HB36-HB40))*COS(ATAN((HB37-HB36)/(HC37-HC36)))","v":{"$error":"#DIV/0!"}},{"$f":"HC40-2*(SIN(ATAN((HB37-HB36)/(HC37-HC36)))*(HC40-HC36)+COS(ATAN((HB37-HB36)/(HC37-HC36)))*(HB36-HB40))*SIN(ATAN((HB37-HB36)/(HC37-HC36)))","v":{"$error":"#DIV/0!"}},{"$f":"HD40","v":5},null,null,null,null,null,null,{"$f":"-HK40+HP9","v":0},0,null,null,null,null,null,null,null,null,null,null,null,null,null,null,null,null,null,null,null,null,null,null,null,null,null,null,null,null,null,null,null,null,null,null,null,null,null,null,null,null,null,null,null,null,null,null,null,null,null,null,null,null,null,null,null,null,null,null,null,null,null,null,null,null,null,null,null,null,null,null,null,null,null,null,null,null,null,null,null,null,null,null,null,null,null,null,null,null,null,null,null,null,null,null,null,null,null,null,null,null,null,null,null,null,null,null,null,null,null,null,null,null,null,null,null,null,null,null,null,null,null,null,null,null,null,null,null,null,null,null,null,null,null,null,null,null,null,null,null,null,null,null,null,null,null,null,null,null,null,null,null,null,null,null,null,null,null,null,null,null,null,{"$f":"O16","v":2.1904761904761902}," aa0 تعداد رج در یک سانت",null,"g2",{"$f":"NZ38","v":-3.6093750000000036},{"$f":"OA38+NZ35","v":6.3695652173913047},null,null,null,null,"g9",{"$f":"NV35","v":0.5},"پهنای نیم دایره",null,"g2",{"$f":"OK38","v":-10.208333333333336},{"$f":"OL38+OK35","v":5.9667519181585682},null,null,null,null,"g9",{"$f":"NV35","v":0.5},"پهنای نیم دایره",null,"g2",{"$f":"OV38","v":-11.447916666666671},{"$f":"OW38+OV35","v":5.9667519181585682},null,null,null,null,"h4",{"$f":"NV37","v":0.5},"پهنای باکس نوشته",null,"g2",{"$f":"PG38","v":-0.9114583333333357},{"$f":"PH38+PG35","v":5.9667519181585682},null,null,null,null,"h4",{"$f":"NV37","v":0.5},"پهنای باکس نوشته",null,"g2",{"$f":"PR38","v":2.8072916666666572},{"$f":"PS38+PR35","v":5.9667519181585682},null,null,null,null,{"$f":"PX36","v":-45},{"$f":"PY38","v":10.714285714285715},"t12",null,null,null,null,null,null,null,null,{"$f":"HX179","v":-5.9244108634080561},41.300688577032062,25,null,null,null,null,null,{"$f":"QQ15+QR7+2*QR8","v":-15.332000000000001},{"$f":"QR15","v":7.8887268314077659},"k30",null,null,null,null,{"$f":"QQ54","v":-14.132},{"$f":"QR54","v":7.8887268314077659},"k44",null,"g9",0.5,"پهنای نیم دایره",null,"g2",{"$f":"RG38","v":-12.395833333333336},{"$f":"RH38+RG35","v":5.9667519181585682},null,null,null,null,{"$f":"RN24","v":0},{"$f":"RN25","v":-20},0,null,null,null,null,null,{"$f":"RV25","v":-40},{"$f":"RV26","v":0},0,null,null,null,null,null,null,null,null,null,{"$f":"SH24","v":0},{"$f":"SH25","v":-20},0,null,null,null,null,null,{"$f":"SP25","v":-40},{"$f":"SP26","v":0},0,null,null,null,null,null,null,null,null,null,{"$f":"TB24","v":0},{"$f":"TB25","v":-20},0,null,null,null,null,null,{"$f":"TJ25","v":-40},{"$f":"TJ26","v":0},0,null,null,null,null,null,null,null,null,null,{"$f":"TV24","v":0},{"$f":"TV25","v":-20},0,null,null,null,null,null,{"$f":"UD25","v":-40},{"$f":"UD26","v":0},0,null,null,null,null,null,null,null,null,null,{"$f":"UP24","v":0},{"$f":"UP25","v":-20},0,null,null,null,null,null,{"$f":"UX25","v":-40},{"$f":"UX26","v":0},0,null,null,null,null,null,null,null,null,null,{"$f":"VJ24","v":0},{"$f":"VJ25","v":-20},0,null,null,null,null,null,{"$f":"VR25","v":-40},{"$f":"VR26","v":0},0]
[null,null,null,null,"تقسیم بندی بالاتنه","تعداد دانه ها\n(بافت جودانه یا ساده)","تعداد دانه ها\n(بافت انتخابی)","بافت انتخابی آستین",{"$f":"OFFSET(AJ6,I40,6)","v":"ساده "},null,null,null,null,"a25",{"$f":"ROUNDUP(IF((O13-2*F12)<0.1,I16*(O13),I16*2*F12+I23*(O13-2*F12)),0)","v":11},null,"e8",{"$f":"2*R40-4","v":22},null,"e8",22,null,null,null,null,null,null,null,"d9",{"$f":"IF(OR(AD10>30,AD10<0),0,AD10)","v":0},null,null,null,{"$error":"#DIV/0!"},0,{"$f":"IF(AM41=0,\"  \",(10/3)*((AM41/AL41)*(1/J6)-1))","v":"  "},{"$f":"IF(AN41=0,\"  \",(100/68)*((AO41/AN41)*(1/J7)-1))","v":"  "},13.5,0,0,36,null,35,null,"  ","  ","  ",null,null,null,null,null,null,null,null,null,null,null,null,null,null,null,null,null,null,null,null,null,null,null,null,null,null,null,null,null,null,null,null,null,null,null,null,null,null,null,{"$f":"CI36","v":0},{"$f":"CJ42","v":47.199999999999996},"j7",null,{"$f":"CI43","v":0},{"$f":"CJ43","v":15.799999999999997},"j9",null,null,null,null,null,null,null,null,null,null,null,null,null,null,null,null,null,null,null,null,null,null,"(s2 →s3)",{"$f":"SQRT(POWER((DM14-DM13),2)+POWER((DN13-DN14),2))","v":3.829802132149942},null,null,null,null,null,null,null,null,null,null,{"$f":"DU23","v":33.599999999999994},{"$f":"DV23","v":0},"s'13",null,"دست خمیده شبیه ساز k4",{"$f":"K384","v":22.16870108373309},{"$f":"L384","v":27.10478848484448},null,null,null,null,null,null,null,null,null,null,null,null,"(8→9)",{"$f":"ER37+'متغیرها '!C29*ER45*COS(ER46-RADIANS(45)+ER42)-EQ31","v":25.738242012381864},null,null,null,null,null,null,null,null,null,null,null,null,null,null,null,null,null,null,null,null,null,null,null,null,null,{"$f":"FR39","v":0},{"$f":"FS39","v":0},2,null,null,null,null,null,null,52,{"$f":"GB12+GE12*SIN(RADIANS(GA41)+GA14)","v":{"$error":"#DIV/0!"}},{"$f":"GC12+GE12*COS(RADIANS(GA41)+GA14)","v":{"$error":"#DIV/0!"}},{"$f":"IF(GB13>GB41,ATAN((GC13-GC41)/(GB13-GB41)),ATAN((GC13-GC41)/(GB41-GB13)))","v":{"$error":"#DIV/0!"}},{"$f":"IF(GB13>GB41,(GB13-GB41)/COS(GD41),(GB41-GB13)/COS(GD41))","v":{"$error":"#DIV/0!"}},null,null,null,null,null,null,null,null,null,null,null,null,null,null,null,{"$f":"GU40+GT11","v":-40},-0.69813170079773179,{"$f":"HB13+HB10*COS(GV41)","v":{"$error":"#REF!"}},{"$f":"HC13-HB10*SIN(GV41)","v":{"$error":"#REF!"}},{"$f":"SQRT(POWER((HB12-GW41),2)+POWER((HC12-GX41),2))","v":{"$error":"#REF!"}},{"$f":"ABS(HB9-GY41)","v":{"$error":"#REF!"}},null,null,null,null,null,null,null,null,null,null,null,null,null,null,{"$f":"-HK41+HP9","v":0},0,null,null,null,null,null,null,null,null,null,null,null,null,null,null,null,null,null,null,null,null,null,null,null,null,null,null,null,null,null,null,null,null,null,null,null,null,null,null,null,null,null,null,null,null,null,null,null,null,null,null,null,null,null,null,null,null,null,null,null,null,null,null,null,null,null,null,null,null,null,null,null,null,null,null,null,null,null,null,null,null,null,null,null,null,null,null,null,null,null,null,null,null,null,null,null,null,null,null,null,null,null,null,null,null,null,null,null,null,null,null,null,null,null,null,null,null,null,null,null,null,null,null,null,null,null,null,null,null,null,null,null,null,null,null,null,null,null,null,null,null,null,null,null,null,null,null,null,null,null,null,null,null,null,null,null,null,null,null,null,null,null,{"$f":"O17","v":2.7428571428571429},"تعداد دانه در یک سانت ab0 ",null,"g4",{"$f":"NZ38+NZ36*NZ34/40","v":-3.0843750000000036},{"$f":"OA38+0.5*NZ35","v":5.6847826086956523},{"$f":"NZ45","v":-3.4784451800487255},{"$f":"OA45","v":5.5340463687610484},{"$f":"NY45","v":"g8"},null,"h3",{"$f":"NV36","v":4.5},"طول باکس نوشته",null,"g4",{"$f":"OK38+OK36*OK34/40","v":-9.6833333333333353},{"$f":"OL38+0.5*OK35","v":5.4833759590792841},{"$f":"OK45","v":-9.9904381534069753},{"$f":"OL45","v":5.3940215064216286},{"$f":"OJ45","v":"g8"},null,"h3",{"$f":"NV36","v":4.5},"طول باکس نوشته",null,"g4",{"$f":"OV38+OV36*OV34/40","v":-10.922916666666671},{"$f":"OW38+0.5*OV35","v":5.4833759590792841},{"$f":"OV45","v":-11.230021486740311},{"$f":"OW45","v":5.3940215064216286},{"$f":"OU45","v":"g8"},null,"f'4",{"$f":"NV38","v":0.60000000000000009},"بزرگی فلش رج",null,"g4",{"$f":"PG38+PG36*PG34/40","v":-0.38645833333333568},{"$f":"PH38+0.5*PG35","v":5.4833759590792841},{"$f":"PG45","v":-0.69356315340697561},{"$f":"PH45","v":5.3940215064216277},{"$f":"PF45","v":"g8"},null,"f'4",{"$f":"NV38","v":0.60000000000000009},"بزرگی فلش رج",null,"g4",{"$f":"PR38+PR36*PR34/40","v":3.3322916666666571},{"$f":"PS38+0.5*PR35","v":5.4833759590792841},{"$f":"PR45","v":3.0251868465930172},{"$f":"PS45","v":5.3940215064216286},{"$f":"PQ45","v":"g8"},null,{"$f":"PX37+2/PY15","v":-47.45},{"$f":"PY37","v":9.2857142857142865},"t13",null,null,null,null,{"$f":"PX36","v":-45},9.2857142857142865,"t8",null,-4.7395286907264449,38.594707704219914,30,null,{"$f":"QI78","v":7.532},{"$f":"QJ78","v":35.888726831407766},"26''",null,{"$f":"2*QQ15-QQ40","v":-25.731999999999999},{"$f":"QR40","v":7.8887268314077659},"k31",null,null,null,null,{"$f":"QQ56","v":-17.332000000000001},{"$f":"QR56","v":13.431289415628175},"k46",null,"h3",4.5,"طول باکس نوشته",null,"g4",{"$f":"RG38+RG36*RG34/40","v":-11.870833333333335},{"$f":"RH38+0.5*RG35","v":5.4833759590792841},{"$f":"RG45","v":-12.177938153406975},{"$f":"RH45","v":5.3940215064216286},{"$f":"RF45","v":"g8"},null,{"$f":"RM40+5*RN28","v":6.4236111111111107},{"$f":"RN40","v":-20},5,null,{"$f":"IF(RN26>(RM45-RM40),RM45,RM40)","v":0},{"$f":"IF(RN26>(RM45-RM40),RN45,RN40)","v":-20},{"$f":"RO45","v":25},null,{"$f":"RU40+5*RV31","v":-35.785953177257525},{"$f":"RV40","v":0},5,null,{"$f":"IF(RV27>(RU45-RU40),RU45,RU40)","v":-40},{"$f":"IF(RV27>(RU45-RU40),RV45,RV40)","v":0},{"$f":"RW45","v":25},null,{"$f":"IF(RV27>(RU70-RU40),RU70,RU40)","v":-34.100334448160538},{"$f":"IF(RV27>(RU70-RU40),RV70,RV40)","v":0},7,null,{"$f":"SG40+5*SH28","v":6.4236111111111107},{"$f":"SH40","v":-20},5,null,{"$f":"IF(SH26>(SG45-SG40),SG45,SG40)","v":0},{"$f":"IF(SH26>(SG45-SG40),SH45,SH40)","v":-20},{"$f":"SI45","v":25},null,{"$f":"SO40+5*SP31","v":-35.785953177257525},{"$f":"SP40","v":0},5,null,{"$f":"IF(SP27>(SO45-SO40),SO45,SO40)","v":-40},{"$f":"IF(SP27>(SO45-SO40),SP45,SP40)","v":0},{"$f":"SQ45","v":25},null,{"$f":"IF(SP27>(SO70-SO40),SO70,SO40)","v":-34.100334448160538},{"$f":"IF(SP27>(SO70-SO40),SP70,SP40)","v":0},7,null,{"$f":"TA40+5*TB28","v":6.0763888888888893},{"$f":"TB40","v":-20},5,null,{"$f":"IF(TB26>(TA45-TA40),TA45,TA40)","v":0},{"$f":"IF(TB26>(TA45-TA40),TB45,TB40)","v":-20},{"$f":"TC45","v":25},null,{"$f":"TI40+5*TJ31","v":-35.891304347826086},{"$f":"TJ40","v":0},5,null,{"$f":"IF(TJ27>(TI45-TI40),TI45,TI40)","v":-40},{"$f":"IF(TJ27>(TI45-TI40),TJ45,TJ40)","v":0},{"$f":"TK45","v":25},null,{"$f":"IF(TJ27>(TI70-TI40),TI70,TI40)","v":-34.247826086956522},{"$f":"IF(TJ27>(TI70-TI40),TJ70,TJ40)","v":0},7,null,{"$f":"TU40+5*TV28","v":6.0763888888888893},{"$f":"TV40","v":-20},5,null,{"$f":"IF(TV26>(TU45-TU40),TU45,TU40)","v":0},{"$f":"IF(TV26>(TU45-TU40),TV45,TV40)","v":-20},{"$f":"TW45","v":25},null,{"$f":"UC40+5*UD31","v":-35.891304347826086},{"$f":"UD40","v":0},5,null,{"$f":"IF(UD27>(UC45-UC40),UC45,UC40)","v":-40},{"$f":"IF(UD27>(UC45-UC40),UD45,UD40)","v":0},{"$f":"UE45","v":25},null,{"$f":"IF(UD27>(UC70-UC40),UC70,UC40)","v":-34.247826086956522},{"$f":"IF(UD27>(UC70-UC40),UD70,UD40)","v":0},7,null,{"$f":"UO40+5*UP28","v":6.4236111111111107},{"$f":"UP40","v":-20},5,null,{"$f":"IF(UP26>(UO45-UO40),UO45,UO40)","v":0},{"$f":"IF(UP26>(UO45-UO40),UP45,UP40)","v":-20},{"$f":"UQ45","v":25},null,{"$f":"UW40+5*UX31","v":-35.785953177257525},{"$f":"UX40","v":0},5,null,{"$f":"IF(UX27>(UW45-UW40),UW45,UW40)","v":-40},{"$f":"IF(UX27>(UW45-UW40),UX45,UX40)","v":0},{"$f":"UY45","v":25},null,{"$f":"IF(UX27>(UW70-UW40),UW70,UW40)","v":-34.100334448160538},{"$f":"IF(UX27>(UW70-UW40),UX70,UX40)","v":0},7,null,{"$f":"VI40+5*VJ28","v":6.4236111111111107},{"$f":"VJ40","v":-20},5,null,{"$f":"IF(VJ26>(VI45-VI40),VI45,VI40)","v":0},{"$f":"IF(VJ26>(VI45-VI40),VJ45,VJ40)","v":-20},{"$f":"VK45","v":25},null,{"$f":"VQ40+5*VR31","v":-35.785953177257525},{"$f":"VR40","v":0},5,null,{"$f":"IF(VR27>(VQ45-VQ40),VQ45,VQ40)","v":-40},{"$f":"IF(VR27>(VQ45-VQ40),VR45,VR40)","v":0},{"$f":"VS45","v":25},null,{"$f":"IF(VR27>(VQ70-VQ40),VQ70,VQ40)","v":-34.100334448160538},{"$f":"IF(VR27>(VQ70-VQ40),VR70,VR40)","v":0},7]
[null,null,null,null," b6  کل پهنای جادکمه ",{"$f":"2*F25","v":26},{"$f":"ROUNDUP(I16*(2*F12),0)","v":22},null,null,null,null,null,null,"خطا",{"$f":"IF((ROUND(0.6*P9,0)-6)<0,\" خطا : قد پشت یقه زیاد شود \",\" \")","v":" خطا : قد پشت یقه زیاد شود "},null,"e9",{"$f":"IF((ROUNDUP(S12*S17*S9,0)-R40-R41-3)>-1,ROUNDUP(S12*S17*S9,0)-R40-R41-3,\"خطا\")","v":"خطا"},null,"e9","خطا",null,null,null,null,null,null,null,"d10",{"$f":"IF(OR(AD11>30,AD11<0),0,AD11)","v":0},null,null,null,{"$error":"#DIV/0!"},0,{"$f":"IF(AM42=0,\"  \",(10/3)*((AM42/AL42)*(1/J6)-1))","v":"  "},{"$f":"IF(AN42=0,\"  \",(100/68)*((AO42/AN42)*(1/J7)-1))","v":"  "},13.5,0,0,36,null,36,null,"  ","  ","  ",null,null,null,null,null,null,null,null,null,null,null,null,null,null,null,null,null,null,null,null,null,null,null,null,null,null,null,null,null,null,null,null,null,null,null,null,null,null,null,{"$f":"'طراحی همه الگوها'!U181+CI36","v":1.8},{"$f":"CJ36-'طراحی همه الگوها'!U180","v":47.199999999999996},"j8",null,{"$f":"CI41","v":0},{"$f":"CJ41","v":47.199999999999996},"j7",null,null,null,null,null,null,null,null,null,null,null,null,null,null,null,null,null,null,null,null,null,null,"(s2 →s14)",{"$f":"DM41*2*('متغیرها '!C10-0.5)","v":3.829802132149942},null,null,{"$f":"DP40","v":23.052904884106745},{"$f":"DQ40","v":25.308247405542708},"s11",null,null,null,null,null,{"$f":"DU30","v":0},{"$f":"DV30","v":0},"2'",null,null,null,null,null,null,null,null,null,null,null,null,null,null,null,null,"α2",{"$f":"'متغیرها '!B245","v":0.37663262401204339},null,null,null,null,null,{"$f":"ET28","v":22.5},{"$f":"EU28","v":13.574999999999999},15,null,"j4",{"$f":"IF('متغیرها '!C37<1,'متغیرها '!C37*'متغیرها '!U59,IF('متغیرها '!C37<2,'متغیرها '!U59+('متغیرها '!C37-1)*('متغیرها '!U60-'متغیرها '!U59),IF('متغیرها '!C37<3,'متغیرها '!U60+('متغیرها '!C37-2)*(I105-'متغیرها '!U60),I105+('متغیرها '!C37-3)*(H127-H126))))","v":0},null,null,null,null,null,null,null,null,null,null,null,null,null,null,{"$f":"FO31","v":0},{"$f":"FP31","v":25.365691432475337},"s''12",null,null,null,null,null,null,54,{"$f":"GB12+GE12*SIN(RADIANS(GA42)+GA14)","v":{"$error":"#DIV/0!"}},{"$f":"GC12+GE12*COS(RADIANS(GA42)+GA14)","v":{"$error":"#DIV/0!"}},{"$f":"IF(GB13>GB42,ATAN((GC13-GC42)/(GB13-GB42)),ATAN((GC13-GC42)/(GB42-GB13)))","v":{"$error":"#DIV/0!"}},{"$f":"IF(GB13>GB42,(GB13-GB42)/COS(GD42),(GB42-GB13)/COS(GD42))","v":{"$error":"#DIV/0!"}},null,null,null,null,null,null,null,null,null,null,null,null,null,null,null,{"$f":"GU41+GT11","v":-38},-0.66322511575784526,{"$f":"HB13+HB10*COS(GV42)","v":{"$error":"#REF!"}},{"$f":"HC13-HB10*SIN(GV42)","v":{"$error":"#REF!"}},{"$f":"SQRT(POWER((HB12-GW42),2)+POWER((HC12-GX42),2))","v":{"$error":"#REF!"}},{"$f":"ABS(HB9-GY42)","v":{"$error":"#REF!"}},null,null,null,null,"یافتن راس سوم مثلث با داشتن دو راس و یک ضلع و یک زاویه",null,null,null,null,null,null,null,null,null,{"$f":"-HK42+HP9","v":0},{"$f":"HL42","v":0},null,null,null,null,null,null,null,null,null,null,null,null,null,null,null,null,null,null,null,null,null,null,null,null,null,null,null,null,null,null,null,null,null,null,null,null,null,null,null,null,null,null,null,null,null,null,null,null,null,null,null,null,null,null,null,null,null,null,null,null,null,null,null,null,null,null,null,null,null,null,null,null,null,null,null,null,null,null,null,null,null,null,null,null,null,null,null,null,null,null,null,null,null,null,null,null,null,null,null,null,null,null,null,null,null,null,null,null,null,null,null,null,null,null,null,null,null,null,null,null,null,null,null,null,null,null,null,null,null,null,null,null,null,null,null,null,null,null,null,null,null,null,null,null,null,null,null,null,null,null,null,null,null,null,null,null,null,null,null,null,null,{"$f":"I16","v":1.4400000000000002}," تعداد دانه در یک سانت جادکمه",null,"g5",{"$f":"NZ38+0.7*(NZ41-NZ38)","v":-3.2418750000000038},{"$f":"OA38+0.28*(OA41-OA38)","v":5.1917391304347831},{"$f":"NZ39","v":-3.1158750000000035},{"$f":"OA39","v":5.9806086956521742},{"$f":"NY39","v":"g11"},null,"h4",{"$f":"NV37","v":0.5},"پهنای باکس نوشته",null,"g5",{"$f":"OK38+0.7*(OK41-OK38)","v":-9.840833333333336},{"$f":"OL38+0.28*(OL41-OL38)","v":5.1353452685421992},{"$f":"OK39","v":-9.7148333333333348},{"$f":"OL39","v":5.6921943734015352},{"$f":"OJ39","v":"g11"},null,"h4",{"$f":"NV37","v":0.5},"پهنای باکس نوشته",null,"g5",{"$f":"OV38+0.7*(OV41-OV38)","v":-11.080416666666672},{"$f":"OW38+0.28*(OW41-OW38)","v":5.1353452685421992},{"$f":"OV39","v":-10.95441666666667},{"$f":"OW39","v":5.6921943734015352},{"$f":"OU39","v":"g11"},null,"f5",{"$f":"NV39","v":0.5},"زاویه فلش رج",null,"g5",{"$f":"PG38+0.7*(PG41-PG38)","v":-0.54395833333333576},{"$f":"PH38+0.28*(PH41-PH38)","v":5.1353452685421992},{"$f":"PG39","v":-0.41795833333333565},{"$f":"PH39","v":5.6921943734015352},{"$f":"PF39","v":"g11"},null,"f5",{"$f":"NV39","v":0.5},"زاویه فلش رج",null,"g5",{"$f":"PR38+0.7*(PR41-PR38)","v":3.1747916666666569},{"$f":"PS38+0.28*(PS41-PS38)","v":5.1353452685421992},{"$f":"PR39","v":3.3007916666666572},{"$f":"PS39","v":5.6921943734015352},{"$f":"PQ39","v":"g11"},null,{"$f":"PX35","v":-36.5},{"$f":"PY36+0.5*PY7","v":10},"t14",null,null,null,null,-48.5,9.2857142857142865,"t9",null,-2.3697643453632224,36.429923005970196,28,null,{"$f":"QI77","v":7.532},{"$f":"QJ77","v":17.899999999999999},"1''",null,{"$f":"QQ15+(QR7+2*QR8)*SIN(RADIANS(30))","v":-17.932000000000002},{"$f":"QR15+(QR7+2*QR8)*COS(RADIANS(30))","v":12.392058931086847},"k32",null,null,null,null,{"$f":"QQ58","v":-20.532},{"$f":"QR58","v":14.288726831407766},"k48",null,"h4",0.5,"پهنای باکس نوشته",null,"g5",{"$f":"RG38+0.7*(RG41-RG38)","v":-12.028333333333336},{"$f":"RH38+0.28*(RH41-RH38)","v":5.1353452685421992},{"$f":"RG39","v":-11.902333333333335},{"$f":"RH39","v":5.6921943734015352},{"$f":"RF39","v":"g11"},null,{"$f":"RM40+10*RN28","v":12.847222222222221},{"$f":"RN40","v":-20},10,null,{"$f":"RQ41","v":0},{"$f":"RN38","v":-40.22742474916388},null,null,{"$f":"RU40+10*RV31","v":-31.57190635451505},{"$f":"RV40","v":0},10,null,{"$f":"RY41","v":-40},{"$f":"RV38","v":10.277777777777777},null,null,{"$f":"SC41","v":-34.100334448160538},{"$f":"RV38","v":10.277777777777777},null,null,{"$f":"SG40+10*SH28","v":12.847222222222221},{"$f":"SH40","v":-20},10,null,{"$f":"SK41","v":0},{"$f":"SH38","v":-40.22742474916388},null,null,{"$f":"SO40+10*SP31","v":-31.57190635451505},{"$f":"SP40","v":0},10,null,{"$f":"SS41","v":-40},{"$f":"SP38","v":10.277777777777777},null,null,{"$f":"SW41","v":-34.100334448160538},{"$f":"SP38","v":10.277777777777777},null,null,{"$f":"TA40+10*TB28","v":12.152777777777779},{"$f":"TB40","v":-20},10,null,{"$f":"TE41","v":0},{"$f":"TB38","v":-39.721739130434784},null,null,{"$f":"TI40+10*TJ31","v":-31.782608695652172},{"$f":"TJ40","v":0},10,null,{"$f":"TM41","v":-40},{"$f":"TJ38","v":9.7222222222222232},null,null,{"$f":"TQ41","v":-34.247826086956522},{"$f":"TJ38","v":9.7222222222222232},null,null,{"$f":"TU40+10*TV28","v":12.152777777777779},{"$f":"TV40","v":-20},10,null,{"$f":"TY41","v":0},{"$f":"TV38","v":-39.721739130434784},null,null,{"$f":"UC40+10*UD31","v":-31.782608695652172},{"$f":"UD40","v":0},10,null,{"$f":"UG41","v":-40},{"$f":"UD38","v":9.7222222222222232},null,null,{"$f":"UK41","v":-34.247826086956522},{"$f":"UD38","v":9.7222222222222232},null,null,{"$f":"UO40+10*UP28","v":12.847222222222221},{"$f":"UP40","v":-20},10,null,{"$f":"US41","v":0},{"$f":"UP38","v":-40.22742474916388},null,null,{"$f":"UW40+10*UX31","v":-31.57190635451505},{"$f":"UX40","v":0},10,null,{"$f":"VA41","v":-40},{"$f":"UX38","v":10.277777777777777},null,null,{"$f":"VE41","v":-34.100334448160538},{"$f":"UX38","v":10.277777777777777},null,null,{"$f":"VI40+10*VJ28","v":12.847222222222221},{"$f":"VJ40","v":-20},10,null,{"$f":"VM41","v":0},{"$f":"VJ38","v":-40.22742474916388},null,null,{"$f":"VQ40+10*VR31","v":-31.57190635451505},{"$f":"VR40","v":0},10,null,{"$f":"VU41","v":-40},{"$f":"VR38","v":10.277777777777777},null,null,{"$f":"VY41","v":-34.100334448160538},{"$f":"VR38","v":10.277777777777777}]
[null,null,null,null,"b3  جلو بدون جادکمه\nبین خط رگلان و خط مرکزی جلو که نیمه جادکمه از آن کم شود",{"$f":"ROUNDUP(F7*(SQRT(POWER(AX129-AX131,2)+POWER(AX130,2))+SQRT(POWER(AX131-AX133,2)+POWER(AX132-AX130,2))),0)-F25","v":-3},{"$f":"ROUNDUP(I23*((SQRT(POWER(AX129-AX131,2)+POWER(AX130,2))+SQRT(POWER(AX131-AX133,2)+POWER(AX132-AX130,2)))-F12),0)","v":-4},null,null,null,null,null,null,"a22 خطا",{"$f":"ROUNDDOWN(O33-(O33/O39)*(O39-O40)-(G46-2*O41),0)","v":-1},null,"e10",{"$f":"Q31","v":13},null,"e10",13,null,null,null,null,null,null,null,"d12",{"$f":"AD12","v":10},null,null,null,{"$error":"#DIV/0!"},0,{"$f":"IF(AM43=0,\"  \",(10/3)*((AM43/AL43)*(1/J6)-1))","v":"  "},{"$f":"IF(AN43=0,\"  \",(100/68)*((AO43/AN43)*(1/J7)-1))","v":"  "},13.5,0,0,36,null,37,null,"  ","  ","  ",null,null,null,null,null,null,null,null,null,null,null,null,null,null,null,null,null,null,null,null,null,null,null,null,null,null,null,null,null,null,null,null,null,null,null,null,null,null,null,{"$f":"CI36","v":0},{"$f":"CJ44","v":15.799999999999997},"j9",null,null,null,"انحنا",null,null,null,null,null,null,null,null,null,null,null,null,null,null,null,null,null,null,null,null,null,null,"شیفت افقی کل ",{"$f":"'متغیرها '!C51","v":0},null,null,{"$f":"DM28","v":10.567869694921066},{"$f":"DN28","v":26.912584129798347},"s12",null,null,null,null,null,null,null,null,null,null,null,null,null,null,null,null,null,null,null,null,null,null,null,null,"شیفت افقی مرغک",{"$f":"'متغیرها '!C33*0.5*('متغیرها '!U72-'متغیرها '!U73)","v":22.5},null,null,null,null,null,{"$f":"ET32","v":23.4},{"$f":"EU32","v":16.375},18,null,"(14 →19')",{"$f":"DM47+0.1*'متغیرها '!C40","v":7.9799999999999995},null,null,"رسم چادر شماره 5   برای پرینت",null,null,null,null,null,null,null,null,null,null,null,null,null,null,null,null,null,null,null,null,56,{"$f":"GB12+GE12*SIN(RADIANS(GA43)+GA14)","v":{"$error":"#DIV/0!"}},{"$f":"GC12+GE12*COS(RADIANS(GA43)+GA14)","v":{"$error":"#DIV/0!"}},{"$f":"IF(GB13>GB43,ATAN((GC13-GC43)/(GB13-GB43)),ATAN((GC13-GC43)/(GB43-GB13)))","v":{"$error":"#DIV/0!"}},{"$f":"IF(GB13>GB43,(GB13-GB43)/COS(GD43),(GB43-GB13)/COS(GD43))","v":{"$error":"#DIV/0!"}},null,null,null,null,null,null,null,null,null,null,null,null,null,null,null,{"$f":"GU42+GT11","v":-36},-0.62831853071795862,{"$f":"HB13+HB10*COS(GV43)","v":{"$error":"#REF!"}},{"$f":"HC13-HB10*SIN(GV43)","v":{"$error":"#REF!"}},{"$f":"SQRT(POWER((HB12-GW43),2)+POWER((HC12-GX43),2))","v":{"$error":"#REF!"}},{"$f":"ABS(HB9-GY43)","v":{"$error":"#REF!"}},null,"اطلاعات  ورودی",null,null,null,null,null,null,null,null,null,null,null,null,{"$f":"-HK43+HP9","v":0},0,null,null,null,null,null,null,null,null,null,null,null,null,null,null,null,null,null,null,null,null,null,null,null,null,null,null,null,null,null,null,null,null,null,null,null,null,null,null,null,null,null,null,null,null,null,null,null,null,null,null,null,null,null,null,null,null,null,null,null,null,null,null,null,null,null,null,null,null,null,null,null,null,null,null,null,null,null,null,null,null,null,null,null,null,null,null,null,null,null,null,null,null,null,null,null,null,null,null,null,null,null,null,null,null,null,null,null,null,null,null,null,null,null,null,null,null,null,null,null,null,null,null,null,null,null,null,null,null,null,null,null,null,null,null,null,null,null,null,null,null,null,null,null,null,null,null,null,null,null,null,null,null,null,null,null,null,null,null,null,null,null,{"$f":"IF(NV44<11,\" مخصوص \",F8)","v":4.5},"انتخاب ضخامت میل بافتنی   f1",null,"g6",{"$f":"NZ42","v":-3.2418750000000038},{"$f":"OA40-OA42+OA38","v":6.1778260869565216},null,null,null,null,"f'4",{"$f":"NV38","v":0.60000000000000009},"بزرگی فلش رج",null,"g6",{"$f":"OK42","v":-9.840833333333336},{"$f":"OL40-OL42+OL38","v":5.831406649616369},null,null,null,null,"f'4",{"$f":"NV38","v":0.60000000000000009},"بزرگی فلش رج",null,"g6",{"$f":"OV42","v":-11.080416666666672},{"$f":"OW40-OW42+OW38","v":5.831406649616369},null,null,null,null,"f9",{"$f":"OG45","v":0.30000000000000004},"بزرگی خط عمودی دانه",null,"g6",{"$f":"PG42","v":-0.54395833333333576},{"$f":"PH40-PH42+PH38","v":5.831406649616369},null,null,null,null,"f9",{"$f":"OG45","v":0.30000000000000004},"بزرگی خط عمودی دانه",null,"g6",{"$f":"PR42","v":3.1747916666666569},{"$f":"PS40-PS42+PS38","v":5.831406649616369},null,null,null,null,{"$f":"PX37","v":-48.5},{"$f":"PY38+PY36-PY29","v":15},"t15",null,"نسبت سایز افقی",{"$f":"PY17","v":42},"انحنا راستگرد ",null,null,{"$f":"QD43","v":"انحنا راستگرد "},null,0,35.888726831407766,26,null,null,null,null,null,{"$f":"2*QQ15-QQ42","v":-23.131999999999998},{"$f":"QR42","v":12.392058931086847},"k33",null,null,null,null,{"$f":"QQ57","v":-23.731999999999999},{"$f":"QR57","v":13.431289415628175},"k47",null,"f'4",0.60000000000000009,"بزرگی فلش رج",null,"g6",{"$f":"RG42","v":-12.028333333333336},{"$f":"RH40-RH42+RH38","v":5.831406649616369},null,null,null,null,{"$f":"RM40+15*RN28","v":19.270833333333332},{"$f":"RN40","v":-20},15,null,null,null,null,null,{"$f":"RU40+15*RV31","v":-27.357859531772576},{"$f":"RV40","v":0},15,null,null,null,null,null,null,null,null,null,{"$f":"SG40+15*SH28","v":19.270833333333332},{"$f":"SH40","v":-20},15,null,null,null,null,null,{"$f":"SO40+15*SP31","v":-27.357859531772576},{"$f":"SP40","v":0},15,null,null,null,null,null,null,null,null,null,{"$f":"TA40+15*TB28","v":18.229166666666668},{"$f":"TB40","v":-20},15,null,null,null,null,null,{"$f":"TI40+15*TJ31","v":-27.673913043478258},{"$f":"TJ40","v":0},15,null,null,null,null,null,null,null,null,null,{"$f":"TU40+15*TV28","v":18.229166666666668},{"$f":"TV40","v":-20},15,null,null,null,null,null,{"$f":"UC40+15*UD31","v":-27.673913043478258},{"$f":"UD40","v":0},15,null,null,null,null,null,null,null,null,null,{"$f":"UO40+15*UP28","v":19.270833333333332},{"$f":"UP40","v":-20},15,null,null,null,null,null,{"$f":"UW40+15*UX31","v":-27.357859531772576},{"$f":"UX40","v":0},15,null,null,null,null,null,null,null,null,null,{"$f":"VI40+15*VJ28","v":19.270833333333332},{"$f":"VJ40","v":-20},15,null,null,null,null,null,{"$f":"VQ40+15*VR31","v":-27.357859531772576},{"$f":"VR40","v":0},15]
[null,null,null,null,"b4  آستین",{"$f":"ROUNDDOWN(F7*(DE534+DE535),0)","v":7},{"$f":"ROUNDDOWN(I37*(DE534+DE535),0)","v":7},null,null,null,null,null,null,null,null,null,"e11",{"$f":"R31","v":11},null,"e11",11,null,null,null,null,null,null,null,"d13",{"$f":"AD38+2*AD39+2*AD40","v":58},null,null,null,{"$error":"#DIV/0!"},{"$f":"AM44/AL44","v":0},{"$f":"IF(AM44=0,\"  \",(10/3)*((AM44/AL44)*(1/J6)-1))","v":"  "},{"$f":"IF(AN44=0,\"  \",(100/68)*((AO44/AN44)*(1/J7)-1))","v":"  "},13.5,0,0,36,null,38,null,"  ","  ","  ",null,null,null,null,null,null,null,null,null,null,null,null,null,null,null,null,null,null,null,null,null,null,null,null,null,null,null,null,null,null,null,null,null,null,null,null,null,null,null,{"$f":"CI42","v":1.8},{"$f":"CJ41-'طراحی همه الگوها'!U182","v":15.799999999999997},"j10",null,{"$f":"CI39","v":40.799999999999997},{"$f":"CJ39","v":57.8},"j5",null,null,null,null,null,null,null,null,null,null,null,null,null,null,null,null,null,null,null,null,null,null,"شیفت عمودی کل",{"$f":"'متغیرها '!C52","v":0},null,null,null,null,null,null,null,null,null,null,{"$f":"DX42","v":0},{"$f":"DY42","v":0},"2'",null,null,null,null,null,null,null,null,null,null,null,null,null,null,null,null,"شیفت عمودی مرغک",{"$f":"IF('متغیرها '!C34<1,'متغیرها '!C34*'متغیرها '!U59,IF('متغیرها '!C34<2,'متغیرها '!U59+('متغیرها '!C34-1)*('متغیرها '!U60-'متغیرها '!U59),IF('متغیرها '!C34<3,'متغیرها '!U60+('متغیرها '!C34-2)*(I105-'متغیرها '!U60),I105+('متغیرها '!C34-3)*(H127-H126))))+'طراحی همه الگوها'!U245","v":13.574999999999999},null,null,null,null,null,null,null,null,null,"شیفت عمودی الگو دسته",7,null,null,null,"صاف","برای پرینت",null,null,"انحنا","برای پرینت",null,null,null,null,null,{"$f":"FR42","v":0},{"$f":"FS42","v":25.365691432475337},"s''12",null,null,null,null,null,null,58,{"$f":"GB12+GE12*SIN(RADIANS(GA44)+GA14)","v":{"$error":"#DIV/0!"}},{"$f":"GC12+GE12*COS(RADIANS(GA44)+GA14)","v":{"$error":"#DIV/0!"}},{"$f":"IF(GB13>GB44,ATAN((GC13-GC44)/(GB13-GB44)),ATAN((GC13-GC44)/(GB44-GB13)))","v":{"$error":"#DIV/0!"}},{"$f":"IF(GB13>GB44,(GB13-GB44)/COS(GD44),(GB44-GB13)/COS(GD44))","v":{"$error":"#DIV/0!"}},null,null,null,null,null,null,null,null,null,null,null,null,null,null,null,{"$f":"GU43+GT11","v":-34},-0.59341194567807209,{"$f":"HB13+HB10*COS(GV44)","v":{"$error":"#REF!"}},{"$f":"HC13-HB10*SIN(GV44)","v":{"$error":"#REF!"}},{"$f":"SQRT(POWER((HB12-GW44),2)+POWER((HC12-GX44),2))","v":{"$error":"#REF!"}},{"$f":"ABS(HB9-GY44)","v":{"$error":"#REF!"}},null,"مولفه افقی","مولفه عمودی","اسم نقطه ",null,"محاسبات ",null,null,null,null,null,null,null,null,{"$f":"-HK44+HP9","v":0},0,null,null,null,null,null,null,null,null,null,null,null,null,null,null,null,null,null,null,null,null,null,null,null,null,null,null,null,null,null,null,null,null,null,null,null,null,null,null,null,null,null,null,null,null,null,null,null,null,null,null,null,null,null,null,null,null,null,null,null,null,null,null,null,null,null,null,null,null,null,null,null,null,null,null,null,null,null,null,null,null,null,null,null,null,null,null,null,null,null,null,null,null,null,null,null,null,null,null,null,null,null,null,null,null,null,null,null,null,null,null,null,null,null,null,null,null,null,null,null,null,null,null,null,null,null,null,null,null,null,null,null,null,null,null,null,null,null,null,null,null,null,null,null,null,null,null,null,null,null,null,null,null,null,null,null,null,null,null,null,null,{"$f":"O22","v":"کشباف (دوتایی)"},{"$f":"O21","v":14},"بافت انتخابی یقه شکاری",null,"g7",{"$f":"NZ39+0.7*OA36*SIN(RADIANS(30)+2*ATAN((NZ39-NZ42)/(OA39-OA42+0.0001)))","v":-2.6874173781814705},{"$f":"OA39-0.7*OA36*COS(RADIANS(30)+2*ATAN((NZ39-NZ42)/(OA39-OA42+0.0001)))","v":5.5968130292298106},{"$f":"NZ39","v":-3.1158750000000035},{"$f":"OA39","v":5.9806086956521742},{"$f":"NY39","v":"g11"},null,"f5",{"$f":"NV39","v":0.5},"زاویه فلش رج",null,"g7",{"$f":"OK39+0.7*OL36*SIN(RADIANS(30)+2*ATAN((OK39-OK42)/(OL39-OL42+0.0001)))","v":-9.3802280114859506},{"$f":"OL39-0.7*OL36*COS(RADIANS(30)+2*ATAN((OK39-OK42)/(OL39-OL42+0.0001)))","v":5.4621849082870533},{"$f":"OK39","v":-9.7148333333333348},{"$f":"OL39","v":5.6921943734015352},{"$f":"OJ39","v":"g11"},null,"f5",{"$f":"NV39","v":0.5},"زاویه فلش رج",null,"g7",{"$f":"OV39+0.7*OW36*SIN(RADIANS(30)+2*ATAN((OV39-OV42)/(OW39-OW42+0.0001)))","v":-10.619811344819286},{"$f":"OW39-0.7*OW36*COS(RADIANS(30)+2*ATAN((OV39-OV42)/(OW39-OW42+0.0001)))","v":5.4621849082870533},{"$f":"OV39","v":-10.95441666666667},{"$f":"OW39","v":5.6921943734015352},{"$f":"OU39","v":"g11"},null,"f10",{"$f":"OG46","v":0.4},"بزرگی فلش دانه",null,"g7",{"$f":"PG39+0.7*PH36*SIN(RADIANS(30)+2*ATAN((PG39-PG42)/(PH39-PH42+0.0001)))","v":-8.335301148595331E-2},{"$f":"PH39-0.7*PH36*COS(RADIANS(30)+2*ATAN((PG39-PG42)/(PH39-PH42+0.0001)))","v":5.4621849082870524},{"$f":"PG39","v":-0.41795833333333565},{"$f":"PH39","v":5.6921943734015352},{"$f":"PF39","v":"g11"},null,"f10",{"$f":"OG46","v":0.4},"بزرگی فلش دانه",null,"g7",{"$f":"PR39+0.7*PS36*SIN(RADIANS(30)+2*ATAN((PR39-PR42)/(PS39-PS42+0.0001)))","v":3.6353969885140396},{"$f":"PS39-0.7*PS36*COS(RADIANS(30)+2*ATAN((PR39-PR42)/(PS39-PS42+0.0001)))","v":5.4621849082870524},{"$f":"PR39","v":3.3007916666666572},{"$f":"PS39","v":5.6921943734015352},{"$f":"PQ39","v":"g11"},null,{"$f":"PX30","v":-41.5},{"$f":"PY43","v":15},"t16",null,"ارتفاع نیم دایره",{"$f":"PY14","v":1.4285714285714286},"بزرگی فلش",{"$f":"QC47","v":-48.5},{"$f":"QD47","v":9.2857142857142865},{"$f":"QB47","v":"t9"},null,null,"پشت",null,null,{"$f":"QI61","v":5.9244108634080561},{"$f":"QJ61","v":41.300688577032062},25,null,{"$f":"QQ15","v":-20.532},{"$f":"QR15+QR7+2*QR8","v":13.088726831407765},"k34",null,null,null,null,{"$f":"QQ55","v":-26.932000000000002},{"$f":"QR55","v":7.8887268314077659},"k45",null,"f5",0.5,"زاویه فلش رج",null,"g7",{"$f":"RG39+0.7*RH36*SIN(RADIANS(30)+2*ATAN((RG39-RG42)/(RH39-RH42+0.0001)))","v":-11.567728011485951},{"$f":"RH39-0.7*RH36*COS(RADIANS(30)+2*ATAN((RG39-RG42)/(RH39-RH42+0.0001)))","v":5.4621849082870533},{"$f":"RG39","v":-11.902333333333335},{"$f":"RH39","v":5.6921943734015352},{"$f":"RF39","v":"g11"},null,{"$f":"RM40+20*RN28","v":25.694444444444443},{"$f":"RN40","v":-20},20,null,{"$f":"IF(RN26>(RM46-RM40),RM46,RM40)","v":0},{"$f":"IF(RN26>(RM46-RM40),RN46,RN40)","v":-20},{"$f":"RO46","v":30},null,{"$f":"RU40+20*RV31","v":-23.143812709030101},{"$f":"RV40","v":0},20,null,{"$f":"IF(RV27>(RU46-RU40),RU46,RU40)","v":-40},{"$f":"IF(RV27>(RU46-RU40),RV46,RV40)","v":0},{"$f":"RW46","v":30},null,{"$f":"IF(RV27>(RU71-RU40),RU71,RU40)","v":-33.257525083612038},{"$f":"IF(RV27>(RU71-RU40),RV71,RV40)","v":0},8,null,{"$f":"SG40+20*SH28","v":25.694444444444443},{"$f":"SH40","v":-20},20,null,{"$f":"IF(SH26>(SG46-SG40),SG46,SG40)","v":0},{"$f":"IF(SH26>(SG46-SG40),SH46,SH40)","v":-20},{"$f":"SI46","v":30},null,{"$f":"SO40+20*SP31","v":-23.143812709030101},{"$f":"SP40","v":0},20,null,{"$f":"IF(SP27>(SO46-SO40),SO46,SO40)","v":-40},{"$f":"IF(SP27>(SO46-SO40),SP46,SP40)","v":0},{"$f":"SQ46","v":30},null,{"$f":"IF(SP27>(SO71-SO40),SO71,SO40)","v":-33.257525083612038},{"$f":"IF(SP27>(SO71-SO40),SP71,SP40)","v":0},8,null,{"$f":"TA40+20*TB28","v":24.305555555555557},{"$f":"TB40","v":-20},20,null,{"$f":"IF(TB26>(TA46-TA40),TA46,TA40)","v":0},{"$f":"IF(TB26>(TA46-TA40),TB46,TB40)","v":-20},{"$f":"TC46","v":30},null,{"$f":"TI40+20*TJ31","v":-23.565217391304344},{"$f":"TJ40","v":0},20,null,{"$f":"IF(TJ27>(TI46-TI40),TI46,TI40)","v":-40},{"$f":"IF(TJ27>(TI46-TI40),TJ46,TJ40)","v":0},{"$f":"TK46","v":30},null,{"$f":"IF(TJ27>(TI71-TI40),TI71,TI40)","v":-33.426086956521736},{"$f":"IF(TJ27>(TI71-TI40),TJ71,TJ40)","v":0},8,null,{"$f":"TU40+20*TV28","v":24.305555555555557},{"$f":"TV40","v":-20},20,null,{"$f":"IF(TV26>(TU46-TU40),TU46,TU40)","v":0},{"$f":"IF(TV26>(TU46-TU40),TV46,TV40)","v":-20},{"$f":"TW46","v":30},null,{"$f":"UC40+20*UD31","v":-23.565217391304344},{"$f":"UD40","v":0},20,null,{"$f":"IF(UD27>(UC46-UC40),UC46,UC40)","v":-40},{"$f":"IF(UD27>(UC46-UC40),UD46,UD40)","v":0},{"$f":"UE46","v":30},null,{"$f":"IF(UD27>(UC71-UC40),UC71,UC40)","v":-33.426086956521736},{"$f":"IF(UD27>(UC71-UC40),UD71,UD40)","v":0},8,null,{"$f":"UO40+20*UP28","v":25.694444444444443},{"$f":"UP40","v":-20},20,null,{"$f":"IF(UP26>(UO46-UO40),UO46,UO40)","v":0},{"$f":"IF(UP26>(UO46-UO40),UP46,UP40)","v":-20},{"$f":"UQ46","v":30},null,{"$f":"UW40+20*UX31","v":-23.143812709030101},{"$f":"UX40","v":0},20,null,{"$f":"IF(UX27>(UW46-UW40),UW46,UW40)","v":-40},{"$f":"IF(UX27>(UW46-UW40),UX46,UX40)","v":0},{"$f":"UY46","v":30},null,{"$f":"IF(UX27>(UW71-UW40),UW71,UW40)","v":-33.257525083612038},{"$f":"IF(UX27>(UW71-UW40),UX71,UX40)","v":0},8,null,{"$f":"VI40+20*VJ28","v":25.694444444444443},{"$f":"VJ40","v":-20},20,null,{"$f":"IF(VJ26>(VI46-VI40),VI46,VI40)","v":0},{"$f":"IF(VJ26>(VI46-VI40),VJ46,VJ40)","v":-20},{"$f":"VK46","v":30},null,{"$f":"VQ40+20*VR31","v":-23.143812709030101},{"$f":"VR40","v":0},20,null,{"$f":"IF(VR27>(VQ46-VQ40),VQ46,VQ40)","v":-40},{"$f":"IF(VR27>(VQ46-VQ40),VR46,VR40)","v":0},{"$f":"VS46","v":30},null,{"$f":"IF(VR27>(VQ71-VQ40),VQ71,VQ40)","v":-33.257525083612038},{"$f":"IF(VR27>(VQ71-VQ40),VR71,VR40)","v":0},8]
[null,null,null,null,"b5  پشت",{"$f":"ROUNDDOWN(F7*2*(SQRT(POWER(BI128-BI130,2)+POWER(BI129,2))+SQRT(POWER(BI130-BI132,2)+POWER(BI131-BI129,2))),0)","v":14},{"$f":"ROUNDDOWN(I30*2*(SQRT(POWER(BI128-BI130,2)+POWER(BI129,2))+SQRT(POWER(BI130-BI132,2)+POWER(BI131-BI129,2))),0)","v":14},null,null,null,null,null,null,null,null,null,"خطا",{"$f":"IF((ROUNDUP(S12*S17*S9,0)-R40-R41-3)>-1,\" \",\"خطا : قد پایه یقه شومیزیه زیاد شود یا پهنای جادکمه جلو کم شود\")","v":"خطا : قد پایه یقه شومیزیه زیاد شود یا پهنای جادکمه جلو کم شود"},null,"خطا","خطا : قد پایه یقه شومیزیه زیاد شود یا پهنای جادکمه جلو کم شود",null,null,null,null,null,null,null,"d14",{"$f":"AC30","v":1},null,null,null,{"$error":"#DIV/0!"},0,{"$f":"IF(AM45=0,\"  \",(10/3)*((AM45/AL45)*(1/J6)-1))","v":"  "},{"$f":"IF(AN45=0,\"  \",(100/68)*((AO45/AN45)*(1/J7)-1))","v":"  "},13.5,0,0,36,null,39,null,"  ","  ","  ",null,null,null,null,null,null,null,null,null,null,null,null,null,null,null,null,null,null,null,null,null,null,null,null,null,null,null,null,null,null,null,null,null,null,null,null,null,null,null,{"$f":"CI38+'طراحی همه الگوها'!U183","v":14.8},{"$f":"CJ36","v":57.8},"j11",null,{"$f":"CI48","v":39.815999999999995},50.584000000000003,"j5'",null,null,null,null,null,null,null,null,null,null,null,null,null,null,null,null,null,null,null,null,null,null,"j4",{"$f":"IF('متغیرها '!C9<1,'متغیرها '!C9*'متغیرها '!U59,IF('متغیرها '!C9<2,'متغیرها '!U59+('متغیرها '!C9-1)*('متغیرها '!U60-'متغیرها '!U59),IF('متغیرها '!C9<3,'متغیرها '!U60+('متغیرها '!C9-2)*(I105-'متغیرها '!U60),I105+('متغیرها '!C9-3)*(H127-H126))))","v":0},"چادر 2",null,{"$f":"DP43","v":10.567869694921066},{"$f":"DQ43","v":26.912584129798347},"s12",null,null,null,null,null,{"$f":"DM15","v":0},{"$f":"DN15","v":32.200000000000003},"خط سینه",null,null,null,null,null,null,null,null,null,null,null,null,null,null,null,null,"شبیه ساز آستین(3→19)",{"$f":"BL516","v":10.33616610432688},null,null,null,null,null,{"$f":"ET34","v":24.299999999999997},{"$f":"EU34","v":13.574999999999999},17,null,"شیفت عمودی الگو دسته برای پرینت",{"$f":"-'متغیرها '!U56","v":-25},null,null,{"$f":"FF13+'طراحی همه الگوها'!U260+'طراحی همه الگوها'!U262","v":44.400000000000006},{"$f":"FG25+FC45","v":1.8000000000000007},13,null,{"$f":"FF45","v":44.400000000000006},{"$f":"FG45","v":1.8000000000000007},13,null,null,null,null,null,{"$f":"FO32","v":0},{"$f":"FP32","v":27.165691432475338},"s'12",null,null,null,null,null,null,60,{"$f":"GB12+GE12*SIN(RADIANS(GA45)+GA14)","v":{"$error":"#DIV/0!"}},{"$f":"GC12+GE12*COS(RADIANS(GA45)+GA14)","v":{"$error":"#DIV/0!"}},{"$f":"IF(GB13>GB45,ATAN((GC13-GC45)/(GB13-GB45)),ATAN((GC13-GC45)/(GB45-GB13)))","v":{"$error":"#DIV/0!"}},{"$f":"IF(GB13>GB45,(GB13-GB45)/COS(GD45),(GB45-GB13)/COS(GD45))","v":{"$error":"#DIV/0!"}},null,null,null,null,null,null,null,null,null,null,null,null,null,null,null,{"$f":"GU44+GT11","v":-32},-0.55850536063818546,{"$f":"HB13+HB10*COS(GV45)","v":{"$error":"#REF!"}},{"$f":"HC13-HB10*SIN(GV45)","v":{"$error":"#REF!"}},{"$f":"SQRT(POWER((HB12-GW45),2)+POWER((HC12-GX45),2))","v":{"$error":"#REF!"}},{"$f":"ABS(HB9-GY45)","v":{"$error":"#REF!"}},null,5,50,1,"راس بالا",{"$f":"SQRT(POWER(HB46-HB45,2)+POWER(HC45-HC46,2))","v":10.198039027185569},"m2",null,null,null,null,null,null,null,{"$f":"-HK45+HP9","v":0},0,null,null,null,null,null,null,null,null,null,null,null,null,null,null,null,null,null,null,null,null,null,null,null,null,null,null,null,null,null,null,null,null,null,null,null,null,null,null,null,null,null,null,null,null,null,null,null,null,null,null,null,null,null,null,null,null,null,null,null,null,null,null,null,null,null,null,null,null,null,null,null,null,null,null,null,null,null,null,null,null,null,null,null,null,null,null,null,null,null,null,null,null,null,null,null,null,null,null,null,null,null,null,null,null,null,null,null,null,null,null,null,null,null,null,null,null,null,null,null,null,null,null,null,null,null,null,null,null,null,null,null,null,null,null,null,null,null,null,null,null,null,null,null,null,null,null,null,null,null,null,null,null,null,null,null,null,null,null,null,null,{"$f":"I20","v":"جودانه"},"بافت انتخابی جادکمه",null,null,"g8",{"$f":"NZ39-0.7*OA36*SIN(RADIANS(30)+ATAN((NZ39-NZ42)/(OA39-OA42+0.0001)))","v":-3.4784451800487255},{"$f":"OA39-0.7*OA36*COS(RADIANS(30)+ATAN((NZ39-NZ42)/(OA39-OA42+0.0001)))","v":5.5340463687610484},{"$f":"NZ44","v":-2.6874173781814705},{"$f":"OA44","v":5.5968130292298106},{"$f":"NY44","v":"g7"},null,"f9",{"$f":"'متغیرها '!C865","v":0.30000000000000004},"بزرگی خط عمودی دانه",null,"g8",{"$f":"OK39-0.7*OL36*SIN(RADIANS(30)+ATAN((OK39-OK42)/(OL39-OL42+0.0001)))","v":-9.9904381534069753},{"$f":"OL39-0.7*OL36*COS(RADIANS(30)+ATAN((OK39-OK42)/(OL39-OL42+0.0001)))","v":5.3940215064216286},{"$f":"OK44","v":-9.3802280114859506},{"$f":"OL44","v":5.4621849082870533},{"$f":"OJ44","v":"g7"},null,"f9",{"$f":"'متغیرها '!C865","v":0.30000000000000004},"بزرگی خط عمودی دانه",null,"g8",{"$f":"OV39-0.7*OW36*SIN(RADIANS(30)+ATAN((OV39-OV42)/(OW39-OW42+0.0001)))","v":-11.230021486740311},{"$f":"OW39-0.7*OW36*COS(RADIANS(30)+ATAN((OV39-OV42)/(OW39-OW42+0.0001)))","v":5.3940215064216286},{"$f":"OV44","v":-10.619811344819286},{"$f":"OW44","v":5.4621849082870533},{"$f":"OU44","v":"g7"},null,"f11",{"$f":"OG47","v":0.75},"زاویه فلش دانه",null,"g8",{"$f":"PG39-0.7*PH36*SIN(RADIANS(30)+ATAN((PG39-PG42)/(PH39-PH42+0.0001)))","v":-0.69356315340697561},{"$f":"PH39-0.7*PH36*COS(RADIANS(30)+ATAN((PG39-PG42)/(PH39-PH42+0.0001)))","v":5.3940215064216277},{"$f":"PG44","v":-8.335301148595331E-2},{"$f":"PH44","v":5.4621849082870524},{"$f":"PF44","v":"g7"},null,"f11",{"$f":"OG47","v":0.75},"زاویه فلش دانه",null,"g8",{"$f":"PR39-0.7*PS36*SIN(RADIANS(30)+ATAN((PR39-PR42)/(PS39-PS42+0.0001)))","v":3.0251868465930172},{"$f":"PS39-0.7*PS36*COS(RADIANS(30)+ATAN((PR39-PR42)/(PS39-PS42+0.0001)))","v":5.3940215064216286},{"$f":"PR44","v":3.6353969885140396},{"$f":"PS44","v":5.4621849082870524},{"$f":"PQ44","v":"g7"},null,{"$f":"PX29","v":-45},{"$f":"PY43","v":15},"t17",null,"پهنای نیم دایره",{"$f":"PY8","v":0.5},{"$f":"PY16","v":0.57142857142857151},{"$f":"QC51","v":-48.8675},{"$f":"QD51","v":9.4857142857142858},{"$f":"QB51","v":"g5"},null,{"$f":"CY105","v":-9.4067543530829241},{"$f":"CZ105","v":32.048486426660716},"16fقرینه شیفت",null,{"$f":"QI82","v":4.4428677416079729},40.397399762843619,"28پ",null,{"$f":"QQ15+(QR7+3*QR8)*SIN(RADIANS(60))","v":-15.509052658050255},{"$f":"QR15-(QR7+3*QR8)*COS(RADIANS(60))","v":4.9887268314077655},"k35",null,null,null,null,{"$f":"QQ60","v":-27.532},{"$f":"QR60","v":7.8887268314077659},"k50",null,"f9",0.30000000000000004,"بزرگی خط عمودی دانه",null,"g8",{"$f":"RG39-0.7*RH36*SIN(RADIANS(30)+ATAN((RG39-RG42)/(RH39-RH42+0.0001)))","v":-12.177938153406975},{"$f":"RH39-0.7*RH36*COS(RADIANS(30)+ATAN((RG39-RG42)/(RH39-RH42+0.0001)))","v":5.3940215064216286},{"$f":"RG44","v":-11.567728011485951},{"$f":"RH44","v":5.4621849082870533},{"$f":"RF44","v":"g7"},null,{"$f":"RM40+25*RN28","v":32.11805555555555},{"$f":"RN40","v":-20},25,null,{"$f":"RQ44","v":0},{"$f":"RN38","v":-40.22742474916388},null,null,{"$f":"RU40+25*RV31","v":-18.929765886287626},{"$f":"RV40","v":0},25,null,{"$f":"RY44","v":-40},{"$f":"RV38","v":10.277777777777777},null,null,{"$f":"SC44","v":-33.257525083612038},{"$f":"RV38","v":10.277777777777777},null,null,{"$f":"SG40+25*SH28","v":32.11805555555555},{"$f":"SH40","v":-20},25,null,{"$f":"SK44","v":0},{"$f":"SH38","v":-40.22742474916388},null,null,{"$f":"SO40+25*SP31","v":-18.929765886287626},{"$f":"SP40","v":0},25,null,{"$f":"SS44","v":-40},{"$f":"SP38","v":10.277777777777777},null,null,{"$f":"SW44","v":-33.257525083612038},{"$f":"SP38","v":10.277777777777777},null,null,{"$f":"TA40+25*TB28","v":30.381944444444446},{"$f":"TB40","v":-20},25,null,{"$f":"TE44","v":0},{"$f":"TB38","v":-39.721739130434784},null,null,{"$f":"TI40+25*TJ31","v":-19.45652173913043},{"$f":"TJ40","v":0},25,null,{"$f":"TM44","v":-40},{"$f":"TJ38","v":9.7222222222222232},null,null,{"$f":"TQ44","v":-33.426086956521736},{"$f":"TJ38","v":9.7222222222222232},null,null,{"$f":"TU40+25*TV28","v":30.381944444444446},{"$f":"TV40","v":-20},25,null,{"$f":"TY44","v":0},{"$f":"TV38","v":-39.721739130434784},null,null,{"$f":"UC40+25*UD31","v":-19.45652173913043},{"$f":"UD40","v":0},25,null,{"$f":"UG44","v":-40},{"$f":"UD38","v":9.7222222222222232},null,null,{"$f":"UK44","v":-33.426086956521736},{"$f":"UD38","v":9.7222222222222232},null,null,{"$f":"UO40+25*UP28","v":32.11805555555555},{"$f":"UP40","v":-20},25,null,{"$f":"US44","v":0},{"$f":"UP38","v":-40.22742474916388},null,null,{"$f":"UW40+25*UX31","v":-18.929765886287626},{"$f":"UX40","v":0},25,null,{"$f":"VA44","v":-40},{"$f":"UX38","v":10.277777777777777},null,null,{"$f":"VE44","v":-33.257525083612038},{"$f":"UX38","v":10.277777777777777},null,null,{"$f":"VI40+25*VJ28","v":32.11805555555555},{"$f":"VJ40","v":-20},25,null,{"$f":"VM44","v":0},{"$f":"VJ38","v":-40.22742474916388},null,null,{"$f":"VQ40+25*VR31","v":-18.929765886287626},{"$f":"VR40","v":0},25,null,{"$f":"VU44","v":-40},{"$f":"VR38","v":10.277777777777777},null,null,{"$f":"VY44","v":-33.257525083612038},{"$f":"VR38","v":10.277777777777777}]
[null,null,null,null,"تعداد دانه ها  دور گردن + دو تا نیمه جادکمه که از خط مرکزی اضافه شده",{"$f":"F45+2*F44+2*F43+2*F42","v":74},{"$f":"G45+2*G44+2*G43+2*G42","v":64},"b''1",null,null,null,null,null,null,null,null,"خطا",{"$f":"IF(AND(R42>0,R41>0),\" \",\"خطا : قد پایه یقه شومیزیه زیاد شود یا پهنای جادکمه جلو زیاد شود \")","v":" "},null,"خطا"," ",null,null,null,null,null,null,null,"d15",{"$f":"AD30","v":1},null,null,null,{"$error":"#DIV/0!"},0,{"$f":"IF(AM46=0,\"  \",(10/3)*((AM46/AL46)*(1/J6)-1))","v":"  "},{"$f":"IF(AN46=0,\"  \",(100/68)*((AO46/AN46)*(1/J7)-1))","v":"  "},13.5,0,0,36,null,40,null,"  ","  ","  ",null,null,null,null,null,null,null,null,null,null,null,null,null,null,null,null,null,null,null,null,null,null,null,null,null,null,null,null,null,null,null,null,null,null,null,null,null,null,null,{"$f":"CI38","v":8},{"$f":"CJ36-'طراحی همه الگوها'!U184","v":52.099999999999994},"j12",null,35.879999999999995,41.4,"j5''",null,null,null,null,null,null,null,null,null,null,null,null,null,null,null,null,null,null,null,null,null,null,"(j1 → j2)",{"$f":"ROUND(CJ22+0.1*'متغیرها '!U85-DM45,1)","v":57.8},null,null,{"$f":"DM27","v":14.834247723445998},{"$f":"DN27","v":37.699521531939872},"s10",null,null,null,null,null,null,null,null,null,null,null,null,null,null,null,null,null,null,null,null,null,null,null,null," شبیه سازαk1",{"$f":"F423","v":1.445003975267326},null,null,null,null,null,{"$f":"ET30","v":23.4},{"$f":"EU30","v":10.774999999999999},19,null,null,null,null,null,{"$f":"FF13","v":0},{"$f":"FG45","v":1.8000000000000007},12,null,{"$f":"FJ45+0.45*(FJ49-FJ45)","v":47.235000000000007},{"$f":"FK45+0.25*(FK49-FK45)","v":13.75},"13'",null,null,null,null,null,null,null,null,null,null,null,null,null,null,62,{"$f":"GB12+GE12*SIN(RADIANS(GA46)+GA14)","v":{"$error":"#DIV/0!"}},{"$f":"GC12+GE12*COS(RADIANS(GA46)+GA14)","v":{"$error":"#DIV/0!"}},{"$f":"IF(GB13>GB46,ATAN((GC13-GC46)/(GB13-GB46)),ATAN((GC13-GC46)/(GB46-GB13)))","v":{"$error":"#DIV/0!"}},{"$f":"IF(GB13>GB46,(GB13-GB46)/COS(GD46),(GB46-GB13)/COS(GD46))","v":{"$error":"#DIV/0!"}},null,null,null,null,null,null,null,null,null,null,null,null,null,null,null,{"$f":"GU45+GT11","v":-30},-0.52359877559829882,{"$f":"HB13+HB10*COS(GV46)","v":{"$error":"#REF!"}},{"$f":"HC13-HB10*SIN(GV46)","v":{"$error":"#REF!"}},{"$f":"SQRT(POWER((HB12-GW46),2)+POWER((HC12-GX46),2))","v":{"$error":"#REF!"}},{"$f":"ABS(HB9-GY46)","v":{"$error":"#REF!"}},null,7,40,2,"راس پایین",{"$f":"ATAN((HB46-HB45)/(HC45-HC46))","v":0.19739555984988078},"γ18",null,null,null,null,null,null,null,{"$f":"-HK46+HP9","v":0},0,null,null,null,null,null,null,null,null,null,null,null,null,null,null,null,null,null,null,null,null,null,null,null,null,null,null,null,null,null,null,null,null,null,null,null,null,null,null,null,null,null,null,null,null,null,null,null,null,null,null,null,null,null,null,null,null,null,null,null,null,null,null,null,null,null,null,null,null,null,null,null,null,null,null,null,null,null,null,null,null,null,null,null,null,null,null,null,null,null,null,null,null,null,null,null,null,null,null,null,null,null,null,null,null,null,null,null,null,null,null,null,null,null,null,null,null,null,null,null,null,null,null,null,null,null,null,null,null,null,null,null,null,null,null,null,null,null,null,null,null,null,null,null,null,null,null,null,null,null,null,null,null,null,null,null,null,null,null,null,null,"محاسبات",null,null,null,null,null,null,null,null,null,null,"f10",{"$f":"'متغیرها '!C866","v":0.4},"بزرگی فلش دانه",null,null,null,null,null,null,null,null,"f10",{"$f":"'متغیرها '!C866","v":0.4},"بزرگی فلش دانه",null,null,null,null,null,null,null,null,"محاسبات",null,null,null,null,null,null,null,null,null,null,"محاسبات",null,null,null,null,null,null,null,null,null,null,{"$f":"PX30+4","v":-37.5},{"$f":"PY43","v":15},"t18",null,"نقطه شروع انحنا","مولفه افقی","مولفه عمودی",{"$f":"QC50","v":-49.024999999999999},{"$f":"QD50","v":10},{"$f":"QB50","v":"g4"},null,null,null,"یقه گرد پشت",null,2.3687073710878566,39.945755355749398,"26پ",null,{"$f":"2*QQ15-QQ45","v":-25.554947341949745},{"$f":"QR45","v":4.9887268314077655},"k36",null,null,null,null,{"$f":"QQ62","v":-24.032},{"$f":"QR62","v":13.950904657898837},"k52",null,"f10",0.4,"بزرگی فلش دانه",null,null,null,null,null,null,null,null,{"$f":"RM40+30*RN28","v":38.541666666666664},{"$f":"RN40","v":-20},30,null,null,null,null,null,{"$f":"RU40+30*RV31","v":-14.715719063545151},{"$f":"RV40","v":0},30,null,null,null,null,null,null,null,null,null,{"$f":"SG40+30*SH28","v":38.541666666666664},{"$f":"SH40","v":-20},30,null,null,null,null,null,{"$f":"SO40+30*SP31","v":-14.715719063545151},{"$f":"SP40","v":0},30,null,null,null,null,null,null,null,null,null,{"$f":"TA40+30*TB28","v":36.458333333333336},{"$f":"TB40","v":-20},30,null,null,null,null,null,{"$f":"TI40+30*TJ31","v":-15.347826086956516},{"$f":"TJ40","v":0},30,null,null,null,null,null,null,null,null,null,{"$f":"TU40+30*TV28","v":36.458333333333336},{"$f":"TV40","v":-20},30,null,null,null,null,null,{"$f":"UC40+30*UD31","v":-15.347826086956516},{"$f":"UD40","v":0},30,null,null,null,null,null,null,null,null,null,{"$f":"UO40+30*UP28","v":38.541666666666664},{"$f":"UP40","v":-20},30,null,null,null,null,null,{"$f":"UW40+30*UX31","v":-14.715719063545151},{"$f":"UX40","v":0},30,null,null,null,null,null,null,null,null,null,{"$f":"VI40+30*VJ28","v":38.541666666666664},{"$f":"VJ40","v":-20},30,null,null,null,null,null,{"$f":"VQ40+30*VR31","v":-14.715719063545151},{"$f":"VR40","v":0},30]
[null,null,null,null,null,null,null,null,null,null,null,null,null,null,null,null,"خطا",{"$f":"IF(R35>0,\" \",\"خطا : قد برگردان یقه شومیزیه زیاد شود \")","v":"خطا : قد برگردان یقه شومیزیه زیاد شود "},null,"خطا",{"$f":"R47","v":"خطا : قد برگردان یقه شومیزیه زیاد شود "},null,null,null,null,null,null,null,"خطا",{"$f":"IF(ROUND(AD19*AD6,0)>3,\" \",\"خطا : پهنای دال بالا یقه انگلیسی زیاد شود \")","v":" "},null,null,null,{"$error":"#DIV/0!"},0,{"$f":"IF(AM47=0,\"  \",(10/3)*((AM47/AL47)*(1/J6)-1))","v":"  "},{"$f":"IF(AN47=0,\"  \",(100/68)*((AO47/AN47)*(1/J7)-1))","v":"  "},13.5,0,0,36,null,41,null,"  ","  ","  ",null,null,null,null,null,null,null,null,null,null,null,null,null,null,null,null,null,null,null,null,null,null,null,null,null,null,null,null,null,null,null,null,null,null,null,null,null,null,null,{"$f":"CI38","v":8},{"$f":"CJ37","v":25},"j13",null,27.679999999999996,32.543999999999997,"j5'''",null,null,null,null,null,null,null,null,null,null,null,null,null,null,null,null,null,null,null,null,null,null,"(j1 → j3)",{"$f":"0.21*CJ16","v":7.9799999999999995},"بدون انتخاب",null,null,null,null,null,null,null,null,null,null,null,null,null,null,null,null,null,null,null,null,null,null,null,null,null,null,null,null,null,null,null,null,null,null,null,null,null,null,null,null,null,null,null,{"$f":"FF13","v":0},{"$f":"FG46+'طراحی همه الگوها'!U258","v":5.3000000000000007},18,null,{"$f":"FJ45+0.75*(FJ49-FJ45)","v":49.125},{"$f":"FK45+0.5*(FK49-FK45)","v":25.7},"13''",null,null,null,null,null,{"$f":"FR45","v":0},{"$f":"FS45","v":27.165691432475338},"s'12",null,null,null,null,null,null,64,{"$f":"GB12+GE12*SIN(RADIANS(GA47)+GA14)","v":{"$error":"#DIV/0!"}},{"$f":"GC12+GE12*COS(RADIANS(GA47)+GA14)","v":{"$error":"#DIV/0!"}},{"$f":"IF(GB13>GB47,ATAN((GC13-GC47)/(GB13-GB47)),ATAN((GC13-GC47)/(GB47-GB13)))","v":{"$error":"#DIV/0!"}},{"$f":"IF(GB13>GB47,(GB13-GB47)/COS(GD47),(GB47-GB13)/COS(GD47))","v":{"$error":"#DIV/0!"}},null,null,null,null,null,null,null,null,null,null,null,null,null,null,null,{"$f":"GU46+GT11","v":-28},-0.48869219055841229,{"$f":"HB13+HB10*COS(GV47)","v":{"$error":"#REF!"}},{"$f":"HC13-HB10*SIN(GV47)","v":{"$error":"#REF!"}},{"$f":"SQRT(POWER((HB12-GW47),2)+POWER((HC12-GX47),2))","v":{"$error":"#REF!"}},{"$f":"ABS(HB9-GY47)","v":{"$error":"#REF!"}},null,10,"m4","ضلع بالا",null,{"$f":"RADIANS(90)-RADIANS(HF46)-HB48","v":1.829150512145848},"m5",null,null,null,null,null,null,null,{"$f":"-HK47+HP9","v":0},0,null,null,null,null,null,null,null,null,null,null,null,null,null,null,null,null,null,null,null,null,null,null,null,null,null,null,null,null,null,null,null,null,null,null,null,null,null,null,null,null,null,null,null,null,null,null,null,null,null,null,null,null,null,null,null,null,null,null,null,null,null,null,null,null,null,null,null,null,null,null,null,null,null,null,null,null,null,null,null,null,null,null,null,null,null,null,null,null,null,null,null,null,null,null,null,null,null,null,null,null,null,null,null,null,null,null,null,null,null,null,null,null,null,null,null,null,null,null,null,null,null,null,null,null,null,null,null,null,null,null,null,null,null,null,null,null,null,null,null,null,null,null,null,null,null,null,null,null,null,null,null,null,null,null,null,null,null,null,null,null,"g3",{"$f":"NV34","v":1.3695652173913044},"ارتفاع نیم دایره",null,null,null,"باکس نوشته a2",null,null,{"$f":"OA47","v":"باکس نوشته a2"},null,"f11",{"$f":"'متغیرها '!C867","v":0.75},"زاویه فلش دانه",null,null,null,null,{"$f":"OF63","v":-10.208333333333336},{"$f":"OG63","v":5.9667519181585682},"m4",null,"f11",{"$f":"'متغیرها '!C867","v":0.75},"زاویه فلش دانه",null,null,null,null,{"$f":"OQ63","v":-11.447916666666671},{"$f":"OR63","v":5.9667519181585682},"m4",null,"g3",{"$f":"PC37","v":0.96675191815856776},"ارتفاع نیم دایره",null,null,null,null,{"$f":"PB63","v":-0.9114583333333357},{"$f":"PC63","v":5.9667519181585682},"n4",null,"g3",{"$f":"PN37","v":0.96675191815856776},"ارتفاع نیم دایره",null,null,null,null,{"$f":"PM63","v":2.8072916666666572},{"$f":"PN63","v":5.9667519181585682},"n4",null,{"$f":"PX43","v":-48.5},{"$f":"PY43+PY36-PY29","v":19.285714285714285},"t19",null,{"$f":"PZ37","v":"t9"},{"$f":"PX37","v":-48.5},{"$f":"PY37","v":9.2857142857142865},{"$f":"QC52","v":-48.8675},{"$f":"QD52","v":10.514285714285716},{"$f":"QB52","v":"g6"},null,{"$f":"GL101","v":5.9261724872003319},41.906043578260295,"23پ",null,-1.761623792275735E-3,39.795207220051324,"24پ",null,{"$f":"QQ15+QR7+3*QR8","v":-14.731999999999999},{"$f":"QR15","v":7.8887268314077659},"k37",null,null,null,null,{"$f":"QQ63","v":-20.532},{"$f":"QR63","v":14.888726831407766},"k53",null,"f11",0.75,"زاویه فلش دانه",null,null,null,null,{"$f":"RB63","v":-12.395833333333336},{"$f":"RC63","v":5.9667519181585682},"p4",null,{"$f":"RM40+35*RN28","v":44.965277777777771},{"$f":"RN40","v":-20},35,null,{"$f":"IF(RN26>(RM47-RM40),RM47,RM40)","v":0},{"$f":"IF(RN26>(RM47-RM40),RN47,RN40)","v":-20},35,null,{"$f":"RU40+35*RV31","v":-10.501672240802677},{"$f":"RV40","v":0},35,null,{"$f":"IF(RV27>(RU47-RU40),RU47,RU40)","v":-40},{"$f":"IF(RV27>(RU47-RU40),RV47,RV40)","v":0},35,null,{"$f":"IF(RV27>(RU72-RU40),RU72,RU40)","v":-32.414715719063544},{"$f":"IF(RV27>(RU72-RU40),RV72,RV40)","v":0},9,null,{"$f":"SG40+35*SH28","v":44.965277777777771},{"$f":"SH40","v":-20},35,null,{"$f":"IF(SH26>(SG47-SG40),SG47,SG40)","v":0},{"$f":"IF(SH26>(SG47-SG40),SH47,SH40)","v":-20},35,null,{"$f":"SO40+35*SP31","v":-10.501672240802677},{"$f":"SP40","v":0},35,null,{"$f":"IF(SP27>(SO47-SO40),SO47,SO40)","v":-40},{"$f":"IF(SP27>(SO47-SO40),SP47,SP40)","v":0},35,null,{"$f":"IF(SP27>(SO72-SO40),SO72,SO40)","v":-32.414715719063544},{"$f":"IF(SP27>(SO72-SO40),SP72,SP40)","v":0},9,null,{"$f":"TA40+35*TB28","v":42.534722222222229},{"$f":"TB40","v":-20},35,null,{"$f":"IF(TB26>(TA47-TA40),TA47,TA40)","v":0},{"$f":"IF(TB26>(TA47-TA40),TB47,TB40)","v":-20},35,null,{"$f":"TI40+35*TJ31","v":-11.239130434782602},{"$f":"TJ40","v":0},35,null,{"$f":"IF(TJ27>(TI47-TI40),TI47,TI40)","v":-40},{"$f":"IF(TJ27>(TI47-TI40),TJ47,TJ40)","v":0},35,null,{"$f":"IF(TJ27>(TI72-TI40),TI72,TI40)","v":-32.604347826086958},{"$f":"IF(TJ27>(TI72-TI40),TJ72,TJ40)","v":0},9,null,{"$f":"TU40+35*TV28","v":42.534722222222229},{"$f":"TV40","v":-20},35,null,{"$f":"IF(TV26>(TU47-TU40),TU47,TU40)","v":0},{"$f":"IF(TV26>(TU47-TU40),TV47,TV40)","v":-20},35,null,{"$f":"UC40+35*UD31","v":-11.239130434782602},{"$f":"UD40","v":0},35,null,{"$f":"IF(UD27>(UC47-UC40),UC47,UC40)","v":-40},{"$f":"IF(UD27>(UC47-UC40),UD47,UD40)","v":0},35,null,{"$f":"IF(UD27>(UC72-UC40),UC72,UC40)","v":-32.604347826086958},{"$f":"IF(UD27>(UC72-UC40),UD72,UD40)","v":0},9,null,{"$f":"UO40+35*UP28","v":44.965277777777771},{"$f":"UP40","v":-20},35,null,{"$f":"IF(UP26>(UO47-UO40),UO47,UO40)","v":0},{"$f":"IF(UP26>(UO47-UO40),UP47,UP40)","v":-20},35,null,{"$f":"UW40+35*UX31","v":-10.501672240802677},{"$f":"UX40","v":0},35,null,{"$f":"IF(UX27>(UW47-UW40),UW47,UW40)","v":-40},{"$f":"IF(UX27>(UW47-UW40),UX47,UX40)","v":0},35,null,{"$f":"IF(UX27>(UW72-UW40),UW72,UW40)","v":-32.414715719063544},{"$f":"IF(UX27>(UW72-UW40),UX72,UX40)","v":0},9,null,{"$f":"VI40+35*VJ28","v":44.965277777777771},{"$f":"VJ40","v":-20},35,null,{"$f":"IF(VJ26>(VI47-VI40),VI47,VI40)","v":0},{"$f":"IF(VJ26>(VI47-VI40),VJ47,VJ40)","v":-20},35,null,{"$f":"VQ40+35*VR31","v":-10.501672240802677},{"$f":"VR40","v":0},35,null,{"$f":"IF(VR27>(VQ47-VQ40),VQ47,VQ40)","v":-40},{"$f":"IF(VR27>(VQ47-VQ40),VR47,VR40)","v":0},35,null,{"$f":"IF(VR27>(VQ72-VQ40),VQ72,VQ40)","v":-32.414715719063544},{"$f":"IF(VR27>(VQ72-VQ40),VR72,VR40)","v":0},9]
[null,null,null,null,null,null,null," a02 تعداد رج در یک سانت کلاه",{"$f":"F6+0.3*I50*F6","v":2.373015873015873},null," a03 تعداد رج در یک سانت جلو شلوار",{"$f":"F6+0.3*L50*F6","v":2.373015873015873},null," a04 تعداد رج در یک سانت پشت شلوار",{"$f":"F6+0.3*O50*F6","v":2.373015873015873},null,null,null,null,null,null,null,null,null,null,null,null,null,null,null,null,null,null,{"$error":"#DIV/0!"},0,{"$f":"IF(AM48=0,\"  \",(10/3)*((AM48/AL48)*(1/J6)-1))","v":"  "},{"$f":"IF(AN48=0,\"  \",(100/68)*((AO48/AN48)*(1/J7)-1))","v":"  "},13.5,0,0,36,null,42,null,"  ","  ","  ",null,null,null,null,null,null,null,null,null,null,null,null,null,null,null,null,null,null,null,null,null,null,null,null,null,null,null,null,null,null,null,null,null,null,null,null,null,null,null,{"$f":"CI47+0.97*(CI39-CI47)","v":39.815999999999995},{"$f":"CJ47+0.78*(CJ39-CJ47)","v":50.584000000000003},"j5'",null,16.2,26.312000000000001,"j5''''",null,null,null,null,null,null,null,null,null,null,null,null,null,null,null,null,null,null,null,null,null,null,null,null,null,null,{"$f":"DM30","v":23.45},{"$f":"DN30","v":0},"s13",null,null,null,null,null,null,null,null,null,null,null,null,null,null,null,null,null,null,null,null,null,null,null,null,null,null,null,null,null,null,null,{"$f":"ET28","v":22.5},{"$f":"EU28","v":13.574999999999999},15,null,null,null,null,null,{"$f":"FF13","v":0},{"$f":"FG47+'طراحی همه الگوها'!U259","v":49.599999999999994},14,null,{"$f":"FJ45+0.95*(FJ49-FJ45)","v":50.385000000000005},{"$f":"FK45+0.8*(FK49-FK45)","v":40.040000000000006},"13'''",null,null,null,null,null,{"$f":"FO23","v":10.7},{"$f":"FP23","v":27.165691432475338},"s12",null,null,null,null,null,null,"بهینه α",{"$f":"IF(GE13<GE16,GA16,IF(GE13<GE17,GA17,IF(GE13<GE18,GA18,IF(GE13<GE19,GA19,IF(GE13<GE20,GA20,IF(GE13<GE21,GA21,IF(GE13<GE22,GA22,IF(GE13<GE23,GA23,IF(GE13<GE24,GA24,IF(GE13<GE25,GA25,IF(GE13<GE26,GA26,IF(GE13<GE27,GA27,IF(GE13<GE28,GA28,IF(GE13<GE29,GA29,IF(GE13<GE30,GA30,IF(GE13<GE31,GA31,IF(GE13<GE32,GA32,IF(GE13<GE33,GA33,IF(GE13<GE34,GA34,IF(GE13<GE35,GA35,IF(GE13<GE36,GA36,IF(GE13<GE37,GA37,IF(GE13<GE38,GA38,IF(GE13<GE39,GA39,IF(GE13<GE40,GA40,IF(GE13<GE41,GA41,IF(GE13<GE42,GA42,IF(GE13<GE43,GA43,IF(GE13<GE44,GA44,IF(GE13<GE45,GA45,IF(GE13<GE46,GA46,GA47)))))))))))))))))))))))))))))))","v":{"$error":"#DIV/0!"}},{"$f":"RADIANS(GB48)","v":{"$error":"#DIV/0!"}},"c21",{"$f":"IF(GB13>GB50,ATAN((GC13-GC50)/(GB13-GB50)),ATAN((GC13-GC50)/(GB50-GB13)))","v":{"$error":"#DIV/0!"}},null,null,null,null,null,null,null,null,null,null,null,null,null,null,null,{"$f":"GU47+GT11","v":-26},-0.4537856055185257,{"$f":"HB13+HB10*COS(GV48)","v":{"$error":"#REF!"}},{"$f":"HC13-HB10*SIN(GV48)","v":{"$error":"#REF!"}},{"$f":"SQRT(POWER((HB12-GW48),2)+POWER((HC12-GX48),2))","v":{"$error":"#REF!"}},{"$f":"ABS(HB9-GY48)","v":{"$error":"#REF!"}},null,{"$f":"RADIANS(-15)","v":-0.26179938779914941},"m1","زاویه ضلع پایین با افق به رادیان ساعتگرزیر افق عدد مثبت",null,{"$f":"HB47*COS(HF49)-HF45*COS(HF47)","v":4.2754038455317325},"m7",null,null,null,null,null,null,null,{"$f":"-HK48+HP9","v":0},0,null,null,null,null,null,null,null,null,null,null,null,null,null,null,null,null,null,null,null,null,null,null,null,null,null,null,null,null,null,null,null,null,null,null,null,null,null,null,null,null,null,null,null,null,null,null,null,null,null,null,null,null,null,null,null,null,null,null,null,null,null,null,null,null,null,null,null,null,null,null,null,null,null,null,null,null,null,null,null,null,null,null,null,null,null,null,null,null,null,null,null,null,null,null,null,null,null,null,null,null,null,null,null,null,null,null,null,null,null,null,null,null,null,null,null,null,null,null,null,null,null,null,null,null,null,null,null,null,null,null,null,null,null,null,null,null,null,null,null,null,null,null,null,null,null,null,null,null,null,null,null,null,null,null,null,null,null,null,null,null,"w12",{"$f":"O17*40/NV33","v":2.6122448979591839},"ضریب کاهش تعداد دانه ها",null,null,"متغیرهای ورودی",null,{"$f":"NZ54","v":-35},{"$f":"OA54","v":6.3695652173913047},{"$f":"NY54","v":"w8"},null,"محاسبات",null,null,null,null,null,null,{"$f":"OF65","v":-35},{"$f":"OG65","v":5.9667519181585682},"m6",null,"محاسبات",null,null,null,null,null,null,{"$f":"OQ65","v":-35},{"$f":"OR65","v":5.9667519181585682},"m6",null,"n0",{"$f":"PB17*40/PC36","v":1.6134453781512608},"ضریب کاهش تعداد دانه ها",null,null,null,null,{"$f":"PB64","v":-35.309895833333336},{"$f":"PC64","v":5.9667519181585682},"n5",null,"n0",{"$f":"PM17*40/PN36","v":1.6134453781512608},"ضریب کاهش تعداد دانه ها",null,null,null,null,{"$f":"PM64","v":-35.619791666666664},{"$f":"PN64","v":5.9667519181585682},"n'5",null,{"$f":"PX44","v":-41.5},{"$f":"PY47","v":19.285714285714285},"t20",null,"g11",{"$f":"QC52+0.8*(QC50-QC52)","v":-48.993499999999997},{"$f":"QD50+0.6*(QD52-QD50)","v":10.30857142857143},{"$f":"QC49","v":-48.5},{"$f":"QD49","v":10.714285714285715},{"$f":"QB49","v":"g2"},null,4.4446293654002487,41.002754764071852,"28پ",null,-2.372230618672408,39.945755355749398,"26پ ق",null,{"$f":"2*QQ15-QQ47","v":-26.332000000000001},{"$f":"QR47","v":7.8887268314077659},"k38",null,null,null,null,{"$f":"QQ61","v":-17.032},{"$f":"QR61","v":13.950904657898837},"k51",null,"محاسبات",null,null,null,null,null,null,{"$f":"RB64","v":-35},{"$f":"RC64","v":5.9667519181585682},"p5",null,{"$f":"RM40+40*RN28","v":51.388888888888886},{"$f":"RN40","v":-20},40,null,{"$f":"RQ47","v":0},{"$f":"RN38","v":-40.22742474916388},null,null,{"$f":"RU40+40*RV31","v":-6.2876254180602018},{"$f":"RV40","v":0},40,null,{"$f":"RY47","v":-40},{"$f":"RV38","v":10.277777777777777},null,null,{"$f":"SC47","v":-32.414715719063544},{"$f":"RV38","v":10.277777777777777},null,null,{"$f":"SG40+40*SH28","v":51.388888888888886},{"$f":"SH40","v":-20},40,null,{"$f":"SK47","v":0},{"$f":"SH38","v":-40.22742474916388},null,null,{"$f":"SO40+40*SP31","v":-6.2876254180602018},{"$f":"SP40","v":0},40,null,{"$f":"SS47","v":-40},{"$f":"SP38","v":10.277777777777777},null,null,{"$f":"SW47","v":-32.414715719063544},{"$f":"SP38","v":10.277777777777777},null,null,{"$f":"TA40+40*TB28","v":48.611111111111114},{"$f":"TB40","v":-20},40,null,{"$f":"TE47","v":0},{"$f":"TB38","v":-39.721739130434784},null,null,{"$f":"TI40+40*TJ31","v":-7.1304347826086882},{"$f":"TJ40","v":0},40,null,{"$f":"TM47","v":-40},{"$f":"TJ38","v":9.7222222222222232},null,null,{"$f":"TQ47","v":-32.604347826086958},{"$f":"TJ38","v":9.7222222222222232},null,null,{"$f":"TU40+40*TV28","v":48.611111111111114},{"$f":"TV40","v":-20},40,null,{"$f":"TY47","v":0},{"$f":"TV38","v":-39.721739130434784},null,null,{"$f":"UC40+40*UD31","v":-7.1304347826086882},{"$f":"UD40","v":0},40,null,{"$f":"UG47","v":-40},{"$f":"UD38","v":9.7222222222222232},null,null,{"$f":"UK47","v":-32.604347826086958},{"$f":"UD38","v":9.7222222222222232},null,null,{"$f":"UO40+40*UP28","v":51.388888888888886},{"$f":"UP40","v":-20},40,null,{"$f":"US47","v":0},{"$f":"UP38","v":-40.22742474916388},null,null,{"$f":"UW40+40*UX31","v":-6.2876254180602018},{"$f":"UX40","v":0},40,null,{"$f":"VA47","v":-40},{"$f":"UX38","v":10.277777777777777},null,null,{"$f":"VE47","v":-32.414715719063544},{"$f":"UX38","v":10.277777777777777},null,null,{"$f":"VI40+40*VJ28","v":51.388888888888886},{"$f":"VJ40","v":-20},40,null,{"$f":"VM47","v":0},{"$f":"VJ38","v":-40.22742474916388},null,null,{"$f":"VQ40+40*VR31","v":-6.2876254180602018},{"$f":"VR40","v":0},40,null,{"$f":"VU47","v":-40},{"$f":"VR38","v":10.277777777777777},null,null,{"$f":"VY47","v":-32.414715719063544},{"$f":"VR38","v":10.277777777777777}]
[null,null,null,null,null,null,null,"تعداد دانه در یک سانت کلاهb02 ",{"$f":"F7+0.68*I51*F7","v":1.5567567567567568},null,"تعداد دانه در یک سانت جلو شلوارb03 ",{"$f":"F7+0.68*L51*F7","v":1.5567567567567568},null,"تعداد دانه در یک سانت پشت شلوارb04 ",{"$f":"F7+0.68*O51*F7","v":1.5567567567567568},null,null,null,null,null,null,null,null,null,null,null,null,null,null,null,null,null,null,{"$f":"AO49/AN49","v":{"$error":"#DIV/0!"}},{"$f":"AM49/AL49","v":0},{"$f":"IF(AM49=0,\"  \",(10/3)*((AM49/AL49)*(1/J6)-1))","v":"  "},{"$f":"IF(AN49=0,\"  \",(100/68)*((AO49/AN49)*(1/J7)-1))","v":"  "},13.5,0,0,36,null,43,null,{"$f":"IF(AM49=0,\"  \",AP49)","v":"  "},{"$f":"IF(AN49=0,\"  \",ROUND(AK49*100+20,0))","v":"  "},{"$f":"IF(AM49=0,\"  \",ROUND(AJ49*50+30,0))","v":"  "},null,null,null,null,null,null,null,null,null,null,null,null,null,null,null,null,null,null,null,null,null,null,null,null,null,null,null,null,null,null,null,null,null,null,null,null,null,null,null,{"$f":"CI47+0.85*(CI39-CI47)","v":35.879999999999995},{"$f":"CJ47+0.5*(CJ39-CJ47)","v":41.4},"j5''",null,{"$f":"CI47","v":8},{"$f":"CJ47","v":25},"j13",null,null,null,null,null,null,null,null,null,null,null,null,null,null,null,null,null,null,null,null,null,null,null,null,null,null,{"$f":"DM19","v":0},{"$f":"DN30","v":0},2,null,null,null,null,null,null,null,null,null,null,null,null,null,null,null,null,null,null,null,null,null,null,null,null,null,null,null,null,null,null,null,{"$f":"ET30","v":23.4},{"$f":"EU30","v":10.774999999999999},19,null,null,null,null,null,{"$f":"FF13+'طراحی همه الگوها'!U263","v":50.7},{"$f":"FG48","v":49.599999999999994},15,null,{"$f":"FF49","v":50.7},{"$f":"FG49","v":49.599999999999994},15,null,null,null,null,null,null,null,null,null,null,null,null,null,null,null,"مولفه افقی","مولفه عمودی",null,null,null,null,null,null,"پروسیجرها",null,null,null,null,null,null,null,null,null,null,{"$f":"GU48+GT11","v":-24},-0.41887902047863912,{"$f":"HB13+HB10*COS(GV49)","v":{"$error":"#REF!"}},{"$f":"HC13-HB10*SIN(GV49)","v":{"$error":"#REF!"}},{"$f":"SQRT(POWER((HB12-GW49),2)+POWER((HC12-GX49),2))","v":{"$error":"#REF!"}},{"$f":"ABS(HB9-GY49)","v":{"$error":"#REF!"}},null,"راس سوم",null,null,null,{"$f":"ASIN(HF50/HB47)","v":1.4030193189660189},"m8",null,null,null,null,null,null,null,{"$f":"-HK49+HP9","v":0},0,null,null,null,null,null,null,null,null,null,null,null,null,null,null,null,null,null,null,null,null,null,null,null,null,null,null,null,null,null,null,null,null,null,null,null,null,null,null,null,null,null,null,null,null,null,null,null,null,null,null,null,null,null,null,null,null,null,null,null,null,null,null,null,null,null,null,null,null,null,null,null,null,null,null,null,null,null,null,null,null,null,null,null,null,null,null,null,null,null,null,null,null,null,null,null,null,null,null,null,null,null,null,null,null,null,null,null,null,null,null,null,null,null,null,null,null,null,null,null,null,null,null,null,null,null,null,null,null,null,null,null,null,null,null,null,null,null,null,null,null,null,null,null,null,null,null,null,null,null,null,null,null,null,null,null,null,null,null,null,null,"f4",{"$f":"NV38*NV34","v":0.82173913043478275},"بزرگی فلش رج",null,"طول باکس نوشته",{"$f":"1.1*NV36","v":4.95},"h3",{"$f":"NZ59","v":-21.779687500000001},{"$f":"OA59","v":6.3695652173913047},{"$f":"NY59","v":"h8"},null,"g3",{"$f":"OG39","v":0.96675191815856776},"ارتفاع نیم دایره",null,"زاویه فلش",{"$f":"OG44","v":0.5},"f5",null,null,"فلش به سمت چپ",null,"g3",{"$f":"OR39","v":0.96675191815856776},"ارتفاع نیم دایره",null,"زاویه فلش",{"$f":"OR44","v":0.5},"f5",null,null,"فلش به سمت چپ",null,"f4",{"$f":"PC41*PC37","v":0.5800511508951407},"بزرگی فلش رج",null,"زاویه فلش",{"$f":"PC42","v":0.5},"f5",null,null,"فلش به سمت چپ",null,"f4",{"$f":"PN41*PN37","v":0.5800511508951407},"بزرگی فلش رج",null,"زاویه فلش",{"$f":"PN42","v":0.5},"f5",null,null,"فلش به سمت چپ",null,{"$f":"PX45","v":-45},{"$f":"PY47","v":19.285714285714285},"t21",null,"g2",{"$f":"QC47","v":-48.5},{"$f":"QD47+QC44","v":10.714285714285715},null,null,null,null,2.3704689948801323,40.551110356977631,"26پ",null,-4.4463909891925244,40.397399762843619,"28پ ق",null,{"$f":"QQ15+(QR7+3*QR8)*SIN(RADIANS(30))","v":-17.632000000000001},{"$f":"QR15+(QR7+3*QR8)*COS(RADIANS(30))","v":12.911674173357511},"k39",null,null,null,null,{"$f":"QQ59","v":-13.532},{"$f":"QR59","v":7.8887268314077659},"k49",null,"g3",{"$f":"RC39","v":0.96675191815856776},"ارتفاع نیم دایره",null,"زاویه فلش",{"$f":"RC44","v":0.5},"f5",null,null,"فلش به سمت چپ",null,{"$f":"RM40+45*RN28","v":57.812499999999993},{"$f":"RN40","v":-20},45,null,null,null,null,null,{"$f":"RU40+45*RV31","v":-2.073578595317727},{"$f":"RV40","v":0},45,null,null,null,null,null,null,null,null,null,{"$f":"SG40+45*SH28","v":57.812499999999993},{"$f":"SH40","v":-20},45,null,null,null,null,null,{"$f":"SO40+45*SP31","v":-2.073578595317727},{"$f":"SP40","v":0},45,null,null,null,null,null,null,null,null,null,{"$f":"TA40+45*TB28","v":54.687500000000007},{"$f":"TB40","v":-20},45,null,null,null,null,null,{"$f":"TI40+45*TJ31","v":-3.0217391304347743},{"$f":"TJ40","v":0},45,null,null,null,null,null,null,null,null,null,{"$f":"TU40+45*TV28","v":54.687500000000007},{"$f":"TV40","v":-20},45,null,null,null,null,null,{"$f":"UC40+45*UD31","v":-3.0217391304347743},{"$f":"UD40","v":0},45,null,null,null,null,null,null,null,null,null,{"$f":"UO40+45*UP28","v":57.812499999999993},{"$f":"UP40","v":-20},45,null,null,null,null,null,{"$f":"UW40+45*UX31","v":-2.073578595317727},{"$f":"UX40","v":0},45,null,null,null,null,null,null,null,null,null,{"$f":"VI40+45*VJ28","v":57.812499999999993},{"$f":"VJ40","v":-20},45,null,null,null,null,null,{"$f":"VQ40+45*VR31","v":-2.073578595317727},{"$f":"VR40","v":0},45]
[null,null,null,null,null,null,null,"جمع شوندگی عمودی بافت کلاه",{"$f":"OFFSET(AJ6,I52,0)","v":0.10582010582010619},null,"جمع شوندگی عمودی بافت  جلوشلوار",{"$f":"OFFSET(AJ6,L52,0)","v":0.10582010582010619},null,"جمع شوندگی عمودی بافت پشت شلوار",{"$f":"OFFSET(AJ6,O52,0)","v":0.10582010582010619},null,null,null,null,null,null,null,null,null,null,null,null,null,null,null,null,null,null,{"$error":"#DIV/0!"},0,{"$f":"IF(AM50=0,\"  \",(10/3)*((AM50/AL50)*(1/J6)-1))","v":"  "},{"$f":"IF(AN50=0,\"  \",(100/68)*((AO50/AN50)*(1/J7)-1))","v":"  "},13.5,0,0,36,null,{"$f":"AQ49+1","v":44},null,"  ","  ","  ",null,null,null,null,null,null,null,null,null,null,null,null,null,null,null,null,null,null,null,null,null,null,null,null,null,null,null,null,null,null,null,null,null,null,null,null,null,null,null,{"$f":"CI47+0.6*(CI39-CI47)","v":27.679999999999996},{"$f":"CJ47+0.23*(CJ39-CJ47)","v":32.543999999999997},"j5'''",null,{"$f":"CI37","v":0},{"$f":"CJ37","v":25},"j2",null,null,null,null,null,null,null,null,null,null,null,null,null,null,null,null,null,null,null,null,null,null,null,null,null,null,null,null,null,null,null,null,null,null,null,null,null,null,null,null,null,null,null,null,null,null,null,null,null,null,null,null,null,null,null,null,null,null,null,null,null,null,null,null,null,null,null,null,null,null,null,null,null,null,null,null,null,null,null,null,{"$f":"FR48","v":10.7},{"$f":"FS48","v":27.165691432475338},"s12",null,null,null,null,null,null,"e23",{"$f":"GB12+GE12*SIN(GC48+GA14)","v":{"$error":"#DIV/0!"}},{"$f":"GC12+GE12*COS(GC48+GA14)","v":{"$error":"#DIV/0!"}},"راس سوم ",null,null,null,null,null,null,null,null,null,null,null,null,null,null,null,null,{"$f":"GU49+GT11","v":-22},-0.38397243543875248,{"$f":"HB13+HB10*COS(GV50)","v":{"$error":"#REF!"}},{"$f":"HC13-HB10*SIN(GV50)","v":{"$error":"#REF!"}},{"$f":"SQRT(POWER((HB12-GW50),2)+POWER((HC12-GX50),2))","v":{"$error":"#REF!"}},{"$f":"ABS(HB9-GY50)","v":{"$error":"#REF!"}},null,{"$f":"HB46+HF48*COS(HB48)","v":11.129722992214699},{"$f":"HC46-HF48*SIN(HB48)","v":41.106555940728171},3,null,{"$f":"HF45*SIN(HF47)","v":9.8595842240901757},"m9",null,null,null,null,null,null,null,{"$f":"-HK50+HP9","v":0},0,null,null,null,null,null,null,null,null,null,null,null,null,null,null,null,null,null,null,null,null,null,null,null,null,null,null,null,null,null,null,null,null,null,null,null,null,null,null,null,null,null,null,null,null,null,null,null,null,null,null,null,null,null,null,null,null,null,null,null,null,null,null,null,null,null,null,null,null,null,null,null,null,null,null,null,null,null,null,null,null,null,null,null,null,null,null,null,null,null,null,null,null,null,null,null,null,null,null,null,null,null,null,null,null,null,null,null,null,null,null,null,null,null,null,null,null,null,null,null,null,null,null,null,null,null,null,null,null,null,null,null,null,null,null,null,null,null,null,null,null,null,null,null,null,null,null,null,null,null,null,null,null,null,null,null,null,null,null,null,null,null,"نقاط خروجی ",null,null,"پهنای باکس نوشته",{"$f":"NV37","v":0.5},"h4",null,null,null,null,"m0",{"$f":"S18*40/OG38","v":1.6134453781512608},"ضریب کاهش تعداد دانه ها",null,"بزرگی فلش",{"$f":"OG51","v":0.5800511508951407},"f4",{"$f":"OK52","v":-32.520833333333336},{"$f":"OL52","v":5.9667519181585682},{"$f":"OJ52","v":"m5"},null,"m0",{"$f":"S18*40/OR38","v":1.6134453781512608},"ضریب کاهش تعداد دانه ها",null,"بزرگی فلش",{"$f":"OR51","v":0.5800511508951407},"f4",{"$f":"OV52","v":-32.64479166666667},{"$f":"OW52","v":5.9667519181585682},{"$f":"OU52","v":"m5"},null,"n20",0.15,"فاصله فلش کم کردن",null,"بزرگی فلش",{"$f":"PC49","v":0.5800511508951407},"f4",{"$f":"PG52","v":-31.591145833333332},{"$f":"PH52","v":5.9667519181585682},{"$f":"PF52","v":"n6"},null,"n20",0.15,"فاصله فلش کم کردن",null,"بزرگی فلش",{"$f":"PN49","v":0.5800511508951407},"f4",{"$f":"PR52","v":-31.219270833333333},{"$f":"PS52","v":5.9667519181585682},{"$f":"PQ52","v":"n6"},null,{"$f":"PX30+3","v":-38.5},{"$f":"PY47","v":19.285714285714285},"t22",null,"g4",{"$f":"QC47-QC45*QC43/40","v":-49.024999999999999},{"$f":"QD47+0.5*QC44","v":10},{"$f":"QC54","v":-49.243622955421095},{"$f":"QD54","v":9.9964200115132726},{"$f":"QB54","v":"g8"},null,0,40.400562221279557,"24پ",null,-5.9279341109926076,41.300688577032062,"23پ ق",null,{"$f":"2*QQ15-QQ49","v":-23.431999999999999},{"$f":"QR49","v":12.911674173357511},"k40",null,null,null,null,{"$f":"QQ64","v":-12.931999999999999},{"$f":"QR64","v":7.8887268314077659},"k54",null,"p0",{"$f":"RB19*40/RC38","v":1.3714285714285717},"ضریب کاهش تعداد دانه ها",null,"بزرگی فلش",{"$f":"RC51","v":0.5800511508951407},"f4",{"$f":"RG52","v":-32.739583333333336},{"$f":"RH52","v":5.9667519181585682},{"$f":"RF52","v":"p6"},null,{"$f":"RM40+50*RN28","v":64.2361111111111},{"$f":"RN40","v":-20},50,null,{"$f":"IF(RN26>(RM48-RM40),RM48,RM40)","v":0},{"$f":"IF(RN26>(RM48-RM40),RN48,RN40)","v":-20},40,null,{"$f":"RU40+50*RV31","v":2.1404682274247477},{"$f":"RV40","v":0},50,null,{"$f":"IF(RV27>(RU48-RU40),RU48,RU40)","v":-40},{"$f":"IF(RV27>(RU48-RU40),RV48,RV40)","v":0},40,null,{"$f":"IF(RV27>(RU73-RU40),RU73,RU40)","v":-30.729096989966557},{"$f":"IF(RV27>(RU73-RU40),RV73,RV40)","v":0},11,null,{"$f":"SG40+50*SH28","v":64.2361111111111},{"$f":"SH40","v":-20},50,null,{"$f":"IF(SH26>(SG48-SG40),SG48,SG40)","v":0},{"$f":"IF(SH26>(SG48-SG40),SH48,SH40)","v":-20},40,null,{"$f":"SO40+50*SP31","v":2.1404682274247477},{"$f":"SP40","v":0},50,null,{"$f":"IF(SP27>(SO48-SO40),SO48,SO40)","v":-40},{"$f":"IF(SP27>(SO48-SO40),SP48,SP40)","v":0},40,null,{"$f":"IF(SP27>(SO73-SO40),SO73,SO40)","v":-30.729096989966557},{"$f":"IF(SP27>(SO73-SO40),SP73,SP40)","v":0},11,null,{"$f":"TA40+50*TB28","v":60.763888888888893},{"$f":"TB40","v":-20},50,null,{"$f":"IF(TB26>(TA48-TA40),TA48,TA40)","v":0},{"$f":"IF(TB26>(TA48-TA40),TB48,TB40)","v":-20},40,null,{"$f":"TI40+50*TJ31","v":1.0869565217391397},{"$f":"TJ40","v":0},50,null,{"$f":"IF(TJ27>(TI48-TI40),TI48,TI40)","v":-40},{"$f":"IF(TJ27>(TI48-TI40),TJ48,TJ40)","v":0},40,null,{"$f":"IF(TJ27>(TI73-TI40),TI73,TI40)","v":-30.96086956521739},{"$f":"IF(TJ27>(TI73-TI40),TJ73,TJ40)","v":0},11,null,{"$f":"TU40+50*TV28","v":60.763888888888893},{"$f":"TV40","v":-20},50,null,{"$f":"IF(TV26>(TU48-TU40),TU48,TU40)","v":0},{"$f":"IF(TV26>(TU48-TU40),TV48,TV40)","v":-20},40,null,{"$f":"UC40+50*UD31","v":1.0869565217391397},{"$f":"UD40","v":0},50,null,{"$f":"IF(UD27>(UC48-UC40),UC48,UC40)","v":-40},{"$f":"IF(UD27>(UC48-UC40),UD48,UD40)","v":0},40,null,{"$f":"IF(UD27>(UC73-UC40),UC73,UC40)","v":-30.96086956521739},{"$f":"IF(UD27>(UC73-UC40),UD73,UD40)","v":0},11,null,{"$f":"UO40+50*UP28","v":64.2361111111111},{"$f":"UP40","v":-20},50,null,{"$f":"IF(UP26>(UO48-UO40),UO48,UO40)","v":0},{"$f":"IF(UP26>(UO48-UO40),UP48,UP40)","v":-20},40,null,{"$f":"UW40+50*UX31","v":2.1404682274247477},{"$f":"UX40","v":0},50,null,{"$f":"IF(UX27>(UW48-UW40),UW48,UW40)","v":-40},{"$f":"IF(UX27>(UW48-UW40),UX48,UX40)","v":0},40,null,{"$f":"IF(UX27>(UW73-UW40),UW73,UW40)","v":-30.729096989966557},{"$f":"IF(UX27>(UW73-UW40),UX73,UX40)","v":0},11,null,{"$f":"VI40+50*VJ28","v":64.2361111111111},{"$f":"VJ40","v":-20},50,null,{"$f":"IF(VJ26>(VI48-VI40),VI48,VI40)","v":0},{"$f":"IF(VJ26>(VI48-VI40),VJ48,VJ40)","v":-20},40,null,{"$f":"VQ40+50*VR31","v":2.1404682274247477},{"$f":"VR40","v":0},50,null,{"$f":"IF(VR27>(VQ48-VQ40),VQ48,VQ40)","v":-40},{"$f":"IF(VR27>(VQ48-VQ40),VR48,VR40)","v":0},40,null,{"$f":"IF(VR27>(VQ73-VQ40),VQ73,VQ40)","v":-30.729096989966557},{"$f":"IF(VR27>(VQ73-VQ40),VR73,VR40)","v":0},11]
[null,null,null,null,null,null,null,"جمع شوندگی افقی بافت کلاه",{"$f":"OFFSET(AJ6,I52,1)","v":-3.9745627980922023E-2},null,"جمع شوندگی افقی بافت  جلوشلوار",{"$f":"OFFSET(AJ6,L52,1)","v":-3.9745627980922023E-2},null,"جمع شوندگی افقی بافت پشت شلوار",{"$f":"OFFSET(AJ6,O52,1)","v":-3.9745627980922023E-2},null,null,null,null,null,null,null,null,null,null,null,null,null,null,null,null,null,null,{"$error":"#DIV/0!"},0,{"$f":"IF(AM51=0,\"  \",(10/3)*((AM51/AL51)*(1/J6)-1))","v":"  "},{"$f":"IF(AN51=0,\"  \",(100/68)*((AO51/AN51)*(1/J7)-1))","v":"  "},13.5,0,0,36,null,45,null,"  ","  ","  ",null,null,null,null,null,null,null,null,null,null,null,null,null,null,null,null,null,null,null,null,null,null,null,null,null,null,null,null,null,null,null,null,null,null,null,null,null,null,null,{"$f":"CI47+0.25*(CI39-CI47)","v":16.2},{"$f":"CJ47+0.04*(CJ39-CJ47)","v":26.312000000000001},"j5''''",null,null,null,null,null,null,null,null,null,null,null,null,null,null,null,null,null,null,null,null,null,null,null,null,null,null,null,null,null,null,{"$f":"DP49","v":0},{"$f":"DQ49","v":0},2,null,null,null,null,null,null,null,null,null,null,null,null,null,null,null,null,null,null,null,null,null,null,null,null,null,null,null,null,null,null,null,{"$f":"ET34","v":24.299999999999997},{"$f":"EU34","v":13.574999999999999},17,null,null,null,null,null,{"$f":"FJ54","v":27.1},{"$f":"FG46","v":1.8000000000000007},16,null,{"$f":"FF47","v":0},{"$f":"FG47","v":5.3000000000000007},18,null,null,null,null,null,{"$f":"FO24","v":10.7},{"$f":"FP24","v":25.365691432475337},"41 شبیه ساز",null,null,null,null,null,null,null,null,null,null,null,null,null,null,null,null,null,null,null,null,null,null,null,null,null,null,{"$f":"GU50+GT11","v":-20},-0.3490658503988659,{"$f":"HB13+HB10*COS(GV51)","v":{"$error":"#REF!"}},{"$f":"HC13-HB10*SIN(GV51)","v":{"$error":"#REF!"}},{"$f":"SQRT(POWER((HB12-GW51),2)+POWER((HC12-GX51),2))","v":{"$error":"#REF!"}},{"$f":"ABS(HB9-GY51)","v":{"$error":"#REF!"}},null,null,null,null,null,null,null,null,null,null,null,null,null,null,{"$f":"-HK51+HP9","v":0},0,null,null,null,null,null,null,null,null,null,null,null,null,null,null,null,null,null,null,null,null,null,null,null,null,null,null,null,null,null,null,null,null,null,null,null,null,null,null,null,null,null,null,null,null,null,null,null,null,null,null,null,null,null,null,null,null,null,null,null,null,null,null,null,null,null,null,null,null,null,null,null,null,null,null,null,null,null,null,null,null,null,null,null,null,null,null,null,null,null,null,null,null,null,null,null,null,null,null,null,null,null,null,null,null,null,null,null,null,null,null,null,null,null,null,null,null,null,null,null,null,null,null,null,null,null,null,null,null,null,null,null,null,null,null,null,null,null,null,null,null,null,null,null,null,null,null,null,null,null,null,null,null,null,null,null,null,null,null,null,null,{"$f":"NV31+NV5/NV48","v":-3.6093750000000036},{"$f":"NV32","v":5},"w2",null,null,null,null,{"$f":"NZ61","v":-21.779687500000001},{"$f":"OA61","v":6.6195652173913047},{"$f":"NY61","v":"h10"},null,"f4",{"$f":"OG43*OG39","v":0.5800511508951407},"بزرگی فلش رج",null,"نقطه ورودی سر فلش","مولفه افقی","مولفه عمودی",{"$f":"OK54","v":-31.940782182438195},{"$f":"OL54","v":6.2567774936061387},{"$f":"OJ54","v":"f3"},null,"f4",{"$f":"OR43*OR39","v":0.5800511508951407},"بزرگی فلش رج",null,"نقطه ورودی سر فلش","مولفه افقی","مولفه عمودی",{"$f":"OV54","v":-32.064740515771533},{"$f":"OW54","v":6.2567774936061387},{"$f":"OU54","v":"f3"},null,"n40",0.38,"فاصله فلش کم کردن",null,"نقطه ورودی سر فلش","مولفه افقی","مولفه عمودی",{"$f":"PG54","v":-31.011094682438191},{"$f":"PH54","v":6.2567774936061387},{"$f":"PF54","v":"f3"},null,"n40",0.38,"فاصله فلش کم کردن",null,"نقطه ورودی سر فلش","مولفه افقی","مولفه عمودی",{"$f":"PR54","v":-30.639219682438192},{"$f":"PS54","v":6.2567774936061387},{"$f":"PQ54","v":"f3"},null,{"$f":"PX47","v":-48.5},{"$f":"PY47+PY36-PY29","v":23.571428571428569},"t23",null,"g5",{"$f":"QC47+0.7*(QC50-QC47)","v":-48.8675},{"$f":"QD47+0.28*(QD50-QD47)","v":9.4857142857142858},{"$f":"QC48","v":-48.993499999999997},{"$f":"QD48","v":10.30857142857143},{"$f":"QB48","v":"g11"},null,null,null,"قرینه یقه گرد پشت",null,null,null,null,null,{"$f":"QQ15","v":-20.532},{"$f":"QR15+QR7+3*QR8","v":13.688726831407767},"k41",null,null,null,null,{"$f":"QQ66","v":-16.731999999999999},{"$f":"QR66","v":14.470519900169499},"k56",null,"f4",{"$f":"RC43*RC39","v":0.5800511508951407},"بزرگی فلش رج",null,"نقطه ورودی سر فلش","مولفه افقی","مولفه عمودی",{"$f":"RG54","v":-32.159532182438198},{"$f":"RH54","v":6.2567774936061387},{"$f":"RF54","v":"f3"},null,{"$f":"RM40+55*RN28","v":70.659722222222214},{"$f":"RN40","v":-20},55,null,{"$f":"RQ50","v":0},{"$f":"RN38","v":-40.22742474916388},null,null,{"$f":"RU40+55*RV31","v":6.3545150501672225},{"$f":"RV40","v":0},55,null,{"$f":"RY50","v":-40},{"$f":"RV38","v":10.277777777777777},null,null,{"$f":"SC50","v":-30.729096989966557},{"$f":"RV38","v":10.277777777777777},null,null,{"$f":"SG40+55*SH28","v":70.659722222222214},{"$f":"SH40","v":-20},55,null,{"$f":"SK50","v":0},{"$f":"SH38","v":-40.22742474916388},null,null,{"$f":"SO40+55*SP31","v":6.3545150501672225},{"$f":"SP40","v":0},55,null,{"$f":"SS50","v":-40},{"$f":"SP38","v":10.277777777777777},null,null,{"$f":"SW50","v":-30.729096989966557},{"$f":"SP38","v":10.277777777777777},null,null,{"$f":"TA40+55*TB28","v":66.840277777777786},{"$f":"TB40","v":-20},55,null,{"$f":"TE50","v":0},{"$f":"TB38","v":-39.721739130434784},null,null,{"$f":"TI40+55*TJ31","v":5.1956521739130537},{"$f":"TJ40","v":0},55,null,{"$f":"TM50","v":-40},{"$f":"TJ38","v":9.7222222222222232},null,null,{"$f":"TQ50","v":-30.96086956521739},{"$f":"TJ38","v":9.7222222222222232},null,null,{"$f":"TU40+55*TV28","v":66.840277777777786},{"$f":"TV40","v":-20},55,null,{"$f":"TY50","v":0},{"$f":"TV38","v":-39.721739130434784},null,null,{"$f":"UC40+55*UD31","v":5.1956521739130537},{"$f":"UD40","v":0},55,null,{"$f":"UG50","v":-40},{"$f":"UD38","v":9.7222222222222232},null,null,{"$f":"UK50","v":-30.96086956521739},{"$f":"UD38","v":9.7222222222222232},null,null,{"$f":"UO40+55*UP28","v":70.659722222222214},{"$f":"UP40","v":-20},55,null,{"$f":"US50","v":0},{"$f":"UP38","v":-40.22742474916388},null,null,{"$f":"UW40+55*UX31","v":6.3545150501672225},{"$f":"UX40","v":0},55,null,{"$f":"VA50","v":-40},{"$f":"UX38","v":10.277777777777777},null,null,{"$f":"VE50","v":-30.729096989966557},{"$f":"UX38","v":10.277777777777777},null,null,{"$f":"VI40+55*VJ28","v":70.659722222222214},{"$f":"VJ40","v":-20},55,null,{"$f":"VM50","v":0},{"$f":"VJ38","v":-40.22742474916388},null,null,{"$f":"VQ40+55*VR31","v":6.3545150501672225},{"$f":"VR40","v":0},55,null,{"$f":"VU50","v":-40},{"$f":"VR38","v":10.277777777777777},null,null,{"$f":"VY50","v":-30.729096989966557},{"$f":"VR38","v":10.277777777777777}]
[null,null,null,null,null,null,null,"بافت انتخابی کلاه",{"$f":"'متغیرها '!C839","v":11},null,"بافت انتخابی جلو شلوار",{"$f":"'متغیرها '!C840","v":11},null,"بافت انتخابی پشت شلوار",{"$f":"'متغیرها '!C841","v":11},null,null,null,null,null,null,null,null,null,null,null,null,null,null,null,null,null,null,{"$error":"#DIV/0!"},0,{"$f":"IF(AM52=0,\"  \",(10/3)*((AM52/AL52)*(1/J6)-1))","v":"  "},{"$f":"IF(AN52=0,\"  \",(100/68)*((AO52/AN52)*(1/J7)-1))","v":"  "},13.5,0,0,36,null,46,null,"  ","  ","  ",null,null,null,null,null,null,null,null,null,null,null,null,null,null,null,null,null,null,null,null,null,null,null,null,null,null,null,null,null,null,null,null,null,null,null,null,null,null,null,null,null,null,null,null,null,null,null,null,null,null,null,null,null,null,null,null,null,null,null,null,null,null,null,null,null,null,null,null,null,null,null,null,{"$f":"DM15","v":0},{"$f":"DN15","v":32.200000000000003},"خط سینه",null,null,null,null,null,null,null,null,null,null,null,null,null,null,null,null,null,null,null,null,null,null,null,null,null,null,null,null,null,null,null,{"$f":"ET32","v":23.4},{"$f":"EU32","v":16.375},18,null,null,null,null,null,null,null,null,null,{"$f":"FJ18","v":10.8},{"$f":"FG46+'طراحی همه الگوها'!U269","v":5.8000000000000007},24,null,null,null,null,null,null,null,null,null,null,null,null,null,null,null,null,null,null,null,null,null,null,null,null,null,null,null,null,null,null,null,null,null,null,{"$f":"GU51+GT11","v":-18},-0.31415926535897931,{"$f":"HB13+HB10*COS(GV52)","v":{"$error":"#REF!"}},{"$f":"HC13-HB10*SIN(GV52)","v":{"$error":"#REF!"}},{"$f":"SQRT(POWER((HB12-GW52),2)+POWER((HC12-GX52),2))","v":{"$error":"#REF!"}},{"$f":"ABS(HB9-GY52)","v":{"$error":"#REF!"}},null,null,null,null,null,null,null,null,null,null,null,null,null,null,{"$f":"-HK52+HP9","v":0},0,null,null,null,null,null,null,null,null,null,null,null,null,null,null,null,null,null,null,null,null,null,null,null,null,null,null,null,null,null,null,null,null,null,null,null,null,null,null,null,null,null,null,null,null,null,null,null,null,null,null,null,null,null,null,null,null,null,null,null,null,null,null,null,null,null,null,null,null,null,null,null,null,null,null,null,null,null,null,null,null,null,null,null,null,null,null,null,null,null,null,null,null,null,null,null,null,null,null,null,null,null,null,null,null,null,null,null,null,null,null,null,null,null,null,null,null,null,null,null,null,null,null,null,null,null,null,null,null,null,null,null,null,null,null,null,null,null,null,null,null,null,null,null,null,null,null,null,null,null,null,null,null,null,null,null,null,null,null,null,null,{"$f":"NV31","v":-35},{"$f":"NV57+NV34*NV6","v":{"$error":"#VALUE!"}},"w3",null,null,null,null,{"$f":"NZ62","v":-21.779687500000001},{"$f":"OA62","v":6.1195652173913047},{"$f":"NY62","v":"h11"},null,"m20",0.2,"فاصله فلش کم کردن",null,"m5",{"$f":"OF64","v":-32.520833333333336},{"$f":"OG64","v":5.9667519181585682},null,null,null,null,"m20",{"$f":"OG52","v":0.2},"فاصله فلش کم کردن",null,"m5",{"$f":"OQ64","v":-32.64479166666667},{"$f":"OR64","v":5.9667519181585682},null,null,null,null,"n50",0.05,"فاصله فلش کم کردن",null,"n6",{"$f":"PB65","v":-31.591145833333332},{"$f":"PC65","v":5.9667519181585682},null,null,null,null,"n50",0.06,"فاصله فلش کم کردن",null,"n6",{"$f":"PM65","v":-31.219270833333333},{"$f":"PN65","v":5.9667519181585682},null,null,null,null,{"$f":"PX48","v":-41.5},{"$f":"PY51","v":23.571428571428569},"t24",null,"g6",{"$f":"QC51","v":-48.8675},{"$f":"QD49-QD51+QD47","v":10.514285714285716},null,null,null,null,{"$f":"GP101","v":-5.9261724872003319},41.906043578260295,"23پ ق",null,{"$f":"QI69-0.5","v":-8.032},{"$f":"QJ69-3","v":32.888726831407766},"26'*",null,{"$f":"QQ15+(QR7+4*QR8)*SIN(RADIANS(60))","v":-14.989437415779593},{"$f":"QR15-(QR7+4*QR8)*COS(RADIANS(60))","v":4.6887268314077648},"k42",null,null,null,null,{"$f":"QQ68","v":-20.532},{"$f":"QR68","v":15.488726831407767},"k58",null,"p50",0.3,"فاصله فلش کم کردن",null,"p6",{"$f":"RB65","v":-32.739583333333336},{"$f":"RC65","v":5.9667519181585682},null,null,null,null,{"$f":"RM40+60*RN28","v":77.083333333333329},{"$f":"RN40","v":-20},60,null,null,null,null,null,{"$f":"RU40+60*RV31","v":10.568561872909697},{"$f":"RV40","v":0},60,null,null,null,null,null,null,null,null,null,{"$f":"SG40+60*SH28","v":77.083333333333329},{"$f":"SH40","v":-20},60,null,null,null,null,null,{"$f":"SO40+60*SP31","v":10.568561872909697},{"$f":"SP40","v":0},60,null,null,null,null,null,null,null,null,null,{"$f":"TA40+60*TB28","v":72.916666666666671},{"$f":"TB40","v":-20},60,null,null,null,null,null,{"$f":"TI40+60*TJ31","v":9.3043478260869676},{"$f":"TJ40","v":0},60,null,null,null,null,null,null,null,null,null,{"$f":"TU40+60*TV28","v":72.916666666666671},{"$f":"TV40","v":-20},60,null,null,null,null,null,{"$f":"UC40+60*UD31","v":9.3043478260869676},{"$f":"UD40","v":0},60,null,null,null,null,null,null,null,null,null,{"$f":"UO40+60*UP28","v":77.083333333333329},{"$f":"UP40","v":-20},60,null,null,null,null,null,{"$f":"UW40+60*UX31","v":10.568561872909697},{"$f":"UX40","v":0},60,null,null,null,null,null,null,null,null,null,{"$f":"VI40+60*VJ28","v":77.083333333333329},{"$f":"VJ40","v":-20},60,null,null,null,null,null,{"$f":"VQ40+60*VR31","v":10.568561872909697},{"$f":"VR40","v":0},60]
[null,null,null,null,null,null,null,"بافت انتخابی کلاه",{"$f":"OFFSET(AJ6,I52,6)","v":"ساده "},null,"بافت انتخابی جلو شلوار",{"$f":"OFFSET(AJ6,L52,6)","v":"ساده "},null,"بافت انتخابی پشت شلوار",{"$f":"OFFSET(AJ6,O52,6)","v":"ساده "},null,null,null,null,null,null,null,null,null,null,null,null,null,null,null,null,null,null,{"$error":"#DIV/0!"},0,{"$f":"IF(AM53=0,\"  \",(10/3)*((AM53/AL53)*(1/J6)-1))","v":"  "},{"$f":"IF(AN53=0,\"  \",(100/68)*((AO53/AN53)*(1/J7)-1))","v":"  "},13.5,0,0,36,null,47,null,"  ","  ","  ",null,null,null,null,null,null,null,null,null,null,null,null,null,null,null,null,null,null,null,null,null,null,null,null,null,null,null,null,null,null,null,null,null,null,null,null,null,null,null,null,null,null,null,null,null,null,null,null,null,null,null,null,null,null,null,null,null,null,null,null,null,null,null,null,null,null,null,null,null,null,null,null,null,null,null,null,null,null,null,null,null,null,null,null,null,null,null,null,null,null,null,null,null,null,null,null,null,null,null,null,null,null,null,null,null,null,null,null,null,null,null,null,null,null,null,null,null,null,{"$f":"FJ19","v":21.7},{"$f":"FG46+'طراحی همه الگوها'!U271","v":7.8000000000000007},26,null,null,null,null,null,{"$f":"FR51","v":10.7},{"$f":"FS51","v":25.365691432475337},"41 شبیه ساز",null,null,null,null,null,null,null,null,null,null,null,null,null,null,null,null,null,null,null,null,null,null,null,null,null,null,null,null,null,null,null,null,null,null,null,null,null,null,null,null,null,null,null,null,null,null,{"$f":"-HK53+HP9","v":0},0,null,null,null,null,null,null,null,null,null,null,null,null,null,null,null,null,null,null,null,null,null,null,null,null,null,null,null,null,null,null,null,null,null,null,null,null,null,null,null,null,null,null,null,null,null,null,null,null,null,null,null,null,null,null,null,null,null,null,null,null,null,null,null,null,null,null,null,null,null,null,null,null,null,null,null,null,null,null,null,null,null,null,null,null,null,null,null,null,null,null,null,null,null,null,null,null,null,null,null,null,null,null,null,null,null,null,null,null,null,null,null,null,null,null,null,null,null,null,null,null,null,null,null,null,null,null,null,null,null,null,null,null,null,null,null,null,null,null,null,null,null,null,null,null,null,null,null,null,null,null,null,null,null,null,null,null,null,null,null,null,{"$f":"NU51","v":-3.6093750000000036},{"$f":"NV52","v":{"$error":"#VALUE!"}},"w4",null,"نقطه شروع رج(چپ)","مولفه افقی","مولفه عمودی",null,null,null,null,"m30",0.25,"فاصله فلش کم کردن",null,"f2",{"$f":"OK52+1*OK50","v":-31.940782182438195},{"$f":"OL52-OK49*OK50","v":5.6767263427109977},{"$f":"OK52","v":-32.520833333333336},{"$f":"OL52","v":5.9667519181585682},{"$f":"OJ52","v":"m5"},null,"m30",{"$f":"OG53","v":0.25},"فاصله فلش کم کردن",null,"f2",{"$f":"OV52+1*OV50","v":-32.064740515771533},{"$f":"OW52-OV49*OV50","v":5.6767263427109977},{"$f":"OV52","v":-32.64479166666667},{"$f":"OW52","v":5.9667519181585682},{"$f":"OU52","v":"m5"},null,"n60",0.75,"فاصله فلش کم کردن",null,"f2",{"$f":"PG52+1*PG50","v":-31.011094682438191},{"$f":"PH52-PG49*PG50","v":5.6767263427109977},{"$f":"PG52","v":-31.591145833333332},{"$f":"PH52","v":5.9667519181585682},{"$f":"PF52","v":"n6"},null,"n60",0.4,"فاصله فلش کم کردن",null,"f2",{"$f":"PR52+1*PR50","v":-30.639219682438192},{"$f":"PS52-PR49*PR50","v":5.6767263427109977},{"$f":"PR52","v":-31.219270833333333},{"$f":"PS52","v":5.9667519181585682},{"$f":"PQ52","v":"n6"},null,{"$f":"PX49","v":-45},{"$f":"PY51","v":23.571428571428569},"t25",null,"g7",{"$f":"QC48+0.7*QD45*SIN(RADIANS(30)-2*ATAN((QC48-QC51)/(QD48-QD51+0.0001)))","v":-48.699016253334193},{"$f":"QD48-0.7*QD45*COS(RADIANS(30)-2*ATAN((QC48-QC51)/(QD48-QD51+0.0001)))","v":10.03786989006514},{"$f":"QC48","v":-48.993499999999997},{"$f":"QD48","v":10.30857142857143},{"$f":"QB48","v":"g11"},null,-4.4446293654002487,41.002754764071852,"28پ ق",null,null,null,null,null,{"$f":"2*QQ15-QQ52","v":-26.074562584220409},{"$f":"QR52","v":4.6887268314077648},"k43",null,null,null,null,{"$f":"QQ67","v":-24.332000000000001},{"$f":"QR67","v":14.470519900169499},"k57",null,"p51",0.7,"فاصله فلش کم کردن",null,"f2",{"$f":"RG52+1*RG50","v":-32.159532182438198},{"$f":"RH52-RG49*RG50","v":5.6767263427109977},{"$f":"RG52","v":-32.739583333333336},{"$f":"RH52","v":5.9667519181585682},{"$f":"RF52","v":"p6"},null,{"$f":"RM40+65*RN28","v":83.506944444444443},{"$f":"RN40","v":-20},65,null,{"$f":"IF(RN26>(RM49-RM40),RM49,RM40)","v":0},{"$f":"IF(RN26>(RM49-RM40),RN49,RN40)","v":-20},45,null,{"$f":"RU40+65*RV31","v":14.782608695652172},{"$f":"RV40","v":0},65,null,{"$f":"IF(RV27>(RU49-RU40),RU49,RU40)","v":-40},{"$f":"IF(RV27>(RU49-RU40),RV49,RV40)","v":0},45,null,{"$f":"IF(RV27>(RU74-RU40),RU74,RU40)","v":-29.88628762541806},{"$f":"IF(RV27>(RU74-RU40),RV74,RV40)","v":0},12,null,{"$f":"SG40+65*SH28","v":83.506944444444443},{"$f":"SH40","v":-20},65,null,{"$f":"IF(SH26>(SG49-SG40),SG49,SG40)","v":0},{"$f":"IF(SH26>(SG49-SG40),SH49,SH40)","v":-20},45,null,{"$f":"SO40+65*SP31","v":14.782608695652172},{"$f":"SP40","v":0},65,null,{"$f":"IF(SP27>(SO49-SO40),SO49,SO40)","v":-40},{"$f":"IF(SP27>(SO49-SO40),SP49,SP40)","v":0},45,null,{"$f":"IF(SP27>(SO74-SO40),SO74,SO40)","v":-29.88628762541806},{"$f":"IF(SP27>(SO74-SO40),SP74,SP40)","v":0},12,null,{"$f":"TA40+65*TB28","v":78.993055555555557},{"$f":"TB40","v":-20},65,null,{"$f":"IF(TB26>(TA49-TA40),TA49,TA40)","v":0},{"$f":"IF(TB26>(TA49-TA40),TB49,TB40)","v":-20},45,null,{"$f":"TI40+65*TJ31","v":13.413043478260882},{"$f":"TJ40","v":0},65,null,{"$f":"IF(TJ27>(TI49-TI40),TI49,TI40)","v":-40},{"$f":"IF(TJ27>(TI49-TI40),TJ49,TJ40)","v":0},45,null,{"$f":"IF(TJ27>(TI74-TI40),TI74,TI40)","v":-30.139130434782608},{"$f":"IF(TJ27>(TI74-TI40),TJ74,TJ40)","v":0},12,null,{"$f":"TU40+65*TV28","v":78.993055555555557},{"$f":"TV40","v":-20},65,null,{"$f":"IF(TV26>(TU49-TU40),TU49,TU40)","v":0},{"$f":"IF(TV26>(TU49-TU40),TV49,TV40)","v":-20},45,null,{"$f":"UC40+65*UD31","v":13.413043478260882},{"$f":"UD40","v":0},65,null,{"$f":"IF(UD27>(UC49-UC40),UC49,UC40)","v":-40},{"$f":"IF(UD27>(UC49-UC40),UD49,UD40)","v":0},45,null,{"$f":"IF(UD27>(UC74-UC40),UC74,UC40)","v":-30.139130434782608},{"$f":"IF(UD27>(UC74-UC40),UD74,UD40)","v":0},12,null,{"$f":"UO40+65*UP28","v":83.506944444444443},{"$f":"UP40","v":-20},65,null,{"$f":"IF(UP26>(UO49-UO40),UO49,UO40)","v":0},{"$f":"IF(UP26>(UO49-UO40),UP49,UP40)","v":-20},45,null,{"$f":"UW40+65*UX31","v":14.782608695652172},{"$f":"UX40","v":0},65,null,{"$f":"IF(UX27>(UW49-UW40),UW49,UW40)","v":-40},{"$f":"IF(UX27>(UW49-UW40),UX49,UX40)","v":0},45,null,{"$f":"IF(UX27>(UW74-UW40),UW74,UW40)","v":-29.88628762541806},{"$f":"IF(UX27>(UW74-UW40),UX74,UX40)","v":0},12,null,{"$f":"VI40+65*VJ28","v":83.506944444444443},{"$f":"VJ40","v":-20},65,null,{"$f":"IF(VJ26>(VI49-VI40),VI49,VI40)","v":0},{"$f":"IF(VJ26>(VI49-VI40),VJ49,VJ40)","v":-20},45,null,{"$f":"VQ40+65*VR31","v":14.782608695652172},{"$f":"VR40","v":0},65,null,{"$f":"IF(VR27>(VQ49-VQ40),VQ49,VQ40)","v":-40},{"$f":"IF(VR27>(VQ49-VQ40),VR49,VR40)","v":0},45,null,{"$f":"IF(VR27>(VQ74-VQ40),VQ74,VQ40)","v":-29.88628762541806},{"$f":"IF(VR27>(VQ74-VQ40),VR74,VR40)","v":0},12]
[null,null,null,null,null,null,null,null,null,null,null,null,null,null,null,null,null,null,null,null,null,null,null,null,null,null,null,null,null,null,null,null,null,{"$error":"#DIV/0!"},0,{"$f":"IF(AM54=0,\"  \",(10/3)*((AM54/AL54)*(1/J6)-1))","v":"  "},{"$f":"IF(AN54=0,\"  \",(100/68)*((AO54/AN54)*(1/J7)-1))","v":"  "},13.5,0,0,36,null,48,null,"  ","  ","  ",null,null,null,null,null,null,null,null,null,null,null,null,null,null,null,null,null,null,null,null,null,null,null,null,null,null,null,null,null,null,null,null,null,null,null,null,null,null,null,null,null,null,null,null,null,null,null,null,null,null,null,null,null,null,null,null,null,null,null,null,null,null,null,null,null,null,null,null,null,null,null,null,null,null,null,null,null,null,null,null,null,null,null,null,null,null,null,null,null,null,null,null,null,null,null,null,null,null,null,null,null,null,null,null,null,null,{"$f":"EP29","v":0},{"$f":"EQ29","v":57.8},1,null,null,null,null,null,null,null,null,null,{"$f":"FF46+'طراحی همه الگوها'!U260","v":27.1},{"$f":"FG46+'طراحی همه الگوها'!U261","v":9.8000000000000007},17,null,null,null,null,null,{"$f":"FO31","v":0},{"$f":"FP31","v":25.365691432475337},"s''12",null,null,null,null,null,null,null,null,null,null,null,null,null,null,null,null,null,null,null,null,null,null,null,null,null,null,null,null,null,null,null,null,null,null,null,null,null,null,null,null,null,null,null,null,null,null,{"$f":"-HK54+HP9","v":0},0,null,null,null,null,null,null,null,null,null,null,null,null,null,null,null,null,null,null,null,null,null,null,null,null,null,null,null,null,null,null,null,null,null,null,null,null,null,null,null,null,null,null,null,null,null,null,null,null,null,null,null,null,null,null,null,null,null,null,null,null,null,null,null,null,null,null,null,null,null,null,null,null,null,null,null,null,null,null,null,null,null,null,null,null,null,null,null,null,null,null,null,null,null,null,null,null,null,null,null,null,null,null,null,null,null,null,null,null,null,null,null,null,null,null,null,null,null,null,null,null,null,null,null,null,null,null,null,null,null,null,null,null,null,null,null,null,null,null,null,null,null,null,null,null,null,null,null,null,null,null,null,null,null,null,null,null,null,null,null,null,{"$f":"NU51","v":-3.6093750000000036},{"$f":"NV32+NV34","v":6.3695652173913047},"w5",null,"w8",{"$f":"NU57","v":-35},{"$f":"NV57","v":6.3695652173913047},{"$f":"NZ61","v":-21.779687500000001},{"$f":"OA61","v":6.6195652173913047},{"$f":"NY61","v":"h10"},null,"m40",0.35,"فاصله فلش کم کردن",null,"f3",{"$f":"OK53","v":-31.940782182438195},{"$f":"OL52+OK49*OK50","v":6.2567774936061387},{"$f":"OK53","v":-31.940782182438195},{"$f":"OL53","v":5.6767263427109977},{"$f":"OJ53","v":"f2"},null,"m40",{"$f":"OG54","v":0.35},"فاصله فلش کم کردن",null,"f3",{"$f":"OV53","v":-32.064740515771533},{"$f":"OW52+OV49*OV50","v":6.2567774936061387},{"$f":"OV53","v":-32.064740515771533},{"$f":"OW53","v":5.6767263427109977},{"$f":"OU53","v":"f2"},null,"n61",0.03,"فاصله فلش کم کردن",null,"f3",{"$f":"PG53","v":-31.011094682438191},{"$f":"PH52+PG49*PG50","v":6.2567774936061387},{"$f":"PG53","v":-31.011094682438191},{"$f":"PH53","v":5.6767263427109977},{"$f":"PF53","v":"f2"},null,"n61",0.11,"فاصله فلش کم کردن",null,"f3",{"$f":"PR53","v":-30.639219682438192},{"$f":"PS52+PR49*PR50","v":6.2567774936061387},{"$f":"PR53","v":-30.639219682438192},{"$f":"PS53","v":5.6767263427109977},{"$f":"PQ53","v":"f2"},null,{"$f":"PX50","v":-38.5},{"$f":"PY51","v":23.571428571428569},"t26",null,"g8",{"$f":"QC48-0.7*QD45*SIN(RADIANS(30)-ATAN((QC48-QC51)/(QD48-QD51+0.0001)))","v":-49.243622955421095},{"$f":"QD48-0.7*QD45*COS(RADIANS(30)-ATAN((QC48-QC51)/(QD48-QD51+0.0001)))","v":9.9964200115132726},{"$f":"QC53","v":-48.699016253334193},{"$f":"QD53","v":10.03786989006514},{"$f":"QB53","v":"g7"},null,-2.3704689948801323,40.551110356977631,"26پ ق",null,{"$f":"QM52","v":-8.032},{"$f":"QN52-3","v":29.888726831407766},"26'**",null,{"$f":"QQ15+QR7+4*QR8","v":-14.132},{"$f":"QR15","v":7.8887268314077659},"k44",null,null,null,null,{"$f":"QQ65","v":-28.132000000000001},{"$f":"QR65","v":7.8887268314077659},"k55",null,"p52",0.5,"فاصله فلش کم کردن",null,"f3",{"$f":"RG53","v":-32.159532182438198},{"$f":"RH52+RG49*RG50","v":6.2567774936061387},{"$f":"RG53","v":-32.159532182438198},{"$f":"RH53","v":5.6767263427109977},{"$f":"RF53","v":"f2"},null,{"$f":"RM40+70*RN28","v":89.930555555555543},{"$f":"RN40","v":-20},70,null,{"$f":"RQ53","v":0},{"$f":"RN38","v":-40.22742474916388},null,null,{"$f":"RU40+70*RV31","v":18.996655518394647},{"$f":"RV40","v":0},70,null,{"$f":"RY53","v":-40},{"$f":"RV38","v":10.277777777777777},null,null,{"$f":"SC53","v":-29.88628762541806},{"$f":"RV38","v":10.277777777777777},null,null,{"$f":"SG40+70*SH28","v":89.930555555555543},{"$f":"SH40","v":-20},70,null,{"$f":"SK53","v":0},{"$f":"SH38","v":-40.22742474916388},null,null,{"$f":"SO40+70*SP31","v":18.996655518394647},{"$f":"SP40","v":0},70,null,{"$f":"SS53","v":-40},{"$f":"SP38","v":10.277777777777777},null,null,{"$f":"SW53","v":-29.88628762541806},{"$f":"SP38","v":10.277777777777777},null,null,{"$f":"TA40+70*TB28","v":85.069444444444457},{"$f":"TB40","v":-20},70,null,{"$f":"TE53","v":0},{"$f":"TB38","v":-39.721739130434784},null,null,{"$f":"TI40+70*TJ31","v":17.521739130434796},{"$f":"TJ40","v":0},70,null,{"$f":"TM53","v":-40},{"$f":"TJ38","v":9.7222222222222232},null,null,{"$f":"TQ53","v":-30.139130434782608},{"$f":"TJ38","v":9.7222222222222232},null,null,{"$f":"TU40+70*TV28","v":85.069444444444457},{"$f":"TV40","v":-20},70,null,{"$f":"TY53","v":0},{"$f":"TV38","v":-39.721739130434784},null,null,{"$f":"UC40+70*UD31","v":17.521739130434796},{"$f":"UD40","v":0},70,null,{"$f":"UG53","v":-40},{"$f":"UD38","v":9.7222222222222232},null,null,{"$f":"UK53","v":-30.139130434782608},{"$f":"UD38","v":9.7222222222222232},null,null,{"$f":"UO40+70*UP28","v":89.930555555555543},{"$f":"UP40","v":-20},70,null,{"$f":"US53","v":0},{"$f":"UP38","v":-40.22742474916388},null,null,{"$f":"UW40+70*UX31","v":18.996655518394647},{"$f":"UX40","v":0},70,null,{"$f":"VA53","v":-40},{"$f":"UX38","v":10.277777777777777},null,null,{"$f":"VE53","v":-29.88628762541806},{"$f":"UX38","v":10.277777777777777},null,null,{"$f":"VI40+70*VJ28","v":89.930555555555543},{"$f":"VJ40","v":-20},70,null,{"$f":"VM53","v":0},{"$f":"VJ38","v":-40.22742474916388},null,null,{"$f":"VQ40+70*VR31","v":18.996655518394647},{"$f":"VR40","v":0},70,null,{"$f":"VU53","v":-40},{"$f":"VR38","v":10.277777777777777},null,null,{"$f":"VY53","v":-29.88628762541806},{"$f":"VR38","v":10.277777777777777}]
[null,null,null,null,null,null,null,null,null,null,null,null,null,null,null,null,null,null,null,null,null,null,null,null,null,null,null,null,null,null,null,null,null,{"$error":"#DIV/0!"},0,{"$f":"IF(AM55=0,\"  \",(10/3)*((AM55/AL55)*(1/J6)-1))","v":"  "},{"$f":"IF(AN55=0,\"  \",(100/68)*((AO55/AN55)*(1/J7)-1))","v":"  "},13.5,0,0,36,null,49,null,"  ","  ","  ",null,null,null,null,null,null,null,null,null,null,null,null,null,null,null,null,null,null,null,null,null,null,null,null,null,null,null,null,null,null,null,null,null,null,null,null,null,null,null,null,null,null,null,null,null,null,null,null,null,null,null,null,null,null,null,null,null,null,null,null,null,null,null,null,null,null,null,null,null,null,null,null,null,null,null,null,null,null,null,null,null,null,null,null,null,null,null,null,null,null,null,null,null,null,null,null,null,null,null,null,null,null,null,null,null,null,{"$f":"EP31","v":3},{"$f":"EQ31","v":0},5,null,null,null,null,null,null,null,null,null,null,null,null,null,null,null,null,null,null,null,null,null,null,null,null,null,null,null,null,null,null,null,null,null,null,null,null,null,null,null,null,null,null,null,null,null,null,null,null,null,null,null,null,null,null,null,null,null,null,null,null,null,null,null,null,null,null,{"$f":"-HK55+HP9","v":0},0,null,null,null,null,null,null,null,null,null,null,null,null,null,null,null,null,null,null,null,null,null,null,null,null,null,null,null,null,null,null,null,null,null,null,null,null,null,null,null,null,null,null,null,null,null,null,null,null,null,null,null,null,null,null,null,null,null,null,null,null,null,null,null,null,null,null,null,null,null,null,null,null,null,null,null,null,null,null,null,null,null,null,null,null,null,null,null,null,null,null,null,null,null,null,null,null,null,null,null,null,null,null,null,null,null,null,null,null,null,null,null,null,null,null,null,null,null,null,null,null,null,null,null,null,null,null,null,null,null,null,null,null,null,null,null,null,null,null,null,null,null,null,null,null,null,null,null,null,null,null,null,null,null,null,null,null,null,null,null,null,{"$f":"NV31+0.1*(NU51-NV31)","v":-31.860937499999999},{"$f":"NV32","v":5},"w6",null,"نقطه پایان رج(راست)","مولفه افقی","مولفه عمودی",{"$f":"NZ64","v":-16.829687499999999},{"$f":"OA64","v":6.6195652173913047},{"$f":"NY64","v":"h13"},null,"m50",0.42,"فاصله فلش کم کردن",null,null,null,null,null,null,null,null,"m50",{"$f":"OG55","v":0.42},"فاصله فلش کم کردن",null,null,null,null,null,null,null,null,"n62",0.4,"فاصله فلش کم کردن",null,null,null,null,null,null,null,null,"n62",0.3,"فاصله فلش کم کردن",null,null,null,null,null,null,null,null,{"$f":"PX34-1","v":-49.5},{"$f":"PY51+2","v":25.571428571428569},"t27",null,null,null,null,null,null,null,null,0,40.400562221279557,"24پ ق",null,null,null,null,null,{"$f":"2*QQ15-QQ54","v":-26.932000000000002},{"$f":"QR54","v":7.8887268314077659},"k45",null,null,null,null,{"$f":"QQ53","v":-26.074562584220409},{"$f":"QR53","v":4.6887268314077648},"k43",null,"p53",0.4,"فاصله فلش کم کردن",null,null,null,null,null,null,null,null,{"$f":"RM40+75*RN28","v":96.354166666666657},{"$f":"RN40","v":-20},75,null,null,null,null,null,{"$f":"RU40+75*RV31","v":23.210702341137122},{"$f":"RV40","v":0},75,null,null,null,null,null,null,null,null,null,{"$f":"SG40+75*SH28","v":96.354166666666657},{"$f":"SH40","v":-20},75,null,null,null,null,null,{"$f":"SO40+75*SP31","v":23.210702341137122},{"$f":"SP40","v":0},75,null,null,null,null,null,null,null,null,null,{"$f":"TA40+75*TB28","v":91.145833333333343},{"$f":"TB40","v":-20},75,null,null,null,null,null,{"$f":"TI40+75*TJ31","v":21.63043478260871},{"$f":"TJ40","v":0},75,null,null,null,null,null,null,null,null,null,{"$f":"TU40+75*TV28","v":91.145833333333343},{"$f":"TV40","v":-20},75,null,null,null,null,null,{"$f":"UC40+75*UD31","v":21.63043478260871},{"$f":"UD40","v":0},75,null,null,null,null,null,null,null,null,null,{"$f":"UO40+75*UP28","v":96.354166666666657},{"$f":"UP40","v":-20},75,null,null,null,null,null,{"$f":"UW40+75*UX31","v":23.210702341137122},{"$f":"UX40","v":0},75,null,null,null,null,null,null,null,null,null,{"$f":"VI40+75*VJ28","v":96.354166666666657},{"$f":"VJ40","v":-20},75,null,null,null,null,null,{"$f":"VQ40+75*VR31","v":23.210702341137122},{"$f":"VR40","v":0},75]
[null,null,null,null,null,null,null,null,null,null,null,null,null,null,null,null,null,null,null,null,null,null,null,null,null,null,null,null,null,null,null,null,null,{"$error":"#DIV/0!"},0,{"$f":"IF(AM56=0,\"  \",(10/3)*((AM56/AL56)*(1/J6)-1))","v":"  "},{"$f":"IF(AN56=0,\"  \",(100/68)*((AO56/AN56)*(1/J7)-1))","v":"  "},13.5,0,0,36,null,50,null,"  ","  ","  ",null,null,null,null,null,null,null,null,null,null,null,null,null,null,null,null,null,null,null,null,null,null,null,null,null,null,null,null,null,null,null,null,null,null,null,null,null,null,null,null,null,null,null,null,null,null,null,null,null,null,null,null,null,null,null,null,null,null,null,null,null,null,null,null,null,null,null,null,null,null,null,null,null,null,null,null,null,null,null,null,null,null,null,null,null,null,null,null,null,null,null,null,null,null,null,null,null,null,null,null,null,null,null,null,null,null,null,null,null,null,null,null,null,null,null,null,null,null,null,null,null,null,null,null,null,null,null,null,null,null,null,null,null,null,null,null,null,null,null,null,null,null,null,null,null,null,null,null,null,null,null,null,null,null,null,null,null,null,null,null,null,null,null,null,null,null,null,null,null,null,null,null,null,null,null,{"$f":"-HK56+HP9","v":0},0,null,null,null,null,null,null,null,null,null,null,null,null,null,null,null,null,null,null,null,null,null,null,null,null,null,null,null,null,null,null,null,null,null,null,null,null,null,null,null,null,null,null,null,null,null,null,null,null,null,null,null,null,null,null,null,null,null,null,null,null,null,null,null,null,null,null,null,null,null,null,null,null,null,null,null,null,null,null,null,null,null,null,null,null,null,null,null,null,null,null,null,null,null,null,null,null,null,null,null,null,null,null,null,null,null,null,null,null,null,null,null,null,null,null,null,null,null,null,null,null,null,null,null,null,null,null,null,null,null,null,null,null,null,null,null,null,null,null,null,null,null,null,null,null,null,null,null,null,null,null,null,null,null,null,null,null,null,null,null,null,{"$f":"NU57+0.1*(NU54-NU57)","v":-31.860937499999999},{"$f":"NV54","v":6.3695652173913047},"w7",null,"w5",{"$f":"NU54","v":-3.6093750000000036},{"$f":"NV54","v":6.3695652173913047},null,null,null,null,null,{"$f":"S17","v":3.1031746031746033}," ea0 تعداد رج در یک سانت",null,"نسبت سایز افقی",{"$f":"OG38","v":42},"انحنا راستگرد ",null,null,{"$f":"OL56","v":"انحنا راستگرد "},null,null,{"$f":"S17","v":3.1031746031746033}," ea0 تعداد رج در یک سانت",null,"نسبت سایز افقی",{"$f":"OR38","v":42},"انحنا راستگرد ",null,null,{"$f":"OW56","v":"انحنا راستگرد "},null,null,null,null,null,"بزرگی خط عمودی دانه",{"$f":"PC43","v":0.30000000000000004},"f9",null,null,"فلش به سمت بالا",null,null,null,null,null,"بزرگی خط عمودی دانه",{"$f":"PN43","v":0.30000000000000004},"f9",null,null,"فلش به سمت بالا",null,{"$f":"PX35+4","v":-32.5},{"$f":"PY55","v":25.571428571428569},"t28",null,null,null,null,{"$f":"PX38","v":-48.5},10.714285714285715,"t10",null,null,null,null,null,{"$f":"QM52","v":-8.032},{"$f":"QN54-3","v":26.888726831407766},"26'***",null,{"$f":"QQ15+(QR7+4*QR8)*SIN(RADIANS(30))","v":-17.332000000000001},{"$f":"QR15+(QR7+4*QR8)*COS(RADIANS(30))","v":13.431289415628175},"k46",null,null,null,null,{"$f":"QQ69","v":-23.131999999999998},{"$f":"QR69","v":3.3853947317286845},"k59",null,"p54",0.6,"فاصله فلش کم کردن",null,"نسبت سایز افقی",{"$f":"RC38","v":42},"انحنا راستگرد ",null,null,{"$f":"RH56","v":"انحنا راستگرد "},null,{"$f":"RM40+80*RN28","v":102.77777777777777},{"$f":"RN40","v":-20},80,null,{"$f":"IF(RN26>(RM50-RM40),RM50,RM40)","v":0},{"$f":"IF(RN26>(RM50-RM40),RN50,RN40)","v":-20},50,null,{"$f":"RU40+80*RV31","v":27.424749163879596},{"$f":"RV40","v":0},80,null,{"$f":"IF(RV27>(RU50-RU40),RU50,RU40)","v":-40},{"$f":"IF(RV27>(RU50-RU40),RV50,RV40)","v":0},50,null,{"$f":"IF(RV27>(RU75-RU40),RU75,RU40)","v":-29.043478260869563},{"$f":"IF(RV27>(RU75-RU40),RV75,RV40)","v":0},13,null,{"$f":"SG40+80*SH28","v":102.77777777777777},{"$f":"SH40","v":-20},80,null,{"$f":"IF(SH26>(SG50-SG40),SG50,SG40)","v":0},{"$f":"IF(SH26>(SG50-SG40),SH50,SH40)","v":-20},50,null,{"$f":"SO40+80*SP31","v":27.424749163879596},{"$f":"SP40","v":0},80,null,{"$f":"IF(SP27>(SO50-SO40),SO50,SO40)","v":-40},{"$f":"IF(SP27>(SO50-SO40),SP50,SP40)","v":0},50,null,{"$f":"IF(SP27>(SO75-SO40),SO75,SO40)","v":-29.043478260869563},{"$f":"IF(SP27>(SO75-SO40),SP75,SP40)","v":0},13,null,{"$f":"TA40+80*TB28","v":97.222222222222229},{"$f":"TB40","v":-20},80,null,{"$f":"IF(TB26>(TA50-TA40),TA50,TA40)","v":0},{"$f":"IF(TB26>(TA50-TA40),TB50,TB40)","v":-20},50,null,{"$f":"TI40+80*TJ31","v":25.739130434782624},{"$f":"TJ40","v":0},80,null,{"$f":"IF(TJ27>(TI50-TI40),TI50,TI40)","v":-40},{"$f":"IF(TJ27>(TI50-TI40),TJ50,TJ40)","v":0},50,null,{"$f":"IF(TJ27>(TI75-TI40),TI75,TI40)","v":-29.317391304347822},{"$f":"IF(TJ27>(TI75-TI40),TJ75,TJ40)","v":0},13,null,{"$f":"TU40+80*TV28","v":97.222222222222229},{"$f":"TV40","v":-20},80,null,{"$f":"IF(TV26>(TU50-TU40),TU50,TU40)","v":0},{"$f":"IF(TV26>(TU50-TU40),TV50,TV40)","v":-20},50,null,{"$f":"UC40+80*UD31","v":25.739130434782624},{"$f":"UD40","v":0},80,null,{"$f":"IF(UD27>(UC50-UC40),UC50,UC40)","v":-40},{"$f":"IF(UD27>(UC50-UC40),UD50,UD40)","v":0},50,null,{"$f":"IF(UD27>(UC75-UC40),UC75,UC40)","v":-29.317391304347822},{"$f":"IF(UD27>(UC75-UC40),UD75,UD40)","v":0},13,null,{"$f":"UO40+80*UP28","v":102.77777777777777},{"$f":"UP40","v":-20},80,null,{"$f":"IF(UP26>(UO50-UO40),UO50,UO40)","v":0},{"$f":"IF(UP26>(UO50-UO40),UP50,UP40)","v":-20},50,null,{"$f":"UW40+80*UX31","v":27.424749163879596},{"$f":"UX40","v":0},80,null,{"$f":"IF(UX27>(UW50-UW40),UW50,UW40)","v":-40},{"$f":"IF(UX27>(UW50-UW40),UX50,UX40)","v":0},50,null,{"$f":"IF(UX27>(UW75-UW40),UW75,UW40)","v":-29.043478260869563},{"$f":"IF(UX27>(UW75-UW40),UX75,UX40)","v":0},13,null,{"$f":"VI40+80*VJ28","v":102.77777777777777},{"$f":"VJ40","v":-20},80,null,{"$f":"IF(VJ26>(VI50-VI40),VI50,VI40)","v":0},{"$f":"IF(VJ26>(VI50-VI40),VJ50,VJ40)","v":-20},50,null,{"$f":"VQ40+80*VR31","v":27.424749163879596},{"$f":"VR40","v":0},80,null,{"$f":"IF(VR27>(VQ50-VQ40),VQ50,VQ40)","v":-40},{"$f":"IF(VR27>(VQ50-VQ40),VR50,VR40)","v":0},50,null,{"$f":"IF(VR27>(VQ75-VQ40),VQ75,VQ40)","v":-29.043478260869563},{"$f":"IF(VR27>(VQ75-VQ40),VR75,VR40)","v":0},13]
[null,null,null,null,null,null,null,null,null,null,null,null,null,null,null,null,null,null,null,null,null,null,null,null,null,null,null,null,null,null,null,null,null,{"$error":"#DIV/0!"},0,{"$f":"IF(AM57=0,\"  \",(10/3)*((AM57/AL57)*(1/J6)-1))","v":"  "},{"$f":"IF(AN57=0,\"  \",(100/68)*((AO57/AN57)*(1/J7)-1))","v":"  "},13.5,0,0,36,null,51,null,"  ","  ","  ",null,null,null,null,null,null,null,null,null,null,null,null,null,null,null,null,null,null,null,null,null,null,null,null,null,null,null,null,null,null,null,null,null,null,null,null,null,null,null,null,null,null,null,null,null,null,null,null,null,null,null,null,null,null,null,null,null,null,null,null,null,null,null,null,null,null,null,null,null,null,null,null,null,null,null,null,null,null,null,null,null,null,null,null,null,null,null,null,null,null,null,null,null,null,null,null,null,null,null,null,null,null,null,null,null,null,null,null,null,null,null,null,null,null,null,null,null,null,null,null,null,null,null,null,null,null,null,null,null,null,null,null,null,null,null,null,null,null,null,null,null,null,null,null,null,null,null,null,null,null,null,null,null,null,null,null,null,null,null,null,null,null,null,null,null,null,null,null,null,null,null,null,null,null,null,{"$f":"-HK57+HP9","v":0},0,null,null,null,null,null,null,null,null,null,null,null,null,null,null,null,null,null,null,null,null,null,null,null,null,null,null,null,null,null,null,null,null,null,null,null,null,null,null,null,null,null,null,null,null,null,null,null,null,null,null,null,null,null,null,null,null,null,null,null,null,null,null,null,null,null,null,null,null,null,null,null,null,null,null,null,null,null,null,null,null,null,null,null,null,null,null,null,null,null,null,null,null,null,null,null,null,null,null,null,null,null,null,null,null,null,null,null,null,null,null,null,null,null,null,null,null,null,null,null,null,null,null,null,null,null,null,null,null,null,null,null,null,null,null,null,null,null,null,null,null,null,null,null,null,null,null,null,null,null,null,null,null,null,null,null,null,null,null,null,null,{"$f":"NV31","v":-35},{"$f":"NV54","v":6.3695652173913047},"w8",null,"نقاط خروجی","مولفه افقی","مولفه عمودی",{"$f":"NZ62","v":-21.779687500000001},{"$f":"OA62","v":6.1195652173913047},{"$f":"NY62","v":"h11"},null,null,{"$f":"S18","v":1.6941176470588237},"تعداد دانه در یک سانت eb0 ",null,"ارتفاع نیم دایره",{"$f":"OG49","v":0.96675191815856776},"بزرگی فلش",{"$f":"OK60","v":-35},{"$f":"OL60","v":5.9667519181585682},{"$f":"OJ60","v":"m6"},null,null,{"$f":"S18","v":1.6941176470588237},"تعداد دانه در یک سانت eb0 ",null,"ارتفاع نیم دایره",{"$f":"OR49","v":0.96675191815856776},"بزرگی فلش",{"$f":"OV60","v":-35},{"$f":"OW60","v":5.9667519181585682},{"$f":"OU60","v":"m6"},null,null,null,null,null,"بزرگی فلش دانه",{"$f":"PC44","v":0.4},"f10",{"$f":"PG64","v":-34.690104166666671},{"$f":"PH64","v":6.5667519181585678},{"$f":"PF64","v":"f8"},null,null,null,null,null,"بزرگی فلش دانه",{"$f":"PN44","v":0.4},"f10",{"$f":"PR64","v":-35},{"$f":"PS64","v":6.5667519181585678},{"$f":"PQ64","v":"f8"},null,{"$f":"PX56","v":-32.5},{"$f":"PY56+2","v":27.571428571428569},"t29",null,null,null,null,-41.5,10.714285714285715,"t11",null,{"$f":"-QJ11+QJ5+(QI61-QI81)","v":-1.761623792275735E-3},"شیفت افقی",null,null,null,null,null,null,{"$f":"2*QQ15-QQ56","v":-23.731999999999999},{"$f":"QR56","v":13.431289415628175},"k47",null,null,null,null,{"$f":"QQ21","v":-21.22659271066772},{"$f":"QR21","v":3.9494958193589338},"k10",null,"p55",0.43,"فاصله فلش کم کردن",null,"ارتفاع نیم دایره",{"$f":"RC49","v":0.96675191815856776},"بزرگی فلش",{"$f":"RG60","v":-35},{"$f":"RH60","v":5.9667519181585682},{"$f":"RF60","v":"p5"},null,{"$f":"RM40+85*RN28","v":109.20138888888887},{"$f":"RN40","v":-20},85,null,{"$f":"RQ56","v":0},{"$f":"RN38","v":-40.22742474916388},null,null,{"$f":"RU40+85*RV31","v":31.638795986622071},{"$f":"RV40","v":0},85,null,{"$f":"RY56","v":-40},{"$f":"RV38","v":10.277777777777777},null,null,{"$f":"SC56","v":-29.043478260869563},{"$f":"RV38","v":10.277777777777777},null,null,{"$f":"SG40+85*SH28","v":109.20138888888887},{"$f":"SH40","v":-20},85,null,{"$f":"SK56","v":0},{"$f":"SH38","v":-40.22742474916388},null,null,{"$f":"SO40+85*SP31","v":31.638795986622071},{"$f":"SP40","v":0},85,null,{"$f":"SS56","v":-40},{"$f":"SP38","v":10.277777777777777},null,null,{"$f":"SW56","v":-29.043478260869563},{"$f":"SP38","v":10.277777777777777},null,null,{"$f":"TA40+85*TB28","v":103.29861111111113},{"$f":"TB40","v":-20},85,null,{"$f":"TE56","v":0},{"$f":"TB38","v":-39.721739130434784},null,null,{"$f":"TI40+85*TJ31","v":29.84782608695653},{"$f":"TJ40","v":0},85,null,{"$f":"TM56","v":-40},{"$f":"TJ38","v":9.7222222222222232},null,null,{"$f":"TQ56","v":-29.317391304347822},{"$f":"TJ38","v":9.7222222222222232},null,null,{"$f":"TU40+85*TV28","v":103.29861111111113},{"$f":"TV40","v":-20},85,null,{"$f":"TY56","v":0},{"$f":"TV38","v":-39.721739130434784},null,null,{"$f":"UC40+85*UD31","v":29.84782608695653},{"$f":"UD40","v":0},85,null,{"$f":"UG56","v":-40},{"$f":"UD38","v":9.7222222222222232},null,null,{"$f":"UK56","v":-29.317391304347822},{"$f":"UD38","v":9.7222222222222232},null,null,{"$f":"UO40+85*UP28","v":109.20138888888887},{"$f":"UP40","v":-20},85,null,{"$f":"US56","v":0},{"$f":"UP38","v":-40.22742474916388},null,null,{"$f":"UW40+85*UX31","v":31.638795986622071},{"$f":"UX40","v":0},85,null,{"$f":"VA56","v":-40},{"$f":"UX38","v":10.277777777777777},null,null,{"$f":"VE56","v":-29.043478260869563},{"$f":"UX38","v":10.277777777777777},null,null,{"$f":"VI40+85*VJ28","v":109.20138888888887},{"$f":"VJ40","v":-20},85,null,{"$f":"VM56","v":0},{"$f":"VJ38","v":-40.22742474916388},null,null,{"$f":"VQ40+85*VR31","v":31.638795986622071},{"$f":"VR40","v":0},85,null,{"$f":"VU56","v":-40},{"$f":"VR38","v":10.277777777777777},null,null,{"$f":"VY56","v":-29.043478260869563},{"$f":"VR38","v":10.277777777777777}]
[null,null,null,null,null,null,null,null,null,null,null,null,null,null,null,null,null,null,null,null,null,null,null,null,null,null,null,null,null,null,null,null,null,{"$error":"#DIV/0!"},0,{"$f":"IF(AM58=0,\"  \",(10/3)*((AM58/AL58)*(1/J6)-1))","v":"  "},{"$f":"IF(AN58=0,\"  \",(100/68)*((AO58/AN58)*(1/J7)-1))","v":"  "},13.5,0,0,36,null,52,null,"  ","  ","  ",null,null,null,null,null,null,null,null,null,null,null,null,null,null,null,null,null,null,null,null,null,null,null,null,null,null,null,null,null,null,null,null,null,null,null,null,null,null,null,null,null,null,null,null,null,null,null,null,null,null,null,null,null,null,null,null,null,null,null,null,null,null,null,null,null,null,null,null,null,null,null,null,null,null,null,null,null,null,null,null,null,null,null,null,null,null,null,null,null,null,null,null,null,null,null,null,null,null,null,null,null,null,null,null,null,null,null,null,null,null,null,null,null,null,null,null,null,null,null,null,null,null,null,null,null,null,null,null,null,null,null,null,null,null,null,null,null,null,null,null,null,null,null,null,null,null,null,null,null,null,null,null,null,null,null,null,null,null,null,null,null,null,null,null,null,null,null,null,null,null,null,null,null,null,null,{"$f":"-HK58+HP9","v":0},0,null,null,null,null,null,null,null,null,null,null,null,null,null,null,null,null,null,null,null,null,null,null,null,null,null,null,null,null,null,null,null,null,null,null,null,null,null,null,null,null,null,null,null,null,null,null,null,null,null,null,null,null,null,null,null,null,null,null,null,null,null,null,null,null,null,null,null,null,null,null,null,null,null,null,null,null,null,null,null,null,null,null,null,null,null,null,null,null,null,null,null,null,null,null,null,null,null,null,null,null,null,null,null,null,null,null,null,null,null,null,null,null,null,null,null,null,null,null,null,null,null,null,null,null,null,null,null,null,null,null,null,null,null,null,null,null,null,null,null,null,null,null,null,null,null,null,null,null,null,null,null,null,null,null,null,null,null,null,null,null,{"$f":"NU52+0.1*(NU53-NU52)","v":-31.860937499999999},{"$f":"NV52","v":{"$error":"#VALUE!"}},"w9",null,"h5",{"$f":"NZ54+0.5*(NZ56-NZ54)","v":-19.3046875},{"$f":"OA54","v":6.3695652173913047},{"$f":"NZ63","v":-16.829687499999999},{"$f":"OA63","v":6.1195652173913047},{"$f":"NY63","v":"h12"},null,null,{"$f":"IF(OG59<11,\" مخصوص \",F8)","v":4.5},"انتخاب ضخامت میل بافتنی   f1",null,"پهنای نیم دایره",{"$f":"OG40","v":0.5},{"$f":"OG51","v":0.5800511508951407},{"$f":"OK64","v":-35.3675},{"$f":"OL64","v":6.1020971867007674},{"$f":"OJ64","v":"g5"},null,null,{"$f":"IF(OR59<11,\" مخصوص \",F8)","v":4.5},"انتخاب ضخامت میل بافتنی   f1",null,"پهنای نیم دایره",{"$f":"OR40","v":0.5},{"$f":"OR51","v":0.5800511508951407},{"$f":"OV64","v":-35.3675},{"$f":"OW64","v":6.1020971867007674},{"$f":"OU64","v":"g5"},null,null,null,null,null,"زاویه فلش دانه",{"$f":"PC45","v":0.75},"f11",{"$f":"PG61","v":-34.690104166666671},{"$f":"PH61","v":5.9667519181585682},{"$f":"PF61","v":"n7"},null,null,null,null,null,"زاویه فلش دانه",{"$f":"PN45","v":0.75},"f11",{"$f":"PR61","v":-35},{"$f":"PS61","v":5.9667519181585682},{"$f":"PQ61","v":"n7"},null,{"$f":"PX55","v":-49.5},{"$f":"PY57","v":27.571428571428569},"t30",null,"زاویه فلش",{"$f":"PY10","v":0.5},"f5",null,null,"فلش به سمت راست",null,{"$f":"-QJ12+QJ6+(QJ61-QJ81)","v":-0.60535500122823294},"شیفت عمودی",null,null,{"$f":"QM52","v":-8.032},{"$f":"QN56-3","v":23.888726831407766},"26'****",null,{"$f":"QQ15","v":-20.532},{"$f":"QR15+QR7+4*QR8","v":14.288726831407766},"k48",null,null,null,null,null,null,null,null,null,null,null,null,"پهنای نیم دایره",{"$f":"RC40","v":0.5},{"$f":"RC51","v":0.5800511508951407},{"$f":"RG64","v":-35.3675},{"$f":"RH64","v":6.1020971867007674},{"$f":"RF64","v":"g5"},null,{"$f":"RM40+90*RN28","v":115.62499999999999},{"$f":"RN40","v":-20},90,null,null,null,null,null,{"$f":"RU40+90*RV31","v":35.852842809364546},{"$f":"RV40","v":0},90,null,null,null,null,null,null,null,null,null,{"$f":"SG40+90*SH28","v":115.62499999999999},{"$f":"SH40","v":-20},90,null,null,null,null,null,{"$f":"SO40+90*SP31","v":35.852842809364546},{"$f":"SP40","v":0},90,null,null,null,null,null,null,null,null,null,{"$f":"TA40+90*TB28","v":109.37500000000001},{"$f":"TB40","v":-20},90,null,null,null,null,null,{"$f":"TI40+90*TJ31","v":33.956521739130451},{"$f":"TJ40","v":0},90,null,null,null,null,null,null,null,null,null,{"$f":"TU40+90*TV28","v":109.37500000000001},{"$f":"TV40","v":-20},90,null,null,null,null,null,{"$f":"UC40+90*UD31","v":33.956521739130451},{"$f":"UD40","v":0},90,null,null,null,null,null,null,null,null,null,{"$f":"UO40+90*UP28","v":115.62499999999999},{"$f":"UP40","v":-20},90,null,null,null,null,null,{"$f":"UW40+90*UX31","v":35.852842809364546},{"$f":"UX40","v":0},90,null,null,null,null,null,null,null,null,null,{"$f":"VI40+90*VJ28","v":115.62499999999999},{"$f":"VJ40","v":-20},90,null,null,null,null,null,{"$f":"VQ40+90*VR31","v":35.852842809364546},{"$f":"VR40","v":0},90]
[null,null,null,null,null,null,null,null,null,null,null,null,null,null,null,null,null,null,null,null,null,null,null,null,null,null,null,null,null,null,null,null,null,{"$error":"#DIV/0!"},0,{"$f":"IF(AM59=0,\"  \",(10/3)*((AM59/AL59)*(1/J6)-1))","v":"  "},{"$f":"IF(AN59=0,\"  \",(100/68)*((AO59/AN59)*(1/J7)-1))","v":"  "},13.5,0,0,36,null,53,null,"  ","  ","  ",null,null,null,null,null,null,null,null,null,null,null,null,null,null,null,null,null,null,null,null,null,null,null,null,null,null,null,null,null,null,null,null,null,null,null,null,null,null,null,null,null,null,null,null,null,null,null,null,null,null,null,null,null,null,null,null,null,null,null,null,null,null,null,null,null,null,null,null,null,null,null,null,null,null,null,null,null,null,null,null,null,null,null,null,null,null,null,null,null,null,null,null,null,null,null,null,null,null,null,null,null,null,null,null,null,null,null,null,null,null,null,null,null,null,null,null,null,null,null,null,null,null,null,null,null,null,null,null,null,null,null,null,null,null,null,null,null,null,null,null,null,null,null,null,null,null,null,null,null,null,null,null,null,null,null,null,null,null,null,null,null,null,null,null,null,null,null,null,null,null,null,null,null,null,null,{"$f":"-HK59+HP9","v":0},0,null,null,null,null,null,null,null,null,null,null,null,null,null,null,null,null,null,null,null,null,null,null,null,null,null,null,null,null,null,null,null,null,null,null,null,null,null,null,null,null,null,null,null,null,null,null,null,null,null,null,null,null,null,null,null,null,null,null,null,null,null,null,null,null,null,null,null,null,null,null,null,null,null,null,null,null,null,null,null,null,null,null,null,null,null,null,null,null,null,null,null,null,null,null,null,null,null,null,null,null,null,null,null,null,null,null,null,null,null,null,null,null,null,null,null,null,null,null,null,null,null,null,null,null,null,null,null,null,null,null,null,null,null,null,null,null,null,null,null,null,null,null,null,null,null,null,null,null,null,null,null,null,null,null,null,null,null,null,null,null,{"$f":"NU53","v":-3.6093750000000036},{"$f":"NV53+NV34","v":{"$error":"#VALUE!"}},"w10",null,"h8",{"$f":"NZ58-0.5*NZ49","v":-21.779687500000001},{"$f":"OA54","v":6.3695652173913047},null,null,null,null,{"$f":"S21","v":"همه از زیر"},{"$f":"S20","v":12},"بافت انتخابی یقه شومیزیه",null,"نقطه شروع انحنا","مولفه افقی","مولفه عمودی",{"$f":"OK63","v":-35.524999999999999},{"$f":"OL63","v":6.4501278772378523},{"$f":"OJ63","v":"g4"},null,{"$f":"S21","v":"همه از زیر"},{"$f":"S20","v":12},"بافت انتخابی یقه شومیزیه",null,"نقطه شروع انحنا","مولفه افقی","مولفه عمودی",{"$f":"OV63","v":-35.524999999999999},{"$f":"OW63","v":6.4501278772378523},{"$f":"OU63","v":"g4"},null,null,"نقاط خروجی ",null,null,"ارتفاع هر رج",{"$f":"PC37","v":0.96675191815856776},"w11",null,null,null,null,null,"نقاط خروجی ",null,null,"ارتفاع هر رج",{"$f":"PN37","v":0.96675191815856776},"w11",null,null,null,null,{"$f":"PX55+0.5*(PX56-PX55)","v":-41},{"$f":"PY56+0.5*(PY57-PY56)","v":26.571428571428569},"t31",null,"بزرگی فلش",{"$f":"PY16","v":0.57142857142857151},"f4",{"$f":"QC61","v":-45},{"$f":"QD61","v":10.714285714285715},{"$f":"QB61","v":"t12"},null,null,null,null,null,null,null,null,null,{"$f":"QQ15+QR7+5*QR8","v":-13.532},{"$f":"QR15","v":7.8887268314077659},"k49",null,null,null,null,{"$f":"QQ16","v":-16.532},{"$f":"QR16","v":7.8887268314077659},"k5",null,null,"نقاط خروجی ",null,null,"نقطه شروع انحنا","مولفه افقی","مولفه عمودی",{"$f":"RG63","v":-35.524999999999999},{"$f":"RH63","v":6.4501278772378523},{"$f":"RF63","v":"g4"},null,{"$f":"RM40+95*RN28","v":122.0486111111111},{"$f":"RN40","v":-20},95,null,{"$f":"IF(RN26>(RM51-RM40),RM51,RM40)","v":0},{"$f":"IF(RN26>(RM51-RM40),RN51,RN40)","v":-20},55,null,{"$f":"RU40+95*RV31","v":40.066889632107021},{"$f":"RV40","v":0},95,null,{"$f":"IF(RV27>(RU51-RU40),RU51,RU40)","v":-40},{"$f":"IF(RV27>(RU51-RU40),RV51,RV40)","v":0},55,null,{"$f":"IF(RV27>(RU76-RU40),RU76,RU40)","v":-28.200668896321069},{"$f":"IF(RV27>(RU76-RU40),RV76,RV40)","v":0},14,null,{"$f":"SG40+95*SH28","v":122.0486111111111},{"$f":"SH40","v":-20},95,null,{"$f":"IF(SH26>(SG51-SG40),SG51,SG40)","v":0},{"$f":"IF(SH26>(SG51-SG40),SH51,SH40)","v":-20},55,null,{"$f":"SO40+95*SP31","v":40.066889632107021},{"$f":"SP40","v":0},95,null,{"$f":"IF(SP27>(SO51-SO40),SO51,SO40)","v":-40},{"$f":"IF(SP27>(SO51-SO40),SP51,SP40)","v":0},55,null,{"$f":"IF(SP27>(SO76-SO40),SO76,SO40)","v":-28.200668896321069},{"$f":"IF(SP27>(SO76-SO40),SP76,SP40)","v":0},14,null,{"$f":"TA40+95*TB28","v":115.4513888888889},{"$f":"TB40","v":-20},95,null,{"$f":"IF(TB26>(TA51-TA40),TA51,TA40)","v":0},{"$f":"IF(TB26>(TA51-TA40),TB51,TB40)","v":-20},55,null,{"$f":"TI40+95*TJ31","v":38.065217391304358},{"$f":"TJ40","v":0},95,null,{"$f":"IF(TJ27>(TI51-TI40),TI51,TI40)","v":-40},{"$f":"IF(TJ27>(TI51-TI40),TJ51,TJ40)","v":0},55,null,{"$f":"IF(TJ27>(TI76-TI40),TI76,TI40)","v":-28.495652173913044},{"$f":"IF(TJ27>(TI76-TI40),TJ76,TJ40)","v":0},14,null,{"$f":"TU40+95*TV28","v":115.4513888888889},{"$f":"TV40","v":-20},95,null,{"$f":"IF(TV26>(TU51-TU40),TU51,TU40)","v":0},{"$f":"IF(TV26>(TU51-TU40),TV51,TV40)","v":-20},55,null,{"$f":"UC40+95*UD31","v":38.065217391304358},{"$f":"UD40","v":0},95,null,{"$f":"IF(UD27>(UC51-UC40),UC51,UC40)","v":-40},{"$f":"IF(UD27>(UC51-UC40),UD51,UD40)","v":0},55,null,{"$f":"IF(UD27>(UC76-UC40),UC76,UC40)","v":-28.495652173913044},{"$f":"IF(UD27>(UC76-UC40),UD76,UD40)","v":0},14,null,{"$f":"UO40+95*UP28","v":122.0486111111111},{"$f":"UP40","v":-20},95,null,{"$f":"IF(UP26>(UO51-UO40),UO51,UO40)","v":0},{"$f":"IF(UP26>(UO51-UO40),UP51,UP40)","v":-20},55,null,{"$f":"UW40+95*UX31","v":40.066889632107021},{"$f":"UX40","v":0},95,null,{"$f":"IF(UX27>(UW51-UW40),UW51,UW40)","v":-40},{"$f":"IF(UX27>(UW51-UW40),UX51,UX40)","v":0},55,null,{"$f":"IF(UX27>(UW76-UW40),UW76,UW40)","v":-28.200668896321069},{"$f":"IF(UX27>(UW76-UW40),UX76,UX40)","v":0},14,null,{"$f":"VI40+95*VJ28","v":122.0486111111111},{"$f":"VJ40","v":-20},95,null,{"$f":"IF(VJ26>(VI51-VI40),VI51,VI40)","v":0},{"$f":"IF(VJ26>(VI51-VI40),VJ51,VJ40)","v":-20},55,null,{"$f":"VQ40+95*VR31","v":40.066889632107021},{"$f":"VR40","v":0},95,null,{"$f":"IF(VR27>(VQ51-VQ40),VQ51,VQ40)","v":-40},{"$f":"IF(VR27>(VQ51-VQ40),VR51,VR40)","v":0},55,null,{"$f":"IF(VR27>(VQ76-VQ40),VQ76,VQ40)","v":-28.200668896321069},{"$f":"IF(VR27>(VQ76-VQ40),VR76,VR40)","v":0},14]
[null,null,null,null,null,null,null,null,null,null,null,null,null,null,null,null,null,null,null,null,null,null,null,null,null,null,null,null,null,null,null,null,null,{"$error":"#DIV/0!"},0,{"$f":"IF(AM60=0,\"  \",(10/3)*((AM60/AL60)*(1/J6)-1))","v":"  "},{"$f":"IF(AN60=0,\"  \",(100/68)*((AO60/AN60)*(1/J7)-1))","v":"  "},13.5,0,0,36,null,54,null,"  ","  ","  ",null,null,null,null,null,null,null,null,null,null,null,null,null,null,null,null,null,null,null,null,null,null,null,null,null,null,null,null,null,null,null,null,null,null,null,null,null,null,null,null,null,null,null,null,null,null,null,null,null,null,null,null,null,null,null,null,null,null,null,null,null,null,null,null,null,null,null,null,null,null,null,null,null,null,null,null,null,null,null,null,null,null,null,null,null,null,null,null,null,null,null,null,null,null,null,null,null,null,null,null,null,null,null,null,null,null,null,null,null,null,null,null,null,null,null,null,null,null,null,null,null,null,null,null,null,null,null,null,null,null,null,null,null,null,null,null,null,null,null,null,null,null,null,null,null,null,null,null,null,null,null,null,null,null,null,null,null,null,null,null,null,null,null,null,null,null,null,null,null,null,null,null,null,null,null,{"$f":"-HK60+HP9","v":0},0,null,null,null,null,null,null,null,null,null,null,null,null,null,null,null,null,null,null,null,null,null,null,null,null,null,null,null,null,null,null,null,null,null,null,null,null,null,null,null,null,null,null,null,null,null,null,null,null,null,null,null,null,null,null,null,null,null,null,null,null,null,null,null,null,null,null,null,null,null,null,null,null,null,null,null,null,null,null,null,null,null,null,null,null,null,null,null,null,null,null,null,null,null,null,null,null,null,null,null,null,null,null,null,null,null,null,null,null,null,null,null,null,null,null,null,null,null,null,null,null,null,null,null,null,null,null,null,null,null,null,null,null,null,null,null,null,null,null,null,null,null,null,null,null,null,null,null,null,null,null,null,null,null,null,null,null,null,null,null,null,{"$f":"NU59-NV7/NV48","v":-7.4375000000000036},{"$f":"NV59","v":{"$error":"#VALUE!"}},"w13",null,"h9",{"$f":"NZ58+0.5*NZ49","v":-16.829687499999999},{"$f":"OA54","v":6.3695652173913047},{"$f":"NZ63","v":-16.829687499999999},{"$f":"OA63","v":6.1195652173913047},{"$f":"NY63","v":"h12"},null,null,"نقاط خروجی ",null,null,"m6",{"$f":"OF65","v":-35},{"$f":"OG65","v":5.9667519181585682},{"$f":"OK65","v":-35.3675},{"$f":"OL65","v":6.7981585677749372},{"$f":"OJ65","v":"g6"},null,null,"نقاط خروجی ",null,null,"m6",{"$f":"OQ65","v":-35},{"$f":"OR65","v":5.9667519181585682},{"$f":"OV65","v":-35.3675},{"$f":"OW65","v":6.7981585677749372},{"$f":"OU65","v":"g6"},null,{"$f":"PC34","v":-35},{"$f":"PC35","v":5},"n1",null,"نقطه ورودی سر فلش","مولفه افقی","مولفه عمودی",{"$f":"PG64","v":-34.690104166666671},{"$f":"PH64","v":6.5667519181585678},{"$f":"PF64","v":"f8"},null,{"$f":"PN34","v":-35},{"$f":"PN35","v":5},"n1",null,"نقطه ورودی سر فلش","مولفه افقی","مولفه عمودی",{"$f":"PR64","v":-35},{"$f":"PS64","v":6.5667519181585678},{"$f":"PQ64","v":"f8"},null,{"$f":"PX55","v":-49.5},{"$f":"PY29-1","v":4},"t32",null,"نقطه ورودی سر فلش","مولفه افقی","مولفه عمودی",{"$f":"QC63","v":-45.571428571428569},{"$f":"QD63","v":11.000000000000002},{"$f":"QB63","v":"f3"},null,null,"نقاط خروجی ",null,null,{"$f":"QI88","v":15.093580985368698},{"$f":"QJ88","v":26.503223236100411},"12'",null,{"$f":"2*QQ15-QQ59","v":-27.532},{"$f":"QR59","v":7.8887268314077659},"k50",null,null,null,null,{"$f":"QQ70","v":-11.731999999999999},{"$f":"QR70","v":7.8887268314077659},"k60",null,{"$f":"RC36","v":-35},{"$f":"RC37","v":5},"p1",null,"p5",{"$f":"RB64","v":-35},{"$f":"RC64","v":5.9667519181585682},{"$f":"RG65","v":-35.3675},{"$f":"RH65","v":6.7981585677749372},{"$f":"RF65","v":"g6"},null,{"$f":"RM40+100*RN28","v":128.4722222222222},{"$f":"RN40","v":-20},100,null,{"$f":"RQ59","v":0},{"$f":"RN38","v":-40.22742474916388},null,null,{"$f":"RU40+100*RV31","v":44.280936454849495},{"$f":"RV40","v":0},100,null,{"$f":"RY59","v":-40},{"$f":"RV38","v":10.277777777777777},null,null,{"$f":"SC59","v":-28.200668896321069},{"$f":"RV38","v":10.277777777777777},null,null,{"$f":"SG40+100*SH28","v":128.4722222222222},{"$f":"SH40","v":-20},100,null,{"$f":"SK59","v":0},{"$f":"SH38","v":-40.22742474916388},null,null,{"$f":"SO40+100*SP31","v":44.280936454849495},{"$f":"SP40","v":0},100,null,{"$f":"SS59","v":-40},{"$f":"SP38","v":10.277777777777777},null,null,{"$f":"SW59","v":-28.200668896321069},{"$f":"SP38","v":10.277777777777777},null,null,{"$f":"TA40+100*TB28","v":121.52777777777779},{"$f":"TB40","v":-20},100,null,{"$f":"TE59","v":0},{"$f":"TB38","v":-39.721739130434784},null,null,{"$f":"TI40+100*TJ31","v":42.173913043478279},{"$f":"TJ40","v":0},100,null,{"$f":"TM59","v":-40},{"$f":"TJ38","v":9.7222222222222232},null,null,{"$f":"TQ59","v":-28.495652173913044},{"$f":"TJ38","v":9.7222222222222232},null,null,{"$f":"TU40+100*TV28","v":121.52777777777779},{"$f":"TV40","v":-20},100,null,{"$f":"TY59","v":0},{"$f":"TV38","v":-39.721739130434784},null,null,{"$f":"UC40+100*UD31","v":42.173913043478279},{"$f":"UD40","v":0},100,null,{"$f":"UG59","v":-40},{"$f":"UD38","v":9.7222222222222232},null,null,{"$f":"UK59","v":-28.495652173913044},{"$f":"UD38","v":9.7222222222222232},null,null,{"$f":"UO40+100*UP28","v":128.4722222222222},{"$f":"UP40","v":-20},100,null,{"$f":"US59","v":0},{"$f":"UP38","v":-40.22742474916388},null,null,{"$f":"UW40+100*UX31","v":44.280936454849495},{"$f":"UX40","v":0},100,null,{"$f":"VA59","v":-40},{"$f":"UX38","v":10.277777777777777},null,null,{"$f":"VE59","v":-28.200668896321069},{"$f":"UX38","v":10.277777777777777},null,null,{"$f":"VI40+100*VJ28","v":128.4722222222222},{"$f":"VJ40","v":-20},100,null,{"$f":"VM59","v":0},{"$f":"VJ38","v":-40.22742474916388},null,null,{"$f":"VQ40+100*VR31","v":44.280936454849495},{"$f":"VR40","v":0},100,null,{"$f":"VU59","v":-40},{"$f":"VR38","v":10.277777777777777},null,null,{"$f":"VY59","v":-28.200668896321069},{"$f":"VR38","v":10.277777777777777}]
[null,null,null,null,null,null,null,null,null,null,null,null,null,null,null,null,null,null,null,null,null,null,null,null,null,null,null,null,null,null,null,null,null,{"$error":"#DIV/0!"},0,{"$f":"IF(AM61=0,\"  \",(10/3)*((AM61/AL61)*(1/J6)-1))","v":"  "},{"$f":"IF(AN61=0,\"  \",(100/68)*((AO61/AN61)*(1/J7)-1))","v":"  "},13.5,0,0,36,null,55,null,"  ","  ","  ",null,null,null,null,null,null,null,null,null,null,null,null,null,null,null,null,null,null,null,null,null,null,null,null,null,null,null,null,null,null,null,null,null,null,null,null,null,null,null,null,null,null,null,null,null,null,null,null,null,null,null,null,null,null,null,null,null,null,null,null,null,null,null,null,null,null,null,null,null,null,null,null,null,null,null,null,null,null,null,null,null,null,null,null,null,null,null,null,null,null,null,null,null,null,null,null,null,null,null,null,null,null,null,null,null,null,null,null,null,null,null,null,null,null,null,null,null,null,null,null,null,null,null,null,null,null,null,null,null,null,null,null,null,null,null,null,null,null,null,null,null,null,null,null,null,null,null,null,null,null,null,null,null,null,null,null,null,null,null,null,null,null,null,null,null,null,null,null,null,null,null,null,null,null,null,{"$f":"-HK61+HP9","v":0},0,null,null,null,null,null,null,null,null,null,null,null,null,null,null,null,null,null,null,null,null,null,null,null,null,null,null,null,null,null,null,null,null,null,null,null,null,null,null,null,null,null,null,null,null,null,null,null,null,null,null,null,null,null,null,null,null,null,null,null,null,null,null,null,null,null,null,null,null,null,null,null,null,null,null,null,null,null,null,null,null,null,null,null,null,null,null,null,null,null,null,null,null,null,null,null,null,null,null,null,null,null,null,null,null,null,null,null,null,null,null,null,null,null,null,null,null,null,null,null,null,null,null,null,null,null,null,null,null,null,null,null,null,null,null,null,null,null,null,null,null,null,null,null,null,null,null,null,null,null,null,null,null,null,null,null,null,null,null,null,null,{"$f":"NU60","v":-7.4375000000000036},{"$f":"NV60+NV34","v":{"$error":"#VALUE!"}},"w14",null,"h10",{"$f":"NZ59","v":-21.779687500000001},{"$f":"OA59+0.5*NZ50","v":6.6195652173913047},{"$f":"NZ64","v":-16.829687499999999},{"$f":"OA64","v":6.6195652173913047},{"$f":"NY64","v":"h13"},null,{"$f":"OG36+OG5/OG50","v":-10.208333333333336},{"$f":"OG37","v":5},"m2",null,"g11",{"$f":"OK65+0.8*(OK63-OK65)","v":-35.493499999999997},{"$f":"OL63+0.6*(OL65-OL63)","v":6.6589462915601034},{"$f":"OK62","v":-35},{"$f":"OL62","v":6.9335038363171364},{"$f":"OJ62","v":"g2"},null,{"$f":"OR36+OR5/OR50","v":-11.447916666666671},{"$f":"OR37","v":5},"m2",null,"g11",{"$f":"OV65+0.8*(OV63-OV65)","v":-35.493499999999997},{"$f":"OW63+0.6*(OW65-OW63)","v":6.6589462915601034},{"$f":"OV62","v":-35},{"$f":"OW62","v":6.9335038363171364},{"$f":"OU62","v":"g2"},null,{"$f":"PB60+PC5/PC48","v":-0.9114583333333357},{"$f":"PC60","v":5},"n2",null,"n7",{"$f":"PB66","v":-34.690104166666671},{"$f":"PC66","v":5.9667519181585682},{"$f":"PG62","v":-34.980129742114244},{"$f":"PH62","v":6.1800511508951406},{"$f":"PF62","v":"f6"},null,{"$f":"PM60+PN5/PN48","v":2.8072916666666572},{"$f":"PN60","v":5},"n2",null,"n7",{"$f":"PM66","v":-35},{"$f":"PN66","v":5.9667519181585682},{"$f":"PR62","v":-35.290025575447572},{"$f":"PS62","v":6.1800511508951406},{"$f":"PQ62","v":"f6"},null,{"$f":"PX56","v":-32.5},{"$f":"PY60","v":4},"t33",null,{"$f":"PZ40","v":"t12"},{"$f":"PX40","v":-45},{"$f":"PY40","v":10.714285714285715},null,null,null,null,{"$f":"QI18-QJ9+QJ5","v":5.9244108634080561},{"$f":"QJ18-QJ10+QJ6","v":41.300688577032062},25,null,null,null,null,null,{"$f":"QQ15+(QR7+5*QR8)*SIN(RADIANS(30))","v":-17.032},{"$f":"QR15+(QR7+5*QR8)*COS(RADIANS(30))","v":13.950904657898837},"k51",null,null,null,null,null,null,null,null,{"$f":"RB60+RC5/RC50","v":-12.395833333333336},{"$f":"RC60","v":5},"p2",null,"g11",{"$f":"RG65+0.8*(RG63-RG65)","v":-35.493499999999997},{"$f":"RH63+0.6*(RH65-RH63)","v":6.6589462915601034},{"$f":"RG62","v":-35},{"$f":"RH62","v":6.9335038363171364},{"$f":"RF62","v":"g2"}]
[null,null,null,null,null,null,null,null,null,null,null,null,null,null,null,null,null,null,null,null,null,null,null,null,null,null,null,null,null,null,null,null,null,{"$error":"#DIV/0!"},0,{"$f":"IF(AM62=0,\"  \",(10/3)*((AM62/AL62)*(1/J6)-1))","v":"  "},{"$f":"IF(AN62=0,\"  \",(100/68)*((AO62/AN62)*(1/J7)-1))","v":"  "},13.5,0,0,36,null,56,null,"  ","  ","  ",null,null,null,null,null,null,null,null,null,null,null,null,null,null,null,null,null,null,null,null,null,null,null,null,null,null,null,null,null,null,null,null,null,null,null,null,null,null,null,null,null,null,null,null,null,null,null,null,null,null,null,null,null,null,null,null,null,null,null,null,null,null,null,null,null,null,null,null,null,null,null,null,null,null,null,null,null,null,null,null,null,null,null,null,null,null,null,null,null,null,null,null,null,null,null,null,null,null,null,null,null,null,null,null,null,null,null,null,null,null,null,null,null,null,null,null,null,null,null,null,null,null,null,null,null,null,null,null,null,null,null,null,null,null,null,null,null,null,null,null,null,null,null,null,null,null,null,null,null,null,null,null,null,null,null,null,null,null,null,null,null,null,null,null,null,null,null,null,null,null,null,null,null,null,null,{"$f":"-HK62+HP9","v":0},0,null,null,null,null,null,null,null,null,null,null,null,null,null,null,null,null,null,null,null,null,null,null,null,null,null,null,null,null,null,null,null,null,null,null,null,null,null,null,null,null,null,null,null,null,null,null,null,null,null,null,null,null,null,null,null,null,null,null,null,null,null,null,null,null,null,null,null,null,null,null,null,null,null,null,null,null,null,null,null,null,null,null,null,null,null,null,null,null,null,null,null,null,null,null,null,null,null,null,null,null,null,null,null,null,null,null,null,null,null,null,null,null,null,null,null,null,null,null,null,null,null,null,null,null,null,null,null,null,null,null,null,null,null,null,null,null,null,null,null,null,null,null,null,null,null,null,null,null,null,null,null,null,null,null,null,null,null,null,null,null,{"$f":"NU59","v":-3.6093750000000036},{"$f":"NV61","v":{"$error":"#VALUE!"}},"w15",null,"h11",{"$f":"NZ59","v":-21.779687500000001},{"$f":"OA59-0.5*NZ50","v":6.1195652173913047},null,null,null,null,{"$f":"OG36+0.1*(OF61-OG36)","v":-32.520833333333336},{"$f":"OG37","v":5},"m3",null,"g2",{"$f":"OK60","v":-35},{"$f":"OL60+OK57","v":6.9335038363171364},null,null,null,null,{"$f":"OR36+0.1*(OQ61-OR36)","v":-32.64479166666667},{"$f":"OR37","v":5},"m3",null,"g2",{"$f":"OV60","v":-35},{"$f":"OW60+OV57","v":6.9335038363171364},null,null,null,null,{"$f":"PB60+0.1*(PB61-PB60)","v":-31.591145833333332},{"$f":"PC60","v":5},"n3",null,"f6",{"$f":"PG61-PG58*PG57*PG59","v":-34.980129742114244},{"$f":"PH64-PG57*PG59","v":6.1800511508951406},null,null,null,null,{"$f":"PM60+0.1*(PM61-PM60)","v":-31.219270833333333},{"$f":"PN60","v":5},"n3",null,"f6",{"$f":"PR61-PR58*PR57*PR59","v":-35.290025575447572},{"$f":"PS64-PR57*PR59","v":6.1800511508951406},null,null,null,null,null,null,null,null,"f2",{"$f":"QC61-1*QC59","v":-45.571428571428569},{"$f":"QD61-QC58*QC59","v":10.428571428571429},{"$f":"QC61","v":-45},{"$f":"QD61","v":10.714285714285715},{"$f":"QB61","v":"t12"},null,{"$f":"QI19-QJ9+QJ5","v":4.7395286907264449},{"$f":"QJ19-QJ10+QJ6","v":38.594707704219914},30,null,null,null,null,null,{"$f":"2*QQ15-QQ61","v":-24.032},{"$f":"QR61","v":13.950904657898837},"k52",null,null,null,null,{"$f":"QQ26","v":-18.532},{"$f":"QR26","v":11.352828446545521},"k15",null,{"$f":"RB60+0.1*(RB61-RB60)","v":-32.739583333333336},{"$f":"RC60","v":5},"p3",null,"g2",{"$f":"RG60","v":-35},{"$f":"RH60+RG57","v":6.9335038363171364},null,null,null,null,null,null,null,null,{"$f":"IF(RN26>(RM52-RM40),RM52,RM40)","v":0},{"$f":"IF(RN26>(RM52-RM40),RN52,RN40)","v":-20},60,null,null,null,null,null,{"$f":"IF(RV27>(RU52-RU40),RU52,RU40)","v":-40},{"$f":"IF(RV27>(RU52-RU40),RV52,RV40)","v":0},60,null,{"$f":"IF(RV27>(RU77-RU40),RU77,RU40)","v":-26.515050167224082},{"$f":"IF(RV27>(RU77-RU40),RV77,RV40)","v":0},16,null,null,null,null,null,{"$f":"IF(SH26>(SG52-SG40),SG52,SG40)","v":0},{"$f":"IF(SH26>(SG52-SG40),SH52,SH40)","v":-20},60,null,null,null,null,null,{"$f":"IF(SP27>(SO52-SO40),SO52,SO40)","v":-40},{"$f":"IF(SP27>(SO52-SO40),SP52,SP40)","v":0},60,null,{"$f":"IF(SP27>(SO77-SO40),SO77,SO40)","v":-26.515050167224082},{"$f":"IF(SP27>(SO77-SO40),SP77,SP40)","v":0},16,null,null,null,null,null,{"$f":"IF(TB26>(TA52-TA40),TA52,TA40)","v":0},{"$f":"IF(TB26>(TA52-TA40),TB52,TB40)","v":-20},60,null,null,null,null,null,{"$f":"IF(TJ27>(TI52-TI40),TI52,TI40)","v":-40},{"$f":"IF(TJ27>(TI52-TI40),TJ52,TJ40)","v":0},60,null,{"$f":"IF(TJ27>(TI77-TI40),TI77,TI40)","v":-26.852173913043476},{"$f":"IF(TJ27>(TI77-TI40),TJ77,TJ40)","v":0},16,null,null,null,null,null,{"$f":"IF(TV26>(TU52-TU40),TU52,TU40)","v":0},{"$f":"IF(TV26>(TU52-TU40),TV52,TV40)","v":-20},60,null,null,null,null,null,{"$f":"IF(UD27>(UC52-UC40),UC52,UC40)","v":-40},{"$f":"IF(UD27>(UC52-UC40),UD52,UD40)","v":0},60,null,{"$f":"IF(UD27>(UC77-UC40),UC77,UC40)","v":-26.852173913043476},{"$f":"IF(UD27>(UC77-UC40),UD77,UD40)","v":0},16,null,null,null,null,null,{"$f":"IF(UP26>(UO52-UO40),UO52,UO40)","v":0},{"$f":"IF(UP26>(UO52-UO40),UP52,UP40)","v":-20},60,null,null,null,null,null,{"$f":"IF(UX27>(UW52-UW40),UW52,UW40)","v":-40},{"$f":"IF(UX27>(UW52-UW40),UX52,UX40)","v":0},60,null,{"$f":"IF(UX27>(UW77-UW40),UW77,UW40)","v":-26.515050167224082},{"$f":"IF(UX27>(UW77-UW40),UX77,UX40)","v":0},16,null,null,null,null,null,{"$f":"IF(VJ26>(VI52-VI40),VI52,VI40)","v":0},{"$f":"IF(VJ26>(VI52-VI40),VJ52,VJ40)","v":-20},60,null,null,null,null,null,{"$f":"IF(VR27>(VQ52-VQ40),VQ52,VQ40)","v":-40},{"$f":"IF(VR27>(VQ52-VQ40),VR52,VR40)","v":0},60,null,{"$f":"IF(VR27>(VQ77-VQ40),VQ77,VQ40)","v":-26.515050167224082},{"$f":"IF(VR27>(VQ77-VQ40),VR77,VR40)","v":0},16]
[null,null,null,null,null,null,null,null,null,null,null,null,null,null,null,null,null,null,null,null,null,null,null,null,null,null,null,null,null,null,null,null,2.0432432432432437,{"$f":"I7*(1+0.68*AK72)","v":2.1405405405405409},null,{"$f":"AJ73","v":0.10582010582010619},{"$f":"AK73","v":-3.9745627980922023E-2},13.5,39,18.5,36,3,null,null,null,null,null,null,null,null,null,null,null,null,null,null,null,null,null,null,null,null,null,null,null,null,null,null,null,null,null,null,null,null,null,null,null,null,null,null,null,null,null,null,null,null,null,null,null,null,null,null,null,null,null,null,null,null,null,null,null,null,null,null,null,null,null,null,null,null,null,null,null,null,null,null,null,null,null,null,null,null,null,null,null,null,null,null,null,null,null,null,null,null,null,null,null,null,null,null,null,null,null,null,null,null,null,null,null,null,null,null,null,null,null,null,null,null,null,null,null,null,null,null,null,null,null,null,null,null,null,null,null,null,null,null,null,null,null,null,null,null,null,null,null,null,null,null,null,null,null,null,null,null,null,null,null,null,null,null,null,null,null,null,null,null,null,null,null,null,null,null,null,null,null,null,null,null,null,null,null,null,{"$f":"-HK72+HP9","v":0},0,null,null,null,null,null,null,null,null,null,null,null,null,null,null,null,null,null,null,null,null,null,null,null,null,null,null,null,null,null,null,null,null,null,null,null,null,null,null,null,null,null,null,null,null,null,null,null,null,null,null,null,null,null,null,null,null,null,null,null,null,null,null,null,null,null,null,null,null,null,null,null,null,null,null,null,null,null,null,null,null,null,null,null,null,null,null,null,null,null,null,null,null,null,null,null,null,null,null,null,null,null,null,null,null,null,null,null,null,null,null,null,null,null,null,null,null,null,null,null,null,null,null,null,null,null,null,null,null,null,null,null,null,null,null,null,null,null,null,null,null,null,null,null,null,null,null,null,null,null,null,null,null,null,null,null,null,null,null,null,null,{"$f":"NU70","v":-35},{"$f":"NV70+NV34","v":{"$error":"#VALUE!"}},"w25",null,"f2",{"$f":"NZ71+1*NZ69","v":-31.039198369565216},{"$f":"OA71-NZ68*NZ69","v":5.9586956521739136},{"$f":"NZ71","v":-31.860937499999999},{"$f":"OA71","v":6.3695652173913047},{"$f":"NY71","v":"w7"},null,{"$f":"OF69","v":-10.828125000000002},{"$f":"OG69+OG39","v":7.9002557544757028},"m13",null,"بزرگی فلش",{"$f":"OG51","v":0.5800511508951407},"f4",{"$f":"OK74","v":-32.520833333333336},{"$f":"OL74","v":6.9335038363171355},{"$f":"OJ74","v":"m11"},null,{"$f":"OQ69","v":-11.757812500000005},{"$f":"OR69+OR39","v":7.9002557544757028},"m13",null,"بزرگی فلش",{"$f":"OR51","v":0.5800511508951407},"f4",{"$f":"OV74","v":-32.64479166666667},{"$f":"OW74","v":6.9335038363171355},{"$f":"OU74","v":"m11"},null,{"$f":"PB68-1/PC48","v":-0.6015625},{"$f":"PC67","v":6.9335038363171364},"n13",null,"g2",{"$f":"PG70","v":-35.309895833333336},{"$f":"PH70+PG67","v":6.9335038363171364},null,null,null,null,{"$f":"PM68-1/PN48","v":2.807291666666655},{"$f":"PN67","v":6.9335038363171364},"n13",null,"g2",{"$f":"PR70","v":-35.619791666666664},{"$f":"PS70+PR67","v":6.9335038363171364},null,null,null,null,null,null,null,null,"f7",{"$f":"QC70+QC70-QC71","v":-47.128571428571433},{"$f":"QD71","v":9.8571428571428577},{"$f":"QC73","v":-47.45},{"$f":"QD73","v":10.285714285714286},{"$f":"QB73","v":"f8"},null,{"$f":"QI33-QJ9+QJ5","v":6.4686539445017948},{"$f":"QJ33-QJ10+QJ6","v":35.69282973798768},"5'",null,{"$f":"QI68","v":-7.532},{"$f":"QJ68","v":17.899999999999999},"1'",null,{"$f":"QQ15+(QR7+8*QR8)*SIN(RADIANS(30))","v":-16.132000000000001},{"$f":"QR15+(QR7+8*QR8)*COS(RADIANS(30))","v":15.509750384710827},"k62",null,"نقطه ورودی سر فلش","مولفه افقی","مولفه عمودی",{"$f":"QV75","v":-18.716849561253845},{"$f":"QW75","v":4.7363490589318546},{"$f":"QU75","v":"f3"},null,{"$f":"RB73+RC53*(RB70-RB73)","v":-18.776041666666671},{"$f":"RC70","v":7.9002557544757046},"p13",null,"بزرگی فلش",{"$f":"RC51","v":0.5800511508951407},"f4",{"$f":"RG74","v":-32.739583333333336},{"$f":"RH74","v":6.9335038363171364},{"$f":"RF74","v":"p9"},null,{"$f":"RM40+9*RN28","v":11.562499999999998},{"$f":"RN40","v":-20},9,null,{"$f":"RQ71","v":0},{"$f":"RN38","v":-40.22742474916388},null,null,{"$f":"RU40+9*RV31","v":-32.414715719063544},{"$f":"RV40","v":0},9,null,{"$f":"RY71","v":-40},{"$f":"RV38","v":10.277777777777777},null,null,{"$f":"SC71","v":-23.986622073578594},{"$f":"RV38","v":10.277777777777777},null,null,{"$f":"SG40+9*SH28","v":11.562499999999998},{"$f":"SH40","v":-20},9,null,{"$f":"SK71","v":0},{"$f":"SH38","v":-40.22742474916388},null,null,{"$f":"SO40+9*SP31","v":-32.414715719063544},{"$f":"SP40","v":0},9,null,{"$f":"SS71","v":-40},{"$f":"SP38","v":10.277777777777777},null,null,{"$f":"SW71","v":-23.986622073578594},{"$f":"SP38","v":10.277777777777777},null,null,{"$f":"TA40+9*TB28","v":10.937500000000002},{"$f":"TB40","v":-20},9,null,{"$f":"TE71","v":0},{"$f":"TB38","v":-39.721739130434784},null,null,{"$f":"TI40+9*TJ31","v":-32.604347826086958},{"$f":"TJ40","v":0},9,null,{"$f":"TM71","v":-40},{"$f":"TJ38","v":9.7222222222222232},null,null,{"$f":"TQ71","v":-24.38695652173913},{"$f":"TJ38","v":9.7222222222222232},null,null,{"$f":"TU40+9*TV28","v":10.937500000000002},{"$f":"TV40","v":-20},9,null,{"$f":"TY71","v":0},{"$f":"TV38","v":-39.721739130434784},null,null,{"$f":"UC40+9*UD31","v":-32.604347826086958},{"$f":"UD40","v":0},9,null,{"$f":"UG71","v":-40},{"$f":"UD38","v":9.7222222222222232},null,null,{"$f":"UK71","v":-24.38695652173913},{"$f":"UD38","v":9.7222222222222232},null,null,{"$f":"UO40+9*UP28","v":11.562499999999998},{"$f":"UP40","v":-20},9,null,{"$f":"US71","v":0},{"$f":"UP38","v":-40.22742474916388},null,null,{"$f":"UW40+9*UX31","v":-32.414715719063544},{"$f":"UX40","v":0},9,null,{"$f":"VA71","v":-40},{"$f":"UX38","v":10.277777777777777},null,null,{"$f":"VE71","v":-23.986622073578594},{"$f":"UX38","v":10.277777777777777},null,null,{"$f":"VI40+9*VJ28","v":11.562499999999998},{"$f":"VJ40","v":-20},9,null,{"$f":"VM71","v":0},{"$f":"VJ38","v":-40.22742474916388},null,null,{"$f":"VQ40+9*VR31","v":-32.414715719063544},{"$f":"VR40","v":0},9,null,{"$f":"VU71","v":-40},{"$f":"VR38","v":10.277777777777777},null,null,{"$f":"VY71","v":-23.986622073578594},{"$f":"VR38","v":10.277777777777777}]
[null,null,null,null,null,null,null,null,null,null,null,null,null,null,null,null,null,null,null,null,null,null,null,null,null,null,null,null,null,null,null,null,null,null,null,null,null,null,null,null,null,null,null,null,null,null,null,null,null,null,null,null,null,null,null,null,null,null,null,null,null,null,null,null,null,null,null,null,null,null,null,null,null,null,null,null,null,null,null,null,null,null,null,null,null,null,null,null,null,null,null,null,null,null,null,null,null,null,null,null,null,null,null,null,null,null,null,null,null,null,null,null,null,null,null,null,null,null,null,null,null,null,null,null,null,null,null,null,null,null,null,null,null,null,null,null,null,null,null,null,null,null,null,null,null,null,null,null,null,null,null,null,null,null,null,null,null,null,null,null,null,null,null,null,null,null,null,null,null,null,null,null,null,null,null,null,null,null,null,null,null,null,null,null,null,null,null,null,null,null,null,null,null,null,null,null,null,null,null,null,null,null,null,null,null,null,null,null,null,null,null,null,null,null,null,null,null,null,null,null,null,null,{"$f":"-HK83+HP9","v":0},0,null,null,null,null,null,null,null,null,null,null,null,null,null,null,null,null,null,null,null,null,null,null,null,null,null,null,null,null,null,null,null,null,null,null,null,null,null,null,null,null,null,null,null,null,null,null,null,null,null,null,null,null,null,null,null,null,null,null,null,null,null,null,null,null,null,null,null,null,null,null,null,null,null,null,null,null,null,null,null,null,null,null,null,null,null,null,null,null,null,null,null,null,null,null,null,null,null,null,null,null,null,null,null,null,null,null,null,null,null,null,null,null,null,null,null,null,null,null,null,null,null,null,null,null,null,null,null,null,null,null,null,null,null,null,null,null,null,null,null,null,null,null,null,null,null,null,null,null,null,null,null,null,null,null,null,null,null,null,null,null,{"$f":"NU81","v":-35},{"$f":"NV81+NV34","v":{"$error":"#VALUE!"}},"w36",null,"g5",{"$f":"NZ79+0.7*(NZ82-NZ79)","v":-35.3675},{"$f":"OA79+0.28*(OA82-OA79)","v":{"$error":"#VALUE!"}},{"$f":"NZ80","v":-35.493499999999997},{"$f":"OA80","v":{"$error":"#VALUE!"}},{"$f":"NY80","v":"g11"},null,{"$f":"OF82+2*(OF71-OF82)-1/OG50","v":-11.447916666666666},{"$f":"OG82","v":9.8337595907928392},"m25",null,"m8",{"$f":"OF67","v":-34.380208333333336},{"$f":"OG67","v":6.9335038363171355},{"$f":"OK84","v":-34.670233908780908},{"$f":"OL84","v":7.3202046035805628},{"$f":"OJ84","v":"f6"},null,{"$f":"OQ82+2*(OQ71-OQ82)-1/OR50","v":-12.377604166666673},{"$f":"OR82","v":9.8337595907928392},"m25",null,"m8",{"$f":"OQ67","v":-34.380208333333336},{"$f":"OR67","v":6.9335038363171355},{"$f":"OV84","v":-34.670233908780908},{"$f":"OW84","v":7.3202046035805628},{"$f":"OU84","v":"f6"},null,{"$f":"PB82","v":-0.2916666666666643},{"$f":"PC82+PC37*PC6","v":8.8670076726342728},"n25",null,"نقطه ورودی سر فلش","مولفه افقی","مولفه عمودی",{"$f":"PG86","v":-32.357134484228474},{"$f":"PH86","v":7.2235294117647069},{"$f":"PF86","v":"f3"},null,{"$f":"PM79+PN53*(PM78-PM79)","v":-20.125000000000004},{"$f":"PN79","v":7.9002557544757046},"n'30",null,"نقطه ورودی سر فلش","مولفه افقی","مولفه عمودی",{"$f":"PR86","v":-32.295155317561807},{"$f":"PS86","v":7.2235294117647069},{"$f":"PQ86","v":"f3"},null,null,null,null,null,"زاویه فلش دانه",{"$f":"PY13","v":0.75},"f11",{"$f":"QC86","v":-45},{"$f":"QD86","v":15},{"$f":"QB86","v":"t17"},null,{"$f":"QI49+QI57","v":2.3687073710878566},{"$f":"QJ49+QI58","v":39.945755355749398},"26پ",null,{"$f":"QI75","v":18.937161970737396},{"$f":"QJ75","v":23.475771168757738},"k''5",null,null,null,null,null,null,null,null,null,null,null,null,{"$f":"RB79","v":-31.026041666666668},{"$f":"RC81","v":12.734015345268544},"p24",null,"p10",{"$f":"RB69","v":-28.328125},{"$f":"RC69","v":6.9335038363171364},{"$f":"RG84","v":-28.618150575447569},{"$f":"RH84","v":7.3202046035805637},{"$f":"RF84","v":"f6"},null,{"$f":"RM40+23*RN28","v":29.548611111111107},{"$f":"RN40","v":-20},23,null,{"$f":"IF(RN26>(RM59-RM40),RM59,RM40)","v":0},{"$f":"IF(RN26>(RM59-RM40),RN59,RN40)","v":-20},95,null,{"$f":"RU40+23*RV31","v":-20.615384615384617},{"$f":"RV40","v":0},23,null,{"$f":"IF(RV27>(RU59-RU40),RU59,RU40)","v":-40},{"$f":"IF(RV27>(RU59-RU40),RV59,RV40)","v":0},95,null,{"$f":"IF(RV27>(RU84-RU40),RU84,RU40)","v":-40},{"$f":"IF(RV27>(RU84-RU40),RV84,RV40)","v":0},24,null,{"$f":"SG40+23*SH28","v":29.548611111111107},{"$f":"SH40","v":-20},23,null,{"$f":"IF(SH26>(SG59-SG40),SG59,SG40)","v":0},{"$f":"IF(SH26>(SG59-SG40),SH59,SH40)","v":-20},95,null,{"$f":"SO40+23*SP31","v":-20.615384615384617},{"$f":"SP40","v":0},23,null,{"$f":"IF(SP27>(SO59-SO40),SO59,SO40)","v":-40},{"$f":"IF(SP27>(SO59-SO40),SP59,SP40)","v":0},95,null,{"$f":"IF(SP27>(SO84-SO40),SO84,SO40)","v":-40},{"$f":"IF(SP27>(SO84-SO40),SP84,SP40)","v":0},24,null,{"$f":"TA40+23*TB28","v":27.951388888888893},{"$f":"TB40","v":-20},23,null,{"$f":"IF(TB26>(TA59-TA40),TA59,TA40)","v":0},{"$f":"IF(TB26>(TA59-TA40),TB59,TB40)","v":-20},95,null,{"$f":"TI40+23*TJ31","v":-21.099999999999998},{"$f":"TJ40","v":0},23,null,{"$f":"IF(TJ27>(TI59-TI40),TI59,TI40)","v":-40},{"$f":"IF(TJ27>(TI59-TI40),TJ59,TJ40)","v":0},95,null,{"$f":"IF(TJ27>(TI84-TI40),TI84,TI40)","v":-20.278260869565216},{"$f":"IF(TJ27>(TI84-TI40),TJ84,TJ40)","v":0},24,null,{"$f":"TU40+23*TV28","v":27.951388888888893},{"$f":"TV40","v":-20},23,null,{"$f":"IF(TV26>(TU59-TU40),TU59,TU40)","v":0},{"$f":"IF(TV26>(TU59-TU40),TV59,TV40)","v":-20},95,null,{"$f":"UC40+23*UD31","v":-21.099999999999998},{"$f":"UD40","v":0},23,null,{"$f":"IF(UD27>(UC59-UC40),UC59,UC40)","v":-40},{"$f":"IF(UD27>(UC59-UC40),UD59,UD40)","v":0},95,null,{"$f":"IF(UD27>(UC84-UC40),UC84,UC40)","v":-20.278260869565216},{"$f":"IF(UD27>(UC84-UC40),UD84,UD40)","v":0},24,null,{"$f":"UO40+23*UP28","v":29.548611111111107},{"$f":"UP40","v":-20},23,null,{"$f":"IF(UP26>(UO59-UO40),UO59,UO40)","v":0},{"$f":"IF(UP26>(UO59-UO40),UP59,UP40)","v":-20},95,null,{"$f":"UW40+23*UX31","v":-20.615384615384617},{"$f":"UX40","v":0},23,null,{"$f":"IF(UX27>(UW59-UW40),UW59,UW40)","v":-40},{"$f":"IF(UX27>(UW59-UW40),UX59,UX40)","v":0},95,null,{"$f":"IF(UX27>(UW84-UW40),UW84,UW40)","v":-40},{"$f":"IF(UX27>(UW84-UW40),UX84,UX40)","v":0},24,null,{"$f":"VI40+23*VJ28","v":29.548611111111107},{"$f":"VJ40","v":-20},23,null,{"$f":"IF(VJ26>(VI59-VI40),VI59,VI40)","v":0},{"$f":"IF(VJ26>(VI59-VI40),VJ59,VJ40)","v":-20},95,null,{"$f":"VQ40+23*VR31","v":-20.615384615384617},{"$f":"VR40","v":0},23,null,{"$f":"IF(VR27>(VQ59-VQ40),VQ59,VQ40)","v":-40},{"$f":"IF(VR27>(VQ59-VQ40),VR59,VR40)","v":0},95,null,{"$f":"IF(VR27>(VQ84-VQ40),VQ84,VQ40)","v":-40},{"$f":"IF(VR27>(VQ84-VQ40),VR84,VR40)","v":0},24]
[null,"شیفت افقی جلو",{"$f":"GM359","v":0},null,"دور کمر","a",null,{"$f":"'متغیرها '!U52+0.3*'متغیرها '!C60*('متغیرها '!U52+'متغیرها '!U54+'متغیرها '!U72)","v":42},{"$f":"'متغیرها '!U52","v":42},null,"نقطه دوم از خط دوم","اسم نقطه",4,4,null,null,{"$f":"L145","v":1.88784},{"$f":"L114-L146","v":11.46985414826699},28,null,{"$f":"L120","v":5.7506799999999991},0,8,null,null,null,null,null,null,null,null,null,null,null,null,{"$f":"Y121+Y123","v":5.2450000000000001},0,10,null,null,null,null,null,null,null,null,null,{"$f":"AV156+AV157+AV158+1*(IF(('متغیرها '!U54-'متغیرها '!U55)>('متغیرها '!U52-'متغیرها '!U53),0.5*('متغیرها '!U54-'متغیرها '!U55),0.5*('متغیرها '!U52-'متغیرها '!U53))-AV156-AV158)-IF('متغیرها '!C125=1,2*AV150,AV157)","v":10.7},"(1 → 44)   با شرط  x5=1",{"$f":"AX156+AX157+AX158+1*(IF((H102-H103)>(H100-H101),0.5*(H102-H103),0.5*(H100-H101))+'متغیرها '!C62*H120-AX156-AX158)-IF('متغیرها '!C125=1,2*AX150,AX157)","v":10.7},null,{"$f":"BD156","v":11.25},{"$f":"BE156","v":29.530675303443079},"شیفت13",null,{"$f":"AZ106","v":0},{"$f":"BA106","v":17.899999999999999},1,null,"زاویه خط پهلو پشت",{"$f":"ATAN((BI106-BI108)/(BI110-BI112-BI107))","v":3.4715633883061231E-2},null,null,null,null,null,"انحنای حلقه آستین   پشت",null,null,null," انتقال قسمتی از ساسون سرشانه به خط مرکزی جلو و حلقه آستین با ساسون زیر بغل و خط رگلان",null,null,null,null,null,null,null," انتقال قسمتی از ساسون سرشانه به خط مرکزی پشت و حلقه آستین با ساسون زیر بغل",null,null,null,null,null,null,null," حلقه آستین و سرشانه و رگلان بدون ساسون ",null,null,null,null,null,null,null,"حلقه آستین و سرشانه و رگلان بدون ساسون ",null,null,null,null,null,null,null,null,null,null,null,"جیب با ساسون",null,null,null,null,null,null,null,"تکه پهلو جدا  ",null,null,null,null,null,null,null,null,null,null,null,null,"سرشانه حلقه آستین پهلو ترک و پایین کنترل گشادی",null,null,null,null,null,null,null,null,null,null,null,null,null,null,null,null,null,null,null,"کنترل گودی حلقه آستین ",null,null,null,null,null,null,null,null,null,null,null,"حلقه آستین با ساسون متغیر",null,null,null,"انگلیسی و آرشال چرخیده",null,null,null,"پهلو ترک ",null,null,null,"پهلو برای جیب با ساسون",null,null,null,"اطلاعات اندام",null,null,null,"پهلو جدا در پیراهن",null,null,null,"رسم انحنا جلو آستر کت ",null,null,null,"3حلقه آستین با ساسون متغیر",null,null,null,"حلقه آستین با ساسون متغیر",null,null,null,"17یقه گرد ",null,null,null,"یقه گرد ",null,null,null,"11پهلو جدا و ترک وسط و نیمی از حلقه آستین عصایی",null,null,null,"پهلو جدا و ترک وسط و نیمی از حلقه آستین عصایی",null,null,null,"12پهلو جدا و ترک وسط و حلقه آستین عصایی در آستر کت",null,null,null,"پهلو جدا و ترک وسط و حلقه آستین عصایی در آستر کت",null,null,null,null,null,null,"رسم قرینه جلو پیراهن ",null,null,null,null,null,null,null,null,null,null,null,null,null,null,null,null,null,null,null,null,null,null,null,null,null,null,null,null,null,null,null,null,null,null,null,null,null,null,null,null,null,null,null,"طراحی جلو شلوار تا کمر با مایو پادار",null,null,null,"طراحی پشت شلوار تا کمر با مایو پادار",null,null,null,null,null,null,null,null,null,null,null,null,null,null,null,null,null,null,null,null,null,null,null,null,null,null,null,null,null,null,null,null,null,null,null,null,null,null,null,null,null,null,null,null,null,null,null,null,null,null,null,null,null,null,null,null,null,null,null,null,null,null,null,null,null,null,null,null,null,null,null,null,null,null,null,null,null,null,null,null,null,null,null,null,null,null,null,null,null,null,null,null,null,null,null,null,null,null,null,null,null,null,null,null,null,null,null,null,null,null,null,null,null,{"$f":"NU99+NU91-NU92","v":-23.8984375},{"$f":"NV99","v":{"$error":"#VALUE!"}},"w53",null,"نقطه شروع انحنا","مولفه افقی","مولفه عمودی",{"$f":"NZ104","v":-3.0843750000000036},{"$f":"OA104","v":{"$error":"#VALUE!"}},{"$f":"NY104","v":"g4"},null,{"$f":"OF97","v":-33.140625000000007},{"$f":"OG99","v":14.66751918158568},"m44",null,"پهنای نیم دایره",{"$f":"OG40","v":0.5},{"$f":"OG51","v":0.5800511508951407},{"$f":"OK106","v":-10.460625000000002},{"$f":"OL106","v":7.0688491048593347},{"$f":"OJ106","v":"g5"},null,{"$f":"OQ97","v":-33.450520833333336},{"$f":"OR99","v":14.66751918158568},"m44",null,"f12",{"$f":"OV97","v":-30.641588075447569},{"$f":"OW97+0.4*(OW99-OW97)","v":7.4055242966751917},null,null,null,null,{"$f":"PB99","v":-4.78515625},{"$f":"PC99+PC37*PC8","v":15.634271099744248},"n43",null,"زاویه فلش دانه",{"$f":"PC45","v":0.75},"f11",{"$f":"PG103","v":-0.6015625},{"$f":"PH103","v":6.9335038363171364},{"$f":"PF103","v":"n13"},null,{"$f":"PM99","v":-39.302083333333329},{"$f":"PN99+PN37","v":17.567774936061383},"n'48",null,"زاویه فلش دانه",{"$f":"PN45","v":0.75},"f11",{"$f":"PR103","v":2.807291666666655},{"$f":"PS103","v":6.9335038363171364},{"$f":"PQ103","v":"n13"},null,null,null,null,null,"زاویه فلش دانه",{"$f":"PY13","v":0.75},"f11",{"$f":"QC103","v":-45},{"$f":"QD103","v":19.285714285714285},{"$f":"QB103","v":"t21"},null,"تعداد رج دوبل برای گودی گردن جلو b13",{"$f":"F27","v":2},null,null,{"$f":"QI79","v":9.6148808172717555},{"$f":"QJ79","v":29.530675303443079},"a1",null,null,null,null,null,"نقطه ورودی سر فلش","مولفه افقی","مولفه عمودی",{"$f":"QV103","v":-20.952000000000002},{"$f":"QW103","v":13.898726831407767},{"$f":"QU103","v":"f3"},null,null,null,null,null,null,null,null,null,null,null,null,{"$f":"RM40+44*RN28","v":56.527777777777771},{"$f":"RN40","v":-20},44,null,{"$f":"RM67","v":3.8541666666666661},{"$f":"RN67","v":-20},{"$f":"RO67","v":3},null,{"$f":"RU40+44*RV31","v":-2.9163879598662206},{"$f":"RV40","v":0},44,null,null,null,null,null,null,null,null,null,{"$f":"SG40+44*SH28","v":56.527777777777771},{"$f":"SH40","v":-20},44,null,{"$f":"SG67","v":3.8541666666666661},{"$f":"SH67","v":-20},{"$f":"SI67","v":3},null,{"$f":"SO40+44*SP31","v":-2.9163879598662206},{"$f":"SP40","v":0},44,null,null,null,null,null,null,null,null,null,{"$f":"TA40+44*TB28","v":53.472222222222229},{"$f":"TB40","v":-20},44,null,{"$f":"TA67","v":3.6458333333333339},{"$f":"TB67","v":-20},{"$f":"TC67","v":3},null,{"$f":"TI40+44*TJ31","v":-3.8434782608695599},{"$f":"TJ40","v":0},44,null,null,null,null,null,null,null,null,null,{"$f":"TU40+44*TV28","v":53.472222222222229},{"$f":"TV40","v":-20},44,null,{"$f":"TU67","v":3.6458333333333339},{"$f":"TV67","v":-20},{"$f":"TW67","v":3},null,{"$f":"UC40+44*UD31","v":-3.8434782608695599},{"$f":"UD40","v":0},44,null,null,null,null,null,null,null,null,null,{"$f":"UO40+44*UP28","v":56.527777777777771},{"$f":"UP40","v":-20},44,null,{"$f":"UO67","v":3.8541666666666661},{"$f":"UP67","v":-20},{"$f":"UQ67","v":3},null,{"$f":"UW40+44*UX31","v":-2.9163879598662206},{"$f":"UX40","v":0},44,null,null,null,null,null,null,null,null,null,{"$f":"VI40+44*VJ28","v":56.527777777777771},{"$f":"VJ40","v":-20},44,null,{"$f":"VI67","v":3.8541666666666661},{"$f":"VJ67","v":-20},{"$f":"VK67","v":3},null,{"$f":"VQ40+44*VR31","v":-2.9163879598662206},{"$f":"VR40","v":0},44]
[null,null,null,null,"دور کمر","a",null,{"$f":"'متغیرها '!U70+0.3*'متغیرها '!C60*('متغیرها '!U52+'متغیرها '!U54+'متغیرها '!U72)","v":42},null,"(5 → 6)",{"$f":"'متغیرها '!C90*(H124-H123)","v":0.72},{"$f":"0.2*(H124-H123)","v":1.4400000000000004},null,null,null,null,{"$f":"AN122","v":5.7506799999999991},0,8,null,{"$f":"AN134","v":8.81},{"$f":"AO134","v":6.1626753034430788},20,null,{"$f":"H148*'متغیرها '!U73","v":5.625},"(4 → 6)",{"$f":"G148*H121","v":5.625},null,null,null,null,{"$f":"AR123","v":0},0,9,null,{"$f":"AR136","v":9.8202630592487736},{"$f":"AS136","v":6.2016470315831791},22,null,0,{"$f":"K116+AP111","v":7.2000000000000011},4,null,0,{"$f":"AA116+AT111","v":6.9},4,null,3.4000000000000004,"(15 → 16)",4.08,null,{"$f":"AX104-AX119+AX99","v":9.7250000000000014},{"$f":"AX113+AX120+AX98","v":30.142675303443077},18,null,null,null,"کش سویشرت",1.4723153856336246,"(8 → 15)",1.447280471580469,null,null,null,null,null,null,null,null,null,{"$f":"J239","v":11.731117822703059},{"$f":"K239","v":43.566736162773992},"a2",null,{"$f":"BS104+SQRT(POWER(BS118-BS104,2)+POWER(BT118-BT104,2))*SIN(BT103-ATAN((BS104-BS118)/(BT118-BT104)))","v":11.731117822703059},{"$f":"BT104+SQRT(POWER(BS118-BS104,2)+POWER(BT118-BT104,2))*COS(BT103-ATAN((BS104-BS118)/(BT118-BT104)))","v":43.566736162773992},"a2",null,{"$f":"BO103-CB112","v":9.1999999999999993},{"$f":"BP103-CB113","v":34.159456406243606},12,"نقطه حلقه آستین",{"$f":"CA104+SQRT(POWER(CA118-CA104,2)+POWER(CB118-CB104,2))*SIN(ATAN((CA118-CA104)/(CB118-CB104))-CB114)","v":9.1998171153033947},{"$f":"CB104+SQRT(POWER(CA118-CA104,2)+POWER(CB118-CB104,2))*COS(ATAN((CA118-CA104)/(CB118-CB104))-CB114)","v":34.159832332832224},"b6",null,{"$f":"CI119+IF(CI117>CI119,0.3,0.7)*(CI117-CI119)","v":8.4254216832373032},{"$f":"CJ119+0.5*(CJ117-CJ119)","v":36.901468077204129},"24f",null,null,null,null,null,"نقاط حلقه آستین پشت بدون ساسون سرشانه",null,null,null,{"$f":"CQ104","v":5.625},{"$f":"CR104","v":32.420485483870969},40,null,{"$f":"-CU118+CZ101","v":-5.625},{"$f":"CV118","v":32.420485483870969},40,null,{"$f":"BW133","v":9.7252902553755973},{"$f":"BX133","v":30.143197304605337},"b8",null,{"$f":"DC105+(DC115-DC105+3)*COS(DD136-RADIANS('متغیرها '!C187))","v":12.267956144351423},{"$f":"DD105-(DC115-DC105+3)*SIN(DD136-RADIANS('متغیرها '!C187))","v":13.524894072201862},"s''2",null,null,{"$f":"'متغیرها '!C55","v":0},"شیفت افقی تکه پهلو",null,{"$f":"BO101-DP120","v":10.219999999999999},{"$f":"BP101","v":39.922385891323223},18,null,{"$f":"DS104+DD148*SIN(DD143)","v":14.115226505105838},{"$f":"DT104-DD148*COS(DD143)","v":18.033864349024412},"s'2m",null,null,null,null,"پهلو ترک ",null,null,null,"پهلو ترک ",null,{"$f":"BO170-EA138","v":11.267543530829242},{"$f":"BP170-EA139","v":29.229456406243607},10,null,{"$f":"-EF118+ED138","v":-11.267543530829242},{"$f":"EG118","v":29.229456406243607},10,null,null,null,null,null,"αb12g",{"$f":"ES110*EW118","v":9.862028002953302E-2},null,null,"αb12p",{"$f":"(RADIANS(180)-ES117-EW117+ES109)*(1/(1+ES110))","v":4.931014001476651E-2},null,null,null,null,null,null,null,null,null,null,null,null,{"$f":"AZ167+BT130","v":6.0256799999999995},{"$f":"BA167","v":25},"شیفت 40",null,{"$f":"DG112","v":11.250376594491257},{"$f":"DH112","v":29.531412490930801},"b2s",null,{"$f":"FR112","v":10.7},{"$f":"BE178-(H105-H107)","v":8.7656914324753359},"g49",null,null,null,null,null,{"$f":"FZ115","v":9.1750000000000007},{"$f":"GA115","v":18.265691432475336},"49'm",null,{"$f":"CE105","v":5.9261724872003319},{"$f":"CF105","v":41.906043578260295},23,null,{"$f":"-GD118+FK99","v":-5.9261724872003319},{"$f":"GE118","v":41.906043578260295},23,null,9.3012750000000004,17.935459894401724,"41'''",null,{"$f":"-GL118+FS99","v":-9.3012750000000004},17.935459894401724,"41'''",null,null,null,null,null,null,null,null,null,{"$f":"DO103","v":9.1999999999999993},{"$f":"DP103","v":34.159456406243606},{"$f":"DQ103","v":"شیفت12p"},null,{"$f":"-HB118+GI99","v":-9.1999999999999993},{"$f":"HC118","v":34.159456406243606},{"$f":"DU103","v":"شیفت10m"},null,null,null,null,null,null,null,null,null,null,null,{"$f":"-FV117-HY101","v":-9.7690654658084242},{"$f":"FW117","v":18.395998982445796},"شیفت37'",null,{"$f":"-FB116-HY101","v":-8.3352536415613816},{"$f":"FC116","v":40.638674235304215},"شیفت 34b",null,null,null,null,null,{"$f":"-FN118-HY101","v":-11.250376594491257},{"$f":"FO118","v":29.531412490930801},"b2s",null,null,null,null,null,{"$f":"-FI264-HY101","v":0},{"$f":"FJ264","v":30.748417806696608},"p26",null,{"$f":"-FN156-HY101","v":-6.0063138300931964},24.5,"d5",null,{"$f":"-DN246-HY101","v":0},{"$f":"DO246","v":15.310337597091259},"m9",null,{"$f":"-EX247-HY101","v":0},{"$f":"EY247","v":13.499999999999998},"p3",null,null,null,null,null,null,null,null,null,null,null,null,null,null,null,null,null,null,null,null,null,null,null,null,null,null,null,null,null,null,null,null,null,null,null,null,null,null,null,null,null,null,null,null,null,null,null,null,null,null,null,null,null,null,null,null,null,null,null,null,null,null,null,null,null,null,null,null,null,null,null,null,null,null,null,null,null,null,null,null,null,null,null,null,null,null,null,null,null,null,null,null,null,null,null,null,null,null,null,null,null,null,null,null,null,null,null,null,null,null,null,null,null,null,null,null,null,null,null,null,null,null,{"$f":"NU117","v":-43.020833333333329},{"$f":"NV117+NV34","v":{"$error":"#VALUE!"}},"w71",null,"نقطه پایان رج(راست)","مولفه افقی","مولفه عمودی",{"$f":"NZ127","v":-4.8484375000000037},{"$f":"OA127","v":{"$error":"#VALUE!"}},{"$f":"NY127","v":"h13"},null,{"$f":"OF117+OG9/OG50","v":-25.083333333333343},{"$f":"OG117","v":19.501278772378519},"m63",null,"m16",{"$f":"OF75","v":-34.380208333333336},{"$f":"OG75","v":7.9002557544757028},{"$f":"OK125","v":-24.854166666666668},{"$f":"OL125","v":8.1502557544757028},{"$f":"OJ125","v":"h10"},null,{"$f":"OQ117+OR9/OR50","v":-24.153645833333343},{"$f":"OR117","v":19.501278772378519},"m63",null,null,"متغیرهای ورودی",null,{"$f":"OV124","v":-34.690104166666664},{"$f":"OW124","v":7.9002557544757028},{"$f":"OU124","v":"m16"},null,null,null,null,null,"g7",{"$f":"PG113+0.7*PH110*SIN(RADIANS(30)+2*ATAN((PG113-PG116)/(PH113-PH116+0.0001)))","v":0.84633448851404891},{"$f":"PH113-0.7*PH110*COS(RADIANS(30)+2*ATAN((PG113-PG116)/(PH113-PH116+0.0001)))","v":7.3956887446041888},{"$f":"PG113","v":0.51172916666666657},{"$f":"PH113","v":7.6256982097186716},{"$f":"PF113","v":"g11"},null,null,null,null,null,"g7",{"$f":"PR113+0.7*PS110*SIN(RADIANS(30)+2*ATAN((PR113-PR116)/(PS113-PS116+0.0001)))","v":4.2551886551807039},{"$f":"PS113-0.7*PS110*COS(RADIANS(30)+2*ATAN((PR113-PR116)/(PS113-PS116+0.0001)))","v":7.3956887446041888},{"$f":"PR113","v":3.9205833333333215},{"$f":"PS113","v":7.6256982097186716},{"$f":"PQ113","v":"g11"},null,null,null,null,null,"f6",{"$f":"QC117-QC114*QC113*QC115","v":-45.321428571428569},{"$f":"QD120-QC113*QC115","v":24.142857142857142},null,null,null,null,"بافت انتخابی یقه انگلیسی",{"$f":"AD22","v":"جودانه"},{"$f":"\"بافت یقه انگلیسی: \"&TEXT(0,QJ118)","v":"بافت یقه انگلیسی: جودانه"},null,{"$f":"QM114","v":-8.032},{"$f":"QN116-3","v":21.01},"26'***",null,null,null,null,null,null,null,null,null,null,null,null,null,null,null,null,"p14",{"$f":"RB73","v":-32.8125},{"$f":"RC73","v":7.9002557544757046},{"$f":"RG125","v":-25.711458333333336},{"$f":"RH125","v":8.1502557544757046},{"$f":"RF125","v":"h10"},null,{"$f":"RM40+67*RN28","v":86.076388888888886},{"$f":"RN40","v":-20},67,null,{"$f":"IF(RN26>(RM73-RM40),RM73,RM40)","v":0},{"$f":"IF(RN26>(RM73-RM40),RN73,RN40)","v":-20},11,null,{"$f":"RU40+67*RV31","v":16.468227424749166},{"$f":"RV40","v":0},67,null,null,null,null,null,null,null,null,null,{"$f":"SG40+67*SH28","v":86.076388888888886},{"$f":"SH40","v":-20},67,null,{"$f":"IF(SH26>(SG73-SG40),SG73,SG40)","v":0},{"$f":"IF(SH26>(SG73-SG40),SH73,SH40)","v":-20},11,null,{"$f":"SO40+67*SP31","v":16.468227424749166},{"$f":"SP40","v":0},67,null,null,null,null,null,null,null,null,null,{"$f":"TA40+67*TB28","v":81.423611111111114},{"$f":"TB40","v":-20},67,null,{"$f":"IF(TB26>(TA73-TA40),TA73,TA40)","v":0},{"$f":"IF(TB26>(TA73-TA40),TB73,TB40)","v":-20},11,null,{"$f":"TI40+67*TJ31","v":15.056521739130446},{"$f":"TJ40","v":0},67,null,null,null,null,null,null,null,null,null,{"$f":"TU40+67*TV28","v":81.423611111111114},{"$f":"TV40","v":-20},67,null,{"$f":"IF(TV26>(TU73-TU40),TU73,TU40)","v":0},{"$f":"IF(TV26>(TU73-TU40),TV73,TV40)","v":-20},11,null,{"$f":"UC40+67*UD31","v":15.056521739130446},{"$f":"UD40","v":0},67,null,null,null,null,null,null,null,null,null,{"$f":"UO40+67*UP28","v":86.076388888888886},{"$f":"UP40","v":-20},67,null,{"$f":"IF(UP26>(UO73-UO40),UO73,UO40)","v":0},{"$f":"IF(UP26>(UO73-UO40),UP73,UP40)","v":-20},11,null,{"$f":"UW40+67*UX31","v":16.468227424749166},{"$f":"UX40","v":0},67,null,null,null,null,null,null,null,null,null,{"$f":"VI40+67*VJ28","v":86.076388888888886},{"$f":"VJ40","v":-20},67,null,{"$f":"IF(VJ26>(VI73-VI40),VI73,VI40)","v":0},{"$f":"IF(VJ26>(VI73-VI40),VJ73,VJ40)","v":-20},11,null,{"$f":"VQ40+67*VR31","v":16.468227424749166},{"$f":"VR40","v":0},67]
[null,null,null,null,"زاویه خام سرشانه پشت",{"$f":"ATAN((I126-I125)/(0.52*H168-H163))","v":0.38605751010851269},{"$f":"ROUND(DEGREES(F135),0)","v":22},null,null,"(17 → 18)",{"$f":"0.15*K133","v":0.61199999999999999},{"$f":"0.15*L133","v":0.51},null,"(36 → 32')",{"$f":"O130/COS(O133)","v":7.3287512840200888},{"$f":"P130/COS(P133)","v":7.2275526184878531},{"$f":"AN135","v":10.580000000000002},{"$f":"AO135","v":8.6106753034430792},21,null,{"$f":"AN123","v":6.3006799999999998},{"$f":"AO123","v":0},9,null,{"$f":"H155+AE127","v":2.103307693762321},"(14 → 17)",{"$f":"G155+0.25*'متغیرها '!C76*G167*COS(AD140)+'متغیرها '!C61*H120-1.2*0.5*'متغیرها '!C78*G167*COS(AD140)+AD127-'متغیرها '!C77*O128*H130*((Y115-Y121-Y123-Y124-Y127)/(Y130))","v":2.0675435308292416},null,"(38 → 34')",{"$f":"AD130/COS(AD133)","v":3.768540266092661},{"$f":"AE130/COS(AE133)","v":3.7688633124600361},{"$f":"AR132","v":9.1999999999999993},{"$f":"AS132","v":9.1596470315831802},18,null,{"$f":"AR122","v":5.625},{"$f":"AS122","v":7.4204854838709675},8,null,{"$f":"K115-K132+K138","v":10.580000000000002},{"$f":"K127+K133+AP111","v":8.6106753034430792},21,null,{"$f":"AA115-AA139","v":9.8202630592487736},{"$f":"AA130+AT111","v":4.2296470315831787},21,null,{"$f":"L150","v":2.4143168200849163},"(25 → 31)",{"$f":"K150","v":1.2048108634080568},null,{"$f":"AX104-AX117+AX123-AX138+AX99","v":8.3333922073650939},{"$f":"AX113+AX118+AX124+AX98","v":39.44652196438269},33,null,{"$f":"BD125","v":0},{"$f":"BE125","v":15.899999999999999},null,{"$f":"Y154","v":0.78800050088198204},"(29 → 30)",{"$f":"AA154","v":0.39395642173970558},null,{"$f":"BI131+BI98","v":4.4446293654002487},{"$f":"BI103-BI132+BI97","v":41.002754764071852},28,null,null,null,null,null,{"$f":"AZ96-BT130","v":8.2000000000000011},{"$f":"BA96","v":33.610675303443081},16,"نقطه حلقه آستین",{"$f":"BS104+SQRT(POWER(BS135-BS104,2)+POWER(BT135-BT104,2))*SIN(ATAN((BS135-BS104)/(BT135-BT104))-IF(AND(BX101=1,BX102=0),(ATAN((BS138-BS104)/(BT138-BT104))-ATAN((BS109-BS104)/(BT109-BT104))),BT131))","v":8.1998009295414409},{"$f":"BT104+SQRT(POWER(BS135-BS104,2)+POWER(BT135-BT104,2))*COS(ATAN((BS135-BS104)/(BT135-BT104))-IF(AND(BX101=1,BX102=0),(ATAN((BS138-BS104)/(BT138-BT104))-ATAN((BS109-BS104)/(BT109-BT104))),BT131))","v":33.610982089848804},"b6",null,{"$f":"BO102-CB112","v":9.5059999999999985},{"$f":"BP102-CB113","v":37.329067623037396},20,"نقطه حلقه آستین",{"$f":"CA104+SQRT(POWER(CA135-CA104,2)+POWER(CB135-CB104,2))*SIN(ATAN((CA135-CA104)/(CB135-CB104))-CB130)","v":8.9687846629732668},{"$f":"CB104+SQRT(POWER(CA135-CA104,2)+POWER(CB135-CB104,2))*COS(ATAN((CA135-CA104)/(CB135-CB104))-CB130)","v":37.709667249003303},"b12",null,"نقطه تقاطع","g1",{"$f":"(CL133-CL131+CK131*((CL132-CL131)/(CK132-CK131))-CK133*((CL134-CL133)/(CK134-CK133)))/(((CL132-CL131)/(CK132-CK131))-((CL134-CL133)/(CK134-CK133)))","v":6.6543005751026589},{"$f":"CL131+(CK135-CK131)*((CL132-CL131)/(CK132-CK131))","v":35.822037805559162},{"$f":"CI109","v":5.9244108634080561},{"$f":"CJ109","v":41.300688577032062},25,null,"نقطه اول از خط دوم",40,{"$f":"CU118","v":5.625},{"$f":"CV118","v":32.420485483870969},{"$f":"CU105","v":9.4067543530829241},{"$f":"CV105","v":32.048486426660716},"16fشیفت",null,{"$f":"-CU135+CZ101","v":-9.4067543530829241},{"$f":"CV135","v":32.048486426660716},"16fشیفت",null,"(45→s'2)",{"$f":"SQRT(POWER((DC115-DG119),2)+POWER((DD115-DH119),2))*IF('متغیرها '!C187>0,1,-1)","v":-3.5912547909420249},null,null,null,null,null,null,{"$f":"DK121","v":9.7250000000000014},{"$f":"DL121","v":29.530675303443079},"شیفت 14m",null,null,{"$f":"SQRT(POWER(DK112-DK111,2)+POWER(DL112-DL111,2))","v":40.841076777124201},"m''",null,null,null,null,null,null,null,null,null,null,null,null,null,null,null,null,null,null,null,null,null,null,null,null,null,null,{"$f":"BW136","v":8.913389198222271},{"$f":"BX136","v":36.529006137950716},24,"نقطه حلقه آستین",null,{"$f":"CE119","v":9.505483806868293},{"$f":"CF119","v":37.329475710137118},20,"نقطه حلقه آستین",null,{"$f":"BW105","v":5.9244108634080561},{"$f":"BX105","v":41.300688577032062},"چرخیده25",null,3.9807521677641873,47.897246878152224,"p6",null,null,null,null,null,{"$f":"DC107","v":6.0256799999999995},{"$f":"DD107","v":25},39,null,{"$f":"BD97","v":-7.532},{"$f":"BE97","v":17.899999999999999},"1'",null,{"$f":"DG126","v":9.7253765944912587},{"$f":"DH126","v":30.14316266987127},{"$f":"DI126","v":"b'8s"},null,null,null,null,null,null,null,null,null,null,null,null,null,null,null,null,null,null,null,null,null,{"$f":"BO178","v":0},{"$f":"BP178","v":25},44,null,{"$f":"-GT135+GA99","v":0},{"$f":"GU135","v":25},44,null,null,null,null,null,null,null,null,null,null,null,{"$f":"HL129","v":-11.25},{"$f":"DT173","v":29.530675303443079},13,null,{"$f":"-CM143-HY101","v":-4.7395286907264449},{"$f":"CN143","v":38.594707704219914},30,null,null,null,null,null,null,null,null,null,{"$f":"IB132","v":-6.2456799999999992},{"$f":"IC132","v":17.899999999999999},52,null,{"$f":"-FR135-HY101","v":7.532},{"$f":"FS135","v":17.899999999999999},"1'",null,null,null,null,null,{"$f":"-AR279-HY101","v":0},{"$f":"AS279","v":17.899999999999999},1,null,{"$f":"-DN282-HY101","v":0},{"$f":"DO282","v":30.01},"e'1",null,{"$f":"-DR267-HY101","v":0},{"$f":"DS267","v":23.225000000000001},"s1",null,null,null,null,null,null,null,null,"کمر",null,{"$f":"-JI110+JL125","v":-12.600000000000001},{"$f":"JJ110","v":17.96447253527586},42,null,null,null,null,null,null,null,null,null,null,null,null,null,null,null,null,null,null,null,null,null,null,null,null,null,null,null,null,null,null,null,null,null,null,null,null,null,null,null,null,null,null,null,null,null,null,null,null,null,null,null,null,null,null,null,null,null,null,null,null,null,null,null,null,null,null,null,null,null,null,null,null,null,null,null,null,null,null,null,null,null,null,null,null,null,null,null,null,null,null,null,null,null,null,null,null,null,null,null,null,null,null,null,null,null,null,null,null,null,null,null,null,null,null,null,null,null,"w13",{"$f":"NU60","v":-7.4375000000000036},{"$f":"NV60","v":{"$error":"#VALUE!"}},{"$f":"NZ140","v":-7.8050000000000042},{"$f":"OA140","v":{"$error":"#VALUE!"}},{"$f":"NY140","v":"g6"},null,{"$f":"OF132-OG55*(OF132-OF133)","v":-20.955520833333331},{"$f":"OG132","v":24.33503836317136},"m80",null,"ارتفاع هر رج",{"$f":"OG39","v":0.96675191815856776},"w11",null,null,null,null,{"$f":"OQ132-OR55*(OQ132-OQ133)","v":-21.624895833333333},{"$f":"OR132","v":24.33503836317136},"m80",null,null,null,null,null,null,null,null,null,null,null,null,"n16",{"$f":"PB75","v":-0.6015625},{"$f":"PC75","v":7.9002557544757046},{"$f":"PG136","v":-0.89158807544757035},{"$f":"PH136","v":8.113554987212277},{"$f":"PF136","v":"f6"},null,null,null,null,null,"نقطه ورودی سر فلش","مولفه افقی","مولفه عمودی",{"$f":"PR136","v":-2.4299479166666762},{"$f":"PS136","v":6.9335038363171364},{"$f":"PQ136","v":"n'19"},null,null,null,null,null,null,null,null,-49.5,27.571428571428569,"t30",null,null,null,null,null,{"$f":"QI125","v":7.532},{"$f":"QJ125","v":30.01},"d22",null,null,null,null,null,null,null,null,null,null,null,null,null,null,null,null,"نقطه شروع انحنا","مولفه افقی","مولفه عمودی",{"$f":"RG139","v":-33.337499999999999},{"$f":"RH139","v":9.833759590792841},{"$f":"RF139","v":"g4"},null,{"$f":"RM40+88*RN28","v":113.05555555555554},{"$f":"RN40","v":-20},88,null,null,null,null,null,{"$f":"RU40+88*RV31","v":34.167224080267559},{"$f":"RV40","v":0},88,null,{"$f":"RY134","v":-40},{"$f":"RV160","v":10.277777777777777},null,null,{"$f":"SC134","v":-40},{"$f":"RV38","v":10.277777777777777},null,null,{"$f":"SG40+88*SH28","v":113.05555555555554},{"$f":"SH40","v":-20},88,null,null,null,null,null,{"$f":"SO40+88*SP31","v":34.167224080267559},{"$f":"SP40","v":0},88,null,{"$f":"SS134","v":-40},{"$f":"SP160","v":10.277777777777777},null,null,{"$f":"SW134","v":-40},{"$f":"SP38","v":10.277777777777777},null,null,{"$f":"TA40+88*TB28","v":106.94444444444446},{"$f":"TB40","v":-20},88,null,null,null,null,null,{"$f":"TI40+88*TJ31","v":32.31304347826088},{"$f":"TJ40","v":0},88,null,{"$f":"TM134","v":-40},{"$f":"TJ160","v":9.7222222222222232},null,null,{"$f":"TQ134","v":-40},{"$f":"TJ38","v":9.7222222222222232},null,null,{"$f":"TU40+88*TV28","v":106.94444444444446},{"$f":"TV40","v":-20},88,null,null,null,null,null,{"$f":"UC40+88*UD31","v":32.31304347826088},{"$f":"UD40","v":0},88,null,{"$f":"UG134","v":-40},{"$f":"UD160","v":9.7222222222222232},null,null,{"$f":"UK134","v":-40},{"$f":"UD38","v":9.7222222222222232},null,null,{"$f":"UO40+88*UP28","v":113.05555555555554},{"$f":"UP40","v":-20},88,null,null,null,null,null,{"$f":"UW40+88*UX31","v":34.167224080267559},{"$f":"UX40","v":0},88,null,{"$f":"VA134","v":-40},{"$f":"UX160","v":10.277777777777777},null,null,{"$f":"VE134","v":-40},{"$f":"UX38","v":10.277777777777777},null,null,{"$f":"VI40+88*VJ28","v":113.05555555555554},{"$f":"VJ40","v":-20},88,null,null,null,null,null,{"$f":"VQ40+88*VR31","v":34.167224080267559},{"$f":"VR40","v":0},88,null,{"$f":"VU134","v":-40},{"$f":"VR160","v":10.277777777777777},null,null,{"$f":"VY134","v":-40},{"$f":"VR38","v":10.277777777777777}]
[null,null,null,null,"نصف پهنای ساسون جلو کمر","y''",{"$f":"0.5*'متغیرها '!C87*(H120-H121-H118+H119)","v":0.27500000000000036},{"$f":"0.5*'متغیرها '!C87*('متغیرها '!U72-'متغیرها '!U73-'متغیرها '!U70+'متغیرها '!U71)","v":0.27500000000000036},null,"(25 → 32)","وصل",null,null,"(36' → 36)",{"$f":"SIN(G161)*K159","v":1.4967568571418028},{"$f":"SIN(H161)*L159","v":1.6241200000000013},{"$f":"AN116","v":0},{"$f":"AO116","v":16.300688577032059},2,null,null,null,"دکلته ساسون سرشانه",null,null,"(27→32→30→28)","هلال وصل",null,"(38' → 38)",{"$f":"IF((4*G170)<G172,SIN(G159)*(4*G170),SIN(G159)*G172)","v":0.83582296676476586},{"$f":"IF((4*H170)<H172,SIN(H159)*(4*H170),SIN(H159)*H172)","v":0.835901643071011},{"$f":"AR141","v":5.9261724872003319},{"$f":"AS141","v":16.906043578260295},27,null,null,null,null,null,{"$f":"K162","v":-7.532},{"$f":"K114-K144+AP111","v":10.888726831407764},38,null,{"$f":"AA115-AA135+AA141-AA156","v":8.0699675930700536},{"$f":"AA130+AA136+AA142+AA157+AT111","v":16.272182372291031},36,null,{"$f":"MIN(AV150,AV151)+0.5*ABS((AV150-AV151))","v":0.13750000000000018},"*",{"$f":"MIN(AX150,AX151)+0.5*ABS((AX150-AX151))","v":0.13750000000000018},null,null,null,null,null,{"$f":"0.42*AX104+AX99","v":4.7249999999999996},{"$f":"0+AX98","v":17.899999999999999},"3'",{"$f":"BG148-1*('متغیرها '!U58-'متغیرها '!U60)","v":9.5},"(1 → 37)",{"$f":"BI148-'متغیرها '!C96*(H106-H108)","v":0.71},null,"ساسون کمر",null,null,null,{"$f":"BK126","v":11.65877176541462},{"$f":"BL126","v":17.96447253527586},"6شیفت",null,null,"به دست آوردن نقطه تقاطع دو خط (رگلان بدون درز)","مولفه افقی","مولفه عمودی",{"$f":"BW136","v":8.913389198222271},{"$f":"BX136","v":36.529006137950716},"b12",null,null,"به دست آوردن نقطه تقاطع دو خط (رگلان بدون درز)","مولفه افقی","مولفه عمودی",null,null,null,null,"نقاط  ورودی",null,null,null,null,"بعضی نقاط  ورودی جلو",null,null,null,null,null," جلو بالاتنه کمر جناقی ",null,null,null,null,null,null,"جادکمه یقه گرد در بالاتنه",null,null,null," 15پشت بالاتنه کمر جناقی ",null,null,null,null,null,null,null,null,null,"نقاط  ورودی",null,null,null,null,null,"حلقه آستین عصایی",null,"نقاط  ورودی",null,null,null,null,null,"حلقه آستین عصایی",null,"قرینه",{"$f":"2*C102","v":0},null,null,null,null,null,null,null,null,null,null,null,null,null,null,null,null,{"$f":"EW151+EX142*COS(EX147-RADIANS(EX137))","v":10.220726202373168},{"$f":"EX151-EX142*SIN(EX147-RADIANS(EX137))","v":39.926801761967326},"18b",null,null,{"$f":"BW140+BT130","v":11.250376594491257},{"$f":"BX140","v":29.531412490930801},"شیفت b2",null,2.3697643453632224,36.429923005970196,28,null,{"$f":"BW112","v":-7.5319999631205334},{"$f":"BX112","v":32.200999999997286},"چرخیده 4'",null,{"$f":"CE184","v":-7.532},{"$f":"CF184","v":31.333236098844662},"8n",null,{"$f":"BD175","v":6.0256799999999995},{"$f":"BE175","v":31.48},43,null,{"$f":"ES161","v":0.82956400000000019},{"$f":"ET161","v":5.8999999999999986},"a'5",null,{"$f":"FF116","v":11.731117822703059},{"$f":"FG116","v":43.566736162773992},"a2",null,{"$f":"BK159","v":4.9750000000000005},{"$f":"BL159","v":25},34,null,{"$f":"-GD152+FK99","v":-4.9750000000000005},{"$f":"GE152","v":25},34,null,{"$f":"BK129","v":11.65877176541462},{"$f":"BL129","v":17.96447253527586},"4شیفت",null,{"$f":"-GL152+FS99","v":-11.65877176541462},{"$f":"GM152","v":17.96447253527586},"4شیفت",null,{"$f":"EX180","v":-12.485399538233546},{"$f":"EY180","v":16.888632863389031},"a'26",null,{"$f":"-GT152+GA99","v":12.485399538233546},{"$f":"GU152","v":16.888632863389031},"a'26",null,{"$f":"BK165","v":12.600000000000001},{"$f":"BL162-(H105-H108)","v":17.96447253527586},"b42",null,{"$f":"-HB152+GI99","v":-12.600000000000001},{"$f":"HC152","v":17.96447253527586},"b42",null,null,null,null,null,"خطوط برش پیش سینه",null,null,null,null,null,{"$f":"-FR147-HY101","v":-6.0256799999999995},{"$f":"FS147","v":25},"40شیفت",null,null,null,null,null,null,null,null,null,{"$f":"-FR108-HY101","v":0},{"$f":"FS108","v":17.899999999999999},"g46",null,{"$f":"-CY160-HY101","v":-6.0256799999999995},{"$f":"CZ160","v":32.200000000000003},"بالاتنه 5",null,null,null,null,null,null,null,null,null,null,null,null,null,{"$f":"-DP482-HY101","v":-8.485627154977486},{"$f":"DQ482","v":24.846021160879872},"β11",null,null,null,null,null,null,null,null,null,null,null,null,null,null,null,null,null,null,null,null,null,null,null,null,null,null,null,null,null,null,null,null,null,null,null,null,null,null,null,null,null,null,null,null,null,null,null,null,null,null,null,null,null,null,null,null,null,null,null,null,null,null,null,null,null,null,null,null,null,null,null,null,null,null,null,null,null,null,null,null,null,null,null,null,null,null,null,null,null,null,null,null,null,null,null,null,null,null,null,null,null,null,null,null,null,null,null,null,null,null,null,null,null,null,null,null,null,null,null,null,null,null,null,null,null,null,null,null,null,null,null,null,null,{"$f":"OF150+0.1*(OF151-OF150)","v":-35.712760416666669},{"$f":"OG150","v":39.803069053708448},"m97",null,"زاویه فلش",{"$f":"OG44","v":0.5},"f5",null,null,"فلش به سمت چپ",null,{"$f":"OQ150+0.1*(OQ151-OQ150)","v":-36.208593750000006},{"$f":"OR150","v":39.803069053708448},"m97",null,"بزرگی فلش دانه",{"$f":"OR46","v":0.4},"f10",{"$f":"OV159","v":-16.344270833333336},{"$f":"OW159","v":8.5002557544757025},{"$f":"OU159","v":"f8"},null,null,null,null,null,"زاویه فلش دانه",{"$f":"PC45","v":0.75},"f11",{"$f":"PG155","v":-5.3274739583333339},{"$f":"PH155","v":7.9002557544757046},{"$f":"PF155","v":"n19"},null,null,null,null,null,null,"متغیرهای ورودی",null,{"$f":"PR158","v":-35.619791666666664},{"$f":"PS158","v":7.9002557544757046},{"$f":"PQ158","v":"n'23"},null,{"$f":"PX148+0.5*(PX149-PX148)","v":42.5},{"$f":"PY149+0.5*(PY150-PY149)","v":21},"t38",null,null,null,null,{"$f":"PX148","v":35},{"$f":"PY148","v":20},{"$f":"PZ148","v":"t34"},null,null,null,null,null,null,null,null,null,null,null,null,null,null,null,null,null,null,null,null,null,null,null,null,"بزرگی خط عمودی دانه",{"$f":"RC45","v":0.30000000000000004},"f9",null,null,"فلش به سمت پایین",null,null,null,null,null,{"$f":"RQ151","v":0},{"$f":"RN38","v":-40.22742474916388},null,null,"پهنا عمودی",{"$f":"IF(AND((RY149-RY89)>0,(RV149-(RY149-RY89))>(RU188-RU187)),\"پهنای عمودی توری کوچکتر از انتخاب شما است \",\"  \")","v":"  "},"خطا : ",null,null,null,null,null,{"$f":"IF(RV27>(RU107-RU40),RU107,RU40)","v":-40},{"$f":"IF(RV27>(RU107-RU40),RV107,RV40)","v":0},53,null,null,null,null,null,{"$f":"SK151","v":0},{"$f":"SH38","v":-40.22742474916388},null,null,"پهنا عمودی",{"$f":"IF(AND((SS149-SS89)>0,(SP149-(SS149-SS89))>(SO188-SO187)),\"پهنای عمودی توری کوچکتر از انتخاب شما است \",\"  \")","v":"  "},"خطا : ",null,null,null,null,null,{"$f":"IF(SP27>(SO107-SO40),SO107,SO40)","v":-40},{"$f":"IF(SP27>(SO107-SO40),SP107,SP40)","v":0},53,null,null,null,null,null,{"$f":"TE151","v":0},{"$f":"TB38","v":-39.721739130434784},null,null,"پهنا عمودی",{"$f":"IF(AND((TM149-TM89)>0,(TJ149-(TM149-TM89))>(TI188-TI187)),\"پهنای عمودی توری کوچکتر از انتخاب شما است \",\"  \")","v":"  "},"خطا : ",null,null,null,null,null,{"$f":"IF(TJ27>(TI107-TI40),TI107,TI40)","v":-40},{"$f":"IF(TJ27>(TI107-TI40),TJ107,TJ40)","v":0},53,null,null,null,null,null,{"$f":"TY151","v":0},{"$f":"TV38","v":-39.721739130434784},null,null,"پهنا عمودی",{"$f":"IF(AND((UG149-UG89)>0,(UD149-(UG149-UG89))>(UC188-UC187)),\"پهنای عمودی توری کوچکتر از انتخاب شما است \",\"  \")","v":"  "},"خطا : ",null,null,null,null,null,{"$f":"IF(UD27>(UC107-UC40),UC107,UC40)","v":-40},{"$f":"IF(UD27>(UC107-UC40),UD107,UD40)","v":0},53,null,null,null,null,null,{"$f":"US151","v":0},{"$f":"UP38","v":-40.22742474916388},null,null,"پهنا عمودی",{"$f":"IF(AND((VA149-VA89)>0,(UX149-(VA149-VA89))>(UW188-UW187)),\"پهنای عمودی توری کوچکتر از انتخاب شما است \",\"  \")","v":"  "},"خطا : ",null,null,null,null,null,{"$f":"IF(UX27>(UW107-UW40),UW107,UW40)","v":-40},{"$f":"IF(UX27>(UW107-UW40),UX107,UX40)","v":0},53,null,null,null,null,null,{"$f":"VM151","v":0},{"$f":"VJ38","v":-40.22742474916388},null,null,"پهنا عمودی",{"$f":"IF(AND((VU149-VU89)>0,(VR149-(VU149-VU89))>(VQ188-VQ187)),\"پهنای عمودی توری کوچکتر از انتخاب شما است \",\"  \")","v":"  "},"خطا : ",null,null,null,null,null,{"$f":"IF(VR27>(VQ107-VQ40),VQ107,VQ40)","v":-40},{"$f":"IF(VR27>(VQ107-VQ40),VR107,VR40)","v":0},53]
[null,null,null,null,"پهنای ساسون سرشانه پشت",null,{"$f":"(G181/COS(G158))-G167","v":0.91517015862493167},{"$f":"(H181/COS(H158))-H167","v":0.91524579227396696},null,null,null,null,null,null,null,null,null,null,null,null,null,null,null,null,null,null,null,null,null,null,null,null,null,null,null,null,null,null,null,null,null,null,null,null,null,null,null,null,"(52→52')",{"$f":"0.25*'متغیرها '!C130*(H102-H103)","v":0.49500000000000005},null,{"$f":"0+AX99","v":0},{"$f":"AX155+(H124-H123)+AX98","v":32.200000000000003},"خط سینه",null,"خطوط برش ساسون کمر ",null,null,null,"(50→50')",{"$f":"BI169","v":0.63},null,{"$f":"-BI165+BI98","v":0},{"$f":"BI167+BI97","v":17.899999999999999},48,null,{"$f":"BI108+BI98+'متغیرها '!C56","v":11.267543530829242},{"$f":"BI110-BI112+BI97+'متغیرها '!C57","v":29.229456406243607},"10شیفت",null,"متغیرهای محاسبه ای چرخش کامل به ساسون زیر بغل",null,null,null,null,null,null,null,null,null,null,null,null,null,null,null,{"$f":"ER423","v":0},{"$f":"ES415","v":42.300000000000004},2,null,null,{"$f":"J309","v":0},{"$f":"K309","v":24.5},"d1",null,{"$f":"IF(CO159>CO155,CN159,CN155)","v":6.0256799999999995},{"$f":"IF(CO159>CO155,CO159,CO155)","v":25}," شیفت40 یا dd5",{"$f":"-CR170-HY101","v":-6.0256799999999995},{"$f":"CS170","v":25}," شیفت40 یا dd5",null,null,null,null,null,{"$f":"IF(CO172>CO203,CN172,CN203)","v":6.1818859047168946},{"$f":"IF(CO172>CO203,CO172,CO203)","v":24.5}," شیفت38'' یا dd2",null,null,null,null,null,null,{"$f":"-DC170+DM153","v":-6.1818859047168946},{"$f":"DD170","v":24.5}," شیفت38'' یا dd2","نقاط  خروجی ",null,null,"شیفت",{"$f":"DO159+DP160","v":8.81},{"$f":"DP159","v":31.162675303443081},{"$f":"DQ159","v":"20g"},null,"(1 → 34)",{"$f":"DX154+0.75*(DX155-DX154)","v":33.724995620591912},null,"شیفت",{"$f":"CA122+DX161","v":11.267543530829242},{"$f":"CB122+DX162","v":29.229456406243607},{"$f":"CC122","v":9},null,{"$f":"-EA170+EF152","v":-11.267543530829242},{"$f":"EB170","v":29.229456406243607},{"$f":"CG122","v":"b14"},null,null,null,null,null,null,null,{"$f":"EO169+0.3*(EO166-EO169)","v":3.4158959344491224},{"$f":"EP169+0.9*(EP166-EP169)","v":26.715496737444454},"a6",null,{"$f":"DL118","v":0},"شیفت افقی",null,null,null,"αa23",{"$f":"ATAN((EX158-EX157)/(EY157-EY158))","v":0.72576745026627865},null,null,-1.7800315296243854,19.516996792439656,"6n'",null,null,null,null,null,null,null,null,null,null,null,null,null,null,null,null,null,null,null,null,null,null,null,null,null,null,null,null,null,null,null,null,null,null,null,null,null,null,null,null,null,null,null,null,null,null,null,null,null,{"$f":"'متغیرها '!C53","v":0},{"$f":"'متغیرها '!C54","v":0},null,null,{"$f":"-HB170+GI99","v":0},{"$f":"HC170","v":0},null,null,null,null,null,null,null,null,{"$f":"-FF147-HY101","v":7.532},{"$f":"FG147","v":30.01},"e1",null,{"$f":"-CA191-HY101","v":5.3750118236091451},{"$f":"CB191","v":22.958086532341532},"7n'",null,{"$f":"-FN175-HY101","v":-11.64122823458538},{"$f":"FO175","v":18.265691432475336},"شیفت9",null,{"$f":"-FF156-HY101","v":-11.64122823458538},{"$f":"FG156","v":18.265691432475336},"شیفت7",null,null,null,"70'",null,{"$f":"-CO184-HY101","v":0},{"$f":"CP184","v":24.5},"d4",null,null,null,null,null,null,null,null,null,null,null,null,null,null,null,null,null,null,null,null,null,null,null,null,null,null,null,null,null,null,null,null,null,null,null,null,null,null,null,null,null,null,null,null,null,null,null,null,null,null,null,null,null,null,null,null,null,null,null,null,null,null,null,null,null,null,null,null,null,null,null,null,null,null,null,null,null,null,null,null,null,null,null,null,null,null,null,null,null,null,null,null,null,null,null,null,null,null,null,null,null,null,null,null,null,null,null,null,null,null,null,null,null,null,null,null,null,null,null,null,null,null,null,null,null,null,null,null,null,null,null,null,null,null,null,null,null,null,null,null,null,null,"نقطه ورودی سر فلش","مولفه افقی","مولفه عمودی",{"$f":"NZ173","v":-31.039198369565216},{"$f":"OA173","v":{"$error":"#VALUE!"}},{"$f":"NY173","v":"f3"},null,null,null,null,null,"g8",{"$f":"OK164-0.7*OL161*SIN(RADIANS(30)-ATAN((OK164-OK167)/(OL164-OL167+0.0001)))","v":-35.225506670376113},{"$f":"OL164-0.7*OL161*COS(RADIANS(30)-ATAN((OK164-OK167)/(OL164-OL167+0.0001)))","v":8.102994516198212},{"$f":"OK169","v":-35.076167826263699},{"$f":"OL169","v":8.252214884451357},{"$f":"OJ169","v":"g7"},null,null,null,null,null,null,null,null,null,null,null,null,null,null,null,null,"f7",{"$f":"PG168+PG168-PG169","v":-21.787318174552436},{"$f":"PH169","v":8.2869565217391319},{"$f":"PG168","v":-22.077343750000004},{"$f":"PH168","v":7.9002557544757046},{"$f":"PF168","v":"n21"},null,null,null,null,null,null,null,null,{"$f":"PR162","v":-16.096354166666671},{"$f":"PS162","v":7.9002557544757046},{"$f":"PQ162","v":"h5"},null,null,null,null,null,null,null,null,null,null,null,null,null,null,null,null,null,null,null,null,null,null,null,null,null,null,null,null,null,null,null,null,null,null,null,null,"متغیرهای ورودی",null,{"$f":"RG176","v":-14.94791666666667},{"$f":"RH176","v":11.767263427109976},{"$f":"RF176","v":"p17"},null,null,null,null,null,{"$f":"RQ169","v":0},{"$f":"RN38","v":-40.22742474916388},null,null,{"$f":"RU162+40*RV153","v":-6.2876254180602018},{"$f":"RV162","v":0},40,null,null,null,null,null,{"$f":"IF(RV27>(RU113-RU40),RU113,RU40)","v":-40},{"$f":"IF(RV27>(RU113-RU40),RV113,RV40)","v":0},61,null,null,null,null,null,{"$f":"SK169","v":0},{"$f":"SH38","v":-40.22742474916388},null,null,{"$f":"SO162+40*SP153","v":-6.2876254180602018},{"$f":"SP162","v":0},40,null,null,null,null,null,{"$f":"IF(SP27>(SO113-SO40),SO113,SO40)","v":-40},{"$f":"IF(SP27>(SO113-SO40),SP113,SP40)","v":0},61,null,null,null,null,null,{"$f":"TE169","v":0},{"$f":"TB38","v":-39.721739130434784},null,null,{"$f":"TI162+40*TJ153","v":-7.1304347826086882},{"$f":"TJ162","v":0},40,null,null,null,null,null,{"$f":"IF(TJ27>(TI113-TI40),TI113,TI40)","v":-40},{"$f":"IF(TJ27>(TI113-TI40),TJ113,TJ40)","v":0},61,null,null,null,null,null,{"$f":"TY169","v":0},{"$f":"TV38","v":-39.721739130434784},null,null,{"$f":"UC162+40*UD153","v":-7.1304347826086882},{"$f":"UD162","v":0},40,null,null,null,null,null,{"$f":"IF(UD27>(UC113-UC40),UC113,UC40)","v":-40},{"$f":"IF(UD27>(UC113-UC40),UD113,UD40)","v":0},61,null,null,null,null,null,{"$f":"US169","v":0},{"$f":"UP38","v":-40.22742474916388},null,null,{"$f":"UW162+40*UX153","v":-6.2876254180602018},{"$f":"UX162","v":0},40,null,null,null,null,null,{"$f":"IF(UX27>(UW113-UW40),UW113,UW40)","v":-40},{"$f":"IF(UX27>(UW113-UW40),UX113,UX40)","v":0},61,null,null,null,null,null,{"$f":"VM169","v":0},{"$f":"VJ38","v":-40.22742474916388},null,null,{"$f":"VQ162+40*VR153","v":-6.2876254180602018},{"$f":"VR162","v":0},40,null,null,null,null,null,{"$f":"IF(VR27>(VQ113-VQ40),VQ113,VQ40)","v":-40},{"$f":"IF(VR27>(VQ113-VQ40),VR113,VR40)","v":0},61]
[null,null,null,null,null,null,null,null,null,null,null,null,null,null,null,null,null,null,null,null,null,null,null,null,null,null,null,null,null,null,null,null,null,null,null,null,null,null,null,null,null,null,null,null,null,null,null,null,null,null,null,null,null,null,null,{"$f":"AZ106","v":0},{"$f":"BA106","v":17.899999999999999},1,null,null,null,null,null,null,null,null,{"$f":"BI168+BI98","v":6.165},{"$f":"BL155","v":18.61},"38'",null,null,null,null,null,null,null,null,null,"مولفه افقی","مولفه عمودی","اسم نقطه ",null,null,null,null,null,null,null,null,null,null,null,{"$f":"CN161","v":-7.532},{"$f":"CO161","v":24.5},"26''",{"$f":"CR185","v":10.7},{"$f":"CS185","v":25.365691432475337},{"$f":"CT185","v":" شیفت14 یا شیفت41 یا d3"},{"$f":"-CR185-HY101","v":-10.7},{"$f":"CS185","v":25.365691432475337},{"$f":"CT187","v":" شیفت14 یا شیفت41 یا d3"},null,"m1",{"$f":"IF(DB182>DB183,ATAN((DA183-DA182)/(DB182-DB183+0.0001)),2*RADIANS(90)-ATAN((DA183-DA182)/(DB183-DB182+0.0001)))","v":-0.13129056315684107},"m2",{"$f":"SQRT(POWER(DA182-DA183,2)+POWER(DB182-DB183,2))","v":4.2011415883568404},{"$f":"DC185","v":11.267543530829242},{"$f":"DD185","v":29.229456406243607},{"$f":"DE185","v":"شیفت 10"},null,"m1",{"$f":"IF(DJ182>DJ183,ATAN((DI183-DI182)/(DJ182-DJ183+0.0001)),2*RADIANS(90)-ATAN((DI183-DI182)/(DJ183-DJ182+0.0001)))","v":7.9651002481381572E-2},"m2",{"$f":"SQRT(POWER(DI182-DI183,2)+POWER(DJ182-DJ183,2))","v":4.1782314379788668},null,{"$f":"-DC187+DM153","v":-11.267543530829242},{"$f":"DD187","v":29.229456406243607},"شیفت 10",null,null,null,null,null,null,null,null,null,null,null,null,null,null,null,null,null,null,null,null,null,null,null,null,null,null,null,null,null,null,null,null,null,null,null,null,null,null,null,null,null,null,null,null,null,null,null,null,null,null,null,null,null,null,null,null,null,null,null,null,null,null,null,null,null,null,null,null,null,null,null,null,null,null,null,null,null,null,null,null,null,null,null,null,null,null,null,null,null,null,null,null,null,null,null,null,null,null,null,null,null,{"$f":"-BD134+HM191","v":0},{"$f":"BE134","v":18.384308567524659},null,null,null,null,null,null,null,null,null,null,null,null,null,null,null,null,null,null,null,null,null,null,null,null,null,null,null,null,null,null,null,null,null,null,null,null,null,null,null,null,null,null,null,null,null,null,null,null,null,null,null,null,null,null,null,null,null,null,null,null,null,null,null,null,null,null,null,null,null,null,null,null,null,null,null,null,null,null,null,null,null,null,null,null,null,null,null,null,null,null,null,null,null,null,null,null,null,null,null,null,{"$f":"LJ186","v":-7.6124999999999989},{"$f":"LK185","v":17.106954267944413},"j53",null,-7.6124999999999989,17.106954267944413,"j53",null,null,null,null,null,null,null,null,null,null,null,null,null,null,null,null,null,null,null,null,null,null,null,null,null,null,null,null,null,null,null,null,null,null,null,null,null,null,null,null,null,null,null,null,null,null,null,null,null,null,null,null,null,null,null,null,null,null,null,null,null,null,null,null,null,null,null,null,null,null,null,"h11",{"$f":"OK184","v":-33.815624999999997},{"$f":"OL184-0.5*OK175","v":7.6502557544757028},null,null,null,null,null,null,null,null,"پهنای باکس نوشته",{"$f":"OR42","v":0.5},"h4",null,null,null,null,null,null,null,null,null,null,null,{"$f":"PG186","v":-29.984062966219103},{"$f":"PH186","v":8.5002557544757043},{"$f":"PF186","v":"f13"},null,null,null,null,null,"بزرگی خط عمودی دانه",{"$f":"PN43","v":0.30000000000000004},"f9",null,null,"فلش به سمت بالا",null,null,null,null,null,null,null,null,null,null,null,null,null,null,null,null,null,null,null,null,null,null,null,null,null,null,null,null,null,null,null,null,null,null,null,null,null,null,null,null,null,null,null,null,null,null,{"$f":"IF(RN26>(RM96-RM40),RM96,RM40)","v":0},{"$f":"IF(RN26>(RM96-RM40),RN96,RN40)","v":-20},39,null,{"$f":"RU162+1*RV153","v":-39.157190635451506},{"$f":"RV162","v":0},1,null,null,null,null,null,null,null,null,null,null,null,null,null,{"$f":"IF(SH26>(SG96-SG40),SG96,SG40)","v":0},{"$f":"IF(SH26>(SG96-SG40),SH96,SH40)","v":-20},39,null,{"$f":"SO162+1*SP153","v":-39.157190635451506},{"$f":"SP162","v":0},1,null,null,null,null,null,null,null,null,null,null,null,null,null,{"$f":"IF(TB26>(TA96-TA40),TA96,TA40)","v":0},{"$f":"IF(TB26>(TA96-TA40),TB96,TB40)","v":-20},39,null,{"$f":"TI162+1*TJ153","v":-39.178260869565214},{"$f":"TJ162","v":0},1,null,null,null,null,null,null,null,null,null,null,null,null,null,{"$f":"IF(TV26>(TU96-TU40),TU96,TU40)","v":0},{"$f":"IF(TV26>(TU96-TU40),TV96,TV40)","v":-20},39,null,{"$f":"UC162+1*UD153","v":-39.178260869565214},{"$f":"UD162","v":0},1,null,null,null,null,null,null,null,null,null,null,null,null,null,{"$f":"IF(UP26>(UO96-UO40),UO96,UO40)","v":0},{"$f":"IF(UP26>(UO96-UO40),UP96,UP40)","v":-20},39,null,{"$f":"UW162+1*UX153","v":-39.157190635451506},{"$f":"UX162","v":0},1,null,null,null,null,null,null,null,null,null,null,null,null,null,{"$f":"IF(VJ26>(VI96-VI40),VI96,VI40)","v":0},{"$f":"IF(VJ26>(VI96-VI40),VJ96,VJ40)","v":-20},39,null,{"$f":"VQ162+1*VR153","v":-39.157190635451506},{"$f":"VR162","v":0},1]
[null,null,null,null,null,{"$f":"C104","v":0},"شیفت افقی تکه پهلو",null,null,null,null,null,null,null,null,null,null,null,null,null,null,null,null,null,null,null,null,null,null,{"$f":"-Z202","v":-8.2604842667814253},{"$f":"AA202","v":40.299532909651752},"قرینهbs2",null,{"$f":"C106","v":0},"شیفت عمودی تکه پشت",null,"نقطه اول از خط دوم",{"$f":"AJ207","v":"b2"},{"$f":"AH207","v":8.2867619983879486},{"$f":"AI207","v":40.972398851361461},null,null,null,null,null,null,null,null,null,null,null,null,null,"نقاط  خروجی",null,null,null,3.3041937067125704,40.485387238302827,"bs6",null,null,null,null,null,null,null,null,null,null,null,null,null,null,null,null,null,null,null,null,null,null,null,null,null,null,null,null,null,null,null,{"$f":"BK170","v":0},{"$f":"BL170","v":17.899999999999999},48,null,null,null,null,null,null,null,null,null,null,null,null,null,null,null,null,null,null,null,null,null,null,null,null,null,null,null,null,null,null,null,null,null,null,null,null,null,null,null,null,null,null,null,null,null,null,null,null,null,null,null,null,null,null,null,null,null,null,null,null,null,null,null,null,null,null,null,null,null,null,null,null,null,null,null,null,null,null,null,null,null,null,null,null,null,null,null,null,null,null,null,null,null,null,null,null,null,null,null,null,null,null,null,null,null,null,null,null,null,null,null,null,null,null,null,null,null,null,null,null,null,null,null,null,null,null,null,null,null,null,null,null,null,null,null,null,null,null,null,null,null,null,null,null,null,null,null,null,null,null,null,null,null,null,null,null,null,null,null,null,null,null,null,null,null,null,null,null,null,null,null,null,null,null,null,null,null,null,null,{"$f":"JJ273","v":0},{"$f":"JK273","v":28.406602730608288},"e41",null,{"$f":"-JN205+JS198","v":0},{"$f":"JO205","v":28.406602730608288},"e41",null,null,null,null,null,null,null,null,null,null,null,null,null,null,null,null,null,null,null,null,null,null,null,null,null,null,null,null,null,null,null,null,null,null,null,null,null,null,null,null,null,{"$f":"-LJ203+2*LJ193","v":-7.8300453238309906},{"$f":"LK193","v":6.3000000000000007},"j72",null,-10.97627846633883,4.2,"j64",null,null,null,null,null,null,null,null,null,null,null,null,null,null,null,null,null,null,null,null,null,null,null,null,null,null,null,null,null,null,null,null,null,null,null,null,null,null,null,null,null,null,null,null,null,null,null,null,null,null,null,null,null,null,null,null,null,null,null,null,"h13",{"$f":"NZ201","v":-32.410937500000003},{"$f":"OA202","v":{"$error":"#VALUE!"}},{"$f":"NZ197","v":-31.171874999999996},{"$f":"OA197","v":{"$error":"#VALUE!"}},{"$f":"NY197","v":"w21"},null,null,null,null,null,null,null,null,null,null,null,null,null,null,null,null,"نسبت سایز افقی",{"$f":"OR38","v":42},"انحنا چپگرد ",null,null,{"$f":"OW205","v":"انحنا چپگرد "},null,null,null,null,null,"پهنای باکس نوشته",{"$f":"PC40","v":0.5},"h4",null,null,null,null,null,null,null,null,"f8",{"$f":"PR202","v":-33.295572916666664},{"$f":"PS202+2*PR197","v":8.5002557544757043},{"$f":"PR204","v":-33.005547341219092},{"$f":"PS204","v":8.2869565217391319},{"$f":"PQ204","v":"f7"},null,null,null,null,null,null,null,null,null,null,null,null,null,null,null,null,null,null,null,null,null,null,null,null,null,null,null,null,null,null,null,null,null,null,null,"نسبت سایز افقی",{"$f":"RC38","v":42},"انحنا راستگرد ",null,null,{"$f":"RH205","v":"انحنا راستگرد "},null,null,null,null,null,{"$f":"IF(RN26>(RM102-RM40),RM102,RM40)","v":0},{"$f":"IF(RN26>(RM102-RM40),RN102,RN40)","v":-20},47,null,{"$f":"RU162+23*RV153","v":-20.615384615384617},{"$f":"RV162","v":0},23,null,null,null,null,null,null,null,null,null,null,null,null,null,{"$f":"IF(SH26>(SG102-SG40),SG102,SG40)","v":0},{"$f":"IF(SH26>(SG102-SG40),SH102,SH40)","v":-20},47,null,{"$f":"SO162+23*SP153","v":-20.615384615384617},{"$f":"SP162","v":0},23,null,null,null,null,null,null,null,null,null,null,null,null,null,{"$f":"IF(TB26>(TA102-TA40),TA102,TA40)","v":0},{"$f":"IF(TB26>(TA102-TA40),TB102,TB40)","v":-20},47,null,{"$f":"TI162+23*TJ153","v":-21.099999999999998},{"$f":"TJ162","v":0},23,null,null,null,null,null,null,null,null,null,null,null,null,null,{"$f":"IF(TV26>(TU102-TU40),TU102,TU40)","v":0},{"$f":"IF(TV26>(TU102-TU40),TV102,TV40)","v":-20},47,null,{"$f":"UC162+23*UD153","v":-21.099999999999998},{"$f":"UD162","v":0},23,null,null,null,null,null,null,null,null,null,null,null,null,null,{"$f":"IF(UP26>(UO102-UO40),UO102,UO40)","v":0},{"$f":"IF(UP26>(UO102-UO40),UP102,UP40)","v":-20},47,null,{"$f":"UW162+23*UX153","v":-20.615384615384617},{"$f":"UX162","v":0},23,null,null,null,null,null,null,null,null,null,null,null,null,null,{"$f":"IF(VJ26>(VI102-VI40),VI102,VI40)","v":0},{"$f":"IF(VJ26>(VI102-VI40),VJ102,VJ40)","v":-20},47,null,{"$f":"VQ162+23*VR153","v":-20.615384615384617},{"$f":"VR162","v":0},23]
[null,null,null,null,null,null,null,null,null,null,null,null,null,null,null,null,null,null,null,null,null,null,null,null,null,null,null,null,null,null,null,null,null,null,null,null,null,null,null,null,null,null,null,null,null,null,null,null,null,null,null,null,null,null,null,null,null,null,null,null,null,null,null,null,null,null,null,null,null,null,null,null,null,null,null,null,null,null,null,null,null,null,null,null,null,"m12",{"$f":"0.2*IF(POWER((CI219/(1.1*8)),2)>POWER((0.5*CI223),2),SQRT(POWER((CI219/(1.1*8)),2)-POWER((0.5*CI223),2)),0)","v":0.11535997719970481},null,null,{"$f":"BK289-BI266","v":-7.532},{"$f":"BL289-BI267","v":17.899999999999999},29,null,{"$f":"CH283-BI266","v":-0.68219739233320631},{"$f":"CI283-BI267","v":18.330087513498562},"m13",null,null,"m11",{"$f":"ATAN((CV235-CV236)/(CU235-CU236))","v":1.0880284480530989E-2},null,null,{"$f":"CU241-CV253","v":8.3855871780763458},{"$f":"CV241-CV254","v":17.962122760698019},"m15",null,null,null,null,null,null,null,null,null,null,null,null,null,null,null,null,null,null,null,null,null,null,null,null,null,null,null,null,null,null,null,null,null,null,null,null,null,null,null,null,null,null,null,null,null,null,null,null,null,null,null,null,null,null,null,null,null,null,null,null,null,null,null,null,null,null,null,null,null,null,null,null,null,null,null,null,null,null,null,null,null,null,null,null,null,null,null,null,null,null,null,null,null,null,null,null,null,null,null,null,null,null,null,null,null,null,null,null,null,null,null,null,null,null,null,null,null,null,null,null,null,null,null,null,null,null,null,null,null,null,null,null,null,null,null,null,null,null,null,null,null,null,null,null,null,null,null,null,null,null,null,null,null,null,null,null,null,null,null,null,null,null,null,null,null,null,null,null,null,null,null,null,null,null,null,null,null,null,null,null,{"$f":"JN263","v":9.4986788556241848},{"$f":"JO263","v":32.386104822811809},"e65",null,{"$f":"-JN263+JD263","v":-9.4986788556241848},{"$f":"JO263","v":32.386104822811809},"e65",null,null,null,null,null,null,null,null,null,null,null,null,null,null,null,null,null,null,null,null,null,null,null,null,null,null,null,null,null,{"$f":"LJ218+0.5*(LJ213-LJ218)","v":8.232208849754123},{"$f":"LK212","v":4.2},"j90",null,{"$f":"LJ207","v":2.6100151079436635},6.3000000000000007,"j74",null,null,40,{"$f":"BO164","v":5.625},{"$f":"BP164","v":32.420485483870969},null,"نقطه دوم از خط دوم",40,{"$f":"BO164","v":5.625},{"$f":"BP164","v":32.420485483870969},null,"d4  b12ʻ",6.4010967613736582,34.843357042352984,null,{"$f":"MC278","v":1.6139999999999999},{"$f":"MD278","v":19.371578028220689},"m12",null,{"$f":"-MF222+MK212","v":-1.6139999999999999},{"$f":"MG222","v":19.371578028220689},"m12",null,{"$f":"MC278","v":1.6139999999999999},{"$f":"MD278","v":19.371578028220689},"m12",null,{"$f":"-MN222+MS212","v":-1.6139999999999999},{"$f":"MO222","v":19.371578028220689},"m12",null,{"$f":"MC278","v":1.6139999999999999},{"$f":"MD278","v":19.371578028220689},"m12",null,{"$f":"-MV222+NA212","v":-1.6139999999999999},{"$f":"MW222","v":19.371578028220689},"m12",null,{"$f":"MC278","v":1.6139999999999999},{"$f":"MD278","v":19.371578028220689},"m12",null,{"$f":"-ND222+NI212","v":-1.6139999999999999},{"$f":"NE222","v":19.371578028220689},"m12",null,{"$f":"MC278","v":1.6139999999999999},{"$f":"MD278","v":19.371578028220689},"m12",null,{"$f":"-NL222+NQ212","v":-1.6139999999999999},{"$f":"NM222","v":19.371578028220689},"m12",null,null,null,null,null,null,null,null,null,{"$f":"NU69","v":-31.171874999999996},{"$f":"NV69","v":{"$error":"#VALUE!"}},"w22",null,null,null,null,null,"g4",{"$f":"OK219-OK217*OK215/40","v":-34.905208333333334},{"$f":"OL219+0.5*OK216","v":9.3503836317135551},{"$f":"OK226","v":-35.149313153406972},{"$f":"OL226","v":9.2610291790558978},{"$f":"OJ226","v":"g8"},null,null,null,null,null,"نقطه ورودی سر فلش","مولفه افقی","مولفه عمودی",{"$f":"OV225","v":-32.870469682438191},{"$f":"OW225","v":9.1570332480818415},{"$f":"OU225","v":"f3"},null,null,null,null,null,null,null,null,null,null,null,null,null,null,null,null,"f3",{"$f":"PR221","v":-32.326144900895137},{"$f":"PS220+PR217*PR218","v":8.1902813299232751},{"$f":"PR221","v":-32.326144900895137},{"$f":"PS221","v":7.6102301790281341},{"$f":"PQ221","v":"f2"},null,null,null,null,null,null,null,null,null,null,null,null,null,null,null,null,null,null,null,null,null,null,null,null,null,null,null,null,null,null,null,null,null,null,null,"نقطه ورودی سر فلش","مولفه افقی","مولفه عمودی",{"$f":"RG223","v":-28},{"$f":"RH223","v":12.734015345268544},{"$f":"RF223","v":"p23"},null,null,null,null,null,null,null,null,null,{"$f":"RU162+44*RV153","v":-2.9163879598662206},{"$f":"RV162","v":0},44,null,null,null,null,null,{"$f":"SC221","v":-40},{"$f":"RV38","v":10.277777777777777},null,null,null,null,null,null,null,null,null,null,{"$f":"SO162+44*SP153","v":-2.9163879598662206},{"$f":"SP162","v":0},44,null,null,null,null,null,{"$f":"SW221","v":-40},{"$f":"SP38","v":10.277777777777777},null,null,null,null,null,null,null,null,null,null,{"$f":"TI162+44*TJ153","v":-3.8434782608695599},{"$f":"TJ162","v":0},44,null,null,null,null,null,{"$f":"TQ221","v":-40},{"$f":"TJ38","v":9.7222222222222232},null,null,null,null,null,null,null,null,null,null,{"$f":"UC162+44*UD153","v":-3.8434782608695599},{"$f":"UD162","v":0},44,null,null,null,null,null,{"$f":"UK221","v":-40},{"$f":"UD38","v":9.7222222222222232},null,null,null,null,null,null,null,null,null,null,{"$f":"UW162+44*UX153","v":-2.9163879598662206},{"$f":"UX162","v":0},44,null,null,null,null,null,{"$f":"VE221","v":-40},{"$f":"UX38","v":10.277777777777777},null,null,null,null,null,null,null,null,null,null,{"$f":"VQ162+44*VR153","v":-2.9163879598662206},{"$f":"VR162","v":0},44,null,null,null,null,null,{"$f":"VY221","v":-40},{"$f":"VR38","v":10.277777777777777}]
[null,null,null,null,null,"(a2 → a4)",{"$f":"2.4*G242*G228","v":3.6680809350447663},null,null,{"$f":"G245+AX99","v":11.731117822703059},{"$f":"AX103+G244+AX98","v":43.566736162773992},"a2",null,"(e → e4)",{"$f":"O236*G262/G260","v":1.5557515104436119},null,null,null,null,null,{"$f":"U249","v":-7.532},{"$f":"V249","v":31.800688577032066},"49''",null,{"$f":"-U239+S257","v":7.532},{"$f":"V239","v":31.800688577032066},"49''",null,"نقاط  ورودی",null,null,null,"محاسبات",null,null,"پشت یقه پروانه ای ",null,null,"قرینه",{"$f":"2*C102","v":0},null,null,"d2",{"$f":"'متغیرها '!C455","v":0.9},null,null,null,null,null,null,null,null,null,null,null,{"$f":"IU315","v":10.149999999999999},{"$f":"IV315","v":17.899999999999999},"a9",null,"(8 → 13)",{"$f":"BE249*COS(2*BI264+BE246)","v":2.0925616837248207},null,null,null," انحنا لبه دامن فون روی خط مرکزی جلو",null,null,null,"قرینه انحنا لبه دامن فون روی خط مرکزی جلو",null,null,{"$f":"'متغیرها '!C56","v":0},"شیفت افقی تکه پهلو پیراهن",null,"(8 → 13)",{"$f":"BT248*COS(2*BT241+BT245)","v":2.0693183127646666},null,null,null,"انحنا بالا",null,null,null,"انحنا بالا",null,{"$f":"CH235+0.5*CI223","v":12.789372546489311},{"$f":"CI235+0.5*CI223*TAN(CI221)+CI222","v":-11.793045327818982},"m15",null,{"$f":"CH233-BI266","v":11.179576971394965},{"$f":"CI233-BI267","v":18.283138285822616},"m3",null,{"$f":"CH289-BI266","v":4.2799999999999994},{"$f":"CI289-BI267","v":24.573138286495066},"m22",null,null,{"$f":"BZ228+0.5*(CU236-BZ228)","v":13.366271831326717},{"$f":"CA228+0.5*CV223","v":22.910581432157251},"m13",null,{"$f":"CU249-CV253","v":9.3363379488197928},{"$f":"CV249-CV254","v":24.538683521165517},"m26",null,"(m7→ m8)",{"$f":"0.28*(DD235-DD233)+DD233","v":5.0120000000000005},null,null,{"$f":"DD234","v":0},"(1 → m3)",null,{"$f":"DD241+AX99","v":3.3529999999999998},{"$f":"DD240+AX98","v":15.310337597091259},"m10",null,{"$f":"DJ231","v":2.8},{"$f":"DK231","v":13.915903995525014},"m2",null,{"$f":"DJ260","v":2.8},{"$f":"DK260","v":7.4420653541103157},"m2",null,{"$f":"-DR239+DW229","v":-2.8},{"$f":"DS239","v":7.4420653541103157},"m2",null,{"$f":"BO178","v":0},{"$f":"BP178","v":25},44,null,{"$f":"-DZ239+EE229","v":0},{"$f":"EA239","v":25},44,null,null,null,null,null,"نقاط تکه وسط پا ",null,null,null,{"$f":"EL237","v":12.521411196416768},{"$f":"EM237","v":5.7197915215118602},"p14",null,{"$f":"-EP239+EU230","v":-12.521411196416768},{"$f":"EQ239","v":5.7197915215118602},"p14",null,{"$f":"EL273","v":11.141045299832912},{"$f":"EM273","v":6.3000000000000007},"p8",null,"(p19 → p20)",{"$f":"IF('متغیرها '!C434=1,0.85,0.5)*FC235","v":1.1010954683232996},null,{"$f":"AZ99","v":11.25},{"$f":"BA99","v":29.530675303443079},12,null,{"$f":"AZ99-'متغیرها '!C55","v":11.25},{"$f":"BA99","v":29.530675303443079},12,null,"(p14 → p15)",{"$f":"IF('متغیرها '!C445=1,0.75,0.45)*FN235","v":3.6128205404065215},null,{"$f":"BK122-'متغیرها '!C56","v":11.267543530829242},{"$f":"BL122-'متغیرها '!C57","v":29.229456406243607},8,null,{"$f":"-FP239+FU230","v":-11.267543530829242},{"$f":"FQ239","v":29.229456406243607},8,null,null,{"$f":"O140","v":0.4842861808073386},"β4",null,"yd3",{"$f":"IF(FY240<3,'متغیرها '!U60+(FY240-2)*('متغیرها '!U56-'متغیرها '!U60),'متغیرها '!U56+(FY240-3)*(I124-I123))","v":28.6},"شیفت",{"$f":"FX249+'متغیرها '!C51","v":11.25},{"$f":"FY249+FY242+'متغیرها '!C52","v":29.530675303443079},13,null,null,{"$f":"AD140","v":0.56054871357192404},"β8","شیفت",{"$f":"GI248+'متغیرها '!C53","v":11.267543530829242},{"$f":"GJ248+GJ242+'متغیرها '!C54","v":29.229456406243607},{"$f":"GK248","v":9},null,null,null,{"$f":"AZ165","v":0},{"$f":"BA165","v":25},38,null,"(dp'5 →dp5)",{"$f":"2*(HA244-GS239)-4*GX237","v":21.4},null,{"$f":"-(AZ148)+2*HQ101","v":-4.7395286907264449},{"$f":"BA148","v":38.594707704219914},30,"قرینه",{"$f":"CU188","v":-11.25},{"$f":"CV188","v":29.530675303443079},{"$f":"CW188","v":"شیفت 14"},null,{"$f":"HH237","v":6.0450461699068025},{"$f":"HI237","v":24.5},{"$f":"HJ237","v":" شیفت47'' یا dd5"},null,null,{"$f":"H123","v":9.4999999999999982},"t2",null,"c8",{"$f":"IF(HT245>HT254,ATAN((HS254-HS235)/(HT235-HT254)),ATAN((HS255-HS235)/(HT235-HT255)))","v":0.81727799460257555},null,{"$f":"HS234+HQ236*COS(HQ232)","v":12.638890207309995},{"$f":"HT234-HQ236*SIN(HQ232)","v":31.73218754477714},"a7",null,{"$f":"HW238+(0.5-HN254)*(HW240-HW238)","v":5.8596501363182902},{"$f":"HX240+0.5*(HX238-HX240)","v":31.020733143292556},"a44",null,{"$f":"HS243","v":5.0237770865388072},{"$f":"HT243+HN260","v":31.195349339218762},"a11",null,{"$f":"HS243","v":5.0237770865388072},{"$f":"HT243+HN260","v":31.195349339218762},"a11",null,null,null,null,null,{"$f":"-HS243+HM242","v":-5.0237770865388072},{"$f":"HT243+HN260","v":31.195349339218762},"a11",null,null,7,0.12217304763960307,{"$f":"HS240+HQ247*SIN(HQ250+IS239)","v":6.6204747989835271},{"$f":"HT240+HQ247*COS(HQ250+IS239)","v":33.427995329652234},{"$f":"ATAN((IU239-HT235)/(IT239-HS235))","v":0.18289464637071001},{"$f":"(IT239-HS235)/COS(IV239)","v":6.1199798348819732},null,null,{"$f":"HS234","v":6.0256799999999995},{"$f":"HT234","v":32.200000000000003},"a2",null,"d8",{"$f":"'متغیرها '!C482","v":1.2},null,"yf6",{"$f":"JA240+5","v":33.489429335701146},null,{"$f":"JJ237+IZ237-IZ234","v":3.4121749134611914},{"$f":"JK237+JA237-JA234","v":35.694564260231317},"e7",null,null,null,null,null,{"$f":"JJ288","v":9.8771869024696812},{"$f":"JK288","v":32.00245159584717},"e56",null,{"$f":"-JJ288+JD263","v":-9.8771869024696812},{"$f":"JK288","v":32.00245159584717},"e56",null,null,null,null,null,null,null,null,null,null,2,{"$f":"KJ235+KM235*SIN(RADIANS(KI239)+KI237)","v":5.2096067845079324},{"$f":"KK235+KM235*COS(RADIANS(KI239)+KI237)","v":34.6707657647449},{"$f":"IF(KJ236>KJ239,ATAN((KK236-KK239)/(KJ236-KJ239)),ATAN((KK236-KK239)/(KJ239-KJ236)))","v":-1.1625141987332719},{"$f":"IF(KJ236>KJ239,(KJ236-KJ239)/COS(KL239),(KJ239-KJ236)/COS(KL239))","v":0.20461793538186873},null,null,{"$f":"BD228","v":0},24.5,"d4",null,{"$f":"KP284","v":11.164999999999999},{"$f":"KQ284","v":6.3000000000000007},"j22",null,{"$f":"-KT239+KW231","v":-11.164999999999999},{"$f":"KU239","v":6.3000000000000007},"j''22",null,null,null,null,null,{"$f":"LB262","v":15.741000000000003},{"$f":"LC262","v":6.3000000000000007},"j'22",null,{"$f":"-LJ237+2*LJ231","v":-5.514394703286948},{"$f":"LK231","v":2.1},"j108",null,null,null,null,null,null,"d6  b6",{"$f":"0.6*(LT215-LT222)+LT222","v":7.7698902691820368},{"$f":"LU227+((LT239-LT227)/(LT215-LT227))*(LU215-LU227)+0.5*'متغیرها '!C360*(LT214-LT227)","v":33.333312581848851},null,null,"به دست آوردن نقطه تقاطع دو خط (d''4b14)","مولفه افقی","مولفه عمودی",null,"d5  b14",2.53125,30.729885380394304,null,{"$f":"MC278+MC263","v":31.614000000000001},{"$f":"MD278","v":19.371578028220689},"جدا m12",null,{"$f":"-MF239+MK212","v":-31.614000000000001},{"$f":"MG239","v":19.371578028220689},"جدا m12",null,{"$f":"MC278+MC263","v":31.614000000000001},{"$f":"MD278","v":19.371578028220689},"جدا m12",null,{"$f":"-MN239+MS212","v":-31.614000000000001},{"$f":"MO239","v":19.371578028220689},"جدا m12",null,{"$f":"MC278+MC263","v":31.614000000000001},{"$f":"MD278","v":19.371578028220689},"جدا m12",null,{"$f":"-MV239+NA212","v":-31.614000000000001},{"$f":"MW239","v":19.371578028220689},"جدا m12",null,{"$f":"MC278+MC263","v":31.614000000000001},{"$f":"MD278","v":19.371578028220689},"جدا m12",null,{"$f":"-ND239+NI212","v":-31.614000000000001},{"$f":"NE239","v":19.371578028220689},"جدا m12",null,{"$f":"MC278+MC263","v":31.614000000000001},{"$f":"MD278","v":19.371578028220689},"جدا m12",null,{"$f":"-NL239+NQ212","v":-31.614000000000001},{"$f":"NM239","v":19.371578028220689},"جدا m12",null,null,null,null,null,null,"g5",{"$f":"NZ235+0.7*(NZ238-NZ235)","v":-35.3675},{"$f":"OA235+0.28*(OA238-OA235)","v":{"$error":"#VALUE!"}},{"$f":"NZ236","v":-35.493499999999997},{"$f":"OA236","v":{"$error":"#VALUE!"}},{"$f":"NY236","v":"g11"},null,null,null,null,null,"زاویه فلش دانه",{"$f":"OG47","v":0.75},"f11",{"$f":"OK242","v":-33.760416666666671},{"$f":"OL242","v":9.8337595907928392},{"$f":"OJ242","v":"m27"},null,null,null,null,null,null,null,null,null,null,null,null,null,null,null,null,"بزرگی فلش",{"$f":"PC49","v":0.5800511508951407},"f4",{"$f":"PG241","v":-31.529166666666672},{"$f":"PH241","v":8.8670076726342728},{"$f":"PF241","v":"n30"},null,null,null,null,null,"طول باکس نوشته",{"$f":"1.3*PN39","v":5.8500000000000005},"h3",{"$f":"PR249","v":-18.866406250000008},{"$f":"PS249","v":8.8670076726342728},{"$f":"PQ249","v":"h8"},null,null,null,null,null,null,null,null,null,null,null,null,null,null,null,null,null,null,null,null,null,null,null,null,null,null,null,null,null,null,null,null,null,null,null,"p22",{"$f":"RB81","v":-32.8125},{"$f":"RC81","v":12.734015345268544},null,null,null,null,null,null,null,null,{"$f":"RQ238","v":0},{"$f":"RN38","v":-40.22742474916388},null,null,{"$f":"RU162+66*RV153","v":15.625418060200666},{"$f":"RV162","v":0},66,null,null,null,null,null,{"$f":"IF(RV27>(RU136-RU40),RU136,RU40)","v":-40},{"$f":"IF(RV27>(RU136-RU40),RV136,RV40)","v":0},89,null,null,null,null,null,{"$f":"SK238","v":0},{"$f":"SH38","v":-40.22742474916388},null,null,{"$f":"SO162+66*SP153","v":15.625418060200666},{"$f":"SP162","v":0},66,null,null,null,null,null,{"$f":"IF(SP27>(SO136-SO40),SO136,SO40)","v":-40},{"$f":"IF(SP27>(SO136-SO40),SP136,SP40)","v":0},89,null,null,null,null,null,{"$f":"TE238","v":0},{"$f":"TB38","v":-39.721739130434784},null,null,{"$f":"TI162+66*TJ153","v":14.23478260869566},{"$f":"TJ162","v":0},66,null,null,null,null,null,{"$f":"IF(TJ27>(TI136-TI40),TI136,TI40)","v":-40},{"$f":"IF(TJ27>(TI136-TI40),TJ136,TJ40)","v":0},89,null,null,null,null,null,{"$f":"TY238","v":0},{"$f":"TV38","v":-39.721739130434784},null,null,{"$f":"UC162+66*UD153","v":14.23478260869566},{"$f":"UD162","v":0},66,null,null,null,null,null,{"$f":"IF(UD27>(UC136-UC40),UC136,UC40)","v":-40},{"$f":"IF(UD27>(UC136-UC40),UD136,UD40)","v":0},89,null,null,null,null,null,{"$f":"US238","v":0},{"$f":"UP38","v":-40.22742474916388},null,null,{"$f":"UW162+66*UX153","v":15.625418060200666},{"$f":"UX162","v":0},66,null,null,null,null,null,{"$f":"IF(UX27>(UW136-UW40),UW136,UW40)","v":-40},{"$f":"IF(UX27>(UW136-UW40),UX136,UX40)","v":0},89,null,null,null,null,null,{"$f":"VM238","v":0},{"$f":"VJ38","v":-40.22742474916388},null,null,{"$f":"VQ162+66*VR153","v":15.625418060200666},{"$f":"VR162","v":0},66,null,null,null,null,null,{"$f":"IF(VR27>(VQ136-VQ40),VQ136,VQ40)","v":-40},{"$f":"IF(VR27>(VQ136-VQ40),VR136,VR40)","v":0},89]
[null,null,null,null,null,"یقه انگلیسی در مانتو راسته ",null,null,null,{"$f":"N256","v":5.8792006481768668},{"$f":"O256","v":41.709018431739089},"a15",null,{"$f":"N256+0.25*(N255-N256)","v":7.3233423521287531},{"$f":"O256+0.45*(O255-O256)","v":42.851238801735064},"a16",null,"قرینه",{"$f":"2*C100","v":0},null,{"$f":"CY153","v":0},{"$f":"CZ153","v":24.5},"d4",null,{"$f":"-U257+S257","v":0},{"$f":"V257","v":24.5},"d4",null,null,"(1 → b9)",{"$f":"AD241-AD245+'متغیرها '!C391*AD236*COS(AD233)+'متغیرها '!C391*AD236*TAN(AH227-AD233)*SIN(AD233)","v":23.8396692257054},null,null,null,{"$f":"AE256+AC245","v":6.3773609180121822},{"$f":"AE255+AD245","v":43.179348417253138},"b8",null,{"$f":"-AI257+AN252","v":-6.3773609180121822},{"$f":"AJ257","v":43.179348417253138},"b8",null,null,null,null,null,null,{"$f":"BO170-AW260-AW262","v":11.267543530829242},{"$f":"BP170-AW261-AW263","v":29.229456406243607},10,null,null,null,null,null,{"$f":"KP278","v":11.652937273279115},"j17",null,null,null,null,null,{"$f":"BI230+BI233+BK290","v":9.259577226199891},{"$f":"BI227+BI234+BI229+BE252","v":-5.2868434786434184},8,null,{"$f":"-BK257-BN226","v":0.74042277380010901},-5.2868434786434184,8,null,null,null,null,null,"شیفت عمودی خط مرکزی پشت",{"$f":"BT254","v":5},null,{"$f":"BV286","v":22.455314612562642},{"$f":"BW286","v":26.344817267384254},"c3",null,{"$f":"-BZ257+CE227","v":-22.455314612562642},{"$f":"CA257","v":26.344817267384254},"c3",null,"m7",{"$f":"SQRT(POWER((CH299-CH279),2)+POWER((CI299-CI279),2))","v":13.180180534262549},null,null,{"$f":"-CL216-CI249","v":0},{"$f":"CM216","v":24.5},2,null,{"$f":"-CP222-CI249","v":0.68219739233320631},18.330087513498562,"m13",null,null,null,null,null,null,{"$f":"-CY230-CV255","v":-2.3340844872049473},{"$f":"CZ230","v":24.5},"m20",null,"(m9→ m10)",{"$f":"0.12*(DD251-DD249)+DD249","v":3.9810910236146393},null,null,{"$f":"DD257","v":3.9810910236146393},"(m9→ m10)",null,null,null,null,null,{"$f":"DJ250","v":5.35},{"$f":"DK250","v":9.3073231091624251},"s10",null,{"$f":"DF265","v":0},{"$f":"DG265","v":22.871737242489111},"s5",null,{"$f":"-DR257+DW229","v":0},{"$f":"DS257","v":22.871737242489111},"s5",null,null,null,null,null,null,null,null,null,null,"(38→p3)",{"$f":"H110","v":11.500000000000002},null,{"$f":"EL256-EH263+EH264","v":4.7148302431230249},{"$f":"EM256","v":0},"p''14",null,{"$f":"EL242","v":22.834308567524666},{"$f":"EM242","v":17.96447253527586},"p16",null,{"$f":"-EP257+EU230","v":-22.834308567524666},{"$f":"EQ257","v":17.96447253527586},"p16",null,null,null,null,null,null,null,null,null,null,null,null,null,null,"جلو جادکمه پیش سینه در بالاتنه",{"$f":"FN240+BI98","v":2.2654079999999999},{"$f":"FN231-FN241+BI97","v":37.462183228588074},"p23",null,{"$f":"FP231","v":0},{"$f":"FQ231","v":37.309092476208967},"p21",null,{"$f":"-FP257+FU230","v":0},{"$f":"FQ257","v":37.309092476208967},"p21",null,{"$f":"FX258+0.6*(FX256-FX258)","v":3.5546465180448337},{"$f":"FY258+0.3*(FY256-FY258)","v":35.190288383973595},null,null,"(d3 → d5)",{"$f":"((GC261-GC256)-(GC260-GC255)*TAN(RADIANS(GJ241)))*COS(RADIANS(GJ241))*COS(RADIANS(GJ241))","v":9.6698355758448891},null,{"$f":"GC251+'متغیرها '!C51","v":-3.8049046575493088},{"$f":"GC252+FY242+'متغیرها '!C52","v":37.210205037112445},"d'4 شیفت",null,"yd9",{"$f":"GJ259-GJ254*COS(GJ255)","v":33.0593036226132},null,null,{"$f":"GC268+'متغیرها '!C53","v":-4.1228733248644582},{"$f":"GC269+GJ242+'متغیرها '!C54","v":37.900237408909526},"d'4 شیفت",null,"بهینه α1",65,1.1344640137963142,{"$f":"HA246+GX241*COS(GS257)","v":-1.6559691987490321},{"$f":"HB246-GX241*SIN(GS257)","v":5.4707047898910304},{"$f":"SQRT(POWER((HA243-GT257),2)+POWER((HB243-GU257),2))","v":25.73759932138092},{"$f":"ABS(GX238-GV257)","v":7.7386089988002738},null,null,null,null,null,null,{"$f":"IF(HB244>HA260,GV263,GZ260)","v":-11.03},{"$f":"IF(HB244>HA260,GW263,HA260)","v":27.864681755055983},{"$f":"HB260","v":"dp10"},null,{"$f":"HH255","v":0},{"$f":"HI255","v":24.5},{"$f":"HJ255","v":"d4"},null,null,"b17",{"$f":"'متغیرها '!C472","v":0.70000000000000018},null,null,null,null,{"$f":"HL238","v":6.0256799999999995},{"$f":"HM238","v":25},"a25",null,{"$f":"HS258+0.3*(HS239-HS258)+HM241","v":8.0096430621929979},{"$f":"HT258+0.05*(HT239-HT258)","v":28.74120078875309},"a63",null,{"$f":"HW237","v":5.9667771912674432},{"$f":"HX237+HN259","v":33.520944651569984},"a42",null,{"$f":"HS247","v":5.0237770865388072},{"$f":"HT247+HN259","v":33.20465066078124},"a15",null,null,null,"قرینه پایه کرست روی جلو لباس ",null,{"$f":"-HW237+HM242","v":-5.9667771912674432},{"$f":"HX237+HN259","v":33.520944651569984},"a42",null,"راس پایین","a50",{"$f":"HW245","v":6.2811105595103216},{"$f":"HX245","v":30.942314146587769},"ضلع پایین",{"$f":"HQ253","v":7.0820597566476788},null,null,null,{"$f":"HW237","v":5.9667771912674432},{"$f":"HX237+JD254","v":33.520944651569984},"a42",null,{"$f":"HQ237","v":0.13129367930288857},"c6",null,"f21",{"$f":"(IZ246-IZ241+IZ249-IZ251)/SQRT(POWER((IZ251-IZ249),2)+POWER((JA249-JA251),2))","v":0.10467191248588747},null,{"$f":"IZ260","v":6.2811105595103216},{"$f":"JA260+JD256","v":30.942314146587769},"e25",null,"مولفه افقی","مولفه عمودی","اسم نقطه ",null,9.9390377376852541,32.727585458694172,"e51",null,{"$f":"-JJ283+JD263","v":-9.9390377376852541},{"$f":"JK283","v":32.727585458694172},"e51",null,{"$f":"JJ253","v":7.5390856050962007},{"$f":"JK253","v":36.168169454445305},"e21",null,{"$f":"-JJ253+JD263","v":-7.5390856050962007},{"$f":"JK253","v":36.168169454445305},"e21",null,null,38,{"$f":"KJ235+KM235*SIN(RADIANS(KI257)+KI237)","v":7.605774671035249},{"$f":"KK235+KM235*COS(RADIANS(KI257)+KI237)","v":34.588508985103779},{"$f":"IF(KJ236>KJ257,ATAN((KK236-KK257)/(KJ236-KJ257)),ATAN((KK236-KK257)/(KJ257-KJ236)))","v":-4.2576210798060017E-2},{"$f":"IF(KJ236>KJ257,(KJ236-KJ257)/COS(KL257),(KJ257-KJ236)/COS(KL257))","v":2.479655147059431},null,null,{"$f":"'متغیرها '!C801","v":0.75},"j2",null,null,{"$f":"KP289","v":24.562999999999999},{"$f":"KQ289","v":4.2},"j27",null,{"$f":"-KT257+KW231","v":-24.562999999999999},{"$f":"KU257","v":4.2},"j''27",null,{"$f":"SQRT(POWER((LB242-LB243),2)+POWER((LC242-LC243),2))+SQRT(POWER((LB244-LB245),2)+POWER((LC244-LC245),2))","v":10.557029285309788},"j'18",null,null,{"$f":"LB267","v":34.630200000000009},{"$f":"LC267","v":4.2},"j'27",null,null,null,null,null,null,null,null,null,null,null,null,null,null,"نقطه دوم از خط دوم",40,{"$f":"BO164","v":5.625},{"$f":"BP164","v":32.420485483870969},null,"شیفت10",{"$f":"BO170","v":11.267543530829242},{"$f":"BP170","v":29.229456406243607},null,{"$f":"IF(OR(MC259=2,MC259=3,MC259=4),MC239,MC275)+MC263","v":32.53125},{"$f":"IF(OR(MC259=2,MC259=3,MC259=4),MD239,MD275)","v":30.729885380394304},"جدا m9 یا d5b14",null,{"$f":"-MF257+MK212","v":-32.53125},{"$f":"MG257","v":30.729885380394304},"جدا m9 یا d5b14",null,{"$f":"IF(OR(MC259=2,MC259=3,MC259=4),MC233,MC274)+MC263","v":32.53125},{"$f":"IF(OR(MC259=2,MC259=3,MC259=4),MD233,MD274)","v":31.149731932012646},"جدا m8 یا d5b10",null,{"$f":"-MN257+MS212","v":-32.53125},{"$f":"MO257","v":31.149731932012646},"جدا m8 یا d5b10",null,{"$f":"IF(OR(MC259=2,MC259=3,MC259=4),MC227,MC273)+MC263","v":32.53125},{"$f":"IF(OR(MC259=2,MC259=3,MC259=4),MD227,MD273)","v":31.951444265642444},"جدا m7 یا d5b6",null,{"$f":"-MV257+NA212","v":-32.53125},{"$f":"MW257","v":31.951444265642444},"جدا m7 یا d5b6",null,{"$f":"IF(OR(MC259=2,MC259=3,MC259=4),MC221,MC272)+MC263","v":32.53125},{"$f":"IF(OR(MC259=2,MC259=3,MC259=4),MD221,MD272)","v":32.775505888623286},"جدا m6 یا d5b12",null,{"$f":"-ND257+NI212","v":-32.53125},{"$f":"NE257","v":32.775505888623286},"جدا m6 یا d5b12",null,{"$f":"IF(OR(MC259=2,MC259=3,MC259=4),MC215,MC271)+MC263","v":32.53125},{"$f":"IF(OR(MC259=2,MC259=3,MC259=4),MD215,MD271)","v":33.316897488346449},"جدا m5 یا d5b16",null,{"$f":"-NL257+NQ212","v":-32.53125},{"$f":"NM257","v":33.316897488346449},"جدا m5 یا d5b16",null,null,null,null,null,null,"w26",{"$f":"NU73","v":-3.6093750000000036},{"$f":"NV73","v":{"$error":"#VALUE!"}},{"$f":"NZ262","v":-3.2418750000000038},{"$f":"OA262","v":{"$error":"#VALUE!"}},{"$f":"NY262","v":"g6"},null,null,null,null,null,"نسبت سایز افقی",{"$f":"OG38","v":42},"انحنا چپگرد ",null,null,{"$f":"OL257","v":"انحنا چپگرد "},null,null,null,null,null,"f8",{"$f":"OV254","v":-34.0703125},{"$f":"OW254+2*OV249","v":10.433759590792839},{"$f":"OV256","v":-33.780286924552428},{"$f":"OW256","v":10.220460358056267},{"$f":"OU256","v":"f7"},null,null,null,null,null,"زاویه فلش دانه",{"$f":"PC45","v":0.75},"f11",{"$f":"PG260","v":-2.0270833333333318},{"$f":"PH260","v":8.8670076726342728},{"$f":"PF260","v":"n28"},null,null,null,null,null,null,null,null,null,null,null,null,null,null,null,null,null,null,null,null,null,null,null,null,null,null,null,null,null,null,null,null,null,null,null,null,null,null,null,null,null,null,null,null,null,null,null,null,null,null,null,null,null,null,null,null,null,{"$f":"RQ256","v":0},{"$f":"RN38","v":-40.22742474916388},null,null,{"$f":"RU162+88*RV153","v":34.167224080267559},{"$f":"RV162","v":0},88,null,null,null,null,null,{"$f":"IF(RV27>(RU142-RU40),RU142,RU40)","v":-40},{"$f":"IF(RV27>(RU142-RU40),RV142,RV40)","v":0},97,null,null,null,null,null,{"$f":"SK256","v":0},{"$f":"SH38","v":-40.22742474916388},null,null,{"$f":"SO162+88*SP153","v":34.167224080267559},{"$f":"SP162","v":0},88,null,null,null,null,null,{"$f":"IF(SP27>(SO142-SO40),SO142,SO40)","v":-40},{"$f":"IF(SP27>(SO142-SO40),SP142,SP40)","v":0},97,null,null,null,null,null,{"$f":"TE256","v":0},{"$f":"TB38","v":-39.721739130434784},null,null,{"$f":"TI162+88*TJ153","v":32.31304347826088},{"$f":"TJ162","v":0},88,null,null,null,null,null,{"$f":"IF(TJ27>(TI142-TI40),TI142,TI40)","v":-40},{"$f":"IF(TJ27>(TI142-TI40),TJ142,TJ40)","v":0},97,null,null,null,null,null,{"$f":"TY256","v":0},{"$f":"TV38","v":-39.721739130434784},null,null,{"$f":"UC162+88*UD153","v":32.31304347826088},{"$f":"UD162","v":0},88,null,null,null,null,null,{"$f":"IF(UD27>(UC142-UC40),UC142,UC40)","v":-40},{"$f":"IF(UD27>(UC142-UC40),UD142,UD40)","v":0},97,null,null,null,null,null,{"$f":"US256","v":0},{"$f":"UP38","v":-40.22742474916388},null,null,{"$f":"UW162+88*UX153","v":34.167224080267559},{"$f":"UX162","v":0},88,null,null,null,null,null,{"$f":"IF(UX27>(UW142-UW40),UW142,UW40)","v":-40},{"$f":"IF(UX27>(UW142-UW40),UX142,UX40)","v":0},97,null,null,null,null,null,{"$f":"VM256","v":0},{"$f":"VJ38","v":-40.22742474916388},null,null,{"$f":"VQ162+88*VR153","v":34.167224080267559},{"$f":"VR162","v":0},88,null,null,null,null,null,{"$f":"IF(VR27>(VQ142-VQ40),VQ142,VQ40)","v":-40},{"$f":"IF(VR27>(VQ142-VQ40),VR142,VR40)","v":0},97]
[null,null,null,null,null,null,null,null,null,null,null,null,null,null,null,null,null,null,null,null,null,null,null,null,null,null,null,null,null,null,null,null,null,null,null,null,null,null,null,null,{"$f":"'متغیرها '!C51","v":0},"شیفت افقی کلی",null,null,null,null,null,{"$f":"AV267+AW260+AW262","v":9.8435396987591215},{"$f":"AW267+AW261+AW263","v":18.896992163749434},"6n",null,{"$f":"-AV274+BA270","v":-9.8435396987591215},18.896992163749434,"6n",null,{"$f":"BD266+0.5*BE269*(BD275-BD266)","v":3.3236811132597008},{"$f":"BE266+0.5*BE269*(BE275-BE266)","v":-10.275771313172747},"7n'",null,null,null,null,null,null,"انحنا پایین",null,null,null,"انحنا پایین",null,null,null,null,null,null,null,null,null,null,"زیپ پشت",null,null,null,"زیپ پشت",null,"m42",{"$f":"CI273*CI271","v":5.5318276783636637},null,null,{"$f":"-CL233-CI249","v":-6.6578017273809618},18.027661931401937,"m9",null,{"$f":"-CP239-CI249","v":-4.2799999999999994},{"$f":"CQ239","v":24.573138286495066},"m22",null,null,null,null,null,null,null,null,null,null,null,"تغییر خط فاق","(p11→p13)",{"$f":"SQRT(POWER((AG578-AG583),2)+POWER((AH578-AH583),2))","v":2.2811916990968939},null,null,null,{"$f":"AZ168+BT130","v":10.7},{"$f":"BA168","v":25.365691432475337},"شیفت 41",null,null,null,null,null,{"$f":"DJ245","v":0},{"$f":"DK245","v":23.225000000000001},"s1",null,null,null,null,null,{"$f":"DJ245","v":0},{"$f":"DK245","v":23.225000000000001},"s1",null,null,null,null,null,null,null,null,null,{"$f":"DJ247","v":-7.532},{"$f":"EM268","v":13.499999999999998},"p'3",null,null,null,null,null,null,null,null,null,null,null,null,null,null,null,null,null,null,null,null,null,null,null,null,null,null,null,null,null,null,null,null,null,null,null,null,null,null,null,null,null,null,null,null,null,null,{"$f":"GI266+FX272","v":3.5557034923201991},{"$f":"GJ266+FX273","v":35.713325609307326},null,null,null,null,null,null,null,null,null,null,null,{"$f":"'طراحی همه الگوها'!B334","v":5},"پهنای دراپه 3",null,null,{"$f":"GV268-0.5*(GV268-GV266)","v":10.7},{"$f":"GW268+0.5*(GW266-GW268)","v":13.332845716237667},"dp72",null,{"$f":"IF(HB244>HA266,GV263,HL380)","v":-11.25},{"$f":"IF(HB244>HA266,GW263,HM380)","v":29.530675303443079},{"$f":"HN380","v":"12345dp60"},null,null,null,null,null,null,"نقطه تقاطع","a33",{"$f":"(HP272-HP270+HO270*((HP271-HP270)/(HO271-HO270+0.0001))-HO272*((HP273-HP272)/(HO273-HO272+0.0001)))/(((HP271-HP270)/(HO271-HO270+0.0001))-((HP273-HP272)/(HO273-HO272+0.0001)))","v":10.658803630606318},{"$f":"HP270+(HO274-HO270)*((HP271-HP270)/(HO271-HO270+0.0001))","v":29.586737903438209},null,null,null,null,null,null,null,null,null,null,5.8596501363182902,31.020733143292556,"a44",null,null,null,null,null,{"$f":"-HS261+HM242-HM241","v":-10.985587655482496},{"$f":"HX258","v":29.843143277814583},"a29",null,{"$f":"-HW239+HM242","v":-5.8596501363182902},{"$f":"HX239","v":31.020733143292556},"a44",null,null,28,{"$f":"IS257+IV257*SIN(RADIANS(IR274)+IR259)","v":0.56623256854190895},{"$f":"IT257+IV257*COS(RADIANS(IR274)+IR259)","v":35.125105074314547},{"$f":"IF(IS258>IS274,ATAN((IT258-IT274)/(IS258-IS274)),ATAN((IT258-IT274)/(IS274-IS258)))","v":-0.43663053043386091},{"$f":"IF(IS258>IS274,(IS258-IS274)/COS(IU274),(IS274-IS258)/COS(IU274))","v":11.492544989909925},null,null,null,null,"پروسیجر چرخش یک نقطه حول نقطه دیگر",null,null,null,null,null,"کامل شده",null,null,{"$f":"JJ273","v":0},{"$f":"JK273+JE242","v":31.406602730608288},"e42",null,"پروسیجر چرخش یک نقطه حول نقطه دیگر",null,null,null,null,null,"کامل شده",null,null,null,null,null,5.1283666617467105,34.482966558320378,"e29",null,{"$f":"-JJ261+JD263","v":-5.1283666617467105},{"$f":"JK261","v":34.482966558320378},"e29",null,null,null,null,null,null,null,null,null,{"$f":"IF(KP263<1,KP263*I107,IF(KP263<2,I107+(KP263-1)*(I108-I107),IF(KP263<3,I108+(KP263-2)*(I105-I108),I105+(KP263-3)*(I127-I126))))","v":0},"j08",null,null,{"$f":"KP293","v":29.475599999999996},{"$f":"KQ293","v":0},"j31",null,{"$f":"-KT274+KW231","v":-29.475599999999996},{"$f":"KU274","v":0},"j''31",null,null,null,null,null,{"$f":"LB271","v":41.55624000000001},{"$f":"LC271","v":0},"j'31",null,null,null,null,null,{"$f":"LJ236","v":0},{"$f":"LK236","v":1.6713480364225581},{"$f":"LL236","v":"j105"},null,null,null,null,null,null,null,"به دست آوردن نقطه تقاطع دو خط (d''4b14) شیفت","مولفه افقی","مولفه عمودی",null,"m8",{"$f":"IF(MC259=1,MC233,IF(MC259=2,MC232,IF(MC259=3,MC234,IF(MC259=4,MC235,MC213))))","v":4.5},{"$f":"IF(MC259=1,MD233,IF(MC259=2,MD232,IF(MC259=3,MD234,IF(MC259=4,MD235,MD213))))","v":30.819669669538971},null,{"$f":"MC242","v":5.4023335302469295},{"$f":"MD242","v":29.878495781490269},"d4  b14''",null,{"$f":"-MF274+MK212","v":-5.4023335302469295},{"$f":"MG274","v":29.878495781490269},"d4  b14''",null,{"$f":"MC236","v":5.480747825068887},{"$f":"MD236","v":30.773683683727675},"d4  b10''",null,{"$f":"-MN274+MS212","v":-5.480747825068887},{"$f":"MO274","v":30.773683683727675},"d4  b10''",null,{"$f":"MC230","v":5.6366516502545254},{"$f":"MD230","v":32.553502255527647},"d4  b6''",null,{"$f":"-MV274+NA212","v":-5.6366516502545254},{"$f":"MW274","v":32.553502255527647},"d4  b6''",null,{"$f":"MC224","v":6.062048541668708},{"$f":"MD224","v":34.64121851405222},"d4  b12''",null,{"$f":"-ND274+NI212","v":-6.062048541668708},{"$f":"NE274","v":34.64121851405222},"d4  b12''",null,{"$f":"MC218","v":6.3648523475903405},{"$f":"MD218","v":36.179826584696457},"d4  b16''",null,{"$f":"-NL274+NQ212","v":-6.3648523475903405},{"$f":"NM274","v":36.179826584696457},"d4  b16''",null,null,null,null,null,null,"نقطه پایان رج(راست)","مولفه افقی","مولفه عمودی",{"$f":"NZ283","v":-6.5710937500000037},{"$f":"OA283","v":{"$error":"#VALUE!"}},{"$f":"NY283","v":"h13"},null,null,null,null,null,null,null,null,{"$f":"OK284","v":-13.362499999999997},{"$f":"OL284","v":11.050511508951407},{"$f":"OJ284","v":"h10"},null,null,null,null,null,"g11",{"$f":"OV278+0.8*(OV276-OV278)","v":-11.884104166666672},{"$f":"OW276+0.6*(OW278-OW276)","v":10.525953964194374},{"$f":"OV275","v":-12.377604166666673},{"$f":"OW275","v":10.800511508951407},{"$f":"OU275","v":"g2"},null,null,null,null,null,"f6",{"$f":"PG273-PG270*PG269*PG271","v":-9.2587755754475705},{"$f":"PH273+PG269*PG271","v":9.2537084398977001},null,null,null,null,null,null,null,null,"بزرگی فلش دانه",{"$f":"PN44","v":0.4},"f10",{"$f":"PR281","v":-30.909375000000001},{"$f":"PS281","v":10.433759590792841},{"$f":"PQ281","v":"f8"},null,null,null,null,null,null,null,null,null,null,null,null,null,null,null,null,null,null,null,null,null,null,null,null,null,null,null,null,null,null,null,null,null,null,null,"f2",{"$f":"RG273-1*RG271","v":-31.606092817561809},{"$f":"RH273-RG270*RG271","v":13.410741687979542},{"$f":"RG273","v":-31.026041666666668},{"$f":"RH273","v":13.700767263427112},{"$f":"RF273","v":"p29"},null,null,null,null,null,{"$f":"IF(RN26>(RM125-RM40),RM125,RM40)","v":0},{"$f":"IF(RN26>(RM125-RM40),RN125,RN40)","v":-20},76,null,null,null,null,null,null,null,null,null,null,null,null,null,null,null,null,null,{"$f":"IF(SH26>(SG125-SG40),SG125,SG40)","v":0},{"$f":"IF(SH26>(SG125-SG40),SH125,SH40)","v":-20},76,null,null,null,null,null,null,null,null,null,null,null,null,null,null,null,null,null,{"$f":"IF(TB26>(TA125-TA40),TA125,TA40)","v":0},{"$f":"IF(TB26>(TA125-TA40),TB125,TB40)","v":-20},76,null,null,null,null,null,null,null,null,null,null,null,null,null,null,null,null,null,{"$f":"IF(TV26>(TU125-TU40),TU125,TU40)","v":0},{"$f":"IF(TV26>(TU125-TU40),TV125,TV40)","v":-20},76,null,null,null,null,null,null,null,null,null,null,null,null,null,null,null,null,null,{"$f":"IF(UP26>(UO125-UO40),UO125,UO40)","v":0},{"$f":"IF(UP26>(UO125-UO40),UP125,UP40)","v":-20},76,null,null,null,null,null,null,null,null,null,null,null,null,null,null,null,null,null,{"$f":"IF(VJ26>(VI125-VI40),VI125,VI40)","v":0},{"$f":"IF(VJ26>(VI125-VI40),VJ125,VJ40)","v":-20},76]
[null,null,null,null,null,null,null,null,null,null,null,null,null,null,null,null,null,null,null,null,null,null,null,null,null,null,null,"اسم نقطه ","مولفه افقی","مولفه عمودی",null,{"$f":"AC294","v":4.5247823901282134},{"$f":"AD294","v":35.888726831407766},"sq2",null,null,null,null,null,null,null,null,null,null,null,null,null,null,null,null,{"$f":"0.45*AY283","v":9.0450000000000017},{"$f":"-0.9*AY283","v":-18.090000000000003},"3'",null,null,null,null,null,null,null,null,null,null,null,null,null,null,null,null,null,null,null,null,null,null,null,null,{"$f":"BZ259","v":9.3699999999999992},{"$f":"CA259","v":22.9},"b7",null,{"$f":"-BZ291+CE227","v":-9.3699999999999992},{"$f":"CA291","v":22.9},"b7",null,{"$f":"BK255+3*CI262*COS(CI261)","v":11.42},{"$f":"BL255+2*CI262*SIN(CI261)","v":-5.3537234270098653},"m24",null,null,null,null,null,"نقطه اول از خط اول",29,{"$f":"BK287","v":-2.532},{"$f":"BL287","v":-12.100000000000001},null,null,null,null,null,null,null,null,null,null,null,null,null,null,null,null,null,null,null,null,{"$f":"DJ245","v":0},{"$f":"DK245","v":23.225000000000001},"s1",null,null,null,null,null,null,null,null,null,{"$f":"-DR284+DS289","v":0},{"$f":"DS284","v":23.225000000000001},"s1",null,null,null,null,null,null,null,null,null,null,null,null,null,null,null,null,null,null,null,null,null,null,null,null,null,null,null,null,null,null,null,null,null,null,null,null,null,null,null,null,null,null,null,null,null,null,null,null,null,null,null,null,null,null,null,null,null,null,null,null,null,null,null,null,null,null,null,null,null,null,null,"پروسیجر چرخش دراپه 7",null,null,null,null,null,"کامل شده",null,{"$f":"HD288","v":-11.149883930165039},{"$f":"HE288","v":26.610053921243853},{"$f":"HF260","v":"1dp20"},"قرینه",{"$f":"CU182","v":-10.7},{"$f":"CV182","v":24.865691432475337}," شیفت45 یا d3",null,null,"پروسیجر چرخش یک نقطه حول نقطه دیگر",null,null,null,null,null,"کامل شده",null,null,null,null,null,null,null,null,null,null,null,null,null,null,null,null,null,null,null,null,null,null,null,null,62,{"$f":"IS257+IV257*SIN(RADIANS(IR291)+IR259)","v":3.8822489859162688},{"$f":"IT257+IV257*COS(RADIANS(IR291)+IR259)","v":37.605724200566321},{"$f":"IF(IS258>IS291,ATAN((IT258-IT291)/(IS258-IS291)),ATAN((IT258-IT291)/(IS291-IS258)))","v":-0.80218214863944404},{"$f":"IF(IS258>IS291,(IS258-IS291)/COS(IU291),(IS291-IS258)/COS(IU291))","v":10.21135459572888},null,null,null,null,null,null,null,null,null,null,null,null,null,{"$f":"KL295","v":8.1490810348691838},{"$f":"KM295+JE247","v":32.902882086173392},"e58",null,null,null,null,null,null,null,null,"نقطه دوم از خط اول","f6",{"$f":"JH238","v":9.840795},{"$f":"JH239","v":33.489429335701146},null,6.0256799999999995,28.583780433172876,"e36",null,{"$f":"-JJ268+JD263","v":-6.0256799999999995},{"$f":"JK268","v":28.583780433172876},"e36",null,"پروسیجر چرخش یک نقطه حول نقطه دیگر",null,null,null,null,null,"کامل شده",null,{"$f":"KP282","v":0},{"$f":"KQ290","v":2.1},"j29",null,null,null,null,null,null,null,null,null,null,null,null,null,null,null,null,null,null,null,null,null,{"$f":"LJ247","v":-2.757197351643474},2.1,"j116",null,null,null,null,null,null,null,null,null,null,null,{"$f":"IF(CO170>CO169,CN170,CN169)","v":0},{"$f":"IF(CO170>CO169,CO170,CO169)","v":25},"44 یا d1",null,{"$f":"-MB291+MG286","v":0},{"$f":"MC291","v":25},"44 یا d1",null,null,null,null,null,null,null,null,null,null,null,null,null,null,null,null,null,null,null,null,null,null,null,null,null,null,null,null,null,null,null,null,null,null,null,null,null,null,null,null,null,null,"w29",{"$f":"NU76","v":-10.882812500000004},{"$f":"NV76","v":{"$error":"#VALUE!"}},{"$f":"NZ296","v":-11.250312500000003},{"$f":"OA296","v":{"$error":"#VALUE!"}},{"$f":"NY296","v":"g6"},null,null,null,null,null,"نسبت سایز افقی",{"$f":"OG38","v":42},"انحنا راستگرد ",null,null,{"$f":"OL291","v":"انحنا راستگرد "},null,null,null,null,null,"m29",{"$f":"OQ87","v":-12.377604166666673},{"$f":"OR87","v":10.800511508951407},null,null,null,null,null,null,null,null,"f13",{"$f":"PG288","v":-32.974557757885769},{"$f":"PH289","v":9.4670076726342725},{"$f":"PG290","v":-33.554608908780914},{"$f":"PH290","v":9.339028132992329},{"$f":"PF290","v":"f12"},null,null,null,null,null,"f8",{"$f":"PR288","v":-23.84375},{"$f":"PS288+2*PR283","v":10.433759590792841},{"$f":"PR290","v":-23.553724424552431},{"$f":"PS290","v":10.220460358056268},{"$f":"PQ290","v":"f7"},null,null,null,null,null,null,null,null,null,null,null,null,null,null,null,null,null,null,null,null,null,null,null,null,null,null,null,null,null,null,null,null,null,null,null,"بزرگی فلش دانه",{"$f":"RC46","v":0.4},"f10",{"$f":"RG298","v":-27.179687500000004},{"$f":"RH298","v":15.26751918158568},{"$f":"RF298","v":"f8"},null,null,null,null,null,null,null,null,null,null,null,null,null,null,null,null,null,{"$f":"SC290","v":-30.729096989966557},{"$f":"RV160","v":10.277777777777777},null,null,null,null,null,null,null,null,null,null,null,null,null,null,null,null,null,null,{"$f":"SW290","v":-30.729096989966557},{"$f":"SP160","v":10.277777777777777},null,null,null,null,null,null,null,null,null,null,null,null,null,null,null,null,null,null,{"$f":"TQ290","v":-30.96086956521739},{"$f":"TJ160","v":9.7222222222222232},null,null,null,null,null,null,null,null,null,null,null,null,null,null,null,null,null,null,{"$f":"UK290","v":-30.96086956521739},{"$f":"UD160","v":9.7222222222222232},null,null,null,null,null,null,null,null,null,null,null,null,null,null,null,null,null,null,{"$f":"VE290","v":-30.729096989966557},{"$f":"UX160","v":10.277777777777777},null,null,null,null,null,null,null,null,null,null,null,null,null,null,null,null,null,null,{"$f":"VY290","v":-30.729096989966557},{"$f":"VR160","v":10.277777777777777}]
[null,null,null,null,null,{"$f":"BO178","v":0},{"$f":"BP178","v":25},44,null,{"$f":"IF(I316>(G309-G310),F310-(I316-(G324-G325))*((F310-BO176)/(G310-BP176)),F309-IF(G318>0,I316*TAN(K315),-I316*TAN(K314)))","v":0},{"$f":"G309-I316","v":24.5},"d1",null,{"$f":"J310","v":5.0187976144189319},{"$f":"K310","v":25.5},{"$f":"L310","v":"u2"},null,{"$f":"AZ163","v":0},{"$f":"BA163","v":17.899999999999999},46,null,"sf10",null,{"$f":"X308","v":0},{"$f":"S309","v":17.899999999999999},null,{"$f":"X320","v":6.0256799999999995},{"$f":"Y320","v":25.5},"su6",null,{"$f":"X315","v":10.150105150583554},{"$f":"Y315","v":17.899999999999999},"sfp13",null,null,null,null,null,null,null,null,null,{"$f":"BK156","v":0},{"$f":"BL156","v":18.61},37,null,"sf10",null,{"$f":"AW308","v":0},{"$f":"AR309","v":18.61},null,{"$f":"AW320","v":5.0187976144189319},{"$f":"AX320","v":25.5},"su6",null,{"$f":"AW315","v":13.589080638771248},{"$f":"AX315","v":18.61},"sfp13",null,null,null,null,null,{"$f":"AW328","v":0},{"$f":"AX328","v":21.075174958121146},"sp11",null,{"$f":"IB129","v":-5.7506799999999991},{"$f":"IC129","v":17.899999999999999},"47'",null,null,null,"اوزمان",null,{"$f":"BT310","v":-6.2456799999999992},{"$f":"BU310","v":17.899999999999999},{"$f":"BV310","v":"e21"},null,{"$f":"AZ176","v":5.7506799999999991},{"$f":"BA176","v":17.899999999999999},"47'",null,{"$f":"CB323","v":6.2456799999999992},{"$f":"CC323","v":17.899999999999999},{"$f":"CD323","v":"e21"},null,{"$f":"AZ180","v":6.3006799999999998},{"$f":"BA180","v":17.899999999999999},"47''",null,"(47'→52)",{"$f":"SQRT(POWER((CK309-CK310),2)+POWER((CJ310-CJ309),2))","v":0.49500000000000011},null,{"$f":"CJ323","v":5.8056799999999997},{"$f":"CK323","v":17.899999999999999},{"$f":"CL323","v":"e21"},null,null,{"$f":"AZ163","v":0},{"$f":"BA163","v":17.899999999999999},46,null,null,null,"اوزمان",null,{"$f":"CZ310","v":0},{"$f":"DA310","v":17.899999999999999},{"$f":"DB310","v":"e21"},null,{"$f":"BK165","v":12.600000000000001},{"$f":"BL165","v":17.96447253527586},"شیفت 42",null,null,null,"اوزمان",null,{"$error":"#DIV/0!"},{"$error":"#DIV/0!"},"e26",null,{"$f":"-DP309+DU307","v":{"$error":"#DIV/0!"}},{"$error":"#DIV/0!"},"e26",null,{"$f":"BO187","v":6.165},{"$f":"BP187","v":18.61},"38'",null,{"$f":"DX324","v":6.7949999999999999},{"$f":"DY324","v":17.899999999999999},{"$f":"DZ324","v":"e21"},null,{"$f":"-EB309+EG307","v":-6.7949999999999999},17.899999999999999,"e21",null,{"$f":"BO191","v":5.085},{"$f":"BP191","v":18.61},"38''شیفت",null,{"$f":"EJ325","v":4.4550000000000001},{"$f":"EK325","v":17.899999999999999},{"$f":"EL325","v":"e21"},null,{"$f":"-EN309+ES307","v":-4.4550000000000001},17.899999999999999,"e21",null,{"$f":"-CQ309-HY101","v":-5.8056799999999997},{"$f":"CR309","v":17.899999999999999},"e21",null,"به دست آوردن مختصات نقطه تقاطع دو خط با داشتن دونقطه از یک خط",null,null,null,null,null,null,{"$f":"FA372+FA376","v":0},{"$f":"FB372+FA377","v":32.200000000000003},"d3",null,{"$f":"FD366+FA376+FA378","v":7.4353386267279378},{"$f":"FE366+FA377","v":36.865201083270229},"g6",null,{"$f":"FD350+FA376+FA378","v":6.3423242080107185},{"$f":"FE350+FA377","v":33.247919598556791},"g6",null,{"$f":"-FG310-GA306","v":0},{"$f":"FH310","v":17.899999999999999},1,null,{"$f":"-FK309-GA306","v":-7.4353386267279378},{"$f":"FL309","v":36.865201083270229},"g6",null,{"$f":"-FO309-GA306","v":-6.3423242080107185},{"$f":"FP309","v":33.247919598556791},"g6",null,"به دست آوردن مختصات نقطه تقاطع دو خط با داشتن دونقطه از یک خط",null,null,null,null,null,null,{"$f":"GI367","v":6.575453018006101},{"$f":"GJ367","v":37.741897027053682},"g7",null,{"$f":"GL309+GP354","v":6.575453018006101},{"$f":"GM309+GP355","v":37.741897027053682},"g7",null,null,null,9.5475067938569254,5.9788189044991746,"7dp82","نقطه قبل از چرخش",{"$f":"IF(GW309>GW303,IF(GV309>GV303,GV303+SQRT(POWER(GV309-GV303,2)+POWER(GW309-GW303,2))*COS(ATAN((GW309-GW303)/(GV309-GV303+0.000123))+GW301),GV303-SQRT(POWER(GV309-GV303,2)+POWER(GW309-GW303,2))*COS(ATAN((GW309-GW303)/(GV303-GV309+0.000123))-GW301)),IF(GV309>GV303,GV303+SQRT(POWER(GV309-GV303,2)+POWER(GW309-GW303,2))*COS(ATAN((GW303-GW309)/(GV309-GV303+0.000123))-GW301),GV303-SQRT(POWER(GV309-GV303,2)+POWER(GW309-GW303,2))*COS(ATAN((GW303-GW309)/(GV303-GV309+0.000123))+GW301)))","v":6.7237169953016505},{"$f":"IF(GW309>GW303,IF(GV309>GV303,GW303+SQRT(POWER(GV309-GV303,2)+POWER(GW309-GW303,2))*SIN(ATAN((GW309-GW303)/(GV309-GV303+0.000123))+GW301),GW303+SQRT(POWER(GV309-GV303,2)+POWER(GW309-GW303,2))*SIN(ATAN((GW309-GW303)/(GV303-GV309+0.000123))-GW301)),IF(GV309>GV303,GW303-SQRT(POWER(GV309-GV303,2)+POWER(GW309-GW303,2))*SIN(ATAN((GW303-GW309)/(GV309-GV303+0.000123))-GW301),GW303-SQRT(POWER(GV309-GV303,2)+POWER(GW309-GW303,2))*SIN(ATAN((GW303-GW309)/(GV303-GV309+0.000123))+GW301)))","v":1.557890510660572},"67dp82",null,{"$f":"HD306","v":-11.25},{"$f":"HE306","v":29.530675303443079},{"$f":"HF269","v":"1234dp50"},null,11.03,27.864681755055983,"dp4",null,null,null,null,null,null,null,null,null,null,null,"b16",{"$f":"CE136-HW320","v":9.406358314771925},{"$f":"CF136-HW321","v":40.363650093687234},null,"نقطه دوم از خط اول","d'4b10",{"$f":"HW356","v":6.4850246565298519},{"$f":"HX356","v":31.063333138323209},null,{"$f":"HW345-0.5*HW341+0.5*HW319","v":7.8938149888631548},{"$f":"HX345","v":38.55425510766981},"شیفتd6  b16",null,{"$f":"HW349-0.5*HW341+0.5*HW319","v":7.6312707977839604},{"$f":"HX349","v":36.394832981334758},"شیفتd6  b12",null,{"$f":"HW357-HW341+HW319","v":8.205073969589554},{"$f":"HX357","v":31.244052246690007},"شیفتd6  b10",null,{"$f":"J340","v":6.0063138300931964},{"$f":"K340","v":24.5},"d5",null,{"$f":"IF(IQ312>IQ309,IQ312,IQ309)","v":6.0063138300931964},{"$f":"IR312","v":17.899999999999999},"a3",null,{"$f":"-IU309+IR325","v":-6.0063138300931964},17.899999999999999,"a'3",null,null,null,null,null,{"$f":"IY315","v":-10.149999999999999},{"$f":"IZ315","v":17.899999999999999},"d'60",null,{"$f":"IU307","v":0},{"$f":"IV307","v":24.5},"a1",null,{"$f":"IY307","v":0},{"$f":"IZ307","v":24.5},"a'1",null,null,null,null,null,null,null,null,null,-5.5427750000000007,19.700150000000001,"7n'",null,{"$f":"-KA309+IR325","v":5.5427750000000007},19.700150000000001,"7n'",null,{"$f":"J311","v":5.0681140952831063},{"$f":"K311","v":24.5},"d2",null,{"$f":"IF(KI312>KI309,KI312,KI309)","v":6.165},{"$f":"KJ312","v":18.61},"b3",null,{"$f":"-KM309+KJ323+KJ324+KJ334","v":-6.165},18.61,"b'3",null,{"$f":"KM312","v":13.680000000000001},{"$f":"KN312","v":17.899999999999999},"b6",null,{"$f":"KY308","v":-10.006154170370817},{"$f":"KN314","v":17.899999999999999},"d'53",null,{"$f":"KM320","v":0},{"$f":"KN320","v":17.899999999999999},"b14",null,{"$f":"KQ337","v":-2.5340570476415532},{"$f":"KR337","v":24.5},"b'42",null,{"$f":"KM357","v":13.680000000000001},{"$f":"KN357","v":17.899999999999999},"b62",null,{"$f":"KQ357","v":-13.680000000000001},{"$f":"KR357","v":17.899999999999999},"b'6",null,null,6.0063138300931964,24.5,"a2",null,{"$f":"LT316+(LU332-1)*(LT309-LT316)/39","v":-0.93641121098023827},{"$f":"LU308+IF(LX309<LT308,0,(LX309-LT308)*((LU309-LU308)/(LT309-LT308)))","v":24.5},"an4",null,{"$f":"LT310","v":6.0063138300931964},{"$f":"LU310","v":17.899999999999999},"a3",null,{"$f":"LT309","v":6.0063138300931964},{"$f":"LU309","v":24.5},"a2",null,null,{"$f":"GJ395","v":9.440779022375235},{"$f":"GK395","v":39.832710546202335},"22fشبیه",null,{"$f":"MO308","v":4.6551724137931032},{"$f":"ML325","v":17.899999999999999},"a10",null,{"$f":"IF(AND(MO308>MK310,MO308<MO352),MO308,MK310)","v":5.9244108634080561},{"$f":"IF(AND(MO308>MK310,MO308<MO352),MP308,ML310)","v":41.300688577032062}," یا 25 a4",null,{"$f":"-MS309+ML327","v":-5.9244108634080561},{"$f":"MT309","v":41.300688577032062}," یا 25 a4",null,null,{"$f":"GR395","v":9.4229706064903649},{"$f":"GS395","v":40.388297564059087},"18fشبیه",null,{"$f":"NF308","v":4.6624318058603755},{"$f":"NC325","v":17.899999999999999},"a10",null,{"$f":"IF(AND(NF308>NB310,NF308<NF352),NF308,NB310)","v":5.9261724872003319},{"$f":"IF(AND(NF308>NB310,NF308<NF352),NG308,NC310)","v":41.906043578260295}," یا 25 a4",null,{"$f":"-NJ309+NG326","v":-5.9261724872003319},{"$f":"NK309","v":41.906043578260295}," یا 25 a4",null,null,null,null,null,null,null,null,"نسبت سایز افقی",{"$f":"NV33","v":42},"انحنا چپگرد ",null,null,{"$f":"OA309","v":"انحنا چپگرد "},null,null,null,null,null,"m33",{"$f":"OF90","v":-12.687499999999996},{"$f":"OG90","v":11.767263427109976},null,null,null,null,null,null,null,null,"g2",{"$f":"OV307","v":-14.856770833333336},{"$f":"OW307+OV304","v":11.767263427109976},null,null,null,null,null,null,null,null,"طول باکس نوشته",{"$f":"1.3*PC39","v":5.8500000000000005},"h3",{"$f":"PG319","v":-20.958203125000001},{"$f":"PH319","v":9.833759590792841},{"$f":"PF319","v":"h8"},null,null,null,null,null,"g6",{"$f":"PR308","v":2.5549999999999908},{"$f":"PS306-PS308+PS304","v":10.66516624040921},null,null,null,null,null,null,null,null,null,null,null,null,null,null,null,null,null,null,null,null,null,null,null,null,null,null,null,null,null,null,null,null,null,null,null,null,null,null,"g6",{"$f":"RG308","v":-45.575833333333335},{"$f":"RH306-RH308+RH304","v":11.341892583120208},null,null,null,null,null,null,null,null,null,null,null,null,null,null,null,null,null,null,null,null,{"$f":"SC308","v":-24.829431438127088},{"$f":"RV160","v":10.277777777777777},null,null,null,null,null,null,null,null,null,null,null,null,null,null,null,null,null,null,{"$f":"SW308","v":-24.829431438127088},{"$f":"SP160","v":10.277777777777777},null,null,null,null,null,null,null,null,null,null,null,null,null,null,null,null,null,null,{"$f":"TQ308","v":-25.208695652173908},{"$f":"TJ160","v":9.7222222222222232},null,null,null,null,null,null,null,null,null,null,null,null,null,null,null,null,null,null,{"$f":"UK308","v":-25.208695652173908},{"$f":"UD160","v":9.7222222222222232},null,null,null,null,null,null,null,null,null,null,null,null,null,null,null,null,null,null,{"$f":"VE308","v":-24.829431438127088},{"$f":"UX160","v":10.277777777777777},null,null,null,null,null,null,null,null,null,null,null,null,null,null,null,null,null,null,{"$f":"VY308","v":-24.829431438127088},{"$f":"VR160","v":10.277777777777777}]
[null,null,null,null,null,null,{"$f":"G314","v":25},"f",{"$f":"G328*G326*0.01","v":0.5},"u2 u'2",{"$f":"ATAN((F321-F320)/(G320-G321+0.00001))","v":8.7372217449500758E-2},"αu2",null,null,null,null,null,{"$f":"J338","v":0},{"$f":"K338","v":24.5},"d4",null,"طراحی جلو دامن ترک با کمر پهن - پیلی",null,null,null,null,{"$f":"-X323+2*X308","v":-10.766026507725952},{"$f":"Y323","v":25.5},"s'u3",null,null,null,null,null,{"$f":"IF(OR(AB348<AB354,AB348>AB350),AA350,AA348)","v":10.714282956765038},{"$f":"IF(OR(AB348<AB354,AB348>AB350),AB350,AB348)","v":35},"sfp16",null,{"$f":"-AI326+2*R336+2*X308","v":-10.714282956765038},{"$f":"AJ326","v":35},"s'fp16",null,{"$f":"J323","v":11.67042243602474},{"$f":"K323","v":24.564472535275861},"d3",null,"طراحی جلو دامن ترک با کمر پهن - پیلی",null,null,null,null,{"$f":"-AW323+2*AW308","v":-10.347684429510144},{"$f":"AX323","v":25.5},"s'u3",null,null,null,null,null,{"$f":"BD357","v":10.556650626590953},{"$f":"BE357","v":44.5},"sd3",null,{"$f":"AW337","v":10.781654253002795},{"$f":"AX337","v":16.626602338616316},"sp32",null,null,"گوده",null,null,{"$f":"BT310-2*BQ318*COS(BQ328)","v":{"$error":"#DIV/0!"}},{"$f":"BU310-2*BQ318*SIN(BQ328)","v":{"$error":"#DIV/0!"}},"e216",null,null,null,null,null,null,null,"گوده",null,null,null,null,null,null,null,"گوده",null,null,null,null,null,null,null,null,null,null,"گوده",null,null,{"$f":"CZ310-2*CW318*COS(CW328)","v":{"$error":"#DIV/0!"}},{"$f":"DA310-2*CW318*SIN(CW328)","v":{"$error":"#DIV/0!"}},"e216",null,null,null,null,null,"(47'→e22)",{"$f":"SQRT(POWER((DI324),2)-POWER((DI325),2))","v":0},null,null,{"$f":"DL310+2*DI319*COS(DI329)","v":{"$error":"#DIV/0!"}},{"$f":"DM310+2*DI319*SIN(DI329)","v":{"$error":"#DIV/0!"}},"e216",null,{"$f":"DL324","v":{"$error":"#DIV/0!"}},{"$f":"DM324","v":{"$error":"#DIV/0!"}},{"$f":"DN324","v":"e218"},null,{"$f":"-DP326+DU307","v":{"$error":"#DIV/0!"}},{"$error":"#DIV/0!"},"e218",null,{"$f":"DX310+0.6*(DX324-DX310)","v":6.7949999999999999},{"$f":"DY310+0.4*(DY324-DY310)","v":17.899999999999999},"e24",null,null,null,null,null,null,null,null,null,{"$f":"EJ310+0.3*(EJ325-EJ310)","v":4.4550000000000001},{"$f":"EK310+0.12*(EK325-EK310)","v":17.899999999999999},"e23",null,null,null,null,null,null,null,null,null,null,null,null,null,null,null,null,"مولفه افقی","مولفه عمودی",null,null,{"$f":"CR167","v":0},{"$f":"CS167","v":24.5},"d4",null,{"$f":"FK309","v":7.4353386267279378},{"$f":"FL309","v":36.865201083270229},{"$f":"FM309","v":"g6"},null,null,null,null,null,null,null,null,null,{"$f":"-FK326-GA306","v":-7.4353386267279378},{"$f":"FL326","v":36.865201083270229},"g6",null,null,null,null,null,null,null,null,"مولفه افقی","مولفه عمودی",null,null,{"$f":"-GL321","v":-3.1959768715511077},34.046081293101466,"g8",null,{"$f":"GL326+GP354","v":-3.1959768715511077},{"$f":"GM326+GP355","v":34.046081293101466},"g8",null,null,null,null,null,null,null,null,null,null,null,null,null,null,null,{"$f":"IF(OR(HB243<HA263,HB244>HA263),GV263,GZ263)","v":-11.25},{"$f":"IF(OR(HB243<HA263,HB244>HA263),GW263,HA263)","v":29.530675303443079},"dp40",null,null,null,null,null,null,null,null,null,null,null,"m6",{"$f":"MC272-HW320-HW341","v":4.5},{"$f":"MD272-HW321","v":33.709934481291214},null,"نقطه تقاطع","d''4b16",{"$f":"(IC324-IC322+IB322*((IC323-IC322)/(IB323-IB322))-IB324*((IC325-IC324)/(IB325-IB324)))/(((IC323-IC322)/(IB323-IB322))-((IC325-IC324)/(IB325-IB324)))","v":6.551039154136471},{"$f":"IC322+(IB326-IB322)*((IC323-IC322)/(IB323-IB322))","v":37.125879829725648},null,{"$f":"-IE310","v":-6.3812716629543846},{"$f":"IF310","v":36.969079738226718},"شیفتd4  b16'",null,{"$f":"-II310","v":-6.2937569325946532},{"$f":"IJ310","v":35.304218330240538},"شیفتd4  b12'",null,{"$f":"-IM310","v":-6.4850246565298519},{"$f":"IN310","v":31.063333138323209},"شیفتd4  b10'",null,null,null,null,null,{"$f":"IU307+IR334","v":0},{"$f":"IV307","v":24.5},"a40",null,{"$f":"IY307+IR340","v":0},{"$f":"IZ307","v":24.5},"a'40",null,{"$f":"IU324","v":15.661267660186393},{"$f":"IV324","v":24.5},"a28",null,{"$f":"JG322+JG322-JG324","v":-6.0063138300931964},{"$f":"JH322","v":17.899999999999999},"c'49",null,null,null,null,null,null,null,null,null,{"$f":"IU352","v":15.661267660186393},{"$f":"IV352","v":24.5},"a66",null,{"$f":"IY352","v":-15.661267660186393},{"$f":"IZ352","v":24.5},"a'28",null,null,null,null,null,null,null,null,null,null,"محاسبات",null,null,{"$f":"KQ375","v":0},{"$f":"KR375","v":19.22},"b21",null,{"$f":"-KM326+KJ323+KJ324+KJ334","v":0},19.22,"b'21",null,{"$f":"KM308","v":5.0681140952831063},{"$f":"KN308","v":24.5},"b2",null,{"$f":"KY322+KY322-KY324","v":-2.5340570476415532},{"$f":"KZ322","v":24.5},"c'44",null,null,null,null,null,null,null,null,null,{"$f":"KM339","v":2.5340570476415532},{"$f":"KN339","v":24.5},"b44",null,{"$f":"KQ339","v":-2.5340570476415532},{"$f":"KR339","v":24.5},"b'44",null,null,null,null,null,null,null,null,null,null,null,null,null,null,null,null,null,null,null,"شیفت افقی تکه جلو",{"$f":"C104","v":0},null,null,null,null,null,null,null,null,null,null,null,null,null,null,null,null,null,null,null,"قرینه",{"$f":"2*C102","v":0},null,null,null,null,null,null,null,null,null,null,null,null,null,null,null,null,null,"نقطه ورودی سر فلش","مولفه افقی","مولفه عمودی",{"$f":"NZ329","v":-31.039198369565216},{"$f":"OA329","v":{"$error":"#VALUE!"}},{"$f":"NY329","v":"f3"},null,null,null,null,null,null,null,null,{"$f":"OF92","v":-11.447916666666666},{"$f":"OG92","v":12.734015345268544},"m35",null,null,null,null,null,"ارتفاع نیم دایره",{"$f":"OR49","v":0.96675191815856776},"بزرگی فلش",{"$f":"OV329","v":-12.377604166666673},{"$f":"OW329","v":11.767263427109976},{"$f":"OU329","v":"m34"},null,null,null,null,null,null,null,null,{"$f":"PG318","v":-18.033203125},{"$f":"PH318","v":9.833759590792841},{"$f":"PF318","v":"h5"},null,null,null,null,null,"h9",{"$f":"PR324+0.5*PR315","v":-11.621875000000003},{"$f":"PS320","v":10.800511508951409},{"$f":"PR329","v":-11.621875000000003},{"$f":"PS329","v":10.550511508951409},{"$f":"PQ329","v":"h12"},null,null,null,null,null,null,null,null,null,null,null,null,null,null,null,null,null,null,null,null,null,null,null,null,null,null,null,null,null,null,null,null,null,null,null,"h9",{"$f":"RG324+0.5*RG315","v":-21.319791666666671},{"$f":"RH320","v":14.66751918158568},{"$f":"RG329","v":-21.319791666666671},{"$f":"RH329","v":14.41751918158568},{"$f":"RF329","v":"h12"},null,null,null,null,null,{"$f":"RQ325","v":0},{"$f":"RN38","v":-40.22742474916388},null,null,null,null,null,null,null,null,null,null,{"$f":"IF(RV149>(RU207-RU162),RU207,RU162)","v":-40},{"$f":"IF(RV149>(RU207-RU162),RV207,RV162)","v":0},26,null,null,null,null,null,{"$f":"SK325","v":0},{"$f":"SH38","v":-40.22742474916388},null,null,null,null,null,null,null,null,null,null,{"$f":"IF(SP149>(SO207-SO162),SO207,SO162)","v":-40},{"$f":"IF(SP149>(SO207-SO162),SP207,SP162)","v":0},26,null,null,null,null,null,{"$f":"TE325","v":0},{"$f":"TB38","v":-39.721739130434784},null,null,null,null,null,null,null,null,null,null,{"$f":"IF(TJ149>(TI207-TI162),TI207,TI162)","v":-40},{"$f":"IF(TJ149>(TI207-TI162),TJ207,TJ162)","v":0},26,null,null,null,null,null,{"$f":"TY325","v":0},{"$f":"TV38","v":-39.721739130434784},null,null,null,null,null,null,null,null,null,null,{"$f":"IF(UD149>(UC207-UC162),UC207,UC162)","v":-40},{"$f":"IF(UD149>(UC207-UC162),UD207,UD162)","v":0},26,null,null,null,null,null,{"$f":"US325","v":0},{"$f":"UP38","v":-40.22742474916388},null,null,null,null,null,null,null,null,null,null,{"$f":"IF(UX149>(UW207-UW162),UW207,UW162)","v":-40},{"$f":"IF(UX149>(UW207-UW162),UX207,UX162)","v":0},26,null,null,null,null,null,{"$f":"VM325","v":0},{"$f":"VJ38","v":-40.22742474916388},null,null,null,null,null,null,null,null,null,null,{"$f":"IF(VR149>(VQ207-VQ162),VQ207,VQ162)","v":-40},{"$f":"IF(VR149>(VQ207-VQ162),VR207,VR162)","v":0},26]
[null,null,null,null,null,"متغیرهای  ورودی",null,null,{"$f":"G345*G343*0.01","v":0.5},"u4 u'4",{"$f":"ATAN((F338-F337)/(G337-G338+0.00001))","v":0},"αu4",null,{"$f":"J339","v":6.0256799999999995},{"$f":"K339","v":25.5},{"$f":"L339","v":"u6"},null,"xs4",{"$f":"0.5*('متغیرها '!U52-'متغیرها '!U53)","v":10.7},null,{"$f":"S345+'متغیرها '!C51","v":9.9},{"$f":"S342+'متغیرها '!C52","v":17.899999999999999},"s5",null,null,null,{"$f":"-X321+R336+2*X308","v":-6.0063138300931964},{"$f":"Y321-S333+R337","v":34.5},"s'd5",null,{"$f":"X329","v":3},{"$f":"Y329","v":{"$error":"#DIV/0!"}},"sp12",null,{"$f":"AA359","v":-7.532},{"$f":"AB359","v":35.5},"su7",null,{"$f":"AA364","v":-15.738814782503772},{"$f":"AB364","v":34.97906164065963},"s'u9",null,"xs11",{"$f":"0.5*'متغیرها '!U55","v":12.6},null,{"$f":"-AR344+'متغیرها '!C53","v":-12.6},{"$f":"AR340+'متغیرها '!C54","v":8.4},"s'12",null,null,null,"خط اول","نقطه اول",41,{"$f":"AQ314","v":11.600000000000001},{"$f":"AR314","v":25.064472535275861},null,null,null,{"$f":"BD372","v":15.24196922369716},{"$f":"BE372","v":46.522729853573153},"su9",null,{"$f":"BD363","v":-10.347684429510144},{"$f":"BE363","v":45.5},"s'u3",null,null,null,null,null,null,null,null,null,null,null,null,null,"(e22→e21)",{"$f":"CC311*0.25*CC312+CB310-CB309","v":0.49500000000000011},"(e29→e26)",{"$f":"CC315+CB323-CB327","v":{"$error":"#DIV/0!"}},null,null,null,null,null,{"$f":"'متغیرها '!U59","v":8.4},"h",null,{"$f":"CN337+0.7*(CN342-CN337)","v":{"$error":"#DIV/0!"}},{"$f":"CO337+0.5*(CO342-CO337)","v":{"$error":"#DIV/0!"}},"e28",null,{"$error":"#DIV/0!"},{"$error":"#DIV/0!"},"e26",null,null,null,null,null,null,null,null,null,null,null,null,null,null,0,"e'40",null,{"$f":"DH343+0.3*(DL343-DH343)","v":-0.63},{"$f":"DI343+0.12*(DM343-DI343)","v":17.899999999999999},"e23",null,{"$f":"DL348","v":{"$error":"#DIV/0!"}},{"$f":"DM348","v":{"$error":"#DIV/0!"}},{"$f":"DN348","v":"e26"},null,{"$f":"-DP344+DU340","v":{"$error":"#DIV/0!"}},{"$error":"#DIV/0!"},"e26",null,null,"(e22→e21)",{"$f":"DY311*0.25*DY312+DX310-DX309","v":0.62999999999999989},null,null,null,null,null,null,null,null,null,null,"(47'→52)",{"$f":"SQRT(POWER((EK309-EK310),2)+POWER((EJ310-EJ309),2))","v":0.94921019800674344},null,null,null,null,null,null,null,null,null,{"$f":"-CF322-HY101","v":-6.2456799999999992},{"$f":"CG322","v":17.899999999999999},"e21",null,null,"نقطه دوم",{"$f":"EZ340","v":"b6"},{"$f":"FA340","v":8.1998009295414409},{"$f":"FB340","v":33.610982089848804},null,null,null,null,null,null,{"$f":"FD336+FA376","v":3.1758891201804267},{"$f":"FE336+FA377","v":33.843589999503394},"g8",null,{"$f":"FA372+FA376","v":0},{"$f":"FB372+FA377","v":32.200000000000003},"d3",null,null,null,null,null,{"$f":"-FK344-GA306","v":-3.1758891201804267},{"$f":"FL344","v":33.843589999503394},"g8",null,{"$f":"-FO343-GA306","v":-3.0477156670841041},{"$f":"FP343","v":32.551558460309465},"g8",null,null,"نقطه دوم",{"$f":"GE340","v":"b6"},{"$f":"GF340","v":7.9797616345435118},{"$f":"GG340","v":33.902714667724453},null,null,{"$f":"GM355","v":0},{"$f":"GN355","v":32.200000000000003},"d3",null,{"$f":"GL344+GP354","v":0},{"$f":"GM344+GP355","v":32.200000000000003},"d3",null,null,null,null,null,null,null,null,null,null,null,null,null,null,null,{"$f":"IF(HB244>HA262,GV263,GZ261)","v":-10.865},{"$f":"IF(HB244>HA262,GW263,HA261)","v":26.61518659376566},"dp20",null,null,null,null,null,null,null,null,null,null,null,"d4  b16ʻ",{"$f":"0.2*(HW309-HW317)+HW317","v":6.3812716629543846},{"$f":"HX341+((HW344-HW341)/(HW309-HW341))*(HX309-HX341)+0.75*'متغیرها '!C360*(HW310-HW341)","v":36.969079738226718},null,"نقطه دوم از خط اول","d'4b10",{"$f":"HW356","v":6.4850246565298519},{"$f":"HX356","v":31.063333138323209},null,null,null,null,null,{"$f":"IB375-HW341+HW319","v":5.7155465803639833},{"$f":"IC375","v":32.880571178280356},"شیفتd4  b6''",null,{"$f":"IB319-HW341+HW319","v":5.8219871812959543},{"$f":"IC319","v":30.1716539156936},"شیفتd4  b14''",null,"a37",{"$f":"-2*'متغیرها '!C786","v":0},"پیلی 1",null,{"$f":"IU317+IR334+IR335+IR336+IR337","v":8.1678003999999991},{"$f":"IV317","v":17.899999999999999},"a58",null,{"$f":"IY317+IR340+IR341+IR342+IR343","v":-8.1678003999999991},{"$f":"IZ317","v":17.899999999999999},"a'58",null,{"$f":"IU313","v":0},{"$f":"IV313","v":17.899999999999999},"a7",null,{"$f":"JG343","v":3.0031569150465982},{"$f":"IV313","v":17.899999999999999},"d43",null,null,null,"پیلی 8",null,null,null,"پیلی 8",null,{"$f":"IU335","v":6.0063138300931964},{"$f":"IV335","v":17.899999999999999},"a49",null,{"$f":"IY335","v":-6.0063138300931964},{"$f":"IZ335","v":17.899999999999999},"a'49",null,null,null,null,null,null,null,null,null,null,0,"پهلو پشت بدون پیلی",null,{"$f":"KM342+KJ336","v":6.165},{"$f":"KN342","v":18.61},"b49",null,{"$f":"KQ342+KJ342","v":-6.165},{"$f":"KR342","v":18.61},"b'49",null,{"$f":"KM307","v":0},{"$f":"KN307","v":24.5},"b1",null,{"$f":"KY343","v":6.165},{"$f":"KN314","v":17.899999999999999},"d48",null,null,null,"پیلی 16",null,null,null,null,null,{"$f":"KM340","v":2.5340570476415532},{"$f":"KN340","v":17.899999999999999},"b45",null,{"$f":"KQ340","v":-2.5340570476415532},{"$f":"KR340","v":17.899999999999999},"b'45",null,null,1.3089999999999993,17.933,"5n'","نقطه قبل از چرخش",{"$f":"IF(LU344>LU338,IF(LT344>LT338,LT338+SQRT(POWER(LT344-LT338,2)+POWER(LU344-LU338,2))*COS(ATAN((LU344-LU338)/(LT344-LT338+0.000123))+LU336),LT338-SQRT(POWER(LT344-LT338,2)+POWER(LU344-LU338,2))*COS(ATAN((LU344-LU338)/(LT338-LT344+0.000123))-LU336)),IF(LT344>LT338,LT338+SQRT(POWER(LT344-LT338,2)+POWER(LU344-LU338,2))*COS(ATAN((LU338-LU344)/(LT344-LT338+0.000123))-LU336),LT338-SQRT(POWER(LT344-LT338,2)+POWER(LU344-LU338,2))*COS(ATAN((LU338-LU344)/(LT338-LT344+0.000123))+LU336)))","v":{"$error":"#DIV/0!"}},{"$f":"IF(LU344>LU338,IF(LT344>LT338,LU338+SQRT(POWER(LT344-LT338,2)+POWER(LU344-LU338,2))*SIN(ATAN((LU344-LU338)/(LT344-LT338+0.000123))+LU336),LU338+SQRT(POWER(LT344-LT338,2)+POWER(LU344-LU338,2))*SIN(ATAN((LU344-LU338)/(LT338-LT344+0.000123))-LU336)),IF(LT344>LT338,LU338-SQRT(POWER(LT344-LT338,2)+POWER(LU344-LU338,2))*SIN(ATAN((LU338-LU344)/(LT344-LT338+0.000123))-LU336),LU338-SQRT(POWER(LT344-LT338,2)+POWER(LU344-LU338,2))*SIN(ATAN((LU338-LU344)/(LT338-LT344+0.000123))+LU336)))","v":{"$error":"#DIV/0!"}},"e5",null,{"$f":"LT313","v":10.661267660186393},{"$f":"LU313","v":17.899999999999999},"a6",null,null,null,null,null,null,6.2951119999999996,17.899999999999999,50,"نقطه قبل از چرخش",{"$f":"IF(ML344>ML331,IF(MK344>MK331,MK331+SQRT(POWER(MK344-MK331,2)+POWER(ML344-ML331,2))*COS(ATAN((ML344-ML331)/(MK344-MK331+0.000123))+ML329),MK331-SQRT(POWER(MK344-MK331,2)+POWER(ML344-ML331,2))*COS(ATAN((ML344-ML331)/(MK331-MK344+0.000123))-ML329)),IF(MK344>MK331,MK331+SQRT(POWER(MK344-MK331,2)+POWER(ML344-ML331,2))*COS(ATAN((ML331-ML344)/(MK344-MK331+0.000123))-ML329),MK331-SQRT(POWER(MK344-MK331,2)+POWER(ML344-ML331,2))*COS(ATAN((ML331-ML344)/(MK331-MK344+0.000123))+ML329)))","v":8.3057950735728703},{"$f":"IF(ML344>ML331,IF(MK344>MK331,ML331+SQRT(POWER(MK344-MK331,2)+POWER(ML344-ML331,2))*SIN(ATAN((ML344-ML331)/(MK344-MK331+0.000123))+ML329),ML331+SQRT(POWER(MK344-MK331,2)+POWER(ML344-ML331,2))*SIN(ATAN((ML344-ML331)/(MK331-MK344+0.000123))-ML329)),IF(MK344>MK331,ML331-SQRT(POWER(MK344-MK331,2)+POWER(ML344-ML331,2))*SIN(ATAN((ML331-ML344)/(MK344-MK331+0.000123))-ML329),ML331-SQRT(POWER(MK344-MK331,2)+POWER(ML344-ML331,2))*SIN(ATAN((ML331-ML344)/(MK331-MK344+0.000123))+ML329)))","v":17.961612818128284},"b50",null,null,null,null,null,null,null,null,null,null,4.4550000000000001,17.899999999999999,50,"نقطه قبل از چرخش",{"$f":"IF(NC344>NC331,IF(NB344>NB331,NB331+SQRT(POWER(NB344-NB331,2)+POWER(NC344-NC331,2))*COS(ATAN((NC344-NC331)/(NB344-NB331+0.000123))+NC329),NB331-SQRT(POWER(NB344-NB331,2)+POWER(NC344-NC331,2))*COS(ATAN((NC344-NC331)/(NB331-NB344+0.000123))-NC329)),IF(NB344>NB331,NB331+SQRT(POWER(NB344-NB331,2)+POWER(NC344-NC331,2))*COS(ATAN((NC331-NC344)/(NB344-NB331+0.000123))-NC329),NB331-SQRT(POWER(NB344-NB331,2)+POWER(NC344-NC331,2))*COS(ATAN((NC331-NC344)/(NB331-NB344+0.000123))+NC329)))","v":6.4982955566512386},{"$f":"IF(NC344>NC331,IF(NB344>NB331,NC331+SQRT(POWER(NB344-NB331,2)+POWER(NC344-NC331,2))*SIN(ATAN((NC344-NC331)/(NB344-NB331+0.000123))+NC329),NC331+SQRT(POWER(NB344-NB331,2)+POWER(NC344-NC331,2))*SIN(ATAN((NC344-NC331)/(NB331-NB344+0.000123))-NC329)),IF(NB344>NB331,NC331-SQRT(POWER(NB344-NB331,2)+POWER(NC344-NC331,2))*SIN(ATAN((NC331-NC344)/(NB344-NB331+0.000123))-NC329),NC331-SQRT(POWER(NB344-NB331,2)+POWER(NC344-NC331,2))*SIN(ATAN((NC331-NC344)/(NB331-NB344+0.000123))+NC329)))","v":17.733614924979573},"b50",null,null,null,null,null,null,null,null,null,null,null,null,null,null,null,null,null,null,"باکس نوشته a4",null,null,{"$f":"OA344","v":"باکس نوشته a4"},null,null,null,null,null,null,null,null,null,null,null,null,null,null,null,null,"f2",{"$f":"OV343+1*OV341","v":-30.76317801577153},{"$f":"OW343-OV340*OV341","v":12.443989769820973},{"$f":"OV343","v":-31.343229166666671},{"$f":"OW343","v":12.734015345268544},{"$f":"OU343","v":"m37"},null,null,null,null,null,"بزرگی فلش",{"$f":"PC49","v":0.5800511508951407},"f4",{"$f":"PG346","v":-29.793750000000003},{"$f":"PH346","v":10.800511508951409},{"$f":"PF346","v":"n36"},null,null,null,null,null,"g7",{"$f":"PR339+0.7*PS336*SIN(RADIANS(30)-2*ATAN((PR339-PR342)/(PS339-PS342+0.0001)))","v":-31.540801641188242},{"$f":"PS339-0.7*PS336*COS(RADIANS(30)-2*ATAN((PR339-PR342)/(PS339-PS342+0.0001)))","v":13.929620089559199},{"$f":"PR339","v":-31.774749999999994},{"$f":"PS339","v":14.261483375959081},{"$f":"PQ339","v":"g11"},null,null,null,null,null,null,null,null,null,null,null,null,null,null,null,null,null,null,null,null,null,null,null,null,null,null,null,null,null,null,null,null,null,null,null,"نقطه شروع انحنا","مولفه افقی","مولفه عمودی",{"$f":"RG348","v":-1.6625000000000001},{"$f":"RH348","v":11.283887468030693},{"$f":"RF348","v":"g4"},null,null,null,null,null,null,null,null,null,null,null,null,null,null,null,null,null,{"$f":"IF(RV149>(RU213-RU162),RU213,RU162)","v":-40},{"$f":"IF(RV149>(RU213-RU162),RV213,RV162)","v":0},33,null,null,null,null,null,null,null,null,null,null,null,null,null,null,null,null,null,{"$f":"IF(SP149>(SO213-SO162),SO213,SO162)","v":-40},{"$f":"IF(SP149>(SO213-SO162),SP213,SP162)","v":0},33,null,null,null,null,null,null,null,null,null,null,null,null,null,null,null,null,null,{"$f":"IF(TJ149>(TI213-TI162),TI213,TI162)","v":-40},{"$f":"IF(TJ149>(TI213-TI162),TJ213,TJ162)","v":0},33,null,null,null,null,null,null,null,null,null,null,null,null,null,null,null,null,null,{"$f":"IF(UD149>(UC213-UC162),UC213,UC162)","v":-40},{"$f":"IF(UD149>(UC213-UC162),UD213,UD162)","v":0},33,null,null,null,null,null,null,null,null,null,null,null,null,null,null,null,null,null,{"$f":"IF(UX149>(UW213-UW162),UW213,UW162)","v":-40},{"$f":"IF(UX149>(UW213-UW162),UX213,UX162)","v":0},33,null,null,null,null,null,null,null,null,null,null,null,null,null,null,null,null,null,{"$f":"IF(VR149>(VQ213-VQ162),VQ213,VQ162)","v":-40},{"$f":"IF(VR149>(VQ213-VQ162),VR213,VR162)","v":0},33]
[null,null,null,null,null,"d50",{"$f":"'متغیرها '!C336","v":2},null,null,null,null,null,null,null,null,null,null,null,"خط دوم","نقطه اول","47''",{"$f":"R315","v":6.3006799999999998},{"$f":"S315","v":17.899999999999999},null,null,null,{"$f":"AA360","v":7.532},{"$f":"AB359","v":35.5},"s'u7",null,{"$f":"X338","v":10.100397937957261},{"$f":"Y338","v":21.079803646406486},"sp33",null,null,null,null,null,null,null,null,null,null,null,null,"ماکزیمم متغیر ورودی  ضریب طول",1,null,null,null,null,null,null,null,null,{"$f":"-AW319+BA353+2*AW308","v":0},{"$f":"AX319-BA354+BA352","v":45.5},"s'u1",null,null,null,null,null,null,null,null,null,"محاسبات",null,null,null,{"$f":"BT354+1.5*BQ358*COS(BQ368)","v":{"$error":"#DIV/0!"}},{"$f":"BU354+1.5*BQ358*SIN(BQ368)","v":{"$error":"#DIV/0!"}},"e214",null,null,null,null,null,{"$f":"-BX359-HY101","v":-10.7},{"$f":"BY359","v":18.265691432475336},"e21",null,null,null,null,null,null,null,null,null,null,null,null,null,null,null,null,null,"محاسبات",null,null,null,{"$f":"CZ354-1.5*CW358*COS(CW368)","v":{"$error":"#DIV/0!"}},{"$f":"DA354-1.5*CW358*SIN(CW368)","v":{"$error":"#DIV/0!"}},"e214",null,null,null,null,null,"e210",{"$f":"ATAN((DL343-DH342)/(DI342-DM343))","v":{"$error":"#DIV/0!"}},null,null,null,null,null,null,{"$f":"DL354","v":{"$error":"#DIV/0!"}},{"$f":"DM354","v":{"$error":"#DIV/0!"}},{"$f":"DN354","v":"e214"},null,{"$f":"-DP361+DU340","v":{"$error":"#DIV/0!"}},{"$error":"#DIV/0!"},"e214",null,null,null,null,null,null,null,null,null,null,null,null,null,null,null,null,null,null,null,null,null,null,null,null,null,{"$f":"-CF339-HY101","v":{"$error":"#DIV/0!"}},{"$f":"CG339","v":{"$error":"#DIV/0!"}},"e215",null,"خط دوم","نقطه اول",{"$f":"EZ373","v":" بالاتنه 5"},{"$f":"FA373","v":6.0256799999999995},{"$f":"FB373","v":32.200000000000003},null,null,null,null,null,null,{"$f":"FK343","v":6.3517782403608534},{"$f":"FL343","v":35.487179999006784},{"$f":"FM311","v":"g7"},null,{"$f":"AZ161+BT130","v":6.0256799999999995},{"$f":"BA161","v":31.48},"شیفت 43",null,null,null,null,null,{"$f":"FW343","v":-6.3517782403608534},{"$f":"FX343","v":35.487179999006784},"g7",null,{"$f":"-FK332-GA306","v":-6.0256799999999995},{"$f":"FL332","v":32.200000000000003},"شیفت 5 بالاتنه",null,"خط دوم","نقطه اول",{"$f":"GL356","v":" بالاتنه 5"},{"$f":"GM356","v":6.0256799999999995},{"$f":"GN356","v":32.200000000000003},null,null,"شیفت افقی ترک",{"$f":"'متغیرها '!C55","v":0},null,null,null,null,null,null,null,null,-1.5084792468024375,-2.9377794032740532,"456dp73","نقطه قبل از چرخش",{"$f":"IF(GW361>GW348,IF(GV361>GV348,GV348+SQRT(POWER(GV361-GV348,2)+POWER(GW361-GW348,2))*COS(ATAN((GW361-GW348)/(GV361-GV348+0.000123))+GW346),GV348-SQRT(POWER(GV361-GV348,2)+POWER(GW361-GW348,2))*COS(ATAN((GW361-GW348)/(GV348-GV361+0.000123))-GW346)),IF(GV361>GV348,GV348+SQRT(POWER(GV361-GV348,2)+POWER(GW361-GW348,2))*COS(ATAN((GW348-GW361)/(GV361-GV348+0.000123))-GW346),GV348-SQRT(POWER(GV361-GV348,2)+POWER(GW361-GW348,2))*COS(ATAN((GW348-GW361)/(GV348-GV361+0.000123))+GW346)))","v":-8.3110632602153416},{"$f":"IF(GW361>GW348,IF(GV361>GV348,GW348+SQRT(POWER(GV361-GV348,2)+POWER(GW361-GW348,2))*SIN(ATAN((GW361-GW348)/(GV361-GV348+0.000123))+GW346),GW348+SQRT(POWER(GV361-GV348,2)+POWER(GW361-GW348,2))*SIN(ATAN((GW361-GW348)/(GV348-GV361+0.000123))-GW346)),IF(GV361>GV348,GW348-SQRT(POWER(GV361-GV348,2)+POWER(GW361-GW348,2))*SIN(ATAN((GW348-GW361)/(GV361-GV348+0.000123))-GW346),GW348-SQRT(POWER(GV361-GV348,2)+POWER(GW361-GW348,2))*SIN(ATAN((GW348-GW361)/(GV348-GV361+0.000123))+GW346)))","v":-4.2968016582930915},"3456dp73",null,{"$f":"IF(OR(HB243<HA264,HB244>HA265),GV263,HL381)","v":-11.25},{"$f":"IF(OR(HB243<HA264,HB244>HA265),GW263,HM381)","v":29.530675303443079},{"$f":"HF313","v":"12345dp62"},null,null,null,null,null,null,null,null,null,null,null,null,null,null,null,"d6  b14",{"$f":"0.6*(HW313-HW317)+HW317","v":9.1929521719849614},{"$f":"HX341+((HW361-HW341)/(HW313-HW341))*(HX313-HX341)+0.5*'متغیرها '!C360*(HW310-HW341)","v":29.814985703585588},null,"نقطه تقاطع"," شیفتd''4b16",{"$f":"(IC359-IC357+IB357*((IC358-IC357)/(IB358-IB357))-IB359*((IC360-IC359)/(IB360-IB359)))/(((IC358-IC357)/(IB358-IB357))-((IC360-IC359)/(IB360-IB359)))","v":6.551039154136471},{"$f":"IC357+(IB361-IB357)*((IC358-IC357)/(IB358-IB357))","v":37.125879829725648},null,null,null,null,null,null,null,null,null,null,null,null,null,null,{"$f":"IR360+IS357*0.15*(IR363-IR360)","v":-5.5427750000000007},{"$f":"IS363+0.3*IS357*(IS360-IS363)","v":19.700150000000001},"7n'",null,"نقطه ورودی پایین","a6",{"$f":"IU312","v":10.661267660186393},{"$f":"IV312","v":17.899999999999999},null,null,null,null,null,"پهلو و زیپ ",null,{"$f":"JG357+JG357-JG359","v":8.3337907451397939},{"$f":"JH357","v":24.5},"c54",null,{"$f":"IU354","v":{"$error":"#DIV/0!"}},{"$f":"IV354","v":{"$error":"#DIV/0!"}},"a68",null,{"$f":"IY354","v":{"$error":"#DIV/0!"}},{"$f":"IZ354","v":{"$error":"#DIV/0!"}},"a'68",null,null,null,null,null,null,null,null,null,null,null,null,null,null,null,null,null,null,null,null,null,{"$f":"KM324+KJ333+KJ335+KJ336+KJ337","v":17.701554951277927},{"$f":"KN324","v":25.197342682189056},"b66",null,{"$f":"KQ324+KJ340+KJ341+KJ342+KJ343","v":-17.701554951277927},{"$f":"KR324","v":25.197342682189056},"b'66",null,null,null,null,null,null,null,null,null,null,null,null,null,null,null,null,null,{"$f":"KM313","v":-0.63},{"$f":"KN313","v":17.899999999999999},"b7",null,{"$f":"KQ313","v":0.63},{"$f":"KR313","v":17.899999999999999},"b'7",null,null,{"$f":"LT308","v":0},{"$f":"LU308","v":24.5},"a1","نقطه قبل از چرخش",{"$f":"IF(LU361>LU352,IF(LT361>LT352,LT352+SQRT(POWER(LT361-LT352,2)+POWER(LU361-LU352,2))*COS(ATAN((LU361-LU352)/(LT361-LT352+0.000123))+LU350),LT352-SQRT(POWER(LT361-LT352,2)+POWER(LU361-LU352,2))*COS(ATAN((LU361-LU352)/(LT352-LT361+0.000123))-LU350)),IF(LT361>LT352,LT352+SQRT(POWER(LT361-LT352,2)+POWER(LU361-LU352,2))*COS(ATAN((LU352-LU361)/(LT361-LT352+0.000123))-LU350),LT352-SQRT(POWER(LT361-LT352,2)+POWER(LU361-LU352,2))*COS(ATAN((LU352-LU361)/(LT352-LT361+0.000123))+LU350)))","v":{"$error":"#DIV/0!"}},{"$f":"IF(LU361>LU352,IF(LT361>LT352,LU352+SQRT(POWER(LT361-LT352,2)+POWER(LU361-LU352,2))*SIN(ATAN((LU361-LU352)/(LT361-LT352+0.000123))+LU350),LU352+SQRT(POWER(LT361-LT352,2)+POWER(LU361-LU352,2))*SIN(ATAN((LU361-LU352)/(LT352-LT361+0.000123))-LU350)),IF(LT361>LT352,LU352-SQRT(POWER(LT361-LT352,2)+POWER(LU361-LU352,2))*SIN(ATAN((LU352-LU361)/(LT361-LT352+0.000123))-LU350),LU352-SQRT(POWER(LT361-LT352,2)+POWER(LU361-LU352,2))*SIN(ATAN((LU352-LU361)/(LT352-LT361+0.000123))+LU350)))","v":{"$error":"#DIV/0!"}},"f1",null,null,null,null,null,{"$f":"LX375","v":{"$error":"#DIV/0!"}},{"$f":"LY375","v":{"$error":"#DIV/0!"}},"fg4",null,null,13.599932750082415,18.791902721074987,"b7","نقطه قبل از چرخش",{"$f":"IF(ML361>ML351,IF(MK361>MK351,MK351+SQRT(POWER(MK361-MK351,2)+POWER(ML361-ML351,2))*COS(ATAN((ML361-ML351)/(MK361-MK351+0.000123))+ML349),MK351-SQRT(POWER(MK361-MK351,2)+POWER(ML361-ML351,2))*COS(ATAN((ML361-ML351)/(MK351-MK361+0.000123))-ML349)),IF(MK361>MK351,MK351+SQRT(POWER(MK361-MK351,2)+POWER(ML361-ML351,2))*COS(ATAN((ML351-ML361)/(MK361-MK351+0.000123))-ML349),MK351-SQRT(POWER(MK361-MK351,2)+POWER(ML361-ML351,2))*COS(ATAN((ML351-ML361)/(MK351-MK361+0.000123))+ML349)))","v":15.564791093805615},{"$f":"IF(ML361>ML351,IF(MK361>MK351,ML351+SQRT(POWER(MK361-MK351,2)+POWER(ML361-ML351,2))*SIN(ATAN((ML361-ML351)/(MK361-MK351+0.000123))+ML349),ML351+SQRT(POWER(MK361-MK351,2)+POWER(ML361-ML351,2))*SIN(ATAN((ML361-ML351)/(MK351-MK361+0.000123))-ML349)),IF(MK361>MK351,ML351-SQRT(POWER(MK361-MK351,2)+POWER(ML361-ML351,2))*SIN(ATAN((ML351-ML361)/(MK361-MK351+0.000123))-ML349),ML351-SQRT(POWER(MK361-MK351,2)+POWER(ML361-ML351,2))*SIN(ATAN((ML351-ML361)/(MK351-MK361+0.000123))+ML349)))","v":19.65880993045608},"c7",null,null,null,null,null,null,null,null,null,null,13.669274215397099,18.425719779411356,"b7","نقطه قبل از چرخش",{"$f":"IF(NC361>NC351,IF(NB361>NB351,NB351+SQRT(POWER(NB361-NB351,2)+POWER(NC361-NC351,2))*COS(ATAN((NC361-NC351)/(NB361-NB351+0.000123))+NC349),NB351-SQRT(POWER(NB361-NB351,2)+POWER(NC361-NC351,2))*COS(ATAN((NC361-NC351)/(NB351-NB361+0.000123))-NC349)),IF(NB361>NB351,NB351+SQRT(POWER(NB361-NB351,2)+POWER(NC361-NC351,2))*COS(ATAN((NC351-NC361)/(NB361-NB351+0.000123))-NC349),NB351-SQRT(POWER(NB361-NB351,2)+POWER(NC361-NC351,2))*COS(ATAN((NC351-NC361)/(NB351-NB361+0.000123))+NC349)))","v":15.717910009566102},{"$f":"IF(NC361>NC351,IF(NB361>NB351,NC351+SQRT(POWER(NB361-NB351,2)+POWER(NC361-NC351,2))*SIN(ATAN((NC361-NC351)/(NB361-NB351+0.000123))+NC349),NC351+SQRT(POWER(NB361-NB351,2)+POWER(NC361-NC351,2))*SIN(ATAN((NC361-NC351)/(NB351-NB361+0.000123))-NC349)),IF(NB361>NB351,NC351-SQRT(POWER(NB361-NB351,2)+POWER(NC361-NC351,2))*SIN(ATAN((NC351-NC361)/(NB361-NB351+0.000123))-NC349),NC351-SQRT(POWER(NB361-NB351,2)+POWER(NC361-NC351,2))*SIN(ATAN((NC351-NC361)/(NB351-NB361+0.000123))+NC349)))","v":19.301704908769697},"c7",null,null,null,null,null,null,null,null,null,null,null,null,null,null,null,null,"h13",{"$f":"NZ357","v":-30.688281249999999},{"$f":"OA358","v":{"$error":"#VALUE!"}},{"$f":"NZ353","v":-27.726562499999996},{"$f":"OA353","v":{"$error":"#VALUE!"}},{"$f":"NY353","v":"w37"},null,null,null,null,null,"g2",{"$f":"OK359","v":-33.140625000000007},{"$f":"OL359+OK356","v":13.700767263427112},null,null,null,null,null,null,null,null,"نقطه ورودی سر فلش","مولفه افقی","مولفه عمودی",{"$f":"OV362","v":-17.645833333333339},{"$f":"OW362","v":12.734015345268544},{"$f":"OU362","v":"m39"},null,null,null,null,null,null,null,null,{"$f":"PG360","v":-1.7339587995524246},{"$f":"PH360","v":11.400511508951409},{"$f":"PF360","v":"f13"},null,null,null,null,null,"h10",{"$f":"PR359","v":-22.846354166666671},{"$f":"PS359+0.5*PR350","v":15.884271099744248},{"$f":"PR364","v":-9.3463541666666714},{"$f":"PS364","v":15.884271099744248},{"$f":"PQ364","v":"h13"},null,null,null,null,null,null,null,null,null,null,null,null,null,null,null,null,null,null,null,null,null,null,null,null,null,null,null,null,null,null,null,null,null,null,null,null,null,"باکس نوشته تبدیل ",null,null,{"$f":"RH361","v":"باکس نوشته تبدیل "}]
[null,null,null,null,null,null,null,null,null,null,null,null,null,null,null,null,null,null,null,null,null,null,null,"نقطه خروجی میانه",null,{"$f":"Z370-Z373*AA375*SIN(Y375)/AA374","v":-10.661268696392801},{"$f":"AA370-Z373*AA375*COS(Y375)/AA374","v":34.499999891448752},null,null,null,null,null,null,null,null,null,null,null,null,null,null,null,null,null,null,null,null,null,null,null,null,null,null,null,null,null,null,null,null,null,null,null,null,{"$f":"BD365","v":-10.556650626590953},{"$f":"BE365","v":44.5},"s'd3",null,null,null,null,null,null,null,null,null,null,null,null,null,null,null,null,null,null,null,null,null,null,null,null,null,null,null,null,null,null,null,null,null,null,null,null,null,null,null,null,null,null,null,null,null,null,null,null,null,null,null,null,null,null,null,null,null,null,null,null,null,null,null,null,null,null,null,null,null,null,null,null,null,null,null,null,null,null,null,null,null,null,null,null,null,null,null,null,null,"شیفت افقی ترک",{"$f":"'متغیرها '!C55","v":0},null,35,{"$f":"0.5*(FA374+FA375)","v":7.730712324638878},{"$f":"0.5*(FB374+FB375)","v":40.765049876419333},null,null,null,null,null,null,null,null,null,null,null,null,null,null,null,null,null,null,null,null,null,null,null,null,null,null,null,null,null,null,null,null,null,null,null,null,null,null,null,null,null,null,5.9847390951787567,9.1027767430429876,"34dp52","نقطه قبل از چرخش",{"$f":"IF(GW378>GW369,IF(GV378>GV369,GV369+SQRT(POWER(GV378-GV369,2)+POWER(GW378-GW369,2))*COS(ATAN((GW378-GW369)/(GV378-GV369+0.000123))+GW367),GV369-SQRT(POWER(GV378-GV369,2)+POWER(GW378-GW369,2))*COS(ATAN((GW378-GW369)/(GV369-GV378+0.000123))-GW367)),IF(GV378>GV369,GV369+SQRT(POWER(GV378-GV369,2)+POWER(GW378-GW369,2))*COS(ATAN((GW369-GW378)/(GV378-GV369+0.000123))-GW367),GV369-SQRT(POWER(GV378-GV369,2)+POWER(GW378-GW369,2))*COS(ATAN((GW369-GW378)/(GV369-GV378+0.000123))+GW367)))","v":1.5466459643156938},{"$f":"IF(GW378>GW369,IF(GV378>GV369,GW369+SQRT(POWER(GV378-GV369,2)+POWER(GW378-GW369,2))*SIN(ATAN((GW378-GW369)/(GV378-GV369+0.000123))+GW367),GW369+SQRT(POWER(GV378-GV369,2)+POWER(GW378-GW369,2))*SIN(ATAN((GW378-GW369)/(GV369-GV378+0.000123))-GW367)),IF(GV378>GV369,GW369-SQRT(POWER(GV378-GV369,2)+POWER(GW378-GW369,2))*SIN(ATAN((GW369-GW378)/(GV378-GV369+0.000123))-GW367),GW369-SQRT(POWER(GV378-GV369,2)+POWER(GW378-GW369,2))*SIN(ATAN((GW369-GW378)/(GV369-GV378+0.000123))+GW367)))","v":5.7214255438309252},"234dp52",null,{"$f":"HA251","v":-11.552754355960435},{"$f":"HB251","v":25.415820657896116},{"$f":"GZ251","v":"dp'8"},null,1.5466459643156938,5.7214255438309252,"234dp52","نقطه قبل از چرخش",{"$f":"IF(HI378>HI366,IF(HH378>HH366,HH366+SQRT(POWER(HH378-HH366,2)+POWER(HI378-HI366,2))*COS(ATAN((HI378-HI366)/(HH378-HH366+0.000123))+HI364),HH366-SQRT(POWER(HH378-HH366,2)+POWER(HI378-HI366,2))*COS(ATAN((HI378-HI366)/(HH366-HH378+0.000123))-HI364)),IF(HH378>HH366,HH366+SQRT(POWER(HH378-HH366,2)+POWER(HI378-HI366,2))*COS(ATAN((HI366-HI378)/(HH378-HH366+0.000123))-HI364),HH366-SQRT(POWER(HH378-HH366,2)+POWER(HI378-HI366,2))*COS(ATAN((HI366-HI378)/(HH366-HH378+0.000123))+HI364)))","v":-3.7509253736715715},{"$f":"IF(HI378>HI366,IF(HH378>HH366,HI366+SQRT(POWER(HH378-HH366,2)+POWER(HI378-HI366,2))*SIN(ATAN((HI378-HI366)/(HH378-HH366+0.000123))+HI364),HI366+SQRT(POWER(HH378-HH366,2)+POWER(HI378-HI366,2))*SIN(ATAN((HI378-HI366)/(HH366-HH378+0.000123))-HI364)),IF(HH378>HH366,HI366-SQRT(POWER(HH378-HH366,2)+POWER(HI378-HI366,2))*SIN(ATAN((HI366-HI378)/(HH378-HH366+0.000123))-HI364),HI366-SQRT(POWER(HH378-HH366,2)+POWER(HI378-HI366,2))*SIN(ATAN((HI366-HI378)/(HH366-HH378+0.000123))+HI364)))","v":3.4615899031607249},"1234dp52",null,null,null,null,null,null,null,null,null,null,null,null,null,null,null,null,null,null,null,null,null,null,null,null,null,null,null,null,null,null,null,null,null,null,null,null,null,null,null,null,{"$f":"IY307","v":0},{"$f":"IZ307","v":24.5},"a'1",null,null,null,null,null,null,null,null,null,null,null,null,null,null,null,null,null,null,null,null,null,null,null,null,null,null,null,null,null,null,null,null,null,null,null,null,null,null,null,null,null,null,null,null,null,null,null,null,null,null,null,null,null,null,null,null,null,{"$f":"KM329","v":-0.63},{"$f":"KN329","v":17.899999999999999},"b24",null,{"$f":"KQ329","v":0.63},{"$f":"KR329","v":17.899999999999999},"b'24",null,null,{"$f":"LX359","v":{"$error":"#DIV/0!"}},{"$f":"LY359","v":{"$error":"#DIV/0!"}},"ef3","نقطه قبل از چرخش",{"$f":"IF(LU378>LU370,IF(LT378>LT370,LT370+SQRT(POWER(LT378-LT370,2)+POWER(LU378-LU370,2))*COS(ATAN((LU378-LU370)/(LT378-LT370+0.000123))+LU368),LT370-SQRT(POWER(LT378-LT370,2)+POWER(LU378-LU370,2))*COS(ATAN((LU378-LU370)/(LT370-LT378+0.000123))-LU368)),IF(LT378>LT370,LT370+SQRT(POWER(LT378-LT370,2)+POWER(LU378-LU370,2))*COS(ATAN((LU370-LU378)/(LT378-LT370+0.000123))-LU368),LT370-SQRT(POWER(LT378-LT370,2)+POWER(LU378-LU370,2))*COS(ATAN((LU370-LU378)/(LT370-LT378+0.000123))+LU368)))","v":{"$error":"#DIV/0!"}},{"$f":"IF(LU378>LU370,IF(LT378>LT370,LU370+SQRT(POWER(LT378-LT370,2)+POWER(LU378-LU370,2))*SIN(ATAN((LU378-LU370)/(LT378-LT370+0.000123))+LU368),LU370+SQRT(POWER(LT378-LT370,2)+POWER(LU378-LU370,2))*SIN(ATAN((LU378-LU370)/(LT370-LT378+0.000123))-LU368)),IF(LT378>LT370,LU370-SQRT(POWER(LT378-LT370,2)+POWER(LU378-LU370,2))*SIN(ATAN((LU370-LU378)/(LT378-LT370+0.000123))-LU368),LU370-SQRT(POWER(LT378-LT370,2)+POWER(LU378-LU370,2))*SIN(ATAN((LU370-LU378)/(LT370-LT378+0.000123))+LU368)))","v":{"$error":"#DIV/0!"}},"efg3",null,null,null,null,null,{"$f":"LT315","v":10.661267660186393},{"$f":"LU315","v":21.2},"a13",null,null,null,null,null,null,null,null,null,null,null,null,null,null,null,null,null,null,null,null,null,null,null,null,null,null,null,null,null,null,null,null,null,null,null,null,null,null,null,null,null,null,null,null,null,{"$f":"NU85","v":-27.726562499999996},{"$f":"NV85","v":{"$error":"#VALUE!"}},"w38",null,null,null,null,null,"نقاط خروجی","مولفه افقی","مولفه عمودی",{"$f":"OK383","v":-31.646354166666676},{"$f":"OL383","v":13.450767263427112},{"$f":"OJ383","v":"h11"},null,null,null,null,null,"g8",{"$f":"OV372-0.7*OW369*SIN(RADIANS(30)-ATAN((OV372-OV375)/(OW372-OW375+0.0001)))","v":-34.219625653406972},{"$f":"OW372-0.7*OW369*COS(RADIANS(30)-ATAN((OV372-OV375)/(OW372-OW375+0.0001)))","v":13.128036851690171},{"$f":"OV377","v":-33.609415511485949},{"$f":"OW377","v":13.196200253555594},{"$f":"OU377","v":"g7"},null,null,null,null,null,"زاویه فلش دانه",{"$f":"PC45","v":0.75},"f11",{"$f":"PG381","v":-32.028098958333338},{"$f":"PH381","v":10.800511508951409},{"$f":"PF381","v":"n39"},null,null,null,null,null,"نقاط خروجی","مولفه افقی","مولفه عمودی",{"$f":"PR383","v":2.4239583333333199},{"$f":"PS383","v":15.384271099744248},{"$f":"PQ383","v":"h11"},null,null,null,null,null,null,null,null,null,null,null,null,null,null,null,null,null,null,null,null,null,null,null,null,null,null,null,null,null,null,null,null,null,null,null,"h13",{"$f":"RG374","v":-6.7687499999999989},{"$f":"RH375","v":11.050511508951409},{"$f":"RG370","v":-2.1875},{"$f":"RH370","v":10.800511508951409},{"$f":"RF370","v":"p35"},null,null,null,null,null,null,null,null,null,null,null,null,null,null,null,null,null,{"$f":"SC377","v":-40},{"$f":"RV160","v":10.277777777777777},null,null,null,null,null,null,null,null,null,null,null,null,null,null,null,null,null,null,{"$f":"SW377","v":-40},{"$f":"SP160","v":10.277777777777777},null,null,null,null,null,null,null,null,null,null,null,null,null,null,null,null,null,null,{"$f":"TQ377","v":-40},{"$f":"TJ160","v":9.7222222222222232},null,null,null,null,null,null,null,null,null,null,null,null,null,null,null,null,null,null,{"$f":"UK377","v":-40},{"$f":"UD160","v":9.7222222222222232},null,null,null,null,null,null,null,null,null,null,null,null,null,null,null,null,null,null,{"$f":"VE377","v":-40},{"$f":"UX160","v":10.277777777777777},null,null,null,null,null,null,null,null,null,null,null,null,null,null,null,null,null,null,{"$f":"VY377","v":-40},{"$f":"VR160","v":10.277777777777777}]
[null,null,null,null,null,{"$f":"DT395","v":10.7},{"$f":"DU395","v":25.365691432475337},{"$f":"AZ168","v":10.7},{"$f":"BA168","v":25.365691432475337},41,null,"اسم نقطه ","مولفه افقی","مولفه عمودی",null,null,null,null,null,null,null,null,null,null,null,null,"رسم آستین و سرشانه بدون شیفت تکه پهلو",null,"آستین کیمونو و سرشانه بدون شیفت تکه پهلو",null,null,null,null,null,null,null,null,null,null,null,null,null,null,null,null,null,null,null,null,null,{"$f":"AY395+AX391","v":-90},-1.5707963267948966,{"$f":"BF393+BF390*COS(AZ396)","v":12.600000000000001},{"$f":"BG393-BF390*SIN(AZ396)","v":25.525816540611117},{"$f":"SQRT(POWER((BF392-BA396),2)+POWER((BG392-BB396),2))","v":6.5014677269261281},{"$f":"ABS(BF389-BC396)","v":0.36276106846824252},{"$f":"BE392","v":"پشتk''5"},18.938923594529673,24.081126169985971,null,null,null,{"$f":"BK395+BJ391","v":-90},-1.5707963267948966,{"$f":"BR393+BR390*COS(BL396)","v":11.600000000000001},{"$f":"BS393-BR390*SIN(BL396)","v":27.938428273216729},{"$f":"SQRT(POWER((BR392-BM396),2)+POWER((BS392-BN396),2))","v":8.2908732375988432},{"$f":"ABS(BR389-BO396)","v":8.729090341347856E-2},{"$f":"BQ392","v":"پشتk''5"},18.938923594529673,24.081126169985971,null,null,null,{"$f":"BW395+BV391","v":-85},-1.4835298641951802,{"$f":"CD393+CD390*COS(BX396)","v":13.259014552955549},{"$f":"CE393-CD390*SIN(BX396)","v":25.497043343838648},{"$f":"SQRT(POWER((CD392-BY396),2)+POWER((CE392-BZ396),2))","v":5.8537328401428121},{"$f":"ABS(CD389-CA396)","v":0.2849738183150734},{"$f":"CC392","v":"پشتk''5"},18.938923594529673,24.081126169985971,null,null,null,{"$f":"CI395+CH391","v":-85},-1.4835298641951802,{"$f":"CP393+CP390*COS(CJ396)","v":11.845568379520282},{"$f":"CQ393-CP390*SIN(CJ396)","v":27.871331957097016},{"$f":"SQRT(POWER((CP392-CK396),2)+POWER((CQ392-CL396),2))","v":9.3016668131517104},{"$f":"ABS(CP389-CM396)","v":3.5908468942917517},{"$f":"CO392","v":"پشتk11"},19.862160186152213,23.153783726423619,null,null,{"$f":"M416","v":16.872613711176225},{"$f":"N416","v":33.935361411238482},"k7",null,null,null,"آرنج",null,null,null,"آرنج",null,{"$f":"F414","v":16.846335979569702},{"$f":"J414","v":33.262495469528773},"k7'",null,null,null,{"$f":"CJ22","v":54},"تمام قد",null,null,{"$f":"DK400","v":9.440779022375235},{"$f":"DL400","v":39.832710546202335},"سرشانه ",null,null,null,null,null,null,null,null,null,null,null,null,null,null,null,null,null,null,null,null,null,null,null,null,null,null,null,"ساسون کمر",null,null,null,"ساسون کمر",null,null,null,null,null,null,null,null,{"$f":"FG394+FH389*COS(FH388+FH387-FH384+FH386)","v":11.981017916009813},{"$f":"FH394+FH389*SIN(FH388+FH387-FH384+FH386)","v":43.492591994784426},"ee9",null,null,null,null,null,{"$f":"FK400+FG406","v":-7.532},{"$f":"FL400+FG407","v":30.01},"e1",null,null,{"$f":"BD150-'متغیرها '!C51","v":0},{"$f":"BE150-'متغیرها '!C52","v":17.899999999999999},1,"پایین لباس روی خط مرکزی",{"$f":"FX395+IF(FY429>0,FY429*COS(FY423),0)","v":7.2954185488491294},{"$f":"FY395+IF(FY429>0,-FY429*SIN(FY423),FY424-FY426)","v":40.642374692931384},"e'9",null,{"$f":"FT400","v":-7.532},{"$f":"FU400","v":30.01},"e1",null,{"$f":"GB402+FX407","v":7.2954185488491294},{"$f":"GC402+FX408","v":40.642374692931384},"e'9",null,{"$f":"GJ397+IF(GJ395>GJ397,0.3,0.7)*(GJ395-GJ397)","v":8.4187047654207419},{"$f":"GK397+0.5*(GK395-GK397)","v":36.867189404224675},"24f",null,0,35.888726831407766,26,null,{"$f":"GR397+0.2*(GR395-GR397)","v":9.2445941212980731},{"$f":"GS397+0.4*(GS395-GS397)","v":36.930279981979979},"20f",null,{"$f":"BG129+EL382","v":1.88784},{"$f":"BG103-BG130+ET382","v":41.047439298716434},26,null,{"$f":"-GV396+GS413","v":-1.88784},{"$f":"GW396","v":41.047439298716434},26,null,null,null,null,null,{"$f":"DT392","v":10.7},{"$f":"DU392","v":18.265691432475336},45,null,9.2646594756823326,8.4,"q4",null,{"$f":"EJ395","v":12.600000000000001},{"$f":"EK395","v":17.964472535275863},42,null,10.793299175867027,6.6982812433124845,"r4",null,{"$f":"-HT396+HQ412","v":-10.793299175867027},6.6982812433124845,"r4",null,null,"نقطه ورودی بالا","d3",{"$f":"CN160","v":10.7},{"$f":"CO160","v":24.865691432475337},null,{"$f":"IF(CO158<CO154,CN158,CN154)","v":6.0063138300931964},{"$f":"IF(CO158<CO154,CO158,CO154)","v":24.5},"39 یا d5",null,{"$f":"-IF(CO158<CO154,CN158,CN154)+IR325","v":-6.0063138300931964},{"$f":"IF(CO158<CO154,CO158,CO154)","v":24.5},"39 یا d5",null,{"$f":"IF(CO158<CO154,CN158,CN154)","v":6.0063138300931964},{"$f":"IF(CO158<CO154,CO158,CO154)","v":24.5},"39 یا d5",null,{"$f":"-IF(CO158<CO154,CN158,CN154)+IR325","v":-6.0063138300931964},{"$f":"IF(CO158<CO154,CO158,CO154)","v":24.5},"39 یا d5",null,{"$f":"IF(CO170<CO169,CN170,CN169)","v":0},{"$f":"IF(CO170<CO169,CO170,CO169)","v":24.5},"44 یا d1",null,null,{"$f":"IY316","v":-9.4892667999999993},{"$f":"IZ316","v":17.899999999999999},"a'10",null,10.661267660186393,24.5,"a5",null,{"$f":"JK398+0.34*(JK395-JK398)","v":-29.421047240785306},{"$f":"JL395+0.35*(JL398-JL395)","v":22.623849555156145},"w19",null,{"$f":"JG395","v":6.0063138300931964},{"$f":"JH395","v":24.5},"a4",null,{"$f":"JK424","v":10.610713066393082},{"$f":"JL424","v":12.816927257077442},"w51",null,null,"a'6",{"$f":"IY348","v":-10.661267660186393},{"$f":"IZ348","v":17.899999999999999},null,-7.4628873621304752,9.5,{"$f":"JX418","v":36},null,null,null,null,null,null,null,null,null,null,null,null,null,null,null,null,null,null,"پایین",null,null,null,null,null,null,null,null,null,null,null,null,null,null,null,null,null,null,null,null,null,null,null,null,null,null,null,null,null,null,null,null,null,null,null,null,null,null,null,null,null,null,null,null,null,null,null,null,null,null,null,null,null,null,null,null,null,null,null,null,null,null,null,null,null,null,null,null,null,null,null,null,null,null,null,null,null,null,null,"g6",{"$f":"NZ395","v":-35.3675},{"$f":"OA393-OA395+OA391","v":{"$error":"#VALUE!"}},null,null,null,null,null,null,null,null,"g4",{"$f":"OK393+OK391*OK389/40","v":-28.277083333333344},{"$f":"OL393+0.5*OK390","v":14.184143222506396},{"$f":"OK400","v":-28.584188153406984},{"$f":"OL400","v":14.094788769848739},{"$f":"OJ400","v":"g8"},null,null,null,null,null,"h12",{"$f":"OV393","v":-29.986458333333335},{"$f":"OW395","v":13.450767263427112},{"$f":"OV393","v":-29.986458333333335},{"$f":"OW393","v":13.700767263427112},{"$f":"OU393","v":"h9"},null,null,null,null,null,"g4",{"$f":"PG393-PG391*PG389/40","v":-33.510677083333334},{"$f":"PH393+0.5*PG390","v":11.283887468030693},{"$f":"PG400","v":-33.754781903406972},{"$f":"PH400","v":11.194533015373036},{"$f":"PF400","v":"g8"},null,null,null,null,null,"g4",{"$f":"PR393+PR391*PR389/40","v":7.6343749999999861},{"$f":"PS393+0.5*PR390","v":16.117647058823533},{"$f":"PR400","v":7.3272701799263462},{"$f":"PS400","v":16.028292606165873},{"$f":"PQ400","v":"g8"},null,null,null,null,null,null,null,null,null,null,null,null,null,null,null,null,null,null,null,null,null,null,null,null,null,null,null,null,null,null,null,null,null,null,null,"h10",{"$f":"RG394","v":-26.397916666666667},{"$f":"RH394+0.5*RG385","v":12.017263427109977},{"$f":"RG399","v":-20.997916666666669},{"$f":"RH399","v":12.017263427109977},{"$f":"RF399","v":"h13"},null,null,null,null,null,null,null,null,null,null,null,null,null,null,null,null,null,{"$f":"SC395","v":-40},{"$f":"RV160","v":10.277777777777777},null,null,null,null,null,null,null,null,null,null,null,null,null,null,null,null,null,null,{"$f":"SW395","v":-40},{"$f":"SP160","v":10.277777777777777},null,null,null,null,null,null,null,null,null,null,null,null,null,null,null,null,null,null,{"$f":"TQ395","v":-40},{"$f":"TJ160","v":9.7222222222222232},null,null,null,null,null,null,null,null,null,null,null,null,null,null,null,null,null,null,{"$f":"UK395","v":-40},{"$f":"UD160","v":9.7222222222222232},null,null,null,null,null,null,null,null,null,null,null,null,null,null,null,null,null,null,{"$f":"VE395","v":-40},{"$f":"UX160","v":10.277777777777777},null,null,null,null,null,null,null,null,null,null,null,null,null,null,null,null,null,null,{"$f":"VY395","v":-40},{"$f":"VR160","v":10.277777777777777}]
[null,null,null,null,null,{"$f":"F413-(1.4/1)*F425*SIN(RADIANS(0)+I398)","v":16.068306924509084},"k8",{"$f":"H413-(1.4/H428)*H425*SIN(RADIANS('متغیرها '!C394)+I398)","v":12.225245467513751},{"$f":"I413-(1.4/H428)*H425*COS(RADIANS('متغیرها '!C394)+I398)","v":28.093754016034364},{"$f":"J413-(1.4/1)*F425*COS(RADIANS(0)+I398)","v":29.672037699374556},null,null,null,null,"شببیه ساز آرنچ",null,null,null,"رسم آستین کیمونو تا پایین لباس",null,null,null,"رسم آستین کیمونو تا پایین لباس",null,null,null,null,null,null,null,null,null,null,{"$f":"AU427","v":13.117838296813485},{"$f":"AV427","v":25.430046332777351},"k6",null,{"$f":"-AH415-HY101","v":-13.117838296813485},{"$f":"AI415","v":25.430046332777351},"k6",null,22.919110502054707,27.963987506451357,"k''4",null,-22.919110502054707,27.963987506451357,"k''4",null,null,{"$f":"AY414+AX391","v":-52},-0.90757121103705141,{"$f":"BF393+BF390*COS(AZ415)","v":17.255228205769527},{"$f":"BG393-BF390*SIN(AZ415)","v":23.922892923199768},{"$f":"SQRT(POWER((BF392-BA415),2)+POWER((BG392-BB415),2))","v":1.6911144025525544},{"$f":"ABS(BF389-BC415)","v":4.4475922559053309},null,null,null,null,null,null,{"$f":"BK414+BJ391","v":-52},-0.90757121103705141,{"$f":"BR393+BR390*COS(BL415)","v":13.369383829641318},{"$f":"BS393-BR390*SIN(BL415)","v":27.32918056216301},{"$f":"SQRT(POWER((BR392-BM415),2)+POWER((BS392-BN415),2))","v":6.4474514753670835},{"$f":"ABS(BR389-BO415)","v":1.9307126656452382},null,null,null,null,null,null,{"$f":"BW414+BV391","v":-66},-1.1519173063162575,{"$f":"CD393+CD390*COS(BX415)","v":15.67547567787139},{"$f":"CE393-CD390*SIN(BX415)","v":24.872104005022994},{"$f":"SQRT(POWER((CD392-BY415),2)+POWER((CE392-BZ415),2))","v":3.3579366045625614},{"$f":"ABS(CD389-CA415)","v":2.7807700538953242},null,null,null,null,null,null,{"$f":"CI414+CH391","v":-28},-0.48869219055841229,{"$f":"CP393+CP390*COS(CJ415)","v":14.087776510693844},{"$f":"CQ393-CP390*SIN(CJ415)","v":26.38724676987766},{"$f":"SQRT(POWER((CP392-CK415),2)+POWER((CQ392-CL415),2))","v":6.6180654337036566},{"$f":"ABS(CP389-CM415)","v":0.90724551484369798},null,null,null,null,null,null,null,null,null,{"$f":"DK390+I403","v":0},{"$f":"DL390+I402","v":32.200000000000003},{"$f":"DM390","v":"خط سینه"},null,null,null,"خط سینه",null,5.8998947555938086,41.7,"s18",null,null,{"$f":"U110","v":8.3294183521598626},{"$f":"V110","v":15.620812202271157},"34 شبیه ساز","نقطه ساسون سرشانه",null,{"$f":"DK401","v":4.0114231466437147},{"$f":"DL401","v":43.392000000000003},{"$f":"DM401","v":"g1"},null,null,null,null,null,{"$f":"DX421","v":8.3294183521598626},{"$f":"DY421","v":40.620812202271154},34,null,null,null,null,null,{"$f":"-DX415+EC383","v":-8.3294183521598626},{"$f":"EG421","v":40.620812202271154},34,null,null,null,null,null,null,null,null,null,{"$f":"BG127+EL382","v":4.7195999999999998},{"$f":"BG103+ET382","v":42.300000000000004},23,null,{"$f":"-ER415+EK402","v":-4.7195999999999998},{"$f":"ES415","v":42.300000000000004},23,null,null,null,null,null,"به دست آوردن مختصات نقطه تقاطع دو خط با داشتن دونقطه از یک خط ",null,null,null,null,null,null,{"$f":"-FC395","v":7.532},{"$f":"FD395","v":17.899999999999999},{"$f":"FE395","v":"1'"},null,null,null,null,null,null,null,null,null,null,null,null,null,null,null,null,null,null,{"$f":"-GF407+FX409","v":-5.6309643886044745},{"$f":"GG407","v":42.48539701824042},"e''9",null,{"$f":"-GJ398+EC383","v":-8.4710719998599213},32.056171782845048,"20f",null,{"$f":"DX407","v":6.0256799999999995},{"$f":"DY407","v":17.899999999999999},47,null,null,null,null,null,{"$f":"EJ389+BG149-BG163","v":4.9750000000000005},{"$f":"EK389","v":25},34,null,{"$f":"-GV415+GS413","v":-4.9750000000000005},{"$f":"GW415","v":25},34,null,null,null,null,null,{"$f":"HH428+0.45*(HH402-HH401)","v":9.2646594756823326},{"$f":"HI401","v":8.4},"q4",null,{"$f":"HH394","v":0},{"$f":"HI394","v":25},38,null,"مولفه افقی","مولفه عمودی","اسم نقطه ",null,{"$f":"HP394","v":0},{"$f":"HQ394","v":17.964472535275863},48,null,{"$f":"-HT415+HQ412","v":0},{"$f":"HU415","v":17.964472535275863},48,null,null,"نقطه خروجی پایین","c2",{"$f":"IE416+IF(IE409>IE408,1,-1)*IE410*COS(ID413)","v":17.365217002458138},{"$f":"IF416+IE410*SIN(ID413)","v":19.981815217464916},null,{"$f":"AZ172","v":10.7},{"$f":"BA172","v":18.265691432475336},"شیفت 45",null,{"$f":"-AZ172+IR325","v":-10.7},{"$f":"BA172","v":18.265691432475336},"شیفت 45",null,{"$f":"AZ172","v":10.7},{"$f":"BA172","v":18.265691432475336},"شیفت 45",null,{"$f":"-AZ172+IR325","v":-10.7},{"$f":"BA172","v":18.265691432475336},"شیفت 45",null,{"$f":"KM329","v":-0.63},{"$f":"KN329","v":17.899999999999999},"b24",null,null,-8.3337907451397939,17.899999999999999,"d'53",null,{"$f":"KQ319","v":-13.308168974409897},21.2,"b'13",null,{"$f":"JK412-JH425+(JH393-JL415)*JG448","v":5.6107130663930818},{"$f":"JL412","v":12.816927257077442},"w40",null,{"$f":"JG393","v":6.0063138300931964},{"$f":"JH393","v":24.5},"a2",null,null,null,null,null,null,33,{"$f":"JY414+0.5*(JY413-JY414)","v":-7.8012676601863928},{"$f":"JZ414+0.05*(JZ413-JZ414)","v":20.438750000000002},null,{"$f":"-KB399+KB407","v":0},{"$f":"KC399","v":24.5},12,null,null,null,null,null,null,null,null,null,null,null,null,null,null,null,null,{"$f":"KQ325+KJ325","v":0},{"$f":"KR325","v":24.5},"b'20",null,null,null,null,null,null,null,null,null,null,null,null,null,null,null,null,null,null,null,null,null,null,null,null,null,null,null,null,null,null,null,null,null,null,null,null,null,null,null,null,null,null,null,null,null,null,null,null,null,null,null,null,null,null,null,null,null,null,null,null,null,null,null,null,null,null,null,null,null,null,null,null,null,null,null,null,null,null,null,"g2",{"$f":"NZ413","v":-3.6093750000000036},{"$f":"OA413+NZ410","v":{"$error":"#VALUE!"}},null,null,null,null,null,null,null,null,"m44",{"$f":"OF100","v":-33.140625000000007},{"$f":"OG100","v":14.66751918158568},{"$f":"OK420","v":-33.508125000000007},{"$f":"OL420","v":15.498925831202049},{"$f":"OJ420","v":"g6"},null,null,null,null,null,null,null,null,{"$f":"OQ100","v":-33.450520833333336},{"$f":"OR100","v":14.66751918158568},"m44",null,null,null,null,null,"h9",{"$f":"PG413+0.5*PG404","v":-15.960416666666667},{"$f":"PH409","v":11.767263427109977},{"$f":"PG418","v":-15.960416666666667},{"$f":"PH418","v":11.517263427109977},{"$f":"PF418","v":"h12"},null,null,null,null,null,null,null,null,{"$f":"PR425","v":-35.966666666666661},{"$f":"PS425","v":16.851023017902815},{"$f":"PQ425","v":"h10"},null,null,null,null,null,null,null,null,null,null,null,null,null,null,null,null,null,null,null,null,null,null,null,null,null,null,null,null,null,null,null,null,null,null,null,"h12",{"$f":"RG412","v":-24.848958333333336},{"$f":"RH414","v":3.7832480818414318}]
[null,null,null,null,null,"انحنا پایین پانچو",null,null,null,null,null,{"$f":"BO192-'متغیرها '!C56","v":4.4550000000000001},{"$f":"BP192-'متغیرها '!C57","v":17.899999999999999},50,null,null,{"$f":"M406","v":22.945170416075676},{"$f":"N406","v":28.547785048366165},"k13",null,{"$f":"-Q430+V382","v":-22.945170416075676},{"$f":"R430","v":28.547785048366165},"k13",null,null,null,null,null,null,null,null,null,null,22.919110502054707,27.963987506451357,"k''4",null,-22.919110502054707,27.963987506451357,"k4",null,"αk2",{"$f":"ATAN((L426-L428)/(M426-M428))","v":-0.11773599102404561},{"$f":"N428","v":42},"مربوط به نقطه ","k6",{"$f":"L426+'متغیرها '!C397*(M426-M428)*SIN(0.5*(O385-AQ430))","v":13.617889654116325},{"$f":"M426-'متغیرها '!C397*(M426-M428)*COS(0.5*(O385-AQ430))","v":25.384999232746218},null,null,{"$f":"AY429+AX391","v":-22},-0.38397243543875248,{"$f":"BF393+BF390*COS(AZ430)","v":19.610756080572216},{"$f":"BG393-BF390*SIN(AZ430)","v":20.797001854760328},{"$f":"SQRT(POWER((BF392-BA430),2)+POWER((BG392-BB430),2))","v":3.3521383335355366},{"$f":"ABS(BF389-BC430)","v":2.786568324922349},null,null,null,null,null,null,{"$f":"BK429+BJ391","v":-22},-0.38397243543875248,{"$f":"BR393+BR390*COS(BL430)","v":14.264685358958353},{"$f":"BS393-BR390*SIN(BL430)","v":26.141075303894002},{"$f":"SQRT(POWER((BR392-BM430),2)+POWER((BS392-BN430),2))","v":5.1080224663919926},{"$f":"ABS(BR389-BO430)","v":3.2701416746203291},null,null,null,null,null,null,{"$f":"BW429+BV391","v":-51},-0.89011791851710809,{"$f":"CD393+CD390*COS(BX430)","v":17.358507966299932},{"$f":"CE393-CD390*SIN(BX430)","v":23.840740492209033},{"$f":"SQRT(POWER((CD392-BY430),2)+POWER((CE392-BZ430),2))","v":1.5985927661643797},{"$f":"ABS(CD389-CA430)","v":4.5401138922935056},null,null,null,null,null,null,{"$f":"CI429+CH391","v":17},0.29670597283903605,{"$f":"CP393+CP390*COS(CJ430)","v":14.294466272054002},{"$f":"CQ393-CP390*SIN(CJ430)","v":24.240691525753416},{"$f":"SQRT(POWER((CP392-CK430),2)+POWER((CQ392-CL430),2))","v":5.6727933229873795},{"$f":"ABS(CP389-CM430)","v":3.8026595872579172E-2},null,null,null,null,null,{"$f":"HD440+CT434","v":-4.0114231466437147},{"$f":"HE440+CT435","v":43.992000000000004},"قرینه g1",null,null,null,null,null,null,null,null,null,null,null,null,null,null,null,null,null,null,null,null,null,null,null,null,null,null,null,null,null,null,null,null,null,null,null,null,null,null,null,null,null,null,null,null,null,null,null,null,null,null,null,null,null,null,null,null,null,null,{"$f":"GF692","v":2.5435940434763062},{"$f":"GG692","v":18.792749575911454},8,"تکه پشت یقه",null,{"$f":"RADIANS(90)-RADIANS(FD431)-FH426","v":1.1941637027828538},"m5",null,{"$f":"-FG397","v":-6.9934757583035978},{"$f":"FH397","v":40.761797105376196},{"$f":"FI397","v":"e'9"},null,{"$f":"-FO401+FG408","v":-6.9934757583035978},{"$f":"FP401","v":40.761797105376196},"e'9",null,null,null,null,null,null,null,{"$f":"IF(FY426>FY424,ASIN(FY431/FY426),0)","v":0.45963234582923534},"m8",null,null,null,"قرینه",null,null,null,null,null,{"$f":"-DX408+EC383","v":-6.0256799999999995},{"$f":"DY408","v":25},40,null,null,null,null,null,null,null,null,null,null,null,null,null,null,null,null,null,{"$f":"-DK409","v":-3.5399368533562852},{"$f":"DL409","v":53.106559999999995},"قرینهs16",null,null,null,null,null,{"$f":"-HH420+EC383","v":-2.3295374769136039},{"$f":"HI420","v":0},"q9",null,{"$f":"HP407","v":1},{"$f":"HQ407","v":12.698781102800526},"r15",null,null,null,null,null,null,null,null,null,null,null,null,null,null,null,{"$f":"BD183","v":9.8190223999999997},18.229122289227803,"شیفت50'''",null,{"$f":"-BD183+IR325","v":-9.8190223999999997},{"$f":"BE183","v":18.229122289227803},"شیفت50'''",null,{"$f":"BD183","v":9.8190223999999997},18.229122289227803,"شیفت50'''",null,{"$f":"-BD183+IR325","v":-9.8190223999999997},{"$f":"BE183","v":18.229122289227803},"شیفت50'''",null,{"$f":"BO188","v":6.7949999999999999},{"$f":"BP188","v":17.899999999999999},49,null,null,-6.0063138300931964,17.899999999999999,"d'48",null,"w5",{"$f":"'متغیرها '!C828","v":1.5},null,null,null,null,null,null,{"$f":"JG408+JG435","v":24.341267660186396},{"$f":"JH408+JG436","v":24.5},"b'1",null,null,null,null,null,null,null,null,null,null,null,null,null,null,null,null,null,null,null,null,null,null,null,null,null,null,null,null,null,{"$f":"KY308+KJ325","v":-10.006154170370817},{"$f":"KZ308","v":24.5},{"$f":"LA308","v":"d'52"},null,null,null,null,null,null,null,null,null,null,null,null,null,null,null,null,null,null,null,null,null,null,null,null,null,null,null,null,null,null,null,null,null,null,null,null,null,null,null,null,null,null,null,null,null,null,null,null,null,null,null,null,null,null,null,null,null,null,null,null,null,null,null,null,null,null,null,null,null,null,null,null,null,null,null,null,null,null,null,"نقطه پایان رج(راست)","مولفه افقی","مولفه عمودی",{"$f":"NZ439","v":-8.4851562500000028},{"$f":"OA439","v":{"$error":"#VALUE!"}},{"$f":"NY439","v":"h13"},null,null,null,null,null,"نقطه ورودی سر فلش","مولفه افقی","مولفه عمودی",{"$f":"OK431","v":-32.520833333333343},{"$f":"OL431","v":15.634271099744248},{"$f":"OJ431","v":"m48"},null,null,null,null,null,"g4",{"$f":"OV427-OV425*OV423/40","v":-33.975520833333334},{"$f":"OW427+0.5*OV424","v":15.150895140664964},{"$f":"OV434","v":-34.219625653406972},{"$f":"OW434","v":15.061540688007307},{"$f":"OU434","v":"g8"},null,null,null,null,null,"g4",{"$f":"PG427+PG425*PG423/40","v":-4.2601562499999996},{"$f":"PH427+0.5*PG424","v":13.700767263427114},{"$f":"PG434","v":-4.5142090159252692},{"$f":"PH434","v":14.196430346926292},{"$f":"PF434","v":"g8"},null,null,null,null,null,null,null,null,{"$f":"PR422","v":-35.291666666666664},{"$f":"PS422","v":16.601023017902815},{"$f":"PQ422","v":"h5"},null,null,null,null,null,null,null,null,null,null,null,null,null,null,null,null,null,null,null,null,null,null,null,null,null,null,null,null,null,null,null,null,null,null,null,"h12",{"$f":"RG427","v":-12.421875},{"$f":"RH429","v":3.7832480818414318}]
[null,null,null,null,null,null,null,"پهلو جلو منها پهلو پشت تا کمر",{"$f":"G446+G445-J446-J445","v":0},"آستین سرخود",null,null,null,null,null,null,null,null,null,null,null,null,null,null,null,null,null,null,null,null,null,null,null,null,null,null,null,null,null,null,null,null,null,null,null,null,null,null,null,null,null,null,null,null,null,null,null,null,null,null,null,null,null,null,null,null,null,null,null,null,null,null,null,null,null,null,null,null,null,null,null,null,null,null,null,null,null,null,null,null,null,null,null,null,null,null,null,null,null,null,null,null,null,null,null,null,null,null,null,null,null,null,null,null,null,null,null,null,null,null,null,null,null,null,null,null,null,null,null,null,null,null,null,null,null,null,null,null,null,null,null,null,null,null,null,null,null,null,null,null,null,null,null,null,null,null,null,null,null,null,null,null,null,null,null,null,{"$f":"-FC437","v":-5.6309643886044745},{"$f":"FD437","v":42.48539701824042},"e''9",null,null,null,null,null,null,null,null,null,null,null,null,null,null,null,null,null,null,null,null,null,null,null,null,null,null,null,null,null,null,null,null,null,null,null,null,null,null,null,null,null,null,null,null,null,null,null,null,null,null,null,null,null,null,null,null,null,null,null,null,null,null,null,null,null,null,null,null,null,null,null,null,null,"جادکمه  جلو دامن",null,null,null,"جادکمه  جلو دامن",null,null,{"$f":"CA183","v":-5.982011},{"$f":"CB183","v":22.756956244480097},"7n",null,{"$f":"-IP447+IR325","v":5.982011},22.756956244480097,"7n",null,{"$f":"BK165","v":12.600000000000001},{"$f":"BL165","v":17.96447253527586},"شیفت 42",null,null,{"$f":"JG331","v":-3.0031569150465982},{"$f":"JH331","v":24.5},{"$f":"JI331","v":"c'42"},null,{"$f":"0.25*(JG396-JG392-JG392+JK392-JH425)","v":0.45853648400422964},"w45",null,"نقطه اول از خط دوم","w17",{"$f":"JK394","v":10.661267660186393},{"$f":"JL394","v":2.1},null,null,null,null,null,{"$f":"JK394","v":10.661267660186393},{"$f":"JL394","v":2.1},"w17",null,null,null,null,null,null,null,null,null,null,null,null,null,null,null,null,null,null,null,null,null,null,null,null,null,null,null,null,null,null,null,null,null,null,null,null,null,null,null,null,null,null,null,null,null,null,null,null,null,null,null,null,null,null,null,null,null,null,null,null,null,null,null,null,null,null,null,null,null,null,null,null,null,null,null,null,null,null,null,null,null,null,null,null,null,null,null,null,null,null,null,null,null,null,null,null,null,null,null,null,null,null,null,null,null,null,null,"w45",{"$f":"NU92","v":-14.710937500000002},{"$f":"NV92","v":{"$error":"#VALUE!"}},{"$f":"NZ452","v":-15.078437500000001},{"$f":"OA452","v":{"$error":"#VALUE!"}},{"$f":"NY452","v":"g6"},null,null,null,null,null,"بزرگی فلش",{"$f":"OG51","v":0.5800511508951407},"f4",{"$f":"OK449","v":-31.095312500000006},{"$f":"OL449","v":15.634271099744248},{"$f":"OJ449","v":"m49"},null,null,null,null,null,null,null,null,null,null,null,null,null,null,null,null,"h5",{"$f":"PG443+0.5*(PG445-PG443)","v":-17.955729166666668},{"$f":"PH443","v":15.634271099744248},{"$f":"PG452","v":-11.205729166666668},{"$f":"PH452","v":15.384271099744248},{"$f":"PF452","v":"h12"},null,null,null,null,null,"طول باکس نوشته",{"$f":"1*PN39","v":4.5},"h3",{"$f":"PR457","v":-22.356770833333336},{"$f":"PS457","v":17.567774936061383},{"$f":"PQ457","v":"h8"},null,null,null,null,null,null,null,null,null,null,null,null,null,null,null,null,null,null,null,null,null,null,null,null,null,null,null,null,null,null,null,null,null,null,null,"h10",{"$f":"RG445","v":-39.304166666666674},{"$f":"RH445+0.5*RG436","v":11.050511508951409},{"$f":"RG450","v":-33.904166666666669},{"$f":"RH450","v":11.050511508951409},{"$f":"RF450","v":"h13"},null,null,null,null,null,null,null,null,null,null,null,null,null,null,null,null,null,{"$f":"SC446","v":-40},{"$f":"RV160","v":10.277777777777777},null,null,null,null,null,null,null,null,null,null,null,null,null,null,null,null,null,null,{"$f":"SW446","v":-40},{"$f":"SP160","v":10.277777777777777},null,null,null,null,null,null,null,null,null,null,null,null,null,null,null,null,null,null,{"$f":"TQ446","v":-40},{"$f":"TJ160","v":9.7222222222222232},null,null,null,null,null,null,null,null,null,null,null,null,null,null,null,null,null,null,{"$f":"UK446","v":-40},{"$f":"UD160","v":9.7222222222222232},null,null,null,null,null,null,null,null,null,null,null,null,null,null,null,null,null,null,{"$f":"VE446","v":-40},{"$f":"UX160","v":10.277777777777777},null,null,null,null,null,null,null,null,null,null,null,null,null,null,null,null,null,null,{"$f":"VY446","v":-40},{"$f":"VR160","v":10.277777777777777}]
[null,null,null,null,null,null,{"$f":"BW134","v":8.8101463406562566},{"$f":"BX134","v":31.163068186311531},"b10",{"$f":"SQRT(POWER(G463-G464,2)+POWER(H463-H464,2))","v":2.5228563177478032},"نقطه دوم از خط دوم",{"$f":"I467","v":32},{"$f":"G467","v":7.1292217268161124},{"$f":"H467","v":40.901377154064122},null,{"$f":"G469+Q462*COS(Q463)","v":6.2915700213945378},{"$f":"H469+Q462*SIN(Q463)","v":33.972050431335539},"g4",null,{"$f":"CE117","v":9.8203912254694785},{"$f":"CF117","v":31.201897574177089},"b10",{"$f":"SQRT(POWER(T463-T464,2)+POWER(U463-U464,2))","v":3.0223319246351217},"نقطه دوم از خط دوم",{"$f":"V467","v":30},{"$f":"T467","v":7.1327449744006639},{"$f":"U467","v":41.512087156520593},null,{"$f":"T469+AD462*COS(AD463)","v":6.9316988353020541},{"$f":"U469+AD462*SIN(AD463)","v":38.320092351733628},"g4",null,null,{"$f":"O139","v":0.32003729422024935},"β3",null,"نقطه تقاطع","g2",{"$f":"(AN462-AN460+AM460*((AN461-AN460)/(AM461-AM460))-AM462*((AN463-AN462)/(AM463-AM462)))/(((AN461-AN460)/(AM461-AM460))-((AN463-AN462)/(AM463-AM462)))","v":6.7366231508181},{"$f":"AN460+(AM464-AM460)*((AN461-AN460)/(AM461-AM460))","v":37.932809098487894},null,null,{"$f":"0.5*(P139+0.3*(P140-P139)+AE139+0.3*(AE140-AE139))","v":0.37663262401204339},"α2",null,"نقطه دوم از خط دوم",{"$f":"AR474","v":"g1"},{"$f":"AP474","v":7.5722361041515853},{"$f":"AQ474","v":37.474334031941311},null,9.6148808172717555,30.186481208085286,"18f",null,"نقطه دوم از خط دوم",{"$f":"BA466","v":" وسط 22f"},{"$f":"AY466","v":7.6948529967987689},{"$f":"AZ466","v":40.600455031857933},null,9.4067543530829241,32.048486426660716,"16f",null,"نقطه دوم از خط دوم",{"$f":"BJ467","v":"وسط 18f"},{"$f":"BH467","v":7.6966146205910455},{"$f":"BI467","v":41.205810033086166},null,{"$f":"AZ168","v":10.7},{"$f":"BA168","v":25.365691432475337},41,null,null,{"$f":"BK114-'متغیرها '!C56","v":11.267543530829242},{"$f":"BL114-'متغیرها '!C57","v":29.229456406243607},9,null,null,null,{"$f":"O139","v":0.32003729422024935},"β3",null,null,null,null,"(5 → 6)",{"$f":"G163+CL464*COS(CL462)*(1-0.5*'متغیرها '!C76+0.5*'متغیرها '!C78)","v":9.440779022375235},null,"پهنا یقه روی خط سرشانه",{"$f":"IF('متغیرها '!C282=1,CP461,IF('متغیرها '!C282=2,CO461,CN461))","v":5.0770366618313849},null,{"$f":"IF('متغیرها '!C283=2,IF(Q460>H469,(M465-P460)+SQRT(POWER(P471-P464,2)+POWER(Q464-Q471,2)),(M486-P460)+SQRT(POWER(P476-M486,2)+POWER(N486-Q476,2))),IF(AZ477>AZ468,(BE465-AY477)+SQRT(POWER(AY488-AY481,2)+POWER(AZ481-AZ488,2)),(BE486-AY477)+(BE479-BE486)))","v":7.9925443411622661},{"$f":"CN464","v":7.9925443411622661},{"$f":"'متغیرها '!C293*G168","v":8.5554000000000006},"نصف جلو کارور",null,null,{"$f":"SQRT(POWER(CS462-CS463,2)+POWER(CT462-CT463,2))","v":2.9540274621546581},"(25→30)",null,null,null,null,null,null,null,null,null,null,null,null,null,null,null,null,"افقی بالای جیب",{"$f":"DM477-0.5*SIN(RADIANS('متغیرها '!C198))*'متغیرها '!C197*(0.5*'متغیرها '!U84+0.06*H105)","v":7.5459345341915771},null,null,{"$f":"DM466+DM462","v":10.708758086594333},{"$f":"DM467+DM463","v":18.738019125771466},"β5",null,"افقی بالای جیب",{"$f":"DU477-0.5*SIN(RADIANS('متغیرها '!C206))*IF('متغیرها '!C209=0,'متغیرها '!C205*(0.5*'متغیرها '!U84+0.06*H105),DU479)","v":6.1875000000000036},null,null,{"$f":"DU466+DU462","v":6.1874999999999982},{"$f":"DU467+DU463","v":21.45},"β5",null,"عمودی بالای جیب",{"$f":"EC477+'متغیرها '!C215*0.5*COS(RADIANS('متغیرها '!C216))*(0.5*'متغیرها '!U84+0.06*H105)","v":33.970000000000006},null,null,{"$f":"EC465+EC461","v":5.6249999999999973},{"$f":"EC466+EC462","v":33.970000000000006},"β5",null,"افقی پایین جیب",{"$f":"2*EK468-EK462","v":5.0625},null,null,{"$f":"EN480","v":5.0625},{"$f":"EO480","v":30.175000000000001},"β3",null,"ضریب طول پاکت جادکمه یا عرض جیب مستطیل",{"$f":"'متغیرها '!C223","v":0},null,"افقی پایین جیب",{"$f":"2*EV468-EV462","v":0},null,null,{"$f":"EY482","v":0},{"$f":"EZ482","v":31.9},"β3",null,"ضریب طول پاکت جادکمه یا عرض جیب مستطیل",{"$f":"'متغیرها '!C231","v":0},null,"متغیر محاسبه ای محلی",null,null,null,{"$f":"FG469+FG467","v":0},{"$f":"FG470+FG468","v":31.288726831407764},"β5",null,null,null,null,null,null,null,null,null,null,null,null,null,null,null,null,null,null,null,null,null,null,null,null,null,null,null,null,null,null,null,null,null,null,null,null,null,null,null,null,null,null,null,null,null,null,null,null,null,null,null,null,null,null,null,null,null,null,null,null,null,null,null,null,null,null,null,null,null,null,null,null,null,null,null,null,null,null,null,null,null,null,null,null,null,null,null,null,null,{"$f":"IE414","v":16.621554951277929},{"$f":"IF414","v":25.261815217464918},"c1",null,null,null,null,null,null,null,null,null,null,null,null,null,null,-37.28467482590829,38.217388881978692,"w20",null,null,null,null,null,null,null,null,null,null,null,null,null,null,null,null,null,null,null,null,null,null,null,null,null,null,null,null,null,{"$f":"KY326+KJ325","v":-2.5340570476415532},{"$f":"KZ326","v":24.5},{"$f":"LA326","v":"c'44"},null,null,null,null,null,null,null,null,null,null,null,null,null,null,null,null,null,null,null,null,null,null,null,null,null,null,null,null,null,null,null,null,null,null,null,null,null,null,null,null,null,null,null,null,null,null,null,null,null,null,null,null,null,null,null,null,null,null,null,null,null,null,null,null,null,null,null,null,null,null,null,null,null,null,null,null,null,null,null,null,null,null,null,null,null,null,null,null,null,null,"g8",{"$f":"OK458-0.7*OL455*SIN(RADIANS(30)+ATAN((OK458-OK461)/(OL458-OL461+0.0001)))","v":-12.469604820073634},{"$f":"OL458-0.7*OL455*COS(RADIANS(30)+ATAN((OK458-OK461)/(OL458-OL461+0.0001)))","v":16.028292606165873},{"$f":"OK463","v":-11.85939467815261},{"$f":"OL463","v":16.0964560080313},{"$f":"OJ463","v":"g7"},null,null,null,null,null,null,null,null,null,null,null,null,null,null,null,null,"n45",{"$f":"PB102","v":-39.147135416666671},{"$f":"PC102","v":15.634271099744248},{"$f":"PG471","v":-35.811718749999997},{"$f":"PH471","v":15.884271099744248},{"$f":"PF471","v":"h10"},null,null,null,null,null,null,null,null,{"$f":"PR456","v":-20.106770833333336},{"$f":"PS456","v":17.567774936061383},{"$f":"PQ456","v":"h5"},null,null,null,null,null,null,null,null,null,null,null,null,null,null,null,null,null,null,null,null,null,null,null,null,null,null,null,null,null,null,null,null,null,null,null,null,null,null,null,null,null,null,null,null,null,null,null,null,null,null,null,null,null,null,null,null,null,null,{"$f":"IF(RV149>(RU253-RU162),RU253,RU162)","v":-40},{"$f":"IF(RV149>(RU253-RU162),RV253,RV162)","v":0},83,null,null,null,null,null,null,null,null,null,null,null,null,null,null,null,null,null,{"$f":"IF(SP149>(SO253-SO162),SO253,SO162)","v":-40},{"$f":"IF(SP149>(SO253-SO162),SP253,SP162)","v":0},83,null,null,null,null,null,null,null,null,null,null,null,null,null,null,null,null,null,{"$f":"IF(TJ149>(TI253-TI162),TI253,TI162)","v":-40},{"$f":"IF(TJ149>(TI253-TI162),TJ253,TJ162)","v":0},83,null,null,null,null,null,null,null,null,null,null,null,null,null,null,null,null,null,{"$f":"IF(UD149>(UC253-UC162),UC253,UC162)","v":-40},{"$f":"IF(UD149>(UC253-UC162),UD253,UD162)","v":0},83,null,null,null,null,null,null,null,null,null,null,null,null,null,null,null,null,null,{"$f":"IF(UX149>(UW253-UW162),UW253,UW162)","v":-40},{"$f":"IF(UX149>(UW253-UW162),UX253,UX162)","v":0},83,null,null,null,null,null,null,null,null,null,null,null,null,null,null,null,null,null,{"$f":"IF(VR149>(VQ253-VQ162),VQ253,VQ162)","v":-40},{"$f":"IF(VR149>(VQ253-VQ162),VR253,VR162)","v":0},83]
[null,null,null,null,null,null,null,null,null,null,"نقطه اول از خط اول",{"$f":"I469","v":5},{"$f":"G469","v":6.1530431428581984},{"$f":"H469","v":33.520167088519273},"شیفت",{"$f":"IF(Q460>H469+1,P464+H473,M486+H473)","v":6.1820646294126114},{"$f":"IF(Q460>H469+1,Q464,N486)","v":33.985413195117395},{"$f":"IF(Q460>H469+1,R464,L486)","v":"g15"},null,null,null,null,null,"نقطه اول از خط اول",{"$f":"V469","v":22},{"$f":"T469","v":6.633977033235233},{"$f":"U469","v":37.547304156791398},null,{"$f":"IF(AD460>U469+1,AC471+U473,AC476+U473)","v":9.4144026103874339},{"$f":"IF(AD460>U469+1,AD471+U475,AD476+U475)","v":36.384999523528251},{"$f":"IF(AD460>U469+1,AE471,AE476)","v":"g16"},null,null,null,null,null,null,null,null,null,null,null,null,null,null,null,null,null,null,null,{"$f":"AY481+0.3*AZ471","v":11.775077132792891},{"$f":"AZ481","v":33.988726831407767},"g6",null,"نقطه اول از خط اول",{"$f":"BA468","v":5},{"$f":"AY468","v":6.1530431428581984},{"$f":"AZ468","v":33.520167088519273},null,null,{"$f":"SQRT(POWER(BN465-BH469,2)+POWER(BO465-BI469,2))","v":4.4232117979401107},"(5→g3)",null,"نقطه اول از خط اول",{"$f":"BJ469","v":40},{"$f":"BH469","v":5.625},{"$f":"BI469","v":32.420485483870969},null,null,null,null,null,null,{"$f":"BX476","v":9.447251142960253},{"$f":"BY476","v":36.725625887462698},"g3",null,null,null,null,null,null,null,null,null,"(1 → 24)",{"$f":"CI484-CL467*SIN(CL462+CL463)","v":8.960660318986454},"نقطه دوم از خط اول","22''",{"$f":"CK477","v":8.9687846629732668},{"$f":"CL477","v":37.547304156791398},null,null,null,null,null,{"$f":"CO483","v":8.970248989759833},{"$f":"CP483","v":0.7384191332779082},4,null,null,null,null,null,{"$f":"DE482","v":9.440779022375235},{"$f":"DF482","v":3.7070846587396327},6,null,{"$f":"CI464+'متغیرها '!C301","v":9.440779022375235},{"$f":"CI463+'متغیرها '!C302","v":3.7070846587396327},6,null,null,null,null,null,null,null,null,{"$f":"DM464+DM462","v":8.485627154977486},{"$f":"DM465+DM463","v":24.846021160879872},"β11",null,null,null,null,null,{"$f":"DU464+DU462","v":6.1875000000000036},{"$f":"DU465+DU463","v":21.45},"β11",null,null,null,null,null,{"$f":"EC463+EC461","v":5.6250000000000027},{"$f":"EC464+EC462","v":33.970000000000006},"β11",null,null,null,null,null,{"$f":"EK462+EK461","v":5.0625},{"$f":"EK463-EK460","v":30.175000000000001},"β13",null,null,null,null,null,null,null,null,{"$f":"EV464-EV460","v":0},{"$f":"EV465-EV461","v":31.9},"β3",null,null,null,null,null,null,null,null,{"$f":"FJ463","v":0},{"$f":"FK463","v":35.888726831407766},"β11",null,null,null,null,null,null,null,null,null,null,null,null,null,null,null,null,null,null,null,null,null,null,null,null,null,null,null,null,null,null,null,null,null,null,null,null,null,null,null,null,null,null,null,null,null,null,null,null,null,null,null,null,null,null,null,null,null,null,null,null,null,null,null,null,null,null,null,null,null,null,null,null,null,null,null,null,null,null,null,null,null,null,null,null,null,null,null,null,null,null,null,null,null,null,null,null,null,null,null,null,null,null,null,null,null,null,null,null,null,null,null,null,null,null,null,null,null,null,null,null,null,null,null,null,null,null,null,null,null,null,null,null,null,null,null,null,null,null,-0.63,17.899999999999999,"c68",null,null,null,null,null,null,null,null,null,null,null,null,null,null,null,null,null,null,null,null,null,null,null,null,null,null,null,null,null,null,null,null,null,null,null,null,null,null,null,null,null,null,null,null,null,null,null,null,null,null,null,null,null,null,null,null,null,null,null,null,null,null,null,null,null,null,null,null,null,null,null,null,null,null,null,null,null,null,null,"نقطه ورودی سر فلش","مولفه افقی","مولفه عمودی",{"$f":"NZ485","v":-31.039198369565216},{"$f":"OA485","v":{"$error":"#VALUE!"}},{"$f":"NY485","v":"f3"},null,null,null,null,null,"h12",{"$f":"OK479","v":-14.181770833333328},{"$f":"OL481","v":16.351023017902815},{"$f":"OK479","v":-14.181770833333328},{"$f":"OL479","v":16.601023017902815},{"$f":"OJ479","v":"h9"},null,null,null,null,null,null,null,null,{"$f":"OV492","v":-17.081250000000001},{"$f":"OW492","v":16.851023017902815},{"$f":"OU492","v":"h10"},null,null,null,null,null,"n45",{"$f":"PB102","v":-39.147135416666671},{"$f":"PC102","v":15.634271099744248},{"$f":"PG487","v":-39.514635416666671},{"$f":"PH487","v":16.465677749360616},{"$f":"PF487","v":"g6"},null,null,null,null,null,"طول باکس نوشته",{"$f":"3.3*PN39","v":14.85},"h3",{"$f":"PR491","v":-14.069531250000008},{"$f":"PS491","v":3.3164961636828645},{"$f":"PQ491","v":"h10"},null,null,null,null,null,null,null,null,null,null,null,null,null,null,null,null,null,null,null,null,null,null,null,null,null,null,null,null,null,null,null,null,null,null,null,null,null,null,null,null,null,null,null,null,null,null,null,null,null,null,null,null,null,null,null,null,null,null,{"$f":"IF(RV149>(RU259-RU162),RU259,RU162)","v":-40},{"$f":"IF(RV149>(RU259-RU162),RV259,RV162)","v":0},91,null,null,null,null,null,null,null,null,null,null,null,null,null,null,null,null,null,{"$f":"IF(SP149>(SO259-SO162),SO259,SO162)","v":-40},{"$f":"IF(SP149>(SO259-SO162),SP259,SP162)","v":0},91,null,null,null,null,null,null,null,null,null,null,null,null,null,null,null,null,null,{"$f":"IF(TJ149>(TI259-TI162),TI259,TI162)","v":-40},{"$f":"IF(TJ149>(TI259-TI162),TJ259,TJ162)","v":0},91,null,null,null,null,null,null,null,null,null,null,null,null,null,null,null,null,null,{"$f":"IF(UD149>(UC259-UC162),UC259,UC162)","v":-40},{"$f":"IF(UD149>(UC259-UC162),UD259,UD162)","v":0},91,null,null,null,null,null,null,null,null,null,null,null,null,null,null,null,null,null,{"$f":"IF(UX149>(UW259-UW162),UW259,UW162)","v":-40},{"$f":"IF(UX149>(UW259-UW162),UX259,UX162)","v":0},91,null,null,null,null,null,null,null,null,null,null,null,null,null,null,null,null,null,{"$f":"IF(VR149>(VQ259-VQ162),VQ259,VQ162)","v":-40},{"$f":"IF(VR149>(VQ259-VQ162),VR259,VR162)","v":0},91]
[null,null,null,null,null,"متغیر های محاسبه ای آستین کلوش",null,null,"نقاط در آستین کلوش",null,null,null,"رسم آستین کلوش",null,null,null,"رسم آستین کلوش معکوس",null,null,null,"محاسبات  کاپ ",null,null,null,"محاسبات کاپ آستین کلوش",null,null,"محاسبات آستین دکلته کاپ دار",null,null,"مولفه افقی","مولفه عمودی","اسم نقطه ",null,null,null,"نقاط  حلقه آستین جلو و پشت",null,null,null,"نقاط  حلقه آستین جلو و پشت",null,null,null,"نقاط  حلقه آستین جلو و پشت",null,null,null,"نقاط  حلقه آستین جلو و پشت",null,null,null,"نقاط  حلقه آستین جلو و پشت",null,null,null,"نقاط  حلقه آستین جلو و پشت",null,null,null,null,"(1 → 2)",{"$f":"AH520+BK500","v":16.084840602489432},{"$f":"AI520+BK500","v":15.537816834327144},null,"مولفه افقی","مولفه عمودی","اسم نقطه ",null,"مولفه افقی","مولفه عمودی","اسم نقطه ",null,"رسم شبیه ساز آستین ساده",null,null,null,"مولفه افقی","مولفه عمودی","اسم نقطه ",null,"(c10 →c11)",{"$f":"'متغیرها '!C545*'متغیرها '!U83*0.5","v":3.1500000000000004},null,{"$f":"BK499-BK500-CE515-BX498+'متغیرها '!C532","v":14.706265822139034},{"$f":"BK517-CE514+'متغیرها '!C533","v":0},"b2",null,null,"محاسبات",null,"رسم جادکمه و برگرد آستین کتی",null,null,null,"رسم آستین کتی",null,null,null,"نقاط  ورودی برگرد مچ و آستر ",null,null,null,"رسم الگو آستر آستین کتی با جادکمه",null,null,null,"مولفه افقی","مولفه عمودی","اسم نقطه در انتخاب حلقه بدون ساسون",null,"اسم نقطه در انتخاب حلقه\n با ساسون زیر بغل",null,null,"(1 → 2)",{"$f":"0.5*(H131+G167*(1-0.5*'متغیرها '!C71)+DL506+DL508+BK516)","v":20.110731082951279},null,null,null,null,"γ16",{"$f":"ATAN((BW506-BW504)/(BV504-BV506))","v":0.77780838022780141},{"$f":"DEGREES(DR499)","v":44.56513745695981},null,null,"انحنا پشت",null,null,{"$f":"DL500+DE528+'متغیرها '!C532","v":6.1548524963435671},{"$f":"DL499+DL501+'متغیرها '!C533","v":21.156208786672394},3,null,"نقاط  ورودی و متغیرهای ورودی",null,null,null,"رسم الگو آستین",null,null,null,null,null,null,null,null,null,null,null,"رسم الگو طراحی آستین",null,null,null,"نقاط  ورودی ",null,null,null,"مولفه افقی","مولفه عمودی","اسم نقطه ",null,{"$f":"EW503+(FF509-1)*(EW512-EW503)/29","v":8.3170391722761021},{"$f":"EX500","v":20.217326986766409},"a3",null,null,"رسم",null,null,null,null,null,null,null,null,null,null,null,null,null,null,null,null,null,null,null,null,null,null,null,null,null,null,null,null,null,null,null,null,null,null,null,null,null,null,null,null,null,null,null,null,null,null,null,null,null,null,null,null,null,null,null,null,null,null,null,null,null,null,null,null,null,null,null,null,null,null,null,null,null,null,null,null,null,null,null,null,null,null,null,null,null,null,null,null,null,null,null,null,null,null,null,null,{"$f":"JG353","v":6.0063138300931964},{"$f":"JH353","v":17.899999999999999},{"$f":"JI353","v":"c48"},null,null,null,null,null,null,null,null,null,null,null,null,null,null,null,null,null,null,null,null,null,null,null,null,null,null,null,null,null,null,null,null,null,null,null,null,null,null,null,null,null,{"$f":"KY341","v":2.5340570476415532},{"$f":"KZ341","v":17.899999999999999},{"$f":"LA341","v":"c45"},null,null,null,null,null,null,null,null,null,null,null,null,null,null,null,null,null,null,null,null,null,null,null,null,null,null,null,null,null,null,null,null,null,null,null,null,null,null,null,null,null,null,null,null,null,null,null,null,null,null,null,null,null,null,null,null,null,null,null,null,null,null,null,null,null,null,null,null,null,null,null,null,null,null,null,null,null,null,null,null,null,null,null,null,null,null,null,null,null,null,null,null,null,null,null,null,null,null,null,null,null,"نسبت سایز افقی",{"$f":"OR38","v":42},"انحنا راستگرد ",null,null,{"$f":"OW499","v":"انحنا راستگرد "}]
[null,null,null,null,null,"m'13",{"$f":"G500+BK510","v":8.6762209639716676},null,"k13",{"$f":"J511-G521*COS(3*RADIANS('متغیرها '!C582))","v":1.6520700582756533},{"$f":"K511+G521*SIN(3*RADIANS('متغیرها '!C582))","v":11.88240222937919},null,{"$f":"J515","v":5.7245112730290515},{"$f":"K515","v":9.7110004570279891},"k11",null,{"$f":"BN503","v":14.310138934360861},{"$f":"BO503","v":10.568785471531454},5,null,"(7→n'9)",{"$f":"SQRT(POWER((Q517-Q518),2)+POWER((R517-R518),2))","v":5.4074114692456119},null,null,"e17,15",{"$f":"ATAN((R540-R541)/(Q540-Q541))","v":0.11191799230296812},null,"e17,15",{"$f":"ATAN((BO508-BO509)/(BN508-BN509))","v":0.98458261830013261},null,"α4",{"$f":"'متغیرها '!B315","v":0.37663262401204339},"زاویه سرشانه با افق",null,null,null,"گشادترین قسمت آستین","w3",{"$f":"AQ516+IF(0.5*0.5*('متغیرها '!U72-2*'متغیرها '!U73)>0,0.5*0.5*('متغیرها '!U72-2*'متغیرها '!U73),0)","v":16.084840602489432},null,null,"w3",{"$f":"(AQ517+AQ518)","v":16.084840602489432},null,null,"w3",{"$f":"(AU517+AU518)","v":15.584304178231726},null,{"$f":"BK122-'متغیرها '!C56","v":11.267543530829242},{"$f":"BL122-'متغیرها '!C57","v":29.229456406243607},8,null,"گشادترین قسمت آستین","w3",{"$f":"BG516+IF(0.5*0.5*('متغیرها '!U72-2*'متغیرها '!U73)>0,0.5*0.5*('متغیرها '!U72-2*'متغیرها '!U73),0)","v":15.537816834327144},null,null,"w3",{"$f":"(BG517+BG518)","v":15.537816834327144},null,null,"(3 → 19)",{"$f":"H131-BL508-0.75*0.25*'متغیرها '!C77*H130","v":9.6986661043268807},{"$f":"'متغیرها '!U83-BL508","v":10.33616610432688},null,{"$f":"IF((BS540-BS533)>(BS531-BS533),BR540,BR531)","v":15.575303605903567},{"$f":"IF((BS540-BS533)>(BS531-BS533),BS540,BS531)","v":8.0855172205609058},"25 یا z1",null,{"$f":"BK499-BK500-BK509-BX498+'متغیرها '!C532","v":4.924238174374242},{"$f":"BK517+'متغیرها '!C533","v":9.6986661043268807},12,null,{"$f":"BL499-BL500-BL524+'متغیرها '!C532","v":13.202882831905923},{"$f":"BL525+'متغیرها '!C533","v":1.62},28,null,{"$f":"BZ513","v":2.3349340024212202},{"$f":"CA513","v":0},"z15",null,"(18 → b3)",{"$f":"CE514","v":9.6986661043268807},null,{"$f":"BK499-BK500-CE515-BX498-CE508+'متغیرها '!C532","v":4.2062658221390308},{"$f":"BK517-CE514-CE510+CE502-CE503+'متغیرها '!C533","v":1.9650000000000003},"c6",null,"(a18 → a3)",null,null,{"$f":"CV528","v":4.4765829879691248},{"$f":"CW528","v":-1.6948890505020984},"a'26",null,{"$f":"BK499-BK500-CL500-BX498+CS546+CK554","v":15.111349610175122},{"$f":"BK517+CL501+CS547","v":12.68193250617113},"7'",null,"(a6→a13)",{"$f":"SQRT(POWER(CV504-CV503,2)+POWER(CW504-CW503,2))","v":7.0462214394301181},null,null,-2.1373679537846804,10.29531938469573,"5'",null,{"$f":"IF('متغیرها '!C511=3,BK122-DE524,CE131)","v":11.267543530829242},{"$f":"IF('متغیرها '!C511=3,BL122-DE525,CF131)","v":29.229456406243607},8,null,"b4",null,null,"(7→ 18)",{"$f":"0.7*DL508","v":1.9758680998872262},null,"(r20 →r24)",{"$f":"DO515","v":0.338235892014499},null,"(41→ 43)",{"$f":"DR504","v":3.813223665047337},null,null,{"$f":"DQ555","v":4.0765494166093692},{"$f":"DR555","v":-0.21},"r4",null,{"$f":"IF((DO540-DJ542)>(DJ540-DJ542),DN540,DI540)","v":14.494974012774522},{"$f":"IF((DO540-DJ542)>(DJ540-DJ542),DO540,DJ540)","v":8.1},"27 یا z1",null,null,{"$f":"'متغیرها '!C570","v":0.7},"q'21",null,{"$f":"IF(ED530>(ED533),EO512,EO516)","v":-12.180775267104631},{"$f":"IF(ED530>(ED533),EP512,EP516)","v":14.381535557205776},"q46 یا q13",null,{"$f":"EC551-EL501","v":-11.343088788430959},{"$f":"ED551","v":16.178856758633291},"q31",null,{"$f":"EK505+SQRT(POWER(EK516-EK505,2)+POWER(EL516-EL505,2))*SIN(EL502-ATAN((EK505-EK516)/(EL516-EL505+0.0001)))","v":-12.319386681945138},{"$f":"EL505+SQRT(POWER(EK516-EK505,2)+POWER(EL516-EL505,2))*COS(EL502-ATAN((EK505-EK516)/(EL516-EL505+0.0001)))","v":14.119935127898447},"q46",null,{"$f":"EC549","v":12.743078553868003},{"$f":"ED549","v":0},"q30",null,null,null,null,null,{"$f":"FA503","v":4.7699781068724043},20.110731082951279,2,"نقطه قبل از چرخش",{"$f":"IF(FB516>FB515,IF(FA516>FA515,FA515+SQRT(POWER(FA516-FA515,2)+POWER(FB516-FB515,2))*COS(ATAN((FB516-FB515)/(FA516-FA515+0.000123))+FB513),FA515-SQRT(POWER(FA516-FA515,2)+POWER(FB516-FB515,2))*COS(ATAN((FB516-FB515)/(FA515-FA516+0.000123))-FB513)),IF(FA516>FA515,FA515+SQRT(POWER(FA516-FA515,2)+POWER(FB516-FB515,2))*COS(ATAN((FB515-FB516)/(FA516-FA515+0.000123))-FB513),FA515-SQRT(POWER(FA516-FA515,2)+POWER(FB516-FB515,2))*COS(ATAN((FB515-FB516)/(FA515-FA516+0.000123))+FB513)))","v":4.7927657578699634},{"$f":"IF(FB516>FB515,IF(FA516>FA515,FB515+SQRT(POWER(FA516-FA515,2)+POWER(FB516-FB515,2))*SIN(ATAN((FB516-FB515)/(FA516-FA515+0.000123))+FB513),FB515+SQRT(POWER(FA516-FA515,2)+POWER(FB516-FB515,2))*SIN(ATAN((FB516-FB515)/(FA515-FA516+0.000123))-FB513)),IF(FA516>FA515,FB515-SQRT(POWER(FA516-FA515,2)+POWER(FB516-FB515,2))*SIN(ATAN((FB515-FB516)/(FA516-FA515+0.000123))-FB513),FB515-SQRT(POWER(FA516-FA515,2)+POWER(FB516-FB515,2))*SIN(ATAN((FB515-FB516)/(FA515-FA516+0.000123))+FB513)))","v":19.801993640015784},"b2",null,14.785819020361394,14.508853223939425,"c10''",null,null,null,null,null,null,null,null,null,null,null,null,null,null,null,null,null,null,null,null,null,null,null,null,null,null,null,null,null,null,null,null,null,null,null,null,null,null,null,null,null,null,null,null,null,null,null,null,null,null,null,null,null,null,null,null,null,null,null,null,null,null,null,null,null,null,null,null,null,null,null,null,null,null,null,null,null,null,null,null,null,null,null,null,null,null,null,null,null,null,null,null,null,null,null,{"$f":"JG360","v":8.3337907451397939},{"$f":"JH360","v":17.899999999999999},{"$f":"JI360","v":"c53"},null,null,null,null,null,null,null,null,null,null,null,null,null,null,null,null,null,null,null,null,null,null,null,null,null,null,null,null,null,null,null,null,null,null,null,null,null,null,null,null,null,null,null,null,null,null,null,null,null,null,null,null,null,null,null,null,null,null,null,null,null,null,null,null,null,null,null,null,null,null,null,null,null,null,null,null,null,null,null,null,null,null,null,null,null,null,null,null,null,null,null,null,null,null,null,null,null,null,null,null,null,null,null,null,null,null,null,null,null,null,null,null,null,null,null,null,null,null,null,null,null,null,null,"h12",{"$f":"NZ513","v":-28.774218749999999},{"$f":"OA515","v":{"$error":"#VALUE!"}},{"$f":"NZ513","v":-28.774218749999999},{"$f":"OA513","v":{"$error":"#VALUE!"}},{"$f":"NY513","v":"h9"},null,null,null,null,null,"g4",{"$f":"OK513+OK511*OK509/40","v":-12.162499999999994},{"$f":"OL513+0.5*OK510","v":18.051150895140665},{"$f":"OK520","v":-12.469604820073634},{"$f":"OL520","v":17.96179644248301},{"$f":"OJ520","v":"g8"},null,null,null,null,null,"نقطه ورودی سر فلش","مولفه افقی","مولفه عمودی",{"$f":"OV519","v":-16.986301150895141},{"$f":"OW519","v":17.857800511508952},{"$f":"OU519","v":"f3"},null,null,null,null,null,"پهنای باکس نوشته",{"$f":"PC40","v":0.5},"h4"]
[null,null,null,null,null,"m'15",{"$f":"G528+BK512","v":7.4492068882243618},null,"n'15",{"$f":"J524-G534*SIN(4*RADIANS('متغیرها '!C586))","v":2.106444181204381E-2},{"$f":"K524+G534*COS(4*RADIANS('متغیرها '!C586))","v":10.153558394439084},null,{"$f":"Z520","v":15.168185894917707},{"$f":"Z521","v":9.1230050104277307},"f1",null,{"$f":"BN502","v":15.748686123383749},9.6986661043268807,3,null,"f1",{"$f":"IF(OR('متغیرها '!C511=0,'متغیرها '!C511=1),AQ529,0)","v":0},null,null,null,null,null,null,null,null,null,null,"β2",{"$f":"ATAN((BR530-BR531)/(BS530-BS531))","v":0.10706975888421932},null,null,null,"طول حلقه پشت تا نقطه 16f",{"$f":"SQRT(POWER(AK512-AK511,2)+POWER(AL511-AL512,2))+SQRT(POWER(AK513-AK512,2)+POWER(AL512-AL513,2))","v":3.4680413440206199},null,null,"طول حلقه پشت تا نقطه 22",{"$f":"SQRT(POWER(AO512-AO511,2)+POWER(AP511-AP512,2))+SQRT(POWER(AO513-AO512,2)+POWER(AP512-AP513,2))","v":2.4479318209609864},null,null,"طول حلقه پشت تا نقطه b10",{"$f":"SQRT(POWER(AS512-AS511,2)+POWER(AT511-AT512,2))+SQRT(POWER(AS513-AS512,2)+POWER(AT512-AT513,2))","v":2.4117945334133291},null,null,"طول حلقه پشت تا نقطه 39",{"$f":"SQRT(POWER(AW510-AW511,2)+POWER(AX510-AX511,2))+SQRT(POWER(AW513-AW512,2)+POWER(AX512-AX513,2))+SQRT(POWER(AW514-AW513,2)+POWER(AX513-AX514,2))+SQRT(POWER(AW515-AW514,2)+POWER(AX514-AX515,2))","v":8.6546116012213421},null,null,null,null,null,null,null,null,null,null,null,"طول تاج آستین ساده",{"$f":"SQRT(POWER(BN502-BN503,2)+POWER(BO502-BO503,2))+SQRT(POWER(BN503-BN504,2)+POWER(BO503-BO504,2))+SQRT(POWER(BN504-BN505,2)+POWER(BO504-BO505,2))+SQRT(POWER(BN505-BN506,2)+POWER(BO505-BO506,2))+SQRT(POWER(BN506-BN507,2)+POWER(BO506-BO507,2))+SQRT(POWER(BN507-BN508,2)+POWER(BO507-BO508,2))+SQRT(POWER(BN508-BN509,2)+POWER(BO508-BO509,2))+SQRT(POWER(BN509-BN510,2)+POWER(BO509-BO510,2))+BK500","v":23.844260588623815},null,{"$f":"0-BX498+'متغیرها '!C532","v":-0.33615447910568363},{"$f":"BK517+'متغیرها '!C533","v":9.6986661043268807},2,null,{"$f":"BK500+BK526-BX498+'متغیرها '!C532","v":0.53245826538612417},{"$f":"0+'متغیرها '!C533","v":0},29,null,{"$f":"BV513","v":14.938780490875327},{"$f":"BW513","v":8.1},25," متغیرهای ورودی - آستر مچ آستین",null,null,{"$f":"IF(BZ535=1,IF(CG539<CG537,IF(CG541<CG537,CF541,CF537),CF539),CF539)","v":13.202882831905923},{"$f":"IF(CG539<CG537,IF(CG541<CG537,CG541,CG537),CG539)","v":0},"z14 یا 25' یا z12",null,{"$f":"CF529+CD540*BZ536*AI520","v":15.543038071128024},{"$f":"CG530+BW510-BW522","v":10.33616610432688},"1'",null,null,"(a17→a'23)",{"$f":"CL532","v":0.21073337669877024},null,"نقطه زیر حلقه آستین","رو12",{"$f":"CK546","v":4.924238174374242},{"$f":"CL546","v":9.6986661043268807},{"$f":"BR537-0.03*BK515","v":-0.81869969718036661},{"$f":"BS537","v":9.6986661043268807},2,null,{"$f":"CV506+CW515*SIN(CW522)","v":4.9091076605527144},{"$f":"CW506+CW515*COS(CW522)","v":1.273767616680292},"a''26",null,{"$f":"CV536+CK554","v":7.2242381743742419},{"$f":"CW536","v":9.6986661043268807}," تکه رو 12'",null,"(2→ 3)",{"$f":"SQRT(POWER((DD514-DD517),2)+POWER((DE514-DE517),2))","v":1.7351947163333283},null,null,null,"نقاط در آستین رگلان بدون درز",null,null,null,"نقطه","مولفه افقی","مولفه عمودی",null,{"$f":"DQ535-DO502","v":13.16740185759201},{"$f":"DR535-DO501","v":15.017907944029538},34,null,null,null,null,null,null,null,null,null,null,{"$f":"SQRT(POWER((EC507-EC508),2)+POWER((ED507-ED508),2))","v":4.3215941728818734},"q33",null,null,null,null,null,null,null,null,null,null,null,null,null,{"$f":"EC548","v":8.3009069633393118},{"$f":"ED548","v":7.0380399004824659},"q29",null,null,null,null,null,14.236707573333794,13.3496447784757,"b10''","نقطه قبل از چرخش",{"$f":"IF(FB534>FB530,IF(FA534>FA530,FA530+SQRT(POWER(FA534-FA530,2)+POWER(FB534-FB530,2))*COS(ATAN((FB534-FB530)/(FA534-FA530+0.000123))+FB528),FA530-SQRT(POWER(FA534-FA530,2)+POWER(FB534-FB530,2))*COS(ATAN((FB534-FB530)/(FA530-FA534+0.000123))-FB528)),IF(FA534>FA530,FA530+SQRT(POWER(FA534-FA530,2)+POWER(FB534-FB530,2))*COS(ATAN((FB530-FB534)/(FA534-FA530+0.000123))-FB528),FA530-SQRT(POWER(FA534-FA530,2)+POWER(FB534-FB530,2))*COS(ATAN((FB530-FB534)/(FA530-FA534+0.000123))+FB528)))","v":14.785819020361394},{"$f":"IF(FB534>FB530,IF(FA534>FA530,FB530+SQRT(POWER(FA534-FA530,2)+POWER(FB534-FB530,2))*SIN(ATAN((FB534-FB530)/(FA534-FA530+0.000123))+FB528),FB530+SQRT(POWER(FA534-FA530,2)+POWER(FB534-FB530,2))*SIN(ATAN((FB534-FB530)/(FA530-FA534+0.000123))-FB528)),IF(FA534>FA530,FB530-SQRT(POWER(FA534-FA530,2)+POWER(FB534-FB530,2))*SIN(ATAN((FB530-FB534)/(FA534-FA530+0.000123))-FB528),FB530-SQRT(POWER(FA534-FA530,2)+POWER(FB534-FB530,2))*SIN(ATAN((FB530-FB534)/(FA530-FA534+0.000123))+FB528)))","v":14.508853223939425},"c10''",null,{"$f":"FE500","v":1.2367392525000938},{"$f":"FF500","v":20.217326986766409},"a4",null,null,null,null,null,null,null,null,null,null,null,null,null,null,null,null,null,null,null,null,null,null,null,null,null,null,null,null,null,null,null,null,null,null,null,null,null,null,null,null,null,null,null,null,null,null,null,null,null,null,null,null,null,null,null,null,null,null,null,null,null,null,null,null,null,null,null,null,null,null,null,null,null,null,null,null,null,null,null,null,null,null,null,null,null,null,null,null,null,null,null,null,null,null,null,null,null,null,null,null,null,null,null,null,null,null,null,null,null,null,null,null,null,null,null,null,null,null,null,null,null,null,null,null,null,null,null,null,null,null,null,null,null,null,null,null,null,null,null,null,null,null,null,null,null,null,null,null,null,null,null,null,null,null,null,null,null,null,null,null,null,null,null,null,null,null,null,null,null,null,null,null,null,null,null,null,null,null,null,null,null,null,null,null,null,null,null,null,null,null,null,null,null,null,null,null,null,null,null,null,null,null,null,null,null,null,null,null,null,null,null,null,null,null,null,null,null,null,null,null,null,null,null,null,{"$f":"NU101","v":-23.8984375},{"$f":"NV101","v":{"$error":"#VALUE!"}},"w54",null,null,null,null,null,"ارتفاع هر رج",{"$f":"OG39","v":0.96675191815856776},"w11",null,null,null,null,null,null,null,null,null,null,null,{"$f":"OQ112","v":-13.617187500000002},{"$f":"OR112","v":18.534526854219951},"m57",null,null,null,null,null,null,null,"باکس نوشته آخر",null,null,{"$f":"PH534","v":"باکس نوشته آخر"}]
[null,null,null,null,null,null,null,null,null,null,null,null,null,null,null,null,null,null,null,null,null,null,null,null,null,null,null,null,null,null,null,null,null,null,null,null,null,null,null,null,null,null,null,null,null,null,null,null,null,null,null,null,null,null,null,null,null,null,null,null,null,null,null,null,null,null,null,null,null,null,null,null,null,null,null,null,null,null,null,null,null,null,null,null,null,null,null,null,{"$f":"BR537-CL524+CL521-0.03*BK515","v":-3.2090230358384222},{"$f":"BK517-CL507+'متغیرها '!C533","v":8.0855172205609058},"a'9",null,"نقطه","مولفه افقی","مولفه عمودی",null,null,null,null,null,"به دست آوردن z2 در کوتاهی آستین رگلان با درز تکه چپ",null,null,null,null,"به دست آوردن z1 در کوتاهی آستین رگلان با درز تکه چپ",null,null,"متغیرهای ورودی در رگلان درز دار",null,null,null,null,"به دست آوردن z1 در کوتاهی آستین رگلان با درز تکه راست",null,null,null,null,"به دست آوردن z2 در کوتاهی آستین رگلان با درز تکه راست",null,{"$f":"BV501-BL500-BL515+DO521","v":0.28531855106058035},{"$f":"DR546","v":0},"r29",null,{"$f":"BV510-DQ527","v":-0.91762811630241803},{"$f":"BW510","v":10.33616610432688},2,null,null,null,null,null,{"$f":"IF(ED530<ED533,EC506-ED530*COS(ED537),IF(ED530<(ED533+ED534),EC507-(ED530-ED533)*COS(ED538),IF(ED530<(ED533+ED534+ED535),EC508-(ED530-ED533-ED534)*COS(ED539),IF(ED530<(ED533+ED534+ED535+ED536),EC509-(ED530-ED533-ED534-ED535)*COS(ED540),EC510))))","v":4.7417518140584729},{"$f":"IF(ED530<ED533,ED506-ED530*SIN(ED537),IF(ED530<(ED533+ED534),ED507-(ED530-ED533)*SIN(ED538),IF(ED530<(ED533+ED534+ED535),ED508-(ED530-ED533-ED534)*SIN(ED539),IF(ED530<(ED533+ED534+ED535+ED536),ED509-(ED530-ED533-ED534-ED535)*SIN(ED540),ED510))))","v":16.178856758633291},"q31",null,null,null,null,null,null,null,null,null,null,null,null,null,null,null,null,null,null,null,null,null,null,null,null,null,null,null,null,null,null,null,null,null,null,null,null,null,null,null,null,null,null,null,null,null,null,null,null,null,null,null,null,null,null,null,null,null,null,null,null,null,null,null,null,null,null,null,null,null,null,null,null,null,null,null,null,null,null,null,null,null,null,null,null,null,null,null,null,null,null,null,null,null,null,null,null,null,null,null,null,null,null,null,null,null,null,null,null,null,null,null,null,null,null,null,null,null,null,null,null,null,null,null,null,null,null,null,null,null,null,null,null,null,null,null,null,null,null,null,null,null,null,null,null,null,null,null,null,null,null,null,null,null,null,null,null,null,null,null,null,null,null,null,null,null,null,null,null,null,null,null,null,null,null,null,null,null,null,null,null,null,null,null,null,null,null,null,null,null,null,null,null,null,null,null,null,null,null,null,null,null,null,null,null,null,null,null,null,null,null,null,null,null,null,null,null,null,null,null,null,null,null,null,null,null,null,null,null,null,null,null,null,null,null,null,null,null,null,null,null,null,null,null,null,null,null,null,null,null,null,null,null,null,"g5",{"$f":"NZ547+0.7*(NZ550-NZ547)","v":-35.3675},{"$f":"OA547+0.28*(OA550-OA547)","v":{"$error":"#VALUE!"}},{"$f":"NZ548","v":-35.493499999999997},{"$f":"OA548","v":{"$error":"#VALUE!"}},{"$f":"NY548","v":"g11"},null,null,null,null,null,"نسبت سایز افقی",{"$f":"OG38","v":42},"انحنا راستگرد ",null,null,{"$f":"OL551","v":"انحنا راستگرد "},null,null,null,null,null,"f8",{"$f":"OV548","v":-14.236979166666668},{"$f":"OW548+2*OV543","v":19.134526854219953},{"$f":"OV550","v":-13.946953591219097},{"$f":"OW550","v":18.921227621483379},{"$f":"OU550","v":"f7"},null,null,null,null,null,"h13",{"$f":"PG547","v":-11.6953125},{"$f":"PH548","v":17.817774936061383},{"$f":"PG543","v":3.2356770833333321},{"$f":"PH543","v":17.567774936061383},{"$f":"PF543","v":"n51"}]
[null,null,null,null,null,"t3",{"$f":"'متغیرها '!C594","v":1.2500000000000002},null,null,"x1",{"$f":"'متغیرها '!C596","v":15},10,null,"s3",{"$f":"G569*L588/(G571+1)","v":10.000000000000002},{"$f":"1*K588/(H571+1)","v":8.4090909090909083},null,"s34",{"$f":"ATAN((AG579-AG596)/(AH596-AH579))","v":0.30114563839957076},null,{"$f":"U567+0.5*(U568-U567)","v":13.068181818181818},3,{"$f":"W567+0.5*(W568-W567)","v":20.72727272727273},{"$f":"X567","v":6.3000000000000007},{"$f":"Y567","v":0},null,43,{"$f":"W594+S573*COS(O582)","v":16.479337708720301},{"$f":"X594-S573*SIN(O582)","v":20},null,{"$f":"AE567+0.5*(AE568-AE567)","v":13.681818181818182},"p3",{"$f":"AG567+0.5*(AG568-AG567)","v":16.872727272727275},{"$f":"AH567","v":6.3000000000000007},{"$f":"AI567","v":0},null,"p38",{"$f":"AL567+0.5*SQRT(POWER((AL567-AL568),2)+POWER((AM567-AM568),2))*COS(RADIANS(G593)-O572+O581-RADIANS(G589))/COS(RADIANS(G593))","v":15.318528016166152},{"$f":"AM567-0.5*SQRT(POWER((AL567-AL568),2)+POWER((AM567-AM568),2))*SIN(RADIANS(G593)-O572+O581-RADIANS(G589))/COS(RADIANS(G593))","v":11.437883191785701},null,2,{"$f":"RADIANS(2)+O581","v":0.1347055120186586},{"$f":"AG574-O576*SIN(AP569)","v":9.5905115298516002},{"$f":"AH574+O576*COS(AP569)","v":17.861014710443154},{"$f":"AG573+O575*SIN(O573+(AP569-O581)*G579)","v":24.005398672232729},{"$f":"AH573+O575*COS(O573+(AP569-O581)*G579)","v":13.578625016666329},{"$f":"AQ569+0.5*L582*COS(AP569-O581)","v":21.620678610093965},{"$f":"AR569+0.5*L582*SIN(AP569-O581)","v":18.281117401999509},5.2726012943217748,null,"افقی بالای جیب",{"$f":"AZ582-'متغیرها '!C693*0.5*SIN(RADIANS('متغیرها '!C694))*(0.5*'متغیرها '!U84+0.06*H105)","v":12.023856179146765},null,null,"افقی بالای جیب",{"$f":"BD582-'متغیرها '!C684*0.5*SIN(RADIANS('متغیرها '!C685))*(0.5*'متغیرها '!U84+0.06*H105)","v":16.519772727272731},null,null,{"$f":"AE568","v":17.363636363636363},{"$f":"AI568","v":0},{"$f":"AF568","v":"p2"},null,{"$f":"U568","v":16.136363636363637},{"$f":"Y568","v":0},{"$f":"V568","v":2},null,{"$f":"W592","v":14.808258415054972},{"$f":"X592","v":20},{"$f":"V592","v":17},null,24.137325268524325,28.5,{"$f":"V602","v":25},null,null,null,"کیسه جیب",null,null,null,null,null,null,null,null,null,null,null,null,null,null,null,null,null,{"$f":"AL575","v":24.477940770245826},{"$f":"AM575","v":21.81222395079126},{"$f":"AK575","v":"p44"},null,null,null,null,null,null,{"$f":"AZ176","v":5.7506799999999991},{"$f":"BA176","v":17.899999999999999},"47'",null,{"$f":"CZ572","v":6.3006799999999998},{"$f":"DE583","v":6.3000000000000007},"53r",null,-1.3407751872021763,14.686249999999998,{"$f":"DF578","v":"13r"},null,10.189930998205337,6.3000000000000007,{"$f":"DF574","v":"5r"},null,-1.0692366538284372,14.602195577443837,{"$f":"DJ613","v":"p14r"},null,{"$f":"AZ179","v":6.0256799999999995},{"$f":"BA179","v":25},40,null,{"$f":"DX568+DT582-DT583","v":6.5977247075723398},{"$f":"DY577","v":1.6800000000000002},"5r",null,null,null,null,null,-0.81060948081264073,17.02,{"$f":"DZ572","v":"14r"},null,{"$f":"J352","v":6.0450461699068025},{"$f":"K352","v":24.5},"dd5",null,-1.3407751872021763,14.686249999999998,"13r",null,{"$f":"DH613","v":-1.0692366538284372},14.602195577443837,"p14r",null,null,null,null,null,null,null,null,null,null,null,null,null,null,null,null,null,null,null,null,null,null,null,null,null,null,null,null,null,null,null,null,null,null,null,null,null,null,null,null,null,null,null,null,null,null,null,null,null,null,null,null,null,null,null,null,null,null,null,null,null,null,null,null,null,null,null,null,null,null,null,null,null,null,null,null,null,null,null,null,null,null,null,null,null,null,null,null,null,null,null,null,null,null,null,null,null,null,null,null,null,null,null,null,null,null,null,null,null,null,null,null,null,null,null,null,null,null,null,null,null,null,null,null,null,null,null,null,null,null,null,null,null,null,null,null,null,null,null,null,null,null,null,null,null,null,null,null,null,null,null,null,null,null,null,null,null,null,null,null,null,null,null,null,null,null,null,null,null,null,null,null,null,null,null,null,null,null,null,null,null,null,null,null,null,null,null,null,null,null,null,null,null,null,null,null,null,null,null,null,null,null,null,null,null,null,null,null,null,null,null,null,null,null,null,null,null,null,null,null,null,null,null,null,null,null,null,null,null,null,null,null,null,null,null,null,null,null,"w58",{"$f":"NU105","v":-3.6093750000000036},{"$f":"NV105","v":{"$error":"#VALUE!"}},{"$f":"NZ574","v":-3.2418750000000038},{"$f":"OA574","v":{"$error":"#VALUE!"}},{"$f":"NY574","v":"g6"},null,null,null,null,null,null,null,null,{"$f":"OK579","v":-29.167187500000008},{"$f":"OL579","v":19.251278772378519},{"$f":"OJ579","v":"h11"},null,null,null,null,null,"g2",{"$f":"OV567","v":-32.210937500000007},{"$f":"OW567+OV564","v":19.501278772378519}]
[null,null,null,null,null,"t20",{"$f":"'متغیرها '!C628","v":1},1,null,{"$f":"'متغیرها '!T59","v":"h"},8.4,{"$f":"K586+G606*K586","v":8.4},null,"s20",{"$f":"(G610*2*O583)*SQRT(POWER((W578-W587),2)+POWER((X578-X587),2))/SQRT(POWER((W578-W586),2)+POWER((X578-X586),2))+IF(O584<0.3,O584,0)","v":3.2235687782241298E-2},{"$f":"(H610*2*P583)*SQRT(POWER((U578-U587),2)+POWER((Y578-Y587),2))/SQRT(POWER((U578-U586),2)+POWER((Y578-Y586),2))+IF(P584<0.3,P584,0)","v":-0.87045711060947961},null,"s51",{"$f":"ATAN((X592-AC600)/(AB600-W592))","v":0},null,{"$f":"U578","v":6.7681818181818185},"20a",{"$f":"W578","v":14.77602272727273},{"$f":"X567-O566+L584","v":25},{"$f":"Y567+K584","v":25},null,60,{"$f":"W610+S573","v":19.303306679903155},{"$f":"X610","v":15.939228396813911},null,{"$f":"AE585-P588*COS(P572-P581)","v":14.897590631529734},"p15e",{"$f":"AG585-O588*COS(O572-O581)","v":19.315986138228915},{"$f":"AH585-O588*SIN(O572-O581)","v":21.858316929886477},{"$f":"AI585-P588*SIN(P572-P581)","v":26.701718756687516},null,"p48",{"$f":"AL579+(AL578-AL584)","v":20.962000000000003},{"$f":"AM583","v":6.3000000000000007},null,"درجه اضافه شده به زاویه خط پهلو پشت","s'6","xp10","yp10","xp11","yp11","xp12","yp12","s11",null,null,null,null,null,null,"اطلاعات ورودی",null,null,{"$f":"AE579","v":16.936198506757762},{"$f":"AI579","v":19.876420013697704},{"$f":"AF579","v":"p12"},null,{"$f":"U580","v":16.668181818181818},{"$f":"Y580","v":21.45},{"$f":"V580","v":12},null,null,null,"خط اتو",null,{"$f":"W568","v":26.45454545454546},{"$f":"X568","v":6.3000000000000007},{"$f":"V568","v":2},null,{"$f":"BD571+BD567","v":22.369772727272732},{"$f":"BD572+BD568","v":18.899999999999999},"β5",null,null,null,null,null,{"$f":"AG569","v":16.872727272727275},{"$f":"AH569","v":6.3000000000000007},{"$f":"AF569","v":"p3"},null,{"$f":"AG577","v":8.1262689583955101},{"$f":"AH577","v":17.543951185900866},{"$f":"AF577","v":"p10"},null,{"$f":"AZ569+BA568","v":13.023856179146765},{"$f":"AZ570-BA567","v":17.899999999999999},"β13",null,{"$f":"AG610","v":21.329536940387502},{"$f":"AH610","v":22.089535298756175},{"$f":"AF610","v":"p30"},null,null,null,null,null,null,{"$f":"W606","v":15.516996411483257},{"$f":"X606","v":10.501119056874646},29,null,{"$f":"DD585+0.2*(DD570-DD585)","v":6.1384124115268586},{"$f":"DE570+0.35*(DE585-DE570)","v":22.587268756611174},"31'r",null,null,null,null,null,{"$f":"DL567","v":10.413908270932607},{"$f":"DM567","v":18.265691432475336},"10r",null,{"$f":"DD613","v":4.9750000000000005},{"$f":"DE613","v":25},"34b",null,{"$f":"U570","v":16.136363636363637},{"$f":"Y570","v":1.6800000000000002},4,null,{"$f":"DT611-DT596+DT597+(DU597-DU596)*TAN(DU607-DU608)","v":-0.5878458420473891},{"$f":"DU611-DU597+DU596","v":18.174701257010188},"p12r",null,null,null,null,null,6.5977247075723398,0,{"$f":"DZ570","v":"1r"},null,null,null,null,null,null,null,null,null,{"$f":"IF(EK577>DE613,DD613,EJ577)","v":5.0681140952831063},{"$f":"IF(EK577>DE613,DE613,EK577)","v":24.5},"34 b یا d2",null,null,null,null,null,null,null,null,null,null,null,null,null,null,null,null,null,null,null,null,null,null,null,null,null,null,null,null,null,null,null,null,null,null,null,null,null,null,null,null,null,null,null,null,null,null,null,null,null,null,null,null,null,null,null,null,null,null,null,null,null,null,null,null,null,null,null,null,null,null,null,null,null,null,null,null,null,null,null,null,null,null,null,null,null,null,null,null,null,null,null,null,null,null,null,null,null,null,null,null,null,null,null,null,null,null,null,null,null,null,null,null,null,null,null,null,null,null,null,null,null,null,null,null,null,null,null,null,null,null,null,null,null,null,null,null,null,null,null,null,null,null,null,null,null,null,null,null,null,null,null,null,null,null,null,null,null,null,null,null,null,null,null,null,null,null,null,null,null,null,null,null,null,null,null,null,null,null,null,null,null,null,null,null,null,null,null,null,null,null,null,null,null,null,null,null,null,null,null,null,null,null,null,null,null,null,null,null,null,null,null,null,null,null,null,null,null,null,null,null,null,null,null,null,null,null,null,null,null,null,null,null,null,null,null,null,null,null,"ارتفاع نیم دایره",{"$f":"NV47*NV10","v":2.7391304347826089},"بزرگی فلش",{"$f":"NZ589","v":-35},{"$f":"OA589","v":{"$error":"#VALUE!"}},{"$f":"NY589","v":"w61"},null,null,null,null,null,"ارتفاع نیم دایره",{"$f":"OG49","v":0.96675191815856776},"بزرگی فلش",{"$f":"OK589","v":-25.083333333333343},{"$f":"OL589","v":19.501278772378519},{"$f":"OJ589","v":"m63"},null,null,null,null,null,"نقاط خروجی","مولفه افقی","مولفه عمودی",{"$f":"OV591","v":-28.857291666666676},{"$f":"OW591","v":19.251278772378519},{"$f":"OU591","v":"h11"}]
[null,null,null,null,null,"t38",{"$f":"'متغیرها '!C662","v":0},null,null,"خط اول","نقطه اول","p17a",{"$f":"AG594","v":13.188912803011144},{"$f":"AH594","v":25.760917995653443},null,null,null,null,null,null,null,26,{"$f":"W600+G574*TAN(0.5*G581*O594)","v":14.808258415054972},{"$f":"X600+G574","v":28.5},null,null,77,{"$f":"AB600-S587*COS(S586+RADIANS(G612))","v":19.124142423728152},{"$f":"AC600+S587*SIN(S586+RADIANS(G612))","v":20.350555894026495},null,null,"p25",{"$f":"AG596+SQRT(POWER((AG579-AG596),2)+POWER((AH579-AH596),2))*G595*SIN(S569)","v":19.655811303129234},{"$f":"AH596-SQRT(POWER((AG579-AG596),2)+POWER((AH579-AH596),2))*G595*COS(S569)","v":20.764195991974187},null,null,null,null,null,null,null,null,null,null,null,null,null,null,null,null,null,null,null,24,{"$f":"BC588+BF588*SIN(RADIANS(BB603)+BB590)","v":8.3578457275097762},{"$f":"BD588+BF588*COS(RADIANS(BB603)+BB590)","v":19.989946479706912},{"$f":"IF(BC589>BC603,ATAN((BD589-BD603)/(BC589-BC603)),ATAN((BD589-BD603)/(BC603-BC589)))","v":0.25083796662904184},{"$f":"IF(BC589>BC603,(BC589-BC603)/COS(BE603),(BC603-BC589)/COS(BE603))","v":2.3475661502026153},{"$f":"AG603","v":19.655811303129234},{"$f":"AH603","v":20.764195991974187},"p25",null,{"$f":"U594","v":5.8977247075723387},{"$f":"Y594","v":25},{"$f":"V594","v":20},null,{"$f":"AB592","v":20.72727272727273},{"$f":"AC592","v":6.3000000000000007},{"$f":"AA592","v":66},null,{"$f":"AB610","v":16.702870274954417},{"$f":"AC610","v":21.044844510353677},{"$f":"AA610","v":83},null,{"$f":"BD569+BE568","v":17.519772727272731},{"$f":"BD570-BE567","v":17.899999999999999},"β13",null,{"$f":"AB579","v":16.479337708720301},{"$f":"AC579","v":20},{"$f":"AA579","v":53},null,{"$f":"AL584","v":12.783454545454546},{"$f":"AM584","v":6.3000000000000007},{"$f":"AK584","v":"p47"},null,{"$f":"AG613","v":7.9626391508111833},{"$f":"AH613","v":21.41786522704184},{"$f":"AF613","v":"p33"},null,null,null,null,null,null,null,null,null,null,null,null,null,null,{"$f":"AG578","v":24.801569041870543},{"$f":"AH578","v":13.337678704827628},"p11",null,{"$f":"DD588","v":-7.532},{"$f":"DE588","v":25},"38'",null,"نقاط  خروجی شلوار متصل به بالاتنه",null,null,null,{"$f":"CZ575","v":-7.532},{"$f":"DA575","v":35.888726831407766},"26'",null,{"$f":"DH608","v":11.86422964275401},18.045428449621653,{"$f":"DJ608","v":"p10r"},null,{"$f":"AE567","v":10},{"$f":"AI567","v":0},"p1",null,{"$f":"DD588","v":-7.532},{"$f":"DE588","v":25},"38'",null,{"$f":"DD588","v":-7.532},{"$f":"DE588","v":25},"38'",null,-0.69635726688011024,8.0641462231620427,{"$f":"DZ590","v":"p8r"},null,null,null,null,null,{"$f":"IF(EK570>DA571,CZ571,EJ570)","v":10.7},{"$f":"IF(EK570>DA571,DA571,EK570)","v":24.865691432475337},"41 b یا d3",null,{"$f":"EJ579","v":11.67042243602474},{"$f":"EK579","v":24.564472535275861},"d3",null,null,null,null,null,null,null,null,null,null,null,null,null,null,null,null,null,null,null,null,null,null,null,null,null,null,null,null,null,null,null,null,null,null,null,null,null,null,null,null,null,null,null,null,null,null,null,null,null,null,null,null,null,null,null,null,null,null,null,null,null,null,null,null,null,null,null,null,null,null,null,null,null,null,null,null,null,null,null,null,null,null,null,null,null,null,null,null,null,null,null,null,null,null,null,null,null,null,null,null,null,null,null,null,null,null,null,null,null,null,null,null,null,null,null,null,null,null,null,null,null,null,null,null,null,null,null,null,null,null,null,null,null,null,null,null,null,null,null,null,null,null,null,null,null,null,null,null,null,null,null,null,null,null,null,null,null,null,null,null,null,null,null,null,null,null,null,null,null,null,null,null,null,null,null,null,null,null,null,null,null,null,null,null,null,null,null,null,null,null,null,null,null,null,null,null,null,null,null,null,null,null,null,null,null,null,null,null,null,null,null,null,null,null,null,null,null,null,null,null,null,null,null,null,null,null,null,null,null,null,null,null,null,null,null,null,null,null,null,null,null,{"$f":"NZ613","v":-21.329687499999999},{"$f":"OA613","v":{"$error":"#VALUE!"}},{"$f":"NY613","v":"h11"},null,null,null,null,null,"m66",{"$f":"OF121","v":-28.492187500000007},{"$f":"OG121","v":20.468030690537088},null,null,null,null,null,null,null,null,"g2",{"$f":"OV601","v":-24.153645833333343},{"$f":"OW601+OV598","v":20.468030690537088}]
[null,null,null,null,null,null,null,null,null,null,null,null,null,null,null,null,null,null,null,null,null,null,null,null,null,null,null,null,null,null,null,null,null,null,null,null,null,null,null,null,null,null,null,null,null,null,null,null,null,null,null,null,null,60,{"$f":"BC588+BF588*SIN(RADIANS(BB621)+BB590)","v":9.7943148871770074},{"$f":"BD588+BF588*COS(RADIANS(BB621)+BB590)","v":20.231051004660895},{"$f":"IF(BC589>BC621,ATAN((BD589-BD621)/(BC589-BC621)),ATAN((BD589-BD621)/(BC621-BC589)))","v":9.180220518299563E-2},{"$f":"IF(BC589>BC621,(BC589-BC621)/COS(BE621),(BC621-BC589)/COS(BE621))","v":3.7262584433205777},null,null,null,null,null,null,null,null,{"$f":"W568","v":26.45454545454546},{"$f":"X568","v":6.3000000000000007},{"$f":"V568","v":2},null,null,null,null,null,null,null,null,null,null,null,null,null,{"$f":"AG567","v":10},{"$f":"AH567","v":6.3000000000000007},{"$f":"AF567","v":"p1"},null,null,null,null,null,null,null,null,null,null,null,null,null,null,null,null,null,null,null,null,null,null,null,null,null,null,null,null,null,null,null,null,null,null,null,null,null,null,{"$f":"LT227","v":0},{"$f":"LU227","v":31.9},"d3",null,null,null,null,null,null,null,null,null,null,null,null,null,null,null,null,null,{"$f":"DD589","v":-8.0177751872021759},{"$f":"DE589","v":17.042999999999999},"14'r",null,null,null,"کمر",null,null,null,null,null,null,null,null,null,null,null,null,null,null,null,null,null,null,null,null,null,null,null,null,null,null,null,null,null,null,null,null,null,null,null,null,null,null,null,null,null,null,null,null,null,null,null,null,null,null,null,null,null,null,null,null,null,null,null,null,null,null,null,null,null,null,null,null,null,null,null,null,null,null,null,null,null,null,null,null,null,null,null,null,null,null,null,null,null,null,null,null,null,null,null,null,null,null,null,null,null,null,null,null,null,null,null,null,null,null,null,null,null,null,null,null,null,null,null,null,null,null,null,null,null,null,null,null,null,null,null,null,null,null,null,null,null,null,null,null,null,null,null,null,null,null,null,null,null,null,null,null,null,null,null,null,null,null,null,null,null,null,null,null,null,null,null,null,null,null,null,null,null,null,null,null,null,null,null,null,null,null,null,null,null,null,null,null,null,null,null,null,null,null,null,null,null,null,null,null,null,null,null,null,null,null,null,null,null,null,null,null,null,null,null,null,null,null,null,null,null,null,null,null,null,null,null,null,null,null,null,null,null,null,null,null,null,null,"نقطه ورودی سر فلش","مولفه افقی","مولفه عمودی",{"$f":"NZ624","v":-32.682676630434784},{"$f":"OA624","v":{"$error":"#VALUE!"}},{"$f":"NY624","v":"f3"},null,null,null,null,null,null,null,null,{"$f":"OF123","v":-13.927083333333327},{"$f":"OG123","v":21.434782608695656},"m68",null,null,null,null,null,"پهنای نیم دایره",{"$f":"OR40","v":0.5},{"$f":"OR51","v":0.5800511508951407},{"$f":"OV627","v":-32.578437500000007},{"$f":"OW627","v":20.603375959079287},{"$f":"OU627","v":"g5"}]
[null,null,null,null,null,null,null,null,null,null,null,null,null,null,null,null,null,null,null,null,null,null,null,null,null,null,null,null,null,null,null,null,null,null,null,null,null,null,null,null,null,null,null,null,null,null,null,null,null,null,null,null,null,null,null,null,null,null,null,null,null,null,null,null,null,null,null,null,null,null,null,null,null,null,null,null,null,null,null,null,null,null,null,null,null,null,null,null,null,null,null,null,null,null,null,null,null,null,null,null,null,null,null,null,null,null,null,null,null,null,null,null,null,null,null,null,null,null,null,null,null,null,null,null,null,null,null,null,null,null,null,null,null,null,null,null,null,null,null,null,null,null,null,null,null,null,null,null,null,null,null,null,null,null,null,null,null,null,null,null,null,null,null,null,null,null,null,null,null,null,null,null,null,null,null,null,null,null,null,null,null,null,null,null,null,null,null,null,null,null,null,null,null,null,null,null,null,null,null,null,null,null,null,null,null,null,null,null,null,null,null,null,null,null,null,null,null,null,null,null,null,null,null,null,null,null,null,null,null,null,null,null,null,null,null,null,null,null,null,null,null,null,null,null,null,null,null,null,null,null,null,null,null,null,null,null,null,null,null,null,null,null,null,null,null,null,null,null,null,null,null,null,null,null,null,null,null,null,null,null,null,null,null,null,null,null,null,null,null,null,null,null,null,null,null,null,null,null,null,null,null,null,null,null,null,null,null,null,null,null,null,null,null,null,null,null,null,null,null,null,null,null,null,null,null,null,null,null,null,null,null,null,null,null,null,null,null,null,null,null,null,null,null,null,null,null,null,null,null,null,null,null,null,null,null,null,null,null,null,null,null,null,null,null,null,null,null,null,null,null,null,null,null,null,null,null,null,null,null,null,null,null,null,null,null,null,null,null,"h8",{"$f":"NZ637-0.5*NZ628","v":-26.0546875},{"$f":"OA633","v":{"$error":"#VALUE!"}},null,null,null,null,null,null,null,null,null,null,null,null,null,null,null,null,null,null,null,"f2",{"$f":"OV637-1*OV635","v":-31.055571984228479},{"$f":"OW637-OV634*OV635","v":21.144757033248087},{"$f":"OV637","v":-30.475520833333338},{"$f":"OW637","v":21.434782608695656},{"$f":"OU637","v":"m71"}]
[null,null,null,null,null,null,null,null,null,null,null,null,null,null,null,null,null,null,null,null,null,null,null,null,null,null,null,null,null,null,null,null,null,null,null,null,null,null,null,null,null,null,null,null,null,null,null,null,null,null,null,null,null,null,null,null,null,null,null,null,null,null,null,null,null,null,null,null,null,null,null,null,null,null,null,null,null,null,null,null,null,null,null,null,null,null,null,null,null,null,null,null,null,null,null,null,null,null,null,null,null,null,null,null,null,null,null,null,null,null,null,null,null,null,null,null,null,null,null,null,null,null,null,null,null,null,null,null,null,null,null,null,null,null,null,null,null,null,null,null,null,null,null,null,null,null,null,null,null,null,null,null,null,null,null,null,null,null,null,null,null,null,null,null,null,null,null,null,null,null,null,null,null,null,null,null,null,null,null,null,null,null,null,null,null,null,null,null,null,null,null,null,null,null,null,null,null,null,null,null,null,null,null,null,null,null,null,null,null,null,null,null,null,null,null,null,null,null,null,null,null,null,null,null,null,null,null,null,null,null,null,null,null,null,null,null,null,null,null,null,null,null,null,null,null,null,null,null,null,null,null,null,null,null,null,null,null,null,null,null,null,null,null,null,null,null,null,null,null,null,null,null,null,null,null,null,null,null,null,null,null,null,null,null,null,null,null,null,null,null,null,null,null,null,null,null,null,null,null,null,null,null,null,null,null,null,null,null,null,null,null,null,null,null,null,null,null,null,null,null,null,null,null,null,null,null,null,null,null,null,null,null,null,null,null,null,null,null,null,null,null,null,null,null,null,null,null,null,null,null,null,null,null,null,null,null,null,null,null,null,null,null,null,null,null,null,null,null,null,null,null,null,null,null,null,null,null,null,null,null,null,null,null,null,null,null,null,null,"نقطه پایان رج(راست)","مولفه افقی","مولفه عمودی",{"$f":"NZ664","v":1.0760416666666623},{"$f":"OA664","v":{"$error":"#VALUE!"}},{"$f":"NY664","v":"h13"},null,null,null,null,null,"g2",{"$f":"OK653","v":-13.927083333333327},{"$f":"OL653+OK650","v":22.401534526854224},null,null,null,null,null,null,null,null,"نقطه ورودی سر فلش","مولفه افقی","مولفه عمودی",{"$f":"OV656","v":-24.922187500000003},{"$f":"OW656","v":21.434782608695656},{"$f":"OU656","v":"m70"}]
[null,null,null,null,null,null,null,null,null,null,null,null,null,null,null,null,null,null,null,null,null,null,null,null,null,null,null,null,null,null,null,null,null,null,null,null,null,null,null,null,null,null,null,null,null,null,null,null,null,null,null,null,null,null,null,null,null,null,null,null,null,null,null,null,null,null,null,null,null,null,null,null,null,null,null,null,null,null,null,null,null,null,null,null,null,null,null,null,null,null,null,null,null,null,null,null,null,null,null,null,null,null,null,null,null,null,null,null,null,null,null,null,null,null,null,null,null,null,null,null,null,null,null,null,null,null,null,null,null,null,null,null,null,null,null,null,null,null,null,null,null,null,null,null,null,null,null,null,null,null,null,null,null,null,null,null,null,null,null,null,null,null,null,null,null,null,null,null,null,null,null,null,null,null,null,null,null,null,null,null,null,null,null,null,null,null,null,null,null,null,null,null,null,null,null,null,null,null,null,null,null,null,null,null,null,null,null,null,null,null,null,null,null,null,null,null,null,null,null,null,null,null,null,null,null,null,null,null,null,null,null,null,null,null,null,null,null,null,null,null,null,null,null,null,null,null,null,null,null,null,null,null,null,null,null,null,null,null,null,null,null,null,null,null,null,null,null,null,null,null,null,null,null,null,null,null,null,null,null,null,null,null,null,null,null,null,null,null,null,null,null,null,null,null,null,null,null,null,null,null,null,null,null,null,null,null,null,null,null,null,null,null,null,null,null,null,null,null,null,null,null,null,null,null,null,null,null,null,null,null,null,null,null,null,null,null,null,null,null,null,null,null,null,null,null,null,null,null,null,null,null,null,null,null,null,null,null,null,null,null,null,null,null,null,null,null,null,null,null,null,null,null,null,null,null,null,null,null,null,null,null,null,null,null,null,null,null,null,"w66",{"$f":"NU113","v":4.4114583333333286},{"$f":"NV113","v":{"$error":"#VALUE!"}},null,null,null,null,null,null,null,null,"g4",{"$f":"OK653+OK651*OK649/40","v":-13.402083333333326},{"$f":"OL653+0.5*OK650","v":21.918158567774938},{"$f":"OK660","v":-13.709188153406966},{"$f":"OL660","v":21.828804115117283},{"$f":"OJ660","v":"g8"},null,null,null,null,null,"m70",{"$f":"OQ125","v":-24.922187500000003},{"$f":"OR125","v":21.434782608695656},{"$f":"OV657","v":-25.212213075447572},{"$f":"OW657","v":21.821483375959083},{"$f":"OU657","v":"f6"}]
[null,null,null,null,null,null,null,null,null,null,null,null,null,null,null,null,null,null,null,null,null,null,null,null,null,null,null,null,null,null,null,null,null,null,null,null,null,null,null,null,null,null,null,null,null,null,null,null,null,null,null,null,null,null,null,null,null,null,null,null,null,null,null,null,null,null,null,null,null,null,null,null,null,null,null,null,null,null,null,null,null,null,null,null,null,null,null,null,null,null,null,null,null,null,null,null,null,null,null,null,null,null,null,null,null,null,null,null,null,null,null,null,null,null,null,null,null,null,null,null,null,null,null,null,null,null,null,null,null,null,null,null,null,null,null,null,null,null,null,null,null,null,null,null,null,null,null,null,null,null,null,null,null,null,null,null,null,null,null,null,null,null,null,null,null,null,null,null,null,null,null,null,null,null,null,null,null,null,null,null,null,null,null,null,null,null,null,null,null,null,null,null,null,null,null,null,null,null,null,null,null,null,null,null,null,null,null,null,null,null,null,null,null,null,null,null,null,null,null,null,null,null,null,null,null,null,null,null,null,null,null,null,null,null,null,null,null,null,null,null,null,null,null,null,null,null,null,null,null,null,null,null,null,null,null,null,null,null,null,null,null,null,null,null,null,null,null,null,null,null,null,null,null,null,null,null,null,null,null,null,null,null,null,null,null,null,null,null,null,null,null,null,null,null,null,null,null,null,null,null,null,null,null,null,null,null,null,null,null,null,null,null,null,null,null,null,null,null,null,null,null,null,null,null,null,null,null,null,null,null,null,null,null,null,null,null,null,null,null,null,null,null,null,null,null,null,null,null,null,null,null,null,null,null,null,null,null,null,null,null,null,null,null,null,null,null,null,null,null,null,null,null,null,null,null,null,null,null,null,null,null,null,null,null,null,null,null,null,"g11",{"$f":"NZ677+0.8*(NZ675-NZ677)","v":4.9049583333333286},{"$f":"OA675+0.6*(OA677-OA675)","v":{"$error":"#VALUE!"}},{"$f":"NZ674","v":4.4114583333333286},{"$f":"OA674","v":{"$error":"#VALUE!"}},{"$f":"NY674","v":"g2"},null,null,null,null,null,"h5",{"$f":"OK669+0.5*(OK671-OK669)","v":-17.335937499999993},{"$f":"OL669","v":22.401534526854224},{"$f":"OK678","v":-16.660937499999992},{"$f":"OL678","v":22.151534526854224},{"$f":"OJ678","v":"h12"}]
[null,null,null,null,null,null,"پایه",{"$f":"('متغیرها '!C700+0.1)*H699","v":1.1004242805134299},"c1*c9",null,{"$f":"-G685","v":7.532},{"$f":"H685","v":17.899999999999999},"قرینه 1'",null,null,null,null,null,null,"پایه",{"$f":"DH682","v":1.8340404675223829},"c1*c9",null,{"$f":"-T685","v":7.532},{"$f":"U685","v":17.899999999999999},"قرینه 1'",null,null,null,null,null,"پایه",{"$f":"0.4*'متغیرها '!C743*AG699","v":0.9781549160119376},"c1*c9",null,{"$f":"-AF685","v":7.532},{"$f":"AG685","v":17.899999999999999},"قرینه 1'",null,null,null,null,null,null,null,{"$f":"DP682","v":1.4672323740179065},"c1*c9",null,{"$f":"AS685","v":-7.532},{"$f":"AT685","v":17.899999999999999},"1'",null,null,null,null,null,{"$f":"BE688+0.85*(BE689-BE688)","v":7.6720171850906294},{"$f":"BF688+0.57*(BF689-BF688)","v":37.200546610141352},"m6",null,{"$f":"BE694","v":-5.501815001605495},34.983044623453267,"قرینهm5",null,{"$f":"BI691+BF702","v":-5.501815001605495},{"$f":"BJ691+BF703","v":34.983044623453267},"قرینهm5",null,{"$f":"-BQ681","v":-5.9244108634080561},{"$f":"BR681","v":36.550688577032062},"قرینه51",null,null,null,null,null,null,null,null,null,null,null,null,null,null,{"$f":"'متغیرها '!C51","v":0},"شیفت افقی",null,null,null,null,null,null,{"$f":"CL694+CH700","v":4.0114231466437147},{"$f":"CM694+CH701","v":43.992550584402984},"g3",null,null,null,"(1 → 11)",{"$f":"CW688+0.4*(CW693-CW688)","v":3.057451737657193},null,0,{"$f":"CW684","v":1.1929540894181538},4,null,null,null,"مشترک",null,{"$f":"DG690","v":-30},{"$f":"DH682+DH690","v":31.834040467522382},2,null,-18.038692814270256,30.423912402441271,9,null,{"$f":"DO690","v":-30},{"$f":"DP682+DP690","v":31.467232374017907},2,null,-18.1272373982586,31.252914643495668,9,null,"c19",0.3,null,null,null,null,null,null,"c18",0.35,null,null,{"$f":"-(EE701-EE697)+EE697","v":-36.342330611813381},{"$f":"EF701","v":29.643896833913317},"قرینه5",null,"(1 → 14)",{"$f":"EN690+0.5*(EN693-EN690)","v":3.611060177903731},null,null,{"$f":"EN697+'متغیرها '!C729","v":-20.01515415364284},{"$f":"EN698+'متغیرها '!C730","v":22.705980872812148},21,null,"(10 → 11)",{"$f":"0.75*EV693","v":4.4446293654002487},null,null,null,null,null,{"$f":"EX694+EY728","v":-13.86655196576843},{"$f":"EY694+EY729","v":42.080190345737734},23,null,"(1 → 11)",{"$f":"FG689+0.65*(FG681-FG689)","v":16.170484249065225},null,null,{"$f":"FG700+'متغیرها '!C729","v":-18.528689198556918},{"$f":"FG701+'متغیرها '!C730","v":22.705980872812148},21,null,"(1 → 3)",{"$f":"FO692+0.95*G242+1.45*GC680","v":21.48573232905682},null,{"$f":"FO694","v":2.5435940434763062},{"$f":"FO697","v":21.48984627205046},9,null,{"$f":"FQ698+FO729","v":-26.015158084795484},{"$f":"FR698+FO730","v":46.695121032857116},12,null,null,null,"خطوط برش",null,"(10 → 11)",{"$f":"GD695+GD712*(GD687-GD695)","v":16.010412591648759},null,0,{"$f":"GD685","v":18.792749575911454},5,null,null,null,null,null,{"$f":"GN681","v":-30},{"$f":"GO681","v":48.1080411347031},4,null,null,null,null,null,null,null,null,null,null,null,null,null,null,null,null,null,null,null,null,null,null,null,null,null,null,null,null,null,null,null,null,null,null,null,null,null,null,null,null,null,null,null,null,null,null,null,null,null,null,null,null,null,null,null,null,null,null,null,null,null,null,null,null,null,null,null,null,null,null,null,null,null,null,null,null,null,null,null,null,null,null,null,null,null,null,null,null,null,null,null,null,null,null,null,null,null,null,null,null,null,null,null,null,null,null,null,null,null,null,null,null,null,null,null,null,null,null,null,null,null,null,null,null,null,null,null,null,null,null,null,null,null,null,null,null,null,null,null,null,null,null,null,null,null,null,null,null,null,null,null,null,null,null,null,null,null,null,null,null,null,null,null,null,null,null,null,null,null,null,null,null,null,null,null,null,null,null,null,null,null,null,null,null,null,null,null,null,null,null,null,"متغیرهای ورودی",null,{"$f":"NZ697","v":-43.020833333333329},{"$f":"OA697","v":{"$error":"#VALUE!"}},{"$f":"NY697","v":"w70"},null,null,null,null,null,"g5",{"$f":"OK687+0.7*(OK690-OK687)","v":-21.112291666666657},{"$f":"OL687+0.28*(OL690-OL687)","v":22.536879795396423},{"$f":"OK688","v":-21.238291666666655},{"$f":"OL688","v":23.093728900255758},{"$f":"OJ688","v":"g11"},null,null,null,null,null,"h13",{"$f":"OV687","v":-18.210416666666664},{"$f":"OW688","v":22.651534526854224},{"$f":"OV683","v":-14.85677083333333},{"$f":"OW683","v":22.401534526854224},{"$f":"OU683","v":"m72"}]
[null,null,null,null,null,null,{"$f":"IF(H688=-1,G683,IF((1-H688)*H690<H697,G684+(1-H688)*H690*COS(H696),IF((1-H688)*H690<H697+H698,G681+((1-H688)*H690-H697)*COS(H694),G682+((1-H688)*H690-H697-H698)*COS(H695))))","v":0},{"$f":"IF(H688=-1,H683,IF(G708<G681,H684+(G708-G684)*TAN(H696),IF(G708<G682,H681+(G708-G681)*TAN(H694),H682+(G708-G682)*TAN(H695))))","v":35.888726831407766},"m9",null,{"$f":"G729","v":0.91200784483184116},{"$f":"H729","v":33.228522973404225},"m12",null,{"$f":"K708+H733","v":0.91200784483184116},{"$f":"L708+H734","v":33.228522973404225},"m12",null,null,{"$f":"IF(U688=-1,T683,IF((1-U688)*U690<U697,T684+(1-U688)*U690*COS(U696),IF((1-U688)*U690<U697+U698,T681+((1-U688)*U690-U697)*COS(U694),T682+((1-U688)*U690-U697-U698)*COS(U695))))","v":0},{"$f":"IF(U688=-1,U683,IF(T708<T681,U684+(T708-T684)*TAN(U696),IF(T708<T682,U681+(T708-T681)*TAN(U694),U682+(T708-T682)*TAN(U695))))","v":35.888726831407766},"m9",null,{"$f":"T729","v":2.9933952809330715},{"$f":"U729","v":35.557493220061687},"m12",null,{"$f":"X708+U733","v":2.9933952809330715},{"$f":"Y708+U734","v":35.557493220061687},"m12",null,{"$f":"IF(AG688=-1,AF683,IF((1-AG688)*AG690<AG697,AF684+(1-AG688)*AG690*COS(AG696),IF((1-AG688)*AG690<AG697+AG698,AF681+((1-AG688)*AG690-AG697)*COS(AG694),AF682+((1-AG688)*AG690-AG697-AG698)*COS(AG695))))","v":0},{"$f":"IF(AG688=-1,AG683,IF(AF708<AF681,AG684+(AF708-AF684)*TAN(AG696),IF(AF708<AF682,AG681+(AF708-AF681)*TAN(AG694),AG682+(AF708-AF682)*TAN(AG695))))","v":35.888726831407766},"m9",null,{"$f":"AF729","v":0.88808812029349238},{"$f":"AG729","v":33.220442295274985},"m12",null,{"$f":"AJ708+AG710","v":0.88808812029349238},{"$f":"AK708+AG711","v":33.220442295274985},"m12",null,null,{"$f":"IF(AT688=-1,AS683,IF((1-AT688)*AT690<AT697,AS684+(1-AT688)*AT690*COS(AT696),IF((1-AT688)*AT690<AT697+AT698,AS681+((1-AT688)*AT690-AT697)*COS(AT694),AS682+((1-AT688)*AT690-AT697-AT698)*COS(AT695))))","v":0},{"$f":"IF(AT688=-1,AT683,IF(AS708<AS681,AT684+(AS708-AS684)*TAN(AT696),IF(AS708<AS682,AT681+(AS708-AS681)*TAN(AT694),AT682+(AS708-AS682)*TAN(AT695))))","v":35.888726831407766},"m9",null,{"$f":"-AS708","v":0},{"$f":"AT708","v":35.888726831407766},"قرینهm9",null,{"$f":"AW708+AS725","v":0},{"$f":"AX708+AS726","v":35.888726831407766},"قرینهm9",null,null,null,null,null,null,null,"ب ب گرد",null,null,null,"ب ب گرد",null,null,null,null,null,null,null,null,null,{"$f":"BY705+0.5*(BY706-BY705)","v":4.3794399503127357},{"$f":"BZ705+0.15*(BZ706-BZ705)","v":37.869039676450868},"m10",null,{"$f":"BY710","v":-8.7588799006254714},{"$f":"BZ710","v":40.785669905981692},{"$f":"CA710","v":"قرینهm4"},null,null,null,null,null,null,null,null,null,null,null,null,null,null,null,null,"(27 → 28)",{"$f":"CW687+0.65*(K144-CW680*SIN(EY679)+CW680)*SIN(EY679+EY678)-(1-0.75)*(AA146+CW680*COS(EY679))*COS(EY679+EY678)","v":10.424074507793211},null,null,null,null,null,null,null,"مشترک",null,"c8",{"$f":"DP680","v":6.3589851086907654},"نصف نوار گردن از پشت برای یقه یاز شده",null,{"$f":"DG694","v":-23.642207387373748},30.095384776630361,5,null,null,null,null,null,{"$f":"DO694","v":-23.651760811440791},30.286154329891083,5,null,{"$f":"DW707+DX690*DX681*IF(DX687>=0,DX687,1)*COS(DX689)","v":-18.015804309415408},{"$f":"DX707+DX690*DX681*IF(DX687>=0,DX687,1)*SIN(DX689)","v":27.658596405650865},9,null,{"$f":"DW710","v":-14.832259751619297},{"$f":"DX710","v":30.570761105575031},15,null,null,null,null,null,null,null,null,null,"(27 →28)",{"$f":"EN698","v":2.7059808728121473},"عمود",null,{"$f":"EN707+'متغیرها '!C729+EN745","v":-9.8999999999999986},{"$f":"EN709+'متغیرها '!C730","v":51.383664695408186},29,null,"(1 → 28)",{"$f":"0.5*EV685","v":8.2067846673016405},null,{"$f":"EV693","v":5.9261724872003319},{"$f":"EV692","v":20.505481356980738},13,null,{"$f":"EX711+EY728","v":-20.846703202524441},{"$f":"EY711+EY729","v":52.958757928335309},27,null,"مولفه افقی","مولفه عمودی","اسم نقطه ",null,null,null,null,null,"(18 → 19)",{"$f":"FO703-H235*H124*SIN(O232)","v":13.483131466479048},null,{"$f":"FQ703","v":4.8658542986202402},{"$f":"FR703","v":13.483131466479048},19,null,{"$f":"FQ715+FO729","v":-25.725270124273944},{"$f":"FR715+FO730","v":30.616237597087519},"p6",null,null,null,null,null,"γ11      ",{"$f":"'متغیرها '!C150","v":2},null,{"$f":"GF698+P227","v":9.042330992057785},{"$f":"GG698-P226","v":8.8673682396849909},"19'",null,{"$f":"GJ680","v":-30.11780791355735},{"$f":"GK680","v":51.481618386063175},24,null,{"$f":"GJ704","v":-19.238702113722177},{"$f":"GK704","v":42.197442331638953},23,null,null,null,null,null,null,null,null,null,null,null,null,null,null,null,null,null,null,null,null,null,null,null,null,null,null,null,null,null,null,null,null,null,null,null,null,null,null,null,null,null,null,null,null,null,null,null,null,null,null,null,null,null,null,null,null,null,null,null,null,null,null,null,null,null,null,null,null,null,null,null,null,null,null,null,null,null,null,null,null,null,null,null,null,null,null,null,null,null,null,null,null,null,null,null,null,null,null,null,null,null,null,null,null,null,null,null,null,null,null,null,null,null,null,null,null,null,null,null,null,null,null,null,null,null,null,null,null,null,null,null,null,null,null,null,null,null,null,null,null,null,null,null,null,null,null,null,null,null,null,null,null,null,null,null,null,null,null,null,null,null,null,null,null,null,null,null,null,null,null,null,null,null,null,null,null,null,null,null,null,null,null,null,null,null,null,null,null,null,null,null,null,null,null,null,null,null,null,null,null,null,"نقطه شروع انحنا","مولفه افقی","مولفه عمودی",{"$f":"OK712","v":-13.402083333333326},{"$f":"OL712","v":23.851662404092075},{"$f":"OJ712","v":"g4"},null,null,null,null,null,"زاویه فلش",{"$f":"OR44","v":0.5},"f5",null,null,"فلش به سمت راست"]
[null,null,null,null,null,null,null,{"$f":"ATAN((H730-H729)/(G730-G729))","v":0.97634466858915248},"m16",null,{"$f":"G684","v":0},{"$f":"H684","v":35.888726831407766},26,null,{"$f":"K725+H733","v":0},{"$f":"L725+H734","v":35.888726831407766},26,null,null,null,{"$f":"ATAN((U730-U729)/(T730-T729))","v":0.98954386905067881},"m16",null,{"$f":"T684","v":0},{"$f":"U684","v":35.888726831407766},26,null,{"$f":"X725+U733","v":0},{"$f":"Y725+U734","v":35.888726831407766},26,null,null,{"$f":"ATAN((AG730-AG729)/(AF730-AF729))","v":0.9674582745717446},"m16",null,{"$f":"AF684","v":0},{"$f":"AG684","v":35.888726831407766},26,null,{"$f":"AJ725+AG710","v":0},{"$f":"AK725+AG711","v":35.888726831407766},26,null,null,{"$f":"C100","v":0},"شیفت افقی کل جلو",null,null,-5.9244108634080561,41.300688577032062,"قرینه 25",null,{"$f":"AW725+AS725","v":-5.9244108634080561},{"$f":"AX725+AS726","v":41.300688577032062},"قرینه 25",null,null,null,null,null,null,null,null,null,null,null,null,null,null,null,null,null,null,null,null,null,null,null,null,null,{"$f":"BY708+BZ714","v":4.3794399503127357},{"$f":"BZ708+BZ715","v":37.869039676450868},{"$f":"CA708","v":"m10"},null,null,null,null,null,null,null,null,null,null,null,null,null,null,null,null,{"$f":"DC692-CW677","v":0},{"$f":"DD692-CW680-CW678","v":-0.59096280223392839},35,{"$f":"CW708","v":10.424074507793211},{"$f":"CW707","v":8.0850318969426791},28,null,null,null,null,null,{"$f":"DG722+0.33*DH715*COS(0.6*DH711)","v":8.61874416536293},{"$f":"DH722+0.33*DH715*SIN(0.6*DH711)","v":34.912472397295915},8,null,{"$f":"DG725","v":8.61874416536293},34.912472397295915,8,null,null,null,null,null,null,null,null,null,null,null,null,null,{"$f":"DW715","v":-30},{"$f":"DX715","v":25.978154916011938},20,null,null,null,null,null,null,null,null,null,"نقاط  ورودی ",null,null,null,{"$f":"0+'متغیرها '!C729","v":-30},{"$f":"0+'متغیرها '!C730","v":20},1,null,"(16 → 17)",{"$f":"EV693+(K114-(1-'متغیرها '!C738)*H124)*SIN(EY678+EY679)-('متغیرها '!C66*(2*H129+H130)+AA146)*COS(EY678+EY679)","v":3.8320890279485873},null,null,null,null,null,{"$f":"FB723","v":-26.167910972051413},{"$f":"FC723","v":57.947295187670662},17,null,null,null,null,null,null,null,null,null,"شیفت عمودی پایه",{"$f":"'متغیرها '!C180","v":0},null,{"$f":"FQ708","v":4.8658542986202402},{"$f":"FR708","v":13.483131466479048},19,null,{"$f":"FQ697+FO729","v":-27.456405956523692},{"$f":"FR697+FO730","v":48.792749575911458},8,null,null,null,null,null,null,null,null,null,null,null,null,null,null,null,null,null,null,null,null,null,null,null,null,null,null,null,null,null,null,null,null,null,null,null,null,null,null,null,null,null,null,null,null,null,null,null,null,null,null,null,null,null,null,null,null,null,null,null,null,null,null,null,null,null,null,null,null,null,null,null,null,null,null,null,null,null,null,null,null,null,null,null,null,null,null,null,null,null,null,null,null,null,null,null,null,null,null,null,null,null,null,null,null,null,null,null,null,null,null,null,null,null,null,null,null,null,null,null,null,null,null,null,null,null,null,null,null,null,null,null,null,null,null,null,null,null,null,null,null,null,null,null,null,null,null,null,null,null,null,null,null,null,null,null,null,null,null,null,null,null,null,null,null,null,null,null,null,null,null,null,null,null,null,null,null,null,null,null,null,null,null,null,null,null,null,null,null,null,null,null,null,null,null,null,null,null,null,null,null,null,null,null,null,null,null,null,null,null,null,null,null,{"$f":"NU119","v":-31.860937499999999},{"$f":"NV119","v":{"$error":"#VALUE!"}},"w72",null,null,null,null,null,"m79",{"$f":"OF134","v":-14.546874999999993},{"$f":"OG134","v":24.33503836317136},{"$f":"OK726","v":-14.836900575447563},{"$f":"OL726","v":24.721739130434788},{"$f":"OJ726","v":"f6"},null,null,null,null,null,"g5",{"$f":"OV721+0.7*(OV724-OV721)","v":-14.489270833333331},{"$f":"OW721+0.28*(OW724-OW721)","v":23.503631713554991},{"$f":"OV722","v":-14.363270833333329},{"$f":"OW722","v":24.060480818414327},{"$f":"OU722","v":"g11"}]
[null,null,null,null,null,null,null,null,null,null,null,null,null,null,null,null,null,null,null,null,null,null,null,null,null,null,null,null,null,null,null,null,null,null,null,null,null,null,null,null,null,null,null,null,null,null,null,null,null,null,null,null,null,null,null,null,null,null,null,null,null,null,null,null,null,null,null,null,null,null,null,null,null,null,null,null,null,null,null,null,null,null,null,null,null,null,null,null,null,null,null,null,null,null,null,null,null,null,null,null,null,null,null,null,null,null,null,null,null,null,null,null,null,null,null,null,null,null,null,null,null,null,null,null,null,null,null,null,null,null,null,null,null,null,null,null,null,null,null,null,null,null,{"$f":"EM731","v":-13.414999999999999},{"$f":"EN742","v":49.445664695408183},43,null,null,null,null,null,null,null,null,null,null,null,null,null,null,null,null,null,null,null,null,null,null,null,null,{"$f":"FN742","v":2.8985242559105888},{"$f":"FO741","v":0.68470844120835628},"p12",null,"γ20",{"$f":"'متغیرها '!C160","v":0},null,null,null,null,null,null,null,null,null,null,null,null,null,null,null,null,null,null,null,null,null,null,null,null,null,null,null,null,null,null,null,null,null,null,null,null,null,null,null,null,null,null,null,null,null,null,null,null,null,null,null,null,null,null,null,null,null,null,null,null,null,null,null,null,null,null,null,null,null,null,null,null,null,null,null,null,null,null,null,null,null,null,null,null,null,null,null,null,null,null,null,null,null,null,null,null,null,null,null,null,null,null,null,null,null,null,null,null,null,null,null,null,null,null,null,null,null,null,null,null,null,null,null,null,null,null,null,null,null,null,null,null,null,null,null,null,null,null,null,null,null,null,null,null,null,null,null,null,null,null,null,null,null,null,null,null,null,null,null,null,null,null,null,null,null,null,null,null,null,null,null,null,null,null,null,null,null,null,null,null,null,null,null,null,null,null,null,null,null,null,null,null,null,null,null,null,null,null,null,null,null,null,null,null,null,null,null,null,null,null,null,null,null,"w74",{"$f":"NU121","v":-3.6093750000000036},{"$f":"NV121","v":{"$error":"#VALUE!"}},null,null,null,null,null,null,null,null,"m81",{"$f":"OF136","v":-28.988020833333337},{"$f":"OG136","v":24.33503836317136},null,null,null,null,null,null,null,null,"بزرگی فلش دانه",{"$f":"OR46","v":0.4},"f10",{"$f":"OV750","v":-21.624895833333333},{"$f":"OW750","v":24.935038363171362},{"$f":"OU750","v":"f8"}]
[null,null,null,null,null,null,null,null,null,null,null,null,null,null,null,null,null,null,null,null,null,null,null,null,null,null,null,null,null,null,null,null,null,null,null,null,null,null,null,null,null,null,null,null,null,null,null,null,null,null,null,null,null,null,null,null,null,null,null,null,null,null,null,null,null,null,null,null,null,null,null,null,null,null,null,null,null,null,null,null,null,null,null,null,null,null,null,null,null,null,null,null,null,null,null,null,null,null,null,null,null,null,null,null,null,null,null,null,null,null,null,null,null,null,null,null,null,null,null,null,null,null,null,null,null,null,null,null,null,null,null,null,null,null,null,null,null,null,null,null,null,null,null,null,null,null,null,null,null,null,null,null,null,null,null,null,null,null,null,null,null,null,null,null,null,null,null,null,null,null,null,null,null,null,null,null,null,null,null,null,null,null,null,null,null,null,null,null,null,null,null,null,null,null,null,null,null,null,null,null,null,null,null,null,null,null,null,null,null,null,null,null,null,null,null,null,null,null,null,null,null,null,null,null,null,null,null,null,null,null,null,null,null,null,null,null,null,null,null,null,null,null,null,null,null,null,null,null,null,null,null,null,null,null,null,null,null,null,null,null,null,null,null,null,null,null,null,null,null,null,null,null,null,null,null,null,null,null,null,null,null,null,null,null,null,null,null,null,null,null,null,null,null,null,null,null,null,null,null,null,null,null,null,null,null,null,null,null,null,null,null,null,null,null,null,null,null,null,null,null,null,null,null,null,null,null,null,null,null,null,null,null,null,null,null,null,null,null,null,null,null,null,null,null,null,null,null,null,null,null,null,null,null,null,null,null,null,null,null,null,null,null,null,null,null,null,null,null,null,null,null,null,null,null,null,null,null,null,null,null,null,null,null,null,null,null,null,null,"نقطه پایان رج(راست)","مولفه افقی","مولفه عمودی",{"$f":"NZ768","v":-22.65234375},{"$f":"OA768","v":2.5108695652173911},{"$f":"NY768","v":"h13"},null,null,null,null,null,null,null,null,{"$f":"OF137","v":-30.661458333333339},{"$f":"OG137","v":25.301790281329929},"m82",null,null,null,null,null,"ارتفاع نیم دایره",{"$f":"OR49","v":0.96675191815856776},"بزرگی فلش",{"$f":"OV763","v":-30.971354166666675},{"$f":"OW763","v":24.33503836317136},{"$f":"OU763","v":"m78"}]
[null,null,null,null,null,null,null,null,null,null,null,null,null,null,null,null,null,null,null,null,null,null,null,null,null,null,null,null,null,null,null,null,null,null,null,null,null,null,null,null,null,null,null,null,null,null,null,null,null,null,null,null,null,null,null,null,null,null,null,null,null,null,null,null,null,null,null,null,null,null,null,null,null,null,null,null,null,null,null,null,null,null,null,null,null,null,null,null,null,null,null,null,null,null,null,null,null,null,null,null,null,null,null,null,null,null,null,null,null,null,null,null,null,null,null,null,null,null,null,null,null,null,null,null,null,null,null,null,null,null,null,null,null,null,null,null,null,null,null,null,null,null,null,null,null,null,null,null,null,null,null,null,null,null,null,null,null,null,null,null,null,null,null,null,null,null,null,null,null,null,null,null,null,null,null,null,null,null,null,null,null,null,null,null,null,null,null,null,null,null,null,null,null,null,null,null,null,null,null,null,null,null,null,null,null,null,null,null,null,null,null,null,null,null,null,null,null,null,null,null,null,null,null,null,null,null,null,null,null,null,null,null,null,null,null,null,null,null,null,null,null,null,null,null,null,null,null,null,null,null,null,null,null,null,null,null,null,null,null,null,null,null,null,null,null,null,null,null,null,null,null,null,null,null,null,null,null,null,null,null,null,null,null,null,null,null,null,null,null,null,null,null,null,null,null,null,null,null,null,null,null,null,null,null,null,null,null,null,null,null,null,null,null,null,null,null,null,null,null,null,null,null,null,null,null,null,null,null,null,null,null,null,null,null,null,null,null,null,null,null,null,null,null,null,null,null,null,null,null,null,null,null,null,null,null,null,null,null,null,null,null,null,null,null,null,null,null,null,null,null,null,null,null,null,null,null,null,null,null,null,null,null,null,null,null,null,null,null,"h5",{"$f":"NZ774+0.5*(NZ776-NZ774)","v":-11.457031250000002},{"$f":"OA774","v":2.2608695652173911},{"$f":"NZ781","v":-17.757031250000001},{"$f":"OA781","v":2.0108695652173911},{"$f":"NY781","v":"h11"},null,null,null,null,null,"f8",{"$f":"OK774","v":-30.041666666666671},{"$f":"OL774+2*OK769","v":25.90179028132993},{"$f":"OK776","v":-29.751641091219103},{"$f":"OL776","v":25.688491048593356},{"$f":"OJ776","v":"f7"},null,null,null,null,null,"m85",{"$f":"OQ140","v":-29.35989583333334},{"$f":"OR140","v":25.301790281329929}]
[null,null,null,null,null,null,null,null,null,null,null,null,null,null,null,null,null,null,null,null,null,null,null,null,null,null,null,null,null,null,null,null,null,null,null,null,null,null,null,null,null,null,null,null,null,null,null,null,null,null,null,null,null,null,null,null,null,null,null,null,null,null,null,null,null,null,null,null,null,null,null,null,null,null,null,null,null,null,null,null,null,null,null,null,null,null,null,null,null,null,null,null,null,null,null,null,null,null,null,null,null,null,null,null,null,null,null,null,null,null,null,null,null,null,null,null,null,null,null,null,null,null,null,null,null,null,null,null,null,null,null,null,null,null,null,null,null,null,null,null,null,null,null,null,null,null,null,null,null,null,null,null,null,null,null,null,null,null,null,null,null,null,null,null,null,null,null,null,null,null,null,null,null,null,null,null,null,null,null,null,null,null,null,null,null,null,null,null,null,null,null,null,null,null,null,null,null,null,null,null,null,null,null,null,null,null,null,null,null,null,null,null,null,null,null,null,null,null,null,null,null,null,null,null,null,null,null,null,null,null,null,null,null,null,null,null,null,null,null,null,null,null,null,null,null,null,null,null,null,null,null,null,null,null,null,null,null,null,null,null,null,null,null,null,null,null,null,null,null,null,null,null,null,null,null,null,null,null,null,null,null,null,null,null,null,null,null,null,null,null,null,null,null,null,null,null,null,null,null,null,null,null,null,null,null,null,null,null,null,null,null,null,null,null,null,null,null,null,null,null,null,null,null,null,null,null,null,null,null,null,null,null,null,null,null,null,null,null,null,null,null,null,null,null,null,null,null,null,null,null,null,null,null,null,null,null,null,null,null,null,null,null,null,null,null,null,null,null,null,null,null,null,null,null,null,null,null,null,null,null,null,null,null,null,null,null,null,null,null,null,null,null,null,null,null,null,null,null,null,"طول باکس نوشته",{"$f":"1*OG41","v":4.5},"h3",{"$f":"OK804","v":-24.854166666666668},{"$f":"OL804","v":26.268542199488497},{"$f":"OJ804","v":"h8"},null,null,null,null,null,"نسبت سایز افقی",{"$f":"OR38","v":42},"انحنا چپگرد ",null,null,{"$f":"OW794","v":"انحنا چپگرد "}]
[null,null,null,null,null,null,null,null,null,null,null,null,null,null,null,null,null,null,null,null,null,null,null,null,null,null,null,null,null,null,null,null,null,null,null,null,null,null,null,null,null,null,null,null,null,null,null,null,null,null,null,null,null,null,null,null,null,null,null,null,null,null,null,null,null,null,null,null,null,null,null,null,null,null,null,null,null,null,null,null,null,null,null,null,null,null,null,null,null,null,null,null,null,null,null,null,null,null,null,null,null,null,null,null,null,null,null,null,null,null,null,null,null,null,null,null,null,null,null,null,null,null,null,null,null,null,null,null,null,null,null,null,null,null,null,null,null,null,null,null,null,null,null,null,null,null,null,null,null,null,null,null,null,null,null,null,null,null,null,null,null,null,null,null,null,null,null,null,null,null,null,null,null,null,null,null,null,null,null,null,null,null,null,null,null,null,null,null,null,null,null,null,null,null,null,null,null,null,null,null,null,null,null,null,null,null,null,null,null,null,null,null,null,null,null,null,null,null,null,null,null,null,null,null,null,null,null,null,null,null,null,null,null,null,null,null,null,null,null,null,null,null,null,null,null,null,null,null,null,null,null,null,null,null,null,null,null,null,null,null,null,null,null,null,null,null,null,null,null,null,null,null,null,null,null,null,null,null,null,null,null,null,null,null,null,null,null,null,null,null,null,null,null,null,null,null,null,null,null,null,null,null,null,null,null,null,null,null,null,null,null,null,null,null,null,null,null,null,null,null,null,null,null,null,null,null,null,null,null,null,null,null,null,null,null,null,null,null,null,null,null,null,null,null,null,null,null,null,null,null,null,null,null,null,null,null,null,null,null,null,null,null,null,null,null,null,null,null,null,null,null,null,null,null,null,null,null,null,null,null,null,null,null,null,null,null,null,null,null,null,null,null,null,null,null,null,null,null,null,null,null,null,{"$f":"OK803","v":-22.604166666666668},{"$f":"OL803","v":26.268542199488497},{"$f":"OJ803","v":"h5"},null,null,null,null,null,null,null,null,{"$f":"OV821","v":-25.473958333333336},{"$f":"OW821","v":26.518542199488497},{"$f":"OU821","v":"h10"}]
[null,null,null,null,null,null,null,null,null,null,null,null,null,null,null,null,null,null,null,null,null,null,null,null,null,null,null,null,null,null,null,null,null,null,null,null,null,null,null,null,null,null,null,null,null,null,null,null,null,null,null,null,null,null,null,null,null,null,null,null,null,null,null,null,null,null,null,null,null,null,null,null,null,null,null,null,null,null,null,null,null,null,null,null,null,null,null,null,null,null,null,null,null,null,null,null,null,null,null,null,null,null,null,null,null,null,null,null,null,null,null,null,null,null,null,null,null,null,null,null,null,null,null,null,null,null,null,null,null,null,null,null,null,null,null,null,null,null,null,null,null,null,null,null,null,null,null,null,null,null,null,null,null,null,null,null,null,null,null,null,null,null,null,null,null,null,null,null,null,null,null,null,null,null,null,null,null,null,null,null,null,null,null,null,null,null,null,null,null,null,null,null,null,null,null,null,null,null,null,null,null,null,null,null,null,null,null,null,null,null,null,null,null,null,null,null,null,null,null,null,null,null,null,null,null,null,null,null,null,null,null,null,null,null,null,null,null,null,null,null,null,null,null,null,null,null,null,null,null,null,null,null,null,null,null,null,null,null,null,null,null,null,null,null,null,null,null,null,null,null,null,null,null,null,null,null,null,null,null,null,null,null,null,null,null,null,null,null,null,null,null,null,null,null,null,null,null,null,null,null,null,null,null,null,null,null,null,null,null,null,null,null,null,null,null,null,null,null,null,null,null,null,null,null,null,null,null,null,null,null,null,null,null,null,null,null,null,null,null,null,null,null,null,null,null,null,null,null,null,null,null,null,null,null,null,null,null,null,null,null,null,null,null,null,null,null,null,null,null,null,null,null,null,null,null,null,null,null,null,null,null,null,null,null,null,null,null,null,null,null,null,null,null,null,null,null,null,null,null,"m90",{"$f":"OF145","v":-28.740104166666672},{"$f":"OG145","v":26.268542199488497},null,null,null,null,null,null,null,null,"ارتفاع نیم دایره",{"$f":"OR49*OR10","v":0},"بزرگی فلش",{"$f":"OV832","v":-30.816406250000007},{"$f":"OW832","v":26.268542199488497},{"$f":"OU832","v":"m87"}]
[null,null,null,null,null,null,null,null,null,null,null,null,null,null,null,null,null,null,null,null,null,null,null,null,null,null,null,null,null,null,null,null,null,null,null,null,null,null,null,null,null,null,null,null,null,null,null,null,null,null,null,null,null,null,null,null,null,null,null,null,null,null,null,null,null,null,null,null,null,null,null,null,null,null,null,null,null,null,null,null,null,null,null,null,null,null,null,null,null,null,null,null,null,null,null,null,null,null,null,null,null,null,null,null,null,null,null,null,null,null,null,null,null,null,null,null,null,null,null,null,null,null,null,null,null,null,null,null,null,null,null,null,null,null,null,null,null,null,null,null,null,null,null,null,null,null,null,null,null,null,null,null,null,null,null,null,null,null,null,null,null,null,null,null,null,null,null,null,null,null,null,null,null,null,null,null,null,null,null,null,null,null,null,null,null,null,null,null,null,null,null,null,null,null,null,null,null,null,null,null,null,null,null,null,null,null,null,null,null,null,null,null,null,null,null,null,null,null,null,null,null,null,null,null,null,null,null,null,null,null,null,null,null,null,null,null,null,null,null,null,null,null,null,null,null,null,null,null,null,null,null,null,null,null,null,null,null,null,null,null,null,null,null,null,null,null,null,null,null,null,null,null,null,null,null,null,null,null,null,null,null,null,null,null,null,null,null,null,null,null,null,null,null,null,null,null,null,null,null,null,null,null,null,null,null,null,null,null,null,null,null,null,null,null,null,null,null,null,null,null,null,null,null,null,null,null,null,null,null,null,null,null,null,null,null,null,null,null,null,null,null,null,null,null,null,null,null,null,null,null,null,null,null,null,null,null,null,null,null,null,null,null,null,null,null,null,null,null,null,null,null,null,null,null,null,null,null,null,null,null,null,null,null,null,null,null,null,null,null,null,null,null,null,null,null,null,null,null,null,"بزرگی فلش دانه",{"$f":"OG46","v":0.4},"f10",{"$f":"OK853","v":-14.856770833333329},{"$f":"OL853","v":26.868542199488498},{"$f":"OJ853","v":"f8"},null,null,null,null,null,"f3",{"$f":"OV845","v":-29.815988650895147},{"$f":"OW844+OV841*OV842","v":26.558567774936066},{"$f":"OV845","v":-29.815988650895147},{"$f":"OW845","v":25.978516624040928},{"$f":"OU845","v":"f2"}]
[null,null,null,null,null,null,null,null,null,null,null,null,null,null,null,null,null,null,null,null,null,null,null,null,null,null,null,null,null,null,null,null,null,null,null,null,null,null,null,null,null,null,null,null,null,null,null,null,null,null,null,null,null,null,null,null,null,null,null,null,null,null,null,null,null,null,null,null,null,null,null,null,null,null,null,null,null,null,null,null,null,null,null,null,null,null,null,null,null,null,null,null,null,null,null,null,null,null,null,null,null,null,null,null,null,null,null,null,null,null,null,null,null,null,null,null,null,null,null,null,null,null,null,null,null,null,null,null,null,null,null,null,null,null,null,null,null,null,null,null,null,null,null,null,null,null,null,null,null,null,null,null,null,null,null,null,null,null,null,null,null,null,null,null,null,null,null,null,null,null,null,null,null,null,null,null,null,null,null,null,null,null,null,null,null,null,null,null,null,null,null,null,null,null,null,null,null,null,null,null,null,null,null,null,null,null,null,null,null,null,null,null,null,null,null,null,null,null,null,null,null,null,null,null,null,null,null,null,null,null,null,null,null,null,null,null,null,null,null,null,null,null,null,null,null,null,null,null,null,null,null,null,null,null,null,null,null,null,null,null,null,null,null,null,null,null,null,null,null,null,null,null,null,null,null,null,null,null,null,null,null,null,null,null,null,null,null,null,null,null,null,null,null,null,null,null,null,null,null,null,null,null,null,null,null,null,null,null,null,null,null,null,null,null,null,null,null,null,null,null,null,null,null,null,null,null,null,null,null,null,null,null,null,null,null,null,null,null,null,null,null,null,null,null,null,null,null,null,null,null,null,null,null,null,null,null,null,null,null,null,null,null,null,null,null,null,null,null,null,null,null,null,null,null,null,null,null,null,null,null,null,null,null,null,null,null,null,null,null,null,null,null,null,null,null,null,null,null,null,"g5",{"$f":"OK859+0.7*(OK862-OK859)","v":-13.869479166666663},{"$f":"OL859+0.28*(OL862-OL859)","v":26.403887468030696},{"$f":"OK860","v":-13.743479166666662},{"$f":"OL860","v":26.960736572890031},{"$f":"OJ860","v":"g11"},null,null,null,null,null,"ارتفاع هر رج",{"$f":"OR39","v":0.96675191815856776},"w11"]
[null,null,null,null,null,null,null,null,null,null,null,null,null,null,null,null,null,null,null,null,null,null,null,null,null,null,null,null,null,null,null,null,null,null,null,null,null,null,null,null,null,null,null,null,null,null,null,null,null,null,null,null,null,null,null,null,null,null,null,null,null,null,null,null,null,null,null,null,null,null,null,null,null,null,null,null,null,null,null,null,null,null,null,null,null,null,null,null,null,null,null,null,null,null,null,null,null,null,null,null,null,null,null,null,null,null,null,null,null,null,null,null,null,null,null,null,null,null,null,null,null,null,null,null,null,null,null,null,null,null,null,null,null,null,null,null,null,null,null,null,null,null,null,null,null,null,null,null,null,null,null,null,null,null,null,null,null,null,null,null,null,null,null,null,null,null,null,null,null,null,null,null,null,null,null,null,null,null,null,null,null,null,null,null,null,null,null,null,null,null,null,null,null,null,null,null,null,null,null,null,null,null,null,null,null,null,null,null,null,null,null,null,null,null,null,null,null,null,null,null,null,null,null,null,null,null,null,null,null,null,null,null,null,null,null,null,null,null,null,null,null,null,null,null,null,null,null,null,null,null,null,null,null,null,null,null,null,null,null,null,null,null,null,null,null,null,null,null,null,null,null,null,null,null,null,null,null,null,null,null,null,null,null,null,null,null,null,null,null,null,null,null,null,null,null,null,null,null,null,null,null,null,null,null,null,null,null,null,null,null,null,null,null,null,null,null,null,null,null,null,null,null,null,null,null,null,null,null,null,null,null,null,null,null,null,null,null,null,null,null,null,null,null,null,null,null,null,null,null,null,null,null,null,null,null,null,null,null,null,null,null,null,null,null,null,null,null,null,null,null,null,null,null,null,null,null,null,null,null,null,null,null,null,null,null,null,null,null,null,null,null,null,null,null,null,null,null,null,null,"h9",{"$f":"OK879+0.5*OK870","v":-24.3828125},{"$f":"OL875","v":27.235294117647065},{"$f":"OK884","v":-24.3828125},{"$f":"OL884","v":26.985294117647065},{"$f":"OJ884","v":"h12"},null,null,null,null,null,"g8",{"$f":"OV875-0.7*OW872*SIN(RADIANS(30)+ATAN((OV875-OV878)/(OW875-OW878+0.0001)))","v":-14.793823570073638},{"$f":"OW875-0.7*OW872*COS(RADIANS(30)+ATAN((OV875-OV878)/(OW875-OW878+0.0001)))","v":26.662563705910124},{"$f":"OV880","v":-14.183613428152613},{"$f":"OW880","v":26.73072710777555},{"$f":"OU880","v":"g7"}]
[null,null,null,null,null,null,null,null,null,null,null,null,null,null,null,null,null,null,null,null,null,null,null,null,null,null,null,null,null,null,null,null,null,null,null,null,null,null,null,null,null,null,null,null,null,null,null,null,null,null,null,null,null,null,null,null,null,null,null,null,null,null,null,null,null,null,null,null,null,null,null,null,null,null,null,null,null,null,null,null,null,null,null,null,null,null,null,null,null,null,null,null,null,null,null,null,null,null,null,null,null,null,null,null,null,null,null,null,null,null,null,null,null,null,null,null,null,null,null,null,null,null,null,null,null,null,null,null,null,null,null,null,null,null,null,null,null,null,null,null,null,null,null,null,null,null,null,null,null,null,null,null,null,null,null,null,null,null,null,null,null,null,null,null,null,null,null,null,null,null,null,null,null,null,null,null,null,null,null,null,null,null,null,null,null,null,null,null,null,null,null,null,null,null,null,null,null,null,null,null,null,null,null,null,null,null,null,null,null,null,null,null,null,null,null,null,null,null,null,null,null,null,null,null,null,null,null,null,null,null,null,null,null,null,null,null,null,null,null,null,null,null,null,null,null,null,null,null,null,null,null,null,null,null,null,null,null,null,null,null,null,null,null,null,null,null,null,null,null,null,null,null,null,null,null,null,null,null,null,null,null,null,null,null,null,null,null,null,null,null,null,null,null,null,null,null,null,null,null,null,null,null,null,null,null,null,null,null,null,null,null,null,null,null,null,null,null,null,null,null,null,null,null,null,null,null,null,null,null,null,null,null,null,null,null,null,null,null,null,null,null,null,null,null,null,null,null,null,null,null,null,null,null,null,null,null,null,null,null,null,null,null,null,null,null,null,null,null,null,null,null,null,null,null,null,null,null,null,null,null,null,null,null,null,null,null,null,null,null,null,null,null,null,null,null,null,null,null,null,"g6",{"$f":"OK897","v":-39.396145833333335},{"$f":"OL895-OL897+OL893","v":38.043580562659855},null,null,null,null,null,null,null,null,"h11",{"$f":"OV895","v":-29.502604166666668},{"$f":"OW895-0.5*OV886","v":26.985294117647065}]
[null,null,null,null,null,null,null,null,null,null,null,null,null,null,null,null,null,null,null,null,null,null,null,null,null,null,null,null,null,null,null,null,null,null,null,null,null,null,null,null,null,null,null,null,null,null,null,null,null,null,null,null,null,null,null,null,null,null,null,null,null,null,null,null,null,null,null,null,null,null,null,null,null,null,null,null,null,null,null,null,null,null,null,null,null,null,null,null,null,null,null,null,null,null,null,null,null,null,null,null,null,null,null,null,null,null,null,null,null,null,null,null,null,null,null,null,null,null,null,null,null,null,null,null,null,null,null,null,null,null,null,null,null,null,null,null,null,null,null,null,null,null,null,null,null,null,null,null,null,null,null,null,null,null,null,null,null,null,null,null,null,null,null,null,null,null,null,null,null,null,null,null,null,null,null,null,null,null,null,null,null,null,null,null,null,null,null,null,null,null,null,null,null,null,null,null,null,null,null,null,null,null,null,null,null,null,null,null,null,null,null,null,null,null,null,null,null,null,null,null,null,null,null,null,null,null,null,null,null,null,null,null,null,null,null,null,null,null,null,null,null,null,null,null,null,null,null,null,null,null,null,null,null,null,null,null,null,null,null,null,null,null,null,null,null,null,null,null,null,null,null,null,null,null,null,null,null,null,null,null,null,null,null,null,null,null,null,null,null,null,null,null,null,null,null,null,null,null,null,null,null,null,null,null,null,null,null,null,null,null,null,null,null,null,null,null,null,null,null,null,null,null,null,null,null,null,null,null,null,null,null,null,null,null,null,null,null,null,null,null,null,null,null,null,null,null,null,null,null,null,null,null,null,null,null,null,null,null,null,null,null,null,null,null,null,null,null,null,null,null,null,null,null,null,null,null,null,null,null,null,null,null,null,null,null,null,null,null,null,null,null,null,null,null,null,null,null,null,null,"m98",{"$f":"OF153","v":-38.408854166666671},{"$f":"OG153","v":39.803069053708448},{"$f":"OK917","v":-38.698879742114244},{"$f":"OL917","v":40.016368286445022},{"$f":"OJ917","v":"f6"}]
[null,null,null,null,null,null,null,null,null,null,null,null,null,null,null,null,null,null,null,null,null,null,null,null,null,null,null,null,null,null,null,null,null,null,null,null,null,null,null,null,null,null,null,null,null,null,null,null,null,null,null,null,null,null,null,null,null,null,null,null,null,null,null,null,null,null,null,null,null,null,null,null,null,null,null,null,null,null,null,null,null,null,null,null,null,null,null,null,null,null,null,null,null,null,null,null,null,null,null,null,null,null,null,null,null,null,null,null,null,null,null,null,null,null,null,null,null,null,null,null,null,null,null,null,null,null,null,null,null,null,null,null,null,null,null,null,null,null,null,null,null,null,null,null,null,null,null,null,null,null,null,null,null,null,null,null,null,null,null,null,null,null,null,null,null,null,null,null,null,null,null,null,null,null,null,null,null,null,null,null,null,null,null,null,null,null,null,null,null,null,null,null,null,null,null,null,null,null,null,null,null,null,null,null,null,null,null,null,null,null,null,null,null,null,null,null,null,null,null,null,null,null,null,null,null,null,null,null,null,null,null,null,null,null,null,null,null,null,null,null,null,null,null,null,null,null,null,null,null,null,null,null,null,null,null,null,null,null,null,null,null,null,null,null,null,null,null,null,null,null,null,null,null,null,null,null,null,null,null,null,null,null,null,null,null,null,null,null,null,null,null,null,null,null,null,null,null,null,null,null,null,null,null,null,null,null,null,null,null,null,null,null,null,null,null,null,null,null,null,null,null,null,null,null,null,null,null,null,null,null,null,null,null,null,null,null,null,null,null,null,null,null,null,null,null,null,null,null,null,null,null,null,null,null,null,null,null,null,null,null,null,null,null,null,null,null,null,null,null,null,null,null,null,null,null,null,null,null,null,null,null,null,null,null,null,null,null,null,null,null,null,null,null,null,null,null,null,null,null,null,null,null,null,null,null,null,null,null,null,null,"f7",{"$f":"OV931+OV931-OV932","v":-38.583672341219099},{"$f":"OW932","v":40.016368286445022},{"$f":"OV934","v":-38.873697916666671},{"$f":"OW934","v":40.40306905370845},{"$f":"OU934","v":"f8"}]
[null,null,null,null,null,null,null,null,null,null,null,null,null,null,null,null,null,null,null,null,null,null,null,null,null,null,null,null,null,null,null,null,null,null,null,null,null,null,null,null,null,null,null,null,null,null,null,null,null,null,null,null,null,null,null,null,null,null,null,null,null,null,null,null,null,null,null,null,null,null,null,null,null,null,null,null,null,null,null,null,null,null,null,null,null,null,null,null,null,null,null,null,null,null,null,null,null,null,null,null,null,null,null,null,null,null,null,null,null,null,null,null,null,null,null,null,null,null,null,null,null,null,null,null,null,null,null,null,null,null,null,null,null,null,null,null,null,null,null,null,null,null,null,null,null,null,null,null,null,null,null,null,null,null,null,null,null,null,null,null,null,null,null,null,null,null,null,null,null,null,null,null,null,null,null,null,null,null,null,null,null,null,null,null,null,null,null,null,null,null,null,null,null,null,null,null,null,null,null,null,null,null,null,null,null,null,null,null,null,null,null,null,null,null,null,null,null,null,null,null,null,null,null,null,null,null,null,null,null,null,null,null,null,null,null,null,null,null,null,null,null,null,null,null,null,null,null,null,null,null,null,null,null,null,null,null,null,null,null,null,null,null,null,null,null,null,null,null,null,null,null,null,null,null,null,null,null,null,null,null,null,null,null,null,null,null,null,null,null,null,null,null,null,null,null,null,null,null,null,null,null,null,null,null,null,null,null,null,null,null,null,null,null,null,null,null,null,null,null,null,null,null,null,null,null,null,null,null,null,null,null,null,null,null,null,null,null,null,null,null,null,null,null,null,null,null,null,null,null,null,null,null,null,null,null,null,null,null,null,null,null,null,null,null,null,null,null,null,null,null,null,null,null,null,null,null,null,null,null,null,null,null,null,null,null,null,null,null,null,null,null,null,null,null,null,null,null,null,null,"h12",{"$f":"OK947","v":-23.763020833333332},{"$f":"OL949","v":40.519820971867013},{"$f":"OK947","v":-23.763020833333332},{"$f":"OL947","v":40.769820971867013},{"$f":"OJ947","v":"h9"},null,null,null,null,null,null,"متغیرهای ورودی",null,{"$f":"OV956","v":-46.62109375},{"$f":"OW956","v":40.769820971867013},{"$f":"OU956","v":"m100"}]
[null,null,null,null,null,null,null,null,null,null,null,null,null,null,null,null,null,null,null,null,null,null,null,null,null,null,null,null,null,null,null,null,null,null,null,null,null,null,null,null,null,null,null,null,null,null,null,null,null,null,null,null,null,null,null,null,null,null,null,null,null,null,null,null,null,null,null,null,null,null,null,null,null,null,null,null,null,null,null,null,null,null,null,null,null,null,null,null,null,null,null,null,null,null,null,null,null,null,null,null,null,null,null,null,null,null,null,null,null,null,null,null,null,null,null,null,null,null,null,null,null,null,null,null,null,null,null,null,null,null,null,null,null,null,null,null,null,null,null,null,null,null,null,null,null,null,null,null,null,null,null,null,null,null,null,null,null,null,null,null,null,null,null,null,null,null,null,null,null,null,null,null,null,null,null,null,null,null,null,null,null,null,null,null,null,null,null,null,null,null,null,null,null,null,null,null,null,null,null,null,null,null,null,null,null,null,null,null,null,null,null,null,null,null,null,null,null,null,null,null,null,null,null,null,null,null,null,null,null,null,null,null,null,null,null,null,null,null,null,null,null,null,null,null,null,null,null,null,null,null,null,null,null,null,null,null,null,null,null,null,null,null,null,null,null,null,null,null,null,null,null,null,null,null,null,null,null,null,null,null,null,null,null,null,null,null,null,null,null,null,null,null,null,null,null,null,null,null,null,null,null,null,null,null,null,null,null,null,null,null,null,null,null,null,null,null,null,null,null,null,null,null,null,null,null,null,null,null,null,null,null,null,null,null,null,null,null,null,null,null,null,null,null,null,null,null,null,null,null,null,null,null,null,null,null,null,null,null,null,null,null,null,null,null,null,null,null,null,null,null,null,null,null,null,null,null,null,null,null,null,null,null,null,null,null,null,null,null,null,null,null,null,null,null,null,null,null,null,null,"g2",{"$f":"OK966","v":-46.15625},{"$f":"OL966+OK963","v":62.038363171355499},null,null,null,null,null,null,null,null,null,null,null,{"$f":"OV960","v":-26.6328125},{"$f":"OW960","v":40.769820971867013},{"$f":"OU960","v":"h5"}]
[null,null,null,null,null,null,null,null,null,null,null,null,null,null,null,null,null,null,null,null,null,null,null,null,null,null,null,null,null,null,null,null,null,null,null,null,null,null,null,null,null,null,null,null,null,null,null,null,null,null,null,null,null,null,null,null,null,null,null,null,null,null,null,null,null,null,null,null,null,null,null,null,null,null,null,null,null,null,null,null,null,null,null,null,null,null,null,null,null,null,null,null,null,null,null,null,null,null,null,null,null,null,null,null,null,null,null,null,null,null,null,null,null,null,null,null,null,null,null,null,null,null,null,null,null,null,null,null,null,null,null,null,null,null,null,null,null,null,null,null,null,null,null,null,null,null,null,null,null,null,null,null,null,null,null,null,null,null,null,null,null,null,null,null,null,null,null,null,null,null,null,null,null,null,null,null,null,null,null,null,null,null,null,null,null,null,null,null,null,null,null,null,null,null,null,null,null,null,null,null,null,null,null,null,null,null,null,null,null,null,null,null,null,null,null,null,null,null,null,null,null,null,null,null,null,null,null,null,null,null,null,null,null,null,null,null,null,null,null,null,null,null,null,null,null,null,null,null,null,null,null,null,null,null,null,null,null,null,null,null,null,null,null,null,null,null,null,null,null,null,null,null,null,null,null,null,null,null,null,null,null,null,null,null,null,null,null,null,null,null,null,null,null,null,null,null,null,null,null,null,null,null,null,null,null,null,null,null,null,null,null,null,null,null,null,null,null,null,null,null,null,null,null,null,null,null,null,null,null,null,null,null,null,null,null,null,null,null,null,null,null,null,null,null,null,null,null,null,null,null,null,null,null,null,null,null,null,null,null,null,null,null,null,null,null,null,null,null,null,null,null,null,null,null,null,null,null,null,null,null,null,null,null,null,null,null,null,null,null,null,null,null,null,null,null,null,null,null,null,"g5",{"$f":"OK981+0.7*(OK984-OK981)","v":1.3154166666666642},{"$f":"OL981+0.28*(OL984-OL981)","v":62.173708439897695},{"$f":"OK982","v":1.4414166666666641},{"$f":"OL982","v":62.730557544757033},{"$f":"OJ982","v":"g11"},null,null,null,null,null,"g5",{"$f":"OV981+0.7*(OV984-OV981)","v":-46.98859375},{"$f":"OW981+0.28*(OW984-OW981)","v":43.747416879795402},{"$f":"OV982","v":-47.114593749999997},{"$f":"OW982","v":55.998097186700768},{"$f":"OU982","v":"g11"}]
[null,null,null,null,null,null,null,null,null,null,null,null,null,null,null,null,null,null,null,null,null,null,null,null,null,null,null,null,null,null,null,null,null,null,null,null,null,null,null,null,null,null,null,null,null,null,null,null,null,null,null,null,null,null,null,null,null,null,null,null,null,null,null,null,null,null,null,null,null,null,null,null,null,null,null,null,null,null,null,null,null,null,null,null,null,null,null,null,null,null,null,null,null,null,null,null,null,null,null,null,null,null,null,null,null,null,null,null,null,null,null,null,null,null,null,null,null,null,null,null,null,null,null,null,null,null,null,null,null,null,null,null,null,null,null,null,null,null,null,null,null,null,null,null,null,null,null,null,null,null,null,null,null,null,null,null,null,null,null,null,null,null,null,null,null,null,null,null,null,null,null,null,null,null,null,null,null,null,null,null,null,null,null,null,null,null,null,null,null,null,null,null,null,null,null,null,null,null,null,null,null,null,null,null,null,null,null,null,null,null,null,null,null,null,null,null,null,null,null,null,null,null,null,null,null,null,null,null,null,null,null,null,null,null,null,null,null,null,null,null,null,null,null,null,null,null,null,null,null,null,null,null,null,null,null,null,null,null,null,null,null,null,null,null,null,null,null,null,null,null,null,null,null,null,null,null,null,null,null,null,null,null,null,null,null,null,null,null,null,null,null,null,null,null,null,null,null,null,null,null,null,null,null,null,null,null,null,null,null,null,null,null,null,null,null,null,null,null,null,null,null,null,null,null,null,null,null,null,null,null,null,null,null,null,null,null,null,null,null,null,null,null,null,null,null,null,null,null,null,null,null,null,null,null,null,null,null,null,null,null,null,null,null,null,null,null,null,null,null,null,null,null,null,null,null,null,null,null,null,null,null,null,null,null,null,null,null,null,null,null,null,null,null,null,null,null,null,null,null,"h9",{"$f":"OK1001+0.5*OK992","v":-20.354166666666668},{"$f":"OL997","v":63.005115089514064},{"$f":"OK1006","v":-20.354166666666668},{"$f":"OL1006","v":62.755115089514064},{"$f":"OJ1006","v":"h12"},null,null,null,null,null,"g8",{"$f":"OV997-0.7*OW994*SIN(RADIANS(30)+ATAN((OV997-OV1000)/(OW997-OW1000+0.0001)))","v":0.39107226325968897},{"$f":"OW997-0.7*OW994*COS(RADIANS(30)+ATAN((OV997-OV1000)/(OW997-OW1000+0.0001)))","v":62.432384677777129},{"$f":"OV1002","v":1.0012824051807105},{"$f":"OW1002","v":62.500548079642549},{"$f":"OU1002","v":"g7"}]
[null,null,null,null,null,null,null,null,null,null,null,null,null,null,null,null,null,null,null,null,null,null,null,null,null,null,null,null,null,null,null,null,null,null,null,null,null,null,null,null,null,null,null,null,null,null,null,null,null,null,null,null,null,null,null,null,null,null,null,null,null,null,null,null,null,null,null,null,null,null,null,null,null,null,null,null,null,null,null,null,null,null,null,null,null,null,null,null,null,null,null,null,null,null,null,null,null,null,null,null,null,null,null,null,null,null,null,null,null,null,null,null,null,null,null,null,null,null,null,null,null,null,null,null,null,null,null,null,null,null,null,null,null,null,null,null,null,null,null,null,null,null,null,null,null,null,null,null,null,null,null,null,null,null,null,null,null,null,null,null,null,null,null,null,null,null,null,null,null,null,null,null,null,null,null,null,null,null,null,null,null,null,null,null,null,null,null,null,null,null,null,null,null,null,null,null,null,null,null,null,null,null,null,null,null,null,null,null,null,null,null,null,null,null,null,null,null,null,null,null,null,null,null,null,null,null,null,null,null,null,null,null,null,null,null,null,null,null,null,null,null,null,null,null,null,null,null,null,null,null,null,null,null,null,null,null,null,null,null,null,null,null,null,null,null,null,null,null,null,null,null,null,null,null,null,null,null,null,null,null,null,null,null,null,null,null,null,null,null,null,null,null,null,null,null,null,null,null,null,null,null,null,null,null,null,null,null,null,null,null,null,null,null,null,null,null,null,null,null,null,null,null,null,null,null,null,null,null,null,null,null,null,null,null,null,null,null,null,null,null,null,null,null,null,null,null,null,null,null,null,null,null,null,null,null,null,null,null,null,null,null,null,null,null,null,null,null,null,null,null,null,null,null,null,null,null,null,null,null,null,null,null,null,null,null,null,null,null,null,null,null,null,null,null,null,null,null,null,null,"g6",{"$f":"OK1019","v":-46.52375},{"$f":"OL1017-OL1019+OL1015","v":{"$error":"#VALUE!"}},null,null,null,null,null,null,null,null,"h11",{"$f":"OV1017","v":-25.473958333333336},{"$f":"OW1017-0.5*OV1008","v":62.755115089514064}]
[null,null,null,null,null,null,null,null,null,null,null,null,null,null,null,null,null,null,null,null,null,null,null,null,null,null,null,null,null,null,null,null,null,null,null,null,null,null,null,null,null,null,null,null,null,null,null,null,null,null,null,null,null,null,null,null,null,null,null,null,null,null,null,null,null,null,null,null,null,null,null,null,null,null,null,null,null,null,null,null,null,null,null,null,null,null,null,null,null,null,null,null,null,null,null,null,null,null,null,null,null,null,null,null,null,null,null,null,null,null,null,null,null,null,null,null,null,null,null,null,null,null,null,null,null,null,null,null,null,null,null,null,null,null,null,null,null,null,null,null,null,null,null,null,null,null,null,null,null,null,null,null,null,null,null,null,null,null,null,null,null,null,null,null,null,null,null,null,null,null,null,null,null,null,null,null,null,null,null,null,null,null,null,null,null,null,null,null,null,null,null,null,null,null,null,null,null,null,null,null,null,null,null,null,null,null,null,null,null,null,null,null,null,null,null,null,null,null,null,null,null,null,null,null,null,null,null,null,null,null,null,null,null,null,null,null,null,null,null,null,null,null,null,null,null,null,null,null,null,null,null,null,null,null,null,null,null,null,null,null,null,null,null,null,null,null,null,null,null,null,null,null,null,null,null,null,null,null,null,null,null,null,null,null,null,null,null,null,null,null,null,null,null,null,null,null,null,null,null,null,null,null,null,null,null,null,null,null,null,null,null,null,null,null,null,null,null,null,null,null,null,null,null,null,null,null,null,null,null,null,null,null,null,null,null,null,null,null,null,null,null,null,null,null,null,null,null,null,null,null,null,null,null,null,null,null,null,null,null,null,null,null,null,null,null,null,null,null,null,null,null,null,null,null,null,null,null,null,null,null,null,null,null,null,null,null,null,null,null,null,null,null,null,null,null,null,null,null,null,"h9",{"$f":"OK1035+0.5*OK1026","v":-15.854166666666668},{"$f":"OL1031","v":{"$error":"#VALUE!"}},{"$f":"OK1040","v":-15.854166666666668},{"$f":"OL1040","v":{"$error":"#VALUE!"}},{"$f":"OJ1040","v":"h12"},null,null,null,null,null,"g8",{"$f":"OV1031-0.7*OW1028*SIN(RADIANS(30)-ATAN((OV1031-OV1034)/(OW1031-OW1034+0.0001)))","v":{"$error":"#VALUE!"}},{"$f":"OW1031-0.7*OW1028*COS(RADIANS(30)-ATAN((OV1031-OV1034)/(OW1031-OW1034+0.0001)))","v":{"$error":"#VALUE!"}},{"$f":"OV1036","v":{"$error":"#VALUE!"}},{"$f":"OW1036","v":{"$error":"#VALUE!"}},{"$f":"OU1036","v":"g7"}]
[null,null,null,null,null,null,null,null,null,null,null,null,null,null,null,null,null,null,null,null,null,null,null,null,null,null,null,null,null,null,null,null,null,null,null,null,null,null,null,null,null,null,null,null,null,null,null,null,null,null,null,null,null,null,null,null,null,null,null,null,null,null,null,null,null,null,null,null,null,null,null,null,null,null,null,null,null,null,null,null,null,null,null,null,null,null,null,null,null,null,null,null,null,null,null,null,null,null,null,null,null,null,null,null,null,null,null,null,null,null,null,null,null,null,null,null,null,null,null,null,null,null,null,null,null,null,null,null,null,null,null,null,null,null,null,null,null,null,null,null,null,null,null,null,null,null,null,null,null,null,null,null,null,null,null,null,null,null,null,null,null,null,null,null,null,null,null,null,null,null,null,null,null,null,null,null,null,null,null,null,null,null,null,null,null,null,null,null,null,null,null,null,null,null,null,null,null,null,null,null,null,null,null,null,null,null,null,null,null,null,null,null,null,null,null,null,null,null,null,null,null,null,null,null,null,null,null,null,null,null,null,null,null,null,null,null,null,null,null,null,null,null,null,null,null,null,null,null,null,null,null,null,null,null,null,null,null,null,null,null,null,null,null,null,null,null,null,null,null,null,null,null,null,null,null,null,null,null,null,null,null,null,null,null,null,null,null,null,null,null,null,null,null,null,null,null,null,null,null,null,null,null,null,null,null,null,null,null,null,null,null,null,null,null,null,null,null,null,null,null,null,null,null,null,null,null,null,null,null,null,null,null,null,null,null,null,null,null,null,null,null,null,null,null,null,null,null,null,null,null,null,null,null,null,null,null,null,null,null,null,null,null,null,null,null,null,null,null,null,null,null,null,null,null,null,null,null,null,null,null,null,null,null,null,null,null,null,null,null,null,null,null,null,null,null,null,null,null,null,"g7",{"$f":"OK1050+0.7*OL1047*SIN(RADIANS(30)+2*ATAN((OK1050-OK1053)/(OL1050-OL1053+0.0001)))","v":{"$error":"#VALUE!"}},{"$f":"OL1050-0.7*OL1047*COS(RADIANS(30)+2*ATAN((OK1050-OK1053)/(OL1050-OL1053+0.0001)))","v":{"$error":"#VALUE!"}},{"$f":"OK1050","v":1.4414166666666641},{"$f":"OL1050","v":{"$error":"#VALUE!"}},{"$f":"OJ1050","v":"g11"},null,null,null,null,null,"h12",{"$f":"OV1052","v":-16.473958333333336},{"$f":"OW1054","v":{"$error":"#VALUE!"}},{"$f":"OV1052","v":-16.473958333333336},{"$f":"OW1052","v":{"$error":"#VALUE!"}},{"$f":"OU1052","v":"h9"}]
[null,null,null,null,null,null,null,null,null,null,null,null,null,null,null,null,null,null,null,null,null,null,null,null,null,null,null,null,null,null,null,null,null,null,null,null,null,null,null,null,null,null,null,null,null,null,null,null,null,null,null,null,null,null,null,null,null,null,null,null,null,null,null,null,null,null,null,null,null,null,null,null,null,null,null,null,null,null,null,null,null,null,null,null,null,null,null,null,null,null,null,null,null,null,null,null,null,null,null,null,null,null,null,null,null,null,null,null,null,null,null,null,null,null,null,null,null,null,null,null,null,null,null,null,null,null,null,null,null,null,null,null,null,null,null,null,null,null,null,null,null,null,null,null,null,null,null,null,null,null,null,null,null,null,null,null,null,null,null,null,null,null,null,null,null,null,null,null,null,null,null,null,null,null,null,null,null,null,null,null,null,null,null,null,null,null,null,null,null,null,null,null,null,null,null,null,null,null,null,null,null,null,null,null,null,null,null,null,null,null,null,null,null,null,null,null,null,null,null,null,null,null,null,null,null,null,null,null,null,null,null,null,null,null,null,null,null,null,null,null,null,null,null,null,null,null,null,null,null,null,null,null,null,null,null,null,null,null,null,null,null,null,null,null,null,null,null,null,null,null,null,null,null,null,null,null,null,null,null,null,null,null,null,null,null,null,null,null,null,null,null,null,null,null,null,null,null,null,null,null,null,null,null,null,null,null,null,null,null,null,null,null,null,null,null,null,null,null,null,null,null,null,null,null,null,null,null,null,null,null,null,null,null,null,null,null,null,null,null,null,null,null,null,null,null,null,null,null,null,null,null,null,null,null,null,null,null,null,null,null,null,null,null,null,null,null,null,null,null,null,null,null,null,null,null,null,null,null,null,null,null,null,null,null,null,null,null,null,null,null,null,null,null,null,null,null,null,null,null,"h10",{"$f":"OK1070","v":-24.854166666666668},{"$f":"OL1070+0.5*OK1061","v":{"$error":"#VALUE!"}},{"$f":"OK1075","v":-20.354166666666668},{"$f":"OL1075","v":{"$error":"#VALUE!"}},{"$f":"OJ1075","v":"h13"}]
[null,null,null,null,null,null,null,null,null,null,null,null,null,null,null,null,null,null,null,null,null,null,null,null,null,null,null,null,null,null,null,null,null,null,null,null,null,null,null,null,null,null,null,null,null,null,null,null,null,null,null,null,null,null,null,null,null,null,null,null,null,null,null,null,null,null,null,null,null,null,null,null,null,null,null,null,null,null,null,null,null,null,null,null,null,null,null,null,null,null,null,null,null,null,null,null,null,null,null,null,null,null,null,null,null,null,null,null,null,null,null,null,null,null,null,null,null,null,null,null,null,null,null,null,null,null,null,null,null,null,null,null,null,null,null,null,null,null,null,null,null,null,null,null,null,null,null,null,null,null,null,null,null,null,null,null,null,null,null,null,null,null,null,null,null,null,null,null,null,null,null,null,null,null,null,null,null,null,null,null,null,null,null,null,null,null,null,null,null,null,null,null,null,null,null,null,null,null,null,null,null,null,null,null,null,null,null,null,null,null,null,null,null,null,null,null,null,null,null,null,null,null,null,null,null,null,null,null,null,null,null,null,null,null,null,null,null,null,null,null,null,null,null,null,null,null,null,null,null,null,null,null,null,null,null,null,null,null,null,null,null,null,null,null,null,null,null,null,null,null,null,null,null,null,null,null,null,null,null,null,null,null,null,null,null,null,null,null,null,null,null,null,null,null,null,null,null,null,null,null,null,null,null,null,null,null,null,null,null,null,null,null,null,null,null,null,null,null,null,null,null,null,null,null,null,null,null,null,null,null,null,null,null,null,null,null,null,null,null,null,null,null,null,null,null,null,null,null,null,null,null,null,null,null,null,null,null,null,null,null,null,null,null,null,null,null,null,null,null,null,null,null,null,null,null,null,null,null,null,null,null,null,null,null,null,null,null,null,null,null,null,null,null,null,null,null,null,null,null,"h10",{"$f":"OK1087","v":-31.052083333333336},{"$f":"OL1087+0.5*OK1081","v":3.3164961636828645},{"$f":"OK1091","v":-26.552083333333336},{"$f":"OL1091","v":2.8164961636828645},{"$f":"OJ1091","v":"h12"},null,null,null,null,null,"h12",{"$f":"OV1086","v":-20.973958333333336},{"$f":"OW1088","v":{"$error":"#VALUE!"}},{"$f":"OV1086","v":-20.973958333333336},{"$f":"OW1086","v":{"$error":"#VALUE!"}},{"$f":"OU1086","v":"h9"}]
[null,null,null,null,null,null,null,null,null,null,null,null,null,null,null,null,null,null,null,null,null,null,null,null,null,null,null,null,null,null,null,null,null,null,null,null,null,null,null,null,null,null,null,null,null,null,null,null,null,null,null,null,null,null,null,null,null,null,null,null,null,null,null,null,null,null,null,null,null,null,null,null,null,null,null,null,null,null,null,null,null,null,null,null,null,null,null,null,null,null,null,null,null,null,null,null,null,null,null,null,null,null,null,null,null,null,null,null,null,null,null,null,null,null,null,null,null,null,null,null,null,null,null,null,null,null,null,null,null,null,null,null,null,null,null,null,null,null,null,null,null,null,null,null,null,null,null,null,null,null,null,null,null,null,null,null,null,null,null,null,null,null,null,null,null,null,null,null,null,null,null,null,null,null,null,null,null,null,null,null,null,null,null,null,null,null,null,null,null,null,null,null,null,null,null,null,null,null,null,null,null,null,null,null,null,null,null,null,null,null,null,null,null,null,null,null,null,null,null,null,null,null,null,null,null,null,null,null,null,null,null,null,null,null,null,null,null,null,null,null,null,null,null,null,null,null,null,null,null,null,null,null,null,null,null,null,null,null,null,null,null,null,null,null,null,null,null,null,null,null,null,null,null,null,null,null,null,null,null,null,null,null,null,null,null,null,null,null,null,null,null,null,null,null,null,null,null,null,null,null,null,null,null,null,null,null,null,null,null,null,null,null,null,null,null,null,null,null,null,null,null,null,null,null,null,null,null,null,null,null,null,null,null,null,null,null,null,null,null,null,null,null,null,null,null,null,null,null,null,null,null,null,null,null,null,null,null,null,null,null,null,null,null,null,null,null,null,null,null,null,null,null,null,null,null,null,null,null,null,null,null,null,null,null,null,null,null,null,null,null,null,null,null,null,null,null,null,null,null,"h13",{"$f":"OK1103","v":-9.65625},{"$f":"OL1104","v":3.3164961636828645},{"$f":"OK1101","v":-16.40625},{"$f":"OL1101","v":3.0664961636828645},{"$f":"OJ1101","v":"h5"},null,null,null,null,null,"h13",{"$f":"OV1103","v":-26.861979166666668},{"$f":"OW1104","v":3.3164961636828645},{"$f":"OV1101","v":-29.111979166666668},{"$f":"OW1101","v":3.0664961636828645},{"$f":"OU1101","v":"h5"}]
[null,null,null,null,null,null,null,null,null,null,null,null,null,null,null,null,null,null,null,null,null,null,null,null,null,null,null,null,null,null,null,null,null,null,null,null,null,null,null,null,null,null,null,null,null,null,null,null,null,null,null,null,null,null,null,null,null,null,null,null,null,null,null,null,null,null,null,null,null,null,null,null,null,null,null,null,null,null,null,null,null,null,null,null,null,null,null,null,null,null,null,null,null,null,null,null,null,null,null,null,null,null,null,null,null,null,null,null,null,null,null,null,null,null,null,null,null,null,null,null,null,null,null,null,null,null,null,null,null,null,null,null,null,null,null,null,null,null,null,null,null,null,null,null,null,null,null,null,null,null,null,null,null,null,null,null,null,null,null,null,null,null,null,null,null,null,null,null,null,null,null,null,null,null,null,null,null,null,null,null,null,null,null,null,null,null,null,null,null,null,null,null,null,null,null,null,null,null,null,null,null,null,null,null,null,null,null,null,null,null,null,null,null,null,null,null,null,null,null,null,null,null,null,null,null,null,null,null,null,null,null,null,null,null,null,null,null,null,null,null,null,null,null,null,null,null,null,null,null,null,null,null,null,null,null,null,null,null,null,null,null,null,null,null,null,null,null,null,null,null,null,null,null,null,null,null,null,null,null,null,null,null,null,null,null,null,null,null,null,null,null,null,null,null,null,null,null,null,null,null,null,null,null,null,null,null,null,null,null,null,null,null,null,null,null,null,null,null,null,null,null,null,null,null,null,null,null,null,null,null,null,null,null,null,null,null,null,null,null,null,null,null,null,null,null,null,null,null,null,null,null,null,null,null,null,null,null,null,null,null,null,null,null,null,null,null,null,null,null,null,null,null,null,null,null,null,null,null,null,null,null,null,null,null,null,null,null,null,null,null,null,null,null,null,null,null,null,null,null,null,null,null,null,null,null,null,null,null,null,null,"نقطه پایان رج(راست)","مولفه افقی","مولفه عمودی",{"$f":"OV1122","v":-10.585937500000004},{"$f":"OW1122","v":3.3164961636828645},{"$f":"OU1122","v":"h13"}]
[null,null,null,null,null,null,null,null,null,null,null,null,null,null,null,null,null,null,null,null,null,null,null,null,null,null,null,null,null,null,null,null,null,null,null,null,null,null,null,null,null,null,null,null,null,null,null,null,null,null,null,null,null,null,null,null,null,null,null,null,null,null,null,null,null,null,null,null,null,null,null,null,null,null,null,null,null,null,null,null,null,null,null,null,null,null,null,null,null,null,null,null,null,null,null,null,null,null,null,null,null,null,null,null,null,null,null,null,null,null,null,null,null,null,null,null,null,null,null,null,null,null,null,null,null,null,null,null,null,null,null,null,null,null,null,null,null,null,null,null,null,null,null,null,null,null,null,null,null,null,null,null,null,null,null,null,null,null,null,null,null,null,null,null,null,null,null,null,null,null,null,null,null,null,null,null,null,null,null,null,null,null,null,null,null,null,null,null,null,null,null,null,null,null,null,null,null,null,null,null,null,null,null,null,null,null,null,null,null,null,null,null,null,null,null,null,null,null,null,null,null,null,null,null,null,null,null,null,null,null,null,null,null,null,null,null,null,null,null,null,null,null,null,null,null,null,null,null,null,null,null,null,null,null,null,null,null,null,null,null,null,null,null,null,null,null,null,null,null,null,null,null,null,null,null,null,null,null,null,null,null,null,null,null,null,null,null,null,null,null,null,null,null,null,null,null,null,null,null,null,null,null,null,null,null,null,null,null,null,null,null,null,null,null,null,null,null,null,null,null,null,null,null,null,null,null,null,null,null,null,null,null,null,null,null,null,null,null,null,null,null,null,null,null,null,null,null,null,null,null,null,null,null,null,null,null,null,null,null,null,null,null,null,null,null,null,null,null,null,null,null,null,null,null,null,null,null,null,null,null,null,null,null,null,null,null,null,null,null,null,null,null,null,null,null,null,null,null,null,null,null,null,null,null,null,null,null,null,null,null,"m2",{"$f":"OQ61","v":-11.447916666666671},{"$f":"OR61-2*OR39","v":3.0664961636828645}]
[null,null,null,null,null,null,null,null,null,null,null,null,null,null,null,null,null,null,null,null,null,null,null,null,null,null,null,null,null,null,null,null,null,null,null,null,null,null,null,null,null,null,null,null,null,null,null,null,null,null,null,null,null,null,null,null,null,null,null,null,null,null,null,null,null,null,null,null,null,null,null,null,null,null,null,null,null,null,null,null,null,null,null,null,null,null,null,null,null,null,null,null,null,null,null,null,null,null,null,null,null,null,null,null,null,null,null,null,null,null,null,null,null,null,null,null,null,null,null,null,null,null,null,null,null,null,null,null,null,null,null,null,null,null,null,null,null,null,null,null,null,null,null,null,null,null,null,null,null,null,null,null,null,null,null,null,null,null,null,null,null,null,null,null,null,null,null,null,null,null,null,null,null,null,null,null,null,null,null,null,null,null,null,null,null,null,null,null,null,null,null,null,null,null,null,null,null,null,null,null,null,null,null,null,null,null,null,null,null,null,null,null,null,null,null,null,null,null,null,null,null,null,null,null,null,null,null,null,null,null,null,null,null,null,null,null,null,null,null,null,null,null,null,null,null,null,null,null,null,null,null,null,null,null,null,null,null,null,null,null,null,null,null,null,null,null,null,null,null,null,null,null,null,null,null,null,null,null,null,null,null,null,null,null,null,null,null,null,null,null,null,null,null,null,null,null,null,null,null,null,null,null,null,null,null,null,null,null,null,null,null,null,null,null,null,null,null,null,null,null,null,null,null,null,null,null,null,null,null,null,null,null,null,null,null,null,null,null,null,null,null,null,null,null,null,null,null,null,null,null,null,null,null,null,null,null,null,null,null,null,null,null,null,null,null,null,null,null,null,null,null,null,null,null,null,null,null,null,null,null,null,null,null,null,null,null,null,null,null,null,null,null,null,null,null,null,null,null,null,null,null,null,null,null,null,null,null,null,null,null,"h5",{"$f":"OV1113+0.5*(OV1115-OV1113)","v":-17.335937500000004},{"$f":"OW1113","v":3.0664961636828645},{"$f":"OV1120","v":-24.085937500000004},{"$f":"OW1120","v":2.8164961636828645},{"$f":"OU1120","v":"h11"}]
[null,null,null,null,null,null,null,null,null,null,null,null,null,null,null,null,null,null,null,null,null,null,null,null,null,null,null,null,null,null,null,null,null,null,null,null,null,null,null,null,null,null,null,null,null,null,null,null,null,null,null,null,null,null,null,null,null,null,null,null,null,null,null,null,null,null,null,null,null,null,null,null,null,null,null,null,null,null,null,null,null,null,null,null,null,null,null,null,null,null,null,null,null,null,null,null,null,null,null,null,null,null,null,null,null,null,null,null,null,null,null,null,null,null,null,null,null,null,null,null,null,null,null,null,null,null,null,null,null,null,null,null,null,null,null,null,null,null,null,null,null,null,null,null,null,null,null,null,null,null,null,null,null,null,null,null,null,null,null,null,null,null,null,null,null,null,null,null,null,null,null,null,null,null,null,null,null,null,null,null,null,null,null,null,null,null,null,null,null,null,null,null,null,null,null,null,null,null,null,null,null,null,null,null,null,null,null,null,null,null,null,null,null,null,null,null,null,null,null,null,null,null,null,null,null,null,null,null,null,null,null,null,null,null,null,null,null,null,null,null,null,null,null,null,null,null,null,null,null,null,null,null,null,null,null,null,null,null,null,null,null,null,null,null,null,null,null,null,null,null,null,null,null,null,null,null,null,null,null,null,null,null,null,null,null,null,null,null,null,null,null,null,null,null,null,null,null,null,null,null,null,null,null,null,null,null,null,null,null,null,null,null,null,null,null,null,null,null,null,null,null,null,null,null,null,null,null,null,null,null,null,null,null,null,null,null,null,null,null,null,null,null,null,null,null,null,null,null,null,null,null,null,null,null,null,null,null,null,null,null,null,null,null,null,null,null,null,null,null,null,null,null,null,null,null,null,null,null,null,null,null,null,null,null,null,null,null,null,null,null,null,null,null,null,null,null,null,null,null,null,null,null,null,null,null,null,null,null,null,null,"h8",{"$f":"OV1116-0.5*OV1110","v":-24.085937500000004},{"$f":"OW1113","v":3.0664961636828645},{"$f":"OV1121","v":-10.585937500000004},{"$f":"OW1121","v":2.8164961636828645},{"$f":"OU1121","v":"h12"}]
[null,null,null,null,null,null,null,null,null,null,null,null,null,null,null,null,null,null,null,null,null,null,null,null,null,null,null,null,null,null,null,null,null,null,null,null,null,null,null,null,null,null,null,null,null,null,null,null,null,null,null,null,null,null,null,null,null,null,null,null,null,null,null,null,null,null,null,null,null,null,null,null,null,null,null,null,null,null,null,null,null,null,null,null,null,null,null,null,null,null,null,null,null,null,null,null,null,null,null,null,null,null,null,null,null,null,null,null,null,null,null,null,null,null,null,null,null,null,null,null,null,null,null,null,null,null,null,null,null,null,null,null,null,null,null,null,null,null,null,null,null,null,null,null,null,null,null,null,null,null,null,null,null,null,null,null,null,null,null,null,null,null,null,null,null,null,null,null,null,null,null,null,null,null,null,null,null,null,null,null,null,null,null,null,null,null,null,null,null,null,null,null,null,null,null,null,null,null,null,null,null,null,null,null,null,null,null,null,null,null,null,null,null,null,null,null,null,null,null,null,null,null,null,null,null,null,null,null,null,null,null,null,null,null,null,null,null,null,null,null,null,null,null,null,null,null,null,null,null,null,null,null,null,null,null,null,null,null,null,null,null,null,null,null,null,null,null,null,null,null,null,null,null,null,null,null,null,null,null,null,null,null,null,null,null,null,null,null,null,null,null,null,null,null,null,null,null,null,null,null,null,null,null,null,null,null,null,null,null,null,null,null,null,null,null,null,null,null,null,null,null,null,null,null,null,null,null,null,null,null,null,null,null,null,null,null,null,null,null,null,null,null,null,null,null,null,null,null,null,null,null,null,null,null,null,null,null,null,null,null,null,null,null,null,null,null,null,null,null,null,null,null,null,null,null,null,null,null,null,null,null,null,null,null,null,null,null,null,null,null,null,null,null,null,null,null,null,null,null,null,null,null,null,null,null,null,null,null,null,null,"h9",{"$f":"OV1116+0.5*OV1110","v":-10.585937500000004},{"$f":"OW1113","v":3.0664961636828645}]
[null,null,null,null,null,null,null,null,null,null,null,null,null,null,null,null,null,null,null,null,null,null,null,null,null,null,null,null,null,null,null,null,null,null,null,null,null,null,null,null,null,null,null,null,null,null,null,null,null,null,null,null,null,null,null,null,null,null,null,null,null,null,null,null,null,null,null,null,null,null,null,null,null,null,null,null,null,null,null,null,null,null,null,null,null,null,null,null,null,null,null,null,null,null,null,null,null,null,null,null,null,null,null,null,null,null,null,null,null,null,null,null,null,null,null,null,null,null,null,null,null,null,null,null,null,null,null,null,null,null,null,null,null,null,null,null,null,null,null,null,null,null,null,null,null,null,null,null,null,null,null,null,null,null,null,null,null,null,null,null,null,null,null,null,null,null,null,null,null,null,null,null,null,null,null,null,null,null,null,null,null,null,null,null,null,null,null,null,null,null,null,null,null,null,null,null,null,null,null,null,null,null,null,null,null,null,null,null,null,null,null,null,null,null,null,null,null,null,null,null,null,null,null,null,null,null,null,null,null,null,null,null,null,null,null,null,null,null,null,null,null,null,null,null,null,null,null,null,null,null,null,null,null,null,null,null,null,null,null,null,null,null,null,null,null,null,null,null,null,null,null,null,null,null,null,null,null,null,null,null,null,null,null,null,null,null,null,null,null,null,null,null,null,null,null,null,null,null,null,null,null,null,null,null,null,null,null,null,null,null,null,null,null,null,null,null,null,null,null,null,null,null,null,null,null,null,null,null,null,null,null,null,null,null,null,null,null,null,null,null,null,null,null,null,null,null,null,null,null,null,null,null,null,null,null,null,null,null,null,null,null,null,null,null,null,null,null,null,null,null,null,null,null,null,null,null,null,null,null,null,null,null,null,null,null,null,null,null,null,null,null,null,null,null,null,null,null,null,null,null,null,null,null,null,null,null,null,null,null,null,"h10",{"$f":"OV1117","v":-24.085937500000004},{"$f":"OW1117+0.5*OV1111","v":3.3164961636828645},{"$f":"OV1121","v":-10.585937500000004},{"$f":"OW1121","v":2.8164961636828645},{"$f":"OU1121","v":"h12"}]
[null,null,null,null,null,null,null,null,null,null,null,null,null,null,null,null,null,null,null,null,null,null,null,null,null,null,null,null,null,null,null,null,null,null,null,null,null,null,null,null,null,null,null,null,null,null,null,null,null,null,null,null,null,null,null,null,null,null,null,null,null,null,null,null,null,null,null,null,null,null,null,null,null,null,null,null,null,null,null,null,null,null,null,null,null,null,null,null,null,null,null,null,null,null,null,null,null,null,null,null,null,null,null,null,null,null,null,null,null,null,null,null,null,null,null,null,null,null,null,null,null,null,null,null,null,null,null,null,null,null,null,null,null,null,null,null,null,null,null,null,null,null,null,null,null,null,null,null,null,null,null,null,null,null,null,null,null,null,null,null,null,null,null,null,null,null,null,null,null,null,null,null,null,null,null,null,null,null,null,null,null,null,null,null,null,null,null,null,null,null,null,null,null,null,null,null,null,null,null,null,null,null,null,null,null,null,null,null,null,null,null,null,null,null,null,null,null,null,null,null,null,null,null,null,null,null,null,null,null,null,null,null,null,null,null,null,null,null,null,null,null,null,null,null,null,null,null,null,null,null,null,null,null,null,null,null,null,null,null,null,null,null,null,null,null,null,null,null,null,null,null,null,null,null,null,null,null,null,null,null,null,null,null,null,null,null,null,null,null,null,null,null,null,null,null,null,null,null,null,null,null,null,null,null,null,null,null,null,null,null,null,null,null,null,null,null,null,null,null,null,null,null,null,null,null,null,null,null,null,null,null,null,null,null,null,null,null,null,null,null,null,null,null,null,null,null,null,null,null,null,null,null,null,null,null,null,null,null,null,null,null,null,null,null,null,null,null,null,null,null,null,null,null,null,null,null,null,null,null,null,null,null,null,null,null,null,null,null,null,null,null,null,null,null,null,null,null,null,null,null,null,null,null,null,null,null,null,null,null,null,"h11",{"$f":"OV1117","v":-24.085937500000004},{"$f":"OW1117-0.5*OV1111","v":2.8164961636828645},{"$f":"OV1122","v":-10.585937500000004},{"$f":"OW1122","v":3.3164961636828645},{"$f":"OU1122","v":"h13"}]
[null,null,null,null,null,null,null,null,null,null,null,null,null,null,null,null,null,null,null,null,null,null,null,null,null,null,null,null,null,null,null,null,null,null,null,null,null,null,null,null,null,null,null,null,null,null,null,null,null,null,null,null,null,null,null,null,null,null,null,null,null,null,null,null,null,null,null,null,null,null,null,null,null,null,null,null,null,null,null,null,null,null,null,null,null,null,null,null,null,null,null,null,null,null,null,null,null,null,null,null,null,null,null,null,null,null,null,null,null,null,null,null,null,null,null,null,null,null,null,null,null,null,null,null,null,null,null,null,null,null,null,null,null,null,null,null,null,null,null,null,null,null,null,null,null,null,null,null,null,null,null,null,null,null,null,null,null,null,null,null,null,null,null,null,null,null,null,null,null,null,null,null,null,null,null,null,null,null,null,null,null,null,null,null,null,null,null,null,null,null,null,null,null,null,null,null,null,null,null,null,null,null,null,null,null,null,null,null,null,null,null,null,null,null,null,null,null,null,null,null,null,null,null,null,null,null,null,null,null,null,null,null,null,null,null,null,null,null,null,null,null,null,null,null,null,null,null,null,null,null,null,null,null,null,null,null,null,null,null,null,null,null,null,null,null,null,null,null,null,null,null,null,null,null,null,null,null,null,null,null,null,null,null,null,null,null,null,null,null,null,null,null,null,null,null,null,null,null,null,null,null,null,null,null,null,null,null,null,null,null,null,null,null,null,null,null,null,null,null,null,null,null,null,null,null,null,null,null,null,null,null,null,null,null,null,null,null,null,null,null,null,null,null,null,null,null,null,null,null,null,null,null,null,null,null,null,null,null,null,null,null,null,null,null,null,null,null,null,null,null,null,null,null,null,null,null,null,null,null,null,null,null,null,null,null,null,null,null,null,null,null,null,null,null,null,null,null,null,null,null,null,null,null,null,null,null,null,null,null,null,"h12",{"$f":"OV1118","v":-10.585937500000004},{"$f":"OW1120","v":2.8164961636828645}]
[null,null,null,null,null,null,null,null,null,null,null,null,null,null,null,null,null,null,null,null,null,null,null,null,null,null,null,null,null,null,null,null,null,null,null,null,null,null,null,null,null,null,null,null,null,null,null,null,null,null,null,null,null,null,null,null,null,null,null,null,null,null,null,null,null,null,null,null,null,null,null,null,null,null,null,null,null,null,null,null,null,null,null,null,null,null,null,null,null,null,null,null,null,null,null,null,null,null,null,null,null,null,null,null,null,null,null,null,null,null,null,null,null,null,null,null,null,null,null,null,null,null,null,null,null,null,null,null,null,null,null,null,null,null,null,null,null,null,null,null,null,null,null,null,null,null,null,null,null,null,null,null,null,null,null,null,null,null,null,null,null,null,null,null,null,null,null,null,null,null,null,null,null,null,null,null,null,null,null,null,null,null,null,null,null,null,null,null,null,null,null,null,null,null,null,null,null,null,null,null,null,null,null,null,null,null,null,null,null,null,null,null,null,null,null,null,null,null,null,null,null,null,null,null,null,null,null,null,null,null,null,null,null,null,null,null,null,null,null,null,null,null,null,null,null,null,null,null,null,null,null,null,null,null,null,null,null,null,null,null,null,null,null,null,null,null,null,null,null,null,null,null,null,null,null,null,null,null,null,null,null,null,null,null,null,null,null,null,null,null,null,null,null,null,null,null,null,null,null,null,null,null,null,null,null,null,null,null,null,null,null,null,null,null,null,null,null,null,null,null,null,null,null,null,null,null,null,null,null,null,null,null,null,null,null,null,null,null,null,null,null,null,null,null,null,null,null,null,null,null,null,null,null,null,null,null,null,null,null,null,null,null,null,null,null,null,null,null,null,null,null,null,null,null,null,null,null,null,null,null,null,null,null,null,null,null,null,null,null,null,null,null,null,null,null,null,null,null,null,null,null,null,null,null,null,null,null,null,null,null,"h13",{"$f":"OV1118","v":-10.585937500000004},{"$f":"OW1119","v":3.3164961636828645},{"$f":"OV1116","v":-17.335937500000004},{"$f":"OW1116","v":3.0664961636828645},{"$f":"OU1116","v":"h5"}]
[]
[null,null,null,null,null,null,null,null,null,null,null,null,null,null,null,null,null,null,null,null,null,null,null,null,null,null,null,null,null,null,null,null,null,null,null,null,null,null,null,null,null,null,null,null,null,null,null,null,null,null,null,null,null,null,null,null,null,null,null,null,null,null,null,null,null,null,null,null,null,null,null,null,null,null,null,null,null,null,null,null,null,null,null,null,null,null,null,null,null,null,null,null,null,null,null,null,null,null,null,null,null,null,null,null,null,null,null,null,null,null,null,null,null,null,null,null,null,null,null,null,null,null,null,null,null,null,null,null,null,null,null,null,null,null,null,null,null,null,null,null,null,null,null,null,null,null,null,null,null,null,null,null,null,null,null,null,null,null,null,null,null,null,null,null,null,null,null,null,null,null,null,null,null,null,null,null,null,null,null,null,null,null,null,null,null,null,null,null,null,null,null,null,null,null,null,null,null,null,null,null,null,null,null,null,null,null,null,null,null,null,null,null,null,null,null,null,null,null,null,null,null,null,null,null,null,null,null,null,null,null,null,null,null,null,null,null,null,null,null,null,null,null,null,null,null,null,null,null,null,null,null,null,null,null,null,null,null,null,null,null,null,null,null,null,null,null,null,null,null,null,null,null,null,null,null,null,null,null,null,null,null,null,null,null,null,null,null,null,null,null,null,null,null,null,null,null,null,null,null,null,null,null,null,null,null,null,null,null,null,null,null,null,null,null,null,null,null,null,null,null,null,null,null,null,null,null,null,null,null,null,null,null,null,null,null,null,null,null,null,null,null,null,null,null,null,null,null,null,null,null,null,null,null,null,null,null,null,null,null,null,null,null,null,null,null,null,null,null,null,null,null,null,null,null,null,null,null,null,null,null,null,null,null,null,null,null,null,null,null,null,null,null,null,null,null,null,null,null,null,null,null,null,null,null,null,null,null,null,null,null,null,null,null,{"$f":"OR36+0.25*(OQ61-OR36)","v":-29.111979166666668},{"$f":"OR61-1*OR39","v":4.0332480818414318},"m'1"]
[]
[null,null,null,null,null,null,null,null,null,null,null,null,null,null,null,null,null,null,null,null,null,null,null,null,null,null,null,null,null,null,null,null,null,null,null,null,null,null,null,null,null,null,null,null,null,null,null,null,null,null,null,null,null,null,null,null,null,null,null,null,null,null,null,null,null,null,null,null,null,null,null,null,null,null,null,null,null,null,null,null,null,null,null,null,null,null,null,null,null,null,null,null,null,null,null,null,null,null,null,null,null,null,null,null,null,null,null,null,null,null,null,null,null,null,null,null,null,null,null,null,null,null,null,null,null,null,null,null,null,null,null,null,null,null,null,null,null,null,null,null,null,null,null,null,null,null,null,null,null,null,null,null,null,null,null,null,null,null,null,null,null,null,null,null,null,null,null,null,null,null,null,null,null,null,null,null,null,null,null,null,null,null,null,null,null,null,null,null,null,null,null,null,null,null,null,null,null,null,null,null,null,null,null,null,null,null,null,null,null,null,null,null,null,null,null,null,null,null,null,null,null,null,null,null,null,null,null,null,null,null,null,null,null,null,null,null,null,null,null,null,null,null,null,null,null,null,null,null,null,null,null,null,null,null,null,null,null,null,null,null,null,null,null,null,null,null,null,null,null,null,null,null,null,null,null,null,null,null,null,null,null,null,null,null,null,null,null,null,null,null,null,null,null,null,null,null,null,null,null,null,null,null,null,null,null,null,null,null,null,null,null,null,null,null,null,null,null,null,null,null,null,null,null,null,null,null,null,null,null,null,null,null,null,null,null,null,null,null,null,null,null,null,null,null,null,null,null,null,null,null,null,null,null,null,null,null,null,null,null,null,null,null,null,null,null,null,null,null,null,null,null,null,null,null,null,null,null,null,null,null,null,null,null,null,null,null,null,null,null,null,null,null,null,null,null,null,null,null,null,null,null,null,null,null,null,null,null,null,null,null,null,null,null,{"$f":"OR36+0.75*(OQ61-OR36)","v":-17.335937500000004},{"$f":"OR61-1*OR39","v":4.0332480818414318},"m''1"]
[]
[null,null,null,null,null,null,null,null,null,null,null,null,null,null,null,null,null,null,null,null,null,null,null,null,null,null,null,null,null,null,null,null,null,null,null,null,null,null,null,null,null,null,null,null,null,null,null,null,null,null,null,null,null,null,null,null,null,null,null,null,null,null,null,null,null,null,null,null,null,null,null,null,null,null,null,null,null,null,null,null,null,null,null,null,null,null,null,null,null,null,null,null,null,null,null,null,null,null,null,null,null,null,null,null,null,null,null,null,null,null,null,null,null,null,null,null,null,null,null,null,null,null,null,null,null,null,null,null,null,null,null,null,null,null,null,null,null,null,null,null,null,null,null,null,null,null,null,null,null,null,null,null,null,null,null,null,null,null,null,null,null,null,null,null,null,null,null,null,null,null,null,null,null,null,null,null,null,null,null,null,null,null,null,null,null,null,null,null,null,null,null,null,null,null,null,null,null,null,null,null,null,null,null,null,null,null,null,null,null,null,null,null,null,null,null,null,null,null,null,null,null,null,null,null,null,null,null,null,null,null,null,null,null,null,null,null,null,null,null,null,null,null,null,null,null,null,null,null,null,null,null,null,null,null,null,null,null,null,null,null,null,null,null,null,null,null,null,null,null,null,null,null,null,null,null,null,null,null,null,null,null,null,null,null,null,null,null,null,null,null,null,null,null,null,null,null,null,null,null,null,null,null,null,null,null,null,null,null,null,null,null,null,null,null,null,null,null,null,null,null,null,null,null,null,null,null,null,null,null,null,null,null,null,null,null,null,null,null,null,null,null,null,null,null,null,null,null,null,null,null,null,null,null,null,null,null,null,null,null,null,null,null,null,null,null,null,null,null,null,null,null,null,null,null,null,null,null,null,null,null,null,null,null,null,null,null,null,null,null,null,null,null,null,null,null,null,null,null,null,null,null,null,null,null,null,null,null,null,null,null,null,null,null,{"$f":"OR36+0.5*(OQ61-OR36)","v":-23.223958333333336},{"$f":"OR61-1*OR39","v":4.0332480818414318},"m'''1"]

{"sheet":"متغیرها ","index":2,"n_rows":925,"n_cols":149,"rows_kept":925,"cut":false,"hidden":true,"merged":[]}
[]
[]
["متغیرهای ورودی چادر",null,null,null,"تبدیل رنج متغیر ورودی","توضیح متغیر ورودی برای صفحه نمایش"]
[" متغیر ورودی چادر شماره 1 یا مقنعه ",null,null,null,null," متغیر ورودی چادر شماره 1 یا مقنعه ","x1","y1","x2","y2(بهینه)","a","b",null,"کمترین",null,"بیشترین",null,null,null,null,"انتخاب ستون سلول مرجع برای انتخاب سایز در رسم الگو","انتخاب نوع الگو","انتخاب نوع اندازه گیری","اندازه جدید یا اندازه موجود","انتخاب ستون سلول مرجع برای انتخاب سایز در بررسی اندازه ها"]
["ضریب فاصله لبه چادر یا مقنعه تا زمین   j0","(از -0.1 الی 4.5)",{"$f":"K5*E5+L5","v":3},"خط زمین=0 \nخط زانو=1 \nخط باسن=2 \nخط کمر=3 \nخط سینه=4  ",{"$f":"'طراحی همه الگوها'!Q177","v":70},"ضریب فاصله لبه چادر یا مقنعه تا زمین   ",10,0,30,1,{"$f":"(J5-H5)/(I5-G5)","v":0.05},{"$f":"H5-G5*K5","v":-0.5},2,{"$f":"(M5-L5)/K5","v":50},4,{"$f":"(O5-L5)/K5","v":90},3,{"$f":"(Q5-L5)/K5","v":70},null,"سلول مرجع",{"$f":"MATCH('الگوهای مدل 50'!D3,'متغیرها '!AJ51:AJ179,0)","v":2},1,3,2,32]
["انتخاب چادر تا پایین پیشانی=1    انتخاب چادر تا بالای پیشانی=0\nانتخاب چادر روی سر = -1"," -1 یا 0 یا 1",{"$f":"K6*E6+L6","v":0},null,{"$f":"'طراحی همه الگوها'!Q178","v":2},"انتخاب چادر تا پایین پیشانی=3    انتخاب چادر تا بالای پیشانی=2\nانتخاب چادر روی سر = 1",2,0,1,-1,{"$f":"(J6-H6)/(I6-G6)","v":1},{"$f":"H6-G6*K6","v":-2},0,{"$f":"(M6-L6)/K6","v":2},2,{"$f":"(O6-L6)/K6","v":4},1,{"$f":"(Q6-L6)/K6","v":3},null,null," 1ماهه","1 تا 3 ماهه"," 3 تا 6 ماهه","6ماهه تا یکساله","بچگانه 1 ساله","بچگانه 2 ساله","بچگانه 3 ساله","بچگانه 4 ساله","بچگانه 5 ساله","بچگانه 6 ساله","بچگانه 7 ساله","بچگانه 8 ساله","بچگانه 9 ساله","بچگانه 10 ساله","بچگانه 11 ساله","بچگانه 12 ساله","بچگانه 13 ساله","بچگانه 14 ساله","34زنانه","36زنانه","38زنانه","40زنانه","42زنانه","44زنانه","46زنانه","48زنانه","50زنانه","52زنانه","54زنانه","56زنانه","58زنانه","60زنانه","37 مردانه","38 مردانه","39 مردانه","40 مردانه","41 مردانه","42 مردانه","43 مردانه","44 مردانه","45 مردانه","46 مردانه","47 مردانه","48 مردانه","49 مردانه","50 مردانه","6ماهه تا یکساله کت","1ساله کت","2ساله کت","3ساله کت","4ساله کت","5ساله کت","6ساله کت","7ساله کت","8ساله کت","9ساله کت","10ساله کت","11ساله کت","12ساله کت","13ساله کت","14ساله کت","34زنانه کمر پهن","36زنانه کمر پهن","38زنانه کمر پهن","40زنانه کمر پهن","42زنانه کمر پهن","44زنانه کمر پهن","46زنانه کمر پهن","48زنانه کمر پهن","50زنانه کمر پهن","52زنانه کمر پهن","54زنانه کمر پهن","56زنانه کمر پهن","58زنانه کمر پهن","60زنانه کمر پهن","37مردانه کت","38مردانه کت","39مردانه کت","40مردانه کت","41مردانه کت","42مردانه کت","43مردانه کت","44مردانه کت","45مردانه کت","46 مردانه کت","47 مردانه کت","48 مردانه کت","49 مردانه کت","50 مردانه کت",{"$f":"'اندازه های شخصی'!G5","v":"عنوان 1"},{"$f":"'اندازه های شخصی'!I5","v":"عنوان 2"},{"$f":"'اندازه های شخصی'!K5","v":"عنوان 3"},{"$f":"'اندازه های شخصی'!M5","v":"عنوان 4"},{"$f":"'اندازه های شخصی'!O5","v":"عنوان 5"},{"$f":"'اندازه های شخصی'!Q5","v":"عنوان 6"},{"$f":"'اندازه های شخصی'!S5","v":"عنوان 7"},{"$f":"'اندازه های شخصی'!U5","v":"عنوان 8"},{"$f":"'اندازه های شخصی'!W5","v":"عنوان 9"},{"$f":"'اندازه های شخصی'!Y5","v":"عنوان 10"},{"$f":"'اندازه های شخصی'!AA5","v":"عنوان 11"},{"$f":"'اندازه های شخصی'!AC5","v":"عنوان 12"},{"$f":"'اندازه های شخصی'!AE5","v":"عنوان 13"},{"$f":"'اندازه های شخصی'!AG5","v":"عنوان 14"},{"$f":"'اندازه های شخصی'!AI5","v":"عنوان 15"},{"$f":"'اندازه های شخصی'!AK5","v":"عنوان 16"},{"$f":"'اندازه های شخصی'!AM5","v":"عنوان 17"},{"$f":"'اندازه های شخصی'!AO5","v":"عنوان 18"},{"$f":"'اندازه های شخصی'!AQ5","v":"عنوان 19"},{"$f":"'اندازه های شخصی'!AS5","v":"عنوان 20"},{"$f":"'اندازه های شخصی'!AU5","v":"عنوان 21"},{"$f":"'اندازه های شخصی'!AW5","v":"عنوان 22"},{"$f":"'اندازه های شخصی'!AY5","v":"عنوان 23"},{"$f":"'اندازه های شخصی'!BA5","v":"عنوان 24"},{"$f":"'اندازه های شخصی'!BC5","v":"عنوان 25"},{"$f":"'اندازه های شخصی'!BE5","v":"عنوان 26"},{"$f":"'اندازه های شخصی'!BG5","v":"عنوان 27"},{"$f":"'اندازه های شخصی'!BI5","v":"عنوان 28"},{"$f":"'اندازه های شخصی'!BK5","v":"عنوان 29"},{"$f":"'اندازه های شخصی'!BM5","v":"عنوان 30"},{"$f":"'اندازه های شخصی'!BO5","v":"عنوان 31"},{"$f":"'اندازه های شخصی'!BQ5","v":"عنوان 32"},{"$f":"'اندازه های شخصی'!BS5","v":"عنوان 33"},{"$f":"'اندازه های شخصی'!BU5","v":"عنوان 34"},{"$f":"'اندازه های شخصی'!BW5","v":"عنوان 35"},{"$f":"'اندازه های شخصی'!BY5","v":"عنوان 36"},{"$f":"'اندازه های شخصی'!CA5","v":"عنوان 37"},{"$f":"'اندازه های شخصی'!CC5","v":"عنوان 38"},{"$f":"'اندازه های شخصی'!CE5","v":"عنوان 39"},{"$f":"'اندازه های شخصی'!CG5","v":"عنوان 40"}]
[null,null,null,null,null,null,null,null,null,null,null,null,null,null,null,null,null,null,null,"a",41,42,45,47,48,49,51,53,55,57,59,61,63,65.5,68,71,73,75,63,65,68,72,77,82,87,92,97,103,110,117,124,131,74,78,82,86,90,94,98,102,106,111,116,121,126,131,47,48,49,51,53,55,57,59,61,63,65.5,68,71,73,75,67,69,72,76,81,86,91,96,101,107,114,121,127,135,75.5,79.599999999999994,83.6,87.7,91.8,95.9,100,104,108.1,113.2,118.3,123.4,128.5,133.6,{"$f":"'اندازه های شخصی'!G8","v":0},{"$f":"'اندازه های شخصی'!I8","v":0},{"$f":"'اندازه های شخصی'!K8","v":0},{"$f":"'اندازه های شخصی'!M8","v":0},{"$f":"'اندازه های شخصی'!O8","v":0},{"$f":"'اندازه های شخصی'!Q8","v":0},{"$f":"'اندازه های شخصی'!S8","v":0},{"$f":"'اندازه های شخصی'!U8","v":0},{"$f":"'اندازه های شخصی'!W8","v":0},{"$f":"'اندازه های شخصی'!Y8","v":0},{"$f":"'اندازه های شخصی'!AA8","v":0},{"$f":"'اندازه های شخصی'!AC8","v":0},{"$f":"'اندازه های شخصی'!AE8","v":0},{"$f":"'اندازه های شخصی'!AG8","v":0},{"$f":"'اندازه های شخصی'!AI8","v":0},{"$f":"'اندازه های شخصی'!AK8","v":0},{"$f":"'اندازه های شخصی'!AM8","v":0},{"$f":"'اندازه های شخصی'!AO8","v":0},{"$f":"'اندازه های شخصی'!AQ8","v":0},{"$f":"'اندازه های شخصی'!AS8","v":0},{"$f":"'اندازه های شخصی'!AU8","v":0},{"$f":"'اندازه های شخصی'!AW8","v":0},{"$f":"'اندازه های شخصی'!AY8","v":0},{"$f":"'اندازه های شخصی'!BA8","v":0},{"$f":"'اندازه های شخصی'!BC8","v":0},{"$f":"'اندازه های شخصی'!BE8","v":0},{"$f":"'اندازه های شخصی'!BG8","v":0},{"$f":"'اندازه های شخصی'!BI8","v":0},{"$f":"'اندازه های شخصی'!BK8","v":0},{"$f":"'اندازه های شخصی'!BM8","v":0},{"$f":"'اندازه های شخصی'!BO8","v":0},{"$f":"'اندازه های شخصی'!BQ8","v":0},{"$f":"'اندازه های شخصی'!BS8","v":0},{"$f":"'اندازه های شخصی'!BU8","v":0},{"$f":"'اندازه های شخصی'!BW8","v":0},{"$f":"'اندازه های شخصی'!BY8","v":0},{"$f":"'اندازه های شخصی'!CA8","v":0},{"$f":"'اندازه های شخصی'!CC8","v":0},{"$f":"'اندازه های شخصی'!CE8","v":0},{"$f":"'اندازه های شخصی'!CG8","v":0}]
[" متغیرهای ورودی چادر شماره 2",null,null,null,null," متغیرهای ورودی چادر شماره 2","x1","y1","x2","y2(بهینه)","a","b",null,"کمترین",null,"بیشترین",null,null,null,"b",20.100000000000001,20.6,22.1,23,23.5,24,25,26,27,27.9,28.9,29.9,30.9,32.1,33.299999999999997,34.799999999999997,35.799999999999997,36.799999999999997,32.200000000000003,32.700000000000003,33.700000000000003,35.200000000000003,36.9,38.700000000000003,40.6,42.3,44.3,47.5,51,54.8,59.2,63.6,37,39,41,43,45,47,49,51,53,55.5,58,60.5,63,65.5,23,23.5,24,25,26,27,27.9,28.9,29.9,30.9,32.1,33.299999999999997,34.799999999999997,35.799999999999997,36.799999999999997,34.200000000000003,34.700000000000003,35.700000000000003,37.1,38.799999999999997,40.6,42.4,44.2,46.1,49.4,52.8,56.7,60.7,64.5,37.799999999999997,39.799999999999997,41.8,43.9,45.9,48,50,52,54.1,56.6,59.2,61.7,64.3,66.8,{"$f":"'اندازه های شخصی'!G9","v":0},{"$f":"'اندازه های شخصی'!I9","v":0},{"$f":"'اندازه های شخصی'!K9","v":0},{"$f":"'اندازه های شخصی'!M9","v":0},{"$f":"'اندازه های شخصی'!O9","v":0},{"$f":"'اندازه های شخصی'!Q9","v":0},{"$f":"'اندازه های شخصی'!S9","v":0},{"$f":"'اندازه های شخصی'!U9","v":0},{"$f":"'اندازه های شخصی'!W9","v":0},{"$f":"'اندازه های شخصی'!Y9","v":0},{"$f":"'اندازه های شخصی'!AA9","v":0},{"$f":"'اندازه های شخصی'!AC9","v":0},{"$f":"'اندازه های شخصی'!AE9","v":0},{"$f":"'اندازه های شخصی'!AG9","v":0},{"$f":"'اندازه های شخصی'!AI9","v":0},{"$f":"'اندازه های شخصی'!AK9","v":0},{"$f":"'اندازه های شخصی'!AM9","v":0},{"$f":"'اندازه های شخصی'!AO9","v":0},{"$f":"'اندازه های شخصی'!AQ9","v":0},{"$f":"'اندازه های شخصی'!AS9","v":0},{"$f":"'اندازه های شخصی'!AU9","v":0},{"$f":"'اندازه های شخصی'!AW9","v":0},{"$f":"'اندازه های شخصی'!AY9","v":0},{"$f":"'اندازه های شخصی'!BA9","v":0},{"$f":"'اندازه های شخصی'!BC9","v":0},{"$f":"'اندازه های شخصی'!BE9","v":0},{"$f":"'اندازه های شخصی'!BG9","v":0},{"$f":"'اندازه های شخصی'!BI9","v":0},{"$f":"'اندازه های شخصی'!BK9","v":0},{"$f":"'اندازه های شخصی'!BM9","v":0},{"$f":"'اندازه های شخصی'!BO9","v":0},{"$f":"'اندازه های شخصی'!BQ9","v":0},{"$f":"'اندازه های شخصی'!BS9","v":0},{"$f":"'اندازه های شخصی'!BU9","v":0},{"$f":"'اندازه های شخصی'!BW9","v":0},{"$f":"'اندازه های شخصی'!BY9","v":0},{"$f":"'اندازه های شخصی'!CA9","v":0},{"$f":"'اندازه های شخصی'!CC9","v":0},{"$f":"'اندازه های شخصی'!CE9","v":0},{"$f":"'اندازه های شخصی'!CG9","v":0}]
["ضریب فاصله لبه چادر تا زمین   j0","(از -0.1 الی 0.5)",{"$f":"K9*E9+L9","v":0},"خط زمین=0 \nخط زانو=1  ",{"$f":"'طراحی همه الگوها'!Q188","v":10},"ضریب فاصله لبه چادر تا زمین   ",10,0,30,1,{"$f":"(J9-H9)/(I9-G9)","v":0.05},{"$f":"H9-G9*K9","v":-0.5},-0.1,{"$f":"(M9-L9)/K9","v":8},0.5,{"$f":"(O9-L9)/K9","v":20},0,{"$f":"(Q9-L9)/K9","v":10},null,"c",43,45,48,50,53,56,59,62,65,68,71,74,77,80,83,85,89,93,85,89,93,97,102,107,112,117,122,126,132,138,144,150,92,96,100,104,108,112,116,120,124,128,132,136,140,144,50,53,56,59,62,65,68,71,74,77,80,83,85,89,93,85,89,93,97,102,107,112,117,122,126,132,138,144,150,92,96,100,104,108,112,116,120,124,128,132,136,140,144,{"$f":"'اندازه های شخصی'!G10","v":0},{"$f":"'اندازه های شخصی'!I10","v":0},{"$f":"'اندازه های شخصی'!K10","v":0},{"$f":"'اندازه های شخصی'!M10","v":0},{"$f":"'اندازه های شخصی'!O10","v":0},{"$f":"'اندازه های شخصی'!Q10","v":0},{"$f":"'اندازه های شخصی'!S10","v":0},{"$f":"'اندازه های شخصی'!U10","v":0},{"$f":"'اندازه های شخصی'!W10","v":0},{"$f":"'اندازه های شخصی'!Y10","v":0},{"$f":"'اندازه های شخصی'!AA10","v":0},{"$f":"'اندازه های شخصی'!AC10","v":0},{"$f":"'اندازه های شخصی'!AE10","v":0},{"$f":"'اندازه های شخصی'!AG10","v":0},{"$f":"'اندازه های شخصی'!AI10","v":0},{"$f":"'اندازه های شخصی'!AK10","v":0},{"$f":"'اندازه های شخصی'!AM10","v":0},{"$f":"'اندازه های شخصی'!AO10","v":0},{"$f":"'اندازه های شخصی'!AQ10","v":0},{"$f":"'اندازه های شخصی'!AS10","v":0},{"$f":"'اندازه های شخصی'!AU10","v":0},{"$f":"'اندازه های شخصی'!AW10","v":0},{"$f":"'اندازه های شخصی'!AY10","v":0},{"$f":"'اندازه های شخصی'!BA10","v":0},{"$f":"'اندازه های شخصی'!BC10","v":0},{"$f":"'اندازه های شخصی'!BE10","v":0},{"$f":"'اندازه های شخصی'!BG10","v":0},{"$f":"'اندازه های شخصی'!BI10","v":0},{"$f":"'اندازه های شخصی'!BK10","v":0},{"$f":"'اندازه های شخصی'!BM10","v":0},{"$f":"'اندازه های شخصی'!BO10","v":0},{"$f":"'اندازه های شخصی'!BQ10","v":0},{"$f":"'اندازه های شخصی'!BS10","v":0},{"$f":"'اندازه های شخصی'!BU10","v":0},{"$f":"'اندازه های شخصی'!BW10","v":0},{"$f":"'اندازه های شخصی'!BY10","v":0},{"$f":"'اندازه های شخصی'!CA10","v":0},{"$f":"'اندازه های شخصی'!CC10","v":0},{"$f":"'اندازه های شخصی'!CE10","v":0},{"$f":"'اندازه های شخصی'!CG10","v":0}]
["ضریب قرارگیری نقطه اتصال جلو چادر به پشت چادر  a0","(از 0.5 الی 1.2)",1,"روی پیشانی=0.5 \nبالای گوش=1  ",{"$f":"'طراحی همه الگوها'!Q189","v":20},"مکان نقطه اتصال جلو چادر به پشت چادر  ",10,0.5,20,1,0.05,0,0.5,10,1.2,23.999999999999996,0.5,10,null,"d",24.1,25.2,26.9,28,29.7,31.4,31.3,32.9,34.5,36,37.6,39.200000000000003,40.799999999999997,42.4,44,45.1,47.2,49.3,47.5,49,50.4,51.9,53.6,55.4,57.2,59,61,63.7,67,70.8,75.3,79.8,50.6,52.8,55,57.2,59.4,61.6,63.8,66,68.2,70.400000000000006,72.599999999999994,74.8,77,79.2,28,29.7,31.4,31.3,33.5,35.1,36.700000000000003,38.299999999999997,40,41.6,43.2,44,45.1,47.2,49.3,47.5,49,50.4,51.9,53.6,55.4,57.2,59,61,63.7,67,70.8,75.3,79.8,48.3,50.4,52.5,54.6,56.7,58.8,60.9,63,65.099999999999994,67.2,69.3,71.400000000000006,73.5,75.599999999999994,{"$f":"'اندازه های شخصی'!G11","v":0},{"$f":"'اندازه های شخصی'!I11","v":0},{"$f":"'اندازه های شخصی'!K11","v":0},{"$f":"'اندازه های شخصی'!M11","v":0},{"$f":"'اندازه های شخصی'!O11","v":0},{"$f":"'اندازه های شخصی'!Q11","v":0},{"$f":"'اندازه های شخصی'!S11","v":0},{"$f":"'اندازه های شخصی'!U11","v":0},{"$f":"'اندازه های شخصی'!W11","v":0},{"$f":"'اندازه های شخصی'!Y11","v":0},{"$f":"'اندازه های شخصی'!AA11","v":0},{"$f":"'اندازه های شخصی'!AC11","v":0},{"$f":"'اندازه های شخصی'!AE11","v":0},{"$f":"'اندازه های شخصی'!AG11","v":0},{"$f":"'اندازه های شخصی'!AI11","v":0},{"$f":"'اندازه های شخصی'!AK11","v":0},{"$f":"'اندازه های شخصی'!AM11","v":0},{"$f":"'اندازه های شخصی'!AO11","v":0},{"$f":"'اندازه های شخصی'!AQ11","v":0},{"$f":"'اندازه های شخصی'!AS11","v":0},{"$f":"'اندازه های شخصی'!AU11","v":0},{"$f":"'اندازه های شخصی'!AW11","v":0},{"$f":"'اندازه های شخصی'!AY11","v":0},{"$f":"'اندازه های شخصی'!BA11","v":0},{"$f":"'اندازه های شخصی'!BC11","v":0},{"$f":"'اندازه های شخصی'!BE11","v":0},{"$f":"'اندازه های شخصی'!BG11","v":0},{"$f":"'اندازه های شخصی'!BI11","v":0},{"$f":"'اندازه های شخصی'!BK11","v":0},{"$f":"'اندازه های شخصی'!BM11","v":0},{"$f":"'اندازه های شخصی'!BO11","v":0},{"$f":"'اندازه های شخصی'!BQ11","v":0},{"$f":"'اندازه های شخصی'!BS11","v":0},{"$f":"'اندازه های شخصی'!BU11","v":0},{"$f":"'اندازه های شخصی'!BW11","v":0},{"$f":"'اندازه های شخصی'!BY11","v":0},{"$f":"'اندازه های شخصی'!CA11","v":0},{"$f":"'اندازه های شخصی'!CC11","v":0},{"$f":"'اندازه های شخصی'!CE11","v":0},{"$f":"'اندازه های شخصی'!CG11","v":0}]
["ضریب گشادی عرضی چادر  a1","(از 0.35 الی 0.53)",0.45,"بهینه=0.45",{"$f":"'طراحی همه الگوها'!Q190","v":20},"ضریب گشادی عرضی چادر  ",21,0.46,20,0.45,1.0000000000000009E-2,0.24999999999999983,0.35,10.000000000000005,0.53,27.999999999999993,0.45,20,null,"e",23,25,32,38,42,48,53.9,60.4,66.400000000000006,70.400000000000006,74.400000000000006,77.900000000000006,80.900000000000006,84.4,87.9,91.9,95.9,99.9,101,102,103,104,104.4,104.9,105.4,105.9,106.4,106.9,107.4,107.9,108.4,108.9,103.8,105.1,106.5,107.2,107.8,108.4,109,109.6,110.2,110.7,111.2,111.7,112.2,112.7,38,42,48,53.9,60.4,66.400000000000006,70.400000000000006,74.400000000000006,77.900000000000006,80.900000000000006,84.4,87.9,91.9,95.9,99.9,101,102,103,104,104.4,104.9,105.4,105.9,106.4,106.9,107.4,107.9,108.4,108.9,104.7,106.1,107.5,108.2,108.8,109.4,110,110.6,111.2,111.7,112.2,112.7,113.2,113.7,{"$f":"'اندازه های شخصی'!G12","v":0},{"$f":"'اندازه های شخصی'!I12","v":0},{"$f":"'اندازه های شخصی'!K12","v":0},{"$f":"'اندازه های شخصی'!M12","v":0},{"$f":"'اندازه های شخصی'!O12","v":0},{"$f":"'اندازه های شخصی'!Q12","v":0},{"$f":"'اندازه های شخصی'!S12","v":0},{"$f":"'اندازه های شخصی'!U12","v":0},{"$f":"'اندازه های شخصی'!W12","v":0},{"$f":"'اندازه های شخصی'!Y12","v":0},{"$f":"'اندازه های شخصی'!AA12","v":0},{"$f":"'اندازه های شخصی'!AC12","v":0},{"$f":"'اندازه های شخصی'!AE12","v":0},{"$f":"'اندازه های شخصی'!AG12","v":0},{"$f":"'اندازه های شخصی'!AI12","v":0},{"$f":"'اندازه های شخصی'!AK12","v":0},{"$f":"'اندازه های شخصی'!AM12","v":0},{"$f":"'اندازه های شخصی'!AO12","v":0},{"$f":"'اندازه های شخصی'!AQ12","v":0},{"$f":"'اندازه های شخصی'!AS12","v":0},{"$f":"'اندازه های شخصی'!AU12","v":0},{"$f":"'اندازه های شخصی'!AW12","v":0},{"$f":"'اندازه های شخصی'!AY12","v":0},{"$f":"'اندازه های شخصی'!BA12","v":0},{"$f":"'اندازه های شخصی'!BC12","v":0},{"$f":"'اندازه های شخصی'!BE12","v":0},{"$f":"'اندازه های شخصی'!BG12","v":0},{"$f":"'اندازه های شخصی'!BI12","v":0},{"$f":"'اندازه های شخصی'!BK12","v":0},{"$f":"'اندازه های شخصی'!BM12","v":0},{"$f":"'اندازه های شخصی'!BO12","v":0},{"$f":"'اندازه های شخصی'!BQ12","v":0},{"$f":"'اندازه های شخصی'!BS12","v":0},{"$f":"'اندازه های شخصی'!BU12","v":0},{"$f":"'اندازه های شخصی'!BW12","v":0},{"$f":"'اندازه های شخصی'!BY12","v":0},{"$f":"'اندازه های شخصی'!CA12","v":0},{"$f":"'اندازه های شخصی'!CC12","v":0},{"$f":"'اندازه های شخصی'!CE12","v":0},{"$f":"'اندازه های شخصی'!CG12","v":0}]
["ضریب گشادی دور مچ  a2","(از 1.1 الی 2)",1.7000000000000006,"بهینه=1.7",{"$f":"'طراحی همه الگوها'!Q191","v":7},"ضریب گشادی دور مچ  ",1,1.1000000000000001,0,1,0.10000000000000009,1,1.1000000000000001,1,2,9.9999999999999911,1.7,6.9999999999999938,null,"f",23,25,32,38,42,48,54,60.5,66.5,70.5,74.5,78,81,84.5,88,92,96,100,102,103,104,105,105.5,106,106.5,107,107.5,108,108.5,109,109.5,110,104.8,106.2,107.6,108.3,108.9,109.5,110.1,110.7,111.3,111.8,112.3,112.8,113.3,113.8,38,42,48,54,60.5,66.5,70.5,74.5,78,81,84.5,88,92,96,100,102,103,104,105,105.5,106,106.5,107,107.5,108,108.5,109,109.5,110,104.8,106.2,107.6,108.3,108.9,109.5,110.1,110.7,111.3,111.8,112.3,112.8,113.3,113.8,{"$f":"'اندازه های شخصی'!G13","v":0},{"$f":"'اندازه های شخصی'!I13","v":0},{"$f":"'اندازه های شخصی'!K13","v":0},{"$f":"'اندازه های شخصی'!M13","v":0},{"$f":"'اندازه های شخصی'!O13","v":0},{"$f":"'اندازه های شخصی'!Q13","v":0},{"$f":"'اندازه های شخصی'!S13","v":0},{"$f":"'اندازه های شخصی'!U13","v":0},{"$f":"'اندازه های شخصی'!W13","v":0},{"$f":"'اندازه های شخصی'!Y13","v":0},{"$f":"'اندازه های شخصی'!AA13","v":0},{"$f":"'اندازه های شخصی'!AC13","v":0},{"$f":"'اندازه های شخصی'!AE13","v":0},{"$f":"'اندازه های شخصی'!AG13","v":0},{"$f":"'اندازه های شخصی'!AI13","v":0},{"$f":"'اندازه های شخصی'!AK13","v":0},{"$f":"'اندازه های شخصی'!AM13","v":0},{"$f":"'اندازه های شخصی'!AO13","v":0},{"$f":"'اندازه های شخصی'!AQ13","v":0},{"$f":"'اندازه های شخصی'!AS13","v":0},{"$f":"'اندازه های شخصی'!AU13","v":0},{"$f":"'اندازه های شخصی'!AW13","v":0},{"$f":"'اندازه های شخصی'!AY13","v":0},{"$f":"'اندازه های شخصی'!BA13","v":0},{"$f":"'اندازه های شخصی'!BC13","v":0},{"$f":"'اندازه های شخصی'!BE13","v":0},{"$f":"'اندازه های شخصی'!BG13","v":0},{"$f":"'اندازه های شخصی'!BI13","v":0},{"$f":"'اندازه های شخصی'!BK13","v":0},{"$f":"'اندازه های شخصی'!BM13","v":0},{"$f":"'اندازه های شخصی'!BO13","v":0},{"$f":"'اندازه های شخصی'!BQ13","v":0},{"$f":"'اندازه های شخصی'!BS13","v":0},{"$f":"'اندازه های شخصی'!BU13","v":0},{"$f":"'اندازه های شخصی'!BW13","v":0},{"$f":"'اندازه های شخصی'!BY13","v":0},{"$f":"'اندازه های شخصی'!CA13","v":0},{"$f":"'اندازه های شخصی'!CC13","v":0},{"$f":"'اندازه های شخصی'!CE13","v":0},{"$f":"'اندازه های شخصی'!CG13","v":0}]
["ضریب بلند شدن آستین نسبت به مچ  a4","(از -0.4 الی 0.4)",0,"آستین تا مچ=0 \nآستین کوتاه تر از مچ = منفی \nآستین بلند تر از مچ = مثبت   ",{"$f":"'طراحی همه الگوها'!Q192","v":10},"بلند شدن آستین چادر نسبت به مچ اندام ",30,-0.45,10,0,-2.2499999999999999E-2,0.22499999999999992,-0.4,27.777777777777779,0.4,-7.7777777777777821,0,9.9999999999999964,null,"g",23,25,32,38,42,48,54.1,60.6,66.599999999999994,70.599999999999994,74.599999999999994,78.099999999999994,81.099999999999994,84.6,88.1,92.1,96.1,100.1,103,104,105,106.1,106.6,107.1,107.6,108.1,108.6,109.1,109.6,110.1,110.6,111.1,105.8,107.3,108.7,109.4,110,110.6,111.2,111.8,112.4,112.9,113.4,113.9,114.4,114.9,38,42,48,54.1,60.6,66.599999999999994,70.599999999999994,74.599999999999994,78.099999999999994,81.099999999999994,84.6,88.1,92.1,96.1,100.1,103,104,105,106.1,106.6,107.1,107.6,108.1,108.6,109.1,109.6,110.1,110.6,111.1,104.9,106.3,107.7,108.4,109,109.6,110.2,110.8,111.4,111.9,112.4,112.9,113.4,113.9,{"$f":"'اندازه های شخصی'!G14","v":0},{"$f":"'اندازه های شخصی'!I14","v":0},{"$f":"'اندازه های شخصی'!K14","v":0},{"$f":"'اندازه های شخصی'!M14","v":0},{"$f":"'اندازه های شخصی'!O14","v":0},{"$f":"'اندازه های شخصی'!Q14","v":0},{"$f":"'اندازه های شخصی'!S14","v":0},{"$f":"'اندازه های شخصی'!U14","v":0},{"$f":"'اندازه های شخصی'!W14","v":0},{"$f":"'اندازه های شخصی'!Y14","v":0},{"$f":"'اندازه های شخصی'!AA14","v":0},{"$f":"'اندازه های شخصی'!AC14","v":0},{"$f":"'اندازه های شخصی'!AE14","v":0},{"$f":"'اندازه های شخصی'!AG14","v":0},{"$f":"'اندازه های شخصی'!AI14","v":0},{"$f":"'اندازه های شخصی'!AK14","v":0},{"$f":"'اندازه های شخصی'!AM14","v":0},{"$f":"'اندازه های شخصی'!AO14","v":0},{"$f":"'اندازه های شخصی'!AQ14","v":0},{"$f":"'اندازه های شخصی'!AS14","v":0},{"$f":"'اندازه های شخصی'!AU14","v":0},{"$f":"'اندازه های شخصی'!AW14","v":0},{"$f":"'اندازه های شخصی'!AY14","v":0},{"$f":"'اندازه های شخصی'!BA14","v":0},{"$f":"'اندازه های شخصی'!BC14","v":0},{"$f":"'اندازه های شخصی'!BE14","v":0},{"$f":"'اندازه های شخصی'!BG14","v":0},{"$f":"'اندازه های شخصی'!BI14","v":0},{"$f":"'اندازه های شخصی'!BK14","v":0},{"$f":"'اندازه های شخصی'!BM14","v":0},{"$f":"'اندازه های شخصی'!BO14","v":0},{"$f":"'اندازه های شخصی'!BQ14","v":0},{"$f":"'اندازه های شخصی'!BS14","v":0},{"$f":"'اندازه های شخصی'!BU14","v":0},{"$f":"'اندازه های شخصی'!BW14","v":0},{"$f":"'اندازه های شخصی'!BY14","v":0},{"$f":"'اندازه های شخصی'!CA14","v":0},{"$f":"'اندازه های شخصی'!CC14","v":0},{"$f":"'اندازه های شخصی'!CE14","v":0},{"$f":"'اندازه های شخصی'!CG14","v":0}]
["انتخاب چادر تا پایین پیشانی=1    انتخاب چادر تا بالای پیشانی=0\nانتخاب چادر روی سر = -1"," -1 یا 0 یا 1",0,null,{"$f":"'طراحی همه الگوها'!Q193","v":2},"انتخاب چادر تا پایین پیشانی=3    انتخاب چادر تا بالای پیشانی=2\nانتخاب چادر روی سر = 1",2,0,1,-1,1,-2,0,2,1,3,1,3,null,"h",7.4,8.4,11.1,13.4,14.9,17.2,24.9,27.4,30.3,32.1,33.9,35.4,36.6,38.200000000000003,39.700000000000003,41.4,43.5,45.7,44.5,45,45.5,46,46,46,46,46,46.3,46.3,46.4,46.5,46.6,46.7,48.1,48.8,49.6,50,50.4,50.8,51.2,51.5,51.9,52.3,52.6,53,53.2,53.6,13.4,14.9,17.2,24.9,27.4,30.3,32.1,33.9,35.4,36.6,38.200000000000003,39.700000000000003,41.4,43.5,45.7,44.5,45,45.5,46,46,46,46,46,46.3,46.3,46.4,46.5,46.6,46.7,48.1,48.8,49.6,50,50.3,50.8,51.2,51.5,51.9,52.3,52.6,52.9,53.3,53.6,{"$f":"'اندازه های شخصی'!G15","v":0},{"$f":"'اندازه های شخصی'!I15","v":0},{"$f":"'اندازه های شخصی'!K15","v":0},{"$f":"'اندازه های شخصی'!M15","v":0},{"$f":"'اندازه های شخصی'!O15","v":0},{"$f":"'اندازه های شخصی'!Q15","v":0},{"$f":"'اندازه های شخصی'!S15","v":0},{"$f":"'اندازه های شخصی'!U15","v":0},{"$f":"'اندازه های شخصی'!W15","v":0},{"$f":"'اندازه های شخصی'!Y15","v":0},{"$f":"'اندازه های شخصی'!AA15","v":0},{"$f":"'اندازه های شخصی'!AC15","v":0},{"$f":"'اندازه های شخصی'!AE15","v":0},{"$f":"'اندازه های شخصی'!AG15","v":0},{"$f":"'اندازه های شخصی'!AI15","v":0},{"$f":"'اندازه های شخصی'!AK15","v":0},{"$f":"'اندازه های شخصی'!AM15","v":0},{"$f":"'اندازه های شخصی'!AO15","v":0},{"$f":"'اندازه های شخصی'!AQ15","v":0},{"$f":"'اندازه های شخصی'!AS15","v":0},{"$f":"'اندازه های شخصی'!AU15","v":0},{"$f":"'اندازه های شخصی'!AW15","v":0},{"$f":"'اندازه های شخصی'!AY15","v":0},{"$f":"'اندازه های شخصی'!BA15","v":0},{"$f":"'اندازه های شخصی'!BC15","v":0},{"$f":"'اندازه های شخصی'!BE15","v":0},{"$f":"'اندازه های شخصی'!BG15","v":0},{"$f":"'اندازه های شخصی'!BI15","v":0},{"$f":"'اندازه های شخصی'!BK15","v":0},{"$f":"'اندازه های شخصی'!BM15","v":0},{"$f":"'اندازه های شخصی'!BO15","v":0},{"$f":"'اندازه های شخصی'!BQ15","v":0},{"$f":"'اندازه های شخصی'!BS15","v":0},{"$f":"'اندازه های شخصی'!BU15","v":0},{"$f":"'اندازه های شخصی'!BW15","v":0},{"$f":"'اندازه های شخصی'!BY15","v":0},{"$f":"'اندازه های شخصی'!CA15","v":0},{"$f":"'اندازه های شخصی'!CC15","v":0},{"$f":"'اندازه های شخصی'!CE15","v":0},{"$f":"'اندازه های شخصی'!CG15","v":0}]
[null,null,null,null,null,null,null,null,null,null,null,null,null,null,null,null,null,null,null,"j",15.8,17.899999999999999,23.8,28.7,31.8,36.700000000000003,45.2,49.8,55.1,58.3,61.6,64.3,66.5,69.400000000000006,72.099999999999994,75.3,79.099999999999994,83,82.5,82.7,83.4,84.1,84.3,84.5,84.7,85,85.3,85.7,86.1,86.5,86.9,87.3,87.4,88.8,90.2,90.9,91.6,92.3,93,93.7,94.3,95,95.7,96.3,96.8,97.5,28.7,31.8,36.700000000000003,45.2,49.8,55.1,58.3,61.6,64.3,66.5,69.400000000000006,72.099999999999994,75.3,79.099999999999994,83,82.5,82.7,83.4,84.1,84.3,84.5,84.7,85,85.3,85.7,86.1,86.5,86.9,87.3,87.4,88.8,90.2,90.9,91.5,92.3,93,93.6,94.4,95,95.7,96.2,96.9,97.5,{"$f":"'اندازه های شخصی'!G16","v":0},{"$f":"'اندازه های شخصی'!I16","v":0},{"$f":"'اندازه های شخصی'!K16","v":0},{"$f":"'اندازه های شخصی'!M16","v":0},{"$f":"'اندازه های شخصی'!O16","v":0},{"$f":"'اندازه های شخصی'!Q16","v":0},{"$f":"'اندازه های شخصی'!S16","v":0},{"$f":"'اندازه های شخصی'!U16","v":0},{"$f":"'اندازه های شخصی'!W16","v":0},{"$f":"'اندازه های شخصی'!Y16","v":0},{"$f":"'اندازه های شخصی'!AA16","v":0},{"$f":"'اندازه های شخصی'!AC16","v":0},{"$f":"'اندازه های شخصی'!AE16","v":0},{"$f":"'اندازه های شخصی'!AG16","v":0},{"$f":"'اندازه های شخصی'!AI16","v":0},{"$f":"'اندازه های شخصی'!AK16","v":0},{"$f":"'اندازه های شخصی'!AM16","v":0},{"$f":"'اندازه های شخصی'!AO16","v":0},{"$f":"'اندازه های شخصی'!AQ16","v":0},{"$f":"'اندازه های شخصی'!AS16","v":0},{"$f":"'اندازه های شخصی'!AU16","v":0},{"$f":"'اندازه های شخصی'!AW16","v":0},{"$f":"'اندازه های شخصی'!AY16","v":0},{"$f":"'اندازه های شخصی'!BA16","v":0},{"$f":"'اندازه های شخصی'!BC16","v":0},{"$f":"'اندازه های شخصی'!BE16","v":0},{"$f":"'اندازه های شخصی'!BG16","v":0},{"$f":"'اندازه های شخصی'!BI16","v":0},{"$f":"'اندازه های شخصی'!BK16","v":0},{"$f":"'اندازه های شخصی'!BM16","v":0},{"$f":"'اندازه های شخصی'!BO16","v":0},{"$f":"'اندازه های شخصی'!BQ16","v":0},{"$f":"'اندازه های شخصی'!BS16","v":0},{"$f":"'اندازه های شخصی'!BU16","v":0},{"$f":"'اندازه های شخصی'!BW16","v":0},{"$f":"'اندازه های شخصی'!BY16","v":0},{"$f":"'اندازه های شخصی'!CA16","v":0},{"$f":"'اندازه های شخصی'!CC16","v":0},{"$f":"'اندازه های شخصی'!CE16","v":0},{"$f":"'اندازه های شخصی'!CG16","v":0}]
[" متغیرهای ورودی چادر شماره 3",null,null,null,null," متغیرهای ورودی چادر شماره 3","x1","y1","x2","y2(بهینه)","a","b",null,"کمترین",null,"بیشترین",null,null,null,"L",17.600000000000001,18.5,19.7,20.5,21.7,23,24.2,25.4,26.7,27.9,29.1,30.3,31.6,32.799999999999997,34,34.9,36.5,38.1,34.9,36.5,38.1,39.799999999999997,41.8,43.9,45.9,48,50,51.7,54.1,56.6,59,61.5,37.700000000000003,39.4,41,42.6,44.3,45.9,47.6,49.2,50.8,52.5,54.1,55.8,57.4,59,20.5,21.7,23,24.2,25.4,26.7,27.9,29.1,30.3,31.6,32.799999999999997,34,34.9,36.5,38.1,34.9,36.5,38.1,39.799999999999997,41.8,43.9,45.9,48,50,51.7,54.1,56.6,59,61.5,37.700000000000003,39.4,41,42.6,44.3,45.9,47.6,49.2,50.8,52.5,54.1,55.8,57.4,59,{"$f":"'اندازه های شخصی'!G17","v":0},{"$f":"'اندازه های شخصی'!I17","v":0},{"$f":"'اندازه های شخصی'!K17","v":0},{"$f":"'اندازه های شخصی'!M17","v":0},{"$f":"'اندازه های شخصی'!O17","v":0},{"$f":"'اندازه های شخصی'!Q17","v":0},{"$f":"'اندازه های شخصی'!S17","v":0},{"$f":"'اندازه های شخصی'!U17","v":0},{"$f":"'اندازه های شخصی'!W17","v":0},{"$f":"'اندازه های شخصی'!Y17","v":0},{"$f":"'اندازه های شخصی'!AA17","v":0},{"$f":"'اندازه های شخصی'!AC17","v":0},{"$f":"'اندازه های شخصی'!AE17","v":0},{"$f":"'اندازه های شخصی'!AG17","v":0},{"$f":"'اندازه های شخصی'!AI17","v":0},{"$f":"'اندازه های شخصی'!AK17","v":0},{"$f":"'اندازه های شخصی'!AM17","v":0},{"$f":"'اندازه های شخصی'!AO17","v":0},{"$f":"'اندازه های شخصی'!AQ17","v":0},{"$f":"'اندازه های شخصی'!AS17","v":0},{"$f":"'اندازه های شخصی'!AU17","v":0},{"$f":"'اندازه های شخصی'!AW17","v":0},{"$f":"'اندازه های شخصی'!AY17","v":0},{"$f":"'اندازه های شخصی'!BA17","v":0},{"$f":"'اندازه های شخصی'!BC17","v":0},{"$f":"'اندازه های شخصی'!BE17","v":0},{"$f":"'اندازه های شخصی'!BG17","v":0},{"$f":"'اندازه های شخصی'!BI17","v":0},{"$f":"'اندازه های شخصی'!BK17","v":0},{"$f":"'اندازه های شخصی'!BM17","v":0},{"$f":"'اندازه های شخصی'!BO17","v":0},{"$f":"'اندازه های شخصی'!BQ17","v":0},{"$f":"'اندازه های شخصی'!BS17","v":0},{"$f":"'اندازه های شخصی'!BU17","v":0},{"$f":"'اندازه های شخصی'!BW17","v":0},{"$f":"'اندازه های شخصی'!BY17","v":0},{"$f":"'اندازه های شخصی'!CA17","v":0},{"$f":"'اندازه های شخصی'!CC17","v":0},{"$f":"'اندازه های شخصی'!CE17","v":0},{"$f":"'اندازه های شخصی'!CG17","v":0}]
["ضریب فاصله لبه چادر تا زمین   j0","(از -0.1 الی 0.5)",{"$f":"K17*E17+L17","v":0},"خط زمین=0 \nخط زانو=1  ",{"$f":"'طراحی همه الگوها'!Q210","v":10},"ضریب فاصله لبه چادر تا زمین   ",10,0,30,1,{"$f":"(J17-H17)/(I17-G17)","v":0.05},{"$f":"H17-G17*K17","v":-0.5},-0.1,{"$f":"(M17-L17)/K17","v":8},0.5,{"$f":"(O17-L17)/K17","v":20},0,{"$f":"(Q17-L17)/K17","v":10},null,"m",10,10,11,12,13,14,14,16,17,18,19,20,21,22,23,24,24.5,25,25.1,25.8,26.4,27.1,27.8,28.4,29.1,29.7,30.3,31,31.6,32.299999999999997,32.9,33.5,23.1,23.5,23.8,24.2,24.5,24.7,25,25.3,25.6,25.8,26.1,26.4,26.7,26.9,12,13,14,14,16,17,18,19,20,21,22,23,24,24.5,25,25.1,25.8,26.4,27.1,27.8,28.4,29.1,29.7,30.3,31,31.6,32.299999999999997,32.9,33.5,23.1,23.5,23.8,24.2,24.5,24.7,25,25.3,25.5,25.8,26.1,26.4,26.6,26.9,{"$f":"'اندازه های شخصی'!G18","v":0},{"$f":"'اندازه های شخصی'!I18","v":0},{"$f":"'اندازه های شخصی'!K18","v":0},{"$f":"'اندازه های شخصی'!M18","v":0},{"$f":"'اندازه های شخصی'!O18","v":0},{"$f":"'اندازه های شخصی'!Q18","v":0},{"$f":"'اندازه های شخصی'!S18","v":0},{"$f":"'اندازه های شخصی'!U18","v":0},{"$f":"'اندازه های شخصی'!W18","v":0},{"$f":"'اندازه های شخصی'!Y18","v":0},{"$f":"'اندازه های شخصی'!AA18","v":0},{"$f":"'اندازه های شخصی'!AC18","v":0},{"$f":"'اندازه های شخصی'!AE18","v":0},{"$f":"'اندازه های شخصی'!AG18","v":0},{"$f":"'اندازه های شخصی'!AI18","v":0},{"$f":"'اندازه های شخصی'!AK18","v":0},{"$f":"'اندازه های شخصی'!AM18","v":0},{"$f":"'اندازه های شخصی'!AO18","v":0},{"$f":"'اندازه های شخصی'!AQ18","v":0},{"$f":"'اندازه های شخصی'!AS18","v":0},{"$f":"'اندازه های شخصی'!AU18","v":0},{"$f":"'اندازه های شخصی'!AW18","v":0},{"$f":"'اندازه های شخصی'!AY18","v":0},{"$f":"'اندازه های شخصی'!BA18","v":0},{"$f":"'اندازه های شخصی'!BC18","v":0},{"$f":"'اندازه های شخصی'!BE18","v":0},{"$f":"'اندازه های شخصی'!BG18","v":0},{"$f":"'اندازه های شخصی'!BI18","v":0},{"$f":"'اندازه های شخصی'!BK18","v":0},{"$f":"'اندازه های شخصی'!BM18","v":0},{"$f":"'اندازه های شخصی'!BO18","v":0},{"$f":"'اندازه های شخصی'!BQ18","v":0},{"$f":"'اندازه های شخصی'!BS18","v":0},{"$f":"'اندازه های شخصی'!BU18","v":0},{"$f":"'اندازه های شخصی'!BW18","v":0},{"$f":"'اندازه های شخصی'!BY18","v":0},{"$f":"'اندازه های شخصی'!CA18","v":0},{"$f":"'اندازه های شخصی'!CC18","v":0},{"$f":"'اندازه های شخصی'!CE18","v":0},{"$f":"'اندازه های شخصی'!CG18","v":0}]
["ضریب گشادی دور مچ  b2","(از 1.1 الی 2)",1.5000000000000004,"بهینه=1.5",{"$f":"'طراحی همه الگوها'!Q211","v":5},"ضریب گشادی دور مچ  ",1,1.1000000000000001,0,1,0.10000000000000009,1,1.1000000000000001,1,2,9.9999999999999911,1.5,4.9999999999999956,null,"q",29.1,29.6,32.799999999999997,35.700000000000003,38.5,41.7,37.700000000000003,42.6,45,47.6,50,52.7,55.3,57.7,60.3,62.6,64.400000000000006,66,65.2,67.2,69.2,71.099999999999994,73.400000000000006,75.2,77.3,79.400000000000006,81.2,83.3,85.3,87.5,89.7,91.7,66.5,67.8,69.2,70.5,71.599999999999994,72.8,73.900000000000006,75.099999999999994,76.400000000000006,77.400000000000006,78.5,79.599999999999994,80.900000000000006,81.8,35.700000000000003,38.5,41.7,37.700000000000003,42.6,45,47.6,50.1,52.7,55.3,57.7,60.3,62.6,64.400000000000006,66,65.2,67.2,69.2,71.099999999999994,73.400000000000006,75.2,77.3,79.400000000000006,81.2,83.3,85.3,87.5,89.7,91.7,66.3,67.7,69,70.3,71.7,72.599999999999994,73.8,75.099999999999994,76.099999999999994,77.2,78.3,79.599999999999994,80.5,81.7,{"$f":"'اندازه های شخصی'!G19","v":0},{"$f":"'اندازه های شخصی'!I19","v":0},{"$f":"'اندازه های شخصی'!K19","v":0},{"$f":"'اندازه های شخصی'!M19","v":0},{"$f":"'اندازه های شخصی'!O19","v":0},{"$f":"'اندازه های شخصی'!Q19","v":0},{"$f":"'اندازه های شخصی'!S19","v":0},{"$f":"'اندازه های شخصی'!U19","v":0},{"$f":"'اندازه های شخصی'!W19","v":0},{"$f":"'اندازه های شخصی'!Y19","v":0},{"$f":"'اندازه های شخصی'!AA19","v":0},{"$f":"'اندازه های شخصی'!AC19","v":0},{"$f":"'اندازه های شخصی'!AE19","v":0},{"$f":"'اندازه های شخصی'!AG19","v":0},{"$f":"'اندازه های شخصی'!AI19","v":0},{"$f":"'اندازه های شخصی'!AK19","v":0},{"$f":"'اندازه های شخصی'!AM19","v":0},{"$f":"'اندازه های شخصی'!AO19","v":0},{"$f":"'اندازه های شخصی'!AQ19","v":0},{"$f":"'اندازه های شخصی'!AS19","v":0},{"$f":"'اندازه های شخصی'!AU19","v":0},{"$f":"'اندازه های شخصی'!AW19","v":0},{"$f":"'اندازه های شخصی'!AY19","v":0},{"$f":"'اندازه های شخصی'!BA19","v":0},{"$f":"'اندازه های شخصی'!BC19","v":0},{"$f":"'اندازه های شخصی'!BE19","v":0},{"$f":"'اندازه های شخصی'!BG19","v":0},{"$f":"'اندازه های شخصی'!BI19","v":0},{"$f":"'اندازه های شخصی'!BK19","v":0},{"$f":"'اندازه های شخصی'!BM19","v":0},{"$f":"'اندازه های شخصی'!BO19","v":0},{"$f":"'اندازه های شخصی'!BQ19","v":0},{"$f":"'اندازه های شخصی'!BS19","v":0},{"$f":"'اندازه های شخصی'!BU19","v":0},{"$f":"'اندازه های شخصی'!BW19","v":0},{"$f":"'اندازه های شخصی'!BY19","v":0},{"$f":"'اندازه های شخصی'!CA19","v":0},{"$f":"'اندازه های شخصی'!CC19","v":0},{"$f":"'اندازه های شخصی'!CE19","v":0},{"$f":"'اندازه های شخصی'!CG19","v":0}]
["ضریب بلندی طول مچ  b3  معادل ضریب تنگی پایین چادر","(از0 الی 0.4)",0.15,"بهینه=0.15",{"$f":"'طراحی همه الگوها'!Q212","v":15},"گشادی پایین چادر (معادل بلندی طول مچ)",1,0.01,0,0,0.01,0,0,0,0.4,40,0.15,15,null,"r",13.5,13.5,14.2,14.9,16.2,16.2,17.600000000000001,17.600000000000001,17.600000000000001,18.899999999999999,18.899999999999999,20.3,21.6,20.3,21.6,22.3,23,23.6,23,23.5,24,24.5,25.1,25.7,26.3,26.9,27.5,28,28.5,29,29.5,30,24,25,26,27,28,29,29,29,29,29.4,29.8,30.2,32.6,31,14.9,16.2,16.2,17.600000000000001,17.600000000000001,17.600000000000001,18.899999999999999,18.899999999999999,20.3,21.6,20.3,21.6,22.3,23,23.6,23,23.5,24,24.5,25.1,25.7,26.3,26.9,27.5,28,28.5,29,29.5,30,24,25,26,27,28,29,29,29,29,29.4,29.8,30.2,32.6,31,{"$f":"'اندازه های شخصی'!G20","v":0},{"$f":"'اندازه های شخصی'!I20","v":0},{"$f":"'اندازه های شخصی'!K20","v":0},{"$f":"'اندازه های شخصی'!M20","v":0},{"$f":"'اندازه های شخصی'!O20","v":0},{"$f":"'اندازه های شخصی'!Q20","v":0},{"$f":"'اندازه های شخصی'!S20","v":0},{"$f":"'اندازه های شخصی'!U20","v":0},{"$f":"'اندازه های شخصی'!W20","v":0},{"$f":"'اندازه های شخصی'!Y20","v":0},{"$f":"'اندازه های شخصی'!AA20","v":0},{"$f":"'اندازه های شخصی'!AC20","v":0},{"$f":"'اندازه های شخصی'!AE20","v":0},{"$f":"'اندازه های شخصی'!AG20","v":0},{"$f":"'اندازه های شخصی'!AI20","v":0},{"$f":"'اندازه های شخصی'!AK20","v":0},{"$f":"'اندازه های شخصی'!AM20","v":0},{"$f":"'اندازه های شخصی'!AO20","v":0},{"$f":"'اندازه های شخصی'!AQ20","v":0},{"$f":"'اندازه های شخصی'!AS20","v":0},{"$f":"'اندازه های شخصی'!AU20","v":0},{"$f":"'اندازه های شخصی'!AW20","v":0},{"$f":"'اندازه های شخصی'!AY20","v":0},{"$f":"'اندازه های شخصی'!BA20","v":0},{"$f":"'اندازه های شخصی'!BC20","v":0},{"$f":"'اندازه های شخصی'!BE20","v":0},{"$f":"'اندازه های شخصی'!BG20","v":0},{"$f":"'اندازه های شخصی'!BI20","v":0},{"$f":"'اندازه های شخصی'!BK20","v":0},{"$f":"'اندازه های شخصی'!BM20","v":0},{"$f":"'اندازه های شخصی'!BO20","v":0},{"$f":"'اندازه های شخصی'!BQ20","v":0},{"$f":"'اندازه های شخصی'!BS20","v":0},{"$f":"'اندازه های شخصی'!BU20","v":0},{"$f":"'اندازه های شخصی'!BW20","v":0},{"$f":"'اندازه های شخصی'!BY20","v":0},{"$f":"'اندازه های شخصی'!CA20","v":0},{"$f":"'اندازه های شخصی'!CC20","v":0},{"$f":"'اندازه های شخصی'!CE20","v":0},{"$f":"'اندازه های شخصی'!CG20","v":0}]
["ضریب بلند شدن آستین نسبت به مچ  b5","(از -0.4 الی 0.4)",0,"آستین تا مچ=0 \nآستین کوتاه تر از مچ = منفی \nآستین بلند تر از مچ = مثبت   ",{"$f":"'طراحی همه الگوها'!Q213","v":10},"بلند شدن آستین چادر نسبت به مچ اندام ",30,-0.45,10,0,-2.2499999999999999E-2,0.22499999999999992,-0.4,27.777777777777779,0.4,-7.7777777777777821,0,9.9999999999999964]
["عرض پارچه به سانتیمتر b1","(از 90 الی 200)",110," 90 یا 100 یا 110 \n115 یا 120 یا ...",{"$f":"'طراحی همه الگوها'!Q214","v":110},"عرض پارچه ",2,2,1,1,1,0,90,90,200,200,100,100,null,null,2,2,2,2,2,2,0,0,0,0,0,0,0,0,0,0,0,0,0,0,0,0,0,0,0,0,0,0,0,0,0,0,1,1,1,1,1,1,1,1,1,1,1,1,1,1,2,2,2,0,0,0,0,0,0,0,0,0,0,0,0,0,0,0,0,0,0,0,0,0,0,0,0,0,0,1,1,1,1,1,1,1,1,1,1,1,1,1,1,{"$f":"'اندازه های شخصی'!G21","v":0},{"$f":"'اندازه های شخصی'!I21","v":0},{"$f":"'اندازه های شخصی'!K21","v":0},{"$f":"'اندازه های شخصی'!M21","v":0},{"$f":"'اندازه های شخصی'!O21","v":0},{"$f":"'اندازه های شخصی'!Q21","v":0},{"$f":"'اندازه های شخصی'!S21","v":0},{"$f":"'اندازه های شخصی'!U21","v":0},{"$f":"'اندازه های شخصی'!W21","v":0},{"$f":"'اندازه های شخصی'!Y21","v":0},{"$f":"'اندازه های شخصی'!AA21","v":0},{"$f":"'اندازه های شخصی'!AC21","v":0},{"$f":"'اندازه های شخصی'!AE21","v":0},{"$f":"'اندازه های شخصی'!AG21","v":0},{"$f":"'اندازه های شخصی'!AI21","v":0},{"$f":"'اندازه های شخصی'!AK21","v":0},{"$f":"'اندازه های شخصی'!AM21","v":0},{"$f":"'اندازه های شخصی'!AO21","v":0},{"$f":"'اندازه های شخصی'!AQ21","v":0},{"$f":"'اندازه های شخصی'!AS21","v":0},{"$f":"'اندازه های شخصی'!AU21","v":0},{"$f":"'اندازه های شخصی'!AW21","v":0},{"$f":"'اندازه های شخصی'!AY21","v":0},{"$f":"'اندازه های شخصی'!BA21","v":0},{"$f":"'اندازه های شخصی'!BC21","v":0},{"$f":"'اندازه های شخصی'!BE21","v":0},{"$f":"'اندازه های شخصی'!BG21","v":0},{"$f":"'اندازه های شخصی'!BI21","v":0},{"$f":"'اندازه های شخصی'!BK21","v":0},{"$f":"'اندازه های شخصی'!BM21","v":0},{"$f":"'اندازه های شخصی'!BO21","v":0},{"$f":"'اندازه های شخصی'!BQ21","v":0},{"$f":"'اندازه های شخصی'!BS21","v":0},{"$f":"'اندازه های شخصی'!BU21","v":0},{"$f":"'اندازه های شخصی'!BW21","v":0},{"$f":"'اندازه های شخصی'!BY21","v":0},{"$f":"'اندازه های شخصی'!CA21","v":0},{"$f":"'اندازه های شخصی'!CC21","v":0},{"$f":"'اندازه های شخصی'!CE21","v":0},{"$f":"'اندازه های شخصی'!CG21","v":0}]
["انتخاب چادر تا پایین پیشانی=1    انتخاب چادر تا بالای پیشانی=0\nانتخاب چادر روی سر = -1"," -1 یا 0 یا 1",0,null,{"$f":"'طراحی همه الگوها'!Q215","v":2},"انتخاب چادر تا پایین پیشانی=3    انتخاب چادر تا بالای پیشانی=2\nانتخاب چادر روی سر = 1",2,0,1,-1,1,-2,0,2,2,4,1,3]
[]
[" متغیرهای ورودی چادر شماره 4",null,null,null,null," متغیرهای ورودی چادر شماره 4","x1","y1","x2","y2(بهینه)","a","b",null,"کمترین",null,"بیشترین",null,null,null,null,"اندازه شخص","اندازه شخص","اندازه شخص","اندازه شخص","اندازه شخص","اندازه شخص","اندازه شخص","اندازه شخص","اندازه شخص","اندازه شخص","اندازه شخص","اندازه شخص","اندازه شخص","اندازه شخص","اندازه شخص","اندازه شخص","اندازه شخص","اندازه شخص","اندازه شخص","اندازه شخص","اندازه شخص","اندازه شخص","اندازه شخص","اندازه شخص","اندازه شخص","اندازه شخص","اندازه شخص","اندازه شخص","اندازه شخص","اندازه شخص","اندازه شخص","اندازه شخص","اندازه شخص","اندازه شخص","اندازه شخص","اندازه شخص","اندازه شخص","اندازه شخص","اندازه شخص","اندازه شخص","اندازه شخص","اندازه شخص","اندازه شخص","اندازه شخص","اندازه شخص","اندازه شخص","اندازه شخص","اندازه شخص","اندازه شخص","اندازه شخص","اندازه شخص","اندازه شخص","اندازه شخص","اندازه شخص","اندازه شخص","اندازه شخص","اندازه شخص","اندازه شخص","اندازه شخص","اندازه شخص","اندازه شخص","اندازه شخص","اندازه شخص","اندازه شخص","اندازه شخص","اندازه شخص","اندازه شخص","اندازه شخص","اندازه شخص","اندازه شخص","اندازه شخص","اندازه شخص","اندازه شخص","اندازه شخص","اندازه شخص","اندازه شخص","اندازه شخص","اندازه شخص","اندازه شخص","اندازه شخص","اندازه شخص","اندازه شخص","اندازه شخص","اندازه شخص","اندازه شخص","اندازه شخص","اندازه شخص","اندازه شخص","اندازه شخص"]
["ضریب فاصله لبه چادر تا زمین   j0","(از -0.1 الی 0.5)",{"$f":"K25*E25+L25","v":0},"خط زمین=0 \nخط زانو=1  ",{"$f":"'طراحی همه الگوها'!Q232","v":10},"ضریب فاصله لبه چادر تا زمین   ",10,0,30,1,{"$f":"(J25-H25)/(I25-G25)","v":0.05},{"$f":"H25-G25*K25","v":-0.5},-0.1,{"$f":"(M25-L25)/K25","v":8},0.5,{"$f":"(O25-L25)/K25","v":20},0,{"$f":"(Q25-L25)/K25","v":10},null,"a",41,42,45,47,48,49,51,53,55,57,59,61,63,65.5,68,71,73,75,63,65,68,72,77,82,87,92,97,103,110,117,124,131,74,78,82,86,90,94,98,102,106,111,116,121,126,131,47,48,49,51,53,55,57,59,61,63,65.5,68,71,73,75,67,69,72,76,81,86,91,96,101,107,114,121,127,135,75.5,79.599999999999994,83.6,87.7,91.8,95.9,100,104,108.1,113.2,118.3,123.4,128.5,133.6,{"$f":"DF7","v":0},0,0,0,0,0,0,0,0,0,0,0,0,0,0,0,0,0,0,0,{"$f":"DZ7","v":0},0,0,{"$f":"EC7","v":0},{"$f":"ED7","v":0},0,0,{"$f":"EG7","v":0},{"$f":"EH7","v":0},0,0,{"$f":"EK7","v":0},{"$f":"EL7","v":0},0,0,{"$f":"EO7","v":0},{"$f":"EP7","v":0},0,0,0]
["ضریب گشادی پشت چادر نسبت به جلو چادر (به درجه)  c1","(از -5 الی 5)",3,"بهینه=3",{"$f":"'طراحی همه الگوها'!Q233","v":3},"ضریب گشادی پشت چادر نسبت به جلو چادر (درجه)  ",1,1,0,0,1,0,-5,-5,5,5,3,3,null,"b",20.100000000000001,20.6,22.1,23,23.5,24,25,26,27,27.9,28.9,29.9,30.9,32.1,33.299999999999997,34.799999999999997,35.799999999999997,36.799999999999997,32.200000000000003,32.700000000000003,33.700000000000003,35.200000000000003,36.9,38.700000000000003,40.6,42.3,44.3,47.5,51,54.8,59.2,63.6,37,39,41,43,45,47,49,51,53,55.5,58,60.5,63,65.5,23,23.5,24,25,26,27,27.9,28.9,29.9,30.9,32.1,33.299999999999997,34.799999999999997,35.799999999999997,36.799999999999997,34.200000000000003,34.700000000000003,35.700000000000003,37.1,38.799999999999997,40.6,42.4,44.2,46.1,49.4,52.8,56.7,60.7,64.5,37.799999999999997,39.799999999999997,41.8,43.9,45.9,48,50,52,54.1,56.6,59.2,61.7,64.3,66.8,{"$f":"DF8","v":0},0,0,0,0,0,0,0,0,0,0,0,0,0,0,0,0,0,0,0,0,0,0,{"$f":"EC8","v":0},0,0,0,{"$f":"EG8","v":0},0,0,0,{"$f":"EK8","v":0},0,0,0,{"$f":"EO8","v":0},0,0,0,0]
["ضریب بلند شدن آستین نسبت به مچ  c2","(از -0.4 الی 0.4)",0,"آستین تا مچ=0 \nآستین کوتاه تر از مچ = منفی \nآستین بلند تر از مچ = مثبت   ",{"$f":"'طراحی همه الگوها'!Q234","v":10},"بلند شدن آستین چادر نسبت به مچ اندام ",30,-0.45,10,0,-2.2499999999999999E-2,0.22499999999999992,-0.4,27.777777777777779,0.4,-7.7777777777777821,0,9.9999999999999964,null,"s1",43,45,47,50,52,54,56,58,60,62,64,66,68,71,75,78,82,86,80,84,88,92,97,102,107,112,117,122,128,134,140,146,88,92,96,100,104,108,112,116,120,124,128,132,136,140,50,52,54,56,58,60,62,64,66,68,71,75,78,82,86,80,84,88,92,97,102,107,112,117,122,128,134,140,146,88,92,96,100,104,108,112,116,120,124,128,132,136,140,{"$f":"'اندازه های شخصی'!G22","v":0},{"$f":"'اندازه های شخصی'!I22","v":0},{"$f":"'اندازه های شخصی'!K22","v":0},{"$f":"'اندازه های شخصی'!M22","v":0},{"$f":"'اندازه های شخصی'!O22","v":0},{"$f":"'اندازه های شخصی'!Q22","v":0},{"$f":"'اندازه های شخصی'!S22","v":0},{"$f":"'اندازه های شخصی'!U22","v":0},{"$f":"'اندازه های شخصی'!W22","v":0},{"$f":"'اندازه های شخصی'!Y22","v":0},{"$f":"'اندازه های شخصی'!AA22","v":0},{"$f":"'اندازه های شخصی'!AC22","v":0},{"$f":"'اندازه های شخصی'!AE22","v":0},{"$f":"'اندازه های شخصی'!AG22","v":0},{"$f":"'اندازه های شخصی'!AI22","v":0},{"$f":"'اندازه های شخصی'!AK22","v":0},{"$f":"'اندازه های شخصی'!AM22","v":0},{"$f":"'اندازه های شخصی'!AO22","v":0},{"$f":"'اندازه های شخصی'!AQ22","v":0},{"$f":"'اندازه های شخصی'!AS22","v":0},{"$f":"'اندازه های شخصی'!AU22","v":0},{"$f":"'اندازه های شخصی'!AW22","v":0},{"$f":"'اندازه های شخصی'!AY22","v":0},{"$f":"'اندازه های شخصی'!BA22","v":0},{"$f":"'اندازه های شخصی'!BC22","v":0},{"$f":"'اندازه های شخصی'!BE22","v":0},{"$f":"'اندازه های شخصی'!BG22","v":0},{"$f":"'اندازه های شخصی'!BI22","v":0},{"$f":"'اندازه های شخصی'!BK22","v":0},{"$f":"'اندازه های شخصی'!BM22","v":0},{"$f":"'اندازه های شخصی'!BO22","v":0},{"$f":"'اندازه های شخصی'!BQ22","v":0},{"$f":"'اندازه های شخصی'!BS22","v":0},{"$f":"'اندازه های شخصی'!BU22","v":0},{"$f":"'اندازه های شخصی'!BW22","v":0},{"$f":"'اندازه های شخصی'!BY22","v":0},{"$f":"'اندازه های شخصی'!CA22","v":0},{"$f":"'اندازه های شخصی'!CC22","v":0},{"$f":"'اندازه های شخصی'!CE22","v":0},{"$f":"'اندازه های شخصی'!CG22","v":0}]
["ضریب گشادی دور مچ  c3","(از 1.1 الی 3)",1.7000000000000006,"بدون گشادی=1",{"$f":"'طراحی همه الگوها'!Q235","v":7},"ضریب گشادی دور مچ  ",1,1.1000000000000001,0,1,0.10000000000000009,1,1.1000000000000001,1,3,19.999999999999982,1,0,null,"s2",21.5,22.5,23.5,25,26,27,28,29,30,31,32,33,34,35.5,37.5,39,41,43,38.9,40.200000000000003,41.5,42.8,44.3,45.9,47.5,49.1,50.9,53.6,56.5,59.8,63.7,67.5,44,46,48,50,52,54,56,58,60,62,64,66,68,70,25,26,27,28,29,30,31,32,33,34,35.5,37.5,39,41,43,38.9,40.200000000000003,41.5,42.8,44.3,45.9,47.5,49.1,50.9,53.6,56.5,59.8,63.7,67.5,44,46,48,50,52,54,56,58,60,62,64,66,68,70,{"$f":"'اندازه های شخصی'!G23","v":0},{"$f":"'اندازه های شخصی'!I23","v":0},{"$f":"'اندازه های شخصی'!K23","v":0},{"$f":"'اندازه های شخصی'!M23","v":0},{"$f":"'اندازه های شخصی'!O23","v":0},{"$f":"'اندازه های شخصی'!Q23","v":0},{"$f":"'اندازه های شخصی'!S23","v":0},{"$f":"'اندازه های شخصی'!U23","v":0},{"$f":"'اندازه های شخصی'!W23","v":0},{"$f":"'اندازه های شخصی'!Y23","v":0},{"$f":"'اندازه های شخصی'!AA23","v":0},{"$f":"'اندازه های شخصی'!AC23","v":0},{"$f":"'اندازه های شخصی'!AE23","v":0},{"$f":"'اندازه های شخصی'!AG23","v":0},{"$f":"'اندازه های شخصی'!AI23","v":0},{"$f":"'اندازه های شخصی'!AK23","v":0},{"$f":"'اندازه های شخصی'!AM23","v":0},{"$f":"'اندازه های شخصی'!AO23","v":0},{"$f":"'اندازه های شخصی'!AQ23","v":0},{"$f":"'اندازه های شخصی'!AS23","v":0},{"$f":"'اندازه های شخصی'!AU23","v":0},{"$f":"'اندازه های شخصی'!AW23","v":0},{"$f":"'اندازه های شخصی'!AY23","v":0},{"$f":"'اندازه های شخصی'!BA23","v":0},{"$f":"'اندازه های شخصی'!BC23","v":0},{"$f":"'اندازه های شخصی'!BE23","v":0},{"$f":"'اندازه های شخصی'!BG23","v":0},{"$f":"'اندازه های شخصی'!BI23","v":0},{"$f":"'اندازه های شخصی'!BK23","v":0},{"$f":"'اندازه های شخصی'!BM23","v":0},{"$f":"'اندازه های شخصی'!BO23","v":0},{"$f":"'اندازه های شخصی'!BQ23","v":0},{"$f":"'اندازه های شخصی'!BS23","v":0},{"$f":"'اندازه های شخصی'!BU23","v":0},{"$f":"'اندازه های شخصی'!BW23","v":0},{"$f":"'اندازه های شخصی'!BY23","v":0},{"$f":"'اندازه های شخصی'!CA23","v":0},{"$f":"'اندازه های شخصی'!CC23","v":0},{"$f":"'اندازه های شخصی'!CE23","v":0},{"$f":"'اندازه های شخصی'!CG23","v":0}]
["ضریب بلند شدن آستین به سمت زیر بغل c4","(از 0 الی 1)",0.7,"آستین تا زیر بغل=0 \nبدون آستین= 1  ",{"$f":"'طراحی همه الگوها'!Q236","v":30}," بلند شدن آستین به سمت زیر بغل ",30,0.7,10,0.1,0.03,-0.19999999999999996,0,6.6666666666666652,1,40,0,6.6666666666666652,null,"t1",15.8,16.2,18.3,20.3,21.3,24.4,26.5,26.9,28.6,30.2,31.8,33.299999999999997,35.5,36.5,37.299999999999997,38.200000000000003,39,39.799999999999997,43.6,43.8,44.1,44.4,44.8,45,45,45.6,45.9,46.3,46.3,46.6,46.3,46.5,43.9,44.2,44.3,44.5,44.8,44.8,44.9,44.9,45.2,45.1,45.3,45.6,45.5,45.7,21.8,22.8,25.8,28.2,28.4,30.2,31.7,33.299999999999997,34.9,37.200000000000003,38.200000000000003,39.1,39.700000000000003,40.5,40.9,43.6,43.8,44.1,44.4,44.8,45,45,45.6,45.9,46.3,46.3,46.6,46.3,46.5,46.3,46.3,46,46,45.6,45.6,45.4,45,44.8,44.4,44.4,44.2,44,43.6,{"$f":"'اندازه های شخصی'!G24","v":0},{"$f":"'اندازه های شخصی'!I24","v":0},{"$f":"'اندازه های شخصی'!K24","v":0},{"$f":"'اندازه های شخصی'!M24","v":0},{"$f":"'اندازه های شخصی'!O24","v":0},{"$f":"'اندازه های شخصی'!Q24","v":0},{"$f":"'اندازه های شخصی'!S24","v":0},{"$f":"'اندازه های شخصی'!U24","v":0},{"$f":"'اندازه های شخصی'!W24","v":0},{"$f":"'اندازه های شخصی'!Y24","v":0},{"$f":"'اندازه های شخصی'!AA24","v":0},{"$f":"'اندازه های شخصی'!AC24","v":0},{"$f":"'اندازه های شخصی'!AE24","v":0},{"$f":"'اندازه های شخصی'!AG24","v":0},{"$f":"'اندازه های شخصی'!AI24","v":0},{"$f":"'اندازه های شخصی'!AK24","v":0},{"$f":"'اندازه های شخصی'!AM24","v":0},{"$f":"'اندازه های شخصی'!AO24","v":0},{"$f":"'اندازه های شخصی'!AQ24","v":0},{"$f":"'اندازه های شخصی'!AS24","v":0},{"$f":"'اندازه های شخصی'!AU24","v":0},{"$f":"'اندازه های شخصی'!AW24","v":0},{"$f":"'اندازه های شخصی'!AY24","v":0},{"$f":"'اندازه های شخصی'!BA24","v":0},{"$f":"'اندازه های شخصی'!BC24","v":0},{"$f":"'اندازه های شخصی'!BE24","v":0},{"$f":"'اندازه های شخصی'!BG24","v":0},{"$f":"'اندازه های شخصی'!BI24","v":0},{"$f":"'اندازه های شخصی'!BK24","v":0},{"$f":"'اندازه های شخصی'!BM24","v":0},{"$f":"'اندازه های شخصی'!BO24","v":0},{"$f":"'اندازه های شخصی'!BQ24","v":0},{"$f":"'اندازه های شخصی'!BS24","v":0},{"$f":"'اندازه های شخصی'!BU24","v":0},{"$f":"'اندازه های شخصی'!BW24","v":0},{"$f":"'اندازه های شخصی'!BY24","v":0},{"$f":"'اندازه های شخصی'!CA24","v":0},{"$f":"'اندازه های شخصی'!CC24","v":0},{"$f":"'اندازه های شخصی'!CE24","v":0},{"$f":"'اندازه های شخصی'!CG24","v":0}]
["ضریب گشادی پایین چادر (به درجه) c5","(از 0 الی حداکثر)",20,"چادر راسته بدون گشادی=0  ",{"$f":"'طراحی همه الگوها'!Q237","v":20},"ضریب گشادی پایین چادر (درجه) ",21,21,20,20,1,0,0,0,2,2,0,0,null,"t2",19.399999999999999,19.899999999999999,22.2,24.5,25.7,28.7,31,31.6,33.4,35.200000000000003,36.9,38.6,40.9,42.1,43.3,44.5,45.7,46.9,50.8,51.4,51.9,52.5,53.5,54.3,55.1,56.4,57.5,58.7,59.8,61,62.1,63.3,50.7,51.3,51.7,52.3,52.7,53,53.6,54,54.6,55,55.4,56,56.4,56.9,26.6,27.9,31.1,33.6,34.200000000000003,36.1,37.9,39.799999999999997,41.8,44.3,45.5,46.9,48,49.4,50.6,50.8,51.4,51.9,52.5,53.5,54.3,55.1,56.4,57.5,58.7,59.8,61,62.1,63.3,55.9,56.4,56.7,57.3,57.7,58.3,58.9,59.3,59.9,60.2,60.8,61.4,62,62.4,{"$f":"'اندازه های شخصی'!G25","v":0},{"$f":"'اندازه های شخصی'!I25","v":0},{"$f":"'اندازه های شخصی'!K25","v":0},{"$f":"'اندازه های شخصی'!M25","v":0},{"$f":"'اندازه های شخصی'!O25","v":0},{"$f":"'اندازه های شخصی'!Q25","v":0},{"$f":"'اندازه های شخصی'!S25","v":0},{"$f":"'اندازه های شخصی'!U25","v":0},{"$f":"'اندازه های شخصی'!W25","v":0},{"$f":"'اندازه های شخصی'!Y25","v":0},{"$f":"'اندازه های شخصی'!AA25","v":0},{"$f":"'اندازه های شخصی'!AC25","v":0},{"$f":"'اندازه های شخصی'!AE25","v":0},{"$f":"'اندازه های شخصی'!AG25","v":0},{"$f":"'اندازه های شخصی'!AI25","v":0},{"$f":"'اندازه های شخصی'!AK25","v":0},{"$f":"'اندازه های شخصی'!AM25","v":0},{"$f":"'اندازه های شخصی'!AO25","v":0},{"$f":"'اندازه های شخصی'!AQ25","v":0},{"$f":"'اندازه های شخصی'!AS25","v":0},{"$f":"'اندازه های شخصی'!AU25","v":0},{"$f":"'اندازه های شخصی'!AW25","v":0},{"$f":"'اندازه های شخصی'!AY25","v":0},{"$f":"'اندازه های شخصی'!BA25","v":0},{"$f":"'اندازه های شخصی'!BC25","v":0},{"$f":"'اندازه های شخصی'!BE25","v":0},{"$f":"'اندازه های شخصی'!BG25","v":0},{"$f":"'اندازه های شخصی'!BI25","v":0},{"$f":"'اندازه های شخصی'!BK25","v":0},{"$f":"'اندازه های شخصی'!BM25","v":0},{"$f":"'اندازه های شخصی'!BO25","v":0},{"$f":"'اندازه های شخصی'!BQ25","v":0},{"$f":"'اندازه های شخصی'!BS25","v":0},{"$f":"'اندازه های شخصی'!BU25","v":0},{"$f":"'اندازه های شخصی'!BW25","v":0},{"$f":"'اندازه های شخصی'!BY25","v":0},{"$f":"'اندازه های شخصی'!CA25","v":0},{"$f":"'اندازه های شخصی'!CC25","v":0},{"$f":"'اندازه های شخصی'!CE25","v":0},{"$f":"'اندازه های شخصی'!CG25","v":0}]
["حداکثر مقدار  c5  برای اندام شما",{"$f":"ROUND(DEGREES(محاسبات!ER46-RADIANS(45)+محاسبات!ER42),0)","v":59},null,null,null,"حداکثر مقدار ضریب گشادی پایین چادر  برای اندام شما",null,null,null,null,null,null,null,null,null,null,null,null,null,"t3",33,34,38,42,44,49,53,54,57,60,63,66,70,72,74,76,78,80,80,81,82,83,84.4,85.7,87,88.9,90.8,92.6,94.5,96.3,98.2,100,86.8,87.6,88.4,89.2,90,90.8,91.6,92.4,93.2,94,94.8,95.6,96.4,97.2,42,44,49,53,54,57,60,63,66,70,72,74,76,78,80,80,81,82,83,84.4,85.7,87,88.9,90.8,92.6,94.5,96.3,98.2,100,88.2,89,89.7,90.5,91.3,92.1,92.9,93.7,94.5,95.3,96.1,97.1,97.9,98.7,{"$f":"'اندازه های شخصی'!G26","v":0},{"$f":"'اندازه های شخصی'!I26","v":0},{"$f":"'اندازه های شخصی'!K26","v":0},{"$f":"'اندازه های شخصی'!M26","v":0},{"$f":"'اندازه های شخصی'!O26","v":0},{"$f":"'اندازه های شخصی'!Q26","v":0},{"$f":"'اندازه های شخصی'!S26","v":0},{"$f":"'اندازه های شخصی'!U26","v":0},{"$f":"'اندازه های شخصی'!W26","v":0},{"$f":"'اندازه های شخصی'!Y26","v":0},{"$f":"'اندازه های شخصی'!AA26","v":0},{"$f":"'اندازه های شخصی'!AC26","v":0},{"$f":"'اندازه های شخصی'!AE26","v":0},{"$f":"'اندازه های شخصی'!AG26","v":0},{"$f":"'اندازه های شخصی'!AI26","v":0},{"$f":"'اندازه های شخصی'!AK26","v":0},{"$f":"'اندازه های شخصی'!AM26","v":0},{"$f":"'اندازه های شخصی'!AO26","v":0},{"$f":"'اندازه های شخصی'!AQ26","v":0},{"$f":"'اندازه های شخصی'!AS26","v":0},{"$f":"'اندازه های شخصی'!AU26","v":0},{"$f":"'اندازه های شخصی'!AW26","v":0},{"$f":"'اندازه های شخصی'!AY26","v":0},{"$f":"'اندازه های شخصی'!BA26","v":0},{"$f":"'اندازه های شخصی'!BC26","v":0},{"$f":"'اندازه های شخصی'!BE26","v":0},{"$f":"'اندازه های شخصی'!BG26","v":0},{"$f":"'اندازه های شخصی'!BI26","v":0},{"$f":"'اندازه های شخصی'!BK26","v":0},{"$f":"'اندازه های شخصی'!BM26","v":0},{"$f":"'اندازه های شخصی'!BO26","v":0},{"$f":"'اندازه های شخصی'!BQ26","v":0},{"$f":"'اندازه های شخصی'!BS26","v":0},{"$f":"'اندازه های شخصی'!BU26","v":0},{"$f":"'اندازه های شخصی'!BW26","v":0},{"$f":"'اندازه های شخصی'!BY26","v":0},{"$f":"'اندازه های شخصی'!CA26","v":0},{"$f":"'اندازه های شخصی'!CC26","v":0},{"$f":"'اندازه های شخصی'!CE26","v":0},{"$f":"'اندازه های شخصی'!CG26","v":0}]
["انتخاب چادر تا پایین پیشانی=1    انتخاب چادر تا بالای پیشانی=0\nانتخاب چادر روی سر = -1"," -1 یا 0 یا 1",{"$f":"K32*E32+L32","v":0},null,{"$f":"'طراحی همه الگوها'!Q239","v":2},"انتخاب چادر تا پایین پیشانی=3    انتخاب چادر تا بالای پیشانی=2\nانتخاب چادر روی سر = 1",2,0,1,-1,{"$f":"(J32-H32)/(I32-G32)","v":1},{"$f":"H32-G32*K32","v":-2},0,{"$f":"(M32-L32)/K32","v":2},1,{"$f":"(O32-L32)/K32","v":3},0,{"$f":"(Q32-L32)/K32","v":2},null,"t4",8.1,8.3000000000000007,9.4,10.4,10.9,12.5,13.6,13.8,14.7,15.5,16.3,17.100000000000001,18.2,18.7,19.100000000000001,19.600000000000001,20,20.399999999999999,21.9,22.1,22.3,22.5,22.8,23,23.1,23.5,23.7,23.9,23.9,24,23.8,23.8,21.9,22,22,22.1,22.2,22.2,22.2,22.2,22.3,22.2,22.3,22.4,22.3,22.4,10.8,11.3,12.8,14,14.1,15,15.8,16.600000000000001,17.399999999999999,18.600000000000001,19,19.399999999999999,19.7,20.100000000000001,20.3,21.9,22.1,22.3,22.5,22.8,23,23.1,23.5,23.7,23.9,23.9,24,23.8,23.8,22.9,22.9,22.7,22.7,22.5,22.5,22.4,22.2,22.1,21.9,21.9,21.8,21.7,21.5,{"$f":"'اندازه های شخصی'!G27","v":0},{"$f":"'اندازه های شخصی'!I27","v":0},{"$f":"'اندازه های شخصی'!K27","v":0},{"$f":"'اندازه های شخصی'!M27","v":0},{"$f":"'اندازه های شخصی'!O27","v":0},{"$f":"'اندازه های شخصی'!Q27","v":0},{"$f":"'اندازه های شخصی'!S27","v":0},{"$f":"'اندازه های شخصی'!U27","v":0},{"$f":"'اندازه های شخصی'!W27","v":0},{"$f":"'اندازه های شخصی'!Y27","v":0},{"$f":"'اندازه های شخصی'!AA27","v":0},{"$f":"'اندازه های شخصی'!AC27","v":0},{"$f":"'اندازه های شخصی'!AE27","v":0},{"$f":"'اندازه های شخصی'!AG27","v":0},{"$f":"'اندازه های شخصی'!AI27","v":0},{"$f":"'اندازه های شخصی'!AK27","v":0},{"$f":"'اندازه های شخصی'!AM27","v":0},{"$f":"'اندازه های شخصی'!AO27","v":0},{"$f":"'اندازه های شخصی'!AQ27","v":0},{"$f":"'اندازه های شخصی'!AS27","v":0},{"$f":"'اندازه های شخصی'!AU27","v":0},{"$f":"'اندازه های شخصی'!AW27","v":0},{"$f":"'اندازه های شخصی'!AY27","v":0},{"$f":"'اندازه های شخصی'!BA27","v":0},{"$f":"'اندازه های شخصی'!BC27","v":0},{"$f":"'اندازه های شخصی'!BE27","v":0},{"$f":"'اندازه های شخصی'!BG27","v":0},{"$f":"'اندازه های شخصی'!BI27","v":0},{"$f":"'اندازه های شخصی'!BK27","v":0},{"$f":"'اندازه های شخصی'!BM27","v":0},{"$f":"'اندازه های شخصی'!BO27","v":0},{"$f":"'اندازه های شخصی'!BQ27","v":0},{"$f":"'اندازه های شخصی'!BS27","v":0},{"$f":"'اندازه های شخصی'!BU27","v":0},{"$f":"'اندازه های شخصی'!BW27","v":0},{"$f":"'اندازه های شخصی'!BY27","v":0},{"$f":"'اندازه های شخصی'!CA27","v":0},{"$f":"'اندازه های شخصی'!CC27","v":0},{"$f":"'اندازه های شخصی'!CE27","v":0},{"$f":"'اندازه های شخصی'!CG27","v":0}]
["ضریب فاصله افقی مرغک از خط مرکزی جلو","(از -1 الی 4)",{"$f":"K33*E33+L33","v":2},"خط مرکزی جلو=0 \nخط پهلو=1  ",{"$f":"'طراحی همه الگوها'!Q240","v":40},"ضریب فاصله افقی مرغک از خط مرکزی جلو",20,1,0,0,{"$f":"(J33-H33)/(I33-G33)","v":0.05},{"$f":"H33-G33*K33","v":0},-1,{"$f":"(M33-L33)/K33","v":-20},4,{"$f":"(O33-L33)/K33","v":80},0,{"$f":"(Q33-L33)/K33","v":0},null,"t5",10.1,10.4,11.6,12.8,13.4,15,16.2,16.5,17.5,18.399999999999999,19.3,20.2,21.4,22,22.6,23.3,23.9,24.5,25.4,25.7,26,26.3,26.7,27,27.3,27.8,28.2,28.7,29.1,29.6,30,30.5,26,26.3,26.5,26.8,27,27.2,27.5,27.7,28,28.2,28.4,28.7,28.9,29.2,13.7,14.4,16,17.3,17.600000000000001,18.600000000000001,19.600000000000001,20.6,21.6,22.9,23.5,24.2,24.8,25.5,26.1,25.4,25.7,26,26.3,26.7,27,27.3,27.8,28.2,28.7,29.1,29.6,30,30.5,28.8,29.1,29.3,29.6,29.8,30.1,30.4,30.6,30.9,31.1,31.4,31.7,32,32.200000000000003,{"$f":"'اندازه های شخصی'!G28","v":0},{"$f":"'اندازه های شخصی'!I28","v":0},{"$f":"'اندازه های شخصی'!K28","v":0},{"$f":"'اندازه های شخصی'!M28","v":0},{"$f":"'اندازه های شخصی'!O28","v":0},{"$f":"'اندازه های شخصی'!Q28","v":0},{"$f":"'اندازه های شخصی'!S28","v":0},{"$f":"'اندازه های شخصی'!U28","v":0},{"$f":"'اندازه های شخصی'!W28","v":0},{"$f":"'اندازه های شخصی'!Y28","v":0},{"$f":"'اندازه های شخصی'!AA28","v":0},{"$f":"'اندازه های شخصی'!AC28","v":0},{"$f":"'اندازه های شخصی'!AE28","v":0},{"$f":"'اندازه های شخصی'!AG28","v":0},{"$f":"'اندازه های شخصی'!AI28","v":0},{"$f":"'اندازه های شخصی'!AK28","v":0},{"$f":"'اندازه های شخصی'!AM28","v":0},{"$f":"'اندازه های شخصی'!AO28","v":0},{"$f":"'اندازه های شخصی'!AQ28","v":0},{"$f":"'اندازه های شخصی'!AS28","v":0},{"$f":"'اندازه های شخصی'!AU28","v":0},{"$f":"'اندازه های شخصی'!AW28","v":0},{"$f":"'اندازه های شخصی'!AY28","v":0},{"$f":"'اندازه های شخصی'!BA28","v":0},{"$f":"'اندازه های شخصی'!BC28","v":0},{"$f":"'اندازه های شخصی'!BE28","v":0},{"$f":"'اندازه های شخصی'!BG28","v":0},{"$f":"'اندازه های شخصی'!BI28","v":0},{"$f":"'اندازه های شخصی'!BK28","v":0},{"$f":"'اندازه های شخصی'!BM28","v":0},{"$f":"'اندازه های شخصی'!BO28","v":0},{"$f":"'اندازه های شخصی'!BQ28","v":0},{"$f":"'اندازه های شخصی'!BS28","v":0},{"$f":"'اندازه های شخصی'!BU28","v":0},{"$f":"'اندازه های شخصی'!BW28","v":0},{"$f":"'اندازه های شخصی'!BY28","v":0},{"$f":"'اندازه های شخصی'!CA28","v":0},{"$f":"'اندازه های شخصی'!CC28","v":0},{"$f":"'اندازه های شخصی'!CE28","v":0},{"$f":"'اندازه های شخصی'!CG28","v":0}]
["ضریب فاصله عمودی مرغک از زمین","(از 0 الی 5)",{"$f":"K34*E34+L34","v":1.25},"خط زمین=0 \nخط زانو=1 \nخط باسن=2 \nخط کمر=3 \nخط سینه=4  ",{"$f":"'طراحی همه الگوها'!Q241","v":35},"ضریب فاصله عمودی مرغک از زمین",10,0,30,1,{"$f":"(J34-H34)/(I34-G34)","v":0.05},{"$f":"H34-G34*K34","v":-0.5},0,{"$f":"(M34-L34)/K34","v":10},5,{"$f":"(O34-L34)/K34","v":110},0,{"$f":"(Q34-L34)/K34","v":10},null,"t6",16.8,17.3,19.399999999999999,21.4,22.4,25,27,27.5,29.1,30.6,32.1,33.700000000000003,35.700000000000003,36.700000000000003,37.700000000000003,38.799999999999997,39.799999999999997,40.799999999999997,39,39.5,40,40.5,41,41.5,42,42.7,43.4,44.1,44.8,45.5,46.2,46.9,43.4,43.8,44.2,44.6,45,45.4,45.8,46.2,46.6,47,47.4,47.8,48.2,48.6,21.1,22.1,24.6,26.6,27.1,28.6,30.2,31.7,33.200000000000003,35.200000000000003,36.200000000000003,37.200000000000003,38.200000000000003,39.200000000000003,40.200000000000003,39,39.5,40,40.5,41,41.5,42,42.7,43.4,44.1,44.8,45.5,46.2,46.9,44.3,44.7,45.1,45.5,45.9,46.3,46.7,47.1,47.5,47.9,48.3,48.8,49.2,49.6,{"$f":"'اندازه های شخصی'!G29","v":0},{"$f":"'اندازه های شخصی'!I29","v":0},{"$f":"'اندازه های شخصی'!K29","v":0},{"$f":"'اندازه های شخصی'!M29","v":0},{"$f":"'اندازه های شخصی'!O29","v":0},{"$f":"'اندازه های شخصی'!Q29","v":0},{"$f":"'اندازه های شخصی'!S29","v":0},{"$f":"'اندازه های شخصی'!U29","v":0},{"$f":"'اندازه های شخصی'!W29","v":0},{"$f":"'اندازه های شخصی'!Y29","v":0},{"$f":"'اندازه های شخصی'!AA29","v":0},{"$f":"'اندازه های شخصی'!AC29","v":0},{"$f":"'اندازه های شخصی'!AE29","v":0},{"$f":"'اندازه های شخصی'!AG29","v":0},{"$f":"'اندازه های شخصی'!AI29","v":0},{"$f":"'اندازه های شخصی'!AK29","v":0},{"$f":"'اندازه های شخصی'!AM29","v":0},{"$f":"'اندازه های شخصی'!AO29","v":0},{"$f":"'اندازه های شخصی'!AQ29","v":0},{"$f":"'اندازه های شخصی'!AS29","v":0},{"$f":"'اندازه های شخصی'!AU29","v":0},{"$f":"'اندازه های شخصی'!AW29","v":0},{"$f":"'اندازه های شخصی'!AY29","v":0},{"$f":"'اندازه های شخصی'!BA29","v":0},{"$f":"'اندازه های شخصی'!BC29","v":0},{"$f":"'اندازه های شخصی'!BE29","v":0},{"$f":"'اندازه های شخصی'!BG29","v":0},{"$f":"'اندازه های شخصی'!BI29","v":0},{"$f":"'اندازه های شخصی'!BK29","v":0},{"$f":"'اندازه های شخصی'!BM29","v":0},{"$f":"'اندازه های شخصی'!BO29","v":0},{"$f":"'اندازه های شخصی'!BQ29","v":0},{"$f":"'اندازه های شخصی'!BS29","v":0},{"$f":"'اندازه های شخصی'!BU29","v":0},{"$f":"'اندازه های شخصی'!BW29","v":0},{"$f":"'اندازه های شخصی'!BY29","v":0},{"$f":"'اندازه های شخصی'!CA29","v":0},{"$f":"'اندازه های شخصی'!CC29","v":0},{"$f":"'اندازه های شخصی'!CE29","v":0},{"$f":"'اندازه های شخصی'!CG29","v":0}]
[null,null,null,null,null,null,null,null,null,null,null,null,null,null,null,null,null,null,null,"v",25,27,27,28,28,30,30,31,31,32,32,33,34,35,36,37,38,39,36,37,38,39,40.200000000000003,41.4,42.6,43.8,45,46,47,48,49,50,39,40,41,42,43,44,45,46,47,48,49,50,51,52,28,28,30,30,31,31,32,32,33,34,35,36,37,38,39,36,37,38,39,40.200000000000003,41.4,42.6,43.8,45,46,47,48,49,50,39,40,41,42,43,44,45,46,47,48,49,50,51,52,{"$f":"'اندازه های شخصی'!G30","v":0},{"$f":"'اندازه های شخصی'!I30","v":0},{"$f":"'اندازه های شخصی'!K30","v":0},{"$f":"'اندازه های شخصی'!M30","v":0},{"$f":"'اندازه های شخصی'!O30","v":0},{"$f":"'اندازه های شخصی'!Q30","v":0},{"$f":"'اندازه های شخصی'!S30","v":0},{"$f":"'اندازه های شخصی'!U30","v":0},{"$f":"'اندازه های شخصی'!W30","v":0},{"$f":"'اندازه های شخصی'!Y30","v":0},{"$f":"'اندازه های شخصی'!AA30","v":0},{"$f":"'اندازه های شخصی'!AC30","v":0},{"$f":"'اندازه های شخصی'!AE30","v":0},{"$f":"'اندازه های شخصی'!AG30","v":0},{"$f":"'اندازه های شخصی'!AI30","v":0},{"$f":"'اندازه های شخصی'!AK30","v":0},{"$f":"'اندازه های شخصی'!AM30","v":0},{"$f":"'اندازه های شخصی'!AO30","v":0},{"$f":"'اندازه های شخصی'!AQ30","v":0},{"$f":"'اندازه های شخصی'!AS30","v":0},{"$f":"'اندازه های شخصی'!AU30","v":0},{"$f":"'اندازه های شخصی'!AW30","v":0},{"$f":"'اندازه های شخصی'!AY30","v":0},{"$f":"'اندازه های شخصی'!BA30","v":0},{"$f":"'اندازه های شخصی'!BC30","v":0},{"$f":"'اندازه های شخصی'!BE30","v":0},{"$f":"'اندازه های شخصی'!BG30","v":0},{"$f":"'اندازه های شخصی'!BI30","v":0},{"$f":"'اندازه های شخصی'!BK30","v":0},{"$f":"'اندازه های شخصی'!BM30","v":0},{"$f":"'اندازه های شخصی'!BO30","v":0},{"$f":"'اندازه های شخصی'!BQ30","v":0},{"$f":"'اندازه های شخصی'!BS30","v":0},{"$f":"'اندازه های شخصی'!BU30","v":0},{"$f":"'اندازه های شخصی'!BW30","v":0},{"$f":"'اندازه های شخصی'!BY30","v":0},{"$f":"'اندازه های شخصی'!CA30","v":0},{"$f":"'اندازه های شخصی'!CC30","v":0},{"$f":"'اندازه های شخصی'!CE30","v":0},{"$f":"'اندازه های شخصی'!CG30","v":0}]
[" متغیرهای ورودی چادر شماره 5",null,null,null,null," متغیرهای ورودی چادر شماره 5","x1","y1","x2","y2(بهینه)","a","b",null,"کمترین",null,"بیشترین",null,null,null,"v3",17.7,18.399999999999999,19.2,20.399999999999999,21.2,22,22.7,23.5,24.2,25.2,26,27,27.8,28.9,30.5,31.8,33.4,35.1,31.9,32.9,33.9,34.799999999999997,36,37.1,38.299999999999997,39.5,40.9,43.2,45.7,48.6,52.1,55.5,35.200000000000003,36.9,38.6,40.200000000000003,41.9,43.6,45.4,47.3,49.1,51.8,52.8,54.6,56.5,58.3,20.399999999999999,21.2,22,22.7,23.5,24.2,25.2,26,27,27.8,28.9,30.5,31.8,33.4,35.1,31.9,32.9,33.9,34.799999999999997,36,37.1,38.299999999999997,39.5,40.9,43.2,45.7,48.6,52.1,55.5,35.5,37.200000000000003,38.9,40.6,42.3,44,45.8,47.7,49.5,51.4,53.2,55.1,56.9,58.8,{"$f":"'اندازه های شخصی'!G31","v":0},{"$f":"'اندازه های شخصی'!I31","v":0},{"$f":"'اندازه های شخصی'!K31","v":0},{"$f":"'اندازه های شخصی'!M31","v":0},{"$f":"'اندازه های شخصی'!O31","v":0},{"$f":"'اندازه های شخصی'!Q31","v":0},{"$f":"'اندازه های شخصی'!S31","v":0},{"$f":"'اندازه های شخصی'!U31","v":0},{"$f":"'اندازه های شخصی'!W31","v":0},{"$f":"'اندازه های شخصی'!Y31","v":0},{"$f":"'اندازه های شخصی'!AA31","v":0},{"$f":"'اندازه های شخصی'!AC31","v":0},{"$f":"'اندازه های شخصی'!AE31","v":0},{"$f":"'اندازه های شخصی'!AG31","v":0},{"$f":"'اندازه های شخصی'!AI31","v":0},{"$f":"'اندازه های شخصی'!AK31","v":0},{"$f":"'اندازه های شخصی'!AM31","v":0},{"$f":"'اندازه های شخصی'!AO31","v":0},{"$f":"'اندازه های شخصی'!AQ31","v":0},{"$f":"'اندازه های شخصی'!AS31","v":0},{"$f":"'اندازه های شخصی'!AU31","v":0},{"$f":"'اندازه های شخصی'!AW31","v":0},{"$f":"'اندازه های شخصی'!AY31","v":0},{"$f":"'اندازه های شخصی'!BA31","v":0},{"$f":"'اندازه های شخصی'!BC31","v":0},{"$f":"'اندازه های شخصی'!BE31","v":0},{"$f":"'اندازه های شخصی'!BG31","v":0},{"$f":"'اندازه های شخصی'!BI31","v":0},{"$f":"'اندازه های شخصی'!BK31","v":0},{"$f":"'اندازه های شخصی'!BM31","v":0},{"$f":"'اندازه های شخصی'!BO31","v":0},{"$f":"'اندازه های شخصی'!BQ31","v":0},{"$f":"'اندازه های شخصی'!BS31","v":0},{"$f":"'اندازه های شخصی'!BU31","v":0},{"$f":"'اندازه های شخصی'!BW31","v":0},{"$f":"'اندازه های شخصی'!BY31","v":0},{"$f":"'اندازه های شخصی'!CA31","v":0},{"$f":"'اندازه های شخصی'!CC31","v":0},{"$f":"'اندازه های شخصی'!CE31","v":0},{"$f":"'اندازه های شخصی'!CG31","v":0}]
["ضریب فاصله لبه چادر تا زمین   j0","(از -0.1 الی 0.5)",{"$f":"K37*E37+L37","v":0},"خط زمین=0 \nخط زانو=1  ",{"$f":"'طراحی همه الگوها'!Q249","v":10},"ضریب فاصله لبه چادر تا زمین   ",10,0,30,1,{"$f":"(J37-H37)/(I37-G37)","v":0.05},{"$f":"H37-G37*K37","v":-0.5},-0.1,{"$f":"(M37-L37)/K37","v":8},0.5,{"$f":"(O37-L37)/K37","v":20},0,{"$f":"(Q37-L37)/K37","v":10},null,"w2",16,17,18,19,20,21,22,23,24,24,25,25,26,27.5,29,30,31.5,33,27,28.2,29.4,30.6,32,33.799999999999997,35.4,37,38.5,40,41.5,43,44.5,46,33.9,35.1,36.299999999999997,37.6,38.799999999999997,40,40.700000000000003,41.3,41.9,42.5,43.1,43.7,44.4,45,19,20,21,22,23,24,24,25,25,26,27.5,29,30,31.5,33,27,28.2,29.4,30.6,32,33.799999999999997,35.4,37,38.5,40,41.5,43,44.5,46,33.9,35.1,36.299999999999997,37.6,38.799999999999997,40,40.700000000000003,41.3,41.9,42.5,43.1,43.7,44.4,45,{"$f":"'اندازه های شخصی'!G32","v":0},{"$f":"'اندازه های شخصی'!I32","v":0},{"$f":"'اندازه های شخصی'!K32","v":0},{"$f":"'اندازه های شخصی'!M32","v":0},{"$f":"'اندازه های شخصی'!O32","v":0},{"$f":"'اندازه های شخصی'!Q32","v":0},{"$f":"'اندازه های شخصی'!S32","v":0},{"$f":"'اندازه های شخصی'!U32","v":0},{"$f":"'اندازه های شخصی'!W32","v":0},{"$f":"'اندازه های شخصی'!Y32","v":0},{"$f":"'اندازه های شخصی'!AA32","v":0},{"$f":"'اندازه های شخصی'!AC32","v":0},{"$f":"'اندازه های شخصی'!AE32","v":0},{"$f":"'اندازه های شخصی'!AG32","v":0},{"$f":"'اندازه های شخصی'!AI32","v":0},{"$f":"'اندازه های شخصی'!AK32","v":0},{"$f":"'اندازه های شخصی'!AM32","v":0},{"$f":"'اندازه های شخصی'!AO32","v":0},{"$f":"'اندازه های شخصی'!AQ32","v":0},{"$f":"'اندازه های شخصی'!AS32","v":0},{"$f":"'اندازه های شخصی'!AU32","v":0},{"$f":"'اندازه های شخصی'!AW32","v":0},{"$f":"'اندازه های شخصی'!AY32","v":0},{"$f":"'اندازه های شخصی'!BA32","v":0},{"$f":"'اندازه های شخصی'!BC32","v":0},{"$f":"'اندازه های شخصی'!BE32","v":0},{"$f":"'اندازه های شخصی'!BG32","v":0},{"$f":"'اندازه های شخصی'!BI32","v":0},{"$f":"'اندازه های شخصی'!BK32","v":0},{"$f":"'اندازه های شخصی'!BM32","v":0},{"$f":"'اندازه های شخصی'!BO32","v":0},{"$f":"'اندازه های شخصی'!BQ32","v":0},{"$f":"'اندازه های شخصی'!BS32","v":0},{"$f":"'اندازه های شخصی'!BU32","v":0},{"$f":"'اندازه های شخصی'!BW32","v":0},{"$f":"'اندازه های شخصی'!BY32","v":0},{"$f":"'اندازه های شخصی'!CA32","v":0},{"$f":"'اندازه های شخصی'!CC32","v":0},{"$f":"'اندازه های شخصی'!CE32","v":0},{"$f":"'اندازه های شخصی'!CG32","v":0}]
["ضریب گشادی دامن چادر  d1","(از 1.5 الی 2.3)",{"$f":"K38*E38+L38","v":1.8},"بهینه=1.8",{"$f":"'طراحی همه الگوها'!Q250","v":20},"ضریب گشادی دامن چادر  ",21,1.85,20,1.8,{"$f":"(J38-H38)/(I38-G38)","v":5.0000000000000044E-2},{"$f":"H38-G38*K38","v":0.79999999999999916},1.5,{"$f":"(M38-L38)/K38","v":14.000000000000004},2.2999999999999998,{"$f":"(O38-L38)/K38","v":29.999999999999986},1.8,{"$f":"(Q38-L38)/K38","v":20},null,"w10",17,18,21,23,27,31,35,38,41,44,46,48,50,52,54,56,58,60,57.2,57.8,58.4,59,59.5,60,60.5,61,61.2,62,62.5,63,63.5,64,60,60.3,60.8,61.4,62,62.5,63,63.5,64,64.400000000000006,64.8,65.2,65.599999999999994,66,23,27,31,35,38,41,44,46,48,50,52,54,56,58,60,57.2,57.8,58.4,59,59.5,60,60.5,61,61.2,62,62.5,63,63.5,64,60,60.3,60.8,61.4,62,62.5,63,63.5,64,64.400000000000006,64.8,65.2,65.599999999999994,66,{"$f":"'اندازه های شخصی'!G33","v":0},{"$f":"'اندازه های شخصی'!I33","v":0},{"$f":"'اندازه های شخصی'!K33","v":0},{"$f":"'اندازه های شخصی'!M33","v":0},{"$f":"'اندازه های شخصی'!O33","v":0},{"$f":"'اندازه های شخصی'!Q33","v":0},{"$f":"'اندازه های شخصی'!S33","v":0},{"$f":"'اندازه های شخصی'!U33","v":0},{"$f":"'اندازه های شخصی'!W33","v":0},{"$f":"'اندازه های شخصی'!Y33","v":0},{"$f":"'اندازه های شخصی'!AA33","v":0},{"$f":"'اندازه های شخصی'!AC33","v":0},{"$f":"'اندازه های شخصی'!AE33","v":0},{"$f":"'اندازه های شخصی'!AG33","v":0},{"$f":"'اندازه های شخصی'!AI33","v":0},{"$f":"'اندازه های شخصی'!AK33","v":0},{"$f":"'اندازه های شخصی'!AM33","v":0},{"$f":"'اندازه های شخصی'!AO33","v":0},{"$f":"'اندازه های شخصی'!AQ33","v":0},{"$f":"'اندازه های شخصی'!AS33","v":0},{"$f":"'اندازه های شخصی'!AU33","v":0},{"$f":"'اندازه های شخصی'!AW33","v":0},{"$f":"'اندازه های شخصی'!AY33","v":0},{"$f":"'اندازه های شخصی'!BA33","v":0},{"$f":"'اندازه های شخصی'!BC33","v":0},{"$f":"'اندازه های شخصی'!BE33","v":0},{"$f":"'اندازه های شخصی'!BG33","v":0},{"$f":"'اندازه های شخصی'!BI33","v":0},{"$f":"'اندازه های شخصی'!BK33","v":0},{"$f":"'اندازه های شخصی'!BM33","v":0},{"$f":"'اندازه های شخصی'!BO33","v":0},{"$f":"'اندازه های شخصی'!BQ33","v":0},{"$f":"'اندازه های شخصی'!BS33","v":0},{"$f":"'اندازه های شخصی'!BU33","v":0},{"$f":"'اندازه های شخصی'!BW33","v":0},{"$f":"'اندازه های شخصی'!BY33","v":0},{"$f":"'اندازه های شخصی'!CA33","v":0},{"$f":"'اندازه های شخصی'!CC33","v":0},{"$f":"'اندازه های شخصی'!CE33","v":0},{"$f":"'اندازه های شخصی'!CG33","v":0}]
["ضریب بلند شدن دسته چادر d2","(از 0.1 الی 1)",{"$f":"K39*E39+L39","v":0.5},"بهینه=0.5",{"$f":"'طراحی همه الگوها'!Q251","v":20},"ضریب بلند شدن دسته چادر ",21,0.55000000000000004,20,0.5,{"$f":"(J39-H39)/(I39-G39)","v":5.0000000000000044E-2},{"$f":"H39-G39*K39","v":-0.50000000000000089},0.1,{"$f":"(M39-L39)/K39","v":12.000000000000007},1,{"$f":"(O39-L39)/K39","v":29.999999999999993},0.5,{"$f":"(Q39-L39)/K39","v":20},null,"w11",10,10,10.5,11,12,12,13,13,13,14,14,15,16,15,16,16.5,17,17.5,16.5,17,17.5,18,18.5,19,19.5,20,20.5,21,21.5,22,22.5,23,17.899999999999999,18.3,18.7,19.100000000000001,19.5,19.899999999999999,20.3,20.7,21.1,21.5,21.9,22.3,22.7,23.1,11,12,12,13,13,13,14,14,15,16,15,16,16.5,17,17.5,16.5,17,17.5,18,18.5,19,19.5,20,20.5,21,21.5,22,22.5,23,17.899999999999999,18.3,18.7,19.100000000000001,19.5,19.899999999999999,20.3,20.7,21.1,21.5,21.9,22.3,22.7,23.1,{"$f":"'اندازه های شخصی'!G34","v":0},{"$f":"'اندازه های شخصی'!I34","v":0},{"$f":"'اندازه های شخصی'!K34","v":0},{"$f":"'اندازه های شخصی'!M34","v":0},{"$f":"'اندازه های شخصی'!O34","v":0},{"$f":"'اندازه های شخصی'!Q34","v":0},{"$f":"'اندازه های شخصی'!S34","v":0},{"$f":"'اندازه های شخصی'!U34","v":0},{"$f":"'اندازه های شخصی'!W34","v":0},{"$f":"'اندازه های شخصی'!Y34","v":0},{"$f":"'اندازه های شخصی'!AA34","v":0},{"$f":"'اندازه های شخصی'!AC34","v":0},{"$f":"'اندازه های شخصی'!AE34","v":0},{"$f":"'اندازه های شخصی'!AG34","v":0},{"$f":"'اندازه های شخصی'!AI34","v":0},{"$f":"'اندازه های شخصی'!AK34","v":0},{"$f":"'اندازه های شخصی'!AM34","v":0},{"$f":"'اندازه های شخصی'!AO34","v":0},{"$f":"'اندازه های شخصی'!AQ34","v":0},{"$f":"'اندازه های شخصی'!AS34","v":0},{"$f":"'اندازه های شخصی'!AU34","v":0},{"$f":"'اندازه های شخصی'!AW34","v":0},{"$f":"'اندازه های شخصی'!AY34","v":0},{"$f":"'اندازه های شخصی'!BA34","v":0},{"$f":"'اندازه های شخصی'!BC34","v":0},{"$f":"'اندازه های شخصی'!BE34","v":0},{"$f":"'اندازه های شخصی'!BG34","v":0},{"$f":"'اندازه های شخصی'!BI34","v":0},{"$f":"'اندازه های شخصی'!BK34","v":0},{"$f":"'اندازه های شخصی'!BM34","v":0},{"$f":"'اندازه های شخصی'!BO34","v":0},{"$f":"'اندازه های شخصی'!BQ34","v":0},{"$f":"'اندازه های شخصی'!BS34","v":0},{"$f":"'اندازه های شخصی'!BU34","v":0},{"$f":"'اندازه های شخصی'!BW34","v":0},{"$f":"'اندازه های شخصی'!BY34","v":0},{"$f":"'اندازه های شخصی'!CA34","v":0},{"$f":"'اندازه های شخصی'!CC34","v":0},{"$f":"'اندازه های شخصی'!CE34","v":0},{"$f":"'اندازه های شخصی'!CG34","v":0}]
["انتخاب چادر تا پایین پیشانی=1    انتخاب چادر تا بالای پیشانی=0\nانتخاب چادر روی سر = -1"," -1 یا 0 یا 1",{"$f":"K40*E40+L40","v":0},null,{"$f":"'طراحی همه الگوها'!Q252","v":2},"انتخاب چادر تا پایین پیشانی=3    انتخاب چادر تا بالای پیشانی=2\nانتخاب چادر روی سر = 1",2,0,1,-1,{"$f":"(J40-H40)/(I40-G40)","v":1},{"$f":"H40-G40*K40","v":-2},0,{"$f":"(M40-L40)/K40","v":2},1,{"$f":"(O40-L40)/K40","v":3},0,{"$f":"(Q40-L40)/K40","v":2},null,"w12",37,38,42,45,47,49,50,51,52,53,53.5,54,54.5,55,55.5,56,56.5,57,57,57,57,57,57,57,57,57,57,57,57,57,57,57,59,59,59,59,59,59,59,59,59,59,59,59,59,59,45,47,49,50,51,52,53,53.5,54,54.5,55,55.5,56,56.5,57,57,57,57,57,57,57,57,57,57,57,57,57,57,57,59,59,59,59,59,59,59,59,59,59,59,59,59,59,{"$f":"'اندازه های شخصی'!G35","v":0},{"$f":"'اندازه های شخصی'!I35","v":0},{"$f":"'اندازه های شخصی'!K35","v":0},{"$f":"'اندازه های شخصی'!M35","v":0},{"$f":"'اندازه های شخصی'!O35","v":0},{"$f":"'اندازه های شخصی'!Q35","v":0},{"$f":"'اندازه های شخصی'!S35","v":0},{"$f":"'اندازه های شخصی'!U35","v":0},{"$f":"'اندازه های شخصی'!W35","v":0},{"$f":"'اندازه های شخصی'!Y35","v":0},{"$f":"'اندازه های شخصی'!AA35","v":0},{"$f":"'اندازه های شخصی'!AC35","v":0},{"$f":"'اندازه های شخصی'!AE35","v":0},{"$f":"'اندازه های شخصی'!AG35","v":0},{"$f":"'اندازه های شخصی'!AI35","v":0},{"$f":"'اندازه های شخصی'!AK35","v":0},{"$f":"'اندازه های شخصی'!AM35","v":0},{"$f":"'اندازه های شخصی'!AO35","v":0},{"$f":"'اندازه های شخصی'!AQ35","v":0},{"$f":"'اندازه های شخصی'!AS35","v":0},{"$f":"'اندازه های شخصی'!AU35","v":0},{"$f":"'اندازه های شخصی'!AW35","v":0},{"$f":"'اندازه های شخصی'!AY35","v":0},{"$f":"'اندازه های شخصی'!BA35","v":0},{"$f":"'اندازه های شخصی'!BC35","v":0},{"$f":"'اندازه های شخصی'!BE35","v":0},{"$f":"'اندازه های شخصی'!BG35","v":0},{"$f":"'اندازه های شخصی'!BI35","v":0},{"$f":"'اندازه های شخصی'!BK35","v":0},{"$f":"'اندازه های شخصی'!BM35","v":0},{"$f":"'اندازه های شخصی'!BO35","v":0},{"$f":"'اندازه های شخصی'!BQ35","v":0},{"$f":"'اندازه های شخصی'!BS35","v":0},{"$f":"'اندازه های شخصی'!BU35","v":0},{"$f":"'اندازه های شخصی'!BW35","v":0},{"$f":"'اندازه های شخصی'!BY35","v":0},{"$f":"'اندازه های شخصی'!CA35","v":0},{"$f":"'اندازه های شخصی'!CC35","v":0},{"$f":"'اندازه های شخصی'!CE35","v":0},{"$f":"'اندازه های شخصی'!CG35","v":0}]
[]
[null,null,null,null,null,null,null,null,null,null,null,null,null,null,null,null,null,null,null,null,"سایز مناسب برای الگوهای شلوار",{"$f":"IF(W43=1,(IF(Y43<U9-1,\" کوچکتر از یک ماهه \",IF(Y43<V9-1,U6,IF(Y43<W9-1,V6,IF(Y43<X9-1,W6,IF(Y43<Y9-1,X6,IF(Y43<Z9-1,Y6,IF(Y43<AA9-1,Z6,IF(Y43<AB9-1,AA6,IF(Y43<AC9-1,AB6,IF(Y43<AD9-1,AC6,IF(Y43<AE9-1,AD6,IF(Y43<AF9-1,AE6,IF(Y43<AG9-1,AF6,IF(Y43<AH9-1,AG6,IF(Y43<AI9-1,AH6,IF(Y43<AJ9-1,AI6,IF(Y43<AK9-1,AJ6,IF(Y43<AL9-1,AK6,IF(Y43<AL9+3,AL6,\" بزرگتر از 14 ساله \")))))))))))))))))))),IF(W43=2,(IF(Y43<AM9-1,\" کوچکتر از سایز 34 \",IF(Y43<AN9-1,AM6,IF(Y43<AO9-1,AN6,IF(Y43<AP9-1,AO6,IF(Y43<AQ9-1,AP6,IF(Y43<AR9-1,AQ6,IF(Y43<AS9-1,AR6,IF(Y43<AT9-1,AS6,IF(Y43<AU9-1,AT6,IF(Y43<AV9-1,AU6,IF(Y43<AW9-1,AV6,IF(Y43<AX9-1,AW6,IF(Y43<AY9-1,AX6,IF(Y43<AZ9-1,AY6,IF(Y43<AZ9+3,AZ6,\" بزرگتر از سایز 60 \")))))))))))))))),IF(Y43<BA9-1,\"  کوچکتراز سایز 37  \",IF(Y43<BB9-1,BA6,IF(Y43<BC9-1,BB6,IF(Y43<BD9-1,BC6,IF(Y43<BE9-1,BD6,IF(Y43<BF9-1,BE6,IF(Y43<BG9-1,BF6,IF(Y43<BH9-1,BG6,IF(Y43<BI9-1,BH6,IF(Y43<BJ9-1,BI6,IF(Y43<BK9-1,BJ6,IF(Y43<BL9-1,BK6,IF(Y43<BM9-1,BL6,IF(Y43<BN9-1,BM6,IF(Y43<BN9+3,BN6,\" بزرگتر از سایز 50 \")))))))))))))))))","v":" کوچکتر از سایز 34 "},"انتخاب نوع اندازه گیری","کمر اندام","باسن اندام","دور سینه اندام"]
[null,null,null,null,null,null,null,null,null,null,null,null,null,null,null,null,null,null,null,null,"سایز مناسب برای الگوهای دامن",{"$f":"IF(W43=1,(IF(X43<U7-1,\" کوچکتر از یک ماهه \",IF(X43<V7-1,U6,IF(X43<W7-1,V6,IF(X43<X7-1,W6,IF(X43<Y7-1,X6,IF(X43<Z7-1,Y6,IF(X43<AA7-1,Z6,IF(X43<AB7-1,AA6,IF(X43<AC7-1,AB6,IF(X43<AD7-1,AC6,IF(X43<AE7-1,AD6,IF(X43<AF7-1,AE6,IF(X43<AG7-1,AF6,IF(X43<AH7-1,AG6,IF(X43<AI7-1,AH6,IF(X43<AJ7-1,AI6,IF(X43<AK7-1,AJ6,IF(X43<AL7-1,AK6,IF(X43<AL7+3,AL6,\" بزرگتر از 14 ساله \")))))))))))))))))))),IF(W43=2,(IF(X43<AM7-1,\" کوچکتر از سایز 34 \",IF(X43<AN7-1,AM6,IF(X43<AO7-1,AN6,IF(X43<AP7-1,AO6,IF(X43<AQ7-1,AP6,IF(X43<AR7-1,AQ6,IF(X43<AS7-1,AR6,IF(X43<AT7-1,AS6,IF(X43<AU7-1,AT6,IF(X43<AV7-1,AU6,IF(X43<AW7-1,AV6,IF(X43<AX7-1,AW6,IF(X43<AY7-1,AX6,IF(X43<AZ7-1,AY6,IF(X43<AZ7+3,AZ6,\" بزرگتر از سایز 60 \")))))))))))))))),IF(X43<BA7-1,\" کوچکتر از سایز 37 \",IF(X43<BB7-1,BA6,IF(X43<BC7-1,BB6,IF(X43<BD7-1,BC6,IF(X43<BE7-1,BD6,IF(X43<BF7-1,BE6,IF(X43<BG7-1,BF6,IF(X43<BH7-1,BG6,IF(X43<BI7-1,BH6,IF(X43<BJ7-1,BI6,IF(X43<BK7-1,BJ6,IF(X43<BL7-1,BK6,IF(X43<BM7-1,BL6,IF(X43<BN7-1,BM6,IF(X43<BN7+3,BN6,\" بزرگتر از سایز 50 \")))))))))))))))))","v":" کوچکتر از سایز 34 "},2,{"$f":"'اندازه گیری و تحلیل'!E275","v":0},{"$f":"'اندازه گیری و تحلیل'!E272","v":0},{"$f":"'اندازه گیری و تحلیل'!E269","v":0}]
[null,null,null,null,null,null,null,null,null,null,null,null,null,null,null,null,null,null,null,null,"سایز مناسب برای الگوهای پیراهن",{"$f":"IF(W43=1,(IF(Z43<U27-1,\" کوچکتر از یک ماهه \",IF(Z43<V27-1,U6,IF(Z43<W27-1,V6,IF(Z43<X27-1,W6,IF(Z43<Y27-1,X6,IF(Z43<Z27-1,Y6,IF(Z43<AA27-1,Z6,IF(Z43<AB27-1,AA6,IF(Z43<AC27-1,AB6,IF(Z43<AD27-1,AC6,IF(Z43<AE27-1,AD6,IF(Z43<AF27-1,AE6,IF(Z43<AG27-1,AF6,IF(Z43<AH27-1,AG6,IF(Z43<AI27-1,AH6,IF(Z43<AJ27-1,AI6,IF(Z43<AK27-1,AJ6,IF(Z43<AL27-1,AK6,IF(Z43<AL27+3,AL6,\" بزرگتر از 14 ساله \")))))))))))))))))))),IF(W43=2,(IF(Z43<AM27-1,\" کوچکتر از سایز 34 \",IF(Z43<AN27-1,AM6,IF(Z43<AO27-1,AN6,IF(Z43<AP27-1,AO6,IF(Z43<AQ27-1,AP6,IF(Z43<AR27-1,AQ6,IF(Z43<AS27-1,AR6,IF(Z43<AT27-1,AS6,IF(Z43<AU27-1,AT6,IF(Z43<AV27-1,AU6,IF(Z43<AW27-1,AV6,IF(Z43<AX27-1,AW6,IF(Z43<AY27-1,AX6,IF(Z43<AZ27-1,AY6,IF(Z43<AZ27+3,AZ6,\" بزرگتر از سایز 60 \")))))))))))))))),IF(Z43<BA27-1,\" کوچکتر از سایز 37 \",IF(Z43<BB27-1,BA6,IF(Z43<BC27-1,BB6,IF(Z43<BD27-1,BC6,IF(Z43<BE27-1,BD6,IF(Z43<BF27-1,BE6,IF(Z43<BG27-1,BF6,IF(Z43<BH27-1,BG6,IF(Z43<BI27-1,BH6,IF(Z43<BJ27-1,BI6,IF(Z43<BK27-1,BJ6,IF(Z43<BL27-1,BK6,IF(Z43<BM27-1,BL6,IF(Z43<BN27-1,BM6,IF(Z43<BN27+3,BN6,\" بزرگتر از سایز 50 \")))))))))))))))))","v":" کوچکتر از سایز 34 "}]
[]
["متغیرهای ورودی پیراهن ",null,null,null,null,"متغیرهای ورودی پیراهن "]
[]
[null,"برچسب الگو :",null,null,null," پنج ساله میل سه"]
[]
[" متغیرهای ورودی - شیفت الگو پیراهن",null,null,null,null," متغیرهای ورودی - شیفت الگو پیراهن","x1","y1","x2","y2(بهینه)","a","b","کمترین قبلی","کمترین جدید","بیشترین قبلی","بیشترین جدید",null,null,"اندازه های خوانده شده در محاسبه الگوها",null,null,null,"اندازه های خوانده شده برای بررسی اندازه ها",null,null,null,null,null,null,null,null,null,null,null,null,"رنج تغییرات اندزه ها","رنج تغییرات متغیرها مثبت و منفی","رنج تغییرات متغیرها مثبت",null,null,"انتخاب نوع سایزبندی","رنج تغییرات  کوچک متغیرها مثبت و منفی","دامن فون"]
["شیفت افقی کل الگو جلو پیراهن  برحسب سانتیمتر","(از -100 الی100)",{"$f":"K51*E51+L51","v":0},"بدون شیفت=0 ",{"$f":"'طراحی همه الگوها'!B182","v":0},"شیفت افقی کل الگو جلو پیراهن  (سانتیمتر)",1,1,0,0,{"$f":"(J51-H51)/(I51-G51)","v":1},{"$f":"H51-G51*K51","v":0},-100,{"$f":"(M51-L51)/K51","v":-100},100,{"$f":"(O51-L51)/K51","v":100},null,null,"اندازه ها در دامن و شلوار",null,"اندازه شخص",null,"اندازه شخص",null,null,null,null,null,null,null,null,null,null,null,null,{"$f":"U6","v":" 1ماهه"},-100,1,"اندازه جدید",null,"سایزبندی بچگانه",{"$f":"AP52-0.5","v":-70},1]
["شیفت عمودی کل الگو جلو پیراهن   برحسب سانتیمتر","(از -100 الی100)",0,"بدون شیفت =0  ",{"$f":"'طراحی همه الگوها'!B183","v":0},"شیفت عمودی کل الگو جلو پیراهن   (سانتیمتر)",1,1,0,0,1,0,-100,-100,100,100,null,null,"دور کمر","a",{"$f":"OFFSET('متغیرها '!T5,2,'متغیرها '!U5)","v":42},null,{"$f":"OFFSET('متغیرها '!T5,2,'متغیرها '!Y5)","v":131},null,null,null,null,null,null,null,null,null,null,null,null,{"$f":"V6","v":"1 تا 3 ماهه"},-99,2,"اندازه های موجود",null,"سایزبندی زنانه",-69.5,{"$f":"AQ51+0.5","v":1.5}]
["شیفت افقی کل الگو پشت پیراهن  برحسب سانتیمتر","(از -100 الی100)",0,"بدون شیفت=0 ",{"$f":"'طراحی همه الگوها'!B184","v":0},"شیفت افقی کل الگو پشت پیراهن  (سانتیمتر)",1,1,0,0,1,0,-100,-100,100,100,null,null,"نوار کمر از پشت بین دو خط پهلو","b",{"$f":"OFFSET('متغیرها '!T5,3,'متغیرها '!U5)","v":20.6},null,{"$f":"OFFSET('متغیرها '!T5,3,'متغیرها '!Y5)","v":63.6},null,null,null,null,null,null,null,null,null,null,null,null,{"$f":"W6","v":" 3 تا 6 ماهه"},-98,3,"انتخاب نوع اندازه گیری",null,"سایزبندی مردانه",-69,2]
["شیفت عمودی کل الگو پشت پیراهن  برحسب سانتیمتر","(از -100 الی100)",0,"بدون شیفت =0  ",{"$f":"'طراحی همه الگوها'!B185","v":0},"شیفت عمودی کل الگو پشت پیراهن  (سانتیمتر)",1,1,0,0,1,0,-100,-100,100,100,null,null,"دور باسن","c",{"$f":"OFFSET('متغیرها '!T5,4,'متغیرها '!U5)","v":45},null,{"$f":"OFFSET('متغیرها '!T5,4,'متغیرها '!Y5)","v":150},null,null,null,null,null,null,null,null,null,null,null,null,{"$f":"X6","v":"6ماهه تا یکساله"},-97,4,"اندازه گیری پیشرفته و با جزئیات",null,null,-68.5,2.5]
["شیفت افقی تکه  پهلو جلو   برحسب سانتیمتر","(از -100 الی100)",0,"بدون شیفت=0 ",{"$f":"'طراحی همه الگوها'!B187","v":0},"شیفت افقی تکه  پهلو جلو   (سانتیمتر)",1,1,0,0,1,0,-100,-100,100,100,null,null,"نوار باسن از پشت بین دو خط پهلو","d",{"$f":"OFFSET('متغیرها '!T5,5,'متغیرها '!U5)","v":25.2},null,{"$f":"OFFSET('متغیرها '!T5,5,'متغیرها '!Y5)","v":79.8},null,null,null,null,null,null,null,null,null,null,null,null,{"$f":"Y6","v":"بچگانه 1 ساله"},-96,5,"اندازه گیری مردان و بچه ها",null,null,-68,3]
["شیفت افقی تکه پهلو پشت  برحسب سانتیمتر","(از -100 الی100)",0,"بدون شیفت=0 ",{"$f":"'طراحی همه الگوها'!B188","v":0},"شیفت افقی تکه پهلو پشت  (سانتیمتر)",1,1,0,0,1,0,-100,-100,100,100,null,null,"فاصله نوار کمر تا زمین، از قسمت جلو","e",{"$f":"OFFSET('متغیرها '!T5,6,'متغیرها '!U5)","v":25},null,{"$f":"OFFSET('متغیرها '!T5,6,'متغیرها '!Y5)","v":108.9},null,null,null,null,null,null,null,null,null,null,null,null,{"$f":"Z6","v":"بچگانه 2 ساله"},-95,6,"اندازه گیری زنان",null,null,-67.5,3.5]
["شیفت عمودی تکه پهلو پشت  برحسب سانتیمتر","(از -100 الی100)",0,"بدون شیفت=0 ",{"$f":"'طراحی همه الگوها'!B189","v":0},"شیفت عمودی تکه پهلو پشت  (سانتیمتر)",1,1,0,0,1,0,-100,-100,100,100,null,null,"فاصله نوار کمر تا زمین، از قسمت پهلو","f",{"$f":"OFFSET('متغیرها '!T5,7,'متغیرها '!U5)","v":25},null,{"$f":"OFFSET('متغیرها '!T5,7,'متغیرها '!Y5)","v":110},null,null,null,null,null,null,null,null,null,null,null,null,{"$f":"AA6","v":"بچگانه 3 ساله"},-94,7,"اندازه گیری پیشرفته زنان",null,null,-67,4]
[null,null,null,null,null,null,null,null,null,null,null,null,null,null,null,null,null,null,"فاصله نوار کمر تا زمین، از قسمت پشت","g",{"$f":"OFFSET('متغیرها '!T5,8,'متغیرها '!U5)","v":25},null,{"$f":"OFFSET('متغیرها '!T5,8,'متغیرها '!Y5)","v":111.1},null,null,null,null,null,null,null,null,null,null,null,null,{"$f":"AB6","v":"بچگانه 4 ساله"},-93,8,null,null,null,-66.5,4.5]
[" متغیرهای ورودی - گشاد یا تنگ شدن پیراهن",null,null,null,null," متغیرهای ورودی - گشاد یا تنگ شدن پیراهن","x1","y1","x2","y2(بهینه)","a","b","کمترین قبلی","کمترین جدید","بیشترین قبلی","بیشترین جدید",null,null,"فاصله نوار زانو تا زمین","h",{"$f":"OFFSET('متغیرها '!T5,9,'متغیرها '!U5)","v":8.4},null,{"$f":"OFFSET('متغیرها '!T5,9,'متغیرها '!Y5)","v":46.7},null,null,null,null,null,null,null,null,null,null,null,null,{"$f":"AC6","v":"بچگانه 5 ساله"},-92,9,null,null,null,-66,5]
["ضریب تغییر اندازه های عرضی در پیراهن f2  ","(از -0.2 الی 0.2)",{"$f":"K60*E60+L60","v":0},"اندامی =0",{"$f":"'طراحی همه الگوها'!B191","v":0}," اندازه های عرضی در پیراهن   ",1,0.01,0,0,{"$f":"(J60-H60)/(I60-G60)","v":0.01},{"$f":"H60-G60*K60","v":0},-0.2,{"$f":"(M60-L60)/K60","v":-20},0.2,{"$f":"(O60-L60)/K60","v":20},null,null,"فاصله نوار باسن تا زمین","j",{"$f":"OFFSET('متغیرها '!T5,10,'متغیرها '!U5)","v":17.899999999999999},null,{"$f":"OFFSET('متغیرها '!T5,10,'متغیرها '!Y5)","v":87.3},null,null,null,null,null,null,null,null,null,null,null,null,{"$f":"AD6","v":"بچگانه 6 ساله"},-91,10,"انتخاب نوع الگو",null,null,-65.5,5.5]
["ضریب گشاد یا تنگ شدن از خط پهلو زیر حلقهf3 ","(از -0.03 الی 0.03)",{"$f":"K61*E61+L61","v":0},"اندامی =0",{"$f":"'طراحی همه الگوها'!B192","v":0}," گشاد یا تنگ شدن از خط پهلو زیر حلقه ",1,5.0000000000000001E-3,0,0,{"$f":"(J61-H61)/(I61-G61)","v":5.0000000000000001E-3},{"$f":"H61-G61*K61","v":0},-0.03,{"$f":"(M61-L61)/K61","v":-6},0.03,{"$f":"(O61-L61)/K61","v":6},null,null,"دور زانو","L",{"$f":"OFFSET('متغیرها '!T5,11,'متغیرها '!U5)","v":18.5},null,{"$f":"OFFSET('متغیرها '!T5,11,'متغیرها '!Y5)","v":61.5},null,null,null,null,null,null,null,null,null,null,null,null,{"$f":"AE6","v":"بچگانه 7 ساله"},-90,11,"فاق معمولی مناسب زنان و بچه ها",null,null,-65,6]
["ضریب گشاد یا تنگ شدن از خط پهلو دور باسن f4 ","(از -0.03 الی 0.08)",{"$f":"K62*E62+L62","v":0},"اندامی =0",{"$f":"'طراحی همه الگوها'!B193","v":0}," گشاد یا تنگ شدن از خط پهلو دور باسن  ",1,5.0000000000000001E-3,0,0,{"$f":"(J62-H62)/(I62-G62)","v":5.0000000000000001E-3},{"$f":"H62-G62*K62","v":0},-0.03,{"$f":"(M62-L62)/K62","v":-6},0.08,{"$f":"(O62-L62)/K62","v":16},null,null,"بلندی فاق","m",{"$f":"OFFSET('متغیرها '!T5,12,'متغیرها '!U5)","v":10},null,{"$f":"OFFSET('متغیرها '!T5,12,'متغیرها '!Y5)","v":33.5},null,null,null,null,null,null,null,null,null,null,null,null,{"$f":"AF6","v":"بچگانه 8 ساله"},-89,12,"فاق کمی بلند مناسب مردان",null,null,-64.5,6.5]
["ضریب تغییر اندازه های طولی در پیراهن f5 ","(از -0.2 الی 0.2)",{"$f":"K63*E63+L63","v":0},"اندامی =0",{"$f":"'طراحی همه الگوها'!B194","v":0}," اندازه های طولی در پیراهن  ",1,0.01,0,0,{"$f":"(J63-H63)/(I63-G63)","v":0.01},{"$f":"H63-G63*K63","v":0},-0.2,{"$f":"(M63-L63)/K63","v":-20},0.2,{"$f":"(O63-L63)/K63","v":20},null,null,"آنفورشور","q",{"$f":"OFFSET('متغیرها '!T5,13,'متغیرها '!U5)","v":29.6},null,{"$f":"OFFSET('متغیرها '!T5,13,'متغیرها '!Y5)","v":91.7},null,null,null,null,null,null,null,null,null,null,null,null,{"$f":"AG6","v":"بچگانه 9 ساله"},-88,13,"فاق کاملا بلند مناسب بچه با پوشک",null,null,-64,7]
[null,null,null,null,null,null,null,null,null,null,null,null,null,null,null,null,null,null,"دور مچ پا","r",{"$f":"OFFSET('متغیرها '!T5,14,'متغیرها '!U5)","v":13.5},null,{"$f":"OFFSET('متغیرها '!T5,14,'متغیرها '!Y5)","v":30},null,null,null,null,null,null,null,null,null,null,null,null,{"$f":"AH6","v":"بچگانه 10 ساله"},-87,14,null,null,null,-63.5,7.5]
[" متغیرهای ورودی - جادکمه و پایین لباس",null,null,null,null," متغیرهای ورودی - جادکمه و پایین لباس","x1","y1","x2","y2(بهینه)","a","b","کمترین قبلی","کمترین جدید","بیشترین قبلی","بیشترین جدید",null,null,null,null,null,null,null,null,null,null,null,null,null,null,null,null,null,null,null,{"$f":"AI6","v":"بچگانه 11 ساله"},-86,15,"ارتفاع یقه گرد کش",null,null,-63,8]
["ضریب بزرگی پهنای جادکمه جلو    مرحله اول","(از 0 الی 0.1)",{"$f":"K66*E66+L66","v":0.14000000000000001},"بهینه=0.015",{"$f":"'طراحی همه الگوها'!B198","v":28},"پهنای جادکمه جلو      مرحله اول در طراحی یقه انگلیسی",0,0,1,5.0000000000000001E-3,{"$f":"(J66-H66)/(I66-G66)","v":5.0000000000000001E-3},{"$f":"H66-G66*K66","v":0},0,{"$f":"(M66-L66)/K66","v":0},0.1,{"$f":"(O66-L66)/K66","v":20},null,null,"شلوار زنانه و بچگانه = 0       مردانه=1      بچه با پوشک=2",null,{"$f":"OFFSET('متغیرها '!T5,16,'متغیرها '!U5)","v":2},null,{"$f":"OFFSET('متغیرها '!T5,16,'متغیرها '!Y5)","v":0},null,null,null,null,null,null,null,null,null,null,null,null,{"$f":"AJ6","v":"بچگانه 12 ساله"},-85,16,0.5,"نوع آستین",null,-62.5,8.5]
["ضریب فاصله لبه دامن یا پیراهن تا زمین   k0","(از 0 الی 4)",{"$f":"K67*E67+L67","v":2},"خط زمین=0 \nخط زانو=1 \nخط باسن=2 \nخط کمر=3 \nخط سینه=4  ",{"$f":"'طراحی همه الگوها'!B199","v":50},"لبه پایین لباس",10,0,30,1,{"$f":"(J67-H67)/(I67-G67)","v":0.05},{"$f":"H67-G67*K67","v":-0.5},0,{"$f":"(M67-L67)/K67","v":10},4,{"$f":"(O67-L67)/K67","v":90},null,null,null,null,null,null,null,null,null,null,null,null,null,null,null,null,null,null,null,{"$f":"AK6","v":"بچگانه 13 ساله"},-84,17,1,1,null,-62,9]
["ضریب انحنا لبه پایین لباس ","(از 0 الی 0.9)",{"$f":"K68*E68+L68","v":0},"بهینه =0.1",{"$f":"'طراحی همه الگوها'!B200","v":0}," انحنا لبه پایین لباس نزدیک خط پهلو",0,0,1,0.05,{"$f":"(J68-H68)/(I68-G68)","v":0.05},{"$f":"H68-G68*K68","v":0},0,{"$f":"(M68-L68)/K68","v":0},0.9,{"$f":"(O68-L68)/K68","v":18},null,null,null,null,null,null,null,null,null,null,null,null,null,null,null,null,null,null,null,{"$f":"AL6","v":"بچگانه 14 ساله"},-83,18,1.5,2,null,-61.5,9.5]
[" ضریب طول انحنا لبه پایین لباس نزدیک خط پهلو","(از 0 الی 1)",{"$f":"K69*E69+L69","v":0.9},"بهینه =0.9",{"$f":"'طراحی همه الگوها'!B201","v":18}," طول انحنا لبه پایین لباس نزدیک خط پهلو",0,0,1,0.05,{"$f":"(J69-H69)/(I69-G69)","v":0.05},{"$f":"H69-G69*K69","v":0},0,{"$f":"(M69-L69)/K69","v":0},1,{"$f":"(O69-L69)/K69","v":20},null,null,"اندازه ها در بالاتنه",null,"اندازه شخص",null,"اندازه شخص",null,null,null,null,null,null,null,null,null,null,null,null,{"$f":"AM6","v":"34زنانه"},-82,19,2,4,null,-61,10]
[" متغیرهای ورودی - یقه",null,null,null,null," متغیرهای ورودی - یقه","x1","y1","x2","y2(بهینه)","a","b","کمترین قبلی","کمترین جدید","بیشترین قبلی","بیشترین جدید",null,null,"دور کمر","a",{"$f":"OFFSET('متغیرها '!T5,20,'متغیرها '!U5)","v":42},null,{"$f":"OFFSET('متغیرها '!T5,20,'متغیرها '!Y5)","v":131},null,null,null,null,null,null,null,null,null,null,null,null,{"$f":"AN6","v":"36زنانه"},-81,20,2.5,null,null,-60.5,10.5]
["ضریب باز شدن یقه روی سرشانه (گرد یا مربعی یا دلبری)   مرحله دوم   x6 ","(از 0 الی 0.99)",{"$f":"K71*E71+L71","v":0.5},"یقه کیپ=0",{"$f":"'طراحی همه الگوها'!E177","v":10},"باز شدن یقه روی سرشانه (گرد یا مربعی یا دلبری)   مرحله دوم در طراحی یقه انگلیسی    ",0,0,1,0.05,{"$f":"(J71-H71)/(I71-G71)","v":0.05},{"$f":"H71-G71*K71","v":0},0,{"$f":"(M71-L71)/K71","v":0},0.95,{"$f":"(O71-L71)/K71","v":18.999999999999996},null,null,"نوار کمر از پشت بین دو خط پهلو","b",{"$f":"OFFSET('متغیرها '!T5,21,'متغیرها '!U5)","v":20.6},null,{"$f":"OFFSET('متغیرها '!T5,21,'متغیرها '!Y5)","v":63.6},null,null,null,null,null,null,null,null,null,null,null,null,{"$f":"AO6","v":"38زنانه"},-80,21,3,null,null,-60,11]
["ضریب باز شدن یقه روی خط مرکزی جلو (گرد یا مربعی یا قایقی یا پروانه ای)  x'6","(از 0 الی 3)",{"$f":"K72*E72+L72","v":0},"یقه کیپ=0",{"$f":"'طراحی همه الگوها'!E178","v":0},"باز شدن یقه روی خط مرکزی جلو (گرد یا مربعی یا قایقی یا پروانه ای)  ",0,0,1,0.05,{"$f":"(J72-H72)/(I72-G72)","v":0.05},{"$f":"H72-G72*K72","v":0},0,{"$f":"(M72-L72)/K72","v":0},3,{"$f":"(O72-L72)/K72","v":60},null,null,"دور سینه : از برجسته ترین قسمت سینه","s1",{"$f":"OFFSET('متغیرها '!T5,22,'متغیرها '!U5)","v":45},null,{"$f":"OFFSET('متغیرها '!T5,22,'متغیرها '!Y5)","v":146},null,null,null,null,null,null,null,null,null,null,null,null,{"$f":"AP6","v":"40زنانه"},-79,22,3.5,null,null,-59.5,11.5]
["ضریب باز شدن یقه روی خط مرکزی پشت  (گرد یا مربعی یا قایقی یا پروانه ای) مرحله دوم    x7","(از 0 الی 3)",{"$f":"K73*E73+L73","v":0.2},"یقه کیپ=0",{"$f":"'طراحی همه الگوها'!E179","v":4},"باز شدن یقه روی خط مرکزی پشت(گرد؛ مربعی؛ قایقی؛ پروانه ای)مرحله دوم در طراحی یقه انگلیسی    ",0,0,1,0.05,{"$f":"(J73-H73)/(I73-G73)","v":0.05},{"$f":"H73-G73*K73","v":0},0,{"$f":"(M73-L73)/K73","v":0},3,{"$f":"(O73-L73)/K73","v":60},null,null,"پشت نوار سینه، بین دو خط پهلو","s2",{"$f":"OFFSET('متغیرها '!T5,23,'متغیرها '!U5)","v":22.5},null,{"$f":"OFFSET('متغیرها '!T5,23,'متغیرها '!Y5)","v":67.5},null,null,null,null,null,null,null,null,null,null,null,null,{"$f":"AQ6","v":"42زنانه"},-78,23,4,null,null,-59,12]
[null,null,null,null,null,null,null,null,null,null,null,null,null,null,null,null,null,null,"فاصله عمودی از خط سینه جلو تا خط سینه پشت که از کنار حلقه آستین بگذرد","t1",{"$f":"OFFSET('متغیرها '!T5,24,'متغیرها '!U5)","v":16.2},null,{"$f":"OFFSET('متغیرها '!T5,24,'متغیرها '!Y5)","v":46.5},null,null,null,null,null,null,null,null,null,null,null,null,{"$f":"AR6","v":"44زنانه"},-77,24,4.5,null,null,-58.5,12.5]
[" متغیرهای ورودی - سرشانه و حلقه آستین",null,null,null,null," متغیرهای ورودی - سرشانه و حلقه آستین","x1","y1","x2","y2(بهینه)","a","b","کمترین قبلی","کمترین جدید","بیشترین قبلی","بیشترین جدید",null,null,"فاصله عمودی از خط سینه جلو تا خط سینه پشت که از کنارگردن بگذرد","t2",{"$f":"OFFSET('متغیرها '!T5,25,'متغیرها '!U5)","v":19.899999999999999},null,{"$f":"OFFSET('متغیرها '!T5,25,'متغیرها '!Y5)","v":63.3},null,null,null,null,null,null,null,null,null,null,null,null,{"$f":"AS6","v":"46زنانه"},-76,25,5,null,null,-58,13]
["میزان کم شدن سرشانه x8 ","(از -0.5 الی 0.9)",{"$f":"K76*E76+L76","v":0},"اندامی =0",{"$f":"'طراحی همه الگوها'!B204","v":0},"ضریب کم شدن سرشانه  ",0,0,1,0.05,{"$f":"(J76-H76)/(I76-G76)","v":0.05},{"$f":"H76-G76*K76","v":0},-0.5,{"$f":"(M76-L76)/K76","v":-10},0.9,{"$f":"(O76-L76)/K76","v":18},null,null,"فاصله عمودی از خط کمر جلو تا خط کمر پشت که از کنار گردن بگذرد","t3",{"$f":"OFFSET('متغیرها '!T5,26,'متغیرها '!U5)","v":34},null,{"$f":"OFFSET('متغیرها '!T5,26,'متغیرها '!Y5)","v":100},null,null,null,null,null,null,null,null,null,null,null,null,{"$f":"AT6","v":"48زنانه"},-75,26,null,null,null,-57.5,13.5]
["میزان بزرگ شدن زیر حلقه آستین x9 ","(از -0.5 الی 1.5)",{"$f":"K77*E77+L77","v":0.2},"اندامی =0",{"$f":"'طراحی همه الگوها'!B205","v":4},"ضریب بزرگ شدن زیر حلقه آستین  ",0,0,1,0.05,{"$f":"(J77-H77)/(I77-G77)","v":0.05},{"$f":"H77-G77*K77","v":0},-0.5,{"$f":"(M77-L77)/K77","v":-10},1.5,{"$f":"(O77-L77)/K77","v":30},null,null,"فاصله عمودی بین خط سینه پشت و سرشانه، نزدیک دست","t4",{"$f":"OFFSET('متغیرها '!T5,27,'متغیرها '!U5)","v":8.3000000000000007},null,{"$f":"OFFSET('متغیرها '!T5,27,'متغیرها '!Y5)","v":23.8},null,null,null,null,null,null,null,null,null,null,null,null,{"$f":"AU6","v":"50زنانه"},-74,27,"متغیر ورودی به سانتیمتر","متغیر ورودی به سانتیمتر",null,-57,14]
["میزان زیاد شدن سرشانه x10 ","(از -0.5 الی 0.5)",{"$f":"K78*E78+L78","v":0},"اندامی =0",{"$f":"'طراحی همه الگوها'!B206","v":0},"ضریب زیاد شدن سرشانه  ",0,0,1,0.05,{"$f":"(J78-H78)/(I78-G78)","v":0.05},{"$f":"H78-G78*K78","v":0},-0.5,{"$f":"(M78-L78)/K78","v":-10},0.5,{"$f":"(O78-L78)/K78","v":10},null,null,"فاصله عمودی بین خط سینه پشت و سرشانه، نزدیک گردن","t5",{"$f":"OFFSET('متغیرها '!T5,28,'متغیرها '!U5)","v":10.4},null,{"$f":"OFFSET('متغیرها '!T5,28,'متغیرها '!Y5)","v":30.5},null,null,null,null,null,null,null,null,null,null,null,null,{"$f":"AV6","v":"52زنانه"},-73,28,-10,0,null,-56.5,14.5]
["انتخاب آستین حلقه ای یا پیش سینه رکابی یا تکه پهلو جدا=0        و انتخاب آستین دیگر=1","0 یا 1 ",{"$f":"K79*E79+L79","v":0},null,{"$f":"'طراحی همه الگوها'!B207","v":1},"انتخاب آستین حلقه ای یا پیش سینه رکابی یا تکه پهلو جدا=1        و انتخاب آستین دیگر=2",1,0,2,1,{"$f":"(J79-H79)/(I79-G79)","v":1},{"$f":"H79-G79*K79","v":-1},null,1,null,2,null,null,"فاصله عمودی بین خط کمرپشت و سرشانه، نزدیک گردن","t6",{"$f":"OFFSET('متغیرها '!T5,29,'متغیرها '!U5)","v":17.3},null,{"$f":"OFFSET('متغیرها '!T5,29,'متغیرها '!Y5)","v":46.9},null,null,null,null,null,null,null,null,null,null,null,null,{"$f":"AW6","v":"54زنانه"},-72,29,-9.5,0.1,null,-56,15]
[null,null,null,null,null,null,null,null,null,null,null,null,null,null,null,null,null,null,"دور گردن (متر به طور عمودی دور گردن قرار می گیرد و از روی استخوان ترقوه می گذرد)","v",{"$f":"OFFSET('متغیرها '!T5,30,'متغیرها '!U5)","v":27},null,{"$f":"OFFSET('متغیرها '!T5,30,'متغیرها '!Y5)","v":50},null,null,null,null,null,null,null,null,null,null,null,null,{"$f":"AX6","v":"56زنانه"},-71,30,-9,0.2,null,-55.5,15.5]
[" متغیرهای ورودی - تنظیم ساسون های بالای کمر\nمجموع ضرایب پهنای دو ساسون پشت باید کمتر از یک یا مساوی یک باشد.\nبا تغییر ضرایب پهنای ساسون، باقیمانده ساسون ها روی خط پهلو قرار میگیرد.",null,null,null,null," متغیرهای ورودی - تنظیم ساسون های بالای کمر\nمجموع ضرایب پهنای دو ساسون پشت باید کمتر از یک یا مساوی یک باشد.\nبا تغییر ضرایب پهنای ساسون، باقیمانده ساسون ها روی خط پهلو قرار میگیرد.","x1","y1","x2","y2","a","b",null,"کمترین",null,"بیشترین",null,"تست جدید","کارور پشت (بین دو خط امتداد زیر بغل)","v3",{"$f":"OFFSET('متغیرها '!T5,31,'متغیرها '!U5)","v":18.399999999999999},null,{"$f":"OFFSET('متغیرها '!T5,31,'متغیرها '!Y5)","v":55.5},null,null,null,null,null,null,null,null,null,null,null,null,{"$f":"AY6","v":"58زنانه"},-70,31,-8.5,0.3,null,-55,16]
[" ضریب پهنای ساسون روی خط مرکزی پشت بالاتنه   y'1","(از 0 الی 1)",{"$f":"K82*E82+L82","v":0},"بدون ساسون=0 \nبهینه=0.5  ",{"$f":"'طراحی همه الگوها'!B239","v":0}," ضریب پهنای ساسون روی خط مرکزی پشت بالاتنه   ",0,0,1,0.05,{"$f":"(J82-H82)/(I82-G82)","v":0.05},{"$f":"H82-G82*K82","v":0},0,{"$f":"(M82-L82)/K82","v":0},1,{"$f":"(O82-L82)/K82","v":20},0.5,{"$f":"(Q82-L82)/K82","v":10},"دور بازو از ناحیه زیر بغل","w2",{"$f":"OFFSET('متغیرها '!T5,32,'متغیرها '!U5)","v":17},null,{"$f":"OFFSET('متغیرها '!T5,32,'متغیرها '!Y5)","v":46},null,null,null,null,null,null,null,null,null,null,null,null,{"$f":"AZ6","v":"60زنانه"},-69,32,-8,0.4,"متغیر ورودی خاص شلوار",-54.5,16.5]
[" ضریب طول ساسون روی خط مرکزی پشت بالاتنه   y'3","(از0.1 الی 0.9)",0.60000000000000009,"بهینه=0.75 ",{"$f":"'طراحی همه الگوها'!B240","v":12}," ضریب طول ساسون روی خط مرکزی پشت بالاتنه   ",0,0,1,0.05,{"$f":"(J83-H83)/(I83-G83)","v":0.05},{"$f":"H83-G83*K83","v":0},0.1,2,0.9,18,0.75,15,"قد آستین (دست به طور خمیده، قد از سرشانه تا مچ)","w10",{"$f":"OFFSET('متغیرها '!T5,33,'متغیرها '!U5)","v":18},null,{"$f":"OFFSET('متغیرها '!T5,33,'متغیرها '!Y5)","v":64},null,null,null,null,null,null,null,null,null,null,null,null,{"$f":"BA6","v":"37 مردانه"},-68,33,-7.5,0.5,0.5,-54,17]
[" ضریب پهنای ساسون میانی پشت بالاتنه   y'2","(از 0 الی 1)",0.8,"بدون ساسون=0\nبهینه=0.5",{"$f":"'طراحی همه الگوها'!B241","v":16}," ضریب پهنای ساسون میانی پشت بالاتنه   ",0,0,1,0.05,{"$f":"(J84-H84)/(I84-G84)","v":0.05},{"$f":"H84-G84*K84","v":0},0,0,1,20,0.5,10,"دور مچ دست","w11",{"$f":"OFFSET('متغیرها '!T5,34,'متغیرها '!U5)","v":10},null,{"$f":"OFFSET('متغیرها '!T5,34,'متغیرها '!Y5)","v":23},null,null,null,null,null,null,null,null,null,null,null,null,{"$f":"BB6","v":"38 مردانه"},-67,34,-7,0.6,0.55000000000000004,-53.5,17.5]
[" ضریب طول ساسون میانی پشت بالاتنه   y'4","(از 0.3 الی 1)",0.9,"بهینه =0.9",{"$f":"'طراحی همه الگوها'!B242","v":18}," ضریب طول ساسون میانی پشت بالاتنه   ",0,0,1,0.05,0.05,0,0.3,5.9999999999999991,1,20,0.9,18,"دور سر","w12",{"$f":"OFFSET('متغیرها '!T5,35,'متغیرها '!U5)","v":38},null,{"$f":"OFFSET('متغیرها '!T5,35,'متغیرها '!Y5)","v":57},null,null,null,null,null,null,null,null,null,null,null,null,{"$f":"BC6","v":"39 مردانه"},-66,35,-6.5,0.7,0.6,-53,18]
[" ضریب فاصله افقی ساسون وسط بالاتنه از خط مرکزی پشت   y'5","(از0.2 الی 0.8)",0.5,"بهینه=0.5",{"$f":"'طراحی همه الگوها'!B243","v":25}," ضریب فاصله افقی ساسون وسط بالاتنه از خط مرکزی پشت   ",0,0,1,0.02,0.02,0,0.2,10,0.8,40,0.5,25,null,null,null,null,null,null,null,null,null,null,null,null,null,null,null,null,null,{"$f":"BD6","v":"40 مردانه"},-65,36,-6,0.8,0.65,-52.5,18.5]
[" ضریب پهنای ساسون میانی جلو بالاتنه    y'6","(از 0 الی 0.5)",0.5,"بدون ساسون=0\nبهینه=0.333",{"$f":"'طراحی همه الگوها'!B244","v":10}," ضریب پهنای ساسون میانی جلو بالاتنه    ",0,0,1,0.05,0.05,0,0,0,0.5,10,0.35,6.9999999999999991,null,null,null,null,null,null,null,null,null,null,null,null,null,null,null,null,null,{"$f":"BE6","v":"41 مردانه"},-64,37,-5.5,0.9,0.7,-52,19]
[" ضریب طول ساسون میانی جلو بالاتنه  y'7","(از 0 الی 0.5)",9.9999999999999978E-2,"بهینه =0.2\nتا خط سینه=0",{"$f":"'طراحی همه الگوها'!B245","v":18}," ضریب طول ساسون میانی جلو بالاتنه  ",20,0,0,1,-0.05,1,0,20,0.5,10,0.2,16,null,null,null,null,null,null,null,null,null,null,null,null,null,null,null,null,null,{"$f":"BF6","v":"42 مردانه"},-63,38,-5,1,0.75,-51.5,19.5]
[" ضریب فاصله افقی ساسون میانی بالاتنه از خط مرکزی جلو   y'8","(از0.2 الی 0.8)",0.5,"بهینه=0.5",{"$f":"'طراحی همه الگوها'!B246","v":25}," ضریب فاصله افقی ساسون میانی بالاتنه از خط مرکزی جلو   ",0,0,1,0.02,0.02,0,0.2,10,0.8,40,0.5,25,null,null,null,null,null,null,null,null,null,null,null,null,null,null,null,null,null,{"$f":"BG6","v":"43 مردانه"},-62,39,-4.5,1.1000000000000001,0.8,-51,20]
[" ضریب نوک ساسون سرشانه جلو تا نوک سینه  y'15","(از 0 الی 0.5)",9.9999999999999978E-2,"بهینه =0.2\nتا خط سینه=0",{"$f":"'طراحی همه الگوها'!B247","v":18}," ضریب نوک ساسون سرشانه جلو تا نوک سینه  ",20,0,0,1,{"$f":"(J90-H90)/(I90-G90)","v":-0.05},{"$f":"H90-G90*K90","v":1},0,20,0.5,10,0.2,16,null,null,null,null,null,null,null,null,null,null,null,null,null,null,null,null,null,{"$f":"BH6","v":"44 مردانه"},-61,40,-4,1.2,0.85,-50.5,20.5]
[null,null,null,null,null,null,null,null,null,null,null,null,null,null,null,null,null,null,null,null,null,null,null,null,null,null,null,null,null,null,null,null,null,null,null,{"$f":"BI6","v":"45 مردانه"},-60,41,-3.5,1.3,0.9,-50,21]
[" متغیرهای ورودی - تنظیم ساسون های پایین کمر\nمجموع پهنای دو ساسون پشت باید کمتر از یک یا مساوی یک باشد.\nبا تغییر ضرایب پهنای ساسون، باقیمانده ساسون ها روی خط پهلو قرار میگیرد.",null,null,null,null," متغیرهای ورودی - تنظیم ساسون های پایین کمر\nمجموع پهنای دو ساسون پشت باید کمتر از یک یا مساوی یک باشد.\nبا تغییر ضرایب پهنای ساسون، باقیمانده ساسون ها روی خط پهلو قرار میگیرد.","x1","y1","x2","y2(بهینه)","a","b",null,"کمترین",null,"بیشترین",null,null,null,null,null,null,null,null,null,null,null,null,null,null,null,null,null,null,null,{"$f":"BJ6","v":"46 مردانه"},-59,42,-3,1.4,0.95,-49.5,21.5]
[" ضریب پهنای ساسون روی خط مرکزی پشت دامن   y'9","(از 0 الی 1)",{"$f":"K93*E93+L93","v":0},"بدون ساسون=0 \nبهینه=025  ",{"$f":"'طراحی همه الگوها'!B252","v":0}," ضریب پهنای ساسون روی خط مرکزی پشت دامن   ",0,0,1,0.05,{"$f":"(J93-H93)/(I93-G93)","v":0.05},{"$f":"H93-G93*K93","v":0},0,{"$f":"(M93-L93)/K93","v":0},1,{"$f":"(O93-L93)/K93","v":20},0.25,{"$f":"(Q93-L93)/K93","v":5},null,null,null,null,null,null,null,null,null,null,null,null,null,null,null,null,null,{"$f":"BK6","v":"47 مردانه"},-58,43,-2.5,1.5,1,-49,22]
[" ضریب طول ساسون روی خط مرکزی پشت دامن   y'10     غیر فعال","(از0.1 الی 0.9)",1,"بهینه=0.9 ",{"$f":"'طراحی همه الگوها'!B258","v":20}," ضریب طول ساسون روی خط مرکزی پشت دامن        غیر فعال",0,0,1,0.05,0.05,0,0.1,2,0.9,18,0.9,18,null,null,null,null,null,null,null,null,null,null,null,null,null,null,null,null,null,{"$f":"BL6","v":"48 مردانه"},-57,44,-2,1.6,1.05,-48.5,22.5]
[" ضریب پهنای ساسون میانی پشت دامن   y'11","(از 0 الی 1)",0.8,"بدون ساسون=0\nبهینه=0.5",{"$f":"'طراحی همه الگوها'!B253","v":16}," ضریب پهنای ساسون میانی پشت دامن   ",0,0,1,0.05,0.05,0,0,0,1,20,0.5,10,null,null,null,null,null,null,null,null,null,null,null,null,null,null,null,null,null,{"$f":"BM6","v":"49 مردانه"},-56,45,-1.5,1.7,1.1000000000000001,-48,23]
[" ضریب طول ساسون میانی پشت دامن   y'12    ","(از 0.3 الی 1)",0.9,"بلندی ساسون تا خط باسن=1\nبهینه =0.9",{"$f":"'طراحی همه الگوها'!B254","v":18}," ضریب طول ساسون میانی پشت دامن       ",0,0,1,0.05,0.05,0,0.3,5.9999999999999991,1,20,0.9,18,null,null,null,null,null,null,null,null,null,null,null,null,null,null,null,null,null,{"$f":"BN6","v":"50 مردانه"},-55,46,-1,1.8,1.1499999999999999,-47.5,23.5]
[" ضریب پهنای ساسون میانی جلو دامن    y'13","(از 0 الی 0.5)",0.5,"بدون ساسون=0\nبهینه=0.25",{"$f":"'طراحی همه الگوها'!B255","v":10}," ضریب پهنای ساسون میانی جلو دامن    ",0,0,1,0.05,0.05,0,0,0,0.5,10,0.25,5,null,null,null,null,null,null,null,null,null,null,null,null,null,null,null,null,null,{"$f":"BO6","v":"6ماهه تا یکساله کت"},-54,47,-0.5,1.9,1.2,-47,24]
[" ضریب طول ساسون میانی جلو دامن  y'14     ","(از 0.3 الی 0.99)",1,"بلندی ساسون تا خط باسن=1\nبهینه =0.9",{"$f":"'طراحی همه الگوها'!B256","v":20}," ضریب طول ساسون میانی جلو دامن       ",0,0,1,0.05,0.05,0,0.3,5.9999999999999991,0.95,18.999999999999996,0.9,18,null,null,null,null,null,null,null,null,null,null,null,null,null,null,null,null,null,{"$f":"BP6","v":"1ساله کت"},-53,48,0,2,1.25,-46.5,24.5]
[null,null,null,null,null,null,null,null,null,null,null,null,null,null,null,null,null,null,null,null,null,null,null,null,null,null,null,null,null,null,null,null,null,null,null,{"$f":"BQ6","v":"2ساله کت"},-52,49,0.5,2.1,1.3,-46,25]
[" متغیرهای ورودی-بالاتنه عصایی ساسون ها",null,null,null,null," متغیرهای ورودی-بالاتنه عصایی ساسون ها","x1","y1","x2","y2(بهینه)","a","b",null,"کمترین",null,"بیشترین",null,null,null,null,null,null,null,null,null,null,null,null,null,null,null,null,null,null,null,{"$f":"BR6","v":"3ساله کت"},-51,50,1,2.2000000000000002,1.35,-45.5,25.5]
["انتخاب بالاتنه عصایی=1        انتخاب دیگر=0","0 یا 1 ",{"$f":"K101*E101+L101","v":0},null,{"$f":"'طراحی همه الگوها'!B260","v":1},"انتخاب بالاتنه عصایی=2        انتخاب دیگر=1",1,0,2,1,{"$f":"(J101-H101)/(I101-G101)","v":1},{"$f":"H101-G101*K101","v":-1},0,{"$f":"(M101-L101)/K101","v":1},1,{"$f":"(O101-L101)/K101","v":2},1,{"$f":"(Q101-L101)/K101","v":2},null,null,null,null,null,null,null,null,null,null,null,null,null,null,null,null,null,{"$f":"BS6","v":"4ساله کت"},-50,51,1.5,2.2999999999999998,1.4,-45,26]
["ضریب مکان ساسون جلو عصایی در بالاتنه","(از 0.1 الی 0.3)",{"$f":"K102*E102+L102","v":0.2},"بهینه عصایی=0.2",{"$f":"'طراحی همه الگوها'!B261","v":4},"مکان ساسون عصایی جلو در حلقه آستین بالاتنه",0,0,1,0.05,{"$f":"(J102-H102)/(I102-G102)","v":0.05},{"$f":"H102-G102*K102","v":0},0.1,{"$f":"(M102-L102)/K102","v":2},0.3,{"$f":"(O102-L102)/K102","v":5.9999999999999991},0.2,{"$f":"(Q102-L102)/K102","v":4},null,null,null,null,null,null,null,null,null,null,null,null,null,null,null,null,null,{"$f":"BT6","v":"5ساله کت"},-49,52,2,2.4,1.45,-44.5,26.5]
["ضریب مکان ساسون پشت عصایی در بالاتنه","(از 0.1 الی 0.4)",{"$f":"K103*E103+L103","v":0.30000000000000004},"بهینه عصایی=0.3",{"$f":"'طراحی همه الگوها'!B262","v":6},"مکان ساسون عصایی پشت در حلقه آستین بالاتنه",0,0,1,0.05,{"$f":"(J103-H103)/(I103-G103)","v":0.05},{"$f":"H103-G103*K103","v":0},0.1,{"$f":"(M103-L103)/K103","v":2},0.4,{"$f":"(O103-L103)/K103","v":8},0.3,{"$f":"(Q103-L103)/K103","v":5.9999999999999991},null,null,null,null,null,null,null,null,null,null,null,null,null,null,null,null,null,{"$f":"BU6","v":"6ساله کت"},-48,53,2.5,2.5,1.5,-44,27]
[null,null,null,null,null,null,null,null,null,null,null,null,null,null,null,null,null,null,null,null,null,null,null,null,null,null,null,null,null,null,null,null,null,null,null,{"$f":"BV6","v":"7ساله کت"},-47,54,3,2.6,1.55,-43.5,27.5]
[" متغیرهای ورودی- انتقال ساسون سرشانه به زیر بغل، عصایی یا خط مرکزی جلو\nبرای حذف کامل ساسون سرشانه مجموع c1 و c2 باید 1 شود.",null,null,null,null," متغیرهای ورودی- انتقال ساسون سرشانه به زیر بغل، عصایی یا خط مرکزی جلو\nبرای حذف کامل ساسون سرشانه مجموع c1 و c2 باید 30 شود.","x1","y1","x2","y2(بهینه)","a","b",null,"کمترین",null,"بیشترین",null,null,null,null,null,null,null,null,null,null,null,null,null,null,null,null,null,null,null,{"$f":"BW6","v":"8ساله کت"},-46,55,3.5,2.7,1.6,-43,28]
["ضریب انتقال ساسون سرشانه جلو به ساسون زیر بغل یا ساسون عصایی  c1","(از 0 الی 1)",{"$f":"K106*E106+L106","v":0},"بدون انتقال=0 \nبهیه برای کت جلو باز=0.8 ",{"$f":"'طراحی همه الگوها'!B223","v":0},"انتقال ساسون سرشانه جلو به ساسون زیر بغل یا ساسون عصایی  c1",0,0,10,1,{"$f":"(J106-H106)/(I106-G106)","v":0.1},{"$f":"H106-G106*K106","v":0},0,{"$f":"(M106-L106)/K106","v":0},1,{"$f":"(O106-L106)/K106","v":10},null,null,null,null,null,null,null,null,null,null,null,null,null,null,null,null,null,null,null,{"$f":"BX6","v":"9ساله کت"},-45,56,4,2.8,1.65,-42.5,28.5]
["ضریب انتقال ساسون سرشانه به خط مرکزی جلو c2","(از 0 الی 1)",{"$f":"K107*E107+L107","v":0},"بدون انتقال=0 \nبهیه برای کت جلو باز=0.2 ",{"$f":"'طراحی همه الگوها'!B224","v":0},"انتقال ساسون سرشانه به خط مرکزی جلو c2",0,0,10,1,{"$f":"(J107-H107)/(I107-G107)","v":0.1},{"$f":"H107-G107*K107","v":0},0,{"$f":"(M107-L107)/K107","v":0},1,{"$f":"(O107-L107)/K107","v":10},null,null,null,null,null,null,null,null,null,null,null,null,null,null,null,null,null,null,null,{"$f":"BY6","v":"10ساله کت"},-44,57,4.5,2.9,1.7,-42,29]
["انتخاب (اصلاح سرشانه و حلقه آستین برای c1 >1 ) = 1         و انتخاب دیگر=0","0 یا 1 ",{"$f":"K108*E108+L108","v":0},null,{"$f":"'طراحی همه الگوها'!B225","v":1},"انتخاب (اصلاح سرشانه و حلقه آستین برای c1 >30 ) = 2        انتخاب دیگر=1",1,0,2,1,{"$f":"(J108-H108)/(I108-G108)","v":1},{"$f":"H108-G108*K108","v":-1},0,{"$f":"(M108-L108)/K108","v":1},1,{"$f":"(O108-L108)/K108","v":2},null,null,null,null,null,null,null,null,null,null,null,null,null,null,null,null,null,null,null,{"$f":"BZ6","v":"11ساله کت"},-43,58,5,3,1.75,-41.5,29.5]
[null,null,null,null,null,null,null,null,null,null,null,null,null,null,null,null,null,null,null,null,null,null,null,null,null,null,null,null,null,null,null,null,null,null,null,{"$f":"CA6","v":"12ساله کت"},-42,59,5.5,3.1,1.8,-41,30]
[" متغیرهای ورودی- انتقال ساسون سرشانه به زیر بغل، عصایی یا خط مرکزی پشت\nبرای حذف کامل ساسون سرشانه مجموع c1 و c2 باید 1 شود.",null,null,null,null," متغیرهای ورودی- انتقال ساسون سرشانه به زیر بغل، عصایی یا خط مرکزی پشت\nبرای حذف کامل ساسون سرشانه مجموع c1 و c2 باید 30 شود.","x1","y1","x2","y2(بهینه)","a","b",null,"کمترین",null,"بیشترین",null,null,null,null,null,null,null,null,null,null,null,null,null,null,null,null,null,null,null,{"$f":"CB6","v":"13ساله کت"},-41,60,6,3.2,null,-40.5,30.5]
["ضریب انتقال ساسون سرشانه پشت به ساسون زیر بغل یا عصایی  c1","(از 0 الی 1)",{"$f":"K111*E111+L111","v":0},"بدون انتقال=0 \nبهیه برای کت پشت باز=0.8 ",{"$f":"'طراحی همه الگوها'!B229","v":0},"انتقال ساسون سرشانه پشت به ساسون زیر بغل یا عصایی  c1",0,0,10,1,{"$f":"(J111-H111)/(I111-G111)","v":0.1},{"$f":"H111-G111*K111","v":0},0,{"$f":"(M111-L111)/K111","v":0},1,{"$f":"(O111-L111)/K111","v":10},null,null,null,null,null,null,null,null,null,null,null,null,null,null,null,null,null,null,null,{"$f":"CC6","v":"14ساله کت"},-40,61,6.5,3.3,null,-40,31]
["ضریب انتقال ساسون سرشانه به خط مرکزی پشت c2","(از 0 الی 1)",{"$f":"K112*E112+L112","v":0},"بدون انتقال=0 \nبهیه برای کت پشت باز=0.2 ",{"$f":"'طراحی همه الگوها'!B230","v":0},"انتقال ساسون سرشانه به خط مرکزی پشت c2",0,0,10,1,{"$f":"(J112-H112)/(I112-G112)","v":0.1},{"$f":"H112-G112*K112","v":0},0,{"$f":"(M112-L112)/K112","v":0},1,{"$f":"(O112-L112)/K112","v":10},null,null,null,null,null,null,null,null,null,null,null,null,null,null,null,null,null,null,null,{"$f":"CD6","v":"34زنانه کمر پهن"},-39,62,7,3.4,null,-39.5,31.5]
[null,null,null,null,null,null,null,null,null,null,null,null,null,null,null,null,null,null,null,null,null,null,null,null,null,null,null,null,null,null,null,null,null,null,null,{"$f":"CE6","v":"36زنانه کمر پهن"},-38,63,7.5,3.5,null,-39,32]
[" متغیرهای ورودی-ساسون زیر بغل",null,null,null,null," متغیرهای ورودی-ساسون زیر بغل","x1","y1","x2","y2(بهینه)","a","b",null,"کمترین",null,"بیشترین",null,null,null,null,null,null,null,null,null,null,null,null,null,null,null,null,null,null,null,{"$f":"CF6","v":"38زنانه کمر پهن"},-37,64,8,3.6,null,-38.5,32.5]
["ضریب کوتاه شدن ساسون زیر بغل جلو  c3","(از0.1 الی 1)",{"$f":"K115*E115+L115","v":0.9},"بلندی ساسون تا نوک سینه=1\nبهینه =0.9",{"$f":"'طراحی همه الگوها'!B233","v":9},"ضریب کوتاه شدن ساسون زیر بغل جلو  ",0,0,1,0.1,{"$f":"(J115-H115)/(I115-G115)","v":0.1},{"$f":"H115-G115*K115","v":0},0.1,{"$f":"(M115-L115)/K115","v":1},1,{"$f":"(O115-L115)/K115","v":10},null,null,null,null,null,null,null,null,null,null,null,null,null,null,null,null,null,null,null,{"$f":"CG6","v":"40زنانه کمر پهن"},-36,65,8.5,3.7,null,-38,33]
["ضریب کوتاه شدن ساسون زیر بغل پشت  c3","(از 0.1 الی 1)",{"$f":"K116*E116+L116","v":0.9},"بلندی ساسون تا نوک سینه=1\nبهینه =0.9",{"$f":"'طراحی همه الگوها'!B234","v":9},"ضریب کوتاه شدن ساسون زیر بغل پشت  ",0,0,1,0.1,{"$f":"(J116-H116)/(I116-G116)","v":0.1},{"$f":"H116-G116*K116","v":0},0.1,{"$f":"(M116-L116)/K116","v":1},1,{"$f":"(O116-L116)/K116","v":10},null,null,null,null,null,null,null,null,null,null,null,null,null,null,null,null,null,null,null,{"$f":"CH6","v":"42زنانه کمر پهن"},-35,66,9,3.8,null,-37.5,{"$f":"AQ115+0.5","v":33.5}]
[null,null,null,null,null,null,null,null,null,null,null,null,null,null,null,null,null,null,null,null,null,null,null,null,null,null,null,null,null,null,null,null,null,null,null,{"$f":"CI6","v":"44زنانه کمر پهن"},-34,67,9.5,3.9,null,-37,34]
[" متغیرهای ورودی - کنترل گودی حلقه آستین و اپل",null,null,null,null," متغیرهای ورودی - کنترل گودی حلقه آستین و اپل","x1","y1","x2","y2(بهینه)","a","b",null,"کمترین",null,"بیشترین",null,null,null,null,null,null,null,null,null,null,null,null,null,null,null,null,null,null,null,{"$f":"CJ6","v":"46زنانه کمر پهن"},-33,68,10,4,null,-36.5,34.5]
["انتخاب کنترل گودی حلقه آستین=1        و انتخاب دیگر=0","0 یا 1 ",{"$f":"K119*E119+L119","v":0},null,{"$f":"'طراحی همه الگوها'!B342","v":1},"انتخاب کنترل گودی حلقه آستین=2        و انتخاب دیگر=1",1,0,2,1,{"$f":"(J119-H119)/(I119-G119)","v":1},{"$f":"H119-G119*K119","v":-1},0,{"$f":"(M119-L119)/K119","v":1},1,{"$f":"(O119-L119)/K119","v":2},4,{"$f":"(Q119-L119)/K119","v":5},null,null,null,null,null,null,null,null,null,null,null,null,null,null,null,null,null,{"$f":"CK6","v":"48زنانه کمر پهن"},-32,69,10.5,4.0999999999999996,null,-36,35]
[" ضریب میزان روی هم آمدن سرشانه پشت و جلو g2","(از 0 الی 1)",{"$f":"K120*E120+L120","v":0.5},"بهینه=0.5",{"$f":"'طراحی همه الگوها'!B343","v":10},"روی هم آمدن سرشانه پشت و جلو ",1,0.05,0,0,{"$f":"(J120-H120)/(I120-G120)","v":0.05},{"$f":"H120-G120*K120","v":0},0,{"$f":"(M120-L120)/K120","v":0},1,{"$f":"(O120-L120)/K120","v":20},0.5,{"$f":"(Q120-L120)/K120","v":10},null,null,null,null,null,null,null,null,null,null,null,null,null,null,null,null,null,{"$f":"CL6","v":"50زنانه کمر پهن"},-31,70,11,4.2,null,-35.5,35.5]
[" نسبت اعمال تغییر در حلقه جلو به حلقه پشت  g1","(از 0.5 الی 5)",{"$f":"K121*E121+L121","v":2},"بهینه=2",{"$f":"'طراحی همه الگوها'!B344","v":20},"نسبت اعمال تغییر در حلقه جلو به حلقه پشت  ",1,0.1,0,0,{"$f":"(J121-H121)/(I121-G121)","v":0.1},{"$f":"H121-G121*K121","v":0},0.5,{"$f":"(M121-L121)/K121","v":5},5,{"$f":"(O121-L121)/K121","v":50},2,{"$f":"(Q121-L121)/K121","v":20},null,null,null,null,null,null,null,null,null,null,null,null,null,null,null,null,null,{"$f":"CM6","v":"52زنانه کمر پهن"},-30,71,11.5,4.3,null,-35,36]
["زاویه اپل  (به درجه)  b","(از 0 الی 10)",{"$f":"K122*E122+L122","v":0},"بهینه =3",{"$f":"'طراحی همه الگوها'!B345","v":0},"زاویه اپل    ",1,0.2,0,0,{"$f":"(J122-H122)/(I122-G122)","v":0.2},{"$f":"H122-G122*K122","v":0},0,{"$f":"(M122-L122)/K122","v":0},10,{"$f":"(O122-L122)/K122","v":50},3,{"$f":"(Q122-L122)/K122","v":15},null,null,null,null,null,null,null,null,null,null,null,null,null,null,null,null,null,{"$f":"CN6","v":"54زنانه کمر پهن"},-29,72,12,4.4000000000000004,null,-34.5,36.5]
[null,null,null,null,null,null,null,null,null,null,null,null,null,null,null,null,null,null,null,null,null,null,null,null,null,null,null,null,null,null,null,null,null,null,null,{"$f":"CO6","v":"56زنانه کمر پهن"},-28,73,12.5,4.5,null,-34,37]
[" متغیرهای ورودی - نوع پیراهن",null,null,null,null," متغیرهای ورودی - نوع پیراهن","x1","y1","x2","y2(بهینه)","a","b",null,"کمترین",null,"بیشترین",null,null,null,null,null,null,null,null,null,null,null,null,null,null,null,null,null,null,null,{"$f":"CP6","v":"58زنانه کمر پهن"},-27,74,13,4.5999999999999996,null,-33.5,37.5]
["انتخاب جلو ترک ( سوتین) =1         انتخاب جلو با ساسون  (مایو) = 0","0 یا 1 ",{"$f":"K125*E125+L125","v":0},null,{"$f":"'طراحی همه الگوها'!B210","v":1},"انتخاب الگو جلو ترک ( سوتین) =2         انتخاب الگو جلو با ساسون  (مایو) = 1",1,0,2,1,{"$f":"(J125-H125)/(I125-G125)","v":1},{"$f":"H125-G125*K125","v":-1},null,1,null,2,null,null,null,null,null,null,null,null,null,null,null,null,null,null,null,null,null,null,null,{"$f":"CQ6","v":"60زنانه کمر پهن"},-26,75,13.5,4.7,null,-33,38]
[null,null,null,null,null,null,null,null,null,null,null,null,null,null,null,null,null,null,null,null,null,null,null,null,null,null,null,null,null,null,null,null,null,null,null,{"$f":"CR6","v":"37مردانه کت"},-25,76,14,4.8,null,-32.5,38.5]
[" متغیر ورودی اوزمان ها",null,null,null,null," متغیر ورودی اوزمان ها","x1","y1","x2","y2(بهینه)","a","b",null,"کمترین",null,"بیشترین",null,null,null,null,null,null,null,null,null,null,null,null,null,null,null,null,null,null,null,{"$f":"CS6","v":"38مردانه کت"},-24,77,14.5,4.9000000000000004,null,-32,39]
["میزان پایین آمدن نقطه شروع اوزمان از خط کمر x5 ","(از 0 الی 1)",{"$f":"K128*E128+L128","v":1},"روی خط باسن=1",{"$f":"'طراحی همه الگوها'!B213","v":30},"میزان پایین آمدن نقطه شروع اوزمان از خط کمر  ",10,0,30,1,{"$f":"(J128-H128)/(I128-G128)","v":0.05},{"$f":"H128-G128*K128","v":-0.5},0,{"$f":"(M128-L128)/K128","v":10},1,{"$f":"(O128-L128)/K128","v":30},null,null,null,null,null,null,null,null,null,null,null,null,null,null,null,null,null,null,null,{"$f":"CT6","v":"39مردانه کت"},-23,78,15,5,"متغیر ورودی خاص چادر",-31.5,39.5]
["ضریب بزرگ شدن اوزمان در خط پهلو جلو دامن f0 ","(از -0.5 الی 2)",0.1,"بهینه=0.5",{"$f":"'طراحی همه الگوها'!B214","v":2},"اوزمان در خط پهلو جلو دامن  ",0,0,1,0.05,0.05,0,-0.5,-10,2,40,null,null,null,null,null,null,null,null,null,null,null,null,null,null,null,null,null,null,null,{"$f":"CU6","v":"40مردانه کت"},-22,79,15.5,{"$f":"AN128+0.1","v":5.0999999999999996},70,-31,40]
["ضریب بزرگ شدن اوزمان در خط ترک جلو دامن e20 ","(از -0.5 الی 2)",0.1,"بهینه=0.5",{"$f":"'طراحی همه الگوها'!B215","v":2},"اوزمان در خط ترک جلو دامن  ",0,0,1,0.05,0.05,0,-0.5,-10,2,40,null,null,null,null,null,null,null,null,null,null,null,null,null,null,null,null,null,null,null,{"$f":"CV6","v":"41مردانه کت"},-21,80,16,5.1999999999999993,75,-30.5,40.5]
["ضریب بزرگ شدن اوزمان در خط  پهلو پشت دامن f1  ","(از -0.5 الی 2)",0.1,"بهینه=0.5",{"$f":"'طراحی همه الگوها'!B216","v":2},"اوزمان در خط  پهلو پشت دامن   ",0,0,1,0.05,0.05,0,-0.5,-10,2,40,null,null,null,null,null,null,null,null,null,null,null,null,null,null,null,null,null,null,null,{"$f":"CW6","v":"42مردانه کت"},-20,81,16.5,5.2999999999999989,80,-30,41]
["ضریب بزرگ شدن اوزمان در خط مرکزی پشت دامن e40 ","(از -0.5 الی 2)",0.1,"بهینه=0.5",{"$f":"'طراحی همه الگوها'!B217","v":2},"اوزمان در خط مرکزی پشت دامن  ",0,0,1,0.05,0.05,0,-0.5,-10,2,40,null,null,null,null,null,null,null,null,null,null,null,null,null,null,null,null,null,null,null,{"$f":"CX6","v":"43مردانه کت"},-19,82,17,5.3999999999999986,85,-29.5,41.5]
["ضریب بزرگ شدن اوزمان در خط ترک پشت دامن e50 ","(از -0.5 الی 2)",0.1,"بهینه=0.5",{"$f":"'طراحی همه الگوها'!B218","v":2},"اوزمان در خط ترک پشت دامن  ",0,0,1,0.05,0.05,0,-0.5,-10,2,40,null,null,null,null,null,null,null,null,null,null,null,null,null,null,null,null,null,null,null,{"$f":"CY6","v":"44مردانه کت"},-18,83,17.5,5.4999999999999982,90,-29,42]
["انتخاب پیراهن ترک گشاد=1            انتخاب دیگر=0","0 یا 1 ",0,null,{"$f":"'طراحی همه الگوها'!B219","v":1},"انتخاب پیراهن ترک گشاد=2            انتخاب دیگر=1",1,0,2,1,1,-1,null,1,null,2,null,null,null,null,null,null,null,null,null,null,null,null,null,null,null,null,null,null,null,{"$f":"CZ6","v":"45مردانه کت"},-17,84,18,5.5999999999999979,95,-28.5,42.5]
[null,null,null,null,null,null,null,null,null,null,null,null,null,null,null,null,null,null,null,null,null,null,null,null,null,null,null,null,null,null,null,null,null,null,null,{"$f":"DA6","v":"46 مردانه کت"},-16,85,18.5,5.6999999999999975,100,-28,43]
[" متغیرهای ورودی - پیلی ها و گوده ها",null,null,null,null," متغیرهای ورودی - پیلی ها و گوده ها","x1","y1","x2","y2(بهینه)","a","b",null,"کمترین",null,"بیشترین",null,null,null,null,null,null,null,null,null,null,null,null,null,null,null,null,null,null,null,{"$f":"DB6","v":"47 مردانه کت"},-15,86,19,5.7999999999999972,105,-27.5,43.5]
[" عرض پیلی 1 - روی خط مرکزی جلو  (سانتیمتر)    e119","(از 0 الی 10)",{"$f":"K137*E137+L137","v":6},"بهینه=4",{"$f":"'طراحی همه الگوها'!B304","v":6}," عرض پیلی 1 - روی خط مرکزی جلو  (سانتیمتر)    ",1,1,0,0,{"$f":"(J137-H137)/(I137-G137)","v":1},{"$f":"H137-G137*K137","v":0},0,{"$f":"(M137-L137)/K137","v":0},10,{"$f":"(O137-L137)/K137","v":10},4,{"$f":"(Q137-L137)/K137","v":4},null,null,null,null,null,null,null,null,null,null,null,null,null,null,null,null,null,{"$f":"DC6","v":"48 مردانه کت"},-14,87,19.5,5.8999999999999968,110,-27,44]
[" عرض پیلی 2 - روی خط ترک جلو   (سانتیمتر)    e219","(از 0 الی 10)",6,"بهینه=4",{"$f":"'طراحی همه الگوها'!B305","v":6}," عرض پیلی 2 - روی خط ترک جلو   (سانتیمتر)    ",1,1,0,0,1,0,0,0,10,10,4,4,null,null,null,null,null,null,null,null,null,null,null,null,null,null,null,null,null,{"$f":"DD6","v":"49 مردانه کت"},-13,88,20,6,115,-26.5,44.5]
[" عرض پیلی 3 - روی خط پهلو  (سانتیمتر)    e319","(از 0 الی 10",6,"بهینه=4",{"$f":"'طراحی همه الگوها'!B306","v":6}," عرض پیلی 3 - روی خط پهلو  (سانتیمتر)    ",1,1,0,0,1,0,0,0,10,10,4,4,null,null,null,null,null,null,null,null,null,null,null,null,null,null,null,null,null,{"$f":"DE6","v":"50 مردانه کت"},-12,89,null,{"$f":"AN138+0.1","v":6.1},120,-26,45]
[" عرض پیلی 4 - روی خط مرکزی پشت  (سانتیمتر)    e419","(از 0 الی 10",6,"بهینه=4",{"$f":"'طراحی همه الگوها'!B307","v":6}," عرض پیلی 4 - روی خط مرکزی پشت  (سانتیمتر)    ",1,1,0,0,1,0,0,0,10,10,4,4,null,null,null,null,null,null,null,null,null,null,null,null,null,null,null,null,null,{"$f":"DF6","v":"عنوان 1"},-11,90,null,6.1999999999999993,125,-25.5,45.5]
[" عرض پیلی 5 و لبه برگردان پایین کت یا پیراهن- روی خط ترک پشت  (سانتیمتر) e519","(از 0 الی 10)",6,"بهینه=4",{"$f":"'طراحی همه الگوها'!B308","v":6}," عرض پیلی 5 و لبه برگردان پایین کت یا پیراهن- روی خط ترک پشت  (سانتیمتر) ",1,1,0,0,1,0,0,0,10,10,4,4,null,null,null,null,null,null,null,null,null,null,null,null,null,null,null,null,null,{"$f":"DG6","v":"عنوان 2"},-10,91,null,6.2999999999999989,130,-25,46]
[" عرض گوده 1 - روی خط مرکزی جلو  (سانتیمتر)    e111","(از 0 الی 15)",0,"بهینه=7",{"$f":"'طراحی همه الگوها'!B309","v":0}," عرض گوده 1 - روی خط مرکزی جلو  (سانتیمتر)    ",1,1,0,0,1,0,0,0,15,15,7,7,null,null,null,null,null,null,null,null,null,null,null,null,null,null,null,null,null,{"$f":"DH6","v":"عنوان 3"},-9,92,null,6.3999999999999986,135,-24.5,46.5]
[" عرض گوده 2 - روی خط ترک جلو  (سانتیمتر)    e211","(از 0 الی 15)",0,"بهینه=7",{"$f":"'طراحی همه الگوها'!B310","v":0}," عرض گوده 2 - روی خط ترک جلو  (سانتیمتر)    ",1,1,0,0,1,0,0,0,15,15,7,7,null,null,null,null,null,null,null,null,null,null,null,null,null,null,null,null,null,{"$f":"DI6","v":"عنوان 4"},-8,93,null,6.4999999999999982,140,-24,47]
[" عرض گوده 3 - روی خط پهلو   (سانتیمتر)    e311","(از 0 الی 15)",0,"بهینه=7",{"$f":"'طراحی همه الگوها'!B311","v":0}," عرض گوده 3 - روی خط پهلو   (سانتیمتر)    ",1,1,0,0,1,0,0,0,15,15,7,7,null,null,null,null,null,null,null,null,null,null,null,null,null,null,null,null,null,{"$f":"DJ6","v":"عنوان 5"},-7,94,null,6.5999999999999979,145,-23.5,47.5]
[" عرض گوده 4 - روی خط مرکزی پشت  (سانتیمتر)    e411","(از 0 الی 15)",0,"بهینه=7",{"$f":"'طراحی همه الگوها'!B312","v":0}," عرض گوده 4 - روی خط مرکزی پشت  (سانتیمتر)    ",1,1,0,0,1,0,0,0,15,15,7,7,null,null,null,null,null,null,null,null,null,null,null,null,null,null,null,null,null,{"$f":"DK6","v":"عنوان 6"},-6,95,null,6.6999999999999975,150,-23,48]
[" عرض گوده 5 - روی خط ترک پشت  (سانتیمتر)    e511","(از 0 الی 15)",0,"بهینه=7",{"$f":"'طراحی همه الگوها'!B313","v":0}," عرض گوده 5 - روی خط ترک پشت  (سانتیمتر)    ",1,1,0,0,1,0,0,0,15,15,7,7,null,null,null,null,null,null,null,null,null,null,null,null,null,null,null,null,null,{"$f":"DL6","v":"عنوان 7"},-5,96,null,6.7999999999999972,155,-22.5,48.5]
["ضریب نقطه شروع گوده و پیلی از زمین    e0","(از 0 الی 2)",1.75,"خط زمین=0 \nخط زانو=1 \nخط باسن=2  ",{"$f":"'طراحی همه الگوها'!B314","v":45},"ضریب نقطه شروع گوده و پیلی از زمین    ",10,0,30,1,0.05,-0.5,null,1,null,50,0,10,null,null,null,null,null,null,null,null,null,null,null,null,null,null,null,null,null,{"$f":"DM6","v":"عنوان 8"},-4,97,null,6.8999999999999968,160,-22,49]
[null,null,null,null,null,null,null,null,null,null,null,null,null,null,null,null,null,null,null,null,null,null,null,null,null,null,null,null,null,null,null,null,null,null,null,{"$f":"DN6","v":"عنوان 9"},-3,98,null,7,165,-21.5,49.5]
[" متغیرهای ورودی جزئی - طراحی تکه پشت یقه انگلیسی  ",null,null,null,null," متغیرهای ورودی جزئی - طراحی تکه پشت یقه انگلیسی  ","x1","y1","x2","y2(بهینه)","a","b",null,"کمترین",null,"بیشترین",null,null,null,null,null,null,null,null,null,null,null,null,null,null,null,null,null,null,null,{"$f":"DO6","v":"عنوان 10"},-2,99,null,{"$f":"AN148+0.1","v":7.1},170,-21,50]
["γ11      زاویه تکه پشت یقه روی خط مرکزی ","(از -10 الی 20)",{"$f":"K150*E150+L150","v":2},"بهینه=2",{"$f":"'طراحی همه الگوها'!E222","v":20},"زاویه تکه پشت یقه روی خط مرکزی ",19,1,20,2,{"$f":"(J150-H150)/(I150-G150)","v":1},{"$f":"H150-G150*K150","v":-18},-10,{"$f":"(M150-L150)/K150","v":8},20,{"$f":"(O150-L150)/K150","v":38},2,{"$f":"(Q150-L150)/K150","v":20},null,null,null,null,null,null,null,null,null,null,null,null,null,null,null,null,null,{"$f":"DP6","v":"عنوان 11"},-1,100,null,7.1999999999999993,175,-20.5,50.5]
["γ12       زاویه تکه پشت یقه با پایه روی خط مرکزی ","(از -10 الی 20)",4,"بهینه=4",{"$f":"'طراحی همه الگوها'!E223","v":20},"زاویه تکه پشت یقه با پایه روی خط مرکزی ",19,3,20,4,1,-16,-10,6,20,36,4,20,null,null,null,null,null,null,null,null,null,null,null,null,null,null,null,null,null,{"$f":"DQ6","v":"عنوان 12"},0,101,null,7.2999999999999989,180,-20,51]
[" ضریب تغییر انحنا بالا سمت چپ     مرحله نهم          γ13","(از -1 الی 1)",0,"بهینه=0",{"$f":"'طراحی همه الگوها'!E220","v":20},"ضریب تغییر انحنا بالا سمت چپ     مرحله نهم در طراحی یقه انگلیسی          ",19,-0.1,20,0,0.1,-2,-1,10,1,30,0,20,null,null,null,null,null,null,null,null,null,null,null,null,null,null,null,null,null,{"$f":"DR6","v":"عنوان 13"},1,102,null,7.3999999999999986,185,-19.5,51.5]
["γ14        ضریب تغییر انحنا بالا    مرحله نهم ","(از 0.5 الی 2)",1.5800000000000003,"بهینه=1.18",{"$f":"'طراحی همه الگوها'!E221","v":60},"ضریب تغییر انحنا بالا    مرحله نهم در طراحی یقه انگلیسی ",39,1.1599999999999999,40,1.18,2.0000000000000018E-2,0.37999999999999923,0.5,6.0000000000000329,2,80.999999999999972,1.18,40,null,null,null,null,null,null,null,null,null,null,null,null,null,null,null,null,null,{"$f":"DS6","v":"عنوان 14"},2,103,null,7.4999999999999982,190,-19,52]
["γ15        ضریب تغییر انحنا پایین روی خط مرکزی پشت","(از 0 الی 2)",0.5,"بهینه=0.5",{"$f":"'طراحی همه الگوها'!E224","v":20},"ضریب تغییر انحنا پایین روی خط مرکزی پشت",19,0.45,20,0.5,4.9999999999999989E-2,-0.49999999999999972,0,9.9999999999999964,2,50,0.5,20,null,null,null,null,null,null,null,null,null,null,null,null,null,null,null,null,null,{"$f":"DT6","v":"عنوان 15"},3,104,null,7.5999999999999979,195,-18.5,52.5]
["γ16        ضریب تغییر انحنا پایین","(از 0 الی 2)",0.6,"بهینه=0.6",{"$f":"'طراحی همه الگوها'!E225","v":20},"ضریب تغییر انحنا پایین",19,0.55000000000000004,20,0.6,4.9999999999999933E-2,-0.39999999999999869,0,7.999999999999984,2,48.000000000000036,0.6,20,null,null,null,null,null,null,null,null,null,null,null,null,null,null,null,null,null,{"$f":"DU6","v":"عنوان 16"},4,105,null,7.6999999999999975,200,-18,53]
["γ17      ضریب پهنای پشت پایه (انگلیسی و آرشال) مرحله سوم","(از 0.2 الی 2)",0.7,"بهینه=1\nبهینه پایه مستطیل=0.7",{"$f":"'طراحی همه الگوها'!E216","v":20},"پهنای پشت پایه (انگلیسی و آرشال)    مرحله سوم در طراحی یقه انگلیسی      ",19,0.65,20,0.7,4.9999999999999933E-2,-0.29999999999999871,0.2,9.9999999999999876,2,46.000000000000043,1,26.000000000000011,null,null,null,null,null,null,null,null,null,null,null,null,null,null,null,null,null,{"$f":"DV6","v":"عنوان 17"},5,106,null,7.7999999999999972,null,-17.5,53.5]
["γ18        زاویه کج شدن پایه مستطیل به قسمت گردن بر حسب درجه  مرحله سوم ","(از -30 الی 30)",-15,"بهینه=5",{"$f":"'طراحی همه الگوها'!E217","v":20},"زاویه کج شدن پایه مستطیل به قسمت گردن    مرحله سوم در طراحی یقه انگلیسی ",39,4,40,5,1,-35,-30,5,30,65,5,40,null,null,null,null,null,null,null,null,null,null,null,null,null,null,null,null,null,{"$f":"DW6","v":"عنوان 18"},6,107,null,7.8999999999999968,null,-17,54]
[" ضریب پهنای جلو پایه مستطیل  مرحله سوم       γ19","(از 0 الی 1)",0.7,"بهینه=0.7",{"$f":"'طراحی همه الگوها'!E218","v":20},"پهنای جلو پایه مستطیل      مرحله سوم در طراحی یقه انگلیسی       ",19,0.65,20,0.7,4.9999999999999933E-2,-0.29999999999999871,0,5.9999999999999822,1,26.000000000000011,0.7,20,null,null,null,null,null,null,null,null,null,null,null,null,null,null,null,null,null,{"$f":"DX6","v":"عنوان 19"},7,108,null,8,null,-16.5,54.5]
["انتخاب یقه انگلیسی با پایه جدا=1            انتخاب دیگر=0  مرحله سوم","0 یا 1 ",0,null,{"$f":"'طراحی همه الگوها'!E219","v":1},"انتخاب یقه انگلیسی پایه سرخود یا پایه جدا    مرحله سوم در طراحی یقه انگلیسی",1,0,2,1,1,-1,0,1,1,2,0,1,null,null,null,null,null,null,null,null,null,null,null,null,null,null,null,null,null,{"$f":"DY6","v":"عنوان 20"},8,109,null,{"$f":"AN158+0.1","v":8.1},null,-16,55]
["γ20        جابجایی عمودی پایه مستطیل","(از -100 الی100)",0,"بهینه=دلخواه",{"$f":"'طراحی همه الگوها'!E228","v":0},"جابجایی عمودی پایه مستطیل (سانتیمتر)",1,1,0,0,1,0,-100,{"$f":"(M160-L160)/K160","v":-100},100,{"$f":"(O160-L160)/K160","v":100},null,null,null,null,null,null,null,null,null,null,null,null,null,null,null,null,null,null,null,{"$f":"DZ6","v":"عنوان 21"},9,110,null,8.1999999999999993,null,-15.5,55.5]
["γ21        جابجایی افقی پایه مستطیل","(از -100 الی100)",0,"بهینه=دلخواه",{"$f":"'طراحی همه الگوها'!E227","v":0},"جابجایی افقی پایه مستطیل (سانتیمتر)",1,1,0,0,1,0,-100,{"$f":"(M161-L161)/K161","v":-100},100,{"$f":"(O161-L161)/K161","v":100},null,null,null,null,null,null,null,null,null,null,null,null,null,null,null,null,null,null,null,{"$f":"EA6","v":"عنوان 22"},10,111,null,8.2999999999999989,null,-15,56]
[null,null,null,null,null,null,null,null,null,null,null,null,null,null,null,null,null,null,null,null,null,null,null,null,null,null,null,null,null,null,null,null,null,null,null,{"$f":"EB6","v":"عنوان 23"},11,112,null,8.3999999999999986,null,-14.5,56.5]
[" متغیرهای ورودی-طراحی یقه انگلیسی و آرشال و یقه هفت",null,null,null,null," متغیرهای ورودی-طراحی یقه انگلیسی و آرشال و یقه هفت","x1","y1","x2","y2(بهینه)","a","b",null,"کمترین",null,"بیشترین",null,null,"مراحل مختلف در طراحی یقه انگلیسی",null,null,null,null,null,null,null,null,null,null,null,null,null,null,null,null,{"$f":"EC6","v":"عنوان 24"},12,113,null,8.4999999999999982,null,-14,57]
["پهنای یقه در پشت گردن (انگلیسی یا آرشال)  مرحله سوم","(از 0.7 الی 3)",{"$f":"IF(E164=-1,E164,K164*E164+L164)","v":1.2500000000000002},"بهینه=1",{"$f":"IF('طراحی همه الگوها'!E205=AR230,-1,'طراحی همه الگوها'!E205)","v":25},"پهنای یقه در پشت گردن (انگلیسی یا آرشال)  مرحله سوم در طراحی یقه انگلیسی",19,0.95,20,1,{"$f":"(J164-H164)/(I164-G164)","v":5.0000000000000044E-2},{"$f":"H164-G164*K164","v":-8.8817841970012523E-16},0.7,{"$f":"(M164-L164)/K164","v":14.000000000000004},3,{"$f":"(O164-L164)/K164","v":59.999999999999964},1,{"$f":"(Q164-L164)/K164","v":20},"پهنای جادکمه جلو - میزان روی هم آمدن یقه انگلیسی","مرحله اول",null,null,null,null,null,null,null,null,null,null,null,null,null,null,null,{"$f":"ED6","v":"عنوان 25"},13,114,null,8.5999999999999979,null,-13.5,57.5]
["γ1      باز بودن یقه انگلیسی یا آرشال یا هفت   مرحله چهارم ","(از 0.5 الی 1.5)",{"$f":"K165*E165+L165","v":0.7},"بهینه=0.7",{"$f":"'طراحی همه الگوها'!E206","v":20}," باز بودن یقه انگلیسی یا آرشال یا هفت   مرحله چهارم در طراحی یقه انگلیسی ",19,0.65,20,0.7,4.9999999999999933E-2,-0.29999999999999871,0.5,15.999999999999995,1.5,36.000000000000021,0.7,20,"میزان باز بودن یقه گرد - نشان میدهد یقه چقدر به گردن میچسبد","مرحله دوم",null,null,null,null,null,null,null,null,null,null,null,null,null,null,null,{"$f":"EE6","v":"عنوان 26"},14,115,null,8.6999999999999975,null,-13,58]
["γ7        پهنای بالای دال   مرحله پنجم ","(از 0.01 الی 0.4)",0.1999999999999999,"بهینه=0.1",{"$f":"'طراحی همه الگوها'!E207","v":30}," پهنای بالای دال   مرحله پنجم در طراحی یقه انگلیسی ",21,0.11,20,0.1,9.999999999999995E-3,-9.9999999999999908E-2,0.01,10.999999999999996,0.4,50.000000000000021,0.1,20,"پهنای تکه پشت یقه انگلیسی","مرحله سوم",null,null,null,null,null,null,null,null,null,null,null,null,null,null,null,{"$f":"EF6","v":"عنوان 27"},15,116,null,8.7999999999999972,null,-12.5,58.5]
[" پهنای پایین دال   مرحله پنجم         γ6","(از 0.01 الی 0.4)",0.6499999999999998,"بهینه=0.1",{"$f":"'طراحی همه الگوها'!E208","v":75}," پهنای پایین دال   مرحله پنجم در طراحی یقه انگلیسی      ",21,0.11,20,0.1,9.999999999999995E-3,-9.9999999999999908E-2,0.01,10.999999999999996,0.4,50.000000000000021,0.1,20,"باز بودن یقه انگلیسی","مرحله چهارم",null,null,null,null,null,null,null,null,null,null,null,null,null,null,null,{"$f":"EG6","v":"عنوان 28"},16,117,null,8.8999999999999968,null,-12,59]
["γ4          پهنای یقه انگلیسی یا آرشال   مرحله ششم ","(از -5 الی 40)",-20,"بهینه=8",{"$f":"'طراحی همه الگوها'!E209","v":-8}," پهنای یقه انگلیسی یا آرشال   مرحله ششم در طراحی یقه انگلیسی ",19,7,20,8,1,-12,-5,7,40,52,8,20,"پهنای بالا و پایین دال","مرحله پنجم",null,null,null,null,null,null,null,null,null,null,null,null,null,null,null,{"$f":"EH6","v":"عنوان 29"},17,118,null,9,null,-11.5,59.5]
["γ5        وسط دال پایین یا بالا رود (انگلیسی یا آرشال)  مرحله هفتم","(از -0.2 الی 0.3)",-0.19,"عدد منفی یعنی دال رو به سرشانه برود\nبهینه=0",{"$f":"'طراحی همه الگوها'!E210","v":1}," وسط دال پایین یا بالا رود (انگلیسی یا آرشال)  مرحله هفتم در طراحی یقه انگلیسی",19,-0.01,20,0,0.01,-0.2,-0.2,0,0.3,50,0,20,"پهنای یقه انگلیسی","مرحله ششم",null,null,null,null,null,null,null,null,null,null,null,null,null,null,null,{"$f":"EI6","v":"عنوان 30"},18,119,"متغیر ورودی خاص یقه","متغیر ورودی خاص شلوار","متغیر ورودی خاص کیمونو",-11,60,"متغیر ورودی خاص پشت یقه انگلیسی","متغیر ورودی خاص کمر شورت"]
["γ9       زاویه بالای دال   مرحله هشتم","(از 90 الی 180)",105,"بهینه=130",{"$f":"'طراحی همه الگوها'!E211","v":15}," زاویه بالای دال   مرحله هشتم در طراحی یقه انگلیسی",19,125,20,130,5,30,90,12,180,30,130,20,"بالا و پایین رفتن نقطه وسط دال","مرحله هفتم",null,null,null,null,null,null,null,null,null,null,null,null,null,null,null,{"$f":"EJ6","v":"عنوان 31"},19,120,"خط جادکمه","روش مولر",-10,-10.5,60.5,1,51]
["γ10       زاویه پایین دال    مرحله هشتم ","(از 90 الی 180)",160,"بهینه=160",{"$f":"'طراحی همه الگوها'!E212","v":20}," زاویه پایین دال    مرحله هشتم در طراحی یقه انگلیسی ",19,155,20,160,5,60,90,6,180,24,160,20,"تنظیم زاویه های نوک دال","مرحله هشتم",null,null,null,null,null,null,null,null,null,null,null,null,null,null,null,{"$f":"EK6","v":"عنوان 32"},20,121,"مرکزی جلو",0,-9,-10,61,2,52]
["  γ3  دال رو به پایین شود یا رو به بالا شود مرحله هشتم  (در آستین رگلان = 0.05)","(از 0.01 الی 0.3)",-0.05,"بهینه=0.05",{"$f":"'طراحی همه الگوها'!E213","v":10}," دال رو به پایین یا رو به بالا شود مرحله هشتم در طراحی یقه انگلیسی  ",19,0.04,20,0.05,{"$f":"(J172-H172)/(I172-G172)","v":1.0000000000000002E-2},{"$f":"H172-G172*K172","v":-0.15000000000000002},0.01,{"$f":"(M172-L172)/K172","v":16},0.3,{"$f":"(O172-L172)/K172","v":44.999999999999993},0.05,{"$f":"(Q172-L172)/K172","v":19.999999999999996},"اصلاح انحنای بالای تکه پشت یقه انگلیسی","مرحله نهم",null,null,null,null,null,null,null,null,null,null,null,null,null,null,null,{"$f":"EL6","v":"عنوان 33"},21,122,1,0.5,-8,-9.5,61.5,3,53]
["γ1      محاسبه در یقه شکاری متصل به یقه هفت   ",{"$f":"ROUND(1-(محاسبات!AX103-محاسبات!AX129-محاسبات!AX155-'متغیرها '!C169*محاسبات!H124)/محاسبات!H124,2)","v":0.16},null,null,null,"   محاسبه در یقه شکاری متصل به یقه هفت   ",null,null,null,null,null,null,null,null,null,null,null,null,null,null,null,null,null,null,null,null,null,null,null,null,null,null,null,null,null,{"$f":"EM6","v":"عنوان 34"},22,123,2,1,-7,-9,62,4,54]
[null,null,null,null,null,null,null,null,null,null,null,null,null,null,null,null,null,null,null,null,null,null,null,null,null,null,null,null,null,null,null,null,null,null,null,{"$f":"EN6","v":"عنوان 35"},23,124,3,1.5,-6,-8.5,62.5,5,55]
[" متغیرهای ورودی -ضخیم دوزی در سجاف یقه انگلیسی و آرشال",null,null,null,null," متغیرهای ورودی -ضخیم دوزی در سجاف یقه انگلیسی و آرشال","x1","y1","x2","y2(بهینه)","a","b",null,"کمترین",null,"بیشترین",null,null,null,null,null,null,null,null,null,null,null,null,null,null,null,null,null,null,null,{"$f":"EO6","v":"عنوان 36"},24,125,4,2,-5,-8,63,6,56]
["ضریب اعمال ضخیم دوزی در سجاف  (سانتیمتر) a'0","(از 0 الی 1)",{"$f":"K176*E176+L176","v":0.5},"بهینه کت مردانه=0.5",{"$f":"'طراحی همه الگوها'!E226","v":20},"ضریب اعمال ضخیم دوزی در سجاف  (سانتیمتر) ",19,0.45,20,0.5,{"$f":"(J176-H176)/(I176-G176)","v":4.9999999999999989E-2},{"$f":"H176-G176*K176","v":-0.49999999999999972},0,{"$f":"(M176-L176)/K176","v":9.9999999999999964},1,{"$f":"(O176-L176)/K176","v":30.000000000000004},0.5,{"$f":"(Q176-L176)/K176","v":20},null,null,null,null,null,null,null,null,null,null,null,null,null,null,null,null,null,{"$f":"EP6","v":"عنوان 37"},25,126,5,2.5,-4,-7.5,63.5,7,57]
[null,null,null,null,null,null,null,null,null,null,null,null,null,null,null,null,null,null,null,null,null,null,null,null,null,null,null,null,null,null,null,null,null,null,null,{"$f":"EQ6","v":"عنوان 38"},26,127,6,3,-3,-7,64,8,58]
[" متغیرهای ورودی - پایه یقه انگلیسی  ",null,null,null,null," متغیرهای ورودی - پایه یقه انگلیسی  ","x1","y1","x2","y2(بهینه)","a","b",null,"کمترین",null,"بیشترین",null,null,null,null,null,null,null,null,null,null,null,null,null,null,null,null,null,null,null,{"$f":"ER6","v":"عنوان 39"},27,128,7,3.5,-2,-6.5,64.5,9,59]
["شیفت افقی پایه (به سانتیمتر)","(از -100 الی100)",{"$f":"K179*E179+L179","v":0},"بهینه=دلخواه",{"$f":"'طراحی همه الگوها'!E229","v":0},"شیفت افقی پایه (سانتیمتر)",1,1,0,0,{"$f":"(J179-H179)/(I179-G179)","v":1},{"$f":"H179-G179*K179","v":0},-100,{"$f":"(M179-L179)/K179","v":-100},100,{"$f":"(O179-L179)/K179","v":100},null,null,null,null,null,null,null,null,null,null,null,null,null,null,null,null,null,null,null,{"$f":"ES6","v":"عنوان 40"},28,129,8,4,-1,-6,65,10,60]
["شیفت عمودی پایه (به سانتیمتر)","(از -100 الی100)",{"$f":"K180*E180+L180","v":0},"بهینه=دلخواه",{"$f":"'طراحی همه الگوها'!E230","v":0},"شیفت عمودی پایه (سانتیمتر)",1,1,0,0,{"$f":"(J180-H180)/(I180-G180)","v":1},{"$f":"H180-G180*K180","v":0},-100,{"$f":"(M180-L180)/K180","v":-100},100,{"$f":"(O180-L180)/K180","v":100},null,null,null,null,null,null,null,null,null,null,null,null,null,null,null,null,null,null,null,null,29,130,9,4.5,0,-5.5,{"$f":"AQ179+0.5","v":65.5},11,61]
[null,null,null,null,null,null,null,null,null,null,null,null,null,null,null,null,null,null,null,null,null,null,null,null,null,null,null,null,null,null,null,null,null,null,null,null,30,131,10,5,1,-5,66,12,62]
[" متغیرهای ورودی - پایه یقه آرشال  ",null,null,null,null," متغیرهای ورودی - پایه یقه آرشال  ","x1","y1","x2","y2(بهینه)","a","b",null,"کمترین",null,"بیشترین",null,null,null,null,null,null,null,null,null,null,null,null,null,null,null,null,null,null,null,null,31,132,11,5.5,2,-4.5,66.5,13,63]
["شیفت افقی پایه (به سانتیمتر)","(از -100 الی100)",{"$f":"K183*E183+L183","v":0},"بهینه=دلخواه",{"$f":"'طراحی همه الگوها'!E231","v":0},"شیفت افقی پایه (سانتیمتر)",1,1,0,0,{"$f":"(J183-H183)/(I183-G183)","v":1},{"$f":"H183-G183*K183","v":0},-100,{"$f":"(M183-L183)/K183","v":-100},100,{"$f":"(O183-L183)/K183","v":100},null,null,null,null,null,null,null,null,null,null,null,null,null,null,null,null,null,null,null,null,32,133,12,6,3,-4,67,14,64]
["شیفت عمودی پایه (به سانتیمتر)","(از -100 الی100)",{"$f":"K184*E184+L184","v":0},"بهینه=دلخواه",{"$f":"'طراحی همه الگوها'!E232","v":0},"شیفت عمودی پایه (سانتیمتر)",1,1,0,0,{"$f":"(J184-H184)/(I184-G184)","v":1},{"$f":"H184-G184*K184","v":0},-100,{"$f":"(M184-L184)/K184","v":-100},100,{"$f":"(O184-L184)/K184","v":100},null,null,null,null,null,null,null,null,null,null,null,null,null,null,null,null,null,null,null,null,33,134,13,6.5,4,-3.5,67.5,15,65]
[null,null,null,null,null,null,null,null,null,null,null,null,null,null,null,null,null,null,null,null,null,null,null,null,null,null,null,null,null,null,null,null,null,null,null,null,34,135,14,7,5,-3,68,16,66]
[" متغیرهای ورودی-انتقال ساسون زیر بغل بر روی جیب در تکه پهلو جدا",null,null,null,null," متغیرهای ورودی-انتقال ساسون زیر بغل بر روی جیب در تکه پهلو جدا","x1","y1","x2","y2(بهینه)","a","b",null,"کمترین",null,"بیشترین",null,null,null,null,null,null,null,null,null,null,null,null,null,null,null,null,null,null,null,null,35,136,15,7.5,6,-2.5,68.5,17,67]
["تغییر زاویه جیب با افق  (درجه)","(از -45 الی 45)",{"$f":"K187*E187+L187","v":-41},"بهینه =دلخواه",{"$f":"'طراحی همه الگوها'!B348","v":40},"تغییر زاویه جیب با افق  (درجه)",-2,1,-1,0,{"$f":"(J187-H187)/(I187-G187)","v":-1},{"$f":"H187-G187*K187","v":-1},-45,{"$f":"(M187-L187)/K187","v":44},45,{"$f":"(O187-L187)/K187","v":-46},0,{"$f":"(Q187-L187)/K187","v":-1},null,null,null,null,null,null,null,null,null,null,null,null,null,null,null,null,null,null,36,137,16,8,7,-2,69,18,68]
["ضریب پهنای جیب در مدل تکه پهلو جدا","(از 0.01 الی 1.5)",{"$f":"K188*E188+L188","v":1},"بهینه=1",{"$f":"'طراحی همه الگوها'!B349","v":20},"ضریب پهنای جیب در مدل تکه پهلو جدا",19,0.95,20,1,{"$f":"(J188-H188)/(I188-G188)","v":5.0000000000000044E-2},{"$f":"H188-G188*K188","v":-8.8817841970012523E-16},0.01,{"$f":"(M188-L188)/K188","v":0.20000000000001758},1.5,{"$f":"(O188-L188)/K188","v":29.999999999999993},1,{"$f":"(Q188-L188)/K188","v":20},null,null,null,null,null,null,null,null,null,null,null,null,null,null,null,null,null,null,37,138,17,8.5,8,-1.5,69.5,19,69]
[null,null,null,null,null,null,null,null,null,null,null,null,null,null,null,null,null,null,null,null,null,null,null,null,null,null,null,null,null,null,null,null,null,null,null,null,38,139,18,9,9,-1,70,20,70]
[" متغیرهای ورودی-انحنا لبه پیراهن روی خط مرکزی جلو ",null,null,null,null," متغیرهای ورودی-انحنا لبه پیراهن روی خط مرکزی جلو ","x1","y1","x2","y2(بهینه)","a","b",null,"کمترین",null,"بیشترین",null,null,null,null,null,null,null,null,null,null,null,null,null,null,null,null,null,null,null,null,39,140,19,9.5,10,-0.5,70.5,21,71]
["ضریب انحنا بالای لبه پیراهن  روی خط مرکزی جلو n11","(از 0.01 الی 0.9)",{"$f":"K191*E191+L191","v":0.60000000000000009},"بهینه کت مردانه=0.45",{"$f":"'طراحی همه الگوها'!B317","v":12},"ضریب انحنا بالای لبه پیراهن  روی خط مرکزی جلو ",1,0.05,0,0,{"$f":"(J191-H191)/(I191-G191)","v":0.05},{"$f":"H191-G191*K191","v":0},0.01,{"$f":"(M191-L191)/K191","v":0.19999999999999998},0.9,{"$f":"(O191-L191)/K191","v":18},0.45,{"$f":"(Q191-L191)/K191","v":9},null,null,null,null,null,null,null,null,null,null,null,null,null,null,null,null,null,null,40,141,20,10,11,0,71,22,72]
["ضریب انحنا میانی لبه پیراهن  روی خط مرکزی جلو n13","(از 0.5 الی 1.7)",{"$f":"K192*E192+L192","v":1.5},"بهینه کت مردانه=1.3",{"$f":"'طراحی همه الگوها'!B318","v":30},"ضریب انحنا میانی لبه پیراهن  روی خط مرکزی جلو ",1,0.05,0,0,{"$f":"(J192-H192)/(I192-G192)","v":0.05},{"$f":"H192-G192*K192","v":0},0.5,{"$f":"(M192-L192)/K192","v":10},1.7,{"$f":"(O192-L192)/K192","v":34},1.3,{"$f":"(Q192-L192)/K192","v":26},null,null,null,null,null,null,null,null,null,null,null,null,null,null,null,null,null,null,41,142,null,10.5,12,0.5,71.5,23,73]
["ضریب انحنا پایین لبه پیراهن روی خط مرکزی جلو n12","(از 0.3 الی 1)",{"$f":"K193*E193+L193","v":0.5},"بهینه کت مردانه=0.8",{"$f":"'طراحی همه الگوها'!B319","v":10},"ضریب انحنا پایین لبه پیراهن روی خط مرکزی جلو ",1,0.05,0,0,{"$f":"(J193-H193)/(I193-G193)","v":0.05},{"$f":"H193-G193*K193","v":0},0.3,{"$f":"(M193-L193)/K193","v":5.9999999999999991},1,{"$f":"(O193-L193)/K193","v":20},0.8,{"$f":"(Q193-L193)/K193","v":16},null,null,null,null,null,null,null,null,null,null,null,null,null,null,null,null,null,null,42,143,null,11,13,1,72,24,74]
[null,null,null,null,null,null,null,null,null,null,null,null,null,null,null,null,null,null,null,null,null,null,null,null,null,null,null,null,null,null,null,null,null,null,null,null,43,144,null,11.5,14,1.5,72.5,25,75]
[" متغیرهای ورودی - جیب پهلو",null,null,null,null," متغیرهای ورودی - جیب پهلو آبی با بلیطی  (جلو)","x1","y1","x2","y2(بهینه)","a","b",null,"کمترین",null,"بیشترین",null,null,null,null,null,null,null,null,null,null,null,null,null,null,null,null,null,null,null,null,44,145,null,12,15,2,73,26,76]
["عرض پاکت جیب به سانتیمتر","(از 0 الی 4)",{"$f":"K196*E196+L196","v":2},"بهینه=2",{"$f":"'طراحی همه الگوها'!E326","v":2},"پهنای بلیطی جیب  (سانتیمتر)",1,1,0,0,{"$f":"(J196-H196)/(I196-G196)","v":1},{"$f":"H196-G196*K196","v":0},0,{"$f":"(M196-L196)/K196","v":0},4,{"$f":"(O196-L196)/K196","v":4},2,{"$f":"(Q196-L196)/K196","v":2},null,null,null,null,null,null,null,null,null,null,null,null,null,null,null,null,null,null,45,146,null,12.5,16,2.5,73.5,27,77]
["ضریب طول پاکت جیب","(از 0.01 الی 1.5)",{"$f":"K197*E197+L197","v":1},"بهینه=1",{"$f":"'طراحی همه الگوها'!E327","v":20},"ضریب طول بلیطی جیب",19,0.95,20,1,{"$f":"(J197-H197)/(I197-G197)","v":5.0000000000000044E-2},{"$f":"H197-G197*K197","v":-8.8817841970012523E-16},0.01,{"$f":"(M197-L197)/K197","v":0.20000000000001758},1.5,{"$f":"(O197-L197)/K197","v":29.999999999999993},1,{"$f":"(Q197-L197)/K197","v":20},null,null,null,null,null,null,null,null,null,null,null,null,null,null,null,null,null,null,46,147,null,13,17,3,74,28,78]
["زاویه جیب با عمود به درجه","(از 0 الی 90)",{"$f":"K198*E198+L198","v":20},"بهینه=20",{"$f":"'طراحی همه الگوها'!E328","v":4},"زاویه جیب با عمود ",1,5,0,0,{"$f":"(J198-H198)/(I198-G198)","v":5},{"$f":"H198-G198*K198","v":0},0,{"$f":"(M198-L198)/K198","v":0},90,{"$f":"(O198-L198)/K198","v":18},20,{"$f":"(Q198-L198)/K198","v":4},null,null,null,null,null,null,null,null,null,null,null,null,null,null,null,null,null,null,47,148,null,13.5,18,3.5,74.5,29,79]
["زاویه چرخش پاکت جیب از مستطیل به متوازی الاضلاع (به درجه)","(از -90 الی 90)",{"$f":"K199*E199+L199","v":0},"پاکت مستطیل=0  ",{"$f":"'طراحی همه الگوها'!E329","v":20},"زاویه چرخش بلیطی جیب از مستطیل به متوازی الاضلاع ",21,5,20,0,{"$f":"(J199-H199)/(I199-G199)","v":5},{"$f":"H199-G199*K199","v":-100},-90,{"$f":"(M199-L199)/K199","v":2},90,{"$f":"(O199-L199)/K199","v":38},0,{"$f":"(Q199-L199)/K199","v":20},null,null,null,null,null,null,null,null,null,null,null,null,null,null,null,null,null,null,48,149,null,14,19,4,75,30,80]
[null,null,null,null,null,null,null,null,null,null,null,null,null,null,null,null,null,null,null,null,null,null,null,null,null,null,null,null,null,null,null,null,null,null,null,null,49,150,null,14.5,20,4.5,75.5,31,81]
[" متغیرهای ورودی - جیب اول درمکان دلخواه",null,null,null,null," متغیرهای ورودی - جیب اول سبز با بلیطی  (جلو)","x1","y1","x2","y2(بهینه)","a","b",null,"کمترین",null,"بیشترین",null,null,null,null,null,null,null,null,null,null,null,null,null,null,null,null,null,null,null,null,50,null,null,15,21,5,76,32,82]
["ضریب فاصله افقی وسط جیب از خط مرکزی جلو ","(از 0 الی 1)",{"$f":"K202*E202+L202","v":0.55000000000000004},"خط مرکزی جلو=0 \nخط پهلو=1  ",{"$f":"'طراحی همه الگوها'!E339","v":11},"ضریب فاصله افقی وسط جیب از خط مرکزی جلو ",20,1,0,0,{"$f":"(J202-H202)/(I202-G202)","v":0.05},{"$f":"H202-G202*K202","v":0},0,{"$f":"(M202-L202)/K202","v":0},1,{"$f":"(O202-L202)/K202","v":20},0.5,{"$f":"(Q202-L202)/K202","v":10},null,null,null,null,null,null,null,null,null,null,null,null,null,null,null,null,null,null,51,null,null,null,22,5.5,76.5,33,83]
["ضریب فاصله عمودی بالای جیب از زمین ","(از0 الی 5)",2.5,"خط زمین=0 \nخط زانو=1 \nخط باسن=2 \nخط کمر=3 \nخط سینه=4  ",{"$f":"'طراحی همه الگوها'!E340","v":60},"ضریب فاصله عمودی بالای جیب از زمین ",10,0,30,1,0.05,-0.5,0,10,5,110,2,50,null,null,null,null,null,null,null,null,null,null,null,null,null,null,null,null,null,null,52,null,null,null,23,6,77,34,84]
["عرض پاکت جیب به سانتیمتر","(از 0 الی 4)",0,"بهینه=2",{"$f":"'طراحی همه الگوها'!E334","v":0},"پهنای بلیطی جیب  (سانتیمتر)",1,1,0,0,1,0,0,0,4,4,2,2,null,null,null,null,null,null,null,null,null,null,null,null,null,null,null,null,null,null,53,null,null,"متغیر ورودی بافت یقه شکاری",24,6.5,77.5,35,85]
["ضریب طول پاکت جیب","(از 0.01 الی 2)",-8.8817841970012523E-16,"بهینه=1",{"$f":"'طراحی همه الگوها'!E335","v":0},"ضریب طول بلیطی جیب",19,0.95,20,1,5.0000000000000044E-2,-8.8817841970012523E-16,0.01,0.20000000000001758,2,39.999999999999986,1,20,null,null,null,null,null,null,null,null,null,null,null,null,null,null,null,null,null,null,54,null,null,0,25,7,78,36,86]
["زاویه جیب با عمود به درجه","(از 0 الی 180)",90,"بهینه=دلخواه",{"$f":"'طراحی همه الگوها'!E336","v":18},"زاویه جیب با عمود ",1,5,0,0,5,0,0,0,180,36,20,4,null,null,null,null,null,null,null,null,null,null,null,null,null,null,null,null,null,null,55,null,null,5,26,7.5,78.5,37,87]
["زاویه چرخش پاکت جیب از مستطیل به متوازی الاضلاع (به درجه)","(از -90 الی 90)",0,"پاکت مستطیل=0  ",{"$f":"'طراحی همه الگوها'!E337","v":20},"زاویه چرخش بلیطی جیب از مستطیل به متوازی الاضلاع ",21,5,20,0,5,-100,-90,2,90,38,0,20,null,null,null,null,null,null,null,null,null,null,null,null,null,null,null,null,null,null,56,null,null,8,27,8,79,38,88]
["انتخاب جیب روکار=1        انتخاب دیگر=0","0 یا 1 ",1,null,{"$f":"'طراحی همه الگوها'!E338","v":2},"انتخاب جیب روکار=2        انتخاب دیگر=1",1,0,2,1,1,-1,0,1,1,2,0,1,null,null,null,null,null,null,null,null,null,null,null,null,null,null,null,null,null,null,57,null,null,10,28,8.5,79.5,39,89]
["انتخاب طول جیب منطبق با جیب با ساسون=1        انتخاب طول جیب دستی=0","0 یا 1 ",0,null,{"$f":"'طراحی همه الگوها'!E331","v":1},"انتخاب طول جیب منطبق با جیب با ساسون=2        انتخاب طول جیب دستی=1",1,0,2,1,{"$f":"(J209-H209)/(I209-G209)","v":1},{"$f":"H209-G209*K209","v":-1},0,1,1,2,0,1,null,null,null,null,null,null,null,null,null,null,null,null,null,null,null,null,null,null,58,null,null,12,29,9,80,40,90]
[null,null,null,null,null,null,null,null,null,null,null,null,null,null,null,null,null,null,null,null,null,null,null,null,null,null,null,null,null,null,null,null,null,null,null,null,59,null,null,15,30,9.5,80.5,41,91]
[" متغیرهای ورودی - جیب دوم درمکان دلخواه",null,null,null,null," متغیرهای ورودی - جیب دوم سیاه با بلیطی (جلو)","x1","y1","x2","y2(بهینه)","a","b",null,"کمترین",null,"بیشترین",null,null,null,null,null,null,null,null,null,null,null,null,null,null,null,null,null,null,null,null,60,null,null,20,31,10,81,42,92]
["ضریب فاصله افقی وسط جیب از خط مرکزی جلو ","(از 0 الی 1)",{"$f":"K212*E212+L212","v":0.5},"خط مرکزی جلو=0 \nخط پهلو=1  ",{"$f":"'طراحی همه الگوها'!E348","v":10},"ضریب فاصله افقی وسط جیب از خط مرکزی جلو ",20,1,0,0,{"$f":"(J212-H212)/(I212-G212)","v":0.05},{"$f":"H212-G212*K212","v":0},0,{"$f":"(M212-L212)/K212","v":0},1,{"$f":"(O212-L212)/K212","v":20},0.5,{"$f":"(Q212-L212)/K212","v":10},null,null,null,null,null,null,null,null,null,null,null,null,null,null,null,null,null,null,61,null,null,null,32,10.5,81.5,43,93]
["ضریب فاصله عمودی بالای جیب از زمین ","(از0 الی 5)",4.3000000000000007,"خط زمین=0 \nخط زانو=1 \nخط باسن=2 \nخط کمر=3 \nخط سینه=4  ",{"$f":"'طراحی همه الگوها'!E349","v":96},"ضریب فاصله عمودی بالای جیب از زمین ",10,0,30,1,0.05,-0.5,0,10,5,110,2,50,null,null,null,null,null,null,null,null,null,null,null,null,null,null,null,null,null,null,62,null,null,null,33,11,82,44,94]
["عرض پاکت جیب به سانتیمتر","(از 0 الی 4)",0,"بهینه=2",{"$f":"'طراحی همه الگوها'!E343","v":0},"پهنای بلیطی جیب  (سانتیمتر)",1,1,0,0,1,0,0,0,4,4,2,2,null,null,null,null,null,null,null,null,null,null,null,null,null,null,null,null,null,null,63,null,null,null,34,11.5,82.5,45,95]
["ضریب طول پاکت جیب","(از 0.01 الی 2)",-8.8817841970012523E-16,"بهینه=1",{"$f":"'طراحی همه الگوها'!E344","v":0},"ضریب طول بلیطی جیب",19,0.95,20,1,5.0000000000000044E-2,-8.8817841970012523E-16,0.01,0.20000000000001758,2,39.999999999999986,1,20,null,null,null,null,null,null,null,null,null,null,null,null,null,null,null,null,null,null,64,null,null,null,35,12,83,46,96]
["زاویه جیب با عمود به درجه","(از 0 الی 180)",90,"بهینه=دلخواه",{"$f":"'طراحی همه الگوها'!E345","v":18},"زاویه جیب با عمود ",1,5,0,0,5,0,0,0,180,36,20,4,null,null,null,null,null,null,null,null,null,null,null,null,null,null,null,null,null,null,65,null,null,null,36,12.5,83.5,47,97]
["زاویه چرخش پاکت جیب از مستطیل به متوازی الاضلاع (به درجه)","(از -90 الی 90)",0,"پاکت مستطیل=0  ",{"$f":"'طراحی همه الگوها'!E346","v":20},"زاویه چرخش بلیطی جیب از مستطیل به متوازی الاضلاع ",21,5,20,0,5,-100,-90,2,90,38,0,20,null,null,null,null,null,null,null,null,null,null,null,null,null,null,null,null,null,null,66,null,null,null,37,13,84,48,98]
["انتخاب جیب روکار=1        انتخاب دیگر=0","0 یا 1 ",1,null,{"$f":"'طراحی همه الگوها'!E347","v":2},"انتخاب جیب روکار=2        انتخاب دیگر=1",1,0,2,1,1,-1,0,1,1,2,0,1,null,null,null,null,null,null,null,null,null,null,null,null,null,null,null,null,null,null,67,null,null,null,38,13.5,84.5,49,99]
[null,null,null,null,null,null,null,null,null,null,null,null,null,null,null,null,null,null,null,null,null,null,null,null,null,null,null,null,null,null,null,null,null,null,null,null,68,null,null,null,39,14,85,50,100]
["متغیرهای ورودی -  جیب مستطیل",null,null,null,null,"متغیرهای ورودی -  جیب مستطیل قرمز   (جلو)","x1","y1","x2","y2(بهینه)","a","b",null,"کمترین",null,"بیشترین",null,null,null,null,null,null,null,null,null,null,null,null,null,null,null,null,null,null,null,null,69,null,null,null,40,14.5,85.5,51,"منطبق"]
["ضریب فاصله افقی وسط  جیب از خط مرکزی جلو لباس ","(از 0 الی 1)",{"$f":"K221*E221+L221","v":0.45},"لبه جلو=0 \nلبه کناری=1  ",{"$f":"'طراحی همه الگوها'!E355","v":9},"ضریب فاصله افقی وسط  جیب از خط مرکزی جلو لباس ",20,1,0,0,{"$f":"(J221-H221)/(I221-G221)","v":0.05},{"$f":"H221-G221*K221","v":0},0,{"$f":"(M221-L221)/K221","v":0},1,{"$f":"(O221-L221)/K221","v":20},0.5,{"$f":"(Q221-L221)/K221","v":10},null,null,null,null,null,null,null,null,null,null,null,null,null,null,null,null,null,null,70,null,null,null,41,15,86,52]
["ضریب فاصله عمودی بالای  جیب از زمین ","(از0 الی 5)",{"$f":"K222*E222+L222","v":3.75},"خط زمین=0 \nخط زانو=1 \nخط باسن=2 \nخط کمر=3 \nخط سینه=4  ",{"$f":"'طراحی همه الگوها'!E356","v":85},"ضریب فاصله عمودی بالای  جیب از زمین ",10,0,30,1,{"$f":"(J222-H222)/(I222-G222)","v":0.05},{"$f":"H222-G222*K222","v":-0.5},0,{"$f":"(M222-L222)/K222","v":10},5,{"$f":"(O222-L222)/K222","v":110},2,{"$f":"(Q222-L222)/K222","v":50},null,null,null,null,null,null,null,null,null,null,null,null,null,null,null,null,null,null,71,null,null,null,42,15.5,86.5,53]
["ضریب عرض جیب مستطیل","(از 0.01 الی 1.5)",{"$f":"K223*E223+L223","v":0},"بهینه جیب=1.2",{"$f":"'طراحی همه الگوها'!E352","v":0},"ضریب عرض جیب مستطیل",1,0.05,0,0,{"$f":"(J223-H223)/(I223-G223)","v":0.05},{"$f":"H223-G223*K223","v":0},0.01,{"$f":"(M223-L223)/K223","v":0.19999999999999998},1.5,{"$f":"(O223-L223)/K223","v":30},1.2,{"$f":"(Q223-L223)/K223","v":23.999999999999996},null,null,null,null,null,null,null,null,null,null,null,null,null,null,null,null,null,null,72,null,null,null,43,16,87,54]
["زاویه  جیب با عمود (به درجه)","(از 0 الی 180)",{"$f":"K224*E224+L224","v":90},"افقی=90",{"$f":"'طراحی همه الگوها'!E353","v":18},"زاویه  جیب با عمود ",1,5,0,0,{"$f":"(J224-H224)/(I224-G224)","v":5},{"$f":"H224-G224*K224","v":0},0,{"$f":"(M224-L224)/K224","v":0},180,{"$f":"(O224-L224)/K224","v":36},90,{"$f":"(Q224-L224)/K224","v":18},null,null,null,null,null,null,null,null,null,null,null,null,null,null,null,null,null,null,73,null,null,null,44,16.5,87.5,55]
["ضریب ارتفاع جیب مستطیل","(از 0 الی 1.5)",{"$f":"K225*E225+L225","v":0},"بهینه جیب=1.1",{"$f":"'طراحی همه الگوها'!E354","v":0},"ضریب ارتفاع جیب مستطیل",1,0.05,0,0,{"$f":"(J225-H225)/(I225-G225)","v":0.05},{"$f":"H225-G225*K225","v":0},0,{"$f":"(M225-L225)/K225","v":0},1.5,{"$f":"(O225-L225)/K225","v":30},1.1000000000000001,{"$f":"(Q225-L225)/K225","v":22},null,null,null,null,null,null,null,null,null,null,null,null,null,null,null,null,null,null,74,null,null,null,45,17,88,56]
[null,null,null,null,null,null,null,null,null,null,null,null,null,null,null,null,null,null,null,null,null,null,null,null,null,null,null,null,null,null,null,null,null,null,null,null,75,null,null,null,46,17.5,88.5,57]
["متغیرهای ورودی -  جادکمه با بلیطی",null,null,null,null,"متغیرهای ورودی -  جادکمه با بلیطی (جلو)","x1","y1","x2","y2(بهینه)","a","b",null,"کمترین",null,"بیشترین",null,null,null,null,null,null,null,null,null,null,null,null,null,null,null,null,null,null,null,null,76,null,null,null,47,18,89,58]
["ضریب فاصله افقی وسط جادکمه  از خط مرکزی جلو لباس ","(از 0 الی 1)",{"$f":"K228*E228+L228","v":0},"لبه جلو=0 \nلبه کناری=1  ",{"$f":"'طراحی همه الگوها'!E362","v":0},"ضریب فاصله افقی وسط جادکمه  از خط مرکزی جلو لباس ",20,1,0,0,{"$f":"(J228-H228)/(I228-G228)","v":0.05},{"$f":"H228-G228*K228","v":0},0,{"$f":"(M228-L228)/K228","v":0},1,{"$f":"(O228-L228)/K228","v":20},0.5,{"$f":"(Q228-L228)/K228","v":10},null,null,null,null,null,null,null,null,null,null,null,null,null,null,null,null,null,null,77,null,null,null,48,18.5,89.5,59]
["ضریب فاصله عمودی بالای جادکمه از زمین ","(از0 الی 5)",{"$f":"K229*E229+L229","v":4},"خط زمین=0 \nخط زانو=1 \nخط باسن=2 \nخط کمر=3 \nخط سینه=4  ",{"$f":"'طراحی همه الگوها'!E363","v":90},"ضریب فاصله عمودی بالای جادکمه از زمین ",10,0,30,1,{"$f":"(J229-H229)/(I229-G229)","v":0.05},{"$f":"H229-G229*K229","v":-0.5},0,{"$f":"(M229-L229)/K229","v":10},5,{"$f":"(O229-L229)/K229","v":110},2,{"$f":"(Q229-L229)/K229","v":50},null,null,null,null,null,null,null,null,null,null,null,null,null,null,null,null,null,null,78,null,null,null,49,19,90,60]
["عرض پاکت جادکمه به سانتیمتر","(از 0 الی 4)",{"$f":"K230*E230+L230","v":0},"بهینه جادکمه=2",{"$f":"'طراحی همه الگوها'!E359","v":0},"پهنای جادکمه  (سانتیمتر)",1,1,0,0,{"$f":"(J230-H230)/(I230-G230)","v":1},{"$f":"H230-G230*K230","v":0},0,{"$f":"(M230-L230)/K230","v":0},4,{"$f":"(O230-L230)/K230","v":4},2,{"$f":"(Q230-L230)/K230","v":2},null,null,null,null,null,null,null,null,null,null,null,null,null,null,null,null,null,null,79,null,null,null,50,19.5,90.5,"منطبق"]
["ضریب طول پاکت جادکمه ","(از 0.01 الی 1.5)",{"$f":"K231*E231+L231","v":0},"بهینه جادکمه=0.3",{"$f":"'طراحی همه الگوها'!E360","v":14},"ضریب طول جادکمه ",19,0.25,20,0.3,{"$f":"(J231-H231)/(I231-G231)","v":4.9999999999999989E-2},{"$f":"H231-G231*K231","v":-0.69999999999999973},0.01,{"$f":"(M231-L231)/K231","v":14.199999999999998},1.5,{"$f":"(O231-L231)/K231","v":44.000000000000007},0.3,{"$f":"(Q231-L231)/K231","v":20},null,null,null,null,null,null,null,null,null,null,null,null,null,null,null,null,null,null,80,null,null,null,"منطبق",20,91]
["زاویه جادکمه با عمود (به درجه)","(از 0 الی 180)",{"$f":"K232*E232+L232","v":90},"افقی=90",{"$f":"'طراحی همه الگوها'!E361","v":18},"زاویه جادکمه با عمود ",1,5,0,0,{"$f":"(J232-H232)/(I232-G232)","v":5},{"$f":"H232-G232*K232","v":0},0,{"$f":"(M232-L232)/K232","v":0},180,{"$f":"(O232-L232)/K232","v":36},90,{"$f":"(Q232-L232)/K232","v":18},null,null,null,null,null,null,null,null,null,null,null,null,null,null,null,null,null,null,81,null,null,null,null,20.5,91.5]
[null,null,null,null,null,null,null,null,null,null,null,null,null,null,null,null,null,null,null,null,null,null,null,null,null,null,null,null,null,null,null,null,null,null,null,null,82,null,null,null,null,21,92]
[" متغیرهای ورودی - جادکمه با طول دلخواه",null,null,null,null,"جادکمه متصل به یقه گرد","x1","y1","x2","y2(بهینه)","a","b",null,"کمترین",null,"بیشترین",null,null,null,null,null,null,null,null,null,null,null,null,null,null,null,null,null,null,null,null,83,null,null,null,null,21.5,92.5]
["ضریب عرض جادکمه به سانتیمتر","(از 0 الی 0.03)",{"$f":"K235*E235+L235","v":0},"بهینه=0.01",{"$f":"'طراحی همه الگوها'!E366","v":0},"ضریب عرض جادکمه ",1,5.0000000000000001E-4,0,0,{"$f":"(J235-H235)/(I235-G235)","v":5.0000000000000001E-4},{"$f":"H235-G235*K235","v":0},0,{"$f":"(M235-L235)/K235","v":0},0.03,{"$f":"(O235-L235)/K235","v":60},0.01,{"$f":"(Q235-L235)/K235","v":20},null,null,null,null,null,null,null,null,null,null,null,null,null,null,null,null,null,null,84,null,null,null,null,22,93]
["ضریب طول جادکمه ","(از 0.7 الی 2.5)",{"$f":"K236*E236+L236","v":1.5600000000000005},"حداقل طول جادکمه با پارچه کش برای رد شدن از سر=0.7 \nحداقل طول جادکمه با پارچه غیر کش برای رد شدن از سر=1 \nجادکمه بلند  >1 ",{"$f":"'طراحی همه الگوها'!E367","v":28},"ضریب طول جادکمه ",1,1.02,0,1,{"$f":"(J236-H236)/(I236-G236)","v":2.0000000000000018E-2},{"$f":"H236-G236*K236","v":1},1,{"$f":"(M236-L236)/K236","v":0},2.5,{"$f":"(O236-L236)/K236","v":74.999999999999929},1,{"$f":"(Q236-L236)/K236","v":0},null,null,null,null,null,null,null,null,null,null,null,null,null,null,null,null,null,null,85,null,null,null,null,22.5,93.5]
["حداقل طول جادکمه با پارچه غیر کش به سانتیمتر (عدد منفی یعنی دور یقه بزرگتر از دور سر میباشد)  *",{"$f":"ROUND(محاسبات!FH465,0)","v":4},null,null,{"$f":"IF((B261+B239)<B260,\"خیر\",\"بله \")","v":"بله "},"آیا یقه گرد متصل به جادکمه با پارچه غیر کش از سر رد میشود؟",null,null,null,null,null,null,null,null,null,null,null,null,null,null,null,null,null,null,null,null,null,null,null,null,null,null,null,null,null,null,86,null,null,null,null,23,94]
["حداقل طول جادکمه با پارچه کش به سانتیمتر (عدد منفی یعنی دور یقه بزرگتر از حد لازم برای رد شدن از دور سر میباشد)  '*",{"$f":"ROUND(0.5*('متغیرها '!U85-1.2*(2.12*SQRT(محاسبات!K144*محاسبات!K144+محاسبات!K143*محاسبات!K143)+2.08*SQRT(محاسبات!AA147*محاسبات!AA147+محاسبات!AA146*محاسبات!AA146))),0)","v":1},null,null,{"$f":"IF((B261+B239)<0.85*B260,\"خیر\",\"بله \")","v":"بله "},"آیا یقه گرد متصل به جادکمه با پارچه نیم کش از سر رد میشود؟",null,null,null,null,null,null,null,null,null,null,null,null,null,null,null,null,null,null,null,null,null,null,null,null,null,null,null,null,null,null,87,null,null,null,null,23.5,94.5]
[" طول جادکمه اختیار شده برای لباس شما به سانتیمتر",{"$f":"ROUND((C236-1)*'متغیرها '!U77,1)","v":4.5999999999999996},null,null,{"$f":"IF((B261+B239)<0.7*B260,\"خیر\",\"بله \")","v":"بله "},"آیا یقه گرد متصل به جادکمه با پارچه کش زیاد از سر رد میشود؟",null,null,null,null,null,null,null,null,null,null,null,null,null,null,null,null,null,null,null,null,null,null,null,null,null,null,null,null,null,null,88,null,null,null,null,24,95]
[" عرض جادکمه اختیار شده برای لباس شما به سانتیمتر",{"$f":"ROUND(محاسبات!FH471,1)","v":0},null,null,null,null,null,null,null,null,null,null,null,null,null,null,null,null,null,null,null,null,null,null,null,null,null,null,null,null,null,null,null,null,null,null,89,null,null,null,null,24.5,95.5]
[null,null,null,null,null,null,null,null,null,null,null,null,null,null,null,null,null,null,null,null,null,null,null,null,null,null,null,null,null,null,null,null,null,null,null,null,90,null,null,null,null,25,96]
[" مشخصات مستطیل با پارچه کش برای یقه گرد کیپ :",null,null,null,null," مشخصات مستطیل با پارچه کش برای یقه گرد کیپ :",null,null,null,null,null,null,null,null,null,null,null,null,null,null,null,null,null,null,null,null,null,null,null,null,null,null,null,null,null,null,91,null,null,null,null,25.5,96.5]
["طول",{"$f":"'متغیرها '!U80","v":27},null,null,null,"طول",null,null,null,null,null,null,null,null,null,null,null,null,null,null,null,null,null,null,null,null,null,null,null,null,null,null,null,null,null,null,92,null,null,null,null,26,97]
["عرض",{"$f":"0.5*'متغیرها '!C72*محاسبات!G167","v":0},null,null,null,"عرض",null,null,null,null,null,null,null,null,null,null,null,null,null,null,null,null,null,null,null,null,null,null,null,null,null,null,null,null,null,null,93,null,null,null,null,26.5,{"$f":"AQ243+0.5","v":97.5}]
["زاویه متوسط سرشانه",{"$f":"0.5*(محاسبات!P139+0.3*(محاسبات!P140-محاسبات!P139)+محاسبات!AE139+0.3*(محاسبات!AE140-محاسبات!AE139))","v":0.37663262401204339},null,null,null,"زاویه متوسط سرشانه",null,null,null,null,null,null,null,null,null,null,null,null,null,null,null,null,null,null,null,null,null,null,null,null,null,null,null,null,null,null,94,null,null,null,null,27,98]
[null,null,null,null,null,null,null,null,null,null,null,null,null,null,null,null,null,null,null,null,null,null,null,null,null,null,null,null,null,null,null,null,null,null,null,null,95,null,null,null,null,27.5,98.5]
["متغیر ورودی یقه گرد کش :",null,null,null,null,"متغیر ورودی یقه گرد کش :","x1","y1","x2","y2(بهینه)","a","b",null,"کمترین",null,"بیشترین",null,null,null,null,null,null,null,null,null,null,null,null,null,null,null,null,null,null,null,null,96,null,null,null,null,28,99]
["ارتفاع یقه گرد کش  به سانتیمتر - متغیر ورودی","(از 0.5 الی 5)",{"$f":"K248*E248+L248","v":1},"cm",{"$f":"'طراحی همه الگوها'!E189","v":1},"ارتفاع یقه گرد کش  به سانتیمتر - متغیر ورودی",0,0,0.5,0.5,{"$f":"(J248-H248)/(I248-G248)","v":1},{"$f":"H248-G248*K248","v":0},0.5,{"$f":"(M248-L248)/K248","v":0.5},5,{"$f":"(O248-L248)/K248","v":5},1,{"$f":"(Q248-L248)/K248","v":1},null,null,null,null,null,null,null,null,null,null,null,null,null,null,null,null,null,null,97,null,null,null,null,28.5,99.5]
["طول (دور تا دور) یقه گرد کش به سانتیمتر",{"$f":"ROUND(2.12*SQRT(POWER((محاسبات!K144-C248*(1-SIN(B245))),2)+POWER((محاسبات!K143-C248*COS(B245)),2))+2.08*SQRT(POWER((محاسبات!AA147-C248*(1-SIN(B245))),2)+POWER((محاسبات!AA146-C248*COS(B245)),2)),0)","v":25},null,null,null,"طول (دور تا دور) یقه گرد کش به سانتیمتر",null,null,null,null,null,null,null,null,null,null,null,null,null,null,null,null,null,null,null,null,null,null,null,null,null,null,null,null,null,null,98,null,null,null,null,29,100]
[null,null,null,null,null,null,null,null,null,null,null,null,null,null,null,null,null,null,null,null,null,null,null,null,null,null,null,null,null,null,null,null,null,null,null,null,99,null,null,null,null,29.5,100.5]
[" مشخصات نوار دور یقه گرد کش :",null,null,null,null," مشخصات نوار دور یقه گرد کش :",null,null,null,null,null,null,null,null,null,null,null,null,null,null,null,null,null,null,null,null,null,null,null,null,null,null,null,null,null,null,100,null,null,null,null,30,101]
["ارتفاع نوار  (بعد از دوخت)",0.5,"cm",null,null,"ارتفاع نوار  (بعد از دوخت)",null,null,null,null,null,null,null,null,null,null,null,null,null,null,null,null,null,null,null,null,null,null,null,null,null,null,null,null,null,null,101,null,null,null,null,30.5,101.5]
["طول  نوار  (بعد از دوخت)",{"$f":"ROUND(2.12*SQRT(POWER((محاسبات!K144-B252*(1-SIN(محاسبات!BI101))),2)+POWER((محاسبات!K143-B252*COS(محاسبات!BI101)),2))+2.08*SQRT(POWER((محاسبات!AA147-B252*(1-SIN(محاسبات!BI101))),2)+POWER((محاسبات!AA146-B252*COS(محاسبات!BI101)),2)),0)","v":27},"cm",null,null,"طول  نوار  (بعد از دوخت)",null,null,null,null,null,null,null,null,null,null,null,null,null,null,null,null,null,null,null,null,null,null,null,null,null,null,null,null,null,null,102,null,null,null,null,31,102]
[null,null,null,null,null,null,null,null,null,null,null,null,null,null,null,null,null,null,null,null,null,null,null,null,null,null,null,null,null,null,null,null,null,null,null,null,103,null,null,null,null,31.5,102.5]
[" مشخصات نوار دور یقه گرد کش :",null,null,null,null," مشخصات نوار دور یقه گرد کش :",null,null,null,null,null,null,null,null,null,null,null,null,null,null,null,null,null,null,null,null,null,null,null,null,null,null,null,null,null,null,104,null,null,null,null,32,103]
["ارتفاع نوار  (بعد از دوخت)",1,"cm",null,null,"ارتفاع نوار  (بعد از دوخت)",null,null,null,null,null,null,null,null,null,null,null,null,null,null,null,null,null,null,null,null,null,null,null,null,null,null,null,null,null,null,105,null,null,null,null,32.5,103.5]
["طول  نوار  (بعد از دوخت)",{"$f":"ROUND(2.12*SQRT(POWER((محاسبات!K144-B256*(1-SIN(محاسبات!BI101))),2)+POWER((محاسبات!K143-B256*COS(محاسبات!BI101)),2))+2.08*SQRT(POWER((محاسبات!AA147-B256*(1-SIN(محاسبات!BI101))),2)+POWER((محاسبات!AA146-B256*COS(محاسبات!BI101)),2)),0)","v":25},"cm",null,null,"طول  نوار  (بعد از دوخت)",null,null,null,null,null,null,null,null,null,null,null,null,null,null,null,null,null,null,null,null,null,null,null,null,null,null,null,null,null,null,106,null,null,null,null,33,104]
[null,null,null,null,null,null,null,null,null,null,null,null,null,null,null,null,null,null,null,null,null,null,null,null,null,null,null,null,null,null,null,null,null,null,null,null,107,null,null,null,null,33.5,104.5]
[" کنترل یقه گرد بدون زیپ ",null,null,null,null," کنترل یقه گرد بدون زیپ ",null,null,null,null,null,null,null,null,null,null,null,null,null,null,null,null,null,null,null,null,null,null,null,null,null,null,null,null,null,null,108,null,null,null,null,34,105]
["دور سر",{"$f":"'متغیرها '!U85","v":38},null,null,null,"دور سر",null,null,null,null,null,null,null,null,null,null,null,null,null,null,null,null,null,null,null,null,null,null,null,null,null,null,null,null,null,null,109,null,null,null,null,34.5,105.5]
[" دور یقه گرد لباس",{"$f":"ROUND(2.12*SQRT(محاسبات!K144*محاسبات!K144+محاسبات!K143*محاسبات!K143)+2.08*SQRT(محاسبات!AA147*محاسبات!AA147+محاسبات!AA146*محاسبات!AA146)+2*'متغیرها '!C66*محاسبات!H129,1)","v":34.9},null,null,null," دور یقه گرد لباس",null,null,null,null,null,null,null,null,null,null,null,null,null,null,null,null,null,null,null,null,null,null,null,null,null,null,null,null,null,null,110,null,null,null,null,35,106]
["حداقل دور یقه گرد با پارچه غیر کش ",{"$f":"'متغیرها '!U85","v":38},null,{"$f":"IF(B261<B262,\"خطا\",\"صحیح \")","v":"خطا"},{"$f":"IF(B261<B262,\"خیر\",\"بله \")","v":"خیر"},"حداقل دور یقه گرد با پارچه غیر کش ",null,null,null,null,null,null,null,null,null,null,null,null,null,null,null,null,null,null,null,null,null,null,null,null,null,null,null,null,null,null,111,null,null,null,null,35.5,106.5]
[" حداقل دور یقه گرد با پارچه نیم کش ",{"$f":"ROUND(0.85*'متغیرها '!U85,1)","v":32.299999999999997},null,{"$f":"IF(B261<B263,\"خطا\",\"صحیح \")","v":"صحیح "},{"$f":"IF(B261<B263,\"خیر\",\"بله \")","v":"بله "}," حداقل دور یقه گرد با پارچه نیم کش ",null,null,null,null,null,null,null,null,null,null,null,null,null,null,null,null,null,null,null,null,null,null,null,null,null,null,null,null,null,null,112,null,null,null,null,36,107]
["حداقل دور یقه گرد با پارچه کش زیاد ",{"$f":"ROUND(0.7*'متغیرها '!U85,1)","v":26.6},null,{"$f":"IF(B261<B264,\"خطا\",\"صحیح \")","v":"صحیح "},{"$f":"IF(B261<B264,\"خیر\",\"بله \")","v":"بله "},"حداقل دور یقه گرد با پارچه کش زیاد ",null,null,null,null,null,null,null,null,null,null,null,null,null,null,null,null,null,null,null,null,null,null,null,null,null,null,null,null,null,null,113,null,null,null,null,36.5,107.5]
[null,null,null,null,null,null,null,null,null,null,null,null,null,null,null,null,null,null,null,null,null,null,null,null,null,null,null,null,null,null,null,null,null,null,null,null,114,null,null,null,null,37,108]
[" کنترل یقه هفت بدون زیپ ",null,null,null,null," کنترل یقه هفت بدون زیپ ",null,null,null,null,null,null,null,null,null,null,null,null,null,null,null,null,null,null,null,null,null,null,null,null,null,null,null,null,null,null,115,null,null,null,null,37.5,108.5]
["دور سر",{"$f":"'متغیرها '!U85","v":38},null,null,null,"دور سر",null,null,null,null,null,null,null,null,null,null,null,null,null,null,null,null,null,null,null,null,null,null,null,null,null,null,null,null,null,null,116,null,null,null,null,38,109]
[" دور یقه هفت لباس",{"$f":"ROUND(2.08*SQRT(محاسبات!AA147*محاسبات!AA147+محاسبات!AA146*محاسبات!AA146)+2*(('متغیرها '!C169*محاسبات!H124+محاسبات!K144)/SIN(محاسبات!O233)),1)","v":51.8},null,null,null," دور یقه هفت لباس",null,null,null,null,null,null,null,null,null,null,null,null,null,null,null,null,null,null,null,null,null,null,null,null,null,null,null,null,null,null,117,null,null,null,null,38.5,109.5]
["حداقل دور یقه هفت با پارچه غیر کش ",{"$f":"'متغیرها '!U85","v":38},null,{"$f":"IF(B268<B269,\"خطا\",\"صحیح \")","v":"صحیح "},{"$f":"IF(B268<B269,\"خیر\",\"بله \")","v":"بله "},"حداقل دور یقه هفت با پارچه غیر کش ",null,null,null,null,null,null,null,null,null,null,null,null,null,null,null,null,null,null,null,null,null,null,null,null,null,null,null,null,null,null,118,null,null,null,null,39,110]
[" حداقل دور یقه هفت با پارچه نیم کش ",{"$f":"ROUND(0.85*'متغیرها '!U85,1)","v":32.299999999999997},null,{"$f":"IF(B268<B270,\"خطا\",\"صحیح \")","v":"صحیح "},{"$f":"IF(B268<B270,\"خیر\",\"بله \")","v":"بله "}," حداقل دور یقه هفت با پارچه نیم کش ",null,null,null,null,null,null,null,null,null,null,null,null,null,null,null,null,null,null,null,null,null,null,null,null,null,null,null,null,null,null,119,null,null,null,null,39.5,110.5]
[null,null,null,null,null,null,null,null,null,null,null,null,null,null,null,null,null,null,null,null,null,null,null,null,null,null,null,null,null,null,null,null,null,null,null,null,120,null,null,null,null,40,111]
[" مشخصات کمربند به شکل مستطیل (مناسب برای لباس شما)",null,null,null,null," مشخصات کمربند به شکل مستطیل (مناسب برای لباس شما)",null,null,null,null,null,null,null,null,null,null,null,null,null,null,null,null,null,null,null,null,null,null,null,null,null,null,null,null,null,null,121,null,null,null,null,40.5,111.5]
["طول کمربند به سانتیمتر",{"$f":"ROUND(3*(محاسبات!K120+محاسبات!K124)+2*(محاسبات!AA123+محاسبات!AA127),1)","v":52.7},null,null,null,"طول کمربند به سانتیمتر",null,null,null,null,null,null,null,null,null,null,null,null,null,null,null,null,null,null,null,null,null,null,null,null,null,null,null,null,null,null,122,null,null,null,null,41,112]
["عرض کمربند به سانتیمتر",{"$f":"ROUND(0.07*'متغیرها '!U83,1)","v":1.3},null,null,null,"عرض کمربند به سانتیمتر",null,null,null,null,null,null,null,null,null,null,null,null,null,null,null,null,null,null,null,null,null,null,null,null,null,null,null,null,null,null,123,null,null,null,null,41.5,112.5]
[null,null,null,null,null,null,null,null,null,null,null,null,null,null,null,null,null,null,null,null,null,null,null,null,null,null,null,null,null,null,null,null,null,null,null,null,124,null,null,null,null,42,113]
[" مشخصات کش یا پارچه پایین سویشرت :",null,null,null,null," مشخصات کش پایین سویشرت :",null,null,null,null,null,null,null,null,null,null,null,null,null,null,null,null,null,null,null,null,null,null,null,null,null,null,null,null,null,null,125,null,null,null,null,42.5,113.5]
["طول  کش از ساسون جلو- دور باسن -تا ساسون دیگر جلو",{"$f":"ROUND(C279*2*(محاسبات!AV110-محاسبات!AV164+محاسبات!BG106+محاسبات!BG165),0)","v":22},"cm",null,null,"طول  کش از ساسون جلو- دور باسن -تا ساسون دیگر جلو",null,null,null,null,null,null,null,null,null,null,null,null,null,null,null,null,null,null,null,null,null,null,null,null,null,null,null,null,null,null,126,null,null,null,null,43,114]
["ضریب پهنای کش","(از -0.1 الی 0.1)",{"$f":"K278*E278+L278","v":-0.29999999999999982},"بهینه=   - 0.05 ",{"$f":"'طراحی همه الگوها'!B326","v":45},"ضریب پهنای کش",50,-0.05,51,0,{"$f":"(J278-H278)/(I278-G278)","v":0.05},{"$f":"H278-G278*K278","v":-2.5499999999999998},-0.1,{"$f":"(M278-L278)/K278","v":48.999999999999993},0.1,{"$f":"(O278-L278)/K278","v":52.999999999999993},-0.05,{"$f":"(Q278-L278)/K278","v":50},null,null,null,null,null,null,null,null,null,null,null,null,null,null,null,null,null,null,127,null,null,null,null,43.5,114.5]
["ضریب کوچک شدن کش","(از 0.5  الی 1)",{"$f":"K279*E279+L279","v":0.64999999999999969},"بهینه=   0.9 ",{"$f":"'طراحی همه الگوها'!B327","v":8},"ضریب کوچک شدن کش",2,0.95,1,1,{"$f":"(J279-H279)/(I279-G279)","v":-5.0000000000000044E-2},{"$f":"H279-G279*K279","v":1.05},0.5,{"$f":"(M279-L279)/K279","v":10.999999999999991},1,{"$f":"(O279-L279)/K279","v":1},0.9,{"$f":"(Q279-L279)/K279","v":2.9999999999999978},null,null,null,null,null,null,null,null,null,null,null,null,null,null,null,null,null,null,128,null,null,null,null,44,115]
[null,null,null,null,null,null,null,null,null,null,null,null,null,null,null,null,null,null,null,null,null,null,null,null,null,null,null,null,null,null,null,null,null,null,null,null,129,null,null,null,null,44.5,115.5]
[" متغیرهای ورودی-طراحی یقه مربعی یا برش سرشانه در پیراهن",null,null,null,null," متغیرهای ورودی-طراحی یقه مربعی یا برش سرشانه در پیراهن","x1","y1","x2","y2(بهینه)","a","b",null,"کمترین",null,"بیشترین",null,null,null,null,null,null,null,null,null,null,null,null,null,null,null,null,null,null,null,null,130,null,null,null,null,45,116]
["انتخاب یقه مربعی=1         انتخاب برش سرشانه در پیراهن مردانه=2  \nانتخاب برش سرشانه در پیراهن برش از کارور=3","1 یا 2 یا 3",{"$f":"K282*E282+L282","v":2},null,{"$f":"'طراحی همه الگوها'!E249","v":2},"انتخاب یقه مربعی=1         انتخاب برش سرشانه در پیراهن مردانه=2  \nانتخاب برش سرشانه در پیراهن برش از کارور=3",2,2,1,1,{"$f":"(J282-H282)/(I282-G282)","v":1},{"$f":"H282-G282*K282","v":0},1,{"$f":"(M282-L282)/K282","v":1},3,{"$f":"(O282-L282)/K282","v":3},1,{"$f":"(Q282-L282)/K282","v":1},null,null,null,null,null,null,null,null,null,null,null,null,null,null,null,null,null,null,131,null,null,null,null,45.5,116.5]
["  انتخاب آستین با هر نوع ساسون=2    \n  انتخاب آستین بدون ساسون=3           ","2 یا 3",{"$f":"K283*E283+L283","v":3},null,{"$f":"'طراحی همه الگوها'!E250","v":2},"  انتخاب آستین با هر نوع ساسون=1    \n  انتخاب آستین بدون ساسون=2           ",1,2,2,3,{"$f":"(J283-H283)/(I283-G283)","v":1},{"$f":"H283-G283*K283","v":1},2,{"$f":"(M283-L283)/K283","v":1},3,{"$f":"(O283-L283)/K283","v":2},2,{"$f":"(Q283-L283)/K283","v":1},null,null,null,null,null,null,null,null,null,null,null,null,null,null,null,null,null,null,132,null,null,null,null,46,117]
["پهنا یقه روی خط سرشانه  (فقط موثر در انتخاب یقه مربعی) ","(از 0.2 الی 1.2)",{"$f":"K284*E284+L284","v":1},"بهینه=1",{"$f":"'طراحی همه الگوها'!E257","v":20},"پهنا یقه روی خط سرشانه  (فقط موثر در انتخاب یقه مربعی) ",19,0.95,20,1,{"$f":"(J284-H284)/(I284-G284)","v":5.0000000000000044E-2},{"$f":"H284-G284*K284","v":-8.8817841970012523E-16},0.2,{"$f":"(M284-L284)/K284","v":4.0000000000000142},1.2,{"$f":"(O284-L284)/K284","v":23.999999999999996},1,{"$f":"(Q284-L284)/K284","v":20},null,null,null,null,null,null,null,null,null,null,null,null,null,null,null,null,null,null,133,null,null,null,null,46.5,117.5]
["ضریب پایین آمدن خط کارور پشت","(از0.01 الی 0.6)",{"$f":"K285*E285+L285","v":0.22},"بهینه مربعی=0.4 \nبهینه مردانه=0.22 \nبهینه برش از کارور=0.25",{"$f":"'طراحی همه الگوها'!E251","v":20},"ضریب پایین آمدن خط کارور پشت",19,0.21,20,0.22,{"$f":"(J285-H285)/(I285-G285)","v":1.0000000000000009E-2},{"$f":"H285-G285*K285","v":1.9999999999999823E-2},0.01,{"$f":"(M285-L285)/K285","v":-0.99999999999998146},0.6,{"$f":"(O285-L285)/K285","v":57.999999999999964},0.4,{"$f":"(Q285-L285)/K285","v":37.999999999999986},null,null,null,null,null,null,null,null,null,null,null,null,null,null,null,null,null,null,134,null,null,null,null,47,118]
[{"$f":"IF(محاسبات!AD460<محاسبات!U466+1,\"ضریب خط کارور پشت کم شود\",\" \")","v":" "},{"$f":"IF(محاسبات!AD460<محاسبات!U466+1,\" خطا - خط کارور پشت بالا برود \",\"عدم خطا\")","v":"عدم خطا"},"حلقه آستین با ساسون سرشانه یا بدون ساسون : ",null,null,{"$f":"IF(محاسبات!AI460<محاسبات!Z466+1,\"ضریب خط کارور پشت کم شود\",\" \")","v":" "},null,null,null,null,null,null,null,null,null,null,null,null,null,null,null,null,null,null,null,null,null,null,null,null,null,null,null,null,null,null,135,null,null,null,null,47.5,118.5]
[{"$f":"IF(محاسبات!BW469<محاسبات!BW463,\"ضریب خط کارور پشت کم شود\",\" \")","v":" "},{"$f":"IF(محاسبات!BW469<محاسبات!BW463,\"  خطا - خط کارور پشت بالا برود \",\"عدم خطا\")","v":"عدم خطا"},"حلقه آستین با ساسون عصایی : ",null,null,null,null,null,null,null,null,null,null,null,null,null,null,null,null,null,null,null,null,null,null,null,null,null,null,null,null,null,null,null,null,null,136,null,null,null,null,48,119]
[null,null,null,null,null,null,null,null,null,null,null,null,null,null,null,null,null,null,null,null,null,null,null,null,null,null,null,null,null,null,null,null,null,null,null,null,137,null,null,null,null,48.5,119.5]
["ضریب پایین آمدن خط کارور جلو","(از 0.1 الی 0.45)",{"$f":"K289*E289+L289","v":0.1999999999999999},"بهینه مربعی=0.3 \nبهینه برش از کارور=0.3",{"$f":"'طراحی همه الگوها'!E254","v":10},"ضریب پایین آمدن خط کارور جلو",19,0.28999999999999998,20,0.3,{"$f":"(J289-H289)/(I289-G289)","v":1.0000000000000009E-2},{"$f":"H289-G289*K289","v":9.9999999999999811E-2},0.1,{"$f":"(M289-L289)/K289","v":1.9428902930940224E-14},0.45,{"$f":"(O289-L289)/K289","v":34.999999999999986},0.3,{"$f":"(Q289-L289)/K289","v":20},null,null,null,null,null,null,null,null,null,null,null,null,null,null,null,null,null,null,138,null,null,null,null,49,120]
[{"$f":"IF(محاسبات!Q460<محاسبات!H466+1,\"ضریب خط کارور جلو کم شود\",\" \")","v":" "},{"$f":"IF(محاسبات!Q460<محاسبات!H466+1,\" خطا - خط کارور جلو بالا برود \",\"عدم خطا\")","v":"عدم خطا"},"حلقه آستین با ساسون سرشانه یا بدون ساسون : ",null,null,{"$f":"IF(محاسبات!V460<محاسبات!M466+1,\"ضریب خط کارور جلو کم شود\",\" \")","v":" "},null,null,null,null,null,null,null,null,null,null,null,null,null,null,null,null,null,null,null,null,null,null,null,null,null,null,null,null,null,null,139,null,null,null,null,49.5,120.5]
[{"$f":"IF(محاسبات!BR470<محاسبات!BR463,\"ضریب خط کارور جلو کم شود\",\" \")","v":" "},{"$f":"IF(محاسبات!BR470<محاسبات!BR463,\" خطا - خط کارور جلو بالا برود \",\"عدم خطا\")","v":"عدم خطا"},"حلقه آستین با ساسون عصایی : ",null,null,{"$f":"IF(محاسبات!BW470<محاسبات!BW463,\"ضریب خط کارور جلو کم شود\",\" \")","v":" "},null,null,null,null,null,null,null,null,null,null,null,null,null,null,null,null,null,null,null,null,null,null,null,null,null,null,null,null,null,null,140,null,null,null,null,50,121]
[null,null,null,null,null,null,null,null,null,null,null,null,null,null,null,null,null,null,null,null,null,null,null,null,null,null,null,null,null,null,null,null,null,null,null,null,141,null,null,null,null,null,121.5]
["نصف جلو کارور  (فقط موثر در انتخاب یقه مربعی) ","(از 0.2 الی 0.55)",{"$f":"K293*E293+L293","v":0.45000000000000007},"بهینه=0.45",{"$f":"'طراحی همه الگوها'!E258","v":20},"نصف جلو کارور  (فقط موثر در انتخاب یقه مربعی) ",19,0.4,20,0.45,{"$f":"(J293-H293)/(I293-G293)","v":4.9999999999999989E-2},{"$f":"H293-G293*K293","v":-0.54999999999999971},0.2,{"$f":"(M293-L293)/K293","v":14.999999999999998},0.55000000000000004,{"$f":"(O293-L293)/K293","v":21.999999999999996},0.45,{"$f":"(Q293-L293)/K293","v":20},null,null,null,null,null,null,null,null,null,null,null,null,null,null,null,null,null,null,142,null,null,null,null,null,122]
["نصف پشت کارور  (فقط موثر در انتخاب یقه مربعی) ","(از 0.2 الی 0.6)",{"$f":"K294*E294+L294","v":0.5},"بهینه=0.5",{"$f":"'طراحی همه الگوها'!E259","v":20},"نصف پشت کارور  (فقط موثر در انتخاب یقه مربعی) ",19,0.45,20,0.5,{"$f":"(J294-H294)/(I294-G294)","v":4.9999999999999989E-2},{"$f":"H294-G294*K294","v":-0.49999999999999972},0.2,{"$f":"(M294-L294)/K294","v":13.999999999999998},0.6,{"$f":"(O294-L294)/K294","v":21.999999999999996},0.5,{"$f":"(Q294-L294)/K294","v":20},null,null,null,null,null,null,null,null,null,null,null,null,null,null,null,null,null,null,143,null,null,null,null,null,122.5]
[null,null,null,null,null,null,null,null,null,null,null,null,null,null,null,null,null,null,null,null,null,null,null,null,null,null,null,null,null,null,null,null,null,null,null,null,144,null,null,null,null,null,123]
["بررسی خطا گردی یقه تا خط کارور جلو",null,null,null,null,"بررسی خطا گردی یقه تا خط کارور جلو",null,null,null,null,null,null,null,null,null,null,null,null,null,null,null,null,null,null,null,null,null,null,null,null,null,null,null,null,null,null,145,null,null,null,null,null,123.5]
[{"$f":"IF((محاسبات!H474-محاسبات!H475)/محاسبات!H474>0.1,\"دور یقه گشاد شود یا ضریب خط کارور جلو زیاد شود\",\"  \")","v":"دور یقه گشاد شود یا ضریب خط کارور جلو زیاد شود"},{"$f":"IF((محاسبات!H474-محاسبات!H475)/محاسبات!H474>0.1,\"خطا\",\"صحیح \")","v":"خطا"}," پارچه کش   ",null,{"$f":"IF((محاسبات!H474-محاسبات!H475)/محاسبات!H474>0.1,\"خیر- گردی یقه زیاد شود یا کارور جلو پایین بیاید\",\" بله \")","v":"خیر- گردی یقه زیاد شود یا کارور جلو پایین بیاید"},null,null,null,null,null,null,null,null,null,null,null,null,null,null,null,null,null,null,null,null,null,null,null,null,null,null,null,null,null,null,null,146,null,null,null,null,null,124]
[{"$f":"IF((محاسبات!H474-محاسبات!H475)/محاسبات!H474>0.05,\"دور یقه گشاد شود یا ضریب خط کارور جلو زیاد شود\",\"  \")","v":"دور یقه گشاد شود یا ضریب خط کارور جلو زیاد شود"},{"$f":"IF((محاسبات!H474-محاسبات!H475)/محاسبات!H474>0.05,\"خطا\",\"صحیح \")","v":"خطا"}," پارچه غیر کش ",null,{"$f":"IF((محاسبات!H474-محاسبات!H475)/محاسبات!H474>0.05,\"خیر- گردی یقه زیاد شود یا کارور جلو پایین بیاید\",\" بله \")","v":"خیر- گردی یقه زیاد شود یا کارور جلو پایین بیاید"},null,null,null,null,null,null,null,null,null,null,null,null,null,null,null,null,null,null,null,null,null,null,null,null,null,null,null,null,null,null,null,147,null,null,null,null,null,124.5]
[null,null,null,null,null,null,null,null,null,null,null,null,null,null,null,null,null,null,null,null,null,null,null,null,null,null,null,null,null,null,null,null,null,null,null,null,148,null,null,null,null,null,125]
[" متغیرهای ورودی شیفت افقی برش سرشانه و یقه مربعی و ملوانی",null,null,null,null," متغیرهای ورودی شیفت افقی برش سرشانه و یقه مربعی و ملوانی","x1","y1","x2","y2(بهینه)","a","b",null,"کمترین",null,"بیشترین",null,null,null,null,null,null,null,null,null,null,null,null,null,null,null,null,null,null,null,null,149,null,null,null,null,null,125.5]
["شیفت افقی   (به سانتیمتر)   ","(از -100 الی100)",{"$f":"K301*E301+L301","v":0},"بهینه=دلخواه",{"$f":"'طراحی همه الگوها'!E260","v":0},"شیفت افقی   (به سانتیمتر)   ",1,1,0,0,{"$f":"(J301-H301)/(I301-G301)","v":1},{"$f":"H301-G301*K301","v":0},-100,{"$f":"(M301-L301)/K301","v":-100},100,{"$f":"(O301-L301)/K301","v":100},null,null,null,null,null,null,null,null,null,null,null,null,null,null,null,null,null,null,null,null,150,null,null,null,null,null,126]
["شیفت عمودی  (به سانتیمتر)  ","(از -100 الی100)",{"$f":"K302*E302+L302","v":0},"بهینه=دلخواه",{"$f":"'طراحی همه الگوها'!E261","v":0},"شیفت عمودی  (به سانتیمتر)  ",1,1,0,0,{"$f":"(J302-H302)/(I302-G302)","v":1},{"$f":"H302-G302*K302","v":0},-100,{"$f":"(M302-L302)/K302","v":-100},100,{"$f":"(O302-L302)/K302","v":100},null,null,null,null,null,null,null,null,null,null,null,null,null,null,null,null,null,null,null,null,151,null,null,null,null,null,126.5]
[null,null,null,null,null,null,null,null,null,null,null,null,null,null,null,null,null,null,null,null,null,null,null,null,null,null,null,null,null,null,null,null,null,null,null,null,152,null,null,null,null,null,127]
[" متغیرهای ورودی - دراپه از پهلو",null,null,null,null," متغیرهای ورودی - دراپه از پهلو","x1","y1","x2","y2(بهینه)","a","b",null,"کمترین",null,"بیشترین",null,null,null,null,null,null,null,null,null,null,null,null,null,null,null,null,null,null,null,null,153,null,null,null,null,null,127.5]
["حد بالا برش دراپه   dp1","(از 3 الی 4)",{"$f":"K305*E305+L305","v":3.6000000000000005},"زیر بغل=4 \nخط کمر=3 ",{"$f":"'طراحی همه الگوها'!B331","v":82},"حد بالا برش دراپه   ",10,0,30,1,{"$f":"(J305-H305)/(I305-G305)","v":0.05},{"$f":"H305-G305*K305","v":-0.5},3,{"$f":"(M305-L305)/K305","v":70},4,{"$f":"(O305-L305)/K305","v":90},-0.05,{"$f":"(Q305-L305)/K305","v":9},null,null,null,null,null,null,null,null,null,null,null,null,null,null,null,null,null,null,154,null,null,null,null,null,128]
["پهنای هر دراپه به سانتیمتر   dp3","(از 2 الی 8)",{"$f":"K306*E306+L306","v":5},"بدون دراپه=0",5,"پهنای هر دراپه  (سانتیمتر)   ",2,2,1,1,{"$f":"(J306-H306)/(I306-G306)","v":1},{"$f":"H306-G306*K306","v":0},2,{"$f":"(M306-L306)/K306","v":2},8,{"$f":"(O306-L306)/K306","v":8},0.9,{"$f":"(Q306-L306)/K306","v":0.9},null,null,null,null,null,null,null,null,null,null,null,null,null,null,null,null,null,null,155,null,null,null,null,null,128.5]
["تعداد دراپه ها      -      خط بالای برش دراپه با هر طراحی می تواند باشد.",{"$f":"محاسبات!GX236","v":3},null,null,null,"تعداد دراپه ها     ",null,null,null,null,null,null,null,null,null,null,null,null,null,null,null,null,null,null,null,null,null,null,null,null,null,null,null,null,null,null,156,null,null,null,null,null,129]
[" متغیرهای ورودی- یقه دراپه ",null,null,null,null," متغیرهای ورودی- یقه دراپه ","x1","y1","x2","y2(بهینه)","a","b",null,"کمترین",null,"بیشترین",null,null,null,null,null,null,null,null,null,null,null,null,null,null,null,null,null,null,null,null,157,null,null,null,null,null,{"$f":"AQ307+0.5","v":129.5}]
["نقطه شروع دراپه جلو    d1","(از 2 الی 4)",{"$f":"K309*E309+L309","v":3.5},"خط باسن=2 \nخط کمر=3 \nخط سینه=4  ",{"$f":"'طراحی همه الگوها'!E268","v":80},"نقطه شروع دراپه جلو    ",10,0,30,1,{"$f":"(J309-H309)/(I309-G309)","v":0.05},{"$f":"H309-G309*K309","v":-0.5},2,{"$f":"(M309-L309)/K309","v":50},4,{"$f":"(O309-L309)/K309","v":90},3,{"$f":"(Q309-L309)/K309","v":70},null,null,null,null,null,null,null,null,null,null,null,null,null,null,null,null,null,null,158,null,null,null,null,null,130]
["میزان باز بودن یقه جلو به سمت  خط سینه    d2","(از 0 الی 50)",20,"یقه کیپ=0",{"$f":"'طراحی همه الگوها'!E269","v":20},"میزان باز بودن یقه جلو به سمت  خط سینه    ",1,1,0,0,1,0,0,0,5,5,0,{"$f":"(Q310-L310)/K310","v":0},null,null,null,null,null,null,null,null,null,null,null,null,null,null,null,null,null,null,159,null,null,null,null,null,130.5]
["شیفت عمودی یقه دراپه جلو","(از -100 الی100)",0,"بدون شیفت=0 ",{"$f":"'طراحی همه الگوها'!E270","v":0},"شیفت عمودی یقه دراپه جلو (سانتیمتر)",1,1,0,0,1,0,-100,-100,100,100,null,null,null,null,null,null,null,null,null,null,null,null,null,null,null,null,null,null,null,null,160,null,null,null,null,null,131]
["نقطه شروع دراپه پشت    d1","(از 2 الی 4)",3.5,"خط باسن=2 \nخط کمر=3 \nخط سینه=4  ",{"$f":"'طراحی همه الگوها'!E271","v":80},"نقطه شروع دراپه پشت    ",10,0,30,1,0.05,-0.5,2,50,4,90,3,{"$f":"(Q312-L312)/K312","v":70},null,null,null,null,null,null,null,null,null,null,null,null,null,null,null,null,null,null,161,null,null,null,null,null,131.5]
["میزان باز بودن یقه پشت به سمت  خط سینه    d2","(از 0 الی 50)",20,"یقه کیپ=0",{"$f":"'طراحی همه الگوها'!E272","v":20},"میزان باز بودن یقه پشت به سمت  خط سینه    ",1,1,0,0,1,0,0,0,50,50,0,{"$f":"(Q313-L313)/K313","v":0},null,null,null,null,null,null,null,null,null,null,null,null,null,null,null,null,null,null,162,null,null,null,null,null,132]
["شیفت عمودی یقه دراپه پشت","(از -100 الی100)",0,"بدون شیفت=0 ",{"$f":"'طراحی همه الگوها'!E273","v":0},"شیفت عمودی یقه دراپه پشت (سانتیمتر)",1,1,0,0,1,0,-100,-100,100,100,null,null,null,null,null,null,null,null,null,null,null,null,null,null,null,null,null,null,null,null,163,null,null,null,null,null,132.5]
["زاویه متوسط سرشانه",{"$f":"0.5*(محاسبات!P139+0.3*(محاسبات!P140-محاسبات!P139)+محاسبات!AE139+0.3*(محاسبات!AE140-محاسبات!AE139))","v":0.37663262401204339},null,null,null,"زاویه متوسط سرشانه",null,null,null,null,null,null,null,null,null,null,null,null,null,null,null,null,null,null,null,null,null,null,null,null,null,null,null,null,null,null,164,null,null,null,null,null,133]
[null,null,null,null,null,null,null,null,null,null,null,null,null,null,null,null,null,null,null,null,null,null,null,null,null,null,null,null,null,null,null,null,null,null,null,null,165,null,null,null,null,null,133.5]
[" متغیرهای ورودی-طراحی دامن فون",null,null,null,null," متغیرهای ورودی-طراحی دامن فون","x1","y1","x2","y2(بهینه)","a","b",null,"کمترین",null,"بیشترین",null,null,null,null,null,null,null,null,null,null,null,null,null,null,null,null,null,null,null,null,166,null,null,null,null,null,134]
["اتصال آزاد = 3   اتصال به دامن تنگ = 2    اتصال به بالاتنه با ساسون=1   اتصال به پیراهن راسته=0","0 یا 1 یا 2 یا 3",{"$f":"K318*E318+L318","v":1},null,{"$f":"'طراحی همه الگوها'!B265","v":2},"اتصال به دامن تنگ = 2    اتصال به بالاتنه با ساسون=1   اتصال به پیراهن راسته=0",1,0,2,1,{"$f":"(J318-H318)/(I318-G318)","v":1},{"$f":"H318-G318*K318","v":-1},null,1,null,2,null,null,null,null,null,null,null,null,null,null,null,null,null,null,null,null,null,null,null,null,167,null,null,null,null,null,134.5]
["دور تا دور کمر دراتصال آزاد   (سانتیمتر)  ","(از 0 الی 150)",100,"بهینه=دلخواه",{"$f":"'طراحی همه الگوها'!B266","v":100},"دور تا دور کمر دراتصال آزاد   (سانتیمتر)  ",1,1,0,0,1,0,-7,{"$f":"(M319-L319)/K319","v":-7},7,{"$f":"(O319-L319)/K319","v":7},0.25,{"$f":"(Q319-L319)/K319","v":0.25},null,null,null,null,null,null,null,null,null,null,null,null,null,null,null,null,null,null,168,null,null,null,null,null,{"$f":"AQ318+0.5","v":135}]
["قد دامن دراتصال آزاد  (سانتیمتر)   ","(از 0 الی 150)",40,"بهینه=دلخواه",{"$f":"'طراحی همه الگوها'!B267","v":40},"قد دامن دراتصال آزاد  (سانتیمتر)   ",1,1,0,0,1,0,-7,{"$f":"(M320-L320)/K320","v":-7},7,{"$f":"(O320-L320)/K320","v":7},0.25,0.25,null,null,null,null,null,null,null,null,null,null,null,null,null,null,null,null,null,null,169,null,null,null,null,null,135.5]
["ضریب پایین دامن فون تا زمین \nدرانتخاب دامن فون متصل به پیراهن راسته    k'1","(از 0 الی 4)",0,"خط زمین=0 \nخط زانو=1 \nخط باسن=2 \nخط کمر=3 \nخط سینه=4  ",{"$f":"'طراحی همه الگوها'!B268","v":10},"مکان پایین دامن فون \nدرانتخاب دامن فون متصل به پیراهن راسته    ",10,0,30,1,0.05,-0.5,0,{"$f":"(M321-L321)/K321","v":10},4,100,0.25,15,null,null,null,null,null,null,null,null,null,null,null,null,null,null,null,null,null,null,170,null,null,null,null,null,136]
["ضریب چین در دامن فون","(از 0 الی 3)",0,null,{"$f":"'طراحی همه الگوها'!B269","v":1},"چین در دامن فون",2,1,1,0,1,-1,0,1,3,{"$f":"(O322-L322)/K322","v":4},0.9,1.9,null,null,null,null,null,null,null,null,null,null,null,null,null,null,null,null,null,null,171,null,null,null,null,null,136.5]
["  مقدار اوزمان در جلو دامن فون    β1","(از 0 الی 0.5",0.1,"بهینه=تامین دور باسن",{"$f":"'طراحی همه الگوها'!B270","v":10},"  اوزمان در جلو دامن فون    ",1,0.01,0,0,0.01,0,0,0,0.5,50,0.25,25,null,null,null,null,null,null,null,null,null,null,null,null,null,null,null,null,null,null,172,null,null,null,null,null,137]
["  مقدار اوزمان در پشت دامن فون   β4","(از 0 الی 0.5)",0.1,"بهینه=تامین دور باسن",{"$f":"'طراحی همه الگوها'!B271","v":10},"  اوزمان در پشت دامن فون   ",1,0.01,0,0,0.01,0,0,0,0.5,50,0.9,90,null,null,null,null,null,null,null,null,null,null,null,null,null,null,null,null,null,null,173,null,null,null,null,null,137.5]
["شیفت افقی جلو دامن فون (به سانتیمتر)","(از -100 الی100)",5,"بهینه=دلخواه",{"$f":"'طراحی همه الگوها'!B273","v":5},"شیفت افقی جلو دامن فون (به سانتیمتر)",1,1,0,0,1,0,-100,-100,100,100,null,null,null,null,null,null,null,null,null,null,null,null,null,null,null,null,null,null,null,null,174,null,null,null,null,null,138]
["شیفت عمودی جلو دامن فون (به سانتیمتر)","(از -100 الی100)",-30,"بهینه=دلخواه",{"$f":"'طراحی همه الگوها'!B274","v":-30},"شیفت عمودی جلو دامن فون (به سانتیمتر)",1,1,0,0,1,0,-100,-100,100,100,null,null,null,null,null,null,null,null,null,null,null,null,null,null,null,null,null,null,null,null,175,null,null,null,null,null,138.5]
["شیفت افقی پشت دامن فون (به سانتیمتر)","(از -100 الی100)",10,"بهینه=دلخواه",{"$f":"'طراحی همه الگوها'!B275","v":10},"شیفت افقی پشت دامن فون (به سانتیمتر)",1,1,0,0,1,0,-100,-100,100,100,null,null,null,null,null,null,null,null,null,null,null,null,null,null,null,null,null,null,null,null,176,null,null,null,null,null,139]
["شیفت عمودی پشت دامن فون (به سانتیمتر)","(از -100 الی100)",5,"بهینه=دلخواه",{"$f":"'طراحی همه الگوها'!B276","v":5},"شیفت عمودی پشت دامن فون (به سانتیمتر)",1,1,0,0,1,0,-100,-100,100,100,null,null,null,null,null,null,null,null,null,null,null,null,null,null,null,null,null,null,null,null,177,null,null,null,null,null,139.5]
[null,null,null,null,null,null,null,null,null,null,null,null,null,null,null,null,null,null,null,null,null,null,null,null,null,null,null,null,null,null,null,null,null,null,null,null,178,null,null,null,null,null,140]
[" متغیرهای ورودی - جلو کمر پهن",null,null,null,null,"  جلو کمر پهن","x1","y1","x2","y2(بهینه)","a","b",null,"کمترین",null,"بیشترین",null,null,null,null,null,null,null,null,null,null,null,null,null,null,null,null,null,null,null,null,179,null,null,null,null,null,140.5]
["انتخاب کمر برای جلیقه =1         انتخاب دیگر = 0","0 یا 1 ",{"$f":"K331*E331+L331","v":0},null,{"$f":"'طراحی همه الگوها'!B281","v":1},"انتخاب کمر برای جلیقه =2         انتخاب دیگر = 1",1,0,2,1,{"$f":"(J331-H331)/(I331-G331)","v":1},{"$f":"H331-G331*K331","v":-1},null,{"$f":"(M331-L331)/K331","v":1},null,{"$f":"(O331-L331)/K331","v":1},null,null,null,null,null,null,null,null,null,null,null,null,null,null,null,null,null,null,null,null,180,null,null,null,null,null,141]
["بالای کمر روی خط مرکزی جلو -  ضریب فاصله u4 از خط کمر","(از -7 الی 7)",2,"بهینه=دلخواه",{"$f":"'طراحی همه الگوها'!B282","v":2},"بالای کمر پهن یکسره روی خط مرکزی جلو ",1,1,0,0,1,0,-7,-7,7,7,0.25,{"$f":"(Q332-L332)/K332","v":0.25},null,null,null,null,null,null,null,null,null,null,null,null,null,null,null,null,null,null,181,null,null,null,null,null,141.5]
["پایین کمر روی خط مرکزی جلو -  ضریب فاصله d4 از خط کمر  -  (کمر جناقی و حد پایین برش دراپه)","(از -10 الی 30)",2,"مثبت= پایین خط کمر\nمنفی= بالای خط کمر",{"$f":"'طراحی همه الگوها'!B283","v":-2},"پایین کمر روی خط مرکزی جلو  (کمر جناقی و حد پایین برش دراپه)",1,-1,0,0,-1,0,-10,10,30,-30,0.9,-0.9,null,null,null,null,null,null,null,null,null,null,null,null,null,null,null,null,null,null,182,null,null,null,null,null,142]
["فاصله عمودی دال جلو -  ضریب فاصله u5 از خط کمر - (جلیقه)","(از -10 الی 30)",2,"بهینه=دلخواه",{"$f":"'طراحی همه الگوها'!B284","v":2},"فاصله عمودی دال جلو   (جلیقه)",1,1,0,0,1,0,-10,-10,30,30,0.25,0.25,null,null,null,null,null,null,null,null,null,null,null,null,null,null,null,null,null,null,183,null,null,null,null,null,142.5]
["فاصله افقی دال جلو -  ضریب فاصله u5 از خط مرکزی جلو - (جلیقه)","(از 0 الی 10)",4,"بهینه=دلخواه",{"$f":"'طراحی همه الگوها'!B285","v":8},"فاصله افقی دال جلو  (جلیقه)",1,0.5,0,0,0.5,0,0,0,10,20,0.9,1.8,null,null,null,null,null,null,null,null,null,null,null,null,null,null,null,null,null,null,184,null,null,null,null,null,143]
["پایین کمر روی خط ترک جلو -  ضریب فاصله d5 از خط کمر -  (کمر جناقی و حد پایین برش دراپه)","(از -10 الی 30)",2,"مثبت= پایین خط کمر\nمنفی= بالای خط کمر",{"$f":"'طراحی همه الگوها'!B286","v":-2},"پایین کمر روی خط ترک جلو   (کمر جناقی و حد پایین برش دراپه)",1,-1,0,0,-1,0,-10,10,30,-30,0.25,-0.25,null,null,null,null,null,null,null,null,null,null,null,null,null,null,null,null,null,null,185,null,null,null,null,null,143.5]
["بالای کمر روی خط ترک جلو -  ضریب فاصله u6 از خط کمر","(از -7 الی 7)",2,"بهینه=دلخواه",{"$f":"'طراحی همه الگوها'!B287","v":2},"بالای کمر پهن یکسره روی خط ترک جلو ",1,1,0,0,1,0,-7,-7,7,7,0.9,0.9,null,null,null,null,null,null,null,null,null,null,null,null,null,null,null,null,null,null,186,null,null,null,null,null,144]
["شیفت عمودی کمر پهن یکسره نسبت به زمین (به سانتیمتر)","(از -100 الی100)",{"$f":"K338*E338+L338","v":60},"بهینه=دلخواه",{"$f":"'طراحی همه الگوها'!B289","v":10},"شیفت عمودی کمر پهن یکسره  (به سانتیمتر)",1,51,0,50,1,50,-100,-150,100,50,null,null,null,null,null,null,null,null,null,null,null,null,null,null,null,null,null,null,null,null,187,null,null,null,null,null,144.5]
["شیفت افقی کمر پهن یکسره (به سانتیمتر)","(از -100 الی100)",{"$f":"K339*E339+L339","v":0},"بهینه=دلخواه",{"$f":"'طراحی همه الگوها'!B288","v":0},"شیفت افقی کمر پهن یکسره (به سانتیمتر)",1,1,0,0,1,0,-100,-100,100,100,null,null,null,null,null,null,null,null,null,null,null,null,null,null,null,null,null,null,null,null,188,null,null,null,null,null,145]
[null,null,null,null,null,null,null,null,null,null,null,null,null,null,null,null,null,null,null,null,null,null,null,null,null,null,null,null,null,null,null,null,null,null,null,null,189,null,null,null,null,null,145.5]
[" متغیرهای ورودی - پهلو کمر پهن",null,null,null,null,"  پهلو کمر پهن","x1","y1","x2","y2(بهینه)","a","b",null,"کمترین",null,"بیشترین",null,null,null,null,null,null,null,null,null,null,null,null,null,null,null,null,null,null,null,null,190,null,null,null,null,null,146]
["بالای کمر روی خط پهلو -  ضریب فاصله u3 از خط کمر","(از -7 الی 7)",{"$f":"K342*E342+L342","v":2},"بهینه=دلخواه",{"$f":"'طراحی همه الگوها'!B292","v":2},"بالای کمر پهن یکسره روی خط پهلو ",1,1,0,0,{"$f":"(J342-H342)/(I342-G342)","v":1},{"$f":"H342-G342*K342","v":0},-7,{"$f":"(M342-L342)/K342","v":-7},7,{"$f":"(O342-L342)/K342","v":7},0.25,{"$f":"(Q342-L342)/K342","v":0.25},null,null,null,null,null,null,null,null,null,null,null,null,null,null,null,null,null,null,191,null,null,null,null,null,146.5]
["پایین کمر روی خط پهلو -  ضریب فاصله d3 از خط کمر -  (کمر جناقی و حد پایین برش دراپه)","(از -10 الی 30)",{"$f":"K343*E343+L343","v":2},"مثبت= پایین خط کمر\nمنفی= بالای خط کمر",{"$f":"'طراحی همه الگوها'!B293","v":-2},"پایین کمر روی خط پهلو   (کمر جناقی و حد پایین برش دراپه)",1,-1,0,0,{"$f":"(J343-H343)/(I343-G343)","v":-1},{"$f":"H343-G343*K343","v":0},-10,{"$f":"(M343-L343)/K343","v":10},30,{"$f":"(O343-L343)/K343","v":-30},0.9,{"$f":"(Q343-L343)/K343","v":-0.9},null,null,null,null,null,null,null,null,null,null,null,null,null,null,null,null,null,null,192,null,null,null,null,null,147]
[null,null,null,null,null,null,null,null,null,null,null,null,null,null,null,null,null,null,null,null,null,null,null,null,null,null,null,null,null,null,null,null,null,null,null,null,193,null,null,null,null,null,147.5]
[" متغیرهای ورودی - پشت کمر پهن",null,null,null,null," پشت کمر پهن","x1","y1","x2","y2(بهینه)","a","b",null,"کمترین",null,"بیشترین",null,null,null,null,null,null,null,null,null,null,null,null,null,null,null,null,null,null,null,null,194,null,null,null,null,null,148]
["بالای کمر روی خط مرکزی پشت -  ضریب فاصله u1 از خط کمر","(از -7 الی 7)",{"$f":"K346*E346+L346","v":2},"بهینه=دلخواه",{"$f":"'طراحی همه الگوها'!B296","v":2},"بالای کمر پهن یکسره روی خط مرکزی پشت ",1,1,0,0,{"$f":"(J346-H346)/(I346-G346)","v":1},{"$f":"H346-G346*K346","v":0},-7,{"$f":"(M346-L346)/K346","v":-7},7,{"$f":"(O346-L346)/K346","v":7},0.25,{"$f":"(Q346-L346)/K346","v":0.25},null,null,null,null,null,null,null,null,null,null,null,null,null,null,null,null,null,null,195,null,null,null,null,null,148.5]
["پایین کمر روی خط مرکزی پشت -  ضریب فاصله d1 از خط کمر -  (کمر جناقی)","(از -10 الی 30)",2,"مثبت= پایین خط کمر\nمنفی= بالای خط کمر",{"$f":"'طراحی همه الگوها'!B297","v":-2},"پایین کمر روی خط مرکزی پشت   (کمر جناقی)",1,-1,0,0,-1,0,-10,10,30,-30,0.9,{"$f":"(Q347-L347)/K347","v":-0.9},null,null,null,null,null,null,null,null,null,null,null,null,null,null,null,null,null,null,196,null,null,null,null,null,149]
["بالای کمر روی خط ترک پشت -  ضریب فاصله u2 از خط کمر","(از -7 الی 7)",2,"بهینه=دلخواه",{"$f":"'طراحی همه الگوها'!B298","v":2},"بالای کمر پهن یکسره روی خط ترک پشت ",1,1,0,0,1,0,-7,-7,7,7,0.25,{"$f":"(Q348-L348)/K348","v":0.25},null,null,null,null,null,null,null,null,null,null,null,null,null,null,null,null,null,null,197,null,null,null,null,null,149.5]
["پایین کمر روی خط ترک پشت -  ضریب فاصله d2 از خط کمر -  (کمر جناقی)","(از -10 الی 30)",2,"مثبت= پایین خط کمر\nمنفی= بالای خط کمر",{"$f":"'طراحی همه الگوها'!B299","v":-2},"پایین کمر روی خط ترک پشت   (کمر جناقی)",1,-1,0,0,-1,0,-10,10,30,-30,0.9,{"$f":"(Q349-L349)/K349","v":-0.9},null,null,null,null,null,null,null,null,null,null,null,null,null,null,null,null,null,null,198,null,null,null,null,null,150]
["شیفت عمودی کمر پهن یکسره نسبت به زمین (به سانتیمتر)","(از -100 الی100)",70,"بهینه=دلخواه",{"$f":"'طراحی همه الگوها'!B301","v":20},"شیفت عمودی کمر پهن یکسره  (سانتیمتر)",1,51,0,50,1,50,-100,-150,100,50,null,null,null,null,null,null,null,null,null,null,null,null,null,null,null,null,null,null,null,null,199,null,null,null,null,null,{"$f":"AQ349+0.5","v":150.5}]
["شیفت افقی کمر پهن یکسره (به سانتیمتر)","(از -100 الی100)",0,"بهینه=دلخواه",{"$f":"'طراحی همه الگوها'!B300","v":0},"شیفت افقی کمر پهن یکسره (سانتیمتر)",1,1,0,0,1,0,-100,-100,100,100,null,null,null,null,null,null,null,null,null,null,null,null,null,null,null,null,null,null,null,null,200,null,null,null,null,null,151]
[null,null,null,null,null,null,null,null,null,null,null,null,null,null,null,null,null,null,null,null,null,null,null,null,null,null,null,null,null,null,null,null,null,null,null,null,null,null,null,null,null,null,151.5]
["متغیرهای ورودی-یقه دکلته جلو",null,null,null,null,"متغیرهای ورودی-یقه دکلته جلو","x1","y1","x2","y2(بهینه)","a","b",null,"کمترین",null,"بیشترین",null,null,null,null,null,null,null,null,null,null,null,null,null,null,null,null,null,null,null,null,null,null,null,null,null,null,152]
["میزان باز بودن یقه در خط مرکزی جلو  d1","(از 3.5 الی 5)",{"$f":"K354*E354+L354","v":4},"خط کمر=3 \nخط سینه=4  ",{"$f":"'طراحی همه الگوها'!E276","v":90},"میزان باز بودن یقه در خط مرکزی جلو  ",10,0,30,1,{"$f":"(J354-H354)/(I354-G354)","v":0.05},{"$f":"H354-G354*K354","v":-0.5},3.5,{"$f":"(M354-L354)/K354","v":80},5,{"$f":"(O354-L354)/K354","v":110},3,{"$f":"(Q354-L354)/K354","v":70},null,null,null,null,null,null,null,null,null,null,null,null,null,null,null,null,null,null,null,null,null,null,null,null,152.5]
["میزان اضافه شدن ساسون سرشانه  ","(از 0 الی 0.5)",{"$f":"K355*E355+L355","v":0.2},"بدون اضافه شدن=0 \nبهینه=0.2  ",{"$f":"'طراحی همه الگوها'!E277","v":20},"میزان اضافه شدن ساسون سرشانه  ",19,0.18,20,0.2,{"$f":"(J355-H355)/(I355-G355)","v":2.0000000000000018E-2},{"$f":"H355-G355*K355","v":-0.20000000000000034},0,{"$f":"(M355-L355)/K355","v":10.000000000000009},0.5,{"$f":"(O355-L355)/K355","v":34.999999999999986},0.2,{"$f":"(Q355-L355)/K355","v":20},null,null,null,null,null,null,null,null,null,null,null,null,null,null,null,null,null,null,null,null,null,null,null,null,153]
["میزان انحنا یقه  d2","(از -0.5 الی 0.5)",{"$f":"K356*E356+L356","v":0},"خط محدب =+ \nخط صاف =0 \nخط مقعر= - ",{"$f":"'طراحی همه الگوها'!E278","v":20},"میزان انحنا یقه  ",19,-0.1,20,0,{"$f":"(J356-H356)/(I356-G356)","v":0.1},{"$f":"H356-G356*K356","v":-2},-0.5,{"$f":"(M356-L356)/K356","v":15},0.5,{"$f":"(O356-L356)/K356","v":25},0,{"$f":"(Q356-L356)/K356","v":20},null,null,null,null,null,null,null,null,null,null,null,null,null,null,null,null,null,null,null,null,null,null,null,null,153.5]
[null,null,null,null,null,null,null,null,null,null,null,null,null,null,null,null,null,null,null,null,null,null,null,null,null,null,null,null,null,null,null,null,null,null,null,null,null,null,null,null,null,null,154]
[" متغیرهای ورودی-یقه دکلته پشت",null,null,null,null," متغیرهای ورودی-یقه دکلته پشت","x1","y1","x2","y2(بهینه)","a","b",null,"کمترین",null,"بیشترین",null,null,null,null,null,null,null,null,null,null,null,null,null,null,null,null,null,null,null,null,null,null,null,null,null,null,154.5]
["میزان باز بودن یقه در خط مرکزی پشت  d1","(از 3 الی 5.5)",{"$f":"K359*E359+L359","v":4},"خط کمر=3 \nخط سینه=4  ",{"$f":"'طراحی همه الگوها'!E281","v":90},"میزان باز بودن یقه در خط مرکزی پشت  ",10,0,30,1,{"$f":"(J359-H359)/(I359-G359)","v":0.05},{"$f":"H359-G359*K359","v":-0.5},3,{"$f":"(M359-L359)/K359","v":70},5.5,{"$f":"(O359-L359)/K359","v":120},3.5,{"$f":"(Q359-L359)/K359","v":80},null,null,null,null,null,null,null,null,null,null,null,null,null,null,null,null,null,null,null,null,null,null,null,null,155]
["میزان انحنا یقه  d2","(از -1 الی 0.5)",{"$f":"K360*E360+L360","v":-9.9999999999999867E-2},"خط صاف =0 \nخط مقعر= -  ",{"$f":"'طراحی همه الگوها'!E282","v":19},"میزان انحنا یقه  ",19,-0.1,20,0,{"$f":"(J360-H360)/(I360-G360)","v":0.1},{"$f":"H360-G360*K360","v":-2},-1,{"$f":"(M360-L360)/K360","v":10},0.5,{"$f":"(O360-L360)/K360","v":25},0,{"$f":"(Q360-L360)/K360","v":20},null,null,null,null,null,null,null,null,null,null,null,null,null,null,null,null,null,null,null,null,null,null,null,null,155.5]
[null,null,null,null,null,null,null,null,null,null,null,null,null,null,null,null,null,null,null,null,null,null,null,null,null,null,null,null,null,null,null,null,null,null,null,null,null,null,null,null,null,null,156]
[" طول بند برای لباس دکلته از جلو تا پشت به سانتیمتر",null,null,null,null," طول بند برای لباس دکلته از جلو تا پشت به سانتیمتر",null,null,null,null,null,null,null,null,null,null,null,null,null,null,null,null,null,null,null,null,null,null,null,null,null,null,null,null,null,null,null,null,null,null,null,null,156.5]
["دکلته آبی جلو     به     دکلته آبی پشت",{"$f":"ROUND(محاسبات!FB356-محاسبات!FB324+محاسبات!LU213-محاسبات!LU214,0)","v":6},null,null,null,"دکلته آبی جلو     به     دکلته آبی پشت",null,null,null,null,null,null,null,null,null,null,null,null,null,null,null,null,null,null,null,null,null,null,null,null,null,null,null,null,null,null,null,null,null,null,null,null,157]
["دکلته آبی جلو     به     دکلته سبز پشت",{"$f":"ROUND(محاسبات!FB356-محاسبات!FB324+محاسبات!LU213-محاسبات!LU215,0)","v":9},null,null,null,"دکلته آبی جلو     به     دکلته سبز پشت",null,null,null,null,null,null,null,null,null,null,null,null,null,null,null,null,null,null,null,null,null,null,null,null,null,null,null,null,null,null,null,null,null,null,null,null,157.5]
["دکلته آبی جلو     به     دکلته بنفش پشت",{"$f":"ROUND(محاسبات!FB356-محاسبات!FB324+محاسبات!LU213-محاسبات!LU216,0)","v":12},null,null,null,"دکلته آبی جلو     به     دکلته بنفش پشت",null,null,null,null,null,null,null,null,null,null,null,null,null,null,null,null,null,null,null,null,null,null,null,null,null,null,null,null,null,null,null,null,null,null,null,null,158]
["دکلته آبی جلو     به     دکلته سیاه پشت",{"$f":"ROUND(محاسبات!FB356-محاسبات!FB324+محاسبات!LU213-محاسبات!LU247,0)","v":14},null,null,null,"دکلته آبی جلو     به     دکلته سیاه پشت",null,null,null,null,null,null,null,null,null,null,null,null,null,null,null,null,null,null,null,null,null,null,null,null,null,null,null,null,null,null,null,null,null,null,null,null,158.5]
["دکلته سبز جلو     به     دکلته آبی پشت",{"$f":"ROUND(محاسبات!FB356-محاسبات!FB340+محاسبات!LU213-محاسبات!LU214,0)","v":8},null,null,null,"دکلته سبز جلو     به     دکلته آبی پشت",null,null,null,null,null,null,null,null,null,null,null,null,null,null,null,null,null,null,null,null,null,null,null,null,null,null,null,null,null,null,null,null,null,null,null,null,159]
["دکلته سبز جلو     به     دکلته سبز پشت",{"$f":"ROUND(محاسبات!FB356-محاسبات!FB340+محاسبات!LU213-محاسبات!LU215,0)","v":12},null,null,null,"دکلته سبز جلو     به     دکلته سبز پشت",null,null,null,null,null,null,null,null,null,null,null,null,null,null,null,null,null,null,null,null,null,null,null,null,null,null,null,null,null,null,null,null,null,null,null,null,159.5]
["دکلته سبز جلو     به     دکلته بنفش پشت",{"$f":"ROUND(محاسبات!FB356-محاسبات!FB340+محاسبات!LU213-محاسبات!LU216,0)","v":15},null,null,null,"دکلته سبز جلو     به     دکلته بنفش پشت",null,null,null,null,null,null,null,null,null,null,null,null,null,null,null,null,null,null,null,null,null,null,null,null,null,null,null,null,null,null,null,null,null,null,null,null,160]
["دکلته سبز جلو     به     دکلته سیاه پشت",{"$f":"ROUND(محاسبات!FB356-محاسبات!FB340+محاسبات!LU213-محاسبات!LU247,0)","v":16},null,null,null,"دکلته سبز جلو     به     دکلته سیاه پشت",null,null,null,null,null,null,null,null,null,null,null,null,null,null,null,null,null,null,null,null,null,null,null,null,null,null,null,null,null,null,null,null,null,null,null,null,160.5]
["دکلته سیاه جلو     به     دکلته آبی پشت",{"$f":"ROUND(محاسبات!FB356-محاسبات!FB308+محاسبات!LU213-محاسبات!LU214,0)","v":11},null,null,null,"دکلته سیاه جلو     به     دکلته آبی پشت",null,null,null,null,null,null,null,null,null,null,null,null,null,null,null,null,null,null,null,null,null,null,null,null,null,null,null,null,null,null,null,null,null,null,null,null,161]
["دکلته سیاه جلو     به     دکلته سبز پشت",{"$f":"ROUND(محاسبات!FB356-محاسبات!FB308+محاسبات!LU213-محاسبات!LU215,0)","v":14},null,null,null,"دکلته سیاه جلو     به     دکلته سبز پشت",null,null,null,null,null,null,null,null,null,null,null,null,null,null,null,null,null,null,null,null,null,null,null,null,null,null,null,null,null,null,null,null,null,null,null,null,161.5]
["دکلته سیاه جلو     به     دکلته بنفش پشت",{"$f":"ROUND(محاسبات!FB356-محاسبات!FB308+محاسبات!LU213-محاسبات!LU216,0)","v":17},null,null,null,"دکلته سیاه جلو     به     دکلته بنفش پشت",null,null,null,null,null,null,null,null,null,null,null,null,null,null,null,null,null,null,null,null,null,null,null,null,null,null,null,null,null,null,null,null,null,null,null,null,162]
["دکلته سیاه جلو     به     دکلته سیاه پشت",{"$f":"ROUND(محاسبات!FB356-محاسبات!FB308+محاسبات!LU213-محاسبات!LU247,0)","v":19},null,null,null,"دکلته سیاه جلو     به     دکلته سیاه پشت",null,null,null,null,null,null,null,null,null,null,null,null,null,null,null,null,null,null,null,null,null,null,null,null,null,null,null,null,null,null,null,null,null,null,null,null,162.5]
[null,null,null,null,null,null,null,null,null,null,null,null,null,null,null,null,null,null,null,null,null,null,null,null,null,null,null,null,null,null,null,null,null,null,null,null,null,null,null,null,null,null,163]
[" متغیرهای ورودی رگلاژ یقه دکلته پشت",null,null,null,null," متغیرهای ورودی رگلاژ یقه دکلته پشت","x1","y1","x2","y2(بهینه)","a","b",null,"کمترین",null,"بیشترین",null,null,null,null,null,null,null,null,null,null,null,null,null,null,null,null,null,null,null,null,null,null,null,null,null,null,163.5]
["نقطه بالای رگلاژ روی یقه دکلته   m1 ","(0 یا 1 یا 2 یا 3 یا 4)",{"$f":"K377*E377+L377","v":2},"نقطه روی خط مرکزی پشت=0\nبهینه = 2",{"$f":"'طراحی همه الگوها'!E299","v":2},"نقطه بالای رگلاژ روی یقه دکلته    ",1,1,0,0,{"$f":"(J377-H377)/(I377-G377)","v":1},{"$f":"H377-G377*K377","v":0},0,{"$f":"(M377-L377)/K377","v":0},4,{"$f":"(O377-L377)/K377","v":4},0,{"$f":"(Q377-L377)/K377","v":0},null,null,null,null,null,null,null,null,null,null,null,null,null,null,null,null,null,null,null,null,null,null,null,null,164]
["نقطه وسط رگلاژ روی خط کمر   m2 ","(از 0 الی 1)",{"$f":"K378*E378+L378","v":0.8},"نقطه روی خط مرکزی پشت=0\nنقطه روی ساسون میانی پشت=1",{"$f":"'طراحی همه الگوها'!E300","v":16},"نقطه وسط رگلاژ روی خط کمر    ",1,0.05,0,0,{"$f":"(J378-H378)/(I378-G378)","v":0.05},{"$f":"H378-G378*K378","v":0},0,{"$f":"(M378-L378)/K378","v":0},1,{"$f":"(O378-L378)/K378","v":20},0.8,{"$f":"(Q378-L378)/K378","v":16},null,null,null,null,null,null,null,null,null,null,null,null,null,null,null,null,null,null,null,null,null,null,null,null,164.5]
["نقطه پایین رگلاژ روی خط مرکزی پشت   m3","(از 0 الی 1)",{"$f":"K379*E379+L379","v":0.8},"نقطه روی خط  کمر=0 \nنقطه روی خط باسن=1 ",{"$f":"'طراحی همه الگوها'!E301","v":16},"نقطه پایین رگلاژ روی خط مرکزی پشت   ",1,0.05,0,0,{"$f":"(J379-H379)/(I379-G379)","v":0.05},{"$f":"H379-G379*K379","v":0},0,{"$f":"(M379-L379)/K379","v":0},1,{"$f":"(O379-L379)/K379","v":20},0.8,{"$f":"(Q379-L379)/K379","v":16},null,null,null,null,null,null,null,null,null,null,null,null,null,null,null,null,null,null,null,null,null,null,null,null,165]
["پهنای جادکمه برای تکه رگلاژ m4","(از 0 الی 0.08)",{"$f":"K380*E380+L380","v":0.03},"بدون جادکمه =0  \nبهینه =0.03  ",{"$f":"'طراحی همه الگوها'!E302","v":6},"پهنای جادکمه برای تکه رگلاژ ",1,5.0000000000000001E-3,0,0,{"$f":"(J380-H380)/(I380-G380)","v":5.0000000000000001E-3},{"$f":"H380-G380*K380","v":0},0,{"$f":"(M380-L380)/K380","v":0},0.08,{"$f":"(O380-L380)/K380","v":16},0.03,{"$f":"(Q380-L380)/K380","v":6},null,null,null,null,null,null,null,null,null,null,null,null,null,null,null,null,null,null,null,null,null,null,null,null,165.5]
["شیفت افقی تکه رگلاژ جدا (به سانتیمتر)  m21","(از -100 الی100)",{"$f":"K381*E381+L381","v":30},"بهینه=دلخواه",{"$f":"'طراحی همه الگوها'!E303","v":30},"شیفت افقی تکه رگلاژ جدا (سانتیمتر)  ",1,1,0,0,{"$f":"(J381-H381)/(I381-G381)","v":1},{"$f":"H381-G381*K381","v":0},-100,{"$f":"(M381-L381)/K381","v":-100},100,{"$f":"(O381-L381)/K381","v":100},null,null,null,null,null,null,null,null,null,null,null,null,null,null,null,null,null,null,null,null,null,null,null,null,null,null,166]
[null,null,null,null,null,null,null,null,null,null,null,null,null,null,null,null,null,null,null,null,null,null,null,null,null,null,null,null,null,null,null,null,null,null,null,null,null,null,null,null,null,null,166.5]
["متغیرهای ورودی-یقه قایقی بدون شیفت تکه پهلو",null,null,null,null,"متغیرهای ورودی-یقه قایقی بدون شیفت تکه پهلو","x1","y1","x2","y2(بهینه)","a","b",null,"کمترین",null,"بیشترین",null,null,null,null,null,null,null,null,null,null,null,null,null,null,null,null,null,null,null,null,null,null,null,null,null,null,167]
["ضریب بزرگ شدن سرشانه  b7","(از 0 الی 0.5)",{"$f":"K384*E384+L384","v":0.25000000000000011},"بهینه=0.1",{"$f":"'طراحی همه الگوها'!E306","v":23},"باز شدن یقه روی سرشانه  ",19,0.05,20,0.1,{"$f":"(J384-H384)/(I384-G384)","v":0.05},{"$f":"H384-G384*K384","v":-0.9},0,{"$f":"(M384-L384)/K384","v":18},0.5,{"$f":"(O384-L384)/K384","v":27.999999999999996},0,{"$f":"(Q384-L384)/K384","v":18},null,null,null,null,null,null,null,null,null,null,null,null,null,null,null,null,null,null,null,null,null,null,null,null,167.5]
[null,null,null,null,null,null,null,null,null,null,null,null,null,null,null,null,null,null,null,null,null,null,null,null,null,null,null,null,null,null,null,null,null,null,null,null,null,null,null,null,null,null,168]
[" متغیرهای ورودی-یقه پروانه ای متصل به حلقه آستین بدون ساسون\nبدون شیفت تکه پهلو",null,null,null,null,"یقه پروانه ای متصل به حلقه آستین بدون ساسون  \nبدون شیفت تکه پهلو","x1","y1","x2","y2(بهینه)","a","b",null,"کمترین",null,"بیشترین",null,null,null,null,null,null,null,null,null,null,null,null,null,null,null,null,null,null,null,null,null,null,null,null,null,null,168.5]
["ضریب پهنای سرشانه به سمت پشت    ζ3","(از 0 الی 1)",{"$f":"K387*E387+L387","v":1},"بهینه=1",{"$f":"'طراحی همه الگوها'!E309","v":20},"پهنای سرشانه به سمت پشت    ",19,0.9,20,1,{"$f":"(J387-H387)/(I387-G387)","v":9.9999999999999978E-2},{"$f":"H387-G387*K387","v":-0.99999999999999944},0,{"$f":"(M387-L387)/K387","v":9.9999999999999964},30,{"$f":"(O387-L387)/K387","v":310.00000000000006},0,{"$f":"(Q387-L387)/K387","v":9.9999999999999964},null,null,null,null,null,null,null,null,null,null,null,null,null,null,null,null,null,null,null,null,null,null,null,null,169]
["ضریب پهنای سرشانه به سمت جلو   ζ4","(از 0 الی 1)",{"$f":"K388*E388+L388","v":0.8},"بهینه=0.8",{"$f":"'طراحی همه الگوها'!E310","v":20},"پهنای سرشانه به سمت جلو   ",19,0.7,20,0.8,{"$f":"(J388-H388)/(I388-G388)","v":0.10000000000000009},{"$f":"H388-G388*K388","v":-1.2000000000000017},0.3,{"$f":"(M388-L388)/K388","v":15.000000000000004},1.2,{"$f":"(O388-L388)/K388","v":23.999999999999996},0.3,{"$f":"(Q388-L388)/K388","v":15.000000000000004},null,null,null,null,null,null,null,null,null,null,null,null,null,null,null,null,null,null,null,null,null,null,null,null,169.5]
[null,null,null,null,null,null,null,null,null,null,null,null,null,null,null,null,null,null,null,null,null,null,null,null,null,null,null,null,null,null,null,null,null,null,null,null,null,null,null,null,null,null,170]
[" متغیرهای ورودی-سرشانه دکمه خور متصل به حلقه آستین بدون ساسون\nبدون شیفت تکه پهلو",null,null,null,null,"سرشانه پشت دکمه خور متصل به حلقه آستین بدون ساسون \nبدون شیفت تکه پهلو","x1","y1","x2","y2(بهینه)","a","b",null,"کمترین",null,"بیشترین",null,null,null,null,null,null,null,null,null,null,null,null,null,null,null,null,null,null,null,null,null,null,null,null,null,null,170.5]
["ضریب پهنای جادکمه سرشانه","(از 0 الی 0.1)",{"$f":"K391*E391+L391","v":0.05},"بهینه=0.05",{"$f":"'طراحی همه الگوها'!B352","v":5},"ضریب پهنای جادکمه سرشانه",1,0.01,0,0,{"$f":"(J391-H391)/(I391-G391)","v":0.01},{"$f":"H391-G391*K391","v":0},0,{"$f":"(M391-L391)/K391","v":0},0.1,{"$f":"(O391-L391)/K391","v":10},0.05,{"$f":"(Q391-L391)/K391","v":5},null,null,null,null,null,null,null,null,null,null,null,null,null,null,null,null,null,null,null,null,null,null,null,null,171]
[null,null,null,null,null,null,null,null,null,null,null,null,null,null,null,null,null,null,null,null,null,null,null,null,null,null,null,null,null,null,null,null,null,null,null,null,null,null,null,null,null,null,171.5]
[" متغیرهای ورودی - آستین کیمونو و آستین سرخود بدون شیفت تکه پهلو",null,null,null,null," متغیرهای ورودی - آستین کیمونو و آستین سرخود بدون شیفت تکه پهلو","x1","y1","x2","y2(بهینه)","a","b",null,"کمترین",null,"بیشترین",null,null,null,null,null,null,null,null,null,null,null,null,null,null,null,null,null,null,null,null,null,null,null,null,null,null,172]
["میزان خمیدگی آستین کیمونو نسبت به خط سرشانه (به درجه)   k1","(از 0 الی 30)",{"$f":"K394*E394+L394","v":20},"آستین در امتداد سرشانه=0",{"$f":"'طراحی همه الگوها'!B355","v":20},"میزان خمیدگی آستین کیمونو نسبت به خط سرشانه   ",1,1,0,0,{"$f":"(J394-H394)/(I394-G394)","v":1},{"$f":"H394-G394*K394","v":0},0,{"$f":"(M394-L394)/K394","v":0},30,{"$f":"(O394-L394)/K394","v":30},0,{"$f":"(Q394-L394)/K394","v":0},null,null,null,null,null,null,null,null,null,null,null,null,null,null,null,null,null,null,null,null,null,null,null,null,172.5]
["ضریب کوتاهی آستین کیمونو   k16","(از 0.3 الی 1.2)",{"$f":"IF(E395<51,K395*E395+L395,20)","v":20},"آستین تا مچ=1",{"$f":"'طراحی همه الگوها'!B356","v":"منطبق"},"کوتاهی آستین کیمونو   ",11,0.97750000000000004,10,1,-2.2499999999999964E-2,1.2249999999999996,0.3,41.111111111111157,1.2,1.1111111111110989,1,10,null,null,null,null,null,null,null,null,null,null,null,null,null,null,null,null,null,null,null,null,null,null,null,null,173]
["ضریب گشادی دور مچ   k2","(از 1 الی 2)",{"$f":"IF(E396<51,K396*E396+L396,20)","v":20},"بدون گشادی مچ=1",{"$f":"'طراحی همه الگوها'!B357","v":"منطبق"},"گشادی دور مچ   ",1,1.05,0,1,5.0000000000000044E-2,1,1,0,2,19.999999999999982,1,0,null,null,null,null,null,null,null,null,null,null,null,null,null,null,null,null,null,null,null,null,null,null,null,null,173.5]
["ضریب انحنا پهلو برای آستین کیمونو   k3","(از 0.2 الی 0.8) ",0.4,"بهینه=0.4",{"$f":"'طراحی همه الگوها'!B358","v":8},"انحنا پهلو برای آستین کیمونو   ",1,0.05,0,0,0.05,0,0.2,4,0.8,16,0.4,8,null,null,null,null,null,null,null,null,null,null,null,null,null,null,null,null,null,null,null,null,null,null,null,null,174]
["ضریب انحنا پهلو برای آستین سرخود   k14","(از 0 الی 0.2)",0.18,"بدون انحنا=0",{"$f":"'طراحی همه الگوها'!B359","v":1},"انحنا پهلو برای آستین سرخود   ",9,0.02,10,0,-0.02,0.19999999999999998,0,9.9999999999999982,0.2,-1.3877787807814457E-15,0,9.9999999999999982,null,null,null,null,null,null,null,null,null,null,null,null,null,null,null,null,null,null,null,null,null,null,null,null,174.5]
["ضریب کوتاهی آستین سرخود   k9","(از 0.35 الی 2)",{"$f":"IF(E399<51,K399*E399+L399,20)","v":20},"لبه آستین روی خط آرنج=1",{"$f":"'طراحی همه الگوها'!B360","v":"منطبق"},"کوتاهی آستین سرخود   ",29,1.0409999999999999,30,1,-4.0999999999999925E-2,2.2299999999999978,0.35,45.853658536585392,2,5.6097560975609309,1,30,null,null,null,null,null,null,null,null,null,null,null,null,null,null,null,null,null,null,null,null,null,null,null,null,175]
["ضریب کوتاهی تاج آستین سرخود   k12","(از 0 الی 0.25)",0,"بدون کوتاهی=0",{"$f":"'طراحی همه الگوها'!B361","v":0},"کوتاهی تاج آستین سرخود   ",1,0.05,0,0,0.05,0,0,0,0.25,5,0,0,null,null,null,null,null,null,null,null,null,null,null,null,null,null,null,null,null,null,null,null,null,null,null,null,175.5]
["گشادی لبه آستین : در طراحی آستین سرخود",{"$f":"IF(محاسبات!O393<محاسبات!O392,\" \",\"مقدار x9 زیاد شود \")","v":" "},null,{"$f":"IF(محاسبات!O393<محاسبات!O392,\"صحیح \",\"خطا\")","v":"صحیح "},{"$f":"IF(محاسبات!O393<محاسبات!O392,\" صحیح\",\" گشاد تر شود \")","v":" صحیح"},"گشادی لبه آستین : در طراحی آستین سرخود",null,null,null,null,null,null,null,null,null,null,null,null,null,null,null,null,null,null,null,null,null,null,null,null,null,null,null,null,null,null,null,null,null,null,null,null,176]
[null,null,null,null,null,null,null,null,null,null,null,null,null,null,null,null,null,null,null,null,null,null,null,null,null,null,null,null,null,null,null,null,null,null,null,null,null,null,null,null,null,null,176.5]
[" متغیرهای ورودی-شورت بدون شیفت تکه پهلو",null,null,null,null," متغیرهای ورودی-شورت بدون شیفت تکه پهلو","x1","y1","x2","y2(بهینه)","a","b",null,"کمترین",null,"بیشترین",null,null,null,null,null,null,null,null,null,null,null,null,null,null,null,null,null,null,null,null,null,null,null,null,null,null,177]
["ضریب فاصله کمر شورت تا زمین s0","(از 2.2 الی 3.5)",{"$f":"IF(E404<101,K404*E404+L404,20)","v":2.75},"خط باسن=2 \nخط کمر=3 \nخط سینه=4  ",{"$f":"'طراحی همه الگوها'!B365","v":65},"ضریب فاصله کمر شورت تا زمین ",10,0,30,1,{"$f":"(J404-H404)/(I404-G404)","v":0.05},{"$f":"H404-G404*K404","v":-0.5},2.2000000000000002,{"$f":"(M404-L404)/K404","v":54},3.5,{"$f":"(O404-L404)/K404","v":80},0,{"$f":"(Q404-L404)/K404","v":10},null,null,null,null,null,null,null,null,null,null,null,null,null,null,null,null,null,null,null,null,null,null,null,null,177.5]
["میزان انحنا جلو شورت مردانه s9","(از 0 الی 0.6)",{"$f":"K405*E405+L405","v":0},"بدون انحنا (زنانه)=0 \nبهیه مردانه =0.4 ",{"$f":"'طراحی همه الگوها'!B366","v":0},"میزان انحنا جلو شورت مردانه ",1,0.05,0,0,{"$f":"(J405-H405)/(I405-G405)","v":0.05},{"$f":"H405-G405*K405","v":0},0,{"$f":"(M405-L405)/K405","v":0},0.6,{"$f":"(O405-L405)/K405","v":11.999999999999998},0.4,{"$f":"(Q405-L405)/K405","v":8},null,null,null,null,null,null,null,null,null,null,null,null,null,null,null,null,null,null,null,null,null,null,null,null,178]
["ضریب حرکت افقی مرغک","(از -1 الی 3)",{"$f":"K406*E406+L406","v":0.5},"خط مرکزی جلو=0 \nخط پهلو=1  ",{"$f":"'طراحی همه الگوها'!B367","v":10},"ضریب شیفت افقی مرغک",20,1,0,0,{"$f":"(J406-H406)/(I406-G406)","v":0.05},{"$f":"H406-G406*K406","v":0},-1,{"$f":"(M406-L406)/K406","v":-20},3,{"$f":"(O406-L406)/K406","v":60},0,{"$f":"(Q406-L406)/K406","v":0},null,null,null,null,null,null,null,null,null,null,null,null,null,null,null,null,null,null,null,null,null,null,null,null,178.5]
["ضریب حرکت عمودی مرغک","(از -3 الی 3)",{"$f":"K407*E407+L407","v":-1},null,{"$f":"'طراحی همه الگوها'!B368","v":-10},"ضریب شیفت عمودی مرغک",1,0.1,0,0,{"$f":"(J407-H407)/(I407-G407)","v":0.1},{"$f":"H407-G407*K407","v":0},-3,{"$f":"(M407-L407)/K407","v":-30},3,{"$f":"(O407-L407)/K407","v":30},0.3,{"$f":"(Q407-L407)/K407","v":2.9999999999999996},null,null,null,null,null,null,null,null,null,null,null,null,null,null,null,null,null,null,null,null,null,null,null,null,179]
[null,null,null,null,null,null,null,null,null,null,null,null,null,null,null,null,null,null,null,null,null,null,null,null,null,null,null,null,null,null,null,null,null,null,null,null,null,null,null,null,null,null,179.5]
[" متغیرهای ورودی - مایو پادار",null,null,null,null," متغیرهای ورودی - مایو پادار","x1","y1","x2","y2(بهینه)","a","b",null,"کمترین",null,"بیشترین",null,null,null,null,null,null,null,null,null,null,null,null,null,null,null,null,null,null,null,null,null,null,null,null,null,null,180]
["ضریب گشادی دور مچ پا    p1  ","(از 1 الی 2.5)",{"$f":"IF(E410<51,K410*E410+L410,20)","v":20},"بهینه=1.7",{"$f":"'طراحی همه الگوها'!B371","v":"منطبق"},"ضریب گشادی دور مچ پا      ",1,1.05,0,1,{"$f":"(J410-H410)/(I410-G410)","v":5.0000000000000044E-2},{"$f":"H410-G410*K410","v":1},1,{"$f":"(M410-L410)/K410","v":0},2.5,{"$f":"(O410-L410)/K410","v":29.999999999999975},1.7,{"$f":"(Q410-L410)/K410","v":13.999999999999988},null,null,null,null,null,null,null,null,null,null,null,null,null,null,null,null,null,null,null,null,null,null,null,null,180.5]
["ضریب ارتفاع راسته بودن پایین پاچه   p2 ","(از 0 الی 0.5)",{"$f":"K411*E411+L411","v":0.2},"بهینه=0.2",{"$f":"'طراحی همه الگوها'!B372","v":10},"ضریب ارتفاع راسته بودن پایین پاچه    ",1,0.02,0,0,0.02,0,0,0,0.5,25,0.2,{"$f":"(Q411-L411)/K411","v":10},null,null,null,null,null,null,null,null,null,null,null,null,null,null,null,null,null,null,null,null,null,null,null,null,181]
["ضریب عرض جادکمه وسط پا  p20","(از 0 الی 0.1)",1.4999999999999999E-2,"بهینه=0.015",{"$f":"'طراحی همه الگوها'!B373","v":3},"ضریب عرض جادکمه وسط پا  ",1,5.0000000000000001E-3,0,0,5.0000000000000001E-3,0,0,0,0.1,20,1.4999999999999999E-2,{"$f":"(Q412-L412)/K412","v":3},null,null,null,null,null,null,null,null,null,null,null,null,null,null,null,null,null,null,null,null,null,null,null,null,181.5]
["زاویه خط پهلو شلوار  برحسب درجه   p23","(از -5 الی 10)",2,"بهینه=3",{"$f":"'طراحی همه الگوها'!B374","v":2},"زاویه خط پهلو شلوار    ",1,1,0,0,1,0,-5,-5,10,10,3,{"$f":"(Q413-L413)/K413","v":3},null,null,null,null,null,null,null,null,null,null,null,null,null,null,null,null,null,null,null,null,null,null,null,null,182]
["ضریب افقی شیفت تکه وسط پا  ","(از -100 الی100)",2,"بدون شیفت=0 ",{"$f":"'طراحی همه الگوها'!B375","v":2},"ضریب شیفت افقی تکه وسط پا  ",1,1,0,0,1,0,-100,-100,100,100,null,null,null,null,null,null,null,null,null,null,null,null,null,null,null,null,null,null,null,null,null,null,null,null,null,null,{"$f":"AQ413+0.5","v":182.5}]
["ضریب عمودی شیفت تکه وسط پا","(از -100 الی100)",0,"بدون شیفت=0 ",{"$f":"'طراحی همه الگوها'!B376","v":0},"ضریب شیفت عمودی تکه وسط پا",1,1,0,0,1,0,-100,-100,100,100,null,null,null,null,null,null,null,null,null,null,null,null,null,null,null,null,null,null,null,null,null,null,null,null,null,null,183]
[null,null,null,null,null,null,null,null,null,null,null,null,null,null,null,null,null,null,null,null,null,null,null,null,null,null,null,null,null,null,null,null,null,null,null,null,null,null,null,null,null,null,183.5]
[" متغیرهای ورودی-مایو بدون شیفت تکه پهلو      باید  x5=1",null,null,null,null," متغیرهای ورودی-مایو بدون شیفت تکه پهلو      باید  شروع اوزمان = خط باسن","x1","y1","x2","y2(بهینه)","a","b",null,"کمترین",null,"بیشترین",null,null,null,null,null,null,null,null,null,null,null,null,null,null,null,null,null,null,null,null,null,null,null,null,null,null,184]
[" ضریب بالا آمدن خط مایو در پهلو   mx","(از 0 الی 0.7)",{"$f":"K418*E418+L418","v":0},"بهینه مایو=0.3\nبهینه شورت زنانه=0.2\nبهینه شورت مردانه=0.2\nبهینه زیردکمه دار بچه=0",{"$f":"'طراحی همه الگوها'!B379","v":0}," ضریب بالا آمدن خط مایو در پهلو   ",1,0.02,0,0,{"$f":"(J418-H418)/(I418-G418)","v":0.02},{"$f":"H418-G418*K418","v":0},0,{"$f":"(M418-L418)/K418","v":0},0.7,{"$f":"(O418-L418)/K418","v":35},0.3,{"$f":"(Q418-L418)/K418","v":15},null,null,null,null,null,null,null,null,null,null,null,null,null,null,null,null,null,null,null,null,null,null,null,null,184.5]
["انتخاب مایو دکمه دار از وسط پا=1            انتخاب مایو بدون دکمه=0","0 یا 1 ",{"$f":"K419*E419+L419","v":1},null,{"$f":"'طراحی همه الگوها'!B380","v":2},"انتخاب مایو دکمه دار از وسط پا=2            انتخاب مایو بدون دکمه=1",1,0,2,1,{"$f":"(J419-H419)/(I419-G419)","v":1},{"$f":"H419-G419*K419","v":-1},0,{"$f":"(M419-L419)/K419","v":1},1,{"$f":"(O419-L419)/K419","v":2},0,{"$f":"(Q419-L419)/K419","v":1},null,null,null,null,null,null,null,null,null,null,null,null,null,null,null,null,null,null,null,null,null,null,null,null,185]
["شیفت محل دکمه از پشت به جلو برای پوشک بچه در انتخاب مایو دکمه دار  (cm)","(از 0 الی 4)",{"$f":"K420*E420+L420","v":2},"بهینه=2",{"$f":"'طراحی همه الگوها'!B381","v":2},"شیفت محل دکمه از پشت به جلو برای پوشک بچه در انتخاب مایو دکمه دار  ",0.5,0.5,0,0,{"$f":"(J420-H420)/(I420-G420)","v":1},{"$f":"H420-G420*K420","v":0},0,{"$f":"(M420-L420)/K420","v":0},4,{"$f":"(O420-L420)/K420","v":4},2,{"$f":"(Q420-L420)/K420","v":2},null,null,null,null,null,null,null,null,null,null,null,null,null,null,null,null,null,null,null,null,null,null,null,null,185.5]
["اضافه پهنا وسط پا برای پوشک بچه در انتخاب مایو دکمه دار  (cm)","(از0 الی 4)",{"$f":"K421*E421+L421","v":1},"بهینه=1.5",{"$f":"'طراحی همه الگوها'!B382","v":1},"اضافه پهنا وسط پا برای پوشک بچه در انتخاب مایو دکمه دار  ",0.5,0.5,0,0,{"$f":"(J421-H421)/(I421-G421)","v":1},{"$f":"H421-G421*K421","v":0},0,{"$f":"(M421-L421)/K421","v":0},4,{"$f":"(O421-L421)/K421","v":4},1.5,{"$f":"(Q421-L421)/K421","v":1.5},null,null,null,null,null,null,null,null,null,null,null,null,null,null,null,null,null,null,null,null,null,null,null,null,186]
["اضافه جادکمه وسط پا در انتخاب مایو دکمه دار  (cm)","(از 0 الی 4)",{"$f":"K422*E422+L422","v":1.5},"بهینه=2",{"$f":"'طراحی همه الگوها'!B383","v":1.5},"اضافه جادکمه وسط پا در انتخاب مایو دکمه دار  ",0.5,0.5,0,0,{"$f":"(J422-H422)/(I422-G422)","v":1},{"$f":"H422-G422*K422","v":0},0,{"$f":"(M422-L422)/K422","v":0},4,{"$f":"(O422-L422)/K422","v":4},2,{"$f":"(Q422-L422)/K422","v":2},null,null,null,null,null,null,null,null,null,null,null,null,null,null,null,null,null,null,null,null,null,null,null,null,186.5]
[null,null,null,null,null,null,null,null,null,null,null,null,null,null,null,null,null,null,null,null,null,null,null,null,null,null,null,null,null,null,null,null,null,null,null,null,null,null,null,null,null,null,187]
[" متغیر ورودی پیش بند حمام بچه یا انحنا لبه پیراهن",null,null,null,null," متغیر ورودی پیش بند حمام بچه یا انحنا لبه پیراهن","x1","y1","x2","y2(بهینه)","a","b",null,"کمترین",null,"بیشترین",null,null,null,null,null,null,null,null,null,null,null,null,null,null,null,null,null,null,null,null,null,null,null,null,null,null,187.5]
["ضریب بزرگی کلاه بچه   n10","(از 0.8 الی 1.3)",{"$f":"K425*E425+L425","v":1},"بهینه برای نوزاد=1\nبهینه یک ساله=1.2",{"$f":"'طراحی همه الگوها'!B386","v":20},"ضریب بزرگی کلاه بچه   ",19,0.95,20,1,{"$f":"(J425-H425)/(I425-G425)","v":5.0000000000000044E-2},{"$f":"H425-G425*K425","v":-8.8817841970012523E-16},0.8,{"$f":"(M425-L425)/K425","v":16.000000000000004},1.3,{"$f":"(O425-L425)/K425","v":25.999999999999996},1,{"$f":"(Q425-L425)/K425","v":20},null,null,null,null,null,null,null,null,null,null,null,null,null,null,null,null,null,null,null,null,null,null,null,null,188]
["ضریب انحنا بالای لبه پیراهن  n11","(از 0.1 الی 0.9)",{"$f":"K426*E426+L426","v":0.4},"بهینه=0.4",{"$f":"'طراحی همه الگوها'!B387","v":20},"ضریب انحنا بالای لبه پیراهن  ",19,0.35,20,0.4,{"$f":"(J426-H426)/(I426-G426)","v":5.0000000000000044E-2},{"$f":"H426-G426*K426","v":-0.60000000000000087},0.1,{"$f":"(M426-L426)/K426","v":14.000000000000004},0.9,{"$f":"(O426-L426)/K426","v":29.999999999999993},0.4,{"$f":"(Q426-L426)/K426","v":20},null,null,null,null,null,null,null,null,null,null,null,null,null,null,null,null,null,null,null,null,null,null,null,null,188.5]
["ضریب انحنا پایین لبه پیراهن  n12","(از 0.3 الی 0.9)",{"$f":"K427*E427+L427","v":0.6},"بهینه=0.6",{"$f":"'طراحی همه الگوها'!B388","v":20},"ضریب انحنا پایین لبه پیراهن  ",19,0.55000000000000004,20,0.6,{"$f":"(J427-H427)/(I427-G427)","v":4.9999999999999933E-2},{"$f":"H427-G427*K427","v":-0.39999999999999869},0.3,{"$f":"(M427-L427)/K427","v":13.999999999999991},0.9,{"$f":"(O427-L427)/K427","v":26.000000000000011},0.6,{"$f":"(Q427-L427)/K427","v":20},null,null,null,null,null,null,null,null,null,null,null,null,null,null,null,null,null,null,null,null,null,null,null,null,189]
[null,null,null,null,null,null,null,null,null,null,null,null,null,null,null,null,null,null,null,null,null,null,null,null,null,null,null,null,null,null,null,null,null,null,null,null,null,null,null,null,null,null,189.5]
[" متغیرهای ورودی- جلو پیش سینه رکابی بدون شیفت تکه پهلو",null,null,null,null," متغیرهای ورودی- جلو پیش سینه رکابی بدون شیفت تکه پهلو","x1","y1","x2","y2(بهینه)","a","b",null,"کمترین",null,"بیشترین",null,null,null,null,null,null,null,null,null,null,null,null,null,null,null,null,null,null,null,null,null,null,null,null,null,null,190]
["ضریب پایین آمدن پیش سینه از خط سرشانه      γ0","(از 0.2 الی 0.8)",{"$f":"K430*E430+L430","v":0.35999999999999993},null,{"$f":"'طراحی همه الگوها'!B391","v":21},"بالا یا پایین رفتن بند پیش سینه جلو",19,0.34,20,0.35,{"$f":"(J430-H430)/(I430-G430)","v":9.9999999999999534E-3},{"$f":"H430-G430*K430","v":0.15000000000000091},0.8,{"$f":"(M430-L430)/K430","v":65.000000000000213},1.3,{"$f":"(O430-L430)/K430","v":115.00000000000044},1,{"$f":"(Q430-L430)/K430","v":85.000000000000298},null,null,null,null,null,null,null,null,null,null,null,null,null,null,null,null,null,null,null,null,null,null,null,null,190.5]
["پهنای بند جلو      γ1","(از 1 الی 9)",{"$f":"K431*E431+L431","v":10},null,{"$f":"'طراحی همه الگوها'!B392","v":10},"پهنای بند جلو      γ1",1,1,0,0,{"$f":"(J431-H431)/(I431-G431)","v":1},{"$f":"H431-G431*K431","v":0},0.1,{"$f":"(M431-L431)/K431","v":0.1},0.9,{"$f":"(O431-L431)/K431","v":0.9},0.4,{"$f":"(Q431-L431)/K431","v":0.4},null,null,null,null,null,null,null,null,null,null,null,null,null,null,null,null,null,null,null,null,null,null,null,null,191]
["ضریب کوچک شدن ارتفاع یقه      γ2","(از 0 الی 1.5)",{"$f":"K432*E432+L432","v":0.84999999999999953},"صاف=0",{"$f":"'طراحی همه الگوها'!B393","v":25},"گودی بین دو بند در جلو سینه",19,0.55000000000000004,20,0.6,{"$f":"(J432-H432)/(I432-G432)","v":4.9999999999999933E-2},{"$f":"H432-G432*K432","v":-0.39999999999999869},0.3,{"$f":"(M432-L432)/K432","v":13.999999999999991},0.9,{"$f":"(O432-L432)/K432","v":26.000000000000011},0.6,{"$f":"(Q432-L432)/K432","v":20},null,null,null,null,null,null,null,null,null,null,null,null,null,null,null,null,null,null,null,null,null,null,null,null,191.5]
["ضریب بزرگ شدن پهنای یقه      γ3","(از 0.5 الی 2.5)",{"$f":"K433*E433+L433","v":1.4},null,{"$f":"'طراحی همه الگوها'!B394","v":20},"فاصله بند تا خط مرکزی جلو",19,1.35,20,1.4,{"$f":"(J433-H433)/(I433-G433)","v":4.9999999999999822E-2},{"$f":"H433-G433*K433","v":0.40000000000000346},0.8,{"$f":"(M433-L433)/K433","v":7.99999999999996},1.3,{"$f":"(O433-L433)/K433","v":17.999999999999996},1,{"$f":"(Q433-L433)/K433","v":11.999999999999973},null,null,null,null,null,null,null,null,null,null,null,null,null,null,null,null,null,null,null,null,null,null,null,null,192]
["انتخاب خط راست پهلو جلو=1        انتخاب دیگر=0","0 یا 1 ",{"$f":"K434*E434+L434","v":0},null,{"$f":"'طراحی همه الگوها'!B395","v":1},"انتخاب خط راست پهلو جلو=2        انتخاب دیگر=1",1,0,2,1,{"$f":"(J434-H434)/(I434-G434)","v":1},{"$f":"H434-G434*K434","v":-1},0.1,{"$f":"(M434-L434)/K434","v":1.1000000000000001},0.9,{"$f":"(O434-L434)/K434","v":1.9},0.4,{"$f":"(Q434-L434)/K434","v":1.4},null,null,null,null,null,null,null,null,null,null,null,null,null,null,null,null,null,null,null,null,null,null,null,null,192.5]
[null,null,null,null,null,null,null,null,null,null,null,null,null,null,null,null,null,null,null,null,null,null,null,null,null,null,null,null,null,null,null,null,null,null,null,null,null,null,null,null,null,null,193]
[" متغیرهای ورودی-مکان بندینک در پیش سینه یا پیش بند",null,null,null,null," متغیرهای ورودی-مکان بندینک در پیش سینه یا پیش بند","x1","y1","x2","y2(بهینه)","a","b",null,"کمترین",null,"بیشترین",null,null,null,null,null,null,null,null,null,null,null,null,null,null,null,null,null,null,null,null,null,null,null,null,null,null,193.5]
["ضریب فاصله افقی نقطه پایین بندینک از خط مرکزی جلو ","(از 0 الی 2)",{"$f":"K437*E437+L437","v":1.1000000000000001},"خط مرکزی جلو=0 \nخط پهلو=1  ",{"$f":"'طراحی همه الگوها'!B398","v":22},"شیفت افقی بند جدا",20,1,0,0,{"$f":"(J437-H437)/(I437-G437)","v":0.05},{"$f":"H437-G437*K437","v":0},0.8,{"$f":"(M437-L437)/K437","v":16},1.3,{"$f":"(O437-L437)/K437","v":26},1,{"$f":"(Q437-L437)/K437","v":20},null,null,null,null,null,null,null,null,null,null,null,null,null,null,null,null,null,null,null,null,null,null,null,null,194]
["ضریب فاصله عمودی نقطه پایین بندینک از زمین ","(از0 الی 5)",{"$f":"K438*E438+L438","v":2.0500000000000003},"خط زمین=0 \nخط زانو=1 \nخط باسن=2 \nخط کمر=3 \nخط سینه=4  ",{"$f":"'طراحی همه الگوها'!B399","v":51},"شیفت عمودی بند جدا",10,0,30,1,{"$f":"(J438-H438)/(I438-G438)","v":0.05},{"$f":"H438-G438*K438","v":-0.5},0.1,{"$f":"(M438-L438)/K438","v":11.999999999999998},0.9,{"$f":"(O438-L438)/K438","v":27.999999999999996},0.4,{"$f":"(Q438-L438)/K438","v":18},null,null,null,null,null,null,null,null,null,null,null,null,null,null,null,null,null,null,null,null,null,null,null,null,194.5]
[null,null,null,null,null,null,null,null,null,null,null,null,null,null,null,null,null,null,null,null,null,null,null,null,null,null,null,null,null,null,null,null,null,null,null,null,null,null,null,null,null,null,195]
[" متغیرهای ورودی- پشت پیش سینه رکابی بدون شیفت تکه پهلو",null,null,null,null," متغیرهای ورودی- پشت پیش سینه رکابی بدون شیفت تکه پهلو","x1","y1","x2","y2(بهینه)","a","b",null,"کمترین",null,"بیشترین",null,null,null,null,null,null,null,null,null,null,null,null,null,null,null,null,null,null,null,null,null,null,null,null,null,null,195.5]
["ضریب پایین آمدن پیش سینه از خط سرشانه      γ0","(از 0.2 الی 0.8)",{"$f":"K441*E441+L441","v":0.1999999999999999},null,{"$f":"'طراحی همه الگوها'!B402","v":10},"بالا یا پایین رفتن بند پیش سینه پشت",19,0.28999999999999998,20,0.3,{"$f":"(J441-H441)/(I441-G441)","v":1.0000000000000009E-2},{"$f":"H441-G441*K441","v":9.9999999999999811E-2},0.8,{"$f":"(M441-L441)/K441","v":69.999999999999957},1.3,{"$f":"(O441-L441)/K441","v":119.99999999999991},1,{"$f":"(Q441-L441)/K441","v":89.999999999999929},null,null,null,null,null,null,null,null,null,null,null,null,null,null,null,null,null,null,null,null,null,null,null,null,196]
["پهنای بند پشت      γ1","(از 1 الی 9)",{"$f":"K442*E442+L442","v":4},null,{"$f":"'طراحی همه الگوها'!B403","v":4},"پهنای بند پشت      γ1",1,1,0,0,{"$f":"(J442-H442)/(I442-G442)","v":1},{"$f":"H442-G442*K442","v":0},0.1,{"$f":"(M442-L442)/K442","v":0.1},0.9,{"$f":"(O442-L442)/K442","v":0.9},0.4,{"$f":"(Q442-L442)/K442","v":0.4},null,null,null,null,null,null,null,null,null,null,null,null,null,null,null,null,null,null,null,null,null,null,null,null,196.5]
["ضریب کوچک شدن ارتفاع یقه      γ2","(از 0 الی 3)",{"$f":"K443*E443+L443","v":1.1000000000000001},"صاف=0",{"$f":"'طراحی همه الگوها'!B404","v":25},"گودی بین دو بند در پشت سینه",19,0.5,20,0.6,{"$f":"(J443-H443)/(I443-G443)","v":9.9999999999999978E-2},{"$f":"H443-G443*K443","v":-1.3999999999999995},0.3,{"$f":"(M443-L443)/K443","v":17},0.9,{"$f":"(O443-L443)/K443","v":23},0.6,{"$f":"(Q443-L443)/K443","v":20},null,null,null,null,null,null,null,null,null,null,null,null,null,null,null,null,null,null,null,null,null,null,null,null,197]
["ضریب بزرگ شدن پهنای یقه      γ3","(از 0.5 الی 2.5)",{"$f":"K444*E444+L444","v":1.2},null,{"$f":"'طراحی همه الگوها'!B405","v":20},"فاصله بند تا خط مرکزی پشت",19,1.1000000000000001,20,1.2,{"$f":"(J444-H444)/(I444-G444)","v":9.9999999999999867E-2},{"$f":"H444-G444*K444","v":-0.79999999999999738},0.8,{"$f":"(M444-L444)/K444","v":15.999999999999995},1.3,{"$f":"(O444-L444)/K444","v":21.000000000000004},1,{"$f":"(Q444-L444)/K444","v":17.999999999999996},null,null,null,null,null,null,null,null,null,null,null,null,null,null,null,null,null,null,null,null,null,null,null,null,197.5]
["انتخاب خط راست پهلو پشت=1        انتخاب دیگر=0","0 یا 1 ",{"$f":"K445*E445+L445","v":0},null,{"$f":"'طراحی همه الگوها'!B406","v":1},"انتخاب خط راست پهلو پشت=2        انتخاب دیگر=1",1,0,2,1,{"$f":"(J445-H445)/(I445-G445)","v":1},{"$f":"H445-G445*K445","v":-1},0.1,{"$f":"(M445-L445)/K445","v":1.1000000000000001},0.9,{"$f":"(O445-L445)/K445","v":1.9},0.4,{"$f":"(Q445-L445)/K445","v":1.4},null,null,null,null,null,null,null,null,null,null,null,null,null,null,null,null,null,null,null,null,null,null,null,null,198]
[null,null,null,null,null,null,null,null,null,null,null,null,null,null,null,null,null,null,null,null,null,null,null,null,null,null,null,null,null,null,null,null,null,null,null,null,null,null,null,null,null,null,198.5]
[" متغیرهای ورودی-طراحی یقه دلبری",null,null,null,null," متغیرهای ورودی-طراحی یقه دلبری","x1","y1","x2","y2(بهینه)","a","b",null,"کمترین",null,"بیشترین",null,null,null,null,null,null,null,null,null,null,null,null,null,null,null,null,null,null,null,null,null,null,null,null,null,null,199]
["γ1         باز شدن یقه نسبت به وسط گردن       ","(از 0.3 الی 1.5)",{"$f":"K448*E448+L448","v":0.99999999999999978},"بهینه=1",{"$f":"'طراحی همه الگوها'!E313","v":14}," باز شدن یقه نسبت به وسط گردن       ",1,0.35,0,0.3,{"$f":"(J448-H448)/(I448-G448)","v":4.9999999999999989E-2},{"$f":"H448-G448*K448","v":0.3},0.3,{"$f":"(M448-L448)/K448","v":0},1.5,{"$f":"(O448-L448)/K448","v":24.000000000000004},1,{"$f":"(Q448-L448)/K448","v":14.000000000000002},null,null,null,null,null,null,null,null,null,null,null,null,null,null,null,null,null,null,null,null,null,null,null,null,199.5]
["γ2       فاصله عمودی نقطه شکست یقه دلبری   ","(از 0.1 الی 0.9)",{"$f":"K449*E449+L449","v":0.5},"بهینه=0.5",{"$f":"'طراحی همه الگوها'!E314","v":20},"  فاصله عمودی نقطه شکست یقه دلبری   ",19,0.45,20,0.5,{"$f":"(J449-H449)/(I449-G449)","v":4.9999999999999989E-2},{"$f":"H449-G449*K449","v":-0.49999999999999972},0.1,{"$f":"(M449-L449)/K449","v":11.999999999999998},0.9,{"$f":"(O449-L449)/K449","v":28},0.4,{"$f":"(Q449-L449)/K449","v":17.999999999999996},null,null,null,null,null,null,null,null,null,null,null,null,null,null,null,null,null,null,null,null,null,null,null,null,200]
["γ3        فاصله افقی نقطه شکست یقه دلبری","(از 0.3 الی 2)",{"$f":"K450*E450+L450","v":1},"بهینه=1",{"$f":"'طراحی همه الگوها'!E315","v":20}," فاصله افقی نقطه شکست یقه دلبری",19,0.95,20,1,{"$f":"(J450-H450)/(I450-G450)","v":5.0000000000000044E-2},{"$f":"H450-G450*K450","v":-8.8817841970012523E-16},0.3,{"$f":"(M450-L450)/K450","v":6.0000000000000124},0.9,{"$f":"(O450-L450)/K450","v":18.000000000000004},0.6,{"$f":"(Q450-L450)/K450","v":12.000000000000007},null,null,null,null,null,null,null,null,null,null,null,null,null,null,null,null,null,null,null,null,null,null,null,null,200.5]
[null,null,null,null,null,null,null,null,null,null,null,null,null,null,null,null,null,null,null,null,null,null,null,null,null,null,null,null,null,null,null,null,null,null,null,null,null,null,null,null,null,null,201]
[" متغیرهای ورودی - یقه پشت گردنی بدون شیفت تکه پهلو - روی حلقه آستین با ساسون",null,null,null,null," متغیرهای ورودی - یقه پشت گردنی بدون شیفت تکه پهلو - روی حلقه آستین با ساسون","x1","y1","x2","y2(بهینه)","a","b",null,"کمترین",null,"بیشترین",null,null,null,null,null,null,null,null,null,null,null,null,null,null,null,null,null,null,null,null,null,null,null,null,null,null,201.5]
["ضریب طول یقه پشت گردن  d0","(از 0.5 الی 1.3)",{"$f":"K453*E453+L453","v":0.9},"بهینه=0.9",{"$f":"'طراحی همه الگوها'!E319","v":20}," طول یقه پشت گردن  ",19,0.85,20,0.9,{"$f":"(J453-H453)/(I453-G453)","v":5.0000000000000044E-2},{"$f":"H453-G453*K453","v":-0.10000000000000087},0.5,{"$f":"(M453-L453)/K453","v":12.000000000000007},1.3,{"$f":"(O453-L453)/K453","v":27.999999999999993},0.9,{"$f":"(Q453-L453)/K453","v":20},null,null,null,null,null,null,null,null,null,null,null,null,null,null,null,null,null,null,null,null,null,null,null,null,202]
["ضریب پهنای یقه پشت گردن  d1","(از 0 الی 3)",{"$f":"K454*E454+L454","v":1.5},"بهینه=1.5",{"$f":"'طراحی همه الگوها'!E318","v":20}," پهنای یقه پشت گردن  ",0,0,20,1.5,{"$f":"(J454-H454)/(I454-G454)","v":7.4999999999999997E-2},{"$f":"H454-G454*K454","v":0},0,{"$f":"(M454-L454)/K454","v":0},3,{"$f":"(O454-L454)/K454","v":40},1.5,{"$f":"(Q454-L454)/K454","v":20},null,null,null,null,null,null,null,null,null,null,null,null,null,null,null,null,null,null,null,null,null,null,null,null,202.5]
["ضریب افقی انحنا یقه جلو   d2    ","(از 0 الی 1.5)",{"$f":"K455*E455+L455","v":0.9},"بهینه=0.9",{"$f":"'طراحی همه الگوها'!E320","v":20},"  انحنا افقی یقه جلو       ",19,0.85,20,0.9,{"$f":"(J455-H455)/(I455-G455)","v":5.0000000000000044E-2},{"$f":"H455-G455*K455","v":-0.10000000000000087},0,{"$f":"(M455-L455)/K455","v":2.0000000000000155},1.5,{"$f":"(O455-L455)/K455","v":31.999999999999993},0.9,{"$f":"(Q455-L455)/K455","v":20},null,null,null,null,null,null,null,null,null,null,null,null,null,null,null,null,null,null,null,null,null,null,null,null,203]
["ضریب عمودی انحنا یقه جلو     d3","(از 0 الی 1)",{"$f":"K456*E456+L456","v":0.5},"بهینه=0.5",{"$f":"'طراحی همه الگوها'!E321","v":20}," انحنا عمودی یقه جلو    ",19,0.55000000000000004,20,0.5,{"$f":"(J456-H456)/(I456-G456)","v":-5.0000000000000044E-2},{"$f":"H456-G456*K456","v":1.5000000000000009},0,{"$f":"(M456-L456)/K456","v":29.999999999999993},1,{"$f":"(O456-L456)/K456","v":10.000000000000009},0.5,{"$f":"(Q456-L456)/K456","v":20},null,null,null,null,null,null,null,null,null,null,null,null,null,null,null,null,null,null,null,null,null,null,null,null,203.5]
[null,null,null,null,null,null,null,null,null,null,null,null,null,null,null,null,null,null,null,null,null,null,null,null,null,null,null,null,null,null,null,null,null,null,null,null,null,null,null,null,null,null,204]
[" متغیرهای ورودی - سوتین کلی",null,null,null,null," متغیرهای ورودی - سوتین کلی","x1","y1","x2","y2(بهینه)","a","b",null,"کمترین",null,"بیشترین",null,null,null,null,null,null,null,null,null,null,null,null,null,null,null,null,null,null,null,null,null,null,null,null,null,null,204.5]
["ضریب ساسون وسط سینه    b1  ","(از -1 الی 2)",{"$f":"K459*E459+L459","v":-0.29999999999999982},"بهینه= - 0.3",{"$f":"'طراحی همه الگوها'!B409","v":20},"ضریب ساسون وسط سینه      ",19,-0.4,20,-0.3,{"$f":"(J459-H459)/(I459-G459)","v":0.10000000000000003},{"$f":"H459-G459*K459","v":-2.3000000000000007},0,{"$f":"(M459-L459)/K459","v":23},0.7,{"$f":"(O459-L459)/K459","v":30},1,{"$f":"(Q459-L459)/K459","v":32.999999999999993},null,null,null,null,null,null,null,null,null,null,null,null,null,null,null,null,null,null,null,null,null,null,null,null,205]
["ضریب پایین آمدن از خط پهلو   b2 ","(از 0 الی 0.5)",0.25,"زیر بغل منطبق با بالاتنه=0 \nخط کمر=1  \nبهینه = 0.25",{"$f":"'طراحی همه الگوها'!B410","v":20},"ضریب پایین آمدن از خط پهلو    ",19,0.2,20,0.25,4.9999999999999989E-2,-0.74999999999999978,0,14.999999999999998,1,35,0.4,23.000000000000004,null,null,null,null,null,null,null,null,null,null,null,null,null,null,null,null,null,null,null,null,null,null,null,null,205.5]
["ضریب بزرگ شدن کاسه در خط مرکزی جلو    b3  ","(از0.5 الی 1.5)",0.9,"بهینه= 0.9",{"$f":"'طراحی همه الگوها'!B411","v":20},"ضریب بزرگ شدن کاسه در خط مرکزی جلو      ",19,0.88,20,0.9,2.0000000000000018E-2,0.49999999999999967,0,-24.999999999999961,4,174.99999999999986,0.6,5.0000000000000107,null,null,null,null,null,null,null,null,null,null,null,null,null,null,null,null,null,null,null,null,null,null,null,null,206]
["ضریب بزرگ شدن کاسه زیر نوک سینه   b4 ","(از0.4 الی 1.3)",0.6,"بهینه= 0.6",{"$f":"'طراحی همه الگوها'!B412","v":20},"ضریب بزرگ شدن کاسه زیر نوک سینه    ",19,0.57999999999999996,20,0.6,2.0000000000000018E-2,0.19999999999999962,0,-9.9999999999999716,4,189.99999999999986,1,39.999999999999986,null,null,null,null,null,null,null,null,null,null,null,null,null,null,null,null,null,null,null,null,null,null,null,null,206.5]
["ضریب بزرگ شدن کاسه در پهلو    b5  ","(از0.7 الی 1.7)",1.1000000000000001,"بهینه= 1.1",{"$f":"'طراحی همه الگوها'!B413","v":20},"ضریب بزرگ شدن کاسه در پهلو      ",19,1.08,20,1.1000000000000001,2.0000000000000018E-2,0.69999999999999973,0,-34.999999999999957,0.7,1.1102230246251556E-14,0.4,-14.999999999999972,null,null,null,null,null,null,null,null,null,null,null,null,null,null,null,null,null,null,null,null,null,null,null,null,207]
["ضریب بالا یا پایین آمدن یقه روی خط مرکزی جلو   b6 ","(از -0.7 الی 0.5)",0,"بالای خط سینه =+ \nروی خط سینه =0 \nپایین خط سینه= - ",{"$f":"'طراحی همه الگوها'!B414","v":20},"ضریب بالا یا پایین آمدن یقه روی خط مرکزی جلو    ",19,-0.05,20,0,0.05,-1,0,20,1,40,1,40,null,null,null,null,null,null,null,null,null,null,null,null,null,null,null,null,null,null,null,null,null,null,null,null,207.5]
["ضریب عمودی نقطه اتصال بند جلو    b7  ","(از 0.1 الی 1)",0.25,"بهینه=0.25",{"$f":"'طراحی همه الگوها'!B415","v":20},"ضریب عمودی نقطه اتصال بند جلو      ",19,0.2,20,0.25,4.9999999999999989E-2,-0.74999999999999978,0,14.999999999999998,4,95.000000000000014,0.4,23.000000000000004,null,null,null,null,null,null,null,null,null,null,null,null,null,null,null,null,null,null,null,null,null,null,null,null,208]
["ضریب افقی نقطه اتصال بند جلو   b8 ","(از 0.5 الی 3)",1.4,"بهینه=1.4",{"$f":"'طراحی همه الگوها'!B416","v":20},"ضریب افقی نقطه اتصال بند جلو    ",19,1.3,20,1.4,9.9999999999999867E-2,-0.59999999999999742,0,5.9999999999999822,4,46.000000000000043,0.6,11.999999999999991,null,null,null,null,null,null,null,null,null,null,null,null,null,null,null,null,null,null,null,null,null,null,null,null,208.5]
["میزان انحنا یقه جلو  b9 ","(از -0.5 الی 0.5)",0,"خط محدب =+ \nخط صاف =0 \nخط مقعر= - ",{"$f":"'طراحی همه الگوها'!B417","v":20},"میزان انحنا یقه جلو   ",19,-0.05,20,0,0.05,-1,0,20,0.7,34,1,40,null,null,null,null,null,null,null,null,null,null,null,null,null,null,null,null,null,null,null,null,null,null,null,null,209]
["ضریب گودی خطوط افقی کاسه    b10  ","(از 0 الی 0.5)",0.25,"بهینه=0.25",{"$f":"'طراحی همه الگوها'!B418","v":20},"ضریب گودی خطوط افقی کاسه      ",19,0.2,20,0.25,4.9999999999999989E-2,-0.74999999999999978,0,14.999999999999998,1,35,0.4,23.000000000000004,null,null,null,null,null,null,null,null,null,null,null,null,null,null,null,null,null,null,null,null,null,null,null,null,209.5]
["ضریب گودی خطوط عمودی کاسه   b11 ","(از 0 الی 0.5)",0.15000000000000002,"بهینه=0.15",{"$f":"'طراحی همه الگوها'!B419","v":20},"ضریب گودی خطوط عمودی کاسه    ",19,0.1,20,0.15,4.9999999999999989E-2,-0.84999999999999976,0,17,4,97.000000000000014,1,37,null,null,null,null,null,null,null,null,null,null,null,null,null,null,null,null,null,null,null,null,null,null,null,null,210]
["میزان انحنا یقه در پهلو   b12 ","(از -0.5 الی 0.5)",0,"خط محدب =+ \nخط صاف =0 \nخط مقعر= - ",{"$f":"'طراحی همه الگوها'!B420","v":20},"انحنا یقه در پهلو    ",19,-0.05,20,0,0.05,-1,0,20,4,100,0.4,27.999999999999996,null,null,null,null,null,null,null,null,null,null,null,null,null,null,null,null,null,null,null,null,null,null,null,null,210.5]
["ضریب افزایش یا کاهش ساسون زیر بغل    b15 ","(از -0.5 الی 2)",0,"اندامی=0",{"$f":"'طراحی همه الگوها'!B421","v":20},"ضریب افزایش یا کاهش ساسون زیر بغل     ",19,-0.1,20,0,{"$f":"(J471-H471)/(I471-G471)","v":0.1},{"$f":"H471-G471*K471","v":-2},0,20,4,60,0.6,26,null,null,null,null,null,null,null,null,null,null,null,null,null,null,null,null,null,null,null,null,null,null,null,null,211]
["ضریب افزایش یا کاهش طول عمودی کاسه    b17 ","(از 0.1 الی 2)",0.70000000000000018,"بهینه=0.7",{"$f":"'طراحی همه الگوها'!B422","v":20},"ضریب افزایش یا کاهش طول عمودی کاسه     ",19,0.6,20,0.7,9.9999999999999978E-2,-1.2999999999999994,0,12.999999999999996,4,53,1,23,null,null,null,null,null,null,null,null,null,null,null,null,null,null,null,null,null,null,null,null,null,null,null,null,211.5]
["ضریب افزایش یا کاهش طول افقی کاسه    b18 ","(از 0.1 الی 2)",0.5,"بهینه=0.5",{"$f":"'طراحی همه الگوها'!B423","v":20},"ضریب افزایش یا کاهش طول افقی کاسه     ",19,0.4,20,0.5,9.9999999999999978E-2,-1.4999999999999996,0,{"$f":"(M473-L473)/K473","v":14.999999999999998},4,{"$f":"(O473-L473)/K473","v":55.000000000000014},0.4,19,null,null,null,null,null,null,null,null,null,null,null,null,null,null,null,null,null,null,null,null,null,null,null,null,212]
["شیفت عمودی کاسه پایین به سانتیمتر   b13 ","(از -100 الی100)",0,"بدون شیفت=0",{"$f":"'طراحی همه الگوها'!B425","v":0},"شیفت عمودی کاسه پایین (سانتیمتر)    ",1,1,0,0,1,0,-100,{"$f":"(M474-L474)/K474","v":-100},100,{"$f":"(O474-L474)/K474","v":100},null,null,null,null,null,null,null,null,null,null,null,null,null,null,null,null,null,null,null,null,null,null,null,null,null,null,212.5]
["شیفت عمودی کاسه بالا به سانتیمتر   b14 ","(از -100 الی100)",0,"بدون شیفت=0",{"$f":"'طراحی همه الگوها'!B426","v":0},"شیفت عمودی کاسه بالا (سانتیمتر)    ",1,1,0,0,1,0,-100,{"$f":"(M475-L475)/K475","v":-100},100,{"$f":"(O475-L475)/K475","v":100},null,null,null,null,null,null,null,null,null,null,null,null,null,null,null,null,null,null,null,null,null,null,null,null,null,null,213]
["شیفت افقی کاسه پایین راست به سانتیمتر   b16 ","(از -100 الی100)",0,"بدون شیفت=0",{"$f":"'طراحی همه الگوها'!B424","v":0},"شیفت افقی کاسه پایین راست (سانتیمتر)    ",1,1,0,0,1,0,-100,{"$f":"(M476-L476)/K476","v":-100},100,{"$f":"(O476-L476)/K476","v":100},null,null,null,null,null,null,null,null,null,null,null,null,null,null,null,null,null,null,null,null,null,null,null,null,null,null,213.5]
[null,null,null,null,null,null,null,null,null,null,null,null,null,null,null,null,null,null,null,null,null,null,null,null,null,null,null,null,null,null,null,null,null,null,null,null,null,null,null,null,null,null,214]
[" متغیرهای ورودی -  اختصاصی سوتین 6 تکه",null,null,null,null," متغیرهای ورودی -  اختصاصی سوتین 6 تکه","x1","y1","x2","y2(بهینه)","a","b",null,"کمترین",null,"بیشترین",null,null,null,null,null,null,null,null,null,null,null,null,null,null,null,null,null,null,null,null,null,null,null,null,null,null,{"$f":"AQ477+0.5","v":214.5}]
["انتقال ساسون روی خط سینه به زیر سینه   d17 ","(از 0 الی 1)",{"$f":"K479*E479+L479","v":0.9},"بدون انتقال=0 \nانتقال کامل=1  ",{"$f":"'طراحی همه الگوها'!B429","v":9},"انتقال ساسون روی خط سینه به زیر سینه    ",1,0.1,0,0,{"$f":"(J479-H479)/(I479-G479)","v":0.1},{"$f":"H479-G479*K479","v":0},0,{"$f":"(M479-L479)/K479","v":0},1,{"$f":"(O479-L479)/K479","v":10},0.9,{"$f":"(Q479-L479)/K479","v":9},null,null,null,null,null,null,null,null,null,null,null,null,null,null,null,null,null,null,null,null,null,null,null,null,215]
["ضریب چرخش تکه پهلو به درجه    d2 ","(از0 الی 100)",20,"بهینه= 20",{"$f":"'طراحی همه الگوها'!B430","v":20},"چرخش تکه پهلو     ",19,19,20,20,{"$f":"(J480-H480)/(I480-G480)","v":1},{"$f":"H480-G480*K480","v":0},0,0,1,1,0.4,0.4,null,null,null,null,null,null,null,null,null,null,null,null,null,null,null,null,null,null,null,null,null,null,null,null,215.5]
["پهنای بند جلو به سانتیمتر    d3  ","(از0 الی 5)",1.5,"بهینه= 1.5",{"$f":"'طراحی همه الگوها'!B431","v":1.5},"پهنای بند جلو       ",1,1,0,0,{"$f":"(J481-H481)/(I481-G481)","v":1},{"$f":"H481-G481*K481","v":0},0,{"$f":"(M481-L481)/K481","v":0},5,{"$f":"(O481-L481)/K481","v":5},1.5,{"$f":"(Q481-L481)/K481","v":1.5},null,null,null,null,null,null,null,null,null,null,null,null,null,null,null,null,null,null,null,null,null,null,null,null,216]
["ضریب عمودی برش جلو بند   d8 ","(از 0.1 الی 2)",1.2,"بهینه=1.2",{"$f":"'طراحی همه الگوها'!B432","v":20},"بالا یا پایین رفتن مکان بند جلو",19,1.1000000000000001,20,1.2,{"$f":"(J482-H482)/(I482-G482)","v":9.9999999999999867E-2},{"$f":"H482-G482*K482","v":-0.79999999999999738},0,7.999999999999984,4,48.000000000000036,1,17.999999999999996,null,null,null,null,null,null,null,null,null,null,null,null,null,null,null,null,null,null,null,null,null,null,null,null,216.5]
["ضریب افقی برش جلو بند   d14 ","(از 0.1 الی 2)",0.8,"بهینه=0.8",{"$f":"'طراحی همه الگوها'!B433","v":20},"چپ و راست رفتن مکان بند جلو",19,0.75,20,0.8,{"$f":"(J483-H483)/(I483-G483)","v":5.0000000000000044E-2},{"$f":"H483-G483*K483","v":-0.20000000000000084},0,4.0000000000000133,0.7,18,0.4,12.000000000000007,null,null,null,null,null,null,null,null,null,null,null,null,null,null,null,null,null,null,null,null,null,null,null,null,217]
["ضریب پهنای افقی برش جلو بند   d9 ","(از 0 الی 1)",0.30000000000000004,"بهینه=0.3",{"$f":"'طراحی همه الگوها'!B434","v":20},"پهنای افقی برش جلو بند    ",19,0.25,20,0.3,4.9999999999999989E-2,-0.69999999999999973,0,13.999999999999998,1,34,1,34,null,null,null,null,null,null,null,null,null,null,null,null,null,null,null,null,null,null,null,null,null,null,null,null,217.5]
["ضریب پهنای برش کاسه در پهلو    d10  ","(از 0.1 الی 0.7)",0.25,"بهینه=0.25",{"$f":"'طراحی همه الگوها'!B435","v":20},"پهنای برش کاسه در پهلو      ",19,0.2,20,0.25,4.9999999999999989E-2,-0.74999999999999978,0,14.999999999999998,4,95.000000000000014,0.4,23.000000000000004,null,null,null,null,null,null,null,null,null,null,null,null,null,null,null,null,null,null,null,null,null,null,null,null,218]
["ضریب بالا یا پایین رفتن خط پایین پایه    d1  ","(از 0.2 الی 0.7)",0.5,"خط کمر=0 \nخط سینه=1  ",{"$f":"'طراحی همه الگوها'!B436","v":80},"بالا یا پایین رفتن خط پایین پایه      ",79,0.45,80,0.5,4.9999999999999989E-2,-3.4999999999999991,0.2,74,0.7,84,0,70,null,null,null,null,null,null,null,null,null,null,null,null,null,null,null,null,null,null,null,null,null,null,null,null,218.5]
["پهنای بند پشت به سانتیمتر   d4 ","(از0 الی 5)",1.5,"بهینه= 1.5",{"$f":"'طراحی همه الگوها'!B437","v":1.5},"پهنای بند پشت     ",1,1,0,0,1,0,0,0,5,5,1.5,1.5,null,null,null,null,null,null,null,null,null,null,null,null,null,null,null,null,null,null,null,null,null,null,null,null,219]
["ضریب عمودی نقطه اتصال بند پشت    d5  ","(از0 الی 1)",0.38,"خط کمر =0 \nخط سرشانه= 1 \nبهینه = 0.38",{"$f":"'طراحی همه الگوها'!B438","v":20},"بالا یا پایین رفتن مکان بند پشت",21,0.4,20,0.38,2.0000000000000018E-2,-2.0000000000000351E-2,0,1.0000000000000167,1,50.999999999999979,0.4,21,null,null,null,null,null,null,null,null,null,null,null,null,null,null,null,null,null,null,null,null,null,null,null,null,219.5]
["ضریب افقی نقطه اتصال بند پشت    d6 ","(از0.1 الی 0.9)",0.45,"خط مرکزی پشت =0 \nخط پهلو= 1 \nبهینه = 0.45",{"$f":"'طراحی همه الگوها'!B439","v":9},"چپ و راست رفتن مکان بند پشت",1,0.05,0,0,0.05,0,0.1,2,0.9,18,0.45,9,null,null,null,null,null,null,null,null,null,null,null,null,null,null,null,null,null,null,null,null,null,null,null,null,220]
["میزان انحنا یقه پشت پهلو    d7  ","(از -0.5 الی 0.5)",0,"خط محدب =+ \nخط صاف =0 \nخط مقعر= - ",{"$f":"'طراحی همه الگوها'!B440","v":20},"انحنا یقه پشت پهلو      ",19,-0.05,20,0,0.05,-1,0,20,4,100,0.4,27.999999999999996,null,null,null,null,null,null,null,null,null,null,null,null,null,null,null,null,null,null,null,null,null,null,null,null,220.5]
["پهنای قزن در پشت به سانتیمتر   d11 ","(از 0 الی 10)",3,"بهینه=3",{"$f":"'طراحی همه الگوها'!B441","v":3},"پهنای قزن در پشت (سانتیمتر)    ",2,2,3,3,{"$f":"(J491-H491)/(I491-G491)","v":1},{"$f":"H491-G491*K491","v":0},0,{"$f":"(M491-L491)/K491","v":0},10,{"$f":"(O491-L491)/K491","v":10},3,3,null,null,null,null,null,null,null,null,null,null,null,null,null,null,null,null,null,null,null,null,null,null,null,null,221]
["میزان انحنا یقه پشت مرکزی    d15  ","(از -0.5 الی 0.5)",0,"خط محدب =+ \nخط صاف =0 \nخط مقعر= - ",{"$f":"'طراحی همه الگوها'!B442","v":20},"انحنا یقه پشت مرکزی      ",19,-0.05,20,0,{"$f":"(J492-H492)/(I492-G492)","v":0.05},{"$f":"H492-G492*K492","v":-1},0,{"$f":"(M492-L492)/K492","v":20},4,{"$f":"(O492-L492)/K492","v":100},1,40,null,null,null,null,null,null,null,null,null,null,null,null,null,null,null,null,null,null,null,null,null,null,null,null,221.5]
["شیفت افقی تکه جلو مرکزی به سانتیمتر   d12 ","(از -100 الی100)",0,"بدون شیفت=0",{"$f":"'طراحی همه الگوها'!B443","v":0},"شیفت افقی تکه جلو مرکزی (سانتیمتر)    ",1,1,0,0,{"$f":"(J493-H493)/(I493-G493)","v":1},{"$f":"H493-G493*K493","v":0},-100,{"$f":"(M493-L493)/K493","v":-100},100,{"$f":"(O493-L493)/K493","v":100},0.4,0.4,null,null,null,null,null,null,null,null,null,null,null,null,null,null,null,null,null,null,null,null,null,null,null,null,222]
["شیفت عمودی کاسه یک تکه زیرین به سانتیمتر   d16 ","(از -100 الی100)",0,"بدون شیفت=0",{"$f":"'طراحی همه الگوها'!B445","v":0},"شیفت عمودی کاسه یک تکه زیرین (سانتیمتر)    ",1,1,0,0,{"$f":"(J494-H494)/(I494-G494)","v":1},{"$f":"H494-G494*K494","v":0},-100,{"$f":"(M494-L494)/K494","v":-100},100,{"$f":"(O494-L494)/K494","v":100},null,null,null,null,null,null,null,null,null,null,null,null,null,null,null,null,null,null,null,null,null,null,null,null,null,null,222.5]
["شیفت افقی تکه پهلوجلو به سانتیمتر   d13 ","(از -100 الی100)",0,"بدون شیفت=0",{"$f":"'طراحی همه الگوها'!B444","v":0},"شیفت افقی تکه پهلوجلو (سانتیمتر)    ",1,1,0,0,{"$f":"(J495-H495)/(I495-G495)","v":1},{"$f":"H495-G495*K495","v":0},-100,{"$f":"(M495-L495)/K495","v":-100},100,{"$f":"(O495-L495)/K495","v":100},null,null,null,null,null,null,null,null,null,null,null,null,null,null,null,null,null,null,null,null,null,null,null,null,null,null,223]
[null,null,null,null,null,null,null,null,null,null,null,null,null,null,null,null,null,null,null,null,null,null,null,null,null,null,null,null,null,null,null,null,null,null,null,null,null,null,null,null,null,null,223.5]
[" متغیرهای ورودی- شنل بدون شیفت تکه پهلو",null,null,null,null," متغیرهای ورودی- شنل بدون شیفت تکه پهلو","x1","y1","x2","y2(بهینه)","a","b",null,"کمترین",null,"بیشترین",null,null,null,null,null,null,null,null,null,null,null,null,null,null,null,null,null,null,null,null,null,null,null,null,null,null,224]
["ضریب بزرگ شدن اوزمان در شنل  c1","(از 0.5 الی 2)",{"$f":"K498*E498+L498","v":1},"بهینه=1",{"$f":"'طراحی همه الگوها'!B448","v":20},"ضریب بزرگ شدن اوزمان در شنل  ",19,0.95,20,1,{"$f":"(J498-H498)/(I498-G498)","v":5.0000000000000044E-2},{"$f":"H498-G498*K498","v":-8.8817841970012523E-16},0.5,{"$f":"(M498-L498)/K498","v":10.000000000000009},2,{"$f":"(O498-L498)/K498","v":39.999999999999986},1,{"$f":"(Q498-L498)/K498","v":20},null,null,null,null,null,null,null,null,null,null,null,null,null,null,null,null,null,null,null,null,null,null,null,null,224.5]
["ضریب انحنا روی بازو  c0","(از 0.5 الی 2)",{"$f":"K499*E499+L499","v":1.2500000000000002},"بهینه=1",{"$f":"'طراحی همه الگوها'!B449","v":25},"ضریب انحنا روی بازو  ",19,0.95,20,1,{"$f":"(J499-H499)/(I499-G499)","v":5.0000000000000044E-2},{"$f":"H499-G499*K499","v":-8.8817841970012523E-16},0.5,{"$f":"(M499-L499)/K499","v":10.000000000000009},2,{"$f":"(O499-L499)/K499","v":39.999999999999986},1,{"$f":"(Q499-L499)/K499","v":20},null,null,null,null,null,null,null,null,null,null,null,null,null,null,null,null,null,null,null,null,null,null,null,null,225]
[null,null,null,null,null,null,null,null,null,null,null,null,null,null,null,null,null,null,null,null,null,null,null,null,null,null,null,null,null,null,null,null,null,null,null,null,null,null,null,null,null,null,225.5]
["پیراهن کلوش (با حلقه آستین بدون ساسون سرشانه)",null,null,null,null,null,null,null,null,null,null,null,null,null,null,null,null,null,null,null,null,null,null,null,null,null,null,null,null,null,null,null,null,null,null,null,null,null,null,null,null,null,226]
[" اوزمان در جلو پیراهن کلوش   a1","(از 1 الی 50)",{"$f":"K502*E502+L502","v":5},null,{"$f":"'طراحی همه الگوها'!B452","v":5},null,1,1,2,2,{"$f":"(J502-H502)/(I502-G502)","v":1},{"$f":"H502-G502*K502","v":0},null,1,null,2,null,null,null,null,null,null,null,null,null,null,null,null,null,null,null,null,null,null,null,null,null,null,null,null,null,null,226.5]
[" فاصله اوزمان اول از خط مرکزی جلو  a6   ","(از 1 الی 30)",13,null,{"$f":"'طراحی همه الگوها'!B453","v":13},null,1,1,2,2,1,0,null,1,null,2,null,null,null,null,null,null,null,null,null,null,null,null,null,null,null,null,null,null,null,null,null,null,null,null,null,null,227]
[" فاصله اوزمان اول از خط مرکزی جلو  a8   ","(از 1 الی 30)",18,null,{"$f":"'طراحی همه الگوها'!B454","v":18},null,1,1,2,2,1,0,null,1,null,2,null,null,null,null,null,null,null,null,null,null,null,null,null,null,null,null,null,null,null,null,null,null,null,null,null,null,227.5]
[" اوزمان در پشت پیراهن کلوش   a2","(از 1 الی 50)",5,null,{"$f":"'طراحی همه الگوها'!B455","v":5},null,1,1,2,2,1,0,null,1,null,2,null,null,null,null,null,null,null,null,null,null,null,null,null,null,null,null,null,null,null,null,null,null,null,null,null,null,228]
[" فاصله اوزمان اول از خط مرکزی پشت  a7   ","(از 1 الی 30)",13,null,{"$f":"'طراحی همه الگوها'!B456","v":13},null,1,1,2,2,1,0,null,1,null,2,null,null,null,null,null,null,null,null,null,null,null,null,null,null,null,null,null,null,null,null,null,null,null,null,null,null,228.5]
[" فاصله اوزمان اول از خط مرکزی پشت  a9   ","(از 1 الی 30)",20,null,{"$f":"'طراحی همه الگوها'!B457","v":20},null,1,1,2,2,1,0,null,1,null,2,null,null,null,null,null,null,null,null,null,null,null,null,null,null,null,null,null,null,null,null,null,null,null,null,null,null,229]
["متغیرهای ورودی آستین",null,null,null,null,"متغیرهای ورودی آستین",null,null,null,null,null,null,null,null,null,null,null,null,null,null,null,null,null,null,null,null,null,null,null,null,null,null,null,null,null,null,null,null,null,null,null,null,229.5]
[null,null,null,null,"x",null,"x1","y1","x2","y2(بهینه)","a","b",null,"کمترین",null,"بیشترین",null,null,null,null,null,null,null,null,null,null,null,null,null,null,null,null,null,null,null,null,null,null,null,null,null,null,230]
[" متغیر ورودی نوع آستین :",null,null,null,null," متغیر ورودی نوع آستین :","x1","y1","x2","y2(بهینه)","a","b",null,"کمترین",null,"بیشترین",null,null,null,null,null,null,null,null,null,null,null,null,null,null,null,null,null,null,null,null,null,null,null,null,null,null,230.5]
["انتخاب آستین با ساسون سرشانه یا زیر بغل یا عصایی = 0\nانتخاب آستین رگلان (بدون درز یا با درز) برای حلقه آستین با ساسون = 0   \nانتخاب آستین با هر نوع ساسون و اپل و کنترل گودی حلقه آستین = 1\n انتخاب آستین بدون ساسون سرشانه = 3 \n انتخاب آستین رگلان (بدون درز یا با درز) برای حلقه آستین بدون ساسون سرشانه = 3 ","0 یا 1 یا 3",{"$f":"K511*E511+L511","v":3},null,{"$f":"'طراحی همه الگوها'!K176","v":4},"انتخاب آستین با ساسون سرشانه یا زیر بغل یا عصایی = 0\nانتخاب آستین رگلان (بدون درز یا با درز) برای حلقه آستین با ساسون = 0   \nانتخاب آستین با هر نوع ساسون و اپل و کنترل گودی حلقه آستین = 1\n انتخاب آستین بدون ساسون سرشانه = 3 \n انتخاب آستین رگلان (بدون درز یا با درز) برای حلقه آستین بدون ساسون سرشانه = 3 ",1,0,4,3,{"$f":"(J511-H511)/(I511-G511)","v":1},{"$f":"H511-G511*K511","v":-1},null,1,null,4,0.15,{"$f":"(Q511-L511)/K511","v":1.1499999999999999},null,null,null,null,null,null,null,null,null,null,null,null,null,null,null,null,null,null,null,null,null,null,null,null,231]
[null,null,null,null,null,null,null,null,null,null,null,null,null,null,null,null,null,null,null,null,null,null,null,null,null,null,null,null,null,null,null,null,null,null,null,null,null,null,null,null,null,null,231.5]
[" متغیرهای ورودی - آستین رگلان درز دار",null,null,null,null," متغیرهای ورودی - آستین رگلان درز دار","x1","y1","x2","y2(بهینه)","a","b",null,"کمترین",null,"بیشترین",null,null,null,null,null,null,null,null,null,null,null,null,null,null,null,null,null,null,null,null,null,null,null,null,null,null,232]
["میزان خمیدگی بدن به سمت جلو - زاویه به درجه  α1","(از -20 الی 20)",{"$f":"K514*E514+L514","v":3},"بهینه=3",{"$f":"'طراحی همه الگوها'!K234","v":3},"میزان خمیدگی بدن به سمت جلو   ",1,1,0,0,{"$f":"(J514-H514)/(I514-G514)","v":1},{"$f":"H514-G514*K514","v":0},-20,{"$f":"(M514-L514)/K514","v":-20},20,{"$f":"(O514-L514)/K514","v":20},3,{"$f":"(Q514-L514)/K514","v":3},null,null,null,null,null,null,null,null,null,null,null,null,null,null,null,null,null,null,null,null,null,null,null,null,232.5]
["میزان خم شدن سرشانه در آستین - زاویه به درجه  α2","(از -20 الی 20)",3,"بهینه=3",{"$f":"'طراحی همه الگوها'!K235","v":3},"میزان خم شدن سرشانه در آستین  ",1,1,0,0,1,0,-20,-20,20,20,3,3,null,null,null,null,null,null,null,null,null,null,null,null,null,null,null,null,null,null,null,null,null,null,null,null,233]
["پهنای ساسون مچ روی درز آستین  α3","(از 0 الی 2)",0.70000000000000007,"بهینه=0.7\nبدون ساسون=1",{"$f":"'طراحی همه الگوها'!K236","v":3},"پهنای ساسون مچ روی درز آستین  ",1,0.9,0,1,-9.9999999999999978E-2,1,0,10.000000000000002,2,-10.000000000000002,0.7,3.0000000000000013,null,null,null,null,null,null,null,null,null,null,null,null,null,null,null,null,null,null,null,null,null,null,null,null,233.5]
["میزان روی هم آمدن سرشانه در دو تکه آستین رگلان  α4","(از 0 الی 2)",1,"بهینه=1\nروی هم نمی آید=0",{"$f":"'طراحی همه الگوها'!K237","v":10},"میزان روی هم آمدن سرشانه در دو تکه آستین رگلان  ",1,0.1,0,0,0.1,0,0,0,2,20,1,10,null,null,null,null,null,null,null,null,null,null,null,null,null,null,null,null,null,null,null,null,null,null,null,null,234]
["زاویه درز روی آستین نسبت به عمود به درجه  α5","(از -20 الی 20)",3,"بهینه=3",{"$f":"'طراحی همه الگوها'!K238","v":3},"زاویه درز روی آستین نسبت به عمود  ",1,1,0,0,{"$f":"(J518-H518)/(I518-G518)","v":1},{"$f":"H518-G518*K518","v":0},-20,-20,20,20,3,3,null,null,null,null,null,null,null,null,null,null,null,null,null,null,null,null,null,null,null,null,null,null,null,null,234.5]
["میزان انحنا لبه جلو آستین  α6","(از -20 الی 20)",1,"بهینه=1",{"$f":"'طراحی همه الگوها'!K239","v":1},"میزان انحنا لبه جلو آستین  ",1,1,0,0,{"$f":"(J519-H519)/(I519-G519)","v":1},{"$f":"H519-G519*K519","v":0},-20,-20,20,20,1,1,null,null,null,null,null,null,null,null,null,null,null,null,null,null,null,null,null,null,null,null,null,null,null,null,235]
["میزان انحنا لبه پشت آستین  α7","(از -20 الی 20)",1,"بهینه=1",{"$f":"'طراحی همه الگوها'!K240","v":1},"میزان انحنا لبه پشت آستین  ",1,1,0,0,1,0,-20,-20,20,20,1,1,null,null,null,null,null,null,null,null,null,null,null,null,null,null,null,null,null,null,null,null,null,null,null,null,235.5]
["سهم گشادی مچ آستین بر روی درز  α8","(از 0 الی 1)",0.2,"بهینه=0.2",{"$f":"'طراحی همه الگوها'!K241","v":4},"سهم گشادی مچ آستین بر روی درز  ",1,0.05,0,0,0.05,0,0,0,1,20,0.2,4,null,null,null,null,null,null,null,null,null,null,null,null,null,null,null,null,null,null,null,null,null,null,null,null,236]
["شیفت افقی تکه جلو آستین رگلان درز دار    به سانتیمتر","(از -100 الی100)",5,"بدون شیفت=0",{"$f":"'طراحی همه الگوها'!K242","v":5},"شیفت افقی تکه جلو آستین رگلان درز دار    به سانتیمتر",1,1,0,0,1,0,null,1,null,100,0,null,null,null,null,null,null,null,null,null,null,null,null,null,null,null,null,null,null,null,null,null,null,null,null,null,236.5]
["شیفت افقی کل آستین رگلان بدون درز   به سانتیمتر","(از -100 الی100)",-5,"بدون شیفت=0",{"$f":"'طراحی همه الگوها'!K186","v":-5},"شیفت افقی کل آستین رگلان بدون درز   به سانتیمتر",1,1,0,0,{"$f":"(J523-H523)/(I523-G523)","v":1},{"$f":"H523-G523*K523","v":0},null,1,null,100,0,null,null,null,null,null,null,null,null,null,null,null,null,null,null,null,null,null,null,null,null,null,null,null,null,null,237]
[null,null,null,null,null,null,null,null,null,null,null,null,null,null,null,null,null,null,null,null,null,null,null,null,null,null,null,null,null,null,null,null,null,null,null,null,null,null,null,null,null,null,237.5]
[" متغیرهای ورودی کلی آستین ساده (بلند یا کوتاه)",null,null,null,null," متغیرهای ورودی کلی آستین ساده (بلند یا کوتاه)","x1","y1","x2","y2(بهینه)","a","b",null,"کمترین",null,"بیشترین",null,null,null,null,null,null,null,null,null,null,null,null,null,null,null,null,null,null,null,null,null,null,null,null,null,null,238]
["ضریب پهنای مچ در آستین ساده و مچ بلند","(از 0 الی 0.5)",{"$f":"K526*E526+L526","v":0.20000000000000007},"بهینه=0.15",{"$f":"'طراحی همه الگوها'!K183","v":14},"ضریب پهنای مچ در آستین ساده و مچ بلند",11,0.05,10,0,{"$f":"(J526-H526)/(I526-G526)","v":0.05},{"$f":"H526-G526*K526","v":-0.5},0,{"$f":"(M526-L526)/K526","v":10},0.5,{"$f":"(O526-L526)/K526","v":20},0.15,{"$f":"(Q526-L526)/K526","v":13},null,null,null,null,null,null,null,null,null,null,null,null,null,null,null,null,null,null,null,null,null,null,null,null,238.5]
["ضریب گشادی مچ آستین  ζ4","(از 0.1 الی 4)",1.4000000000000004,"اندامی=1",{"$f":"'طراحی همه الگوها'!K179","v":4},"ضریب گشادی مچ آستین  ",1,1.1000000000000001,0,1,0.10000000000000009,1,0.1,-8.9999999999999929,4,29.999999999999975,1,0,null,null,null,null,null,null,null,null,null,null,null,null,null,null,null,null,null,null,null,null,null,null,null,null,239]
["ضریب بلند یا کوتاه شدن اندازه های طولی در آستین","(از -0.2 الی 0.2)",0,"بدون تغییر=0",{"$f":"'طراحی همه الگوها'!K180","v":0},"ضریب بلند یا کوتاه شدن اندازه های طولی در آستین",1,0.01,0,0,0.01,0,-0.2,-20,0.2,20,0,0,null,null,null,null,null,null,null,null,null,null,null,null,null,null,null,null,null,null,null,null,null,null,null,null,239.5]
["ضریب بلندی تاج آستین","(از -1 الی 1)",0,"اندامی=0",{"$f":"'طراحی همه الگوها'!K181","v":0},"ضریب بلندی تاج آستین",1,0.05,0,0,0.05,0,-1,-20,1,20,0,0,null,null,null,null,null,null,null,null,null,null,null,null,null,null,null,null,null,null,null,null,null,null,null,null,240]
["ضریب گشادی تاج آستین","(از 0 الی 1)",0,"اندامی=0",{"$f":"'طراحی همه الگوها'!K182","v":0},"ضریب گشادی تاج آستین",1,0.05,0,0,0.05,0,0,0,1,20,0,0,null,null,null,null,null,null,null,null,null,null,null,null,null,null,null,null,null,null,null,null,null,null,null,null,240.5]
["ضریب کوتاهی آستین  (آستین پفی > 0.6)","(از -0.45 الی 1.7)",{"$f":"K531*E531+L531","v":0},"آستین تا مچ=0 \nآستین تا آرنج=1 \nآستین کوتاه بالای آرنج بزرگتر از یک",{"$f":"'طراحی همه الگوها'!K178","v":10},"بلندی پایین آستین",10,0,30,1,0.05,-0.5,-0.45,0.99999999999999978,1.7,44,0.3,16,null,null,null,null,null,null,null,null,null,null,null,null,null,null,null,null,null,null,null,null,null,null,null,null,241]
["شیفت افقی کل الگو آستین به سانتیمتر","(از -100 الی100)",0,"بدون شیفت=0",{"$f":"'طراحی همه الگوها'!K184","v":0},"شیفت افقی کل الگو آستین (سانتیمتر)",1,1,0,0,1,0,null,1,null,100,0,null,null,null,null,null,null,null,null,null,null,null,null,null,null,null,null,null,null,null,null,null,null,null,null,null,241.5]
["شیفت عمودی کل الگو آستین به سانتیمتر","(از -100 الی100)",{"$f":"K533*E533+L533","v":0},"بدون شیفت=0",{"$f":"'طراحی همه الگوها'!K185","v":0},"شیفت عمودی کل الگو آستین (سانتیمتر)",1,1,0,0,1,0,null,1,null,100,0,null,null,null,null,null,null,null,null,null,null,null,null,null,null,null,null,null,null,null,null,null,null,null,null,null,242]
[null,null,null,null,null,null,null,null,null,null,null,null,null,null,null,null,null,null,null,null,null,null,null,null,null,null,null,null,null,null,null,null,null,null,null,null,null,null,null,null,null,null,242.5]
["اطلاعات طول حلقه آستین و طول تاج آستین",null,null,null,null,"اطلاعات طول حلقه آستین و طول تاج آستین",null,null,null,null,null,null,null,null,null,null,null,null,null,null,null,null,null,null,null,null,null,null,null,null,null,null,null,null,null,null,null,null,null,null,null,null,243]
["طول کل حلقه آستین با اپل",{"$f":"محاسبات!BL538","v":23},null,null,null,"طول کل حلقه آستین با اپل (سانتیمتر)",null,null,null,null,null,null,null,null,null,null,null,null,null,null,null,null,null,null,null,null,null,null,null,null,null,null,null,null,null,null,null,null,null,null,null,null,243.5]
["طول کل حلقه آستین با ساسون",{"$f":"محاسبات!BL539","v":23.4},null,null,null,"طول کل حلقه آستین با ساسون (سانتیمتر)",null,null,null,null,null,null,null,null,null,null,null,null,null,null,null,null,null,null,null,null,null,null,null,null,null,null,null,null,null,null,null,null,null,null,null,null,244]
["طول کل حلقه آستین بدون ساسون",{"$f":"محاسبات!BL540","v":24.2},null,null,null,"طول کل حلقه آستین بدون ساسون (سانتیمتر)",null,null,null,null,null,null,null,null,null,null,null,null,null,null,null,null,null,null,null,null,null,null,null,null,null,null,null,null,null,null,null,null,null,null,null,null,244.5]
["طول حلقه آستین مدل 85",{"$f":"محاسبات!BL541","v":23.4},null,null,null,"طول حلقه آستین مدل 85  (سانتیمتر)",null,null,null,null,null,null,null,null,null,null,null,null,null,null,null,null,null,null,null,null,null,null,null,null,null,null,null,null,null,null,null,null,null,null,null,null,245]
["طول حلقه آستین مدل 83 کت مردانه",{"$f":"محاسبات!BL542","v":23},null,null,null,"طول حلقه آستین مدل 83 کت مردانه  (سانتیمتر)",null,null,null,null,null,null,null,null,null,null,null,null,null,null,null,null,null,null,null,null,null,null,null,null,null,null,null,null,null,null,null,null,null,null,null,null,245.5]
["طول تاج آستین کتی",{"$f":"محاسبات!BL543","v":24},null,null,null,"طول تاج آستین کتی (سانتیمتر)",null,null,null,null,null,null,null,null,null,null,null,null,null,null,null,null,null,null,null,null,null,null,null,null,null,null,null,null,null,null,null,null,null,null,null,null,246]
["طول تاج آستین ساده",{"$f":"محاسبات!BL544","v":23.8},null,null,null,"طول تاج آستین ساده (سانتیمتر) ",null,null,null,null,null,null,null,null,null,null,null,null,null,null,null,null,null,null,null,null,null,null,null,null,null,null,null,null,null,null,null,null,null,null,null,null,{"$f":"AQ541+0.5","v":246.5}]
[null,null,null,null,null,null,null,null,null,null,null,null,null,null,null,null,null,null,null,null,null,null,null,null,null,null,null,null,null,null,null,null,null,null,null,null,null,null,null,null,null,null,247]
[" متغیرهای ورودی- جادکمه آستین بلند یا کوتاه",null,null,null,null," متغیرهای ورودی- جادکمه آستین بلند یا کوتاه","x1","y1","x2","y2(بهینه)","a","b",null,"کمترین",null,"بیشترین",null,null,null,null,null,null,null,null,null,null,null,null,null,null,null,null,null,null,null,null,null,null,null,null,null,null,247.5]
["ضریب طول مستطیل ","(از 0 الی 0.5)",{"$f":"K545*E545+L545","v":0.35000000000000003},"بهینه=0.35",{"$f":"'طراحی همه الگوها'!K204","v":7},"ضریب طول مستطیل ",1,0.05,0,0,{"$f":"(J545-H545)/(I545-G545)","v":0.05},{"$f":"H545-G545*K545","v":0},0,{"$f":"(M545-L545)/K545","v":0},0.5,{"$f":"(O545-L545)/K545","v":10},0.35,{"$f":"(Q545-L545)/K545","v":6.9999999999999991},null,null,null,null,null,null,null,null,null,null,null,null,null,null,null,null,null,null,null,null,null,null,null,null,248]
["ضریب عرض مستطیل ","(از 0 الی 0.4)",{"$f":"K546*E546+L546","v":0.25},"بهینه=0.25",{"$f":"'طراحی همه الگوها'!K205","v":5},"ضریب عرض مستطیل ",1,0.05,0,0,{"$f":"(J546-H546)/(I546-G546)","v":0.05},{"$f":"H546-G546*K546","v":0},0,{"$f":"(M546-L546)/K546","v":0},0.4,{"$f":"(O546-L546)/K546","v":8},0.25,{"$f":"(Q546-L546)/K546","v":5},null,null,null,null,null,null,null,null,null,null,null,null,null,null,null,null,null,null,null,null,null,null,null,null,248.5]
[null,null,null,null,null,null,null,null,null,null,null,null,null,null,null,null,null,null,null,null,null,null,null,null,null,null,null,null,null,null,null,null,null,null,null,null,null,null,null,null,null,null,249]
[" متغیرهای ورودی - مچ آستین",null,null,null,null," متغیرهای ورودی - مچ آستین","x1","y1","x2","y2(بهینه)","a","b",null,"کمترین",null,"بیشترین",null,null,null,null,null,null,null,null,null,null,null,null,null,null,null,null,null,null,null,null,null,null,null,null,null,null,249.5]
["انتخاب مچ اندامی=1        انتخاب مچ مستطیل یا مچ پفی=0","0 یا 1 ",{"$f":"K549*E549+L549","v":0},null,{"$f":"'طراحی همه الگوها'!K189","v":1},"انتخاب مچ اندامی=2        انتخاب مچ مستطیل یا مچ پفی=1",1,0,2,1,{"$f":"(J549-H549)/(I549-G549)","v":1},{"$f":"H549-G549*K549","v":-1},0,{"$f":"(M549-L549)/K549","v":1},1,{"$f":"(O549-L549)/K549","v":2},0,{"$f":"(Q549-L549)/K549","v":1},null,null,null,null,null,null,null,null,null,null,null,null,null,null,null,null,null,null,null,null,null,null,null,null,250]
["ضریب گشادی بالای مچ  z3","(از 0.8 الی 3)",1,"اندامی=1",{"$f":"'طراحی همه الگوها'!K190","v":0},"ضریب گشادی بالای مچ  ",1,1.1000000000000001,0,1,0.10000000000000009,1,0.8,{"$f":"(M550-L550)/K550","v":-1.9999999999999978},3,{"$f":"(O550-L550)/K550","v":19.999999999999982},1,{"$f":"(Q550-L550)/K550","v":0},null,null,null,null,null,null,null,null,null,null,null,null,null,null,null,null,null,null,null,null,null,null,null,null,250.5]
["ضریب گشادی پایین مچ یا مچ مستطیل یا مچ پفی  z4","(از 0.8 الی 3)",1,"اندامی=1",{"$f":"'طراحی همه الگوها'!K191","v":0},"ضریب گشادی پایین مچ یا مچ مستطیل یا مچ پفی  ",1,1.1000000000000001,0,1,0.10000000000000009,1,0.8,{"$f":"(M551-L551)/K551","v":-1.9999999999999978},3,{"$f":"(O551-L551)/K551","v":19.999999999999982},1,{"$f":"(Q551-L551)/K551","v":0},null,null,null,null,null,null,null,null,null,null,null,null,null,null,null,null,null,null,null,null,null,null,null,null,251]
["ضریب ارتفاع بالای مچ    z5","(از 0 الی 1.7)",0,"ارتفاع تا مچ دست =0 \nارتفاع تا آرنج=1 \nارتفاع بالای آرنج بزرگتر از یک",{"$f":"'طراحی همه الگوها'!K192","v":10},"ضریب ارتفاع بالای مچ    ",10,0,30,1,0.05,-0.5,0,{"$f":"(M552-L552)/K552","v":10},1.7,{"$f":"(O552-L552)/K552","v":44},1,{"$f":"(Q552-L552)/K552","v":30},null,null,null,null,null,null,null,null,null,null,null,null,null,null,null,null,null,null,null,null,null,null,null,null,251.5]
["ضریب ارتفاع پایین مچ   z6","(از 0 الی 1.7)",0,"ارتفاع تا مچ دست =0 \nارتفاع تا آرنج=1 \nارتفاع بالای آرنج بزرگتر از یک",{"$f":"'طراحی همه الگوها'!K193","v":10},"ضریب ارتفاع پایین مچ   ",10,0,30,1,0.05,-0.5,0,{"$f":"(M553-L553)/K553","v":10},1.7,{"$f":"(O553-L553)/K553","v":44},1,{"$f":"(Q553-L553)/K553","v":30},null,null,null,null,null,null,null,null,null,null,null,null,null,null,null,null,null,null,null,null,null,null,null,null,252]
["شیفت افقی مچ  به سانتیمتر   z7","(از -100 الی100)",0,"بدون شیفت=0",{"$f":"'طراحی همه الگوها'!K194","v":0},"شیفت افقی مچ  (سانتیمتر)   ",1,1,0,0,1,0,null,1,null,100,0,null,null,null,null,null,null,null,null,null,null,null,null,null,null,null,null,null,null,null,null,null,null,null,null,null,252.5]
["شیفت عمودی مچ  به سانتیمتر  z8","(از -100 الی100)",0,"بدون شیفت=0",{"$f":"'طراحی همه الگوها'!K195","v":0},"شیفت عمودی مچ  (سانتیمتر)  ",1,1,0,0,1,0,null,1,null,100,0,null,null,null,null,null,null,null,null,null,null,null,null,null,null,null,null,null,null,null,null,null,null,null,null,null,253]
[null,null,null,null,null,null,null,null,null,null,null,null,null,null,null,null,null,null,null,null,null,null,null,null,null,null,null,null,null,null,null,null,null,null,null,null,null,null,null,null,null,null,253.5]
[" متغیرهای ورودی - آستر مچ آستین",null,null,null,null," متغیرهای ورودی - آستر مچ آستین","x1","y1","x2","y2(بهینه)","a","b",null,"کمترین",null,"بیشترین",null,null,null,null,null,null,null,null,null,null,null,null,null,null,null,null,null,null,null,null,null,null,null,null,null,null,254]
["انتخاب مچ اندامی=1        انتخاب مچ مستطیل یا مچ پفی=0","0 یا 1 ",{"$f":"K558*E558+L558","v":0},null,{"$f":"'طراحی همه الگوها'!K220","v":1},"انتخاب مچ اندامی=2        انتخاب مچ مستطیل یا مچ پفی=1",1,0,2,1,{"$f":"(J558-H558)/(I558-G558)","v":1},{"$f":"H558-G558*K558","v":-1},0,{"$f":"(M558-L558)/K558","v":1},1,{"$f":"(O558-L558)/K558","v":2},0,{"$f":"(Q558-L558)/K558","v":1},null,null,null,null,null,null,null,null,null,null,null,null,null,null,null,null,null,null,null,null,null,null,null,null,254.5]
["ضریب گشادی بالای مچ  z3","(از 0.8 الی 3)",1,"اندامی=1",{"$f":"'طراحی همه الگوها'!K221","v":0},"ضریب گشادی بالای مچ  ",1,1.1000000000000001,0,1,0.10000000000000009,1,0.8,{"$f":"(M559-L559)/K559","v":-1.9999999999999978},3,{"$f":"(O559-L559)/K559","v":19.999999999999982},1,{"$f":"(Q559-L559)/K559","v":0},null,null,null,null,null,null,null,null,null,null,null,null,null,null,null,null,null,null,null,null,null,null,null,null,255]
["ضریب گشادی پایین مچ یا مچ مستطیل یا مچ پفی  z4","(از 0.8 الی 3)",1,"اندامی=1",{"$f":"'طراحی همه الگوها'!K222","v":0},"ضریب گشادی پایین مچ یا مچ مستطیل یا مچ پفی  ",1,1.1000000000000001,0,1,0.10000000000000009,1,0.8,{"$f":"(M560-L560)/K560","v":-1.9999999999999978},3,{"$f":"(O560-L560)/K560","v":19.999999999999982},1,{"$f":"(Q560-L560)/K560","v":0},null,null,null,null,null,null,null,null,null,null,null,null,null,null,null,null,null,null,null,null,null,null,null,null,255.5]
["ضریب ارتفاع بالای مچ    z5","(از 0 الی 1.7)",0,"ارتفاع تا مچ دست =0 \nارتفاع تا آرنج=1 \nارتفاع بالای آرنج بزرگتر از یک",{"$f":"'طراحی همه الگوها'!K223","v":10},"ضریب ارتفاع بالای مچ    ",10,0,30,1,0.05,-0.5,0,{"$f":"(M561-L561)/K561","v":10},1.7,{"$f":"(O561-L561)/K561","v":44},1,{"$f":"(Q561-L561)/K561","v":30},null,null,null,null,null,null,null,null,null,null,null,null,null,null,null,null,null,null,null,null,null,null,null,null,256]
["ضریب ارتفاع پایین مچ   z6","(از 0 الی 1.7)",0,"ارتفاع تا مچ دست =0 \nارتفاع تا آرنج=1 \nارتفاع بالای آرنج بزرگتر از یک",{"$f":"'طراحی همه الگوها'!K224","v":10},"ضریب ارتفاع پایین مچ   ",10,0,30,1,0.05,-0.5,0,{"$f":"(M562-L562)/K562","v":10},1.7,{"$f":"(O562-L562)/K562","v":44},1,{"$f":"(Q562-L562)/K562","v":30},null,null,null,null,null,null,null,null,null,null,null,null,null,null,null,null,null,null,null,null,null,null,null,null,256.5]
["شیفت افقی آستر مچ  به سانتیمتر   z7","(از -100 الی100)",0,"بدون شیفت=0",{"$f":"'طراحی همه الگوها'!K225","v":0},"شیفت افقی آستر مچ  (سانتیمتر)   ",1,1,0,0,1,0,null,1,null,100,0,null,null,null,null,null,null,null,null,null,null,null,null,null,null,null,null,null,null,null,null,null,null,null,null,null,257]
["شیفت عمودی آستر مچ  به سانتیمتر  z8","(از -100 الی100)",0,"بدون شیفت=0",{"$f":"'طراحی همه الگوها'!K226","v":0},"شیفت عمودی آستر مچ  (سانتیمتر)  ",1,1,0,0,1,0,null,1,null,100,0,null,null,null,null,null,null,null,null,null,null,null,null,null,null,null,null,null,null,null,null,null,null,null,null,null,257.5]
[null,null,null,null,null,null,null,null,null,null,null,null,null,null,null,null,null,null,null,null,null,null,null,null,null,null,null,null,null,null,null,null,null,null,null,null,null,null,null,null,null,null,258]
[" متغیرهای ورودی آستین لاله ای",null,null,null,null," متغیرهای ورودی آستین لاله ای","x1","y1","x2","y2(بهینه)","a","b",null,"کمترین",null,"بیشترین",null,null,null,null,null,null,null,null,null,null,null,null,null,null,null,null,null,null,null,null,null,null,null,null,null,null,258.5]
["ضریب قرارگیری نقطه بالای جلو انحنا آستین  q20 ","(از 0 الی 1)",{"$f":"K567*E567+L567","v":0.4},"نقطه بالا روی سرشانه=0 \nنقطه بالا زیر بغل=1 ",{"$f":"'طراحی همه الگوها'!K249","v":20},"ضریب قرارگیری نقطه بالای جلو انحنا آستین   ",19,0.35,20,0.4,{"$f":"(J567-H567)/(I567-G567)","v":5.0000000000000044E-2},{"$f":"H567-G567*K567","v":-0.60000000000000087},0,{"$f":"(M567-L567)/K567","v":12.000000000000007},1,{"$f":"(O567-L567)/K567","v":31.999999999999993},1,{"$f":"(Q567-L567)/K567","v":31.999999999999993},null,null,null,null,null,null,null,null,null,null,null,null,null,null,null,null,null,null,null,null,null,null,null,null,259]
["ضریب قرارگیری نقطه بالای پشت انحنا آستین  q'20 ","(از 0 الی 1)",0.30000000000000004,"نقطه بالا روی سرشانه=0 \nنقطه بالا زیر بغل=1 ",{"$f":"'طراحی همه الگوها'!K250","v":20},"ضریب قرارگیری نقطه بالای پشت انحنا آستین   ",19,0.25,20,0.3,4.9999999999999989E-2,-0.69999999999999973,0,13.999999999999998,1,34,1,34,null,null,null,null,null,null,null,null,null,null,null,null,null,null,null,null,null,null,null,null,null,null,null,null,259.5]
["ضریب قرارگیری نقطه پایین جلو انحنا آستین  q21 ","(از 0 الی 1)",0.7,"نقطه پایین وسط آستین=0 \nنقطه پایین روی خط پهلو=1 ",{"$f":"'طراحی همه الگوها'!K251","v":20},"ضریب قرارگیری نقطه پایین جلو انحنا آستین   ",19,0.65,20,0.7,4.9999999999999933E-2,-0.29999999999999871,0,5.9999999999999822,1,26.000000000000011,1,26.000000000000011,null,null,null,null,null,null,null,null,null,null,null,null,null,null,null,null,null,null,null,null,null,null,null,null,260]
["ضریب قرارگیری نقطه پایین پشت انحنا آستین  q'21 ","(از 0 الی 1)",0.7,"نقطه پایین وسط آستین=0 \nنقطه پایین روی خط پهلو=1 ",{"$f":"'طراحی همه الگوها'!K252","v":20},"ضریب قرارگیری نقطه پایین پشت انحنا آستین   ",19,0.65,20,0.7,4.9999999999999933E-2,-0.29999999999999871,0,5.9999999999999822,1,26.000000000000011,2,46.000000000000043,null,null,null,null,null,null,null,null,null,null,null,null,null,null,null,null,null,null,null,null,null,null,null,null,260.5]
["ضریب انحنا جلو  q22 ","(از -0.5 الی 0.5)",0.15000000000000013,"خط محدب =+ \nخط صاف =0 \nخط مقعر= - ",{"$f":"'طراحی همه الگوها'!K253","v":23},"ضریب انحنا جلو   ",21,0.05,20,0,0.05,-1,-0.5,10,0.5,30,0.15,22.999999999999996,null,null,null,null,null,null,null,null,null,null,null,null,null,null,null,null,null,null,null,null,null,null,null,null,261]
["ضریب انحنا پشت  q'22 ","(از -0.5 الی 0.5)",0.15000000000000013,"خط محدب =+ \nخط صاف =0 \nخط مقعر= - ",{"$f":"'طراحی همه الگوها'!K254","v":23},"ضریب انحنا پشت   ",21,0.05,20,0,0.05,-1,-0.5,10,0.5,30,0.15,22.999999999999996,null,null,null,null,null,null,null,null,null,null,null,null,null,null,null,null,null,null,null,null,null,null,null,null,261.5]
[null,null,null,null,null,null,null,null,null,null,null,null,null,null,null,null,null,null,null,null,null,null,null,null,null,null,null,null,null,null,null,null,null,null,null,null,null,null,null,null,null,null,262]
["متغیرهای ورودی آستین کتی",null,null,null,null,"متغیرهای ورودی آستین کتی","x1","y1","x2","y2(بهینه)","a","b",null,"کمترین",null,"بیشترین",null,null,null,null,null,null,null,null,null,null,null,null,null,null,null,null,null,null,null,null,null,null,null,null,null,null,262.5]
["میزان خمیدگی آستین کتی - زاویه به درجه  ζ2","(از 0 الی 7)",{"$f":"K575*E575+L575","v":5},"بهینه=3",{"$f":"'طراحی همه الگوها'!K198","v":5},"میزان خمیدگی آستین کتی - زاویه به درجه  ",1,1,0,0,{"$f":"(J575-H575)/(I575-G575)","v":1},{"$f":"H575-G575*K575","v":0},0,{"$f":"(M575-L575)/K575","v":0},7,{"$f":"(O575-L575)/K575","v":7},3,{"$f":"(Q575-L575)/K575","v":3},null,null,null,null,null,null,null,null,null,null,null,null,null,null,null,null,null,null,null,null,null,null,null,null,263]
["ضریب طول مستطیل جادکمه کتی","(از 0.01 الی 0.5)",{"$f":"K576*E576+L576","v":0.4},"بهینه=0.4",{"$f":"'طراحی همه الگوها'!K199","v":20},"ضریب طول مستطیل جادکمه کتی",1,0.02,0,0,{"$f":"(J576-H576)/(I576-G576)","v":0.02},{"$f":"H576-G576*K576","v":0},0.01,{"$f":"(M576-L576)/K576","v":0.5},0.5,{"$f":"(O576-L576)/K576","v":25},0.4,{"$f":"(Q576-L576)/K576","v":20},null,null,null,null,null,null,null,null,null,null,null,null,null,null,null,null,null,null,null,null,null,null,null,null,263.5]
["ضریب عرض مستطیل جادکمه کتی","(از 0 الی 0.5)",{"$f":"K577*E577+L577","v":0.3},"بهینه=0.3",{"$f":"'طراحی همه الگوها'!K200","v":15},"ضریب عرض مستطیل جادکمه کتی",1,0.02,0,0,{"$f":"(J577-H577)/(I577-G577)","v":0.02},{"$f":"H577-G577*K577","v":0},0,{"$f":"(M577-L577)/K577","v":0},0.5,{"$f":"(O577-L577)/K577","v":25},0.3,{"$f":"(Q577-L577)/K577","v":15},null,null,null,null,null,null,null,null,null,null,null,null,null,null,null,null,null,null,null,null,null,null,null,null,264]
["شیفت افقی تکه جلو آستین کتی به سانتیمتر","(از -100 الی100)",{"$f":"K578*E578+L578","v":2},"بهینه=دلخواه",{"$f":"'طراحی همه الگوها'!K201","v":2},"شیفت افقی تکه جلو آستین کتی (سانتیمتر)",1,1,0,0,{"$f":"(J578-H578)/(I578-G578)","v":1},{"$f":"H578-G578*K578","v":0},null,1,null,100,0,null,null,null,null,null,null,null,null,null,null,null,null,null,null,null,null,null,null,null,null,null,null,null,null,null,264.5]
[null,null,null,null,null,null,null,null,null,null,null,null,null,null,null,null,null,null,null,null,null,null,null,null,null,null,null,null,null,null,null,null,null,null,null,null,null,null,null,null,null,null,265]
[" متغیر ورودی آستین کلوش :",null,null,null,null," متغیر ورودی آستین کلوش :","x1","y1","x2","y2(بهینه)","a","b",null,"کمترین",null,"بیشترین",null,null,null,null,null,null,null,null,null,null,null,null,null,null,null,null,null,null,null,null,null,null,null,null,null,null,265.5]
["بلندی آستین","(از 0 الی 1)",{"$f":"K581*E581+L581","v":0.18999999999999995},"بدون بلندی=0 \nآستین تا مچ=1 ",{"$f":"'طراحی همه الگوها'!K229","v":37},"بلندی پایین آستین کلوش",30,0.4,10,1,{"$f":"(J581-H581)/(I581-G581)","v":-0.03},{"$f":"H581-G581*K581","v":1.2999999999999998},0,{"$f":"(M581-L581)/K581","v":43.333333333333329},1,{"$f":"(O581-L581)/K581","v":9.9999999999999947},1,{"$f":"(Q581-L581)/K581","v":9.9999999999999947},null,null,null,null,null,null,null,null,null,null,null,null,null,null,null,null,null,null,null,null,null,null,null,null,266]
["زاویه اوزمان آستین (برحسب درجه)","(از 0 الی 30)",{"$f":"K582*E582+L582","v":10},"بدون کلوش=0 \nبهینه=15 ",{"$f":"'طراحی همه الگوها'!K230","v":10}," اوزمان آستین کلوش ",1,1,0,0,{"$f":"(J582-H582)/(I582-G582)","v":1},{"$f":"H582-G582*K582","v":0},0,{"$f":"(M582-L582)/K582","v":0},30,{"$f":"(O582-L582)/K582","v":30},15,{"$f":"(Q582-L582)/K582","v":15},null,null,null,null,null,null,null,null,null,null,null,null,null,null,null,null,null,null,null,null,null,null,null,null,266.5]
[null,null,null,null,null,null,null,null,null,null,null,null,null,null,null,null,null,null,null,null,null,null,null,null,null,null,null,null,null,null,null,null,null,null,null,null,null,null,null,null,null,null,267]
[" متغیر ورودی آستین کلوش معکوس :",null,null,null,null," متغیر ورودی آستین کلوش معکوس :","x1","y1","x2","y2(بهینه)","a","b",null,"کمترین",null,"بیشترین",null,null,null,null,null,null,null,null,null,null,null,null,null,null,null,null,null,null,null,null,null,null,null,null,null,null,267.5]
["بلندی آستین","(از 0 الی 1)",{"$f":"K585*E585+L585","v":0.39999999999999991},"بدون بلندی=0 \nآستین تا مچ=1 ",{"$f":"'طراحی همه الگوها'!K245","v":30},"بلندی پایین آستین کلوش معکوس",30,0.4,10,1,{"$f":"(J585-H585)/(I585-G585)","v":-0.03},{"$f":"H585-G585*K585","v":1.2999999999999998},0,{"$f":"(M585-L585)/K585","v":43.333333333333329},1,{"$f":"(O585-L585)/K585","v":9.9999999999999947},1,{"$f":"(Q585-L585)/K585","v":9.9999999999999947},null,null,null,null,null,null,null,null,null,null,null,null,null,null,null,null,null,null,null,null,null,null,null,null,268]
["زاویه اوزمان آستین (برحسب درجه)","(از 0 الی 10)",{"$f":"K586*E586+L586","v":5},"بدون کلوش=0 \nبهینه=5 ",{"$f":"'طراحی همه الگوها'!K246","v":5}," اوزمان آستین کلوش معکوس ",1,1,0,0,{"$f":"(J586-H586)/(I586-G586)","v":1},{"$f":"H586-G586*K586","v":0},0,{"$f":"(M586-L586)/K586","v":0},10,{"$f":"(O586-L586)/K586","v":10},5,{"$f":"(Q586-L586)/K586","v":5},null,null,null,null,null,null,null,null,null,null,null,null,null,null,null,null,null,null,null,null,null,null,null,null,268.5]
["متغیرهای ورودی شلوار",null,null,null,null,"متغیرهای ورودی شلوار",null,null,null,null,null,null,null,null,null,null,null,null,null,null,null,null,null,null,null,null,null,null,null,null,null,null,null,null,null,null,null,null,null,null,null,null,269]
[null,null,null,null,null,null,null,null,null,null,null,null,null,null,null,null,null,null,null,null,null,null,null,null,null,null,null,null,null,null,null,null,null,null,null,null,null,null,null,null,null,null,269.5]
[" متغیرهای ورودی کلی شلوار",null,null,null,null," متغیرهای ورودی کلی شلوار","x1","y1","x2","y2(بهینه)","a","b",null,"کمترین",null,"بیشترین",null,null,null,null,null,null,null,null,null,null,null,null,null,null,null,null,null,null,null,null,null,null,null,null,null,null,270]
["ضریب گشاد یا تنگ شدن اندازه های عرضی در شلوار   t4 ","(از -0.2 الی 0.3)",{"$f":"K590*E590+L590","v":-0.05},"اندامی=0\nرکاب دار= - 0.15",{"$f":"'طراحی همه الگوها'!N177","v":-5},"ضریب گشاد یا تنگ شدن اندازه های عرضی در شلوار    ",1,0.01,0,0,{"$f":"(J590-H590)/(I590-G590)","v":0.01},{"$f":"H590-G590*K590","v":0},-0.2,{"$f":"(M590-L590)/K590","v":-20},0.3,{"$f":"(O590-L590)/K590","v":30},-0.15,{"$f":"(Q590-L590)/K590","v":-15},null,null,null,null,null,null,null,null,null,null,null,null,null,null,null,null,null,null,null,null,null,null,null,null,270.5]
["ضریب گشاد یا تنگ شدن اندازه های طولی در شلوار   t41 ","(از -0.2 الی 0.2)",0,"اندامی=0\nرکاب دار= - 0.07",{"$f":"'طراحی همه الگوها'!B195","v":0},"ضریب گشاد یا تنگ شدن اندازه های طولی در شلوار    ",1,0.01,0,0,0.01,0,-0.2,-20,0.2,20,-7.0000000000000007E-2,-7.0000000000000009,null,null,null,null,null,null,null,null,null,null,null,null,null,null,null,null,null,null,null,null,null,null,null,null,271]
["ضریب کوتاهی لبه شلوار تا زمین  (قد شلوار)   t1","(از -0.1 الی 1.8)",0.75,"خط زمین=0 \nخط زانو=1 \nخط باسن = 2",{"$f":"'طراحی همه الگوها'!N179","v":25},"ضریب کوتاهی پایین شلوار  (قد شلوار)   ",10,0,30,1,0.05,-0.5,-0.1,8,1.8,45.999999999999993,1,30,null,null,null,null,null,null,null,null,null,null,null,null,null,null,null,null,null,null,null,null,null,null,null,null,271.5]
["ضریب گشادی پاچه شلوار t2","(از 0.8 الی 3)",2.0000000000000009,"بهینه=1.6",{"$f":"'طراحی همه الگوها'!N180","v":20},"ضریب گشادی پاچه شلوار ",1,1.05,0,1,5.0000000000000044E-2,1,0.8,-3.9999999999999956,3,39.999999999999964,1.6,11.999999999999991,null,null,null,null,null,null,null,null,null,null,null,null,null,null,null,null,null,null,null,null,null,null,null,null,272]
["ضریب گشادی دور زانو t3","(از 0.8 الی 2)",1.2500000000000002,"بهینه=1.2",{"$f":"'طراحی همه الگوها'!N181","v":5},"ضریب گشادی دور زانو ",1,1.05,0,1,5.0000000000000044E-2,1,0.8,-3.9999999999999956,2,19.999999999999982,1.2,3.9999999999999956,null,null,null,null,null,null,null,null,null,null,null,null,null,null,null,null,null,null,null,null,null,null,null,null,272.5]
["ضریب عرض زیپ  t14 ","(از 0 الی 0.5)",0.30000000000000004,"بهینه=0.3",{"$f":"'طراحی همه الگوها'!N182","v":6},"ضریب عرض زیپ   ",1,0.05,0,0,0.05,0,0,0,0.5,10,0.3,5.9999999999999991,null,null,null,null,null,null,null,null,null,null,null,null,null,null,null,null,null,null,null,null,null,null,null,null,273]
["شیفت افقی کل الگو جلو شلوار (به سانتیمتر)  x1","(از -100 الی100)",15,"بهینه=دلخواه",{"$f":"'طراحی همه الگوها'!N183","v":15},"شیفت افقی کل الگو جلو شلوار (سانتیمتر)  ",1,1,0,0,1,0,-100,-100,100,100,null,null,null,null,null,null,null,null,null,null,null,null,null,null,null,null,null,null,null,null,null,null,null,null,null,null,273.5]
["شیفت عمودی کل الگو جلو شلوار (به سانتیمتر)  y1","(از -100 الی100)",0,"بهینه=دلخواه",{"$f":"'طراحی همه الگوها'!N184","v":0},"شیفت عمودی کل الگو جلو شلوار (سانتیمتر)  ",1,1,0,0,1,0,-100,-100,100,100,null,null,null,null,null,null,null,null,null,null,null,null,null,null,null,null,null,null,null,null,null,null,null,null,null,null,274]
["شیفت افقی کل الگو پشت شلوار (به سانتیمتر)  xp1","(از -100 الی100)",10,"بهینه=دلخواه",{"$f":"'طراحی همه الگوها'!N185","v":10},"شیفت افقی کل الگو پشت شلوار (سانتیمتر)  ",1,1,0,0,1,0,-100,-100,100,100,null,null,null,null,null,null,null,null,null,null,null,null,null,null,null,null,null,null,null,null,null,null,null,null,null,null,274.5]
["شیفت عمودی کل الگو پشت شلوار (به سانتیمتر)  yp1","(از -100 الی100)",0,"بهینه=دلخواه",{"$f":"'طراحی همه الگوها'!N186","v":0},"شیفت عمودی کل الگو پشت شلوار (سانتیمتر)  ",1,1,0,0,1,0,-100,-100,100,100,null,null,null,null,null,null,null,null,null,null,null,null,null,null,null,null,null,null,null,null,null,null,null,null,null,null,275]
[null,null,null,null,null,null,null,null,null,null,null,null,null,null,null,null,null,null,null,null,null,null,null,null,null,null,null,null,null,null,null,null,null,null,null,null,null,null,null,null,null,null,275.5]
[" متغیرهای ورودی - شلوار متصل به بالاتنه",null,null,null,null," متغیرهای ورودی - شلوار متصل به بالاتنه","x1","y1","x2","y2(بهینه)","a","b",null,"کمترین",null,"بیشترین",null,null,null,null,null,null,null,null,null,null,null,null,null,null,null,null,null,null,null,null,null,null,null,null,null,null,276]
[" ضریب بلند شدن فاق در شلوار متصل به بالاتنه   t53 ","(از 0 الی 4)",{"$f":"K602*E602+L602","v":0},"بهینه شلوار متصل به بالاتنه=1\nغیر از آن= 0",{"$f":"'طراحی همه الگوها'!N205","v":10}," ضریب بلند شدن فاق در شلوار متصل به بالاتنه    ",11,0.1,10,0,{"$f":"(J602-H602)/(I602-G602)","v":0.1},{"$f":"H602-G602*K602","v":-1},0,{"$f":"(M602-L602)/K602","v":10},4,{"$f":"(O602-L602)/K602","v":50},1,{"$f":"(Q602-L602)/K602","v":20},null,null,null,null,null,null,null,null,null,null,null,null,null,null,null,null,null,null,null,null,null,null,null,null,276.5]
["ضریب بزرگی پهنای جادکمه پهلو","(از 0 الی 0.1)",{"$f":"K603*E603+L603","v":0.05},"بهینه=0.04",{"$f":"'طراحی همه الگوها'!N206","v":5},"ضریب بزرگی پهنای جادکمه پهلو",1,0.01,0,0,{"$f":"(J603-H603)/(I603-G603)","v":0.01},{"$f":"H603-G603*K603","v":0},0,{"$f":"(M603-L603)/K603","v":0},0.1,{"$f":"(O603-L603)/K603","v":10},0.04,{"$f":"(Q603-L603)/K603","v":4},null,null,null,null,null,null,null,null,null,null,null,null,null,null,null,null,null,null,null,null,null,null,null,null,277]
[null,null,null,null,null,null,null,null,null,null,null,null,null,null,null,null,null,null,null,null,null,null,null,null,null,null,null,null,null,null,null,null,null,null,null,null,null,null,null,null,null,null,277.5]
[" متغیرهای ورودی کمر شلوار",null,null,null,null," متغیرهای ورودی کمر شلوار","x1","y1","x2","y2(بهینه)","a","b",null,"کمترین",null,"بیشترین",null,null,null,null,null,null,null,null,null,null,null,null,null,null,null,null,null,null,null,null,null,null,null,null,null,null,278]
[" پایین آمدن کمر لباس نسبت به کمر اندام به سانتیمتر  t7","(از -2 الی 10)",{"$f":"K606*E606+L606","v":5},"پهنای کش=2الی3  ",{"$f":"'طراحی همه الگوها'!N196","v":-5}," پایین آمدن کمر شلوار نسبت به کمر اندام   ",1,-1,0,0,{"$f":"(J606-H606)/(I606-G606)","v":-1},{"$f":"H606-G606*K606","v":0},-2,{"$f":"(M606-L606)/K606","v":2},10,{"$f":"(O606-L606)/K606","v":-10},2,{"$f":"(Q606-L606)/K606","v":-2},null,null,null,null,null,null,null,null,null,null,null,null,null,null,null,null,null,null,null,null,null,null,null,null,{"$f":"AQ605+0.5","v":278.5}]
[" پهنای کمر شلوار به سانتیمتر  t8","(از 0 الی 10)",3.5,"پهنای کش=2الی3  ",{"$f":"'طراحی همه الگوها'!N197","v":3.5}," پهنای کمر جدا در شلوار  (cm) ",1,1,0,0,1,0,0,0,10,10,2,{"$f":"(Q607-L607)/K607","v":2},null,null,null,null,null,null,null,null,null,null,null,null,null,null,null,null,null,null,null,null,null,null,null,null,279]
["کوتاهی جلو کمر شلوار به سانتیمتر t9","(از -2 الی 10)",0,"بدون کوتاهی=0",{"$f":"'طراحی همه الگوها'!N198","v":0},"کوتاهی جلو کمر شلوار نسبت به پشت کمر شلوار (cm) ",1,-1,0,0,-1,0,-2,2,10,-10,0,{"$f":"(Q608-L608)/K608","v":0},null,null,null,null,null,null,null,null,null,null,null,null,null,null,null,null,null,null,null,null,null,null,null,null,279.5]
["شیفت افقی  جلو کمر شلوار (به سانتیمتر)  t49","(از -100 الی100)",0,"بهینه=دلخواه",{"$f":"'طراحی همه الگوها'!N199","v":0},"شیفت افقی  جلو کمر شلوار (سانتیمتر)  ",1,1,0,0,1,0,-100,-100,100,100,null,null,null,null,null,null,null,null,null,null,null,null,null,null,null,null,null,null,null,null,null,null,null,null,null,null,280]
["شیفت عمودی  جلو کمر شلوار (به سانتیمتر)  t50","(از -100 الی100)",5,"بهینه=دلخواه",{"$f":"'طراحی همه الگوها'!N200","v":5},"شیفت عمودی  جلو کمر شلوار (سانتیمتر)  ",1,1,0,0,1,0,-100,-100,100,100,null,null,null,null,null,null,null,null,null,null,null,null,null,null,null,null,null,null,null,null,null,null,null,null,null,null,280.5]
["شیفت افقی  پشت کمر شلوار (به سانتیمتر)  t51","(از -100 الی100)",0,"بهینه=دلخواه",{"$f":"'طراحی همه الگوها'!N201","v":0},"شیفت افقی  پشت کمر شلوار (سانتیمتر)  ",1,1,0,0,1,0,-100,-100,100,100,null,null,null,null,null,null,null,null,null,null,null,null,null,null,null,null,null,null,null,null,null,null,null,null,null,null,281]
["شیفت عمودی  پشت کمر شلوار (به سانتیمتر)  t52","(از -100 الی100)",5,"بهینه=دلخواه",{"$f":"'طراحی همه الگوها'!N202","v":5},"شیفت عمودی  پشت کمر شلوار (سانتیمتر)  ",1,1,0,0,1,0,-100,-100,100,100,null,null,null,null,null,null,null,null,null,null,null,null,null,null,null,null,null,null,null,null,null,null,null,null,null,null,281.5]
[null,null,null,null,null,null,null,null,null,null,null,null,null,null,null,null,null,null,null,null,null,null,null,null,null,null,null,null,null,null,null,null,null,null,null,null,null,null,null,null,null,null,282]
["اطلاعات شلوار و اندام",null,null,null,null,"اطلاعات شلوار و اندام",null,null,null,null,null,null,null,null,null,null,null,null,null,null,null,null,null,null,null,null,null,null,null,null,null,null,null,null,null,null,null,null,null,null,null,null,282.5]
["گشادی لبه شلوار (محاسبه شده)",{"$f":"ROUND(محاسبات!W568-محاسبات!W567+محاسبات!AG568-محاسبات!AG567,1)","v":25.2},null,null,null,"گشادی لبه شلوار (سانتیمتر) (محاسبه شده)",null,null,null,null,null,null,null,null,null,null,null,null,null,null,null,null,null,null,null,null,null,null,null,null,null,null,null,null,null,null,null,null,null,null,null,null,283]
["دور کمر (اندازه گیری شده)",{"$f":"'متغیرها '!U52","v":42},null,null,null,"دور کمر (سانتیمتر) (اندازه گیری شده)",null,null,null,null,null,null,null,null,null,null,null,null,null,null,null,null,null,null,null,null,null,null,null,null,null,null,null,null,null,null,null,null,null,null,null,null,283.5]
["طول کش برای کل کمر شلوار (محاسبه شده)",{"$f":"ROUND(0.8*B616,1)","v":33.6},null,null,null,"طول کش برای کل کمر شلوار (سانتیمتر) (محاسبه شده)",null,null,null,null,null,null,null,null,null,null,null,null,null,null,null,null,null,null,null,null,null,null,null,null,null,null,null,null,null,null,null,null,null,null,null,null,{"$f":"AQ616+0.5","v":284}]
["طول کش برای پشت کمر بین دو خط پهلو (محاسبه شده)",{"$f":"ROUND(0.8*'متغیرها '!U53,1)","v":16.5},null,null,null,"طول کش برای پشت کمر بین دو خط پهلو (سانتیمتر) (محاسبه شده)",null,null,null,null,null,null,null,null,null,null,null,null,null,null,null,null,null,null,null,null,null,null,null,null,null,null,null,null,null,null,null,null,null,null,null,null,284.5]
["طول کش از ساسون جلو - پشت - تا ساسون دیگر جلو (محاسبه شده)",{"$f":"ROUND(0.8*('متغیرها '!U53+0.3*('متغیرها '!U52-'متغیرها '!U53)),1)","v":21.6},null,null,null,"طول کش از ساسون جلو - پشت - تا ساسون دیگر جلو (سانتیمتر) (محاسبه شده)",null,null,null,null,null,null,null,null,null,null,null,null,null,null,null,null,null,null,null,null,null,null,null,null,null,null,null,null,null,null,null,null,null,null,null,null,285]
[null,null,null,null,null,null,null,null,null,null,null,null,null,null,null,null,null,null,null,null,null,null,null,null,null,null,null,null,null,null,null,null,null,null,null,null,null,null,null,null,null,null,285.5]
[" متغیرهای ورودی جزئی شلوار",null,null,null,null," متغیرهای ورودی جزئی شلوار","x1","y1","x2","y2(بهینه)","a","b",null,"کمترین",null,"بیشترین",null,null,null,null,null,null,null,null,null,null,null,null,null,null,null,null,null,null,null,null,null,null,null,null,null,null,286]
["ضریب گشادی دور ران یا نسبت گشادی پشت پاچه به جلو پاچه  t5","(از 1 الی 1.5)",{"$f":"K622*E622+L622","v":1.2},"بهینه=1.2",{"$f":"'طراحی همه الگوها'!N209","v":1.2},"ضریب گشادی دور ران یا نسبت گشادی پشت پاچه به جلو پاچه  ",2,2,1,1,{"$f":"(J622-H622)/(I622-G622)","v":1},{"$f":"H622-G622*K622","v":0},1,{"$f":"(M622-L622)/K622","v":1},1.5,{"$f":"(O622-L622)/K622","v":1.5},1.2,{"$f":"(Q622-L622)/K622","v":1.2},null,null,null,null,null,null,null,null,null,null,null,null,null,null,null,null,null,null,null,null,null,null,null,null,286.5]
["زاویه خط پهلو جلو به درجه  t6","(از 0 الی 10)",-1,"بهینه=7\nبهينه پا پرانتزی=4\nکد برای اعمال روش مولر= -1",{"$f":"IF('طراحی همه الگوها'!N210=AN170,-1,'طراحی همه الگوها'!N210)","v":-1},"زاویه خط پهلو جلو به درجه  ",1,1,0,0,1,0,0,0,10,10,7,7,null,null,null,null,null,null,null,null,null,null,null,null,null,null,null,null,null,null,null,null,null,null,null,null,287]
["ضریب پهنای صافی لبه پایین شلوار  t10 ","(از 0 الی 0.5)",0,"بهینه=0.1",{"$f":"'طراحی همه الگوها'!N211","v":0},"ضریب پهنای صافی لبه پایین شلوار   ",1,0.05,0,0,0.05,0,0,0,0.5,10,0.1,2,null,null,null,null,null,null,null,null,null,null,null,null,null,null,null,null,null,null,null,null,null,null,null,null,287.5]
["ضریب بالا یا پایین رفتن خط زانو  t11 ","(از -0.4 الی 0.6)",0,"بدون تغییر=0\nمنفی به سمت بالای زانو\nمثبت به سمت پایین زانو",{"$f":"'طراحی همه الگوها'!N212","v":0},"ضریب بالا یا پایین رفتن خط زانو   ",-1,0.05,0,0,-0.05,0,-0.4,8,0.6,-11.999999999999998,0,0,null,null,null,null,null,null,null,null,null,null,null,null,null,null,null,null,null,null,null,null,null,null,null,null,288]
["ضریب پهنای فاق جلو (در روش مولر این ضریب ثابت مساوی 0.06 می باشد)  t12 ","(از 0.03 الی 0.08)",0.05,"بهینه=0.05",{"$f":"'طراحی همه الگوها'!N213","v":5},"ضریب پهنای فاق جلو (در روش مولر این ضریب ثابت مساوی 0.06 می باشد)   ",1,0.01,0,0,0.01,0,0.03,3,0.08,8,0.05,5,null,null,null,null,null,null,null,null,null,null,null,null,null,null,null,null,null,null,null,null,null,null,null,null,288.5]
["تغییر زاویه خط وسط پا در پشت شلوار  t13 ","(از 0 الی 5)",1,"بهینه=1",{"$f":"'طراحی همه الگوها'!N214","v":2},"تغییر زاویه خط وسط پا در پشت شلوار   ",1,0.5,0,0,0.5,0,0,0,5,10,1,2,null,null,null,null,null,null,null,null,null,null,null,null,null,null,null,null,null,null,null,null,null,null,null,null,289]
["ضریب کوتاه شدن ساسون پشت شلوار  t20 ","(از 0.07 الی 1.5)",1,"بهینه=1",{"$f":"'طراحی همه الگوها'!N215","v":20},"ضریب کوتاه شدن ساسون پشت شلوار   ",1,0.05,0,0,0.05,0,7.0000000000000007E-2,1.4000000000000001,1.5,30,1,20,null,null,null,null,null,null,null,null,null,null,null,null,null,null,null,null,null,null,null,null,null,null,null,null,289.5]
["ضریب کوتاه شدن ساسون جلو شلوار  t21 ","(از 0.1 الی 1.5)",1,"بهینه=1",{"$f":"'طراحی همه الگوها'!N216","v":20},"ضریب کوتاه شدن ساسون جلو شلوار   ",1,0.05,0,0,0.05,0,0.1,2,1.5,30,1,20,null,null,null,null,null,null,null,null,null,null,null,null,null,null,null,null,null,null,null,null,null,null,null,null,290]
["ضریب پهنای ساسون وسط پشت شلوار  t42 ","(از 0 الی 1.5)",1,"بهینه=1\nبهینه جین=0.5\nحذف ساسون وسط=0",{"$f":"'طراحی همه الگوها'!N217","v":10},"ضریب پهنای ساسون وسط پشت شلوار   ",1,0.1,0,0,0.1,0,0,0,1.5,15,0.5,5,null,null,null,null,null,null,null,null,null,null,null,null,null,null,null,null,null,null,null,null,null,null,null,null,290.5]
["ضریب پهنای ساسون پهلو پشت شلوار  t43 ","(از 0 الی 3)",0.5,"بهینه=1\nبهینه جین=1.5\nانتقال ساسون وسط به پهلو=3",{"$f":"'طراحی همه الگوها'!N218","v":5},"ضریب پهنای ساسون پهلو پشت شلوار   ",1,0.1,0,0,0.1,0,0,0,3,30,1,10,null,null,null,null,null,null,null,null,null,null,null,null,null,null,null,null,null,null,null,null,null,null,null,null,291]
["ضریب پهنای ساسون وسط جلو شلوار  t44 ","(از 0 الی 1.5)",1,"بهینه=1\nحذف ساسون وسط=0",{"$f":"'طراحی همه الگوها'!N219","v":10},"ضریب پهنای ساسون وسط جلو شلوار   ",1,0.1,0,0,0.1,0,0,0,1.5,15,1,10,null,null,null,null,null,null,null,null,null,null,null,null,null,null,null,null,null,null,null,null,null,null,null,null,291.5]
["ضریب پهنای ساسون پهلو جلو شلوار  t45 ","(از 0 الی 2)",0.5,"بهینه=1\nانتقال ساسون وسط به پهلو=2",{"$f":"'طراحی همه الگوها'!N220","v":5},"ضریب پهنای ساسون پهلو جلو شلوار   ",1,0.1,0,0,0.1,0,0,0,2,20,1,10,null,null,null,null,null,null,null,null,null,null,null,null,null,null,null,null,null,null,null,null,null,null,null,null,292]
["ضریب حذف ساسون پهلو در کمر جدا شلوار   t15","(از 0 الی 1)",0,"ساسون حذف شود=0\nساسون حذف نشود=1",{"$f":"'طراحی همه الگوها'!N221","v":0},"ضریب حذف ساسون پهلو در کمر جدا شلوار   ",1,0.1,0,0,{"$f":"(J634-H634)/(I634-G634)","v":0.1},{"$f":"H634-G634*K634","v":0},0,0,1,10,1,10,null,null,null,null,null,null,null,null,null,null,null,null,null,null,null,null,null,null,null,null,null,null,null,null,292.5]
[" شبیه ساز   فاق اندازه گیری منهای فاق پشت و جلو",{"$f":"ROUND(محاسبات!L597,1)","v":0.5},null,null,null,null,null,null,null,null,null,null,null,null,null,null,null,null,null,null,null,null,null,null,null,null,null,null,null,null,null,null,null,null,null,null,null,null,null,null,null,null,293]
[" زاویه خط پهلو جلوبه درجه",{"$f":"ROUND(محاسبات!K598,1)","v":5.7},null,null,null,null,null,null,null,null,null,null,null,null,null,null,null,null,null,null,null,null,null,null,null,null,null,null,null,null,null,null,null,null,null,null,null,null,null,null,null,null,293.5]
[" شبیه ساز   زاویه خط پهلو جلوبه درجه",{"$f":"ROUND(محاسبات!L598,1)","v":12.4},null,null,null,null,null,null,null,null,null,null,null,null,null,null,null,null,null,null,null,null,null,null,null,null,null,null,null,null,null,null,null,null,null,null,null,null,null,null,null,null,294]
["زاویه خط پهلو پشت به درجه",{"$f":"ROUND(محاسبات!K599,1)","v":16.7},null,null,null,null,null,null,null,null,null,null,null,null,null,null,null,null,null,null,null,null,null,null,null,null,null,null,null,null,null,null,null,null,null,null,null,null,null,null,null,null,294.5]
[" شبیه ساز   زاویه خط پهلو پشت به درجه",{"$f":"ROUND(محاسبات!L599,1)","v":24.4},null,null,null,null,null,null,null,null,null,null,null,null,null,null,null,null,null,null,null,null,null,null,null,null,null,null,null,null,null,null,null,null,null,null,null,null,null,null,null,null,295]
[null,null,null,null,null,null,null,null,null,null,null,null,null,null,null,null,null,null,null,null,null,null,null,null,null,null,null,null,null,null,null,null,null,null,null,null,null,null,null,null,null,null,295.5]
[" متغیرهای ورودی شلوار - برش پشت جین",null,null,null,null," متغیرهای ورودی شلوار - برش پشت جین","x1","y1","x2","y2(بهینه)","a","b",null,"کمترین",null,"بیشترین",null,null,null,null,null,null,null,null,null,null,null,null,null,null,null,null,null,null,null,null,null,null,null,null,null,null,296]
["ضریب بالا یا پایین شدن خط برش در قسمت پهلو پشت شلوار جین  t19 ","(از 0.01 الی 1",{"$f":"K642*E642+L642","v":0.5},"بهینه=0.5",{"$f":"'طراحی همه الگوها'!N224","v":20},"ضریب بالا یا پایین شدن خط برش در قسمت پهلو پشت شلوار جین   ",19,0.45,20,0.5,{"$f":"(J642-H642)/(I642-G642)","v":4.9999999999999989E-2},{"$f":"H642-G642*K642","v":-0.49999999999999972},0.01,{"$f":"(M642-L642)/K642","v":10.199999999999996},1,{"$f":"(O642-L642)/K642","v":30.000000000000004},0.5,{"$f":"(Q642-L642)/K642","v":20},null,null,null,null,null,null,null,null,null,null,null,null,null,null,null,null,null,null,null,null,null,null,null,null,296.5]
["ضریب بالا یا پایین شدن خط برش در قسمت مرکزی پشت شلوار جین  t28 ","(از 0.01 الی 1",{"$f":"K643*E643+L643","v":0.6},"بهینه=0.6",{"$f":"'طراحی همه الگوها'!N225","v":20},"ضریب بالا یا پایین شدن خط برش در قسمت مرکزی پشت شلوار جین   ",19,0.55000000000000004,20,0.6,{"$f":"(J643-H643)/(I643-G643)","v":4.9999999999999933E-2},{"$f":"H643-G643*K643","v":-0.39999999999999869},0.01,{"$f":"(M643-L643)/K643","v":8.1999999999999851},1,{"$f":"(O643-L643)/K643","v":28.000000000000011},0.6,{"$f":"(Q643-L643)/K643","v":20},null,null,null,null,null,null,null,null,null,null,null,null,null,null,null,null,null,null,null,null,null,null,null,null,297]
[null,null,null,null,null,null,null,null,null,null,null,null,null,null,null,null,null,null,null,null,null,null,null,null,null,null,null,null,null,null,null,null,null,null,null,null,null,null,null,null,null,null,297.5]
[" متغیرهای ورودی دامن شلواری",null,null,null,null," متغیرهای ورودی دامن شلواری","x1","y1","x2","y2(بهینه)","a","b",null,"کمترین",null,"بیشترین",null,null,null,null,null,null,null,null,null,null,null,null,null,null,null,null,null,null,null,null,null,null,null,null,null,null,298]
[" ضریب بلند شدن فاق در دامن شلواری   t46 ","(از 0 الی 2)",{"$f":"K646*E646+L646","v":0},"بهینه دامن شلواری=1\nغیر از دامن شلواری = 0",{"$f":"'طراحی همه الگوها'!N228","v":10}," ضریب بلند شدن فاق در دامن شلواری    ",11,0.1,10,0,{"$f":"(J646-H646)/(I646-G646)","v":0.1},{"$f":"H646-G646*K646","v":-1},0,{"$f":"(M646-L646)/K646","v":10},2,{"$f":"(O646-L646)/K646","v":30},1,{"$f":"(Q646-L646)/K646","v":20},null,null,null,null,null,null,null,null,null,null,null,null,null,null,null,null,null,null,null,null,null,null,null,null,298.5]
["زاویه اوزمان در جلو دامن شلواری به درجه    t47 ","(از 0 الی 30)",{"$f":"K647*E647+L647","v":8},"بهینه=8",{"$f":"'طراحی همه الگوها'!N229","v":8},"زاویه اوزمان در جلو دامن شلواری به درجه     ",1,1,0,0,{"$f":"(J647-H647)/(I647-G647)","v":1},{"$f":"H647-G647*K647","v":0},0,{"$f":"(M647-L647)/K647","v":0},30,{"$f":"(O647-L647)/K647","v":30},8,{"$f":"(Q647-L647)/K647","v":8},null,null,null,null,null,null,null,null,null,null,null,null,null,null,null,null,null,null,null,null,null,null,null,null,299]
["زاویه اوزمان در پشت دامن شلواری به درجه    t48 ","(از 0 الی 30)",{"$f":"K648*E648+L648","v":8},"بهینه=8",{"$f":"'طراحی همه الگوها'!N230","v":8},"زاویه اوزمان در پشت دامن شلواری به درجه     ",1,1,0,0,{"$f":"(J648-H648)/(I648-G648)","v":1},{"$f":"H648-G648*K648","v":0},0,{"$f":"(M648-L648)/K648","v":0},30,{"$f":"(O648-L648)/K648","v":30},8,{"$f":"(Q648-L648)/K648","v":8},null,null,null,null,null,null,null,null,null,null,null,null,null,null,null,null,null,null,null,null,null,null,null,null,299.5]
[null,null,null,null,null,null,null,null,null,null,null,null,null,null,null,null,null,null,null,null,null,null,null,null,null,null,null,null,null,null,null,null,null,null,null,null,null,null,null,null,null,null,300]
[" متغیرهای ورودی شلوار با تکه پهلو جدا",null,null,null,null," متغیرهای ورودی شلوار با تکه پهلو جدا","x1","y1","x2","y2(بهینه)","a","b",null,"کمترین",null,"بیشترین"]
["ضریب پهنای تکه پهلو جلو شلوار  t29 ","(از 0 الی 0.9)",{"$f":"K651*E651+L651","v":0.60000000000000009},"بهینه=0.6",{"$f":"'طراحی همه الگوها'!N233","v":12},"ضریب پهنای تکه پهلو جلو شلوار   ",1,0.05,0,0,{"$f":"(J651-H651)/(I651-G651)","v":0.05},{"$f":"H651-G651*K651","v":0},0,{"$f":"(M651-L651)/K651","v":0},0.9,{"$f":"(O651-L651)/K651","v":18},0.6,{"$f":"(Q651-L651)/K651","v":11.999999999999998}]
["ضریب پهنای تکه پهلو پشت شلوار  t30 ","(از 0 الی 0.9)",0.30000000000000004,"بهینه=0.3",{"$f":"'طراحی همه الگوها'!N234","v":6},"ضریب پهنای تکه پهلو پشت شلوار   ",1,0.05,0,0,0.05,0,0,0,0.9,18,0.3,{"$f":"(Q652-L652)/K652","v":5.9999999999999991}]
["ضریب باریک شدن پایین تکه پهلو جلو شلوار  t31 ","(از 0 الی 4)",0.5,"بهینه=0.5",{"$f":"'طراحی همه الگوها'!N235","v":5},"ضریب باریک شدن پایین تکه پهلو جلو شلوار   ",1,0.1,0,0,0.1,0,0,0,4,40,0.5,{"$f":"(Q653-L653)/K653","v":5}]
["ضریب باریک شدن پایین تکه پهلو پشت شلوار  t32 ","(از 0 الی 4)",0.5,"بهینه=0.5",{"$f":"'طراحی همه الگوها'!N236","v":5},"ضریب باریک شدن پایین تکه پهلو پشت شلوار   ",1,0.1,0,0,0.1,0,0,0,4,40,0.5,{"$f":"(Q654-L654)/K654","v":5}]
["شیفت افقی تکه پهلو شلوار (به سانتیمتر)  t33","(از -100 الی100)",7,"بهینه=3",{"$f":"'طراحی همه الگوها'!N237","v":7},"شیفت افقی تکه پهلو شلوار (سانتیمتر)  ",1,1,0,0,1,0,-100,-100,100,100]
["شیفت عمودی تکه پهلو شلوار (به سانتیمتر)  t34","(از -100 الی100)",0,"بهینه=3",{"$f":"'طراحی همه الگوها'!N238","v":0},"شیفت عمودی تکه پهلو شلوار (سانتیمتر)  ",1,1,0,0,1,0,-100,-100,100,100]
[]
[" متغیرهای ورودی شلوار - رکاب دار",null,null,null,null," متغیرهای ورودی شلوار - رکاب دار","x1","y1","x2","y2(بهینه)","a","b",null,"کمترین",null,"بیشترین"]
["ضریب پهنای رکاب جلو شلوار  t35 ","(از 0.1 الی 2)",{"$f":"K659*E659+L659","v":1},"بهینه=1",{"$f":"'طراحی همه الگوها'!N241","v":20},"ضریب پهنای رکاب جلو شلوار   ",1,0.05,0,0,{"$f":"(J659-H659)/(I659-G659)","v":0.05},{"$f":"H659-G659*K659","v":0},0.1,{"$f":"(M659-L659)/K659","v":2},2,{"$f":"(O659-L659)/K659","v":40},1,{"$f":"(Q659-L659)/K659","v":20}]
["ضریب پهنای رکاب پشت شلوار  t36 ","(از 0.1 الی 2)",1,"بهینه=1",{"$f":"'طراحی همه الگوها'!N242","v":20},"ضریب پهنای رکاب پشت شلوار   ",1,0.05,0,0,0.05,0,0.1,2,2,40,1,20]
["ضریب قله رکاب جلو شلوار  t37 ","(از 0 الی 2)",0,"بهینه=1\nبدون رکاب = 0",{"$f":"'طراحی همه الگوها'!N243","v":0},"ضریب قله رکاب جلو شلوار   ",1,0.05,0,0,0.05,0,0,0,2,40,1,20]
["ضریب قله رکاب پشت شلوار  t38 ","(از 0 الی 2)",0,"بهینه=1\nبدون رکاب = 0",{"$f":"'طراحی همه الگوها'!N244","v":0},"ضریب قله رکاب پشت شلوار   ",1,0.05,0,0,0.05,0,0,0,2,40,1,20]
["ضریب ارتفاع رکاب جلو شلوار  t39 ","(از 0 الی 2)",0,"بهینه=1\nبدون رکاب = 0",{"$f":"'طراحی همه الگوها'!N245","v":0},"ضریب ارتفاع رکاب جلو شلوار   ",1,0.05,0,0,0.05,0,0,0,2,40,1,20]
["ضریب ارتفاع رکاب پشت شلوار  t40 ","(از 0 الی 2)",0,"بهینه=1\nبدون رکاب = 0",{"$f":"'طراحی همه الگوها'!N246","v":0},"ضریب ارتفاع رکاب پشت شلوار   ",1,0.05,0,0,0.05,0,0,0,2,40,1,20]
[]
[" متغیرهای ورودی شلوار - جیب پشت جین",null,null,null,null," متغیرهای ورودی شلوار - جیب پشت جین","x1","y1","x2","y2(بهینه)","a","b",null,"کمترین",null,"بیشترین"]
["ضریب بالا یا پایین شدن جیب پشت شلوار  t22 ","(از 0 الی 4)",{"$f":"K667*E667+L667","v":0.75},"بهینه=0.75",{"$f":"'طراحی همه الگوها'!N255","v":20},"ضریب بالا یا پایین شدن جیب پشت شلوار   ",19,0.7,20,0.75,{"$f":"(J667-H667)/(I667-G667)","v":5.0000000000000044E-2},{"$f":"H667-G667*K667","v":-0.25000000000000089},0,{"$f":"(M667-L667)/K667","v":5.0000000000000133},4,{"$f":"(O667-L667)/K667","v":84.999999999999943},0.75,{"$f":"(Q667-L667)/K667","v":20}]
["زاویه چرخش کل جیب پشت شلوار به درجه t'22 ","(از -90 الی 90)",0,"بهینه=0",{"$f":"'طراحی همه الگوها'!N253","v":45},"زاویه چرخش کل جیب پشت شلوار به درجه  ",46,2,45,0,2,-90,-90,0,90,90,0,45]
["ضریب پهنای جیب پشت شلوار  t23 ","(از 0 الی 1)",0.55000000000000004,"بهینه=0.55",{"$f":"'طراحی همه الگوها'!N249","v":11},"ضریب پهنای جیب پشت شلوار   ",1,0.05,0,0,0.05,0,0,0,1,20,0.55000000000000004,11]
["ضریب ارتفاع جیب پشت شلوار  t24 ","(از 0 الی 1)",0.45,"بهینه=0.45",{"$f":"'طراحی همه الگوها'!N250","v":9},"ضریب ارتفاع جیب پشت شلوار   ",1,0.05,0,0,0.05,0,0,0,1,20,0.45,9]
["زاویه خط پهلو جیب پشت شلوار به درجه t25 ","(از 0 الی 45",5,"بهینه=5",{"$f":"'طراحی همه الگوها'!N251","v":5},"زاویه خط پهلو جیب پشت شلوار به درجه  ",1,1,0,0,1,0,0,0,45,45,5,5]
["زاویه مثلث پایین جیب پشت شلوار به درجه t26 ","(از 0 الی 45)",20,"بهینه=20",{"$f":"'طراحی همه الگوها'!N252","v":20},"زاویه مثلث پایین جیب پشت شلوار به درجه  ",1,1,0,0,1,0,0,0,45,45,20,20]
["چپ و راست رفتن جیب پشت شلوار به سانتی متر   t27 ","(از -100 الی100)",0,"بهینه=0",{"$f":"'طراحی همه الگوها'!N254","v":0},"چپ و راست رفتن جیب پشت شلوار به سانتی متر    ",1,1,0,0,1,0,-100,-100,100,100]
[]
[" متغیرهای ورودی شلوار - جیب جلو مردانه و جین",null,null,null,null," متغیرهای ورودی شلوار - جیب جلو مردانه و جین","x1","y1","x2","y2(بهینه)","a","b",null,"کمترین",null,"بیشترین"]
["ضریب بزرگی عمودی جیب جلو مردانه و جیب جین  t16 ","(از 0.5 الی 1.5)",{"$f":"K676*E676+L676","v":1},"بهینه=1",{"$f":"'طراحی همه الگوها'!N258","v":10},"ضریب بزرگی عمودی جیب جلو مردانه و جیب جین   ",1,0.1,0,0,{"$f":"(J676-H676)/(I676-G676)","v":0.1},{"$f":"H676-G676*K676","v":0},0.5,{"$f":"(M676-L676)/K676","v":5},1.5,{"$f":"(O676-L676)/K676","v":15},1,{"$f":"(Q676-L676)/K676","v":10}]
["ضریب بزرگی افقی جیب جلو مردانه و جیب جین  t17 ","(از 0.5 الی 1.5)",{"$f":"K677*E677+L677","v":1},"بهینه=1",{"$f":"'طراحی همه الگوها'!N259","v":10},"ضریب بزرگی افقی جیب جلو مردانه و جیب جین   ",1,0.1,0,0,{"$f":"(J677-H677)/(I677-G677)","v":0.1},{"$f":"H677-G677*K677","v":0},0.5,{"$f":"(M677-L677)/K677","v":5},1.5,{"$f":"(O677-L677)/K677","v":15},1,{"$f":"(Q677-L677)/K677","v":10}]
["ضریب بزرگی کیسه جیب جلو  t18 ","(از 0.5 الی 1.5)",{"$f":"K678*E678+L678","v":1},"بهینه=1",{"$f":"'طراحی همه الگوها'!N260","v":10},"ضریب بزرگی کیسه جیب جلو   ",1,0.1,0,0,{"$f":"(J678-H678)/(I678-G678)","v":0.1},{"$f":"H678-G678*K678","v":0},0.5,{"$f":"(M678-L678)/K678","v":5},1.5,{"$f":"(O678-L678)/K678","v":15},1,{"$f":"(Q678-L678)/K678","v":10}]
[]
[" متغیرهای ورودی شلوار - جیب جلو درمکان دلخواه",null,null,null,null," متغیرهای ورودی شلوار - جیب جلو درمکان دلخواه","x1","y1","x2","y2(بهینه)","a","b",null,"کمترین",null,"بیشترین"]
["ضریب فاصله افقی وسط جیب از خط مرکزی جلو ","(از 0 الی 1)",{"$f":"K681*E681+L681","v":0.5},"خط مرکزی جلو=0 \nخط پهلو=1  ",{"$f":"'طراحی همه الگوها'!N268","v":10},"ضریب فاصله افقی وسط جیب از خط مرکزی جلو ",20,1,0,0,{"$f":"(J681-H681)/(I681-G681)","v":0.05},{"$f":"H681-G681*K681","v":0},0,{"$f":"(M681-L681)/K681","v":0},1,{"$f":"(O681-L681)/K681","v":20},1,{"$f":"(Q681-L681)/K681","v":20}]
["ضریب فاصله عمودی بالای جیب از زمین ","(از0 الی 5)",2,"خط زمین=0 \nخط زانو=1 \nخط باسن=2 \nخط کمر=3 \nخط سینه=4  ",{"$f":"'طراحی همه الگوها'!N269","v":50},"ضریب فاصله عمودی بالای جیب از زمین ",10,0,30,1,0.05,-0.5,0,10,5,110,1,30]
["عرض پاکت جیب به سانتیمتر","(از 0 الی 4)",2,"بهینه=2",{"$f":"'طراحی همه الگوها'!N263","v":2},"پهنای بلیطی جیب  (سانتیمتر)",1,1,0,0,1,0,0,0,4,4,2,2]
["ضریب طول پاکت جیب","(از 0.01 الی 2)",0.89999999999999991,"بهینه=1",{"$f":"'طراحی همه الگوها'!N264","v":18},"ضریب طول پاکت جیب",19,0.95,20,1,5.0000000000000044E-2,-8.8817841970012523E-16,0.01,0.20000000000001758,2,39.999999999999986,1,20]
["زاویه جیب با عمود به درجه","(از 0 الی 180)",90,"بهینه=دلخواه",{"$f":"'طراحی همه الگوها'!N265","v":18},"زاویه جیب با عمود ",1,5,0,0,5,0,0,0,180,36,20,4]
["زاویه چرخش پاکت جیب از مستطیل به متوازی الاضلاع (به درجه)","(از -90 الی 90)",0,"پاکت مستطیل=0  ",{"$f":"'طراحی همه الگوها'!N266","v":20},"زاویه چرخش پاکت جیب از مستطیل به متوازی الاضلاع ",21,5,20,0,5,-100,-90,2,90,38,0,20]
["انتخاب جیب روکار=1        انتخاب دیگر=0","0 یا 1 ",1,null,{"$f":"'طراحی همه الگوها'!N267","v":2},"انتخاب جیب روکار=2        انتخاب دیگر=1",1,0,2,1,1,-1,0,1,1,2,0,1]
[]
[" متغیرهای ورودی شلوار - جیب پشت درمکان دلخواه",null,null,null,null," متغیرهای ورودی شلوار - جیب پشت درمکان دلخواه","x1","y1","x2","y2(بهینه)","a","b",null,"کمترین",null,"بیشترین"]
["ضریب فاصله افقی وسط جیب از خط مرکزی جلو ","(از 0 الی 1)",{"$f":"K690*E690+L690","v":0.5},"خط مرکزی پشت=0 \nخط پهلو=1  ",{"$f":"'طراحی همه الگوها'!N277","v":10},"ضریب فاصله افقی وسط جیب از خط مرکزی جلو ",20,1,0,0,{"$f":"(J690-H690)/(I690-G690)","v":0.05},{"$f":"H690-G690*K690","v":0},0,{"$f":"(M690-L690)/K690","v":0},1,{"$f":"(O690-L690)/K690","v":20},1,{"$f":"(Q690-L690)/K690","v":20}]
["ضریب فاصله عمودی بالای جیب از زمین ","(از0 الی 5)",2,"خط زمین=0 \nخط زانو=1 \nخط باسن=2 \nخط کمر=3 \nخط سینه=4  ",{"$f":"'طراحی همه الگوها'!N278","v":50},"ضریب فاصله عمودی بالای جیب از زمین ",10,0,30,1,0.05,-0.5,0,10,5,110,1,30]
["عرض پاکت جیب به سانتیمتر","(از 0 الی 4)",2,"بهینه=2",{"$f":"'طراحی همه الگوها'!N272","v":2},"پهنای بلیطی جیب  (سانتیمتر)",1,1,0,0,1,0,0,0,4,4,2,2]
["ضریب طول پاکت جیب","(از 0.01 الی 2)",1,"بهینه=1",{"$f":"'طراحی همه الگوها'!N273","v":20},"ضریب طول پاکت جیب",19,0.95,20,1,5.0000000000000044E-2,-8.8817841970012523E-16,0.01,0.20000000000001758,2,39.999999999999986,1,20]
["زاویه جیب با عمود به درجه","(از 0 الی 180)",90,"بهینه=دلخواه",{"$f":"'طراحی همه الگوها'!N274","v":18},"زاویه جیب با عمود ",1,5,0,0,5,0,0,0,180,36,20,4]
["زاویه چرخش پاکت جیب از مستطیل به متوازی الاضلاع (به درجه)","(از -90 الی 90)",0,"پاکت مستطیل=0  ",{"$f":"'طراحی همه الگوها'!N275","v":20},"زاویه چرخش پاکت جیب از مستطیل به متوازی الاضلاع ",21,5,20,0,5,-100,-90,2,90,38,0,20]
["انتخاب جیب روکار=1        انتخاب دیگر=0","0 یا 1 ",1,null,{"$f":"'طراحی همه الگوها'!N276","v":2},"انتخاب جیب روکار=2        انتخاب دیگر=1",1,0,2,1,1,-1,0,1,1,2,0,1]
["متغیرهای ورودی یقه",null,null,null,null,"متغیرهای ورودی یقه"]
[null,null,"y",null,"x",null,"x1","y1","x2","y2(بهینه)","a","b",null,"کمترین",null,"بیشترین"]
[" متغیرهای ورودی یقه شکاری با پایه",null,null,null,null," متغیرهای ورودی یقه شکاری با پایه"]
["ضریب قد پایه یقه   c20","(از 0.5 الی 2)",{"$f":"K700*E700+L700","v":0.8},"بهینه =0.8",{"$f":"'طراحی همه الگوها'!H206","v":8},"ضریب قد پایه یقه   ",1,0.1,0,0,{"$f":"(J700-H700)/(I700-G700)","v":0.1},{"$f":"H700-G700*K700","v":0},0.5,{"$f":"(M700-L700)/K700","v":5},2,{"$f":"(O700-L700)/K700","v":20},0.8,{"$f":"(Q700-L700)/K700","v":8}]
["ضریب قد پشت برگردان یقه   c1","(از 0.5 الی 3)",2,"بهینه =2",{"$f":"'طراحی همه الگوها'!H207","v":20},"ضریب قد پشت برگردان یقه   ",1,0.1,0,0,0.1,0,0.5,5,3,30,2,20]
["ضریب کج شدن یقه به سمت گردن   c2","(از- 2 الی 0)",-1.3,"بهینه = - 1.3",{"$f":"'طراحی همه الگوها'!H208","v":-13},"ضریب کج شدن یقه به سمت گردن   ",1,0.1,0,0,0.1,0,-2,-20,0,0,-1.3,-13]
["ضریب قرار گرفتن لبه یقه نسبت به لباس   c3","(از 0.3 الی 1)\n- 1 و ",1,"لبه یقه روی خط جادکمه= - 1\nلبه یقه روی خط سرشانه=0\nلبه یقه روی خط مرکزی جلو=1\nبین خط مرکزی جلو تا سرشانه= \nبین 0 تا 1",{"$f":"IF('طراحی همه الگوها'!H209='متغیرها '!AM170,58,IF('طراحی همه الگوها'!H209='متغیرها '!AM171,0,'طراحی همه الگوها'!H209))","v":0},"ضریب قرار گرفتن لبه یقه نسبت به لباس   ",58,-1,0,1,-3.4482758620689655E-2,1,0.3,20.3,1,0,0.3,20.3]
["زاویه لبه برگردان یقه نسبت به عمود  (به درجه)   c14","(از- 40 الی 60)",17,"بهینه =17 \nلبه برگردان عمود به پایه=0",{"$f":"'طراحی همه الگوها'!H210","v":57},"زاویه لبه برگردان یقه نسبت به عمود    ",1,-39,57,17,1,-40,-40,0,60,100,17,57]
["ضریب قد لبه برگردان یقه   c15","(از0.5 الی 4)",2.3000000000000003,"بهینه =2.3",{"$f":"'طراحی همه الگوها'!H211","v":23},"ضریب قد لبه برگردان یقه   ",1,0.1,0,0,0.1,0,0.5,5,4,40,2.2999999999999998,22.999999999999996]
["شیفت افقی پایه یقه  (به سانتیمتر)   c23","(از -100 الی100)",0,"بهینه=دلخواه",{"$f":"'طراحی همه الگوها'!H212","v":0},"شیفت افقی پایه یقه  (سانتیمتر)   ",1,1,0,0,1,0,null,1,null,100,0]
["شیفت عمودی پایه یقه  (به سانتیمتر)  c24","(از -100 الی100)",-5,"بهینه=دلخواه",{"$f":"'طراحی همه الگوها'!H213","v":-5},"شیفت عمودی پایه یقه  (سانتیمتر)  ",1,1,0,0,1,0,null,1,null,100,0]
[]
[" متغیرهای ورودی یقه فرنچی ایستاده و کاسبرگی",null,null,null,null," متغیرهای ورودی یقه فرنچی ایستاده و کاسبرگی","x1","y1","x2","y2(بهینه)","a","b",null,"کمترین",null,"بیشترین"]
["ضریب قد یقه    c1","(از 0.5 الی 2)",{"$f":"K710*E710+L710","v":1.2000000000000002},"بهینه فرنچی=1.2\nبهینه ایستاده=1.4\nبهینه کاسبرگی=1.8",{"$f":"'طراحی همه الگوها'!H188","v":12},"ضریب قد یقه    ",1,0.1,0,0,{"$f":"(J710-H710)/(I710-G710)","v":0.1},{"$f":"H710-G710*K710","v":0},0.5,{"$f":"(M710-L710)/K710","v":5},2,{"$f":"(O710-L710)/K710","v":20},1.4,{"$f":"(Q710-L710)/K710","v":13.999999999999998}]
["ضریب کج شدن یقه به سمت گردن   c2","(از -2 الی 2)",{"$f":"K711*E711+L711","v":1.5},"بهینه فرنچی=1.5\nبهینه ایستاده=0\nبهینه کاسبرگی= - 1\nیقه فرنچی= + \nیقه کاسبرگی= -   ",{"$f":"'طراحی همه الگوها'!H189","v":15},"ضریب کج شدن یقه به سمت گردن  ",1,0.1,0,0,{"$f":"(J711-H711)/(I711-G711)","v":0.1},{"$f":"H711-G711*K711","v":0},-2,{"$f":"(M711-L711)/K711","v":-20},2,{"$f":"(O711-L711)/K711","v":20},-1,{"$f":"(Q711-L711)/K711","v":-10}]
["ضریب قرار گرفتن لبه یقه نسبت به لباس   c3     یقه هفت","(از 0.2 الی 1)\n- 1 و ",{"$f":"K712*E712+L712","v":1},"لبه یقه روی خط جادکمه= - 1\nلبه یقه روی خط سرشانه=0\nلبه یقه روی خط مرکزی جلو=1\nبین خط مرکزی جلو تا سرشانه= \nبین 0 تا 1\nبهینه یقه هفت=0.2",{"$f":"IF('طراحی همه الگوها'!H190='متغیرها '!AM170,58,IF('طراحی همه الگوها'!H190='متغیرها '!AM171,0,'طراحی همه الگوها'!H190))","v":0},"ضریب قرار گرفتن لبه یقه نسبت به لباس        ",58,-1,0,1,{"$f":"(J712-H712)/(I712-G712)","v":-3.4482758620689655E-2},{"$f":"H712-G712*K712","v":1},0.2,{"$f":"(M712-L712)/K712","v":23.200000000000003},1,{"$f":"(O712-L712)/K712","v":0},-1,{"$f":"(Q712-L712)/K712","v":58}]
["ضریب انحنا لبه یقه  c4","(از 0.2 الی 1.2)",{"$f":"K713*E713+L713","v":0.89999999999999991},"بهینه انحنا=0.9",{"$f":"'طراحی همه الگوها'!H191","v":20},"ضریب انحنا لبه یقه  ",5,0.2,20,0.9,{"$f":"(J713-H713)/(I713-G713)","v":4.6666666666666662E-2},{"$f":"H713-G713*K713","v":-3.3333333333333298E-2},0.2,{"$f":"(M713-L713)/K713","v":5},1.2,{"$f":"(O713-L713)/K713","v":26.428571428571427},0.01,{"$f":"(Q713-L713)/K713","v":0.92857142857142794}]
[]
[" متغیرهای ورودی شیفت افقی یقه",null,null,null,null," متغیرهای ورودی شیفت افقی یقه"]
["شیفت افقی همه یقه های جدا  (به سانتیمتر)   c5","(از -100 الی100)",{"$f":"K716*E716+L716","v":-30},"بهینه=دلخواه",{"$f":"'طراحی همه الگوها'!H177","v":-30},"شیفت افقی همه یقه های جدا  (سانتیمتر)   ",1,1,0,0,{"$f":"(J716-H716)/(I716-G716)","v":1},{"$f":"H716-G716*K716","v":0},null,1,null,100,0]
["شیفت عمودی همه یقه های جدا  (به سانتیمتر)  c6","(از -100 الی100)",{"$f":"K717*E717+L717","v":30},"بهینه=دلخواه",{"$f":"'طراحی همه الگوها'!H178","v":30},"شیفت عمودی همه یقه های جدا  (سانتیمتر)  ",1,1,0,0,{"$f":"(J717-H717)/(I717-G717)","v":1},{"$f":"H717-G717*K717","v":0},null,1,null,100,0]
[]
[" متغیرهای ورودی کلاه کلی",null,null,null,null," متغیرهای ورودی کلاه کلی","x1","y1","x2","y2(بهینه)","a","b",null,"کمترین",null,"بیشترین"]
["ضریب بزرگ یا کوچک شدن کلاه","(از -0.2 الی 0.2)",{"$f":"K720*E720+L720","v":0},"بدون تغییر = 0\nکلاه بزرگتر = + \nکلاه کوچکتر =  -  ",{"$f":"'طراحی همه الگوها'!H225","v":0},"ضریب بزرگ یا کوچک شدن کلاه",1,0.01,0,0,{"$f":"(J720-H720)/(I720-G720)","v":0.01},{"$f":"H720-G720*K720","v":0},-0.2,{"$f":"(M720-L720)/K720","v":-20},0.2,{"$f":"(O720-L720)/K720","v":20},0,{"$f":"(Q720-L720)/K720","v":0}]
["انتخاب کلاه برای موهای دم اسبی که از پشت بسته شود =1      انتخاب دیگر=0","0 یا 1 ",0,null,{"$f":"'طراحی همه الگوها'!H226","v":1},"انتخاب کلاه ملوانی برای موهای دم اسبی که از پشت بسته شود ",1,0,2,1,1,-1,0,1,1,2,1,2]
["ضریب پهنای بلیطی جلو کلاه","(از 0  الی 0.8)",0,"بهینه=0.4",{"$f":"'طراحی همه الگوها'!H227","v":0},"ضریب پهنای بلیطی جلو کلاه",1,0.05,0,0,0.05,0,0,0,0.8,16,0.4,8]
["ضریب بلندی بلیطی جلو کلاه","(از 0 الی 1.6)",0,"بهینه=0.7",{"$f":"'طراحی همه الگوها'!H228","v":0},"ضریب بلندی بلیطی جلو کلاه",1,0.05,0,0,0.05,0,0,0,1.6,32,0.7,13.999999999999998]
["ضریب بلندی انحنا جلو کلاه","(از 0  الی 1)",0.2,"بهینه=0.2",{"$f":"'طراحی همه الگوها'!H229","v":4},"ضریب بلندی انحنا جلو کلاه",1,0.05,0,0,0.05,0,0,0,1,20,0.2,4]
["ضریب پهنای انحنا روی صورت","(از 0  الی 1)",0.4,"بهینه=0.4",{"$f":"'طراحی همه الگوها'!H230","v":8},"ضریب پهنای انحنا روی صورت",1,0.05,0,0,0.05,0,0,0,1,20,0.4,8]
["ضریب پهنای انحنا بالای پیشانی","(از 0 الی 1)",0.30000000000000004,"بهینه=0.3",{"$f":"'طراحی همه الگوها'!H231","v":6},"ضریب پهنای انحنا بالای پیشانی",1,0.05,0,0,{"$f":"(J726-H726)/(I726-G726)","v":0.05},{"$f":"H726-G726*K726","v":0},0,0,1,20,0.3,5.9999999999999991]
[]
[" متغیرهای ورودی شیفت افقی کلاه",null,null,null,null," متغیرهای ورودی شیفت افقی کلاه","x1","y1","x2","y2(بهینه)","a","b",null,"کمترین",null,"بیشترین"]
["شیفت افقی کلاه  (به سانتیمتر)","(از -100 الی100)",{"$f":"K729*E729+L729","v":-30},"بهینه=دلخواه",{"$f":"'طراحی همه الگوها'!H220","v":-30},"شیفت افقی کلاه  (سانتیمتر)",1,1,0,0,{"$f":"(J729-H729)/(I729-G729)","v":1},{"$f":"H729-G729*K729","v":0},null,1,null,100,0]
["شیفت عمودی کلاه (به سانتیمتر)","(از -100 الی100)",{"$f":"K730*E730+L730","v":20},"بهینه=دلخواه",{"$f":"'طراحی همه الگوها'!H221","v":20},"شیفت عمودی کلاه (سانتیمتر)",1,1,0,0,{"$f":"(J730-H730)/(I730-G730)","v":1},{"$f":"H730-G730*K730","v":0},null,1,null,100,0]
["جابجایی افقی تکه پشت سر در کلاه سه تکه  (سانتیمتر)","(از -20 الی20)",{"$f":"K731*E731+L731","v":3},"بهینه=دلخواه",{"$f":"'طراحی همه الگوها'!H222","v":3},"جابجایی افقی تکه پشت سر در کلاه سه تکه  (سانتیمتر)",1,1,0,0,{"$f":"(J731-H731)/(I731-G731)","v":1},{"$f":"H731-G731*K731","v":0},null,1,null,100,0]
[]
[" متغیرهای ورودی کلاه متصل به یقه مربعی",null,null,null,null," متغیرهای ورودی کلاه متصل به یقه مربعی","x1","y1","x2","y2(بهینه)","a","b",null,"کمترین",null,"بیشترین"]
["ضریب جلو یقه روی خط مرکزی","(از 0.1 الی 0.45)",{"$f":"K734*E734+L734","v":0.3},"بهینه=0.3",{"$f":"'طراحی همه الگوها'!H234","v":30},"ضریب جلو یقه روی خط مرکزی",1,0.01,0,0,{"$f":"(J734-H734)/(I734-G734)","v":0.01},{"$f":"H734-G734*K734","v":0},0.1,{"$f":"(M734-L734)/K734","v":10},0.45,{"$f":"(O734-L734)/K734","v":45},0.3,{"$f":"(Q734-L734)/K734","v":30}]
["ضریب نصف جلو کارور","(از 0.2 الی 0.55)",{"$f":"K735*E735+L735","v":0.48},"بهینه=0.48",{"$f":"'طراحی همه الگوها'!H235","v":48},"ضریب نصف جلو کارور",1,0.01,0,0,{"$f":"(J735-H735)/(I735-G735)","v":0.01},{"$f":"H735-G735*K735","v":0},0.2,{"$f":"(M735-L735)/K735","v":20},0.55000000000000004,{"$f":"(O735-L735)/K735","v":55},0.48,{"$f":"(Q735-L735)/K735","v":48}]
[]
[" متغیرهای ورودی کلاه ملوانی",null,null,null,null," متغیرهای ورودی کلاه ملوانی","x1","y1","x2","y2(بهینه)","a","b",null,"کمترین",null,"بیشترین"]
["  باز شدن یقه هفت γ1   تعیین شده در یقه انگلیسی لباس","(از 0.6 الی 0.99)",{"$f":"C165","v":0.7}]
["ضریب جلو یقه روی خط مرکزی","(از 0.4 الی 0.99)",{"$f":"K739*E739+L739","v":0.35000000000000003},null,{"$f":"'طراحی همه الگوها'!H238","v":7},"ضریب جلو یقه روی خط مرکزی",1,0.05,0,0,{"$f":"(J739-H739)/(I739-G739)","v":0.05},{"$f":"H739-G739*K739","v":0},0.4,{"$f":"(M739-L739)/K739","v":8},0.99,{"$f":"(O739-L739)/K739","v":19.799999999999997},0.5,{"$f":"(Q739-L739)/K739","v":10}]
["ضریب نصف جلو کارور","(از 0.01 الی 0.1)",{"$f":"K740*E740+L740","v":0.02},null,{"$f":"'طراحی همه الگوها'!H239","v":4},"ضریب نصف جلو کارور",1,5.0000000000000001E-3,0,0,{"$f":"(J740-H740)/(I740-G740)","v":5.0000000000000001E-3},{"$f":"H740-G740*K740","v":0},0.01,{"$f":"(M740-L740)/K740","v":2},0.1,{"$f":"(O740-L740)/K740","v":20},0.02,{"$f":"(Q740-L740)/K740","v":4}]
[]
[" متغیرهای ورودی یقه شکاری ",null,null,null,null," متغیرهای ورودی یقه شکاری ","x1","y1","x2","y2(بهینه)","a","b",null,"کمترین",null,"بیشترین"]
["ضریب قد پشت یقه   c1","(از 0.5 الی 3)",{"$f":"K743*E743+L743","v":2},"بهینه =2",{"$f":"'طراحی همه الگوها'!H181","v":20},"ضریب قد پشت یقه   ",1,0.1,0,0,{"$f":"(J743-H743)/(I743-G743)","v":0.1},{"$f":"H743-G743*K743","v":0},0.5,{"$f":"(M743-L743)/K743","v":5},3,{"$f":"(O743-L743)/K743","v":30},2,{"$f":"(Q743-L743)/K743","v":20}]
["ضریب کج شدن  یقه به سمت گردن   c2","(از- 2 الی 0)",{"$f":"K744*E744+L744","v":-0.8},"بهینه = - 0.8",{"$f":"'طراحی همه الگوها'!H182","v":-8},"ضریب کج شدن  یقه به سمت گردن   ",1,0.1,0,0,{"$f":"(J744-H744)/(I744-G744)","v":0.1},{"$f":"H744-G744*K744","v":0},-2,{"$f":"(M744-L744)/K744","v":-20},0,{"$f":"(O744-L744)/K744","v":0},-0.8,{"$f":"(Q744-L744)/K744","v":-8}]
["ضریب قرار گرفتن لبه یقه نسبت به لباس   c3","(از 0.3 الی 1)\n- 1 و ",{"$f":"K745*E745+L745","v":1},"لبه یقه روی خط جادکمه= - 1\nلبه یقه روی خط سرشانه=0\nلبه یقه روی خط مرکزی جلو=1\nبین خط مرکزی جلو تا سرشانه= \nبین 0 تا 1",{"$f":"IF('طراحی همه الگوها'!H183='متغیرها '!AM170,58,IF('طراحی همه الگوها'!H183='متغیرها '!AM171,0,'طراحی همه الگوها'!H183))","v":0},"ضریب قرار گرفتن لبه یقه نسبت به لباس   ",58,-1,0,1,{"$f":"(J745-H745)/(I745-G745)","v":-3.4482758620689655E-2},{"$f":"H745-G745*K745","v":1},0.3,{"$f":"(M745-L745)/K745","v":20.3},1,{"$f":"(O745-L745)/K745","v":0},-1,{"$f":"(Q745-L745)/K745","v":58}]
["زاویه لبه برگردان یقه نسبت به عمود  (به درجه)   c14","(از- 40 الی 60)",{"$f":"K746*E746+L746","v":17},"بهینه =17 \nلبه برگردان عمود به پایه=0",{"$f":"'طراحی همه الگوها'!H184","v":57},"زاویه لبه برگردان یقه نسبت به عمود     ",1,-39,57,17,{"$f":"(J746-H746)/(I746-G746)","v":1},{"$f":"H746-G746*K746","v":-40},-40,{"$f":"(M746-L746)/K746","v":0},60,{"$f":"(O746-L746)/K746","v":100},17,{"$f":"(Q746-L746)/K746","v":57}]
["ضریب قد لبه برگردان یقه   c15","(از0.5 الی 4)",{"$f":"K747*E747+L747","v":2.3000000000000003},"بهینه =2.3",{"$f":"'طراحی همه الگوها'!H185","v":23},"ضریب قد لبه برگردان یقه   ",1,0.1,0,0,{"$f":"(J747-H747)/(I747-G747)","v":0.1},{"$f":"H747-G747*K747","v":0},0.5,{"$f":"(M747-L747)/K747","v":5},4,{"$f":"(O747-L747)/K747","v":40},2.2999999999999998,{"$f":"(Q747-L747)/K747","v":22.999999999999996}]
[]
[" متغیرهای ورودی یقه شومیزیه ",null,null,null,null," متغیرهای ورودی یقه شومیزیه ","x1","y1","x2","y2(بهینه)","a","b",null,"کمترین",null,"بیشترین"]
["ضریب قد پایه یقه   c1","(از 0.5 الی 2)",{"$f":"K750*E750+L750","v":1.5},"بهینه =1.5",{"$f":"'طراحی همه الگوها'!H194","v":15},"ضریب قد پایه یقه   ",1,0.1,0,0,{"$f":"(J750-H750)/(I750-G750)","v":0.1},{"$f":"H750-G750*K750","v":0},0.5,{"$f":"(M750-L750)/K750","v":5},2,{"$f":"(O750-L750)/K750","v":20},1.5,{"$f":"(Q750-L750)/K750","v":15}]
["ضریب کج شدن پایه یقه به سمت گردن   c2","پایه جدا :\n(از0.1 الی 2)\nپایه سرخود :\n(از 0 الی -1 )",0.5,"بهینه پایه جدا =0.5 \nبهینه پایه سرخود= - 0.4",{"$f":"'طراحی همه الگوها'!H195","v":5},"ضریب کج شدن پایه یقه به سمت گردن   ",1,0.1,0,0,{"$f":"(J751-H751)/(I751-G751)","v":0.1},{"$f":"H751-G751*K751","v":0},-1,-10,2,20,-0.4,-4]
["ضریب قرار گرفتن لبه پایه یقه نسبت به لباس   c3","(از 0.3 الی 1)\n- 1 و ",1,"لبه یقه روی خط جادکمه= - 1\nلبه یقه روی خط سرشانه=0\nلبه یقه روی خط مرکزی جلو=1\nبین خط مرکزی جلو تا سرشانه= \nبین 0 تا 1",{"$f":"IF('طراحی همه الگوها'!H196='متغیرها '!AM170,58,IF('طراحی همه الگوها'!H196='متغیرها '!AM171,0,'طراحی همه الگوها'!H196))","v":0},"ضریب قرار گرفتن لبه پایه یقه نسبت به لباس   ",58,-1,0,1,{"$f":"(J752-H752)/(I752-G752)","v":-3.4482758620689655E-2},{"$f":"H752-G752*K752","v":1},0.3,20.3,1,0,1,0]
["ضریب انحنا لبه پایه یقه  c4","(از 0.2 الی 1.2)",0.89999999999999991,"بهینه انحنا=0.9",{"$f":"'طراحی همه الگوها'!H197","v":20},"ضریب انحنا لبه پایه یقه  ",5,0.2,20,0.9,{"$f":"(J753-H753)/(I753-G753)","v":4.6666666666666662E-2},{"$f":"H753-G753*K753","v":-3.3333333333333298E-2},0.2,5,1.2,26.428571428571427,0.9,20.000000000000004]
["ضریب قد پشت برگردان یقه   c1","(از 0.5 الی 3)",2.1,"بهینه =2.1",{"$f":"'طراحی همه الگوها'!H198","v":21},"ضریب قد پشت برگردان یقه   ",1,0.1,0,0,{"$f":"(J754-H754)/(I754-G754)","v":0.1},{"$f":"H754-G754*K754","v":0},0.5,5,3,30,2.1,21]
["ضریب کج شدن برگردان یقه به سمت گردن   c2","پایه جدا :\n(از - 0.1 الی -2 )\nپایه سرخود :\n(از 0 الی  -1  )",-0.2,"بهینه پایه جدا =  - 0.7 \nبهینه پایه سرخود= - 0.4",{"$f":"'طراحی همه الگوها'!H199","v":-2},"ضریب کج شدن برگردان یقه به سمت گردن   ",1,0.1,0,0,0.1,0,-2,-20,0,0,-0.7,-6.9999999999999991]
["زاویه لبه برگردان یقه نسبت به عمود  (به درجه)   c14","(از- 40 الی 60)",5,"بهینه =5 \nلبه برگردان عمود به پایه=0",{"$f":"'طراحی همه الگوها'!H200","v":45},"زاویه لبه برگردان یقه نسبت به عمود    ",1,-39,57,17,1,-40,-40,0,60,100,5,45]
["ضریب قد لبه برگردان یقه   c15","(از0.5 الی 4)",2,"بهینه =2",{"$f":"'طراحی همه الگوها'!H201","v":20},"ضریب قد لبه برگردان یقه   ",1,0.1,0,0,0.1,0,0.5,5,4,40,2,20]
["شیفت افقی برگردان یقه  (به سانتیمتر)   c16","(از -100 الی100)",0,"بهینه=دلخواه",{"$f":"'طراحی همه الگوها'!H202","v":0},"شیفت افقی برگردان یقه  (سانتیمتر)   ",1,1,0,0,1,0,null,1,null,100,0]
["شیفت عمودی برگردان یقه  (به سانتیمتر)  c17","(از -100 الی100)",35,"بهینه=دلخواه",{"$f":"'طراحی همه الگوها'!H203","v":35},"شیفت عمودی برگردان یقه  (سانتیمتر)  ",1,1,0,0,1,0,null,1,null,100,0]
[]
[" متغیرهای ورودی یقه ب ب مثلثی و گرد",null,null,null,null," متغیرهای ورودی یقه ب ب مثلثی و گرد","x1","y1","x2","y2(بهینه)","a","b",null,"کمترین",null,"بیشترین"]
["زاویه جلو یقه ب ب مثلثی","(از 0 الی 50)",{"$f":"K762*E762+L762","v":30},"بهینه=25",{"$f":"'طراحی همه الگوها'!H216","v":30},"زاویه جلو یقه ب ب مثلثی",19,19,20,20,{"$f":"(J762-H762)/(I762-G762)","v":1},{"$f":"H762-G762*K762","v":0},0,{"$f":"(M762-L762)/K762","v":0},50,{"$f":"(O762-L762)/K762","v":50},25,{"$f":"(Q762-L762)/K762","v":25}]
["ضریب پهنای یقه ب ب مثلثی و گرد ","(از 0.3 الی 1)",{"$f":"K763*E763+L763","v":0.6},"بهینه=0.5",{"$f":"'طراحی همه الگوها'!H217","v":25},"ضریب پهنای یقه ب ب مثلثی و گرد ",10,0.3,20,0.5,{"$f":"(J763-H763)/(I763-G763)","v":0.02},{"$f":"H763-G763*K763","v":9.9999999999999978E-2},0.3,{"$f":"(M763-L763)/K763","v":10},1,{"$f":"(O763-L763)/K763","v":45},0.5,{"$f":"(Q763-L763)/K763","v":20}]
[]
[]
["متغیرهای ورودی دامن",null,null,null,null,"متغیرهای ورودی یقه"]
[null,null,"y",null,"x",null,"x1","y1","x2","y2(بهینه)","a","b",null,"کمترین",null,"بیشترین"]
[" متغیرهای ورودی زیپ و چاک دامن",null,null,null,null," متغیرهای ورودی یقه شکاری با پایه"]
["عرض (پهنا) زیپ در خط پهلو  (سانتیمتر)   ","(از 0 الی 10)",{"$f":"K769*E769+L769","v":5},"بهینه =3",{"$f":"'طراحی همه الگوها'!E376","v":5},"ضریب قد پایه یقه   ",1,1,0,0,{"$f":"(J769-H769)/(I769-G769)","v":1},{"$f":"H769-G769*K769","v":0},0,{"$f":"(M769-L769)/K769","v":0},10,{"$f":"(O769-L769)/K769","v":10},3,{"$f":"(Q769-L769)/K769","v":3}]
["ضریب طول (بلندی) زیپ در خط پهلو  ","(از 0 الی 20)",16,"بهینه =16",{"$f":"'طراحی همه الگوها'!E377","v":16},"ضریب قد پشت برگردان یقه   ",1,1,0,0,1,0,0,0,20,20,16,16]
["عرض (پهنا) زیپ در خط مرکزی پشت  (سانتیمتر)   ","(از 0 الی 10)",0,"بهینه =3",{"$f":"'طراحی همه الگوها'!E378","v":0},"ضریب کج شدن یقه به سمت گردن   ",1,1,0,0,1,0,0,0,10,10,3,3]
["ضریب طول (بلندی) زیپ در خط مرکزی پشت  ","(از 0 الی 20)",16,"بهینه =16",{"$f":"'طراحی همه الگوها'!E379","v":16},"ضریب قرار گرفتن لبه یقه نسبت به لباس   ",1,1,0,0,1,0,0,0,20,20,16,16]
["عرض (پهنا) چاک در خط مرکزی پشت  (سانتیمتر)   ","(از 0 الی 10)",0,"بهینه =4",{"$f":"'طراحی همه الگوها'!E380","v":0},"زاویه لبه برگردان یقه نسبت به عمود    ",1,1,0,0,1,0,0,0,10,10,4,4]
["ضریب طول (بلندی) چاک در خط مرکزی پشت  ","(از 0 الی 20)",20,"بهینه =16",{"$f":"'طراحی همه الگوها'!E381","v":20},"ضریب قد لبه برگردان یقه   ",1,1,0,0,1,0,0,0,20,20,16,16]
[]
[" پیلی ها  (متقارن یا نامتقارن در جلو دامن)",null,null,null,null," پیلی ها  (متقارن یا نامتقارن در جلو دامن)"]
[" عرض پیلی 2 (بعد از دوخت) - جلو  (سانتیمتر)     ","(از 0 الی 10)",{"$f":"K777*E777+L777","v":0},"بهینه =3",{"$f":"'طراحی همه الگوها'!E384","v":0}," عرض پیلی 2 (بعد از دوخت) - جلو  (سانتیمتر)     ",1,1,0,0,{"$f":"(J777-H777)/(I777-G777)","v":1},{"$f":"H777-G777*K777","v":0},0,{"$f":"(M777-L777)/K777","v":0},10,{"$f":"(O777-L777)/K777","v":10},3,{"$f":"(Q777-L777)/K777","v":3}]
[" عرض پیلی 3 (بعد از دوخت) - جلو  (سانتیمتر)   ","(از 0 الی 10)",0,"بهینه =3",{"$f":"'طراحی همه الگوها'!E385","v":0}," عرض پیلی 3 (بعد از دوخت) - جلو  (سانتیمتر)   ",1,1,0,0,1,0,0,0,20,20,16,16]
[" عرض پیلی 4 (بعد از دوخت) - جلو   (سانتیمتر)   ","(از 0 الی 10)",0,"بهینه =3",{"$f":"'طراحی همه الگوها'!E386","v":0}," عرض پیلی 4 (بعد از دوخت) - جلو   (سانتیمتر)   ",1,1,0,0,1,0,0,0,10,10,3,3]
[" عرض پیلی 5 (بعد از دوخت) - روی خط مرکزی جلو  (سانتیمتر)    ","(از 0 الی 10)",0,"بهینه =3",{"$f":"'طراحی همه الگوها'!E387","v":0}," عرض پیلی 5 (بعد از دوخت) - روی خط مرکزی جلو  (سانتیمتر)    ",1,1,0,0,1,0,0,0,20,20,16,16]
[" عرض پیلی 6 (بعد از دوخت) -  جلو  (سانتیمتر)     ","(از 0 الی 10)",0,"بهینه =3",{"$f":"'طراحی همه الگوها'!E388","v":0}," عرض پیلی 6 (بعد از دوخت) -  جلو  (سانتیمتر)     ",1,1,0,0,1,0,0,0,10,10,4,4]
[" عرض پیلی 7 (بعد از دوخت) - جلو   (سانتیمتر)   ","(از 0 الی 10)",0,"بهینه =3",{"$f":"'طراحی همه الگوها'!E389","v":0}," عرض پیلی 7 (بعد از دوخت) - جلو   (سانتیمتر)   ",1,1,0,0,1,0,0,0,20,20,16,16]
[" عرض پیلی 8 (بعد از دوخت) - جلو   (سانتیمتر)   ","(از 0 الی 10)",0,"بهینه =3",{"$f":"'طراحی همه الگوها'!E390","v":0}," عرض پیلی 8 (بعد از دوخت) - جلو   (سانتیمتر)   ",1,1,0,0,1,0,0,0,10,10,4,4]
[]
[" پیلی ها  (متقارن یا نامتقارن در پهلو دامن)",null,null,null,null," پیلی ها  (متقارن یا نامتقارن در پهلو دامن)"]
[" عرض پیلی 1 (بعد از دوخت) - روی پهلو چپ  (سانتیمتر)    ","(از 0 الی 10)",{"$f":"K786*E786+L786","v":0},"بهینه =3",{"$f":"'طراحی همه الگوها'!E393","v":0}," عرض پیلی 1 (بعد از دوخت) - روی پهلو چپ  (سانتیمتر)    ",1,1,0,0,{"$f":"(J786-H786)/(I786-G786)","v":1},{"$f":"H786-G786*K786","v":0},0,{"$f":"(M786-L786)/K786","v":0},10,{"$f":"(O786-L786)/K786","v":10},4,{"$f":"(Q786-L786)/K786","v":4}]
[" عرض پیلی 9 (بعد از دوخت) - روی پهلو راست   (سانتیمتر)   ","(از 0 الی 10)",{"$f":"K787*E787+L787","v":0},"بهینه =3",{"$f":"'طراحی همه الگوها'!E394","v":0}," عرض پیلی 9 (بعد از دوخت) - روی پهلو راست   (سانتیمتر)   ",1,1,0,0,{"$f":"(J787-H787)/(I787-G787)","v":1},{"$f":"H787-G787*K787","v":0},0,{"$f":"(M787-L787)/K787","v":0},20,{"$f":"(O787-L787)/K787","v":20},16,{"$f":"(Q787-L787)/K787","v":16}]
[]
[" پیلی ها  (متقارن یا نامتقارن در پشت دامن)",null,null,null,null," پیلی ها  (متقارن یا نامتقارن در پشت دامن)"]
[" عرض پیلی 10 (بعد از دوخت) - پشت  (سانتیمتر)     ","(از 0 الی 10)",{"$f":"K790*E790+L790","v":0},"بهینه =3",{"$f":"'طراحی همه الگوها'!E397","v":0}," عرض پیلی 10 (بعد از دوخت) - پشت  (سانتیمتر)     ",1,1,0,0,{"$f":"(J790-H790)/(I790-G790)","v":1},{"$f":"H790-G790*K790","v":0},0,{"$f":"(M790-L790)/K790","v":0},10,{"$f":"(O790-L790)/K790","v":10},3,{"$f":"(Q790-L790)/K790","v":3}]
[" عرض پیلی 11 (بعد از دوخت) - پشت  (سانتیمتر)   ","(از 0 الی 10)",0,"بهینه =3",{"$f":"'طراحی همه الگوها'!E398","v":0}," عرض پیلی 11 (بعد از دوخت) - پشت  (سانتیمتر)   ",1,1,0,0,1,0,0,0,20,20,16,16]
[" عرض پیلی 12 (بعد از دوخت) - پشت   (سانتیمتر)   ","(از 0 الی 10)",0,"بهینه =3",{"$f":"'طراحی همه الگوها'!E399","v":0}," عرض پیلی 12 (بعد از دوخت) - پشت   (سانتیمتر)   ",1,1,0,0,1,0,0,0,10,10,3,3]
[" عرض پیلی 13 (بعد از دوخت) - روی خط مرکزی پشت  (سانتیمتر)    ","(از 0 الی 10)",0,"بهینه =3",{"$f":"'طراحی همه الگوها'!E400","v":0}," عرض پیلی 13 (بعد از دوخت) - روی خط مرکزی پشت  (سانتیمتر)    ",1,1,0,0,1,0,0,0,20,20,16,16]
[" عرض پیلی 14 (بعد از دوخت) -  پشت  (سانتیمتر)     ","(از 0 الی 10)",0,"بهینه =3",{"$f":"'طراحی همه الگوها'!E401","v":0}," عرض پیلی 14 (بعد از دوخت) -  پشت  (سانتیمتر)     ",1,1,0,0,1,0,0,0,10,10,4,4]
[" عرض پیلی 15 (بعد از دوخت) - پشت   (سانتیمتر)   ","(از 0 الی 10)",0,"بهینه =3",{"$f":"'طراحی همه الگوها'!E402","v":0}," عرض پیلی 15 (بعد از دوخت) - پشت   (سانتیمتر)   ",1,1,0,0,1,0,0,0,20,20,16,16]
[" عرض پیلی 16 (بعد از دوخت) - پشت   (سانتیمتر)   ","(از 0 الی 10)",0,"بهینه =3",{"$f":"'طراحی همه الگوها'!E403","v":0}," عرض پیلی 16 (بعد از دوخت) - پشت   (سانتیمتر)   ",1,1,0,0,1,0,0,0,10,10,4,4]
["جابجایی افقی قرینه پشت دامن (سانتیمتر)","(از -50 الی50)",0,"بهینه=دلخواه",{"$f":"'طراحی همه الگوها'!E404","v":0},"جابجایی افقی قرینه پشت دامن (سانتیمتر)",1,1,0,0,1,0,null,1,null,100,0]
[]
["طراحی دامن چند طبقه چین"]
["j0   اتصال به دامن تنگ = 3    اتصال به بالاتنه با ساسون=2   اتصال به پیراهن راسته=1","1 یا 2 یا 3 ",{"$f":"K800*E800+L800","v":3},null,{"$f":"'طراحی همه الگوها'!E407","v":3},"اتصال به دامن تنگ = 3    اتصال به بالاتنه با ساسون=2   اتصال به پیراهن راسته=1",1,1,2,2,{"$f":"(J800-H800)/(I800-G800)","v":1},{"$f":"H800-G800*K800","v":0},null,1,null,2]
["مکان پایین دامن طبقه اول   j2 ","(از 0 الی 4)",0.75,"خط زمین=0 \nخط زانو=1 \nخط باسن=2 \nخط کمر=3 \nخط سینه=4  ",{"$f":"'طراحی همه الگوها'!E408","v":25},"مکان پایین دامن طبقه اول    ",10,0,30,1,0.05,-0.5,0,{"$f":"(M801-L801)/K801","v":10},4,100,0.25,{"$f":"(Q801-L801)/K801","v":15}]
["چین در دامن طبقه اول   j3","(از 0 الی 3)",{"$f":"K802*E802+L802","v":0.10000000000000009},null,{"$f":"'طراحی همه الگوها'!E409","v":1.1000000000000001},"چین در دامن طبقه اول",2,1,1,0,1,-1,0,1,3,{"$f":"(O802-L802)/K802","v":4},0.9,1.9]
["مکان پایین دامن طبقه دوم    j4","(از 0 الی 4)",0.5,"خط زمین=0 \nخط زانو=1 \nخط باسن=2 \nخط کمر=3 \nخط سینه=4  ",{"$f":"'طراحی همه الگوها'!E410","v":20},"مکان پایین دامن طبقه دوم    ",10,0,30,1,0.05,-0.5,0,10,4,100,0.25,15]
["چین در دامن طبقه دوم    j5","(از 0 الی 3)",{"$f":"K804*E804+L804","v":1},null,{"$f":"'طراحی همه الگوها'!E411","v":2},"چین در دامن طبقه دوم",2,1,1,0,1,-1,0,1,3,{"$f":"(O804-L804)/K804","v":4},0.9,1.9]
["مکان پایین دامن طبقه سوم    j6","(از 0 الی 4)",0.25,"خط زمین=0 \nخط زانو=1 \nخط باسن=2 \nخط کمر=3 \nخط سینه=4  ",{"$f":"'طراحی همه الگوها'!E412","v":15},"مکان پایین دامن طبقه سوم    ",10,0,30,1,0.05,-0.5,0,10,4,100,0.25,15]
["چین در دامن طبقه سوم   j7","(از 0 الی 3)",0.10000000000000009,null,{"$f":"'طراحی همه الگوها'!E413","v":1.1000000000000001},"چین در دامن طبقه سوم",2,1,1,0,1,-1,0,1,3,{"$f":"(O806-L806)/K806","v":4},0.9,1.9]
["مکان پایین دامن طبقه چهارم    j8","(از 0 الی 4)",0,"خط زمین=0 \nخط زانو=1 \nخط باسن=2 \nخط کمر=3 \nخط سینه=4  ",{"$f":"'طراحی همه الگوها'!E414","v":10},"مکان پایین دامن طبقه چهارم    ",10,0,30,1,0.05,-0.5,0,10,4,100,0.25,15]
["چین در دامن طبقه چهارم    j9","(از 0 الی 3)",0.19999999999999996,null,{"$f":"'طراحی همه الگوها'!E415","v":1.2},"چین در دامن طبقه چهارم",2,1,1,0,1,-1,0,1,3,{"$f":"(O808-L808)/K808","v":4},0.9,1.9]
["جابجایی افقی جلو دامن چند طبقه (سانتیمتر)  j10","(از -100 الی100)",0,"بهینه=دلخواه",{"$f":"'طراحی همه الگوها'!E416","v":0},"جابجایی افقی جلو دامن چند طبقه (سانتیمتر)",1,1,0,0,1,0,-100,-100,100,{"$f":"(O809-L809)/K809","v":100}]
["جابجایی عمودی جلو دامن چند طبقه (سانتیمتر)  j11","(از -100 الی100)",0,"بهینه=دلخواه",{"$f":"'طراحی همه الگوها'!E417","v":0},"جابجایی عمودی جلو دامن چند طبقه (سانتیمتر)",1,1,0,0,1,0,-100,-100,100,{"$f":"(O810-L810)/K810","v":100}]
["جابجایی افقی پشت دامن چند طبقه (سانتیمتر)   j12","(از -100 الی100)",0,"بهینه=دلخواه",{"$f":"'طراحی همه الگوها'!E418","v":0},"جابجایی افقی پشت دامن چند طبقه (سانتیمتر)",1,1,0,0,1,0,-100,-100,100,{"$f":"(O811-L811)/K811","v":100}]
["جابجایی عمودی پشت دامن چند طبقه (سانتیمتر)  j13","(از -100 الی100)",0,"بهینه=دلخواه",{"$f":"'طراحی همه الگوها'!E419","v":0},"جابجایی عمودی پشت دامن چند طبقه (سانتیمتر)",1,1,0,0,1,0,-100,-100,100,{"$f":"(O812-L812)/K812","v":100}]
[]
["طراحی دامن لنگی دراپه"]
["پهنای هر دراپه (پیلی) به سانتیمتر   n0","(از 0 الی 20)",{"$f":"K815*E815+L815","v":3},null,{"$f":"'طراحی همه الگوها'!E422","v":3},null,1,1,2,2,{"$f":"(J815-H815)/(I815-G815)","v":1},{"$f":"H815-G815*K815","v":0},null,1,null,2]
["مکان نقطه شروع دراپه روی خط پهلو  n1 ","(از 1 الی 40)",26,null,{"$f":"'طراحی همه الگوها'!E423","v":26},null,1,1,2,2,1,0,null,1,null,2]
["مکان نقطه شروع دراپه در پایین لباس   n2","(از 1 الی 40)",26,null,{"$f":"'طراحی همه الگوها'!E424","v":26},null,1,1,2,2,1,0,null,1,null,2]
["مکان پیلی اول روی خط کمر  n3","(از 1 الی 40)",10,null,{"$f":"'طراحی همه الگوها'!E425","v":10},null,1,1,2,2,1,0,null,1,null,2]
["مکان پیلی دوم روی خط کمر  n4","(از 1 الی 40)",20,null,{"$f":"'طراحی همه الگوها'!E426","v":20},null,1,1,2,2,1,0,null,1,null,2]
["مکان پیلی سوم روی خط کمر  n5","(از 1 الی 40)",30,null,{"$f":"'طراحی همه الگوها'!E427","v":30},null,1,1,2,2,1,0,null,1,null,2]
["پهنای هر دراپه به درجه   n0",{"$f":"ROUND(DEGREES(محاسبات!LU325),1)","v":{"$error":"#DIV/0!"}}]
[]
[" دامن با والان"]
["پهنای هر یک از پیلی ها روی کمر  (سانتیمتر)  w1","(از 0 الی 20)",{"$f":"K824*E824+L824","v":5},null,{"$f":"'طراحی همه الگوها'!E430","v":5},null,1,1,2,2,{"$f":"(J824-H824)/(I824-G824)","v":1},{"$f":"H824-G824*K824","v":0},null,1,null,2]
["فاصله  پیلی اول تا خط مرکزی جلو   w0","(از 0 الی 40)",{"$f":"K825*E825+L825","v":15},null,{"$f":"'طراحی همه الگوها'!E431","v":15},null,1,1,2,2,{"$f":"(J825-H825)/(I825-G825)","v":1},{"$f":"H825-G825*K825","v":0},null,1,null,2]
[" لبه پایینی دامن والان روی خط مرکزی پشت    w2","(از 0 الی 4)",{"$f":"K826*E826+L826","v":0},"خط زمین=0 \nخط زانو=1 \nخط باسن=2 \nخط کمر=3 \nخط سینه=4  ",{"$f":"'طراحی همه الگوها'!E432","v":10},null,10,0,30,1,{"$f":"(J826-H826)/(I826-G826)","v":0.05},{"$f":"H826-G826*K826","v":-0.5},0,{"$f":"(M826-L826)/K826","v":10},4,100,0.25,{"$f":"(Q826-L826)/K826","v":15}]
[" لبه پایینی دامن والان روی درز پهلو  w3  ","(از 0 الی 4)",{"$f":"K827*E827+L827","v":0.25},"خط زمین=0 \nخط زانو=1 \nخط باسن=2 \nخط کمر=3 \nخط سینه=4  ",{"$f":"'طراحی همه الگوها'!E433","v":15},null,10,0,30,1,{"$f":"(J827-H827)/(I827-G827)","v":0.05},{"$f":"H827-G827*K827","v":-0.5},0,{"$f":"(M827-L827)/K827","v":10},4,100,0.25,{"$f":"(Q827-L827)/K827","v":15}]
[" لبه بالایی دامن والان روی درز پهلو   w5","(از 0 الی 4)",{"$f":"K828*E828+L828","v":1.5},"خط زمین=0 \nخط زانو=1 \nخط باسن=2 \nخط کمر=3 \nخط سینه=4  ",{"$f":"'طراحی همه الگوها'!E434","v":40},null,10,0,30,1,{"$f":"(J828-H828)/(I828-G828)","v":0.05},{"$f":"H828-G828*K828","v":-0.5},0,{"$f":"(M828-L828)/K828","v":10},4,100,0.25,{"$f":"(Q828-L828)/K828","v":15}]
[]
[]
[]
["متغیرهای ورودی بافت ",null,null,null,null,"متغیرهای ورودی بافت ","x1","y1","x2","y2(بهینه)","a","b",null,"کمترین",null,"بیشترین"]
["طراحی بافت جلو پشت ..."]
["انتخاب ضخامت میل و کاموا بافتنی","(2 یا 3 یا 4) ",{"$f":"K834*E834+L834","v":4.5},null,{"$f":"'طراحی همه الگوها'!H392","v":4.5},"انتخاب ضخامت میل و کاموا بافتنی",3,3,2,2,{"$f":"(J834-H834)/(I834-G834)","v":1},{"$f":"H834-G834*K834","v":0},2,{"$f":"(M834-L834)/K834","v":2},4,{"$f":"(O834-L834)/K834","v":4},3,{"$f":"(Q834-L834)/K834","v":3}]
["شماره بافت انتخابی جادکمه","(1 الی 50) ",13,null,{"$f":"'طراحی همه الگوها'!H273","v":13},"شماره بافت انتخابی جادکمه",3,3,2,2,1,0,2,2,4,4,3,3]
["شماره بافت انتخابی جلو پیراهن","(1 الی 50) ",15,null,{"$f":"'طراحی همه الگوها'!H393","v":15},"شماره بافت انتخابی جلو پیراهن",3,3,2,2,1,0,2,2,4,4,3,3]
["شماره بافت انتخابی پشت پیراهن","(1 الی 50) ",15,null,{"$f":"'طراحی همه الگوها'!H394","v":15},"شماره بافت انتخابی پشت پیراهن",3,3,2,2,1,0,2,2,4,4,3,3]
["شماره بافت انتخابی آستین","(1 الی 50) ",11,null,{"$f":"'طراحی همه الگوها'!H395","v":11},"شماره بافت انتخابی آستین",3,3,2,2,1,0,2,2,4,4,3,3]
["شماره بافت انتخابی کلاه","(1 الی 50) ",11,null,{"$f":"'طراحی همه الگوها'!H396","v":11},"شماره بافت انتخابی کلاه",3,3,2,2,1,0,2,2,4,4,3,3]
["شماره بافت انتخابی جلو شلوار","(1 الی 50) ",11,null,{"$f":"'طراحی همه الگوها'!H284","v":11},"شماره بافت انتخابی جلو شلوار",3,3,2,2,1,0,2,2,4,4,3,3]
["شماره بافت انتخابی پشت شلوار","(1 الی 50) ",{"$f":"K841*E841+L841","v":11},null,{"$f":"'طراحی همه الگوها'!H285","v":11},"شماره بافت انتخابی پشت شلوار",3,3,2,2,{"$f":"(J841-H841)/(I841-G841)","v":1},{"$f":"H841-G841*K841","v":0},2,{"$f":"(M841-L841)/K841","v":2},4,{"$f":"(O841-L841)/K841","v":4},3,{"$f":"(Q841-L841)/K841","v":3}]
[]
["طراحی بافت یقه انگلیسی"]
["شماره بافت انتخابی یقه انگلیسی","(1 الی 50) ",{"$f":"K844*E844+L844","v":13},null,{"$f":"'طراحی همه الگوها'!H288","v":13},"شماره بافت انتخابی یقه انگلیسی",3,3,2,2,{"$f":"(J844-H844)/(I844-G844)","v":1},{"$f":"H844-G844*K844","v":0},2,{"$f":"(M844-L844)/K844","v":2},4,{"$f":"(O844-L844)/K844","v":4},3,{"$f":"(Q844-L844)/K844","v":3}]
[]
["طراحی بافت یقه شکاری"]
["شماره مدل یقه شکاری","(1 الی 50) ",{"$f":"K847*E847+L847","v":14},null,{"$f":"'طراحی همه الگوها'!H291","v":14},"شماره مدل یقه شکاری",3,3,2,2,{"$f":"(J847-H847)/(I847-G847)","v":1},{"$f":"H847-G847*K847","v":0},2,{"$f":"(M847-L847)/K847","v":2},4,{"$f":"(O847-L847)/K847","v":4},3,{"$f":"(Q847-L847)/K847","v":3}]
[]
["طراحی بافت یقه شومیزیه"]
["شماره مدل یقه شومیزیه","(1 الی 50) ",{"$f":"K850*E850+L850","v":12},null,{"$f":"'طراحی همه الگوها'!H294","v":12},"شماره مدل یقه شومیزیه",3,3,2,2,{"$f":"(J850-H850)/(I850-G850)","v":1},{"$f":"H850-G850*K850","v":0},2,{"$f":"(M850-L850)/K850","v":2},4,{"$f":"(O850-L850)/K850","v":4},3,{"$f":"(Q850-L850)/K850","v":3}]
[]
["طراحی بافت یقه ب ب "]
["شماره مدل یقه ب ب","(1 الی 50) ",{"$f":"K853*E853+L853","v":12},null,{"$f":"'طراحی همه الگوها'!H297","v":12},"شماره مدل یقه ب ب",3,3,2,2,{"$f":"(J853-H853)/(I853-G853)","v":1},{"$f":"H853-G853*K853","v":0},2,{"$f":"(M853-L853)/K853","v":2},4,{"$f":"(O853-L853)/K853","v":4},3,{"$f":"(Q853-L853)/K853","v":3}]
[]
["طراحی نقشه بافت"]
["جابجایی افقی کل نقشه  (سانتیمتر)   ","(از -100 الی100)",{"$f":"K856*E856+L856","v":-15},"بهینه=دلخواه",{"$f":"'طراحی همه الگوها'!H244","v":-15},"جابجایی افقی کل نقشه  (سانتیمتر)   ",1,1,0,0,{"$f":"(J856-H856)/(I856-G856)","v":1},{"$f":"H856-G856*K856","v":0},-100,{"$f":"(M856-L856)/K856","v":-100},100,{"$f":"(O856-L856)/K856","v":100}]
["جابجایی عمودی کل نقشه  (سانتیمتر)  ","(از -100 الی100)",0,"بهینه=دلخواه",{"$f":"'طراحی همه الگوها'!H245","v":0},"جابجایی عمودی کل نقشه  (سانتیمتر)  ",1,1,0,0,{"$f":"(J857-H857)/(I857-G857)","v":1},{"$f":"H857-G857*K857","v":0},-100,{"$f":"(M857-L857)/K857","v":-100},100,{"$f":"(O857-L857)/K857","v":100}]
["نسبت نقشه بافت به سایز واقعی","(1 الی 40) ",42,"بهینه=20",{"$f":"'طراحی همه الگوها'!H246","v":42},"نسبت نقشه بافت به سایز واقعی",3,3,2,2,{"$f":"(J858-H858)/(I858-G858)","v":1},{"$f":"H858-G858*K858","v":0},2,{"$f":"(M858-L858)/K858","v":2},4,{"$f":"(O858-L858)/K858","v":4},3,{"$f":"(Q858-L858)/K858","v":3}]
["ارتفاع هر رج","(0.05 الی 3) ",3,"بهینه=0.8",{"$f":"'طراحی همه الگوها'!H247","v":60},"ارتفاع هر رج",1,0.05,0,0,{"$f":"(J859-H859)/(I859-G859)","v":0.05},{"$f":"H859-G859*K859","v":0},0,{"$f":"(M859-L859)/K859","v":0},2,{"$f":"(O859-L859)/K859","v":40},1,{"$f":"(Q859-L859)/K859","v":20}]
["پهنای نیم دایره","(0 الی 3) ",0.5,"بهینه=0.5",{"$f":"'طراحی همه الگوها'!H248","v":10},"پهنای نیم دایره",1,0.05,0,0,0.05,0,0,0,2,40,1,20]
["طول باکس نوشته","(2 الی 20) ",4.5,"بهینه=4.5",{"$f":"'طراحی همه الگوها'!H249","v":9},"طول باکس نوشته",1,0.5,0,0,{"$f":"(J861-H861)/(I861-G861)","v":0.5},{"$f":"H861-G861*K861","v":0},0,{"$f":"(M861-L861)/K861","v":0},2,{"$f":"(O861-L861)/K861","v":4},1,{"$f":"(Q861-L861)/K861","v":2}]
["پهنای باکس نوشته","(0.2 الی 2) ",0.5,"بهینه=0.6",{"$f":"'طراحی همه الگوها'!H250","v":10},"پهنای باکس نوشته",1,0.05,0,0,0.05,0,0,0,2,40,1,20]
["بزرگی فلش رج","(0 الی 2) ",0.60000000000000009,"بهینه=0.3",{"$f":"'طراحی همه الگوها'!H251","v":12},"بزرگی فلش",1,0.05,0,0,0.05,0,0,0,2,40,1,20]
["زاویه فلش رج","(0 الی 2) ",0.5,"بهینه=0.5",{"$f":"'طراحی همه الگوها'!H252","v":10},"زاویه فلش",1,0.05,0,0,{"$f":"(J864-H864)/(I864-G864)","v":0.05},{"$f":"H864-G864*K864","v":0},0,{"$f":"(M864-L864)/K864","v":0},2,{"$f":"(O864-L864)/K864","v":40},1,{"$f":"(Q864-L864)/K864","v":20}]
["بزرگی خط عمودی دانه","(0 الی 2) ",{"$f":"K865*E865+L865","v":0.30000000000000004},"بهینه=0.3",{"$f":"'طراحی همه الگوها'!H253","v":6},"بزرگی فلش",1,0.05,0,0,0.05,0,0,0,2,40,1,20]
["بزرگی فلش دانه","(0 الی 2) ",{"$f":"K866*E866+L866","v":0.4},"بهینه=0.3",{"$f":"'طراحی همه الگوها'!H254","v":8},"بزرگی فلش",1,0.05,0,0,0.05,0,0,0,2,40,1,20]
["زاویه فلش دانه","(0 الی 2) ",{"$f":"K867*E867+L867","v":0.75},"بهینه=0.5",{"$f":"'طراحی همه الگوها'!H255","v":15},"زاویه فلش",1,0.05,0,0,{"$f":"(J867-H867)/(I867-G867)","v":0.05},{"$f":"H867-G867*K867","v":0},0,{"$f":"(M867-L867)/K867","v":0},2,{"$f":"(O867-L867)/K867","v":40},1,{"$f":"(Q867-L867)/K867","v":20}]
["جابجایی افقی راهنمای نقشه  (سانتیمتر)   ","(از -100 الی100)",{"$f":"K868*E868+L868","v":-45},"بهینه=دلخواه",{"$f":"'طراحی همه الگوها'!H256","v":-45},"جابجایی افقی راهنمای نقشه  (سانتیمتر)   ",1,1,0,0,{"$f":"(J868-H868)/(I868-G868)","v":1},{"$f":"H868-G868*K868","v":0},-100,{"$f":"(M868-L868)/K868","v":-100},100,{"$f":"(O868-L868)/K868","v":100}]
["جابجایی عمودی راهنمای نقشه  (سانتیمتر)  ","(از -100 الی100)",{"$f":"K869*E869+L869","v":5},"بهینه=دلخواه",{"$f":"'طراحی همه الگوها'!H257","v":5},"جابجایی عمودی راهنمای نقشه  (سانتیمتر)  ",1,1,0,0,{"$f":"(J869-H869)/(I869-G869)","v":1},{"$f":"H869-G869*K869","v":0},-100,{"$f":"(M869-L869)/K869","v":-100},100,{"$f":"(O869-L869)/K869","v":100}]
[]
["توضیح کاربر:"]
["پهنای باکس توضیحات (سانتیمتر)","(1 الی 30) ",{"$f":"K872*E872+L872","v":15},"بهینه=20",{"$f":"'طراحی همه الگوها'!H268","v":15},"پهنای باکس توضیحات (سانتیمتر)",3,3,2,2,{"$f":"(J872-H872)/(I872-G872)","v":1},{"$f":"H872-G872*K872","v":0},2,{"$f":"(M872-L872)/K872","v":2},4,{"$f":"(O872-L872)/K872","v":4},3,{"$f":"(Q872-L872)/K872","v":3}]
["ارتفاع باکس توضیحات (سانتیمتر)","(1 الی 30) ",{"$f":"K873*E873+L873","v":15},"بهینه=20",{"$f":"'طراحی همه الگوها'!H269","v":15},"ارتفاع باکس توضیحات (سانتیمتر)",3,3,2,2,{"$f":"(J873-H873)/(I873-G873)","v":1},{"$f":"H873-G873*K873","v":0},2,{"$f":"(M873-L873)/K873","v":2},4,{"$f":"(O873-L873)/K873","v":4},3,{"$f":"(Q873-L873)/K873","v":3}]
["جابجایی افقی توضیحات کاربر  (سانتیمتر)   ","(از -100 الی100)",{"$f":"K874*E874+L874","v":35},"بهینه=دلخواه",{"$f":"'طراحی همه الگوها'!H270","v":35},"جابجایی افقی توضیحات کاربر  (سانتیمتر)   ",1,1,0,0,{"$f":"(J874-H874)/(I874-G874)","v":1},{"$f":"H874-G874*K874","v":0},-100,{"$f":"(M874-L874)/K874","v":-100},100,{"$f":"(O874-L874)/K874","v":100}]
["جابجایی عمودی توضیحات کاربر  (سانتیمتر)  ","(از -100 الی100)",{"$f":"K875*E875+L875","v":20},"بهینه=دلخواه",{"$f":"'طراحی همه الگوها'!H271","v":20},"جابجایی عمودی توضیحات کاربر  (سانتیمتر)  ",1,1,0,0,{"$f":"(J875-H875)/(I875-G875)","v":1},{"$f":"H875-G875*K875","v":0},-100,{"$f":"(M875-L875)/K875","v":-100},100,{"$f":"(O875-L875)/K875","v":100}]
[]
["طراحی رج دوبل"]
["ارتفاع هر رج دوبل","(1 الی 40) ",{"$f":"K878*E878+L878","v":6},"بهینه=10",{"$f":"'طراحی همه الگوها'!H260","v":6},"ارتفاع هر رج دوبل",3,3,2,2,{"$f":"(J878-H878)/(I878-G878)","v":1},{"$f":"H878-G878*K878","v":0},2,{"$f":"(M878-L878)/K878","v":2},4,{"$f":"(O878-L878)/K878","v":4},3,{"$f":"(Q878-L878)/K878","v":3}]
["شعاع داایره اول","(1 الی 40) ",{"$f":"K879*E879+L879","v":8},"بهینه=10",{"$f":"'طراحی همه الگوها'!H261","v":8},"شعاع داایره اول",3,3,2,2,{"$f":"(J879-H879)/(I879-G879)","v":1},{"$f":"H879-G879*K879","v":0},2,{"$f":"(M879-L879)/K879","v":2},4,{"$f":"(O879-L879)/K879","v":4},3,{"$f":"(Q879-L879)/K879","v":3}]
["جابجایی افقی رج دوبل  (سانتیمتر)   ","(از -100 الی100)",{"$f":"K880*E880+L880","v":2},"بهینه=دلخواه",{"$f":"'طراحی همه الگوها'!H262","v":2},"جابجایی افقی رج دوبل  (سانتیمتر)   ",1,1,0,0,{"$f":"(J880-H880)/(I880-G880)","v":1},{"$f":"H880-G880*K880","v":0},-100,{"$f":"(M880-L880)/K880","v":-100},100,{"$f":"(O880-L880)/K880","v":100}]
["جابجایی عمودی رج دوبل  (سانتیمتر)  ","(از -100 الی100)",{"$f":"K881*E881+L881","v":2},"بهینه=دلخواه",{"$f":"'طراحی همه الگوها'!H263","v":2},"جابجایی عمودی رج دوبل  (سانتیمتر)  ",1,1,0,0,{"$f":"(J881-H881)/(I881-G881)","v":1},{"$f":"H881-G881*K881","v":0},-100,{"$f":"(M881-L881)/K881","v":-100},100,{"$f":"(O881-L881)/K881","v":100}]
[]
["طراحی توری بافت آستین"]
["پهنا افقی توری بافت  (سانتیمتر)   ","(1 الی 40) ",{"$f":"K884*E884+L884","v":10},"بهینه=10",{"$f":"'طراحی همه الگوها'!H340","v":10},"پهنا افقی توری بافت  (سانتیمتر)   ",3,3,2,2,{"$f":"(J884-H884)/(I884-G884)","v":1},{"$f":"H884-G884*K884","v":0},2,{"$f":"(M884-L884)/K884","v":2},4,{"$f":"(O884-L884)/K884","v":4},3,{"$f":"(Q884-L884)/K884","v":3}]
["پهنا عمودی توری بافت  (سانتیمتر)  ","(1 الی 40) ",{"$f":"K885*E885+L885","v":20},"بهینه=10",{"$f":"'طراحی همه الگوها'!H342","v":20},"پهنا عمودی توری بافت  (سانتیمتر)  ",3,3,2,2,{"$f":"(J885-H885)/(I885-G885)","v":1},{"$f":"H885-G885*K885","v":0},2,{"$f":"(M885-L885)/K885","v":2},4,{"$f":"(O885-L885)/K885","v":4},3,{"$f":"(Q885-L885)/K885","v":3}]
["جابجایی افقی توری بافت  (سانتیمتر)   ","(از -100 الی100)",{"$f":"K886*E886+L886","v":0},"بهینه=دلخواه",{"$f":"'طراحی همه الگوها'!H344","v":0},"جابجایی افقی توری بافت  (سانتیمتر)   ",1,1,0,0,{"$f":"(J886-H886)/(I886-G886)","v":1},{"$f":"H886-G886*K886","v":0},-100,{"$f":"(M886-L886)/K886","v":-100},100,{"$f":"(O886-L886)/K886","v":100}]
["جابجایی عمودی توری بافت  (سانتیمتر)  ","(از -100 الی100)",{"$f":"K887*E887+L887","v":-100},"بهینه=دلخواه",{"$f":"'طراحی همه الگوها'!H345","v":-100},"جابجایی عمودی توری بافت  (سانتیمتر)  ",1,1,0,0,{"$f":"(J887-H887)/(I887-G887)","v":1},{"$f":"H887-G887*K887","v":0},-100,{"$f":"(M887-L887)/K887","v":-100},100,{"$f":"(O887-L887)/K887","v":100}]
[]
["طراحی توری بافت یقه و کلاه"]
["پهنا افقی توری بافت  (سانتیمتر)   ","(1 الی 40) ",{"$f":"K890*E890+L890","v":10},"بهینه=10",{"$f":"'طراحی همه الگوها'!H348","v":10},"پهنا افقی توری بافت  (سانتیمتر)   ",3,3,2,2,{"$f":"(J890-H890)/(I890-G890)","v":1},{"$f":"H890-G890*K890","v":0},2,{"$f":"(M890-L890)/K890","v":2},4,{"$f":"(O890-L890)/K890","v":4},3,{"$f":"(Q890-L890)/K890","v":3}]
["پهنا عمودی توری بافت  (سانتیمتر)  ","(1 الی 40) ",{"$f":"K891*E891+L891","v":20},"بهینه=10",{"$f":"'طراحی همه الگوها'!H350","v":20},"پهنا عمودی توری بافت  (سانتیمتر)  ",3,3,2,2,{"$f":"(J891-H891)/(I891-G891)","v":1},{"$f":"H891-G891*K891","v":0},2,{"$f":"(M891-L891)/K891","v":2},4,{"$f":"(O891-L891)/K891","v":4},3,{"$f":"(Q891-L891)/K891","v":3}]
["جابجایی افقی توری بافت  (سانتیمتر)   ","(از -100 الی100)",{"$f":"K892*E892+L892","v":0},"بهینه=دلخواه",{"$f":"'طراحی همه الگوها'!H352","v":0},"جابجایی افقی توری بافت  (سانتیمتر)   ",1,1,0,0,{"$f":"(J892-H892)/(I892-G892)","v":1},{"$f":"H892-G892*K892","v":0},-100,{"$f":"(M892-L892)/K892","v":-100},100,{"$f":"(O892-L892)/K892","v":100}]
["جابجایی عمودی توری بافت  (سانتیمتر)  ","(از -100 الی100)",{"$f":"K893*E893+L893","v":-100},"بهینه=دلخواه",{"$f":"'طراحی همه الگوها'!H353","v":-100},"جابجایی عمودی توری بافت  (سانتیمتر)  ",1,1,0,0,{"$f":"(J893-H893)/(I893-G893)","v":1},{"$f":"H893-G893*K893","v":0},-100,{"$f":"(M893-L893)/K893","v":-100},100,{"$f":"(O893-L893)/K893","v":100}]
[]
["طراحی توری بافت جلو پیراهن"]
["پهنا افقی توری بافت  (سانتیمتر)   ","(1 الی 40) ",{"$f":"K896*E896+L896","v":10},"بهینه=10",{"$f":"'طراحی همه الگوها'!H356","v":10},"پهنا افقی توری بافت  (سانتیمتر)   ",3,3,2,2,{"$f":"(J896-H896)/(I896-G896)","v":1},{"$f":"H896-G896*K896","v":0},2,{"$f":"(M896-L896)/K896","v":2},4,{"$f":"(O896-L896)/K896","v":4},3,{"$f":"(Q896-L896)/K896","v":3}]
["پهنا عمودی توری بافت  (سانتیمتر)  ","(1 الی 40) ",{"$f":"K897*E897+L897","v":20},"بهینه=10",{"$f":"'طراحی همه الگوها'!H358","v":20},"پهنا عمودی توری بافت  (سانتیمتر)  ",3,3,2,2,{"$f":"(J897-H897)/(I897-G897)","v":1},{"$f":"H897-G897*K897","v":0},2,{"$f":"(M897-L897)/K897","v":2},4,{"$f":"(O897-L897)/K897","v":4},3,{"$f":"(Q897-L897)/K897","v":3}]
["جابجایی افقی توری بافت  (سانتیمتر)   ","(از -100 الی100)",{"$f":"K898*E898+L898","v":0},"بهینه=دلخواه",{"$f":"'طراحی همه الگوها'!H360","v":0},"جابجایی افقی توری بافت  (سانتیمتر)   ",1,1,0,0,{"$f":"(J898-H898)/(I898-G898)","v":1},{"$f":"H898-G898*K898","v":0},-100,{"$f":"(M898-L898)/K898","v":-100},100,{"$f":"(O898-L898)/K898","v":100}]
["جابجایی عمودی توری بافت  (سانتیمتر)  ","(از -100 الی100)",{"$f":"K899*E899+L899","v":-100},"بهینه=دلخواه",{"$f":"'طراحی همه الگوها'!H361","v":-100},"جابجایی عمودی توری بافت  (سانتیمتر)  ",1,1,0,0,{"$f":"(J899-H899)/(I899-G899)","v":1},{"$f":"H899-G899*K899","v":0},-100,{"$f":"(M899-L899)/K899","v":-100},100,{"$f":"(O899-L899)/K899","v":100}]
[]
["طراحی توری بافت پشت پیراهن"]
["پهنا افقی توری بافت  (سانتیمتر)   ","(1 الی 40) ",{"$f":"K902*E902+L902","v":10},"بهینه=10",{"$f":"'طراحی همه الگوها'!H364","v":10},"پهنا افقی توری بافت  (سانتیمتر)   ",3,3,2,2,{"$f":"(J902-H902)/(I902-G902)","v":1},{"$f":"H902-G902*K902","v":0},2,{"$f":"(M902-L902)/K902","v":2},4,{"$f":"(O902-L902)/K902","v":4},3,{"$f":"(Q902-L902)/K902","v":3}]
["پهنا عمودی توری بافت  (سانتیمتر)  ","(1 الی 40) ",{"$f":"K903*E903+L903","v":20},"بهینه=10",{"$f":"'طراحی همه الگوها'!H366","v":20},"پهنا عمودی توری بافت  (سانتیمتر)  ",3,3,2,2,{"$f":"(J903-H903)/(I903-G903)","v":1},{"$f":"H903-G903*K903","v":0},2,{"$f":"(M903-L903)/K903","v":2},4,{"$f":"(O903-L903)/K903","v":4},3,{"$f":"(Q903-L903)/K903","v":3}]
["جابجایی افقی توری بافت  (سانتیمتر)   ","(از -100 الی100)",{"$f":"K904*E904+L904","v":0},"بهینه=دلخواه",{"$f":"'طراحی همه الگوها'!H368","v":0},"جابجایی افقی توری بافت  (سانتیمتر)   ",1,1,0,0,{"$f":"(J904-H904)/(I904-G904)","v":1},{"$f":"H904-G904*K904","v":0},-100,{"$f":"(M904-L904)/K904","v":-100},100,{"$f":"(O904-L904)/K904","v":100}]
["جابجایی عمودی توری بافت  (سانتیمتر)  ","(از -100 الی100)",{"$f":"K905*E905+L905","v":-100},"بهینه=دلخواه",{"$f":"'طراحی همه الگوها'!H369","v":-100},"جابجایی عمودی توری بافت  (سانتیمتر)  ",1,1,0,0,{"$f":"(J905-H905)/(I905-G905)","v":1},{"$f":"H905-G905*K905","v":0},-100,{"$f":"(M905-L905)/K905","v":-100},100,{"$f":"(O905-L905)/K905","v":100}]
[]
["طراحی توری بافت جلو شلوار"]
["پهنا افقی توری بافت  (سانتیمتر)   ","(1 الی 40) ",{"$f":"K908*E908+L908","v":10},"بهینه=10",{"$f":"'طراحی همه الگوها'!H372","v":10},"پهنا افقی توری بافت  (سانتیمتر)   ",3,3,2,2,{"$f":"(J908-H908)/(I908-G908)","v":1},{"$f":"H908-G908*K908","v":0},2,{"$f":"(M908-L908)/K908","v":2},4,{"$f":"(O908-L908)/K908","v":4},3,{"$f":"(Q908-L908)/K908","v":3}]
["پهنا عمودی توری بافت  (سانتیمتر)  ","(1 الی 40) ",{"$f":"K909*E909+L909","v":20},"بهینه=10",{"$f":"'طراحی همه الگوها'!H374","v":20},"پهنا عمودی توری بافت  (سانتیمتر)  ",3,3,2,2,{"$f":"(J909-H909)/(I909-G909)","v":1},{"$f":"H909-G909*K909","v":0},2,{"$f":"(M909-L909)/K909","v":2},4,{"$f":"(O909-L909)/K909","v":4},3,{"$f":"(Q909-L909)/K909","v":3}]
["جابجایی افقی توری بافت  (سانتیمتر)   ","(از -100 الی100)",{"$f":"K910*E910+L910","v":0},"بهینه=دلخواه",{"$f":"'طراحی همه الگوها'!H376","v":0},"جابجایی افقی توری بافت  (سانتیمتر)   ",1,1,0,0,{"$f":"(J910-H910)/(I910-G910)","v":1},{"$f":"H910-G910*K910","v":0},-100,{"$f":"(M910-L910)/K910","v":-100},100,{"$f":"(O910-L910)/K910","v":100}]
["جابجایی عمودی توری بافت  (سانتیمتر)  ","(از -100 الی100)",{"$f":"K911*E911+L911","v":-100},"بهینه=دلخواه",{"$f":"'طراحی همه الگوها'!H377","v":-100},"جابجایی عمودی توری بافت  (سانتیمتر)  ",1,1,0,0,{"$f":"(J911-H911)/(I911-G911)","v":1},{"$f":"H911-G911*K911","v":0},-100,{"$f":"(M911-L911)/K911","v":-100},100,{"$f":"(O911-L911)/K911","v":100}]
[]
["طراحی توری بافت پشت شلوار"]
["پهنا افقی توری بافت  (سانتیمتر)   ","(1 الی 40) ",{"$f":"K914*E914+L914","v":10},"بهینه=10",{"$f":"'طراحی همه الگوها'!H380","v":10},"پهنا افقی توری بافت  (سانتیمتر)   ",3,3,2,2,{"$f":"(J914-H914)/(I914-G914)","v":1},{"$f":"H914-G914*K914","v":0},2,{"$f":"(M914-L914)/K914","v":2},4,{"$f":"(O914-L914)/K914","v":4},3,{"$f":"(Q914-L914)/K914","v":3}]
["پهنا عمودی توری بافت  (سانتیمتر)  ","(1 الی 40) ",{"$f":"K915*E915+L915","v":20},"بهینه=10",{"$f":"'طراحی همه الگوها'!H382","v":20},"پهنا عمودی توری بافت  (سانتیمتر)  ",3,3,2,2,{"$f":"(J915-H915)/(I915-G915)","v":1},{"$f":"H915-G915*K915","v":0},2,{"$f":"(M915-L915)/K915","v":2},4,{"$f":"(O915-L915)/K915","v":4},3,{"$f":"(Q915-L915)/K915","v":3}]
["جابجایی افقی توری بافت  (سانتیمتر)   ","(از -100 الی100)",{"$f":"K916*E916+L916","v":0},"بهینه=دلخواه",{"$f":"'طراحی همه الگوها'!H384","v":0},"جابجایی افقی توری بافت  (سانتیمتر)   ",1,1,0,0,{"$f":"(J916-H916)/(I916-G916)","v":1},{"$f":"H916-G916*K916","v":0},-100,{"$f":"(M916-L916)/K916","v":-100},100,{"$f":"(O916-L916)/K916","v":100}]
["جابجایی عمودی توری بافت  (سانتیمتر)  ","(از -100 الی100)",{"$f":"K917*E917+L917","v":-100},"بهینه=دلخواه",{"$f":"'طراحی همه الگوها'!H385","v":-100},"جابجایی عمودی توری بافت  (سانتیمتر)  ",1,1,0,0,{"$f":"(J917-H917)/(I917-G917)","v":1},{"$f":"H917-G917*K917","v":0},-100,{"$f":"(M917-L917)/K917","v":-100},100,{"$f":"(O917-L917)/K917","v":100}]
[]
[]
["متغیرهای ورودی آستین",null,null,null,null,"متغیرهای ورودی آستین"]
[null,null,null,null,"x",null,"x1","y1","x2","y2(بهینه)","a","b",null,"کمترین",null,"بیشترین"]
["آستین رگلان کلوش"]
[" پهنای اوزمان ","(از 1 الی 50)",{"$f":"K923*E923+L923","v":5},null,{"$f":"'طراحی همه الگوها'!K257","v":5},null,1,1,2,2,{"$f":"(J923-H923)/(I923-G923)","v":1},{"$f":"H923-G923*K923","v":0},null,1,null,2]
[" فاصله خط اوزمان اول از قسمت جلو     ","(از 1 الی 30)",10,null,{"$f":"'طراحی همه الگوها'!K258","v":10},null,1,1,2,2,1,0,null,1,null,2]
[" فاصله خط اوزمان دوم از قسمت جلو     ","(از 1 الی 30)",20,null,{"$f":"'طراحی همه الگوها'!K259","v":20},null,1,1,2,2,1,0,null,1,null,2]

{"sheet":"رسم دستی دامن نیم کلوش","index":3,"n_rows":33,"n_cols":3,"rows_kept":33,"cut":false,"hidden":true,"merged":[]}
[]
[]
[]
[]
[]
[]
[]
[]
[]
[]
[]
[]
[]
[]
[]
[]
[]
[]
[]
[null,"رسم دستی الگو جلو و پشت "]
[null," دامن نیم کلوش"]
["(1 → 2)",{"$f":"محاسبات!AW280","v":13.5},"(cm)"]
["(1 → 3)",{"$f":"محاسبات!AW286","v":20.100000000000001},"(cm)"]
["(1 → 4)",{"$f":"B22","v":13.5},"عمود (cm)"]
["(1 → 5)",{"$f":"B23","v":20.100000000000001},"(cm)"]
["(2 →4)","هلال دایروی"]
["(3 →5)","هلال دایروی"]
[]
[]
[]
["اندازه های ورودی"]
["دور کمر",{"$f":"محاسبات!BF287","v":42.5},"cm"]
["قد دامن",{"$f":"محاسبات!BF288","v":6.6},"cm"]

{"sheet":"رسم دستی دامن کلوش","index":4,"n_rows":40,"n_cols":9,"rows_kept":40,"cut":false,"hidden":true,"merged":[]}
[]
[]
[]
[]
[]
[]
[]
[]
[]
[]
[]
[]
[]
[]
[]
[]
[]
[]
[null,null,null,null,null,null,null,null,"رسم دستی الگو جلو و پشت "]
[null,null,null,null,null,null,null," دامن کلوش"]
[null,null,null,null,null,null,"(1 → 2)",{"$f":"محاسبات!BF279","v":6.8},"cm"]
[null,null,null,null,null,null,"(1 → 3)",{"$f":"H21","v":6.8},"cm"]
[null,null,null,null,null,null,"(1 → 4)",{"$f":"H21","v":6.8},"cm"]
[null,null,null,null,null,null,"(1 → 5)",{"$f":"محاسبات!BF285","v":13.399999999999999},"cm"]
[null,null,null,null,null,null,"(1 →6)",{"$f":"H24","v":13.399999999999999},"cm"]
[null,null,null,null,null,null,"(1 →7)",{"$f":"H24","v":13.399999999999999},"cm"]
[null,null,null,null,null,null,"(2 →3 →4)","هلال دایروی"]
[null,null,null,null,null,null,"(5 →6 →7)","هلال دایروی"]
[]
[]
[]
[]
[]
[]
[]
[]
[]
[null,null,null,null,null,null,"اندازه های ورودی"]
[null,null,null,null,null,null,"دور کمر",{"$f":"محاسبات!BF287","v":42.5},"cm"]
[null,null,null,null,null,null,"قد دامن",{"$f":"محاسبات!BF288","v":6.6},"cm"]

{"sheet":"نمونه بافت","index":5,"n_rows":343,"n_cols":7,"rows_kept":343,"cut":false,"hidden":true,"merged":[[294,2,294,3],[294,4,294,5],[294,6,294,7],[295,2,295,3],[295,4,295,5],[295,6,295,7],[292,2,292,3],[292,4,292,5],[292,6,292,7],[293,2,293,3],[293,4,293,5],[293,6,293,7],[298,2,298,3],[298,4,298,5],[298,6,298,7],[299,2,299,3],[299,4,299,5],[299,6,299,7],[296,2,296,3],[296,4,296,5],[296,6,296,7],[297,2,297,3],[297,4,297,5],[297,6,297,7],[302,2,302,3],[302,4,302,5],[302,6,302,7],[303,2,303,3],[303,4,303,5],[303,6,303,7],[300,2,300,3],[300,4,300,5],[300,6,300,7],[301,2,301,3],[301,4,301,5],[301,6,301,7],[306,2,306,3],[306,4,306,5],[306,6,306,7],[307,2,307,3],[307,4,307,5],[307,6,307,7],[304,2,304,3],[304,4,304,5],[304,6,304,7],[305,2,305,3],[305,4,305,5],[305,6,305,7],[310,2,310,3],[310,4,310,5],[310,6,310,7],[311,2,311,3],[311,4,311,5],[311,6,311,7],[308,2,308,3],[308,4,308,5],[308,6,308,7],[309,2,309,3],[309,4,309,5],[309,6,309,7],[314,2,314,3],[314,4,314,5],[314,6,314,7],[315,2,315,3],[315,4,315,5],[315,6,315,7],[312,2,312,3],[312,4,312,5],[312,6,312,7],[313,2,313,3],[313,4,313,5],[313,6,313,7],[318,2,318,3],[318,4,318,5],[318,6,318,7],[319,2,319,3],[319,4,319,5],[319,6,319,7],[316,2,316,3],[316,4,316,5],[316,6,316,7],[317,2,317,3],[317,4,317,5],[317,6,317,7],[322,2,322,3],[322,4,322,5],[322,6,322,7],[323,2,323,3],[323,4,323,5],[323,6,323,7],[320,2,320,3],[320,4,320,5],[320,6,320,7],[321,2,321,3],[321,4,321,5],[321,6,321,7],[326,2,326,3],[326,4,326,5],[326,6,326,7],[327,2,327,3],[327,4,327,5],[327,6,327,7],[324,2,324,3],[324,4,324,5],[324,6,324,7],[325,2,325,3],[325,4,325,5],[325,6,325,7],[330,2,330,3],[330,4,330,5],[330,6,330,7],[331,2,331,3],[331,4,331,5],[331,6,331,7],[328,2,328,3],[328,4,328,5],[328,6,328,7],[329,2,329,3],[329,4,329,5],[329,6,329,7],[334,2,334,3],[334,4,334,5],[334,6,334,7],[335,2,335,3],[335,4,335,5],[335,6,335,7],[332,2,332,3],[332,4,332,5],[332,6,332,7],[333,2,333,3],[333,4,333,5],[333,6,333,7],[338,2,338,3],[338,4,338,5],[338,6,338,7],[339,2,339,3],[339,4,339,5],[339,6,339,7],[336,2,336,3],[336,4,336,5],[336,6,336,7],[337,2,337,3],[337,4,337,5],[337,6,337,7],[342,2,342,3],[342,4,342,5],[342,6,342,7],[340,2,340,3],[340,4,340,5],[340,6,340,7],[341,2,341,3],[341,4,341,5],[341,6,341,7]]}
[]
[]
[]
[]
[]
[]
[]
[]
[]
[]
[]
[]
[]
[]
[]
[]
[]
[]
[]
[]
[]
[]
[]
[]
[]
[]
[]
[]
[]
[]
[]
[]
[]
[]
[]
[]
[]
[]
[]
[]
[]
[]
[]
[]
[]
[]
[]
[]
[]
[]
[]
[]
[]
[]
[]
[]
[]
[]
[]
[]
[]
[]
[]
[]
[]
[]
[]
[]
[]
[]
[]
[]
[]
[]
[]
[]
[]
[]
[]
[]
[]
[]
[]
[]
[]
[]
[]
[]
[]
[]
[]
[]
[]
[]
[]
[]
[]
[]
[]
[]
[]
[]
[]
[]
[]
[]
[]
[]
[]
[]
[]
[]
[]
[]
[]
[]
[]
[]
[]
[]
[]
[]
[]
[]
[]
[]
[]
[]
[]
[]
[]
[]
[]
[]
[]
[]
[]
[]
[]
[]
[]
[]
[]
[]
[]
[]
[]
[]
[]
[]
[]
[]
[]
[]
[]
[]
[]
[]
[]
[]
[]
[]
[]
[]
[]
[]
[]
[]
[]
[]
[]
[]
[]
[]
[]
[]
[]
[]
[]
[]
[]
[]
[]
[]
[]
[]
[]
[]
[]
[]
[]
[]
[]
[]
[]
[]
[]
[]
[]
[]
[]
[]
[]
[]
[]
[]
[]
[]
[]
[]
[]
[]
[]
[]
[]
[]
[]
[]
[]
[]
[]
[]
[]
[]
[]
[]
[]
[]
[]
[]
[]
[]
[]
[]
[]
[]
[]
[]
[]
[]
[]
[]
[]
[]
[]
[]
[]
[]
[]
[]
[]
[]
[]
[]
[]
[]
[]
[]
[]
[]
[]
[]
[]
[]
[]
[]
[]
[]
[]
[]
[]
[]
[]
[]
[]
[]
[]
[]
[]
[]
[]
[]
[]
[]
[]
[]
[]
[]
[]
[]
[]
[]
[null,"شماره ","اسم نمونه بافت",null,"میزان جمع شوندگی افقی",null,"میزان جمع شوندگی عمودی"]
[null,{"$f":"محاسبات!AQ17","v":11},{"$f":"محاسبات!AS17","v":"ساده "},null,{"$f":"محاسبات!AT17","v":16},null,{"$f":"محاسبات!AU17","v":35}]
[null,{"$f":"محاسبات!AQ18","v":12},{"$f":"محاسبات!AS18","v":"همه از زیر"},null,{"$f":"محاسبات!AT18","v":29},null,{"$f":"محاسبات!AU18","v":88}]
[null,{"$f":"محاسبات!AQ19","v":13},{"$f":"محاسبات!AS19","v":"جودانه"},null,{"$f":"محاسبات!AT19","v":5},null,{"$f":"محاسبات!AU19","v":22}]
[null,{"$f":"محاسبات!AQ20","v":14},{"$f":"محاسبات!AS20","v":"کشباف (دوتایی)"},null,{"$f":"محاسبات!AT20","v":125},null,{"$f":"محاسبات!AU20","v":22}]
[null,{"$f":"محاسبات!AQ21","v":15},{"$f":"محاسبات!AS21","v":"سبدی (5 تایی)"},null,{"$f":"محاسبات!AT21","v":24},null,{"$f":"محاسبات!AU21","v":40}]
[null,{"$f":"محاسبات!AQ22","v":16},{"$f":"محاسبات!AS22","v":"تمشکی"},null,{"$f":"محاسبات!AT22","v":62},null,{"$f":"محاسبات!AU22","v":31}]
[null,{"$f":"محاسبات!AQ23","v":17},{"$f":"محاسبات!AS23","v":"کج راه"},null,{"$f":"محاسبات!AT23","v":62},null,{"$f":"محاسبات!AU23","v":31}]
[null,{"$f":"محاسبات!AQ24","v":18},{"$f":"محاسبات!AS24","v":"تیغ ماهی"},null,{"$f":"محاسبات!AT24","v":85},null,{"$f":"محاسبات!AU24","v":49}]
[null,{"$f":"محاسبات!AQ25","v":19},{"$f":"محاسبات!AS25","v":"اسموکینگ"},null,{"$f":"محاسبات!AT25","v":125},null,{"$f":"محاسبات!AU25","v":22}]
[null,{"$f":"محاسبات!AQ26","v":20},{"$f":"محاسبات!AS26","v":"زنبوری"},null,{"$f":"محاسبات!AT26","v":77},null,{"$f":"محاسبات!AU26","v":31}]
[null,{"$f":"محاسبات!AQ27","v":21},{"$f":"محاسبات!AS27","v":"پیچ گیسباف"},null,{"$f":"محاسبات!AT27","v":104},null,{"$f":"محاسبات!AU27","v":49}]
[null,{"$f":"محاسبات!AQ28","v":22},{"$f":"محاسبات!AS28","v":"پیچ چپ و راستی"},null,{"$f":"محاسبات!AT28","v":114},null,{"$f":"محاسبات!AU28","v":40}]
[null,{"$f":"محاسبات!AQ29","v":23},{"$f":"محاسبات!AS29","v":"کشباف (یکی)"},null,{"$f":"محاسبات!AT29","v":62},null,{"$f":"محاسبات!AU29","v":9}]
[null,{"$f":"محاسبات!AQ30","v":24},{"$f":"محاسبات!AS30","v":"پیچ با فاصله"},null,{"$f":"محاسبات!AT30","v":62},null,{"$f":"محاسبات!AU30","v":35}]
[null,{"$f":"محاسبات!AQ31","v":25},{"$f":"محاسبات!AS31","v":"پیچ متراکم"},null,{"$f":"محاسبات!AT31","v":83},null,{"$f":"محاسبات!AU31","v":35}]
[null,{"$f":"محاسبات!AQ32","v":26},{"$f":"محاسبات!AS32","v":"کشباف سه تایی"},null,{"$f":"محاسبات!AT32","v":167},null,{"$f":"محاسبات!AU32","v":13}]
[null,{"$f":"محاسبات!AQ33","v":27},{"$f":"محاسبات!AS33","v":"  "},null,{"$f":"محاسبات!AT33","v":"  "},null,{"$f":"محاسبات!AU33","v":"  "}]
[null,{"$f":"محاسبات!AQ34","v":28},{"$f":"محاسبات!AS34","v":"  "},null,{"$f":"محاسبات!AT34","v":"  "},null,{"$f":"محاسبات!AU34","v":"  "}]
[null,{"$f":"محاسبات!AQ35","v":29},{"$f":"محاسبات!AS35","v":"  "},null,{"$f":"محاسبات!AT35","v":"  "},null,{"$f":"محاسبات!AU35","v":"  "}]
[null,{"$f":"محاسبات!AQ36","v":30},{"$f":"محاسبات!AS36","v":"  "},null,{"$f":"محاسبات!AT36","v":"  "},null,{"$f":"محاسبات!AU36","v":"  "}]
[null,{"$f":"محاسبات!AQ37","v":31},{"$f":"محاسبات!AS37","v":"  "},null,{"$f":"محاسبات!AT37","v":"  "},null,{"$f":"محاسبات!AU37","v":"  "}]
[null,{"$f":"محاسبات!AQ38","v":32},{"$f":"محاسبات!AS38","v":"  "},null,{"$f":"محاسبات!AT38","v":"  "},null,{"$f":"محاسبات!AU38","v":"  "}]
[null,{"$f":"محاسبات!AQ39","v":33},{"$f":"محاسبات!AS39","v":"  "},null,{"$f":"محاسبات!AT39","v":"  "},null,{"$f":"محاسبات!AU39","v":"  "}]
[null,{"$f":"محاسبات!AQ40","v":34},{"$f":"محاسبات!AS40","v":"  "},null,{"$f":"محاسبات!AT40","v":"  "},null,{"$f":"محاسبات!AU40","v":"  "}]
[null,{"$f":"محاسبات!AQ41","v":35},{"$f":"محاسبات!AS41","v":"  "},null,{"$f":"محاسبات!AT41","v":"  "},null,{"$f":"محاسبات!AU41","v":"  "}]
[null,{"$f":"محاسبات!AQ42","v":36},{"$f":"محاسبات!AS42","v":"  "},null,{"$f":"محاسبات!AT42","v":"  "},null,{"$f":"محاسبات!AU42","v":"  "}]
[null,{"$f":"محاسبات!AQ43","v":37},{"$f":"محاسبات!AS43","v":"  "},null,{"$f":"محاسبات!AT43","v":"  "},null,{"$f":"محاسبات!AU43","v":"  "}]
[null,{"$f":"محاسبات!AQ44","v":38},{"$f":"محاسبات!AS44","v":"  "},null,{"$f":"محاسبات!AT44","v":"  "},null,{"$f":"محاسبات!AU44","v":"  "}]
[null,{"$f":"محاسبات!AQ45","v":39},{"$f":"محاسبات!AS45","v":"  "},null,{"$f":"محاسبات!AT45","v":"  "},null,{"$f":"محاسبات!AU45","v":"  "}]
[null,{"$f":"محاسبات!AQ46","v":40},{"$f":"محاسبات!AS46","v":"  "},null,{"$f":"محاسبات!AT46","v":"  "},null,{"$f":"محاسبات!AU46","v":"  "}]
[null,{"$f":"محاسبات!AQ47","v":41},{"$f":"محاسبات!AS47","v":"  "},null,{"$f":"محاسبات!AT47","v":"  "},null,{"$f":"محاسبات!AU47","v":"  "}]
[null,{"$f":"محاسبات!AQ48","v":42},{"$f":"محاسبات!AS48","v":"  "},null,{"$f":"محاسبات!AT48","v":"  "},null,{"$f":"محاسبات!AU48","v":"  "}]
[null,{"$f":"محاسبات!AQ49","v":43},{"$f":"محاسبات!AS49","v":"  "},null,{"$f":"محاسبات!AT49","v":"  "},null,{"$f":"محاسبات!AU49","v":"  "}]
[null,{"$f":"محاسبات!AQ50","v":44},{"$f":"محاسبات!AS50","v":"  "},null,{"$f":"محاسبات!AT50","v":"  "},null,{"$f":"محاسبات!AU50","v":"  "}]
[null,{"$f":"محاسبات!AQ51","v":45},{"$f":"محاسبات!AS51","v":"  "},null,{"$f":"محاسبات!AT51","v":"  "},null,{"$f":"محاسبات!AU51","v":"  "}]
[null,{"$f":"محاسبات!AQ52","v":46},{"$f":"محاسبات!AS52","v":"  "},null,{"$f":"محاسبات!AT52","v":"  "},null,{"$f":"محاسبات!AU52","v":"  "}]
[null,{"$f":"محاسبات!AQ53","v":47},{"$f":"محاسبات!AS53","v":"  "},null,{"$f":"محاسبات!AT53","v":"  "},null,{"$f":"محاسبات!AU53","v":"  "}]
[null,{"$f":"محاسبات!AQ54","v":48},{"$f":"محاسبات!AS54","v":"  "},null,{"$f":"محاسبات!AT54","v":"  "},null,{"$f":"محاسبات!AU54","v":"  "}]
[null,{"$f":"محاسبات!AQ55","v":49},{"$f":"محاسبات!AS55","v":"  "},null,{"$f":"محاسبات!AT55","v":"  "},null,{"$f":"محاسبات!AU55","v":"  "}]
[null,{"$f":"محاسبات!AQ56","v":50},{"$f":"محاسبات!AS56","v":"  "},null,{"$f":"محاسبات!AT56","v":"  "},null,{"$f":"محاسبات!AU56","v":"  "}]
[null,{"$f":"محاسبات!AQ57","v":51},{"$f":"محاسبات!AS57","v":"  "},null,{"$f":"محاسبات!AT57","v":"  "},null,{"$f":"محاسبات!AU57","v":"  "}]
[null,{"$f":"محاسبات!AQ58","v":52},{"$f":"محاسبات!AS58","v":"  "},null,{"$f":"محاسبات!AT58","v":"  "},null,{"$f":"محاسبات!AU58","v":"  "}]
[null,{"$f":"محاسبات!AQ59","v":53},{"$f":"محاسبات!AS59","v":"  "},null,{"$f":"محاسبات!AT59","v":"  "},null,{"$f":"محاسبات!AU59","v":"  "}]
[null,{"$f":"محاسبات!AQ60","v":54},{"$f":"محاسبات!AS60","v":"  "},null,{"$f":"محاسبات!AT60","v":"  "},null,{"$f":"محاسبات!AU60","v":"  "}]
[null,{"$f":"محاسبات!AQ61","v":55},{"$f":"محاسبات!AS61","v":"  "},null,{"$f":"محاسبات!AT61","v":"  "},null,{"$f":"محاسبات!AU61","v":"  "}]
[null,{"$f":"محاسبات!AQ62","v":56},{"$f":"محاسبات!AS62","v":"  "},null,{"$f":"محاسبات!AT62","v":"  "},null,{"$f":"محاسبات!AU62","v":"  "}]
[null,{"$f":"محاسبات!AQ63","v":57},{"$f":"محاسبات!AS63","v":"  "},null,{"$f":"محاسبات!AT63","v":"  "},null,{"$f":"محاسبات!AU63","v":"  "}]
[null,{"$f":"محاسبات!AQ64","v":58},{"$f":"محاسبات!AS64","v":"  "},null,{"$f":"محاسبات!AT64","v":"  "},null,{"$f":"محاسبات!AU64","v":"  "}]
[null,{"$f":"محاسبات!AQ65","v":59},{"$f":"محاسبات!AS65","v":"  "},null,{"$f":"محاسبات!AT65","v":"  "},null,{"$f":"محاسبات!AU65","v":"  "}]
[null,{"$f":"محاسبات!AQ66","v":60},{"$f":"محاسبات!AS66","v":"  "},null,{"$f":"محاسبات!AT66","v":"  "},null,{"$f":"محاسبات!AU66","v":"  "}]

{"sheet":"راهنما ","index":6,"n_rows":0,"n_cols":0,"rows_kept":0,"cut":false,"hidden":true,"merged":[]}

{"sheet":"اندازه های شخصی","index":7,"n_rows":35,"n_cols":85,"rows_kept":35,"cut":false,"hidden":false,"merged":[]}
[]
[]
[]
[]
[null,null,null,null,"عنوان مورد نظر خود را در قسمت سبز رنگ وارد کنید",null,"عنوان 1",null,"عنوان 2",null,"عنوان 3",null,"عنوان 4",null,"عنوان 5",null,"عنوان 6",null,"عنوان 7",null,"عنوان 8",null,"عنوان 9",null,"عنوان 10",null,"عنوان 11",null,"عنوان 12",null,"عنوان 13",null,"عنوان 14",null,"عنوان 15",null,"عنوان 16",null,"عنوان 17",null,"عنوان 18",null,"عنوان 19",null,"عنوان 20",null,"عنوان 21",null,"عنوان 22",null,"عنوان 23",null,"عنوان 24",null,"عنوان 25",null,"عنوان 26",null,"عنوان 27",null,"عنوان 28",null,"عنوان 29",null,"عنوان 30",null,"عنوان 31",null,"عنوان 32",null,"عنوان 33",null,"عنوان 34",null,"عنوان 35",null,"عنوان 36",null,"عنوان 37",null,"عنوان 38",null,"عنوان 39",null,"عنوان 40"]
[]
[null,null,null,null,null,null,"اندازه شخصی 1",null,"اندازه شخصی 2",null,"اندازه شخصی 3",null,"اندازه شخصی 3",null,"اندازه شخصی 5",null,"اندازه شخصی 6",null,"اندازه شخصی 7",null,"اندازه شخصی 8",null,"اندازه شخصی 9",null,"اندازه شخصی 10",null,"اندازه شخصی 11",null,"اندازه شخصی 12",null,"اندازه شخصی 13",null,"اندازه شخصی 14",null,"اندازه شخصی 15",null,"اندازه شخصی 16",null,"اندازه شخصی 17",null,"اندازه شخصی 18",null,"اندازه شخصی 19",null,"اندازه شخصی 20",null,"اندازه شخصی 21",null,"اندازه شخصی 22",null,"اندازه شخصی 23",null,"اندازه شخصی 24",null,"اندازه شخصی 25",null,"اندازه شخصی 26",null,"اندازه شخصی 27",null,"اندازه شخصی 28",null,"اندازه شخصی 29",null,"اندازه شخصی 30",null,"اندازه شخصی 31",null,"اندازه شخصی 32",null,"اندازه شخصی 33",null,"اندازه شخصی 34",null,"اندازه شخصی 35",null,"اندازه شخصی 36",null,"اندازه شخصی 37",null,"اندازه شخصی 38",null,"اندازه شخصی 39",null,"اندازه شخصی 40"]
[null,null,null,null,"دور کمر","a"]
[null,null,null,null,"نوار کمر از پشت بین دو خط پهلو","b"]
[null,null,null,null,"دور باسن","c"]
[null,null,null,null,"نوار باسن از پشت بین دو خط پهلو","d"]
[null,null,null,null,"فاصله نوار کمر تا زمین، از قسمت جلو","e"]
[null,null,null,null,"فاصله نوار کمر تا زمین، از قسمت پهلو","f"]
[null,null,null,null,"فاصله نوار کمر تا زمین، از قسمت پشت","g"]
[null,null,null,null,"فاصله نوار زانو تا زمین","h"]
[null,null,null,null,"فاصله نوار باسن تا زمین","j"]
[null,null,null,null,"دور زانو","L"]
[null,null,null,null,"بلندی فاق","m"]
[null,null,null,null,"آنفورشور","q"]
[null,null,null,null,"دور مچ پا","r"]
[null,null,null,null,"شلوار زنانه و بچگانه = 0       مردانه=1      بچه با پوشک=2"]
[null,null,null,null,"دور سینه : از برجسته ترین قسمت سینه","s1"]
[null,null,null,null,"پشت نوار سینه، بین دو خط پهلو","s2"]
[null,null,null,null,"فاصله عمودی از خط سینه جلو تا خط سینه پشت که از کنار حلقه آستین بگذرد","t1"]
[null,null,null,null,"فاصله عمودی از خط سینه جلو تا خط سینه پشت که از کنارگردن بگذرد","t2"]
[null,null,null,null,"فاصله عمودی از خط کمر جلو تا خط کمر پشت که از کنار گردن بگذرد","t3"]
[null,null,null,null,"فاصله عمودی بین خط سینه پشت و سرشانه، نزدیک دست","t4"]
[null,null,null,null,"فاصله عمودی بین خط سینه پشت و سرشانه، نزدیک گردن","t5"]
[null,null,null,null,"فاصله عمودی بین خط کمرپشت و سرشانه، نزدیک گردن","t6"]
[null,null,null,null,"دور گردن (متر به طور عمودی دور گردن قرار می گیرد و از روی استخوان ترقوه می گذرد)","v"]
[null,null,null,null,"کارور پشت (بین دو خط امتداد زیر بغل)","v3"]
[null,null,null,null,"دور بازو از ناحیه زیر بغل","w2"]
[null,null,null,null,"قد آستین (دست به طور خمیده، قد از سرشانه تا مچ)","w10"]
[null,null,null,null,"دور مچ دست","w11"]
[null,null,null,null,"دور سر","w12"]

{"sheet":"اندازه گیری و تحلیل","index":8,"n_rows":487,"n_cols":26,"rows_kept":487,"cut":false,"hidden":false,"merged":[[401,25,402,25],[222,8,222,13]]}
[]
[]
[]
[null,null,null,null,null,"0 الی 30","خیلی کم"]
[null,null,null,"برای اندام شما :",null,"30 الی 50","کم",null,null,null,"قد سرشانه تا زمین",{"$f":"L419","v":160}]
[null,null,null,"برجستگی سینه جلو",null,"50 الی 70","متوسط",null,null,null,"تمام قد (تقریبی)",{"$f":"L420","v":180}]
[null,null,null,{"$f":"L479","v":73},null,"70 الی 90","زیاد"]
[null,null,null,null,null,"90 الی 200","خیلی زیاد"]
[]
[]
[]
[null,null,null,null,null,"0 الی 20","خیلی کم"]
[null,null,null,"برای اندام شما :",null,"20 الی 40","کم"]
[null,null,null,"برجستگی باسن",null,"40 الی 60","متوسط"]
[null,null,null,{"$f":"L476","v":57},null,"60 الی 80","زیاد"]
[null,null,null,null,null,"80 الی 200","خیلی زیاد"]
[]
[]
[]
[null,null,null,null,null,"3 الی - 20","شکم تخت"]
[null,null,null,"برای اندام شما :",null,"3 الی 6"]
[null,null,null,"برجستگی شکم نسبت به سینه",null,"6 الی 10"]
[null,null,null,{"$f":"L484","v":5},null,"10 الی 20","شکم در امتداد سینه"]
[null,null,null,null,null,"20 الی 30","شکم برجسته تراز سینه"]
[null,null,null,null,null,"30 الی 40","شکم حاملگی"]
[null,null,null,null,null,"40 الی 150","شکم حاملگی بزرگ"]
[]
[]
[]
[null,null,null,null,null,"0الی 10","خیلی کم"]
[null,null,null,"برای اندام شما :",null,"10 الی 15","کم"]
[null,null,null,"افتادگی سرشانه",null,"15 الی 20","متوسط"]
[null,null,null,{"$f":"L474","v":20},null,"20 الی 25","زیاد"]
[null,null,null,null,null,"25 الی 50","خیلی زیاد"]
[]
[]
[]
[]
[]
[]
[]
[]
[]
[]
[]
[]
[]
[]
[]
[]
[]
[]
[null,null,null,"خطای درجه 1 "]
[null,null,null,{"$f":"IF(AND(V404>20,V404<200),\" \",\" اندازه  a تکرار شود.\")","v":" "}]
[null,null,null,{"$f":"IF(AND(V405>10,V405<100),\" \",\" اندازه  b تکرار شود.\")","v":" "}]
[null,null,null,{"$f":"IF(AND(V406>20,V406<200),\" \",\" اندازه  c تکرار شود.\")","v":" "}]
[null,null,null,{"$f":"IF(AND(V407>10,V407<100),\" \",\" اندازه  d تکرار شود.\")","v":" "}]
[null,null,null,{"$f":"IF(AND(V408>15,V408<140),\" \",\" اندازه  e تکرار شود.\")","v":" "}]
[]
[null,null,null,{"$f":"IF(AND(V410>15,V410<140),\" \",\" اندازه  g تکرار شود.\")","v":" "}]
[null,null,null,{"$f":"IF(AND(V411>5,V411<70),\" \",\" اندازه  h تکرار شود.\")","v":" "}]
[null,null,null,{"$f":"IF(AND(V412>10,V412<120),\" \",\" اندازه  j تکرار شود.\")","v":" "}]
[null,null,null,{"$f":"IF(AND(V413>15,V413<70),\" \",\" اندازه  L تکرار شود.\")","v":" "}]
[null,null,null,{"$f":"IF(AND(W414>10,W414<50),\" \",\" اندازه  m تکرار شود.\")","v":" "}]
[null,null,null,{"$f":"IF(AND(V415>25,V415<140),\" \",\" اندازه  q تکرار شود.\")","v":" "}]
[null,null,null,{"$f":"IF(AND(V416>10,V416<80),\" \",\" اندازه  r تکرار شود.\")","v":" "}]
[null,null,null,{"$f":"IF(AND(V424>20,V424<200),\" \",\" اندازه  s1 تکرار شود.\")","v":" "}]
[null,null,null,{"$f":"IF(AND(V425>10,V425<100),\" \",\" اندازه  s2 تکرار شود.\")","v":" "}]
[null,null,null,{"$f":"IF(AND(V426>12,V426<75),\" \",\" اندازه  t1 تکرار شود.\")","v":" "}]
[null,null,null,{"$f":"IF(AND(V427>13,V427<80),\" \",\" اندازه  t2 تکرار شود.\")","v":" "}]
[null,null,null,{"$f":"IF(AND(V428>20,V428<120),\" \",\" اندازه  t3 تکرار شود.\")","v":" "}]
[null,null,null,{"$f":"IF(AND(V429>6,V429<40),\" \",\" اندازه  t4 تکرار شود.\")","v":" "}]
[null,null,null,{"$f":"IF(AND(V430>7,V430<50),\" \",\" اندازه  t5 تکرار شود.\")","v":" "}]
[null,null,null,{"$f":"IF(AND(V431>10,V431<70),\" \",\" اندازه  t6 تکرار شود.\")","v":" "}]
[null,null,null,{"$f":"IF(AND(V432>15,V432<55),\" \",\" اندازه  v  تکرار شود.\")","v":" "}]
[null,null,null,{"$f":"IF(AND(V433>10,V433<80),\" \",\" اندازه  v3 تکرار شود.\")","v":" "}]
[null,null,null,{"$f":"IF(AND(V434>10,V434<70),\" \",\" اندازه  w2 تکرار شود.\")","v":" "}]
[null,null,null,{"$f":"IF(AND(V435>10,V435<80),\" \",\" اندازه  w10 تکرار شود.\")","v":" "}]
[null,null,null,{"$f":"IF(AND(V436>8,V436<30),\" \",\" اندازه  w11 تکرار شود.\")","v":" "}]
[null,null,null,{"$f":"IF(AND(V437>20,V437<70),\" \",\" اندازه  w12 تکرار شود.\")","v":" "}]
[]
[null,null,null,"خطای درجه 2 "]
[null,null,null,{"$f":"IF(W412>0.9*W410,\"اندازه  j  را دوباره تکرار کنید - j کم شود.\",\"  \")","v":"  "}]
[null,null,null,{"$f":"IF(W411>0.65*W412,\"اندازه گیری h را دوباره تکرار کنید - h کم شود.\",\"  \")","v":"  "}]
[null,null,null,{"$f":"IF(W414>0.45*W415,\"یا m کم شود یا q زیاد شود.\",\"  \")","v":"  "}]
[null,null,null,{"$f":"IF(V413>0.47*V406,\"اندازه گیری  L را دوباره تکرار کنید - L کم شود.\",\"  \")","v":"  "}]
[null,null,null,{"$f":"IF(V416>1.7*V436,\"دور مچ پا (r)  کم شود\",\"  \")","v":"  "}]
[null,null,null,{"$f":"IF(V416<1.2*V436,\"دور مچ پا (r)  زیاد شود\",\"  \")","v":"  "}]
[null,null,null,{"$f":"IF(V413<0.3*V406,\"اندازه گیری  L را دوباره تکرار کنید - زیاد شود.\",\"  \")","v":"  "}]
[null,null,null,{"$f":"IF(W412<0.65*W410,\"اندازه  j  را دوباره تکرار کنید - j زیاد شود.\",\"  \")","v":"  "}]
[null,null,null,{"$f":"IF(W415<0.5*V406,\"اندازه گیری  q را دوباره تکرار کنید - q زیاد شود.\",\"  \")","v":"  "}]
[null,null,null,{"$f":"IF(W414<0.3*W415,\"یا m زیاد شود یا q کم شود.\",\"  \")","v":"  "}]
[null,null,null,{"$f":"IF(V407>0.7*V406,\"نوار پهلو در قسمت باسن به سمت پشت متمایل شود و اندازه های d و c تکرار شود\",\"  \")","v":"  "}]
[null,null,null,{"$f":"IF(V405>0.7*V404,\"نوار پهلو در قسمت کمر به سمت پشت متمایل شود و اندازه های a و b تکرار شود\",\"  \")","v":"  "}]
[null,null,null,{"$f":"IF(W427>0.8*W428,\"نوار سینه و نوار کمر در جلو از هم دور شود و اندازه های t2 و t3 و t5 و t6 تکرار شود.\",\"  \")","v":"  "}]
[null,null,null,{"$f":"IF(V430>0.75*V431,\"نوار کمر و نوار سینه در پشت از هم دور شود و اندازه های t6  و t5 تکرار شود.\",\"  \")","v":"  "}]
[null,null,null,{"$f":"IF(W426>0.99*W427,\"اندام با سینه تو رفته، نوار سینه و نوار سرشانه افقی و صاف شود و اندازه های t1 و t2 و t4 و t5 تکرار شود.\",\"  \")","v":"  "}]
[null,null,null,{"$f":"IF(V429>V430,\"نوار سینه و نوار سرشانه افقی و صاف شود و اندازه های t5  و t4 تکرار شود.\",\"  \")","v":"  "}]
[null,null,null,{"$f":"IF(V432>0.6*V424,\"اندازه های s1  و v تکرار شود.\",\"  \")","v":"  "}]
[null,null,null,{"$f":"IF(V434>0.6*V424,\"اندازه های s1  و w2 تکرار شود.\",\"  \")","v":"  "}]
[null,null,null,{"$f":"IF(V435<0.5*V428,\"اندازه های t3  و w10 تکرار شود.\",\"  \")","v":"  "}]
[null,null,null,{"$f":"IF(V436>V434,\"اندازه های w2  و w11 تکرار شود.\",\"  \")","v":"  "}]
[null,null,null,{"$f":"IF((V433)>V425,\"اندازه - کارور پشت - باید کوچکتر از اندازه - سینه از پشت - باشد.\",\"  \")","v":"  "}]
[null,null,null,{"$f":"IF(V425>0.6*V424,\"نوار پهلو در قسمت سینه به سمت پشت متمایل شود و اندازه های s2 و s1 تکرار شود\",\"  \")","v":"  "}]
[null,null,null,{"$f":"IF(V425<0.35*V424,\"نوار پهلو در قسمت سینه به سمت جلو متمایل شود و اندازه های s2 و s1 تکرار شود\",\"  \")","v":"  "}]
[]
[null,null,null,"خطای درجه 3 "]
[null,null,null,{"$f":"IF(((V415-2*W414-0.03*V406)/(V406))<0.1,\" یا m کم شود و یا q زیاد شود\",\"  \")","v":"  "}]
[null,null,null,{"$f":"IF(((V415-2*W414-0.03*V406)/(V406))>0.16,\"یا m زیاد شود و یا q کم شود\",\"  \")","v":"  "}]
[null,null,null,{"$f":"IF(V412>(W409-0.5*W414),\"یا اندازه j کم شود یا اندازه m کم شود.\",\"  \")","v":"  "}]
[null,null,null,{"$f":"IF(V412<(W409-0.8*W414),\"یا اندازه j زیاد شود یا اندازه m زیاد شود.\",\"  \")","v":"  "}]
[null,null,null,{"$f":"IF(((V415-2*W414-0.03*V406)/(V406))<0.105,\" بهتر است یا m کم شود و یا q زیاد شود\",\"  \")","v":"  "}]
[null,null,null,{"$f":"IF(((V415-2*W414-0.03*V406)/(V406))>0.14,\"بهتر است یا m زیاد شود و یا q کم شود\",\"  \")","v":"  "}]
[null,null,null,{"$f":"IF((0.5*(V425-V433))<(0.05*V434),\"نوار پهلو در قسمت سینه به سمت جلو متمایل شود تا اندازه   s2  زیاد شود.\",\"  \")","v":"  "}]
[null,null,null,{"$f":"IF((0.5*(V425-V433))>(0.15*V434),\"نوار پهلو در قسمت سینه به سمت پشت متمایل شود تا اندازه  s2  کم شود.\",\"  \")","v":"  "}]
[null,null,null,{"$f":"IF(L470<-0.22,\"برای کاهش اختلاف بین افتادگی سرشانه پشت و جلو،اندازه t5 کم شود.\",\"  \")","v":"  "}]
[null,null,null,{"$f":"IF(AND(L469<30,L468<30,L470>0,L470>0.22),\"برای کاهش اختلاف بین افتادگی سرشانه پشت و جلو اندازه t5 زیاد شود.\",\"  \")","v":"  "}]
[null,null,null,{"$f":"IF(OR(L470>0.22,L470<-0.22,L469>30,L468>30),\" \",IF(L472<-3,\"اندازه t3 زیاد شود.\",\"  \"))","v":"  "}]
[null,null,null,{"$f":"IF(OR(L469>30,L468>30,L470>0.22,L470<-0.22),\" \",IF(L472>30,\"شکم برجسته تر از سینه است (در حد بارداری) برای کم کردن برجستگی t3 کم شود.\",\"  \"))","v":"  "}]
[null,null,null,{"$f":"IF(OR(L468>30,L469>30,L470>0.22,L470<-0.22),\" \",IF(AND(L472>15,L472<30),\"شکم برجسته تر از سینه است - برای کم کردن برجستگی t3 کم شود.\",\"  \"))","v":"  "}]
[null,null,null,{"$f":"IF(L469>30,\"سرشانه جلو بیش از حد افتاده است.  t2 کم شود.\",\"  \")","v":"  "}]
[null,null,null,{"$f":"IF(L468>30,\"سرشانه پشت بیش از حد افتاده است.  t5 کم شود.\",\"  \")","v":"  "}]
[null,null,null,{"$f":"IF(M433>1.14*M432-0.14*M425,\"اندازه کارور پشت کم شود\",\"  \")","v":"  "}]
[null,null,null,{"$f":"IF(L478<1,\"اندازه کارور پشت کم شود\",\"  \")","v":"  "}]
[]
[]
[]
[]
[]
[]
[]
[]
[]
[]
[]
[]
[]
[]
[]
[]
[]
[]
[null,null,null,"انتخاب نوع اندازه گیری"]
[null,null,null,"انتخاب بلندی فاق"]
[null,null,null,"گزینه \" اندازه جدید \" را انتخاب کنید"]
[]
[]
[]
[null,null,null,"a   دور کمر",0]
[]
[]
[null,null,null," c   دور باسن",0]
[]
[]
[null,null,null," s1    دور سینه : از برجسته ترین قسمت سینه",0]
[]
[]
[null,null,null," w10   قد آستین (دست به طور خمیده، قد از سرشانه تا مچ)",0]
[]
[]
[null,null,null," f    فاصله نوار کمر تا زمین، از قسمت پهلو",0]
[]
[]
[null,null,null," m   بلندی فاق",0]
[]
[]
[null,null,null," w2   دور بازو از ناحیه زیر بغل",0]
[]
[]
[null,null,null," w11   دور مچ دست",0]
[]
[]
[null,null,null," V    دور گردن (متر به طور عمودی دور گردن قرار می گیرد و از روی استخوان ترقوه می گذرد)",0]
[]
[]
[null,null,null," w12   دور سر",0]
[]
[]
[null,null,null," t3     فاصله عمودی از خط کمر جلو تا خط کمر پشت که از کنار گردن بگذرد",0]
[]
[]
[null,null,null,{"$f":"IF(OR('متغیرها '!W5=1,'متغیرها '!W5=3,'متغیرها '!W5=4),\" t2    فاصله عمودی از خط سینه جلو تا خط سینه پشت که از کنارگردن بگذرد  \",\"   \")","v":" t2    فاصله عمودی از خط سینه جلو تا خط سینه پشت که از کنارگردن بگذرد  "},0]
[]
[]
[null,null,null,{"$f":"IF(OR('متغیرها '!W5=1,'متغیرها '!W5=3,'متغیرها '!W5=4),\"V3   کارور پشت (بین دو خط امتداد زیر بغل)  \",\"   \")","v":"V3   کارور پشت (بین دو خط امتداد زیر بغل)  "},0]
[]
[]
[null,null,null,{"$f":"IF(OR('متغیرها '!W5=1,'متغیرها '!W5=4),\" g    فاصله نوار کمر تا زمین، از قسمت پشت  \",\"   \")","v":"   "}]
[]
[]
[null,null,null,{"$f":"IF(OR('متغیرها '!W5=1,'متغیرها '!W5=4),\" e   فاصله نوار کمر تا زمین، از قسمت جلو  \",\"   \")","v":"   "}]
[]
[]
[null,null,null,{"$f":"IF(OR('متغیرها '!W5=1,'متغیرها '!W5=4),\" j    فاصله نوار باسن تا زمین  \",\"   \")","v":"   "}]
[]
[]
[null,null,null,{"$f":"IF(OR('متغیرها '!W5=1,'متغیرها '!W5=4),\" h    فاصله نوار زانو تا زمین  \",\"   \")","v":"   "}]
[]
[]
[null,null,null,{"$f":"IF(OR('متغیرها '!W5=1,'متغیرها '!W5=4),\"  L   دور زانو  \",\"   \")","v":"   "}]
[]
[]
[null,null,null,{"$f":"IF(OR('متغیرها '!W5=1,'متغیرها '!W5=4),\" r    دور مچ پا  \",\"   \")","v":"   "}]
[]
[]
[null,null,null,{"$f":"IF(OR('متغیرها '!W5=1,'متغیرها '!W5=4),\"  q    آنفورشور  \",\"   \")","v":"   "}]
[]
[]
[null,null,null,{"$f":"IF(OR('متغیرها '!W5=1,'متغیرها '!W5=4),\" b   نوار کمر از پشت بین دو خط پهلو  \",\"   \")","v":"   "}]
[]
[]
[null,null,null,{"$f":"IF(OR('متغیرها '!W5=1,'متغیرها '!W5=4),\" s2    پشت نوار سینه، بین دو خط پهلو  \",\"   \")","v":"   "}]
[]
[]
[null,null,null,{"$f":"IF(OR('متغیرها '!W5=1,'متغیرها '!W5=4),\"  d   نوار باسن از پشت بین دو خط پهلو  \",\"   \")","v":"   "}]
[]
[]
[null,null,null,{"$f":"IF('متغیرها '!W5=1,\" t1    فاصله عمودی از خط سینه جلو تا خط سینه پشت که از کنار حلقه آستین بگذرد  \",\"   \")","v":"   "}]
[]
[]
[null,null,null,{"$f":"IF('متغیرها '!W5=1,\"t4     فاصله عمودی بین خط سینه پشت و سرشانه، نزدیک دست  \",\"   \")","v":"   "}]
[]
[null,null,null,null,null,null,null,null,"اگر تحلیل اندام با شکل واقعی اندام که مشاهده میکنید متفاوت است، میتوانید تغییرات زیر را در اندازه هایی که وارد کردید اعمال کنید :"]
[null,null,null,{"$f":"IF('متغیرها '!W5=1,\"t5     فاصله عمودی بین خط سینه پشت و سرشانه، نزدیک گردن  \",\"   \")","v":"   "},null,null,null,null,"برای افزایش برجستگی سینه ،  v3 (کارور پشت) کم شود."]
[null,null,null,null,null,null,null,null,"برای افزایش برجستگی باسن ،  d  زیاد شود."]
[null,null,null,null,null,null,null,null,"برای کاهش برجستگی شکم، t3 کم شود."]
[null,null,null,{"$f":"IF('متغیرها '!W5=1,\" t6    فاصله عمودی بین خط کمر و سرشانه، نزدیک گردن  \",\"   \")","v":"   "},null,null,null,null,{"$f":"ROUND(L469,0)","v":22},"زاویه سرشانه جلو",null,"برای کاهش افتادگی سرشانه جلو، t2 کم شود."]
[null,null,null,null,null,null,null,null,{"$f":"ROUND(L468,0)","v":18},"زاویه سرشانه پشت",null,"برای کاهش افتادگی سرشانه پشت، t5 کم شود."]
[]
[]
[]
[]
[]
[]
[]
[]
[]
[]
[]
[]
[]
[]
[]
[]
[]
[]
[]
[]
[]
[]
[]
[]
[]
[]
[]
[]
[]
[]
[]
[]
[]
[]
[]
[]
[]
[null,null,null,"انتخاب نوع سایزبندی"]
[]
[]
[null,null,null,"    دور سینه : از برجسته ترین قسمت سینه",0,null,null,null,null,{"$f":"'متغیرها '!V44","v":" کوچکتر از سایز 34 "}]
[]
[]
[null,null,null,"    دور باسن",0,null,null,null,null,{"$f":"'متغیرها '!V42","v":" کوچکتر از سایز 34 "}]
[]
[]
[null,null,null,"   دور کمر",0,null,null,null,null,{"$f":"'متغیرها '!V43","v":" کوچکتر از سایز 34 "}]
[]
[]
[]
[]
[]
[]
[]
[]
[]
[]
[]
[]
[]
[]
[]
[]
[]
[]
[]
[]
[]
[]
[]
[]
[]
[]
[null,null,null,null,null,"ستون آبی رنگ را کپی کرده بعد به صورت عدد در صفحه اندازه های شخصی ذخیره کنید"]
[]
[null,null,null,"دور کمر","a",{"$f":"V404","v":131}]
[null,null,null,"نوار کمر از پشت بین دو خط پهلو","b",63.6]
[null,null,null,"دور باسن","c",150]
[null,null,null,"نوار باسن از پشت بین دو خط پهلو","d",79.8]
[null,null,null,"فاصله نوار کمر تا زمین، از قسمت جلو","e",108.9]
[null,null,null,"فاصله نوار کمر تا زمین، از قسمت پهلو","f",110]
[null,null,null,"فاصله نوار کمر تا زمین، از قسمت پشت","g",111.1]
[null,null,null,"فاصله نوار زانو تا زمین","h",46.7]
[null,null,null,"فاصله نوار باسن تا زمین","j",87.3]
[null,null,null,"دور زانو","L",61.5]
[null,null,null,"بلندی فاق","m",33.5]
[null,null,null,"آنفورشور","q",91.7]
[null,null,null,"دور مچ پا","r",30]
[null,null,null,"شلوار زنانه و بچگانه = 0       مردانه=1      بچه با پوشک=2",null,{"$f":"V418","v":0}]
[null,null,null,"دور سینه : از برجسته ترین قسمت سینه","s1",{"$f":"V424","v":146}]
[null,null,null,"پشت نوار سینه، بین دو خط پهلو","s2",67.5]
[null,null,null,"فاصله عمودی از خط سینه جلو تا خط سینه پشت که از کنار حلقه آستین بگذرد","t1",46.5]
[null,null,null,"فاصله عمودی از خط سینه جلو تا خط سینه پشت که از کنارگردن بگذرد","t2",63.3]
[null,null,null,"فاصله عمودی از خط کمر جلو تا خط کمر پشت که از کنار گردن بگذرد","t3",100]
[null,null,null,"فاصله عمودی بین خط سینه پشت و سرشانه، نزدیک دست","t4",23.8]
[null,null,null,"فاصله عمودی بین خط سینه پشت و سرشانه، نزدیک گردن","t5",30.5]
[null,null,null,"فاصله عمودی بین خط کمرپشت و سرشانه، نزدیک گردن","t6",46.9]
[null,null,null,"دور گردن (متر به طور عمودی دور گردن قرار می گیرد و از روی استخوان ترقوه می گذرد)","v",50]
[null,null,null,"کارور پشت (بین دو خط امتداد زیر بغل)","v3",55.5]
[null,null,null,"دور بازو از ناحیه زیر بغل","w2",46]
[null,null,null,"قد آستین (دست به طور خمیده، قد از سرشانه تا مچ)","w10",64]
[null,null,null,"دور مچ دست","w11",23]
[null,null,null,"دور سر","w12",57]
[]
[]
[]
[]
[]
[]
[]
[]
[]
[]
[]
[]
[]
[]
[]
[]
[]
[]
[]
[]
[null,null,null,"گزینه \" اندازه های موجود \" را انتخاب کنید"]
[null,null,null,"سایز یا اندازه شخصی خود را انتخاب کنید"]
[]
[null,null,null,"دور کمر","a",{"$f":"'متغیرها '!W52","v":131}]
[null,null,null,"نوار کمر از پشت بین دو خط پهلو","b",{"$f":"'متغیرها '!W53","v":63.6}]
[null,null,null,"دور باسن","c",{"$f":"'متغیرها '!W54","v":150}]
[null,null,null,"نوار باسن از پشت بین دو خط پهلو","d",{"$f":"'متغیرها '!W55","v":79.8}]
[null,null,null,"فاصله نوار کمر تا زمین، از قسمت جلو","e",{"$f":"'متغیرها '!W56","v":108.9}]
[null,null,null,"فاصله نوار کمر تا زمین، از قسمت پهلو","f",{"$f":"'متغیرها '!W57","v":110}]
[null,null,null,"فاصله نوار کمر تا زمین، از قسمت پشت","g",{"$f":"'متغیرها '!W58","v":111.1}]
[null,null,null,"فاصله نوار زانو تا زمین","h",{"$f":"'متغیرها '!W59","v":46.7}]
[null,null,null,"فاصله نوار باسن تا زمین","j",{"$f":"'متغیرها '!W60","v":87.3}]
[null,null,null,"دور زانو","L",{"$f":"'متغیرها '!W61","v":61.5}]
[null,null,null,"بلندی فاق","m",{"$f":"'متغیرها '!W62","v":33.5}]
[null,null,null,"آنفورشور","q",{"$f":"'متغیرها '!W63","v":91.7}]
[null,null,null,"دور مچ پا","r",{"$f":"'متغیرها '!W64","v":30}]
[null,null,null,"شلوار زنانه و بچگانه = 0       مردانه=1      بچه با پوشک=2",null,{"$f":"'متغیرها '!W66","v":0}]
[null,null,null,"دور سینه : از برجسته ترین قسمت سینه","s1",{"$f":"'متغیرها '!W72","v":146}]
[null,null,null,"پشت نوار سینه، بین دو خط پهلو","s2",{"$f":"'متغیرها '!W73","v":67.5}]
[null,null,null,"فاصله عمودی از خط سینه جلو تا خط سینه پشت که از کنار حلقه آستین بگذرد","t1",{"$f":"'متغیرها '!W74","v":46.5}]
[null,null,null,"فاصله عمودی از خط سینه جلو تا خط سینه پشت که از کنارگردن بگذرد","t2",{"$f":"'متغیرها '!W75","v":63.3}]
[null,null,null,"فاصله عمودی از خط کمر جلو تا خط کمر پشت که از کنار گردن بگذرد","t3",{"$f":"'متغیرها '!W76","v":100}]
[null,null,null,"فاصله عمودی بین خط سینه پشت و سرشانه، نزدیک دست","t4",{"$f":"'متغیرها '!W77","v":23.8}]
[null,null,null,"فاصله عمودی بین خط سینه پشت و سرشانه، نزدیک گردن","t5",{"$f":"'متغیرها '!W78","v":30.5}]
[null,null,null,"فاصله عمودی بین خط کمرپشت و سرشانه، نزدیک گردن","t6",{"$f":"'متغیرها '!W79","v":46.9}]
[null,null,null,"دور گردن (متر به طور عمودی دور گردن قرار می گیرد و از روی استخوان ترقوه می گذرد)","v",{"$f":"'متغیرها '!W80","v":50}]
[null,null,null,"کارور پشت (بین دو خط امتداد زیر بغل)","v3",{"$f":"'متغیرها '!W81","v":55.5}]
[null,null,null,"دور بازو از ناحیه زیر بغل","w2",{"$f":"'متغیرها '!W82","v":46}]
[null,null,null,"قد آستین (دست به طور خمیده، قد از سرشانه تا مچ)","w10",{"$f":"'متغیرها '!W83","v":64}]
[null,null,null,"دور مچ دست","w11",{"$f":"'متغیرها '!W84","v":23}]
[null,null,null,"دور سر","w12",{"$f":"'متغیرها '!W85","v":57}]
[]
[]
[]
[]
[]
[]
[]
[]
[]
[]
[]
[]
[]
[]
[]
[]
[]
[]
[]
[null,null,null,null,null,null,null,null,null,null,null,null,null,"کپی شود",null,"کپی شود",null,"کپی شود",null,"کپی شود",null,"اندازه جدید یا اندازه قبلی",null,null,null,"کپی اندازه های قبلی از فایل دیگر"]
[null,null,null,null,null,null,null,null,null,null,null,"اندازه ها در دامن و شلوار","اندازه جدید","اندازه گیری پیشرفته و با جزییات",null,"اندازه گیری مردان و بچه ها",null,"اندازه گیری زنان",null,"اندازه گیری پیشرفته زنان",null,"اندازه گیری تحلیل شده"," اندازه محاسبه شده برای تحلیل"]
[null,null,null,null,null,null,null,null,null,null,null,"دور کمر",{"$f":"E149","v":0},{"$f":"ROUND(M404,1)","v":0},{"$f":"ROUND(N404-0.02*N404*N418,1)","v":0},{"$f":"ROUND(M404,1)","v":0},{"$f":"ROUND(P404-0.02*P404*P418,1)","v":0},{"$f":"ROUND(M404,1)","v":0},{"$f":"ROUND(R404-0.02*R404*R418,1)","v":0},{"$f":"ROUND(M404,1)","v":0},{"$f":"ROUND(T404-0.02*T404*T418,1)","v":0},{"$f":"IF('متغیرها '!X5=2,'اندازه گیری و تحلیل'!F355,IF('متغیرها '!W5=1,'اندازه گیری و تحلیل'!N404,(IF('متغیرها '!W5=2,'اندازه گیری و تحلیل'!P404,(IF('متغیرها '!W5=3,'اندازه گیری و تحلیل'!R404,'اندازه گیری و تحلیل'!T404))))))","v":131},{"$f":"ROUND(V404-0.02*V404*V418,1)","v":131}]
[null,null,null,null,null,null,null,null,null,null,null,"نوار کمر از پشت بین دو خط پهلو",{"$f":"E209","v":0},0,{"$f":"ROUND(N405-0.02*N405*N418,1)","v":0},{"$f":"ROUND(0.49*P404,1)","v":0},{"$f":"ROUND(P405-0.02*P405*P418,1)","v":0},{"$f":"ROUND(0.46*R404,1)","v":0},{"$f":"ROUND(R405-0.02*R405*R418,1)","v":0},0,{"$f":"ROUND(T405-0.02*T405*T418,1)","v":0},{"$f":"IF('متغیرها '!X5=2,'اندازه گیری و تحلیل'!F356,IF('متغیرها '!W5=1,'اندازه گیری و تحلیل'!N405,(IF('متغیرها '!W5=2,'اندازه گیری و تحلیل'!P405,(IF('متغیرها '!W5=3,'اندازه گیری و تحلیل'!R405,'اندازه گیری و تحلیل'!T405))))))","v":63.6},{"$f":"ROUND(V405-0.02*V405*V418,1)","v":63.6}]
[null,null,null,null,null,null,null,null,null,null,null,"دور باسن",{"$f":"E152","v":0},0,{"$f":"ROUND(N406+0.01*N406*N418,1)","v":0},{"$f":"ROUND(M406,1)","v":0},{"$f":"ROUND(P406+0.01*P406*P418,1)","v":0},{"$f":"ROUND(M406,1)","v":0},{"$f":"ROUND(R406+0.01*R406*R418,1)","v":0},0,{"$f":"ROUND(T406+0.01*T406*T418,1)","v":0},{"$f":"IF('متغیرها '!X5=2,'اندازه گیری و تحلیل'!F357,IF('متغیرها '!W5=1,'اندازه گیری و تحلیل'!N406,(IF('متغیرها '!W5=2,'اندازه گیری و تحلیل'!P406,(IF('متغیرها '!W5=3,'اندازه گیری و تحلیل'!R406,'اندازه گیری و تحلیل'!T406))))))","v":150},{"$f":"ROUND(V406+0.01*V406*V418,1)","v":150}]
[null,null,null,null,null,null,null,null,null,null,null,"نوار باسن از پشت بین دو خط پهلو",{"$f":"E215","v":0},0,{"$f":"ROUND(N407+0.01*N406*N418,1)","v":0},{"$f":"ROUND(0.53*P406+0.03*P406*IF(P418=2,1,0),1)","v":0},{"$f":"ROUND(P407+0.01*P406*P418,1)","v":0},{"$f":"ROUND(0.51*R406,1)","v":0},{"$f":"ROUND(R407+0.01*R406*R418,1)","v":0},0,{"$f":"ROUND(T407+0.01*T406*T418,1)","v":0},{"$f":"IF('متغیرها '!X5=2,'اندازه گیری و تحلیل'!F358,IF('متغیرها '!W5=1,'اندازه گیری و تحلیل'!N407,(IF('متغیرها '!W5=2,'اندازه گیری و تحلیل'!P407,(IF('متغیرها '!W5=3,'اندازه گیری و تحلیل'!R407,'اندازه گیری و تحلیل'!T407))))))","v":79.8},{"$f":"ROUND(V407+0.01*V406*V418,1)","v":79.8}]
[null,null,null,null,null,null,null,null,null,null,null,"فاصله نوار کمر تا زمین، از قسمت جلو",{"$f":"E191","v":0},0,{"$f":"ROUND(N408,1)","v":0},{"$f":"ROUND(0.999*P409,1)","v":0},{"$f":"ROUND(P408,1)","v":0},{"$f":"ROUND(0.995*R409,1)","v":0},{"$f":"ROUND(R408,1)","v":0},0,{"$f":"ROUND(T408,1)","v":0},{"$f":"IF('متغیرها '!X5=2,'اندازه گیری و تحلیل'!F359,IF('متغیرها '!W5=1,'اندازه گیری و تحلیل'!N408,(IF('متغیرها '!W5=2,'اندازه گیری و تحلیل'!P408,(IF('متغیرها '!W5=3,'اندازه گیری و تحلیل'!R408,'اندازه گیری و تحلیل'!T408))))))","v":108.9},{"$f":"ROUND(V408,1)","v":108.9}]
[null,null,null,null,null,null,null,null,null,null,null,"فاصله نوار کمر تا زمین، از قسمت پهلو",{"$f":"E161","v":0},0,0,{"$f":"ROUND(M409,1)","v":0},0,{"$f":"ROUND(M409,1)","v":0},0,0,0,{"$f":"IF('متغیرها '!X5=2,'اندازه گیری و تحلیل'!F360,IF('متغیرها '!W5=1,'اندازه گیری و تحلیل'!N409,(IF('متغیرها '!W5=2,'اندازه گیری و تحلیل'!P409,(IF('متغیرها '!W5=3,'اندازه گیری و تحلیل'!R409,'اندازه گیری و تحلیل'!T409))))))","v":110},{"$f":"ROUND(0.5*(V408+V410),1)","v":110}]
[null,null,null,null,null,null,null,null,null,null,null,"فاصله نوار کمر تا زمین، از قسمت پشت",{"$f":"E188","v":0},0,0,{"$f":"ROUND(1.001*P409,1)","v":0},0,{"$f":"ROUND(1.005*R409,1)","v":0},0,0,0,{"$f":"IF('متغیرها '!X5=2,'اندازه گیری و تحلیل'!F361,IF('متغیرها '!W5=1,'اندازه گیری و تحلیل'!N410,(IF('متغیرها '!W5=2,'اندازه گیری و تحلیل'!P410,(IF('متغیرها '!W5=3,'اندازه گیری و تحلیل'!R410,'اندازه گیری و تحلیل'!T410))))))","v":111.1},{"$f":"ROUND(V410,1)","v":111.1}]
[null,null,null,null,null,null,null,null,null,null,null,"فاصله نوار زانو تا زمین",{"$f":"E197","v":0},0,0,{"$f":"ROUND(0.55*P412*(1-0.15*IF(M418=2,1,0)),1)","v":0},0,{"$f":"ROUND(0.53*R412,1)","v":0},0,0,0,{"$f":"IF('متغیرها '!X5=2,'اندازه گیری و تحلیل'!F362,IF('متغیرها '!W5=1,'اندازه گیری و تحلیل'!N411,(IF('متغیرها '!W5=2,'اندازه گیری و تحلیل'!P411,(IF('متغیرها '!W5=3,'اندازه گیری و تحلیل'!R411,'اندازه گیری و تحلیل'!T411))))))","v":46.7},{"$f":"ROUND(V411,1)","v":46.7}]
[null,null,null,null,null,null,null,null,null,null,null,"فاصله نوار باسن تا زمین",{"$f":"E194","v":0},0,0,{"$f":"ROUND(P409-Q414+L445+0.1*L446,1)","v":0},0,{"$f":"ROUND(R409-S414+L445-0.3*L446,1)","v":0},0,0,0,{"$f":"IF('متغیرها '!X5=2,'اندازه گیری و تحلیل'!F363,IF('متغیرها '!W5=1,'اندازه گیری و تحلیل'!N412,(IF('متغیرها '!W5=2,'اندازه گیری و تحلیل'!P412,(IF('متغیرها '!W5=3,'اندازه گیری و تحلیل'!R412,'اندازه گیری و تحلیل'!T412))))))","v":87.3},{"$f":"ROUND(V412,1)","v":87.3}]
[null,null,null,null,null,null,null,null,null,null,null,"دور زانو",{"$f":"E200","v":0},0,0,{"$f":"ROUND(0.41*M406,1)","v":0},0,{"$f":"ROUND(0.39*M406,1)","v":0},0,0,0,{"$f":"IF('متغیرها '!X5=2,'اندازه گیری و تحلیل'!F364,IF('متغیرها '!W5=1,'اندازه گیری و تحلیل'!N413,(IF('متغیرها '!W5=2,'اندازه گیری و تحلیل'!P413,(IF('متغیرها '!W5=3,'اندازه گیری و تحلیل'!R413,'اندازه گیری و تحلیل'!T413))))))","v":61.5},{"$f":"ROUND(V413,1)","v":61.5}]
[null,null,null,null,null,null,null,null,null,null,null,"بلندی فاق",{"$f":"E164","v":0},0,{"$f":"ROUND(1.06*N414+0.022*N408*N418,1)","v":0},{"$f":"ROUND(M414,1)","v":0},{"$f":"ROUND(1.06*P414+0.022*P408*P418,1)","v":0},{"$f":"ROUND(M414,1)","v":0},{"$f":"ROUND(1.06*R414+0.022*R408*R418,1)","v":0},0,{"$f":"ROUND(1.06*T414+0.022*T408*T418,1)","v":0},{"$f":"IF('متغیرها '!X5=2,'اندازه گیری و تحلیل'!F365,IF('متغیرها '!W5=1,'اندازه گیری و تحلیل'!N414,(IF('متغیرها '!W5=2,'اندازه گیری و تحلیل'!P414,(IF('متغیرها '!W5=3,'اندازه گیری و تحلیل'!R414,'اندازه گیری و تحلیل'!T414))))))","v":33.5},{"$f":"ROUND(1.06*V414+0.022*V408*V418,1)","v":35.5}]
[null,null,null,null,null,null,null,null,null,null,null,"آنفورشور",{"$f":"E206","v":0},0,{"$f":"ROUND(N415,1)","v":0},{"$f":"ROUND(1.02*(SQRT(POWER((Q414+0.5*(Q410-Q408)-L445),2)+2.25*L448*L448)+1.45*L445+L446+1.45*L444+SQRT(POWER((Q414-0.5*(Q410-Q408)-L444),2)+POWER(IF(L447>1,(0.25*L448+(5/4)*L447),IF(L447>0,(0.25*L448+(7/4)*L447),0.2*L444)),2))),1)","v":5.7},{"$f":"ROUND(P415,1)","v":5.7},{"$f":"ROUND(1.02*(SQRT(POWER((S414+0.5*(S410-S408)-L445),2)+2.25*L448*L448)+1.45*L445+L446+1.45*L444+SQRT(POWER((S414-0.5*(S410-S408)-L444),2)+POWER(IF(L447>1,(0.25*L448+(5/4)*L447),IF(L447>0,(0.25*L448+(7/4)*L447),0.2*L444)),2))),1)","v":5.7},{"$f":"ROUND(R415,1)","v":5.7},0,{"$f":"ROUND(T415,1)","v":0},{"$f":"IF('متغیرها '!X5=2,'اندازه گیری و تحلیل'!F366,IF('متغیرها '!W5=1,'اندازه گیری و تحلیل'!N415,(IF('متغیرها '!W5=2,'اندازه گیری و تحلیل'!P415,(IF('متغیرها '!W5=3,'اندازه گیری و تحلیل'!R415,'اندازه گیری و تحلیل'!T415))))))","v":91.7},{"$f":"ROUND(V415,1)","v":91.7}]
[null,null,null,null,null,null,null,null,null,null,null,"دور مچ پا",{"$f":"E203","v":0},0,{"$f":"ROUND(N416,1)","v":0},{"$f":"ROUND(1.35*P436,1)","v":0},{"$f":"ROUND(P416,1)","v":0},{"$f":"ROUND(1.4*R436,1)","v":0},{"$f":"ROUND(R416,1)","v":0},0,{"$f":"ROUND(T416,1)","v":0},{"$f":"IF('متغیرها '!X5=2,'اندازه گیری و تحلیل'!F367,IF('متغیرها '!W5=1,'اندازه گیری و تحلیل'!N416,(IF('متغیرها '!W5=2,'اندازه گیری و تحلیل'!P416,(IF('متغیرها '!W5=3,'اندازه گیری و تحلیل'!R416,'اندازه گیری و تحلیل'!T416))))))","v":30},{"$f":"ROUND(V416,1)","v":30}]
[]
[null,null,null,null,null,null,null,null,null,null,null,"شلوار زنانه و بچگانه = 0       مردانه=1      بچه با پوشک=2",{"$f":"'متغیرها '!V5-1","v":0},{"$f":"ROUND(M418,1)","v":0},null,{"$f":"ROUND(M418,1)","v":0},null,0,null,{"$f":"ROUND(M418,1)","v":0},null,{"$f":"IF('متغیرها '!X5=2,'اندازه گیری و تحلیل'!F368,IF('متغیرها '!W5=1,'اندازه گیری و تحلیل'!N418,(IF('متغیرها '!W5=2,'اندازه گیری و تحلیل'!P418,(IF('متغیرها '!W5=3,'اندازه گیری و تحلیل'!R418,'اندازه گیری و تحلیل'!T418))))))","v":0}]
[null,null,null,null,null,null,null,null,null,null,"قد سرشانه تا زمین",{"$f":"0.5*(V428+V408+V410)","v":160}]
[null,null,null,null,null,null,null,null,null,null,"تمام قد (تقریبی)",{"$f":"ROUND(L419+IF(V437>51.5,0.35,IF(V437>50.5,0.33,0.31))*V437,0)","v":180}]
[null,null,null,null,null,null,null,null,null,null,null,"اندازه ها در بالاتنه","اندازه شخص","اندازه شخص",null,"اندازه شخص",null,"اندازه شخص",null,"اندازه شخص",null,"اندازه شخص"]
[null,null,null,null,null,null,null,null,null,null,null,"دور کمر",null,{"$f":"ROUND(N404,1)","v":0},{"$f":"N422","v":0},{"$f":"P404","v":0},{"$f":"P422","v":0},{"$f":"R404","v":0},{"$f":"R422","v":0},{"$f":"T404","v":0},{"$f":"T422","v":0},{"$f":"IF('متغیرها '!X5=2,V404,IF('متغیرها '!W5=1,'اندازه گیری و تحلیل'!N422,(IF('متغیرها '!W5=2,'اندازه گیری و تحلیل'!P422,(IF('متغیرها '!W5=3,'اندازه گیری و تحلیل'!R422,'اندازه گیری و تحلیل'!T422))))))","v":131},{"$f":"V422","v":131}]
[null,null,null,null,null,null,null,null,null,null,null,"نوار کمر از پشت بین دو خط پهلو",null,{"$f":"ROUND(N405,1)","v":0},{"$f":"N423","v":0},{"$f":"P405","v":0},{"$f":"P423","v":0},{"$f":"R405","v":0},{"$f":"R423","v":0},{"$f":"T405","v":0},{"$f":"T423","v":0},{"$f":"IF('متغیرها '!X5=2,V405,IF('متغیرها '!W5=1,'اندازه گیری و تحلیل'!N423,(IF('متغیرها '!W5=2,'اندازه گیری و تحلیل'!P423,(IF('متغیرها '!W5=3,'اندازه گیری و تحلیل'!R423,'اندازه گیری و تحلیل'!T423))))))","v":63.6},{"$f":"V423","v":63.6}]
[null,null,null,null,null,null,null,null,null,null,null,"دور سینه : از برجسته ترین قسمت سینه",{"$f":"E155","v":0},{"$f":"ROUND(M424,1)","v":0},{"$f":"N424","v":0},{"$f":"ROUND(M424,1)","v":0},{"$f":"P424","v":0},{"$f":"ROUND(M424,1)","v":0},{"$f":"R424","v":0},{"$f":"ROUND(M424,1)","v":0},{"$f":"T424","v":0},{"$f":"IF('متغیرها '!X5=2,'اندازه گیری و تحلیل'!F369,IF('متغیرها '!W5=1,'اندازه گیری و تحلیل'!N424,(IF('متغیرها '!W5=2,'اندازه گیری و تحلیل'!P424,(IF('متغیرها '!W5=3,'اندازه گیری و تحلیل'!R424,'اندازه گیری و تحلیل'!T424))))))","v":146},{"$f":"V424","v":146}]
[null,null,null,null,null,null,null,null,null,null,null,"پشت نوار سینه، بین دو خط پهلو",{"$f":"E212","v":0},0,{"$f":"N425","v":0},{"$f":"ROUND(0.5*P424,1)","v":0},{"$f":"P425","v":0},{"$f":"ROUND(M433+0.24*M434,1)","v":0},{"$f":"R425","v":0},{"$f":"ROUND(M425,1)","v":0},{"$f":"T425","v":0},{"$f":"IF('متغیرها '!X5=2,'اندازه گیری و تحلیل'!F370,IF('متغیرها '!W5=1,'اندازه گیری و تحلیل'!N425,(IF('متغیرها '!W5=2,'اندازه گیری و تحلیل'!P425,(IF('متغیرها '!W5=3,'اندازه گیری و تحلیل'!R425,'اندازه گیری و تحلیل'!T425))))))","v":67.5},{"$f":"V425","v":67.5}]
[null,null,null,null,null,null,null,null,null,null,null,"فاصله عمودی از خط سینه جلو تا خط سینه پشت که از کنار حلقه آستین بگذرد",{"$f":"E218","v":0},0,{"$f":"N426-N429","v":0},{"$f":"ROUND(2*P429-0.5*(2*P430-P427),1)","v":{"$error":"#DIV/0!"}},{"$f":"P426-P429","v":{"$error":"#DIV/0!"}},{"$f":"ROUND(M427-R430+R429-(L462+L458)*SIN(RADIANS(L461)),1)","v":-14.5},{"$f":"R426-R429","v":-7.3},{"$f":"ROUND(M427-T430+T429-(L462+L458)*SIN(RADIANS(L461)),1)","v":-14.5},{"$f":"T426-T429","v":-7.3},{"$f":"IF('متغیرها '!X5=2,'اندازه گیری و تحلیل'!F371,IF('متغیرها '!W5=1,'اندازه گیری و تحلیل'!N426,(IF('متغیرها '!W5=2,'اندازه گیری و تحلیل'!P426,(IF('متغیرها '!W5=3,'اندازه گیری و تحلیل'!R426,'اندازه گیری و تحلیل'!T426))))))","v":46.5},{"$f":"V426-V429","v":22.7}]
[null,null,null,null,null,null,null,null,null,null,null,"فاصله عمودی از خط سینه جلو تا خط سینه پشت که از کنارگردن بگذرد",{"$f":"E182","v":0},0,{"$f":"N427-N430","v":0},{"$f":"ROUND(P430+(P428-P431)*0.95*P430/P431,1)","v":{"$error":"#DIV/0!"}},{"$f":"P427-P430","v":{"$error":"#DIV/0!"}},{"$f":"ROUND(M427,1)","v":0},{"$f":"R427-R430","v":1.3},{"$f":"ROUND(M427,1)","v":0},{"$f":"T427-T430","v":1.3},{"$f":"IF('متغیرها '!X5=2,'اندازه گیری و تحلیل'!F372,IF('متغیرها '!W5=1,'اندازه گیری و تحلیل'!N427,(IF('متغیرها '!W5=2,'اندازه گیری و تحلیل'!P427,(IF('متغیرها '!W5=3,'اندازه گیری و تحلیل'!R427,'اندازه گیری و تحلیل'!T427))))))","v":63.3},{"$f":"V427-V430","v":32.799999999999997}]
[null,null,null,null,null,null,null,null,null,null,null,"فاصله عمودی از خط کمر جلو تا خط کمر پشت که از کنار گردن بگذرد",{"$f":"E179","v":0},0,{"$f":"N428-N431","v":0},{"$f":"ROUND(M428,1)","v":0},{"$f":"P428-P431","v":0},{"$f":"ROUND(M428,1)","v":0},{"$f":"R428-R431","v":2.4},{"$f":"ROUND(M428,1)","v":0},{"$f":"T428-T431","v":1.3},{"$f":"IF('متغیرها '!X5=2,'اندازه گیری و تحلیل'!F373,IF('متغیرها '!W5=1,'اندازه گیری و تحلیل'!N428,(IF('متغیرها '!W5=2,'اندازه گیری و تحلیل'!P428,(IF('متغیرها '!W5=3,'اندازه گیری و تحلیل'!R428,'اندازه گیری و تحلیل'!T428))))))","v":100},{"$f":"V428-V431","v":53.1}]
[null,null,null,null,null,null,null,null,null,null,null,"فاصله عمودی بین خط سینه پشت و سرشانه، نزدیک دست",{"$f":"E221","v":0},0,{"$f":"N429","v":0},{"$f":"ROUND(P430-(P433-0.036*P434)*SIN(0.12),1)","v":0},{"$f":"P429","v":0},{"$f":"ROUND(R430-0.5*0.01*M428-L462*SIN(RADIANS(L461)),1)","v":-7.2},{"$f":"R429","v":-7.2},{"$f":"ROUND(T430-0.5*0.01*M428-L462*SIN(RADIANS(L461)),1)","v":-7.2},{"$f":"T429","v":-7.2},{"$f":"IF('متغیرها '!X5=2,'اندازه گیری و تحلیل'!F374,IF('متغیرها '!W5=1,'اندازه گیری و تحلیل'!N429,(IF('متغیرها '!W5=2,'اندازه گیری و تحلیل'!P429,(IF('متغیرها '!W5=3,'اندازه گیری و تحلیل'!R429,'اندازه گیری و تحلیل'!T429))))))","v":23.8},{"$f":"V429","v":23.8}]
[null,null,null,null,null,null,null,null,null,null,null,"فاصله عمودی بین خط سینه پشت و سرشانه، نزدیک گردن",{"$f":"E224","v":0},0,0,{"$f":"ROUND(0.6*P431,1)","v":0},0,{"$f":"ROUND(0.5*M427+0.01*M428-0.5*(L458-0.05*M434)*SIN(RADIANS(L461)),1)","v":-1.3},-1.3,{"$f":"ROUND(0.5*M427+0.01*M428-0.5*(L458-0.05*M434)*SIN(RADIANS(L461)),1)","v":-1.3},-1.3,{"$f":"IF('متغیرها '!X5=2,'اندازه گیری و تحلیل'!F375,IF('متغیرها '!W5=1,'اندازه گیری و تحلیل'!N430,(IF('متغیرها '!W5=2,'اندازه گیری و تحلیل'!P430,(IF('متغیرها '!W5=3,'اندازه گیری و تحلیل'!R430,'اندازه گیری و تحلیل'!T430))))))","v":30.5},30.5]
[null,null,null,null,null,null,null,null,null,null,null,"فاصله عمودی بین خط کمرپشت و سرشانه، نزدیک گردن",{"$f":"E227","v":0},0,0,{"$f":"ROUND(0.51*P428,1)","v":0},0,{"$f":"ROUND(0.5*R428-0.5*L460-0.9*(L458-0.05*R434)*SIN(RADIANS(L461)),1)","v":-2.4},-2.4,{"$f":"ROUND(0.51*T428-0.5*L460-0.5*(L458-0.05*T434)*SIN(RADIANS(L461)),1)","v":-1.3},-1.3,{"$f":"IF('متغیرها '!X5=2,'اندازه گیری و تحلیل'!F376,IF('متغیرها '!W5=1,'اندازه گیری و تحلیل'!N431,(IF('متغیرها '!W5=2,'اندازه گیری و تحلیل'!P431,(IF('متغیرها '!W5=3,'اندازه گیری و تحلیل'!R431,'اندازه گیری و تحلیل'!T431))))))","v":46.9},46.9]
[null,null,null,null,null,null,null,null,null,null,null,"دور گردن (متر به طور عمودی دور گردن قرار می گیرد و از روی استخوان ترقوه می گذرد)",{"$f":"E173","v":0},0,0,{"$f":"ROUND(M432,1)","v":0},0,{"$f":"ROUND(M432,1)","v":0},0,{"$f":"ROUND(M432,1)","v":0},0,{"$f":"IF('متغیرها '!X5=2,'اندازه گیری و تحلیل'!F377,IF('متغیرها '!W5=1,'اندازه گیری و تحلیل'!N432,(IF('متغیرها '!W5=2,'اندازه گیری و تحلیل'!P432,(IF('متغیرها '!W5=3,'اندازه گیری و تحلیل'!R432,'اندازه گیری و تحلیل'!T432))))))","v":50},50]
[null,null,null,null,{"$f":"V425-0.26*V434","v":55.54},":(زنانه)   v3  محاسبه ",null,null,null,null,null,"کارور پشت (بین دو خط امتداد زیر بغل)",{"$f":"E185","v":0},0,0,{"$f":"ROUND(P425-0.24*P434,1)","v":0},0,0,0,0,0,{"$f":"IF('متغیرها '!X5=2,'اندازه گیری و تحلیل'!F378,IF('متغیرها '!W5=1,'اندازه گیری و تحلیل'!N433,(IF('متغیرها '!W5=2,'اندازه گیری و تحلیل'!P433,(IF('متغیرها '!W5=3,'اندازه گیری و تحلیل'!R433,'اندازه گیری و تحلیل'!T433))))))","v":55.5},55.5]
[null,null,null,null,{"$f":"V425-0.23*V434","v":56.92}," :( بچگانه و مردانه)   v3  محاسبه ",null,null,null,null,null,"دور بازو از ناحیه زیر بغل",{"$f":"E167","v":0},0,0,{"$f":"ROUND(M434,1)","v":0},0,0,0,0,0,{"$f":"IF('متغیرها '!X5=2,'اندازه گیری و تحلیل'!F379,IF('متغیرها '!W5=1,'اندازه گیری و تحلیل'!N434,(IF('متغیرها '!W5=2,'اندازه گیری و تحلیل'!P434,(IF('متغیرها '!W5=3,'اندازه گیری و تحلیل'!R434,'اندازه گیری و تحلیل'!T434))))))","v":46},46]
[null,null,null,null,null,null,null,null,null,null,null,"قد آستین (دست به طور خمیده، قد از سرشانه تا مچ)",{"$f":"E158","v":0},0,0,{"$f":"ROUND(M435,1)","v":0},0,0,0,0,0,{"$f":"IF('متغیرها '!X5=2,'اندازه گیری و تحلیل'!F380,IF('متغیرها '!W5=1,'اندازه گیری و تحلیل'!N435,(IF('متغیرها '!W5=2,'اندازه گیری و تحلیل'!P435,(IF('متغیرها '!W5=3,'اندازه گیری و تحلیل'!R435,'اندازه گیری و تحلیل'!T435))))))","v":64},64]
[null,null,null,null,null,null,null,null,null,null,null,"دور مچ دست",{"$f":"E170","v":0},0,{"$f":"1.2*N436","v":0},{"$f":"ROUND(M436,1)","v":0},{"$f":"1.2*P436","v":0},0,{"$f":"1.2*R436","v":0},0,{"$f":"1.2*T436","v":0},{"$f":"IF('متغیرها '!X5=2,'اندازه گیری و تحلیل'!F381,IF('متغیرها '!W5=1,'اندازه گیری و تحلیل'!N436,(IF('متغیرها '!W5=2,'اندازه گیری و تحلیل'!P436,(IF('متغیرها '!W5=3,'اندازه گیری و تحلیل'!R436,'اندازه گیری و تحلیل'!T436))))))","v":23},{"$f":"1.2*V436","v":27.599999999999998}]
[null,null,null,null,null,null,null,null,null,null,null,"دور سر",{"$f":"E176","v":0},0,null,{"$f":"ROUND(M437,1)","v":0},null,0,null,0,null,{"$f":"IF('متغیرها '!X5=2,'اندازه گیری و تحلیل'!F382,IF('متغیرها '!W5=1,'اندازه گیری و تحلیل'!N437,(IF('متغیرها '!W5=2,'اندازه گیری و تحلیل'!P437,(IF('متغیرها '!W5=3,'اندازه گیری و تحلیل'!R437,'اندازه گیری و تحلیل'!T437))))))","v":57}]
[null,null,null,null,null,null,null,null,null,null,"زاویه سرشانه با افق       کم = 1       متوسط=2     زیاد=3","p",2]
[null,null,null,null,null,null,null,null,null,null,"شکم جلوتر از سینه است = 1       شکم در امتداد سینه است=2      شکم عقب تر از سینه است=3","p3",2]
[]
[]
[]
[]
[null,null,null,null,null,null,null,null,null,null,"x1",{"$f":"(2*0.35)*M406/(3.5*3.14)","v":0},null,null,null,null,null,null,null,"اضافه طول عمودی ناشی از برجستگی شکم (ناشی از محاسبه)",null,{"$f":"L485","v":-0.8}]
[null,null,null,null,null,null,null,null,null,null,"x2",{"$f":"1.5*L444","v":0},null,null,null,null,null,null,null,"اضافه طول عمودی ناشی از برجستگی شکم (ناشی از اندازه گیری t3)    s'3 ",null,{"$f":"L487","v":2.2000000000000002}]
[null,null,null,null,null,null,null,null,null,null,"x'2",{"$f":"1*L444","v":0}]
[null,null,null,null,null,null,null,null,null,null,"y",{"$f":"0.167*(W406-W407-W404+W405)","v":0.46760000000000074}]
[null,null,null,null,null,null,null,null,null,null,"x",{"$f":"0.167*(V407-V405)","v":2.7053999999999996}]
[null,null,null,null,null,null,null,null,null,null,"نسبت برای x1",{"$f":"((V415-2*W414)/(0.28*(V406-V407)))","v":1.0531135531135531}]
[null,null,null,null,null,null,null,null,null,null,"زاویه خام سرشانه پشت",{"$f":"DEGREES(ATAN((V430-V429)/(0.5*V433+0.018*V434-0.16*V432)))","v":18.034753931062454}]
[null,null,null,null,null,null,null,null,null,null,"زاویه خام سرشانه جلو",{"$f":"DEGREES(ATAN((V427-V430-V426+V429-0.15*(V424-2*V425))/(0.5*V433+0.018*V434-0.16*V432)))","v":22.324657171603633}]
[null,null,null,null,null,null,null,null,null,null,"اختلاف نسبی زاویه سرشانه",{"$f":"(L451-L450)/(L451+L450)","v":0.10629251327846539}]
[null,null,null,null,null,null,null,null,null,null,"α'6",{"$f":"IF(ATAN((0.5*(V424-V425-V404+V405))/(V431-V430))>0,ATAN((0.5*(V424-V425-V404+V405))/(V431-V430)),0)","v":0.32631673270712425}]
[null,null,null,null,null,null,null,null,null,null,"زاویه s'3 با خط افق به درجه",{"$f":"ROUND(DEGREES(ATAN((V428-V427-V431+V430-((V431-V430)/COS(L453)))/(0.25*(V404-V405)))),1)","v":10.1}]
[null,null,null,null,null,null,null,null,null,null," w1 محاسبه",{"$f":"V425-0.23*V434","v":56.92}]
[null,null,null,null,null,null,null,null,null,null,"زاویه خام متوسط سرشانه ",{"$f":"ROUND(0.5*(L450+L451),0)","v":20}]
[]
[null,null,null,null,null,null,null,null,null,null,"پهنای ساسون سرشانه جلو   p1",{"$f":"(1/COS(RADIANS(L461)))*(0.5*V424+(0.122-0.3)*V434-V433)","v":9.6872683467432346}]
[null,null,null,null,null,null,null,null,null,null,"α'6",{"$f":"ATAN((V424-V425-V404+V405)/(V428-V427))","v":0.29370510445421028}]
[null,null,null,null,null,null,null,null,null,null,"s'3",{"$f":"IF(M439=3,0.5*(V428-V427)*((1/COS(L459))-1),IF(M439=1,0.2*0.5*(V428-V427),0))","v":0}]
[null,null,null,null,null,null,null,null,null,null,"p2",{"$f":"IF(M438=1,10,IF(M438=3,23,16))","v":16}]
[null,null,null,null,null,null,null,null,null,null,"w",{"$f":"(1/COS(RADIANS(L461)))*(0.5*V433+0.018*V434-0.16*V432)","v":21.407281791160045}]
[]
[]
[null,null,null,null,null,null,null,null,null,null,"y",{"$f":"0.167*(W406-W407-W404+W405)","v":0.46760000000000074}]
[null,null,null,null,null,null,null,null,null,null,"x",{"$f":"0.167*(V407-V405)","v":2.7053999999999996}]
[]
[null,null,null,null,null,null,null,null,null,null,"زاویه خام سرشانه پشت",{"$f":"DEGREES(ATAN((V430-V429)/(0.5*V433+0.018*V434-0.16*V432)))","v":18.034753931062454}]
[null,null,null,null,null,null,null,null,null,null,"زاویه خام سرشانه جلو",{"$f":"DEGREES(ATAN((V427-V430-V426+V429-0.15*(V424-2*V425))/(0.5*V433+0.018*V434-0.16*V432)))","v":22.324657171603633}]
[null,null,null,null,null,null,null,null,null,null,"اختلاف نسبی زاویه سرشانه",{"$f":"(L469-L468)/(L469+L468)","v":0.10629251327846539}]
[null,null,null,null,null,null,null,null,null,null,"α'6",{"$f":"ATAN((0.5*(V424-V425-V404+V405))/(V431-V430))","v":0.32631673270712425},{"$f":"DEGREES(L471)","v":18.696571568616811}]
[null,null,null,null,null,null,null,null,null,null,"زاویه s'3 با خط افق به درجه",{"$f":"ROUND(DEGREES(ATAN((V428-V427-V431+V430-((V431-V430)/COS(L471)))/(0.25*(V404-V405)))),1)","v":10.1}]
[]
[null,null,null,null,null,null,null,null,null,null,"زاویه خام متوسط سرشانه p2",{"$f":"ROUND(0.5*(L468+L469),0)","v":20}]
[]
[null,null,null,null,null,null,null,null,null,null,"میزان برجستگی باسن",{"$f":"ROUND(500*(L466/(V410-V412)),0)","v":57}]
[]
[null,null,null,null,null,null,null,null,null,null,"پهنای ساسون سرشانه جلو  p1",{"$f":"(1/COS(RADIANS(L474)))*(0.5*V424+(0.122-0.3)*V434-V433)","v":9.9096234172956912}]
[null,null,null,null,null,null,null,null,null,null,"میزان برجستگی سینه",{"$f":"ROUND(500*(L478/V425),0)","v":73}]
[]
[null,null,null,null,null,null,null,null,null,null,"  ناشی از ساسون کمر    α''6",{"$f":"ATAN((0.5*(V424-V425-V405))/(V431-V430))","v":0.42639776650560146},{"$f":"DEGREES(L481)","v":24.430792414575699}]
[null,null,null,null,null,null,null,null,null,null,"  ناشی از ساسون سرشانه    α''6",{"$f":"ATAN((L478)/(V428-V431-V427+V430))","v":0.45412984553313457},{"$f":"DEGREES(L482)","v":26.01972349997661}]
[null,null,null,null,null,null,null,null,null,null,"متوسط    α''6",{"$f":"0.5*(L481+L482)","v":0.44026380601936799},{"$f":"DEGREES(L483)","v":25.225257957276153}]
[null,null,null,null,null,null,null,null,null,null,"میزان برجستگی عمودی شکم",{"$f":"ROUND(IF(L471>0,20*(L483-L471)/L483,20+150*(L483-L471)*L483),0)","v":5}]
[null,null,null,null,null,null,null,null,null,null,"اضافه طول عمودی ناشی از برجستگی شکم (ناشی از محاسبه)",{"$f":"ROUND(IF(L471>0,(V431-V430)*(-(1/COS(L483))+(1/COS(L471))),(V431-V430)*((1/COS(L483))+(1/COS(L471))-2)),1)","v":-0.8}]
[null,null,null,null,null,null,null,null,null,null,"اضافه طول عمودی ناشی از برجستگی سینه",{"$f":"ROUND((V431-V430)*((1/COS(L483))-1),1)","v":1.7}]
[null,null,null,null,null,null,null,null,null,null,"اضافه طول عمودی ناشی از برجستگی شکم (ناشی از اندازه گیری t3)    s'3 ",{"$f":"ROUND(V428-V427-V431+V430-((V431-V430)/COS(L483)),1)","v":2.2000000000000002}]

{"sheet":"طراحی همه الگوها","index":9,"n_rows":519,"n_cols":22,"rows_kept":519,"cut":false,"hidden":true,"merged":[]}
[]
[]
[]
[]
[null,null,null,null,null,null,null,null,null,null,null,null,null,null,null,null,null,null,""]
[]
[]
[]
[]
[]
[]
[]
[]
[]
[]
[]
[]
[]
[]
[]
[]
[]
[]
[]
[]
[]
[]
[]
[]
[]
[]
[]
[]
[]
[]
[]
[]
[]
[]
[]
[]
[]
[]
[]
[]
[]
[]
[]
[]
[]
[]
[]
[]
[]
[]
[]
[]
[]
[]
[]
[]
[]
[]
[]
[]
[]
[]
[]
[]
[]
[]
[]
[]
[]
[]
[]
[]
[]
[]
[]
[]
[]
[]
[]
[]
[]
[]
[]
[]
[]
[]
[]
[]
[]
[]
[]
[]
[]
[]
[]
[]
[]
[]
[]
[]
[]
[]
[]
[]
[]
[]
[]
[]
[]
[]
[]
[]
[]
[]
[]
[]
[]
[]
[]
[]
[]
[]
[]
[]
[]
[]
[]
[]
[]
[]
[]
[]
[]
[]
[]
[]
[]
[]
[]
[]
[]
[]
[]
[]
[]
[{"$f":"'طراحی همه الگوها'!A179","v":"1 تا 3 ماهه"},null,null,{"$f":"'طراحی همه الگوها'!A179","v":"1 تا 3 ماهه"},null,null,{"$f":"'طراحی همه الگوها'!A179","v":"1 تا 3 ماهه"},null,null,{"$f":"'طراحی همه الگوها'!A179","v":"1 تا 3 ماهه"}]
["محاسبات در بافت بالاتنه و آستین  ",null,null,"یقه شکاری   ",null,null,"یقه شومیزیه تا خط جادکمه ",null,null,"یقه انگلیسی ","تعداد دانه"]
[" b6   تعداد دانه های جادکمه  ",{"$f":"محاسبات!G42","v":22},null,"a1",{"$f":"محاسبات!O33","v":82},null,"e1",{"$f":"محاسبات!U34","v":38},null,"d1",{"$f":"محاسبات!AD33","v":31}]
[" b3  تعداد دانه های جلو بدون جادکمه (بین خط رگلان و خط مرکزی جلو که نیمه جادکمه از آن کم شود) ",{"$f":"محاسبات!G43","v":-4},null,"a2",{"$f":"محاسبات!O34","v":" خطا  "},null,"e2",{"$f":"محاسبات!U35","v":0},null,"d2",{"$f":"محاسبات!AD34","v":4}]
["b4   تعداد دانه های آستین",{"$f":"محاسبات!G44","v":7},null,"a3",{"$f":"محاسبات!O35","v":10},null,"e3",{"$f":"محاسبات!U36","v":4},null,"d3",{"$f":"محاسبات!AD35","v":16}]
["b5  تعداد دانه های پشت",{"$f":"محاسبات!G45","v":14},null,"a4",{"$f":"محاسبات!O36","v":19},null,"e4",{"$f":"محاسبات!U37","v":9},null,"d4",{"$f":"محاسبات!AD36","v":-4}]
["تعداد دانه ها  دور گردن + دو تا نیمه جادکمه که از خط مرکزی جلو اضافه شده",{"$f":"محاسبات!G46","v":64},null,"a5",{"$f":"محاسبات!O37","v":29},null,"e5",{"$f":"محاسبات!U38","v":13},null,"d5",{"$f":"محاسبات!AD37","v":56}]
[" b2  تعداد دانه های اضافه شده  از خط مرکزی جلو تا خط جادکمه = نیمه جادکمه",{"$f":"ROUND(B153/2,0)","v":11},null,"a6",{"$f":"محاسبات!O38","v":2},null,"e6",{"$f":"محاسبات!U39","v":0},null,"d6",{"$f":"محاسبات!AD38","v":14}]
["تعداد رج دوبل برای گودی گردن جلو b13",{"$f":"محاسبات!F28","v":0},null,"a10",{"$f":"محاسبات!O39","v":4},null,"e7",{"$f":"محاسبات!U40","v":13},null,"d7",{"$f":"محاسبات!AD39","v":7}]
["فاصله  گردن تا محل جدا شدن آستین در قسمت جلو (cm)     b7",{"$f":"محاسبات!F29","v":10},null,"a11",{"$f":"محاسبات!O40","v":2},null,"e8",{"$f":"محاسبات!U41","v":22},null,"d8",{"$f":"محاسبات!AD40","v":15}]
["تعداد دانه های اضافه شده زیر بغل   b8",{"$f":"محاسبات!F30","v":4},null,"a25",{"$f":"محاسبات!O41","v":11},null,"e9",{"$f":"محاسبات!U42","v":"خطا"},null,"d9",{"$f":"محاسبات!AD41","v":0}]
["تعداد دانه های سرتاسر آستین در قسمت زیر بغل   b20",{"$f":"محاسبات!F31","v":33},null,{"$f":"محاسبات!O42","v":" خطا : قد پشت یقه زیاد شود "},null,null,"e10",{"$f":"محاسبات!U43","v":13},null,"d10",{"$f":"محاسبات!AD42","v":0}]
["فاصله زیر بغل تا پایین لباس (cm)     b9",{"$f":"محاسبات!F32","v":12},null,null,null,null,"e11",{"$f":"محاسبات!U44","v":11},null,"d12",{"$f":"محاسبات!AD43","v":10}]
["فاصله زیر بغل تا لبه پایین آستین (cm)     b10",{"$f":"محاسبات!F33","v":12},null,{"$f":"'طراحی همه الگوها'!A179","v":"1 تا 3 ماهه"},null,null,{"$f":"محاسبات!U45","v":"خطا : قد پایه یقه شومیزیه زیاد شود یا پهنای جادکمه جلو کم شود"},null,null,"d13",{"$f":"محاسبات!AD44","v":58}]
["گشادی لبه پایین آستین (cm)     b'11",{"$f":"محاسبات!F34","v":15},null,"یقه ب ب گرد تا خط مرکزی جلو ",null,null,{"$f":"محاسبات!U46","v":" "},null,null,"d14",{"$f":"محاسبات!AD45","v":1}]
["تعداد دانه ها  لبه پایین آستین      b'12",{"$f":"محاسبات!F35","v":23},null,"c1",{"$f":"محاسبات!AA33","v":61},null,{"$f":"محاسبات!U47","v":"خطا : قد برگردان یقه شومیزیه زیاد شود "},null,null,"d15",{"$f":"محاسبات!AD46","v":1}]
["پهنای مچ جدا در پایین آستین (cm)     b14",{"$f":"محاسبات!F36","v":0},null,"c2",{"$f":"محاسبات!AA34","v":0},null,null,null,null,{"$f":"محاسبات!AD47","v":" "}]
["گشادی مچ جدا در پایین آستین (cm)     b15",{"$f":"محاسبات!F37","v":11},null,"c3",{"$f":"محاسبات!AA35","v":1}]
["در بالای مچ جدا هر b12   دانه یکی کم شود",{"$f":"محاسبات!F38","v":4},null,"c4",{"$f":"محاسبات!AA36","v":5}]
["هر b11   رج در بافت آستین یکدانه از ابتدا و یکدانه از انتها کم شود",{"$f":"محاسبات!F39","v":6},null,"c10",{"$f":"محاسبات!AA37","v":12}]
[null,null,null,"c11",{"$f":"محاسبات!AA38","v":10}]
[null,null,null,{"$f":"محاسبات!AA39","v":"خطا : پهنای یقه ب ب زیاد شود "}]
[]
["طراحی الگو جلو و پشت",null,null,"طراحی یقه و جیب و دامن در الگو جلو و پشت",null,null,"طراحی الگو یقه جدا و کلاه و بافت ",null,null,"طراحی الگو آستین ",null,null,"طراحی الگو شلوار",null,null,"طراحی الگو چادر یا مقنعه",null,null,null,null,"رسم الگو چادر یا مقنعه"]
[]
["اندازه نوشته ها هنگام چاپ به سایز واقعی",8,null," طراحی یقه گرد…",null,null," جابجایی همه الگوهای یقه",null,null,"انتخاب نوع آستین و سرشانه",4,null,"طراحی کلی شلوار",null,null,"طراحی چادر شماره 1 یا مقنعه ","عکس راهنما",null,null,"رسم دستی چادر 1 یا مقنعه چانه دار(بر حسب سانتیمتر)"]
[null,null,null,"باز شدن یقه روی سرشانه (گرد، هفت ، مربعی)  مرحله دوم در طراحی یقه انگلیسی    ",10,null,"جابجایی افقی همه یقه های جدا  (سانتیمتر)   ",-30,null," طراحی کلی آستین ",null,null," گشاد یا تنگ شدن اندازه های عرضی در شلوار    ",-5,null,"لبه پایین چادر یا مقنعه",70,null,null,"(j1 → j2)",{"$f":"ROUND(محاسبات!CJ22+0.1*محاسبات!CJ16-محاسبات!CJ23,1)","v":32.799999999999997}]
["برچسب الگو : ",null,null,"باز شدن یقه روی خط مرکزی جلو (گرد ، مربعی)  ",0,null,"جابجایی عمودی همه یقه های جدا  (سانتیمتر)  ",30,null,"بلندی پایین آستین",10,null,null,null,null,"انتخاب چادر تا پایین پیشانی یا بالای پیشانی یا روی سر",2,null,null,"(j1 → j3)",{"$f":"ROUND((0.21+'متغیرها '!C6*0.1)*محاسبات!CJ16,1)","v":8}]
[{"$f":"'الگوهای مدل 50'!D3","v":"1 تا 3 ماهه"},null,null,"باز شدن یقه روی خط مرکزی پشت ( گرد، مربعی) مرحله دوم در طراحی یقه انگلیسی    ",4,null,null,null,null,"گشادی لبه پایین آستین",4,null,"کوتاهی پایین شلوار  (قد شلوار)   ",25,null,null,null,null,null,"(j1 → j6)",{"$f":"ROUND(0.1*محاسبات!CJ16,1)","v":3.8}]
[null,null,null,null,null,null,"  یقه شکاری ",null,null,"ضریب بلندی اندازه های طولی در آستین ",0,null," گشادی پاچه شلوار ",20,null,null,null,null,null,"(j1 → j7)",{"$f":"ROUND(0.28*محاسبات!CJ16,1)","v":10.6}]
[" جابجایی الگو جلو و پشت لباس",null,null," کنترل یقه گرد بدون زیپ ",null,null," قد پشت یقه   ",20,null,"ضریب بلندی تاج آستین",0,null," گشادی دور زانو ",5,null,null,null,null,null,"(j7 → j8)",{"$f":"ROUND(1+0.2*U179,1)","v":1.8}]
["جابجایی افقی کل الگو جلو لباس  (سانتیمتر)",0,null,"دور سر  (سانتیمتر)",{"$f":"'متغیرها '!B260","v":38},null," کج شدن  یقه به سمت گردن   ",-8,null,"ضریب گشادی تاج آستین",0,null,"ضریب عرض زیپ   ",6,null,null,null,null,null,"(j7 → j9)",{"$f":"ROUND(0.3*محاسبات!CJ16+20,1)","v":31.4}]
["جابجایی عمودی کل الگو جلو لباس (سانتیمتر)",0,null," دور یقه گرد لباس  (سانتیمتر)",{"$f":"'متغیرها '!B261","v":34.9},null,"مکان لبه یقه نسبت به جلو لباس        ","مرکزی جلو",null,"مکان لبه بالایی صافی سرآستین ",14,null,"جابجایی افقی کل الگو جلو شلوار (سانتیمتر)  ",15,null,null,null,null,null,"(j3 → j11)",{"$f":"ROUND(0.18*محاسبات!CJ16,1)","v":6.8}]
["جابجایی افقی کل الگو پشت لباس  (سانتیمتر)",0,null,"آیا یقه گرد با پارچه غیر کش از سر رد میشود؟",{"$f":"'متغیرها '!E262","v":"خیر"},null,"زاویه لبه برگردان یقه (میزان نوک تیز بودن لبه)     ",57,null,"جابجایی افقی کل الگو آستین (سانتیمتر)",0,null,"جابجایی عمودی کل الگو جلو شلوار (سانتیمتر)  ",0,null,null,null,null,null,"(j3 → j12)",{"$f":"ROUND(0.15*محاسبات!CJ16,1)","v":5.7}]
["جابجایی عمودی کل الگو پشت لباس (سانتیمتر)",0,null,"آیا یقه گرد با پارچه نیم کش از سر رد میشود؟",{"$f":"'متغیرها '!E263","v":"بله "},null," قد لبه برگردان یقه   ",23,null,"جابجایی عمودی کل الگو آستین (سانتیمتر)",0,null,"جابجایی افقی کل الگو پشت شلوار (سانتیمتر)  ",10,null,null,null,null,null,{"$f":"'طراحی همه الگوها'!A179","v":"1 تا 3 ماهه"}]
[null,null,null,"آیا یقه گرد با پارچه کش زیاد از سر رد میشود؟",{"$f":"'متغیرها '!E264","v":"بله "},null,null,null,null,"جابجایی افقی کل آستین رگلان بدون درز (سانتیمتر)",-5,null,"جابجایی عمودی کل الگو پشت شلوار (سانتیمتر)  ",0]
["جابجایی افقی تکه  پهلو جلو   (سانتیمتر)",0,null,null,null,null,"  یقه فرنچی ایستاده و کاسبرگی",null,null,null,null,null,null,null,null,"طراحی چادر شماره 2",null,null,null,"رسم دستی چادر 2 (بر حسب سانتیمتر)"]
["جابجایی افقی تکه پهلو پشت  (سانتیمتر)",0,null,"طراحی نوار یقه گرد کش ",null,null," قد یقه    ",12,null,"  مچ جدا در آستین",null,null,"اطلاعات شلوار و اندام",null,null,"لبه پایین چادر",10,null,null,"(1 →2)",{"$f":"ROUND(محاسبات!DM46+محاسبات!DM47-0.07*'متغیرها '!U85+0.1*'متغیرها '!C14*'متغیرها '!U85,1)","v":63.1}]
["جابجایی عمودی تکه پهلو پشت  (سانتیمتر)",0,null,"ارتفاع نوار یقه گرد کش به سانتیمتر (بعد از دوخت)",1,null," کج شدن یقه به سمت گردن  ",15,null,"انتخاب مچ اندامی=2    انتخاب مچ مستطیل، مچ پفی =1",1,null,"گشادی لبه شلوار (سانتیمتر) (محاسبه شده)",{"$f":"'متغیرها '!B615","v":25.2},null,"مکان نقطه اتصال جلو چادر به پشت چادر  ",20,null,null,"(1 →3)",{"$f":"ROUND('متغیرها '!C11*((محاسبات!DM46+محاسبات!DM47-0.07*'متغیرها '!U85)+محاسبات!DM45),1)","v":28.4}]
[" گشاد یا تنگ شدن لباس",null,null,"طول مستطیل (بدون جای دوخت) برای دوخت یقه گرد کش (سانتیمتر)",{"$f":"'متغیرها '!B249","v":25},null,"مکان لبه یقه نسبت به جلو لباس        ","مرکزی جلو",null,"گشادی لبه بالایی مچ ",0,null,"دور کمر (سانتیمتر) (اندازه گیری شده)",{"$f":"'متغیرها '!B616","v":42},null,"گشادی عرضی چادر  ",20,null,null,"(1 → 4)",{"$f":"ROUND(0.26*'متغیرها '!U85*'متغیرها '!C10,1)","v":9.9}]
[" اندازه های عرضی در لباس  ",0,null,"عرض مستطیل (بدون جای دوخت) که در موقع دوخت باید دولا شود  (سانتیمتر)",{"$f":"2*'متغیرها '!C248","v":2},null," انحنا لبه یقه  ",20,null,"گشادی لبه پایینی مچ یا (گشادی مچ مستطیل، مچ پفی )  ",0,null,"طول کش برای کل کمر شلوار (سانتیمتر) (محاسبه شده)",{"$f":"'متغیرها '!B617","v":33.6},null,"گشادی لبه پایینی مچ  ",7,null,null,"(6→7)",{"$f":"0.93*U201","v":17.484000000000002}]
[" گشاد یا تنگ شدن از خط پهلو زیر حلقه ",0,null,null,null,null,null,null,null,"مکان لبه بالایی مچ",10,null,"طول کش برای پشت کمر بین دو خط پهلو (سانتیمتر) (محاسبه شده)",{"$f":"'متغیرها '!B618","v":16.5},null,"مکان لبه پایینی آستین چادر ",10,null,null,"(5 →8)",{"$f":"ROUND(0.73*U189-U190,1)","v":10.8}]
[" گشاد یا تنگ شدن از خط پهلو دور باسن  ",0,null,"طراحی یقه هفت",null,null," یقه شومیزیه ",null,null,"مکان لبه پایینی مچ",10,null,"طول کش از ساسون جلو - پشت - تا ساسون دیگر جلو (سانتیمتر) (محاسبه شده)",{"$f":"'متغیرها '!B619","v":21.6},null,"انتخاب چادر تا پایین پیشانی یا بالای پیشانی یا روی سر",2,null,null,"(8 →9)",{"$f":"ROUND(0.5*U191,1)","v":8.6999999999999993}]
[" اندازه های طولی در لباس ",0,null,"باز شدن یقه هفت روی سرشانه     ",null,null," قد پایه یقه   ",15,null,"جابجایی افقی مچ  (سانتیمتر)   ",0,null,null,null,null,null,null,null,null,"(8 →10)",{"$f":"ROUND(U195+(U188-U195-محاسبات!DB38+'متغیرها '!U83)*(1-COS(ASIN(U192/(U188-U195-محاسبات!DB38+'متغیرها '!U83)))),1)","v":20.6}]
[" گشاد یا تنگ شدن اندازه های طولی در پایین تنه    ",0,null,"باز شدن یقه هفت روی خط مرکزی جلو ",null,null," کج شدن پایه یقه به سمت گردن   ",5,null,"جابجایی عمودی مچ  (سانتیمتر)  ",0,null," کمر شلوار",null,null,null,null,null,null,"(5 →11)",{"$f":"ROUND('طراحی همه الگوها'!U178+U190+0.1*'متغیرها '!C14*'متغیرها '!U85*1.5,1)","v":17.899999999999999}]
[null,null,null,"   محاسبه در یقه شکاری متصل به یقه هفت   ",{"$f":"'متغیرها '!B173","v":0.16},null,"مکان لبه پایه یقه نسبت به جلو لباس   ","مرکزی جلو",null,null,null,null," پایین آمدن کمر شلوار نسبت به کمر اندام   (سانتیمتر)",-5,null,null,null,null,null,"(3 →12)",{"$f":"ROUND(محاسبات!DB38-U189+'متغیرها '!C13*'متغیرها '!U83,1)","v":12.2}]
[" جادکمه ","عکس راهنما",null,null,null,null," انحنا لبه پایه یقه  ",20,null," آستین کتی",null,null," پهنای کمر جدا در شلوار  (سانتیمتر) ",3.5,null,null,null,null,null,"(12 →13)",{"$f":"ROUND(محاسبات!F425*'متغیرها '!C12,1)","v":8.5}]
["پهنای جادکمه جلو      مرحله اول در طراحی یقه انگلیسی",28,null," کنترل یقه هفت بدون زیپ ",null,null," قد پشت برگردان یقه   ",21,null,"میزان خمیدگی آستین کتی  ",5,null,"کوتاهی جلو کمر شلوار نسبت به پشت کمر شلوار (سانتیمتر) ",0,null,null,null,null,null,"(3 →14)",{"$f":"ROUND(U197+U196*TAN(محاسبات!F423-RADIANS(90)+'متغیرها '!B245),1)","v":11.6}]
["لبه پایین لباس",50,null,"دور سر  (سانتیمتر)",{"$f":"'متغیرها '!B267","v":38},null," کج شدن برگردان یقه به سمت گردن   ",-2,null,"ضریب طول مستطیل جادکمه کتی",20,null,"جابجایی افقی  جلو کمر شلوار (سانتیمتر)  ",0,null,null,null,null,null,"(5 →15)",{"$f":"ROUND(0.5*(محاسبات!DD19-محاسبات!DD18),1)","v":5.4}]
[" ارتفاع انحنا لبه پایین لباس نزدیک خط پهلو",0,null," دور یقه هفت لباس  (سانتیمتر)",{"$f":"'متغیرها '!B268","v":51.8},null,"زاویه لبه برگردان یقه (میزان نوک تیز بودن لبه)     ",45,null,"ضریب عرض مستطیل جادکمه کتی",15,null,"جابجایی عمودی  جلو کمر شلوار (سانتیمتر)  ",5,null,null,null,null,null,"(15 →16)",{"$f":"ROUND(0.35*(محاسبات!DE20-محاسبات!DE19),1)","v":3}]
[" طول انحنا لبه پایین لباس نزدیک خط پهلو",18,null,"آیا یقه هفت با پارچه غیر کش از سر رد میشود؟",{"$f":"'متغیرها '!E269","v":"بله "},null," قد لبه برگردان یقه   ",20,null,"جابجایی افقی تکه جلو آستین کتی (سانتیمتر)",2,null,"جابجایی افقی  پشت کمر شلوار (سانتیمتر)  ",0,null,null,null,null,null,"(15 →17)",{"$f":"ROUND(محاسبات!DE17+0.35*(محاسبات!DE21-محاسبات!DE17),1)","v":18.8}]
[null,null,null,"آیا یقه هفت با پارچه نیم کش از سر رد میشود؟",{"$f":"'متغیرها '!E270","v":"بله "},null,"جابجایی افقی برگردان یقه  (سانتیمتر)   ",0,null,null,null,null,"جابجایی عمودی  پشت کمر شلوار (سانتیمتر)  ",5,null,null,null,null,null,"(8 →18)",{"$f":"ROUND(0.5*(محاسبات!DD24-محاسبات!DD23),1)","v":3.9}]
[" سرشانه و حلقه آستین",null,null,null,null,null,"جابجایی عمودی برگردان یقه  (سانتیمتر)  ",35,null," جادکمه آستین بلند یا کوتاه",null,null,null,null,null,null,null,null,null,"(18 →19)",{"$f":"ROUND(محاسبات!DE20+0.45*(محاسبات!DE25-محاسبات!DE20),1)","v":12.7}]
["ضریب کم شدن سرشانه  ",0,null,"طراحی یقه انگلیسی و آرشال ","عکس راهنما",null,null,null,null,"ضریب طول مستطیل ",7,null,"  شلوار متصل به بالاتنه",null,null,null,null,null,null,"(18 →20)",{"$f":"ROUND(محاسبات!DE25+0.8*(محاسبات!DE21-محاسبات!DE25),1)","v":20}]
["ضریب بزرگ شدن زیر حلقه آستین  ",4,null,"پهنای یقه در پشت گردن (انگلیسی، آرشال)    مرحله سوم در طراحی یقه انگلیسی",25,null," یقه شکاری با پایه",null,null,"ضریب عرض مستطیل ",5,null," بلند شدن فاق در شلوار متصل به بالاتنه    ",10,null,null,null,null,null,"(1 →21)",{"$f":"ROUND(0.1*'متغیرها '!U85,1)","v":3.8}]
["ضریب زیاد شدن سرشانه  ",0,null,"باز بودن جلو یقه (انگلیسی، آرشال، هفت) مرحله چهارم در طراحی یقه انگلیسی ",20,null," قد پایه یقه   ",8,null,null,null,null," بزرگی پهنای جادکمه پهلو",5,null,null,null,null,null,"(4 →22)",{"$f":"ROUND(0.7*U205,1)","v":2.7}]
["انتخاب آستین حلقه ای یا پیش سینه رکابی یا تکه پهلو جدا=1   انتخاب دیگر=2",1,null,"پهنای بالای دال   مرحله پنجم در طراحی یقه انگلیسی ",30,null," قد پشت برگردان یقه   ",20,null,null,null,null,null,null,null,null,null,null,null,{"$f":"'طراحی همه الگوها'!A179","v":"1 تا 3 ماهه"}]
[null,null,null,"پهنای پایین دال   مرحله پنجم در طراحی یقه انگلیسی      ",75,null," کج شدن یقه به سمت گردن   ",-13,null,"طول کل حلقه آستین با اپل (سانتیمتر)",{"$f":"'متغیرها '!B536","v":23},null," جزئی شلوار"]
["  نوع پیراهن",null,null,"پهنای جلو یقه (انگلیسی، آرشال)   مرحله ششم در طراحی یقه انگلیسی ",-8,null,"مکان لبه یقه نسبت به جلو لباس   ","مرکزی جلو",null,"طول کل حلقه آستین با ساسون (سانتیمتر)",{"$f":"'متغیرها '!B537","v":23.4},null,"ضریب گشادی دور ران یا نسبت گشادی پشت پاچه به جلو پاچه  ",1.2,null,"طراحی چادر شماره 3",null,null,null,"رسم دستی چادر 3 (بر حسب سانتیمتر)"]
["انتخاب الگو جلو ترک (دامن،سوتین)=2    انتخاب الگو جلو با ساسون (مایو)=1",1,null,"وسط دال پایین یا بالا رود (انگلیسی، آرشال)   مرحله هفتم در طراحی یقه انگلیسی",1,null,"زاویه لبه برگردان یقه (میزان نوک تیز بودن لبه)     ",57,null,null,null,null,"زاویه خط پهلو جلو   ","روش مولر",null,"لبه پایین چادر",10,null,null,"(1 →2)",{"$f":"ROUND(محاسبات!CJ22+0.1*'متغیرها '!U85-محاسبات!EC35,1)","v":57.8}]
[null,null,null," زاویه بالای دال     مرحله هشتم در طراحی یقه انگلیسی",15,null," قد لبه برگردان یقه   ",23,null,"طول حلقه آستین مدل 85 (سانتیمتر)",{"$f":"'متغیرها '!B539","v":23.4},null," پهنای صافی لبه پایین شلوار   ",0,null,"گشادی لبه پایینی مچ  ",5,null,null,"(1 →3)",{"$f":"ROUND('متغیرها '!C21,1)","v":110}]
[" اوزمان ها در دامن (پایین تنه ترک)",null,null," زاویه پایین دال      مرحله هشتم در طراحی یقه انگلیسی ",20,null,"جابجایی افقی پایه یقه  (سانتیمتر)   ",0,null,"طول حلقه آستین مدل 83 کت مردانه (سانتیمتر)",{"$f":"'متغیرها '!B540","v":23},null," بالا یا پایین رفتن خط زانو   ",0,null,"گشادی پایین چادر (معادل کوتاهی طول مچ چادر)",15,null,null,"(1 → 4)",{"$f":"ROUND(محاسبات!EC36*COS(RADIANS(محاسبات!EC34)),1)","v":31.7}]
["میزان پایین آمدن نقطه شروع اوزمان از خط کمر  ",30,null," دال رو به پایین یا رو به بالا شود    مرحله هشتم در طراحی یقه انگلیسی  ",10,null,"جابجایی عمودی پایه یقه  (سانتیمتر)  ",-5,null,null,null,null," پهنای فاق جلو (در روش مولر این ضریب ثابت مساوی 0.06 می باشد)   ",5,null,"مکان لبه پایینی آستین چادر ",10,null,null,"(4→5)",{"$f":"ROUND(محاسبات!EC36*SIN(RADIANS(محاسبات!EC34)),1)","v":20.6}]
["اوزمان در خط پهلو جلو دامن  ",2,null,null,null,null,null,null,null,"اطلاعات طول حلقه آستین و طول تاج آستین",null,null," زاویه خط وسط پا در پشت شلوار   ",2,null,"عرض پارچه  (سانتیمتر)",110,null,null,"(5 →6)",{"$f":"ROUND(U225*COS(RADIANS(محاسبات!EC37)),1)","v":7.9}]
["اوزمان در خط ترک جلو دامن  ",2,null," طراحی تکه پشت یقه انگلیسی و آرشال  ","عکس راهنما",null," یقه ب ب مثلثی و گرد",null,null,"طول کل حلقه آستین بدون ساسون (سانتیمتر) ",{"$f":"'متغیرها '!B538","v":24.2},null," بلندی ساسون پشت شلوار   ",20,null,"انتخاب چادر تا پایین پیشانی یا بالای پیشانی یا روی سر",2,null,null,"(6 →7)",{"$f":"ROUND(U225*SIN(RADIANS(محاسبات!EC37)),1)","v":2.1}]
["اوزمان در خط  پهلو پشت دامن   ",2,null,"پهنای پشت پایه (انگلیسی، آرشال)    مرحله سوم در طراحی یقه انگلیسی      ",20,null,"زاویه جلو یقه ب ب مثلثی",30,null,"طول تاج آستین کتی (سانتیمتر)",{"$f":"'متغیرها '!B541","v":24},null,"بلندی ساسون جلو شلوار   ",20,null,null,null,null,null,"(2 →8)",{"$f":"ROUND(U211,1)","v":110}]
["اوزمان در خط مرکزی پشت دامن  ",2,null,"زاویه کج شدن پایه مستطیل به قسمت گردن    مرحله سوم در طراحی یقه انگلیسی ",20,null,"ضریب پهنای یقه ب ب مثلثی و گرد ",25,null,"طول تاج آستین ساده (سانتیمتر)",{"$f":"'متغیرها '!B542","v":23.8},null," پهنای ساسون وسط پشت شلوار   ",10,null,null,null,null,null,"(8 →9)",{"$f":"ROUND(U219,1)","v":-44.2}]
["اوزمان در خط ترک پشت دامن  ",2,null,"پهنای جلو پایه مستطیل      مرحله سوم در طراحی یقه انگلیسی       ",20,null,null,null,null,null,null,null," پهنای ساسون پهلو پشت شلوار   ",5,null,null,null,null,null,"(9→10)",{"$f":"ROUND(2*(U210-U212+U215-U217),1)","v":144.80000000000001}]
["انتخاب پیراهن ترک گشاد=2            انتخاب دیگر=1",1,null,"انتخاب یقه انگلیسی پایه سرخود یا پایه جدا    مرحله سوم در طراحی یقه انگلیسی",1,null," جابجایی کلاه",null,null,"  آستر مچ جدا در آستین",null,null," پهنای ساسون وسط جلو شلوار   ",10,null,null,null,null,null,"(3→11)",{"$f":"ROUND(U210+محاسبات!DM47-U211+0.1*'متغیرها '!C22*'متغیرها '!U85,1)","v":-44.2}]
[null,null,null,"تغییر انحنا بالا سمت چپ     مرحله نهم در طراحی یقه انگلیسی          ",20,null,"جابجایی افقی کلاه  (سانتیمتر)",-30,null,"انتخاب مچ اندامی=2        انتخاب مچ مستطیل یا مچ پفی=1",1,null," پهنای ساسون پهلو جلو شلوار   ",5,null,null,null,null,null,"(12 →13)",{"$f":"ROUND(1+1.5*(U211+U219-محاسبات!DM47-((U210-U217-U218)/TAN((U210-U217-U218)/(U211+U219-محاسبات!DM47)))),1)","v":17.5}]
[" انتقال ساسون سرشانه به زیر بغل، عصایی یا خط مرکزی جلو",null,null,"تغییر انحنا بالا    مرحله نهم در طراحی یقه انگلیسی ",60,null,"جابجایی عمودی کلاه (سانتیمتر)",20,null,"گشادی لبه بالایی مچ ",0,null," ساسون پهلو در کمر جدا شلوار   ",0,null,null,null,null,null,"(8 →14)",{"$f":"U220","v":17.5}]
[" برای حذف کامل ساسون سرشانه مجموع c1 و c2 باید 10 شود.",null,null,"زاویه تکه پشت یقه روی خط مرکزی پشت",20,null,"جابجایی افقی تکه پشت سر در کلاه سه تکه  (سانتیمتر)",3,null,"گشادی لبه پایینی مچ یا (گشادی مچ مستطیل یا مچ پفی)  ",0,null,null,null,null,null,null,null,null,"(2→15)",{"$f":"0.4*(U211+U210-U217-U218)","v":26.879999999999995}]
["انتقال ساسون سرشانه جلو به ساسون زیر بغل یا ساسون عصایی  c1",0,null,"زاویه تکه پشت یقه با پایه روی خط مرکزی پشت",20,null,null,null,null,"مکان لبه بالایی مچ",10,null," برش پشت  شلوار جین",null,null,null,null,null,null,"(15→16)",{"$f":"ROUND((U210-محاسبات!DB38+'متغیرها '!U83)*(1-COS(ASIN((U222)/(U210-محاسبات!DB38+'متغیرها '!U83)))),1)","v":12.4}]
["انتقال ساسون سرشانه به خط مرکزی جلو c2",0,null,"تغییر انحنا پایین روی خط مرکزی پشت",20,null,"طراحی کلی کلاه ",null,null,"مکان لبه پایینی مچ",10,null," بالا یا پایین شدن خط برش در قسمت پهلو پشت شلوار جین   ",20,null,null,null,null,null,"(17 →18)",{"$f":"ROUND(('متغیرها '!C20+'متغیرها '!C19)*'متغیرها '!U83,1)","v":2.7}]
["انتخاب (اصلاح سرشانه و حلقه آستین برای c1 >10 ) = 2     انتخاب دیگر=1",1,null,"تغییر انحنا پایین",20,null,"ضریب بزرگ یا کوچک شدن کلاه",0,null,"جابجایی افقی آستر مچ  (سانتیمتر)   ",0,null," بالا یا پایین شدن خط برش در قسمت مرکزی پشت شلوار جین   ",20,null,null,null,null,null,"(17→19)",{"$f":"ROUND(U226+U224*TAN(محاسبات!EC38-RADIANS(90)+محاسبات!DM17),1)","v":8.1999999999999993}]
[null,null,null,"اعمال ضخیم دوزی در سجاف یقه انگلیسی و آرشال  ",20,null,"انتخاب کلاه ملوانی برای موهای دم اسبی که از پشت بسته شود ",1,null,"جابجایی عمودی آستر مچ  (سانتیمتر)  ",0,null,null,null,null,null,null,null,null,"(18→20)",{"$f":"ROUND(محاسبات!EC39*'متغیرها '!C18,1)","v":7.5}]
[" انتقال ساسون سرشانه به زیر بغل، عصایی یا خط مرکزی پشت",null,null,"جابجایی افقی پایه مستطیل  (سانتیمتر)",0,null," پهنای بلیطی جلو کلاه",0,null,null,null,null,"  دامن شلواری",null,null,null,null,null,null,"(2→21)",{"$f":"0.6*U222","v":16.127999999999997}]
[" برای حذف کامل ساسون سرشانه مجموع c1 و c2 باید 10 شود.",null,null,"جابجایی عمودی پایه مستطیل  (سانتیمتر)",0,null," بلندی بلیطی جلو کلاه",0,null,"  آستین کلوش ",null,null," بلند شدن فاق در دامن شلواری    ",10,null,null,null,null,null,"(21→22)",{"$f":"ROUND(0.45*U223,1)","v":5.6}]
["انتقال ساسون سرشانه پشت به ساسون زیر بغل یا عصایی  c1",0,null,"جابجایی افقی پایه لبه گرد یقه انگلیسی (سانتیمتر)",0,null," بلندی انحنا جلو کلاه",4,null,"بلندی پایین آستین کلوش",37,null," اوزمان در جلو دامن شلواری      ",8,null,null,null,null,null,{"$f":"'طراحی همه الگوها'!A179","v":"1 تا 3 ماهه"}]
["انتقال ساسون سرشانه به خط مرکزی پشت c2",0,null,"جابجایی عمودی پایه لبه گرد یقه انگلیسی (سانتیمتر)",0,null," پهنای انحنا روی صورت",8,null," اوزمان آستین کلوش ",10,null," اوزمان در پشت دامن شلواری      ",8]
[null,null,null,"جابجایی افقی پایه یقه آرشال (سانتیمتر)",0,null," پهنای انحنا بالای پیشانی",6,null,null,null,null,null,null,null,"طراحی چادر شماره 4",null,null,null,"رسم دستی چادر  4  (بر حسب سانتیمتر)"]
[" ساسون زیر بغل",null,null,"جابجایی عمودی پایه یقه آرشال (سانتیمتر)",0,null,null,null,null,null,null,null," شلوار با تکه پهلو جدا",null,null,"لبه پایین چادر",10,null,null,"(1 →2)",{"$f":"ROUND(U233+محاسبات!DM47+0.1*'متغیرها '!C32*'متغیرها '!U85,1)","v":65.8}]
["ضریب کوتاه شدن ساسون زیر بغل جلو  ",9,null,null,null,null," کلاه متصل به یقه مربعی",null,null," آستین رگلان درز دار",null,null," پهنای تکه پهلو جلو شلوار   ",12,null,"گشادی پشت چادر نسبت به جلو چادر  ",3,null,null,"(1 →4)",{"$f":"ROUND(محاسبات!CJ22+0.1*'متغیرها '!U85-محاسبات!ER39,1)","v":57.8}]
["ضریب کوتاه شدن ساسون زیر بغل پشت  ",9,null,"مراحل مختلف در طراحی یقه انگلیسی","عکس راهنما",null,"بالا یا پایین رفتن خط کارور",30,null,"میزان خمیدگی بدن به سمت جلو   ",3,null," پهنای تکه پهلو پشت شلوار   ",6,null,"مکان لبه پایینی آستین چادر ",10,null,null,"(2 → 3)",{"$f":"ROUND(U232*TAN(RADIANS('متغیرها '!C26)),1)","v":3.4},"عمود"]
[null,null,null,"پهنای جادکمه جلو - میزان روی هم آمدن یقه انگلیسی","مرحله اول",null,"پهنای کارور جلو",48,null,"میزان خم شدن سرشانه در آستین  ",3,null," باریک شدن پایین تکه پهلو جلو شلوار   ",5,null,"گشادی لبه پایینی آستین چادر ",7,null,null,"(4→5)",{"$f":"ROUND(U233*TAN(RADIANS('متغیرها '!C26)),1)","v":3},"عمود"]
["  تنظیم ساسون های بالای کمر",null,null,"میزان باز بودن یقه گرد - نشان میدهد یقه چقدر به گردن میچسبد","مرحله دوم",null,null,null,null,"پهنای ساسون مچ روی درز آستین  ",3,null," باریک شدن پایین تکه پهلو پشت شلوار   ",5,null,"مکان لبه بالایی آستین چادر ",30,null,null,"(1 →10)",{"$f":"ROUND(محاسبات!DB38+'متغیرها '!C27*'متغیرها '!U83,1)","v":40.6},"زاویه 45"]
["مجموع ضرایب پهنای دو ساسون پشت باید کمتر از 20 یا مساوی 20 باشد.",null,null,"پهنای تکه پشت یقه انگلیسی","مرحله سوم",null," کلاه ملوانی",null,null,"میزان روی هم آمدن سرشانه در دو تکه آستین رگلان  ",10,null,"جابجایی افقی تکه پهلو شلوار (سانتیمتر)  ",7,null,"گشادی پایین چادر  ",20,null,null,"(10 →11)",{"$f":"ROUND('متغیرها '!C28*'متغیرها '!U84*0.5,1)","v":8.5},"عمود"]
["اگر مجموع پهنای ساسون ها کمتر از 20 باشد، باقیمانده ساسون ها روی خط پهلو قرار میگیرد.",null,null,"باز بودن یقه انگلیسی","مرحله چهارم",null,"بالا یا پایین رفتن قسمت پایین کلاه روی خط مرکزی جلو",7,null,"زاویه درز روی آستین نسبت به عمود  ",3,null,"جابجایی عمودی تکه پهلو شلوار (سانتیمتر)  ",0,null," بیشترین مقدار گشادی پایین چادر  برای اندام شما",{"$f":"'متغیرها '!B31","v":59},null,null,"(12 →13)",{"$f":"ROUND(محاسبات!EQ35-محاسبات!EQ37,1)","v":3.7}]
[" ضریب پهنای ساسون روی خط مرکزی پشت بالاتنه   ",0,null,"پهنای بالا و پایین دال","مرحله پنجم",null,"پهنای قسمت پایین کلاه",4,null,"میزان انحنا لبه جلو آستین  ",1,null,null,null,null,"انتخاب چادر تا پایین پیشانی یا بالای پیشانی یا روی سر",2,null,null,"(13 →9)",{"$f":"ROUND(محاسبات!EP35-محاسبات!EP29,1)","v":16.5},"عمود"]
[" ضریب طول ساسون روی خط مرکزی پشت بالاتنه   ",12,null,"پهنای یقه انگلیسی","مرحله ششم",null,null,null,null,"میزان انحنا لبه پشت آستین  ",1,null,"  شلوار رکاب دار",null,null,"مکان افقی الگو مرغک",40,null,null,"(12 →14)",{"$f":"ROUND(محاسبات!EQ37-محاسبات!EQ34,1)","v":20.5}]
[" ضریب پهنای ساسون میانی پشت بالاتنه   ",16,null,"بالا و پایین رفتن نقطه وسط دال","مرحله هفتم",null,"طراحی بافت ",null,null,"سهم گشادی مچ آستین بر روی درز  ",4,null," پهنای رکاب جلو شلوار   ",20,null,"مکان عمودی الگو مرغک",35,null,null,"(14 →8)",{"$f":"ROUND(محاسبات!EP34-محاسبات!EP29,1)","v":25.3},"عمود"]
[" ضریب طول ساسون میانی پشت بالاتنه   ",18,null,"تنظیم زاویه های نوک دال","مرحله هشتم",null,null,null,null,"جابجایی افقی تکه جلو آستین رگلان درز دار (سانتیمتر)",5,null," پهنای رکاب پشت شلوار   ",20,null,null,null,null,null,"(15 →16)",{"$f":"ROUND(0.33*U244,1)","v":0.9}]
[" ضریب فاصله افقی ساسون وسط بالاتنه از خط مرکزی پشت   ",25,null,"اصلاح انحنای بالای تکه پشت یقه انگلیسی","مرحله نهم",null,"طراحی نقشه بافت",null,null,null,null,null," قله رکاب جلو شلوار   ",0,null,null,null,null,null,"(16 →17)",{"$f":"U242","v":0.9}]
[" ضریب پهنای ساسون میانی جلو بالاتنه    ",10,null,null,null,null,"جابجایی افقی کل نقشه  (سانتیمتر)   ",-15,null," آستین کلوش معکوس ",null,null," قله رکاب پشت شلوار   ",0,null,null,null,null,null,"(16 →18)",{"$f":"ROUND(محاسبات!ER40-3-0.2*محاسبات!ER40,1)","v":2.8},"عمود"]
[" ضریب طول ساسون میانی جلو بالاتنه  ",18,null,null,null,null,"جابجایی عمودی کل نقشه  (سانتیمتر)  ",0,null,"بلندی پایین آستین کلوش معکوس",30,null," ارتفاع رکاب جلو شلوار   ",0,null,null,null,null,null,"(16 →19)",{"$f":"U244","v":2.8}]
[" ضریب فاصله افقی ساسون میانی بالاتنه از خط مرکزی جلو   ",25,null,null,null,null,"نسبت افقی نقشه بافت به سایز واقعی الگو",42,null," اوزمان آستین کلوش معکوس ",5,null," ارتفاع رکاب پشت شلوار   ",0,null,null,null,null,null,{"$f":"'طراحی همه الگوها'!A179","v":"1 تا 3 ماهه"}]
[" ضریب نوک ساسون سرشانه جلو تا نوک سینه  ",18,null,null,null,null,"ارتفاع هر رج (نسبت عمودی نقشه بافت به سایز واقعی الگو)",60]
[null,null,null,"طراحی یقه مربعی یا ملوانی یا برش سرشانه در پیراهن",null,null,"پهنای نیم دایره",10,null," آستین لاله ای",null,null," جیب جین پشت شلوار یا پیراهن ",null,null,"طراحی چادر شماره 5",null,null,null,"رسم دستی چادر 5 (بر حسب سانتیمتر)"]
[" تنظیم ساسون های پایین کمر",null,null,"انتخاب یقه مربعی یا برش سرشانه یا ...",2,null,"طول باکس نوشته",9,null,"مکان نقطه بالای انحنا جلو آستین   ",20,null,"ضریب پهنای جیب    ",11,null,"لبه پایین چادر",10,null,null,"(1 →2)",{"$f":"ROUND(0.5*'متغیرها '!C38*'متغیرها '!U54,1)","v":40.5}]
["مجموع ضرایب پهنای دو ساسون پشت باید کمتر از 20 یا مساوی 20 باشد.",null,null,"  انتخاب آستین با هر نوع ساسون=1    انتخاب آستین بدون ساسون=2           ",2,null,"پهنای باکس نوشته",10,null,"مکان نقطه بالای انحنا پشت آستین   ",20,null,"ضریب ارتفاع جیب    ",9,null,"گشادی دامن چادر  ",20,null,null,"(1 →3)",{"$f":"ROUND('متغیرها '!U56-محاسبات!FC42,1)","v":25},"عمود"]
["اگر مجموع پهنای ساسون ها کمتر از 20 باشد، باقیمانده ساسون ها روی خط پهلو قرار میگیرد.",null,null,"بالا یا پایین آمدن خط کارور پشت",20,null,"بزرگی فلش رج",12,null,"مکان نقطه پایین انحنا جلو آستین   ",20,null,"زاویه خط پهلو جیب    ",5,null,"بلند شدن دسته چادر ",20,null,null,"(2 → 4)",{"$f":"U250","v":25},"عمود"]
[" ضریب پهنای ساسون روی خط مرکزی پشت پایین تنه   ",0,null,"  حلقه آستین با ساسون سرشانه یا حلقه آستین بدون ساسون ",{"$f":"'متغیرها '!B286","v":"عدم خطا"},null,"زاویه فلش رج",10,null,"مکان نقطه پایین انحنا پشت آستین   ",20,null,"زاویه مثلث پایین جیب    ",20,null,"انتخاب چادر تا پایین پیشانی یا بالای پیشانی یا روی سر",2,null,null,"(3→5)",{"$f":"ROUND(0.14*'متغیرها '!U56,1)","v":3.5}]
[" ضریب پهنای ساسون میانی پشت پایین تنه   ",16,null,"  حلقه آستین با ساسون عصایی  ",{"$f":"'متغیرها '!B287","v":"عدم خطا"},null,"بزرگی خط عمودی دانه",6,null,"ضریب انحنا جلو   ",23,null,"زاویه چرخش کل جیب    ",45,null,null,null,null,null,"(4 →6)",{"$f":"ROUND(0.33*U249,1)","v":13.4},"عمود"]
[" ضریب طول ساسون میانی پشت پایین تنه       ",18,null,"بالا یا پایین آمدن خط کارور جلو",10,null,"بزرگی فلش دانه",8,null,"ضریب انحنا پشت   ",23,null,"مکان افقی جیب  (سانتیمتر)    ",0,null,null,null,null,null,"(6 →7)",{"$f":"U261","v":8},"عمود"]
[" ضریب پهنای ساسون میانی جلو پایین تنه    ",10,null,"  حلقه آستین با ساسون سرشانه یا حلقه آستین بدون ساسون ",{"$f":"'متغیرها '!B290","v":"عدم خطا"},null,"زاویه فلش دانه",15,null,null,null,null,"مکان عمودی جیب    ",20,null,null,null,null,null,"(4→8)",{"$f":"ROUND(0.2*('متغیرها '!U52-'متغیرها '!U53),1)","v":4.3}]
[" ضریب طول ساسون میانی جلو پایین تنه       ",20,null,"  حلقه آستین با ساسون عصایی  ",{"$f":"'متغیرها '!B291","v":"عدم خطا"},null,"جابجایی افقی راهنمای نقشه  (سانتیمتر)   ",-45,null,"آستین رگلان کلوش",null,null,null,null,null,null,null,null,null,"(4 →11)",{"$f":"ROUND(3*U255+'متغیرها '!U52+10,1)","v":64.900000000000006}]
[null,null,null,"پهنا یقه روی خط سرشانه   (فقط موثر در انتخاب یقه مربعی و ملوانی) ",20,null,"جابجایی عمودی راهنمای نقشه  (سانتیمتر)  ",5,null," پهنای اوزمان ",5,null," جیب جلو شلوار مردانه و جیب جین جلو شلوار",null,null,null,null,null,null,"(4 →9)",{"$f":"ROUND(1+0.03*'متغیرها '!U56,1)","v":1.8},"عمود"]
[" ضریب طول ساسون روی خط مرکزی پشت پایین تنه        غیر فعال",20,null,"پهنای کارور جلو  (فقط موثر در انتخاب یقه مربعی ) ",20,null,null,null,null," فاصله خط اوزمان اول از قسمت جلو     ",10,null," بزرگی عمودی دهانه جیب   ",10,null,null,null,null,null,"(12 →18)",{"$f":"U252","v":3.5}]
["ساسون ها در بالاتنه عصایی ",null,null,"پهنای کارور پشت  (فقط موثر در انتخاب یقه مربعی و ملوانی) ",20,null,"طراحی رج دوبل",null,null," فاصله خط اوزمان دوم از قسمت جلو     ",20,null," بزرگی افقی دهانه جیب   ",10,null,null,null,null,null,"(18 →14)",{"$f":"ROUND(محاسبات!DM47+محاسبات!CJ22+0.1*'متغیرها '!U85-'متغیرها '!U56+U252+0.1*'متغیرها '!C40*'متغیرها '!U85,1)","v":44.3}]
["انتخاب بالاتنه عصایی=2        انتخاب دیگر=1",1,null,"جابجایی افقی   (سانتیمتر)   ",0,null,"ارتفاع هر رج دوبل",6,null,null,null,null," بزرگی کیسه جیب    ",10,null,null,null,null,null,"(12 →16)",{"$f":"U249-U253","v":27.1},"عمود"]
["مکان ساسون عصایی جلو در حلقه آستین بالاتنه",4,null,"جابجایی عمودی  (سانتیمتر)  ",0,null,"شعاع داایره اول",8,null,null,null,null,null,null,null,null,null,null,null,"(16 →17)",{"$f":"ROUND(U258+0.5*(SQRT(POWER(U259-محاسبات!FC43,2)+U260*U260)-U259+محاسبات!FC43),1)","v":8},"عمود"]
["مکان ساسون عصایی پشت در حلقه آستین بالاتنه",6,null,null,null,null,"جابجایی افقی رج دوبل  (سانتیمتر)   ",2,null,null,null,null,"  جیب جلو شلوار با بلیطی",null,null,null,null,null,null,"(16 →13)",{"$f":"ROUND(1.9*(U253-U255),1)","v":17.3}]
[null,null,null,"بررسی خطای گردی یقه تا خط کارور جلو",null,null,"جابجایی عمودی رج دوبل  (سانتیمتر)  ",2,null,null,null,null,"پهنای بلیطی جیب  (سانتیمتر)",2,null,null,null,null,null,"(14 →15)",{"$f":"ROUND(U260+U262+0.5*'متغیرها '!C39*'متغیرها '!U56,1)","v":50.7},"عمود"]
["طراحی دامن فون",null,null,"آیا یقه گرد که تا خط کارور جلو باز شده، با پارچه کش از سر رد میشود؟",{"$f":"'متغیرها '!E297","v":"خیر- گردی یقه زیاد شود یا کارور جلو پایین بیاید"},null,null,null,null,null,null,null,"ضریب طول بلیطی جیب",18,null,null,null,null,null,"(3→19)",{"$f":"ROUND(0.4*(محاسبات!FJ25-محاسبات!FJ22),1)","v":10.8}]
["اتصال آزاد=4   اتصال به دامن تنگ=3  اتصال به بالاتنه با ساسون=2   اتصال به پیراهن راسته=1",2,null,"آیا یقه گرد که تا خط کارور جلو باز شده، با پارچه غیر کش از سر رد میشود؟",{"$f":"'متغیرها '!E298","v":"خیر- گردی یقه زیاد شود یا کارور جلو پایین بیاید"},null,null,null,null,null,null,null,"زاویه جیب با عمود ",18,null,null,null,null,null,"(19 →20)",{"$f":"ROUND(محاسبات!FG17-(محاسبات!FK25+0.9*(محاسبات!FK22-محاسبات!FK25)),1)","v":4},"عمود"]
["دور تا دور کمر دراتصال آزاد   (سانتیمتر)  ",100,null,null,null,null,"توضیح کاربر:",null,null,null,null,null,"تبدیل بلیطی جیب از مستطیل به متوازی الاضلاع ",20,null,null,null,null,null,"(3 →21)",{"$f":"ROUND(0.8*(محاسبات!FJ25-محاسبات!FJ22),1)","v":21.7}]
["قد دامن دراتصال آزاد  (سانتیمتر)   ",40,null," یقه دراپه ",null,null,"نقشه بافت مخصوص کاربر",null,null,null,null,null,"انتخاب جیب روکار=2        انتخاب دیگر=1",2,null,null,null,null,null,"(21→22)",{"$f":"ROUND(محاسبات!FG17-(محاسبات!FK25+0.45*(محاسبات!FK22-محاسبات!FK25)),1)","v":6},"عمود"]
["مکان پایین دامن فون دراتصال پیراهن راسته یا دامن تنگ   ",10,null,"نقطه شروع دراپه جلو    ",80,null,"پهنای باکس توضیحات (سانتیمتر)",15,null,null,null,null,"مکان افقی وسط جیب",10,null,null,null,null,null,"(12 →23)",{"$f":"U264","v":10.8}]
["چین در دامن فون",1,null,"میزان باز بودن یقه جلو به سمت  خط سینه    ",20,null,"ارتفاع باکس توضیحات (سانتیمتر)",15,null,null,null,null,"مکان عمودی بالای جیب  ",50,null,null,null,null,null,"(23 →24)",{"$f":"U265","v":4},"عمود"]
[" اوزمان در جلو دامن فون   (اوزمان در اتصال آزاد) ",10,null,"جابجایی عمودی یقه دراپه جلو (سانتیمتر)",0,null,"جابجایی افقی توضیحات کاربر  (سانتیمتر)   ",35,null,null,null,null,null,null,null,null,null,null,null,"(12 →25)",{"$f":"U266","v":21.7}]
[" اوزمان در پشت دامن فون   ",10,null,"نقطه شروع دراپه پشت    ",80,null,"جابجایی عمودی توضیحات کاربر  (سانتیمتر)  ",20,null,null,null,null," جیب پشت شلوار یا پیراهن با بلیطی",null,null,null,null,null,null,"(25 →26)",{"$f":"U267","v":6},"عمود"]
["میزان ریزش پارچه در طراحی دامن فون",25,null,"میزان باز بودن یقه پشت به سمت  خط سینه    ",20,null,null,null,null,null,null,null,"پهنای بلیطی جیب  (سانتیمتر)",2,null,null,null,null,null,"(15 →27)",{"$f":"ROUND(محاسبات!FJ15-(محاسبات!FJ11+0.75*(محاسبات!FJ15-محاسبات!FJ11)),1)","v":1.6}]
["جابجایی افقی جلو دامن فون (سانتیمتر)",5,null,"جابجایی عمودی یقه دراپه پشت (سانتیمتر)",0,null,"شماره بافت انتخابی جادکمه",13,null,null,null,null,"ضریب طول بلیطی جیب",20,null,null,null,null,null,"(27 →28)",{"$f":"ROUND(محاسبات!FK15-محاسبات!FK13,1)","v":23.9},"عمود"]
["جابجایی عمودی جلو دامن فون (سانتیمتر)",-30,null,null,null,null,null,null,null,null,null,null,"زاویه جیب با عمود ",18,null,null,null,null,null,"(4 →29)",{"$f":"ROUND(0.5*('متغیرها '!U52-'متغیرها '!U53),1)","v":10.7},"نقطه انتهای اتصال به کمر-خط پهلو"]
["جابجایی افقی پشت دامن فون (سانتیمتر)",10,null,"یقه دکلته جلو",null,null,null,null,null,null,null,null,"تبدیل بلیطی جیب از مستطیل به متوازی الاضلاع ",20,null,null,null,null,null,{"$f":"'طراحی همه الگوها'!A179","v":"1 تا 3 ماهه"}]
["جابجایی عمودی پشت دامن فون (سانتیمتر)",5,null,"میزان باز بودن یقه در خط مرکزی جلو  ",90,null,null,null,null,null,null,null,"انتخاب جیب روکار=2        انتخاب دیگر=1",2]
["رسم دستی دامن کلوش",null,null,"میزان اضافه شدن ساسون سرشانه  ",20,null,null,null,null,null,null,null,"مکان افقی وسط جیب",10]
["رسم دستی دامن نیم کلوش",null,null,"میزان انحنا یقه  ",20,null,null,null,null,null,null,null,"مکان عمودی بالای جیب  ",50]
[]
["  جلو کمر پهن","عکس راهنما",null,"یقه دکلته پشت"]
["انتخاب کمر برای جلیقه =2         انتخاب دیگر = 1",1,null,"میزان باز بودن یقه در خط مرکزی پشت  ",90]
["بالای کمر پهن یکسره روی خط مرکزی جلو (ضریب فاصله نقطه u4 از خط کمر)",2,null,"میزان انحنا یقه  ",19]
["پایین کمر روی خط مرکزی جلو (ضریب فاصله نقطه d4 از خط کمر)  (کمر جناقی و حد پایین برش دراپه)",-2]
["ضریب فاصله عمودی دال جلو  (جلیقه) - (ضریب فاصله نقطه u5 از خط کمر)",2,null," طول بند برای لباس دکلته از جلو تا پشت (سانتیمتر)",null,null,"شماره بافت انتخابی جلو شلوار",11]
["ضریب فاصله افقی دال جلو  (جلیقه) - (ضریب فاصله نقطه u5 از خط مرکزی جلو)",8,null,"دکلته آبی جلو     به     دکلته آبی پشت",{"$f":"'متغیرها '!B363","v":6},null,"شماره بافت انتخابی پشت شلوار",11]
["پایین کمر روی خط ترک جلو (ضریب فاصله نقطه d5 از خط کمر)  (کمر جناقی و حد پایین برش دراپه)",-2,null,"دکلته آبی جلو     به     دکلته سبز پشت",{"$f":"'متغیرها '!B364","v":9}]
["بالای کمر پهن یکسره روی خط ترک جلو (ضریب فاصله نقطه u6 از خط کمر)",2,null,"دکلته آبی جلو     به     دکلته بنفش پشت",{"$f":"'متغیرها '!B365","v":12},null,"طراحی بافت یقه انگلیسی","نمونه بافت"]
["جابجایی افقی کمر پهن یکسره (سانتیمتر)",0,null,"دکلته آبی جلو     به     دکلته سیاه پشت",{"$f":"'متغیرها '!B366","v":14},null,"شماره بافت انتخابی یقه انگلیسی",13]
["جابجایی عمودی کمر پهن یکسره  (سانتیمتر)",10,null,"دکلته سبز جلو     به     دکلته آبی پشت",{"$f":"'متغیرها '!B367","v":8}]
[null,null,null,"دکلته سبز جلو     به     دکلته سبز پشت",{"$f":"'متغیرها '!B368","v":12},null,"طراحی بافت یقه شکاری","نمونه بافت"]
["  پهلو کمر پهن",null,null,"دکلته سبز جلو     به     دکلته بنفش پشت",{"$f":"'متغیرها '!B369","v":15},null,"شماره بافت انتخابی یقه شکاری",14]
["بالای کمر پهن یکسره روی خط پهلو (ضریب فاصله نقطه u3 از خط کمر)",2,null,"دکلته سبز جلو     به     دکلته سیاه پشت",{"$f":"'متغیرها '!B370","v":16}]
["پایین کمر روی خط پهلو (ضریب فاصله نقطه d3 از خط کمر)  (کمر جناقی و حد پایین برش دراپه)",-2,null,"دکلته سیاه جلو     به     دکلته آبی پشت",{"$f":"'متغیرها '!B371","v":11},null,"طراحی بافت یقه شومیزیه","نمونه بافت"]
[null,null,null,"دکلته سیاه جلو     به     دکلته سبز پشت",{"$f":"'متغیرها '!B372","v":14},null,"شماره بافت انتخابی یقه شومیزیه",12]
[" پشت کمر پهن","عکس راهنما",null,"دکلته سیاه جلو     به     دکلته بنفش پشت",{"$f":"'متغیرها '!B373","v":17}]
["بالای کمر پهن یکسره روی خط مرکزی پشت (ضریب فاصله نقطه u1 از خط کمر)",2,null,"دکلته سیاه جلو     به     دکلته سیاه پشت",{"$f":"'متغیرها '!B374","v":19},null,"طراحی بافت یقه ب ب","نمونه بافت"]
["پایین کمر روی خط مرکزی پشت (ضریب فاصله نقطه d1 از خط کمر) (کمر جناقی)",-2,null,null,null,null,"شماره بافت انتخابی یقه ب ب ",12]
["بالای کمر پهن یکسره روی خط ترک پشت (ضریب فاصله نقطه u2 از خط کمر)",2,null," رگلاژ یقه دکلته پشت"]
["پایین کمر روی خط ترک پشت (ضریب فاصله نقطه d2 از خط کمر) (کمر جناقی)",-2,null,"نقطه بالای رگلاژ روی یقه دکلته    ",2]
["جابجایی افقی کمر پهن یکسره (سانتیمتر)",0,null,"نقطه وسط رگلاژ روی خط کمر    ",16]
["جابجایی عمودی کمر پهن یکسره  (سانتیمتر)",20,null,"نقطه پایین رگلاژ روی خط مرکزی پشت   ",16]
[null,null,null,"ضریب پهنای جادکمه برای تکه رگلاژ ",6]
[" پیلی ها و گوده ها (متقارن در پیراهن)","عکس راهنما",null,"جابجایی افقی تکه رگلاژ جدا (سانتیمتر)  ",30]
[" عرض پیلی 1 (بعد از دوخت) - روی خط مرکزی جلو  (سانتیمتر)    ",6]
[" عرض پیلی 2 (بعد از دوخت) - روی خط ترک جلو  (سانتیمتر)     ",6,null,"طراحی اختصاصی یقه قایقی بدون جابجایی تکه پهلو"]
[" عرض پیلی 3 (بعد از دوخت) - روی خط پهلو   (سانتیمتر)   ",6,null,"باز شدن یقه قایقی روی سرشانه  ",23]
[" عرض پیلی 4 (بعد از دوخت) - روی خط مرکزی پشت   (سانتیمتر)   ",6]
[" عرض پیلی 5 (بعد از دوخت)  روی خط ترک پشت (سانتیمتر) و نصف پهنای لبه برگرد پایین کت",6,null,"یقه پروانه ای متصل به حلقه آستین بدون ساسون بدون جابجایی تکه پهلو"]
[" عرض پایین گوده 1 - روی خط مرکزی جلو  (سانتیمتر)    ",0,null,"پهنای سرشانه به سمت پشت    ",20]
[" عرض پایین گوده 2 - روی خط ترک جلو  (سانتیمتر)    ",0,null,"پهنای سرشانه به سمت جلو   ",20]
[" عرض پایین گوده 3 - روی خط پهلو  (سانتیمتر)    ",0]
[" عرض پایین گوده 4 - روی خط مرکزی پشت  (سانتیمتر)   ",0,null," طراحی یقه دلبری"]
[" عرض پایین گوده 5 - روی خط ترک پشت   (سانتیمتر)  ",0,null," باز شدن یقه نسبت به وسط گردن       ",14]
[" نقطه شروع گوده یا پیلی ",45,null,"  فاصله عمودی نقطه شکست یقه دلبری   ",20]
[null,null,null," فاصله افقی نقطه شکست یقه دلبری",20]
["انحنا لبه پیراهن یا دامن روی خط مرکزی جلو "]
["انحنا نقطه بالایی روی خط مرکزی جلو ",12,null," یقه پشت گردنی متصل به حلقه آستین با ساسون بدون جابجایی تکه پهلو "]
["انحنا نقطه میانی روی خط مرکزی جلو ",30,null," پهنای یقه پشت گردن  ",20]
["انحنا نقطه پایینی روی خط مرکزی جلو ",10,null," طول یقه پشت گردن  ",20]
[null,null,null,"  انحنا افقی یقه جلو       ",20]
[" مشخصات کمربند به شکل مستطیل (مناسب برای لباس شما)",null,null," انحنا عمودی یقه جلو    ",20]
["طول کمربند (سانتیمتر)",{"$f":"'متغیرها '!B273","v":52.7}]
["عرض کمربند (سانتیمتر)",{"$f":"'متغیرها '!B274","v":1.3},null,"طراحی جیب و جادکمه"]
[]
[" طراحی کش پایین سویشرت ",null,null,"  جیب پهلو با بلیطی  (جلو) (آبی)"]
["بالا یا پایین رفتن برش پایین سویشرت",45,null,"پهنای بلیطی جیب  (سانتیمتر)",2]
["ضریب کوچک شدن کش",8,null,"ضریب طول بلیطی جیب",20]
["طول  کش از ساسون جلو- دور باسن - تا ساسون دیگر جلو (سانتیمتر)",{"$f":"'متغیرها '!B277","v":22},null,"زاویه جیب با عمود ",4]
[null,null,null,"زاویه چرخش بلیطی جیب از مستطیل به متوازی الاضلاع ",20]
[" دراپه از پهلو"]
["حد بالا برش دراپه   ",82,null,"انتخاب طول جیب منطبق با جیب با ساسون=2     انتخاب طول جیب دستی=1",1]
["پهنای دراپه 1 (سانتیمتر)   ",5]
["پهنای دراپه 2 (سانتیمتر)   ",5,null," جیب اول با بلیطی  (جلو) (سبز)"]
["پهنای دراپه 3 (سانتیمتر)   ",5,null,"پهنای بلیطی جیب  (سانتیمتر)",0]
["پهنای دراپه 4 (سانتیمتر)   ",5,null,"ضریب طول بلیطی جیب",0]
["پهنای دراپه 5 (سانتیمتر)   ",5,null,"زاویه جیب با عمود ",18]
["پهنای دراپه 6 (سانتیمتر)   ",5,null,"زاویه چرخش بلیطی جیب از مستطیل به متوازی الاضلاع ",20]
["پهنای دراپه 7 (سانتیمتر)   ",5,null,"انتخاب جیب روکار=2        انتخاب دیگر=1",2]
["پهنای دراپه 8 (سانتیمتر)   ",5,null,"مکان افقی وسط جیب",11,null,"طراحی توری بافت آستین"]
[null,null,null,"مکان عمودی بالای جیب  ",60,null,"پهنا افقی توری بافت  (سانتیمتر)   ",10]
["  کنترل گودی حلقه آستین و اپل",null,null,null,null,null,{"$f":"محاسبات!RN32","v":"  "}]
["انتخاب کنترل گودی حلقه آستین=2        و انتخاب دیگر=1",1,null,"جیب دوم با بلیطی (جلو) (سیاه)",null,null,"پهنا عمودی توری بافت  (سانتیمتر)  ",20]
["روی هم آمدن سرشانه پشت و جلو ",10,null,"پهنای بلیطی جیب  (سانتیمتر)",0,null,{"$f":"محاسبات!RV30","v":"  "}]
["نسبت اعمال تغییر در حلقه جلو به حلقه پشت  ",20,null,"ضریب طول بلیطی جیب",0,null,"جابجایی افقی توری بافت  (سانتیمتر)   ",0]
["زاویه اپل    ",0,null,"زاویه جیب با عمود ",18,null,"جابجایی عمودی توری بافت  (سانتیمتر)  ",-100]
[null,null,null,"زاویه چرخش بلیطی جیب از مستطیل به متوازی الاضلاع ",20]
[" انتقال ساسون زیر بغل بر روی جیب در تکه پهلو جدا",null,null,"انتخاب جیب روکار=2        انتخاب دیگر=1",2,null,"طراحی توری بافت یقه و کلاه"]
[" زاویه جیب با افق  ",40,null,"مکان افقی وسط جیب",10,null,"پهنا افقی توری بافت  (سانتیمتر)   ",10]
[" پهنای جیب در مدل تکه پهلو جدا",20,null,"مکان عمودی بالای جیب  ",96,null,{"$f":"محاسبات!SH32","v":"  "}]
[null,null,null,null,null,null,"پهنا عمودی توری بافت  (سانتیمتر)  ",20]
["سرشانه دکمه خور متصل به حلقه آستین بدون ساسون\nبدون شیفت تکه پهلو",null,null,"  جیب مستطیل  (جلو)  (قرمز)",null,null,{"$f":"محاسبات!SP30","v":"  "}]
["پهنای جادکمه سرشانه",5,null,"ضریب عرض جیب مستطیل",0,null,"جابجایی افقی توری بافت  (سانتیمتر)   ",0]
[null,null,null,"زاویه  جیب با عمود ",18,null,"جابجایی عمودی توری بافت  (سانتیمتر)  ",-100]
["  آستین کیمونو و آستین سرخود بدون شیفت تکه پهلو",null,null,"ضریب ارتفاع جیب مستطیل",0]
["میزان خمیدگی آستین کیمونو نسبت به خط سرشانه   ",20,null,"مکان افقی وسط جیب",9,null,"طراحی توری بافت جلو پیراهن"]
["کوتاهی آستین کیمونو   ","منطبق",null,"مکان عمودی بالای جیب  ",85,null,"پهنا افقی توری بافت  (سانتیمتر)   ",10]
["گشادی دور مچ   (کیمونو و سرخود)","منطبق",null,null,null,null,{"$f":"محاسبات!TB32","v":"  "}]
["انحنا پهلو برای آستین کیمونو   ",8,null," جادکمه با بلیطی",null,null,"پهنا عمودی توری بافت  (سانتیمتر)  ",20]
["انحنا پهلو برای آستین سرخود   ",1,null,"پهنای جادکمه  (سانتیمتر)",0,null,{"$f":"محاسبات!TJ30","v":"  "}]
["کوتاهی آستین سرخود   ","منطبق",null,"ضریب طول جادکمه ",14,null,"جابجایی افقی توری بافت  (سانتیمتر)   ",0]
["کوتاهی تاج آستین سرخود   ",0,null,"زاویه جادکمه با عمود ",18,null,"جابجایی عمودی توری بافت  (سانتیمتر)  ",-100]
[" : گشادی لبه آستین سرخود",{"$f":"'متغیرها '!E401","v":" صحیح"},null,"مکان افقی وسط جادکمه",0]
[null,null,null,"مکان عمودی بالای جادکمه ",90,null,"طراحی توری بافت پشت پیراهن"]
[" شورت بدون شیفت تکه پهلو",null,null,null,null,null,"پهنا افقی توری بافت  (سانتیمتر)   ",10]
["ضریب فاصله کمر شورت تا زمین ",65,null,"جادکمه متصل به یقه  ",null,null,{"$f":"محاسبات!TV32","v":"  "}]
["میزان انحنا جلو شورت مردانه ",0,null,"ضریب عرض جادکمه ",0,null,"پهنا عمودی توری بافت  (سانتیمتر)  ",20]
["مکان افقی مرغک",10,null,"ضریب طول جادکمه ",28,null,{"$f":"محاسبات!UD30","v":"  "}]
["مکان عمودی مرغک",-10,null," طول جادکمه  (سانتیمتر)",{"$f":"'متغیرها '!B239","v":4.5999999999999996},null,"جابجایی افقی توری بافت  (سانتیمتر)   ",0]
[null,null,null," عرض جادکمه  (سانتیمتر)",{"$f":"'متغیرها '!B240","v":0},null,"جابجایی عمودی توری بافت  (سانتیمتر)  ",-100]
[" مایو پادار",null,null,"آیا یقه گرد متصل به جادکمه با پارچه غیر کش از سر رد میشود؟",{"$f":"'متغیرها '!E237","v":"بله "}]
["گشادی پایین پاچه     ","منطبق",null,"آیا یقه گرد متصل به جادکمه با پارچه نیم کش از سر رد میشود؟",{"$f":"'متغیرها '!E238","v":"بله "},null,"طراحی توری بافت جلو شلوار"]
["پهنای صافی لبه پایین پاچه",10,null,"آیا یقه گرد متصل به جادکمه با پارچه کش زیاد از سر رد میشود؟",{"$f":"'متغیرها '!E239","v":"بله "},null,"پهنا افقی توری بافت  (سانتیمتر)   ",10]
["ضریب عرض جادکمه وسط پا  ",3,null,"طراحی دامن",null,null,{"$f":"محاسبات!UP32","v":"  "}]
["زاویه خط پهلو پاچه  ",2,null,null,null,null,"پهنا عمودی توری بافت  (سانتیمتر)  ",20]
["جابجایی افقی تکه وسط پا (سانتیمتر)",2,null,"طراحی زیپ و چاک دامن",null,null,{"$f":"محاسبات!UX30","v":"  "}]
["جابجایی عمودی تکه وسط پا (سانتیمتر)",0,null,"عرض (پهنا) زیپ در خط پهلو - دامن و بالاتنه  (سانتیمتر)   ",5,null,"جابجایی افقی توری بافت  (سانتیمتر)   ",0]
[null,null,null,"ضریب طول (بلندی) زیپ در خط پهلو  ",16,null,"جابجایی عمودی توری بافت  (سانتیمتر)  ",-100]
[" مایو بدون شیفت تکه پهلو     ",null,null,"عرض (پهنا) زیپ در خط مرکزی پشت  (سانتیمتر)   ",0]
[" ضریب بالا آمدن خط مایو در پهلو   ",0,null,"ضریب طول (بلندی) زیپ در خط مرکزی پشت  ",16,null,"طراحی توری بافت پشت شلوار"]
["انتخاب مایو دکمه دار از وسط پا=2            انتخاب مایو بدون دکمه=1",2,null,"عرض (پهنا) چاک در خط مرکزی پشت  (سانتیمتر)   ",0,null,"پهنا افقی توری بافت  (سانتیمتر)   ",10]
["جابجایی محل دکمه از پشت به جلو برای پوشک بچه در انتخاب مایو دکمه دار (سانتیمتر)",2,null,"ضریب طول (بلندی) چاک در خط مرکزی پشت  ",20,null,{"$f":"محاسبات!VJ32","v":"  "}]
["اضافه پهنا وسط پا برای پوشک بچه در انتخاب مایو دکمه دار (سانتیمتر) ",1,null,null,null,null,"پهنا عمودی توری بافت  (سانتیمتر)  ",20]
["اضافه جادکمه وسط پا در انتخاب مایو دکمه دار  (سانتیمتر)",1.5,null," پیلی ها  (متقارن یا نامتقارن در جلو دامن)",null,null,{"$f":"محاسبات!VR30","v":"  "}]
[null,null,null," عرض پیلی 2 (بعد از دوخت) - جلو  (سانتیمتر)     ",0,null,"جابجایی افقی توری بافت  (سانتیمتر)   ",0]
["  پیش بند حمام بچه و طراحی اانحنا روی خط پهلو پیراهن",null,null," عرض پیلی 3 (بعد از دوخت) - جلو  (سانتیمتر)   ",0,null,"جابجایی عمودی توری بافت  (سانتیمتر)  ",-100]
[" بزرگی کلاه بچه   ",20,null," عرض پیلی 4 (بعد از دوخت) - جلو   (سانتیمتر)   ",0]
["نقطه بالای انحنا روی خط پهلو",20,null," عرض پیلی 5 (بعد از دوخت) - روی خط مرکزی جلو  (سانتیمتر)    ",0,null,"تشخیص ضخامت میل و کاموا"]
["نقطه پایین انحنا روی خط پهلو",20,null," عرض پیلی 6 (بعد از دوخت) -  جلو  (سانتیمتر)     ",0,null,"پهنای 30 دانه بافت ساده  ( سانتیمتر)",19]
[null,null,null," عرض پیلی 7 (بعد از دوخت) - جلو   (سانتیمتر)   ",0,null," ضخامت میل و کاموا شما",{"$f":"محاسبات!AH78","v":4.5}]
["  جلو پیش سینه رکابی بدون شیفت تکه پهلو",null,null," عرض پیلی 8 (بعد از دوخت) - جلو   (سانتیمتر)   ",0]
["بالا یا پایین رفتن بند پیش سینه جلو",21,null,null,null,null,"طراحی بافت جلو پشت ...","نمونه بافت"]
["پهنای بند پیش سینه جلو  (سانتیمتر)",10,null," پیلی ها  (متقارن یا نامتقارن در پهلو دامن)",null,null,"انتخاب ضخامت میل و کاموا بافتنی",4.5]
["گودی بین دو بند در جلو سینه",25,null," عرض پیلی 1 (بعد از دوخت) - درز پهلو چپ  (سانتیمتر)    ",0,null,"شماره بافت انتخابی جلو لباس",15]
["فاصله بند تا خط مرکزی جلو",20,null," عرض پیلی 9 (بعد از دوخت) - درز پهلو راست   (سانتیمتر)   ",0,null,"شماره بافت انتخابی پشت لباس",15]
["انتخاب خط راست پهلو جلو=2        انتخاب دیگر=1",1,null,null,null,null,"شماره بافت انتخابی آستین",11]
[null,null,null," پیلی ها  (متقارن یا نامتقارن در پشت دامن)",null,null,"شماره بافت انتخابی کلاه و یقه",11]
["مکان بند جدا پیش سینه یا پیش بند در الگو پشت",null,null," عرض پیلی 10 (بعد از دوخت) - پشت  (سانتیمتر)     ",0]
["مکان افقی بند جدا",22,null," عرض پیلی 11 (بعد از دوخت) - پشت  (سانتیمتر)   ",0,null," اول مخصوص کاربر","برچسب بافت :"]
["مکان عمودی بند جدا",51,null," عرض پیلی 12 (بعد از دوخت) - پشت   (سانتیمتر)   ",0,null,"پهنای 30 دانه بافت مخصوص کاربر ( سانتیمتر)",16]
[null,null,null," عرض پیلی 13 (بعد از دوخت) - روی خط مرکزی پشت  (سانتیمتر)    ",0,null,"ارتفاع 20 رج بافت مخصوص کاربر ( سانتیمتر)",6]
[" پشت پیش سینه رکابی بدون شیفت تکه پهلو",null,null," عرض پیلی 14 (بعد از دوخت) -  پشت  (سانتیمتر)     ",0]
["بالا یا پایین رفتن بند پیش سینه پشت",10,null," عرض پیلی 15 (بعد از دوخت) - پشت   (سانتیمتر)   ",0,null," دوم مخصوص کاربر","برچسب بافت :"]
["پهنای بند پیش سینه پشت  (سانتیمتر)",4,null," عرض پیلی 16 (بعد از دوخت) - پشت   (سانتیمتر)   ",0,null,"پهنای 30 دانه بافت مخصوص کاربر ( سانتیمتر)",1]
["گودی بین دو بند در پشت سینه",25,null,"جابجایی افقی قرینه پشت دامن (سانتیمتر)",0,null,"ارتفاع 20 رج بافت مخصوص کاربر ( سانتیمتر)",1]
["فاصله بند تا خط مرکزی پشت",20]
["انتخاب خط راست پهلو پشت=2        انتخاب دیگر=1",1,null," دامن چند طبقه چین",null,null," سوم مخصوص کاربر","برچسب بافت :"]
[null,null,null,"اتصال به دامن تنگ = 3    اتصال به بالاتنه با ساسون=2   اتصال به پیراهن راسته=1",3,null,"پهنای 30 دانه بافت مخصوص کاربر ( سانتیمتر)",1]
["  طراحی سوتین کلی",null,null,"مکان پایین دامن طبقه اول    ",25,null,"ارتفاع 20 رج بافت مخصوص کاربر ( سانتیمتر)",1]
["ضریب ساسون وسط سینه      ",20,null,"چین در دامن طبقه اول",1.1000000000000001]
["ضریب پایین آمدن از خط پهلو    ",20,null,"مکان پایین دامن طبقه دوم    ",20,null," چهارم مخصوص کاربر","برچسب بافت :"]
[" بزرگ شدن کاسه در خط مرکزی جلو      ",20,null,"چین در دامن طبقه دوم",2,null,"پهنای 30 دانه بافت مخصوص کاربر ( سانتیمتر)",1]
[" بزرگ شدن کاسه زیر نوک سینه    ",20,null,"مکان پایین دامن طبقه سوم    ",15,null,"ارتفاع 20 رج بافت مخصوص کاربر ( سانتیمتر)",1]
[" بزرگ شدن کاسه در پهلو      ",20,null,"چین در دامن طبقه سوم",1.1000000000000001]
[" بالا یا پایین آمدن یقه روی خط مرکزی جلو    ",20,null,"مکان پایین دامن طبقه چهارم    ",10,null," پنجم مخصوص کاربر","برچسب بافت :"]
["حرکت عمودی نقطه اتصال بند جلو      ",20,null,"چین در دامن طبقه چهارم",1.2,null,"پهنای 30 دانه بافت مخصوص کاربر ( سانتیمتر)",1]
["حرکت افقی نقطه اتصال بند جلو    ",20,null,"جابجایی افقی جلو دامن چند طبقه (سانتیمتر)",0,null,"ارتفاع 20 رج بافت مخصوص کاربر ( سانتیمتر)",1]
["میزان انحنا یقه جلو   ",20,null,"جابجایی عمودی جلو دامن چند طبقه (سانتیمتر)",0]
["ضریب گودی خطوط افقی کاسه      ",20,null,"جابجایی افقی پشت دامن چند طبقه (سانتیمتر)",0,null," ششم مخصوص کاربر","برچسب بافت :"]
["ضریب گودی خطوط عمودی کاسه    ",20,null,"جابجایی عمودی پشت دامن چند طبقه (سانتیمتر)",0,null,"پهنای 30 دانه بافت مخصوص کاربر ( سانتیمتر)",1]
["میزان انحنا یقه در پهلو    ",20,null,null,null,null,"ارتفاع 20 رج بافت مخصوص کاربر ( سانتیمتر)",1]
[" افزایش یا کاهش ساسون زیر بغل     ",20,null," دامن لنگی دراپه"]
[" افزایش یا کاهش طول عمودی کاسه     ",20,null,"پهنای هر دراپه (پیلی) (سانتیمتر)  ",3,null," هفتم مخصوص کاربر","برچسب بافت :"]
[" افزایش یا کاهش طول افقی کاسه     ",20,null,"مکان نقطه شروع دراپه روی خط پهلو   ",26,null,"پهنای 30 دانه بافت مخصوص کاربر ( سانتیمتر)",1]
["جابجایی افقی کاسه پایین راست (سانتیمتر)    ",0,null,"مکان نقطه شروع دراپه در پایین لباس   ",26,null,"ارتفاع 20 رج بافت مخصوص کاربر ( سانتیمتر)",1]
["جابجایی عمودی کاسه پایین (سانتیمتر)    ",0,null,"مکان پیلی اول روی کمر دامن",10]
["جابجایی عمودی کاسه بالا (سانتیمتر)    ",0,null,"مکان پیلی دوم روی کمر دامن",20,null," هشتم مخصوص کاربر","برچسب بافت :"]
[null,null,null,"مکان پیلی سوم روی کمر دامن",30,null,"پهنای 30 دانه بافت مخصوص کاربر ( سانتیمتر)",1]
["  طراحی اختصاصی سوتین 6 تکه",null,null,null,null,null,"ارتفاع 20 رج بافت مخصوص کاربر ( سانتیمتر)",1]
["انتقال ساسون روی خط سینه به زیر سینه    ",9,null," دامن با والان"]
["چرخش تکه پهلو     ",20,null,"پهنای هر یک از 3 تا پیلی (بعد از دوخت) روی کمر  (سانتیمتر)  ",5,null," نهم مخصوص کاربر","برچسب بافت :"]
["پهنای بند جلو       ",1.5,null,"فاصله  پیلی اول تا خط مرکزی جلو   ",15,null,"پهنای 30 دانه بافت مخصوص کاربر ( سانتیمتر)",1]
["بالا یا پایین رفتن مکان بند جلو",20,null," لبه پایینی دامن والان روی خط مرکزی پشت    ",10,null,"ارتفاع 20 رج بافت مخصوص کاربر ( سانتیمتر)",1]
["چپ و راست رفتن مکان بند جلو",20,null," لبه پایینی دامن والان روی درز پهلو    ",15]
["پهنای افقی برش جلو بند    ",20,null," لبه بالایی دامن والان روی درز پهلو   ",40,null," دهم مخصوص کاربر","برچسب بافت :"]
["پهنای برش کاسه در پهلو      ",20,null,null,null,null,"پهنای 30 دانه بافت مخصوص کاربر ( سانتیمتر)",1]
["بالا یا پایین رفتن خط پایین پایه      ",80,null,null,null,null,"ارتفاع 20 رج بافت مخصوص کاربر ( سانتیمتر)",1]
["پهنای بند پشت  (سانتیمتر)   ",1.5]
["بالا یا پایین رفتن مکان بند پشت",20]
["چپ و راست رفتن مکان بند پشت",9]
["انحنا یقه پشت پهلو      ",20]
["پهنای قزن در پشت (سانتیمتر)    ",3]
["انحنا یقه پشت مرکزی      ",20]
["جابجایی افقی تکه جلو مرکزی (سانتیمتر)    ",0]
["جابجایی افقی تکه پهلوجلو (سانتیمتر)    ",0]
["جابجایی عمودی کاسه یک تکه زیرین (سانتیمتر)    ",0]
[]
[" شنل  بدون شیفت تکه پهلو"]
["اوزمان در شنل  ",20]
["انحنا روی بازو",25]
[]
["پیراهن کلوش (با حلقه آستین بدون ساسون سرشانه)"]
[" اوزمان در جلو پیراهن کلوش   ",5]
[" فاصله اوزمان اول از خط مرکزی جلو     ",13]
[" فاصله اوزمان دوم از خط مرکزی جلو     ",18]
[" اوزمان در پشت پیراهن کلوش",5]
[" فاصله اوزمان اول از خط مرکزی پشت     ",13]
[" فاصله اوزمان دوم از خط مرکزی پشت     ",20]
[]
[]
[]
[]
[]
[]
[]
[]
[]
[]
[]
[]
[]
[]
[]
[]
[]
[]
[]
[]
[]
[]
[]
[]
[]
[]
[]
[]
[]
[]
[]
[]
[]
[]
[]
[]
[]
[]
[]
[]
[]
[]
[]
[]
[]
[]
[]
[]
[]
[]
[]
[]
[]
[]
[]
[]
[]
[]
[]
[]
[]
[null,null,null,null,{"$f":"'طراحی همه الگوها'!J349","v":0}]

{"sheet":"الگوهای مدل 50","index":10,"n_rows":19,"n_cols":5,"rows_kept":19,"cut":false,"hidden":false,"merged":[]}
[]
[null,null,null,"انتخاب سایز :","سایز من"]
[null,null,null,"1 تا 3 ماهه"]
[null," "]
[]
[]
[]
[]
[]
[]
[]
[]
[]
[]
[]
[]
[]
[]
["in"]

{"sheet":"temp_print_sheet","index":11,"n_rows":0,"n_cols":0,"rows_kept":0,"cut":false,"hidden":true,"merged":[]}