{"text_format":"1","workbook":"xlsx","n_sheets":10,"sheets":["Chart Index","محاسبات","متغیرها ","راهنما","اندازه های شخصی","Sheet2","اندازه گیری و تحلیل","طراحی همه الگوها","طراحی مدل 30a","temp_print_sheet"],"not_rendered":{"charts":34,"images":53,"macros":1,"external_links":0,"defined_names":2,"comments":3,"pivot_tables":0},"unopened":[],"bounds":{"document_bytes":16777216,"sheet_cells":100000,"rows_first":2000,"rows_last":500,"rows_between":2000,"halvings":0,"cell_chars":16384,"cell_head_chars":4096},"cells_cut":0,"cells_raw":0,"read":"whole","date_system":"1900"}

{"sheet":"Chart Index","index":0,"n_rows":22,"n_cols":4,"rows_kept":22,"cut":false,"hidden":true,"merged":[]}
[]
[]
[]
[]
[]
[]
["Preview","Sheet (and graph link)","Chart Title","Chart Series"]
[null,"طراحی همه الگوها","رسم دستی چادر2","انحنا, صاف"]
[null,"طراحی همه الگوها","رسم دستی چادر 3","انحنا, صاف"]
[null,"طراحی همه الگوها","رسم دستی چادر 5","انحنا, صاف"]
[null,"طراحی همه الگوها","طراحی چادرها و رسم چادر 4","شبیه ساز دست خمیده و سر, شبیه ساز دامن, رسم یا طراحی چادر4"]
[null,"طراحی همه الگوها","  چادر1 و مقنعه برای پرینت ","شبیه ساز دست خمیده و سر, شبیه ساز دامن, چادر 1 با نقطه گذاری"]
[null,"طراحی همه الگوها","شلوار پشت","1شبیه ساز, 2کمر شلوار,  3وسط شلوار و خط اتو, 4پهلو, 6فاق, 7لبه پایین, 9کمر جدا, اطلاعات اندام در شلوار"]
[null,"طراحی همه الگوها","طراحی پشت یقه ","شبیه ساز برش, شبیه ساز انحنا, طراحی یقه گرد"]
[null,"طراحی همه الگوها","طراحی جلو یقه","شبیه ساز اندام, طراحی یقه شکاری"]
[null,"طراحی همه الگوها","شلوار جلو","1شبیه ساز جلو, 2کمر شلوار, 3وسط شلوار, 4پهلو, 6فاق, 7لبه پایین شلوار, 8زیپ, 9کمر جدا, 10جیب مردانه, 11جیب جین, اطلاعات اندام در شلوار"]
[null,"طراحی همه الگوها","طراحی جلو دامن ترک با کمر پهن","شبیه ساز دامن تنگ, کمر پهن, خط مرکزی جلو کمر, خطوط اصلی دامن ترک, خطوط فرعی دامن ترک, خط اوزمان, پیلی"]
[null,"طراحی همه الگوها","طراحی پشت دامن ترک با کمر پهن","شبیه ساز دامن تنگ, کمر یکسره, خطوط اصلی دامن ترک, خطوط فرعی دامن ترک, پیلی"]
[null,"طراحی همه الگوها"," آستین ","شبیه ساز آستین, آستین بلند یا کوتاه, مچ آستین بلند یا کوتاه"]
[null,"طراحی همه الگوها","الگو پشت","0 اطلاعات اندام, 72شبیه ساز بالاتنه بدون ساسون, 2شبیه ساز دامن, 5حلقه آستین بدون ساسون, 6سرشانه بدون ساسون, 10پهلو صاف وپایین لباس, 17یقه گرد , 18خط پشت در پیراهن, 24بدون شیفت ساسون کمر"]
[null,"طراحی همه الگوها","یقه و کلاه","شومیزیه"]
[null,"طراحی همه الگوها","الگو جلو","0اطلاعات اندام, 1شبیه ساز بالاتنه, 2شبیه ساز دامن, 6حلقه آستین بدون ساسون  , 7سرشانه بدون ساسون, 11پهلو صاف , 22یقه گرد چرخیده, 23جادکمه یقه گرد در پیراهن, 29پایین پیراهن بدون ترک, 70ساسون کمر, 76جادکمه متصل به یقه"]

{"sheet":"محاسبات","index":1,"n_rows":745,"n_cols":264,"rows_kept":562,"cut":true,"hidden":true,"merged":[[9,73,9,75],[144,5,144,6],[86,31,86,34],[8,48,8,49],[8,59,8,61],[95,16,95,22],[112,25,112,26],[8,9,8,11],[8,17,8,19],[8,24,8,30],[8,21,8,22]],"bounds":{"rows_first":250,"rows_last":62,"rows_between":250,"halvings":3}}
["height_print ",29.495655076088877]
["width_print ",28.052318051955336]
["charts_resized ",1]
["print_body_chartS"]
["ActiveWindow.Zoom",15]
["per_font_size_chart",0.8]
["ChartFieldRange( باید خالی باشد )"]
["show_temp_print_sheet ",0]
["per_line_size_chart",null,null,null,null,"نقاط ورودی",null,null,null,"رسم چادر شماره 1 و مقنعه چانه دار",null,null,null,"نقاط ورودی",null,null,null,"رسم مقنعه دراپه",null,null,null,"رسم دستی چادر 2 (بر حسب سانتیمتر)",null,null,"رسم چادر شماره 2",null,null,null,null,null,null,null,"نقاط ورودی",null,null,null," طراحی چادر شماره 2",null,null,null,null,null,null,null," طراحی چادر شماره 3",null,null,null,"رسم دستی چادر 3 (بر حسب سانتیمتر)",null,null,"رسم چادر شماره 3",null,null,null,null,null,null,null,"رسم دستی چادر  4",null,null,null,null,null,"رسم و طراحی چادر شماره 4",null,null,null,null,null,null,null,null,null,null,null,"رسم چادر شماره 5",null,null,null,null,null,null,null,"طراحی چادر شماره 5",null,null,null," طراحی چادر شماره 5",null,null,null,null,null,null,null,null,"پروسیجر یافتن راس سوم مثلث با داشتن دو راس و دو ضلع",null,null,null,null,null,"پروسیجر چرخش یک نقطه حول نقطه دیگر",null,null,null,null,null,"کامل شده"]
[null,null,null,null,null,"مولفه افقی","مولفه عمودی","اسم نقطه",null,"مولفه افقی","مولفه عمودی","اسم نقطه",null,"مولفه افقی","مولفه عمودی","اسم نقطه",null,"مولفه افقی","مولفه عمودی","اسم نقطه",null,null,null,null,null,"صاف",null,null,null,"انحنا",null,null,"اسم نقطه ","مولفه افقی","مولفه عمودی",null,{"$f":"AH21","v":5},167.48394899999997,"s6",null,"طراحی چادر شماره 3",null,null,null,{"$f":"AP12","v":5},167.48394899999997,"s'6",null,null,null,null,null,"صاف",null,null,null,"انحنا",null,null,null,null,null,null,null,null,"رسم دستی چادر4 با نقطه گذاری",null,null,null,null,"خطوط پرینت الگو یا طراحی چادر4",null,null,"رسم دستی چادر 5 (بر حسب سانتیمتر)",null,null,null,null,"صاف",null,null,null,"انحنا",null,null,"اسم نقطه ","مولفه افقی","مولفه عمودی",null,{"$f":"CI14","v":5},{"$f":"CJ14","v":167.48394899999997},"s'6",null,null,null,null,null,null,null,null,"اطلاعات ورودی",null,null,null,"رادیان",{"$f":"-#REF!","v":{"$error":"#REF!"}},"زاویه چرخش","چرخش مخالف عقربه های ساعت"]
[null,null,null,null,null,{"$f":"AO406","v":5},{"$f":"AP406","v":166.98299999999998},"شبیه ساز s15",null,{"$f":"F36","v":88.300000000000011},{"$f":"G36","v":171.9},"j5",null,{"$f":"AO404","v":5},{"$f":"AP404","v":148.428},"شبیه ساز s5",null,{"$f":"N24","v":5},{"$f":"O24","v":92.56049999999999},"d6",null,null,null,null,{"$f":"W35+'طراحی همه الگوها'!U190","v":15.3},{"$f":"Z12","v":0},5,null,{"$f":"Y15","v":15.3},{"$f":"Z15","v":27.7},11,null,"s2",{"$f":"AO401","v":10.065704},{"$f":"AP401","v":163.17558750000001},null,12.090747817988518,165.37411711720836,"s7",null,"اسم نقطه ","مولفه افقی","مولفه عمودی",null,11.771073713611187,164.45419220168895,"s'7",null,null,null,null,{"$f":"W35","v":0},{"$f":"'طراحی همه الگوها'!U210+AX33","v":166.9},1,null,{"$f":"AZ30","v":179.3},{"$f":"BA30","v":166.9},11,null,null,null,null,null,null,null,{"$f":"BJ29","v":5},{"$f":"BK30","v":-7.4000000000000057},2,null,{"$f":"BJ30","v":-4.4000000000000004},{"$f":"BK30","v":-7.4000000000000057},3,null,null,null,null,null,{"$f":"BZ15-'طراحی همه الگوها'!U274","v":68.3},{"$f":"CA15","v":95.5},"خط پهلو",null,{"$f":"BZ30","v":102.6},{"$f":"CA30","v":106.4},13,null,"s1",{"$f":"AO400","v":5},{"$f":"AP400","v":165.04499999999999},null,13.140340789621138,164.56202598581993,"s''7",null,null,null,null,null,null,"اسم نقطه ","مولفه افقی","مولفه عمودی",null,null,null,"مولفه افقی","مولفه عمودی","اسم نقطه ",null,"نقطه  خروجی چرخیده"]
[null,null,null,null,null,null,{"$f":"'متغیرها '!C52","v":5},"شیفت عمودی",null,{"$f":"F33","v":5},{"$f":"G33","v":171.9},"j1",null,{"$f":"F34","v":5},{"$f":"G34","v":101},"j2",null,{"$f":"N22","v":5},{"$f":"O22","v":182.78549999999998},"d3",null,null,null,null,{"$f":"W35","v":0},{"$f":"O33","v":0},2,null,{"$f":"'طراحی همه الگوها'!U190+'طراحی همه الگوها'!U199","v":36.400000000000006},{"$f":"Z12+'طراحی همه الگوها'!U201","v":30.6},17,null,"s3",{"$f":"AO402","v":12.236720000000002},{"$f":"AP402","v":157.56735},null,28.635826059961733,149.90201664340327,"s8",null,"s'6",{"$f":"AH14","v":5},{"$f":"1.003*AI14","v":167.48394899999997},null,27.570245712037295,143.24589461351201,"s'8",null,null,null,null,{"$f":"W35","v":0},{"$f":"BA11-'طراحی همه الگوها'!U212","v":91.7},4,null,{"$f":"BD13+0.7*(BD11-BD13)","v":177.35000000000002},{"$f":"BE13+0.4*(BE11-BE13)","v":141.22},"13'",null,null,null,null,null,null,null,{"$f":"BJ29","v":5},{"$f":"BK29","v":171.9},1,null,{"$f":"BJ32","v":10.87903188174498},{"$f":"BK32","v":-8.2007401305170458},6,null,null,null,null,null,null,null,null,null,{"$f":"CD11+0.45*(CD15-CD11)","v":113.35499999999999},{"$f":"CE11+0.25*(CE15-CE11)","v":134.05000000000001},"13'",null,"s3",{"$f":"AO402","v":12.236720000000002},{"$f":"AP402","v":157.56735},null,26.707575438989707,144.10856488655961,"s''8",null,null,null,null,null,"راس پایین","منهای شیفتa50",{"$f":"BL37","v":87.152559631085211},{"$f":"BM37","v":0},"ضلع پایین",{"$f":"BT25","v":8},null,{"$f":"#REF!","v":{"$error":"#REF!"}},{"$f":"#REF!","v":{"$error":"#REF!"}},"a40","نقطه مرکزی چرخش","مولفه افقی","مولفه عمودی","اسم نقطه "]
[null,null,null,null,null,"دور سر",{"$f":"'متغیرها '!U85","v":59},"w12",null,null,null,null,null,null,{"$f":"G19","v":161},"تمام قد",null,null,null,null,null,null,null,null,{"$f":"W35","v":0},{"$f":"'طراحی همه الگوها'!U188+O33","v":175.2},1,null,{"$f":"Y19","v":57.5},{"$f":"Z19","v":36.1},10,null,"خط سینه",{"$f":"BG400","v":5},{"$f":"BH400","v":120.2},null,46.36269560493303,139.35285722944528,"s9",null,"s'7",{"$f":"AP12+0.12*(AP16-AP12)","v":11.771073713611187},{"$f":"AQ16+0.95*(AQ12-AQ16)","v":164.45419220168895},null,44.49792999606526,125.06735382364604,"s'9",null,null,null,null,{"$f":"W35","v":0},{"$f":"AX33","v":0},2,null,{"$f":"AZ29-'طراحی همه الگوها'!U220","v":172.8},{"$f":"BA29","v":124.1},13,null,null,null,null,null,null,null,null,null,null,null,null,null,null,null,null,null,null,null,0,{"$f":"BW42","v":0},1,null,{"$f":"CD11+0.75*(CD15-CD11)","v":120.52500000000001},{"$f":"CE11+0.5*(CE15-CE11)","v":161.69999999999999},28,null,"s5",{"$f":"AO404","v":5},{"$f":"AP404","v":148.428},null,42.988257018231977,125.40825759580731,"s''9",null,null,null,null,null,"راس بالا "," منهای شیفتe18",{"$f":"BV27-BQ21","v":0},{"$f":"BW27","v":0},"ضلع بالا",{"$f":"BT26","v":0},null,{"$f":"#REF!-#REF!+#REF!","v":{"$error":"#REF!"}},{"$f":"#REF!","v":{"$error":"#REF!"}},"a48-b16+f22","نقطه قبل از چرخش",{"$f":"IF(DB13>DB12,IF(DA13>DA12,DA12+SQRT(POWER(DA13-DA12,2)+POWER(DB13-DB12,2))*COS(ATAN((DB13-DB12)/(DA13-DA12+0.000123))+DB10),DA12-SQRT(POWER(DA13-DA12,2)+POWER(DB13-DB12,2))*COS(ATAN((DB13-DB12)/(DA12-DA13+0.000123))-DB10)),IF(DA13>DA12,DA12+SQRT(POWER(DA13-DA12,2)+POWER(DB13-DB12,2))*COS(ATAN((DB12-DB13)/(DA13-DA12+0.000123))-DB10),DA12-SQRT(POWER(DA13-DA12,2)+POWER(DB13-DB12,2))*COS(ATAN((DB12-DB13)/(DA12-DA13+0.000123))+DB10)))","v":{"$error":"#REF!"}},{"$f":"IF(DB13>DB12,IF(DA13>DA12,DB12+SQRT(POWER(DA13-DA12,2)+POWER(DB13-DB12,2))*SIN(ATAN((DB13-DB12)/(DA13-DA12+0.000123))+DB10),DB12+SQRT(POWER(DA13-DA12,2)+POWER(DB13-DB12,2))*SIN(ATAN((DB13-DB12)/(DA12-DA13+0.000123))-DB10)),IF(DA13>DA12,DB12-SQRT(POWER(DA13-DA12,2)+POWER(DB13-DB12,2))*SIN(ATAN((DB12-DB13)/(DA13-DA12+0.000123))-DB10),DB12-SQRT(POWER(DA13-DA12,2)+POWER(DB13-DB12,2))*SIN(ATAN((DB12-DB13)/(DA12-DA13+0.000123))+DB10)))","v":{"$error":"#REF!"}},"e52"]
[null,null,null,null,null,null,{"$f":"'متغیرها '!U76","v":89},"t3",null,{"$f":"F33","v":5},{"$f":"G33","v":171.9},"j1",null,null,{"$f":"'متغیرها '!C52","v":5},"شیفت عمودی",null,{"$f":"N22","v":5},{"$f":"O22","v":182.78549999999998},"d3",null,null,null,null,{"$f":"W35+'طراحی همه الگوها'!U190","v":15.3},{"$f":"Z13","v":175.2},4,null,{"$f":"'طراحی همه الگوها'!U190+'طراحی همه الگوها'!U192+'طراحی همه الگوها'!U202","v":68.2},{"$f":"Z12+'طراحی همه الگوها'!U204","v":34.6},20,null,"s15",{"$f":"AO406","v":5},{"$f":"AP406","v":166.98299999999998},null,64.089565149904331,132.3200842868066,"s10",null,"s'8",{"$f":"AP12+0.4*(AP16-AP12)","v":27.570245712037295},{"$f":"AQ16+0.6*(AQ12-AQ16)","v":143.24589461351201},null,61.425614280093235,106.88881303378008,"s'10",null,null,null,null,{"$f":"W35+'طراحی همه الگوها'!U216","v":110},{"$f":"BA13","v":0},8,null,null,null,null,null,null,null,null,null,null,null,{"$f":"BJ31","v":13.7},{"$f":"BK31","v":5},5,null,{"$f":"BJ32","v":10.87903188174498},{"$f":"BK32","v":-8.2007401305170458},6,null,null,null,null,null,{"$f":"BZ13+'طراحی همه الگوها'!U249","v":94.5},{"$f":"CA13","v":0},2,null,{"$f":"CD11+0.95*(CD15-CD11)","v":125.30500000000001},{"$f":"CE11+0.8*(CE15-CE11)","v":194.88},"13'''",null,"s'6",{"$f":"AP12","v":5},{"$f":"AQ12","v":167.48394899999997},null,59.268938597474261,109.04548871639906,"s''10",null,null,null,null,null,"c19",{"$f":"ATAN((CV13-CV12)/(CW13-CW12))","v":{"$error":"#DIV/0!"}},null,"محاسبات"]
[null,null,null,null,null,null,{"$f":"'متغیرها '!U56","v":95.5},"e",null,{"$f":"F34","v":5},{"$f":"G34","v":101},"j2",null,"محاسبات",null,null,null,{"$f":"N23","v":81.894999999999996},{"$f":"O23","v":105.89049999999999},"d4",null,null,null,null,{"$f":"W35+'طراحی همه الگوها'!U190","v":15.3},{"$f":"Z12+'طراحی همه الگوها'!U195","v":27.7},11,null,{"$f":"Y23","v":78.8},{"$f":"Z23","v":28.458000000000002},7,null,"زاویه متوسط سرشانه",{"$f":"'متغیرها '!B245","v":0.27820102979369776},"α2",null,null,null,null,null,"s'9",{"$f":"AP12+0.7*(AP16-AP12)","v":44.49792999606526},{"$f":"AQ16+0.3*(AQ12-AQ16)","v":125.06735382364604},null,null,null,null,null,null,null,null,{"$f":"AZ14","v":110},{"$f":"BA14+'طراحی همه الگوها'!U221","v":6.5},14,null,{"$f":"AZ13","v":0},{"$f":"BA13","v":0},2,null,null,null,null,null,null,null,{"$f":"BJ29","v":5},{"$f":"BK31","v":5},4,null,{"$f":"BR14+0.3*(BR17-BR14)","v":29.219460644020856},{"$f":"BS14+0.05*(BS17-BS14)","v":-7.1279712669287596},"6''",null,null,null,null,null,{"$f":"BZ13+'طراحی همه الگوها'!U249","v":94.5},{"$f":"CA13+'طراحی همه الگوها'!U251","v":95.5},4,null,{"$f":"BZ34","v":126.5},{"$f":"CA34","v":217},15,null,"s''7",{"$f":"CI14+0.15*(CI18-CI14)","v":13.140340789621138},{"$f":"CJ18+0.95*(CJ14-CJ18)","v":164.56202598581993},null,67.895641327950145,100.41878598592318,"k4 شبیه ساز",null,null,null,null,null,null," درجه α","x","y","c21","c'17",null,null,"به دست آوردن نقطه تقاطع دو خط ","مولفه افقی","مولفه عمودی"]
[null,null,null,null,null,null,{"$f":"'متغیرها '!U58","v":96.5},"g",null,null,null,null,null,"(d1 → d2)",{"$f":"0.45*'متغیرها '!U85","v":26.55},null,null,null,null,null,null,null,null,null,{"$f":"W35+'طراحی همه الگوها'!U190","v":15.3},{"$f":"Z12","v":0},5,null,null,null,null,null,"دست صاف شبیه ساز k4",{"$f":"F406","v":83.416741023598831},{"$f":"J406","v":126.80009581333303},null,{"$f":"AH26","v":57.690772541350391},{"$f":"AI26","v":109.91594508993686},"s12",null,"s'10",{"$f":"AX39-('متغیرها '!C19*'متغیرها '!U83)*COS(AH15+RADIANS(AX38))","v":61.425614280093235},{"$f":"AY39+('متغیرها '!C19*'متغیرها '!U83)*SIN(AH15+RADIANS(AX38))","v":106.88881303378008},null,{"$f":"AP18","v":47.77845340319287},93.241652156879709,"s'12",null,null,null,null,{"$f":"W35+'طراحی همه الگوها'!U216","v":110},{"$f":"BA13+'طراحی همه الگوها'!U217","v":69.3},9,null,{"$f":"BD15+0.3*(BD18-BD15)","v":18.335999999999995},{"$f":"BE15+0.15*(BE18-BE15)","v":2.31},"16'",null,null,null,null,null,null,null,{"$f":"BJ29","v":5},{"$f":"BK30","v":-7.4000000000000057},2,null,{"$f":"BR14+0.7*(BR17-BR14)","v":53.67336566038869},{"$f":"BS14+0.4*(BS17-BS14)","v":0.38141077818924529},"6'''",null,null,null,null,null,{"$f":"BZ13+'طراحی همه الگوها'!U249-'طراحی همه الگوها'!U255","v":84},{"$f":"CA15","v":95.5},8,null,null,null,null,null,"s''8",{"$f":"CI14+0.4*(CI18-CI14)","v":26.707575438989707},{"$f":"CJ18+0.6*(CJ14-CJ18)","v":144.10856488655961},null,null,null,null,null,null,null,null,null,null,2,{"$f":"CV12+CY12*SIN(RADIANS(CU16)+CU14)","v":{"$error":"#DIV/0!"}},{"$f":"CW12+CY12*COS(RADIANS(CU16)+CU14)","v":{"$error":"#DIV/0!"}},{"$f":"IF(CV13>CV16,ATAN((CW13-CW16)/(CV13-CV16)),ATAN((CW13-CW16)/(CV16-CV13)))","v":{"$error":"#DIV/0!"}},{"$f":"IF(CV13>CV16,(CV13-CV16)/COS(CX16),(CV16-CV13)/COS(CX16))","v":{"$error":"#DIV/0!"}},null,"نقطه اول از خط اول","f5",{"$f":"#REF!","v":{"$error":"#REF!"}},{"$f":"#REF!","v":{"$error":"#REF!"}}]
[null,null,null,null,null,"محاسبات",null,null,null,{"$f":"F34","v":5},{"$f":"G34","v":101},"j2",null,"(d1 →d4)",{"$f":"'طراحی همه الگوها'!U178+'طراحی همه الگوها'!U177","v":83.300000000000011},null,null,{"$f":"N28","v":5},{"$f":"O28","v":98.827074999999994},"j'2",null,null,null,null,{"$f":"Y16+'طراحی همه الگوها'!U192","v":57.5},{"$f":"Z12","v":0},8,null,{"$f":"Y16","v":15.3},{"$f":"Z16","v":0},5,null,"شبیه ساز 26",{"$f":"BK388","v":5},{"$f":"BL388","v":136.99931237943548},null,{"$f":"AK16+0.25*(AK19-AK16)","v":62.305579406012789},{"$f":"AL19+0.5*(AL16-AL19)","v":57.457972544968428},"s12'",null,"s'11",{"$f":"AP27-'طراحی همه الگوها'!U226*SIN(AH15+RADIANS(AX38))","v":55.097008588473635},{"$f":"AQ27-'طراحی همه الگوها'!U226*COS(AH15+RADIANS(AX38))","v":87.620153246446662},null,57.864917382234999,49.120826078439855,"s''13",null,null,null,null,{"$f":"AZ24","v":67.5},{"$f":"BA12+'طراحی همه الگوها'!U215","v":96.7},7,null,{"$f":"W35+'طراحی همه الگوها'!U227","v":36.67199999999999},{"$f":"BE15+'طراحی همه الگوها'!U228","v":6.9},22,null,null,null,null,null,null,null,{"$f":"BJ30","v":-4.4000000000000004},{"$f":"BK30","v":-7.4000000000000057},3,null,{"$f":"BJ34","v":72.013794422664574},{"$f":"BK34","v":13.254637141248679},8,null,null,null,null,null,{"$f":"BZ13","v":0},{"$f":"CA15","v":95.5},3,null,{"$f":"BZ32","v":0},{"$f":"CA32","v":119.80000000000001},18,null,"s''9",{"$f":"CI14+0.7*(CI18-CI14)","v":42.988257018231977},{"$f":"CJ18+0.28*(CJ14-CJ18)","v":125.40825759580731},null,{"$f":"CI19","v":67.895641327950145},100.41878598592318,"k4 شبیه ساز",null,null,null,null,null,null,4,{"$f":"CV12+CY12*SIN(RADIANS(CU17)+CU14)","v":{"$error":"#DIV/0!"}},{"$f":"CW12+CY12*COS(RADIANS(CU17)+CU14)","v":{"$error":"#DIV/0!"}},{"$f":"IF(CV13>CV17,ATAN((CW13-CW17)/(CV13-CV17)),ATAN((CW13-CW17)/(CV17-CV13)))","v":{"$error":"#DIV/0!"}},{"$f":"IF(CV13>CV17,(CV13-CV17)/COS(CX17),(CV17-CV13)/COS(CX17))","v":{"$error":"#DIV/0!"}},null,"نقطه دوم از خط اول","f6",{"$f":"#REF!","v":{"$error":"#REF!"}},{"$f":"#REF!","v":{"$error":"#REF!"}}]
[null,null,null,null,null,"قد سرشانه تا زمین",{"$f":"0.5*(G14+G15+G16)","v":140.5},null,null,{"$f":"F44","v":17.399999999999999},{"$f":"G44","v":101},"j13",null,"(d5 →d6)",{"$f":"5+0.1*O17","v":13.330000000000002},null,null,null,null,null,null,null,null,null,{"$f":"Y16+'طراحی همه الگوها'!U192","v":57.5},{"$f":"Z12+'طراحی همه الگوها'!U193","v":14.2},9,null,{"$f":"'طراحی همه الگوها'!U190+'طراحی همه الگوها'!U199","v":36.400000000000006},{"$f":"Z12+'طراحی همه الگوها'!U200","v":5},16,null,null,null,null,null,{"$f":"AK16+0.6*(AK19-AK16)","v":68.766309016540148},{"$f":"AL19+0.2*(AL16-AL19)","v":25.983189017987371},"s12''",null,"s'12",{"$f":"AP16-'طراحی همه الگوها'!U225*SIN(AH15+RADIANS(AX38))","v":47.77845340319287},{"$f":"AQ16-'طراحی همه الگوها'!U225*COS(AH15+RADIANS(AX38))","v":93.241652156879709},null,66.27030403143678,27.060413039219927,"s'''13",null,null,null,null,{"$f":"W35+'طراحی همه الگوها'!U216","v":110},{"$f":"BA16+'طراحی همه الگوها'!U218","v":124.1},10,null,{"$f":"W35+'طراحی همه الگوها'!U222","v":61.119999999999983},{"$f":"BA13+'طراحی همه الگوها'!U223","v":15.4},16,null,null,null,null,null,null,null,null,null,null,null,null,null,null,null,null,null,null,null,{"$f":"BZ13","v":0},{"$f":"CA17-'طراحی همه الگوها'!U252","v":82.1},5,null,{"$f":"CD17+'طراحی همه الگوها'!U268","v":25.3},{"$f":"CA31+'طراحی همه الگوها'!U269","v":120.9},24,null,"s''10",{"$f":"AX39-0.2*'متغیرها '!U83*COS(AH15+RADIANS(AX38))","v":59.268938597474261},{"$f":"AY39+0.2*'متغیرها '!U83*SIN(AH15+RADIANS(AX38))","v":109.04548871639906},null,56.156160772907086,74.429722088972937,"s''11",null,null,null,null,null,null,6,{"$f":"CV12+CY12*SIN(RADIANS(CU18)+CU14)","v":{"$error":"#DIV/0!"}},{"$f":"CW12+CY12*COS(RADIANS(CU18)+CU14)","v":{"$error":"#DIV/0!"}},{"$f":"IF(CV13>CV18,ATAN((CW13-CW18)/(CV13-CV18)),ATAN((CW13-CW18)/(CV18-CV13)))","v":{"$error":"#DIV/0!"}},{"$f":"IF(CV13>CV18,(CV13-CV18)/COS(CX18),(CV18-CV13)/COS(CX18))","v":{"$error":"#DIV/0!"}},null,"نقطه اول از خط دوم","f7",{"$f":"#REF!","v":{"$error":"#REF!"}},{"$f":"#REF!","v":{"$error":"#REF!"}}]
[null,null,null,null,null,"تمام قد",{"$f":"ROUND(G18+IF(G13>51.5,0.35,IF(G13>50.5,0.33,0.31))*G13,0)","v":161},null,null,null,null,null,null,"نقاط خروجی در مقنعه دراپه",null,null,null,{"$f":"N21","v":5},{"$f":"O21","v":145.35},"d2",null,null,null,null,{"$f":"Y16+'طراحی همه الگوها'!U192","v":57.5},{"$f":"Z12+'طراحی همه الگوها'!U194","v":36.1},10,null,{"$f":"Y18","v":57.5},{"$f":"Z18","v":14.2},9,null,"طراحی چادر شماره 2",null,null,null,{"$f":"AH28","v":76.149999999999991},{"$f":"AI28","v":5},"s13",null,"s''13",{"$f":"AP18+0.3*(AP21-AP18)","v":57.864917382234999},{"$f":"AQ21+0.5*(AQ18-AQ21)","v":49.120826078439855},null,81.399999999999977,5,"s'13",null,null,null,null,{"$f":"W35+'طراحی همه الگوها'!U216","v":110},{"$f":"BA16","v":69.3},9,null,{"$f":"BD18+0.5*(BD20-BD18)","v":85.559999999999988},{"$f":"BE20+0.8*(BE18-BE20)","v":13.620000000000001},"14'",null,null,null,null,null,null,null,{"$f":"BJ29","v":5},{"$f":"BK35","v":108.26056489000499},13,null,{"$f":"BJ31","v":13.7},{"$f":"BK31","v":5},5,null,null,null,null,null,{"$f":"BZ13","v":0},{"$f":"CA13","v":0},1,null,{"$f":"CD17+'طراحی همه الگوها'!U270","v":50.6},{"$f":"CA31+'طراحی همه الگوها'!U271","v":125.60000000000001},26,null,"k4 شبیه ساز",{"$f":"K384","v":67.895641327950145},{"$f":"L384","v":100.41878598592318},null,32.677199662820939,53.638470971412737,"s'11",null,null,null,null,null,null,8,{"$f":"CV12+CY12*SIN(RADIANS(CU19)+CU14)","v":{"$error":"#DIV/0!"}},{"$f":"CW12+CY12*COS(RADIANS(CU19)+CU14)","v":{"$error":"#DIV/0!"}},{"$f":"IF(CV13>CV19,ATAN((CW13-CW19)/(CV13-CV19)),ATAN((CW13-CW19)/(CV19-CV13)))","v":{"$error":"#DIV/0!"}},{"$f":"IF(CV13>CV19,(CV13-CV19)/COS(CX19),(CV19-CV13)/COS(CX19))","v":{"$error":"#DIV/0!"}},null,"نقطه دوم از خط دوم","f8",{"$f":"#REF!","v":{"$error":"#REF!"}},{"$f":"#REF!","v":{"$error":"#REF!"}}]
[null,null,null,null,null,"j4",{"$f":"IF('متغیرها '!C5<1,'متغیرها '!C5*'متغیرها '!U59,IF('متغیرها '!C5<2,'متغیرها '!U59+('متغیرها '!C5-1)*('متغیرها '!U60-'متغیرها '!U59),IF('متغیرها '!C5<3,'متغیرها '!U60+('متغیرها '!C5-2)*(I105-'متغیرها '!U60),I105+('متغیرها '!C5-3)*(H127-H126))))","v":96},null,null,{"$f":"F43","v":17.399999999999999},{"$f":"G43","v":163},"j12",null,"مولفه افقی","مولفه عمودی","اسم نقطه",null,null,null,null,null,null,null,null,null,null,null,null,{"$f":"'طراحی همه الگوها'!U190+'طراحی همه الگوها'!U192+'طراحی همه الگوها'!U202","v":68.2},{"$f":"Z12+'طراحی همه الگوها'!U203","v":20.6},19,null,"اسم نقطه ","مولفه افقی","مولفه عمودی",null,null,null,null,null,"s'''13",{"$f":"AP18+0.55*(AP21-AP18)","v":66.27030403143678},{"$f":"AQ21+0.25*(AQ18-AQ21)","v":27.060413039219927},null,null,null,null,null,null,null,null,null,null,null,null,{"$f":"AZ14","v":110},{"$f":"BA14+'طراحی همه الگوها'!U221","v":6.5},14,null,null,null,null,null,null,null,{"$f":"BJ35","v":37.434464643271838},{"$f":"BK35","v":108.26056489000499},9,null,{"$f":"BJ33","v":25.38396555662851},{"$f":"BK33","v":5.6123306880424426},7,null,null,null,null,null,null,null,null,null,{"$f":"BZ37","v":63.3},{"$f":"CA37","v":130.30000000000001},17,null,"s''11",{"$f":"CI22+0.8*(CI19-CI22)","v":56.156160772907086},{"$f":"CJ22+0.5*(CJ19-CJ22)","v":74.429722088972937},null,9.1982385527347965,48.440658192022688,"s11",null,null,null,null,null,null,10,{"$f":"CV12+CY12*SIN(RADIANS(CU20)+CU14)","v":{"$error":"#DIV/0!"}},{"$f":"CW12+CY12*COS(RADIANS(CU20)+CU14)","v":{"$error":"#DIV/0!"}},{"$f":"IF(CV13>CV20,ATAN((CW13-CW20)/(CV13-CV20)),ATAN((CW13-CW20)/(CV20-CV13)))","v":{"$error":"#DIV/0!"}},{"$f":"IF(CV13>CV20,(CV13-CV20)/COS(CX20),(CV20-CV13)/COS(CX20))","v":{"$error":"#DIV/0!"}},null,"نقطه تقاطع","f10",{"$f":"(DD18-DD16+DC16*((DD17-DD16)/(DC17-DC16+0.0001))-DC18*((DD19-DD18)/(DC19-DC18+0.0001)))/(((DD17-DD16)/(DC17-DC16+0.0001))-((DD19-DD18)/(DC19-DC18+0.0001)))","v":{"$error":"#REF!"}},{"$f":"DD16+(DC20-DC16)*((DD17-DD16)/(DC17-DC16+0.0001))","v":{"$error":"#REF!"}}]
[null,null,null,null,null,"رسم دستی چادر 1 یا مقنعه چانه دار(بر حسب سانتیمتر)",null,null,null,{"$f":"F35","v":17.399999999999999},{"$f":"G35","v":171.9},"j3",null,{"$f":"N11","v":5},{"$f":"O13+0.1*'متغیرها '!U85-O16+O14","v":145.35},"d2",null,null,null,"انحنا",null,null,null,null,{"$f":"Y16+'طراحی همه الگوها'!U192","v":57.5},{"$f":"Z12","v":0},8,null,{"$f":"Y23","v":78.8},{"$f":"Z23","v":28.458000000000002},7,null,"s6",{"$f":"AH14","v":5},{"$f":"1.003*AI14","v":167.48394899999997},null,{"$f":"AH32","v":5},{"$f":"AI32","v":164.94499999999999},"s17",null,"s'13",{"$f":"AH17+0.5*('طراحی همه الگوها'!U216+'طراحی همه الگوها'!U210-'طراحی همه الگوها'!U217-'طراحی همه الگوها'!U218)","v":81.399999999999977},{"$f":"AX33+AH42","v":5},null,{"$f":"AP25","v":5},{"$f":"AQ25","v":164.94499999999999},"s'17",null,null,null,null,{"$f":"W35","v":0},{"$f":"BA12","v":91.7},4,null,null,null,null,null,null,null,null,null,null,null,null,null,null,null,null,null,null,null,null,null,null,null,{"$f":"BZ13+'طراحی همه الگوها'!U249-'طراحی همه الگوها'!U253","v":63.3},{"$f":"CA15","v":95.5},6,null,null,null,null,null,"s'11",{"$f":"CI22+0.4*(CI19-CI22)","v":32.677199662820939},{"$f":"CJ22+0.1*(CJ19-CJ22)","v":53.638470971412737},null,null,null,null,null,null,null,null,null,null,12,{"$f":"CV12+CY12*SIN(RADIANS(CU21)+CU14)","v":{"$error":"#DIV/0!"}},{"$f":"CW12+CY12*COS(RADIANS(CU21)+CU14)","v":{"$error":"#DIV/0!"}},{"$f":"IF(CV13>CV21,ATAN((CW13-CW21)/(CV13-CV21)),ATAN((CW13-CW21)/(CV21-CV13)))","v":{"$error":"#DIV/0!"}},{"$f":"IF(CV13>CV21,(CV13-CV21)/COS(CX21),(CV21-CV13)/COS(CX21))","v":{"$error":"#DIV/0!"}}]
[null,null,null,null,null,null,null,null,null,null,null,null,null,{"$f":"N21","v":5},{"$f":"O21+1.41*O16","v":182.78549999999998},"d3",null,{"$f":"N24","v":5},{"$f":"O24","v":92.56049999999999},"d6",null,null,null,null,{"$f":"W35+'طراحی همه الگوها'!U189","v":78.8},{"$f":"Z12","v":0},6,null,null,null,null,null,"s7",{"$f":"AH21+0.12*(AH25-AH21)","v":12.090747817988518},{"$f":"AI25+0.94*(AI21-AI25)","v":165.37411711720836},null,{"$f":"AH33","v":8.6183600000000009},{"$f":"AI33","v":162.73170500000001},"s18",null,"s'14",{"$f":"AH11+AH40*COS(AH38)","v":12.236720000000002},{"$f":"AI11-AH40*SIN(AH38)","v":157.56735},null,{"$f":"AP26","v":9.3420319999999997},{"$f":"AQ26","v":162.73170500000001},"s'18",null,null,null,null,{"$f":"W35+'طراحی همه الگوها'!U213","v":48.9},{"$f":"BA12","v":91.7},5,null,{"$f":"BD18","v":61.119999999999983},{"$f":"BE18","v":15.4},16,null,null,null,null,null,null,null,{"$f":"BJ29","v":5},{"$f":"BK37","v":89.309927957411261},12,null,{"$f":"BJ33","v":25.38396555662851},{"$f":"BK33","v":5.6123306880424426},7,null,null,null,null,null,{"$f":"BZ13+'طراحی همه الگوها'!U249-'طراحی همه الگوها'!U253","v":63.3},{"$f":"CA15-'طراحی همه الگوها'!U254","v":71.599999999999994},7,null,{"$f":"BZ18","v":0},{"$f":"CA18","v":82.1},5,null,"s11",{"$f":"0.7*CI15","v":9.1982385527347965},{"$f":"CJ15-'طراحی همه الگوها'!U263+1.2*SQRT(POWER(CI15-CI14,2)+POWER(CJ15-CJ14,2))","v":48.440658192022688},null,{"$f":"CI28","v":5},{"$f":"CJ28","v":164.94499999999999},"s''17",null,null,null,null,null,null,14,{"$f":"CV12+CY12*SIN(RADIANS(CU22)+CU14)","v":{"$error":"#DIV/0!"}},{"$f":"CW12+CY12*COS(RADIANS(CU22)+CU14)","v":{"$error":"#DIV/0!"}},{"$f":"IF(CV13>CV22,ATAN((CW13-CW22)/(CV13-CV22)),ATAN((CW13-CW22)/(CV22-CV13)))","v":{"$error":"#DIV/0!"}},{"$f":"IF(CV13>CV22,(CV13-CV22)/COS(CX22),(CV22-CV13)/COS(CX22))","v":{"$error":"#DIV/0!"}},null,null,null,null,"قرینه نقطه نسبت به خط با داشتن دو نقطه از یک خط"]
[null,null,null,null,null,null,null,null,null,{"$f":"F42","v":28},{"$f":"G42","v":171.9},"j11",null,{"$f":"0.7*(O17+O16)+N21","v":81.894999999999996},{"$f":"O22-0.7*(O16+O17)","v":105.89049999999999},"d4",null,{"$f":"N25","v":20.378999999999998},{"$f":"O25","v":92.56049999999999},"d7",null,null,null,null,{"$f":"W35+'طراحی همه الگوها'!U189","v":78.8},{"$f":"Z12+'طراحی همه الگوها'!U191","v":28.458000000000002},7,null,{"$f":"Y13","v":0},{"$f":"Z13","v":175.2},1,null,"s8",{"$f":"AH21+0.4*(AH25-AH21)","v":28.635826059961733},{"$f":"AI25+0.5*(AI21-AI25)","v":149.90201664340327},null,{"$f":"AH29","v":12.236720000000002},{"$f":"AI29","v":157.56735},"s14",null,"s'16",{"$f":"AH13","v":5},{"$f":"AI13","v":120.2},null,{"$f":"AP22","v":12.236720000000002},{"$f":"AQ22","v":157.56735},"s'14",null,null,null,null,{"$f":"W35+'طراحی همه الگوها'!U213+'طراحی همه الگوها'!U214","v":67.5},{"$f":"BA12","v":91.7},6,null,{"$f":"BD18","v":61.119999999999983},{"$f":"BA13","v":0},15,null,null,null,null,null,null,null,{"$f":"BJ37","v":62.275649276110357},{"$f":"BK37","v":89.309927957411261},11,null,{"$f":"BR22+0.3*(BR25-BR22)","v":39.372914216439327},{"$f":"MIN(BS22,BS25)+IF(BS25>BS22,0.15,0.9)*ABS(BS25-BS22)","v":6.7586766560233782},"7''",null,null,null,null,null,null,null,null,null,{"$f":"CD22+'طراحی همه الگوها'!U264","v":25.3},{"$f":"CA17-'طراحی همه الگوها'!U265","v":81},20,null,"s12",{"$f":"CI24","v":32.494999999999997},{"$f":"CJ24+'طراحی همه الگوها'!U257","v":107.82120297376289},null,{"$f":"CI29","v":8.6183600000000009},{"$f":"CJ29","v":162.73170500000001},"s''18",null,null,null,null,null,null,16,{"$f":"CV12+CY12*SIN(RADIANS(CU23)+CU14)","v":{"$error":"#DIV/0!"}},{"$f":"CW12+CY12*COS(RADIANS(CU23)+CU14)","v":{"$error":"#DIV/0!"}},{"$f":"IF(CV13>CV23,ATAN((CW13-CW23)/(CV13-CV23)),ATAN((CW13-CW23)/(CV23-CV13)))","v":{"$error":"#DIV/0!"}},{"$f":"IF(CV13>CV23,(CV13-CV23)/COS(CX23),(CV23-CV13)/COS(CX23))","v":{"$error":"#DIV/0!"}},null,"مولفه افقی","مولفه عمودی","اسم نقطه ورودی"]
[null,null,null,null,null,null,null,null,null,{"$f":"F43","v":17.399999999999999},{"$f":"G43","v":163},"j12",null,{"$f":"N21","v":5},{"$f":"O23-O18+'متغیرها '!C6*0.1*'متغیرها '!U85*0.7","v":92.56049999999999},"d6",null,{"$f":"N27","v":58.826499999999996},{"$f":"O27","v":93.893499999999989},"d9",null,null,null,null,{"$f":"W35+'طراحی همه الگوها'!U189","v":78.8},{"$f":"Z13-'طراحی همه الگوها'!U198","v":151.89999999999998},14,null,null,null,null,null,"s9",{"$f":"AH21+0.7*(AH25-AH21)","v":46.36269560493303},{"$f":"AI25+0.2*(AI21-AI25)","v":139.35285722944528},null,null,null,null,null,"s'15",{"$f":"AP23+0.7*(AP22-AP23)","v":10.065704},{"$f":"AQ23+0.5*(AQ22-AQ23)","v":138.88367500000001},null,{"$f":"AP24","v":10.065704},{"$f":"AQ24","v":138.88367500000001},"s'15",null,null,null,null,{"$f":"AZ23","v":67.5},{"$f":"BA17","v":96.7},7,null,null,null,null,null,null,null,null,null,null,null,null,null,null,null,{"$f":"BR22+0.7*(BR25-BR22)","v":58.024845762853751},{"$f":"MIN(BS22,BS25)+0.5*ABS(BS25-BS22)","v":9.43348391464556},"7'''",null,null,null,null,null,{"$f":"BZ15","v":94.5},{"$f":"CA15","v":95.5},4,null,{"$f":"CD22+'طراحی همه الگوها'!U266","v":50.6},{"$f":"CA17-'طراحی همه الگوها'!U267","v":76.3},22,null,"41 شبیه ساز",{"$f":"BG395","v":32.494999999999997},{"$f":"BH395","v":103.92120297376289},null,{"$f":"CI12","v":12.236720000000002},{"$f":"CJ12","v":157.56735},"s3",null,null,null,null,null,null,18,{"$f":"CV12+CY12*SIN(RADIANS(CU24)+CU14)","v":{"$error":"#DIV/0!"}},{"$f":"CW12+CY12*COS(RADIANS(CU24)+CU14)","v":{"$error":"#DIV/0!"}},{"$f":"IF(CV13>CV24,ATAN((CW13-CW24)/(CV13-CV24)),ATAN((CW13-CW24)/(CV24-CV13)))","v":{"$error":"#DIV/0!"}},{"$f":"IF(CV13>CV24,(CV13-CV24)/COS(CX24),(CV24-CV13)/COS(CX24))","v":{"$error":"#DIV/0!"}},null,0,0,1,"نقطه اول خط تقارن","نقاط قرینه شده نسبت به خط تقارن"]
[null,null,null,null,null,null,null,null,null,null,null,null,null,{"$f":"0.2*(N23-N21)+N21","v":20.378999999999998},{"$f":"O24","v":92.56049999999999},"d7",null,{"$f":"N26","v":74.205500000000001},{"$f":"O26","v":99.225499999999982},"d8",null,null,null,null,{"$f":"Y27+'طراحی همه الگوها'!U196","v":98.9},{"$f":"Z13-'طراحی همه الگوها'!U197","v":154.6},13,null,null,"صاف",null,null,"s10",{"$f":"AH16-('طراحی همه الگوها'!U196-'متغیرها '!C13*'متغیرها '!U83)*COS(AH15)","v":64.089565149904331},{"$f":"AI16+('طراحی همه الگوها'!U196-'متغیرها '!C13*'متغیرها '!U83)*SIN(AH15)","v":132.3200842868066},null,{"$f":"AH29","v":12.236720000000002},{"$f":"AI29","v":157.56735},"s14",null,"s'17",{"$f":"AO400","v":5},{"$f":"IF('متغیرها '!C22=-1,AL10,IF('متغیرها '!C22=0,AP400-0.1,AP400-0.25*(AP400-AP404)))","v":164.94499999999999},null,{"$f":"AP23","v":5},{"$f":"AQ23","v":120.2},"s'16",null,null,null,null,{"$f":"AZ22","v":48.9},{"$f":"BA22","v":91.7},5,null,{"$f":"BD17","v":36.67199999999999},{"$f":"BE15","v":0},21,null,"(3 →6)",{"$f":"ROUND(0.2*(BJ34-BJ30),1)","v":15.3},null,null,null,null,{"$f":"BJ29","v":5},{"$f":"BK34","v":13.254637141248679},14,null,{"$f":"BJ34","v":72.013794422664574},{"$f":"BK34","v":13.254637141248679},8,null,null,null,null,null,{"$f":"BZ15","v":94.5},{"$f":"CA15+'طراحی همه الگوها'!U257","v":99.4},9,null,{"$f":"BZ22","v":63.3},{"$f":"CA22","v":71.599999999999994},7,null,"41'",{"$f":"CI24+0.5*(CI27-CI24)","v":42.372500000000002},{"$f":"CJ27+0.7*(CJ24-CJ27)","v":74.244842081634019},null,null,null,null,null,null,null,null,null,null,20,{"$f":"CV12+CY12*SIN(RADIANS(CU25)+CU14)","v":{"$error":"#DIV/0!"}},{"$f":"CW12+CY12*COS(RADIANS(CU25)+CU14)","v":{"$error":"#DIV/0!"}},{"$f":"IF(CV13>CV25,ATAN((CW13-CW25)/(CV13-CV25)),ATAN((CW13-CW25)/(CV25-CV13)))","v":{"$error":"#DIV/0!"}},{"$f":"IF(CV13>CV25,(CV13-CV25)/COS(CX25),(CV25-CV13)/COS(CX25))","v":{"$error":"#DIV/0!"}},null,{"$f":"DE17","v":0},{"$f":"DF17","v":0},2,"نقطه دوم خط تقارن","مولفه افقی","مولفه عمودی","اسم نقطه "]
[null,null,null,null,null,null,null,null,null,{"$f":"F37","v":10.9},{"$f":"G37","v":171.9},"j6",null,{"$f":"0.9*(N23-N21)+N21","v":74.205500000000001},{"$f":"O24+0.5*(O23-O24)","v":99.225499999999982},"d8",null,{"$f":"N23","v":81.894999999999996},{"$f":"O23","v":105.89049999999999},"d4",null,null,null,null,{"$f":"Y27+'طراحی همه الگوها'!U196","v":98.9},{"$f":"Z13","v":175.2},12,null,{"$f":"AC18","v":36.400000000000006},{"$f":"Z12","v":0},15,null,"s12",{"$f":"AH25-'طراحی همه الگوها'!U198*SIN(AH15)","v":57.690772541350391},{"$f":"AI25-'طراحی همه الگوها'!U198*COS(AH15)","v":109.91594508993686},null,{"$f":"AH31","v":10.065704},{"$f":"AI31","v":138.88367500000001},"s15",null,"s'18",{"$f":"AP25+0.6*(AP22-AP25)","v":9.3420319999999997},{"$f":"AQ25-0.3*(AQ25-AQ22)","v":162.73170500000001},null,null,null,null,null,null,null,null,null,null,null,null,{"$f":"BD17","v":36.67199999999999},{"$f":"BE17","v":6.9},22,null,"(5 →7)",{"$f":"ROUND(0.2*(BJ34-BJ31),1)","v":11.7},null,null,null,null,{"$f":"BJ34","v":72.013794422664574},{"$f":"BK34","v":13.254637141248679},8,null,null,null,null,null,null,null,null,null,{"$f":"BZ13+'طراحی همه الگوها'!U249-'طراحی همه الگوها'!U256","v":-44},{"$f":"CA25","v":99.4},10,null,null,null,null,null,"41''",{"$f":"CI24+0.88*(CI27-CI24)","v":49.879400000000004},{"$f":"CJ27+0.3*(CJ24-CJ27)","v":34.676360892128869},null,{"$f":"CI12","v":12.236720000000002},{"$f":"CJ12","v":157.56735},"s3",null,null,null,null,null,null,22,{"$f":"CV12+CY12*SIN(RADIANS(CU26)+CU14)","v":{"$error":"#DIV/0!"}},{"$f":"CW12+CY12*COS(RADIANS(CU26)+CU14)","v":{"$error":"#DIV/0!"}},{"$f":"IF(CV13>CV26,ATAN((CW13-CW26)/(CV13-CV26)),ATAN((CW13-CW26)/(CV26-CV13)))","v":{"$error":"#DIV/0!"}},{"$f":"IF(CV13>CV26,(CV13-CV26)/COS(CX26),(CV26-CV13)/COS(CX26))","v":{"$error":"#DIV/0!"}},null,0,0,3,null,{"$f":"DA26+2*(SIN(ATAN((DA25-DA24)/(DB25-DB24)))*(DB26-DB24)+COS(ATAN((DA25-DA24)/(DB25-DB24)))*(DA24-DA26))*COS(ATAN((DA25-DA24)/(DB25-DB24)))","v":{"$error":"#DIV/0!"}},{"$f":"DB26-2*(SIN(ATAN((DA25-DA24)/(DB25-DB24)))*(DB26-DB24)+COS(ATAN((DA25-DA24)/(DB25-DB24)))*(DA24-DA26))*SIN(ATAN((DA25-DA24)/(DB25-DB24)))","v":{"$error":"#DIV/0!"}},{"$f":"DC26","v":3}]
[null,null,null,null,null,null,null,null,null,{"$f":"F39","v":7.2},{"$f":"G39","v":155.4},"j8",null,{"$f":"0.7*(N23-N21)+N21","v":58.826499999999996},{"$f":"O24+0.1*(O23-O24)","v":93.893499999999989},"d9",null,null,null,null,null,null,null,null,{"$f":"W35+'طراحی همه الگوها'!U189","v":78.8},{"$f":"Z13","v":175.2},3,null,{"$f":"AC18","v":36.400000000000006},{"$f":"AD18","v":5},16,null,"s11",{"$f":"AH34-'طراحی همه الگوها'!U197*SIN(AH15)","v":77.759439404018948},{"$f":"AI34-'طراحی همه الگوها'!U197*COS(AH15)","v":106.99214442039239},null,{"$f":"AH30","v":5},{"$f":"AI30","v":120.2},"s16",null,"s'19",{"$f":"AX39+('متغیرها '!C20*'متغیرها '!U83)*COS(AH15+RADIANS(AX38))","v":67.895641327950145},{"$f":"AY39-('متغیرها '!C20*'متغیرها '!U83)*SIN(AH15+RADIANS(AX38))","v":100.41878598592318},null,{"$f":"AP16","v":61.425614280093235},{"$f":"AQ16","v":106.88881303378008},"s'10",null,null,null,null,{"$f":"W35+'طراحی همه الگوها'!U216","v":110},{"$f":"BA18","v":124.1},10,null,null,null,null,null,null,"نقاط در چادر شماره 4",null,null,null,null,null,null,null,null,{"$f":"BJ29","v":5},{"$f":"BK29","v":171.9},1,null,null,null,null,null,{"$f":"BZ26","v":-44},{"$f":"CA17","v":95.5},11,null,{"$f":"CD23","v":25.3},{"$f":"CA17","v":95.5},19,null,"s13",{"$f":"CI30+0.5*'طراحی همه الگوها'!U249","v":52.25},{"$f":"CJ30","v":5},null,{"$f":"CI33","v":10.717479276367399},{"$f":"CJ33","v":113.91667327680909},"s'3",null,null,null,null,null,null,24,{"$f":"CV12+CY12*SIN(RADIANS(CU27)+CU14)","v":{"$error":"#DIV/0!"}},{"$f":"CW12+CY12*COS(RADIANS(CU27)+CU14)","v":{"$error":"#DIV/0!"}},{"$f":"IF(CV13>CV27,ATAN((CW13-CW27)/(CV13-CV27)),ATAN((CW13-CW27)/(CV27-CV13)))","v":{"$error":"#DIV/0!"}},{"$f":"IF(CV13>CV27,(CV13-CV27)/COS(CX27),(CV27-CV13)/COS(CX27))","v":{"$error":"#DIV/0!"}},null,0,0,4,null,{"$f":"DA27+2*(SIN(ATAN((DA25-DA24)/(DB25-DB24)))*(DB27-DB24)+COS(ATAN((DA25-DA24)/(DB25-DB24)))*(DA24-DA27))*COS(ATAN((DA25-DA24)/(DB25-DB24)))","v":{"$error":"#DIV/0!"}},{"$f":"DB27-2*(SIN(ATAN((DA25-DA24)/(DB25-DB24)))*(DB27-DB24)+COS(ATAN((DA25-DA24)/(DB25-DB24)))*(DA24-DA27))*SIN(ATAN((DA25-DA24)/(DB25-DB24)))","v":{"$error":"#DIV/0!"}},{"$f":"DC27","v":4}]
[null,null,null,null,null,null,null,null,null,null,null,null,null,{"$f":"N21","v":5},{"$f":"O12-1-0.013*(O22-O24)","v":98.827074999999994},"j'2",null,null,null,null,null,null,null,null,{"$f":"W35+'طراحی همه الگوها'!U189","v":78.8},{"$f":"Z13-'طراحی همه الگوها'!U198","v":151.89999999999998},14,null,{"$f":"AC12","v":36.400000000000006},{"$f":"AD12","v":30.6},17,null,"s13",{"$f":"AH17+'طراحی همه الگوها'!U189-0.5*'طراحی همه الگوها'!U190","v":76.149999999999991},{"$f":"AH43+AH42","v":5},null,null,null,null,null,"2'",{"$f":"AH17","v":5},{"$f":"AX33+AH42","v":5},null,{"$f":"AP27","v":67.895641327950145},{"$f":"AQ27","v":100.41878598592318},"s'19",null,null,null,null,{"$f":"BD13","v":172.8},{"$f":"BE13","v":124.1},13,null,{"$f":"W35","v":0},{"$f":"BA11","v":166.9},1,null,"افقی شبیه ساز","اسم نقطه ","مولفه افقی","مولفه عمودی","عمودی شبیه ساز",null,{"$f":"BL43","v":59.8},{"$f":"BL44","v":72.2},15,null,{"$f":"BJ36","v":74.932860659349558},{"$f":"BK36","v":101.96713934065046},10,null,null,null,null,null,{"$f":"BZ16","v":84},{"$f":"CA16","v":95.5},8,null,{"$f":"CD23","v":25.3},{"$f":"CE23","v":81},20,null,"s''17",{"$f":"CI11","v":5},{"$f":"IF('متغیرها '!C40=-1,CJ14,IF('متغیرها '!C40=0,CJ11-0.1,CJ11-0.25*(CJ11-CJ13)))","v":164.94499999999999},null,{"$f":"CI22","v":9.1982385527347965},{"$f":"CJ22","v":48.440658192022688},"s11",null,null,null,null,null,null,26,{"$f":"CV12+CY12*SIN(RADIANS(CU28)+CU14)","v":{"$error":"#DIV/0!"}},{"$f":"CW12+CY12*COS(RADIANS(CU28)+CU14)","v":{"$error":"#DIV/0!"}},{"$f":"IF(CV13>CV28,ATAN((CW13-CW28)/(CV13-CV28)),ATAN((CW13-CW28)/(CV28-CV13)))","v":{"$error":"#DIV/0!"}},{"$f":"IF(CV13>CV28,(CV13-CV28)/COS(CX28),(CV28-CV13)/COS(CX28))","v":{"$error":"#DIV/0!"}},null,{"$f":"DE18","v":0},{"$f":"DF18","v":0},5,null,{"$f":"DA28+2*(SIN(ATAN((DA25-DA24)/(DB25-DB24)))*(DB28-DB24)+COS(ATAN((DA25-DA24)/(DB25-DB24)))*(DA24-DA28))*COS(ATAN((DA25-DA24)/(DB25-DB24)))","v":{"$error":"#DIV/0!"}},{"$f":"DB28-2*(SIN(ATAN((DA25-DA24)/(DB25-DB24)))*(DB28-DB24)+COS(ATAN((DA25-DA24)/(DB25-DB24)))*(DA24-DA28))*SIN(ATAN((DA25-DA24)/(DB25-DB24)))","v":{"$error":"#DIV/0!"}},{"$f":"DC28","v":5}]
[null,null,null,null,null,null,null,null,null,{"$f":"F39","v":7.2},{"$f":"G39","v":155.4},"j8",null,null,null,null,null,null,null,null,null,null,null,null,null,null,null,null,null,null,null,null,"s14",{"$f":"AH11+AH40*COS(AH38)","v":12.236720000000002},{"$f":"AI11-AH40*SIN(AH38)","v":157.56735},null,{"$f":"AK23","v":12.236720000000002},{"$f":"AL23","v":157.56735},"s14",null,null,null,null,null,null,null,null,null,null,null,null,{"$f":"W35+'طراحی همه الگوها'!U211+'طراحی همه الگوها'!U219","v":179.3},{"$f":"BA18","v":124.1},12,null,{"$f":"W35+'طراحی همه الگوها'!U216","v":110},{"$f":"BA31","v":166.9},3,null,null,1,{"$f":"AH17","v":5},{"$f":"'طراحی همه الگوها'!U233+BL39+AH42","v":171.9},null,null,{"$f":"BN28+'طراحی همه الگوها'!U242","v":67.099999999999994},{"$f":"BO28","v":72.2},16,null,null,null,null,null,null,null,null,null,null,null,null,null,null,null,null,null,"s''18",{"$f":"CI28+0.5*(CI12-CI28)","v":8.6183600000000009},{"$f":"CJ28-0.3*(CJ28-CJ12)","v":162.73170500000001},null,null,null,null,null,null,null,null,null,null,28,{"$f":"CV12+CY12*SIN(RADIANS(CU29)+CU14)","v":{"$error":"#DIV/0!"}},{"$f":"CW12+CY12*COS(RADIANS(CU29)+CU14)","v":{"$error":"#DIV/0!"}},{"$f":"IF(CV13>CV29,ATAN((CW13-CW29)/(CV13-CV29)),ATAN((CW13-CW29)/(CV29-CV13)))","v":{"$error":"#DIV/0!"}},{"$f":"IF(CV13>CV29,(CV13-CV29)/COS(CX29),(CV29-CV13)/COS(CX29))","v":{"$error":"#DIV/0!"}}]
[null,null,null,null,null,null,null,null,null,{"$f":"F38","v":5},{"$f":"G38","v":155.4},"j7",null,null,null,null,null,null,null,null,null,null,null,null,{"$f":"Y27","v":78.8},{"$f":"Z13","v":175.2},3,null,{"$f":"AC20","v":68.2},{"$f":"Z12","v":0},18,null,"s16",{"$f":"AH13","v":5},{"$f":"AI13","v":120.2},null,{"$f":"AK29+0.32*(AK32-AK29)","v":28.368258277052192},{"$f":"AL32+0.5*(AL29-AL32)","v":142.41964566736112},null,null,null,null,null,null,{"$f":"AS28","v":67.895641327950145},{"$f":"AT28","v":100.41878598592318},"s'19",null,"شیفت افقی مچ",{"$f":"AZ18+10","v":120},null,{"$f":"AZ29","v":179.3},{"$f":"BA11","v":166.9},11,null,null,null,null,null,null,3,{"$f":"BJ29-'طراحی همه الگوها'!U234","v":-4.4000000000000004},{"$f":"BK29-'طراحی همه الگوها'!U232","v":-7.4000000000000057},null,null,{"$f":"BN28+'طراحی همه الگوها'!U242","v":67.099999999999994},{"$f":"BO28-'طراحی همه الگوها'!U245","v":50.2},19,null,{"$f":"BJ36","v":74.932860659349558},{"$f":"BK36","v":101.96713934065046},10,null,null,null,null,null,{"$f":"BZ13+'طراحی همه الگوها'!U260+'طراحی همه الگوها'!U262","v":102.6},{"$f":"CA25+BW44","v":106.4},13,null,{"$f":"CD24","v":50.6},{"$f":"CA17","v":95.5},21,null,2,{"$f":"CI14","v":5},{"$f":"BW42+AH42","v":5},null,{"$f":"CI24","v":32.494999999999997},103.92120297376289,"41شبیه ساز",null,null,null,null,null,null,30,{"$f":"CV12+CY12*SIN(RADIANS(CU30)+CU14)","v":{"$error":"#DIV/0!"}},{"$f":"CW12+CY12*COS(RADIANS(CU30)+CU14)","v":{"$error":"#DIV/0!"}},{"$f":"IF(CV13>CV30,ATAN((CW13-CW30)/(CV13-CV30)),ATAN((CW13-CW30)/(CV30-CV13)))","v":{"$error":"#DIV/0!"}},{"$f":"IF(CV13>CV30,(CV13-CV30)/COS(CX30),(CV30-CV13)/COS(CX30))","v":{"$error":"#DIV/0!"}},null,null,null,null,"یافتن راس سوم مثلث با داشتن دو راس و یک ضلع و یک زاویه"]
[null,null,null,null,null,"نقاط خروجی ",null,null,null,null,null,null,null,null,null,null,null,null,null,null,null,null,null,null,{"$f":"Y14","v":15.3},{"$f":"Z13","v":175.2},4,null,{"$f":"AC20","v":68.2},{"$f":"AD20","v":20.6},19,null,"s15",{"$f":"AH30+0.7*(AH29-AH30)","v":10.065704},{"$f":"AI30+0.5*(AI29-AI30)","v":138.88367500000001},null,{"$f":"AK29+0.67*(AK32-AK29)","v":46.012128267578035},{"$f":"AL32+0.2*(AL29-AL32)","v":133.33102306777778},null,null,null,null,null,null,{"$f":"AP17","v":55.097008588473635},{"$f":"AQ17","v":87.620153246446662},"s'11",null,"شیفت عمودی مچ",{"$f":"BA18-10","v":114.1},null,{"$f":"W35+'طراحی همه الگوها'!U216","v":110},{"$f":"BA11","v":166.9},3,null,{"$f":"AZ19","v":110},{"$f":"BA19","v":69.3},9,null,null,5,{"$f":"BJ29+'طراحی همه الگوها'!U235","v":13.7},{"$f":"BK29-'طراحی همه الگوها'!U233","v":5},null,null,null,null,null,null,{"$f":"BJ37","v":62.275649276110357},{"$f":"BK37","v":89.309927957411261},11,null,null,null,null,null,{"$f":"BZ13","v":0},{"$f":"CA30","v":106.4},12,null,{"$f":"CD24","v":50.6},{"$f":"CE24","v":76.3},22,null,"s''12",{"$f":"CI30","v":5},{"$f":"CJ24","v":103.92120297376289},null,42.372500000000002,74.244842081634019,"41'",null,null,null,null,null,null,32,{"$f":"CV12+CY12*SIN(RADIANS(CU31)+CU14)","v":{"$error":"#DIV/0!"}},{"$f":"CW12+CY12*COS(RADIANS(CU31)+CU14)","v":{"$error":"#DIV/0!"}},{"$f":"IF(CV13>CV31,ATAN((CW13-CW31)/(CV13-CV31)),ATAN((CW13-CW31)/(CV31-CV13)))","v":{"$error":"#DIV/0!"}},{"$f":"IF(CV13>CV31,(CV13-CV31)/COS(CX31),(CV31-CV13)/COS(CX31))","v":{"$error":"#DIV/0!"}},null,"اطلاعات  ورودی"]
[null,null,null,null,null,"مولفه افقی","مولفه عمودی","اسم نقطه",null,{"$f":"F39","v":7.2},{"$f":"G39","v":155.4},"j8",null,null,null,null,null,null,null,null,null,null,null,null,null,null,"نقاب",null,{"$f":"AC14","v":68.2},{"$f":"AD14","v":34.6},20,null,"s17",{"$f":"AO400","v":5},{"$f":"IF('متغیرها '!C14=-1,AL10,IF('متغیرها '!C14=0,AP400-0.1,AP400-0.25*(AP400-AP404)))","v":164.94499999999999},null,{"$f":"AH35","v":62.647777115788102},{"$f":"AI35","v":127.27194133472221},"s20",null,null,null,null,null,null,null,null,null,"زاویه گشادی نسبی جلو به پشت",33,null,{"$f":"W35+'طراحی همه الگوها'!U216","v":110},{"$f":"BA18","v":124.1},10,null,{"$f":"BD20","v":110},{"$f":"BE20","v":6.5},14,null,null,6,{"$f":"BJ30+BI25*COS(RADIANS('متغیرها '!C26))","v":10.87903188174498},{"$f":"BK30-BI25*SIN(RADIANS('متغیرها '!C26))","v":-8.2007401305170458},null,null,{"$f":"BN28+'طراحی همه الگوها'!U242","v":67.099999999999994},{"$f":"BO28+'طراحی همه الگوها'!U244","v":94.2},18,null,null,null,null,null,null,null,null,null,{"$f":"BZ13","v":0},{"$f":"CA31+'طراحی همه الگوها'!U258","v":119.80000000000001},18,null,null,null,null,null,"s'12",{"$f":"CI30","v":5},{"$f":"CJ23","v":107.82120297376289},null,49.879400000000004,34.676360892128869,"41''",null,null,null,null,null,null,34,{"$f":"CV12+CY12*SIN(RADIANS(CU32)+CU14)","v":{"$error":"#DIV/0!"}},{"$f":"CW12+CY12*COS(RADIANS(CU32)+CU14)","v":{"$error":"#DIV/0!"}},{"$f":"IF(CV13>CV32,ATAN((CW13-CW32)/(CV13-CV32)),ATAN((CW13-CW32)/(CV32-CV13)))","v":{"$error":"#DIV/0!"}},{"$f":"IF(CV13>CV32,(CV13-CV32)/COS(CX32),(CV32-CV13)/COS(CX32))","v":{"$error":"#DIV/0!"}},null,"مولفه افقی","مولفه عمودی","اسم نقطه ",null,"محاسبات "]
[null,null,null,null,null,{"$f":"F11","v":5},{"$f":"G20+'طراحی همه الگوها'!U177+G12","v":171.9},"j1",null,{"$f":"F41","v":7.2},{"$f":"G41","v":117.7},"j10",null,null,null,null,null,null,null,null,null,null,null,null,{"$f":"Y13","v":0},{"$f":"Z13","v":175.2},1,null,null,null,null,null,"s18",{"$f":"AH32+0.5*(AH29-AH32)","v":8.6183600000000009},{"$f":"AI32-0.3*(AI32-AI29)","v":162.73170500000001},null,null,null,null,null,null,null,null,null,{"$f":"AS31","v":55.097008588473635},{"$f":"AT31","v":87.620153246446662},"s'11",null,"j4",{"$f":"IF('متغیرها '!C17<1,'متغیرها '!C17*'متغیرها '!U59,IF('متغیرها '!C17<2,'متغیرها '!U59+('متغیرها '!C17-1)*('متغیرها '!U60-'متغیرها '!U59),IF('متغیرها '!C17<3,'متغیرها '!U60+('متغیرها '!C17-2)*(I105-'متغیرها '!U60),I105+('متغیرها '!C17-3)*(H127-H126))))","v":0},"چادر 3",null,null,null,null,null,null,null,null,null,7,{"$f":"BJ31+BI26*COS(RADIANS('متغیرها '!C26))","v":25.38396555662851},{"$f":"BK31+BI26*SIN(RADIANS('متغیرها '!C26))","v":5.6123306880424426},null,null,{"$f":"BN28+'طراحی همه الگوها'!U242","v":67.099999999999994},{"$f":"BO28","v":72.2},16,null,{"$f":"BJ37","v":62.275649276110357},{"$f":"BK37","v":89.309927957411261},11,null,null,null,null,null,{"$f":"BZ13","v":0},{"$f":"CA32+'طراحی همه الگوها'!U259","v":217},14,null,{"$f":"CD18","v":25.3},{"$f":"CA31","v":106.4},23,null,"s'3",{"$f":"CI22+0.5*(CI12-CI22)","v":10.717479276367399},{"$f":"CJ22+0.6*(CJ12-CJ22)","v":113.91667327680909},null,52.25,5,"s13",null,null,null,null,null,null,36,{"$f":"CV12+CY12*SIN(RADIANS(CU33)+CU14)","v":{"$error":"#DIV/0!"}},{"$f":"CW12+CY12*COS(RADIANS(CU33)+CU14)","v":{"$error":"#DIV/0!"}},{"$f":"IF(CV13>CV33,ATAN((CW13-CW33)/(CV13-CV33)),ATAN((CW13-CW33)/(CV33-CV13)))","v":{"$error":"#DIV/0!"}},{"$f":"IF(CV13>CV33,(CV13-CV33)/COS(CX33),(CV33-CV13)/COS(CX33))","v":{"$error":"#DIV/0!"}},null,5,50,1,"راس بالا",{"$f":"SQRT(POWER(DA34-DA33,2)+POWER(DB33-DB34,2))","v":10.198039027185569},"m2"]
[null,null,null,null,null,{"$f":"F33","v":5},{"$f":"G33-'طراحی همه الگوها'!U177","v":101},"j2",null,null,null,null,null,null,null,null,null,null,null,null,null,"محاسبات",null,null,{"$f":"Y13","v":0},{"$f":"Z13-'طراحی همه الگوها'!U205","v":169.29999999999998},21,null,null,null,null,null,"s19",{"$f":"AH16+'متغیرها '!C13*'متغیرها '!U83*COS(AH15)","v":83.416741023598831},{"$f":"AI16-'متغیرها '!C13*'متغیرها '!U83*SIN(AH15)","v":126.80009581333303},null,{"$f":"AH25","v":64.089565149904331},{"$f":"AI25","v":132.3200842868066},"s10",null,null,null,null,null,{"$f":"AP18","v":47.77845340319287},{"$f":"AQ18","v":93.241652156879709},"s'12",null,"(1 → 5)",{"$f":"W36-'متغیرها '!C19*'متغیرها '!U83","v":89.700979546124444},null,{"$f":"AX30","v":120},{"$f":"AX31","v":114.1},17,null,{"$f":"AZ18","v":110},{"$f":"BA18","v":124.1},10,null,null,8,{"$f":"BJ35+BL41*SIN(RADIANS('متغیرها '!C30))","v":72.013794422664574},{"$f":"BK35-BL41*COS(RADIANS('متغیرها '!C30))","v":13.254637141248679},null,null,{"$f":"BN28+'طراحی همه الگوها'!U242+'طراحی همه الگوها'!U243","v":74.399999999999991},{"$f":"BO28","v":72.2},17,null,{"$f":"BJ35","v":37.434464643271838},{"$f":"BK35","v":108.26056489000499},9,null,null,null,null,null,{"$f":"BZ13+'طراحی همه الگوها'!U263","v":126.5},{"$f":"CA33","v":217},15,null,{"$f":"CD18","v":25.3},{"$f":"CE18","v":120.9},24,null,null,null,null,null,null,null,null,null,null,null,null,null,null,38,{"$f":"CV12+CY12*SIN(RADIANS(CU34)+CU14)","v":{"$error":"#DIV/0!"}},{"$f":"CW12+CY12*COS(RADIANS(CU34)+CU14)","v":{"$error":"#DIV/0!"}},{"$f":"IF(CV13>CV34,ATAN((CW13-CW34)/(CV13-CV34)),ATAN((CW13-CW34)/(CV34-CV13)))","v":{"$error":"#DIV/0!"}},{"$f":"IF(CV13>CV34,(CV13-CV34)/COS(CX34),(CV34-CV13)/COS(CX34))","v":{"$error":"#DIV/0!"}},null,7,40,2,"راس پایین",{"$f":"ATAN((DA34-DA33)/(DB33-DB34))","v":0.19739555984988078},"γ18"]
[null,null,null,null,null,{"$f":"F33+'طراحی همه الگوها'!U178","v":17.399999999999999},{"$f":"G33","v":171.9},"j3",null,{"$f":"F41","v":7.2},{"$f":"G41","v":117.7},"j10",null,null,null,null,null,null,null,null,null,"مولفه افقی نقطه 1",{"$f":"0","v":0},null,{"$f":"Y14","v":15.3},{"$f":"Z14-'طراحی همه الگوها'!U206","v":171.1},22,null,null,null,null,null,"s20",{"$f":"AH25-0.25*'متغیرها '!U84*SIN(AH15)","v":62.647777115788102},{"$f":"AI25-0.25*'متغیرها '!U84*COS(AH15)","v":127.27194133472221},null,{"$f":"AH34","v":83.416741023598831},{"$f":"AI34","v":126.80009581333303},"s19",null,null,null,null,null,null,null,null,null,"زاویه مچ",15,null,{"$f":"AX30+'طراحی همه الگوها'!U224","v":129.19999999999999},{"$f":"AX31","v":114.1},18,null,{"$f":"BD13","v":172.8},{"$f":"BE13","v":124.1},13,null,{"$f":"BH37-BL45*SIN(BL46-RADIANS(45)+BL42)","v":24.561548940739065},9,{"$f":"BJ37-BL40*SIN(BL46-RADIANS(45)+BL42)","v":37.434464643271838},{"$f":"BK37+BL40*COS(BL46-RADIANS(45)+BL42)","v":108.26056489000499},{"$f":"BL37+BL45*COS(BL46-RADIANS(45)+BL42)","v":114.22489810621911},null,null,null,null,null,null,null,null,null,null,null,null,null,null,null,null,null,null,null,null,null,null,null,null,null,{"$f":"CI18","v":59.268938597474261},{"$f":"CJ18","v":109.04548871639906},"s''10",null,null,null,null,null,null,40,{"$f":"CV12+CY12*SIN(RADIANS(CU35)+CU14)","v":{"$error":"#DIV/0!"}},{"$f":"CW12+CY12*COS(RADIANS(CU35)+CU14)","v":{"$error":"#DIV/0!"}},{"$f":"IF(CV13>CV35,ATAN((CW13-CW35)/(CV13-CV35)),ATAN((CW13-CW35)/(CV35-CV13)))","v":{"$error":"#DIV/0!"}},{"$f":"IF(CV13>CV35,(CV13-CV35)/COS(CX35),(CV35-CV13)/COS(CX35))","v":{"$error":"#DIV/0!"}},null,10,"m4","ضلع بالا",null,{"$f":"RADIANS(90)-RADIANS(DE34)-DA36","v":1.829150512145848},"m5"]
[null,null,null,null,null,{"$f":"'طراحی همه الگوها'!U178+'طراحی همه الگوها'!U177+F33","v":88.300000000000011},{"$f":"G33","v":171.9},"j5",null,{"$f":"F40","v":5},{"$f":"G40","v":117.7},"j9",null,null,null,null,null,null,null,null,null,"نوک سر تا مچ دست شبیه ساز  a3",{"$f":"1.03*(SQRT(POWER(0.5*H168,2)+POWER((0.47*'متغیرها '!U85+H167*SIN('متغیرها '!B245)),2)))+'متغیرها '!U83","v":98.850979546124449},null,null,null,null,null,null,null,null,null,null,null,null,null,null,null,null,null,null,null,null,null,{"$f":"AS34","v":47.77845340319287},{"$f":"AT34","v":93.241652156879709},"s'12",null," شبیه سازαk1",{"$f":"F423","v":1.4263052264771685},null,{"$f":"AX30+'طراحی همه الگوها'!U224","v":129.19999999999999},{"$f":"AX31-'طراحی همه الگوها'!U226","v":96},20,null,null,null,null,null,{"$f":"BJ29+W36*COS(RADIANS(45))","v":74.898197963997305},10,{"$f":"BJ29+'طراحی همه الگوها'!U236*COS(RADIANS(45))","v":74.932860659349558},{"$f":"BK29-'طراحی همه الگوها'!U236*SIN(RADIANS(45))","v":101.96713934065046},{"$f":"BK29-W36*SIN(RADIANS(45))","v":102.0018020360027},null,{"$f":"BJ36","v":74.932860659349558},{"$f":"BK36","v":101.96713934065046},10,null,{"$f":"BJ35","v":37.434464643271838},{"$f":"BK35","v":108.26056489000499},9,null,null,null,null,null,{"$f":"BZ31+'طراحی همه الگوها'!U260","v":63.3},{"$f":"CA31","v":106.4},16,null,{"$f":"CD19","v":50.6},{"$f":"CA31","v":106.4},25,null,null,null,null,null,{"$f":"CI19","v":67.895641327950145},{"$f":"CJ19","v":100.41878598592318},"k4 شبیه ساز",null,null,null,null,null,null,42,{"$f":"CV12+CY12*SIN(RADIANS(CU36)+CU14)","v":{"$error":"#DIV/0!"}},{"$f":"CW12+CY12*COS(RADIANS(CU36)+CU14)","v":{"$error":"#DIV/0!"}},{"$f":"IF(CV13>CV36,ATAN((CW13-CW36)/(CV13-CV36)),ATAN((CW13-CW36)/(CV36-CV13)))","v":{"$error":"#DIV/0!"}},{"$f":"IF(CV13>CV36,(CV13-CV36)/COS(CX36),(CV36-CV13)/COS(CX36))","v":{"$error":"#DIV/0!"}},null,{"$f":"RADIANS(-15)","v":-0.26179938779914941},"m1","زاویه ضلع پایین با افق به رادیان ساعتگرزیر افق عدد مثبت",null,{"$f":"DA35*COS(DE37)-DE33*COS(DE35)","v":4.2754038455317325},"m7"]
[null,null,null,null,null,{"$f":"'طراحی همه الگوها'!U179+F33","v":10.9},{"$f":"G33","v":171.9},"j6",null,null,null,null,null,null,null,null,null,null,null,null,null,null,null,null,null,null,null,null,null,null,null,null,"محاسبات طراحی چادر 2",null,null,null,{"$f":"AK35","v":83.416741023598831},{"$f":"AL35","v":126.80009581333303},"s19",null,null,null,null,null,{"$f":"AP16","v":61.425614280093235},{"$f":"AQ16","v":106.88881303378008},"s'10",null,"(k4 →k5)شبیه ساز",{"$f":"F425","v":12.09893945355477},null,{"$f":"AX30","v":120},{"$f":"AX31-'طراحی همه الگوها'!U225","v":94.8},19,null,{"$f":"AZ35","v":129.19999999999999},{"$f":"BA35","v":114.1},18,null,{"$f":"BH36-'متغیرها '!U84*COS(RADIANS(45))","v":60.048955559079808},11,{"$f":"BJ36-'طراحی همه الگوها'!U237*COS(RADIANS(45))","v":62.275649276110357},{"$f":"BK36-'طراحی همه الگوها'!U237*SIN(RADIANS(45))","v":89.309927957411261},{"$f":"BL36-'متغیرها '!U84*SIN(RADIANS(45))","v":87.152559631085211},null,null,null,null,null,{"$f":"BJ34","v":72.013794422664574},{"$f":"BK34","v":13.254637141248679},8,null,null,null,null,null,{"$f":"BZ36","v":63.3},{"$f":"CA31+'طراحی همه الگوها'!U261","v":130.30000000000001},17,null,{"$f":"CD19","v":50.6},{"$f":"CE19","v":125.60000000000001},26,null,null,null,null,null,null,null,null,null,null,null,null,null,null,44,{"$f":"CV12+CY12*SIN(RADIANS(CU37)+CU14)","v":{"$error":"#DIV/0!"}},{"$f":"CW12+CY12*COS(RADIANS(CU37)+CU14)","v":{"$error":"#DIV/0!"}},{"$f":"IF(CV13>CV37,ATAN((CW13-CW37)/(CV13-CV37)),ATAN((CW13-CW37)/(CV37-CV13)))","v":{"$error":"#DIV/0!"}},{"$f":"IF(CV13>CV37,(CV13-CV37)/COS(CX37),(CV37-CV13)/COS(CX37))","v":{"$error":"#DIV/0!"}},null,"راس سوم",null,null,null,{"$f":"ASIN(DE38/DA35)","v":1.4030193189660189},"m8"]
[null,null,null,null,null,{"$f":"F33","v":5},{"$f":"G39","v":155.4},"j7",null,{"$f":"F40","v":5},{"$f":"G40","v":117.7},"j9",null,null,null,null,null,null,null,null,null,null,null,null,null,null,null,null,null,null,null,null,"αs2",{"$f":"ATAN((AI11-AI12)/(AH12-AH11))","v":1.201449433003174},null,null,{"$f":"AH27","v":77.759439404018948},{"$f":"AI27","v":106.99214442039239},"s11",null,null,null,null,null,null,null,null,null,"زاویه خم بودن دست",{"$f":"K390","v":29.060255136627845},null,{"$f":"AX30","v":120},{"$f":"AX31","v":114.1},17,null,null,null,null,null,null,null,null,null,null,null,null,null,null,null,null,null,null,null,null,null,null,null,null,null,null,null,null,null,null,null,null,null,null,null,{"$f":"CI27","v":52.25},{"$f":"CJ27","v":5},"s13",null,null,null,null,null,null,46,{"$f":"CV12+CY12*SIN(RADIANS(CU38)+CU14)","v":{"$error":"#DIV/0!"}},{"$f":"CW12+CY12*COS(RADIANS(CU38)+CU14)","v":{"$error":"#DIV/0!"}},{"$f":"IF(CV13>CV38,ATAN((CW13-CW38)/(CV13-CV38)),ATAN((CW13-CW38)/(CV38-CV13)))","v":{"$error":"#DIV/0!"}},{"$f":"IF(CV13>CV38,(CV13-CV38)/COS(CX38),(CV38-CV13)/COS(CX38))","v":{"$error":"#DIV/0!"}},null,{"$f":"DA34+DE36*COS(DA36)","v":11.129722992214699},{"$f":"DB34-DE36*SIN(DA36)","v":41.106555940728171},3,null,{"$f":"DE33*SIN(DE35)","v":9.8595842240901757},"m9"]
[null,null,null,null,null,{"$f":"'طراحی همه الگوها'!U181+F33","v":7.2},{"$f":"G33-'طراحی همه الگوها'!U180","v":155.4},"j8",null,{"$f":"F38","v":5},{"$f":"G38","v":155.4},"j7",null,null,null,null,null,null,null,null,null,null,null,null,null,null,null,null,null,null,null,null,"(s2 →s3)",{"$f":"SQRT(POWER((AH12-AH11),2)+POWER((AI11-AI12),2))","v":6.0137873531296622},null,null,null,null,null,null,null,null,null,null,{"$f":"AP21","v":81.399999999999977},{"$f":"AQ21","v":5},"s'13",null,"دست خمیده شبیه ساز k4",{"$f":"K384","v":67.895641327950145},{"$f":"L384","v":100.41878598592318},null,null,null,null,null,null,null,null,null,null,null,"j4",{"$f":"IF('متغیرها '!C25<1,'متغیرها '!C25*'متغیرها '!U59,IF('متغیرها '!C25<2,'متغیرها '!U59+('متغیرها '!C25-1)*('متغیرها '!U60-'متغیرها '!U59),IF('متغیرها '!C25<3,'متغیرها '!U60+('متغیرها '!C25-2)*(I105-'متغیرها '!U60),I105+('متغیرها '!C25-3)*(H127-H126))))","v":0},null,null,null,null,null,{"$f":"BJ29","v":5},{"$f":"BK29","v":171.9},1,null,null,null,null,null,{"$f":"BZ13","v":0},{"$f":"CA33-BW43","v":204.61},"19'",null,{"$f":"CD13","v":120.52500000000001},{"$f":"CA33","v":217},27,null,null,null,null,null,{"$f":"CI30","v":5},{"$f":"CJ30","v":5},2,null,null,null,null,null,null,48,{"$f":"CV12+CY12*SIN(RADIANS(CU39)+CU14)","v":{"$error":"#DIV/0!"}},{"$f":"CW12+CY12*COS(RADIANS(CU39)+CU14)","v":{"$error":"#DIV/0!"}},{"$f":"IF(CV13>CV39,ATAN((CW13-CW39)/(CV13-CV39)),ATAN((CW13-CW39)/(CV39-CV13)))","v":{"$error":"#DIV/0!"}},{"$f":"IF(CV13>CV39,(CV13-CV39)/COS(CX39),(CV39-CV13)/COS(CX39))","v":{"$error":"#DIV/0!"}}]
[null,null,null,null,null,{"$f":"F33","v":5},{"$f":"G41","v":117.7},"j9",null,null,null,"انحنا",null,null,null,null,null,null,null,null,null,null,null,null,null,null,null,null,null,null,null,null,"(s2 →s14)",{"$f":"AH39*2*('متغیرها '!C10-0.5)","v":6.0137873531296622},null,null,{"$f":"AK38","v":77.759439404018948},{"$f":"AL38","v":106.99214442039239},"s11",null,null,null,null,null,{"$f":"AP28","v":5},{"$f":"AQ28","v":5},"2'",null,null,null,null,null,null,null,null,null,null,null,null,null,null,null,"(9→11)",{"$f":"'متغیرها '!C29*BL45+'متغیرها '!C27*'متغیرها '!U83","v":31.244376999930047},null,null,null,null,null,{"$f":"BJ30","v":-4.4000000000000004},{"$f":"BK30","v":-7.4000000000000057},3,null,null,null,null,null,null,null,null,null,{"$f":"CD13","v":120.52500000000001},{"$f":"CE13","v":161.69999999999999},28,null,null,null,null,null,null,null,null,null,null,null,null,null,null,50,{"$f":"CV12+CY12*SIN(RADIANS(CU40)+CU14)","v":{"$error":"#DIV/0!"}},{"$f":"CW12+CY12*COS(RADIANS(CU40)+CU14)","v":{"$error":"#DIV/0!"}},{"$f":"IF(CV13>CV40,ATAN((CW13-CW40)/(CV13-CV40)),ATAN((CW13-CW40)/(CV40-CV13)))","v":{"$error":"#DIV/0!"}},{"$f":"IF(CV13>CV40,(CV13-CV40)/COS(CX40),(CV40-CV13)/COS(CX40))","v":{"$error":"#DIV/0!"}}]
[null,null,null,null,null,{"$f":"F39","v":7.2},{"$f":"G38-'طراحی همه الگوها'!U182","v":117.7},"j10",null,{"$f":"F36","v":88.300000000000011},{"$f":"G36","v":171.9},"j5",null,null,null,null,null,null,null,null,null,null,null,null,null,null,null,null,null,null,null,null,"شیفت افقی کل ",{"$f":"'متغیرها '!C51","v":5},null,null,{"$f":"AH26","v":57.690772541350391},{"$f":"AI26","v":109.91594508993686},"s12",null,null,null,null,null,null,null,null,null,null,null,null,null,null,null,null,null,null,null,null,null,null,null,"(8→9)",{"$f":"BL37+'متغیرها '!C29*BL45*COS(BL46-RADIANS(45)+BL42)-BK31","v":101.10319656367894},null,null,null,null,null,null,null,null,null,null,null,null,null,null,null,null,null,null,null,null,null,null,null,null,null,{"$f":"CL39","v":5},{"$f":"CM39","v":5},2,null,null,null,null,null,null,52,{"$f":"CV12+CY12*SIN(RADIANS(CU41)+CU14)","v":{"$error":"#DIV/0!"}},{"$f":"CW12+CY12*COS(RADIANS(CU41)+CU14)","v":{"$error":"#DIV/0!"}},{"$f":"IF(CV13>CV41,ATAN((CW13-CW41)/(CV13-CV41)),ATAN((CW13-CW41)/(CV41-CV13)))","v":{"$error":"#DIV/0!"}},{"$f":"IF(CV13>CV41,(CV13-CV41)/COS(CX41),(CV41-CV13)/COS(CX41))","v":{"$error":"#DIV/0!"}}]
[null,null,null,null,null,{"$f":"F35+'طراحی همه الگوها'!U183","v":28},{"$f":"G33","v":171.9},"j11",null,{"$f":"F45","v":86.173000000000002},156.30200000000002,"j5'",null,null,null,null,null,null,null,null,null,null,null,null,null,null,null,null,null,null,null,null,"شیفت عمودی کل",{"$f":"'متغیرها '!C52","v":5},null,null,null,null,null,null,null,null,null,null,{"$f":"AS40","v":5},{"$f":"AT40","v":5},"2'",null,null,null,null,null,null,null,null,null,null,null,null,null,null,null,"α2",{"$f":"'متغیرها '!B245","v":0.27820102979369776},null,null,null,null,null,{"$f":"BN28","v":59.8},{"$f":"BO28","v":72.2},15,null,"j4",{"$f":"IF('متغیرها '!C37<1,'متغیرها '!C37*'متغیرها '!U59,IF('متغیرها '!C37<2,'متغیرها '!U59+('متغیرها '!C37-1)*('متغیرها '!U60-'متغیرها '!U59),IF('متغیرها '!C37<3,'متغیرها '!U60+('متغیرها '!C37-2)*(I105-'متغیرها '!U60),I105+('متغیرها '!C37-3)*(H127-H126))))","v":0},null,null,null,null,null,null,null,null,null,null,null,null,null,null,{"$f":"CI31","v":5},{"$f":"CJ31","v":103.92120297376289},"s''12",null,null,null,null,null,null,54,{"$f":"CV12+CY12*SIN(RADIANS(CU42)+CU14)","v":{"$error":"#DIV/0!"}},{"$f":"CW12+CY12*COS(RADIANS(CU42)+CU14)","v":{"$error":"#DIV/0!"}},{"$f":"IF(CV13>CV42,ATAN((CW13-CW42)/(CV13-CV42)),ATAN((CW13-CW42)/(CV42-CV13)))","v":{"$error":"#DIV/0!"}},{"$f":"IF(CV13>CV42,(CV13-CV42)/COS(CX42),(CV42-CV13)/COS(CX42))","v":{"$error":"#DIV/0!"}}]
[null,null,null,null,null,{"$f":"F35","v":17.399999999999999},{"$f":"G33-'طراحی همه الگوها'!U184","v":163},"j12",null,77.664999999999992,136.44999999999999,"j5''",null,null,null,null,null,null,null,null,null,null,null,null,null,null,null,null,null,null,null,null,"j4",{"$f":"IF('متغیرها '!C9<1,'متغیرها '!C9*'متغیرها '!U59,IF('متغیرها '!C9<2,'متغیرها '!U59+('متغیرها '!C9-1)*('متغیرها '!U60-'متغیرها '!U59),IF('متغیرها '!C9<3,'متغیرها '!U60+('متغیرها '!C9-2)*(I105-'متغیرها '!U60),I105+('متغیرها '!C9-3)*(H127-H126))))","v":0},"چادر 2",null,{"$f":"AK41","v":57.690772541350391},{"$f":"AL41","v":109.91594508993686},"s12",null,null,null,null,null,{"$f":"AH13","v":5},{"$f":"AI13","v":120.2},"خط سینه",null,null,null,null,null,null,null,null,null,null,null,null,null,null,null,"شیفت افقی مرغک",{"$f":"'متغیرها '!C33*0.5*('متغیرها '!U72-'متغیرها '!U73)","v":59.8},null,null,null,null,null,{"$f":"BN32","v":67.099999999999994},{"$f":"BO32","v":94.2},18,null,"(14 →19')",{"$f":"AH45+0.1*'متغیرها '!C40","v":12.389999999999999},null,null,"رسم چادر شماره 5   برای پرینت",null,null,null,null,null,null,null,null,null,null,null,null,null,null,null,null,null,null,null,null,56,{"$f":"CV12+CY12*SIN(RADIANS(CU43)+CU14)","v":{"$error":"#DIV/0!"}},{"$f":"CW12+CY12*COS(RADIANS(CU43)+CU14)","v":{"$error":"#DIV/0!"}},{"$f":"IF(CV13>CV43,ATAN((CW13-CW43)/(CV13-CV43)),ATAN((CW13-CW43)/(CV43-CV13)))","v":{"$error":"#DIV/0!"}},{"$f":"IF(CV13>CV43,(CV13-CV43)/COS(CX43),(CV43-CV13)/COS(CX43))","v":{"$error":"#DIV/0!"}}]
[null,null,null,null,null,{"$f":"F35","v":17.399999999999999},{"$f":"G34","v":101},"j13",null,59.94,117.307,"j5'''",null,null,null,null,null,null,null,null,null,null,null,null,null,null,null,null,null,null,null,null,"(j1 → j2)",{"$f":"ROUND(G19+0.1*'متغیرها '!U85-AH43,1)","v":166.9},null,null,{"$f":"AH25","v":64.089565149904331},{"$f":"AI25","v":132.3200842868066},"s10",null,null,null,null,null,null,null,null,null,null,null,null,null,null,null,null,null,null,null,null,null,null,null,"شیفت عمودی مرغک",{"$f":"IF('متغیرها '!C34<1,'متغیرها '!C34*'متغیرها '!U59,IF('متغیرها '!C34<2,'متغیرها '!U59+('متغیرها '!C34-1)*('متغیرها '!U60-'متغیرها '!U59),IF('متغیرها '!C34<3,'متغیرها '!U60+('متغیرها '!C34-2)*(I105-'متغیرها '!U60),I105+('متغیرها '!C34-3)*(H127-H126))))+'طراحی همه الگوها'!U245","v":72.2},null,null,null,null,null,null,null,null,null,"شیفت عمودی الگو دسته",7,null,null,null,"صاف","برای پرینت",null,null,"انحنا","برای پرینت",null,null,null,null,null,{"$f":"CL42","v":5},{"$f":"CM42","v":103.92120297376289},"s''12",null,null,null,null,null,null,58,{"$f":"CV12+CY12*SIN(RADIANS(CU44)+CU14)","v":{"$error":"#DIV/0!"}},{"$f":"CW12+CY12*COS(RADIANS(CU44)+CU14)","v":{"$error":"#DIV/0!"}},{"$f":"IF(CV13>CV44,ATAN((CW13-CW44)/(CV13-CV44)),ATAN((CW13-CW44)/(CV44-CV13)))","v":{"$error":"#DIV/0!"}},{"$f":"IF(CV13>CV44,(CV13-CV44)/COS(CX44),(CV44-CV13)/COS(CX44))","v":{"$error":"#DIV/0!"}}]
[null,null,null,null,null,{"$f":"F44+0.97*(F36-F44)","v":86.173000000000002},{"$f":"G44+0.78*(G36-G44)","v":156.30200000000002},"j5'",null,35.125,103.836,"j5''''",null,null,null,null,null,null,null,null,null,null,null,null,null,null,null,null,null,null,null,null,"(j1 → j3)",{"$f":"0.21*G13","v":12.389999999999999},"بدون انتخاب",null,null,null,null,null,null,null,null,null,null,null,null,null,null,null,null,null,null,null,null,null,null,null,null,null,null,null,"شبیه ساز آستین(3→19)",{"$f":"BL516","v":44.634824285614357},null,null,null,null,null,{"$f":"BN34","v":74.399999999999991},{"$f":"BO34","v":72.2},17,null,"شیفت عمودی الگو دسته برای پرینت",{"$f":"-'متغیرها '!U56","v":-95.5},null,null,{"$f":"BZ13+'طراحی همه الگوها'!U260+'طراحی همه الگوها'!U262","v":102.6},{"$f":"CA25+BW45","v":3.9000000000000057},13,null,{"$f":"BZ45","v":102.6},{"$f":"CA45","v":3.9000000000000057},13,null,null,null,null,null,{"$f":"CI32","v":5},{"$f":"CJ32","v":107.82120297376289},"s'12",null,null,null,null,null,null,60,{"$f":"CV12+CY12*SIN(RADIANS(CU45)+CU14)","v":{"$error":"#DIV/0!"}},{"$f":"CW12+CY12*COS(RADIANS(CU45)+CU14)","v":{"$error":"#DIV/0!"}},{"$f":"IF(CV13>CV45,ATAN((CW13-CW45)/(CV13-CV45)),ATAN((CW13-CW45)/(CV45-CV13)))","v":{"$error":"#DIV/0!"}},{"$f":"IF(CV13>CV45,(CV13-CV45)/COS(CX45),(CV45-CV13)/COS(CX45))","v":{"$error":"#DIV/0!"}}]
[null,null,null,null,null,{"$f":"F44+0.85*(F36-F44)","v":77.664999999999992},{"$f":"G44+0.5*(G36-G44)","v":136.44999999999999},"j5''",null,{"$f":"F44","v":17.399999999999999},{"$f":"G44","v":101},"j13",null,null,null,null,null,null,null,null,null,null,null,null,null,null,null,null,null,null,null,null,null,null,null,null,{"$f":"AH28","v":76.149999999999991},{"$f":"AI28","v":5},"s13",null,null,null,null,null,null,null,null,null,null,null,null,null,null,null,null,null,null,null,null,null,null,null," شبیه سازαk1",{"$f":"F423","v":1.4263052264771685},null,null,null,null,null,{"$f":"BN30","v":67.099999999999994},{"$f":"BO30","v":50.2},19,null,null,null,null,null,{"$f":"BZ13","v":0},{"$f":"CA45","v":3.9000000000000057},12,null,{"$f":"CD45+0.45*(CD49-CD45)","v":113.35499999999999},{"$f":"CE45+0.25*(CE49-CE45)","v":31.550000000000004},"13'",null,null,null,null,null,null,null,null,null,null,null,null,null,null,62,{"$f":"CV12+CY12*SIN(RADIANS(CU46)+CU14)","v":{"$error":"#DIV/0!"}},{"$f":"CW12+CY12*COS(RADIANS(CU46)+CU14)","v":{"$error":"#DIV/0!"}},{"$f":"IF(CV13>CV46,ATAN((CW13-CW46)/(CV13-CV46)),ATAN((CW13-CW46)/(CV46-CV13)))","v":{"$error":"#DIV/0!"}},{"$f":"IF(CV13>CV46,(CV13-CV46)/COS(CX46),(CV46-CV13)/COS(CX46))","v":{"$error":"#DIV/0!"}}]
[null,null,null,null,null,{"$f":"F44+0.6*(F36-F44)","v":59.94},{"$f":"G44+0.23*(G36-G44)","v":117.307},"j5'''",null,{"$f":"F34","v":5},{"$f":"G34","v":101},"j2",null,null,null,null,null,null,null,null,null,null,null,null,null,null,null,null,null,null,null,null,null,null,null,null,{"$f":"AH17","v":5},{"$f":"AI28","v":5},2,null,null,null,null,null,null,null,null,null,null,null,null,null,null,null,null,null,null,null,null,null,null,null,null,null,null,null,null,null,null,null,null,null,null,null,null,null,null,{"$f":"BZ13","v":0},{"$f":"CA46+'طراحی همه الگوها'!U258","v":17.300000000000004},18,null,{"$f":"CD45+0.75*(CD49-CD45)","v":120.52500000000001},{"$f":"CE45+0.5*(CE49-CE45)","v":59.2},"13''",null,null,null,null,null,{"$f":"CL45","v":5},{"$f":"CM45","v":107.82120297376289},"s'12",null,null,null,null,null,null,64,{"$f":"CV12+CY12*SIN(RADIANS(CU47)+CU14)","v":{"$error":"#DIV/0!"}},{"$f":"CW12+CY12*COS(RADIANS(CU47)+CU14)","v":{"$error":"#DIV/0!"}},{"$f":"IF(CV13>CV47,ATAN((CW13-CW47)/(CV13-CV47)),ATAN((CW13-CW47)/(CV47-CV13)))","v":{"$error":"#DIV/0!"}},{"$f":"IF(CV13>CV47,(CV13-CV47)/COS(CX47),(CV47-CV13)/COS(CX47))","v":{"$error":"#DIV/0!"}}]
[null,null,null,null,null,{"$f":"F44+0.25*(F36-F44)","v":35.125},{"$f":"G44+0.04*(G36-G44)","v":103.836},"j5''''",null,null,null,null,null,null,null,null,null,null,null,null,null,null,null,null,null,null,null,null,null,null,null,null,null,null,null,null,null,null,null,null,null,null,null,null,null,null,null,null,null,null,null,null,null,null,null,null,null,null,null,null,null,null,null,null,null,null,null,null,null,{"$f":"BN28","v":59.8},{"$f":"BO28","v":72.2},15,null,null,null,null,null,{"$f":"BZ13","v":0},{"$f":"CA47+'طراحی همه الگوها'!U259","v":114.5},14,null,{"$f":"CD45+0.95*(CD49-CD45)","v":125.30500000000001},{"$f":"CE45+0.8*(CE49-CE45)","v":92.38000000000001},"13'''",null,null,null,null,null,{"$f":"CI23","v":32.494999999999997},{"$f":"CJ23","v":107.82120297376289},"s12",null,null,null,null,null,null,"بهینه α",{"$f":"IF(CY13<CY16,CU16,IF(CY13<CY17,CU17,IF(CY13<CY18,CU18,IF(CY13<CY19,CU19,IF(CY13<CY20,CU20,IF(CY13<CY21,CU21,IF(CY13<CY22,CU22,IF(CY13<CY23,CU23,IF(CY13<CY24,CU24,IF(CY13<CY25,CU25,IF(CY13<CY26,CU26,IF(CY13<CY27,CU27,IF(CY13<CY28,CU28,IF(CY13<CY29,CU29,IF(CY13<CY30,CU30,IF(CY13<CY31,CU31,IF(CY13<CY32,CU32,IF(CY13<CY33,CU33,IF(CY13<CY34,CU34,IF(CY13<CY35,CU35,IF(CY13<CY36,CU36,IF(CY13<CY37,CU37,IF(CY13<CY38,CU38,IF(CY13<CY39,CU39,IF(CY13<CY40,CU40,IF(CY13<CY41,CU41,IF(CY13<CY42,CU42,IF(CY13<CY43,CU43,IF(CY13<CY44,CU44,IF(CY13<CY45,CU45,IF(CY13<CY46,CU46,CU47)))))))))))))))))))))))))))))))","v":{"$error":"#DIV/0!"}},{"$f":"RADIANS(CV48)","v":{"$error":"#DIV/0!"}},"c21",{"$f":"IF(CV13>CV50,ATAN((CW13-CW50)/(CV13-CV50)),ATAN((CW13-CW50)/(CV50-CV13)))","v":{"$error":"#DIV/0!"}}]
[null,null,null,null,null,null,null,null,null,null,null,null,null,null,null,null,null,null,null,null,null,null,null,null,null,null,null,null,null,null,null,null,null,null,null,null,{"$f":"AK47","v":5},{"$f":"AL47","v":5},2,null,null,null,null,null,null,null,null,null,null,null,null,null,null,null,null,null,null,null,null,null,null,null,null,null,null,null,null,null,null,{"$f":"BN30","v":67.099999999999994},{"$f":"BO30","v":50.2},19,null,null,null,null,null,{"$f":"BZ13+'طراحی همه الگوها'!U263","v":126.5},{"$f":"CA48","v":114.5},15,null,{"$f":"BZ49","v":126.5},{"$f":"CA49","v":114.5},15,null,null,null,null,null,null,null,null,null,null,null,null,null,null,null,"مولفه افقی","مولفه عمودی",null,null,null,null,null,null,"پروسیجرها"]
[null,null,null,null,null,null,null,null,null,null,null,null,null,null,null,null,null,null,null,null,null,null,null,null,null,null,null,null,null,null,null,null,null,null,null,null,{"$f":"AH13","v":5},{"$f":"AI13","v":120.2},"خط سینه",null,null,null,null,null,null,null,null,null,null,null,null,null,null,null,null,null,null,null,null,null,null,null,null,null,null,null,null,null,null,null,null,null,null,null,null,null,null,null,null,null,null,null,null,null,null,null,null,null,null,{"$f":"CL48","v":32.494999999999997},{"$f":"CM48","v":107.82120297376289},"s12",null,null,null,null,null,null,"e23",{"$f":"CV12+CY12*SIN(CW48+CU14)","v":{"$error":"#DIV/0!"}},{"$f":"CW12+CY12*COS(CW48+CU14)","v":{"$error":"#DIV/0!"}},"راس سوم "]
[null,null,null,null,null,null,null,null,null,null,"محاسبات بافت",null,null,null,null,null,null,null,null,null,null,null,null,null,null,null,null,null,null,null,null,null,null,null,null,null,null,null,null,null,null,null,null,null,null,null,null,null,null,null,null,null,null,null,null,null,null,null,null,null,null,null,null,null,null,null,null,null,null,{"$f":"BN34","v":74.399999999999991},{"$f":"BO34","v":72.2},17,null,null,null,null,null,{"$f":"CD54","v":63.3},{"$f":"CA46","v":3.9000000000000057},16,null,{"$f":"BZ47","v":0},{"$f":"CA47","v":17.300000000000004},18,null,null,null,null,null,{"$f":"CI24","v":32.494999999999997},{"$f":"CJ24","v":103.92120297376289},"41 شبیه ساز"]
[null,null,null,null,null,null,null,null,null,null,null,null,null,null,null,null,null,null,null,null,null,null,null,null,null,null,null,null,null,null,null,null,null,null,null,null,null,null,null,null,null,null,null,null,null,null,null,null,null,null,null,null,null,null,null,null,null,null,null,null,null,null,null,null,null,null,null,null,null,{"$f":"BN32","v":67.099999999999994},{"$f":"BO32","v":94.2},18,null,null,null,null,null,null,null,null,null,{"$f":"CD18","v":25.3},{"$f":"CA46+'طراحی همه الگوها'!U269","v":18.400000000000006},24]
[null,null,null,null,"متغیرهای ورودی مربوط به ضخامت میل (متناسب با ضخامت نخ)",null,null,"متغیرهای ورودی  یقه ب ب گرد بافت همه از زیر",null,null,"متغیرهای ورودی  یقه شکاری کشباف",null,null,"  متغیر محاسبه ای یقه انگلیسی ",null,null,"متغیرهای ورودی یقه شومیزیه بافت همه از زیر",null,null,null,null,null,null,null,null,null,null,null,null,null,null,null,null,null,null,null,null,null,null,null,null,null,null,null,null,null,null,null,null,null,null,null,null,null,null,null,null,null,null,null,null,null,null,null,null,null,null,null,null,null,null,null,null,null,null,null,null,null,null,null,null,{"$f":"CD19","v":50.6},{"$f":"CA46+'طراحی همه الگوها'!U271","v":23.100000000000005},26,null,null,null,null,null,{"$f":"CL51","v":32.494999999999997},{"$f":"CM51","v":103.92120297376289},"41 شبیه ساز"]
[null,null,null,null,"  (بدون احتساب بافت انتخابی)      a'0 ضریب تعداد رج",{"$f":"IF(F56=2,N68,IF(F56=3,O68,P68))","v":2.8},null,{"$f":"ROUND(I60*G167,1)","v":14.4},"پهنا (cm)=",null,{"$f":"ROUND(L59*(0.4*G166+0.037*H131),1)","v":8},"پهنا (cm)=",null,"d'3",{"$f":"'متغیرها '!C167*H124","v":4.6399999999999997},null,{"$f":"ROUND(R61*R57,1)","v":2.9},"پهنا (cm)=",null,null,null,null,null,null,null,null,null,null,null,null,null,null,null,null,null,null,null,null,null,null,null,null,null,null,null,null,null,null,null,null,null,null,null,null,null,null,null,null,null,null,null,null,null,null,null,null,null,null,null,{"$f":"BJ29","v":5},{"$f":"BK29","v":171.9},1,null,null,null,null,null,null,null,null,null,{"$f":"BZ46+'طراحی همه الگوها'!U260","v":63.3},{"$f":"CA46+'طراحی همه الگوها'!U261","v":27.800000000000004},17,null,null,null,null,null,{"$f":"CI31","v":5},{"$f":"CJ31","v":103.92120297376289},"s''12"]
[null,null,null,null,"  (بدون احتساب بافت انتخابی)      b'0 ضریب تعداد دانه",{"$f":"IF(F56=2,N69,IF(F56=3,O69,P69))","v":1.8},null,"متغیر محاسبه ای یقه ب ب گرد",null,null,"  متغیر محاسبه ای یقه شکاری  ",null,null,"d11",{"$f":"(0.95+1.45*'متغیرها '!C164)*(0.4*G166+0.037*H131)","v":7.6930584596165676},null,{"$f":"ROUND(R62*R57,1)","v":4.8},"پهنا (cm)=",null,null,null,null,null,null,null,null,null,null,null,null,null,null,null,null,null,null,null,null,null,null,null,null,null,null,null,null,null,null,null,null,null,null,null,null,null,null,null,null,null,null,null,null,null,null,null,null,null,null,null,{"$f":"BJ31","v":13.7},{"$f":"BK31","v":5},5]
[null,null,null,null,"انتخاب ضخامت میل بافتنی   f1",{"$f":"'متغیرها '!C43","v":3},null,"c6",{"$f":"ROUNDUP(1.3*F54*I57,0)","v":53},null,"   a7",{"$f":"F54*L59*(0.4*G166+0.037*H131)","v":22.438087173881655},null,"d'12",{"$f":"G275-G270","v":29.283539109581866},null,"متغیر محاسبه ای شومیزیه"]
[null,null,null,null,"جمع شوندگی عمودی بافت   f2",{"$f":"'متغیرها '!C44","v":0},null,"c'6",{"$f":"I60*G167","v":14.363281500328378},null,null,null,null,"d12",{"$f":"ROUND(F54*O56,0)","v":82},null,"e'1",{"$f":"(0.4*G166+0.037*H131)","v":3.2054410248402365}]
[null,null,null,null,"جمع شوندگی افقی بافت   f3",{"$f":"'متغیرها '!C45","v":0},null,null,null,null,"متغیرهای ورودی  یقه شکاری کشباف",null,null,"d''12",{"$f":"G276+AX147","v":7.5161278599845964},null,"e''1",{"$f":"R62*R57","v":4.8081615372603546}]
[null,null,null,null," از آستین رگلان   γ9",{"$f":"DE542","v":0.68382026544876151},null,"متغیرهای ورودی  یقه ب ب گرد بافت همه از زیر",null,null,"    ضریب پهنای یقه  (1.5 الی 3)",{"$f":"'متغیرها '!C731","v":2.5}]
[null,null,null,null,"γ10 از آستین رگلان",{"$f":"DE543","v":0.50288740972266588},null," ضریب پهنای یقه    (0.6 الی 1.2)",{"$f":"1.9*'متغیرها '!C751","v":1.1399999999999999},null,"یقه شکاری کشباف",null,null,"یقه انگلیسی \n بافت جودانه",null,null,"متغیرهای ورودی یقه شومیزیه بافت همه از زیر"]
[null,null,null,null,null,null,null,"یقه ب ب گرد",null,null,null,null,null,null,null,null,"    ضریب پهنای پایه یقه    (1 الی 2)",{"$f":"'متغیرها '!C738","v":0.9}]
[null,null,null,null,"گشادی بالای مچ آستین (cm)     b'11",{"$f":"ROUND(DY522-DY523,0)","v":29},null,null,null,null,null,null,null," b'1    نوار باز شده گردن - دور تا دور گردن",{"$f":"CP680+CP681","v":23.301788780187373},null,"ضریب پهنای برگرد یقه  (1.5 الی 3)",{"$f":"'متغیرها '!C742","v":1.5}]
[null,null,null,null,"تعداد دانه ها  در بالای مچ آستین      b'12",{"$f":"ROUND(O65*F62,0)","v":52},null,null,null,null,null,null,null,"محاسبه شده (با احتساب بافت انتخابی) ",null,null,"یقه شومیزیه"]
[null,null,null,null,"تعداد دانه های اضافه شده زیر بغل   b8",{"$f":"ROUNDUP(O65*(AX119+AX114+BI116),0)","v":11},null," b22",{"$f":"SQRT(POWER(F84,2)-POWER(F67,2))","v":44.189686523687044},null,null,null,null," a0 تعداد رج در یک سانت",{"$f":"F54+0.3*F57*F54","v":2.8}]
[null,null,null,null,"تعداد دانه های سرتاسر آستین در قسمت زیر بغل   b20",{"$f":"ROUNDUP(F64+O64*F80*COS(0.4*(F59+F60))+J86+0.5*F78,0)","v":98},null," b'22",{"$f":"I64*O64","v":123.73112226632371},null,null,null,null,"تعداد دانه در یک سانتb0 ",{"$f":"F55+0.68*F58*F55","v":1.8}]
[null,null,null,null,"تعداد دانه های اضافه شده در کنار آستین در هر طرف b21",{"$f":"0.5*(F65-F63)","v":23},null," b12",{"$f":"ROUND(F63/((F62-F88)*O65),0)","v":14}]
[null,null,null,null,"طول اضافه شده در کنار آستین در هر طرف b'21",{"$f":"F66/O65","v":12.777777777777777},null,null,null,null,null,null,null,"میل 2 و 2.5","میل  3 و 3.5","میل 4 و 4.5"]
[null,null,null,null,"هر b11   رج در بافت آستین یکدانه از ابتدا و یکدانه از انتها کم شود",{"$f":"ROUND(I65/F66,0)","v":5},null,null,null,null,null,null,null,3.5,2.8,2.6,"a''0"]
[null,null,null,null,null,null,null,null,null,null,null,null,null,2.2999999999999998,1.8,1.7,"b''0"]
[]
[]
[]
[null,null,null,null,null,null,null,null,null,"محاسبات بافت"]
[null,null,null,null,"محاسبات در بافت بالاتنه و آستین (بافت انتخابی) "]
[null,null,null,null,"تعداد دانه ها  دور گردن + دو تا نیمه جادکمه که از خط مرکزی اضافه شده",{"$f":"F77+2*F76","v":90},null,"یقه ب ب گرد",null,null,"یقه شکاری ",null,null,"یقه شومیزیه",null,null,"یقه انگلیسی "]
[null,null,null,null," b2  تعداد دانه های اضافه شده  از خط مرکزی تا خط جادکمه = نیمه جادکمه",{"$f":"ROUNDUP(F55*'متغیرها '!C66*(2*H129+H130),0)","v":4},null,"بافت همه از زیر",null,null,"بافت کشباف",null,null,"بافت همه از زیر",null,null," بافت جودانه"]
[null,null,null,null,"(بدون اعمال بافت اننتخابی)  b1 تعداد دانه ها  دور تا دور گردن ",{"$f":"I87+2*I86+2*I85+I84","v":82},null,"c1",{"$f":"F77+2*(I80+1)+1*(I79+1)-3","v":131},null,"a1",{"$f":"2*F77","v":164},null,"e1",{"$f":"F77-I84+O82+2*O78+15","v":101},null,"d1",{"$f":"I87+2*I86+2*ROUND(F55*O250,0)-2*R79","v":80}]
[null,null,null,null,"تعداد رج دوبل برای ایجاد گودی گردن جلو b13",{"$f":"ROUNDDOWN(0.25*O64*((AX129-BI128)),0)","v":5},null,"c2",{"$f":"ROUND(0.25*1.3*F54*I57,0)-1","v":12},null,"a2",{"$f":"IF((ROUND(0.6*L56,0)-6)<0,\" خطا - قد پشت یقه زیاد شود \",(ROUND(0.6*L56,0)-6))","v":7},null,"e2",{"$f":"ROUNDDOWN(0.5*(1.3*F54*R58-9),0)","v":4},null,"d2",{"$f":"ROUND(F54*O54,0)","v":13}]
[null,null,null,null,"تعداد رج سوبل برای ایجاد گودی گردن جلو b'''13",{"$f":"ROUND((1/8)*O64*((AX129-BI128)),0)","v":3},null,"c3",{"$f":"ROUND(0.45*1.3*F54*I57,0)-1","v":23},null,"a3",{"$f":"ROUND(0.33*L81,0)","v":19},null,"e3",{"$f":"ROUND(0.15*(F77-I84+O82+13),0)","v":14},null,"d3",{"$f":"ROUND(F55*O54,0)","v":8}]
[null,null,null,null,"فاصله  گردن تا محل جدا شدن آستین در قسمت جلو (cm)     b7",{"$f":"ROUNDUP(SQRT(POWER(CI103-CI121,2)+POWER(CJ103-CJ121,2)),0)","v":28},null,"c4",{"$f":"I56-I78-I79-5","v":13},null,"a4",{"$f":"ROUND(0.66*L81,0)","v":38},null,"e4",{"$f":"ROUND(0.24*(F77-I84+O82+9),0)","v":21},null,"d4",{"$f":"IF((ROUND(F54*O55,0)-R78-4)<0,\"خطا - بزرگی پشت یقه زیاد شود\",(ROUND(F54*O55,0)-R78-4))","v":5}]
[null,null,null,null,"تعداد دانه های اضافه شده زیر بغل   b8",{"$f":"F64","v":11},null,null,null,null,"a5",{"$f":"ROUND(0.35*L77,0)","v":57},null,"e5",{"$f":"ROUND(0.35*(F77-I84+O82+3),0)","v":28},null,"d5",{"$f":"R77+2*R79","v":96}]
[null,null,null,null,"تعداد دانه های سرتاسر آستین در قسمت زیر بغل   b20",{"$f":"F65","v":98},null,null,null,null,"a6",{"$f":"ROUND(0.4*L56,0)","v":9},null,"e6",{"$f":"O78","v":4},null,"d6",{"$f":"I87","v":22}]
[null,null,null,null,"فاصله زیر بغل تا پایین لباس (cm)     b9",{"$f":"ROUND(AX113,0)","v":48},null,"تقسیم بندی بالاتنه\n ","تعداد دانه ها\n(بافت جودانه یا ساده)","تعداد دانه ها\n(بافت انتخابی)",null,null,null,"e7",{"$f":"F76","v":4},null,"d7",{"$f":"I86","v":14}]
[null,null,null,null,"فاصله زیر بغل تا بالای مچ آستین (cm)     b10",{"$f":"ROUNDUP(SQRT(POWER(DY513-DY520,2)+POWER(DZ513-DZ520,2)),0)","v":46},null," b6  جادکمه ",{"$f":"2*F76","v":8},null,null,null,null,"e8",{"$f":"2*(F76-2)","v":4},null,"d8",{"$f":"ROUND(F55*O250,0)","v":23}]
[null,null,null,null,"گشادی لبه پایین آستین (cm)     b'11",{"$f":"F62","v":29},null,"b3  جلو بدون جادکمه",{"$f":"ROUNDUP(F55*(SQRT(POWER(AX129-AX131,2)+POWER(AX130,2))+SQRT(POWER(AX131-AX133,2)+POWER(AX132-AX130,2))),0)-F76","v":12},{"$f":"ROUNDUP(O65*(SQRT(POWER(AX129-AX131,2)+POWER(AX130,2))+SQRT(POWER(AX131-AX133,2)+POWER(AX132-AX130,2))),0)-F76","v":12},null,null,null,"e9",{"$f":"ROUNDUP(R61*1.3*F54*R57,0)-O83-O84-3","v":0},null,"d9",{"$f":"ROUND((F54*O56)/(F55*O58),0)","v":6}]
[null,null,null,null,"تعداد دانه ها  در بالای مچ آستین      b'12",{"$f":"F63","v":52},null,"b4  آستین",{"$f":"ROUNDDOWN(F55*(DE534+DE535),0)","v":14},{"$f":"ROUNDDOWN(O65*(DE534+DE535),0)","v":14},null,null,null,null,null,null,"d10",{"$f":"IF(ROUND((F54*(G271-G270))/(F55*G272),0)>40,\"----\",ROUND((F54*(G271-G270))/(F55*G272),0))","v":11}]
[null,null,null,null,"پهنای مچ آستین (cm)     b14",{"$f":"ROUNDUP(CA513-CA511,0)","v":10},null,"b5  پشت",{"$f":"ROUNDDOWN(F55*2*(SQRT(POWER(BI128-BI130,2)+POWER(BI129,2))+SQRT(POWER(BI130-BI132,2)+POWER(BI131-BI129,2))),0)","v":22},{"$f":"ROUNDDOWN(O65*2*(SQRT(POWER(BI128-BI130,2)+POWER(BI129,2))+SQRT(POWER(BI130-BI132,2)+POWER(BI131-BI129,2))),0)","v":22},null,null,null,null,null,null,"d12",{"$f":"O57","v":82},null,null,null,null,null,null,null,null,null,null,null,null,null,"شبیه ساز بالاتنه پشت"]
[null,null,null,null,"گشادی مچ جدار در پایین آستین (cm)     b15",{"$f":"ROUND(BZ520-BZ519,0)","v":27},null,null,null,null,null,null,null,null,null,null,null,null,null,null,null,null,null,null,null,null,null,null,null,null,null,"انحنا",null,null,null,"خطوط برش"]
[null,null,null,null,"در بالای مچ هر b12   دانه یکی کم شود",{"$f":"I66","v":14},null,null,null,null,null,null,null,null,null,null,null,null,null,null,null,null,null,null,null,null,null,null,null,null,null,{"$f":"Y146","v":8.0408000000000008},{"$f":"Y114","v":42.6},27,null,{"$f":"Y146","v":8.0408000000000008},{"$f":"Y114","v":42.6},27]
[null,null,null,null,"هر b11   رج در بافت آستین یکدانه از ابتدا و یکدانه از انتها کم شود",{"$f":"F68","v":5},null,null,null,null,null,null,null,null,null,null,null,null,null,null,null,null,null,null,null,null,null,null,null,null,null,{"$f":"Y150","v":6.0306000000000006},{"$f":"Y114-Y151","v":41.177338462739648},32,null,{"$f":"Y146+Y153","v":14.002210067168612},{"$f":"Y114-Y154","v":41.330848685730025},34]
[null,null,null,null,null,null,null,null,null,null,null,null,null,null,null,null,null,null,null,null,null,null,null,null,null,null,null,null,null,null,null,{"$f":"Y148","v":3.2163200000000005},{"$f":"Y114-Y149","v":40.466007694109472},30]
[null,null,null,null,null,null,null,null,null,null,null,null,null,null,null,null,null,null,null,null,null,null,null,null,null,null,null,null,null,null,null,0,{"$f":"Y114-Y147","v":40.228897437899406},28,null,{"$f":"Y115-Y135+Y141-Y156","v":15.568924354402032},{"$f":"Y130+Y136+Y142+Y157","v":41.014756015653695},36]
[null,null,null,null,null,null,null,null,null,null,null,null,null,null,null,null,null,null,null,null,null,null,null,null,null,null,null,null,null,null,null,null,null,null,null,{"$f":"Y115-Y135+Y141","v":21.04},{"$f":"Y130+Y136+Y142","v":38.328404153444041},24,null,null,null,null,null,null,null,null,null,null,null,null,null,"انحنای حلقه آستین جلو"]
[null,null,null,null,null,null,null,null,null,null,null,null,null,null,null,null,null,null,null,null,null,null,null,null,null,null,null,null,null,null,null,{"$f":"Y115-Y135+Y141","v":21.04},{"$f":"Y130+Y136+Y142","v":38.328404153444041},24,null,null,null,null,null,null,null,null,null,null,null,null,null,null,null,null,null,{"$f":"AZ125+'متغیرها '!C55","v":33.249929425595901},{"$f":"BA125","v":140.04291609602075},"شیفت22"]
[null,null,null,null,null,null,null,null,null,null,null,null,null,null,null,null,null,null,null,null,null,null,null,null,null,null,null,null,null,null,null,{"$f":"Y115-Y135+Y143","v":19.611999999999998},{"$f":"Y130+Y136+Y144","v":32.936239369009122},26,null,{"$f":"Y115","v":23.20576289543752},{"$f":"Y130","v":17.845815743588673},14,null,null,null,null,null,null,null,null,null,null,null,null,null,{"$f":"AZ128+'متغیرها '!C55","v":30.651785035248011},{"$f":"BA128","v":134.09321014225543},"شیفت24",null,null,null,"جادکمه در پیراهن"]
[null,null,null,null,null,null,null,null,null,null,null,"به دست آوردن نقطه تقاطع دو خط (نمونه کپی)","مولفه افقی","مولفه عمودی",null,null,"شبیه ساز بالاتنه جلو",null,null,null,null,null,null,null,null,null,null,null,null,null,null,{"$f":"Y115-Y135","v":19},{"$f":"Y130+Y136","v":26.345815743588673},18,null,{"$f":"Y115","v":23.20576289543752},{"$f":"Y130-Y132","v":17.845815743588673},16,null,null,null,null,null,null,null,null,null,null,null,null,null,{"$f":"AZ115+'متغیرها '!C55","v":29.538294582241775},{"$f":"BA115","v":128.14350418849008},"شیفت16",null,{"$f":"AZ106","v":5},{"$f":"BA106","v":71.580000000000013},1]
[null,null,null,null,null,null,null,null,null,null,"نقطه اول از خط اول","اسم نقطه",1,1,null,null,"انحنا",null,null,null,"خطوط برش",null,null,null,null,null,null,null,null,null,null,{"$f":"Y115-Y139","v":20.261728868631256},{"$f":"Y130+Y140","v":21.245815743588672},22,null,{"$f":"Y121+Y123+Y124+Y127","v":22.69887773551967},{"$f":"Y128","v":2.4704632477561245E-2},13,null,null,null,null,null,null,null,null,null,null,null,null,null,{"$f":"AZ121+'متغیرها '!C55","v":30.799464777334041},{"$f":"BA121","v":123.17896018849009},"شیفت20",null,{"$f":"AX147+AX99","v":3.3200600000000002},{"$f":"0+AX98","v":71.580000000000013},"1'",null,"شیفت عمودی پشت پیراهن",{"$f":"BG148+'متغیرها '!U59-BI148+'متغیرها '!C54","v":66.580000000000013}]
[null,null,null,null,null,null,null,null,null,null,"نقطه دوم از خط اول","اسم نقطه",2,2,null,null,{"$f":"L143","v":8.0408000000000008},{"$f":"L114","v":46.4},25,null,0,{"$f":"L114-L144","v":36.499312379435452},26,null,null,null,null,null,null,null,null,{"$f":"Y115-Y137","v":22.364610316350017},{"$f":"Y130+Y138","v":18.695815743588675},20,null,{"$f":"Y121+Y123+Y124","v":11.750000000000002},0,11,null,null,null,null,null,null,null,null,null,null,"شیفت عمودی جلو پیراهن",{"$f":"H114+'متغیرها '!C52+(I104-H104)","v":71.580000000000013},null,{"$f":"AZ118+'متغیرها '!C55","v":32.691220069972438},{"$f":"BA118","v":121.11040018849008},"شیفت18",null,{"$f":"AX148+AX99","v":3.3200600000000002},{"$f":"AX103-AX129+AX98","v":136.36934389257897},"26'",null,"شیفت افقی پشت پیراهن",{"$f":"'متغیرها '!C53","v":15}]
[null,null,null,null,"اندازه ها در دامن و شلوار",null,null,"اندازه محاسبه","شبیه ساز",null,"نقطه اول از خط دوم","اسم نقطه",3,2,null,null,{"$f":"L147","v":6.432640000000001},{"$f":"L114-L148","v":41.449656189717729},30,null,0,0,1,null,null,null,null,null,null,null,null,{"$f":"Y115","v":23.20576289543752},{"$f":"Y130","v":17.845815743588673},14,null,null,null,null,null,null,null,null,null,null,null,null,null,null,"شیفت افقی جلو پیراهن",{"$f":"'متغیرها '!C51","v":5},null,{"$f":"AZ113+'متغیرها '!C55","v":35.844145557703101},{"$f":"BA113","v":119.86926418849009},"شیفت12",null,{"$f":"AZ102","v":5},{"$f":"BA102","v":136.36934389257897},26,{"$f":"BG149+BG150+BG151+1*(IF('متغیرها '!U55>'متغیرها '!U53,0.5*'متغیرها '!U55,0.5*'متغیرها '!U53)-BG149-BG151+BG163)-1*BG142-IF('متغیرها '!C125=1,2*BG143,BG150)","v":26.8},"(1 → 41)   با شرط  x5=1",{"$f":"BI149+BI150+BI151+1*(IF(H103>H101,0.5*H103,0.5*H101)+'متغیرها '!C62*H120-BI149-BI151+BI163)-1*BI142-IF('متغیرها '!C125=1,2*BI143,BI150)","v":27.77244}]
[null,null,null,null,"دور کمر","a",null,{"$f":"'متغیرها '!U52+0.3*'متغیرها '!C60*('متغیرها '!U52+'متغیرها '!U54+'متغیرها '!U72)","v":98.847999999999999},{"$f":"'متغیرها '!U52","v":97},null,"نقطه دوم از خط دوم","اسم نقطه",4,4,null,null,{"$f":"L145","v":3.2163200000000005},{"$f":"L114-L146","v":37.489381141491911},28,null,{"$f":"L120","v":11.11764},0,8,null,null,null,null,null,null,null,null,null,null,null,null,{"$f":"Y121+Y123","v":11.350000000000001},0,10,null,null,null,null,null,null,null,null,null,{"$f":"AV156+AV157+AV158+1*(IF(('متغیرها '!U54-'متغیرها '!U55)>('متغیرها '!U52-'متغیرها '!U53),0.5*('متغیرها '!U54-'متغیرها '!U55),0.5*('متغیرها '!U52-'متغیرها '!U53))-AV156-AV158)-IF('متغیرها '!C125=1,2*AV150,AV157)","v":26.199999999999996},"(1 → 44)   با شرط  x5=1",{"$f":"AX156+AX157+AX158+1*(IF((H102-H103)>(H100-H101),0.5*(H102-H103),0.5*(H100-H101))+'متغیرها '!C62*H120-AX156-AX158)-IF('متغیرها '!C125=1,2*AX150,AX157)","v":27.230039999999995},null,{"$f":"BD156","v":37.567945557703098},{"$f":"BE156","v":119.86926418849009},"شیفت13",null,{"$f":"AZ106","v":5},{"$f":"BA106","v":71.580000000000013},1,null,"زاویه خط پهلو پشت",{"$f":"ATAN((BI106-BI108)/(BI110-BI112-BI107))","v":1.1751228271808217E-3},null,null,null,null,null,"انحنای حلقه آستین   پشت",null,null,null," انتقال قسمتی از ساسون سرشانه به خط مرکزی جلو و حلقه آستین با ساسون زیر بغل و خط رگلان",null,null,null,null,null,null,null," انتقال قسمتی از ساسون سرشانه به خط مرکزی پشت و حلقه آستین با ساسون زیر بغل",null,null,null,null,null,null,null," حلقه آستین و سرشانه و رگلان بدون ساسون ",null,null,null,null,null,null,null,"حلقه آستین و سرشانه و رگلان بدون ساسون ",null,null,null,null,null,null,null,"جیب با ساسون",null,null,null,null,null,null,null,"تکه پهلو جدا  ",null,null,null,null,null,null,null,null,null,null,null,null,"کنترل گودی حلقه آستین ",null,null,null,null,null,null,null,null,null,null,null,"حلقه آستین با ساسون متغیر",null,null,null,"انگلیسی و آرشال چرخیده",null,null,null,"پهلو ترک ",null,null,null,"پهلو برای جیب با ساسون",null,null,null,"اطلاعات اندام",null,null,null,"پهلو جدا در پیراهن",null,null,null,"رسم انحنا جلو آستر کت ",null,null,null,"حلقه آستین با ساسون متغیر",null,null,null,"یقه گرد ",null,null,null,"پهلو جدا و ترک وسط و نیمی از حلقه آستین عصایی",null,null,null,"پهلو جدا و ترک وسط و حلقه آستین عصایی در آستر کت",null,null,null,null,null,null,"رسم قرینه جلو پیراهن "]
[null,null,null,null,"نوار کمر از پشت بین دو خط پهلو","b",null,{"$f":"'متغیرها '!U53+0.3*'متغیرها '!C60*('متغیرها '!U53+'متغیرها '!U55+'متغیرها '!U73)","v":45.4664},{"$f":"'متغیرها '!U53","v":44.6},null,"نقطه تقاطع","اسم نقطه",{"$f":"(N99-N97+M97*((N98-N97)/(M98-M97))-M99*((N100-N99)/(M100-M99)))/(((N98-N97)/(M98-M97))-((N100-N99)/(M100-M99)))","v":4},{"$f":"N97+(M101-M97)*((N98-N97)/(M98-M97))","v":4},null,null,{"$f":"0","v":0},{"$f":"L114-L144","v":36.499312379435452},26,null,null,null,null,null,null,null,null,null,null,null,null,null,null,null,null,{"$f":"Y121","v":0},0,9,null,null,null,null,null,null,null,null,null,null,"زاویه خط پهلو جلو در پیراهن راسته با ساسون",{"$f":"ATAN((AX110-AX104)/(AX113-AX115-AX111))","v":1.1751228271808215E-3},null,"رسم جلو پیراهن",null,null,null,"انحنای حلقه یقه جلو",null,null,null,"زاویه  متوسط سرشانه پشت و جلو مانتو راسته",{"$f":"0.5*(P139+0.3*(P140-P139)+AE139+0.3*(AE140-AE139))","v":0.27820102979369776},null,{"$f":"BI126+BI98","v":28.676935650976734},{"$f":"BI125+BI97","v":130.9189297056397},22,null,{"$f":"BK140","v":35.642264270707003},{"$f":"BL140","v":135.02250374702837},"شیفت18",null,"نقاط  ورودی",null,null,null,"انتخاب c1 >1 ",{"$f":"'متغیرها '!C108","v":0},null,null,"نقاط  ورودی",null,null,null,null,null,null,null,"نقاط  ورودی",null,null,null,null,null,"حلقه بدون ساسون",null,"نقاط  ورودی",null,null,null,null,"انحنا",null,null,"نقاط  ورودی",null,null,null,"نقاط  خروجی",null,null,null,"نقاط  ورودی",null,null,null,"نقاط  ورودی",null,null,null,"نقاط  خروجی",null,null,null,null,"نقاط  ورودی",null,null,null,"نقاط  ورودی",null,null,null,null,null,{"$f":"BW139+BT130","v":36.174132720781841},{"$f":"BX139","v":127.53660236827258},"شیفت b14",null,null,null,null,null,{"$f":"BS140+BT130","v":35.844145557703101},{"$f":"BT140","v":115.38738418849009},"شیفت 14",null,"مولفه افقی","مولفه عمودی","اسم نقطه ",null,null,null,"کمر",null,{"$f":"DG103","v":32.691220069972438},{"$f":"DH103","v":121.11040018849008},{"$f":"DI103","v":"18شیفت"},null,{"$f":"BW114","v":11.995530171826225},{"$f":"BX114","v":141.44270341296786},"e5",null,{"$f":"CE122+CB112","v":40.811774596123236},{"$f":"CF122+CB113","v":112.47373911807699},"شیفت b14",null,{"$f":"CE105","v":23.348421281192373},139.03229312467974,23,null,{"$f":"DL167","v":34.785538025546387},{"$f":"DM167","v":122.47080584720476},"شیفت12p یا 12",null,{"$f":"DK103","v":34.785538025546387},122.47080584720476,"شیفت12p",null,null,null,"مولفه افقی","مولفه عمودی","اسم نقطه ",null,null,{"$f":"AZ106","v":5},"مرجع",null,null,null,"12'",null,null,{"$f":"-2*'متغیرها '!C51","v":-10},"شیفت افقی",null,null,{"$f":"'متغیرها '!C52","v":5},"شیفت عمودی",null,null,null,"14'",null,null,null,"19'",null,null,null,"48'",null,null,null,"81'",null,null,null,"64'",null,null,null,"77'"]
[null,null,null,null,"دور باسن","c",null,{"$f":"'متغیرها '!U54+0.3*'متغیرها '!C60*('متغیرها '!U52+'متغیرها '!U54+'متغیرها '!U72)","v":106.848},{"$f":"'متغیرها '!U54","v":105},null,null,null,null,null,null,null,null,null,null,null,{"$f":"L120+L121","v":13.70764},0,9,null,null,null,null,null,null,null,null,null,null,null,null,0,{"$f":"Y117","v":31.950000000000003},5,null,null,null,null,null,null,null,null,null,"شبیه ساز","متغیرهای خروجی جلو پیراهن با ساسون کمر",null,null,{"$f":"AX99","v":5},{"$f":"AX103-AX129+AX98","v":136.36934389257897},26,null,{"$f":"AZ140","v":13.351253177760663},{"$f":"BA140","v":146.84676563115454},25,"شبیه ساز","متغیرهای خروجی پشت پیراهن با ساسون کمر (رسم کاربر)",null,null,{"$f":"0+BI98","v":15},{"$f":"BI125+BI97","v":130.9189297056397},21,null,{"$f":"BK110","v":35.042555899094573},{"$f":"BL110","v":129.37423969210775},"شیفت20",null,"مولفه افقی","مولفه عمودی","اسم نقطه ",null,"انتخاب عصایی ",{"$f":"'متغیرها '!C101","v":0},null,null,"مولفه افقی","مولفه عمودی","اسم نقطه ",null,null,null,null,null,"مولفه افقی","مولفه عمودی","اسم نقطه ",null,{"$f":"CI117+CJ105","v":24.254696527337614},{"$f":"CJ117","v":143.73265925554304},"شیفت 22f",null,"مولفه افقی","مولفه عمودی","اسم نقطه ",null,{"$f":"CQ120+CR105","v":34.251864630769326},{"$f":"CR120+CR106","v":135.91818674906824}," شیفت 18f",null,"مولفه افقی","مولفه عمودی","اسم نقطه ",null,"مولفه افقی","مولفه عمودی","اسم نقطه ",null,"مولفه افقی","مولفه عمودی","اسم نقطه ",null,"مولفه افقی","مولفه عمودی","اسم نقطه ",null,{"$f":"DK106+DH109","v":42.240832010431539},{"$f":"DL106+DH110","v":113.71390184720475},"شیفت8m","پیراهن",null,"مولفه افقی","مولفه عمودی","اسم نقطه ",null,"مولفه افقی","مولفه عمودی","اسم نقطه ",null,null,null,{"$f":"BW140+BT130","v":36.297032265202304},{"$f":"BX140","v":122.73622420854588},"شیفت b2",null,{"$f":"BW105","v":13.351253177760661},{"$f":"BX105","v":146.84676563115454},"چرخیده 25",null,{"$f":"AZ168+BT130","v":33.525039999999997},{"$f":"BA168","v":103.92120297376289},"شیفت 41",null,{"$f":"CY109","v":16.306469111540622},{"$f":"CZ109","v":71.580000000000013},52,null,{"$f":"AZ165","v":5},{"$f":"BA165","v":100.5},38,null,{"$f":"DG121","v":32.691220069972438},115.38738418849009,{"$f":"DI121","v":"14شیفتm"},null,{"$f":"DP169","v":14.022877926946599},{"$f":"DQ169","v":130.56564311389155},"a4",null,{"$f":"CE116+CB112","v":38.227431620563742},{"$f":"CF116+CB113","v":113.47336403606502},"شیفت b8",null,21.261315960894279,137.4612651665546,28,null,{"$f":"DL168","v":36.076248574692741},{"$f":"DM168","v":116.47198184720476},"شیفت16p یا 16",null,36.076248574692741,116.47198184720476,"شیفت16p",null,null,null,null,null,"6'",null,"مولفه افقی","مولفه عمودی","اسم نقطه ",null,{"$f":"-EX101-GK101","v":-22.691220069972438},{"$f":"EY101","v":121.11040018849008},"شیفت 18",null,null,null,"3'",null,null,null,"10'",null,{"$f":"-EP102-GK101","v":-6.306469111540622},{"$f":"EQ102","v":71.580000000000013},52,null,{"$f":"-CR154-GK101","v":-7.6014691115406201},{"$f":"CS154","v":118.23},43,null,{"$f":"-DY255-GK101","v":6.6799400000000002},{"$f":"DZ255","v":125.21958742766127},"p10",null,{"$f":"-AG277-GK101","v":-14.463474035591126},{"$f":"AH277","v":144.52135929212406},"c22",null,{"$f":"-CP238-GK101","v":-0.27999999999999936},{"$f":"CQ238","v":75.382719832213283},"m2",null,{"$f":"-DN238-GK101","v":-25.844145557703101},{"$f":"DO238","v":115.38738418849009},14]
[null,null,null,null,"نوار باسن از پشت بین دو خط پهلو","d",null,{"$f":"'متغیرها '!U55+0.3*'متغیرها '!C60*('متغیرها '!U53+'متغیرها '!U55+'متغیرها '!U73)","v":54.4664},{"$f":"'متغیرها '!U55","v":53.6},null,"به دست آوردن مختصات قرینه یک نقطه نسبت به خط تقارن با داشتن دونقطه از خط تقارن (نمونه کپی)",null,null,null,null,null,{"$f":"L115-L132+L138","v":28.560000000000002},{"$f":"L127+L133+L139","v":39.22651834803014},22,null,{"$f":"L120+L121+L124","v":28.79},{"$f":"L125","v":3.4212029737628913},11,null,null,null,null,null,null,null,null,null,null,null,null,0,{"$f":"Y114-Y147","v":40.228897437899406},28,null,null,null,null,null,null,null,null,null,{"$f":"L114+'متغیرها '!U56-H114","v":75.319999999999993},"(1 → 2)",{"$f":"K114+H104-H114","v":75.266765631154527},null,{"$f":"AX99","v":5},{"$f":"AX105+AX98","v":122.17},4,null,{"$f":"AZ148","v":11.681002542208532},{"$f":"BA148","v":141.60805476186675},30,{"$f":"'متغیرها '!U58-'متغیرها '!U59+Y114","v":98},"(1 → 2)",{"$f":"H106-H114+AA114","v":72.452293124679727},null,{"$f":"0+BI98","v":15},{"$f":"BI103+BI97","v":139.03229312467974},2,null,{"$f":"BK112","v":34.785538025546387},{"$f":"BL112","v":122.47080584720476},"شیفت12",null,null,{"$f":"('متغیرها '!C107/('متغیرها '!C106+0.001))*(BU143-BU142)","v":0},"زاویه چرخش به خط مرکزی جلو",null,"نقاط  خروجی چرخیده",null,null,null,null,{"$f":"('متغیرها '!C112/('متغیرها '!C111+0.001))*(CC126-CC125)","v":0},"زاویه چرخش به خط مرکزی پشت",null,"نقاط  خروجی چرخیده",null,null,null,{"$f":"BW106","v":11.681002542208532},{"$f":"BX106","v":141.60805476186675},30,null,{"$f":"CI118+CJ105","v":24.654976297485689},{"$f":"CJ118","v":137.92004719817979},"شیفت 24f",null,{"$f":"BK135","v":21.261315960894279},{"$f":"BL135","v":137.4612651665546},28,null,{"$f":"CQ121+CR105","v":33.478716729423311},{"$f":"CR121+CR106","v":128.18119785145331},"شیفت 20f",null,{"$f":"AZ161","v":17.60146911154062},{"$f":"BA161","v":118.23},43,null,{"$f":"CY110-(CY106-CY109)","v":16.025020000000001},{"$f":"CZ110","v":71.580000000000013},"50s",null,{"$f":"AZ98","v":32.691220069972438},{"$f":"BA98","v":121.11040018849008},"18شیفت","پیراهن",{"$f":"DL167","v":34.785538025546387},{"$f":"DM167","v":122.47080584720476},"شیفت12p","پیراهن",{"$f":"DK107+DH109","v":42.240832010431539},{"$f":"DL107","v":107.99088584720475},"شیفت10m",null,null,{"$f":"DT151","v":24.573105577030464},{"$f":"DU151","v":145.30037824350708},"22b","راس حلقه آستین",{"$f":"DY152","v":35.891298348860708},{"$f":"DZ152","v":135.5582862620688},"18b","راس حلقه آستین",null,null,null,null,null,null,{"$f":"BW113","v":12.516127859984596},{"$f":"BX113","v":143.70353910958187},"e7",null,null,null,null,null,{"$f":"DC103","v":16.025020000000001},71.580000000000013,"50s",null,{"$f":"AZ166","v":16.953969111540619},{"$f":"BA166","v":100.5},39,null,30.372114512269338,103.92120297376289,{"$f":"DI122","v":"41شیفتm"},null,{"$f":"DP168","v":20.104921192307721},{"$f":"DQ168","v":125.12711296435339},"a3",null,{"$f":"IF('متغیرها '!C119=1,DX123,CE117)+CB112","v":36.076039530151412},{"$f":"IF('متغیرها '!C119=1,DY123,CF117)+CB113","v":116.47262696058199},"شیفت b10 یا b'10p",null,18.339368512476952,136.67575118749201,26,null,{"$f":"DO109","v":37.280911753895992},{"$f":"DP109","v":114.27586064720475},{"$f":"DQ109","v":"شیفت8''m"},null,{"$f":"DO109","v":37.280911753895992},{"$f":"DP109","v":114.27586064720475},{"$f":"DQ109","v":"شیفت8''m"},null,null,null,{"$f":"-CM102-GK101","v":-14.254696527337614},{"$f":"CN102","v":143.73265925554304},"شیفت 22f",null,null,null,"7'",null,{"$f":"-EX102-GK101","v":-22.691220069972438},{"$f":"EY102","v":115.38738418849009},"شیفت 14m",null,{"$f":"-ED101-GK101","v":-26.174132720781841},{"$f":"EE101","v":127.53660236827258},"شیفت b14",null,{"$f":"-EL101-GK101","v":-25.844145557703101},{"$f":"EM101","v":115.38738418849009},"شیفت 14",null,{"$f":"-EP103-GK101","v":-6.0250200000000014},71.580000000000013,"50s",null,{"$f":"-CR155-GK101","v":-6.9539691115406193},{"$f":"CS155","v":100.5},"39 یا d5",null,{"$f":"-DY256-GK101","v":6.6799400000000002},{"$f":"DZ256","v":71.580000000000013},"1'",null,{"$f":"-AG278-GK101","v":-25.510087116728251},{"$f":"AH278","v":137.99287947761457},"c4",null,{"$f":"-CP239-GK101","v":-1.8287528000000002},{"$f":"CQ239","v":79.133767890938628},"m10",null,{"$f":"-DN239-GK101","v":-23.525039999999997},{"$f":"DO239","v":103.92120297376289},41]
[null,null,null,null,"فاصله نوار کمر تا زمین، از قسمت جلو","e",null,{"$f":"'متغیرها '!U56+'متغیرها '!C63*'متغیرها '!U56","v":95.5},{"$f":"'متغیرها '!U56","v":95.5},null,"مولفه افقی","مولفه عمودی","اسم نقطه ",null,null,null,{"$f":"L115-L132+L140","v":25.228000000000002},{"$f":"L127+L133+L141","v":33.634416216452074},24,null,{"$f":"L115","v":29.9},{"$f":"L127-L129","v":21.242314084874003},14,null,null,null,null,null,null,null,null,null,null,null,null,null,null,null,null,null,null,null,null,null,null,null,null,{"$f":"L115","v":29.9},"(1 → 3)",{"$f":"K115","v":30.844145557703097},null,{"$f":"AX106+AX99","v":17.60146911154062},{"$f":"AX105+AX98","v":122.17},5,null,{"$f":"AZ145","v":8.3405012711042659},{"$f":"BA145","v":137.41708606643653},28,null,"(1 → 3)",{"$f":"BI106+(BI107-BI105)*TAN(BI100)","v":24.138455842452537},null,{"$f":"BI127+BI98","v":23.348421281192373},{"$f":"BI103+BI97","v":139.03229312467974},23,null,{"$f":"BK117","v":36.076248574692741},{"$f":"BL117","v":116.47198184720476},"شیفت16",null,{"$f":"AZ165+AN119","v":17.60146911154062},{"$f":"BA165+AO119","v":120.2},"5 بالاتنه","نقطه مرکزی چرخش","مولفه افقی","مولفه عمودی","اسم نقطه ",null,{"$f":"BO164","v":26.7666},{"$f":"BP164","v":113.45561085030904},40,"نقطه مرکزی چرخش","مولفه افقی","مولفه عمودی","اسم نقطه ",null,{"$f":"AZ104","v":17.60146911154062},{"$f":"BA104","v":122.17},"5پیراهن",null,{"$f":"CI119+CJ105","v":25.588962427831195},{"$f":"CJ119","v":132.10743514081653},"شیفت 16f",null,{"$f":"BK154","v":26.7666},{"$f":"BL154","v":113.45561085030904},40,null,{"$f":"CQ122+CR105","v":33.561040967086534},{"$f":"CR122+CR106","v":123.02320525304333},"شیفت 12f",null,{"$f":"BD168-CZ122","v":18.248969111540617},{"$f":"BE168","v":100.5},40,null,{"$f":"CY111-(CY106-CY109)","v":20.109526000000002},71.738240594752597,"50's",null,{"$f":"BD177","v":35.844145557703101},115.38738418849009,"14شیفت",null,{"$f":"DL168","v":36.076248574692741},{"$f":"DM168","v":116.47198184720476},"شیفت16p",null,{"$f":"DK108+DH109","v":41.425365487730666},{"$f":"DL108","v":96.524704632477565},"شیفت36m",null,null,{"$f":"BW105","v":13.351253177760661},{"$f":"BX105","v":146.84676563115454},25,"راس یقه",{"$f":"CE105","v":23.348421281192373},{"$f":"CF105","v":139.03229312467974},23,"راس یقه",null,null,{"$f":"BW139+BT130","v":36.174132720781841},{"$f":"BX139","v":127.53660236827258},"شیفتb14",null,{"$f":"BW114","v":11.995530171826225},{"$f":"BX114","v":141.44270341296786},"e5",null,{"$f":"AZ168+BT130","v":33.525039999999997},{"$f":"BA168","v":103.92120297376289},"شیفت 41",null,20.109526000000002,71.738240594752597,"50's",null,null,null,null,null,29.077114512269336,87.271202973762882,{"$f":"DI123","v":"45شیفتm"},null,{"$f":"DP166","v":32.269007723029958},{"$f":"DQ166","v":123.314269581174},"a1",null,{"$f":"IF('متغیرها '!C119=1,DX122,CE118)+CB112","v":34.784913290103987},{"$f":"IF('متغیرها '!C119=1,DY122,CF118)+CB113","v":122.47136150521011},"شیفت b6 یا b'6p",null,15.000000000000002,136.41391319447115,24,null,{"$f":"DO107","v":39.087906522700877},{"$f":"DP107","v":113.09333384720475},{"$f":"DQ107","v":"شیفت8'm"},null,{"$f":"DO107","v":39.087906522700877},{"$f":"DP107","v":113.09333384720475},{"$f":"DQ107","v":"شیفت8'm"},null,null,null,{"$f":"-CM103-GK101","v":-14.654976297485689},137.92004719817979,"شیفت 24f",null,{"$f":"-CM113-GK101","v":-14.254696527337614},{"$f":"CN113","v":143.73265925554304},"شیفت22f",null,{"$f":"-EX103-GK101","v":-20.372114512269338},{"$f":"EY103","v":103.92120297376289},"شیفت 41m",null,{"$f":"-ED102-GK101","v":-26.297032265202304},{"$f":"EE102","v":122.73622420854588},"شیفت b2",null,{"$f":"-EL104-GK101","v":-23.525039999999997},{"$f":"EM104","v":103.92120297376289},"شیفت 41",null,{"$f":"-EP104-GK101","v":-10.109526000000002},71.738240594752597,"50's",null,null,null,null,null,null,null,null,null,{"$f":"-AG279-GK101","v":-34.548225092204078},{"$f":"AH279","v":126.8768192529092},"c12",null,{"$f":"-CP240-GK101","v":-6.4750112000000009},{"$f":"CQ240","v":83.420679958053313},"m8",null,{"$f":"-DN240-GK101","v":-22.230039999999995},{"$f":"DO240","v":87.271202973762882},45]
[null,null,null,null,"فاصله نوار کمر تا زمین، از قسمت پهلو","f",null,{"$f":"ROUND(0.5*('متغیرها '!U56+'متغیرها '!U58),1)+'متغیرها '!C63*ROUND(0.5*('متغیرها '!U56+'متغیرها '!U58),1)","v":96},{"$f":"ROUND(0.5*('متغیرها '!U56+'متغیرها '!U58),1)","v":96},null,1,1,"e1","نقطه اول خط تقارن",null,null,{"$f":"L115-L132","v":23.8},{"$f":"L127+L133","v":28.042314084874004},16,null,{"$f":"L115","v":29.9},{"$f":"L127","v":21.242314084874003},12,null,null,null,null,null,null,null,null,null,null,null,null,"انحنای حلقه آستین و ساسون سرشانه پشت",null,null,null,null,null,null,null,null,null,null,null,null,"(1→ 4)",{"$f":"H104-H114+V142","v":50.589999999999989},null,{"$f":"AZ103","v":5},{"$f":"BA103","v":122.17},4,null,{"$f":"AZ102","v":5},{"$f":"BA102","v":136.36934389257897},26,null,"(3→ 4)",{"$f":"BI159","v":-1.6052953675224391},null,{"$f":"BI127+BI134+BI98","v":29.193225623847461},{"$f":"BI103+BI97","v":139.03229312467974},29,null,{"$f":"BK120","v":38.227432823269979},{"$f":"BL120","v":113.47256984720475},"شیفت14",null,{"$f":"BD102","v":13.351253177760663},146.84676563115454,25,"نقطه یقه",{"$f":"BS104+SQRT(POWER(BS105-BS104,2)+POWER(BT105-BT104,2))*SIN(BT103-ATAN((BS104-BS105)/(BT105-BT104)))","v":13.351253177760661},{"$f":"BT104+SQRT(POWER(BS105-BS104,2)+POWER(BT105-BT104,2))*COS(BT103-ATAN((BS104-BS105)/(BT105-BT104)))","v":146.84676563115454},{"$f":"BU105","v":25},null,{"$f":"BK104","v":23.348421281192373},{"$f":"BL104","v":139.03229312467974},23,"نقطه یقه",{"$f":"CA104+SQRT(POWER(CA105-CA104,2)+POWER(CB105-CB104,2))*SIN(CB103-ATAN((CA104-CA105)/(CB105-CB104)))","v":23.348421281192373},{"$f":"CB104+SQRT(POWER(CA105-CA104,2)+POWER(CB105-CB104,2))*COS(CB103-ATAN((CA104-CA105)/(CB105-CB104)))","v":139.03229312467974},{"$f":"CC105","v":23},null,null,{"$f":"'متغیرها '!C55","v":0},"شیفت افقی تکه پهلو",null,{"$f":"CI120+CJ105","v":27.435924455871671},{"$f":"CJ120","v":125.98834966465331},"شیفت 20f",null,null,{"$f":"'متغیرها '!C56","v":0},"شیفت افقی تکه پهلو",null,{"$f":"CQ123+CR105","v":34.594792081207657},{"$f":"CR123+CR106","v":118.33412107267063},"شیفت 16f",null,{"$f":"AZ180-CZ122","v":18.896469111540618},{"$f":"BA180","v":84.3},"47''",null,{"$f":"CY112-(CY106-CY109)","v":23.513280999999999},72.015161635569598,"50''s",null,33.525039999999997,103.92120297376289,"41شیفت",null,{"$f":"BO126","v":26.7666},{"$f":"BP126","v":113.45561085030904},"شیفت40",null,{"$f":"DK109+DH109","v":45.475365487730663},{"$f":"DL109","v":79.87470463247756},"شیفت42m",null,null,{"$f":"BW136","v":24.340417771240173},{"$f":"BX136","v":138.03027214395152},"b12","نقطه حلقه آستین",{"$f":"CE119","v":35.04145278326785},{"$f":"CF119","v":129.37481314382703},"b12","نقطه حلقه آستین",null,null,{"$f":"BW132+BT130","v":34.581596165257494},{"$f":"BX132","v":126.8768192529092},"شیفتb4",null,null,null,null,null,{"$f":"AZ172","v":32.230039999999995},{"$f":"BA172","v":87.271202973762882},"شیفت 45",null,23.513280999999999,72.015161635569598,"50''s",null,{"$f":"AZ179","v":18.248969111540617},{"$f":"BA179","v":100.5},"شیفت 40",null,29.077114512269336,71.975601486881459,{"$f":"DI124","v":"49'شیفتm"},null,null,null,null,null,{"$f":"IF('متغیرها '!C119=1,DX121,CE119)+CB112","v":35.04145278326785},{"$f":"IF('متغیرها '!C119=1,DY121,CF119)+CB113","v":129.37481314382703},"شیفت b12 یا b'12p",null,null,null,null,null,{"$f":"DO102","v":42.240832010431539},{"$f":"DP102","v":113.71390184720475},{"$f":"DQ102","v":"شیفت8m"},null,{"$f":"DO102","v":42.240832010431539},{"$f":"DP102","v":113.71390184720475},{"$f":"DQ102","v":"شیفت8m"},null,null,null,{"$f":"-CM104-GK101","v":-15.588962427831195},132.10743514081653,"شیفت 16f",null,{"$f":"-CM114-GK101","v":-8.8029748525491378},{"$f":"CN114","v":145.28971244334878},"شیفت وسط 22f",null,{"$f":"-EX104-GK101","v":-19.077114512269336},{"$f":"EY104","v":87.271202973762882},"شیفت 45m",null,null,null,null,null,null,null,null,null,{"$f":"-EP105-GK101","v":-13.513280999999999},72.015161635569598,"50''s",null,{"$f":"-CR155-GK101","v":-6.9539691115406193},{"$f":"CS155","v":100.5},"39 یا d5",null,{"$f":"-DY258-GK101","v":6.6799400000000002},{"$f":"DZ258","v":71.580000000000013},"1'",null,{"$f":"-AG280-GK101","v":-52.543988071182255},{"$f":"AH280","v":81.868564019927717},"c2",null,{"$f":"-CP241-GK101","v":-14.661276000000001},{"$f":"CQ241","v":85.88565439664427},"m6",null,{"$f":"-DN241-GK101","v":-20.857237622711477},{"$f":"DO241","v":72.064000000000007},"p7"]
[null,null,null,null,"فاصله نوار کمر تا زمین، از قسمت پشت","g",null,{"$f":"'متغیرها '!U58+'متغیرها '!C63*'متغیرها '!U58","v":96.5},{"$f":"'متغیرها '!U58","v":96.5},null,2,2,"e10","نقطه دوم خط تقارن",null,null,{"$f":"L115-L136","v":25.02},{"$f":"L127+L137","v":23.962314084874002},20,null,null,null,null,null,null,null,null,null,null,null,null,"انحنا ساسون کمر ",null,null,null,{"$f":"AR152","v":15.81212393097957},40.923917913879308,36,null,null,null,null,null,null,null,null,null,null,"(4 → 5)",{"$f":"U142","v":12.60146911154062},null,{"$f":"AX99","v":5},{"$f":"0+AX98","v":71.580000000000013},1,null,null,null,null,{"$f":"BG108+0.5*(AV100-AV104+BG99-BG108)","v":23.152881447718759},"(1 → 5)",{"$f":"BI108+0.5*(AX100-AX104+BI99-BI108)","v":24.123120482498891},null,{"$f":"BI127+BI134+BI98","v":29.193225623847461},{"$f":"BI103-BI135+BI97","v":137.7458624935949},30,null,{"$f":"BK114","v":40.811706522700881},{"$f":"BL114","v":112.47276584720476},"شیفت9",null,11.681002542208532,141.60805476186675,30,"نقطه یقه",{"$f":"BS104+SQRT(POWER(BS106-BS104,2)+POWER(BT106-BT104,2))*SIN(BT103-ATAN((BS104-BS106)/(BT106-BT104)))","v":11.681002542208532},{"$f":"BT104+SQRT(POWER(BS106-BS104,2)+POWER(BT106-BT104,2))*COS(BT103-ATAN((BS104-BS106)/(BT106-BT104)))","v":141.60805476186675},30,null,{"$f":"BK135","v":21.261315960894279},{"$f":"BL135","v":137.4612651665546},28,"نقطه یقه",{"$f":"CA104+SQRT(POWER(CA106-CA104,2)+POWER(CB106-CB104,2))*SIN(CB103-ATAN((CA104-CA106)/(CB106-CB104)))","v":21.261315960894279},{"$f":"CB104+SQRT(POWER(CA106-CA104,2)+POWER(CB106-CB104,2))*COS(CB103-ATAN((CA104-CA106)/(CB106-CB104)))","v":137.4612651665546},28,null,"نقاط  ورودی",null,null,null,{"$f":"CI121+CJ105","v":31.025238551326837},{"$f":"CJ121","v":121.70498983133906},"شیفت 18f",null,null,{"$f":"'متغیرها '!C57","v":0},"شیفت عمودی تکه پهلو",null,{"$f":"CQ124+CR105","v":37.132525025672678},{"$f":"CR124+CR106","v":114.58285372837247},"شیفت 14f",null,{"$f":"AZ181-CZ122","v":18.896469111540618},{"$f":"BA181","v":71.580000000000013},53,null,{"$f":"CY113-(CY106-CY109)","v":26.917036},72.292082676386613,"50'''s",null,32.230039999999995,87.271202973762882,"45شیفت",null,{"$f":"BK122","v":39.087906522700877},{"$f":"BL122","v":112.47276584720476},"شیفت8",null,{"$f":"DK110+DH109","v":45.475365487730663},{"$f":"DL110-0.5*(CZ114-CZ106)","v":64.579103145596122},"شیفت43''m",null,null,{"$f":"BW135","v":25.588962427831195},{"$f":"BX135","v":132.10743514081653},"b6","نقطه حلقه آستین",{"$f":"CE118","v":34.784913290103987},{"$f":"CF118","v":122.47136150521011},"b6","نقطه حلقه آستین",null,null,{"$f":"BW133+BT130","v":31.193714930354844},{"$f":"BX133","v":126.81666578358194},"شیفتb8",null,{"$f":"BW114","v":11.995530171826225},{"$f":"BX114","v":141.44270341296786},"e5",null,null,null,null,null,26.917036,72.292082676386613,"50'''s",null,{"$f":"BD178","v":33.525039999999997},{"$f":"BE178","v":103.92120297376289},"شیفت 41",null,null,null,null,null,{"$f":"DP167","v":33.529513291284651},{"$f":"DQ167","v":118.05441764822794},"a2",null,{"$f":"DY152+CB112","v":35.891298348860708},{"$f":"DZ152+CB113","v":135.5582862620688},"شیفت 18b",null,null,null,"پهلو ترک",null,null,null,null,null,null,null,null,null,null,null,{"$f":"-CM105-GK101","v":-17.435924455871671},125.98834966465331,"شیفت 20f",null,null,null,null,null,{"$f":"-EX105-GK101","v":-19.077114512269336},{"$f":"EY105","v":71.975601486881459},"شیفت 49'm",null,{"$f":"-ED104-GK101","v":-26.174132720781841},{"$f":"EE104","v":127.53660236827258},"شیفتb14",null,{"$f":"-EL104-GK101","v":-23.525039999999997},{"$f":"EM104","v":103.92120297376289},"شیفت 41",null,{"$f":"-EP106-GK101","v":-16.917036},72.292082676386613,"50'''s",null,{"$f":"-CR158-GK101","v":-6.6470061485776561},{"$f":"CS158","v":92.82},"d5",null,{"$f":"-DY259-GK101","v":-6.306469111540622},{"$f":"DZ259","v":71.580000000000013},52,null,null,null,null,null,{"$f":"-CP242-GK101","v":-22.40504},{"$f":"CQ242","v":86.1},"m4"]
[null,null,null,null,"فاصله نوار زانو تا زمین","h",null,{"$f":"'متغیرها '!U59+'متغیرها '!C63*'متغیرها '!U59","v":41.1},{"$f":"'متغیرها '!U59","v":41.1},null,1,2,"e3","نقطه قرینه خواسته",null,null,{"$f":"L115-L134","v":26.85},{"$f":"L127+L135","v":22.262314084874003},18,null,{"$f":"L143","v":8.0408000000000008},{"$f":"L114","v":46.4},25,null,null,null,null,null,null,null,null,{"$f":"AR130","v":24.04873684164081},{"$f":"AS130","v":11.500698788825929},16,null,14.958048618978436,38.647172040995443,"36-",null,null,null,null,null,null,null,null,null,null,"(1 → 6)",{"$f":"AX110+(AX111-AX108)*TAN(AX101)","v":30.894694877454754},null,{"$f":"AX107+AX99","v":35.894694877454754},{"$f":"0+AX98","v":71.580000000000013},6,null,{"$f":"J248","v":3.3200600000000002},{"$f":"K248","v":114.42},"e1",null,"(5 → 6)",{"$f":"H108-H114+Y128+0.5*(H106-H104)","v":11.444704632477549},null,null,null,null,null,null,null,null,null,8.3405012711042659,137.41708606643653,28,"نقطه یقه",{"$f":"BS104+SQRT(POWER(BS107-BS104,2)+POWER(BT107-BT104,2))*SIN(BT103-ATAN((BS104-BS107)/(BT107-BT104)))","v":8.3405012711042676},{"$f":"BT104+SQRT(POWER(BS107-BS104,2)+POWER(BT107-BT104,2))*COS(BT103-ATAN((BS104-BS107)/(BT107-BT104)))","v":137.41708606643653},28,null,{"$f":"BK132","v":18.339368512476952},{"$f":"BL132","v":136.67575118749201},26,"نقطه یقه",{"$f":"CA104+SQRT(POWER(CA107-CA104,2)+POWER(CB107-CB104,2))*SIN(CB103-ATAN((CA104-CA107)/(CB107-CB104)))","v":18.339368512476952},{"$f":"CB104+SQRT(POWER(CA107-CA104,2)+POWER(CB107-CB104,2))*COS(CB103-ATAN((CA104-CA107)/(CB107-CB104)))","v":136.67575118749201},26,null,"مولفه افقی","مولفه عمودی","اسم نقطه ",null,{"$f":"CI110+CJ105","v":35.844145557703101},{"$f":"CJ110","v":119.86926418849009},"شیفت 12",null,null,{"$f":"'متغیرها '!C71","v":0.05},"x6",null,{"$f":"CQ113+CR105","v":40.811706522700881},{"$f":"CR113+CR106","v":112.47276584720476},"شیفت 9",null,{"$f":"AZ166","v":16.953969111540619},{"$f":"BA166","v":100.5},39,null,{"$f":"CY114-(CY106-CY109)","v":29.640039999999999},72.371202973762905,"49's",null,32.230039999999995,72.371202973762905,"49'شیفت",null,{"$f":"BO170","v":39.087906522700877},{"$f":"BP170","v":107.99088584720475},"شیفت10",null,{"$f":"DK106","v":39.087906522700877},{"$f":"DL106+0.5*(DP102-DL106)","v":113.09333384720475},"شیفت8'm",null,null,{"$f":"BW134","v":28.654272756814162},{"$f":"BX134","v":128.00364177662831},"b10","نقطه حلقه آستین",{"$f":"CE117","v":36.076039530151412},{"$f":"CF117","v":116.47262696058199},"b10","نقطه حلقه آستین",null,null,{"$f":"IF('متغیرها '!C119=1,DT123,BW134)+BT130","v":28.654272756814162},{"$f":"IF('متغیرها '!C119=1,DU123,BX134)","v":128.00364177662831},"شیفت b10 یا b'10g",null,{"$f":"BW117","v":4.4957399631022845},{"$f":"BX117","v":138.20730158273469},"e9",null,{"$f":"AZ172","v":32.230039999999995},{"$f":"BA172","v":87.271202973762882},"شیفت 45",null,29.640039999999999,72.371202973762905,"49's",null,null,null,"باسن",null,{"$f":"DG124","v":29.077114512269336},{"$f":"DH124","v":71.975601486881459},{"$f":"DI124","v":"49'شیفتm"},null,{"$f":"DP171","v":21.268917448267011},{"$f":"DQ171","v":113.40697588340515},"a6",null,null,null,null,null,{"$f":"BO170","v":39.087906522700877},{"$f":"BP170","v":107.99088584720475},"شیفت 10",null,{"$f":"DO102","v":42.240832010431539},113.71390184720475,{"$f":"DQ102","v":"شیفت8m"},null,{"$f":"DO102","v":42.240832010431539},113.71390184720475,"شیفت8m",null,null,null,{"$f":"-CM106-GK101","v":-21.025238551326837},121.70498983133906,"شیفت 18f",null,{"$f":"-CM116-GK101","v":-8.8029748525491378},{"$f":"CN116","v":145.28971244334878},"شیفت وسط 22f",null,null,null,null,null,{"$f":"-ED105-GK101","v":-24.581596165257494},126.8768192529092,"شیفتb4",null,{"$f":"-EL107-GK101","v":-22.230039999999995},{"$f":"EM107","v":87.271202973762882},"شیفت 45",null,{"$f":"-EP107-GK101","v":-19.640039999999999},72.371202973762905,"49's",null,null,null,null,null,null,null,null,null,{"$f":"-AG282-GK101","v":-7.9545411342352992},{"$f":"AH282","v":71.580000000000013},"3'",null,null,null,null,null,{"$f":"-DN243-GK101","v":-20.857237622711477},{"$f":"DO243","v":72.064000000000007},"p7"]
[null,null,null,null,"فاصله نوار باسن تا زمین","j",null,{"$f":"'متغیرها '!U60+'متغیرها '!C63*'متغیرها '!U60","v":77.5},{"$f":"'متغیرها '!U60","v":77.5},null,{"$f":"K107+2*(SIN(ATAN((K106-K105)/(L106-L105)))*(L107-L105)+COS(ATAN((K106-K105)/(L106-L105)))*(K105-K107))*COS(ATAN((K106-K105)/(L106-L105)))","v":2},{"$f":"L107-2*(SIN(ATAN((K106-K105)/(L106-L105)))*(L107-L105)+COS(ATAN((K106-K105)/(L106-L105)))*(K105-K107))*SIN(ATAN((K106-K105)/(L106-L105)))","v":1.0000000000000002},"e11","نقطه قرینه شده نسبت به خط تقارن",null,null,{"$f":"L115","v":29.9},{"$f":"L127","v":21.242314084874003},12,null,{"$f":"L143+L150","v":14.082355507010465},{"$f":"L114-L151","v":45.59454230206422},32,null,null,null,null,null,null,null,null,{"$f":"AR126+0.5*(AR130-AR126)","v":23.860588420820402},{"$f":"IF(G151>0,AS126+0.65*(AS130-AS126),AS126)","v":7.475454212736854},null,null,14.317492134977584,36.695675578523556,"36--",null,null,null,null,null,null,null,null,null,null,"(6 → 7)",{"$f":"AX166","v":0.79120297376289095},null,{"$f":"AX107+AX99","v":35.894694877454754},{"$f":"AX108+AX98","v":72.371202973762905},7,null,{"$f":"J244","v":12.516127859984596},{"$f":"K244","v":143.70353910958187},"e7",{"$f":"0.5*'متغیرها '!U73+AE127","v":23.20576289543752},"(1 → 7)",{"$f":"0.5*H121+'متغیرها '!C61*H120+AD127","v":24.08790652270088},null,null,null,null,null,{"$f":"BK150","v":15},{"$f":"BL150","v":112.8},"سینه",null,{"$f":"BD105","v":5},{"$f":"BE105","v":136.36934389257897},26,"نقطه یقه",{"$f":"BS104+SQRT(POWER(BS108-BS104,2)+POWER(BT108-BT104,2))*SIN(BT103-ATAN((BS104-BS108)/(BT108-BT104)))","v":5.0000000000000018},{"$f":"BT104+SQRT(POWER(BS108-BS104,2)+POWER(BT108-BT104,2))*COS(BT103-ATAN((BS104-BS108)/(BT108-BT104)))","v":136.36934389257897},26,null,{"$f":"BK138","v":15},{"$f":"BL138","v":136.41391319447115},24,"نقطه یقه",{"$f":"CA104+SQRT(POWER(CA108-CA104,2)+POWER(CB108-CB104,2))*SIN(CB103-ATAN((CA104-CA108)/(CB108-CB104)))","v":15.000000000000002},{"$f":"CB104+SQRT(POWER(CA108-CA104,2)+POWER(CB108-CB104,2))*COS(CB103-ATAN((CA104-CA108)/(CB108-CB104)))","v":136.41391319447115},24,null,{"$f":"BW163","v":25.588962427831195},{"$f":"BX163","v":132.10743514081653},"b6","با چرخش کامل",{"$f":"CI111+CJ105","v":37.567945557703098},{"$f":"CJ111","v":119.86926418849009},"شیفت 13",null,null,{"$f":"'متغیرها '!C76","v":0.35000000000000003},"x8",null,null,null,null,null,{"$f":"AZ176","v":16.306469111540622},{"$f":"BA176","v":84.3},"47'",null,{"$f":"CY115-(CY106-CY109)","v":29.640039999999999},87.271202973762882,"45s",null,{"$f":"AZ181","v":18.896469111540618},{"$f":"BA181","v":71.580000000000013},"53شیفت",null,{"$f":"BK162","v":38.272440000000003},{"$f":"BL162","v":96.524704632477565},"شیفت36",null,{"$f":"DK103+0.35*(DK104-DK103)","v":35.237286717747608},{"$f":"DL104+0.45*(DL103-DL104)","v":119.17145264720476},"شیفت12m",null,null,{"$f":"BW133","v":31.193714930354844},{"$f":"BX133","v":126.81666578358194},"b8","نقطه حلقه آستین",{"$f":"CE116","v":38.227431620563742},{"$f":"CF116","v":113.47336403606502},"b8","نقطه حلقه آستین",null,null,{"$f":"IF('متغیرها '!C119=1,DT122,BW135)+BT130","v":25.588962427831195},{"$f":"IF('متغیرها '!C119=1,DU122,BX135)","v":132.10743514081653},"شیفت b6 یا b'6g",null,null,null,null,null,{"$f":"BD180","v":32.230039999999995},{"$f":"BE180","v":72.371202973762905},"شیفت49'  …",null,null,null,null,null,{"$f":"ET102","v":5},{"$f":"EU102-(H104-H108)","v":82.5},"g46",null,{"$f":"EX110+0.8*(EX107-EX110)","v":27.040985432123591},{"$f":"EY110+0.8*(EY107-EY110)","v":71.896481189505167},null,null,{"$f":"DP172","v":14.963468157572226},{"$f":"DQ172","v":99.464650588936763},"a7",null,{"$f":"CE122+CB112","v":40.811774596123236},{"$f":"CF122+CB113","v":112.47373911807699},"شیفت b14",null,{"$f":"BK162","v":38.272440000000003},{"$f":"BL162","v":96.524704632477565},"شیفت 36",null,42.240832010431539,107.99088584720475,{"$f":"DQ103","v":"شیفت10m"},null,42.240832010431539,107.99088584720475,"شیفت10m",null,null,null,{"$f":"-CM107-GK101","v":-25.844145557703101},119.86926418849009,"شیفت 12",null,{"$f":"-CM117-GK101","v":-7.6014691115406201},{"$f":"CN117","v":122.17},"شیفت5 پیراهن",null,{"$f":"-EX107-GK101","v":-19.077114512269336},{"$f":"EY107","v":71.975601486881459},"شیفت 49'm",null,{"$f":"-ED106-GK101","v":-21.193714930354844},126.81666578358194,"شیفتb8",null,null,null,null,null,null,null,null,null,{"$f":"-CR158-GK101","v":-6.6470061485776561},{"$f":"CS158","v":92.82},"d5",null,{"$f":"-DY261-GK101","v":5},{"$f":"DZ261","v":125.21958742766127},"p26",null,{"$f":"-AG283-GK101","v":-30.249264602708777},{"$f":"AH283","v":74.66656920597832},"c5",null,{"$f":"-CP244-GK101","v":5},{"$f":"CQ244","v":75.382719832213283},"m1",null,{"$f":"-DN244-GK101","v":-20.857237622711477},{"$f":"DO244","v":71.580000000000013},"p8"]
[null,null,null,null,"دور زانو","L",null,{"$f":"'متغیرها '!U61","v":41},{"$f":"'متغیرها '!U61","v":41},null,null,null,null,null,null,null,null,null,null,null,null,null,null,null,null,null,null,null,null,null,null,{"$f":"AR126+0.15*(AR130-AR126)","v":23.728884526246116},{"$f":"IF(G151>0,AS126+0.3*(AS130-AS126),AS126)","v":3.4502096366477786},null,null,{"$f":"AR156","v":13.676935650976734},{"$f":"AS156","v":34.418929705639691},38,null,null,null,null,null,null,null,null,null,null,"(3 → 7)","هلال وصل",null,null,null,null,null,null,null,null,null,"(4 → 7)","هلال وصل",null,{"$f":"BI108-BI114+BI122+BI98+'متغیرها '!C56","v":35.042555899094573},{"$f":"BI110+BI115+BI97+'متغیرها '!C57","v":122.47080584720476},"شیفت19",null,{"$f":"BK151","v":20.883299999999998},{"$f":"BL151","v":112.8},null,null,{"$f":"AZ138","v":19.249863555213253},{"$f":"BA138","v":145.83531262309054},32,"نقطه ساسون سرشانه",{"$f":"BS104+SQRT(POWER(BS109-BS104,2)+POWER(BT109-BT104,2))*SIN(BT103-ATAN((BS104-BS109)/(BT109-BT104)))","v":19.249863555213253},{"$f":"BT104+SQRT(POWER(BS109-BS104,2)+POWER(BT109-BT104,2))*COS(BT103-ATAN((BS104-BS109)/(BT109-BT104)))","v":145.83531262309054},32,null,{"$f":"BK106","v":29.193225623847461},{"$f":"BL106","v":137.7458624935949},30,"نقطه ساسون سرشانه",{"$f":"CA104+SQRT(POWER(CA109-CA104,2)+POWER(CB109-CB104,2))*SIN(CB103-ATAN((CA104-CA109)/(CB109-CB104)))","v":29.193225623847461},{"$f":"CB104+SQRT(POWER(CA109-CA104,2)+POWER(CB109-CB104,2))*COS(CB103-ATAN((CA104-CA109)/(CB109-CB104)))","v":137.7458624935949},30,null,{"$f":"BW105","v":13.351253177760661},{"$f":"BX105","v":146.84676563115454},25,"نقطه اتصال سرشانه به گردن",null,null,null,null,null,{"$f":"'متغیرها '!C78","v":0.2},"x10",null,{"$f":"CQ113+CR105","v":40.811706522700881},{"$f":"CR113+CR106","v":112.47276584720476},"شیفت 9",null,{"$f":"AZ177","v":16.306469111540622},{"$f":"BA177","v":71.580000000000013},52,null,{"$f":"CY118+CZ122","v":31.193714930354844},{"$f":"CZ118","v":126.81666578358194},"b8s",null,null,{"$f":"AX119","v":3.1529254877306601},"(12 →17)",null,{"$f":"BK165","v":42.32244},{"$f":"BL165","v":79.87470463247756},"شیفت42",null,{"$f":"DK104+0.4*(DO107-DK104)","v":37.280911753895992},{"$f":"DP107+0.35*(DL104-DP107)","v":114.27586064720475},"شیفت8''m",null,null,null,{"$f":"'متغیرها '!C120*F137","v":0.16},"g0",null,null,null,null,null,null,null,{"$f":"IF('متغیرها '!C119=1,DT121,BW136)+BT130","v":24.340417771240173},{"$f":"IF('متغیرها '!C119=1,DU121,BX136)","v":138.03027214395152},"شیفت b12 یا b'12g",null,{"$f":"BW117","v":4.4957399631022845},{"$f":"BX117","v":138.20730158273469},"e9",null,null,null,"چیب",null,{"$f":"DC107","v":29.640039999999999},{"$f":"DD107","v":72.371202973762905},"49's",null,{"$f":"AZ176","v":16.306469111540622},{"$f":"EU108","v":82.5},"g47'",null,{"$f":"EX110+0.5*(EX107-EX110)","v":23.986791811904979},{"$f":"EY110+0.2*(EY107-EY110)","v":71.659120297376305},null,null,{"$f":"DP170","v":16.014376372688023},{"$f":"DQ170","v":71.580000000000013},"a5",null,{"$f":"CE123+CB112","v":39.088285176239033},{"$f":"CF123+CB113","v":107.99173967653896},"شیفت b2",null,null,null,null,null,41.425365487730666,96.524704632477565,{"$f":"DQ104","v":"شیفت36m"},null,{"$f":"DO105","v":45.475365487730663},79.87470463247756,"شیفت42m",null,null,null,{"$f":"-CM108-GK101","v":-27.567945557703098},119.86926418849009,"شیفت 13",null,null,null,null,null,{"$f":"-EX108-GK101","v":-17.040985432123591},{"$f":"EY108","v":71.896481189505167},null,null,{"$f":"-ED107-GK101","v":-18.654272756814162},128.00364177662831,"شیفت b10 یا b'10g",null,{"$f":"-EL107-GK101","v":-22.230039999999995},{"$f":"EM107","v":87.271202973762882},"شیفت 45",null,{"$f":"-EP109-GK101","v":-19.640039999999999},{"$f":"EQ109","v":72.371202973762905},"49's",null,{"$f":"-CR161-GK101","v":5},{"$f":"CS161","v":95.7},"_u5",null,{"$f":"-DY262-GK101","v":5},{"$f":"DZ262","v":71.580000000000013},1,null,{"$f":"-AG284-GK101","v":-52.543988071182255},{"$f":"AH284","v":81.868564019927717},"c2",null,{"$f":"-CP245-GK101","v":-0.27999999999999936},{"$f":"CQ245","v":75.382719832213283},"m2"]
[null,null,null,null,"بلندی فاق","m",null,{"$f":"1.06*'متغیرها '!U62+0.03*'متغیرها '!U56*'متغیرها '!U66*IF('متغیرها '!U66=1,0.2,0.6)+'متغیرها '!C63*'متغیرها '!U62","v":26.5},{"$f":"1.06*'متغیرها '!U62+0.03*'متغیرها '!U56*'متغیرها '!U66*IF('متغیرها '!U66=1,0.2,0.6)","v":26.5},null,null,null,null,null,null,null,null,null,null,null,{"$f":"L115-L132+L138-L153","v":23.527994812619404},{"$f":"L127+L133+L139+L154","v":42.665715760454624},34,null,null,null,null,null,null,null,null,{"$f":"AR126","v":23.672439999999995},{"$f":"AS126","v":0},12,null,{"$f":"AR150","v":13.986709634699171},{"$f":"AS150","v":37.832396099617299},"34--",null,null,null,null,null,null,null,null,null,{"$f":"AV104+0.5*(AV100-AV104+BG99-BG108)","v":29.847118552281238},"(1 → 8)",{"$f":"AX104+0.5*(AX100-AX104+BI99-BI108)","v":30.879359517501108},null,{"$f":"0+AX99","v":5},{"$f":"H104-H114+AX98","v":100.5},"کمر",null,{"$f":"AZ131","v":30.484172228560976},{"$f":"BA131","v":91.75},"35شیفت",{"$f":"'متغیرها '!U58-'متغیرها '!U59+H153*(I127-I126)+Y128","v":73.245815743588679},"(7→ 8)",{"$f":"H106-H114+G153*(H127-H126)-AX118*'متغیرها '!C77/(1+'متغیرها '!C77)+Y128","v":45.892765847204743},null,{"$f":"BI108-BI114+BI122+BI98+'متغیرها '!C56","v":35.042555899094573},{"$f":"BI110+BI115+BI123+BI97+'متغیرها '!C57","v":129.37423969210775},"شیفت20",null,"انحنای حلقه یقه پشت",null,null,null,{"$f":"BD98","v":3.3200600000000002},{"$f":"BE98","v":136.36934389257897},"26'","نقطه جادکمه",{"$f":"BS104+SQRT(POWER(BS110-BS104,2)+POWER(BT110-BT104,2))*SIN(BT103-ATAN((BS104-BS110)/(BT110-BT104)))","v":3.3200599999999998},{"$f":"BT104+SQRT(POWER(BS110-BS104,2)+POWER(BT110-BT104,2))*COS(BT103-ATAN((BS104-BS110)/(BT110-BT104)))","v":136.36934389257897},"26'",null,{"$f":"BK153","v":15},{"$f":"BL153","v":113.45561085030904},39,"امتداد نقطه مرکزی چرخش",{"$f":"CA104+SQRT(POWER(CA110-CA104,2)+POWER(CB110-CB104,2))*SIN(CB103-ATAN((CA104-CA110)/(CB110-CB104+0.001)))","v":15.000000042493157},{"$f":"CB104+SQRT(POWER(CA110-CA104,2)+POWER(CB110-CB104,2))*COS(CB103-ATAN((CA104-CA110)/(CB110-CB104+0.001)))","v":113.45661085030544},39,null,{"$f":"AZ113","v":35.844145557703101},{"$f":"BA113","v":119.86926418849009},12,null,{"$f":"CM108","v":37.567945557703098},{"$f":"CN108","v":119.86926418849009},"شیفت13",null,{"$f":"BK103","v":15},{"$f":"BL103","v":139.03229312467974},2,null,{"$f":"CQ115","v":39.087906522700877},{"$f":"CR115","v":107.99088584720475},"شیفت 10",null,{"$f":"BD186-CZ122","v":18.615019999999998},{"$f":"BE186","v":71.580000000000013},50,null,{"$f":"CY119+CZ122","v":34.581596165257494},{"$f":"CZ119","v":126.8768192529092},"b4s",null,null,{"$f":"AX120","v":1.2411359999999998},"(17 →18)",null,{"$f":"BK172","v":42.32244},{"$f":"BL172","v":64.974704632477568},"شیفت43''",null,{"$f":"CE108","v":15.000000000000002},{"$f":"CF108","v":136.41391319447115},"24m",null,null,null,{"$f":"'متغیرها '!C121","v":2},"g1",null,null,null,null,null,null,null,{"$f":"DT151+BT130","v":24.573105577030464},{"$f":"DU151","v":145.30037824350708},"شیفت22b ",null,{"$f":"BW127","v":1.3682872021625769E-2},{"$f":"BX127","v":137.94609570720104},"e10",null,{"$f":"EP178","v":27.70354846332329},{"$f":"EQ178","v":99.389701006989441},"37شیفت ",null,{"$f":"IF(DD108>DD120,DC120,DC108)","v":28.879526664384407},{"$f":"IF(DD108>DD120,DD120,DD108)","v":77.491133440980747},"45s یا s2",null,null,null,null,null,{"$f":"DG108","v":18.896469111540618},{"$f":"DH108","v":71.580000000000013},{"$f":"DI108","v":"53شیفت"},null,null,null,null,null,null,null,null,null,{"$f":"BK162","v":38.272440000000003},{"$f":"BL162","v":96.524704632477565},"شیفت 36",null,45.475365487730663,79.87470463247756,{"$f":"DQ105","v":"شیفت42m"},null,45.475365487730663,64.579103145596122,"شیفت43''m",null,null,null,null,null,null,null,{"$f":"-CM119-GK101","v":-7.6014691115406201},{"$f":"CN119","v":122.17},"شیفت 5 پیراهن",null,{"$f":"-EX109-GK101","v":-13.986791811904979},{"$f":"EY109","v":71.659120297376305},null,null,{"$f":"-ED108-GK101","v":-15.588962427831195},132.10743514081653,"شیفت b6 یا b'6g",null,{"$f":"-EL108-GK101","v":-22.230039999999995},{"$f":"EM108","v":72.371202973762905},"شیفت49'  …",null,{"$f":"-EP110-GK101","v":-18.879526664384407},{"$f":"EQ110","v":77.491133440980747},"45s یا s2",null,null,null,null,null,null,null,null,null,null,null,null,null,null,null,null,null,{"$f":"-DN246-GK101","v":-20.857237622711477},{"$f":"DO246","v":71.580000000000013},"p8"]
[null,null,null,null,"آنفورشور","q",null,{"$f":"1*'متغیرها '!U63+0.6*'متغیرها '!C63*'متغیرها '!U63+0.3*'متغیرها '!C60*'متغیرها '!U63","v":69.212800000000001},{"$f":"1*'متغیرها '!U63","v":68.8},"s3",{"$f":"((I124-I123-I127+I126)-0.5*(1-H154)*('متغیرها '!U70-'متغیرها '!U71)*TAN(0.5*IF(L121=0,0,H162))+(0.5-G148)*'متغیرها '!U71*TAN(0.5*H157))","v":3.1736731982018886},{"$f":"(I124-I123-I127+I126-0.5*(1-H154)*('متغیرها '!U70-'متغیرها '!U71)*TAN(0.5*IF(L121=0,0,H162))+(0.5-G148)*'متغیرها '!U71*TAN(0.5*H157))","v":3.1736731982018886},null,null,null,null,null,null,null,null,{"$f":"L115-L132+L138","v":28.560000000000002},{"$f":"L127+L133+L139","v":39.22651834803014},22,null,null,null,null,null,null,null,null,null,null,null,null,{"$f":"AR149","v":14.089967629273316},{"$f":"AS149","v":39.197782657208343},"34-",null,null,"شیفت عمودی جلو بالاتنه به سانتیمتر",{"$f":"0","v":0},null,null,"شیفت عمودی پشت بالاتنه به سانتیمتر",{"$f":"0","v":0},null,null,"(8 → 9)",{"$f":"H108-H114+L125-0.5*(H106-H104)","v":13.841202973762879},null,null,null,null,null,{"$f":"AZ155","v":27.70354846332329},{"$f":"BA155","v":99.389701006989441},"37شیفت",null,"(8 →9)",{"$f":"AA131","v":1.7238},null,null,null,null,null,{"$f":"BK104","v":23.348421281192373},{"$f":"BL104","v":139.03229312467974},23,null,{"$f":"AZ103","v":5},{"$f":"BT104","v":120.2},4,"امتداد نقطه مرکزی چرخش",{"$f":"BS104+SQRT(POWER(BS111-BS104,2)+POWER(BT111-BT104,2))*SIN(BT103-ATAN((BS104-BS111)/(BT111-BT104+0.001)))","v":5.0000000396779143},{"$f":"BT104+SQRT(POWER(BS111-BS104,2)+POWER(BT111-BT104,2))*COS(BT103-ATAN((BS104-BS111)/(BT111-BT104+0.001)))","v":120.20099999999685},4,null," انتقال قسمتی از ساسون سرشانه به ساسون زیر بغل به روش چرخش",null,null,null,null,null,null,null,{"$f":"BD156-CJ105","v":37.567945557703098},{"$f":"BE156","v":119.86926418849009},13,"نقطه انتهایی\n زیر حلقه",{"$f":"CI112","v":35.844145557703101},{"$f":"CJ112","v":115.38738418849009},"شیفت14",null,"کارور پشت",{"$f":"H129","v":38.76},"v3",null,null,null,null,null,{"$f":"BD185-CZ122","v":22.699525999999999},{"$f":"BE185","v":71.738240594752597},"50'",null,{"$f":"CY120+CZ122","v":36.174132720781841},{"$f":"CZ120","v":127.53660236827258},"b14s",null,{"$f":"O168","v":0},{"$f":"P168","v":0},25,null,{"$f":"BK177","v":25.8416},{"$f":"BL177","v":66.580000000000013},"شیفت50",null,{"$f":"CE105","v":23.348421281192373},{"$f":"CF105","v":139.03229312467974},"23m",null,null,{"$f":"BS135","v":29.538294582241775},{"$f":"BT135","v":128.14350418849008},16,"نقطه حلقه آستین بدون چرخش",{"$f":"CA118","v":34.785538025546387},{"$f":"CB118","v":122.47080584720476},12,"نقطه حلقه آستین بدون چرخش",null,null,null,null,null,null,null,null,null,null,{"$f":"EP179","v":33.264795993798657},{"$f":"EQ179","v":84.110298993010559},"شیفت37'",null,null,null,null,null,{"$f":"AZ180","v":18.896469111540618},{"$f":"EU109","v":82.5},"g47''",null,null,null,"کمر ",null,{"$f":"DC126-DT171","v":31.428670677526835},{"$f":"DD126","v":126.82083753647137},"بدون شیفتb'8s",null,{"$f":"CE123+CB112","v":39.088285176239033},{"$f":"CF123+CB113","v":107.99173967653896},"شیفت b2",null,{"$f":"BK165","v":42.32244},{"$f":"BL165","v":79.87470463247756},"شیفت 42",null,45.475365487730663,64.579103145596122,{"$f":"DQ106","v":"شیفت43''m"},null,null,null,null,null,null,null,{"$f":"-CM110-GK101","v":-27.567945557703098},{"$f":"CN110","v":119.86926418849009},"شیفت13",null,{"$f":"-CM120-GK101","v":-7.6014691115406201},{"$f":"CN120","v":120.2},"شیفت 5 بالاتنه",null,{"$f":"-EX110-GK101","v":-8.8964691115406183},{"$f":"EY110","v":71.580000000000013},"شیفت 53",null,{"$f":"-ED109-GK101","v":-14.340417771240173},138.03027214395152,"شیفت b12 یا b'12g",null,null,null,"چیب",null,null,null,null,null,{"$f":"-CR161-GK101","v":5},{"$f":"CS161","v":95.7},"_u5",null,null,null,"49'",null,null,null,null,null,{"$f":"-CP247-GK101","v":-0.27999999999999936},{"$f":"CQ247","v":75.382719832213283},"m2",null,{"$f":"-DN247-GK101","v":7.2010354010064104},{"$f":"DO247","v":71.580000000000013},"p6"]
[null,null,null,null,"دور مچ پا","r",null,{"$f":"'متغیرها '!U64","v":29.4},{"$f":"0.8*'متغیرها '!U61","v":32.800000000000004},"فاصله لبه دامن یا پیراهن تا زمین  (به سانتیمتر)    k",{"$f":"IF('متغیرها '!C67<1,'متغیرها '!C67*'متغیرها '!U59,IF('متغیرها '!C67<2,'متغیرها '!U59+('متغیرها '!C67-1)*('متغیرها '!U60-'متغیرها '!U59),IF('متغیرها '!C67<3,'متغیرها '!U60+('متغیرها '!C67-2)*(I105-'متغیرها '!U60),I105+('متغیرها '!C67-3)*(H127-H126))))","v":66.580000000000013},null,null,null,null,null,null,null,null,null,null,null,null,null,null,null,null,null,null,null,null,null,null,null,null,{"$f":"AR148","v":14.193225623847461},{"$f":"AS148","v":41.245862493594906},34,null,null,null,null,null,null,null,null,null,null,"(1 → 10)",{"$f":"AX104-0.85*AX117","v":25.484172228560976},null,{"$f":"AX104+AX99","v":35.844145557703101},{"$f":"0+AX98","v":71.580000000000013},3,null,null,null,null,null,"(8 → 10)",{"$f":"AA132","v":4.4818800000000003},null,{"$f":"BI108-BI114+BI98+'متغیرها '!C56","v":34.785538025546387},{"$f":"BI110+BI115+BI97+'متغیرها '!C57","v":122.47080584720476},"شیفت12",null,{"$f":"BK135","v":21.261315960894279},{"$f":"BL135","v":137.4612651665546},28,null,{"$f":"BD98","v":3.3200600000000002},{"$f":"BT104","v":120.2},"4'",null,{"$f":"BS104+SQRT(POWER(BS112-BS104,2)+POWER(BT112-BT104,2))*SIN(BT103-ATAN((BS104-BS112)/(BT112-BT104+0.001)))","v":3.3200600350105507},{"$f":"BT104+SQRT(POWER(BS112-BS104,2)+POWER(BT112-BT104,2))*COS(BT103-ATAN((BS104-BS112)/(BT112-BT104+0.001)))","v":120.20099999999755},"4'",null,null,{"$f":"'متغیرها '!C56","v":0},"شیفت افقی",null,null,null,null,null,{"$f":"BD155","v":35.844145557703101},{"$f":"BE155","v":115.38738418849009},"شیفت14",null,null,null,"سرشانه بدون ساسون",null,{"$f":"BK104","v":23.348421281192373},{"$f":"BL104","v":139.03229312467974},23,"نقطه اتصال سرشانه به گردن",{"$f":"CU102","v":34.251864630769326},{"$f":"CV102","v":135.91818674906824}," شیفت 18f",null,{"$f":"BD184-CZ122","v":26.103280999999996},{"$f":"BE184","v":72.015161635569598},"50''",null,{"$f":"CY121+CZ122","v":36.297032265202304},{"$f":"CZ121","v":122.73622420854588},"b2s",null,{"$f":"BW144","v":24.463474035591126},{"$f":"BX144","v":144.52135929212406},"b16",null,{"$f":"BK161","v":26.7666},{"$f":"BL161","v":96.5},"شیفت35",null,{"$f":"CE107","v":18.339368512476952},{"$f":"CF107","v":136.67575118749201},"26m",null,null,{"$f":"BS134","v":30.799464777334041},{"$f":"BT134","v":123.17896018849009},20,"نقطه حلقه آستین بدون چرخش",{"$f":"CA117","v":36.076248574692741},{"$f":"CB117","v":116.47198184720476},16,"نقطه حلقه آستین بدون چرخش",null,null,null,null,"سرشانه با ساسون متغیر",null,{"$f":"BW118","v":18.292212144602942},{"$f":"BX118","v":154.35437113608901},"a2",null,null,null,null,null,{"$f":"EP110","v":28.879526664384407},{"$f":"EQ110","v":77.491133440980747},{"$f":"ER110","v":"45s یا s2"},null,{"$f":"AZ172","v":32.230039999999995},{"$f":"BE178-(H105-H108)","v":85.421202973762888},"g45",null,{"$f":"DG122","v":30.372114512269338},{"$f":"DH122","v":103.92120297376289},{"$f":"DI122","v":"41شیفتm"},null,{"$f":"DP173","v":30.757114512269336},{"$f":"DQ173","v":71.975601486881459},"a8",null,{"$f":"CE125+CB112","v":30.462991956810264},{"$f":"CF125+CB113","v":111.81634661238928},"شیفت b",null,null,null,null,null,null,null,null,null,{"$f":"DO106","v":45.475365487730663},{"$f":"DP106","v":64.579103145596122},{"$f":"DQ106","v":"شیفت43''m"},null,null,null,{"$f":"-CM111-GK101","v":-25.844145557703101},{"$f":"CN111","v":115.38738418849009},"شیفت14",null,null,null,null,null,null,null,"کمر ",null,{"$f":"-ED110-GK101","v":-14.573105577030464},145.30037824350708,"شیفت22b ",null,{"$f":"-EP178-GK101","v":-17.70354846332329},{"$f":"EQ178","v":99.389701006989441},"37شیفت ",null,{"$f":"-EP112-GK101","v":-18.879526664384407},{"$f":"EQ112","v":77.491133440980747},{"$f":"GT110","v":"45s یا s2"},null,{"$f":"-CR164-GK101","v":5},{"$f":"CS164","v":95.7},"d4",null,{"$f":"-DY265-GK101","v":6.6799400000000002},{"$f":"DZ265","v":125.21958742766127},"p10",null,null,null,"92'",null,{"$f":"-CP248-GK101","v":-0.27999999999999936},{"$f":"CQ248","v":73.382719832213283},"m12"]
[null,null,null,null,null,null,null,null,null,"متغیرهای خروجی جلو (رسم کاربر)",null,"شبیه ساز",null,null,null,null,{"$f":"AN120","v":12.60146911154062},{"$f":"AO120","v":21.669999999999998},6,null,null,null,null,null,"شبیه ساز","متغیرهای خروجی پشت بالاتنه (رسم کاربر)",null,null,null,null,null,{"$f":"AR121","v":11.7666},{"$f":"AS121","v":24.222301214727199},7,null,null,null,null,null,"نقاط جلو بالاتنه",null,null,null,"نقاط پشت بالاتنه",null,null,null,{"$f":"'متغیرها '!U56-H114+H153*(I127-I126)+L125","v":50.162314084873984},"(3 → 12)",{"$f":"H104-H114+G153*(H127-H126)-AX118*'متغیرها '!C77/(1+'متغیرها '!C77)+L125","v":48.289264188490073},null,{"$f":"AX104+AX99","v":35.844145557703101},{"$f":"AX113+AX98","v":119.86926418849009},12,null,{"$f":"AZ131","v":30.484172228560976},{"$f":"BA131","v":91.75},"35شیفت",null,"(9 → 10→ 6→ 4)","وصل",null,{"$f":"BI108-BI114+BI98+'متغیرها '!C56","v":34.785538025546387},{"$f":"BI110+BI97+'متغیرها '!C57","v":112.47276584720476},"شیفت11",null,{"$f":"BK132","v":18.339368512476952},{"$f":"BL132","v":136.67575118749201},26,null,{"$f":"J244","v":12.516127859984596},{"$f":"K244","v":143.70353910958187},"e7",null,{"$f":"BS104+SQRT(POWER(BS113-BS104,2)+POWER(BT113-BT104,2))*SIN(BT103-ATAN((BS104-BS113)/(BT113-BT104)))","v":12.516127859984596},{"$f":"BT104+SQRT(POWER(BS113-BS104,2)+POWER(BT113-BT104,2))*COS(BT103-ATAN((BS104-BS113)/(BT113-BT104)))","v":143.70353910958187},"e7",null,null,{"$f":"'متغیرها '!C57","v":0},"شیفت عمودی",null,null,null,null,null,"α2",{"$f":"0.5*(P139+0.3*(P140-P139)+AE139+0.3*(AE140-AE139))","v":0.27820102979369776},"زاویه سرشانه با افق",null,{"$f":"CM102","v":24.254696527337614},{"$f":"CN102","v":143.73265925554304},"شیفت22f",null,{"$f":"BK114-CR105","v":40.811706522700881},{"$f":"BL114-CR106","v":112.47276584720476},9,"نقطه انتهایی\n زیر حلقه",{"$f":"CU119+CR105","v":28.800142955980849},{"$f":"CV119+CR106","v":137.475239936874},"شیفت وسط 18f",null,{"$f":"BD183-CZ122","v":29.507035999999996},{"$f":"BE183","v":72.292082676386613},"50'''",null,{"$f":"CY103+CZ122","v":17.60146911154062},{"$f":"CZ103","v":118.23},"43s",null,{"$f":"DD572","v":33.189437055267248},85.409735249698898,"10r","شلوار",{"$f":"BO191","v":25.8416},{"$f":"BP191","v":79.400000000000006},"شیفت38''",null,{"$f":"CE106","v":21.261315960894279},{"$f":"CF106","v":137.4612651665546},"28m",null,null,null,null,"محاسبات",null,null,null,"محاسبات",null,null,null,{"$f":"DT150+BT130","v":19.285573818370313},{"$f":"DU150","v":146.1460520422572},"شیفت 34b",null,{"$f":"BW119","v":15.327636764497575},{"$f":"BX119","v":150.60056838362178},"a13",null,null,null," ترک وسط با ساسون",null,{"$f":"DC120","v":28.879526664384407},{"$f":"DD120","v":77.491133440980747},"s2",null,null,null,"زانو",null,{"$f":"AZ167+BT130","v":18.248969111540617},{"$f":"BA167","v":100.5},"شیفت 40",null,null,null,null,null,null,null,null,null,{"$f":"BK165","v":42.32244},{"$f":"BL165","v":79.87470463247756},"شیفت 42",null,{"$f":"DO106","v":45.475365487730663},{"$f":"DP106","v":64.579103145596122},{"$f":"DQ106","v":"شیفت43''m"},null,{"$f":"FR115+0.6*(FR112-FR115)","v":37.621859292638398},{"$f":"FS115+0.8*(FS112-FS115)","v":64.9792825164769},null,null,null,null,null,null,null,null,{"$f":"-CM122-GK101","v":-7.6014691115406201},{"$f":"CN122","v":120.2},"شیفت 5 بالاتنه",null,{"$f":"-EX112-GK101","v":-20.372114512269338},{"$f":"EY112","v":103.92120297376289},"شیفت 41m",null,null,null,null,null,{"$f":"-EP179-GK101","v":-23.264795993798657},{"$f":"EQ179","v":84.110298993010559},"شیفت37'",null,{"$f":"-EP113-GK101","v":-18.879526664384407},{"$f":"EQ113","v":77.491133440980747},"s2",null,null,null,null,null,{"$f":"-DY266-GK101","v":6.6799400000000002},{"$f":"DZ266","v":95.7},"26''",null,{"$f":"-EP151-GK101","v":6.6799400000000002},{"$f":"EQ151","v":114.42},"e1",null,null,null,null,null,{"$f":"-DN249-GK101","v":7.2010354010064104},{"$f":"DO249","v":71.580000000000013},"p6"]
[null,null,null,null,"شلوار زنانه و بچگانه = 0       مردانه=1      بچه با پوشک=2",null,null,{"$f":"K112","v":66.580000000000013},"K","(1 → 2)",{"$f":"H124-('متغیرها '!C71)*0.5*G167*SIN(O139)","v":46.346765631154526},{"$f":"I124","v":46.4},null,null,null,null,{"$f":"AN121","v":12.60146911154062},{"$f":"AO121","v":17.73},7,null,"انحنای حلقه آستین جلو",null,null,null,{"$f":"I127","v":42.6},"(1 → 2)",{"$f":"H127-('متغیرها '!C71)*0.5*G167*SIN(AD139)","v":42.532293124679747},null,null,null,null,{"$f":"AR122","v":11.7666},{"$f":"AS122","v":16.955610850309043},8,null,null,null,null,null,"مولفه افقی","مولفه عمودی","اسم نقطه ",null,"مولفه افقی","مولفه عمودی","اسم نقطه ",null,null,"(12 → 13)",{"$f":"K128","v":1.7238},null,{"$f":"AX104-AX117+AX99","v":29.538294582241775},{"$f":"AX113+AX98","v":119.86926418849009},15,null,{"$f":"AX112+AX144+AX99+'متغیرها '!C55","v":33.264795993798657},{"$f":"AX143-AX145+AX98","v":84.110298993010559}," شیفت 37'",{"$f":"Y135","v":4.2057628954375215},"(8 → 11)",{"$f":"AA135","v":4.3023684971544887},null,{"$f":"BI108+BI111+BI98+'متغیرها '!C56","v":40.811706522700881},{"$f":"BI110+BI97+'متغیرها '!C57","v":112.47276584720476},"شیفت9",null,{"$f":"BK138","v":15},{"$f":"BL138","v":136.41391319447115},24,null,{"$f":"J245","v":11.995530171826225},{"$f":"K245","v":141.44270341296786},"e5",null,{"$f":"BS104+SQRT(POWER(BS114-BS104,2)+POWER(BT114-BT104,2))*SIN(BT103-ATAN((BS104-BS114)/(BT114-BT104)))","v":11.995530171826225},{"$f":"BT104+SQRT(POWER(BS114-BS104,2)+POWER(BT114-BT104,2))*COS(BT103-ATAN((BS104-BS114)/(BT114-BT104)))","v":141.44270341296786},"e5",null,null,{"$f":"(CC126-CC125)","v":6.9295915390261672E-5},"زاویه چرخش به ساسون زیر بغل",null,null,null,null,null,{"$f":"H167","v":12.190021336724966},{"$f":"G167","v":12.599369737130157},"W",null,{"$f":"CM132+CJ105","v":18.802974852549138},{"$f":"CN132","v":145.28971244334878},"شیفت وسط 22f",null,{"$f":"BK122-CR105","v":39.087906522700877},{"$f":"BL122-CR106","v":112.47276584720476},8,null,null,null,null,null,{"$f":"BD180-CZ122","v":32.230039999999995},{"$f":"BE180","v":72.371202973762905},"49'",null,{"$f":"CY117+CZ122","v":35.844145557703101},{"$f":"CZ117","v":115.38738418849009},"14s",null,28.612277964358157,46.1,"7r",null,{"$f":"BO114","v":15},{"$f":"BP114","v":136.41391319447115},24,null,{"$f":"DX103","v":35.891298348860708},{"$f":"DY103","v":135.5582862620688},"18m",null,null,"(b12→22g)",{"$f":"SQRT(POWER(DT105-DT103,2)+POWER(DU105-DU103,2))","v":7.2738288620064804},null,null,"(b12→18p)",{"$f":"SQRT(POWER(DX105-DX103,2)+POWER(DY105-DY103,2))","v":6.241600539074617},null,null,null,null,{"$f":"DT151+BT130","v":24.573105577030464},{"$f":"DU151","v":145.30037824350708},"شیفت22b ",null,{"$f":"BW105","v":13.351253177760661},{"$f":"BX105","v":146.84676563115454},"چرخیده 25",null,{"$f":"AZ181","v":18.896469111540618},{"$f":"BA181","v":71.580000000000013},"شیفت 53",null,null,null,null,null,{"$f":"ET108","v":5},{"$f":"BA165-(H104-H107)","v":46.1},"g1",null,null,null,"چیب",null,{"$f":"DP173","v":30.757114512269336},{"$f":"DQ173","v":71.975601486881459},"a8",null,{"$f":"CE125+CB112","v":30.462991956810264},{"$f":"CF125+CB113","v":111.81634661238928},"شیفت b",null,{"$f":"BK172","v":42.32244},{"$f":"BL172","v":64.974704632477568},"شیفت 43''",null,{"$f":"FN116+0.6*(FN113-FN116)","v":37.621859292638398},{"$f":"FO116+0.8*(FO113-FO116)","v":64.9792825164769},null,null,{"$f":"FR115+0.3*(FR112-FR115)","v":31.731729646319199},{"$f":"FS115+0.2*(FS112-FS115)","v":66.179820629119234},null,null,null,null,null,null,"8'",null,{"$f":"-CM123-GK101","v":-7.6014691115406201},{"$f":"CN123","v":118.23},"شیفت 43",null,{"$f":"-EX113-GK101","v":-8.2489691115406174},{"$f":"EY113","v":100.5},"شیفت 40",null,null,null,"5'",null,null,null,null,null,null,null,null,null,{"$f":"-CR166-GK101","v":-7.6014691115406201},{"$f":"CS166","v":118.23},"شیفت 43",null,null,null,null,null,{"$f":"-EP152-GK101","v":6.6799400000000002},114.00120475166054,"8n",null,{"$f":"-CP250-GK101","v":-0.27999999999999936},{"$f":"CQ250","v":73.382719832213283},"m12",null,{"$f":"-DN250-GK101","v":7.2010354010064104},{"$f":"DO250","v":72.064000000000007},"p5"]
[null,null,null,null,null,null,null,null,null,"(1 → 3)",{"$f":"0.5*(H120-H121)+'متغیرها '!C61*H120-'متغیرها '!C77*O128*H130*((L115-L120-L121-L124)/(L127-L125))","v":30.844145557703097},{"$f":"0.5*('متغیرها '!U72-'متغیرها '!U73)","v":29.9},null,null,null,null,{"$f":"AN119","v":12.60146911154062},{"$f":"AO119","v":19.7},5,null,{"$f":"AN136","v":28.249929425595901},{"$f":"AO136","v":39.542916096020754},22,null,{"$f":"0.5*'متغیرها '!U73+AE127","v":23.20576289543752},"(1 → 3)",{"$f":"0.5*H121+'متغیرها '!C61*H120+AD127-'متغیرها '!C77*O128*H130*((Y115-Y121-Y123-Y124-Y127)/(Y130))","v":24.04873684164081},null,null,null,null,{"$f":"AR120","v":11.7666},{"$f":"AS120","v":16.3},6,null,{"$f":"AR138","v":20.603094589646929},{"$f":"AS138","v":38.532316688649537},24,null,0,{"$f":"0+AP111","v":0},1,null,0,{"$f":"AT111","v":0},1,null,{"$f":"L129","v":0},"(12 → 14)",{"$f":"K129","v":4.4818800000000003},null,{"$f":"AX104-AX117+AX99","v":29.538294582241775},{"$f":"AX113+AX118+AX98","v":128.14350418849008},16,null,null,null,null,8.5,"(11 →12)",9.9980400000000014,null,null,null,null,null,null,null,null,null,{"$f":"J262","v":0.23528088816711445},{"$f":"K262","v":136.36934389257897},"e3",null,{"$f":"BS104+SQRT(POWER(BS115-BS104,2)+POWER(BT115-BT104,2))*SIN(BT103-ATAN((BS104-BS115)/(BT115-BT104)))","v":0.23528088816711445},{"$f":"BT104+SQRT(POWER(BS115-BS104,2)+POWER(BT115-BT104,2))*COS(BT103-ATAN((BS104-BS115)/(BT115-BT104)))","v":136.36934389257897},"e3",null,{"$f":"BK122-CB112","v":39.087906522700877},{"$f":"BL122-CB113","v":112.47276584720476},8,"نقطه حلقه آستین",{"$f":"CA104+SQRT(POWER(CA115-CA104,2)+POWER(CB115-CB104,2))*SIN(IF(CB115=CB104,RADIANS(90)-CB114,ATAN((CA115-CA104)/ABS(CB115-CB104))+IF(CB115>CB104,-1,1)*CB114))","v":39.087974600262015},{"$f":"CB104+IF(CB115<CB104,-1,1)*SQRT(POWER(CA115-CA104,2)+POWER(CB115-CB104,2))*COS(IF(CB115=CB104,RADIANS(90)-CB114,ATAN((CA115-CA104)/ABS(CB115-CB104))+IF(CB115>CB104,-1,1)*CB114))","v":112.47361966577814},"b4",null,"نقاط حلقه آستین جلو بدون ساسون سرشانه",null,null,null,null,null,null,null,{"$f":"BO170","v":39.087906522700877},{"$f":"BP170","v":107.99088584720475},"شیفت10",null,{"$f":"CU113","v":28.800142955980849},{"$f":"CV113","v":137.475239936874},"شیفت وسط 18f",null,{"$f":"AZ172-CZ122","v":32.230039999999995},{"$f":"BA172","v":87.271202973762882},45,null,{"$f":"DC113+CZ127*SIN(CZ123+CZ131)","v":24.98580723376763},{"$f":"DD113-CZ127*COS(CZ123+CZ131)","v":102.09792924802817},"40s",null,27.310005237085434,5,"5r",null,{"$f":"BO113","v":18.339368512476952},{"$f":"BP113","v":136.67575118749201},26,null,{"$f":"DX121","v":34.879841159792562},{"$f":"DY121","v":129.39918473310706},"20m",null,null,"α22g1",{"$f":"ATAN((DU104-DU103)/(DT103-DT104))","v":0.13693899426064979},null,null,"α18p1",{"$f":"ATAN((DY104-DY103)/(DX103-DX104))","v":0.27019723936627893},null,null,null,null,null,null,null,null,null,null,null,null,{"$f":"AZ180","v":18.896469111540618},{"$f":"BA180","v":84.3},"شیفت 47''",null,{"$f":"DC120","v":28.879526664384407},{"$f":"DD120","v":77.491133440980747},"s2",null,{"$f":"ET109","v":16.306469111540622},{"$f":"EU114","v":46.1},"g52",null,{"$f":"EP178","v":27.70354846332329},{"$f":"EQ178","v":99.389701006989441},"37شیفت ",null,{"$f":"EX105-'متغیرها '!C55","v":29.077114512269336},{"$f":"EY105","v":71.975601486881459},"49'm",null,{"$f":"BO170","v":39.087906522700877},{"$f":"BP170","v":107.99088584720475},"شیفت 10",null,null,null,"پایین لباس پهلو",null,{"$f":"FN116+0.3*(FN113-FN116)","v":31.731729646319199},{"$f":"FO116+0.2*(FO113-FO116)","v":66.179820629119234},null,null,{"$f":"DK111","v":25.8416},{"$f":"DL111","v":66.580000000000013},{"$f":"DM111","v":"شیفت50"},null,null,null,{"$f":"-DD153-GK101","v":-14.573105577030464},{"$f":"DE153","v":145.30037824350708},39,null,null,null,null,null,null,null,"چیب",null,{"$f":"-ED113-GK101","v":-9.2855738183703131},{"$f":"EE113","v":146.1460520422572},"شیفت 34b",null,null,null,"17'",null,{"$f":"-EP115-GK101","v":-18.879526664384407},{"$f":"EQ115","v":77.491133440980747},"s2",null,{"$f":"-CR167-GK101","v":-8.2489691115406174},{"$f":"CS167","v":100.5}," شیفت40 یا dd5",null,{"$f":"-DY268-GK101","v":6.6799400000000002},{"$f":"DZ268","v":95.7},"26''",null,{"$f":"-EP153-GK101","v":4.6009364008218849},102.83746985314761,"7n",null,{"$f":"-CP251-GK101","v":5},{"$f":"CQ251","v":73.382719832213283},"m11"]
[null,null,null,null,null,null,null,null,null,"(1→ 4)",{"$f":"H124-H123","v":19.7},{"$f":"I124-I123","v":19.7},null,null,null,null,{"$f":"AN118","v":0},{"$f":"AO118","v":19.7},4,null,{"$f":"AN138","v":25.651785035248011},{"$f":"AO138","v":33.593210142255423},24,null,{"$f":"I127-I126","v":16.3},"(1→ 4)",{"$f":"H127-H126","v":16.3},null,null,null,null,{"$f":"AR118","v":0},{"$f":"AS118","v":16.3},4,null,{"$f":"AR140","v":20.003386218034503},{"$f":"AS140","v":32.884052633728913},26,null,0,{"$f":"K114+AP111","v":46.346765631154526},2,null,0,{"$f":"AA114+AT111","v":42.532293124679747},2,null,null,"(13 → 14→ 9→ 7)","وصل",null,null,null,null,null,{"$f":"BD155","v":35.844145557703101},{"$f":"BE155","v":115.38738418849009},"14شیفت",0.84115257908750429,"(8 → 13)",0.8604736994308978,null,{"$f":"BI108-BI118+BI98+'متغیرها '!C56","v":36.076248574692741},{"$f":"BI110+BI97+'متغیرها '!C57","v":112.47276584720476},"شیفت15",null,{"$f":"BK101","v":28.676935650976734},{"$f":"BL101","v":130.9189297056397},22,null,{"$f":"J248","v":3.3200600000000002},{"$f":"K248","v":114.42},"e1",null,null,null,null,null,{"$f":"BO105-CB112","v":38.227432823269979},{"$f":"BP105-CB113","v":113.47256984720475},14,"نقطه حلقه آستین",{"$f":"CA104+SQRT(POWER(CA116-CA104,2)+POWER(CB116-CB104,2))*SIN(IF(CB116=CB104,RADIANS(90)-CB114,ATAN((CA116-CA104)/ABS(CB116-CB104))+IF(CB116>CB104,-1,1)*CB114))","v":38.227431620563742},{"$f":"CB104+IF(CB116<CB104,-1,1)*SQRT(POWER(CA116-CA104,2)+POWER(CB116-CB104,2))*COS(IF(CB116=CB104,RADIANS(90)-CB114,ATAN((CA116-CA104)/ABS(CB116-CB104))+IF(CB116>CB104,-1,1)*CB114))","v":113.47336403606502},"b8",null,"مولفه افقی","مولفه عمودی","اسم نقطه ",null,{"$f":"CM114","v":18.802974852549138},{"$f":"CN114","v":145.28971244334878},"شیفت وسط 22f",null,"α4",{"$f":"0.5*(P139+0.3*(P140-P139)+AE139+0.3*(AE140-AE139))","v":0.27820102979369776},"زاویه سرشانه با افق",null,{"$f":"CQ104+CR105","v":26.7666},{"$f":"CR104+CR106","v":113.45561085030904},"شیفت40",null,{"$f":"AZ168","v":33.525039999999997},{"$f":"BA168","v":103.92120297376289},41,null,{"$f":"DC115+CZ128*SIN(CZ123-CZ132)","v":31.784539040583354},{"$f":"DD115-CZ128*COS(CZ123-CZ132)","v":87.379352480249551},"47''s",null,27.310005237085434,5,"1r",null,{"$f":"BO112","v":21.261315960894279},{"$f":"BP112","v":137.4612651665546},28,null,{"$f":"DK122","v":15},{"$f":"DL122+0.5*DL121","v":131.66544174271922},"21m",null,null,"α22g2",{"$f":"ATAN((DU103-DU105)/(DT103-DT105))","v":1.5388011403458912},null,null,"α18p2",{"$f":"ATAN((DY103-DY105)/(DX103-DX105))","v":1.4342137942000008},null,null,null,null,{"$f":"DT150+BT130","v":19.285573818370313},{"$f":"DU150","v":146.1460520422572},"شیفت 34b",null,{"$f":"BW118","v":18.292212144602942},{"$f":"BX118","v":154.35437113608901},"a2",null,null,null,null,null,{"$f":"CY108","v":16.306469111540622},{"$f":"CZ108","v":84.3},"47'",null,null,null,null,null,{"$f":"EP179","v":33.264795993798657},{"$f":"EQ179","v":84.110298993010559},"شیفت37'",null,null,null,null,null,null,null,null,null,{"$f":"BK172","v":42.32244},64.974704632477568,"شیفت43''",null,{"$f":"DK111","v":25.8416},{"$f":"DL111","v":66.580000000000013},{"$f":"DM111","v":"شیفت50"},null,null,null,null,null,null,null,{"$f":"-DD154-GK101","v":-14.340417771240173},{"$f":"DE154","v":138.03027214395152},37,null,{"$f":"-CM125-GK101","v":-7.6014691115406201},{"$f":"CN125","v":118.23},43,null,{"$f":"-EX115-GK101","v":-17.70354846332329},{"$f":"EY115","v":99.389701006989441},"37شیفت ",null,{"$f":"-ED114-GK101","v":-14.573105577030464},{"$f":"EE114","v":145.30037824350708},"شیفت22b ",null,{"$f":"-EL114-GK101","v":-8.8964691115406183},{"$f":"EM114","v":71.580000000000013},"شیفت 53",null,{"$f":"-EP116-GK101","v":-6.306469111540622},{"$f":"EQ116","v":84.3},"47'",null,null,null,null,null,{"$f":"-DY269-GK101","v":5},{"$f":"DZ269","v":95.7},"d4",null,{"$f":"-EP154-GK101","v":1.1359304021916952},98.079156617715867,"6n",null,null,null,null,null,{"$f":"-DN252-GK101","v":7.2010354010064104},{"$f":"DO252","v":72.064000000000007},"p5"]
[null,null,null,null,"اندازه ها در بالاتنه",null,null,"اندازه محاسبه ",null,"(4 → 5)",{"$f":"0.5*G154*(H120-H121)","v":12.60146911154062},{"$f":"0.5*H154*('متغیرها '!U72-'متغیرها '!U73)","v":12.41264},null,null,null,null,{"$f":"AN115","v":0},{"$f":"AO115","v":0},1,null,{"$f":"AN130","v":24.538294582241775},{"$f":"AO130","v":27.643504188490091},16,null,{"$f":"0.75*I127","v":31.950000000000003},"(1 → 5)",{"$f":"'متغیرها '!C83*H127","v":31.950000000000003},null,null,null,null,{"$f":"AR115","v":0},{"$f":"AS115","v":0},1,null,{"$f":"AR132","v":19.746368344486321},{"$f":"AS132","v":25.980618788825929},18,null,{"$f":"K115","v":30.844145557703097},{"$f":"0+AP111","v":0},3,null,{"$f":"AA115","v":24.04873684164081},{"$f":"AT111","v":0},3,null,{"$f":"L132","v":6.0999999999999979},"(12 → 15)",{"$f":"K132","v":6.3058509754613201},null,{"$f":"AX104-AX119+AX99","v":32.691220069972438},{"$f":"AX113+AX98","v":119.86926418849009},17,null,{"$f":"BW148+'متغیرها '!C55","v":19.425736756156869},{"$f":"BX148","v":120.08757592151784}," شیفت b",0.85000000000000009,"(13 → 14)",0.99980400000000014,null,{"$f":"BI108-BI118+BI98+'متغیرها '!C56","v":36.076248574692741},{"$f":"BI110+BI119+BI97+'متغیرها '!C57","v":116.47198184720476},"شیفت16",null,{"$f":"BK154","v":26.7666},{"$f":"BL154","v":113.45561085030904},40,null,{"$f":"J246","v":4.4957399631022836},{"$f":"K246","v":138.20730158273469},"e9",null,{"$f":"BS104+SQRT(POWER(BS117-BS104,2)+POWER(BT117-BT104,2))*SIN(BT103-ATAN((BS104-BS117)/(BT117-BT104)))","v":4.4957399631022845},{"$f":"BT104+SQRT(POWER(BS117-BS104,2)+POWER(BT117-BT104,2))*COS(BT103-ATAN((BS104-BS117)/(BT117-BT104)))","v":138.20730158273469},{"$f":"BU117","v":"e9"},null,{"$f":"BO104-CB112","v":36.076248574692741},{"$f":"BP104-CB113","v":116.47198184720476},16,"نقطه حلقه آستین",{"$f":"CA104+SQRT(POWER(CA117-CA104,2)+POWER(CB117-CB104,2))*SIN(IF(CB117=CB104,RADIANS(90)-CB114,ATAN((CA117-CA104)/ABS(CB117-CB104))+IF(CB117>CB104,-1,1)*CB114))","v":36.076039530151412},{"$f":"CB104+IF(CB117<CB104,-1,1)*SQRT(POWER(CA117-CA104,2)+POWER(CB117-CB104,2))*COS(IF(CB117=CB104,RADIANS(90)-CB114,ATAN((CA117-CA104)/ABS(CB117-CB104))+IF(CB117>CB104,-1,1)*CB114))","v":116.47262696058199},"b10",null,{"$f":"CI109+CJ114*(1-0.5*'متغیرها '!C76+0.5*'متغیرها '!C78-0.5*'متغیرها '!C71)*COS(CJ113)","v":24.254696527337614},{"$f":"CJ109-CJ114*(1-0.5*'متغیرها '!C76+0.5*'متغیرها '!C78-0.5*'متغیرها '!C71)*SIN(CJ113)","v":143.73265925554304},"22f",null,{"$f":"CI104+CJ105","v":17.60146911154062},{"$f":"CJ104","v":122.17},"شیفت5 پیراهن",null,null,{"$f":"G167","v":12.599369737130157},"w",null,null,null,null,null,{"$f":"BD177-CZ122","v":35.844145557703101},{"$f":"BE177","v":115.38738418849009},14,null,{"$f":"DC112+CZ129*SIN(CZ123-CZ134)","v":38.543193296883473},{"$f":"DD112-CZ129*COS(CZ123-CZ134)","v":111.25553072528933},"41s",null,{"$f":"DD569","v":18.896469111540618},{"$f":"DE569","v":5},"53r",null,{"$f":"BO111","v":23.348421281192373},{"$f":"BP111","v":139.03229312467974},23,null,{"$f":"DO118-CZ146*COS(CZ140)","v":40.568509167895002},{"$f":"DP118+CZ146*SIN(CZ140)","v":77.696002819360857},"s''2m","امتداد جیب",null,"α22g",{"$f":"DU115+DU116","v":1.675740134606541},null,null,"α18p",{"$f":"DY115+DY116","v":1.7044110335662799},null,null,null,null,{"$f":"BS128+BT130","v":17.60146911154062},{"$f":"BT128","v":122.17},"شیفت 5 پیراهن",null,{"$f":"BW120","v":13.179570593859246},{"$f":"BX120","v":160.10276611527121},"a4",null,{"$f":"AZ180","v":18.896469111540618},{"$f":"BA180","v":84.3},"شیفت 47''",null,null,null,null,null,{"$f":"ET111","v":18.896469111540618},{"$f":"EU114","v":46.1},"g53",null,null,null,null,null,{"$f":"FB109","v":16.014376372688023},{"$f":"FC109","v":71.580000000000013},"a5",null,null,null,"سرشانه با ساسون ",null,39.590195999999999,65.135234169229818,"41''''",null,null,null,null,null,null,null,null,null,null,null,{"$f":"-DD155-GK101","v":-15.588962427831195},{"$f":"DE155","v":132.10743514081653},35,null,{"$f":"-CM126-GK101","v":-7.6014691115406201},{"$f":"CN126","v":120.2}," 5 بالاتنه",null,{"$f":"-EX116-GK101","v":-23.264795993798657},{"$f":"EY116","v":84.110298993010559},"شیفت37'",null,null,null,null,null,{"$f":"-EL115-GK101","v":-8.8964691115406183},{"$f":"EM115","v":84.3},"شیفت 47''",null,null,null,null,null,{"$f":"-CR167-GK101","v":-8.2489691115406174},{"$f":"CS167","v":100.5}," شیفت40 یا dd5",null,null,null,null,null,{"$f":"-EP155-GK101","v":-3.9816169188621249},95.7,"5n",null,{"$f":"-CP253-GK101","v":5},{"$f":"CQ253","v":73.382719832213283},"m11",null,{"$f":"-DN253-GK101","v":2.8621999999999996},{"$f":"DO253","v":72.931100000000001},"p4"]
[null,null,null,null,"دور کمر","a",null,{"$f":"'متغیرها '!U70+0.3*'متغیرها '!C60*('متغیرها '!U52+'متغیرها '!U54+'متغیرها '!U72)","v":98.847999999999999},null,"(5 → 6)",{"$f":"'متغیرها '!C90*(H124-H123)","v":1.9699999999999995},{"$f":"0.2*(H124-H123)","v":3.94},null,null,null,null,{"$f":"AN122","v":11.30646911154062},0,8,null,{"$f":"AN134","v":25.799464777334041},{"$f":"AO134","v":22.678960188490091},20,null,{"$f":"H148*'متغیرها '!U73","v":11.55},"(4 → 6)",{"$f":"G148*H121","v":11.7666},null,null,null,null,{"$f":"AR123","v":0},0,9,null,{"$f":"AR136","v":21.037078893632668},{"$f":"AS136","v":19.98179478882593},22,null,0,{"$f":"K116+AP111","v":19.7},4,null,0,{"$f":"AA116+AT111","v":16.3},4,null,6.8000000000000007,"(15 → 16)",8.2742399999999989,null,{"$f":"AX104-AX119+AX99","v":32.691220069972438},{"$f":"AX113+AX120+AX98","v":121.11040018849008},18,null,null,null,"کش سویشرت",2.944034026806265,"(8 → 15)",3.0116579480081418,null,null,null,null,null,null,null,null,null,{"$f":"J251","v":18.292212144602942},{"$f":"K251","v":154.35437113608901},"a2",null,{"$f":"BS104+SQRT(POWER(BS118-BS104,2)+POWER(BT118-BT104,2))*SIN(BT103-ATAN((BS104-BS118)/(BT118-BT104)))","v":18.292212144602942},{"$f":"BT104+SQRT(POWER(BS118-BS104,2)+POWER(BT118-BT104,2))*COS(BT103-ATAN((BS104-BS118)/(BT118-BT104)))","v":154.35437113608901},"a2",null,{"$f":"BO103-CB112","v":34.785538025546387},{"$f":"BP103-CB113","v":122.47080584720476},12,"نقطه حلقه آستین",{"$f":"CA104+SQRT(POWER(CA118-CA104,2)+POWER(CB118-CB104,2))*SIN(ATAN((CA118-CA104)/(CB118-CB104))-CB114)","v":34.784913290103987},{"$f":"CB104+SQRT(POWER(CA118-CA104,2)+POWER(CB118-CB104,2))*COS(ATAN((CA118-CA104)/(CB118-CB104))-CB114)","v":122.47136150521011},"b6",null,{"$f":"CI119+IF(CI117>CI119,0.3,0.7)*(CI117-CI119)","v":24.654976297485689},{"$f":"CJ119+0.5*(CJ117-CJ119)","v":137.92004719817979},"24f",null,null,null,null,null,"نقاط حلقه آستین پشت بدون ساسون سرشانه",null,null,null,{"$f":"CQ104","v":26.7666},{"$f":"CR104","v":113.45561085030904},40,null,{"$f":"BW133","v":31.193714930354844},{"$f":"BX133","v":126.81666578358194},"b8",null,{"$f":"CY105+(CY115-CY105+3)*COS(CZ136-RADIANS('متغیرها '!C187))","v":33.259160594267243},{"$f":"CZ105-(CY115-CY105+3)*SIN(CZ136-RADIANS('متغیرها '!C187))","v":76.521913388220739},"s''2",null,null,{"$f":"'متغیرها '!C55","v":0},"شیفت افقی",null,{"$f":"BO101-DL120","v":35.642264270707003},{"$f":"BP101","v":135.02250374702837},18,null,{"$f":"DO104+CZ148*SIN(CZ143)","v":45.37250426157685},{"$f":"DP104-CZ148*COS(CZ143)","v":80.297578562221005},"s'2m",null,null,"αb12g",{"$f":"DU110*DY118","v":-5.2372343055351857E-2},null,null,"αb12p",{"$f":"(RADIANS(180)-DU117-DY117+DU109)*(1/(1+DU110))","v":-2.6186171527675928E-2},null,null,null,null,null,null,null,null,null,null,null,null,{"$f":"AZ167+BT130","v":18.248969111540617},{"$f":"BA167","v":100.5},"شیفت 40",null,{"$f":"DC112","v":36.297032265202304},{"$f":"DD112","v":122.73622420854588},"b2s",null,{"$f":"ET112","v":32.230039999999995},{"$f":"BE178-(H105-H107)","v":49.02120297376289},"g49",null,null,null,"پهلو جدا روی جیب با ساسون",null,{"$f":"FB115","v":29.077114512269336},{"$f":"FC115","v":71.975601486881459},"49'm",null,{"$f":"CE105","v":23.348421281192373},{"$f":"CF105","v":139.03229312467974},23,null,36.174891000000002,65.697087547862665,"41'''",null,{"$f":"DK105","v":26.7666},{"$f":"DL105","v":113.45561085030904},{"$f":"DM105","v":"شیفت40"},null,{"$f":"DK103","v":34.785538025546387},{"$f":"DL103","v":122.47080584720476},{"$f":"DM103","v":"شیفت12p"},null,null,null,null,null,null,null,null,null,null,null,null,null,null,null,{"$f":"-ED116-GK101","v":-9.2855738183703131},{"$f":"EE116","v":146.1460520422572},"شیفت 34b",null,null,null,null,null,{"$f":"-EP118-GK101","v":-26.297032265202304},{"$f":"EQ118","v":122.73622420854588},"b2s",null,{"$f":"-CR170-GK101","v":-8.5559320745035805},{"$f":"CS170","v":92.82}," dd5",null,{"$f":"-DY271-GK101","v":5},{"$f":"DZ271","v":125.21958742766127},"p26",null,{"$f":"-EP156-GK101","v":-6.6470061485776561},92.82,"d5",null,{"$f":"-CP254-GK101","v":5},{"$f":"CQ254","v":79.133767890938628},"m9",null,{"$f":"-DN254-GK101","v":5},{"$f":"DO254","v":74},"p3"]
[null,null,null,null,"نوار کمر از پشت بین دو خط پهلو","b",null,{"$f":"'متغیرها '!U71+0.3*'متغیرها '!C60*('متغیرها '!U53+'متغیرها '!U55+'متغیرها '!U73)","v":45.4664},null,"(5 → 7)",{"$f":"'متغیرها '!C88*(H124-H123)","v":1.9699999999999995},{"$f":"0*(I124-I123)","v":0},null,null,null,null,13.89646911154062,0,9,null,{"$f":"AN132","v":27.691220069972438},{"$f":"AO132","v":20.610400188490093},18,null,{"$f":"(H153-1)*(I127-I126)+0.2*'متغیرها '!U82","v":8.3211111111111116},"(6 → 7)",{"$f":"(G153-1)*(H127-H126)+0.2*H130","v":7.9223012147271996},null,null,null,null,11.566600000000001,0,10,null,{"$f":"AR134","v":23.188263142209912},{"$f":"AS134","v":16.98238278882593},20,null,{"$f":"K117","v":12.60146911154062},{"$f":"K116+AP111","v":19.7},5,null,0,{"$f":"AA117+AT111","v":31.950000000000003},5,null,3.0499999999999989,"(12 → 17)",3.1529254877306601,null,null,null,null,null,{"$f":"AZ106","v":5},{"$f":"BA151+'متغیرها '!C278*('متغیرها '!U60-'متغیرها '!U59)","v":74.501202973762901},null,3.4000000000000004,"(15 →16)",3.9992160000000005,null,{"$f":"BI108-BI116+BI98+'متغیرها '!C56","v":38.227432823269979},{"$f":"BI110+BI97+'متغیرها '!C57","v":112.47276584720476},"شیفت13",null,{"$f":"BK155","v":26.7666},{"$f":"BL155","v":79.400000000000006},38,null,{"$f":"J257","v":15.327636764497575},{"$f":"K257","v":150.60056838362178},"a13",null,{"$f":"BS104+SQRT(POWER(BS119-BS104,2)+POWER(BT119-BT104,2))*SIN(BT103-ATAN((BS104-BS119)/(BT119-BT104)))","v":15.327636764497575},{"$f":"BT104+SQRT(POWER(BS119-BS104,2)+POWER(BT119-BT104,2))*COS(BT103-ATAN((BS104-BS119)/(BT119-BT104)))","v":150.60056838362178},"a13",null,{"$f":"BO102-CB112","v":35.042555899094573},{"$f":"BP102-CB113","v":129.37423969210775},20,"نقطه حلقه آستین",{"$f":"CA104+SQRT(POWER(CA119-CA104,2)+POWER(CB119-CB104,2))*SIN(ATAN((CA119-CA104)/(CB119-CB104))-CB114)","v":35.04145278326785},{"$f":"CB104+SQRT(POWER(CA119-CA104,2)+POWER(CB119-CB104,2))*COS(ATAN((CA119-CA104)/(CB119-CB104))-CB114)","v":129.37481314382703},"b12",null,{"$f":"CI108","v":25.588962427831195},{"$f":"CJ108","v":132.10743514081653},"16f",null,{"$f":"BS128+BT130","v":17.60146911154062},{"$f":"BT128","v":122.17},"شیفت 5 پیراهن",null,"مولفه افقی","مولفه عمودی","اسم نقطه ",null,{"$f":"CU122+0.5*(CQ120-CU122)","v":28.800142955980849},{"$f":"CR120+0.5*(CV122-CR120)","v":137.475239936874}," وسط 18f",null,{"$f":"BW132","v":34.581596165257494},{"$f":"BX132","v":126.8768192529092},"b4",null,{"$f":"DD134","v":31.469526664384404},{"$f":"DE134","v":77.491133440980747},"s'2",null,"نقاط  خروجی",null,null,null,{"$f":"BO102-DL120","v":35.042555899094573},{"$f":"BP102","v":129.37423969210775},20,null,{"$f":"CE109","v":29.193225623847461},{"$f":"CF109","v":137.7458624935949},"30m",null,null,"نقاط  خروجی ",null,null,null,"نقاط  خروجی ",null,null,null,null,null,{"$f":"BS104+BT130","v":17.60146911154062},{"$f":"BT104","v":120.2},"شیفت 5 بالاتنه",null,{"$f":"BW120","v":13.179570593859246},160.10276611527121,"a4",null,null,null,null,null,{"$f":"DC117","v":38.543193296883473},{"$f":"DD117","v":111.25553072528933},"41s",null,null,null,"سینه",null,{"$f":"DC126","v":31.428670677526835},{"$f":"DD126","v":126.82083753647137},"b'8s",null,null,null,"انگلیسی",null,{"$f":"DY150","v":29.252542099847574},{"$f":"DZ150","v":138.05351892639121},"30b",null,32.759585999999999,66.258940926495526,"41''",null,{"$f":"DK112","v":26.7666},96.5,"شیفت35",null,{"$f":"EE337","v":21.8416},{"$f":"EF337-0.3*DZ168","v":58.099999999999994},"e215",null,null,null,{"$f":"-DD157-GK101","v":-15.588962427831195},{"$f":"DE157","v":132.10743514081653},35,null,{"$f":"-CM128-GK101","v":-7.6014691115406201},{"$f":"CN128","v":120.2}," 5 بالاتنه",null,null,null,"13'",null,{"$f":"-ED117-GK101","v":-7.6014691115406201},{"$f":"EE117","v":122.17},"شیفت 5 پیراهن",null,{"$f":"-EL115-GK101","v":-8.8964691115406183},{"$f":"EM115","v":84.3},"شیفت 47''",null,{"$f":"-EP119-GK101","v":-28.543193296883473},{"$f":"EQ119","v":111.25553072528933},"41s",null,null,null,null,null,{"$f":"-DY272-GK101","v":5},{"$f":"DZ272","v":95.7},"d4"]
[null,null,null,null,"دور سینه : از برجسته ترین قسمت سینه","s1",null,{"$f":"'متغیرها '!U72+0.3*'متغیرها '!C60*('متغیرها '!U52+'متغیرها '!U54+'متغیرها '!U72)","v":107.848},null,"(1 → 8)",{"$f":"0.5*G154*(H120-H121)-IF(G152>0,G152,0)","v":11.30646911154062},{"$f":"0.5*H154*('متغیرها '!U72-'متغیرها '!U73)-IF(H152>0,H152,0)","v":11.11764},null,null,null,null,29.820039999999999,0,10,null,{"$f":"AN126","v":30.844145557703097},{"$f":"AO126","v":19.369264188490092},12,null,{"$f":"(H153*(I127-I126)+0.2*'متغیرها '!U82)*0.9-(I127-I126)","v":5.8590000000000018},"(6 → 8)",{"$f":"(G153*(H127-H126)+0.2*H130)*'متغیرها '!C85-(H127-H126)","v":0.65561085030904209},null,null,null,null,11.966600000000001,0,11,null,{"$f":"AR129","v":25.772536841640811},{"$f":"AS129","v":15.982578788825929},15,null,{"$f":"K117","v":12.60146911154062},{"$f":"K116+K118+AP111","v":21.669999999999998},6,null,{"$f":"AA118","v":11.7666},{"$f":"AA116+AT111","v":16.3},6,null,1.02,"(17 → 18)",1.2411359999999998,null,{"$f":"AX104-AX121+AX99","v":30.799464777334041},{"$f":"AX113+AX98","v":119.86926418849009},19,null,{"$f":"BD154","v":35.879359517501108},{"$f":"BE119","v":74.501202973762901},null,2.04,"(12 → 17)",0.8567262451606088,null,{"$f":"BI108-BI116+BI98+'متغیرها '!C56","v":38.227432823269979},{"$f":"BI110+BI117+BI97+'متغیرها '!C57","v":113.47256984720475},"شیفت14",null,{"$f":"BO119","v":26.7666},{"$f":"BL168","v":66.580000000000013},"38'''",null,{"$f":"J252","v":13.179570593859246},{"$f":"K252","v":160.10276611527121},"a4",null,{"$f":"BS104+SQRT(POWER(BS120-BS104,2)+POWER(BT120-BT104,2))*SIN(BT103-ATAN((BS104-BS120)/(BT120-BT104)))","v":13.179570593859246},{"$f":"BT104+SQRT(POWER(BS120-BS104,2)+POWER(BT120-BT104,2))*COS(BT103-ATAN((BS104-BS120)/(BT120-BT104)))","v":160.10276611527121},"a4",null,{"$f":"BO101-CB112","v":35.642264270707003},{"$f":"BP101-CB113","v":135.02250374702837},18,"نقطه حلقه آستین",{"$f":"CA104+SQRT(POWER(CA120-CA104,2)+POWER(CB120-CB104,2))*SIN(ATAN((CA120-CA104)/(CB120-CB104))-CB114)","v":35.640769751812662},{"$f":"CB104+SQRT(POWER(CA120-CA104,2)+POWER(CB120-CB104,2))*COS(ATAN((CA120-CA104)/(CB120-CB104))-CB114)","v":135.02311874252692},"b16",null,{"$f":"CI110-0.85*(CI110-CI119)+CJ114*0.07*'متغیرها '!C76","v":27.435924455871671},{"$f":"CJ110+0.5*(CJ119-CJ110)","v":125.98834966465331},"20f",null,{"$f":"BS104+BT130","v":17.60146911154062},{"$f":"BT104","v":120.2},"شیفت 5 بالاتنه",null,{"$f":"CQ112+CR117*(1-0.5*CR108+0.5*CR109-0.5*CR107)*COS(CR116)","v":34.251864630769326},{"$f":"CR112-CR117*(1-0.5*CR108+0.5*CR109-0.5*CR107)*SIN(CR116)","v":135.91818674906824},"18f",null,null,null,null,null,{"$f":"BW139","v":36.174132720781841},{"$f":"BX139","v":127.53660236827258},"b14",null,{"$f":"DC119-CY106+CY109","v":28.879526664384407},{"$f":"DD119","v":77.491133440980747},"s2",null,"مولفه افقی","مولفه عمودی","اسم نقطه ",null,null,{"$f":"'متغیرها '!C56","v":0},"شیفت افقی",null,{"$f":"CE121","v":30.849633376452225},{"$f":"CF121","v":137.41438796731742},"32m",null,null,"مولفه افقی","مولفه عمودی","اسم نقطه ",null,"مولفه افقی","مولفه عمودی","اسم نقطه ",null,null,null,{"$f":"BS128+BT130","v":17.60146911154062},{"$f":"BT128","v":122.17},"شیفت 5 پیراهن",null,8.2439092239108085,154.87431844543332,"a6",null,{"$f":"AZ167+BT130","v":18.248969111540617},{"$f":"BA167","v":100.5},"شیفت 40",null,null,null,null,null,{"$f":"ET108","v":5},{"$f":"BA165+(H124-H123)","v":120.2},"g4",null,{"$f":"DC124","v":35.630355905042464},{"$f":"DD124","v":109.28799775998449},"41m",null,{"$f":"DU176","v":3.3200600000000002},106.545,"e''1",null,null,null,null,null,28.66122,66.580000000000013,"شیفت41'",null,25.8416,79.400000000000006,"شیفت38''",null,null,null,null,null,null,null,{"$f":"-DD158-GK101","v":-11.994590435500434},{"$f":"DE158","v":128.63807635561241},33,null,{"$f":"-CM129-GK101","v":-7.6014691115406201},{"$f":"CN129","v":122.17}," 5 پیراهن",null,{"$f":"-EX119-GK101","v":-21.428670677526835},{"$f":"EY119","v":126.82083753647137},"b'8s",null,null,null,null,null,{"$f":"-EL118-GK101","v":-8.2489691115406174},{"$f":"EM118","v":100.5},"شیفت 40",null,null,null,null,null,{"$f":"-CR170-GK101","v":-8.5559320745035805},{"$f":"CS170","v":92.82}," dd5",null,null,null,null,null,null,null,"69'",null,{"$f":"-CP256-GK101","v":5},{"$f":"CQ256","v":73.382719832213283},"m11",null,{"$f":"-DN256-GK101","v":5},{"$f":"DO256","v":74},"p3"]
[null,null,null,null,"پشت نوار سینه، بین دو خط پهلو","s2",null,{"$f":"'متغیرها '!U73+0.3*'متغیرها '!C60*('متغیرها '!U53+'متغیرها '!U55+'متغیرها '!U73)","v":47.066400000000002},null,"(8 → 9)",{"$f":"IF(G152>0,2*G152,0)","v":2.59},{"$f":"2*IF(H152>0,H152,0)","v":2.59},null,null,null,null,29.820039999999999,3.4639545184724363,11,null,{"$f":"AN127","v":32.567945557703098},{"$f":"AO127","v":19.369264188490092},13,null,{"$f":"H147","v":0},"(1→ 9)",{"$f":"G147","v":0},null,null,null,null,23.672439999999995,0,12,null,null,null,null,null,{"$f":"K117","v":12.60146911154062},{"$f":"K116-K119+AP111","v":17.73},7,null,{"$f":"AA118","v":11.7666},{"$f":"AA116+AA119+AT111","v":24.222301214727199},7,null,4.879999999999999,"(12 → 19)",5.0446807803690561,null,{"$f":"AX104-AX121+AX99","v":30.799464777334041},{"$f":"AX113+AX122+AX98","v":123.17896018849009},20,null,null,null,null,11.982588409855364,"(17 → 18)",12.551697899823608,null,null,null,null,null,null,null,null,null,{"$f":"J253","v":8.2439092239108067},{"$f":"K253","v":154.87431844543332},"a6",null,{"$f":"BS104+SQRT(POWER(BS121-BS104,2)+POWER(BT121-BT104,2))*SIN(BT103-ATAN((BS104-BS121)/(BT121-BT104)))","v":8.2439092239108085},{"$f":"BT104+SQRT(POWER(BS121-BS104,2)+POWER(BT121-BT104,2))*COS(BT103-ATAN((BS104-BS121)/(BT121-BT104)))","v":154.87431844543332},"a6",null,{"$f":"BK146-CB112","v":30.85129361203964},{"$f":"BL146-CB113","v":137.41410497225814},32,"نقطه ساسون سرشانه",{"$f":"CA104+SQRT(POWER(CA121-CA104,2)+POWER(CB121-CB104,2))*SIN(ATAN((CA121-CA104)/(CB121-CB104))-CB114)","v":30.849633376452225},{"$f":"CB104+SQRT(POWER(CA121-CA104,2)+POWER(CB121-CB104,2))*COS(ATAN((CA121-CA104)/(CB121-CB104))-CB114)","v":137.41438796731742},32,null,{"$f":"CI110-0.5*(CI110-CI119)+CJ114*0.07*'متغیرها '!C76","v":31.025238551326837},{"$f":"CJ110+0.15*(CJ119-CJ110)","v":121.70498983133906},"18f",null,null,null,null,null,{"$f":"CQ122+0.2*(CQ120-CQ122)-CR117*0.05*CR108","v":33.478716729423311},{"$f":"CR122+0.4*(CR120-CR122)","v":128.18119785145331},"20f",null,{"$f":"CU119","v":28.800142955980849},{"$f":"CV119","v":137.475239936874}," وسط 18f",null,{"$f":"BW140","v":36.297032265202304},{"$f":"BX140","v":122.73622420854588},"b2",null,{"$f":"DC117+CZ130*SIN(CZ123+CZ133)","v":43.719579206731716},{"$f":"DD117-CZ130*COS(CZ123+CZ133)","v":95.377730061711119},"45ss",null,{"$f":"DG104-DH109","v":32.691220069972438},{"$f":"DH104","v":115.38738418849009},"14شیفتm",null,null,{"$f":"H170","v":1.4930240741590506},"m'",null,{"$f":"DX122","v":34.59097934193364},{"$f":"DY122","v":122.47136150521011},{"$f":"DZ122","v":"b'6p"},"چرخیده",null,{"$f":"DT103-DU114*COS(DU116+DU118)","v":23.960158357658838},{"$f":"DU103-DU114*SIN(DU116+DU118)","v":138.05242115064132},"b'12g",null,{"$f":"DX103-DY114*COS(DY116+DY118)","v":34.879841159792562},{"$f":"DY103-DY114*SIN(DY116+DY118)","v":129.39918473310706},"b'12p",null,null,null,null,null,null,null,2.6378693888902234,145.62183116900616,"a8",null,{"$f":"AZ161+BT130","v":17.60146911154062},{"$f":"BA161","v":118.23},"شیفت 43",null,{"$f":"DC117","v":38.543193296883473},{"$f":"DD117","v":111.25553072528933},"41s",null,{"$f":"AZ104","v":17.60146911154062},{"$f":"EU120","v":120.2},"g5",null,null,null,null,null,2.9200600000000003,114.42,"e'1",null,{"$f":"DY150","v":29.252542099847574},{"$f":"DZ150","v":138.05351892639121},"30b",null,25.8416,66.580000000000013," شیفت50",null,{"$f":"DK111","v":25.8416},{"$f":"DL111","v":66.580000000000013},{"$f":"DM111","v":"شیفت50"},null,{"$f":"EE337","v":21.8416},{"$f":"EF337-0.3*DZ168","v":58.099999999999994},"e215",null,null,null,{"$f":"-DD159-GK101","v":-8.9593429753100189},{"$f":"DE159","v":123.78097405632661},23,null,null,null,null,null,{"$f":"-EX120-GK101","v":-25.630355905042464},{"$f":"EY120","v":109.28799775998449},"41m",null,{"$f":"-ED119-GK101","v":-7.6014691115406201},{"$f":"EE119","v":120.2},"شیفت 5 بالاتنه",null,null,null,null,null,{"$f":"-EP121-GK101","v":-28.543193296883473},{"$f":"EQ121","v":111.25553072528933},"41s",null,{"$f":"-CR173-GK101","v":-22.778373333333327},{"$f":"CS173","v":94.321202973762894},"d3",null,null,null,"52'",null,{"$f":"-CL286-GK101","v":5},{"$f":"CM286","v":96},"s1",null,{"$f":"-CP257-GK101","v":6.6799400000000002},{"$f":"CQ257","v":73.382719832213283},"m'11",null,{"$f":"-DN257-GK101","v":6.6799400000000002},{"$f":"DO257","v":74},"p'3"]
[null,null,null,null,"فاصله عمودی از خط سینه جلو تا خط سینه پشت که از کنار حلقه آستین بگذرد","t1",null,{"$f":"('متغیرها '!U74-'متغیرها '!U77)-0.5*'متغیرها '!C60*('متغیرها '!U74-'متغیرها '!U77)+'متغیرها '!C63*('متغیرها '!U75-'متغیرها '!U78)","v":20.393999999999998},{"$f":"('متغیرها '!U74-'متغیرها '!U77)","v":20.599999999999998},"(7 → 8)","وصل",null,null,null,null,null,{"$f":"AN124","v":29.820039999999999},{"$f":"AO124","v":0},10,null,null,null,null,null,null,"(9 →5)","وصل",null,null,null,null,23.672439999999995,3.4517574098729416E-2,13,null,null,null,null,null,{"$f":"K120","v":11.30646911154062},{"$f":"0+AP111","v":0},8,null,{"$f":"AA118","v":11.7666},{"$f":"AA116+AA120+AT111","v":16.955610850309043},8,null,2.7200000000000006,"(19 → 20)",3.3096959999999997,null,null,null,null,null,{"$f":"AZ162","v":17.60146911154062},{"$f":"BE119","v":74.501202973762901},null,0.61199999999999999,"(12 → 19)",0.25701787354818262,null,{"$f":"BI108+BI98+'متغیرها '!C56","v":39.087906522700877},{"$f":"BI110+BI97+'متغیرها '!C57","v":112.47276584720476},"شیفت8",null,{"$f":"BO153","v":39.087906522700877},{"$f":"BP153","v":107.99088584720475},"10 شیفت",null,{"$f":"J261","v":2.637869388890222},{"$f":"K261","v":145.62183116900616},"a8",null,{"$f":"BS104+SQRT(POWER(BS122-BS104,2)+POWER(BT122-BT104,2))*SIN(BT103-ATAN((BS104-BS122)/(BT122-BT104)))","v":2.6378693888902234},{"$f":"BT104+SQRT(POWER(BS122-BS104,2)+POWER(BT122-BT104,2))*COS(BT103-ATAN((BS104-BS122)/(BT122-BT104)))","v":145.62183116900616},"a8",null,{"$f":"BO106-CB112","v":40.811706522700881},{"$f":"BP106-CB113","v":112.47276584720476},9,"نقطه حلقه آستین",{"$f":"CA104+SQRT(POWER(CA122-CA104,2)+POWER(CB122-CB104,2))*SIN(IF(CB122=CB104,RADIANS(90)-CB114,ATAN((CA122-CA104)/ABS(CB122-CB104))+IF(CB122>CB104,-1,1)*CB114))","v":40.811774596123236},{"$f":"CB104+IF(CB122<CB104,-1,1)*SQRT(POWER(CA122-CA104,2)+POWER(CB122-CB104,2))*COS(IF(CB122=CB104,RADIANS(90)-CB114,ATAN((CA122-CA104)/ABS(CB122-CB104))+IF(CB122>CB104,-1,1)*CB114))","v":112.47373911807699},"b14",null,null,null,null,null,{"$f":"BS104+BT130","v":17.60146911154062},{"$f":"BT104","v":120.2},"شیفت 5 بالاتنه",null,{"$f":"CQ110+0.5*CR111+CR117*(0.2*CR109-0.3*CR108)","v":33.561040967086534},{"$f":"CR113+0.45*(CR120-CR113)","v":123.02320525304333},"12f",null,{"$f":"CQ112","v":23.348421281192373},{"$f":"CR112","v":139.03229312467974},23,null,null,{"$f":"'متغیرها '!C55","v":0},"شیفت افقی",null,{"$f":"DC121-CZ135*SIN(CZ123+CZ133)","v":46.760140804814938},{"$f":"DD121+CZ135*COS(CZ123+CZ133)","v":86.051255606271695},"ss2",null,{"$f":"DG105-DH109","v":30.372114512269338},{"$f":"DH105","v":103.92120297376289},"41شیفتm",null,{"$f":"BK102","v":15},{"$f":"BL102","v":130.9189297056397},21,null,{"$f":"DK129+DH109","v":41.924138469510019},{"$f":"DL129","v":78.051797208102542},"p10rm","شلوار",null,{"$f":"DT106+1.2*(DT121-DT105)","v":25.132651131533592},{"$f":"DU106","v":132.10743514081653},"b'6g",null,{"$f":"DX106+1.2*(DX121-DX105)","v":34.59097934193364},{"$f":"DY106","v":122.47136150521011},"b'6p",null,null,null,{"$f":"BS104+BT130","v":17.60146911154062},{"$f":"BT104","v":120.2},"شیفت 5 بالاتنه",null,{"$f":"BW115","v":0.23528088816711445},{"$f":"BX115","v":136.36934389257897},"e3",null,null,null,null,null,{"$f":"DC122","v":46.760140804814938},{"$f":"DD122","v":86.051255606271695},"ss2",null,null,null,null,null,{"$f":"DC124","v":35.630355905042464},{"$f":"DD124","v":109.28799775998449},"41m",null,1.7281468616064877,121.47782871216032,"e''10",null,{"$f":"BK101","v":28.676935650976734},{"$f":"BL101","v":130.9189297056397},22,null,{"$f":"BO176","v":15},{"$f":"BP176","v":66.580000000000013},47,null,null,null,null,null,{"$f":"EE341","v":21.8416},{"$f":"EF341","v":66.580000000000013},"e216",null,null,null,{"$f":"-DD160-GK101","v":-7.6014691115406201},{"$f":"DE160","v":118.23},43,null,{"$f":"-CM131-GK101","v":-7.6014691115406201},{"$f":"CN131","v":122.17},"5پیراهن",null,null,null,null,null,{"$f":"-ED120-GK101","v":-7.6014691115406201},{"$f":"EE120","v":122.17},"شیفت 5 پیراهن",null,{"$f":"-EL118-GK101","v":-8.2489691115406174},{"$f":"EM118","v":100.5},"شیفت 40",null,{"$f":"-EP122-GK101","v":-36.760140804814938},{"$f":"EQ122","v":86.051255606271695},"ss2",null,null,null,null,null,{"$f":"-AW268-GK101","v":-3.3512531777606629},{"$f":"AX268","v":146.84676563115454},25,null,{"$f":"-CL287-GK101","v":5},{"$f":"CM287","v":125.21958742766127},"p26"]
[null,null,null,null,"فاصله عمودی از خط سینه جلو تا خط سینه پشت که از کنارگردن بگذرد","t2",null,{"$f":"'متغیرها '!U75-'متغیرها '!U78+'متغیرها '!C63*('متغیرها '!U75-'متغیرها '!U78)","v":26.7},{"$f":"'متغیرها '!U75-'متغیرها '!U78","v":26.7},"(7 → 9)","وصل",null,null,null,null,null,{"$f":"AN117","v":30.844145557703097},{"$f":"AO117","v":0},3,null,null,null,null,null,{"$f":"Y118-H151-H147","v":11.350000000000001},"(9 → 10)",{"$f":"AA118-AA121-G151","v":11.566600000000001},null,null,null,null,{"$f":"AR126","v":23.672439999999995},{"$f":"AS126","v":0},12,null,null,null,null,null,{"$f":"K120+K121","v":13.89646911154062},{"$f":"0+AP111","v":0},9,null,{"$f":"AA121","v":0},{"$f":"AT111","v":0},9,null,4.7600000000000007,"(16 → 21)",3.7116348433541253,null,{"$f":"AZ115","v":29.538294582241775},{"$f":"BA115","v":128.14350418849008},16,null,{"$f":"BD122","v":17.60146911154062},{"$f":"BA106","v":71.580000000000013},null,6.5904236254204509,"(19 → 20)",6.9034338449029855,null,{"$f":"BI108+BI98+'متغیرها '!C56","v":39.087906522700877},{"$f":"0+BI97+'متغیرها '!C57","v":66.580000000000013},"شیفت7",null,{"$f":"#REF!+'متغیرها '!C56","v":{"$error":"#REF!"}},{"$f":"#REF!+'متغیرها '!C57","v":{"$error":"#REF!"}},"b شیفت",null,{"$f":"J263","v":1.1607146217169801},{"$f":"K263","v":125.39467194628949},"a11",null,{"$f":"IF(BS116>BW115,BS116-0.7*(BS116-BW115),BW115-0.7*(BW115-BS116))","v":1.1607146217169801},{"$f":"BT123","v":125.39467194628949},"a11",null,{"$f":"BO122-CB112","v":39.087906522700877},{"$f":"BP122-CB113","v":107.99088584720475},10,"نقطه زیر حلقه آستین",{"$f":"CA104+SQRT(POWER(CA123-CA104,2)+POWER(CB123-CB104,2))*SIN(IF(CB123=CB104,RADIANS(90)-CB114,ATAN((CA123-CA104)/ABS(CB123-CB104))+IF(CB123>CB104,-1,1)*CB114))","v":39.088285176239033},{"$f":"CB104+IF(CB123<CB104,-1,1)*SQRT(POWER(CA123-CA104,2)+POWER(CB123-CB104,2))*COS(IF(CB123=CB104,RADIANS(90)-CB114,ATAN((CA123-CA104)/ABS(CB123-CB104))+IF(CB123>CB104,-1,1)*CB114))","v":107.99173967653896},"b2",null,null,"به دست آوردن نقطه تقاطع دو خط (وسط 20f)","مولفه افقی","مولفه عمودی",{"$f":"AZ161+BT130","v":17.60146911154062},{"$f":"BA161","v":118.23},"شیفت 43",null,{"$f":"CQ113-0.9*(CQ113-CQ122)+CR117*0.07*CR108","v":34.594792081207657},{"$f":"CR113+0.25*(CR120-CR113)","v":118.33412107267063},"16f",null,null,null,"رگلان",null,null,{"$f":"BU143-BU142","v":0.39277029700556654},"ζ'2-ζ'1",null,{"$f":"DC112-CZ125*COS(CZ123)","v":33.384194873361295},{"$f":"DD112-CZ125*COS(CZ123)*TAN(CZ138)","v":122.03413792942244},"b2m",null,{"$f":"DG106-DH109","v":29.077114512269336},{"$f":"DH106","v":87.271202973762882},"45شیفتm",null,{"$f":"BK159","v":26.7666},{"$f":"BL159","v":96.5},34,null,{"$f":"DK130+DH109","v":37.329495374463605},{"$f":"DL130","v":42.189235897805382},"p7rm",null,null,{"$f":"DT107+0.5*(DT121-DT105)","v":28.464143050023495},{"$f":"DU107","v":128.00364177662831},"b'10g",null,{"$f":"DX107+0.5*(DX121-DX105)","v":35.995233718413772},{"$f":"DY107","v":116.47262696058199},"b'10p",null,null,null,{"$f":"AZ161+BT130","v":17.60146911154062},{"$f":"BA161","v":118.23},"شیفت 43",null,{"$f":"BW123","v":1.1607146217169801},{"$f":"BX123","v":125.39467194628949},"a11",null,{"$f":"AZ161","v":17.60146911154062},{"$f":"BA161","v":118.23},43,null,null,null,null,null,{"$f":"BD166","v":17.60146911154062},{"$f":"EU120","v":120.2},"g'5",null,{"$f":"DC125","v":43.847303412973929},{"$f":"DD125","v":86.309577795617685},"ss2m",null,0.83623372321297573,128.53565742432062,"e'10",null,null,null,null,null,null,null,"ترک وسط",null,{"$f":"DK105-DL120","v":26.7666},{"$f":"DL105-DL128","v":113.45561085030904},"بدون شیفت40",null,null,null,null,null,null,null,null,null,null,null,{"$f":"-CM132-GK101","v":-8.8029748525491378},{"$f":"CN132","v":145.28971244334878}," وسط 22f",null,{"$f":"-EX122-GK101","v":-25.630355905042464},{"$f":"EY122","v":109.28799775998449},"41m",null,null,null,null,null,{"$f":"-EL121-GK101","v":-7.6014691115406201},{"$f":"EM121","v":118.23},"شیفت 43",null,null,null,null,null,{"$f":"-CR173-GK101","v":-22.778373333333327},{"$f":"CS173","v":94.321202973762894},"d3",null,{"$f":"-AW269-GK101","v":-3.3512531777606629},{"$f":"AX269","v":155.83438021622334},"1n",null,null,null,null,null,{"$f":"-CP259-GK101","v":6.6799400000000002},{"$f":"CQ259","v":73.382719832213283},"m'11",null,{"$f":"-DN259-GK101","v":6.6799400000000002},{"$f":"DO259","v":74},"p'3"]
[null,null,null,null,"فاصله عمودی از خط کمر جلو تا خط کمر پشت که از کنار گردن بگذرد","t3",null,{"$f":"'متغیرها '!U76-'متغیرها '!U79+'متغیرها '!C63*('متغیرها '!U76-'متغیرها '!U79)","v":46.4},{"$f":"'متغیرها '!U76-'متغیرها '!U79","v":46.4},"(9 → 10)",{"$f":"K115-K120-2*G152-0.5*(H120-H121-H118+H119)*(1-2*'متغیرها '!C87)+'متغیرها '!C77*O128*H130*((L115-L120-L121-L124)/(L127-L125))","v":15.923570888459381},{"$f":"L115-L120-2*H152-0.5*('متغیرها '!U72-'متغیرها '!U73-'متغیرها '!U70+'متغیرها '!U71)*(1-2*'متغیرها '!C87)","v":15.082359999999998},null,"متغیرهای محاسبه ای بالاتنه جلو",null,"شبیه ساز",{"$f":"AN126","v":30.844145557703097},{"$f":"AO126","v":19.369264188490092},12,null,null,null,"انحنای حلقه یقه جلو",null,{"$f":"2*H151","v":0.40000000000000036},"(10 → 11)",{"$f":"2*G151","v":0.40000000000000036},null,null,null,null,{"$f":"AR117","v":24.04873684164081},{"$f":"AS117","v":0},3,null,null,null,"انحنای حلقه یقه پشت",null,{"$f":"K120+K121+K124","v":29.820039999999999},{"$f":"0+AP111","v":0},10,null,{"$f":"AA121+AA123","v":11.566600000000001},{"$f":"AT111","v":0},10,null,11.18420426315614,"(21 → 22)",11.899411907530661,null,{"$f":"AX104-AX117+AX123+AX99","v":33.249929425595901},{"$f":"AX113+AX118+AX98","v":128.14350418849008},21,null,null,null,null,null,"(18 → 20→ 12→ 16→ 14→ 8→ 9)","هلال وصل",null,null,null,null,null,null,null,null,null,{"$f":"N267","v":17.099262449429414},{"$f":"O267","v":155.69566329789819},"a14",null,{"$f":"BS104+SQRT(POWER(BS124-BS104,2)+POWER(BT124-BT104,2))*SIN(BT103-ATAN((BS104-BS124)/(BT124-BT104)))","v":17.099262449429414},{"$f":"BT104+SQRT(POWER(BS124-BS104,2)+POWER(BT124-BT104,2))*COS(BT103-ATAN((BS104-BS124)/(BT124-BT104)))","v":155.69566329789819},"a14",null,null,"متغیرهای محاسبه ای ساسون زیر بغل",null,null,null,null,null,null,"نقطه اول از خط اول",30,{"$f":"CM137","v":11.681002542208532},{"$f":"CN137","v":141.60805476186675},null,null,null,null,{"$f":"CQ113-0.55*(CQ113-CQ122)+CR117*0.07*CR108","v":37.132525025672678},{"$f":"CR113+0.09*(CR120-CR113)","v":114.58285372837247},"14f",null,{"$f":"CQ103","v":21.261315960894279},{"$f":"CR103","v":137.4612651665546},28,null,{"$f":"BD160","v":17.60146911154062},{"$f":"BE160","v":122.17},"شیفت 5",null,{"$f":"DC117-CZ125*COS(CZ123)","v":35.630355905042464},{"$f":"DD117-CZ125*COS(CZ123)*TAN(CZ137)","v":109.28799775998449},"41m",null,{"$f":"DG107-DH109","v":29.077114512269336},{"$f":"CZ114-0.5*(CZ114-CZ106)","v":71.975601486881459},"49'شیفتm","پیراهن",{"$f":"BO187","v":27.691600000000001},{"$f":"BP187","v":79.400000000000006},"38'",null,{"$f":"DK131+DH109","v":39.362552172651817},{"$f":"DL131","v":1.0892358978053807},"p5rm",null,null,{"$f":"DT111+DT122-DT106","v":29.081983285944172},{"$f":"DU111","v":128.14350418849008},"16g","در مدل عصایی",{"$f":"DX111+DX122-DX106","v":34.591604077376047},{"$f":"DY111","v":122.47080584720476},"12p","در مدل عصایی",null,null,null,null,null,null,{"$f":"BS116","v":3.3200600000000002},{"$f":"BT116","v":114.42},"e1",null,{"$f":"AZ166","v":16.953969111540619},{"$f":"BA166","v":100.5},39,null,{"$f":"DC122","v":46.760140804814938},{"$f":"DD122","v":86.051255606271695},"ss2",null,{"$f":"CM105","v":27.435924455871671},{"$f":"EU120","v":120.2},"g''5",null,null,null,null,null,{"$f":"DP178","v":1.3682872021625769E-2},{"$f":"DQ178","v":137.94609570720104},"e10",null,{"$f":"BK101","v":28.676935650976734},{"$f":"BL101","v":130.9189297056397},22,null,{"$f":"BK179","v":26.7666},{"$f":"BL179","v":113.45561085030904},"شیفت 40",null,{"$f":"DK123","v":26.7666},96.5,34,null,{"$f":"DO121","v":34.59097934193364},{"$f":"DP121","v":122.47136150521011},{"$f":"DQ121","v":"b'6p"},null,null,null,{"$f":"-DD162-GK101","v":-7.6014691115406201},{"$f":"DE162","v":118.23},43,null,null,null,null,null,{"$f":"-EX123-GK101","v":-33.847303412973929},{"$f":"EY123","v":86.309577795617685},"ss2m",null,{"$f":"-ED122-GK101","v":-7.6014691115406201},{"$f":"EE122","v":120.2},"شیفت 5 پیراهن",null,null,null,null,null,{"$f":"-EP124-GK101","v":-36.760140804814938},{"$f":"EQ124","v":86.051255606271695},"ss2",null,{"$f":"-CR176-GK101","v":-23.525039999999997},{"$f":"CS176","v":103.92120297376289}," شیفت41 یا d3",null,null,null,null,null,{"$f":"-CL287-GK101","v":5},{"$f":"CM287","v":125.21958742766127},"p26",null,{"$f":"-CP260-GK101","v":6.6799400000000002},{"$f":"CQ260","v":96},"s'1",null,{"$f":"-DN260-GK101","v":6.6799400000000002},{"$f":"DO260","v":96},"s'1"]
[null,null,null,null,"فاصله عمودی بین خط سینه پشت و سرشانه، نزدیک دست","t4",null,{"$f":"'متغیرها '!U77-0.5*'متغیرها '!C60*'متغیرها '!U77+'متغیرها '!C63*('متغیرها '!U78)","v":22.077000000000002},{"$f":"'متغیرها '!U77","v":22.3},"(10 → 11)",{"$f":"K124*TAN(0.5*IF(K121=0,0,G162))+K111","v":3.4639545184724363},{"$f":"L124*TAN(0.5*IF(L121=0,0,H162))+L111","v":3.4212029737628913},null,"γ5",1.3,null,{"$f":"AN129","v":24.538294582241775},{"$f":"AO129","v":19.369264188490092},15,null,{"$f":"AN139","v":8.3512531777606629},{"$f":"AO139","v":46.346765631154526},25,null,null,"(10 → 8)","وصل",null,null,null,null,{"$f":"AR128","v":24.04873684164081},{"$f":"AS128","v":15.982578788825929},14,null,{"$f":"AR141","v":8.3484212811923744},{"$f":"AS141","v":42.532293124679747},27,null,{"$f":"K120+K121+K124","v":29.820039999999999},{"$f":"K125+AP111","v":3.4639545184724363},11,null,{"$f":"AA121+AA123+AA124","v":11.966600000000001},{"$f":"AT111","v":0},11,null,1.4280000000000002,"(16 → 23)",1.1134904530062375,null,{"$f":"AX104-AX117+AX123+AX99","v":33.249929425595901},{"$f":"AX113+AX118+AX124+AX98","v":140.04291609602075},22,null,{"$f":"AZ106","v":5},{"$f":"BA106-2","v":69.580000000000013},null,null,"(1 → 21)",{"$f":"H106-H114+AG147","v":64.338929705639686},null,{"$f":"BI106+BI98+'متغیرها '!C56","v":39.123120482498891},{"$f":"0+BI97+'متغیرها '!C57","v":66.580000000000013},"شیفت5",null,{"$f":"BO123","v":{"$error":"#REF!"}},{"$f":"BP123","v":{"$error":"#REF!"}},"b شیفت",null,{"$f":"N269","v":13.751428132849762},{"$f":"O269","v":151.27139599458621},"a16",null,{"$f":"BS104+SQRT(POWER(BS125-BS104,2)+POWER(BT125-BT104,2))*SIN(BT103-ATAN((BS104-BS125)/(BT125-BT104)))","v":13.751428132849762},{"$f":"BT104+SQRT(POWER(BS125-BS104,2)+POWER(BT125-BT104,2))*COS(BT103-ATAN((BS104-BS125)/(BT125-BT104)))","v":151.27139599458621},"a16",null,null,"ζ'1",{"$f":"('متغیرها '!C111+0.001)*ATAN((CA109-CA104)/(CB109-CB104))","v":9.9570843463936117E-5},null,{"$f":"CA104+(1-'متغیرها '!C116)*(CA123-CA104)","v":30.462991956810264},{"$f":"CB104+(1-'متغیرها '!C116)*(CA123-CA104)*TAN(0.5*CB114-CC127)","v":111.81634661238928},"b",null,"نقطه دوم از خط اول","20f",{"$f":"CI120","v":27.435924455871671},{"$f":"CJ120","v":125.98834966465331},{"$f":"AZ161","v":17.60146911154062},{"$f":"BA161","v":118.23},43,null,null,"به دست آوردن نقطه تقاطع دو خط (وسط 16f)","مولفه افقی","مولفه عمودی",{"$f":"CS130","v":27.982659636239344},{"$f":"CT130","v":127.81936024822792}," وسط 16f",null,null,{"$f":"AX119","v":3.1529254877306601},"(12→17)",null,{"$f":"DC122-CZ125*COS(CZ123)","v":43.847303412973929},{"$f":"DD122-CZ125*COS(CZ123)*TAN(CZ139)","v":86.309577795617685},"ss2m",null,{"$f":"DG113-DH109","v":30.036511567536589},{"$f":"DH113","v":85.409735249698898},"10rm","شلوار",{"$f":"BO188","v":27.691600000000001},{"$f":"BP188","v":66.580000000000013},49,null,{"$f":"DK132+DH109","v":39.362552172651817},{"$f":"DL132","v":1.0892358978053807},"p1rm",null,null,{"$f":"DT112+DT123-DT107","v":30.60933507054337},{"$f":"DU112","v":123.17896018849009},"20g","در مدل عصایی",{"$f":"DX112+DX123-DX107","v":35.995442762955101},{"$f":"DY112","v":116.47198184720476},"16p","در مدل عصایی",null,null,{"$f":"AZ161","v":17.60146911154062},{"$f":"BA161","v":118.23},43,null,null,null,null,null,null,null,null,null,{"$f":"DC116","v":31.784539040583354},{"$f":"DD116","v":87.379352480249551},"47''s",null,null,null,"باسن",null,{"$f":"DC127","v":25.966689272543395},{"$f":"DD127","v":79.068563674303846},"s2m",null,null,null,null,null,{"$f":"BK154","v":26.7666},{"$f":"BL154","v":113.45561085030904},40,null,{"$f":"BK180","v":26.7666},{"$f":"BL180","v":96.5},"شیفت 35",null,27.691600000000001,79.400000000000006,"38'",null,{"$f":"CE163","v":23.691600000000001},{"$f":"CF163-0.3*DZ168","v":58.099999999999994},"e'215",null,null,null,{"$f":"-DD163-GK101","v":-9.630729441559815},{"$f":"DE163","v":122.19540167539604},21,null,{"$f":"-CM134-GK101","v":-8.8029748525491378},{"$f":"CN134","v":145.28971244334878}," وسط 22f",null,null,null,null,null,{"$f":"-ED123-GK101","v":-7.6014691115406201},{"$f":"EE123","v":118.23},"شیفت 43",null,{"$f":"-EL123-GK101","v":-7.6014691115406201},{"$f":"EM123","v":118.23},43,null,{"$f":"-EP125-GK101","v":-21.784539040583354},{"$f":"EQ125","v":87.379352480249551},"47''s",null,null,null,null,null,{"$f":"-AW269-GK101","v":-3.3512531777606629},{"$f":"AX269","v":155.83438021622334},"1n",null,{"$f":"-CL290-GK101","v":6.6799400000000002},{"$f":"CM290","v":125.21958742766127},"p10",null,null,null,"خط مرغک در جلو"]
[null,null,null,null,"فاصله عمودی بین خط سینه پشت و سرشانه، نزدیک گردن","t5",null,{"$f":"'متغیرها '!U78+'متغیرها '!C63*'متغیرها '!U78","v":26.3},{"$f":"'متغیرها '!U78","v":26.3},"(9 → 11)","وصل",null,null,"γ4",0.3,null,{"$f":"AN130","v":24.538294582241775},{"$f":"AO130","v":27.643504188490091},16,null,{"$f":"AN144","v":6.6810025422085308},{"$f":"AO144","v":41.10805476186674},30,null,null,"(11 → 8)","وصل",null,"متغیرهای محاسبه ای بالاتنه پشت",null,"شبیه ساز",{"$f":"AR131","v":19.746368344486321},{"$f":"AS131","v":15.982578788825929},17,null,{"$f":"AR146","v":6.2613159608942812},{"$f":"AS146","v":40.96126516655459},32,null,{"$f":"K115","v":30.844145557703097},{"$f":"K127+AP111","v":19.369264188490092},12,null,{"$f":"AA121+AA123+AA124+AA127","v":23.672439999999995},{"$f":"AT111","v":0},12,null,5.5921021315780699,"(23 → 24)",5.9497059537653305,null,null,null,null,null,{"$f":"BD125+'متغیرها '!C279*(AZ151-BD125)","v":25.07158368637571},{"$f":"BE125","v":69.580000000000013},null,null,"(21 → 22)",{"$f":"AF147","v":13.676935650976734},null,{"$f":"BI106+BI98+'متغیرها '!C56","v":39.123120482498891},{"$f":"BI107+BI97+'متغیرها '!C57","v":78.024704632477565},"شیفت6",null,{"$f":"BK154+'متغیرها '!C56","v":26.7666},{"$f":"BL179","v":113.45561085030904},"40 شیفت",null,{"$f":"N268","v":12.635483360656545},{"$f":"O268","v":147.65154092824005},"a15",null,{"$f":"BS104+SQRT(POWER(BS126-BS104,2)+POWER(BT126-BT104,2))*SIN(BT103-ATAN((BS104-BS126)/(BT126-BT104)))","v":12.635483360656545},{"$f":"BT104+SQRT(POWER(BS126-BS104,2)+POWER(BT126-BT104,2))*COS(BT103-ATAN((BS104-BS126)/(BT126-BT104)))","v":147.65154092824005},"a15",null,null,"ζ'2",{"$f":"('متغیرها '!C111+0.001)*ATAN((CA121-CA104)/(CB121-CB104))","v":1.6886675885419779E-4},null,null,null,null,null,"نقطه اول از خط دوم",5,{"$f":"CM131","v":17.60146911154062},{"$f":"CN131","v":122.17},{"$f":"BS104","v":17.60146911154062},{"$f":"BT104","v":120.2}," 5 بالاتنه",null,"نقطه اول از خط اول",28,{"$f":"CU124","v":21.261315960894279},{"$f":"CV124","v":137.4612651665546},null,null,null,null,"محاسبات",null,null,null,{"$f":"DC110-CZ125","v":31.428670677526835},{"$f":"DD110+CZ125*TAN(CZ141)","v":126.82083753647137},"b'8s",null,{"$f":"DG114-DH109","v":25.459352476627497},{"$f":"DH114","v":46.1},"7rm",null,{"$f":"BK101","v":28.676935650976734},{"$f":"BL101","v":130.9189297056397},22,null,null,null,null,null,null,null,null,null,null,null,null,null,null,null,null,{"$f":"BS104","v":17.60146911154062},{"$f":"BT104","v":120.2}," 5 بالاتنه",null,{"$f":"BW124","v":17.099262449429414},155.69566329789819,"a14",null,{"$f":"AZ166","v":16.953969111540619},{"$f":"BA166","v":100.5},39,null,null,null,null,null,{"$f":"ET108","v":5},{"$f":"EU108","v":82.5},"g46",null,{"$f":"CY108","v":16.306469111540622},{"$f":"CZ108","v":84.3},"47'",null,{"$f":"EH102","v":13.351253177760661},146.84676563115454,"چرخیده 25",null,null,null,null,null,null,null,null,null,{"$f":"BO188","v":27.691600000000001},{"$f":"BP188","v":66.580000000000013},{"$f":"DM125","v":49},null,null,null,null,null,null,null,{"$f":"-DD164-GK101","v":-14.166723120426255},{"$f":"DE164","v":125.66512814136756},31,null,{"$f":"-CM135-GK101","v":-3.3512531777606611},{"$f":"CN135","v":146.84676563115454},25,null,{"$f":"-EX125-GK101","v":-15.966689272543395},{"$f":"EY125","v":79.068563674303846},"s2m",null,null,null,null,null,{"$f":"-EL124-GK101","v":-6.9539691115406193},{"$f":"EM124","v":100.5},39,null,null,null,null,null,{"$f":"-CR176-GK101","v":-23.525039999999997},{"$f":"CS176","v":103.92120297376289}," شیفت41 یا d3",null,{"$f":"-AW272-GK101","v":-14.254696527337614},{"$f":"AX272","v":155.83438021622334},"2n",null,null,null,null,null,{"$f":"-CP280-GK101","v":-1.8287528000000002},{"$f":"CQ280","v":79.133767890938628},"m10",null,{"$f":"-DN262-GK101","v":5},{"$f":"DO262","v":96},"s1"]
[null,null,null,null,"فاصله عمودی بین خط کمر پشت و سرشانه، نزدیک گردن","t6",null,{"$f":"'متغیرها '!U79+'متغیرها '!C63*'متغیرها '!U79","v":42.6},{"$f":"'متغیرها '!U79","v":42.6},"(3 → 12)",{"$f":"L125+G153*(H127-H126)-('متغیرها '!C77/(1+'متغیرها '!C77))*K133","v":19.369264188490092},{"$f":"L125+H153*(I127-I126)","v":21.242314084874003},null,"γ3",{"$f":"0.5*O125*H130-0.89*O128*H130+0.11*AD128*H130+0.5*(H122-H125)-0.39*O126*H130","v":12.345569999999999},{"$f":"0.5*O125*'متغیرها '!U82-0.89*O128*'متغیرها '!U82+0.11*AD128*'متغیرها '!U82+0.5*(I122-I125)-0.39*O126*'متغیرها '!U82","v":12.154999999999999},null,null,null,null,{"$f":"AN142","v":3.3405012711042654},{"$f":"AO142","v":36.917086066436504},28,null,{"$f":"Y115-Y121-Y123-Y124-(0.5*('متغیرها '!U73-'متغیرها '!U71)-2*H151-H147)+(0-0.5*H151)*H151/(H153*(I127-I126)-Y132)-AE127","v":10.948877735519668},"(11 → 12)",{"$f":"AA115-AA121-AA123-AA124-0.5*(H121-H119)*(1-'متغیرها '!C82-'متغیرها '!C84)-AD127+'متغیرها '!C77*O128*H130*((Y115-Y121-Y123-Y124-Y127)/(Y130))","v":11.705839999999995},null,"ساسون پشت روی خط سینه",{"$f":"IF(((AA117-AA116)*AA121/AA117)>0,(AA117-AA116)*AA121/AA117,0)+IF(AA120>0,2*AA120*TAN(2*G157),0)","v":1.5466522700881476E-2},{"$f":"IF(((Y117-Y116)*Y121/Y117)>0,(Y117-Y116)*Y121/Y117,0)+IF(Y120>0,2*Y120*TAN(2*H157),0)","v":0.10576289543751985},{"$f":"AR132","v":19.746368344486321},{"$f":"AS132","v":25.980618788825929},18,null,{"$f":"AR144","v":3.3393685124769501},{"$f":"AS144","v":40.175751187492011},30,null,{"$f":"K115+K128","v":32.567945557703098},{"$f":"K127+AP111","v":19.369264188490092},13,null,{"$f":"AA121+AA123+AA124+AA127","v":23.672439999999995},{"$f":"AA128+AT111","v":3.4517574098729416E-2},13,null,null,"(22→24→16→20→18→12→13)","هلال وصل",null,{"$f":"AX104-AX117+AX125+AX99","v":30.651785035248011},{"$f":"AX113+AX118+AX98","v":128.14350418849008},23,null,null,null,null,{"$f":"Y146","v":8.0408000000000008},"(2 → 23)",{"$f":"AA146","v":8.3484212811923744},null,null,null,null,null,null,null,null,null,{"$f":"J247","v":1.368287202162044E-2},{"$f":"K247","v":137.94609570720104},"e10",null,{"$f":"BS104+SQRT(POWER(BS127-BS104,2)+POWER(BT127-BT104,2))*SIN(BT103-ATAN((BS104-BS127)/(BT127-BT104)))","v":1.3682872021625769E-2},{"$f":"BT104+SQRT(POWER(BS127-BS104,2)+POWER(BT127-BT104,2))*COS(BT103-ATAN((BS104-BS127)/(BT127-BT104)))","v":137.94609570720104},"e10",null,null,"ζ1",{"$f":"ATAN((CB104-CB123)/(CA123-CA104))","v":0.41745069091431974},null,null,null,null,null,"نقطه دوم از خط دوم","وسط 22f",{"$f":"CM132","v":18.802974852549138},{"$f":"CN132","v":145.28971244334878},null,null,null,null,"نقطه دوم از خط اول","16f",{"$f":"CQ123","v":34.594792081207657},{"$f":"CR123","v":118.33412107267063},{"$f":"CU125+CR105","v":27.982659636239344},{"$f":"CV125+CR106","v":127.81936024822792},"شیفت وسط 16f",null,"(43→40)",{"$f":"SQRT(POWER((CY103-CY104),2)+POWER((CZ103-CZ104),2))","v":17.741819417692206},null,null,{"$f":"DC120-CZ125*COS(CZ123)","v":25.966689272543395},{"$f":"DD120-CZ125*COS(CZ123)*TAN(CZ140)","v":79.068563674303846},"s2m",null,{"$f":"DG115-DH109","v":24.157079749354775},{"$f":"DH115","v":5},"5rm",null,{"$f":"BK167","v":15},{"$f":"BL167","v":128.44999999999999},45,null,null,null,"پهلو جدا در شلوار و نیمی از حلقه عصایی",null,null,"اپل جلو  روی سرشانه با ساسون ",null,null,null,null,"اپل  پشت  روی سرشانه با ساسون ",null,null,null,null,null,null,null,null,13.751428132849762,151.27139599458621,"a16",null,{"$f":"AZ176","v":16.306469111540622},{"$f":"BA176","v":84.3},"47'",null,null,null,"کمر",null,null,null,null,null,null,null,null,null,12.516127859984596,143.70353910958187,"e7",null,{"$f":"DY152+CB112","v":35.891298348860708},{"$f":"DZ152+CB113","v":135.5582862620688},"شیفت 18b",null,{"$f":"BK180","v":26.7666},{"$f":"BL180","v":96.5},"شیفت 35",null,null,null,null,null,{"$f":"CE163","v":23.691600000000001},{"$f":"CF163-0.3*DZ168","v":58.099999999999994},"e'215",null,null,null,{"$f":"-DD165-GK101","v":-19.538294582241775},{"$f":"DE165","v":128.14350418849008},"16g",null,null,null,null,null,{"$f":"-EX126-GK101","v":-6.306469111540622},{"$f":"EY126","v":84.3},"47'",null,{"$f":"-ED125-GK101","v":-7.6014691115406201},{"$f":"EE125","v":118.23},43,null,null,null,null,null,null,null,"کمر",null,{"$f":"-CR179-GK101","v":-25.844145557703101},{"$f":"CS179","v":115.38738418849009},"شیفت 14",null,null,null,null,null,{"$f":"-CL290-GK101","v":6.6799400000000002},{"$f":"CM290","v":125.21958742766127},"p10",null,{"$f":"-CP281-GK101","v":7.7315011199999999},{"$f":"CQ281","v":79.133767890938628},"m9'",null,{"$f":"-DN263-GK101","v":5},{"$f":"DO263","v":74},"p3"]
[null,null,null,null,"دور گردن (متر به طور عمودی دور گردن قرار می گیرد و از روی استخوان ترقوه می گذرد)","v",null,{"$f":"1*'متغیرها '!U80","v":46},null,"(12 → 13)",{"$f":"'متغیرها '!C79*0.05*H130","v":1.7238},null,null,"γ1",{"$f":"(1-'متغیرها '!C101)*0.2+'متغیرها '!C101*'متغیرها '!C102","v":0.2},null,{"$f":"AN131","v":27.691220069972438},{"$f":"AO131","v":19.369264188490092},17,null,{"$f":"AN140","v":0},{"$f":"AO140","v":35.869343892578947},26,null,{"$f":"Y127*TAN(0.5*H157)","v":2.4704632477561245E-2},"(12 → 13)",{"$f":"AA127*TAN(0.5*G157)","v":3.4517574098729416E-2},null,"γ2",{"$f":"(1-'متغیرها '!C101)*0.25+'متغیرها '!C101*'متغیرها '!C103","v":0.25},null,null,null,null,null,{"$f":"AR142","v":0},{"$f":"AS142","v":39.913913194471156},28,null,{"$f":"Q124","v":30.844145557703097},{"$f":"K127-K129+AP111","v":14.887384188490092},14,null,{"$f":"AA115","v":24.04873684164081},{"$f":"AA130+AT111","v":15.982578788825929},14,null,{"$f":"L143","v":8.0408000000000008},"(2 → 25)",{"$f":"K143","v":8.3512531777606629},null,{"$f":"AX104-AX117+AX125+AX99","v":30.651785035248011},{"$f":"AX113+AX118+AX126+AX98","v":134.09321014225543},24,null,{"$f":"BD126","v":25.07158368637571},{"$f":"BE126","v":69.580000000000013},null,2.3711025621005923,"(2 → 24)",2.6183799302085915,null,{"$f":"BI104+BI98+'متغیرها '!C56","v":39.138455842452537},{"$f":"0+BI97+'متغیرها '!C57","v":66.580000000000013},"شیفت3",null,{"$f":"BO158","v":28.676935650976734},{"$f":"BP158","v":130.9189297056397},"22شیفت",null,{"$f":"AZ104","v":17.60146911154062},{"$f":"BA104","v":122.17},"5 پیراهن",null,null,null,null,null,null,null,null,null,null,null,null,null,"نقطه تقاطع","g1",{"$f":"(CL126-CL124+CK124*((CL125-CL124)/(CK125-CK124))-CK126*((CL127-CL126)/(CK127-CK126)))/(((CL125-CL124)/(CK125-CK124))-((CL127-CL126)/(CK127-CK126)))","v":18.272053380933166},{"$f":"CL124+(CK128-CK124)*((CL125-CL124)/(CK125-CK124))","v":135.07357170026944},{"$f":"BS104","v":17.60146911154062},{"$f":"BT104","v":120.2}," 5 بالاتنه",null,"نقطه اول از خط دوم",40,{"$f":"CU118","v":26.7666},{"$f":"CV118","v":113.45561085030904},{"$f":"CU105","v":34.594792081207657},{"$f":"CV105","v":118.33412107267063},"شیفت 16f",null,"(40→47'')",{"$f":"SQRT(POWER((CY104-CY105),2)+POWER((CZ104-CZ105),2))","v":16.212934843821465},null,null,{"$f":"DC108-CZ125","v":26.48711451226934},{"$f":"DD108","v":87.271202973762882},"45m",null,{"$f":"DG116-DH109","v":24.157079749354775},{"$f":"DH116","v":5},"1rm",null,null,{"$f":"'متغیرها '!C57","v":0},"شیفت عمودی",null,{"$f":"DO102","v":42.240832010431539},113.71390184720475,"شیفت 8m",null,null,"نقاط  ورودی",null,null,null,null,"نقاط  ورودی",null,null,null,null,{"$f":"BS128","v":17.60146911154062},{"$f":"BT128","v":122.17}," 5 پیراهن",null,12.635483360656545,147.65154092824005,"a15",null,null,null,null,null,{"$f":"DC115","v":24.98580723376763},{"$f":"DD115","v":102.09792924802817},"40s",null,{"$f":"ET111","v":18.896469111540618},{"$f":"EU111","v":82.5},"g47''",null,{"$f":"DC127","v":25.966689272543395},{"$f":"DD127","v":79.068563674303846},"s2m",null,11.995530171826225,141.44270341296786,"e5",null,{"$f":"DY151+CB112","v":30.981578697875065},{"$f":"DZ151+CB113","v":137.69552963179945},"شیفت 32b",null,{"$f":"BO191","v":25.8416},{"$f":"BP191","v":79.400000000000006},"شیفت 38''",null,{"$f":"BO188","v":27.691600000000001},{"$f":"BP188","v":66.580000000000013},49,null,{"$f":"CE169","v":23.691600000000001},{"$f":"CF169","v":66.580000000000013},"e'216",null,null,null,null,null,null,null,null,null,"33'",null,null,null,null,null,{"$f":"-ED126-GK101","v":-7.6014691115406201},{"$f":"EE126","v":120.2}," 5 بالاتنه",null,{"$f":"-EL124-GK101","v":-6.9539691115406193},{"$f":"EM124","v":100.5},39,null,{"$f":"-EP128-GK101","v":-14.98580723376763},{"$f":"EQ128","v":102.09792924802817},"40s",null,null,null,null,null,{"$f":"-AW272-GK101","v":-14.254696527337614},{"$f":"AX272","v":155.83438021622334},"2n",null,{"$f":"-CL293-GK101","v":6.6799400000000002},{"$f":"CM293","v":96},"s'1"]
[null,null,null,null,"کارور پشت (بین دو خط امتداد زیر بغل)","v3",null,{"$f":"'متغیرها '!U81+1*'متغیرها '!C60*'متغیرها '!U81","v":38.76},{"$f":"'متغیرها '!U81","v":38},"(12 → 14)",{"$f":"'متغیرها '!C79*0.13*H130","v":4.4818800000000003},{"$f":"0","v":0},null,"فاصله افقی بین 36 و 32'",{"$f":"O152-0.5*G169*COS(G160)","v":1.381084280785255},{"$f":"P152-0.5*H169*COS(H160)","v":1.3817066562391256},{"$f":"AN132","v":27.691220069972438},{"$f":"AO132","v":20.610400188490093},18,null,null,null,null,null,null,"(11 → 13)","وصل",null,"فاصله افقی بین 38 و 34'",{"$f":"AD152-0.5*G170*COS(G158)","v":0.38811157314476696},{"$f":"AE152-0.5*H170*COS(H158)","v":0.39847728877217004},{"$f":"AR133","v":23.188263142209912},{"$f":"AS133","v":15.982578788825929},19,null,null,null,null,null,{"$f":"K115-K132","v":24.538294582241775},{"$f":"K127+AP111","v":19.369264188490092},15,null,{"$f":"AA115+AA131","v":25.772536841640811},{"$f":"AA130+AT111","v":15.982578788825929},15,null,9.9006876205645433,"(2 → 26)",10.477421738575579,null,null,null,null,null,{"$f":"BD126","v":25.07158368637571},{"$f":"BE126-BE122+BE123","v":66.658797026237124},null,3.2163200000000005,"(2 → 25)",3.3393685124769501,null,{"$f":"BI104+BI98+'متغیرها '!C56","v":39.138455842452537},{"$f":"BI105+BI97+'متغیرها '!C57","v":64.974704632477568},"شیفت4",null,{"$f":"BK154+'متغیرها '!C56","v":26.7666},{"$f":"BL179","v":113.45561085030904},"40شیفت",null," انتقال قسمتی از ساسون سرشانه به ساسون زیر بغل به روش چرخش",null,null,null,null,null,null,null,"حلقه آستین با ساسون زیر بغل",null,null,null,null,null,null,null,null,null,null,null,{"$f":"BS128","v":17.60146911154062},{"$f":"BT128","v":122.17}," 5 پیراهن",null,"نقطه دوم از خط دوم","وسط 18f",{"$f":"CU119","v":28.800142955980849},{"$f":"CV119","v":137.475239936874},null,null,"رگلان با درز",null,"(14→41)",{"$f":"SQRT(POWER((CY117-CY116),2)+POWER((CZ117-CZ116),2))","v":11.698357245217482},null,null,"به دست آوردن نقطه تقاطع دو خط ","مولفه افقی","مولفه عمودی",null,{"$f":"DC103","v":16.025020000000001},{"$f":"DD103","v":71.580000000000013},"50sm",null,{"$f":"DH608","v":38.771212981779357},78.051797208102542,"p10r","شلوار",42.240832010431539,107.99088584720475,"شیفت 10m",null,null,"مولفه افقی","مولفه عمودی","اسم نقطه ",null,null,"مولفه افقی","مولفه عمودی","اسم نقطه ",null,null,{"$f":"BS104","v":17.60146911154062},{"$f":"BT104","v":120.2}," 5 بالاتنه",null,{"$f":"BW113","v":12.516127859984596},{"$f":"BX113","v":143.70353910958187},"e7",null,{"$f":"AZ176","v":16.306469111540622},{"$f":"BA176","v":84.3},"47'",null,{"$f":"DC117","v":38.543193296883473},{"$f":"DD117","v":111.25553072528933},"41s",null,null,null,"زمین",null,{"$f":"IF(DD128>DD127,DC127,DC128)","v":25.966689272543395},{"$f":"IF(DD128>DD127,DD127,DD128)","v":79.068563674303846},"s2m یا  45m",null,null,null,null,null,null,null,null,null,null,null,null,null,{"$f":"BO176","v":15},{"$f":"BP176","v":66.580000000000013},47,null,null,null,null,null,null,null,{"$f":"-DD167-GK101","v":-27.567945557703098},{"$f":"DE167","v":119.86926418849009},13,null,{"$f":"-CM137-GK101","v":-1.6810025422085317},{"$f":"CN137","v":141.60805476186675},30,null,{"$f":"-EX128-GK101","v":-15.966689272543395},{"$f":"EY128","v":79.068563674303846},"s2m",null,null,null,null,null,{"$f":"-EL127-GK101","v":-6.306469111540622},{"$f":"EM127","v":84.3},"47'",null,{"$f":"-EP129-GK101","v":-28.543193296883473},{"$f":"EQ129","v":111.25553072528933},"41s",null,null,null,"26'",null,{"$f":"-AW275-GK101","v":-14.254696527337614},{"$f":"AX275","v":143.73265925554304},"22f",null,null,null,null,null,{"$f":"-CP283-GK101","v":7.7315011199999999},{"$f":"CQ283","v":79.133767890938628},"m9'",null,null,null,"72'"]
[null,null,null,null,"دور بازو از ناحیه زیر بغل","w2",null,{"$f":"'متغیرها '!U82+0.7*'متغیرها '!C60*'متغیرها '!U82","v":34.475999999999999},null,"(13 →14)","وصل",null,null,"فاصله عمودی بین 36 و 32'",{"$f":"O151+0.5*G169*SIN(G160)","v":22.636773765688048},{"$f":"P151+0.5*H169*SIN(H160)","v":20.748568688239121},null,null,null,null,null,null,"خطوط برش",null,{"$f":"H153*(I127-I126)+Y128","v":17.845815743588673},"(3 →14)",{"$f":"G153*(H127-H126)+AA128-K133*'متغیرها '!C77/(1+'متغیرها '!C77)","v":15.982578788825929},null,"فاصله عمودی بین 38 و 34'",{"$f":"AD151+0.5*G170*SIN(G158)","v":6.3027214603776285},{"$f":"AE151+0.5*H170*SIN(H158)","v":6.1015206073336623},{"$f":"AR134","v":23.188263142209912},{"$f":"AS134","v":16.98238278882593},20,null,"خطوط برش",null,null,null,{"$f":"K115-K132","v":24.538294582241775},{"$f":"K127+K133+AP111","v":27.643504188490091},16,null,{"$f":"AA115","v":24.04873684164081},{"$f":"AA130-AA132+AT111","v":11.500698788825929},16,null,3.2163200000000005,"(2 → 27)",3.3405012711042654,null,{"$f":"AX112+AX99+'متغیرها '!C55","v":30.484172228560976},{"$f":"0+AX98","v":71.580000000000013},"10شیفت",null,null,null,null,2.133992305890533,"(25 → 26)",2.3565419371877323,null,null,null,null,null,null,null,"کش سویشرت",null,null,{"$f":"'متغیرها '!C55","v":0},"شیفت افقی",null,"نقاط  خروجی چرخیده",null,null,null,null,{"$f":"(CC142-CC141)","v":6.9365211305651917E-2},"زاویه چرخش کامل به ساسون زیر بغل",null,null,null,null,null,null,"به دست آوردن نقطه تقاطع دو خط (وسط 16f)","مولفه افقی","مولفه عمودی",null,null,null,null,"نقطه تقاطع","g1",{"$f":"(CT128-CT126+CS126*((CT127-CT126)/(CS127-CS126))-CS128*((CT129-CT128)/(CS129-CS128)))/(((CT127-CT126)/(CS127-CS126))-((CT129-CT128)/(CS129-CS128)))","v":27.982659636239344},{"$f":"CT126+(CS130-CS126)*((CT127-CT126)/(CS127-CS126))","v":127.81936024822792},{"$f":"CQ103","v":21.261315960894279},{"$f":"CR103","v":137.4612651665546},28,null,"(41→45)",{"$f":"SQRT(POWER((CY116-CY115),2)+POWER((CZ116-CZ115),2))","v":16.700285177205814},null,"نقطه اول از خط اول",41,{"$f":"CY116","v":33.525039999999997},{"$f":"CZ116","v":103.92120297376289},null,{"$f":"DC104","v":20.109526000000002},{"$f":"DD104","v":71.738240594752597},"50'sm",null,34.176569886732942,42.189235897805382,"p7r",null,41.425365487730666,96.524704632477565,{"$f":"DQ104","v":"شیفت36m"},null,null,{"$f":"BW137","v":24.463474035591126},{"$f":"BX137","v":144.52135929212406},22,"راس حلقه آستین",null,{"$f":"CE120","v":35.640769751812662},{"$f":"CF120","v":135.02311874252692},18,"راس حلقه آستین",null,null,null,null,null,null,null,null,null,{"$f":"AZ177","v":16.306469111540622},{"$f":"BA177","v":71.580000000000013},52,null,null,null,null,null,{"$f":"'متغیرها '!C51","v":5},{"$f":"'متغیرها '!C52","v":5},null,null,null,null,null,null,{"$f":"EH106","v":11.995530171826225},{"$f":"EI106","v":141.44270341296786},"e5",null,{"$f":"DY151+CB112","v":30.981578697875065},{"$f":"DZ151+CB113","v":137.69552963179945},"شیفت 32b",null,{"$f":"BO191","v":25.8416},{"$f":"BP191","v":79.400000000000006},"شیفت 38''",null,null,null,null,null,{"$f":"DK111","v":25.8416},{"$f":"DL111","v":66.580000000000013},"شیفت 50",null,null,null,{"$f":"-DD168-GK101","v":-25.844145557703101},{"$f":"DE168","v":119.86926418849009},12,null,{"$f":"-CM138-GK101","v":-8.2720533809331656},{"$f":"CN138","v":135.07357170026944}," وسط 20f",null,{"$f":"-EX129-GK101","v":-15.966689272543395},{"$f":"EY129","v":79.068563674303846},"s2m یا  45m",null,{"$f":"-ED128-GK101","v":-7.6014691115406201},{"$f":"EE128","v":122.17}," 5 پیراهن",null,null,null,null,null,null,null,null,null,{"$f":"-CR182-GK101","v":5},{"$f":"CS182","v":95.7},"d4",null,null,null,null,null,{"$f":"-CL293-GK101","v":6.6799400000000002},{"$f":"CM293","v":96},"s'1",null,{"$f":"-CP284-GK101","v":7.3217759519999994},{"$f":"CQ284","v":84.193637523657046},"m9''",null,{"$f":"-DP460-GK101","v":-18.04556860664896},{"$f":"DQ460","v":98.450008386203535},"β13"]
[null,null,null,null,"قد آستین (دست به طور خمیده، قد از سرشانه تا مچ)","w10",null,{"$f":"'متغیرها '!U83+'متغیرها '!C63*'متغیرها '!U83+'متغیرها '!U83*'متغیرها '!C517","v":61},null,"(14 → 11)","وصل",null,null,"فاصله افقی بین 36 و 34'",{"$f":"O152+0.5*G169*COS(G160)","v":10.484617496133509},{"$f":"P152+0.5*H169*COS(H160)","v":10.393813343760883},{"$f":"AN133","v":25.799464777334041},{"$f":"AO133","v":19.369264188490092},19,null,{"$f":"AN140","v":0},{"$f":"AO140","v":35.869343892578947},26,null,0,"(14 → 15)",{"$f":"K128","v":1.7238},null,"فاصله افقی بین 38 و 36'",{"$f":"AD152+0.5*G170*COS(G158)","v":1.8485452523194237},{"$f":"AE152+0.5*H170*COS(H158)","v":1.8168836421831127},null,null,null,null,{"$f":"AR142","v":0},{"$f":"AS142","v":39.913913194471156},28,null,{"$f":"K115-K134","v":27.691220069972438},{"$f":"K127+AP111","v":19.369264188490092},17,null,{"$f":"AA115-AA135","v":19.746368344486321},{"$f":"AA130+AT111","v":15.982578788825929},17,null,8.910618858508089,"(27 → 28)",9.4296795647180218,null,{"$f":"AX112+AX99+'متغیرها '!C55","v":30.484172228560976},{"$f":"AX143+AX98","v":91.75},"35شیفت",null,{"$f":"BD129","v":25.07158368637571},{"$f":"BE129","v":66.658797026237124},null,6.0306000000000006,"(2→27)",6.2613159608942812,null,{"$f":"BI129+BI98","v":18.339368512476952},{"$f":"BI103+BI97","v":139.03229312467974},25,null,{"$f":"BK169","v":15},{"$f":"BL126+'متغیرها '!C278*('متغیرها '!U60-'متغیرها '!U59)","v":67.104704632477578},null,null,null,{"$f":"(BU143-BU142)","v":0.39277029700556654},"زاویه چرخش به ساسون زیر بغل",null,"مولفه افقی","مولفه عمودی","اسم نقطه ",null,{"$f":"BK122-CB112","v":39.087906522700877},{"$f":"BL122-CB113","v":112.47276584720476},8,"نقطه حلقه آستین",{"$f":"CA104+SQRT(POWER(CA131-CA104,2)+POWER(CB131-CB104,2))*SIN(IF(CB131=CB104,RADIANS(90)-CB130,ATAN((CA131-CA104)/ABS(CB131-CB104))+IF(CB131>CB104,-1,1)*CB130))","v":39.126396815756436},{"$f":"CB104+IF(CB131<CB104,-1,1)*SQRT(POWER(CA131-CA104,2)+POWER(CB131-CB104,2))*COS(IF(CB131=CB104,RADIANS(90)-CB130,ATAN((CA131-CA104)/ABS(CB131-CB104))+IF(CB131>CB104,-1,1)*CB130))","v":113.32911421124214},"b4",null,"نقطه اول از خط اول",30,{"$f":"CM137","v":11.681002542208532},{"$f":"CN137","v":141.60805476186675},{"$f":"CI104","v":17.60146911154062},{"$f":"CJ104","v":122.17},"5پیراهن",null,null,null,null,null,{"$f":"CS137","v":28.117581778289431},{"$f":"CT137","v":129.4130220875692},"وسط 12f",null,"α43",{"$f":"ATAN((CY104-CY103)/(CZ103-CZ104))","v":3.650379980918287E-2},null,"نقطه دوم از خط اول",45,{"$f":"CY115","v":32.230039999999995},{"$f":"CZ115","v":87.271202973762882},null,{"$f":"DC105","v":23.513280999999999},{"$f":"DD105-0.15*(CZ114-CZ106)","v":71.896481189505167},"50''sm",null,36.209626684921155,1.0892358978053807,"p5r",null,{"$f":"DO122","v":41.924138469510019},78.051797208102542,{"$f":"DQ122","v":"p10rm"},null,null,{"$f":"BW138","v":19.227447802367497},{"$f":"BX138","v":145.64260215507844},34,"نقطه ساسون سرشانه",null,{"$f":"CE121","v":30.849633376452225},{"$f":"CF121","v":137.41438796731742},32,"نقطه ساسون سرشانه",null,{"$f":"BS128","v":17.60146911154062},{"$f":"BT128","v":122.17}," 5 پیراهن",null,{"$f":"BW127","v":1.3682872021625769E-2},{"$f":"BX127","v":137.94609570720104},"e10",null,null,null,null,null,null,null,"ترک وسط برای جیب با ساسون",null,{"$f":"'متغیرها '!C51+10","v":15},{"$f":"'متغیرها '!C52","v":5},null,null,{"$f":"EX129","v":25.966689272543395},{"$f":"EY129","v":79.068563674303846},{"$f":"EZ129","v":"s2m یا  45m"},null,{"$f":"EH107","v":4.4957399631022845},{"$f":"EI107","v":138.20730158273469},"e9",null,{"$f":"BO158","v":28.676935650976734},{"$f":"BP158","v":130.9189297056397},"شیفت 22",null,{"$f":"BO192","v":25.8416},{"$f":"BP192","v":66.580000000000013},"شیفت 50",null,{"$f":"DO118","v":45.37250426157685},{"$f":"DP118","v":80.297578562221005},{"$f":"DQ118","v":"s'2m"},null,{"$f":"EE341","v":21.8416},{"$f":"EF341","v":66.580000000000013},"e216",null,null,null,{"$f":"-DD169-GK101","v":-22.691220069972438},{"$f":"DE169","v":121.11040018849008},18,null,null,null,null,null,null,null,null,null,{"$f":"-ED129-GK101","v":-7.6014691115406201},{"$f":"EE129","v":120.2}," 5 بالاتنه",null,{"$f":"-EL127-GK101","v":-6.306469111540622},{"$f":"EM127","v":84.3},"47'",null,null,null,"62'",null,{"$f":"-CR183-GK101","v":6.6799400000000002},{"$f":"CS183","v":95.7},"26''",null,{"$f":"-AW277-GK101","v":5},{"$f":"AX277","v":85.919410908776172},"3n",null,{"$f":"-CL296-GK101","v":5},{"$f":"CM296","v":96},"s1",null,{"$f":"-CP285-GK101","v":6.2291755039999996},{"$f":"CQ285","v":90.940130367281583},"m9'''",null,{"$f":"-DP461-GK101","v":-22.922775850472988},{"$f":"DQ461","v":85.049991613796465},"β7"]
[null,null,null,null,"دور مچ دست","w11",null,{"$f":"'متغیرها '!U84+0.9*'متغیرها '!C60*'متغیرها '!U84","v":21.378},null,"(12 → 15)",{"$f":"G156+0.25*G167*'متغیرها '!C76*COS(O140)+'متغیرها '!C61*H120-1.2*0.5*G167*'متغیرها '!C78*COS(O140)-'متغیرها '!C77*O128*H130*((L115-L120-L121-L124)/(L127-L125))","v":6.3058509754613201},{"$f":"H156","v":6.0999999999999979},null,"فاصله عمودی بین 36 و 34'",{"$f":"O151-0.5*G169*SIN(G160)","v":19.429680961077743},{"$f":"P151-0.5*H169*SIN(H160)","v":17.597949659791023},{"$f":"AN134","v":25.799464777334041},{"$f":"AO134","v":22.678960188490091},20,null,{"$f":"AN115","v":0},{"$f":"AO115","v":0},1,null,{"$f":"L129","v":0},"(14 → 16)",{"$f":"K129","v":4.4818800000000003},null,"فاصله عمودی بین 38 و 36'",{"$f":"AD151-0.5*G170*SIN(G158)","v":5.8136797592444038},{"$f":"AE151-0.5*H170*SIN(H158)","v":5.6354258716607921},{"$f":"AR135","v":21.037078893632668},{"$f":"AS135","v":15.982578788825929},21,null,{"$f":"AR119","v":0},{"$f":"AS119","v":31.950000000000003},5,null,{"$f":"K115-K134-0.6*P123","v":27.691220069972438},{"$f":"K127+K135+AP111","v":20.610400188490093},18,null,{"$f":"AA115-AA135","v":19.746368344486321},{"$f":"AA130+AA136+AT111","v":25.980618788825929},18,null,6.432640000000001,"(2 → 29)",6.6810025422085308,null,null,null,null,null,{"$f":"BD125","v":5},{"$f":"BE129","v":66.658797026237124},null,1.4226615372603553,"(27 → 28)",1.5710279581251549,null,{"$f":"BI129+BI98","v":18.339368512476952},{"$f":"BI103-BI130+BI97","v":136.67575118749201},26,null,{"$f":"BK126","v":39.123120482498891},{"$f":"BP131","v":67.104704632477578},null,null,{"$f":"AZ99-BT130","v":35.844145557703101},{"$f":"BA99","v":119.86926418849009},12,"نقطه حلقه آستین",{"$f":"BS104+SQRT(POWER(BS132-BS104,2)+POWER(BT132-BT104,2))*SIN(IF(BT132=BT104,RADIANS(90)-BT131,ATAN((BS132-BS104)/ABS(BT132-BT104))+IF(BT132>BT104,-1,1)*IF(AND(BX101=1,BX102=0),(ATAN((BS138-BS104)/(BT138-BT104))-ATAN((BS109-BS104)/(BT109-BT104))),BT131)))","v":34.581596165257494},{"$f":"BT104+IF(BT132<BT104,-1,1)*SQRT(POWER(BS132-BS104,2)+POWER(BT132-BT104,2))*COS(IF(BT132=BT104,RADIANS(90)-BT131,ATAN((BS132-BS104)/ABS(BT132-BT104))+IF(BT132>BT104,-1,1)*IF(AND(BX101=1,BX102=0),(ATAN((BS138-BS104)/(BT138-BT104))-ATAN((BS109-BS104)/(BT109-BT104))),BT131)))","v":126.8768192529092},"b4",null,{"$f":"BO105-CB112","v":38.227432823269979},{"$f":"BP105-CB113","v":113.47256984720475},14,"نقطه حلقه آستین",{"$f":"CA104+SQRT(POWER(CA132-CA104,2)+POWER(CB132-CB104,2))*SIN(IF(CB132=CB104,RADIANS(90)-CB130,ATAN((CA132-CA104)/ABS(CB132-CB104))+IF(CB132>CB104,-1,1)*CB130))","v":38.198696370522185},{"$f":"CB104+IF(CB132<CB104,-1,1)*SQRT(POWER(CA132-CA104,2)+POWER(CB132-CB104,2))*COS(IF(CB132=CB104,RADIANS(90)-CB130,ATAN((CA132-CA104)/ABS(CB132-CB104))+IF(CB132>CB104,-1,1)*CB130))","v":114.26687479355539},"b8",null,"نقطه دوم از خط اول","16f",{"$f":"CI119","v":25.588962427831195},{"$f":"CJ119","v":132.10743514081653},{"$f":"CM135+0.5*(CI117-CM135)","v":18.802974852549138},{"$f":"CJ117+0.5*(CN135-CJ117)","v":145.28971244334878}," وسط 22f",null,null,"به دست آوردن نقطه تقاطع دو خط (وسط 12f)","مولفه افقی","مولفه عمودی",null,null,null,null,"α40",{"$f":"ATAN((CY104-CY105)/(CZ104-CZ105))","v":-3.9947872191616544E-2},null,"نقطه اول از خط دوم","47''",{"$f":"CY105","v":18.896469111540618},{"$f":"CZ105","v":84.3},null,null,null,null,null,36.209626684921155,1.0892358978053807,"p1 r",null,37.329495374463605,42.189235897805382,{"$f":"DQ123","v":"p7rm"},null,null,{"$f":"BS128","v":17.60146911154062},{"$f":"BT128","v":122.17},5,"نقطه مرکزساسون",null,{"$f":"BK101","v":28.676935650976734},{"$f":"BL101","v":130.9189297056397},22,"نقطه مرکزساسون",null,{"$f":"DT149","v":19.294715075066474},{"$f":"DU149","v":146.14540819889402},"چرخیده32b",null,{"$f":"BS116","v":3.3200600000000002},{"$f":"BT116","v":114.42},"e1",null,null,null,"جادکمه یقه گرد در پیراهن",null,{"$f":"CY108","v":16.306469111540622},{"$f":"CZ108","v":84.3},"47'",null,null,null,null,null,{"$f":"DG124-DH118","v":29.077114512269336},{"$f":"DH124","v":71.975601486881459},"49'm",null,null,null,null,null,null,null,null,null,null,null,null,null,{"$f":"DO117","v":40.568509167895002},{"$f":"DP117","v":77.696002819360857},{"$f":"DQ117","v":"s''2m"},null,null,null,null,null,null,null,{"$f":"-DD170-GK101","v":-20.799464777334041},{"$f":"DE170","v":123.17896018849009},"20g",null,{"$f":"-CM140-GK101","v":-8.2720533809331656},{"$f":"CN140","v":135.07357170026944},"شیفت وسط 20f",null,{"$f":"-EX131-GK101","v":-15.966689272543395},{"$f":"EY131","v":79.068563674303846},{"$f":"GH130","v":"s2m یا  45m"},null,null,null,null,null,{"$f":"-EL130-GK101","v":-6.306469111540622},{"$f":"EM130","v":71.580000000000013},52,null,{"$f":"-ET134-GK101","v":-6.306469111540622},{"$f":"EU134","v":71.580000000000013},52,null,null,null,null,null,{"$f":"-AW278-GK101","v":-15.478801107224793},{"$f":"AX278","v":85.919410908776172},"4n",null,null,null,null,null,{"$f":"-CP286-GK101","v":5},{"$f":"CQ286","v":96},"s1"]
[null,null,null,null,"دور سر","w12",null,{"$f":"'متغیرها '!U85","v":59},null,"(15 → 16)",{"$f":"(1+'متغیرها '!C77)*O128*H130","v":8.2742399999999989},{"$f":"O128*'متغیرها '!U82","v":6.8000000000000007},null,"β1",{"$f":"ATAN(O129/O130)","v":6.0935118624903702E-2},{"$f":"ATAN(P129/P130)","v":6.649468939177032E-2},null,null,null,null,{"$f":"AN122","v":11.30646911154062},{"$f":"AO122","v":0},8,null,null,"(15 → 16)","وصل",null,"β5",{"$f":"ATAN(AD129/AD130)","v":6.1500754630691525E-2},{"$f":"ATAN(AE129/AE130)","v":6.5215254077235607E-2},{"$f":"AR136","v":21.037078893632668},{"$f":"AS136","v":19.98179478882593},22,null,{"$f":"AR123","v":0},{"$f":"AS123","v":0},9,null,{"$f":"K115-K136","v":25.799464777334041},{"$f":"K127+AP111","v":19.369264188490092},19,null,{"$f":"AA115-AA137","v":23.188263142209912},{"$f":"AA130+AT111","v":15.982578788825929},19,null,4.9503438102822717,"(29 → 30)",5.2387108692877895,null,null,null,null,null,null,null,null,null,"(24 → 26→ 28→ 23)","هلال وصل",null,null,null,null,null,null,null,null,null,{"$f":"AZ98-BT130","v":32.691220069972438},{"$f":"BA98","v":121.11040018849008},18,"نقطه حلقه آستین",{"$f":"BS104+SQRT(POWER(BS133-BS104,2)+POWER(BT133-BT104,2))*SIN(IF(BT133=BT104,RADIANS(90)-BT131,ATAN((BS133-BS104)/ABS(BT133-BT104))+IF(BT133>BT104,-1,1)*IF(AND(BX101=1,BX102=0),(ATAN((BS138-BS104)/(BT138-BT104))-ATAN((BS109-BS104)/(BT109-BT104))),BT131)))","v":31.193714930354844},{"$f":"BT104+IF(BT133<BT104,-1,1)*SQRT(POWER(BS133-BS104,2)+POWER(BT133-BT104,2))*COS(IF(BT133=BT104,RADIANS(90)-BT131,ATAN((BS133-BS104)/ABS(BT133-BT104))+IF(BT133>BT104,-1,1)*IF(AND(BX101=1,BX102=0),(ATAN((BS138-BS104)/(BT138-BT104))-ATAN((BS109-BS104)/(BT109-BT104))),BT131)))","v":126.81666578358194},"b8",null,{"$f":"BO104-CB112","v":36.076248574692741},{"$f":"BP104-CB113","v":116.47198184720476},16,"نقطه حلقه آستین",{"$f":"CA104+SQRT(POWER(CA133-CA104,2)+POWER(CB133-CB104,2))*SIN(IF(CB133=CB104,RADIANS(90)-CB130,ATAN((CA133-CA104)/ABS(CB133-CB104))+IF(CB133>CB104,-1,1)*CB130))","v":35.844797250181742},{"$f":"CB104+IF(CB133<CB104,-1,1)*SQRT(POWER(CA133-CA104,2)+POWER(CB133-CB104,2))*COS(IF(CB133=CB104,RADIANS(90)-CB130,ATAN((CA133-CA104)/ABS(CB133-CB104))+IF(CB133>CB104,-1,1)*CB130))","v":117.10997608410614},"b10",null,"نقطه اول از خط دوم",5,{"$f":"CM131","v":17.60146911154062},{"$f":"CN131","v":122.17},null,null,null,null,"نقطه اول از خط اول",28,{"$f":"CU124","v":21.261315960894279},{"$f":"CV124","v":137.4612651665546},{"$f":"CS137+CR105","v":28.117581778289431},{"$f":"CT137+CR106","v":129.4130220875692},"شیفت وسط 12f",null,"α41",{"$f":"ATAN((CY115-CY116)/(CZ116-CZ115))","v":-7.7621508737393555E-2},null,"نقطه دوم از خط دوم","s''2",{"$f":"DC118","v":33.259160594267243},{"$f":"DD118","v":76.521913388220739},null,null,null,"پهلو جدا در شلوار",null,null,null,null,null,39.362552172651817,1.0892358978053807,{"$f":"DQ124","v":"p5rm"},null,null,{"$f":"BW109","v":19.249863555213253},{"$f":"BX109","v":145.83531262309054},32,"نقطه ساسون سرشانه",null,{"$f":"CE109","v":29.193225623847461},{"$f":"CF109","v":137.7458624935949},30,"نقطه ساسون سرشانه",null,null,null,null,null,null,null,"رسم انحنا پایه",null,{"$f":"CY109","v":16.306469111540622},{"$f":"CZ109","v":71.580000000000013},52,null,{"$f":"CY107","v":16.953969111540619},{"$f":"CZ107","v":100.5},39,null,null,null,"جادکمه یقه پشت گردنی یا آرشال در پیراهن",null,null,null,null,null,{"$f":"EH109","v":4.4957399631022845},{"$f":"EI109","v":138.20730158273469},"e9",null,{"$f":"BO158","v":28.676935650976734},{"$f":"BP158","v":130.9189297056397},"شیفت 22",null,{"$f":"BK154","v":26.7666},{"$f":"BL154","v":113.45561085030904},40,null,null,null,"کمر",null,{"$f":"BO176","v":15},{"$f":"BP176","v":66.580000000000013},47,null,null,null,{"$f":"-DD171-GK101","v":-19.538294582241775},{"$f":"DE171","v":128.14350418849008},"16g",null,{"$f":"-CM141-GK101","v":-17.435924455871671},{"$f":"CN141","v":125.98834966465331}," 20f",null,{"$f":"-EX132-GK101","v":-19.077114512269336},{"$f":"EY132","v":71.975601486881459},"49'm",null,{"$f":"-ED131-GK101","v":-7.6014691115406201},{"$f":"EE131","v":122.17}," 5 پیراهن",null,null,null,null,null,{"$f":"-ET135-GK101","v":6.6799400000000002},{"$f":"EU135","v":71.580000000000013},"1'",null,{"$f":"-CR183-GK101","v":6.6799400000000002},{"$f":"CS183","v":95.7},"26''",null,null,null,null,null,null,null,"71'",null,null,null,null,null,{"$f":"-DP463-GK101","v":-18.643241084109199},{"$f":"DQ463","v":99.73172115031511},"β11"]
[null,null,null,null,null,"رادیان","درجه",null,null,"(12 → 17)",{"$f":"0.5*K132","v":3.1529254877306601},{"$f":"0.5*L132","v":3.0499999999999989},null,"β2",{"$f":"ATAN(O131/O132)","v":0.49483793398536158},{"$f":"ATAN(P131/P132)","v":0.53349862364375311},{"$f":"AN130","v":24.538294582241775},{"$f":"AO130","v":27.643504188490091},16,null,{"$f":"AN121","v":12.60146911154062},{"$f":"AO121","v":17.73},7,null,null,"(16 → 13)","وصل",null,"β6",{"$f":"ATAN(AD131/AD132)","v":0.30785565938751852},{"$f":"ATAN(AE131/AE132)","v":0.31188208484025537},null,null,null,null,{"$f":"AR124","v":11.566600000000001},{"$f":"AS124","v":0},10,null,{"$f":"K115-K136-0.4*P123","v":25.799464777334041},{"$f":"K127+K137+AP111","v":22.678960188490091},20,null,{"$f":"AA115-AA137","v":23.188263142209912},{"$f":"AA130+AA138+AT111","v":16.98238278882593},20,null,null,"(25→30→28→26)","هلال وصل",null,{"$f":"AZ125","v":33.249929425595901},{"$f":"BA125","v":140.04291609602075},22,null,{"$f":"BD132","v":5},{"$f":"BE132","v":66.658797026237124},null,{"$f":"Y153","v":5.9614100671686119},"(23→29)",{"$f":"AA153","v":5.8448043426550864},null,{"$f":"BI131+BI98","v":21.261315960894279},{"$f":"BI103+BI97","v":139.03229312467974},27,null,{"$f":"BK168","v":15},{"$f":"BL168-2","v":64.580000000000013},null,null,{"$f":"AZ97-BT130","v":30.799464777334041},{"$f":"BA97","v":123.17896018849009},20,"نقطه حلقه آستین",{"$f":"BS104+SQRT(POWER(BS134-BS104,2)+POWER(BT134-BT104,2))*SIN(IF(BT134=BT104,RADIANS(90)-BT131,ATAN((BS134-BS104)/ABS(BT134-BT104))+IF(BT134>BT104,-1,1)*IF(AND(BX101=1,BX102=0),(ATAN((BS138-BS104)/(BT138-BT104))-ATAN((BS109-BS104)/(BT109-BT104))),BT131)))","v":28.654272756814162},{"$f":"BT104+IF(BT134<BT104,-1,1)*SQRT(POWER(BS134-BS104,2)+POWER(BT134-BT104,2))*COS(IF(BT134=BT104,RADIANS(90)-BT131,ATAN((BS134-BS104)/ABS(BT134-BT104))+IF(BT134>BT104,-1,1)*IF(AND(BX101=1,BX102=0),(ATAN((BS138-BS104)/(BT138-BT104))-ATAN((BS109-BS104)/(BT109-BT104))),BT131)))","v":128.00364177662831},"b10",null,{"$f":"BO103-CB112","v":34.785538025546387},{"$f":"BP103-CB113","v":122.47080584720476},12,"نقطه حلقه آستین",{"$f":"CA104+SQRT(POWER(CA134-CA104,2)+POWER(CB134-CB104,2))*SIN(ATAN((CA134-CA104)/(CB134-CB104))-CB130)","v":34.141414517036921},{"$f":"CB104+SQRT(POWER(CA134-CA104,2)+POWER(CB134-CB104,2))*COS(ATAN((CA134-CA104)/(CB134-CB104))-CB130)","v":123.00491547048473},"b6",null,"نقطه دوم از خط دوم","وسط 22f",{"$f":"CM132","v":18.802974852549138},{"$f":"CN132","v":145.28971244334878},{"$f":"CM132","v":18.802974852549138},{"$f":"CN132","v":145.28971244334878}," وسط 22f",null,"نقطه دوم از خط اول","12f",{"$f":"CQ122","v":33.561040967086534},{"$f":"CR122","v":123.02320525304333},{"$f":"CQ122-0.05*(CQ122-CQ103)+CR105","v":32.946054716776921},{"$f":"CR122-0.15*(CR122-CR123)+CR106","v":122.31984262598742},"12fشیفت",null,"α14",{"$f":"ATAN((CY117-CY116)/(CZ117-CZ116))","v":0.19956398140621215},null,"نقطه تقاطع","s'2",{"$f":"(DE132-DE130+DD130*((DE131-DE130)/(DD131-DD130+0.0001))-DD132*((DE133-DE132)/(DD133-DD132+0.0001)))/(((DE131-DE130)/(DD131-DD130+0.0001))-((DE133-DE132)/(DD133-DD132+0.0001)))","v":31.469526664384404},{"$f":"DE130+(DD134-DD130)*((DE131-DE130)/(DD131-DD130+0.0001))","v":77.491133440980747},null,{"$f":"DG103","v":32.691220069972438},{"$f":"DH103","v":121.11040018849008},"شیفت 18",null,null,null,"محاسبات",null,39.362552172651817,1.0892358978053807,{"$f":"DQ125","v":"p1rm"},null,null,{"$f":"BW105","v":13.351253177760661},{"$f":"BX105","v":146.84676563115454},25,"نقطه یقه",null,{"$f":"CE105","v":23.348421281192373},{"$f":"CF105","v":139.03229312467974},23,"نقطه یقه",null,{"$f":"DT149","v":19.294715075066474},{"$f":"DU149","v":146.14540819889402},"چرخیده32b",null,{"$f":"J272","v":0},161.89781308918174,"p3",null,{"$f":"BD150","v":5},{"$f":"BE150","v":71.580000000000013},1,null,null,null,null,null,{"$f":"CY109","v":16.306469111540622},{"$f":"CZ109","v":71.580000000000013},52,null,{"$f":"DC126","v":31.428670677526835},{"$f":"DD126","v":126.82083753647137},{"$f":"DE126","v":"b'8s"},null,{"$f":"EH110","v":1.3682872021625769E-2},{"$f":"EI110","v":137.94609570720104},"e10",null,{"$f":"BK179","v":26.7666},{"$f":"BL179","v":113.45561085030904},"شیفت 40",null,{"$f":"BK159","v":26.7666},{"$f":"BL159","v":96.5},34,null,{"$f":"BO178","v":15},{"$f":"BP178","v":96.5},44,null,{"$f":"CE169","v":23.691600000000001},{"$f":"CF169","v":66.580000000000013},"e'216",null,null,null,null,null,null,null,null,null,"رگلان با درز",null,null,null,null,null,{"$f":"-ED132-GK101","v":-9.294715075066474},{"$f":"EE132","v":146.14540819889402},"چرخیده32b",null,null,null,"23'",null,null,null,null,null,{"$f":"-CR186-GK101","v":6.6799400000000002},{"$f":"CS186","v":120.2},"4'",null,{"$f":"-AW278-GK101","v":-15.478801107224793},{"$f":"AX278","v":85.919410908776172},"4n",null,{"$f":"-CP289-GK101","v":5},{"$f":"CQ289","v":96},"s1",null,null,null,"65'",null,{"$f":"-DP464-GK101","v":-24.204488614584562},{"$f":"DQ464","v":84.452319136336229},"β5"]
[null,null,null,null,"زاویه خام سرشانه پشت",{"$f":"ATAN((I126-I125)/(0.52*H168-H163))","v":0.31308981072117836},{"$f":"ROUND(DEGREES(F135),0)","v":18},null,null,"(17 → 18)",{"$f":"0.15*K133","v":1.2411359999999998},{"$f":"0.15*L133","v":1.02},null,"(36 → 32')",{"$f":"O130/COS(O133)","v":22.678865057792787},{"$f":"P130/COS(P133)","v":20.794523699629966},{"$f":"AN135","v":28.249929425595901},{"$f":"AO135","v":27.643504188490091},21,null,{"$f":"AN123","v":13.89646911154062},{"$f":"AO123","v":0},9,null,{"$f":"H155+AE127","v":4.2057628954375215},"(14 → 17)",{"$f":"G155+0.25*'متغیرها '!C76*G167*COS(AD140)+'متغیرها '!C61*H120-1.2*0.5*'متغیرها '!C78*G167*COS(AD140)+AD127-'متغیرها '!C77*O128*H130*((Y115-Y121-Y123-Y124-Y127)/(Y130))","v":4.3023684971544887},null,"(38 → 34')",{"$f":"AD130/COS(AD133)","v":6.314659800837541},{"$f":"AE130/COS(AE133)","v":6.1145186132176068},{"$f":"AR132","v":19.746368344486321},{"$f":"AS132","v":25.980618788825929},18,null,{"$f":"AR122","v":11.7666},{"$f":"AS122","v":16.955610850309043},8,null,{"$f":"K115-K132+K138","v":28.249929425595901},{"$f":"K127+K133+AP111","v":27.643504188490091},21,null,{"$f":"AA115-AA139","v":21.037078893632668},{"$f":"AA130+AT111","v":15.982578788825929},21,null,{"$f":"L150","v":6.0415555070104654},"(25 → 31)",{"$f":"K150","v":5.8986103774525889},null,{"$f":"AX104-AX117+AX123-AX138+AX99","v":28.841769503972678},{"$f":"AX113+AX118+AX124+AX98","v":140.04291609602075},33,null,{"$f":"BD125","v":5},{"$f":"BE125","v":69.580000000000013},null,{"$f":"Y154","v":1.2691513142699751},"(29 → 30)",{"$f":"AA154","v":1.2864306310848383},null,{"$f":"BI131+BI98","v":21.261315960894279},{"$f":"BI103-BI132+BI97","v":137.4612651665546},28,null,{"$f":"BO134+'متغیرها '!C279*(BK126-BO126+BO117-BO134)","v":30.68002831362427},{"$f":"BP134","v":64.580000000000013},null,null,{"$f":"AZ96-BT130","v":29.538294582241775},{"$f":"BA96","v":128.14350418849008},16,"نقطه حلقه آستین",{"$f":"BS104+SQRT(POWER(BS135-BS104,2)+POWER(BT135-BT104,2))*SIN(ATAN((BS135-BS104)/(BT135-BT104))-IF(AND(BX101=1,BX102=0),(ATAN((BS138-BS104)/(BT138-BT104))-ATAN((BS109-BS104)/(BT109-BT104))),BT131))","v":25.588962427831195},{"$f":"BT104+SQRT(POWER(BS135-BS104,2)+POWER(BT135-BT104,2))*COS(ATAN((BS135-BS104)/(BT135-BT104))-IF(AND(BX101=1,BX102=0),(ATAN((BS138-BS104)/(BT138-BT104))-ATAN((BS109-BS104)/(BT109-BT104))),BT131))","v":132.10743514081653},"b6",null,{"$f":"BO102-CB112","v":35.042555899094573},{"$f":"BP102-CB113","v":129.37423969210775},20,"نقطه حلقه آستین",{"$f":"CA104+SQRT(POWER(CA135-CA104,2)+POWER(CB135-CB104,2))*SIN(ATAN((CA135-CA104)/(CB135-CB104))-CB130)","v":33.919340080706185},{"$f":"CB104+SQRT(POWER(CA135-CA104,2)+POWER(CB135-CB104,2))*COS(ATAN((CA135-CA104)/(CB135-CB104))-CB130)","v":129.90956173101131},"b12",null,"نقطه تقاطع","g1",{"$f":"(CL133-CL131+CK131*((CL132-CL131)/(CK132-CK131))-CK133*((CL134-CL133)/(CK134-CK133)))/(((CL132-CL131)/(CK132-CK131))-((CL134-CL133)/(CK134-CK133)))","v":18.374038469080098},{"$f":"CL131+(CK135-CK131)*((CL132-CL131)/(CK132-CK131))","v":137.03599753894048},{"$f":"CI109","v":13.351253177760661},{"$f":"CJ109","v":146.84676563115454},25,null,"نقطه اول از خط دوم",40,{"$f":"CU118","v":26.7666},{"$f":"CV118","v":113.45561085030904},{"$f":"CU105","v":34.594792081207657},{"$f":"CV105","v":118.33412107267063},"16fشیفت",null,"(45→s'2)",{"$f":"SQRT(POWER((CY115-DC119),2)+POWER((CZ115-DD119),2))*IF('متغیرها '!C187>0,1,-1)","v":-9.8095943137166763},null,null,null,null,null,null,{"$f":"DG121","v":32.691220069972438},{"$f":"DH121","v":115.38738418849009},"شیفت 14m",null,null,{"$f":"SQRT(POWER(DG112-DG111,2)+POWER(DH112-DH111,2))","v":146.5772317023802},"m''",null,null,null,null,null,null,{"$f":"BW136","v":24.340417771240173},{"$f":"BX136","v":138.03027214395152},24,"نقطه حلقه آستین",null,{"$f":"CE119","v":35.04145278326785},{"$f":"CF119","v":129.37481314382703},20,"نقطه حلقه آستین",null,{"$f":"BW105","v":13.351253177760661},{"$f":"BX105","v":146.84676563115454},"چرخیده25",null,6.1199459138016952,161.89781308918174,"p6",null,null,null,null,null,{"$f":"CY107","v":16.953969111540619},{"$f":"CZ107","v":100.5},39,null,{"$f":"BD97","v":3.3200600000000002},{"$f":"BE97","v":71.580000000000013},"1'",null,{"$f":"DC109","v":31.193714930354844},{"$f":"DD109","v":126.81666578358194},{"$f":"DE109","v":"b8s"},null,null,null,null,null,null,null,null,null,null,null,null,null,{"$f":"BK159","v":26.7666},{"$f":"BL159","v":96.5},34,null,null,null,null,null,null,null,{"$f":"FX129","v":-27.567945557703098},{"$f":"DE173","v":119.86926418849009},13,null,{"$f":"-CM143-GK101","v":-1.6810025422085317},{"$f":"CN143","v":141.60805476186675},30,null,{"$f":"-EX134-GK101","v":-21.428670677526835},{"$f":"EY134","v":126.82083753647137},"b'8s",null,null,null,null,null,{"$f":"GN132","v":-6.306469111540622},{"$f":"GO132","v":71.580000000000013},52,null,{"$f":"-ET135-GK101","v":6.6799400000000002},{"$f":"EU135","v":71.580000000000013},"1'",null,null,null,null,null,{"$f":"-AW281-GK101","v":5},{"$f":"AX281","v":71.580000000000013},1,null,{"$f":"-CP290-GK101","v":5},{"$f":"CQ290","v":114.42},"e'1",null,{"$f":"-CT275-GK101","v":5},{"$f":"CU275","v":96},"s1"]
[null,null,null,null,"زاویه خام سرشانه جلو",{"$f":"ATAN((I123-I122-0.3*(0.5*('متغیرها '!U72-2*'متغیرها '!U73)))/(0.52*H168-H163))","v":0.31747893816869005},{"$f":"ROUND(DEGREES(F136),0)","v":18},{"$f":"ROUND((محاسبات!H111-2*محاسبات!H110-0.03*محاسبات!H102)/محاسبات!H102,2)","v":0.12},null,"(12 → 19)",{"$f":"0.8*K132","v":5.0446807803690561},{"$f":"0.8*L132","v":4.879999999999999},null,"(36 → 34')",{"$f":"O132/COS(O134)","v":22.078036739925398},{"$f":"P132/COS(P134)","v":20.438179665847951},{"$f":"AN136","v":28.249929425595901},{"$f":"AO136","v":39.542916096020754},22,null,{"$f":"AN125","v":29.820039999999999},{"$f":"AO125","v":3.4639545184724363},11,null,{"$f":"(AD128)*'متغیرها '!U82","v":8.5},"(17 → 18)",{"$f":"(AD128+O128*'متغیرها '!C77)*H130","v":9.9980400000000014},null,"(38 → 36')",{"$f":"AD132/COS(AD134)","v":6.1004911189936797},{"$f":"AE132/COS(AE134)","v":5.9210717715812544},{"$f":"AR137","v":20.603094589646929},{"$f":"AS137","v":25.980618788825929},23,null,{"$f":"AR125","v":11.966600000000001},{"$f":"AS125","v":0},11,null,{"$f":"K115-K132+K138","v":28.249929425595901},{"$f":"K127+K133+K139+AP111","v":39.542916096020754},22,null,{"$f":"AA115-AA139","v":21.037078893632668},{"$f":"AA130+AA140+AT111","v":19.98179478882593},22,null,{"$f":"L151","v":0.80545769793578093},"(31 → 32)",{"$f":"K151","v":1.0114530080639998},null,{"$f":"AX104-AX117+AX123-AX138+AX99","v":28.841769503972678},{"$f":"AX113+AX118+AX124+AX139+AX98","v":143.08286385513222},34,null,null,null,null,{"$f":"Y156","v":5.471075645597967},"(18 → 31)",{"$f":"AA156","v":4.7909706586673586},null,null,null,null,null,null,null,null,null,{"$f":"AZ95-BT130","v":30.651785035248011},{"$f":"BA95","v":134.09321014225543},24,"نقطه حلقه آستین",{"$f":"BS104+SQRT(POWER(BS136-BS104,2)+POWER(BT136-BT104,2))*SIN(ATAN((BS136-BS104)/(BT136-BT104))-IF(BX101=1,(ATAN((BS138-BS104)/(BT138-BT104))-ATAN((BS109-BS104)/(BT109-BT104))),BT131))","v":24.340417771240173},{"$f":"BT104+SQRT(POWER(BS136-BS104,2)+POWER(BT136-BT104,2))*COS(ATAN((BS136-BS104)/(BT136-BT104))-IF(BX101=1,(ATAN((BS138-BS104)/(BT138-BT104))-ATAN((BS109-BS104)/(BT109-BT104))),BT131))","v":138.03027214395152},"b12",null,{"$f":"BO101-CB112","v":35.642264270707003},{"$f":"BP101-CB113","v":135.02250374702837},18,"نقطه حلقه آستین",{"$f":"CA104+SQRT(POWER(CA136-CA104,2)+POWER(CB136-CB104,2))*SIN(ATAN((CA136-CA104)/(CB136-CB104))-CB130)","v":34.12612735477154},{"$f":"CB104+SQRT(POWER(CA136-CA104,2)+POWER(CB136-CB104,2))*COS(ATAN((CA136-CA104)/(CB136-CB104))-CB130)","v":135.58580837720058},"b16",null,null,null,null,null,null,null,"رگلان",null,"نقطه دوم از خط دوم","وسط 18f",{"$f":"CU119","v":28.800142955980849},{"$f":"CV119","v":137.475239936874},null,null,null,null,"α45",{"$f":"ATAN((CZ105-CZ115)/(CY115-CY105))","v":-0.21925400479140381},null,null,null,null,null,null,{"$f":"DG122","v":30.372114512269338},{"$f":"DH122","v":103.92120297376289},"شیفت 41m",null,null,{"$f":"ATAN((DP111-DL118)/(DK118-DO111))","v":0.31528289378970842},"αm",null,{"$f":"DO125","v":39.362552172651817},{"$f":"DP125","v":1.0892358978053807},"p1 rm",null,null,{"$f":"BW135","v":25.588962427831195},{"$f":"BX135","v":132.10743514081653},16,"نقطه حلقه آستین",null,{"$f":"CE118","v":34.784913290103987},{"$f":"CF118","v":122.47136150521011},12,"نقطه حلقه آستین",null,null,null,null,null,10.403908053462882,161.26954664831305,"p7",null,{"$f":"BD150","v":5},{"$f":"BE150","v":71.580000000000013},1,null,{"$f":"CY103","v":17.60146911154062},{"$f":"CZ103","v":118.23},43,null,null,null,null,null,null,null,null,null,null,null,"آرشال",null,null,null,"رگلان با درز",null,{"$f":"BK159","v":26.7666},{"$f":"BL159","v":96.5},34,null,null,null,null,null,{"$f":"DO114","v":35.891298348860708},{"$f":"DP114","v":135.5582862620688},"18m",null,null,null,{"$f":"-DD174-GK101","v":-25.844145557703101},{"$f":"DE174","v":115.38738418849009},14,null,{"$f":"-CM144-GK101","v":-8.374038469080098},{"$f":"CN144","v":137.03599753894048},"وسط 16f",null,{"$f":"-EX135-GK101","v":-21.193714930354844},{"$f":"EY135","v":126.81666578358194},"b8s",null,{"$f":"-ED134-GK101","v":-9.294715075066474},{"$f":"EE134","v":146.14540819889402},"چرخیده32b",null,{"$f":"-EL134-GK101","v":5},{"$f":"EM134","v":71.580000000000013},1,null,{"$f":"-ET138-GK101","v":6.6799400000000002},{"$f":"EU138","v":114.42},"e1",null,{"$f":"-CR186-GK101","v":6.6799400000000002},{"$f":"CS186","v":120.2},"4'",null,null,null,null,null,null,null,null,null,{"$f":"-CT276-GK101","v":-23.175039999999996},{"$f":"CU276","v":96},"s2",null,{"$f":"-DP466-GK101","v":-24.204488614584562},{"$f":"DQ466","v":84.452319136336229},"β5"]
[null,null,null,null,"زاویه خام سرشانه متوسط",{"$f":"ROUND(0.5*(F135+F136),2)","v":0.32},{"$f":"ROUND(0.5*(G135+G136),1)","v":18},null,null,"(19 → 20)",{"$f":"0.4*K133","v":3.3096959999999997},{"$f":"0.4*L133","v":2.7200000000000006},null,"فاصله افقی بین 22 و 25 بعد از بسته شدن ساسون",{"$f":"0.5*G167*COS(G160)+0.5*G167*COS(O134-O133-G160)","v":12.212919566410982},{"$f":"0.5*H167*COS(H160)+0.5*H167*COS(P134-P133-H160)","v":11.796582865389045},null,null,null,null,{"$f":"AN128","v":30.844145557703097},{"$f":"AO128","v":14.887384188490092},14,null,{"$f":"0.2*Y135","v":0.84115257908750429},"(14 → 19)",{"$f":"0.2*AA135","v":0.8604736994308978},null,"فاصله افقی بین 24 و 27 بعد از بسته شدن ساسون",{"$f":"0.5*G167*COS(G158)+0.5*G167*COS(AD134-AD133-G158)","v":12.254793341667639},{"$f":"0.5*H167*COS(H158)+0.5*H167*COS(AE134-AE133-H158)","v":11.870128437003029},{"$f":"AR138","v":20.603094589646929},{"$f":"AS138","v":38.532316688649537},24,null,{"$f":"AR127","v":23.672439999999995},{"$f":"AS127","v":3.4517574098729416E-2},13,null,{"$f":"K115-K132+K140","v":25.651785035248011},{"$f":"K127+K133+AP111","v":27.643504188490091},23,null,{"$f":"AA115-AA135+AA141","v":20.603094589646929},{"$f":"AA130+AA136+AT111","v":25.980618788825929},23,null,null,"(25 → 32)","وصل",null,null,null,null,null,null,null,"یقه هفت",{"$f":"Y157","v":2.6863518622096527},"(31 → 32)",{"$f":"AA157","v":2.3916012252297718},null,{"$f":"0+BI98","v":15},{"$f":"BI125+BI97","v":130.9189297056397},21,null,{"$f":"BO135","v":30.68002831362427},{"$f":"BP135","v":64.580000000000013},null,null,{"$f":"AZ94-BT130","v":33.249929425595901},{"$f":"BA94","v":140.04291609602075},22,"نقطه حلقه آستین",{"$f":"BS104+SQRT(POWER(BS137-BS104,2)+POWER(BT137-BT104,2))*SIN(ATAN((BS137-BS104)/(BT137-BT104))-IF(BX101=1,(ATAN((BS138-BS104)/(BT138-BT104))-ATAN((BS109-BS104)/(BT109-BT104))),BT131))","v":24.463474035591126},{"$f":"BT104+SQRT(POWER(BS137-BS104,2)+POWER(BT137-BT104,2))*COS(ATAN((BS137-BS104)/(BT137-BT104))-IF(BX101=1,(ATAN((BS138-BS104)/(BT138-BT104))-ATAN((BS109-BS104)/(BT109-BT104))),BT131))","v":144.52135929212406},"b16",null,{"$f":"BK146-CB112","v":30.85129361203964},{"$f":"BL146-CB113","v":137.41410497225814},32,"نقطه ساسون سرشانه",{"$f":"CA104+SQRT(POWER(CA137-CA104,2)+POWER(CB137-CB104,2))*SIN(ATAN((CA137-CA104)/(CB137-CB104))-CB130)","v":29.180917108650441},{"$f":"CB104+SQRT(POWER(CA137-CA104,2)+POWER(CB137-CB104,2))*COS(ATAN((CA137-CA104)/(CB137-CB104))-CB130)","v":137.63959801939646},32,null,null,null,null,null,{"$f":"CI103","v":11.681002542208532},{"$f":"CJ103","v":141.60805476186675},30,null,"نقطه تقاطع","g1",{"$f":"(CT135-CT133+CS133*((CT134-CT133)/(CS134-CS133))-CS135*((CT136-CT135)/(CS136-CS135)))/(((CT134-CT133)/(CS134-CS133))-((CT136-CT135)/(CS136-CS135)))","v":28.117581778289431},{"$f":"CT133+(CS137-CS133)*((CT134-CT133)/(CS134-CS133))","v":129.4130220875692},null,null,null,null,"α41m",{"$f":"ATAN((DD117-DD115)/(DC117-DC115))","v":0.59407217340117535},null,null,null,null,null,null,{"$f":"DG125","v":30.036511567536589},85.409735249698898,{"$f":"DI125","v":"10rm"},null,null,null,null,null,{"$f":"DH607","v":25.8416},{"$f":"DI607","v":0.20027276317281362},"50r",null,null,null,{"$f":"'متغیرها '!C122","v":3},"b","زاویه اپل",null,null,{"$f":"'متغیرها '!C122","v":3},"b","زاویه اپل",null,null,null,"رگلان با درز",null,12.23989182760339,160.10276611527121,"p2",null,{"$f":"BS111","v":5},{"$f":"BT111","v":120.2},4,null,null,null,null,null,{"$f":"BD97","v":3.3200600000000002},{"$f":"BE97","v":71.580000000000013},"1'",null,{"$f":"DC125","v":43.847303412973929},{"$f":"DD125","v":86.309577795617685},{"$f":"DE125","v":"ss2m"},null,{"$f":"DU176","v":3.3200600000000002},{"$f":"DV176","v":106.545},"e''1",null,{"$f":"CC150+CB112","v":28.513292545793966},{"$f":"CD150+CB113","v":129.42298750154481},"شیفت b'6",null,{"$f":"BO187","v":27.691600000000001},{"$f":"BP187","v":79.400000000000006},"38'",null,{"$f":"DO104","v":41.425365487730666},{"$f":"DP104","v":96.524704632477565},{"$f":"DQ104","v":"شیفت36m"},null,{"$f":"DO115","v":34.879841159792562},{"$f":"DP115","v":129.39918473310706},"20m",null,null,null,null,null,null,null,null,null,null,null,null,null,null,null,{"$f":"-ED135-GK101","v":-3.3512531777606611},{"$f":"EE135","v":146.84676563115454},"چرخیده25",null,null,null,null,null,null,null,null,null,{"$f":"-CR189-GK101","v":-7.6014691115406201},{"$f":"CS189","v":120.2},"بالاتنه 5",null,{"$f":"GZ122","v":-3.3512531777606629},{"$f":"HA122","v":146.84676563115454},{"$f":"HB122","v":25},null,{"$f":"-CP290-GK101","v":5},{"$f":"CQ290","v":114.42},"e'1",null,null,null,null,null,{"$f":"-DP467-GK101","v":-22.922775850472988},{"$f":"DQ467","v":85.049991613796465},"β7"]
[null,null,null,null,null,null,null,null,null,"(16 → 21)",{"$f":"G174-0.25*G167*'متغیرها '!C76*COS(O140)+(1-1.2)*0.5*G167*'متغیرها '!C78*COS(O140)","v":3.7116348433541253},{"$f":"H174","v":4.7600000000000007},null,"فاصله عمودی بین 22 و 25 بعد از بسته شدن ساسون",{"$f":"0.5*G167*SIN(G160)+(O135-O136)*COS(O133)-0.5*G167*SIN(O134-O133-G160)","v":2.0941871800701679},{"$f":"0.5*H167*SIN(H160)+(P135-P136)*COS(P133)-0.5*H167*SIN(P134-P133-H160)","v":1.5727155808201172},{"$f":"AN137","v":25.651785035248011},{"$f":"AO137","v":27.643504188490091},23,null,{"$f":"AN127","v":32.567945557703098},{"$f":"AO127","v":19.369264188490092},13,null,{"$f":"0.1*Y136","v":0.85000000000000009},"(19 → 20)",{"$f":"0.1*AA136","v":0.99980400000000014},null,"فاصله عمودی بین 24 و 27 بعد از بسته شدن ساسون",{"$f":"0.5*G167*SIN(G158)+(AD135-AD136)*COS(AD133)-0.5*G167*SIN(AD134-AD133-G158)","v":2.6972573602308687},{"$f":"0.5*H167*SIN(H158)+(AE135-AE136)*COS(AE133)-0.5*H167*SIN(AE134-AE133-H158)","v":2.527084856876983},null,null,null,null,{"$f":"AR130","v":24.04873684164081},{"$f":"AS130","v":11.500698788825929},16,null,{"$f":"K115-K132+K140","v":25.651785035248011},{"$f":"K127+K133+K141+AP111","v":33.593210142255423},24,null,{"$f":"AA115-AA135+AA141","v":20.603094589646929},{"$f":"AA130+AA136+AA142+AT111","v":38.532316688649537},24,null,{"$f":"L153","v":5.0320051873805962},"(22 → 33)",{"$f":"K153","v":4.4081599216232252},null,{"$f":"AX128+AX135+AX99","v":19.249863555213253},{"$f":"AX103-AX136+AX98","v":145.83531262309054},32,null,{"$f":"AZ140","v":13.351253177760663},{"$f":"BA140","v":146.84676563115454},25,null,"(23 →30→22→32→18)","وصل",null,{"$f":"0+BI98","v":15},{"$f":"BI103-BI128+BI97","v":136.41391319447115},24,null,{"$f":"BO137","v":30.68002831362427},{"$f":"BP137-BE122+BE123","v":61.658797026237124},null,null,{"$f":"BD159-BT130","v":28.841769503972678},{"$f":"BE159","v":143.08286385513222},34,"نقطه ساسون سرشانه",{"$f":"BS104+SQRT(POWER(BS138-BS104,2)+POWER(BT138-BT104,2))*SIN(ATAN((BS138-BS104)/(BT138-BT104))-BT131)","v":19.227447802367497},{"$f":"BT104+SQRT(POWER(BS138-BS104,2)+POWER(BT138-BT104,2))*COS(ATAN((BS138-BS104)/(BT138-BT104))-BT131)","v":145.64260215507844},34,null,{"$f":"BO106-CB112","v":40.811706522700881},{"$f":"BP106-CB113","v":112.47276584720476},9,"نقطه حلقه آستین",{"$f":"CA104+SQRT(POWER(CA138-CA104,2)+POWER(CB138-CB104,2))*SIN(IF(CB138=CB104,RADIANS(90)-CB130,ATAN((CA138-CA104)/ABS(CB138-CB104))+IF(CB138>CB104,-1,1)*CB130))","v":40.846051418403469},{"$f":"CB104+IF(CB138<CB104,-1,1)*SQRT(POWER(CA138-CA104,2)+POWER(CB138-CB104,2))*COS(IF(CB138=CB104,RADIANS(90)-CB130,ATAN((CA138-CA104)/ABS(CB138-CB104))+IF(CB138>CB104,-1,1)*CB130))","v":113.44859009832776},"b14",null,null,null,null,null,{"$f":"CK128","v":18.272053380933166},{"$f":"CL128","v":135.07357170026944}," وسط 20f",null,null,null,null,null,null,null,null,null,"αb2m",{"$f":"ATAN((DD112-DD113)/(DC112-DC113))","v":0.23652030508718211},null,null,null,null,null,null,25.459352476627497,46.1,{"$f":"DI126","v":"7rm"},null,null,null,null,null,null,null,null,null,null,null,{"$f":"'متغیرها '!C55","v":0},"شیفت افقی",null,null,null,{"$f":"'متغیرها '!C56","v":0},"شیفت افقی",null,null,{"$f":"BW175+BT130","v":18.664481617323361},{"$f":"BX175","v":136.83355394697662},"شیفت34''",null,null,null,"برش پایه",null,null,null,null,null,{"$f":"CY108","v":16.306469111540622},{"$f":"CZ108","v":84.3},"47'",null,{"$f":"BS116","v":3.3200600000000002},{"$f":"BT116","v":114.42},"e1",null,{"$f":"DC116","v":31.784539040583354},{"$f":"DD116","v":87.379352480249551},{"$f":"DE116","v":"47''s"},null,{"$f":"DU177","v":2.9200600000000003},{"$f":"DV177","v":114.42},"e'1",null,{"$f":"CC151+CB112","v":34.471332252888487},{"$f":"CD151+CB113","v":121.27161459628449},"شیفتb''6",null,null,null,null,null,{"$f":"DK112","v":26.7666},{"$f":"DL112","v":96.5},{"$f":"DM112","v":"شیفت35"},null,{"$f":"DO121","v":34.59097934193364},{"$f":"DP121","v":122.47136150521011},{"$f":"DQ121","v":"b'6p"},null,null,null,null,null,"9'",null,{"$f":"-CM146-GK101","v":-8.374038469080098},{"$f":"CN146","v":137.03599753894048},"شیفت وسط 16f",null,{"$f":"-EX137-GK101","v":-33.847303412973929},{"$f":"EY137","v":86.309577795617685},"ss2m",null,null,null,null,null,{"$f":"-EL134-GK101","v":5},{"$f":"EM134","v":71.580000000000013},1,null,{"$f":"-ET138-GK101","v":6.6799400000000002},{"$f":"EU138","v":114.42},"e1",null,null,null,null,null,{"$f":"GZ129","v":-14.254696527337614},{"$f":"HA129","v":143.73265925554304},{"$f":"HB129","v":"22f"},null,{"$f":"-CP293-GK101","v":6.6799400000000002},{"$f":"CQ293","v":114.42},"e1",null,{"$f":"-CT278-GK101","v":-23.175039999999996},{"$f":"CU278","v":96},"s2"]
[null,null,null,null,null,null,null,null,null,"(21 → 22)",{"$f":"SQRT(POWER(O127,2)-G174*G174)+0.5*G167*'متغیرها '!C76*SIN(O140)-0.5*G167*'متغیرها '!C78*SIN(O140)","v":11.899411907530661},{"$f":"SQRT(POWER(P127,2)-H174*H174)","v":11.18420426315614},null,"β3",{"$f":"ATAN(O138/O137)","v":0.16982153113944554},{"$f":"ATAN(P138/P137)","v":0.13253802814814858},{"$f":"AN138","v":25.651785035248011},{"$f":"AO138","v":33.593210142255423},24,null,null,null,null,null,{"$f":"0.7*Y135","v":2.944034026806265},"(14 → 21)",{"$f":"0.7*AA135","v":3.0116579480081418},null,"β7",{"$f":"ATAN(AD138/AD137)","v":0.21664392322614107},{"$f":"ATAN(AE138/AE137)","v":0.20976280193474622},{"$f":"AR139","v":20.003386218034503},{"$f":"AS139","v":25.980618788825929},25,null,{"$f":"AR129","v":25.772536841640811},{"$f":"AS129","v":15.982578788825929},15,null,{"$f":"K143","v":8.3512531777606629},{"$f":"K114+AP111","v":46.346765631154526},25,null,{"$f":"AA115-AA135+AA143","v":20.003386218034503},{"$f":"AA130+AA136+AT111","v":25.980618788825929},25,null,{"$f":"L154","v":3.4391974124244822},"(33 → 34)",{"$f":"K154","v":3.0399477591114632},null,{"$f":"AX128+AX135+AX99","v":19.249863555213253},{"$f":"AX103+AX98","v":146.84676563115454},31,null,{"$f":"AE708+'متغیرها '!C51","v":3.3200600000000002},{"$f":"AF708+'متغیرها '!C52","v":136.36934389257897},"m9",null,null,null,null,null,null,null,null,null,null,null,null,{"$f":"AZ100-BT130","v":37.567945557703098},{"$f":"BA100","v":119.86926418849009},13,"نقطه حلقه آستین",{"$f":"BS104+SQRT(POWER(BS139-BS104,2)+POWER(BT139-BT104,2))*SIN(IF(BT139=BT104,RADIANS(90)-BT131,ATAN((BS139-BS104)/ABS(BT139-BT104))+IF(BT139>BT104,-1,1)*IF(AND(BX101=1,BX102=0),(ATAN((BS138-BS104)/(BT138-BT104))-ATAN((BS109-BS104)/(BT109-BT104))),BT131)))","v":36.174132720781841},{"$f":"BT104+IF(BT139<BT104,-1,1)*SQRT(POWER(BS139-BS104,2)+POWER(BT139-BT104,2))*COS(IF(BT139=BT104,RADIANS(90)-BT131,ATAN((BS139-BS104)/ABS(BT139-BT104))+IF(BT139>BT104,-1,1)*IF(AND(BX101=1,BX102=0),(ATAN((BS138-BS104)/(BT138-BT104))-ATAN((BS109-BS104)/(BT109-BT104))),BT131)))","v":127.53660236827258},"b14",null,{"$f":"BO122-CB112","v":39.087906522700877},{"$f":"BP122-CB113","v":107.99088584720475},10,"نقطه زیر حلقه آستین",{"$f":"CA104+SQRT(POWER(CA139-CA104,2)+POWER(CB139-CB104,2))*SIN(IF(CB139=CB104,RADIANS(90)-CB130,ATAN((CA139-CA104)/ABS(CB139-CB104))+IF(CB139>CB104,-1,1)*CB130))","v":39.437034122179028},{"$f":"CB104+IF(CB139<CB104,-1,1)*SQRT(POWER(CA139-CA104,2)+POWER(CB139-CB104,2))*COS(IF(CB139=CB104,RADIANS(90)-CB130,ATAN((CA139-CA104)/ABS(CB139-CB104))+IF(CB139>CB104,-1,1)*CB130))","v":108.85801224435987},"b2",null,null,null,null,null,null,null,null,null,null,null,null,null,null,null,null,null,"αss2m",{"$f":"ATAN((DD122-DD116)/(DC122-DC116))","v":-8.8452635716549668E-2},null,null,null,null,null,null,24.157079749354775,5,{"$f":"DI127","v":"5rm"},null,null,null,null,null,{"$f":"DK112","v":26.7666},{"$f":"DL112","v":96.5},{"$f":"DM112","v":"شیفت35"},null,null,null,null,"محاسبات",null,null,null,{"$f":"'متغیرها '!C57","v":0},"شیفت عمودی",null,null,{"$f":"BS178+BT130","v":25.450472811621037},{"$f":"BT178","v":131.28667646797888},"شیفتb'6",null,{"$f":"J277","v":0},{"$f":"K277","v":160.10276611527121},"p1",null,{"$f":"BS111","v":5},{"$f":"BT111","v":120.2},4,null,{"$f":"CY109","v":16.306469111540622},{"$f":"CZ109","v":71.580000000000013},52,null,null,null,null,null,null,null,null,null,{"$f":"DU180","v":0.66071462171698014},125.39467194628949,"a'11",null,{"$f":"CE117+CB112","v":36.076039530151412},{"$f":"CF117+CB113","v":116.47262696058199},"شیفتb10",null,{"$f":"BO187","v":27.691600000000001},{"$f":"BP187","v":79.400000000000006},"38'",null,null,null,null,null,null,null,null,null,null,null,{"$f":"-DD177-GK101","v":-14.573105577030464},{"$f":"DE177","v":145.30037824350708},39,null,{"$f":"-CM147-GK101","v":-14.893564433550061},{"$f":"CN147","v":131.18957231939206},"شیفت 16f",null,{"$f":"-EX138-GK101","v":-21.784539040583354},{"$f":"EY138","v":87.379352480249551},"47''s",null,null,null,"32'",null,{"$f":"-EL137-GK101","v":5},{"$f":"EM137","v":120.2},4,null,{"$f":"-ET141-GK101","v":5},{"$f":"EU141","v":114.42},"e'1",null,{"$f":"-CR189-GK101","v":-7.6014691115406201},{"$f":"CS189","v":120.2},"بالاتنه 5",null,null,null,null,null,null,null,null,null,{"$f":"-CT279-GK101","v":-22.40504},{"$f":"CU279","v":86.1},"m4",null,{"$f":"-DP469-GK101","v":-22.922775850472988},{"$f":"DQ469","v":85.049991613796465},"β7"]
[null,null,null,null,null,null,null,null,null,"(16 → 23)",{"$f":"0.3*K138","v":1.1134904530062375},{"$f":"0.3*L138","v":1.4280000000000002},null,"β4",{"$f":"O139-O133+O134","v":0.60372434649990336},{"$f":"P139-P133+P134","v":0.59954196240013136},null,null,null,null,{"$f":"AN136","v":28.249929425595901},{"$f":"AO136","v":39.542916096020754},22,null,{"$f":"0.4*Y136","v":3.4000000000000004},"(21 → 22)",{"$f":"0.4*AA136","v":3.9992160000000005},null,"β8",{"$f":"AD139-AD133+AD134","v":0.4629988279829681},{"$f":"AE139-AE133+AE134","v":0.45642963269776599},{"$f":"AR140","v":20.003386218034503},{"$f":"AS140","v":32.884052633728913},26,null,null,null,null,null,0,{"$f":"K114-K144+AP111","v":35.869343892578947},26,null,{"$f":"AA115-AA135+AA143","v":20.003386218034503},{"$f":"AA130+AA136+AA144+AT111","v":32.884052633728913},26,null,null,"(22 → 34)","وصل",null,{"$f":"AX128+AX99","v":13.351253177760663},{"$f":"AX103+AX98","v":146.84676563115454},25,null,null,null,null,null,"متغیرهای محاسبه ای ساسون کمر در پیراهن راسته پشت",null,null,{"$f":"BI108-BI114+BI120+BI98+'متغیرها '!C56","v":35.642264270707003},{"$f":"BI110+BI115+BI121+BI97+'متغیرها '!C57","v":135.02250374702837},"شیفت18",null,{"$f":"BO138","v":30.68002831362427},{"$f":"BP138","v":61.658797026237124},null,null,{"$f":"BD155-BT130","v":35.844145557703101},{"$f":"BE155","v":115.38738418849009},14,"نقطه زیر حلقه آستین",{"$f":"BS104+SQRT(POWER(BS140-BS104,2)+POWER(BT140-BT104,2))*SIN(IF(BT140=BT104,RADIANS(90)-BT131,ATAN((BS140-BS104)/ABS(BT140-BT104))+IF(BT140>BT104,-1,1)*BT131))","v":36.297032265202304},{"$f":"BT104+IF(BT140<BT104,-1,1)*SQRT(POWER(BS140-BS104,2)+POWER(BT140-BT104,2))*COS(IF(BT140=BT104,RADIANS(90)-BT131,ATAN((BS140-BS104)/ABS(BT140-BT104))+IF(BT140>BT104,-1,1)*BT131))","v":122.73622420854588},"b2",null,null,"متغیرهای محاسبه ای ساسون زیر بغل با چرخش کامل",null,null,null,null,null,null,null,null,null,null,{"$f":"CM138+CJ105","v":18.272053380933166},{"$f":"CN138","v":135.07357170026944},"شیفت وسط 20f",null,null,null,null,null,null,null,null,null,"αs2m",{"$f":"ATAN((DD120-CZ108)/(DC120-CY108))","v":-0.49632807305911286},null,null,null,null,null,null,24.157079749354775,5,{"$f":"DI128","v":"1rm"},null,null,null,null,null,{"$f":"DO104","v":41.425365487730666},{"$f":"DP104","v":96.524704632477565},{"$f":"DQ104","v":"شیفت36m"},null,null,"(25→32)",{"$f":"SQRT(POWER(DT134-DT133,2)+POWER(DU134-DU133,2))","v":5.9847006251368251},null,null,null,null,null,"محاسبات",null,null,{"$f":"BW134+BT130","v":28.654272756814162},{"$f":"BX134","v":128.00364177662831},"شیفتb10",null,{"$f":"J278","v":12.23989182760339},{"$f":"K278","v":160.10276611527121},"p2",null,{"$f":"BS112","v":3.3200600000000002},{"$f":"BT112","v":120.2},"4'",null,null,null,null,null,{"$f":"BS116","v":3.3200600000000002},{"$f":"BT116","v":114.42},"e1",null,{"$f":"CY109","v":16.306469111540622},{"$f":"CZ109","v":71.580000000000013},52,null,-0.31471911183288559,136.36934389257897,"e'3",null,null,null,null,null,{"$f":"BO188","v":27.691600000000001},{"$f":"BP188","v":66.580000000000013},49,null,null,null,"لبه برگرد پایین کت در پهلو جدا",null,null,null,"اطلاعات اندام",null,null,null,{"$f":"-DD178-GK101","v":-3.3512531777606611},{"$f":"DE178","v":146.84676563115454},25,null,{"$f":"-CM148-GK101","v":-17.435924455871671},{"$f":"CN148","v":125.98834966465331},"شیفت 20f",null,null,null,null,null,{"$f":"-ED138-GK101","v":-8.6644816173233608},{"$f":"EE138","v":136.83355394697662},"شیفت34''",null,null,null,null,null,null,null,null,null,{"$f":"-CR192-GK101","v":6.6799399649894493},{"$f":"CS192","v":120.20099999999755},"4'",null,null,null,"51'",null,{"$f":"-CP293-GK101","v":6.6799400000000002},{"$f":"CQ293","v":114.42},"e1",null,null,null,null,null,{"$f":"-DP470-GK101","v":-22.325103373012752},{"$f":"DQ470","v":83.76827884968489},"β3"]
[null,null,null,null,null,null,null,null,null,"(23 → 24)",{"$f":"0.5*K139","v":5.9497059537653305},{"$f":"0.5*L139","v":5.5921021315780699},null,"β9",{"$f":"ATAN(K138/K139)","v":0.30235410652187911},{"$f":"ATAN(L138/L139)","v":0.40237894483987019},{"$f":"AN136","v":28.249929425595901},{"$f":"AO136","v":39.542916096020754},22,null,{"$f":"AN148","v":23.841769503972678},{"$f":"AO148","v":42.582863855132217},34,null,{"$f":"H173","v":2.04},"(18 → 23)",{"$f":"G173-0.25*'متغیرها '!C76*G167*COS(AD140)+(1-1.2)*0.5*'متغیرها '!C78*G167*COS(AD140)","v":0.8567262451606088},null,"β10",{"$f":"ATAN(AA141/AA142)","v":6.8150102421492692E-2},{"$f":"ATAN(Y141/Y142)","v":0.16863023152667392},null,null,null,null,{"$f":"AR138","v":20.603094589646929},{"$f":"AS138","v":38.532316688649537},24,null,{"$f":"K145","v":3.3405012711042654},{"$f":"K114+AP111","v":46.346765631154526},27,null,{"$f":"AA146","v":8.3484212811923744},{"$f":"AA114+AT111","v":42.532293124679747},27,null,null,"(32 → 5)","وصل",null,{"$f":"0+AX99","v":5},{"$f":"AX103+AX98","v":146.84676563115454},2,null,{"$f":"AE708+'متغیرها '!C51","v":3.3200600000000002},{"$f":"AF708+'متغیرها '!C52","v":136.36934389257897},"m9",{"$f":"IF('متغیرها '!C125=1,H147,IF(H147>0,H147,0))","v":0},"x''11",{"$f":"IF('متغیرها '!C125=1,G147,IF(G147>0,G147,0))","v":0},null,{"$f":"BI108-BI114+BI120+BI98+'متغیرها '!C56","v":35.642264270707003},{"$f":"BI110+BI115+BI97+'متغیرها '!C57","v":122.47080584720476},"شیفت17",null,{"$f":"BO134","v":15},{"$f":"BP140","v":61.658797026237124},null,null,null,"متغیرهای محاسبه ای کمی چرخش به ساسون زیر بغل",null,null,null,null,null,null,null,"ζ'1",{"$f":"(1+0.001)*ATAN((CA109-CA104)/(CB109-CB104))","v":9.9670414307400049E-2},null,{"$f":"CA104+(1-'متغیرها '!C116)*(CA139-CA104)","v":30.462991956810264},{"$f":"CB104+(1-'متغیرها '!C116)*(CA139-CA104)*TAN(0.5*CB130-CC143)","v":111.96734748426987},"b",null,null,null,null,null,{"$f":"CM105","v":27.435924455871671},{"$f":"CN105","v":125.98834966465331}," 20f",null,null,null,null,null,null,null,null,null,"αb4s",{"$f":"ATAN((DD109-DD110)/(DC110-DC109))","v":-1.7753617993371412E-2},null,null,null,null,null,null,null,null,null,null,null,null,null,null,null,null,null,null,null,"(34→22)",{"$f":"SQRT(POWER(DT131-DT130,2)+POWER(DU131-DU130,2))","v":5.3547321382803226},null,null,null,"(23→30)",{"$f":"SQRT(POWER(DY134-DY133,2)+POWER(DZ134-DZ133,2))","v":5.984700625136826},null,null,null,null,null,null,null,null,null,null,null,null,null,null,null,{"$f":"DC116","v":31.784539040583354},{"$f":"DD116","v":87.379352480249551},"47''s",null,{"$f":"BD150","v":5},{"$f":"BT116","v":114.42},"e'1",null,{"$f":"DC103","v":16.025020000000001},71.580000000000013,"50s",null,2.0878693888902236,145.62183116900616,"a'8",null,{"$f":"CE106","v":21.261315960894279},{"$f":"CF106","v":137.4612651665546},28,null,null,null,null,null,{"$f":"DY178","v":31.691600000000001},{"$f":"DZ178","v":70.580000000000013},"a'23",null,null,null,"کمر",null,null,null,null,null,null,null,null,null,null,null,{"$f":"-EX140-GK101","v":-6.306469111540622},{"$f":"EY140","v":71.580000000000013},52,null,{"$f":"-ED139-GK101","v":-15.450472811621037},{"$f":"EE139","v":131.28667646797888},"شیفتb'6",null,{"$f":"-EL137-GK101","v":5},{"$f":"EM137","v":120.2},4,null,{"$f":"-ET141-GK101","v":5},{"$f":"EU141","v":114.42},"e'1",null,null,null,null,null,{"$f":"-AW287-GK101","v":-25.844145557703101},{"$f":"AX287","v":115.38738418849009},14,null,{"$f":"-CP296-GK101","v":6.6799400000000002},{"$f":"CQ296","v":96},"s'1",null,null,null,"66'"]
[null,null,null,null,null,null,null,null,null,"(22→24→16→20→18→12→13)","هلال وصل",null,null,"(16 → 6)",{"$f":"SQRT((Q126-Q113)*(Q126-Q113)+(R126-R113)*(R126-R113))","v":13.348054337913393},{"$f":"SQRT((N161-N162)*(N161-N162)+(O161-O162)*(O161-O162))","v":12.208699237489638},{"$f":"AN147","v":23.841769503972678},{"$f":"AO147","v":39.542916096020754},33,null,{"$f":"AN150","v":12.60146911154062},{"$f":"AO150","v":21.669999999999998},36,null,{"$f":"SQRT(POWER(I125-I122+(O128-AD128)*'متغیرها '!U82+P127,2)-H173*H173)","v":11.982588409855364},"(23→24)",{"$f":"SQRT(POWER(H125-H122+(O128-AD128)*H130+O127,2)-G173*G173)+'متغیرها '!C76*0.5*G167*SIN(AD140)-'متغیرها '!C78*0.5*G167*SIN(AD140)","v":12.551697899823608},null,"(18 → 7)",{"$f":"SQRT((AG135-AG113)*(AG135-AG113)+(AF135-AF113)*(AF135-AF113))","v":8.1711922950723892},{"$f":"SQRT((AD159-AD160)*(AD159-AD160)+(AC159-AC160)*(AC159-AC160))","v":7.6470325008652571},{"$f":"AR138","v":20.603094589646929},{"$f":"AS138","v":38.532316688649537},24,null,{"$f":"AR152","v":15.81212393097957},{"$f":"AS152","v":40.923917913879308},36,null,{"$f":"K145","v":3.3405012711042654},{"$f":"K114-K146+AP111","v":36.917086066436504},28,null,0,{"$f":"AA114-AA147+AT111","v":39.913913194471156},28,null,null,"(34 → 5)","وصل",null,{"$f":"AZ102","v":5},{"$f":"BA102","v":136.36934389257897},26,null,{"$f":"BD98","v":3.3200600000000002},{"$f":"BE98","v":136.36934389257897},"26'",{"$f":"IF('متغیرها '!C125=1,H146,IF(H146>0,H146,0))","v":0},"x11",{"$f":"IF('متغیرها '!C125=1,G146,IF(G146>0,G146,0))","v":0},null,{"$f":"BI108-BI114+BI98+'متغیرها '!C56","v":34.785538025546387},{"$f":"BI110+BI115+BI97+'متغیرها '!C57","v":122.47080584720476},"شیفت12",null,null,null,null,null,null,"ζ'1",{"$f":"('متغیرها '!C106+0.001)*ATAN((BS109-BS104)/(BT109-BT104))","v":6.4277519763342311E-2},null,{"$f":"BS104+(1-'متغیرها '!C115)*(BS140-BS104)","v":19.425736756156869},{"$f":"BT104+(1-'متغیرها '!C115)*(BS140-BS104)*TAN(0.5*BT131-BU144)","v":120.08757592151784},"b",null,null,"ζ'2",{"$f":"(1+0.001)*ATAN((CA137-CA104)/(CB137-CB104))","v":0.16903562561305197},null,null,null,null,null,null,null,null,null,null,null,"رگلان با درز",null,null,null,null,null,null,null,null,null,null,"امتداد جیب روی تکه پهلو جدا",null,null,null,null,null,null,{"$f":"DG128","v":24.157079749354775},{"$f":"DH128","v":5},{"$f":"DI128","v":"1rm"},null,null,null,null,null,{"$f":"DO102","v":42.240832010431539},{"$f":"DP102","v":113.71390184720475},"شیفت 8m",null,null,"(32b→5)",{"$f":"SQRT(POWER(DT149-DT132,2)+POWER(DU149-DU132,2))","v":24.035125965898139},null,null,null,"(32→18)",{"$f":"SQRT(POWER(DY131-DY130,2)+POWER(DZ131-DZ130,2))","v":5.3547321382803208},null,null,null,{"$f":"BW106","v":11.681002542208532},{"$f":"BX106","v":141.60805476186675},30,null,{"$f":"J280","v":0},{"$f":"K280","v":160.10276611527121},"p1",null,{"$f":"BS112","v":3.3200600000000002},{"$f":"BT112","v":120.2},"4'",null,{"$f":"DC115","v":24.98580723376763},{"$f":"DD115","v":102.09792924802817},"40s",null,null,null,null,null,20.109526000000002,71.738240594752597,"50's",null,7.6439092239108088,154.87431844543332,"a'6",null,{"$f":"CC150","v":28.513292545793966},{"$f":"CD150","v":129.42298750154481},"b'6",null,{"$f":"BO188","v":27.691600000000001},{"$f":"BP188","v":66.580000000000013},49,null,{"$f":"DY180","v":23.691600000000001},{"$f":"DZ180","v":62.580000000000013},"a''23",null,{"$f":"BK180","v":26.7666},{"$f":"BL180","v":96.5},"شیفت 35",null,null,null,null,null,"47'",null,null,null,"59'",null,{"$f":"-EX141-GK101","v":-6.0250200000000014},{"$f":"EY141","v":71.580000000000013},"50s",null,{"$f":"-ED140-GK101","v":-18.654272756814162},{"$f":"EE140","v":128.00364177662831},"شیفتb10",null,{"$f":"-EL140-GK101","v":6.6799400000000002},{"$f":"EM140","v":120.2},"4'",null,{"$f":"-ET144-GK101","v":5},{"$f":"EU144","v":71.580000000000013},1,null,{"$f":"-CR192-GK101","v":6.6799399649894493},{"$f":"CS192","v":120.20099999999755},"4'",null,{"$f":"-AW288-GK101","v":-25.875033006216121},89.102953675396037,"8n",null,null,null,null,null,{"$f":"-CL281-GK101","v":-25.844145557703101},{"$f":"CM281","v":115.38738418849009},"شیفت 14",null,{"$f":"-DP472-GK101","v":-22.325103373012752},{"$f":"DQ472","v":83.76827884968489},"β3"]
[null,null,null,null,null,null,null,null,null,"(2 → 25)",{"$f":"G163+'متغیرها '!C71*0.5*G167*COS(O139)","v":8.3512531777606629},{"$f":"H163","v":8.0408000000000008},null,"β'1",{"$f":"ATAN((Q149-Q147)/(R149-R147))","v":6.954213288641925E-2},{"$f":"ATAN((N163-N162)/(O163-O162))","v":7.590717858829206E-2},{"$f":"AN148","v":23.841769503972678},{"$f":"AO148","v":42.582863855132217},34,null,{"$f":"AN146","v":14.249863555213253},{"$f":"AO146","v":45.335312623090523},32,null,{"$f":"0.3*Y141","v":0.61199999999999999},"(18 → 25)",{"$f":"0.3*AA141","v":0.25701787354818262},null,"β11",{"$f":"ATAN((AG127-AG113)/(AF127-AF113))","v":0.21688120866489316},{"$f":"ATAN((AD159-AD160)/(AC159-AC160))","v":0.22749633228531368},{"$f":"AR151","v":15.81212393097957},{"$f":"AS151","v":38.532316688649537},35,null,null,null,null,null,{"$f":"K147","v":6.6810025422085308},{"$f":"K114+AP111","v":46.346765631154526},29,null,{"$f":"AA148","v":3.3393685124769501},{"$f":"AA114+AT111","v":42.532293124679747},29,null,null,"(10 → 35)",{"$f":"H108-H114+0.5*(H105-H108)","v":20.169999999999987},null,null,null,null,null,null,null,null,{"$f":"IF('متغیرها '!C125=1,H149,IF(H149>0,H149,0))","v":1.125},"x",{"$f":"IF('متغیرها '!C125=1,G149,IF(G149>0,G149,0))","v":1.125},null,null,null,null,null,{"$f":"BO141","v":15},{"$f":"BP141","v":61.658797026237124},null,null,null,"ζ'2",{"$f":"('متغیرها '!C106+0.001)*ATAN((BS138-BS104)/(BT138-BT104))","v":0.45704781676890888},null,null,null,null,null,null,"ζ1",{"$f":"ATAN((CB104-CB139)/(CA139-CA104))","v":0.41745069091431974},null,null,null,null,null,null,null,null,null,{"$f":"CI103","v":11.681002542208532},{"$f":"CJ103","v":141.60805476186675},30,null,null,null,null,null,null,null,null,null,"α36m",{"$f":"ATAN((DO105-DO104)/(DP104-DP105))","v":0.23860932250820072},null,null,null,null,null,null,{"$f":"DG117","v":18.896469111540618},{"$f":"DH117","v":5},{"$f":"DI117","v":"53r"},null,null,null,null,null,{"$f":"DO107","v":39.087906522700877},{"$f":"DP107","v":113.09333384720475},"شیفت 8'm",null,null,"b1",{"$f":"ATAN((DT131-DT132)/(DU131-DU132))-ATAN((DT133-DT132)/(DU133-DU132))","v":-3.8127124969514203E-4},null,null,null,"(30b→22)",{"$f":"SQRT(POWER(DY150-DY132,2)+POWER(DZ150-DZ132,2))","v":7.1577710310434846},null,null,null,{"$f":"BS175","v":18.671008174609682},{"$f":"BT175","v":136.8331355638978},"34'",null,{"$f":"J281","v":0},{"$f":"K281","v":161.89781308918174},"p3",null,{"$f":"BD97","v":3.3200600000000002},{"$f":"BE97","v":71.580000000000013},"1'",null,null,null,null,null,{"$f":"BD150","v":5},{"$f":"BT116","v":114.42},"e'1",null,23.513280999999999,72.015161635569598,"50''s",null,12.780823470520851,160.55109716664882,"a'4",null,null,null,"رگلان بدون درز",null,{"$f":"BO176","v":15},{"$f":"BP176","v":66.580000000000013},47,null,null,null,null,null,{"$f":"BK162","v":38.272440000000003},{"$f":"BL162","v":96.524704632477565},"شیفت 36",null,null,null,{"$f":"-(0+AX99)+2*GC101","v":5},{"$f":"DS238-DS239+AX98","v":125.21958742766127},"p26",null,{"$f":"-(AL281)+2*GC101","v":-3.3512531777606611},{"$f":"AM281","v":146.84676563115454},{"$f":"AN281","v":25},null,{"$f":"-EX142-GK101","v":-10.109526000000002},{"$f":"EY142","v":71.738240594752597},"50's",null,null,null,null,null,null,null,null,null,null,null,null,null,{"$f":"-CR195-GK101","v":6.6799400000000002},{"$f":"CS195","v":136.36934389257897},"26'",null,{"$f":"-AW289-GK101","v":-24.885549352488582},80.560513758640468,"7n",null,{"$f":"-CP296-GK101","v":6.6799400000000002},{"$f":"CQ296","v":96},"s'1",null,{"$f":"-CL282-GK101","v":-23.525039999999997},{"$f":"CM282","v":103.92120297376289},"شیفت 41",null,{"$f":"-DP473-GK101","v":-24.204488614584562},{"$f":"DQ473","v":84.452319136336229},"β5"]
[null,null,null,null,null,null,null,null,null,"(2 → 26)",{"$f":"G165+'متغیرها '!C72*0.5*G167-('متغیرها '!C71)*0.5*G167*SIN(O139)","v":10.477421738575579},{"$f":"H165","v":9.9006876205645433},null,"β'2",{"$f":"ATAN((Q143-Q147)/(R143-R147))","v":0.49318215528480008},{"$f":"ATAN((N164-N162)/(O164-O162))","v":0.52874167049040788},null,null,null,null,{"$f":"AN139","v":8.3512531777606629},{"$f":"AO139","v":46.346765631154526},25,null,{"$f":"0.55*Y142","v":6.5904236254204509},"(25 → 26)",{"$f":"0.55*AA142","v":6.9034338449029855},null,"(18' → 18'')",{"$f":"AD142*SIN(AD147-AD146+AD143)","v":2.5155310957185626},{"$f":"AE142*SIN(AE147-AE146+AE143)","v":2.4214146009043986},{"$f":"AR152","v":15.81212393097957},{"$f":"AS152","v":40.923917913879308},36,null,{"$f":"AR148","v":14.193225623847461},{"$f":"AS148","v":41.245862493594906},34,null,{"$f":"K147","v":6.6810025422085308},{"$f":"K114-K148+AP111","v":41.10805476186674},30,null,{"$f":"AA148","v":3.3393685124769501},{"$f":"AA114-AA149+AT111","v":40.175751187492011},30,null,null,"(35 → 36)",{"$f":"0.5*SIN(RADIANS('متغیرها '!C198))*(0.5*'متغیرها '!U84+0.06*H105)","v":2.7806237652376864},null,{"$f":"AX130+AX99","v":8.3405012711042659},{"$f":"AX103+AX98","v":146.84676563115454},27,null,{"$f":"BD98","v":3.3200600000000002},{"$f":"BE98","v":136.36934389257897},"26'",{"$f":"IF('متغیرها '!C125=1,H151,IF(H151>0,H151,0))","v":0.20000000000000018},"x''",{"$f":"IF('متغیرها '!C125=1,G151,IF(G151>0,G151,0))","v":0.20000000000000018},null,{"$f":"BK140","v":35.642264270707003},{"$f":"BL140","v":135.02250374702837},18,null,{"$f":"BO134","v":15},{"$f":"BP134","v":64.580000000000013},null,null,null,"ζ1",{"$f":"ATAN((BT104-BT140)/(BS140-BS104))","v":0.25793427357934184},null,{"$f":"BW137","v":24.463474035591126},{"$f":"BX137","v":144.52135929212406},"b16",null,null,null,null,null,null,null,null,null,null,null,null,null,{"$f":"CK135","v":18.374038469080098},{"$f":"CL135","v":137.03599753894048},"وسط 16f",null,null,null,null,null,null,null,null,null,"(s2m→45m)",{"$f":"SQRT(POWER((EX129-DC127),2)+POWER((EY129-DD127),2))","v":0},null,null,null,null,null,null,null,null,null,null,null,null,null,null,{"$f":"DO109","v":37.280911753895992},{"$f":"DP109","v":114.27586064720475},"شیفت 8''m",null,null,"α25",{"$f":"ATAN((DU134-DU133)/(DT133-DT134))","v":0.1698215311394447},null,null,null,"b1",{"$f":"ATAN((DY131-DY132)/(DZ131-DZ132))-ATAN((DY133-DY132)/(DZ133-DZ132))","v":0.24731382271139105},null,null,null,null,null,"رگلان بدون درز",null,null,null,null,null,null,null,null,null,{"$f":"DC115","v":24.98580723376763},{"$f":"DD115","v":102.09792924802817},"40s",null,{"$f":"BD150","v":5},{"$f":"BE150","v":71.580000000000013},1,null,{"$f":"EX132","v":29.077114512269336},{"$f":"EY132","v":71.975601486881459},"49'm",null,null,null,null,null,{"$f":"CC157+CB112","v":28.301524111407904},{"$f":"CD157+CB113","v":127.48710796577468},"شیفتb'10",null,null,null,null,null,{"$f":"DY180","v":23.691600000000001},{"$f":"DZ180","v":62.580000000000013},"a''23",null,null,null,null,null,null,null,{"$f":"-(DU241)+2*GC101","v":0.49715199999999982},{"$f":"DV241","v":125.81362868489515},"p28",null,{"$f":"-(AL283)+2*GC101","v":-0.93234977331606572},{"$f":"AM283","v":136.36934389257897},"sq2",null,{"$f":"-EX143-GK101","v":-13.513280999999999},{"$f":"EY143","v":72.015161635569598},"50''s",null,{"$f":"-ED142-GK101","v":-1.6810025422085317},{"$f":"EE142","v":141.60805476186675},30,null,{"$f":"-EL140-GK101","v":6.6799400000000002},{"$f":"EM140","v":120.2},"4'",null,null,null,"0'",null,null,null,null,null,{"$f":"-AW290-GK101","v":-21.546042021158129},75.435049808587138,"6n",null,{"$f":"-CP299-GK101","v":5},{"$f":"CQ299","v":96},"s1",null,{"$f":"-CL283-GK101","v":-22.40504},{"$f":"CM283","v":86.1},"m4"]
[null,null,null,null,null,"متغیرهای محاسبه شده پیراهن اندامی",null,"شبیه ساز",null,"(2 → 27)",{"$f":"0.4*K143","v":3.3405012711042654},{"$f":"0.4*L143","v":3.2163200000000005},null,"β12",{"$f":"ATAN((R134-R147)/(Q134-Q147))","v":0.46398877739155003},{"$f":"ATAN((O161-O162)/(N161-N162))","v":0.36889854746002437},{"$f":"AN149","v":18.534320000000001},{"$f":"AO149","v":42.703227363382894},35,null,null,null,null,null,null,"(15→14→20→22→18→26→24)","هلال وصل",null,"(18''→ 7)",{"$f":"AD142*COS(AD147-AD146+AD143)","v":7.7743480002842258},{"$f":"AE142*COS(AE147-AE146+AE143)","v":7.2535410248937415},null,null,null,null,{"$f":"AR141","v":8.3484212811923744},{"$f":"AS141","v":42.532293124679747},27,null,{"$f":"K143+K150","v":14.249863555213253},{"$f":"K114+AP111","v":46.346765631154526},31,null,{"$f":"AA150","v":6.2613159608942812},{"$f":"AA114+AT111","v":42.532293124679747},31,null,null,"(36 → 37)",{"$f":"0.5*COS(RADIANS('متغیرها '!C198))*(0.5*'متغیرها '!U84+0.06*H105)","v":7.6397010069894344},null,{"$f":"AX130+AX99","v":8.3405012711042659},{"$f":"AX103-AX131+AX98","v":137.41708606643653},28,null,{"$f":"BD97","v":3.3200600000000002},{"$f":"BE97","v":71.580000000000013},"1'",{"$f":"MIN(BG144,BG143)+0.5*ABS((BG144-BG143))","v":0.66250000000000009},"*",{"$f":"MIN(BI144,BI143)+0.5*ABS((BI144-BI143))","v":0.66250000000000009},null,{"$f":"BI108-BI114+BI120-BI136+BI98+'متغیرها '!C56","v":30.85129361203964},{"$f":"BI110+BI115+BI121+BI97+'متغیرها '!C57","v":135.02250374702837},"شیفت31",null,null,null,null,null,null,"به دست آوردن نقطه تقاطع دو خط (رگلان با درز)","مولفه افقی","مولفه عمودی",null,null,null,null,null,"به دست آوردن نقطه تقاطع دو خط (رگلان با درز)","مولفه افقی","مولفه عمودی",null,null,null,null,null,null,null,null,null,null,null,null,null,null,null,null,null,null,null,null,"(47'→s2m)",{"$f":"SQRT(POWER((DC127-CY108),2)+POWER((DD127-CZ108),2))","v":10.985798996379721},null,null,null,null,null,null,null,null,null,null,null,null,null,null,{"$f":"DK104","v":36.076248574692741},{"$f":"DL104","v":116.47198184720476},"شیفت 16p",null,null,"α32b",{"$f":"ATAN((DT149-DT132)/(DU149-DU132))","v":7.0507211388023378E-2},null,null,null,"α23",{"$f":"ATAN((DZ134-DZ133)/(DY133-DY134))","v":0.21664392322614134},null,null,null,{"$f":"BW106","v":11.681002542208532},{"$f":"BX106","v":141.60805476186675},30,null,null,null,"خط متصل به یقه ملوانی",null,{"$f":"BD97","v":3.3200600000000002},{"$f":"BE97","v":71.580000000000013},"1'",null,{"$f":"DC113","v":17.60146911154062},{"$f":"DD113","v":118.23},"43s",null,null,null,null,null,null,null,"کمر",null,{"$f":"DU184","v":12.780823470520851},{"$f":"DV184","v":160.55109716664882},"a'4",null,{"$f":"CE117+CB112","v":36.076039530151412},{"$f":"CF117+CB113","v":116.47262696058199},"شیفتb10",null,null,null,"پهلو صاف و پایین لباس",null,{"$f":"DY179","v":15},{"$f":"DZ179","v":62.580000000000013},"a'6",null,{"$f":"BO178","v":15},{"$f":"BP178","v":96.5},44,null,null,null,{"$f":"-(DU243)+2*GC101","v":-4.0056960000000004},{"$f":"DV243","v":128.18979371383062},"p30",null,null,null,null,null,{"$f":"-EX144-GK101","v":-19.077114512269336},{"$f":"EY144","v":71.975601486881459},"49'm",null,{"$f":"-ED143-GK101","v":-8.6710081746096819},{"$f":"EE143","v":136.8331355638978},"34'",null,{"$f":"-EL143-GK101","v":6.6799400000000002},{"$f":"EM143","v":71.580000000000013},"1'",null,null,null,"کمر",null,{"$f":"-CR195-GK101","v":6.6799400000000002},{"$f":"CS195","v":136.36934389257897},"26'",null,{"$f":"-AW291-GK101","v":-13.506487334621859},72.018073841884913,"5n",null,null,null,null,null,null,null,null,null,{"$f":"-DP475-GK101","v":-22.325103373012752},{"$f":"DQ475","v":83.76827884968489},"β3"]
[null,null,null,null,"نصف پهنای ساسون روی خط مرکزی پشت دامن","x11",{"$f":"'متغیرها '!C93*0.25*(H103-H101)","v":0},{"$f":"'متغیرها '!C93*0.25*('متغیرها '!U55-'متغیرها '!U53)","v":0},null,"(27 → 28)",{"$f":"0.9*K144","v":9.4296795647180218},{"$f":"0.9*L144","v":8.910618858508089},null,"(16' →16'')",{"$f":"O142*SIN(O144-O143+O145)","v":10.352445306326377},{"$f":"P142*SIN(P144-P143+P145)","v":8.9407606648223883},{"$f":"AN150","v":12.60146911154062},{"$f":"AO150","v":21.669999999999998},36,null,{"$f":"AN115","v":0},{"$f":"AO115","v":0},1,null,{"$f":"H163","v":8.0408000000000008},"(2 → 27)",{"$f":"G163+'متغیرها '!C71*0.5*G167*COS(AD139)","v":8.3484212811923744},null,"β'5",{"$f":"ATAN((AF150-AF113)/(AG150-AG113))","v":0.14159126107346839},{"$f":"ATAN((AC161-AC160)/(AD161-AD160))","v":0.14571324334520255},{"$f":"AR155","v":14.79526406370883},{"$f":"AS155","v":40.477130315450708},37,null,null,null,null,null,{"$f":"K143+K150","v":14.249863555213253},{"$f":"K114-K151+AP111","v":45.335312623090523},32,null,{"$f":"AA150","v":6.2613159608942812},{"$f":"AA114-AA151+AT111","v":40.96126516655459},32,null,null,"(37' → 37)",{"$f":"(0.5*'متغیرها '!U84+0.06*H105)","v":16.259999999999998},null,null,null,null,null,null,null,null,null,null,null,null,{"$f":"BI108-BI114+BI120-BI136+BI98+'متغیرها '!C56","v":30.85129361203964},{"$f":"BI110+BI115+BI121+BI137+BI97+'متغیرها '!C57","v":137.41410497225814},"شیفت32",null,null,null,"خطوط برش",null,"نقطه اول از خط اول",30,{"$f":"BW106","v":11.681002542208532},{"$f":"BX106","v":141.60805476186675},{"$f":"BW139","v":36.174132720781841},{"$f":"BX139","v":127.53660236827258},"b14",null,"نقطه اول از خط اول",28,{"$f":"CE106","v":21.261315960894279},{"$f":"CF106","v":137.4612651665546},null,null,null,null,null,null,null,null,{"$f":"CK135+CJ105","v":18.374038469080098},{"$f":"CL135","v":137.03599753894048},"شیفت وسط 16f",null,null,null,null,null,null,null,null,null,"(s''2m→s'2m)",{"$f":"IF('متغیرها '!C188*(0.5*H132+0.06*I105)>CZ145,'متغیرها '!C188*(0.5*H132+0.06*I105)-CZ145,0)","v":5.4632010036202772},null,null,null,null,null,null,null,null,null,null,null,null,null,null,{"$f":"DK103","v":34.785538025546387},{"$f":"DL103","v":122.47080584720476},"شیفت 12p",null,null,"α34",{"$f":"ATAN((DU131-DU130)/(DT130-DT131))","v":0.2109540494943373},null,null,null,"α30b",{"$f":"ATAN((DY150-DY132)/(DZ150-DZ132))","v":8.0503924525965567E-2},null,null,null,{"$f":"BS176","v":18.620393691050698},{"$f":"BT176","v":136.04599501372701},"5'",null,{"$f":"BW113","v":12.516127859984596},{"$f":"BX113","v":143.70353910958187},"e7",null,{"$f":"BD150","v":5},{"$f":"BE150","v":71.580000000000013},1,null,null,null,"کمر",null,null,null,"انحنا ساسون کمر ",null,{"$f":"DC124","v":35.630355905042464},{"$f":"DD124","v":109.28799775998449},"41m",null,{"$f":"DP179","v":13.179570593859246},{"$f":"DQ179","v":160.10276611527121},"a4",null,null,null,null,null,{"$f":"BO170","v":39.087906522700877},{"$f":"BP170","v":107.99088584720475},"10شیفت",null,null,null,null,null,{"$f":"BK159","v":26.7666},{"$f":"BL159","v":96.5},34,null,null,null,{"$f":"-(DU239)+2*GC101","v":-6.2571200000000005},{"$f":"DV239","v":131.16},"p25",null,{"$f":"-(AL283)+2*GC101","v":-0.93234977331606572},{"$f":"AM283","v":136.36934389257897},"sq2",null,null,null,"کمر",null,null,null,"رگلان بدون درز",null,null,null,null,null,{"$f":"-ET102-GK101","v":5},{"$f":"EU102","v":100.5},38,null,{"$f":"-CR198-GK101","v":4.9999999999999982},{"$f":"CS198","v":136.36934389257897},26,null,{"$f":"-AW292-GK101","v":5},71.580000000000013,1,null,null,null,"41'",null,null,null,"67'",null,{"$f":"HL148","v":-16.763855842537382},{"$f":"DQ476","v":99.047680863663771},"β9"]
[null,null,null,null,"نصف پهنای ساسون روی خط مرکزی پشت بالاتنه","x''11",{"$f":"('متغیرها '!C82*1/2)*(H121-H119)","v":0},{"$f":"('متغیرها '!C82*1/2)*('متغیرها '!U73-'متغیرها '!U71)","v":0},null,"(2 → 29)",{"$f":"0.8*K143","v":6.6810025422085308},{"$f":"0.8*L143","v":6.432640000000001},null,"(6 →16'')",{"$f":"O142*COS(O144-O143+O145)","v":8.4259973170782274},{"$f":"P142*COS(P144-P143+P145)","v":8.3135513353707502},{"$f":"AN120","v":12.60146911154062},{"$f":"AO120","v":21.669999999999998},6,null,{"$f":"AN151","v":-1.6799399999999998},{"$f":"AO151","v":0},37,null,{"$f":"H166","v":2.3711025621005923},"(2 → 28)",{"$f":"G166+'متغیرها '!C73*0.5*G167-('متغیرها '!C71)*0.5*G167*SIN(AD139)","v":2.6183799302085915},null,"β'6",{"$f":"ATAN((AF144-AF113)/(AG144-AG113))","v":0.23764631213057091},{"$f":"ATAN((AC162-AC160)/(AD162-AD160))","v":0.24041005748554822},{"$f":"AR156","v":13.676935650976734},{"$f":"AS156","v":34.418929705639691},38,null,null,null,null,null,{"$f":"K115-K132+K138-K153","v":23.841769503972678},{"$f":"K127+K133+K139+AP111","v":39.542916096020754},33,null,{"$f":"AA146+AA153","v":14.193225623847461},{"$f":"AA114+AT111","v":42.532293124679747},33,null,null,"(1 → 1')",{"$f":"-'متغیرها '!C66*(2*H129+H130)","v":-1.6799399999999998},null,{"$f":"AX132+AX99","v":11.681002542208532},{"$f":"AX103+AX98","v":146.84676563115454},29,"3'",{"$f":"BD152","v":17.954541134235299},{"$f":"BE152","v":71.580000000000013},"خطوط برش",null,"متغیرهای خروجی ساسون کمر در پیراهن راسته پشت",null,null,null,null,null,null,{"$f":"BK138","v":15},{"$f":"BL138","v":136.41391319447115},24,null,"نقطه دوم از خط اول","b6",{"$f":"BW163","v":25.588962427831195},{"$f":"BX163","v":132.10743514081653},{"$f":"BW140","v":36.297032265202304},{"$f":"BX140","v":122.73622420854588},"b2",null,"نقطه دوم از خط اول","b6",{"$f":"CE118","v":34.784913290103987},{"$f":"CF118","v":122.47136150521011},null,null,null,null,null,null,null,null,{"$f":"CI119-0.05*(CI119-CI103)+CJ105","v":24.893564433550061},{"$f":"CJ119-0.15*(CJ119-CJ120)","v":131.18957231939206},"شیفت 16f",null,null,null,null,null,null,null,null,null,"(41m→45m)",{"$f":"SQRT(POWER((DG122-DG123),2)+POWER((DH122-DH123),2))","v":16.700285177205814},null,null,null,null,null,null,null,null,null,null,null,null,null,null,null,null,null,null,null,"نقاط  خروجی ",null,null,null,null,"α32b",{"$f":"ATAN((DZ131-DZ130)/(DY130-DY131))","v":0.46292953206757992},null,null,null,null,null,null,null,{"$f":"BS116","v":3.3200600000000002},{"$f":"BT116","v":114.42},"e1",null,null,null,null,null,{"$f":"AZ165","v":5},{"$f":"BA165","v":100.5},38,null,{"$f":"BD174+'متغیرها '!C55","v":18.248969111540617},{"$f":"BE174","v":100.5},"40شیفت",null,{"$f":"DC115","v":24.98580723376763},{"$f":"DD115","v":102.09792924802817},"40s",null,null,null,null,null,{"$f":"CE106","v":21.261315960894279},{"$f":"CF106","v":137.4612651665546},28,null,{"$f":"BK126","v":39.123120482498891},{"$f":"BL126","v":78.024704632477565},"6شیفت",null,{"$f":"DY179","v":15},{"$f":"DZ179","v":62.580000000000013},"a'6",null,null,null,"باسن",null,null,null,null,null,null,null,{"$f":"-(AL282)+2*GC101","v":4.9999999999999982},{"$f":"AM282","v":136.36934389257897},{"$f":"AN282","v":26},null,{"$f":"-EX146-GK101","v":-25.630355905042464},{"$f":"EY146","v":109.28799775998449},"41m",null,{"$f":"-ED145-GK101","v":-1.6810025422085317},{"$f":"EE145","v":141.60805476186675},30,null,{"$f":"-EL143-GK101","v":6.6799400000000002},{"$f":"EM143","v":71.580000000000013},"1'",null,{"$f":"-ET103-GK101","v":-6.9539691115406193},{"$f":"EU103","v":100.5},39,null,null,null,null,null,null,null,null,null,{"$f":"-AL474-GK101","v":-1.6810025422085317},{"$f":"AM474","v":141.60805476186675},30,null,{"$f":"-CX270-GK101","v":4.9999999999999982},{"$f":"CY270","v":136.36934389257897},"26 چرخیده"]
[null,null,null,null,"نسبت فاصله دو ساسون پشت به نوار سینه از پشت (بین دو خط پهلو)","z'2",{"$f":"'متغیرها '!C86*0.5","v":0.25},{"$f":"0.5*0.5","v":0.25},null,"(29 → 30)",{"$f":"0.5*K144","v":5.2387108692877895},{"$f":"0.5*L144","v":4.9503438102822717},null,"(22 → 35')",{"$f":"0.5*G179-0.5*G167*'متغیرها '!C76*COS(O140)+0.5*G167*'متغیرها '!C78*COS(O140)","v":9.7156094255959022},{"$f":"COS(H160)*(0.5*H169+0.5*H167*(1))","v":10.259600000000001},null,null,null,null,{"$f":"AN152","v":-1.6799399999999998},{"$f":"AO152","v":35.869343892578947},38,null,{"$f":"0.4*Y146","v":3.2163200000000005},"(2 → 29)",{"$f":"0.4*AA146","v":3.3393685124769501},null,"(24 → 37')",{"$f":"COS(G158)*(0.5*G170+0.5*G167*(1-'متغیرها '!C76+'متغیرها '!C78))","v":5.8078305259380993},{"$f":"COS(H158)*(0.5*H170+0.5*H167)","v":6.4995999999999992},{"$f":"AR121","v":11.7666},{"$f":"AS121","v":24.222301214727199},7,null,null,null,null,null,{"$f":"K115-K132+K138-K153","v":23.841769503972678},{"$f":"K127+K133+K139+K154+AP111","v":42.582863855132217},34,null,{"$f":"AA146+AA153","v":14.193225623847461},{"$f":"AA114-AA154+AT111","v":41.245862493594906},34,null,null,"(26 → 26')",{"$f":"AX147","v":-1.6799399999999998},null,{"$f":"AX132+AX99","v":11.681002542208532},{"$f":"AX103-AX133+AX98","v":141.60805476186675},30,null,{"$f":"AZ102","v":5},{"$f":"BA102","v":136.36934389257897},26,{"$f":"'متغیرها '!U58-'متغیرها '!U59","v":55.4},"(1 → 33)",{"$f":"H106-H114","v":29.919999999999987},null,{"$f":"0+BI98","v":15},{"$f":"0+'متغیرها '!C54","v":0},"زمین",null,{"$f":"BK168","v":15},{"$f":"BL168","v":66.580000000000013},1,null,"نقطه اول از خط دوم","5 بالاتنه",{"$f":"BS104","v":17.60146911154062},{"$f":"BT104","v":120.2},{"$f":"BW142","v":19.425736756156869},{"$f":"BX142","v":120.08757592151784},"b",null,"نقطه اول از خط دوم",22,{"$f":"BK101","v":28.676935650976734},{"$f":"BL101","v":130.9189297056397},null,null,null,null,null,null,null,null,{"$f":"CM105","v":27.435924455871671},{"$f":"CN105","v":125.98834966465331},"شیفت 20f",null,null,null,null,null,null,null,null,null,"(41m→s2m)",{"$f":"CZ147-CZ144","v":16.700285177205814},"(36m→s'2m)",null,null,null,null,null,null,null,null,null,null,null,null,null,null,null,null,null,null,"مولفه افقی","مولفه عمودی","اسم نقطه ",null,null,"نقاط  خروجی ",null,null,null,null,{"$f":"BW176+BT130","v":18.614175994223867},{"$f":"BX176","v":136.04639359739485},"5''شیفت ",null,null,null,null,null,{"$f":"BW108","v":5.0000000000000018},{"$f":"BX108","v":136.36934389257897},"26 چرخیده",null,{"$f":"AZ166","v":16.953969111540619},{"$f":"BA166","v":100.5},39,null,{"$f":"IF(AX152>0,ET150+0.95*(ET147-ET150),ET150)","v":18.216594111540619},{"$f":"IF(AX152>0,EU150-0.4*(EU150-EU147),EU147)","v":111.13800000000001},"40a",null,null,null,null,null,{"$f":"EH112","v":18.292212144602942},154.35437113608901,"a2",null,{"$f":"CC157","v":28.301524111407904},{"$f":"CD157","v":127.48710796577468},"b'10",null,null,null,null,null,{"$f":"DY161","v":15},{"$f":"DZ161","v":66.580000000000013},47,null,{"$f":"BK170","v":15},{"$f":"BP178-(H106-H108)","v":77.5},"b48",null,null,null,{"$f":"-(DU244)+2*GC101","v":-13.732233557703104},{"$f":"DV244","v":129.02505069617604},"p16",null,null,null,null,null,{"$f":"-EX147-GK101","v":-14.98580723376763},{"$f":"EY147","v":102.09792924802817},"40s",null,{"$f":"-ED146-GK101","v":-8.6203936910506975},{"$f":"EE146","v":136.04599501372701},"5'",null,{"$f":"-EL146-GK101","v":5},{"$f":"EM146","v":71.580000000000013},1,null,null,null,null,null,{"$f":"-CR198-GK101","v":4.9999999999999982},{"$f":"CS198","v":136.36934389257897},26,null,null,null,"60'",null,{"$f":"-AL475-GK101","v":-8.869557087465747},{"$f":"AM475","v":140.3754110283146},"g2",null,{"$f":"-CX271-GK101","v":6.6799400000000002},{"$f":"CY271","v":136.36934389257897},"چرخیده 26'",null,{"$f":"-DP478-GK101","v":-16.763855842537382},{"$f":"DQ478","v":99.047680863663771},"β9"]
[null,null,null,null,"نصف پهنای ساسون میانی پشت کمر دامن","x",{"$f":"'متغیرها '!C95*0.25*(H103-H101)","v":1.125},{"$f":"'متغیرها '!C95*0.25*('متغیرها '!U55-'متغیرها '!U53)","v":1.125},null,"(25→30→28→26)","هلال وصل",null,null,"(35' → 35)",{"$f":"0.5*G180-0.5*G167*'متغیرها '!C76*SIN(O140)+0.5*G167*'متغیرها '!C78*SIN(O140)","v":3.1603112673621405},{"$f":"SIN(H160)*(0.5*H169+0.5*H167*(1))","v":3.5867408259849278},{"$f":"AN146","v":14.249863555213253},{"$f":"AO146","v":45.335312623090523},32,null,{"$f":"AN140","v":0},{"$f":"AO140","v":35.869343892578947},26,null,{"$f":"0.9*Y147","v":2.133992305890533},"(29→30)",{"$f":"0.9*AA147","v":2.3565419371877323},null,"(37 ' → 37)",{"$f":"SIN(G158)*(0.5*G170+0.5*G167*(1-'متغیرها '!C76+'متغیرها '!C78))","v":1.9448136268011718},{"$f":"SIN(H158)*(0.5*H170+0.5*H167)","v":2.1357979232779822},null,null,null,null,null,null,null,null,{"$f":"K115-K132+K138-O148","v":18.534320000000001},{"$f":"K127+K133+K139+O149+AP111","v":42.703227363382894},35,null,{"$f":"AR156+0.8*(AR148-AR156)","v":14.089967629273316},{"$f":"AS156+0.7*(AS148-AS156)","v":39.197782657208343},"34-",null,null," محاسبه ات ساسون کمر در پیراهن جلو",null,null,null,null,null,null,{"$f":"AZ102","v":5},{"$f":"BA102","v":136.36934389257897},26,{"$f":"BG155-0.5*BG150","v":11.55},"(33 → 34)",{"$f":"BI155-0.5*BI150","v":11.7666},null,null,null,null,null,null,null,null,null,"نقطه دوم از خط دوم",32,{"$f":"BW109","v":19.249863555213253},{"$f":"BX109","v":145.83531262309054},{"$f":"BS104","v":17.60146911154062},{"$f":"BT104","v":120.2},"5 بالاتنه",null,"نقطه دوم از خط دوم",40,{"$f":"CA104","v":26.7666},{"$f":"CB104","v":113.45561085030904},null,null,null,null,null,null,null,null,null,null,null,null,null,null,null,null,null,null,null,null,null,null,null,null,null,null,null,null,null,null,null,null,null,null,null,null,null,null,null,null,null,{"$f":"DT134+DU140*COS(DU144-RADIANS(DU137))","v":19.294715075066474},{"$f":"DU134-DU140*SIN(DU144-RADIANS(DU137))","v":146.14540819889402},"32b",null,null,"مولفه افقی","مولفه عمودی","اسم نقطه ",null,null,{"$f":"BW134+BT130","v":28.654272756814162},{"$f":"BX134","v":128.00364177662831},"شیفتb10",null,null,null,"یقه گرد چرخیده",null,{"$f":"BW110","v":3.3200599999999998},{"$f":"BX110","v":136.36934389257897},"چرخیده 26'",null,null,null,null,null,{"$f":"IF(AX152>0,ET150+0.2*(ET147-ET150),ET150)","v":17.73096911154062},{"$f":"IF(AX152>0,EU150-0.15*(EU150-EU147),EU147)","v":115.57050000000001},"40aa",null,null,null,"لبه برگرد پایین کت در پهلو جدا",null,15.327636764497575,150.60056838362178,"a13",null,null,null,null,null,{"$f":"BK126","v":39.123120482498891},{"$f":"BL126","v":78.024704632477565},"6شیفت",null,null,null,null,null,{"$f":"BO187","v":27.691600000000001},{"$f":"FS148","v":77.5},"b49",null,null,null,{"$f":"-(DU247)+2*GC101","v":-15.5490203577031},{"$f":"DV247","v":124.44715744233307},"p20",null,null,null,"18'",null,null,null,null,null,null,null,null,null,null,null,null,null,{"$f":"-ET105-GK101","v":-8.2489691115406174},{"$f":"EU105","v":100.5},"شیفت 40",null,{"$f":"-CR201-GK101","v":4.9999999603220857},{"$f":"CS201","v":120.20099999999685},4,null,{"$f":"-AU239-GK101","v":-3.3512531777606611},{"$f":"AV239","v":146.84676563115454},25,null,null,null,null,null,null,null,null,null,{"$f":"HL151","v":-18.04556860664896},{"$f":"DQ479","v":98.450008386203535},"β13"]
[null,null,null,null,"نصف پهنای ساسون جلو کمر دامن","y",{"$f":"'متغیرها '!C97*0.5*(H102-H103-H100+H101)","v":-0.1},{"$f":"'متغیرها '!C97*0.5*('متغیرها '!U54-'متغیرها '!U55-'متغیرها '!U52+'متغیرها '!U53)","v":-0.1},null,"(25 → 31)",{"$f":"(1-'متغیرها '!C71)*0.5*G167*COS(O139)","v":5.8986103774525889},{"$f":"0.5*H167*COS(P139)","v":6.0415555070104654},null,"(35 → 6)","وصل",null,{"$f":"AN145","v":14.249863555213253},{"$f":"AO145","v":46.346765631154526},31,null,null,null,null,null,{"$f":"0.75*Y146","v":6.0306000000000006},"(2 → 31)",{"$f":"0.75*AA146","v":6.2613159608942812},null,"(37 → 7)","وصل",null,{"$f":"AR148","v":14.193225623847461},{"$f":"AS148","v":41.245862493594906},34,null,null,null,null,null,{"$f":"K115-K132+K138-O148-O152","v":12.60146911154062},{"$f":"K127+K133+K139+O149-O151+AP111","v":21.669999999999998},36,null,{"$f":"AR156+0.6*(AR148-AR156)","v":13.986709634699171},{"$f":"AS156+0.5*(AS148-AS156)","v":37.832396099617299},"34--",null,{"$f":"IF('متغیرها '!C125=1,H150,IF(H150>0,H150,0))","v":0},"y",{"$f":"IF('متغیرها '!C125=1,G150,IF(G150>0,G150,0))","v":0},null,{"$f":"AX110+AX99","v":35.879359517501108},{"$f":"0+AX98","v":71.580000000000013},8,null,{"$f":"0+AX99","v":5},{"$f":"0+AX98","v":71.580000000000013},1,{"$f":"2*IF(BG144<0.3,0,IF(BG145>0.3,BG145,0))","v":0},"(34 → 35)",{"$f":"IF('متغیرها '!C125=0,2*IF(BI144<0.3,0,IF(BI145>0.3,BI145,0)),2*BI144)","v":0},null,{"$f":"0+BI98","v":15},{"$f":"I127-I126+BI148+BI97","v":112.8},"سینه",null,{"$f":"BO192","v":25.8416},{"$f":"BP192","v":66.580000000000013}," شیفت50",null,"نقطه تقاطع","32'",{"$f":"(BV148-BV146+BU146*((BV147-BV146)/(BU147-BU146))-BU148*((BV149-BV148)/(BU149-BU148)))/(((BV147-BV146)/(BU147-BU146))-((BV149-BV148)/(BU149-BU148)))","v":18.671008174609682},{"$f":"BV146+(BU150-BU146)*((BV147-BV146)/(BU147-BU146))","v":136.8331355638978},"انحنا",null,null,null,"نقطه تقاطع","b'6",{"$f":"(CD148-CD146+CC146*((CD147-CD146)/(CC147-CC146))-CC148*((CD149-CD148)/(CC149-CC148)))/(((CD147-CD146)/(CC147-CC146))-((CD149-CD148)/(CC149-CC148)))","v":28.513292545793966},{"$f":"CD146+(CC150-CC146)*((CD147-CD146)/(CC147-CC146))","v":129.42298750154481},null,null,null,null,null,null,null,null,null,null,null,null,null,null,null,null,null,null,null,null,null,null,null,null,null,null,null,null,null,null,null,null,null,null,null,null,null,null,null,null,null,{"$f":"DT132+DU142*SIN(DU145+DU143)","v":19.285573818370313},{"$f":"DU132+DU142*COS(DU145+DU143)","v":146.1460520422572},"34b",null,null,{"$f":"DY134+DZ141*COS(DZ145-RADIANS(DZ137))","v":29.252542099847574},{"$f":"DZ134-DZ141*SIN(DZ145-RADIANS(DZ137))","v":138.05351892639121},"30b",null,null,null,null,null,null,{"$f":"BW105","v":13.351253177760661},146.84676563115454,{"$f":"BY105","v":25},null,null,null,null,null,null,null," انحنا لبه روی خط مرکزی جلو بالاتنه",null,{"$f":"BD175+'متغیرها '!C55","v":17.60146911154062},{"$f":"BE175","v":118.23},"43شیفت",null,{"$f":"DP170","v":16.014376372688023},{"$f":"DQ170","v":71.580000000000013},"آستر a5",null,13.351253177760661,146.84676563115454,"چرخیده 25",null,null,null," ساسون کمر بدون شیفت",null,{"$f":"BK129","v":39.138455842452537},{"$f":"BL129","v":64.974704632477568},"4شیفت",null,{"$f":"DY163","v":21.8416},{"$f":"DZ163","v":66.580000000000013},"پهلوe216",null,null,null,null,null,null,null,{"$f":"-(DU249)+2*GC101","v":-19.788189557703099},{"$f":"DV249","v":121.24263216464297},"p18",null,{"$f":"-EP132-GK101","v":-6.306469111540622},{"$f":"EQ132","v":84.3},"47'",null,null,null,"31'",null,{"$f":"-ED148-GK101","v":-8.6141759942238671},{"$f":"EE148","v":136.04639359739485},"5''شیفت ",null,{"$f":"-EL148-GK101","v":4.9999999999999982},{"$f":"EM148","v":136.36934389257897},"چرخیده26",null,{"$f":"-ET106-GK101","v":-23.525039999999997},{"$f":"EU106","v":103.92120297376289},"شیفت 41",null,null,null,null,null,{"$f":"-AU240-GK101","v":-5.3276367644975746},{"$f":"AV240","v":150.60056838362178},"a13",null,{"$f":"-AL477-GK101","v":-8.8626157956503846},{"$f":"AM477","v":140.37589319055024},"g3",null,{"$f":"-CX271-GK101","v":6.6799400000000002},{"$f":"CY271","v":136.36934389257897},"چرخیده 26'"]
[null,null,null,null,"نصف پهنای ساسون میانی پشت کمر بالاتنه","x''",{"$f":"('متغیرها '!C84*1/4)*(H121-H119)","v":0.20000000000000018},{"$f":"('متغیرها '!C84*1/4)*('متغیرها '!U73-'متغیرها '!U71)","v":0.20000000000000018},null,"(31 → 32)",{"$f":"(1-'متغیرها '!C71)*0.5*G167*SIN(O139)","v":1.0114530080639998},{"$f":"0.5*H167*SIN(P139)","v":0.80545769793578093},null,"(35 → 36')",{"$f":"COS(G161)*K159","v":21.033227363382895},{"$f":"COS(H161)*L159","v":19.173259174015072},{"$f":"AN139","v":8.3512531777606629},{"$f":"AO139","v":46.346765631154526},25,null,null,null,null,null,{"$f":"0.6*Y147","v":1.4226615372603553},"(31 → 32)",{"$f":"0.6*AA147","v":1.5710279581251549},null,"(37 → 38')",{"$f":"IF((4*G170)<G172,COS(G159)*(4*G170),COS(G159)*G172)","v":6.0582006098110162},{"$f":"IF((4*H170)<H172,COS(H159)*(4*H170),COS(H159)*H172)","v":5.8684732394972272},{"$f":"AR147","v":14.193225623847461},{"$f":"AS147","v":42.532293124679747},33,null,null,null,null,null,{"$f":"K162","v":-1.6799399999999998},{"$f":"0+AP111","v":0},37,null,{"$f":"AA115-AA135+AA141-AA156","v":15.81212393097957},{"$f":"AA130+AA136+AA142+AT111","v":38.532316688649537},35,null,{"$f":"IF('متغیرها '!C125=1,H152,IF(H152>0,H152,0))","v":1.2949999999999999},"y''",{"$f":"IF('متغیرها '!C125=1,G152,IF(G152>0,G152,0))","v":1.2949999999999999},null,{"$f":"AX110+AX99","v":35.879359517501108},{"$f":"AX111+AX98","v":85.421202973762888},9,null,{"$f":"AZ106","v":5},{"$f":"BA106","v":71.580000000000013},1,{"$f":"0.5*'متغیرها '!U71-BG149+BG163","v":10.75},"(35 → 36)",{"$f":"0.5*H119-BI149+BI163+'متغیرها '!C61*H120","v":11.505839999999999},null,{"$f":"0.5*(BK154-BK153)+BI98","v":20.883299999999998},{"$f":"BL150","v":112.8},null,null,{"$f":"BK129","v":39.138455842452537},{"$f":"BL129","v":64.974704632477568},"4شیفت",null,null,null,null,null,{"$f":"BW144","v":24.463474035591126},{"$f":"BX144","v":144.52135929212406},"b16",null,null,"b''6",{"$f":"CC147-0.05*(CC147-CC150)","v":34.471332252888487},{"$f":"CD147-0.2*(CD147-CD154)","v":121.27161459628449},null,null,null,null,null,null,null,"شبیه ساز حلقه آستین بدون ساسون سرشانه",null,"بالاتنه کمر جناقی در جلو و پشت ",null,null,null,null,null,null,null,null,null,null,null,"جلو بالاتنه عصایی با اپل و کنترل گودی حلقه آستین",null,null,null,null,null,null,null,"پشت بالاتنه عصایی با اپل و کنترل گودی حلقه آستین",null,null,null,null,null,null,null,null,null,null,null,{"$f":"DT150+DU141*COS(DU146-RADIANS(DU137))","v":24.573105577030464},{"$f":"DU150-DU141*SIN(DU146-RADIANS(DU137))","v":145.30037824350708},"22b",null,null,{"$f":"DY132+DZ143*SIN(DZ146+DZ144)","v":30.981578697875065},{"$f":"DZ132+DZ143*COS(DZ146+DZ144)","v":137.69552963179945},"32b",null,null,null,null,"ساسون زیر بغل متغیر",null,11.681002542208532,141.60805476186675,{"$f":"BY106","v":30},null,{"$f":"BW110","v":3.3200599999999998},{"$f":"BX110","v":136.36934389257897},"چرخیده 26'",null,{"$f":"BS116","v":3.3200600000000002},{"$f":"BT116","v":114.42},"e1",null,null,null,null,null,{"$f":"DT162","v":16.014376372688023},{"$f":"DU162","v":67.580000000000013},"a'5",null,null,null,null,null,{"$f":"BK154","v":26.7666},{"$f":"BL154","v":113.45561085030904},40,null,null,null,null,null,{"$f":"DY181","v":21.8416},{"$f":"DZ181","v":62.580000000000013},"a'26",null,{"$f":"BO191","v":25.8416},{"$f":"FS148+'متغیرها '!C57","v":77.5},"b50",null,null,null,{"$f":"-(AZ99-'متغیرها '!C55)+2*GC101","v":-25.844145557703101},{"$f":"BA99","v":119.86926418849009},12,null,{"$f":"-EP133-GK101","v":-6.9539691115406193},{"$f":"EQ133","v":100.5},39,null,{"$f":"-ET147-GK101","v":-8.2489691115406174},{"$f":"EU147","v":100.5},"40شیفت",null,{"$f":"-ED149-GK101","v":-18.654272756814162},{"$f":"EE149","v":128.00364177662831},"شیفتb10",null,{"$f":"-EL149-GK101","v":6.6799400000000002},{"$f":"EM149","v":136.36934389257897},"چرخیده26'",null,null,null,"باسن",null,{"$f":"-CR203-GK101","v":5},{"$f":"CS203","v":120.2},4,null,{"$f":"-AU241-GK101","v":-8.2922121446029422},{"$f":"AV241","v":154.35437113608901},"a2",null,{"$f":"-AL478-GK101","v":-14.313621173943016},{"$f":"AM478","v":136.61678011859451},"g5",null,{"$f":"-CX274-GK101","v":6.6799399649894493},{"$f":"CY274","v":120.20099999999755},"چرخیده 4'",null,{"$f":"-DP481-GK101","v":-18.04556860664896},{"$f":"DQ481","v":98.450008386203535},"β13"]
[null,null,null,null,"نصف پهنای ساسون جلو کمر","y''",{"$f":"0.5*'متغیرها '!C87*(H120-H121-H118+H119)","v":1.2949999999999999},{"$f":"0.5*'متغیرها '!C87*('متغیرها '!U72-'متغیرها '!U73-'متغیرها '!U70+'متغیرها '!U71)","v":1.2949999999999999},null,"(25 → 32)","وصل",null,null,"(36' → 36)",{"$f":"SIN(G161)*K159","v":5.9328508884593818},{"$f":"SIN(H161)*L159","v":5.8877600000000045},{"$f":"AN116","v":0},{"$f":"AO116","v":46.346765631154526},2,null,null,null,"دکلته ساسون سرشانه",null,null,"(27→32→30→28)","هلال وصل",null,"(38' → 38)",{"$f":"IF((4*G170)<G172,SIN(G159)*(4*G170),SIN(G159)*G172)","v":1.1183284127320954},{"$f":"IF((4*H170)<H172,SIN(H159)*(4*H170),SIN(H159)*H172)","v":1.1076804654776413},{"$f":"AR141","v":8.3484212811923744},{"$f":"AS141","v":42.532293124679747},27,null,null,null,null,null,{"$f":"K162","v":-1.6799399999999998},{"$f":"K114-K144+AP111","v":35.869343892578947},38,null,{"$f":"AA115-AA135+AA141-AA156","v":15.81212393097957},{"$f":"AA130+AA136+AA142+AA157+AT111","v":40.923917913879308},36,null,{"$f":"MIN(AV150,AV151)+0.5*ABS((AV150-AV151))","v":0.64749999999999996},"*",{"$f":"MIN(AX150,AX151)+0.5*ABS((AX150-AX151))","v":0.64749999999999996},null,null,null,null,null,{"$f":"0.42*AX104+AX99","v":17.954541134235299},{"$f":"0+AX98","v":71.580000000000013},"3'",{"$f":"BG148-1*('متغیرها '!U58-'متغیرها '!U60)","v":36.4},"(1 → 37)",{"$f":"BI148-'متغیرها '!C96*(H106-H108)","v":12.819999999999986},null,"ساسون کمر",null,null,null,{"$f":"BK126","v":39.123120482498891},{"$f":"BL126","v":78.024704632477565},"6شیفت",null,null,"به دست آوردن نقطه تقاطع دو خط (رگلان بدون درز)","مولفه افقی","مولفه عمودی",{"$f":"BW136","v":24.340417771240173},{"$f":"BX136","v":138.03027214395152},"b12",null,null,"به دست آوردن نقطه تقاطع دو خط (رگلان بدون درز)","مولفه افقی","مولفه عمودی",null,null,null,null,"نقاط  ورودی",null,null,null,null,"بعضی نقاط  ورودی جلو",null,null,null,null,null," جلو بالاتنه کمر جناقی ",null,null,null," پشت بالاتنه کمر جناقی ",null,"نقاط  ورودی",null,null,null,null,null,"حلقه آستین عصایی",null,"نقاط  ورودی",null,null,null,null,null,"حلقه آستین عصایی",null,null,null,null,null,null,null,null,null,null,{"$f":"DY151+DZ142*COS(DZ147-RADIANS(DZ137))","v":35.891298348860708},{"$f":"DZ151-DZ142*SIN(DZ147-RADIANS(DZ137))","v":135.5582862620688},"18b",null,null,{"$f":"BW140+BT130","v":36.297032265202304},{"$f":"BX140","v":122.73622420854588},"شیفت b2",null,8.3405012711042676,137.41708606643653,{"$f":"BY107","v":28},null,{"$f":"BW112","v":3.3200600350105507},{"$f":"BX112","v":120.20099999999755},"چرخیده 4'",null,{"$f":"CE184","v":3.3200600000000002},{"$f":"CF184","v":114.00120475166054},"8n",null,{"$f":"BD175","v":17.60146911154062},{"$f":"BE175","v":118.23},43,null,null,null,null,null,{"$f":"EH116","v":18.292212144602942},{"$f":"EI116","v":154.35437113608901},"a2",null,{"$f":"BK159","v":26.7666},{"$f":"BL159","v":96.5},34,null,{"$f":"BK129","v":39.138455842452537},{"$f":"BL129","v":64.974704632477568},"4شیفت",null,null,null,null,null,{"$f":"BK165","v":42.32244},{"$f":"BL162-(H105-H108)","v":78.024704632477565},"b42",null,null,null,null,null,"خطوط برش پیش سینه",null,null,null,null,null,{"$f":"-ET148-GK101","v":-8.2165941115406191},{"$f":"EU148","v":111.13800000000001},"40a",null,null,null,null,null,null,null,null,null,{"$f":"-ET108-GK101","v":5},{"$f":"EU108","v":82.5},"g46",null,{"$f":"-CR204-GK101","v":5},{"$f":"CS204","v":95.7},"d4",null,null,null,null,null,null,null,null,null,null,null,null,null,{"$f":"-DP482-GK101","v":-18.643241084109199},{"$f":"DQ482","v":99.73172115031511},"β11"]
[null,null,null,null,"ضریب بالا آمدن کف حلقه آستین از خط سینه ","z1",{"$f":"(H127-H126+H122-O128*H130-O127-(0.5-G148)*H119*((G151)/(I127-I126+0.05*H130)))/(H127-H126)","v":1.0630123444617914},{"$f":"(I127-I126+I122-O128*'متغیرها '!U82-P127-(0.5-G148)*'متغیرها '!U71*((H151)/(I127-I126+0.05*'متغیرها '!U82)))/(I127-I126)","v":1.0933197000681663},null,"(22 → 33)",{"$f":"(1-'متغیرها '!C76+'متغیرها '!C78)*0.5*G167*COS(O140)","v":4.4081599216232252},{"$f":"0.5*H167*COS(P140)","v":5.0320051873805962},null,"(36 → 32)","وصل",null,{"$f":"AN140","v":0},{"$f":"AO140","v":35.869343892578947},26,null,{"$f":"AN148","v":23.841769503972678},{"$f":"AO148","v":42.582863855132217},34,null,{"$f":"0.5*H167*COS(AE139)","v":5.9614100671686119},"(27 → 33)",{"$f":"(1-'متغیرها '!C71)*0.5*G167*COS(AD139)","v":5.8448043426550864},null,"(38 → 36)","وصل",null,{"$f":"AR116","v":0},{"$f":"AS116","v":42.532293124679747},2,null,null,null,null,null,null,null,null,null,{"$f":"AR156+0.6*(AR152-AR156)","v":14.958048618978436},{"$f":"AS156+0.65*(AS152-AS156)","v":38.647172040995443},"36-",null,null,null,null,null,{"$f":"AZ131","v":30.484172228560976},{"$f":"BA131","v":91.75},35,null,{"$f":"AZ108+'متغیرها '!C55","v":35.894694877454754},{"$f":"BA108","v":72.371202973762905},"7شیفت ",{"$f":"BG155","v":11.55},"(37 → 38)",{"$f":"BI155","v":11.7666},null,{"$f":"0+BI98","v":15},{"$f":"BI154+BI97","v":113.45561085030904},39,null,{"$f":"BO170","v":39.087906522700877},{"$f":"BP170","v":107.99088584720475},"10شیفت",null,"نقطه اول از خط اول",30,{"$f":"BW106","v":11.681002542208532},{"$f":"BX106","v":141.60805476186675},{"$f":"BW135","v":25.588962427831195},{"$f":"BX135","v":132.10743514081653},"b6",null,"نقطه اول از خط اول",28,{"$f":"CE106","v":21.261315960894279},{"$f":"CF106","v":137.4612651665546},null,null,null,null,"مولفه افقی","مولفه عمودی","اسم نقطه ",null,null,"مولفه افقی","مولفه عمودی","اسم نقطه ",null,"مولفه افقی","مولفه عمودی","اسم نقطه ",null,"مولفه افقی","مولفه عمودی","اسم نقطه ",null,"مولفه افقی","مولفه عمودی","اسم نقطه ",null,{"$f":"CZ157","v":24.573105577030464},{"$f":"DA157","v":145.30037824350708},{"$f":"DB157","v":39},null,"مولفه افقی","مولفه عمودی","اسم نقطه ",null,{"$f":"DH158+DI161","v":34.785538025546387},{"$f":"DI158+DI162","v":122.47080584720476},"شیفت12p یا 12",null,null,null,null,null,null,null,null,null,null,null,null,null,null,null,{"$f":"BW142+BT130","v":19.425736756156869},{"$f":"BX142","v":120.08757592151784},"شیفت b",null,5.0000000000000018,136.36934389257897,{"$f":"BY108","v":26},null,null,null,null,null,{"$f":"CE183","v":5.3990635991781151},{"$f":"CF183","v":102.83746985314761},"7n",null,{"$f":"ET152-(ET149-ET150)","v":17.47196911154062},{"$f":"EU149","v":115.57050000000001},"39aa",null,{"$f":"DT162","v":16.014376372688023},{"$f":"DU162","v":67.580000000000013},"a'5",null,{"$f":"EH117","v":13.179570593859246},{"$f":"EI117","v":160.10276611527121},"a4",null,null,null,null,null,{"$f":"BK174","v":36.174891000000002},65.697087547862665,"41'''",null,{"$f":"DY181","v":21.8416},{"$f":"DZ181","v":62.580000000000013},"a'26",null,null,null,null,null,null,null,{"$f":"-(DU239)+2*GC101","v":-6.2571200000000005},{"$f":"DV239","v":131.16},"p25",null,{"$f":"-EP135-GK101","v":-6.9539691115406193},{"$f":"EQ135","v":100.5},39,null,{"$f":"-ET149-GK101","v":-7.7309691115406203},{"$f":"EU149","v":115.57050000000001},"40aa",null,null,null,"4'",null,{"$f":"-EL149-GK101","v":6.6799400000000002},{"$f":"EM149","v":136.36934389257897},"چرخیده26'",null,{"$f":"-ET109-GK101","v":-6.306469111540622},{"$f":"EU109","v":82.5},"g47'",null,null,null,null,null,{"$f":"-AU243-GK101","v":-8.2922121446029422},{"$f":"AV243","v":154.35437113608901},"a2",null,null,null,"42'",null,{"$f":"-CX274-GK101","v":6.6799399649894493},{"$f":"CY274","v":120.20099999999755},"چرخیده 4'"]
[null,null,null,null,"نسبت فاصله دو سینه به نوار سینه از جلو (بین دو خط پهلو)","z2",{"$f":"((2*G163+0.4*(K115-G163))/(H120-H121))*2*'متغیرها '!C89","v":0.41464749567436926},{"$f":"((2*H163+0.4*(L115-H163))/('متغیرها '!U72-'متغیرها '!U73))*2*0.5","v":0.41513846153846157},null,"(33 → 34)",{"$f":"(1-'متغیرها '!C76+'متغیرها '!C78)*0.5*G167*SIN(O140)","v":3.0399477591114632},{"$f":"0.5*H167*SIN(P140)","v":3.4391974124244822},null,"(36 → 34)","وصل",null,{"$f":"AN118","v":0},{"$f":"AO118","v":19.7},4,null,{"$f":"AN120","v":12.60146911154062},{"$f":"AO120","v":21.669999999999998},6,null,{"$f":"0.5*H167*SIN(AE139)","v":1.2691513142699751},"(33 → 34)",{"$f":"(1-'متغیرها '!C71)*0.5*G167*SIN(AD139)","v":1.2864306310848383},null,"(38 → 34)","وصل",null,{"$f":"AR142","v":0},{"$f":"AS142","v":39.913913194471156},28,null,null,null,null,null,null,null,null,null,{"$f":"AR156+0.3*(AR152-AR156)","v":14.317492134977584},{"$f":"AS156+0.35*(AS152-AS156)","v":36.695675578523556},"36--",null,null," ساسون کمر در پیراهن راسته جلو",null,null,{"$f":"AX112-AX144+AX99+'متغیرها '!C55","v":27.70354846332329},{"$f":"AX143+AX98","v":91.75},"36شیفت",null,{"$f":"AZ151+'متغیرها '!C55","v":35.879359517501108},{"$f":"BA151","v":85.421202973762888},"شیفت9",{"$f":"BG148+Y116+Y120","v":77.558999999999997},"(1 → 39)",{"$f":"BI148+AA116+AA120","v":46.87561085030903},null,{"$f":"BI155+BI98","v":26.7666},{"$f":"BI154+BI97","v":113.45561085030904},40,null,{"$f":"BK114","v":40.811706522700881},{"$f":"BL114","v":112.47276584720476},"شیفت9",null,"نقطه دوم از خط اول","b10",{"$f":"BW162","v":28.654272756814162},{"$f":"BX162","v":128.00364177662831},{"$f":"BW134","v":28.654272756814162},{"$f":"BX134","v":128.00364177662831},"b10",null,"نقطه دوم از خط اول","b10",{"$f":"CE117","v":36.076039530151412},{"$f":"CF117","v":116.47262696058199},null,null,null,null,{"$f":"BW169","v":24.754243117679472},{"$f":"BX169","v":132.19329489204574},"b6","با چرخش کامل",null,{"$f":"AZ166","v":16.953969111540619},{"$f":"BA166","v":100.5},39,null,{"$f":"AZ161","v":17.60146911154062},{"$f":"BA161","v":118.23},43,null,{"$f":"BK154","v":26.7666},{"$f":"BL154","v":113.45561085030904},40,null,{"$f":"AZ161","v":17.60146911154062},{"$f":"BA161","v":118.23},43,"راس ساسون کمر",{"$f":"CZ156","v":24.340417771240173},{"$f":"DA156","v":138.03027214395152},{"$f":"DB156","v":37},null,{"$f":"CA104","v":26.7666},{"$f":"CB104","v":113.45561085030904},40,"راس ساسون کمر",{"$f":"DH175+DI161","v":31.978909716605152},{"$f":"DI175+DI162","v":120.66776684782562},"شیفت25",null,null,null,null,null,null,null,null,null,null,null,null,null,null,null,null,null,null,null,null,null,null,null,{"$f":"BW112","v":3.3200600350105507},{"$f":"BX112","v":120.20099999999755},"چرخیده 4'",null,{"$f":"CE182","v":8.8640695978083048},{"$f":"CF182","v":98.079156617715867},"6n",null,{"$f":"ET152-(ET148-ET150)","v":16.986344111540621},{"$f":"EU148","v":111.13800000000001},"39a",null,{"$f":"DT163","v":29.077114512269336},{"$f":"DU163","v":67.975601486881459},"a''5",null,null,null,null,null,{"$f":"BK159","v":26.7666},{"$f":"BL159","v":96.5},34,null,32.759585999999999,66.258940926495526,"41''",null,{"$f":"DY182","v":45.559914850575126},{"$f":"DZ182","v":62.580000000000013},"a''8",null,{"$f":"FR148","v":15},{"$f":"FS148","v":77.5},"b48",null,null,null,{"$f":"-(DU244)+2*GC101","v":-13.732233557703104},{"$f":"DV244","v":129.02505069617604},"p16",null,{"$f":"-EP136-GK101","v":-7.6014691115406201},{"$f":"EQ136","v":118.23},43,null,{"$f":"-ET150-GK101","v":-7.6014691115406201},{"$f":"EU150","v":118.23},"43شیفت",null,{"$f":"-ED152-GK101","v":-26.297032265202304},{"$f":"EE152","v":122.73622420854588},"شیفت b2",null,{"$f":"-EL152-GK101","v":6.6799399649894493},{"$f":"EM152","v":120.20099999999755},"4'",null,null,null,null,null,null,null,"61'",null,{"$f":"-AU244-GK101","v":-4.2758205109741976},{"$f":"AV244","v":156.99766748983123},"d4",null,{"$f":"-AU474-GK101","v":-1.6810025422085317},{"$f":"AV474","v":141.60805476186675},30,null,{"$f":"-CX277-GK101","v":6.6799400000000002},{"$f":"CY277","v":96},"s'1",null,{"$f":"-DP484-GK101","v":-18.643241084109199},{"$f":"DQ484","v":99.73172115031511},"β11"]
[null,null,null,null," نصف کف حلقه پشت","z3",{"$f":"0.5*(H121-H129)","v":4.1532000000000018},{"$f":"0.5*('متغیرها '!U73-'متغیرها '!U81)","v":4.1000000000000014},null,"(22 → 34)","وصل",null,null,null,null,null,null,null,null,null,{"$f":"AN146","v":14.249863555213253},{"$f":"AO146","v":45.335312623090523},32,null,null,"(27 → 34)","وصل",null,null,null,null,{"$f":"AR119","v":0},{"$f":"AS119","v":31.950000000000003},5,null,null,null,null,null,null,null,null,null,{"$f":"AA115-AA135+AA141-AD148","v":14.79526406370883},{"$f":"AA130+AA136+AA142+AD149+AT111","v":40.477130315450708},37,null,{"$f":"'متغیرها '!U56-'متغیرها '!U59","v":54.4},"(1 → 38)",{"$f":"H104-H114","v":28.919999999999987},null,{"$f":"AX112-AX144+AX99+'متغیرها '!C55","v":27.70354846332329},{"$f":"AX143+AX145+AX98","v":99.389701006989441},"37شیفت",null,{"$f":"AX104+AX99+'متغیرها '!C55","v":35.844145557703101},{"$f":"AX113-AX115+AX98","v":115.38738418849009},"شیفت14",{"$f":"Y118","v":11.55},"(39→40)",{"$f":"AA118","v":11.7666},null,{"$f":"BI153+BI98","v":26.7666},{"$f":"BI152+BI97","v":79.400000000000006},38,null,null,null,null,null,"نقطه اول از خط دوم","5 بالاتنه",{"$f":"BS104","v":17.60146911154062},{"$f":"BT104","v":120.2},{"$f":"BW133","v":31.193714930354844},{"$f":"BX133","v":126.81666578358194},"b8",null,"نقطه اول از خط دوم",22,{"$f":"BK101","v":28.676935650976734},{"$f":"BL101","v":130.9189297056397},null,null,null,null,{"$f":"BK385","v":13.040800000000001},{"$f":"BL385","v":146.9},25,"نقطه اتصال سرشانه به گردن",null,{"$f":"AZ167+CO162","v":18.248969111540617},{"$f":"BA167","v":100.5},"شیفت40",null,{"$f":"IF(CO158>CO154,CN158,CN154)","v":16.953969111540619},{"$f":"IF(CO158>CO154,CO158,CO154)","v":100.5},"39 یا d5",null,{"$f":"IF(CO171>CO166,CN171,CN166)","v":26.7666},{"$f":"IF(CO171>CO166,CO171,CO166)","v":96.5},"34 یا d2",null,{"$f":"IF('متغیرها '!C119=1,DT122,BW135)","v":25.588962427831195},{"$f":"IF('متغیرها '!C119=1,DU122,BX135)","v":132.10743514081653},35,"b6 یا b'6g ",{"$f":"CZ155","v":25.588962427831195},{"$f":"DA155","v":132.10743514081653},{"$f":"DB155","v":35},null,{"$f":"IF('متغیرها '!C119=1,DX122,CE118)","v":34.784913290103987},{"$f":"IF('متغیرها '!C119=1,DY122,CF118)","v":122.47136150521011},37,"b'6p یا b6",{"$f":"DH174+DI161","v":28.370387605109279},{"$f":"DI174+DI162","v":117.06168884906732},"شیفت23",null,"آستر کت",null,null,null,null,null,null,null,null,"لبه برگرد پایین کت",null,null,null,null,{"$f":"BW142+BT130","v":19.425736756156869},{"$f":"BX142","v":120.08757592151784},"شیفت b",null,null,null,"پایین پیراهن بدون ترک",null,{"$f":"BS104","v":17.60146911154062},{"$f":"BT104","v":120.2},{"$f":"BU104","v":"5 بالاتنه"},null,{"$f":"CE181","v":13.981616918862125},{"$f":"CF181","v":95.7},"5n",null,{"$f":"BD172","v":16.953969111540619},{"$f":"BE172","v":100.5},39,null,null,null,null,null,{"$f":"EH126","v":17.099262449429414},155.69566329789819,"a14",null,{"$f":"BK155","v":26.7666},{"$f":"BL155","v":79.400000000000006},38,null,28.66122,66.580000000000013,"شیفت41'",null,null,null,null,null,null,null,null,null,null,null,null,null,null,null,null,null,null,null,null,null,null,null,{"$f":"-ED153-GK101","v":-9.4257367561568692},{"$f":"EE153","v":120.08757592151784},"شیفت b",null,null,null,null,null,{"$f":"-ET111-GK101","v":-8.8964691115406183},{"$f":"EU111","v":82.5},"g47''",null,{"$f":"-CV189-GK101","v":5},{"$f":"CW189","v":95.7},"d4",null,null,null,null,null,{"$f":"-AU475-GK101","v":-8.5102782408617657},{"$f":"AV475","v":139.65756166421522},"g2",null,null,null,null,null,{"$f":"-DP485-GK101","v":-16.763855842537382},{"$f":"DQ485","v":99.047680863663771},"β9"]
[null,null,null,null,"نصف کف حلقه جلو","z4",{"$f":"O126*H130-G155","v":6.1895999999999969},{"$f":"O126*'متغیرها '!U82-H155","v":6.0999999999999979},null,"(22 → 25)","وصل",null,null,null,null,null,{"$f":"AN141","v":3.3405012711042654},{"$f":"AO141","v":46.346765631154526},27,null,null,null,null,null,{"$f":"0.5*H167*COS(AE140)","v":5.471075645597967},"(24 → 35)",{"$f":"(1-'متغیرها '!C76+'متغیرها '!C78)*0.5*G167*COS(AD140)","v":4.7909706586673586},null,null,null,null,{"$f":"AR118","v":0},{"$f":"AS118","v":16.3},4,null,null,null,null,null,null,null,null,null,{"$f":"AA115-AA135+AA141-AD148-AD152","v":13.676935650976734},{"$f":"AA130+AA136+AA142+AD149-AD151+AT111","v":34.418929705639691},38,null,{"$f":"AV160-0.5*AV157","v":11.765139999999999},"(38 → 39)",{"$f":"AX160-0.5*AX157","v":11.953969111540619},null,null,null,null,null,{"$f":"AX104+AX114+AX99+'متغیرها '!C55","v":37.567945557703098},{"$f":"AX113+AX98","v":119.86926418849009},"شیفت13",{"$f":"BG149+BG150+BG151+(IF('متغیرها '!U55>'متغیرها '!U53,0.5*'متغیرها '!U55,0.5*'متغیرها '!U53)-BG149-BG151+BG163)-BG142-BG150","v":26.8},"(1 → 41)",{"$f":"BI149+BI150+BI151+'متغیرها '!C128*(IF(H103>H101,0.5*H103,0.5*H101)+'متغیرها '!C62*H120-BI149-BI151+BI163)-'متغیرها '!C128*BI142-IF('متغیرها '!C125=1,2*BI143,BI150)*IF('متغیرها '!C128<'متغیرها '!C96,'متغیرها '!C128/'متغیرها '!C96,1)","v":27.32244},null,{"$f":"0+BI98","v":15},{"$f":"BI152+BI97","v":79.400000000000006},37,null,{"$f":"BK140","v":35.642264270707003},{"$f":"BL140","v":135.02250374702837},"شیفت18",null,"نقطه دوم از خط دوم",32,{"$f":"BW109","v":19.249863555213253},{"$f":"BX109","v":145.83531262309054},{"$f":"BW132","v":34.581596165257494},{"$f":"BX132","v":126.8768192529092},"b4",null,"نقطه دوم از خط دوم",40,{"$f":"CA104","v":26.7666},{"$f":"CB104","v":113.45561085030904},null,null,null,null,{"$f":"BK395","v":34.9},{"$f":"BL395","v":121.742314084874},12,null,null,{"$f":"AZ168+CO162","v":33.525039999999997},{"$f":"BA168","v":103.92120297376289}," شیفت41",null,null,null,null,null,null,null,null,null,{"$f":"IF('متغیرها '!C119=1,DT121,BW136)","v":24.340417771240173},{"$f":"IF('متغیرها '!C119=1,DU121,BX136)","v":138.03027214395152},37,"b12 یا b'12g ",null,null,null,null,{"$f":"IF('متغیرها '!C119=1,DX121,CE119)","v":35.04145278326785},{"$f":"IF('متغیرها '!C119=1,DY121,CF119)","v":129.37481314382703},39,"b'12p یا b12",{"$f":"DH154+DI161","v":26.7666},{"$f":"DI154+DI162","v":113.45561085030904}," شیفت40",null,"نقاط  ورودی",null,null,null,"نقاط  ورودی",null,null,null,null,"نقاط  ورودی",null,null,null,null,{"$f":"BS140+BT130","v":35.844145557703101},{"$f":"BT140","v":115.38738418849009},"شیفت 14",null,{"$f":"BD153","v":35.894694877454754},{"$f":"BE153","v":72.371202973762905},"شیفت7",null,null,null,null,null,{"$f":"CN158","v":16.647006148577656},{"$f":"CO158","v":92.82},"d5",null,null,null,null,null,{"$f":"DT163","v":29.077114512269336},{"$f":"DU163","v":67.975601486881459},"a''5",null,13.751428132849762,151.27139599458621,"a16",null,null,null,null,null,{"$f":"BO176","v":15},{"$f":"BP176","v":66.580000000000013},47,null,{"$f":"DY182","v":45.559914850575126},{"$f":"DZ182","v":62.580000000000013},"a''8",null,{"$f":"FR151","v":25.8416},{"$f":"FS151","v":77.5},"b50",null,null,null,{"$f":"-(0+AX99)+2*GC101","v":5},{"$f":"DS251+AX98","v":71.580000000000013},"p10",null,{"$f":"-EP138-GK101","v":-6.306469111540622},{"$f":"EQ138","v":84.3},"47'",null,{"$f":"-ET152-GK101","v":-7.6014691115406201},{"$f":"EU152","v":118.23},43,null,null,null,null,null,{"$f":"-EL152-GK101","v":6.6799399649894493},{"$f":"EM152","v":120.20099999999755},"4'",null,{"$f":"-ET112-GK101","v":-22.230039999999995},{"$f":"EU112","v":85.421202973762888},"g45",null,{"$f":"-CV190-GK101","v":6.6799400000000002},{"$f":"CW190","v":95.7},"26''",null,{"$f":"-AU246-GK101","v":-4.2758205109741976},{"$f":"AV246","v":156.99766748983123},"d4",null,null,null,null,null,{"$f":"-CX277-GK101","v":6.6799400000000002},{"$f":"CY277","v":96},"s'1",null,null,null,"کیسه جیب"]
[null,null,null,null,"ربع زاویه ساسون کمر پشت بالاتنه","α1",{"$f":"0.5*ATAN(G151/(AA116+AA120))","v":5.8974792162689357E-3},{"$f":"0.5*ATAN(H151/(Y116+Y120))","v":4.5127164900900371E-3},null,"(22 → 35)",{"$f":"0.5*(G169+G167*(1-'متغیرها '!C76+'متغیرها '!C78))","v":10.180697359361279},null,null,null,null,null,{"$f":"AN142","v":3.3405012711042654},{"$f":"AO142","v":36.917086066436504},28,null,null,null,null,null,{"$f":"0.5*H167*SIN(AE140)","v":2.6863518622096527},"(35 → 36)",{"$f":"(1-'متغیرها '!C76+'متغیرها '!C78)*0.5*G167*SIN(AD140)","v":2.3916012252297718},null,null,null,null,null,null,null,null,null,null,null,null,null,null,null,null,null,null,null,null,{"$f":"2*IF(AV151<0.3,0,IF(AV152>0.3,AV152,0))","v":1.2949999999999999},"(39 → 40)",{"$f":"IF('متغیرها '!C125=0,2*IF(AX151<0.3,0,IF(AX152>0.3,AX152,0)),2*AX151)","v":1.2949999999999999},null,{"$f":"0+AX99","v":5},{"$f":"0+'متغیرها '!C52","v":5},"زمین",null,null,null,null,{"$f":"BG148-1*(I105-'متغیرها '!U60)+Y128","v":36.924704632477557},"(41 → 42)",{"$f":"BI148-'متغیرها '!C128*(H105-H108)+Y128","v":13.294704632477547},null,null,null,null,null,{"$f":"BK146","v":30.85129361203964},{"$f":"BL146","v":137.41410497225814},"شیفت32",null,"نقطه تقاطع","5'",{"$f":"(BV155-BV153+BU153*((BV154-BV153)/(BU154-BU153))-BU155*((BV156-BV155)/(BU156-BU155)))/(((BV154-BV153)/(BU154-BU153))-((BV156-BV155)/(BU156-BU155)))","v":18.620393691050698},{"$f":"BV153+(BU157-BU153)*((BV154-BV153)/(BU154-BU153))","v":136.04599501372701},null,null,null,null,"نقطه تقاطع","b'10",{"$f":"(CD155-CD153+CC153*((CD154-CD153)/(CC154-CC153))-CC155*((CD156-CD155)/(CC156-CC155)))/(((CD154-CD153)/(CC154-CC153))-((CD156-CD155)/(CC156-CC155)))","v":28.301524111407904},{"$f":"CD153+(CC157-CC153)*((CD154-CD153)/(CC154-CC153))","v":127.48710796577468},null,null,null,null,{"$f":"BK395+AX114","v":36.623799999999996},{"$f":"BL395","v":121.742314084874},13,"نقطه انتهایی\n زیر حلقه",null,{"$f":"J338","v":5},{"$f":"K338","v":95.7},"d4",null,{"$f":"IF(CO158>CO154,CN158,CN154)","v":16.953969111540619},{"$f":"IF(CO158>CO154,CO158,CO154)","v":100.5},"39 یا d5",null,{"$f":"IF(CO171>CO166,CN171,CN166)","v":26.7666},{"$f":"IF(CO171>CO166,CO171,CO166)","v":96.5},"34 یا d2",null,{"$f":"DT151","v":24.573105577030464},{"$f":"DU151","v":145.30037824350708},39,"22b",{"$f":"CZ155","v":25.588962427831195},{"$f":"DA155","v":132.10743514081653},{"$f":"DB155","v":35},null,{"$f":"DX103","v":35.891298348860708},{"$f":"DY103","v":135.5582862620688},41,{"$f":"DZ103","v":"18b"},null,null,null,null,"مولفه افقی","مولفه عمودی","اسم نقطه ",null,"مولفه افقی","مولفه عمودی","اسم نقطه ",null,null,"مولفه افقی","مولفه عمودی","اسم نقطه ",null,null,null,null,null,null,{"$f":"BD180","v":32.230039999999995},{"$f":"BE180","v":72.371202973762905},"شیفت49'  …",null,{"$f":"BS104","v":17.60146911154062},{"$f":"BT104","v":120.2},{"$f":"BU106","v":30},null,null,null,null,null,{"$f":"BD177","v":35.844145557703101},{"$f":"IF(AX152>0,BE177,EU160)","v":115.38738418849009},14,null,{"$f":"DG124-DH118","v":29.077114512269336},{"$f":"DH124","v":71.975601486881459},"49'm",null,12.635483360656545,147.65154092824005,"a15",null,{"$f":"BK155","v":26.7666},{"$f":"BL155","v":79.400000000000006},38,null,null,null,null,null,{"$f":"DY165","v":45.475365487730663},{"$f":"DZ165","v":64.579103145596122},"43''m",null,null,null,"زانو",null,null,null,{"$f":"-(DS252+AX99)+2*GC101","v":5},{"$f":"DS251+AX98","v":71.580000000000013},"p11",null,{"$f":"-EP139-GK101","v":-6.306469111540622},{"$f":"EQ139","v":71.580000000000013},52,null,{"$f":"-ET153-GK101","v":-7.4719691115406199},{"$f":"EU153","v":115.57050000000001},"39aa",null,{"$f":"-ED155-GK101","v":-9.4257367561568692},{"$f":"EE155","v":120.08757592151784},"شیفت b",null,{"$f":"-EL155-GK101","v":-7.6014691115406201},{"$f":"EM155","v":120.2},"بالاتنه 5",null,null,null,"زانو",null,null,null,null,null,{"$f":"-AU247-GK101","v":-0.18867765398094605},{"$f":"AV247","v":150.01735172551085},"d5",null,{"$f":"-AU477-GK101","v":-8.5102782408617657},{"$f":"AV477","v":139.65756166421522},"g3",null,{"$f":"-CX280-GK101","v":5},{"$f":"CY280","v":96},"s1",null,{"$f":"-DP487-GK101","v":-16.763855842537382},{"$f":"DQ487","v":99.047680863663771},"β9"]
[null,null,null,null,"زاویه سرشانه پشت با افق","α2",{"$f":"ATAN(G182/G181)","v":0.32312446592068955},{"$f":"ATAN(H182/H181)","v":0.31748859990104666},null,"(35 → 6)","وصل",null,null,null,null,null,null,null,null,null,null,null,null,null,null,"(24 →36)","وصل",null,"شبیه ساز بعضی نقاط",null,null,{"$f":"AR143","v":3.3393685124769501},{"$f":"AS143","v":42.532293124679747},29,null,null,null,null,null,null,null,null,null,null,null,null,null,{"$f":"0.5*('متغیرها '!U70-'متغیرها '!U71)-AV156","v":14.43486},"(40 → 41)",{"$f":"0.5*(H118-H119)-AX156+'متغیرها '!C61*H120","v":15.27607088845938},null,null,null,null,null,{"$f":"AZ125+'متغیرها '!C55","v":33.249929425595901},{"$f":"BA125","v":140.04291609602075},"شیفت22",{"$f":"BG156","v":26.8},"(1 → 43)",{"$f":"BI156+0.25*'متغیرها '!C131*H103","v":27.32244},null,{"$f":"0+BI98","v":15},{"$f":"BI148+BI97","v":96.5},33,null,{"$f":"BK101+'متغیرها '!C56","v":28.676935650976734},{"$f":"BL101+'متغیرها '!C57","v":130.9189297056397},"22شیفت",null,null,null,null,null,null,null,null,null,null,null,null,null,null,null,null,null,"α4",{"$f":"'متغیرها '!B245","v":0.27820102979369776},"زاویه سرشانه با افق",null,null,{"$f":"J340","v":16.647006148577656},{"$f":"K340","v":92.82},"d5",null,{"$f":"CN158","v":16.647006148577656},{"$f":"CO158","v":92.82},"d5",null,{"$f":"CN171","v":27.182038596491228},{"$f":"CO171","v":88.82},"d2",null,{"$f":"IF('متغیرها '!C119=1,DT124,AZ115)","v":29.538294582241775},{"$f":"IF('متغیرها '!C119=1,DU124,BA115)","v":128.14350418849008},{"$f":"DV124","v":"16g"},"16 یا ",{"$f":"CZ175","v":21.994590435500434},{"$f":"DA175","v":128.63807635561241},{"$f":"DB175","v":33},null,{"$f":"IF('متغیرها '!C119=1,DX124,BK112-DI161)","v":34.785538025546387},{"$f":"IF('متغیرها '!C119=1,DY124,BL112-DI162)","v":122.47080584720476},{"$f":"DZ124","v":"12p"},"یا 12",{"$f":"DH155","v":34.784913290103987},{"$f":"DI155","v":122.47136150521011},37,null,{"$f":"BW114","v":11.995530171826225},{"$f":"BX114","v":141.44270341296786},"e5"," یقه چرخیده",null,{"$f":"DZ168","v":4},"(a13→a23)","عرض برگرد لبه پیراهن",null,{"$f":"DT336","v":31.691600000000001},{"$f":"DU336","v":59.3},"e215","وسط",null,null,null," 27انحنا لبه روی خط مرکزی جلو پیراهن",null,{"$f":"BD183","v":29.507035999999996},72.292082676386613,"شیفت50'''",null,{"$f":"BS112","v":3.3200600000000002},{"$f":"BT112","v":120.2},{"$f":"BU112","v":"4'"},null,null,null," ساسون کمر ",null,{"$f":"ET160+0.5*(ET157-ET160)","v":34.684592778851552},{"$f":"IF(AX152>0,EU160+0.65*(EU157-EU160),EU160)","v":111.37422076333557},null,null,null,null,null,null,12.516127859984596,143.70353910958187,"e7",null,{"$f":"BO165","v":26.7666},{"$f":"BP165","v":96.5},35,null,null,null," خط پشت در پیراهن",null,null,null,null,null,{"$f":"FR148","v":15},{"$f":"BP178-(H106-H107)","v":41.1},"b'48",null,null,null,null,null,null,null,null,null,null,null,{"$f":"-ET154-GK101","v":-6.9863441115406211},{"$f":"EU154","v":111.13800000000001},"39a",null,{"$f":"-ED156-GK101","v":-25.844145557703101},{"$f":"EE156","v":115.38738418849009},"شیفت 14",null,null,null,null,null,{"$f":"-ET114-GK101","v":5},{"$f":"EU114","v":46.1},"g1",null,{"$f":"-CV190-GK101","v":6.6799400000000002},{"$f":"CW190","v":95.7},"26''",null,{"$f":"-AU248-GK101","v":0.49818411141714769},{"$f":"AV248","v":132.21867586275542},"d6",null,{"$f":"-AU478-GK101","v":-14.65620264869062},{"$f":"AV478","v":137.90223889425846},"g5",null,null,null,null,null,{"$f":"-DP488-GK101","v":-6.5119604827591324},{"$f":"DQ488","v":85.573858203331525},"β'9"]
[null,null,null,null,"زاویه خط عمود با وسط ساسون سرشانه پشت","α3",{"$f":"ATAN(G177/G178)","v":0.18254251413664149},{"$f":"ATAN(H177/H178)","v":0.18655623376033723},null,"(35 → 36)",{"$f":"IF((6*G169)<G171,6*G169,G171)","v":21.853955545494557},{"$f":"IF((6*H169)<H171,6*H169,H171)","v":20.056908664386771},null,null,null,null,{"$f":"AN143","v":6.6810025422085308},{"$f":"AO143","v":46.346765631154526},29,null,null,null,null,null,null,"(24 → 27)","وصل",null,{"$f":"Y115-Y135","v":19},{"$f":"Y130+Y136","v":26.345815743588673},18,{"$f":"AR144","v":3.3393685124769501},{"$f":"AS144","v":40.175751187492011},30,null,null,null,null,null,null,null,null,null,null,null,null,null,{"$f":"AV155+L116-L119","v":74.099999999999994},"(1 → 42)",{"$f":"AX155+K116-K119","v":46.649999999999991},null,"ساسون کمر",null,null,null,{"$f":"AZ136+'متغیرها '!C55","v":28.841769503972678},{"$f":"BA136","v":143.08286385513222},"شیفت34",{"$f":"2*BG144-0.5*BG150","v":0.40000000000000036},"(43 → 43')",{"$f":"'متغیرها '!C68*H127+Y128+0.5*(H106-H104)","v":-1.6052953675224391},null,{"$f":"BI149+BI98","v":26.7666},{"$f":"BI148+BI97","v":96.5},34,null,null,null,null,null,{"$f":"(BT172-BT171)","v":0.39277029700556654},"زاویه چرخش کامل به ساسون زیر بغل",null,null,"حلقه آستین با چرخش کامل به ساسون زیر بغل",null,null,null,"به دست آوردن مختصات قرینه یک نقطه نسبت به خط تقارن با داشتن دونقطه از خط تقارن ",null,null,null,null,null,"آستر کت پشت",null,null,{"$f":"H167","v":12.190021336724966},"W",null,null,{"$f":"J352","v":18.555932074503581},{"$f":"K352","v":92.82},"dd5",null,null,null,null,null,null,null,null,null,{"$f":"IF('متغیرها '!C119=1,DT125,AZ121)","v":30.799464777334041},{"$f":"IF('متغیرها '!C119=1,DU125,BA121)","v":123.17896018849009},{"$f":"DV125","v":"20g"},"یا 20",{"$f":"CZ173","v":18.959342975310019},{"$f":"DA173","v":123.78097405632661},{"$f":"DB173","v":23},null,{"$f":"BK114","v":40.811706522700881},{"$f":"BL114","v":112.47276584720476},"شیفت 9",null,{"$f":"DH177","v":31.497404841161352},{"$f":"DI177","v":120.21742384148484},35,null,{"$f":"DC126","v":31.428670677526835},{"$f":"DD126","v":126.82083753647137},"b'8s","نقطه حلقه آستین",null,null,null,null,null,{"$f":"DT340","v":31.691600000000001},{"$f":"DU340","v":66.580000000000013},"e216","وسط",null,{"$f":"BS116","v":3.3200600000000002},{"$f":"BT116","v":114.42},"e1",null,26.103280999999996,72.015161635569598,"شیفت50''",null,null,null,null,null,{"$f":"AZ161","v":17.60146911154062},{"$f":"BA161","v":118.23},43,null,{"$f":"ET160+0.1*(ET157-ET160)","v":33.75695055577031},{"$f":"IF(AX152>0,EU160+0.3*(EU157-EU160),EU160)","v":107.36105733818104},null,null,null,null,"105 لبه برگرد پایین ترک در پهلو جدا",null,null,null,null,null,null,null,null,null,{"$f":"CE108","v":15.000000000000002},{"$f":"CF108","v":136.41391319447115},24,null,{"$f":"DY185","v":21.8416},{"$f":"DZ185","v":70.580000000000013},"a''26",null,{"$f":"FR149","v":27.691600000000001},{"$f":"FS158","v":41.1},"b'49",null,null,null,null,null,"58'",null,{"$f":"-EP141-GK101","v":-21.784539040583354},{"$f":"EQ141","v":87.379352480249551},"47''s",null,{"$f":"-ET155-GK101","v":-6.9539691115406193},{"$f":"EU155","v":100.5},39,null,null,null,null,null,{"$f":"-EL155-GK101","v":-7.6014691115406201},{"$f":"EM155","v":120.2},"بالاتنه 5",null,{"$f":"-ET115-GK101","v":-6.306469111540622},{"$f":"EU115","v":46.1},"g52",null,{"$f":"-CV193-GK101","v":6.6799400000000002},{"$f":"CW193","v":114.42},"e1",null,{"$f":"-AU249-GK101","v":2.3527108779920027},{"$f":"AV249","v":120.6495365519644},"d7",null,null,null,null,null,{"$f":"-CX280-GK101","v":5},{"$f":"CY280","v":96},"s1",null,{"$f":"-DP489-GK101","v":-8.1637503757405021},{"$f":"DQ489","v":74.15461408867246},"β15"]
[null,null,null,null,"زاویه سرشانه جلو با افق","α4",{"$f":"ATAN(G180/G179)","v":0.33871433809454271},{"$f":"ATAN(H180/H179)","v":0.33631709568697699},null,"(32 → 36)","وصل",null,null,"شبیه ساز بعضی نقاط",null,null,{"$f":"AN144","v":6.6810025422085308},{"$f":"AO144","v":41.10805476186674},30,null,null,null,null,null,null,"(24 → 37)",{"$f":"0.5*(G170+G167*(1-'متغیرها '!C76+'متغیرها '!C78))","v":6.1248016670754284},null,{"$f":"Y118","v":11.55},{"$f":"Y116+Y119","v":24.621111111111112},7,null,null,null,null,null,null,null,null,null,null,null,null,null,null,null,null,{"$f":"L117","v":12.41264},"(42 → 43)",{"$f":"K117","v":12.60146911154062},null,{"$f":"0+AX99","v":5},{"$f":"AX159+AX98","v":118.23},42,null,{"$f":"AZ104+'متغیرها '!C55","v":17.60146911154062},{"$f":"BA104","v":122.17},"شیفت5",null,"(1 → 41')",{"$f":"0.5*BI158","v":13.66122},null,null,null,null,null,{"$f":"BK101","v":28.676935650976734},{"$f":"BL101","v":130.9189297056397},22,null,{"$f":"AZ99-BT130","v":35.844145557703101},{"$f":"BA99","v":119.86926418849009},12,"نقطه حلقه آستین",{"$f":"BS104+SQRT(POWER(BS160-BS104,2)+POWER(BT160-BT104,2))*SIN(IF(BT160=BT104,RADIANS(90)-BS159,ATAN((BS160-BS104)/ABS(BT160-BT104))+IF(BT160>BT104,-1,1)*BS159))","v":34.581596165257494},{"$f":"BT104+IF(BT160<BT104,-1,1)*SQRT(POWER(BS160-BS104,2)+POWER(BT160-BT104,2))*COS(IF(BT160=BT104,RADIANS(90)-BS159,ATAN((BS160-BS104)/ABS(BT160-BT104))+IF(BT160>BT104,-1,1)*BS159))","v":126.8768192529092},"b4",null,"مولفه افقی","مولفه عمودی","اسم نقطه ",null,null,null,null,null,null,"نقاط شبیه ساز حلقه آستین جلو بدون ساسون سرشانه",null,null,null,{"$f":"J354","v":32.778373333333327},{"$f":"K354","v":94.321202973762894},"d3",null,{"$f":"CN158","v":16.647006148577656},{"$f":"CO158","v":92.82},"d5",null,{"$f":"CN171","v":27.182038596491228},{"$f":"CO171","v":88.82},"d2",null,null,{"$f":"'متغیرها '!C55","v":0},"شیفت افقی",null,{"$f":"CZ154","v":17.60146911154062},{"$f":"DA154","v":118.23},{"$f":"DB154","v":43},null,{"$f":"BO170","v":39.087906522700877},{"$f":"BP170","v":107.99088584720475},"شیفت 10",null,{"$f":"DH176","v":28.290079525119758},{"$f":"DI176","v":117.06191111226947},33,null,{"$f":"DC124","v":35.630355905042464},{"$f":"DD124","v":109.28799775998449},"41m","کمر","نقاط  خروجی برگرد لبه پیراهن در رویه کت",null,null,null,null,{"$f":"DT324","v":27.691600000000001},{"$f":"DU324","v":66.580000000000013},"e21","وسط",null,{"$f":"CA184","v":3.3200600000000002},{"$f":"CB184","v":100.73520475166055},"8n",null,22.699525999999999,71.738240594752597,"شیفت50'",null,{"$f":"BW108","v":5.0000000000000018},{"$f":"BX108","v":136.36934389257897},"چرخیده 26",null,{"$f":"AZ167","v":18.248969111540617},{"$f":"BA167","v":100.5},40,null,{"$f":"BD178","v":33.525039999999997},{"$f":"BE178","v":103.92120297376289},41,null,{"$f":"DT169","v":18.896469111540618},{"$f":"DU169","v":71.580000000000013},{"$f":"DV169","v":"شیفت53"},null,null,null,null,null,{"$f":"BO165","v":26.7666},{"$f":"BP165","v":96.5},35,null,{"$f":"BK167","v":15},{"$f":"BL167","v":128.44999999999999},45,null,null,null,"خط ترک وسط کت",null,null,null,null,null,null,null,{"$f":"-(AK240+AC244)+2*GC101","v":-17.684339572183557},{"$f":"AK239+AD244","v":150.71093292917556},"b2",null,{"$f":"-EP142-GK101","v":-14.98580723376763},{"$f":"EQ142","v":102.09792924802817},"40s",null,null,null,null,null,null,null,"27'",null,{"$f":"-EL158-GK101","v":6.6799400000000002},{"$f":"EM158","v":120.2},"4'",null,null,null,null,null,null,null,null,null,{"$f":"-AU250-GK101","v":6.6799400000000002},{"$f":"AV250","v":114.42},"e1",null,null,null,"43'",null,{"$f":"-CX283-GK101","v":5},{"$f":"CY283","v":120.2},4,null,{"$f":"-DP490-GK101","v":-16.170683397583126},{"$f":"DQ490","v":75.111967535486244},"β'15"]
[null,null,null,null,"زاویه خط عمود با وسط ساسون سرشانه جلو","α5",{"$f":"ATAN(G175/G176)","v":0.27492755197100016},{"$f":"ATAN(H175/H176)","v":0.29794117946462872},null,"(34 → 36)","وصل",null,null,{"$f":"L115-L132","v":23.8},{"$f":"L127+L133","v":28.042314084874004},16,null,null,null,null,"رسم الگو واقعی جلو بالاتنه",null,null,null,null,"(37 → 7)","وصل",null,{"$f":"Y146+Y153","v":14.002210067168612},{"$f":"Y114-Y154","v":41.330848685730025},34,{"$f":"AR145","v":6.2613159608942812},{"$f":"AS145","v":42.532293124679747},31,null,"رسم الگو واقعی پشت بالاتنه",null,null,null,null,null,null,null,null,null,null,null,{"$f":"IF(('متغیرها '!U54-'متغیرها '!U55)>('متغیرها '!U52-'متغیرها '!U53),0.5*('متغیرها '!U54-'متغیرها '!U55),0.5*('متغیرها '!U52-'متغیرها '!U53))","v":26.2},"(1 → 44)",{"$f":"AX156+AX157+AX158+'متغیرها '!C128*(IF((H102-H103)>(H100-H101),0.5*(H102-H103),0.5*(H100-H101))+'متغیرها '!C62*H120-AX156-AX158)-IF('متغیرها '!C125=1,2*AX150,AX157)*IF('متغیرها '!C128<'متغیرها '!C98,'متغیرها '!C128/'متغیرها '!C98,1)","v":27.230039999999995},null,{"$f":"AX160+AX99","v":17.60146911154062},{"$f":"AX159+AX98","v":118.23},43,null,null,null,null,null,"(43' → 43'')",{"$f":"BI159*((BI158-BI156)/BI157)","v":0},null,{"$f":"BK180","v":26.7666},{"$f":"BL180","v":96.5},"35 شیفت",null,{"$f":"BK106","v":29.193225623847461},{"$f":"BL106","v":137.7458624935949},30,null,{"$f":"AZ98-BT130","v":32.691220069972438},{"$f":"BA98","v":121.11040018849008},18,"نقطه حلقه آستین",{"$f":"BS104+SQRT(POWER(BS161-BS104,2)+POWER(BT161-BT104,2))*SIN(IF(BT161=BT104,RADIANS(90)-BS159,ATAN((BS161-BS104)/ABS(BT161-BT104))+IF(BT161>BT104,-1,1)*BS159))","v":31.193714930354844},{"$f":"BT104+IF(BT161<BT104,-1,1)*SQRT(POWER(BS161-BS104,2)+POWER(BT161-BT104,2))*COS(IF(BT161=BT104,RADIANS(90)-BS159,ATAN((BS161-BS104)/ABS(BT161-BT104))+IF(BT161>BT104,-1,1)*BS159))","v":126.81666578358194},"b8",null,{"$f":"DT328","v":27.691600000000001},{"$f":"DU328","v":59.3},"e25","نقطه اول خط تقارن","نقاط قرینه شده نسبت به خط تقارن",null,null,null,null,"مولفه افقی","مولفه عمودی","اسم نقطه ",null,{"$f":"BD97","v":3.3200600000000002},{"$f":"CO157","v":95.7},"26''",null,{"$f":"IF(CO177=1,CN163,CN157)","v":5},{"$f":"IF(CO177=1,CO163,CO157)","v":95.7},"_ U5",null,{"$f":"CN170","v":15},{"$f":"CO170","v":91.7},"d1",null,null,null,"محاسبات",null,null,null,null,null,null,{"$f":"'متغیرها '!C56","v":0},"شیفت افقی",null,{"$f":"DH154","v":26.7666},{"$f":"DI154","v":113.45561085030904},40,null,{"$f":"EX105-'متغیرها '!C55","v":29.077114512269336},{"$f":"EY105","v":71.975601486881459},"49'm","لبه پایین پیراهن","مولفه افقی","مولفه عمودی","اسم نقطه ",null,null,{"$f":"BO176","v":15},{"$f":"BP176","v":66.580000000000013},47,"وسط",null,{"$f":"CA183","v":5.3459398214003375},{"$f":"CB183","v":82.950529853147629},"7n",null,18.615019999999998,71.580000000000013,"شیفت50",null,{"$f":"BW111","v":5.0000000396779143},{"$f":"BX111","v":120.20099999999685},"چرخیده 4",null,null,null,null,null,null,null,null,null,{"$f":"DT167","v":18.896469111540618},{"$f":"DU167","v":67.580000000000013},{"$f":"DV167","v":"شیفتa53"},null,null,null,null,null,{"$f":"BK154","v":26.7666},{"$f":"BL154","v":113.45561085030904},40,null,null,null,null,null,{"$f":"DK103","v":34.785538025546387},{"$f":"DL103","v":122.47080584720476},{"$f":"DM103","v":"شیفت12p"},null,{"$f":"FR151","v":25.8416},{"$f":"FS158+'متغیرها '!C57","v":41.1},"b'50",null,null,null,{"$f":"-(AC240)+2*GC101","v":-14.254696527337614},{"$f":"AD240","v":143.73265925554304},{"$f":"AE240","v":"22f"},null,null,null,null,null,{"$f":"-ET157-GK101","v":-25.844145557703101},{"$f":"EU157","v":115.38738418849009},14,null,{"$f":"-ED159-GK101","v":6.6799400000000002},{"$f":"EE159","v":114.42},"e1",null,null,null,null,null,{"$f":"-ET117-GK101","v":-8.8964691115406183},{"$f":"EU117","v":46.1},"g53",null,{"$f":"-CV193-GK101","v":6.6799400000000002},{"$f":"CW193","v":114.42},"e1",null,null,null,null,null,{"$f":"-BQ478-GK101","v":-15.715135269064351},{"$f":"BR478","v":131.65931237943548},"g3",null,null,null,null,null,{"$f":"-DP491-GK101","v":-22.325103373012752},{"$f":"DQ491","v":83.76827884968489},"β3"]
[null,null,null,null,"ربع زاویه ساسون کمر جلو بالاتنه","α6",{"$f":"0.5*ATAN(G152/(K116-K119))","v":3.6455286722723426E-2},{"$f":"0.5*ATAN(H152/(L116-L119))","v":3.2820799283248672E-2},null,"(1 → 37)",{"$f":"-'متغیرها '!C66*(2*H129+H130)","v":-1.6799399999999998},null,null,{"$f":"L117","v":12.41264},{"$f":"L116+L118","v":23.64},6,{"$f":"AN136","v":28.249929425595901},{"$f":"AO136","v":39.542916096020754},22,null,null,null,null,null,null,"(37 → 38)",{"$f":"4*G170","v":6.1605562303608963},null,{"$f":"Y115-Y135+Y141-Y156","v":15.568924354402032},{"$f":"Y130+Y136+Y142+Y157","v":41.014756015653695},36,{"$f":"AR146","v":6.2613159608942812},{"$f":"AS146","v":40.96126516655459},32,null,null,null,null,null,null,null,null,null,null,null,null,null,{"$f":"AV155-1*(I105-'متغیرها '!U60)+L125","v":39.321202973762887},"(44→ 45)",{"$f":"AX155-'متغیرها '!C128*(H105-H108)+L125","v":15.691202973762877},null,{"$f":"AX164+AX99","v":17.60146911154062},{"$f":"AX163+AX98","v":84.3},47,null,{"$f":"AZ104","v":17.60146911154062},{"$f":"BA104","v":122.17},5,null,null,null,null,{"$f":"BI149+BI150+BI151+BI98+'متغیرها '!C56","v":38.272440000000003},{"$f":"BI148+BI97+Y128+'متغیرها '!C57","v":96.524704632477565},"شیفت36",null,{"$f":"BK104","v":23.348421281192373},{"$f":"BL104","v":139.03229312467974},23,null,{"$f":"AZ97-BT130","v":30.799464777334041},{"$f":"BA97","v":123.17896018849009},20,"نقطه حلقه آستین",{"$f":"BS104+SQRT(POWER(BS162-BS104,2)+POWER(BT162-BT104,2))*SIN(IF(BT162=BT104,RADIANS(90)-BS159,ATAN((BS162-BS104)/ABS(BT162-BT104))+IF(BT162>BT104,-1,1)*BS159))","v":28.654272756814162},{"$f":"BT104+IF(BT162<BT104,-1,1)*SQRT(POWER(BS162-BS104,2)+POWER(BT162-BT104,2))*COS(IF(BT162=BT104,RADIANS(90)-BS159,ATAN((BS162-BS104)/ABS(BT162-BT104))+IF(BT162>BT104,-1,1)*BS159))","v":128.00364177662831},"b10",null,{"$f":"DT324","v":27.691600000000001},{"$f":"DU324","v":66.580000000000013},"e21","نقطه دوم خط تقارن","مولفه افقی","مولفه عمودی","اسم نقطه ",null,null,{"$f":"CI155+CJ159*COS(CJ158)","v":24.762127675570746},{"$f":"CJ155-CJ159*SIN(CJ158)","v":143.55229963830257},"22f",null,null,{"$f":"'متغیرها '!C55","v":0},"شیفت افقی تکه پهلو",null,null,null,null,null,null,null,null,null,"(1 → 6)",{"$f":"DA154+0.4*(DA158-DA154)","v":122.19540167539604},null,"شیفت",{"$f":"CZ154+DA160","v":17.60146911154062},{"$f":"DA154","v":118.23},{"$f":"DB154","v":43},null,null,{"$f":"'متغیرها '!C57","v":0},"شیفت عمودی",null,null,null,null,null,{"$f":"BD97","v":3.3200600000000002},{"$f":"BE97","v":71.580000000000013},"1'",null,{"$f":"DP170","v":16.014376372688023},{"$f":"DQ170-DU158","v":67.580000000000013},"a'5",null,null,{"$f":"BK170","v":15},{"$f":"BL170","v":79.400000000000006},48,"وسط",null,{"$f":"CA182","v":8.7224061904008998},{"$f":"CB182","v":75.370176617715885},"6n",null,{"$f":"AZ181","v":18.896469111540618},{"$f":"BA181","v":71.580000000000013},"شیفت53",null,null,null,null,null,{"$f":"AZ167","v":18.248969111540617},{"$f":"BA167","v":100.5},40,null,null,null,null,null,null,null,null,null,null,null,null,null,null,null,null,null,{"$f":"BK167","v":15},{"$f":"BL167","v":128.44999999999999},45,null,{"$f":"DK112","v":26.7666},{"$f":"DL112","v":96.5},{"$f":"DM112","v":"شیفت35"},null,{"$f":"FR152","v":42.32244},{"$f":"BL162-(H105-H107)","v":41.624704632477567},"b'42",null,null,null,null,null,"انحنا",null,{"$f":"-EP144-GK101","v":-14.98580723376763},{"$f":"EQ144","v":102.09792924802817},"40s",null,{"$f":"-ET158-GK101","v":-24.684592778851552},{"$f":"EU158","v":111.37422076333557},null,null,{"$f":"-ED160-GK101","v":6.6799400000000002},{"$f":"EE160","v":100.73520475166055},"8n",null,{"$f":"-EL160-GK101","v":4.9999999999999982},{"$f":"EM160","v":136.36934389257897},"چرخیده26",null,{"$f":"-ET118-GK101","v":-22.230039999999995},{"$f":"EU118","v":49.02120297376289},"g49",null,{"$f":"-CV196-GK101","v":5},{"$f":"CW196","v":114.42},"e'1",null,{"$f":"-AU252-GK101","v":-3.3512531777606611},{"$f":"AV252","v":146.84676563115454},25,null,{"$f":"-BQ479-GK101","v":5},{"$f":"BR479","v":131.65931237943548},"g1",null,{"$f":"-CX283-GK101","v":5},{"$f":"CY283","v":120.2},4]
[null,null,null,null,"شعاع یقه","V1",{"$f":"0.46*G164","v":8.0408000000000008},{"$f":"0.46*H164","v":8.0408000000000008},null,"(26 → 38)",{"$f":"K162","v":-1.6799399999999998},null,null,{"$f":"L143+L150","v":14.082355507010465},{"$f":"L114-L151","v":45.59454230206422},32,{"$f":"AN139","v":8.3512531777606629},{"$f":"AO139","v":46.346765631154526},25,null,null,null,null,null,null,"(36 →38)","وصل",null,{"$f":"Y118","v":11.55},{"$f":"Y116","v":16.3},6,null,null,null,null,null,null,null,null,null,null,null,null,null,null,null,null,{"$f":"I104-I107-1*(I104-I108)","v":36.4},"(1 → 46)",{"$f":"H104-H114-'متغیرها '!C98*(H104-H108)","v":12.719999999999988},null,{"$f":"0+AX99","v":5},{"$f":"AX163+AX98","v":84.3},46,null,{"$f":"AZ138","v":19.249863555213253},{"$f":"BA138","v":145.83531262309054},32,{"$f":"BG141","v":0},"(33 → 44)",{"$f":"BI141","v":0},null,null,null,null,null,"خطوط برش ساسون کمر",null,null,null,{"$f":"AZ96-BT130","v":29.538294582241775},{"$f":"BA96","v":128.14350418849008},16,"نقطه حلقه آستین",{"$f":"BS104+SQRT(POWER(BS163-BS104,2)+POWER(BT163-BT104,2))*SIN(ATAN((BS163-BS104)/(BT163-BT104))-BS159)","v":25.588962427831195},{"$f":"BT104+SQRT(POWER(BS163-BS104,2)+POWER(BT163-BT104,2))*COS(ATAN((BS163-BS104)/(BT163-BT104))-BS159)","v":132.10743514081653},"b6",null,{"$f":"DT336","v":31.691600000000001},{"$f":"DU336","v":59.3},"e215","نقطه قرینه خواسته",{"$f":"CA163+2*(SIN(ATAN((CA162-CA161)/(CB162-CB161)))*(CB163-CB161)+COS(ATAN((CA162-CA161)/(CB162-CB161)))*(CA161-CA163))*COS(ATAN((CA162-CA161)/(CB162-CB161)))","v":23.691600000000001},{"$f":"CB163-2*(SIN(ATAN((CA162-CA161)/(CB162-CB161)))*(CB163-CB161)+COS(ATAN((CA162-CA161)/(CB162-CB161)))*(CA161-CA163))*SIN(ATAN((CA162-CA161)/(CB162-CB161)))","v":59.3},"e'215",null,null,{"$f":"CJ164+IF(CJ162>CJ164,0.3,0.7)*(CJ162-CJ164)","v":24.756608485046854},{"$f":"CK164+0.5*(CK162-CK164)","v":137.87279726517414},"24f",null,{"$f":"J341","v":9.8000000000000007},{"$f":"G338-I345","v":95.7},"_u5",null,{"$f":"IF(CO177=1,CN163,CN157)","v":5},{"$f":"IF(CO177=1,CO163,CO157)","v":95.7},"_ U5",null,{"$f":"BK179","v":26.7666},{"$f":"BL179","v":113.45561085030904},"شیفت 40",null,"(6 → 21)",{"$f":"CZ154+0.17*(CZ158-CZ154)","v":19.630729441559815},null,"شیفت",{"$f":"CZ172+DA160","v":19.630729441559815},{"$f":"DA172","v":122.19540167539604},{"$f":"DB172","v":21},null,null,null,"محاسبات",null,{"$f":"DH155","v":34.784913290103987},122.47136150521011,37,null,{"$f":"CA181","v":13.709187289232498},{"$f":"CB181","v":71.580000000000013},"5n",null,{"$f":"DP161","v":29.077114512269336},{"$f":"DQ161-DU158","v":67.975601486881459},"a''5",null,null,{"$f":"EE341","v":21.8416},{"$f":"EF341","v":66.580000000000013},"e216","پهلو",null,{"$f":"CA181","v":13.709187289232498},{"$f":"CB181","v":71.580000000000013},"5n",null,{"$f":"BD150","v":5},{"$f":"BE150","v":71.580000000000013},1,null,null,null,null,null,{"$f":"AZ162","v":17.60146911154062},{"$f":"BA162","v":84.3},47,null,null,null,null,null,{"$f":"DT167","v":18.896469111540618},67.580000000000013,"شیفتa53",null,null,null,null,null,{"$f":"BO176","v":15},{"$f":"BP176","v":66.580000000000013},47,null,{"$f":"BO178","v":15},{"$f":"BP178","v":96.5},44,null,null,null,null,null,null,null,"سینه",null,null,null,{"$f":"FX160","v":-17.684339572183557},{"$f":"FY160","v":150.71093292917556},"b2",null,{"$f":"-EP145-GK101","v":-7.6014691115406201},{"$f":"EQ145","v":118.23},"43s",null,{"$f":"-ET159-GK101","v":-23.75695055577031},{"$f":"EU159","v":107.36105733818104},null,null,{"$f":"-ED161-GK101","v":4.6540601785996625},82.950529853147629,"7n",null,{"$f":"-EL161-GK101","v":4.9999999603220857},{"$f":"EM161","v":120.20099999999685},"چرخیده4",null,null,null,"سینه",null,null,null,null,null,{"$f":"-AU253-GK101","v":-8.6588389246348711},{"$f":"AV253","v":136.86179244203186},"d9",null,null,null,null,null,{"$f":"-CX286-GK101","v":4.9999999999999982},{"$f":"CY286","v":136.36934389257897},"26 چرخیده"]
[null,null,null,null,"نوار گردن از پشت","V2",{"$f":"0.38*H128","v":17.48},{"$f":"0.38*H128","v":17.48},null,null,null,null,null,{"$f":"L115-L132+L138-L153","v":23.527994812619404},{"$f":"L127+L133+L139+L154","v":42.665715760454624},34,null,null,null,null,null,null,null,null,null,"(34 → 38)","وصل",null,{"$f":"Y118","v":11.55},{"$f":"Y116-Y120","v":10.440999999999999},8,{"$f":"AR138","v":20.603094589646929},{"$f":"AS138","v":38.532316688649537},24,null,null,null,null,null,null,null,null,null,null,null,null,null,{"$f":"AV160","v":12.41264},"(46 → 47)",{"$f":"AX160","v":12.60146911154062},null,null,null,null,null,{"$f":"AZ140","v":13.351253177760663},{"$f":"BA140","v":146.84676563115454},25,{"$f":"Y117","v":31.950000000000003},"(33→45)",{"$f":"AA117","v":31.950000000000003},null,{"$f":"BI156+BI98+'متغیرها '!C56","v":42.32244},{"$f":"0+BI97+'متغیرها '!C57","v":66.580000000000013},"شیفت41",null,{"$f":"BK154","v":26.7666},{"$f":"BL154","v":113.45561085030904},40,null,{"$f":"AZ95-BT130","v":30.651785035248011},{"$f":"BA95","v":134.09321014225543},24,"نقطه حلقه آستین",{"$f":"BS104+SQRT(POWER(BS164-BS104,2)+POWER(BT164-BT104,2))*SIN(ATAN((BS164-BS104)/(BT164-BT104))-BS159)","v":24.340417771240173},{"$f":"BT104+SQRT(POWER(BS164-BS104,2)+POWER(BT164-BT104,2))*COS(ATAN((BS164-BS104)/(BT164-BT104))-BS159)","v":138.03027214395152},"b12",null,null,null,null,null,null,null,null,null,null,{"$f":"CI154","v":24.754243117679472},{"$f":"CJ154","v":132.19329489204574},"16f",null,"بعضی نقاط  ورودی پشت",null,null,null,{"$f":"CN157","v":5},{"$f":"CO157","v":95.7},"d4",null,{"$f":"IF(CO172>CO167,CN172,CN167)","v":26.7666},{"$f":"IF(CO172>CO167,CO172,CO167)","v":96.5}," شیفت35 یا dd2",null,"(1 → 22)",{"$f":"DA154+0.4*(DA155-DA154)","v":123.78097405632661},null,"شیفت",{"$f":"CZ174+DA160","v":24.166723120426255},{"$f":"DA174","v":125.66512814136756},{"$f":"DB174","v":31},null,"(1 → 7)",{"$f":"DI154+0.4*(DI158-DI154)","v":117.06168884906732},null,null,35.04145278326785,129.37481314382703,39,null,"نقاط  خروجی ",null,null,null,null,null,null,null,null,{"$f":"EE337","v":21.8416},{"$f":"EF337","v":59.3},"e215","پهلو",null,{"$f":"AZ177","v":16.306469111540622},{"$f":"BA177","v":71.580000000000013},52,null,null,null,null,null,null,null,null,null,null,null,null,null,null,null,null,null,29.077114512269336,67.975601486881459,"شیفتa''5",null,null,null,null,null,{"$f":"BO192","v":25.8416},{"$f":"BP192","v":66.580000000000013}," شیفت50",null,null,null,null,null,{"$f":"DO121","v":34.59097934193364},{"$f":"DP121","v":122.47136150521011},{"$f":"DQ121","v":"b'6p"},null,{"$f":"BO178-(FS164-BP178)*(BO178-BK167)/(BL167-BP178)","v":15},{"$f":"BP178+(H127-H126)","v":112.8},"b44",null,null,null,{"$f":"-(AK242+AC244)+2*GC101","v":-6.0780365915359837},{"$f":"AK241+AD244","v":148.71685589976468},"b4",null,null,null,"کمر",null,{"$f":"-ET160-GK101","v":-23.525039999999997},{"$f":"EU160","v":103.92120297376289},41,null,{"$f":"-ED162-GK101","v":1.2775938095991002},75.370176617715885,"6n",null,null,null,null,null,{"$f":"-ET120-GK101","v":5},{"$f":"EU120","v":120.2},"g4",null,{"$f":"-CV196-GK101","v":5},{"$f":"CW196","v":114.42},"e'1",null,{"$f":"-AU254-GK101","v":-16.089458970258761},{"$f":"AV254","v":129.27321281829865},"d8",null,null,null,"44'"]
[null,null,null,null,"شعاع گودی یقه جلو","V'",{"$f":"SQRT(0.2*(H128-G164)*(H128-G164)-G163*G163)","v":9.9006876205645433},{"$f":"SQRT(0.2*(H128-H164)*(H128-H164)-H163*H163)","v":9.9006876205645433},null,null,null,null,null,null,null,null,null,null,null,null,null,null,null,null,null,null,null,null,null,null,null,{"$f":"AR141","v":8.3484212811923744},{"$f":"AS141","v":42.532293124679747},27,null,null,null,null,null,null,null,null,null,null,null,null,null,null,"(1 → 48)",{"$f":"AX161+0.25*'متغیرها '!C129*(H102-H103)","v":27.230039999999995},null,{"$f":"0+AX99","v":5},{"$f":"AX155+AX98","v":100.5},38,null,null,null,null,{"$f":"1*BG142-BG141","v":0},"(1 → 46)",{"$f":"'متغیرها '!C128*BI142-BI141","v":0},null,{"$f":"BI156+BI98+'متغیرها '!C56","v":42.32244},{"$f":"BI157+BI97+'متغیرها '!C57","v":79.87470463247756},"شیفت42",null,{"$f":"BI149+BI150+BI98","v":26.7666},{"$f":"BI148+BI97","v":96.5},35,null,{"$f":"AZ94-BT130","v":33.249929425595901},{"$f":"BA94","v":140.04291609602075},22,"نقطه حلقه آستین",{"$f":"BS104+SQRT(POWER(BS165-BS104,2)+POWER(BT165-BT104,2))*SIN(ATAN((BS165-BS104)/(BT165-BT104))-BS159)","v":24.463474035591126},{"$f":"BT104+SQRT(POWER(BS165-BS104,2)+POWER(BT165-BT104,2))*COS(ATAN((BS165-BS104)/(BT165-BT104))-BS159)","v":144.52135929212406},"b16",null,"به دست آوردن مختصات قرینه یک نقطه نسبت به خط تقارن با داشتن دونقطه از خط تقارن ",null,null,null,null,null,"آستر کت پشت",null,null,{"$f":"CI156-0.85*(CI156-CJ164)","v":26.27610665002755},{"$f":"CJ156+0.5*(CK164-CJ156)","v":126.96780448845988},"20f",null,"مولفه افقی","مولفه عمودی","اسم نقطه ",null,null,null,null,null,null,null,null,null,"(22→23)",{"$f":"CZ154+0.17*(CZ155-CZ154)","v":18.959342975310019},null,"شیفت",{"$f":"CZ158+DA160","v":29.538294582241775},{"$f":"DA158","v":128.14350418849008},{"$f":"DB158","v":"16g"},null,"(7→23)",{"$f":"DH154+0.2*(DH158-DH154)","v":28.370387605109279},null,null,35.891298348860708,135.5582862620688,41,null,"مولفه افقی","مولفه عمودی","اسم نقطه ",null,"نقاط  خروجی برگرد لبه پیراهن ترک ",null,null,null,null,{"$f":"DO106","v":45.475365487730663},{"$f":"DP106","v":64.579103145596122},"43''m","پهلو",null,null,null,null,null,null,null,null,null,null,null,null,null,{"$f":"AZ162","v":17.60146911154062},{"$f":"BA162","v":84.3},47,null,null,null,null,null,null,null,null,null,null,null,null,null,null,null,null,null,{"$f":"BO178","v":15},{"$f":"BP178","v":96.5},44,null,{"$f":"DK123","v":26.7666},{"$f":"DL123","v":96.5},{"$f":"DM123","v":34},null,{"$f":"BK154","v":26.7666},{"$f":"FS164","v":112.8},"b40",null,null,null,{"$f":"-(AK244+AC244)+2*GC101","v":-1.2420770162661601},{"$f":"AK243+AD244","v":140.74054778212127},"b6",null,{"$f":"-EP147-GK101","v":5},{"$f":"EQ147","v":100.5},38,null,null,null,null,null,{"$f":"-ED163-GK101","v":-3.7091872892324975},71.580000000000013,"5n",null,null,null,"40'",null,{"$f":"-ET121-GK101","v":-7.6014691115406201},{"$f":"EU121","v":120.2},"g5",null,{"$f":"-CV199-GK101","v":5},{"$f":"CW199","v":95.7},"d4",null,{"$f":"-AU255-GK101","v":-24.581596165257494},{"$f":"AV255","v":126.8768192529092},"b4",null,{"$f":"-P479-GK101","v":5},{"$f":"Q479","v":131.65931237943548},"g1"]
[null,null,null,null,"شعاع گودی یقه پشت","V''",{"$f":"SQRT(0.23*G164*G164-G163*G163)","v":2.3711025621005923},{"$f":"SQRT(0.23*H164*H164-H163*H163)","v":2.3711025621005923},null,null,null,null,null,null,null,null,null,null,null,null,null,null,null,null,null,null,null,null,null,null,null,null,null,null,null,null,null,null,null,null,null,null,null,null,null,null,null,null,"(48 → 49)",{"$f":"'متغیرها '!C68*H127+L125-0.5*(H106-H104)","v":0.79120297376289095},null,{"$f":"AX156+AX99","v":16.953969111540619},{"$f":"AX155+AX98","v":100.5},39,null,{"$f":"BD160","v":17.60146911154062},{"$f":"BE160","v":122.17},"5شیفت",null,"(46 → 47)",{"$f":"0.25*'متغیرها '!C132*H103","v":0},null,null,null,null,null,{"$f":"BK155","v":26.7666},{"$f":"BL155","v":79.400000000000006},38,null,{"$f":"BD159-BT130","v":28.841769503972678},{"$f":"BE159","v":143.08286385513222},34,"نقطه ساسون سرشانه",{"$f":"BS104+SQRT(POWER(BS166-BS104,2)+POWER(BT166-BT104,2))*SIN(ATAN((BS166-BS104)/(BT166-BT104))-BS159)","v":19.227447802367497},{"$f":"BT104+SQRT(POWER(BS166-BS104,2)+POWER(BT166-BT104,2))*COS(ATAN((BS166-BS104)/(BT166-BT104))-BS159)","v":145.64260215507844},34,null,"مولفه افقی","مولفه عمودی","اسم نقطه ",null,null,null,null,null,null,{"$f":"CI156-0.5*(CI156-CJ164)","v":29.827121558839735},{"$f":"CJ156+0.15*(CK164-CJ156)","v":123.30996120594976},"18f",null,{"$f":"BK159","v":26.7666},{"$f":"BL159","v":96.5},34,null,{"$f":"AZ161+BT130","v":17.60146911154062},{"$f":"BA161","v":118.23},"شیفت 43",null,{"$f":"IF(CO172>CO167,CN172,CN167)","v":26.7666},{"$f":"IF(CO172>CO167,CO172,CO167)","v":96.5}," شیفت35 یا dd2",null,"(1 → 24)",{"$f":"DA154+0.75*(DA158-DA154)","v":125.66512814136756},null,null,null,null,null,null,"(1→ 24)",{"$f":"DI154+0.8*(DI158-DI154)","v":120.66776684782562},null,null,null,null,null,null,{"$f":"DP160-DT171+0.8*(DP159-DP160)","v":32.269007723029958},{"$f":"DQ160+0.8*(DQ159-DQ160)","v":123.314269581174},"a1",null,"مولفه افقی","مولفه عمودی","اسم نقطه ",null,null,{"$f":"DT328","v":27.691600000000001},{"$f":"DU328","v":59.3},"e25","وسط",null,null,null," 111انحنا لبه پیراهن بدون ترک روی خط مرکزی جلو",null,null,null,null,null,null,null,null,null,{"$f":"AZ166","v":16.953969111540619},{"$f":"BA166","v":100.5},39,null,null,null,null,null,{"$f":"DT168","v":29.077114512269336},{"$f":"DU168","v":67.975601486881459},{"$f":"DV168","v":"شیفتa''5"},null,null,null,null,null,null,null,null,null,{"$f":"BK170","v":15},{"$f":"BL170","v":79.400000000000006},48,null,null,null,null,null,null,null,null,null,null,null,{"$f":"-(AC242)+2*GC101","v":1.6594987288957341},{"$f":"AD242","v":137.41708606643653},{"$f":"AE242","v":28},null,{"$f":"-EP148-GK101","v":-6.9539691115406193},{"$f":"EQ148","v":100.5},39,null,null,null,"111'",null,{"$f":"-ED164-GK101","v":-6.306469111540622},71.580000000000013,52,null,{"$f":"-CD478-GK101","v":-14.385205632341933},{"$f":"CE478","v":139.42962567292591},"g2",null,null,null,null,null,null,null,null,null,null,null,null,null,{"$f":"-P480-GK101","v":-8.2624419898483055},{"$f":"Q480","v":131.65931237943548},"g3"]
[null,null,null,null,"اندازه سرشانه","W",{"$f":"(1/COS(F137))*(0.5*G168-G163)","v":12.599369737130157},{"$f":"(1/COS(F137))*(0.5*H168-H163)","v":12.190021336724966},null,null,null,null,null,null,null,null,null,null,null,null,null,null,null,null,null,null,null,null,null,null,null,null,null,null,null,null,null,null,null,null,null,null,null,null,null,null,null,null,"(1 → 50)",{"$f":"0.5*AX165","v":13.615019999999998},null,{"$f":"AX156+AX157+AX99","v":18.248969111540617},{"$f":"AX155+AX98","v":100.5},40,null,{"$f":"AZ161+'متغیرها '!C55","v":17.60146911154062},{"$f":"BA161","v":118.23},"شیفت43",{"$f":"BG157","v":36.924704632477557},"(46 → 48)",{"$f":"BI148-'متغیرها '!C128*(H106-H108)","v":12.819999999999986},null,{"$f":"0+BI98","v":15},{"$f":"BI148+BI164+BI97","v":128.44999999999999},45,null,{"$f":"BK159","v":26.7666},{"$f":"BL159","v":96.5},34,null,{"$f":"AZ100-BT130","v":37.567945557703098},{"$f":"BA100","v":119.86926418849009},13,"نقطه حلقه آستین",{"$f":"BS104+SQRT(POWER(BS167-BS104,2)+POWER(BT167-BT104,2))*SIN(IF(BT167=BT104,RADIANS(90)-BS159,ATAN((BS167-BS104)/ABS(BT167-BT104))+IF(BT167>BT104,-1,1)*BS159))","v":36.174132720781841},{"$f":"BT104+IF(BT167<BT104,-1,1)*SQRT(POWER(BS167-BS104,2)+POWER(BT167-BT104,2))*COS(IF(BT167=BT104,RADIANS(90)-BS159,ATAN((BS167-BS104)/ABS(BT167-BT104))+IF(BT167>BT104,-1,1)*BS159))","v":127.53660236827258},"b14",null,{"$f":"DT328","v":27.691600000000001},{"$f":"DU328","v":59.3},"e25","نقطه اول خط تقارن","نقاط قرینه شده نسبت به خط تقارن",null,null,null,null,null,null,null,null,{"$f":"BK180","v":26.7666},{"$f":"BL180","v":96.5},"شیفت35",null,{"$f":"IF(CO159>CO155,CN159,CN155)","v":18.248969111540617},{"$f":"IF(CO159>CO155,CO159,CO155)","v":100.5}," شیفت40 یا dd5",null,{"$f":"CN172","v":26.351161403508772},{"$f":"CO172","v":88.82}," dd2",null,"(24 → 31)",{"$f":"CZ154+0.55*(CZ158-CZ154)","v":24.166723120426255},null,"شیفت",{"$f":"BD156","v":37.567945557703098},{"$f":"BE156","v":119.86926418849009},13,null,"(24 → 25)",{"$f":"DH154+0.65*(DH158-DH154)","v":31.978909716605152},null,"شیفت",{"$f":"DH158+DI161","v":34.785538025546387},{"$f":"DI158+DI162","v":122.47080584720476},"12p یا 12 ",null,{"$f":"DP160-DT171+0.5*(DP159-DP160)","v":33.529513291284651},{"$f":"DQ160+0.5*(DQ159-DQ160)","v":118.05441764822794},"a2",null,{"$f":"DT169","v":18.896469111540618},{"$f":"DU162","v":67.580000000000013},"شیفتa53",null,null,null,null,"محاسبات",null,null,{"$f":"BS116","v":3.3200600000000002},{"$f":"BT116","v":114.42},"e1",null,null,null,null,null,null,null,null,null,null,null,null,null,null,null,null,null,{"$f":"DT170","v":29.077114512269336},{"$f":"DU170","v":71.975601486881459},{"$f":"DV170","v":"شیفت49'm"},null,null,null,null,null,null,null,null,null,null,null,null,null,null,null,null,null,{"$f":"BK154+'متغیرها '!C56","v":26.7666},{"$f":"FS164+'متغیرها '!C57","v":112.8},"b35",null,null,null,{"$f":"GB147","v":4.9999999999999982},{"$f":"AD243","v":136.36934389257897},{"$f":"AE243","v":26},null,null,null,null,null,{"$f":"-ED159-GK101","v":6.6799400000000002},{"$f":"EE159","v":114.42},"e1",null,null,null,null,null,{"$f":"-CD479-GK101","v":-1.6810025422085317},{"$f":"CE479","v":141.60805476186675},30,null,{"$f":"-ET123-GK101","v":-7.6014691115406201},{"$f":"EU123","v":120.2},"g'5"]
[null,null,null,null,"فاصله بین دو سرشانه از پشت","W1",{"$f":"H129+0.6*G173","v":40.001135999999995},{"$f":"'متغیرها '!U81+0.6*H173","v":39.223999999999997},null,null,null,null,null,null,null,null,null,null,null,null,null,null,null,null,null,null,null,null,null,null,null,null,null,null,null,null,null,null,null,null,null,null,null,null,null,null,null,null,"(49 → 49')",{"$f":"AX166*((AX165-AX161)/AX162)","v":0},null,{"$f":"AX156+AX157+AX158+AX99","v":33.525039999999997},{"$f":"AX155+AX98+L125","v":103.92120297376289},41,null,{"$f":"AZ167+'متغیرها '!C55","v":18.248969111540617},{"$f":"BA167","v":100.5},"شیفت40",null,"(1 → 49')",{"$f":"BI155-BI144+BI143","v":12.691600000000001},null,{"$f":"0+BI98","v":15},{"$f":"0+BI97","v":66.580000000000013},1,null,{"$f":"BK154","v":26.7666},{"$f":"BL154","v":113.45561085030904},40,null,{"$f":"BD155-BT130","v":35.844145557703101},{"$f":"BE155","v":115.38738418849009},14,"نقطه زیر حلقه آستین",{"$f":"BS104+SQRT(POWER(BS168-BS104,2)+POWER(BT168-BT104,2))*SIN(IF(BT168=BT104,RADIANS(90)-BS159,ATAN((BS168-BS104)/ABS(BT168-BT104))+IF(BT168>BT104,-1,1)*BS159))","v":36.297032265202304},{"$f":"BT104+IF(BT168<BT104,-1,1)*SQRT(POWER(BS168-BS104,2)+POWER(BT168-BT104,2))*COS(IF(BT168=BT104,RADIANS(90)-BS159,ATAN((BS168-BS104)/ABS(BT168-BT104))+IF(BT168>BT104,-1,1)*BS159))","v":122.73622420854588},"b2",null,{"$f":"DT324","v":27.691600000000001},{"$f":"DU324","v":66.580000000000013},"e21","نقطه دوم خط تقارن","مولفه افقی","مولفه عمودی","اسم نقطه ",null,"نقاط  ورودی",null,null,null,null,{"$f":"BK162","v":38.272440000000003},{"$f":"BL162","v":96.524704632477565}," شیفت36",null,null,null,null,null,null,null,null,null,"(1 → 32)",{"$f":"DA154+0.75*(DA155-DA154)","v":128.63807635561241},null,"شیفت",{"$f":"BS132+DA160","v":35.844145557703101},{"$f":"BT132","v":119.86926418849009},12,null,"(1 → 26)",{"$f":"DI154+0.4*(DI155-DI154)","v":117.06191111226947},null,"شیفت",{"$f":"IF('متغیرها '!C119=1,DX125,BK117-DI161)+DI161","v":36.076248574692741},{"$f":"IF('متغیرها '!C119=1,DY125,BL117-DI162)+DI162","v":116.47198184720476},"16p یا 16 ",null,{"$f":"DP158+0.4*(DP166-DP158)","v":20.104921192307721},{"$f":"DQ166+0.1*(DQ158-DQ166)","v":125.12711296435339},"a3",null,{"$f":"DT163+DT171","v":29.077114512269336},{"$f":"DU163","v":67.975601486881459},"شیفتa''5",null,null,"(a13→a23)",{"$f":"SQRT(POWER(DY160-DY159,2)+POWER(DZ160-DZ159,2))","v":4},null,null,null,{"$f":"CA190","v":3.3200600000000002},100.73520475166055,"8n'",null,null,null,null,null,null,null,null,null,{"$f":"AZ166","v":16.953969111540619},{"$f":"BA166","v":100.5},39,null,null,null,null,null,null,null,null,null,null,null,null,null,null,null,null,null,{"$f":"BK170","v":15},{"$f":"BL170","v":79.400000000000006},48,null,null,null,null,null,{"$f":"CU104","v":33.561040967086534},{"$f":"FS167","v":112.8},"b36",null,null,null,null,null,null,null,null,null,"34'",null,{"$f":"-CA190-GK101","v":6.6799400000000002},{"$f":"CB190","v":100.73520475166055},"8n'",null,null,null,"11'",null,null,null,null,null,{"$f":"-ET124-GK101","v":-17.435924455871671},{"$f":"EU124","v":120.2},"g''5",null,null,null,null,null,null,null,null,null,{"$f":"-P482-GK101","v":-8.2588239399042322},{"$f":"Q482","v":131.65956369966463},"g4"]
[null,null,null,null,"پهنای ساسون سرشانه جلو",null,{"$f":"(G179/COS(G160))-G167","v":9.6519304421619267},{"$f":"(H179/COS(H160))-H167","v":9.5469611505281424},null,null,null,null,null,null,null,null,null,null,null,null,null,null,null,null,null,null,null,null,null,null,null,null,null,null,null,null,null,null,null,null,null,null,null,null,null,null,null,null,"(1 → 52')",{"$f":"AX160-AX151+AX150","v":11.30646911154062},null,null,null,null,null,null,null,null,null,"(49→49')",{"$f":"0.25*'متغیرها '!C133*H103","v":0},null,{"$f":"-BI165+BI98","v":15},{"$f":"0+BI97","v":66.580000000000013},46,null,null,null,null,null,{"$f":"BK392","v":28.8},{"$f":"BL392","v":128.54231408487399},16,"شبیه ساز",{"$f":"BS104+SQRT(POWER(BS169-BS104,2)+POWER(BT169-BT104,2))*SIN(ATAN((BS169-BS104)/(BT169-BT104))-BS159)","v":24.754243117679472},{"$f":"BT104+SQRT(POWER(BS169-BS104,2)+POWER(BT169-BT104,2))*COS(ATAN((BS169-BS104)/(BT169-BT104))-BS159)","v":132.19329489204574},"b6",null,{"$f":"DT340","v":31.691600000000001},{"$f":"DU340","v":66.580000000000013},"e216","نقطه قرینه خواسته",{"$f":"CA169+2*(SIN(ATAN((CA168-CA167)/(CB168-CB167)))*(CB169-CB167)+COS(ATAN((CA168-CA167)/(CB168-CB167)))*(CA167-CA169))*COS(ATAN((CA168-CA167)/(CB168-CB167)))","v":23.691600000000001},{"$f":"CB169-2*(SIN(ATAN((CA168-CA167)/(CB168-CB167)))*(CB169-CB167)+COS(ATAN((CA168-CA167)/(CB168-CB167)))*(CA167-CA169))*SIN(ATAN((CA168-CA167)/(CB168-CB167)))","v":66.580000000000013},"e'216",null,"مولفه افقی","مولفه عمودی","اسم نقطه ",null,null,{"$f":"BO178","v":15},{"$f":"BP178","v":96.5},44,null,{"$f":"IF(CO159>CO155,CN159,CN155)","v":18.248969111540617},{"$f":"IF(CO159>CO155,CO159,CO155)","v":100.5}," شیفت40 یا dd5",null,{"$f":"CN172","v":26.351161403508772},{"$f":"CO172","v":88.82}," dd2",null,"(32 → 33)",{"$f":"CZ154+0.55*(CZ155-CZ154)","v":21.994590435500434},null,"شیفت",{"$f":"BS133+DA160","v":32.691220069972438},{"$f":"BT133","v":121.11040018849008},18,null,"(26 → 33)",{"$f":"DH154+0.19*(DH155-DH154)","v":28.290079525119758},null,"شیفت",{"$f":"CA116+DI161","v":38.227432823269979},{"$f":"CB116+DI162","v":113.47256984720475},{"$f":"CC116","v":14},null,{"$f":"DP158+0.1*(DP166-DP158)","v":14.022877926946599},{"$f":"DQ166+0.4*(DQ158-DQ166)","v":130.56564311389155},"a4",null,{"$f":"DG108","v":18.896469111540618},{"$f":"DH108","v":71.580000000000013},"شیفت53",null,null,"(a6→a13)",{"$f":"SQRT(POWER(DY161-DY160,2)+POWER(DZ161-DZ160,2))","v":12.691600000000001},null,null,null,8.4017030408829427,83.433163667142992,"7n'",null,null,null,null,null,null,null,null,null,{"$f":"AZ161","v":17.60146911154062},{"$f":"BA161","v":118.23},43,null,null,null,null,null,null,null,null,null,null,null,null,null,null,null,null,null,{"$f":"BO176","v":15},{"$f":"BP176","v":66.580000000000013},47,null,null,null,null,null,null,null,"زمین",null,null,null,{"$f":"-(AK247)+2*GC101","v":-14.574920343456075},{"$f":"AK246","v":139.08256960965244},"نقطه اتصال",null,{"$f":"-EH146-GK101","v":-2.5161278599845964},{"$f":"EI146","v":143.70353910958187},"e7",null,{"$f":"-CA191-GK101","v":1.5982969591170573},{"$f":"CB191","v":83.433163667142992},"7n'",null,{"$f":"-EP172-GK101","v":-25.844145557703101},{"$f":"EQ172","v":115.38738418849009},"شیفت14",null,null,null,"29'",null,null,null,null,null,null,null,null,null,null,null,null,null,{"$f":"-P483-GK101","v":-16.091229764109709},{"$f":"Q483","v":131.43500685772256},"g10"]
[null,null,null,null,"پهنای ساسون سرشانه پشت",null,{"$f":"(G181/COS(G158))-G167","v":1.5401390575902241},{"$f":"(H181/COS(H158))-H167","v":1.4930240741590506},null,null,null,null,null,null,null,null,null,null,null,null,null,null,null,null,null,null,null,null,null,null,null,null,null,null,null,null,null,null,null,null,null,null,null,null,null,null,null,null,"(52→52')",{"$f":"0.25*'متغیرها '!C130*(H102-H103)","v":0},null,{"$f":"0+AX99","v":5},{"$f":"AX155+(H124-H123)+AX98","v":120.2},"خط سینه",null,"خطوط برش ساسون کمر ",null,null,null,"(50→50')",{"$f":"BI169","v":0},null,{"$f":"-BI165+BI98","v":15},{"$f":"BI167+BI97","v":79.400000000000006},48,null,{"$f":"BI108+BI98+'متغیرها '!C56","v":39.087906522700877},{"$f":"BI110-BI112+BI97+'متغیرها '!C57","v":107.99088584720475},"10شیفت",null,"متغیرهای محاسبه ای چرخش کامل به ساسون زیر بغل",null,null,null,null,null,null,null,null,null,null,null,null,null,null,null,{"$f":"CA423","v":15},{"$f":"CB415","v":139.1},2,null,null,{"$f":"J310","v":15},{"$f":"K310","v":91.7},"d1",null,{"$f":"CN159","v":18.555932074503581},{"$f":"CO159","v":92.82}," dd5",null,{"$f":"CN173","v":40.607575135135136},{"$f":"CO173","v":86.924704632477571},"d3",null,"نقاط  خروجی ",null,null,"شیفت",{"$f":"CZ159+DA160","v":30.799464777334041},{"$f":"DA159","v":123.17896018849009},{"$f":"DB159","v":"20g"},null,"(1 → 34)",{"$f":"DI154+0.75*(DI155-DI154)","v":120.21742384148484},null,"شیفت",{"$f":"CA122+DI161","v":40.811706522700881},{"$f":"CB122+DI162","v":112.47276584720476},{"$f":"CC122","v":9},null,{"$f":"DP163+0.15*(DP161-DP163)","v":16.014376372688023},{"$f":"DQ162","v":71.580000000000013},"a5",null,{"$f":"DG124","v":29.077114512269336},{"$f":"DH124","v":71.975601486881459},"شیفت49'm",null,null,"(a'8→a26)",{"$f":"SQRT(POWER(DY165-DY163,2)+POWER(DZ165-DZ163,2))","v":23.718314850575123},null,null,null,16.871108109021179,75.321059158664255,"6n'",null,null,null,null,null,null,null,null,null,null,null,null,null,null,null,null,null,null,null,null,null,null,null,null,null,null,null,null,null,null,null,null,null,null,null,null,null,{"$f":"'متغیرها '!C53","v":15},{"$f":"'متغیرها '!C54","v":0},null,null,null,null,null,null,null,null,{"$f":"-EH147-GK101","v":6.6799400000000002},{"$f":"EI147","v":114.42},"e1",null,{"$f":"-CA192-GK101","v":-6.8711081090211792},{"$f":"CB192","v":75.321059158664255},"6n'",null,{"$f":"-EP175-GK101","v":-25.879359517501108},{"$f":"EQ175","v":85.421202973762888},"شیفت9",null,{"$f":"-EH156-GK101","v":-25.894694877454754},{"$f":"EI156","v":72.371202973762905},"شیفت7",null,null,null,"70'"]
[null,null,null,null,"بلندی سینه جلو",null,{"$f":"SQRT(G175*G175+G176*G176)","v":21.853955545494557},{"$f":"SQRT(H175*H175+H176*H176)","v":20.056908664386771},null,null,null,null,null,null,null,null,null,null,null,null,null,null,null,null,null,null,null,null,null,null,null,null,null,null,null,null,null,null,null,null,null,null,null,null,null,null,null,null,"(53→53')",{"$f":"AX170","v":0},null,null,null,null,null,{"$f":"AZ161","v":17.60146911154062},{"$f":"BA161","v":118.23},43,null,null,null,null,null,null,null,null,{"$f":"BK162","v":38.272440000000003},{"$f":"BL162","v":96.524704632477565},"شیفت36",null,"ζ'1",{"$f":"(1+0.001)*ATAN((BS109-BS104)/(BT109-BT104))","v":6.4277519763342311E-2},null,null,null,null,null,null," انحنا لبه پیراهن روی خط مرکزی جلو پیراهن",null,null,null," انحنا لبه پیراهن روی خط مرکزی جلو بالاتنه",null,null,null,"کارور پشت",{"$f":"'متغیرها '!U81","v":38},"v3",null,null,{"$f":"J312","v":27.182038596491228},{"$f":"K312","v":88.82},"d2",null,null,null,null,null,null,null,null,null,"مولفه افقی","مولفه عمودی","اسم نقطه ","شیفت",{"$f":"CZ158+DA160","v":29.538294582241775},{"$f":"DA158","v":128.14350418849008},{"$f":"DB158","v":"16g"},null,"(34→35)",{"$f":"DH154+0.59*(DH155-DH154)","v":31.497404841161352},null,null,null,null,null,null,{"$f":"DP170+0.3*(DP167-DP170)","v":21.268917448267011},{"$f":"DQ170+0.9*(DQ167-DQ170)","v":113.40697588340515},"a6",null,{"$f":"DH118","v":0},"شیفت افقی",null,null,null,"αa23",{"$f":"ATAN((DY159-DY158)/(DZ158-DZ159))","v":0},null,null,null,29.379767901963806,72.371202973762905,"5n'",null,null,null,null,null,null,null,null,null,null,null,"پهلو صاف ",null,null,null,null,null,null,null,null,null,null,null,null,null,null,null,null,null,null,null,null,null,null,null,null,null,{"$f":"'متغیرها '!C53+10","v":25},{"$f":"'متغیرها '!C54","v":0},null,null,null,null,null,null,null,null,null,null,null,null,{"$f":"-CA193-GK101","v":-19.379767901963806},{"$f":"CB193","v":72.371202973762905},"5n'",null,null,null,null,null,{"$f":"-EH157-GK101","v":-22.230039999999995},72.371202973762905,"شیفت49'  …",null,{"$f":"-EP159-GK101","v":-7.6014691115406201},{"$f":"EQ159","v":118.23},43,null,null,null,null,null,null,null,null,null,null,null,"45'"]
[null,null,null,null,"بلندی سینه پشت",null,{"$f":"SQRT(G177*G177+G178*G178)","v":16.405403895347742},{"$f":"SQRT(H177*H177+H178*H178)","v":16.122841669650605},null,null,null,null,null,null,null,null,null,null,null,null,null,null,null,null,null,null,null,null,null,null,null,null,null,null,null,null,null,null,null,null,null,null,null,null,null,null,null,null,null,null,null,{"$f":"AX161+AX99+'متغیرها '!C55","v":32.230039999999995},{"$f":"AX162+AX98","v":87.271202973762882},"45شیفت",null,{"$f":"AZ166","v":16.953969111540619},{"$f":"BA166","v":100.5},39,null,null,null,null,{"$f":"BI158-BI161+BI98+'متغیرها '!C56","v":42.32244},{"$f":"0+BI97+BI159+'متغیرها '!C57","v":64.974704632477568},"شیفت43''",null,{"$f":"BK165","v":42.32244},{"$f":"BL165","v":79.87470463247756},"شیفت42",null,"ζ'2",{"$f":"(1+0.001)*ATAN((BS166-BS104)/(BT166-BT104))","v":0.45704781676890888},null,null,null,null,null,null,"نقاط  ورودی",null,null,null,"نقاط  ورودی",null,null,null,{"$f":"CA415","v":23.040800000000001},{"$f":"CB415","v":139.1},23,"نقطه اتصال سرشانه به گردن",null,{"$f":"J322","v":26.351161403508772},{"$f":"K322","v":88.82},"dd2",null,{"$f":"CN159","v":18.555932074503581},{"$f":"CO159","v":92.82}," dd5",null,{"$f":"CN173","v":40.607575135135136},{"$f":"CO173","v":86.924704632477571},"d3",null,{"$f":"DA163","v":19.630729441559815},{"$f":"DA162","v":122.19540167539604},21,null,null,null,null,null,"نقاط  خروجی ",null,null,"شیفت",{"$f":"DH159","v":40.811706522700881},{"$f":"DI159","v":112.47276584720476},9,null,{"$f":"DP170-0.06*(DP167-DP170)","v":14.963468157572226},{"$f":"DQ170+0.6*(DQ167-DQ170)","v":99.464650588936763},"a7",null,null,null,null,null,null,"αa10",{"$f":"ATAN((DY161-DY162)/(DZ162-DZ161))","v":0},null,null,null,{"$f":"BD153","v":35.894694877454754},{"$f":"BE153","v":72.371202973762905},"7شیفت",null,null,null,null,null,null,null,null,null,{"$f":"BS140+BT130","v":35.844145557703101},{"$f":"BT140","v":115.38738418849009},"شیفت14",null,null,null,null,null,null,null,null,null,null,null,null,null,null,null,null,null,null,null,null,null,null,null,null,null,null,null,null,null,null,null,null,null,null,null,null,null,null,null,{"$f":"-EH156-GK101","v":-25.894694877454754},{"$f":"BE153","v":72.371202973762905},"7شیفت",null,{"$f":"-EP175-GK101","v":-25.879359517501108},{"$f":"EQ175","v":85.421202973762888},"شیفت9",null,{"$f":"-EH158-GK101","v":-19.507035999999996},72.292082676386613,"شیفت50'''",null,{"$f":"-EP160-GK101","v":-8.2489691115406174},{"$f":"EQ160","v":100.5},40,null,null,null,null,null,null,null,null,null,{"$f":"-BD488-GK101","v":5},{"$f":"BE488","v":131.65931237943548},"g1"]
[null,null,null,null,"میزان بیرون آمدن کارور پشت به قسمت سرشانه","z'3",{"$f":"0.06*H130","v":2.0685599999999997},{"$f":"0.06*'متغیرها '!U82","v":2.04},null,null,null,null,null,null,null,null,null,null,null,null,null,null,null,null,null,null,null,null,null,null,null,null,null,null,null,null,null,null,null,null,null,null,null,null,null,null,null,null,null,null,null,{"$f":"AX161+AX99+'متغیرها '!C55","v":32.230039999999995},{"$f":"0+AX98","v":71.580000000000013},"شیفت44",null,{"$f":"AZ162","v":17.60146911154062},{"$f":"BA162","v":84.3},47,null,null,null,null,{"$f":"BK176+0.8*(BK172-BK176)","v":39.590195999999999},{"$f":"BL176+0.9*(BL172-BL176)","v":65.135234169229818},"41''''",null,{"$f":"BK172","v":42.32244},{"$f":"BL172","v":64.974704632477568},"شیفت43''",null,"ζ1",{"$f":"ATAN((BT104-BT168)/(BS168-BS104))","v":0.25793427357934184},null,null,null,null,null,null,"مولفه افقی","مولفه عمودی","اسم نقطه ",null,"مولفه افقی","مولفه عمودی","اسم نقطه ",null,{"$f":"CA425+BI111","v":39.929562895437513},{"$f":"CB425","v":114.34581574358867},9,"نقطه انتهایی\n زیر حلقه",null,{"$f":"J324","v":40.607575135135136},{"$f":"K324","v":86.924704632477571},"d3",null,{"$f":"CN160","v":32.778373333333327},{"$f":"CO160","v":94.321202973762894},"d3",null,{"$f":"IF(CO173>CO168,CN173,CN168)","v":38.272440000000003},{"$f":"IF(CO173>CO168,CO173,CO168)","v":96.524704632477565}," شیفت36 یا d3",null,{"$f":"DA165","v":18.959342975310019},{"$f":"DA164","v":123.78097405632661},23,"شیفت",{"$f":"BD156","v":37.567945557703098},{"$f":"BE156","v":119.86926418849009},13,null,"مولفه افقی","مولفه عمودی","اسم نقطه ","شیفت",{"$f":"DH160","v":39.087906522700877},{"$f":"DI160","v":107.99088584720475},10,null,{"$f":"DP161+0.08*'متغیرها '!U84","v":30.757114512269336},{"$f":"DQ161","v":71.975601486881459},"a8",null,null,null,null,null,null,"αa6",{"$f":"ATAN((DZ161-DZ160)/(DY161-DY160))","v":0},null,null,null,null,null,null,null,null,null,null,null,null,null,null,null,{"$f":"BD154","v":35.879359517501108},{"$f":"BE154","v":85.421202973762888},"شیفت9",null,null,null,null,null,null,null,null,null,null,null,null,null,null,null,null,null,null,null,null,null,null,null,null,null,null,null,null,null,null,null,null,null,null,null,null,null,null,null,null,null,null,null,{"$f":"-EP176-GK101","v":-25.894694877454754},{"$f":"EQ176","v":72.371202973762905},"شیفت7",null,{"$f":"-EH159-GK101","v":-16.103280999999996},72.015161635569598,"شیفت50''",null,null,null,null,null,null,null,null,null,null,null,null,null,{"$f":"-BD489-GK101","v":-8.0946181215057074},{"$f":"BE489","v":131.65931237943548},"g3"]
[null,null,null,null,"میزان بیرون آمدن کارور جلو به قسمت سرشانه","z'4",{"$f":"0.14*H130","v":4.8266400000000003},{"$f":"0.14*'متغیرها '!U82","v":4.7600000000000007},null,null,null,null,null,null,null,null,null,null,null,null,null,null,null,null,null,null,null,null,null,null,null,null,null,null,null,null,null,null,null,null,null,null,null,null,null,null,null,null,null,null,null,null,null,"جداسازی قسمت پهلو",null,{"$f":"AZ167","v":18.248969111540617},{"$f":"BA167","v":100.5},40,null,null,null,null,{"$f":"BK176+0.55*(BK172-BK176)","v":36.174891000000002},{"$f":"BL176+0.55*(BL172-BL176)","v":65.697087547862665},"41'''",null,null,null,null,null,null,null,null,null,"نقاط تقاطع رگلان با چرخش معکوس",null,null,null,{"$f":"BD98","v":3.3200600000000002},{"$f":"BE98","v":136.36934389257897},"26'",null,{"$f":"BD98","v":3.3200600000000002},{"$f":"BE98","v":136.36934389257897},"26'",null,{"$f":"CA425","v":38.205762895437516},{"$f":"CB425","v":114.34581574358867},8,null,null,null,{"$f":"'متغیرها '!C56","v":0},"شیفت افقی تکه پهلو",null,null,null,null,null,null,null,null,null,{"$f":"DA167","v":24.166723120426255},{"$f":"DA166","v":125.66512814136756},31,"شیفت",{"$f":"BD155","v":35.844145557703101},{"$f":"BE155","v":115.38738418849009},14,null,{"$f":"DI165","v":28.370387605109279},{"$f":"DI164","v":117.06168884906732},23,null,null,null,null,null,"ضخیم دوزی در سجاف کت مردانه ",null,null,null,null,"نقاط  خروجی ",null,null,null,"α'a6",{"$f":"2*DZ173-DZ172","v":0},null,null,null,null,null,null,null,null,null,null,null,null,null,null,null,null,null,null,null,null,null,null,null,null,null,null,null,null,null,null,null,null,null,null,null,null,null,null,null,null,null,null,null,null,null,null,null,null,null,null,null,null,null,null,null,null,null,null,null,null,null,null,null,"چیب",null,{"$f":"-EH160-GK101","v":-12.699525999999999},71.738240594752597,"شیفت50'",null,{"$f":"-EP160-GK101","v":-8.2489691115406174},{"$f":"EQ160","v":100.5},40]
[null,null,null,null,"فاصله افقی بین دو نقطه 6 و 35 در بالاتنه جلو",null,{"$f":"0.5*(H120-H121)-G156+G174-0.5*G179-K117","v":5.9328508884593809},{"$f":"L115-H156+H174-0.5*H179-L117","v":5.8877600000000037},null,null,null,null,null,null,null,null,null,null,null,null,null,null,null,null,null,null,null,null,null,null,null,null,null,null,null,null,null,null,null,null,null,null,null,null,null,null,null,null,null,null,null,{"$f":"AZ166","v":16.953969111540619},{"$f":"BA166","v":100.5},39,null,{"$f":"AZ161","v":17.60146911154062},{"$f":"BA161","v":118.23},43,null,null,null,null,{"$f":"BK176+0.3*(BK172-BK176)","v":32.759585999999999},{"$f":"BL176+0.2*(BL172-BL176)","v":66.258940926495526},"41''",null,{"$f":"BO188","v":27.691600000000001},{"$f":"BP188","v":66.580000000000013},49,null,{"$f":"BU150","v":18.671008174609682},{"$f":"BV150","v":136.8331355638978},"32'","تقاطع رگلان با درز",{"$f":"BS104+SQRT(POWER(BS175-BS104,2)+POWER(BT175-BT104,2))*SIN(IF(BT175=BT104,RADIANS(90)-BT177,ATAN((BS175-BS104)/ABS(BT175-BT104))+IF(BT175>BT104,-1,1)*BT177))","v":18.664481617323361},{"$f":"BT104+IF(BT175<BT104,-1,1)*SQRT(POWER(BS175-BS104,2)+POWER(BT175-BT104,2))*COS(IF(BT175=BT104,RADIANS(90)-BT177,ATAN((BS175-BS104)/ABS(BT175-BT104))+IF(BT175>BT104,-1,1)*BT177))","v":136.83355394697662},"34''",null,{"$f":"AZ177","v":16.306469111540622},{"$f":"BA177","v":71.580000000000013},52,null,{"$f":"CN158","v":16.647006148577656},{"$f":"CO158","v":92.82},"d5",null,"α4",{"$f":"'متغیرها '!B245","v":0.27820102979369776},"زاویه سرشانه با افق",null,null,null,{"$f":"'متغیرها '!C57","v":0},"شیفت عمودی تکه پهلو",null,{"$f":"CN160","v":32.778373333333327},{"$f":"CO160","v":94.321202973762894},"d3",null,{"$f":"IF(CO173>CO168,CN173,CN168)","v":38.272440000000003},{"$f":"IF(CO173>CO168,CO173,CO168)","v":96.524704632477565}," شیفت36 یا d3",null,{"$f":"DA169","v":21.994590435500434},{"$f":"DA168","v":128.63807635561241},33,null,null,null,null,null,{"$f":"DI167","v":31.978909716605152},{"$f":"DI166","v":120.66776684782562},25,null,null,null,"سرشانه عصایی",null,"نقاط  ورودی",null,null,null,null,"مولفه افقی","مولفه عمودی","اسم نقطه ",null,"αa26",{"$f":"ATAN((DY164-DY163)/(DZ164-DZ163))","v":0},null,null,null,null,null,null,null,null,null,null,null,null,null,null,null,{"$f":"BD154","v":35.879359517501108},{"$f":"BE154","v":85.421202973762888},"شیفت9",null,null,null,null,null,null,null,null,null,null,null,null,null,null,null,null,null,null,null,null,null,null,null,null,null,null,null,null,null,null,null,null,null,null,null,null,null,null,null,null,null,null,null,{"$f":"GN112","v":-17.70354846332329},{"$f":"GO112","v":99.389701006989441},"37شیفت ",null,{"$f":"-EH161-GK101","v":-8.6150199999999977},71.580000000000013,"شیفت50",null,{"$f":"-EP163-GK101","v":-7.6014691115406201},{"$f":"EQ163","v":84.3},47,null,null,null,null,null,null,null,null,null,{"$f":"-BD491-GK101","v":-8.0946181215057074},{"$f":"BE491","v":131.65931237943548},"g4"]
[null,null,null,null,"فاصله عمودی بین دو نقطه 6 و 35 در بالاتنه جلو",null,{"$f":"(H124-K116-K118-SIN(G160)*0.5*(G169+G167))","v":21.033227363382895},{"$f":"I124-L116-L118-SIN(H160)*0.5*(H169+H167)","v":19.173259174015069},null,null,null,null,null,null,null,null,null,null,null,null,null,null,null,null,null,null,null,null,null,null,null,null,null,null,null,null,null,null,null,null,null,null,null,null,null,null,null,null,null,null,null,{"$f":"AX169+AX99","v":16.306469111540622},{"$f":"BA162","v":84.3},"47'",null,null,null,null,null,null,null,null,{"$f":"BK168+BI160+'متغیرها '!C56","v":28.66122},{"$f":"BL168+'متغیرها '!C57","v":66.580000000000013},"شیفت41'",null,{"$f":"-BI165-BI166+BI98","v":15},{"$f":"0+BI97","v":66.580000000000013},47,null,{"$f":"BU157","v":18.620393691050698},{"$f":"BV157","v":136.04599501372701},"5'","تقاطع رگلان بدون درز",{"$f":"BS104+SQRT(POWER(BS176-BS104,2)+POWER(BT176-BT104,2))*SIN(IF(BT176=BT104,RADIANS(90)-BT177,ATAN((BS176-BS104)/ABS(BT176-BT104))+IF(BT176>BT104,-1,1)*BT177))","v":18.614175994223867},{"$f":"BT104+IF(BT176<BT104,-1,1)*SQRT(POWER(BS176-BS104,2)+POWER(BT176-BT104,2))*COS(IF(BT176=BT104,RADIANS(90)-BT177,ATAN((BS176-BS104)/ABS(BT176-BT104))+IF(BT176>BT104,-1,1)*BT177))","v":136.04639359739485},"5''",null,{"$f":"BD97","v":3.3200600000000002},{"$f":"BE97","v":71.580000000000013},"1'",null,{"$f":"CN161","v":3.3200600000000002},{"$f":"CO161","v":95.7},"26''",null,null,{"$f":"H167","v":12.190021336724966},"w",null,null,null,null,null,null,{"$f":"IF(CO160>CO156,CN160,CN156)","v":33.525039999999997},{"$f":"IF(CO160>CO156,CO160,CO156)","v":103.92120297376289}," شیفت41 یا d3",null,{"$f":"BO170","v":39.087906522700877},{"$f":"BP170","v":107.99088584720475},"شیفت 10",null,null,null,null,null,null,null,"سرشانه عصایی",null,{"$f":"DI169","v":28.290079525119758},{"$f":"DI168","v":117.06191111226947},33,null,{"$f":"CE105","v":23.348421281192373},{"$f":"CF105","v":139.03229312467974},23,null,"مولفه افقی","مولفه عمودی","اسم نقطه ",null,null,{"$f":"DP177","v":3.3200600000000002},{"$f":"DQ177-8*DQ185-0.05*'متغیرها '!U60","v":106.545},"e''1",null,"نقاط  خروجی ",null,null,null,null,null,null,null,null,null,null,null,null,null,null,null,null,{"$f":"BD153","v":35.894694877454754},{"$f":"BE153","v":72.371202973762905},"شیفت7",null,null,null,null,null,null,null,null,null,null,null,null,null,null,null,null,null,null,null,null,null,null,null,null,null,null,null,null,null,null,null,null,null,null,null,null,null,null,null,null,null,null,null,{"$f":"GN113","v":-23.264795993798657},{"$f":"GO113","v":84.110298993010559},"شیفت37'",null,{"$f":"-EH162-GK101","v":-8.8964691115406183},71.580000000000013,"شیفت53",null,null,null,null,null,null,null,null,null,null,null,null,null,{"$f":"-BD492-GK101","v":-15.724222137373676},{"$f":"BE492","v":131.65931237943548},"g10"]
[null,null,null,null,"فاصله افقی بین دو نقطه 7 و 37 در بالاتنه پشت",null,{"$f":"0.5*H121-G155+G173-0.5*G181-AA118","v":2.9780800000000003},{"$f":"Y115-Y135+Y141-0.5*H181-Y118","v":2.9903999999999993},null,null,null,null,null,null,null,null,null,null,null,null,null,null,null,null,null,null,null,null,null,null,null,null,null,null,null,null,null,null,null,null,null,null,null,null,null,null,null,null,null,null,null,{"$f":"AZ176+AX170","v":16.306469111540622},{"$f":"BA106","v":71.580000000000013},52,null,{"$f":"BD155","v":35.844145557703101},{"$f":"BE155","v":115.38738418849009},"شیفت14",null,null,null,null,{"$f":"BO192","v":25.8416},{"$f":"BP192","v":66.580000000000013}," شیفت50",null,{"$f":"BK170","v":15},{"$f":"BL170","v":79.400000000000006},48,null,null,{"$f":"(BX178-BX177)","v":3.9237791908648017E-4},"زاویه چرخش به ساسون زیر بغل",null,"ζ'1",{"$f":"(('متغیرها '!C106-1+'متغیرها '!C107)+0.001)*ATAN((BS109-BS104)/(BT109-BT104))","v":6.4213306456885425E-5},null,null,null,{"$f":"'متغیرها '!C191","v":0.45},"n11",null,null,{"$f":"'متغیرها '!C191","v":0.45},"n11",null,null,"نقاط شبیه ساز حلقه آستین پشت بدون ساسون سرشانه",null,null,null,null,{"$f":"'متغیرها '!C329","v":0},"انتخاب جلیقه",null,null,null,null,null,null,null,null,null,null,null,null,null,{"$f":"CZ157","v":24.573105577030464},{"$f":"DA157","v":145.30037824350708},{"$f":"DB157","v":39},null,{"$f":"DI171","v":31.497404841161352},{"$f":"DI170","v":120.21742384148484},35,null,{"$f":"DH157","v":35.891298348860708},{"$f":"DI157","v":135.5582862620688},41,null,{"$f":"BS116","v":3.3200600000000002},{"$f":"BT116","v":114.42},"e1"," یقه چرخیده",null,{"$f":"DP177-0.8*DQ185","v":2.9200600000000003},{"$f":"DQ177","v":114.42},"e'1",null,"مولفه افقی","مولفه عمودی","اسم نقطه ",null,null,null,null,null,null,null,null,null,null,null,null,null,null,null,null,"چیب",null,null,null,null,null,null,null,null,null,null,null,null,null,null,null,null,null,null,null,null,null,null,null,null,null,null,null,null,null,null,null,null,null,null,null,null,null,null,null,null,null,null,null,null,null,null,null,{"$f":"-EH163-GK101","v":5},71.580000000000013,1,null,{"$f":"-EP163-GK101","v":-7.6014691115406201},{"$f":"EQ163","v":84.3},47]
[null,null,null,null,"فاصله عمودی بین دو نقطه 7 و 37 در بالاتنه پشت",null,{"$f":"(H127-AA116-AA119-SIN(G158)*0.5*(G170+G167))","v":16.132833492077296},{"$f":"Y114-Y116-Y119-SIN(H158)*0.5*(H170+H167)","v":15.843090965610907},null,null,null,null,null,null,null,null,null,null,null,null,null,null,null,null,null,null,null,null,null,null,null,null,null,null,null,null,null,null,null,null,null,null,null,null,null,null,null,null,null,null,null,null,null,null,null,{"$f":"AZ168+'متغیرها '!C55","v":33.525039999999997},{"$f":"BA168","v":103.92120297376289},"شیفت41",null,null,null,null,null,null,null,null,{"$f":"BI163+BI98","v":15},{"$f":"BI148+BI97","v":96.5},44,null,{"$f":"BW135-0.02*(BW135-BW175)","v":25.450472811621037},{"$f":"BX135-0.2*(BX135-BX134)","v":131.28667646797888},"b'6",null,"ζ'2",{"$f":"(('متغیرها '!C106-1+'متغیرها '!C107)+0.001)*ATAN((BS138-BS104)/(BT138-BT104))","v":4.5659122554336557E-4},null,null,null,{"$f":"'متغیرها '!C193","v":0.8},"n12",null,null,{"$f":"'متغیرها '!C193","v":0.8},"n12",null,null,"مولفه افقی","مولفه عمودی","اسم نقطه ",null,null,null,null,null,{"$f":"IF(CO160>CO156,CN160,CN156)","v":33.525039999999997},{"$f":"IF(CO160>CO156,CO160,CO156)","v":103.92120297376289}," شیفت41 یا d3",null,null,null,"خط پشت در بالاتنه جناقی",null,null,null,null,null,{"$f":"DT134","v":13.351253177760661},{"$f":"DU134","v":146.84676563115454},{"$f":"DV134","v":25},null,null,null,null,null,null,null,null,null,{"$f":"BW127","v":1.3682872021625769E-2},{"$f":"BX127","v":137.94609570720104},"e10"," یقه چرخیده",null,{"$f":"DP177+0.3*(DP178-DP177)-1.2*DQ185","v":1.7281468616064877},{"$f":"DQ177+0.3*(DQ178-DQ177)","v":121.47782871216032},"e''10",null,{"$f":"DY159-DZ168*SIN(DZ171)","v":31.691600000000001},{"$f":"DZ159+DZ168*COS(DZ171)","v":70.580000000000013},"a'23",null,null,null,null,null,null,null,null,null,null,null,null,null,null,{"$f":"AZ155","v":27.70354846332329},{"$f":"BA155","v":99.389701006989441},"37شیفت ",null,null,null,null,null,null,null,null,null,null,null,null,null,null,null,null,null,null,null,null,null,null,null,null,null,null,null,null,null,null,null,null,null,null,null,null,null,null,null,null,null,null,null,null,null,"22'",null,null,null,null,null,{"$f":"-EP166-GK101","v":-6.9539691115406193},{"$f":"EQ166","v":100.5},39]
[null,null,null,null,"فاصله افقی بین دو نقطه 22 و 25 در بالاتنه جلو",null,{"$f":"0.5*(H120-H121)-G156+G174-G163","v":20.98704},{"$f":"L115-H156+H174-H163","v":20.519200000000001},null,null,null,null,null,null,null,null,null,null,null,null,null,null,null,null,null,null,null,null,null,null,null,null,null,null,null,null,null,null,null,null,null,null,null,null,null,null,null,null,null,null,null,{"$f":"AZ167+'متغیرها '!C55","v":18.248969111540617},{"$f":"BA167","v":100.5},"40شیفت",null,{"$f":"AZ172","v":32.230039999999995},{"$f":"BA172","v":87.271202973762882},"شیفت45",null,null,null,null,{"$f":"BK154+'متغیرها '!C56","v":26.7666},{"$f":"BL154+'متغیرها '!C57","v":113.45561085030904},"40شیفت",null,{"$f":"BK167","v":15},{"$f":"BL167","v":128.44999999999999},45,null,null,null,null,null,null,null,null,null,null,{"$f":"'متغیرها '!C192","v":1.3},"n13",null,null,{"$f":"'متغیرها '!C192","v":1.3},"n13",null,null,{"$f":"CI172+CJ176*COS(CJ175)","v":34.762127675570746},{"$f":"CJ172-CJ176*SIN(CJ175)","v":135.75229963830256},"18f",null,null,null,null,null,{"$f":"BS140+BT130","v":35.844145557703101},{"$f":"BT140","v":115.38738418849009},"شیفت 14",null,{"$f":"CN170","v":15},{"$f":"CO170","v":91.7},"d1",null,null,null,null,null,null,null,null,null,null,null,null,null,null,null,null,null,{"$f":"BW120","v":13.179570593859246},{"$f":"BX120","v":160.10276611527121},"a4"," یقه چرخیده",null,{"$f":"DP177+0.6*(DP178-DP177)-DQ185","v":0.83623372321297573},{"$f":"DQ177+0.6*(DQ178-DQ177)","v":128.53565742432062},"e'10",null,{"$f":"DY161+DZ168*SIN(DZ174)","v":15},{"$f":"DZ161-DZ168*COS(DZ174)","v":62.580000000000013},"a'6",null,null,null,null,null,null,null,null,null,null,null,null,null,null,{"$f":"BD114","v":33.264795993798657},{"$f":"BE114","v":84.110298993010559},"شیفت37'",null,null,null,null,null,null,null,null,null,null,null,null,null,null,null,null,null,null,null,null,null,null,null,null,null,null,null,null,null,null,null,null,null,null,null,null,null,null,null,null,null,null,null,{"$f":"-EH150-GK101","v":-3.3512531777606611},{"$f":"EI150","v":146.84676563115454},"25چرخیده"]
[null,null,null,null,"فاصله عمودی بین دو نقطه 22 و 25 در بالاتنه جلو",null,{"$f":"H124-K127-K133-SQRT(O127*O127-G174*G174)","v":7.39354527323421},{"$f":"I124-L127-L133-SQRT(POWER(P127,2)-H174*H174)","v":7.1734816519698548},null,null,null,null,null,null,null,null,null,null,null,null,null,null,null,null,null,null,null,null,null,null,null,null,null,null,null,null,null,null,null,null,null,null,null,null,null,null,null,null,null,null,null,{"$f":"AZ162+AX160-AX169+'متغیرها '!C55","v":18.896469111540618},{"$f":"BA162","v":84.3},"شیفت47''",null,{"$f":"AX165-AX168+AX99+'متغیرها '!C55","v":32.230039999999995},{"$f":"0+AX98+AX166","v":72.371202973762905},"شیفت49'  …",null,null,null,null,{"$f":"BO165+'متغیرها '!C56","v":26.7666},{"$f":"BP165+'متغیرها '!C57","v":96.5},"35 شیفت",null,"انحنا ساسون کمر ",null,null,null,null,null,null,null,null,null,null,null,"نقاط  محاسبه شده",null,null,null,"نقاط  محاسبه شده",null,null,null,null,{"$f":"CJ181+0.2*(CJ179-CJ181)","v":34.152425535114148},{"$f":"CK181+0.4*(CK179-CK181)","v":128.68815995304698},"20f",null,null,null,null,null,null,null,null,null,{"$f":"IF(CO170>CO169,CN170,CN169)","v":15},{"$f":"IF(CO170>CO169,CO170,CO169)","v":96.5},"44 یا d1",null,null,null,null,null,null,null,null,null,null,null,null,null,null,null,null,null,{"$f":"BW118","v":18.292212144602942},{"$f":"BX118","v":154.35437113608901},"a2"," یقه چرخیده",null,{"$f":"DP184-DQ185","v":0.66071462171698014},{"$f":"DQ184","v":125.39467194628949},"a'11",null,{"$f":"DY179+(DZ169-DZ168)*COS(DZ173)","v":23.691600000000001},{"$f":"DZ179-(DZ169-DZ168)*SIN(DZ173)","v":62.580000000000013},"a''23",null,null,null,null,null,null,null,null,null,null,null,null,null,null,null,null,null,null,null,null,null,null,null,null,null,null,null,null,null,null,null,null,null,null,null,null,null,null,null,null,null,null,null,null,null,null,null,null,null,null,null,null,null,null,null,null,null,null,null,null,{"$f":"-EH151-GK101","v":-1.6810025422085317},{"$f":"EI151","v":141.60805476186675},"چرخیده30",null,null,null,null,null,{"$f":"-EP166-GK101","v":-6.9539691115406193},{"$f":"EQ166","v":100.5},39]
[null,null,null,null,"فاصله افقی بین دو نقطه 24 و 27 در بالاتنه پشت",null,{"$f":"0.5*H121-G155+G173-G163","v":13.40776},{"$f":"Y115-Y135+Y141-H163","v":12.999199999999998},null,null,null,null,null,null,null,null,null,null,null,null,null,null,null,null,null,null,null,null,null,null,null,null,null,null,null,null,null,null,null,null,null,null,null,null,null,null,null,null,null,null,null,{"$f":"AZ180-AX171","v":18.896469111540618},{"$f":"BA106","v":71.580000000000013},"شیفت53",null,null,null,null,null,null,null,null,null,null,null,null,{"$f":"BO170","v":39.087906522700877},{"$f":"BP170","v":107.99088584720475},"10شیفت",null,null,null,null,null,null,null,null,null,{"$f":"CB178*(CA175-CA176)+CA176","v":13.709187289232498},{"$f":"CB175","v":71.580000000000013},"5n",null,{"$f":"CF178*(CE175-CE176)+CE176","v":13.981616918862125},{"$f":"CF176","v":95.7},"5n",null,null,{"$f":"CI170+0.5*CJ171","v":34},{"$f":"CJ173+0.45*(CK179-CJ173)","v":123.97873349620993},"12f",null,null,null,null,null,null,null,"جادکمه یقه گرد در بالاتنه",null,null,null,null,null,null,null,null,null,null,null,null,null,null,null,null,null,null,null,null,null,{"$f":"BW121","v":8.2439092239108085},{"$f":"BX121","v":154.87431844543332},"a6"," یقه چرخیده",null,{"$f":"DP183-1.1*DQ185","v":-0.31471911183288559},{"$f":"DQ183","v":136.36934389257897},"e'3",null,{"$f":"DY163-DZ168*SIN(DZ175)","v":21.8416},{"$f":"DZ163-DZ168*COS(DZ175)","v":62.580000000000013},"a'26",null,null,null,null,null,null,null,null,null,null,null,null,null,null,null,null,null,null,null,null,null,null,null,null,null,null,null,null,null,null,null,null,null,null,null,null,null,null,null,null,null,null,null,null,null,null,null,null,null,null,null,null,null,null,null,null,null,null,null,null,{"$f":"-EH152-GK101","v":1.6594987288957324},{"$f":"EI152","v":137.41708606643653},"چرخیده28",null,null,null,null,null,{"$f":"-EP169-GK101","v":-7.6014691115406201},{"$f":"EQ169","v":118.23},43]
[null,null,null,null,"فاصله عمودی بین دو نقطه 24 و 27 در بالاتنه پشت",null,{"$f":"H127-AA130-AA136-SQRT(POWER(H125-H122+(O128-AD128)*H130+O127,2)-G173*G173)","v":4.489730586391012},{"$f":"I127-Y130-Y136-SQRT(POWER(I125-I122+(O128-AD128)*'متغیرها '!U82+P127,2)-H173*H173)","v":4.2715958465559645},null,null,null,null,null,null,null,null,null,null,null,null,null,null,null,null,null,null,null,null,null,null,null,null,null,null,null,null,null,null,null,null,null,null,null,null,null,null,null,null,null,null,null,null,null,null,null,{"$f":"BD180","v":32.230039999999995},{"$f":"BE180","v":72.371202973762905},"شیفت49'  …",null,null,null,null,null,null,null,null,{"$f":"BO184+0.5*(BO181-BO184)","v":38.68017326135044},{"$f":"BP184+0.65*(BP181-BP184)","v":103.97772242205023},null,null,null,null,null,null,null,null,null,null,{"$f":"CA184+CB179*0.4*(CA181-CA184)","v":8.7224061904008998},{"$f":"CB181+CB179*0.1*(CB184-CB181)","v":75.370176617715885},"6n",null,{"$f":"CE184+CF179*0.4*(CE181-CE184)","v":8.8640695978083048},{"$f":"CF181+CF179*0.1*(CF184-CF181)","v":98.079156617715867},"6n",null,null,{"$f":"CI173-0.9*(CI173-CJ181)","v":34.59295628954375},{"$f":"CJ173+0.25*(CK179-CJ173)","v":119.69743671726715},"16f",null,null,null,null,null,{"$f":"CN157","v":5},{"$f":"CO157","v":95.7},"d4",null,{"$f":"IF(CO170>CO169,CN170,CN169)","v":15},{"$f":"IF(CO170>CO169,CO170,CO169)","v":96.5},"44 یا d1",null,null,null,null,null,null,null,null,null,null,null,null,null,null,null,null,null,{"$f":"BW122","v":2.6378693888902234},{"$f":"BX122","v":145.62183116900616},"a8"," یقه چرخیده",null,{"$f":"DP182-1.1*DQ185","v":2.0878693888902236},{"$f":"DQ182","v":145.62183116900616},"a'8",null,{"$f":"DY181+DZ170*COS(DZ175)","v":45.559914850575126},{"$f":"DZ181-DZ170*SIN(DZ175)","v":62.580000000000013},"a''8",null,null,null,null,null,null,null,null,null,null,null,null,null,null,null,null,null,null,null,null,null,null,null,null,null,null,null,null,null,null,null,null,null,null,null,null,null,null,null,null,null,null,null,null,null,null,null,null,null,null,null,null,null,null,null,null,null,null,null,null,{"$f":"-EH153-GK101","v":4.9999999999999982},{"$f":"EI153","v":136.36934389257897},"چرخیده26"]
[null,null,null,null,null,null,null,null,null,null,null,null,null,null,null,null,null,null,null,null,null,null,null,null,null,null,null,null,null,null,null,null,null,null,null,null,null,null,null,null,null,null,null,null,null,null,null,null,null,null,null,null,null,null,null,{"$f":"BD186+0.8*(BD182-BD186)","v":29.507035999999996},{"$f":"BE186+0.9*(BE182-BE186)","v":72.292082676386613},"شیفت50'''",null,null,null,null,null,null,null,null,{"$f":"BO184+0.15*(BO181-BO184)","v":38.394759978405133},{"$f":"BP184+0.3*(BP181-BP184)","v":99.964558996895718},null,null,null,null,null,null,null,null,null,null,{"$f":"CA184+CB179*0.15*(CA181-CA184)","v":5.3459398214003375},{"$f":"CB181+CB179*0.3*(CB184-CB181)","v":82.950529853147629},"7n",null,{"$f":"CE184+CF179*0.15*(CE181-CE184)","v":5.3990635991781151},{"$f":"CF181+CF179*0.3*(CF184-CF181)","v":102.83746985314761},"7n",null,null,{"$f":"CI173-0.55*(CI173-CJ181)","v":36.668303302946882},{"$f":"CJ173+0.09*(CK179-CJ173)","v":116.27239929411293},"14f",null,null,null,null,null,{"$f":"CN161","v":3.3200600000000002},{"$f":"CO161","v":95.7},"26''",null,{"$f":"BK167","v":15},{"$f":"BL167","v":128.44999999999999},45,null,null,null,null,null,null,null,null,null,null,null,null,null,null,null,null,null,{"$f":"BW115","v":0.23528088816711445},{"$f":"BX115","v":136.36934389257897},"e3"," یقه چرخیده",null,{"$f":"DP181-1.2*DQ185","v":7.6439092239108088},{"$f":"DQ181","v":154.87431844543332},"a'6",null,{"$f":"DY166+0.7*DZ168*COS(DZ173)","v":30.491600000000002},{"$f":"DZ166+0.7*DZ168*SIN(DZ173)","v":59.3},"a'21"]
[null,null,null,null,null,null,null,null,null,null,null,null,null,null,null,null,null,null,null,null,null,null,null,null,null,null,null,null,null,null,null,null,null,null,null,null,null,null,null,null,null,null,null,null,null,null,null,null,null,null,null,null,null,null,null,{"$f":"BD186+0.55*(BD182-BD186)","v":26.103280999999996},{"$f":"BE186+0.55*(BE182-BE186)","v":72.015161635569598},"شیفت50''",null,null,null,null,null,null,null,null,{"$f":"BK162","v":38.272440000000003},{"$f":"BL162","v":96.524704632477565},"شیفت36",null,null,null,null,null,null,null,null,null,{"$f":"CA176","v":3.3200600000000002},{"$f":"CB176+CB177*(CB174-CB176)","v":100.73520475166055},"8n",null,{"$f":"CE176","v":3.3200600000000002},{"$f":"CF176+CF177*(CF174-CF176)","v":114.00120475166054},"8n",null,null,null,null,null,null,null,null,null,null,null,null,null,null,null,null,null,null,null,null,null,null,null,null,null,null,null,null,null,null,null,null,null,null,{"$f":"BW123","v":1.1607146217169801},{"$f":"BX123","v":125.39467194628949},"a11"," یقه چرخیده",null,{"$f":"DP179-COS(ATAN((DQ179-DQ180)/(DP180-DP179)))*1.2*DQ185","v":12.780823470520851},{"$f":"DQ179+SIN(ATAN((DQ179-DQ180)/(DP180-DP179)))*1.2*DQ185","v":160.55109716664882},"a'4",null,{"$f":"DY160+DZ168*COS(DZ173)","v":31.691600000000001},{"$f":"DZ160+DZ168*SIN(DZ173)","v":66.580000000000013},"a''13"]
[null,null,null,null,"زاویه کج شدن جلو دامن در قسمت کمر","α12",{"$f":"0.3*ATAN((H105-H104)/K124)","v":9.4169035462054757E-3},{"$f":"0.3*ATAN((I105-'متغیرها '!U56)/L124)","v":9.9417522016919772E-3},null,null,null,null,null,null,null,null,null,null,null,null,null,null,null,null,null,null,null,null,null,null,null,null,null,null,null,null,null,null,null,null,null,null,null,null,null,null,null,null,null,null,null,null,null,null,null,{"$f":"BD186+0.3*(BD182-BD186)","v":22.699525999999999},{"$f":"BE186+0.2*(BE182-BE186)","v":71.738240594752597},"شیفت50'",null,null,null,null,null,null,null,null,null,null,"جداسازی قسمت پهلو",null,null,null,null,null,null,null,null,null," انحنا لبه پیراهن بدون ترک روی خط مرکزی جلو",null,null,null,null,null,null,null,null,null,null,null,null,null,null,null,null,{"$f":"CN161","v":3.3200600000000002},{"$f":"CO161","v":95.7},"26''",null,{"$f":"BK167","v":15},{"$f":"BL167","v":128.44999999999999},45,null,null,null,null,null,null,null,null,null,null,null,null,null,null,null,null,null,null,{"$f":"'متغیرها '!C176","v":0.5},"a'0",null,null,null,null,null,null,{"$f":"DY163+DZ168*SIN(DZ175)","v":21.8416},{"$f":"DZ163+DZ168*COS(DZ175)","v":70.580000000000013},"a''26"]
[null,null,null,null,"زاویه کج شدن پشت دامن در قسمت کمر","α13",{"$f":"0.3*ATAN((H106-H105)/AA127)","v":1.2806332277386451E-2},{"$f":"0.3*ATAN(('متغیرها '!U58-I105)/Y127)","v":1.3690522550061901E-2},null,null,null,null,null,null,null,null,null,null,null,null,null,null,null,null,null,null,null,null,null,null,null,null,null,null,null,null,null,null,null,null,null,null,null,null,null,null,null,null,null,null,null,null,null,null,null,{"$f":"AX167+AX99+'متغیرها '!C55","v":18.615019999999998},{"$f":"0+AX98","v":71.580000000000013},"شیفت50",null,null,null,null,null,null,null,null,{"$f":"BK159","v":26.7666},{"$f":"BL159","v":96.5},34,null,null,null,null,null,null,null,null,null,"نقاط  ورودی",null,null,null,null,null,null,null,null,null,null,null,null,null,null,null,null,{"$f":"BS112","v":3.3200600000000002},{"$f":"BT112","v":120.2},"4'",null,{"$f":"CE108","v":15.000000000000002},{"$f":"CF108","v":136.41391319447115},24]
[null,null,null,null,null,null,null,null,null,null,null,null,null,null,null,null,null,null,null,null,null,null,null,null,null,null,null,null,null,null,null,null,null,null,null,null,null,null,null,null,null,null,null,null,null,null,null,null,null,null,null,null,null,null,null,{"$f":"AZ106","v":5},{"$f":"BA106","v":71.580000000000013},1,null,null,null,null,null,null,null,null,{"$f":"BI168+BI98","v":27.691600000000001},{"$f":"BL155","v":79.400000000000006},"38'",null,null,null,null,null,null,null,null,null,"مولفه افقی","مولفه عمودی","اسم نقطه "]
[null,null,null,null,null,null,null,null,null,null,null,null,null,null,null,null,null,null,null,null,null,null,null,null,null,null,null,null,null,null,null,null,null,null,null,null,null,null,null,null,null,null,null,null,null,null,null,null,null,null,null,null,null,null,null,null,null,null,null,null,null,null,null,null,null,null,{"$f":"BI168+BI98+BI169","v":27.691600000000001},{"$f":"BL168","v":66.580000000000013},49,null,null,null,null,null,null,null,null,null,{"$f":"BD153","v":35.894694877454754},{"$f":"BE153","v":72.371202973762905},"7شیفت",null,null,null,null,null,null,null,null,null,null,null,null,null,null,{"$f":"BS112","v":3.3200600000000002},{"$f":"BT112","v":120.2},"4'",null,null,null,"جادکمه یقه پشت گردنی یا آرشال در بالاتنه"]
[null,null,null,null,null,null,null,null,null,null,null,null,null,null,null,null,null,null,null,null,null,null,null,null,null,null,null,null,null,null,null,null,null,null,null,null,null,null,null,null,null,null,null,null,null,null,null,null,null,null,null,null,null,null,null,{"$f":"BD117","v":19.425736756156869},{"$f":"BE117","v":120.08757592151784}," شیفت b",null,null,null,null,null,null,null,null,null,null,null,null,null,null,null,null,null,null,null,null,"نقاط  محاسبه شده",null,null,null,null,null,null,null,null,null,null,null,null,null,null,null,null,{"$f":"BS104","v":17.60146911154062},{"$f":"BT104","v":120.2},{"$f":"BU104","v":"5 بالاتنه"},null,{"$f":"CN157","v":5},{"$f":"CO157","v":95.7},"d4"]
[null,null,null,null,null,null,null,null,null,null,null,null,null,null,null,null,null,null,null,null,null,null,null,null,null,null,null,null,null,null,null,null,null,null,null,null,null,null,null,null,null,null,null,null,null,null,null,null,null,null,null,null,null,null,null,{"$f":"AN119+'متغیرها '!C55+AX99","v":17.60146911154062},{"$f":"BA165+AO119","v":120.2},"5 شیفت بالاتنه",null,null,null,null,null,null,null,null,{"$f":"BK180","v":26.7666},{"$f":"BL180","v":96.5},"35 شیفت",null,null,null,null,null,null,null,null,null,{"$f":"CA176","v":3.3200600000000002},{"$f":"CB176+CB177*(CB174-CB176)","v":100.73520475166055},"8n'",null,null,null,null,null,null,null,null,null,null,null,null,null,null,null,null,null,null,{"$f":"CN161","v":3.3200600000000002},{"$f":"CO161","v":95.7},"26''"]
[null,null,null,null,null,null,null,null,null,null,null,null,null,null,null,null,null,null,null,null,null,null,null,null,null,null,null,null,null,null,null,null,null,null,null,null,null,null,null,null,null,null,null,null,null,null,null,null,null,null,null,null,null,null,null,{"$f":"AZ179","v":18.248969111540617},{"$f":"BA179","v":100.5},"40شیفت",null,null,null,null,null,null,null,null,{"$f":"BK155+BI155-BI168+'متغیرها '!C56","v":25.8416},{"$f":"BP187+'متغیرها '!C57","v":79.400000000000006},"38'' شیفت",null,null,null,null,null,null,null,null,null,{"$f":"CA190+CB179*0.15*(CA193-CA190)","v":8.4017030408829427},{"$f":"CB193+0.3*CB179*(CB190-CB193)","v":83.433163667142992},"7n'",null,null,null,null,null,null,null,null,null,null,null,null,null,null,{"$f":"BS104","v":17.60146911154062},{"$f":"BT104","v":120.2},{"$f":"BU106","v":30}]
[null,null,null,null,null,null,null,null,null,null,null,null,null,null,null,null,null,null,null,null,null,null,null,null,null,null,null,null,null,null,null,null,null,null,null,null,null,null,null,null,null,null,null,null,null,null,null,null,null,null,null,null,null,null,null,null,null,null,null,null,null,null,null,null,null,null,{"$f":"BO191-BI170","v":25.8416},{"$f":"BL168+'متغیرها '!C57","v":66.580000000000013},"50 شیفت",null,null,null,null,null,null,null,null,null,{"$f":"CA190+CB179*0.4*(CA193-CA190)","v":16.871108109021179},{"$f":"CB193+0.08*CB179*(CB190-CB193)","v":75.321059158664255},"6n'",null,null,null,null,null,null,null,null,null,null,null,null,null,"چرخیده",{"$f":"BW112","v":3.3200600350105507},{"$f":"BX112","v":120.20099999999755},{"$f":"BY112","v":"4'"},null,{"$f":"CN161","v":3.3200600000000002},{"$f":"CO161","v":95.7},"26''"]
[null,null,null,null,null,null,null,null,null,null,null,null,null,null,null,null,null,null,null,null,null,null,null,null,null,null,null,null,null,null,null,null,null,null,null,null,null,null,null,null,null,null,null,null,null,null,null,null,null,null,null,null,null,null,null,{"$f":"AZ170","v":5},{"$f":"BA170","v":120.2},"خط سینه",null,null,null,null,null,null,null,null,null,null,null,null,null,null,null,null,null,null,null,null,{"$f":"CA176+CB178*(CA188-CA176)","v":29.379767901963806},{"$f":"CB188","v":72.371202973762905},"5n'",null,null,null,null,null,null,null,null,null,null,null,null,null,null,null,null,null,null,{"$f":"BS116","v":3.3200600000000002},{"$f":"BT116","v":114.42},"e1"]
[null,null,null,null,null,null,null,null,null,null,null,null,null,null,null,null,null,null,null,null,null,null,null,null,null,null,null,null,null,null,null,null,null,null,null,null,null,null,null,null,null,null,null,null,null,null,null,null,null,null,null,null,null,null,null,null,null,null,null,null,null,null,null,null,null,null,null,null,null,null,null,null,null,null,null,null,null,null,null,null,null,null,null,null,null,null,null,null,null,null,null,null,null,null,"چرخیده",{"$f":"BW112","v":3.3200600350105507},{"$f":"BX112","v":120.20099999999755},{"$f":"BY114","v":"e5"}]
[null,null,null,null,null,null,null,null,null,null,null,null,null,null,null,null,null,null,null,null,null,null,null,null,null,null,null,null,null,null,null,null,null,null,null,null,null,null,null,null,null,null,null,null,null,null,null,null,null,null,null,null,null,null,null,null,null,null,null,null,null,null,null,null,null,null,null,null,null,null,null,null,null,null,null,null,null,null,null,null,null,null,null,null,null,null,null,null,null,null,null,null,null,null,"چرخیده",{"$f":"BW110","v":3.3200599999999998},{"$f":"BX110","v":136.36934389257897},{"$f":"BY110","v":"26'"},null,{"$f":"BS116","v":3.3200600000000002},{"$f":"BT116","v":114.42},"e1"]
[null,null,null,null,null,null,null,null,null,null,null,null,null,null,null,null,null,null,null,null,null,null,null,null,null,null,null,null,null,null,null,null,null,null,null,null,null,null,null,null,null,null,null,null,null,null,null,null,null,null,null,null,null,null,null,null,null,null,null,null,null,null,null,null,null,null,null,null,null,null,null,null,null,null,null,null,null,null,null,null,null,null,null,null,null,null,null,null,null,null,null,null,null,null,null,null,null,null,null,{"$f":"BD150","v":5},{"$f":"BT116","v":114.42},"e'1"]
[null,null,null,null,null,null,null,null,null,null,null,null,null,null,null,null,null,null,null,null,null,null,null,null,null,null,null,null,null,null,null,null,null,null,null,null,null,null,null,null,null,null,null,null,null,null,null,null,null,null,null,null,null,null,null,null,null,null,null,null,null,null,null,null,null,null,null,null,null,null,null,null,null,null,null,null,null,null,null,null,null,null,null,null,null,null,null,null,null,null,null,null,null,null,"چرخیده",{"$f":"BW110","v":3.3200599999999998},{"$f":"BX110","v":136.36934389257897},{"$f":"BY112","v":"4'"}]
[null,null,null,null,null,null,null,null,null,null,null,null,null,null,null,null,null,null,null,null,null,null,null,null,null,null,null,null,null,null,null,null,null,null,null,null,null,null,null,null,null,null,null,null,null,null,null,null,null,null,null,null,null,null,null,null,null,null,null,null,null,null,null,null,null,null,null,null,null,null,null,null,null,null,null,null,null,null,null,null,null,null,null,null,null,null,null,null,null,null,null,null,null,null,"چرخیده",{"$f":"BW108","v":5.0000000000000018},{"$f":"BX108","v":136.36934389257897},{"$f":"BY108","v":26},null,{"$f":"BD150","v":5},{"$f":"BT116","v":114.42},"e'1"]
[null,null,null,null,null,null,null,null,null,null,null,null,null,null,null,null,null,null,null,null,null,null,null,null,null,null,null,null,null,null,null,null,null,null,null,null,null,null,null,null,null,null,null,null,null,null,null,null,null,null,null,null,null,null,null,null,null,null,null,null,null,null,null,null,null,null,null,null,null,null,null,null,null,null,null,null,null,null,null,null,null,null,null,null,null,null,null,null,null,null,null,null,null,null,null,null,null,null,null,{"$f":"CN157","v":5},{"$f":"CO157","v":95.7},"d4"]
[null,null,null,null,null,null,null,null,null,null,null,null,null,null,null,null,null,null,null,null,null,null,null,null,null,null,null,null,null,null,null,null,null,null,null,null,null,null,null,null,null,null,null,null,null,null,null,null,null,null,null,null,null,null,null,null,null,null,null,null,null,null,null,null,null,null,null,null,null,null,null,null,null,null,null,null,null,null,null,null,null,null,null,null,null,null,null,null,null,null,null,null,null,null,"چرخیده",{"$f":"BW108","v":5.0000000000000018},{"$f":"BX108","v":136.36934389257897},{"$f":"BY110","v":"26'"}]
[null,null,null,null,null,null,null,null,null,null,null,null,null,null,null,null,null,null,null,null,null,null,null,null,null,null,null,null,null,null,null,null,null,null,null,null,null,null,null,null,null,null,null,null,null,null,null,null,null,null,null,null,null,null,null,null,null,null,null,null,null,null,null,null,null,null,null,null,null,null,null,null,null,null,null,null,null,null,null,null,null,null,null,null,null,null,null,null,null,null,null,null,null,null,"چرخیده",{"$f":"BW111","v":5.0000000396779143},{"$f":"BX111","v":120.20099999999685},4]
[]
[null,null,null,null,null,null,null,null,null,null,null,null,null,null,null,null,null,null,null,null,null,null,null,null,null,null,null,null,null,null,null,null,null,null,null,null,null,null,null,null,null,null,null,null,null,null,null,null,null,null,null,null,null,null,null,null,null,null,null,null,null,null,null,null,null,null,null,null,null,null,null,null,null,null,null,null,null,null,null,null,null,null,null,null,null,null,null,null,null,null,null,null,null,null,null,{"$f":"BS111","v":5},{"$f":"BT111","v":120.2},4]
[null,null,null,null,null,null,null,null,null,null,null,null,null,null,null,null,null,null,null,null,null,null,null,null,null,null,null,null,null,null,null,null,null,null,null,null,null,null,null,null,null,null,null,null,null,null,null,null,null,null,null,null,null,null,null,null,null,null,null,null,null,null,null,null,null,null,null,null,null,null,null,null,null,null,null,null,null,null,null,null,null,null,null,null,null,null,null,null,null,null,null,null,null,null,null,{"$f":"CN157","v":5},{"$f":"CO157","v":95.7},"d4"]
[]
[]
[]
[]
[]
[]
[]
[]
[]
[]
[]
[]
[]
[]
[]
[]
[]
[]
[]
[]
[]
[]
[]
[]
[]
[]
[]
[]
[]
[]
[]
[]
[null,null,null,null,null,null,null,null,null,null,null,null,null,null,"یقه انگلیسی دوبل",null,null," یقه دلبری ",null,null,null,null,"جادکمه دلبری در پیراهن",null,null,null,"جادکمه دلبری در بالاتنه",null,"یقه پروانه ای در  جلو پیراهن بدون ساسون سرشانه    ( سرشانه دوبل ) ",null,null,null,null,null,null,null,null,null,null,null,null,null,"یقه پشت گردنی",null,null,null,null,null,null,null,"پیش بند حمام بچه یا انحنا پهلو",null,null,null,null,null,null,null,null,null,null,null,null,null,null,"دامن فون",null,null,null,null,null,null,null,null,null,null,null,null,null,null,null,null,"زاویه خط پهلو جلو ",{"$f":"ATAN((AZ172-AZ168-'متغیرها '!C55)/(BA168-BA172))","v":-7.7621508737393555E-2},null,"نقاط  ورودی جلو شورت",null,null,null,null,"نقاط خروجی فاق مایو یا شورت",null,null,null,"رسم فاق مایو یا شورت",null,null,null,"رسم فاق مایو یا شورت",null,null,null,"رسم پهلو مایو",null,null,"نقاط  ورودی پشت مایو پادار",null,null,null,"نقاط پشت ",null,null,null,null,null,"فاق و پهلو مایو پادار",null,null,null,"فاق و پهلو مایو پادار",null,null,"محاسبات",null,"نقاط پیش سینه رکابی جلو",null,null,null,"رسم پیش سینه رکابی جلو پیراهن",null,null,null,"محاسبات",null,null,null,null,null,null,"رسم پیش سینه رکابی پشت",null,null,null,"نقاط ورودی یقه دراپه جلو",null,null,null,"محاسبات طراحی یقه دراپه جلو",null,null,"انحنای حلقه آستین جلو برای دراپه",null,null,null,"نقاط ورودی یقه دراپه پشت",null,null,null,"رسم یقه دراپه",null,null,null,"شبیه ساز","شبیه ساز","نقاط  ورودی دراپه از پهلو",null,null,null,null,null,null,null,null,null,null,"رسم دراپه از پهلو- تکه چپ",null,null,null,"رسم دراپه از پهلو- تکه راست",null,null,null,null,null,null,null,"سوتین متصل به بالاتنه",null,null,null,null,null,null,null,null,null,null,null,null,null,null,null,null,null,null,null,null,null,null,null,null,null,null,null,null,null,null,null,null,null,null,null,null,null,null,null,"سوتین 6 تکه"]
[null,null,null,null,null,"یقه انگلیسی و آرشال و دوبل",null,null,null,null,null,null,null,null,"(19 → 19'')",{"$f":"(-(O250-H244*H124)*SIN(RADIANS(H242))*SIN(O244))/(COS(O244+O245+RADIANS(H242)))","v":1.4451377511080015},null,"مولفه عمودی 49'",{"$f":"S243+0.4*(S242-S243)","v":18.689999999999998},null,{"$f":"BD150","v":5},{"$f":"BE150","v":71.580000000000013},1,null,{"$f":"R252","v":5},{"$f":"S252","v":120.14676563115455},49,null,"نقاط  ورودی",null,null,null,"محاسبات",null,null,"متغیرهای خروجی سرشانه دوبل در  جلو پیراهن",null,null,"رسم",null,null,null,"نقاط  ورودی",null,null,null,null,null,"رسم",null,"نقاط  ورودی",null,null,null,null,"نقاط  ورودی",null,null,null,"جلو دامن فون",null,null,null,"رسم جلو دامن فون",null,{"$f":"GK101-2*BE262","v":-10},null,"رسم قرینه جلو دامن فون",null,null,"نقاط  ورودی",null,null,null,"پشت دامن فون",null,null,null,"رسم پشت دامن فون",null,null,null,"فاق جلو",{"$f":"CH280","v":25.117280167786717},null,"مولفه افقی","مولفه عمودی","اسم نقطه ",null,{"$f":"0+AX99","v":5},{"$f":"CF240+AX98","v":75.382719832213283},"m1",null,{"$f":"CL239","v":10.28},{"$f":"CM239","v":75.382719832213283},"m2",null,{"$f":"CL268","v":20.28},{"$f":"CM268","v":54.399276983751093},"m2",null,{"$f":"BO170","v":39.087906522700877},{"$f":"BP170","v":107.99088584720475},"شیفت 10",null,"مولفه افقی","مولفه عمودی","اسم نقطه ",null,"مولفه افقی","مولفه عمودی","اسم نقطه ",null,{"$f":"BO170-'متغیرها '!C56","v":39.087906522700877},{"$f":"BP170-'متغیرها '!C57","v":107.99088584720475},10,null,{"$f":"BS140","v":35.844145557703101},{"$f":"BT140","v":115.38738418849009},14,null,"(1 → p2)",{"$f":"(1-'متغیرها '!C428)*H124+H105-H114","v":59.579999999999984},null,{"$f":"0+AX99","v":5},{"$f":"DS238+AX98","v":131.16},"p2",null,{"$f":"0+AX99","v":5},{"$f":"DS238-DS239+AX98","v":125.21958742766127},"p26",null,"(1 → p2)",{"$f":"(1-'متغیرها '!C439)*H127+H105-H114","v":59.239999999999981},null,{"$f":"0+BI98","v":15},{"$f":"ED238+BI97","v":125.82},"p2",null,{"$f":"0+BI98","v":15},{"$f":"ED238-ED240+BI97","v":124.39733846273964},"p21",null,"مولفه افقی","مولفه عمودی","اسم نقطه ",null,"(32d → d9)",{"$f":"0.9*SQRT(POWER((EU256-EU264),2)+POWER((EV256-EV264),2))","v":28.519861187602288},"شیفت",{"$f":"EN239+'متغیرها '!C51","v":33.249929425595901},{"$f":"EO239+EO249+'متغیرها '!C52","v":140.04291609602075},{"$f":"EP239","v":22},null,"مولفه افقی","مولفه عمودی","اسم نقطه ",null,"انحنای حلقه آستین  برای دراپه",null,null,null,"مولفه افقی","مولفه عمودی","مولفه افقی","مولفه عمودی","اسم نقطه ",null,"محاسبات دراپه از پهلو",null,null,null,null,null,null,null,null,"نقاط ورودی از بالاتنه جناقی",null,null,null,"نقاط ورودی از بالاتنه جناقی",null,"نقاط ورودی",null,null,null,"محاسبات ",null,null,"نقاط خروجی",null,null,null,"نقاط خروجی",null,null,null,"رسم جدید کاسه",null,null,null,"رسم قدیمی کاسه",null,null,null,null,null,"پایه سوتین روی جلو لباس ",null,"رسم قرینه کاسه جدید",null,null,null,null,"محاسبه c20 به روش تخمین",null,null,null,null,null,null,null,"نقاط ورودی",null,null,null,"متغیرهای ورودی",null,null,"محاسبات ",null,null,"نقاط خروجی",null,null,null,"رسم تکه پشت سوتین",null,null,null,"رسم کاسه یک تکه زیرین در سوتین 6 تکه",null,null,null,"قرینه کاسه یک تکه زیرین در سوتین 6 تکه",null,null,null,"رسم تکه جلو مرکزی",null,null,null,"قرینه"]
[null,null,null,null,null,null,null,null,null,"رسم یقه دوبل در جلو ",null,null,null,null,"(19'' → 19')",{"$f":"(-(O250-H244*H124)*SIN(RADIANS(H242))*COS(O244))/(COS(O244+O245+RADIANS(H242)))","v":6.2758999675686962},null,"مولفه افقی 49'",{"$f":"0.4*S244","v":3.3405012711042654},null,{"$f":"R252","v":5},{"$f":"S252","v":120.14676563115455},49,null,{"$f":"Y242","v":3.3200600000000002},{"$f":"Z238","v":120.14676563115455},"49''",null,"مولفه افقی","مولفه عمودی","اسم نقطه ",null,"ζ2",{"$f":"ATAN((AC240-AC241)/(AD240-AD241))","v":-6.8755461059627709E-2},null,"(1 → b1)",{"$f":"AD240-AD244+'متغیرها '!C385*AH254*COS(2*AD245-AH252)","v":79.130932929175529},null,{"$f":"AK240+AC244","v":27.684339572183557},{"$f":"AK239+AD244","v":150.71093292917556},"b2",null,"مولفه افقی","مولفه عمودی","اسم نقطه ",null,{"$f":"AQ240","v":13.351253177760661},146.84676563115454,{"$f":"AS240","v":25},null,"مولفه افقی","مولفه عمودی","اسم نقطه ",null,null,"مولفه افقی","مولفه عمودی","اسم نقطه ",null,"(1 → 2)",{"$f":"BE255","v":24.11999999999999},null,"انحنا پایین",null,null,null,"انحنا پایین",null,null,null,"مولفه افقی","مولفه عمودی","اسم نقطه ",null,"(1 → 2)",{"$f":"BT256","v":25.11999999999999},null,"انحنا پایین",null,null,null,null,"متغیرهای خروجی مایو در  جلو پیراهن",null,null,{"$f":"AZ165","v":5},{"$f":"BA165","v":100.5},38,null,{"$f":"CF241+AX99","v":10.28},{"$f":"CF240+AX98","v":75.382719832213283},"m2",null,{"$f":"CL247","v":11.8287528},{"$f":"CM247","v":79.133767890938628},"m10",null,{"$f":"CL276","v":22.958558156988868},{"$f":"CM276","v":60.475333152491984},"m10",null,{"$f":"BK162","v":38.272440000000003},{"$f":"BL162","v":96.524704632477565},"شیفت 36",null,{"$f":"BK170","v":15},{"$f":"BL170","v":79.400000000000006},48,null,{"$f":"DB239","v":15},{"$f":"DC239-DC259+DG275","v":66.128797026237123},"p9",null,{"$f":"DB240","v":38.272440000000003},{"$f":"DC240","v":96.524704632477565},36,null,{"$f":"DB258","v":33.525039999999997},{"$f":"DC258","v":103.92120297376289},41,null,"(p2→ p26)",{"$f":"'متغیرها '!C430*G165","v":5.940412572338726},null,{"$f":"DS240+AX99","v":16.25712},{"$f":"DS238+AX98","v":131.16},"p25",null,{"$f":"DU241","v":9.5028480000000002},{"$f":"DV241","v":125.81362868489515},"p28",null,"(p2→ p20)",{"$f":"'متغیرها '!C442*G163","v":9.6489600000000006},null,{"$f":"ED239+BI98","v":24.648960000000002},{"$f":"ED238+BI97","v":125.82},"p20",null,{"$f":"EF241","v":18.859584000000002},{"$f":"EG241","v":124.53960461646568},"p23",null,{"$f":"AZ134-'متغیرها '!C51","v":28.249929425595901},{"$f":"BA134-'متغیرها '!C52","v":135.04291609602075},22,null,"αd",{"$f":"ASIN((ES242-EN242)/ES238)","v":0.29717725764187325},"شیفت",{"$f":"EN251+'متغیرها '!C51","v":30.651785035248011},{"$f":"EO251+EO249+'متغیرها '!C52","v":134.09321014225543},{"$f":"EP251","v":24},null,{"$f":"BK140-'متغیرها '!C56-'متغیرها '!C53","v":20.642264270707003},{"$f":"BL140-'متغیرها '!C57-'متغیرها '!C54","v":135.02250374702837},18,"شیفت",{"$f":"EY239+'متغیرها '!C53","v":35.642264270707003},{"$f":"EZ239+EZ249+'متغیرها '!C54","v":135.02250374702837},{"$f":"FA239","v":18},null,{"$f":"BK385","v":13.040800000000001},{"$f":"BL385","v":146.9},{"$f":"AZ140","v":13.351253177760663},{"$f":"BA140","v":146.84676563115454},25,null,"αdp1",{"$f":"ATAN((FI240-FI241)/(FJ240-FJ241))","v":0.1444039718248929},null,null,null,null,null,{"$f":"FQ262","v":-22.778373333333327},{"$f":"FR262","v":94.321202973762894},"dp'5",null,{"$f":"CR179","v":35.844145557703101},{"$f":"CS179","v":115.38738418849009},{"$f":"CT179","v":"شیفت 14"},null,"مولفه افقی","مولفه عمودی","اسم نقطه ",null,"c1",{"$f":"GC247*(1+GD263)","v":0.19638514850278327},null,"مولفه افقی","مولفه عمودی","اسم نقطه ",null,"مولفه افقی","مولفه عمودی","اسم نقطه ",null,"مولفه افقی","مولفه عمودی","اسم نقطه ",null,"مولفه افقی","مولفه عمودی","اسم نقطه ",null,{"$f":"GI252","v":5},{"$f":"GJ252","v":120.86895434192765},"a13",null,"مولفه افقی","مولفه عمودی","اسم نقطه ",null,null," درجه c20"," رادیان c20","xa40","ya40","c21","c'17",null,null,"مولفه افقی","مولفه عمودی","اسم نقطه ",null,"d1",{"$f":"'متغیرها '!C484","v":0.5},null,"f1",{"$f":"HT258","v":19.7},null,"مولفه افقی","مولفه عمودی","اسم نقطه ",null,"مولفه افقی","مولفه عمودی","اسم نقطه ",null,"مولفه افقی","مولفه عمودی","اسم نقطه ",null,"مولفه افقی","مولفه عمودی","اسم نقطه ",null,"مولفه افقی","مولفه عمودی","اسم نقطه ",null,"مولفه افقی","مولفه عمودی","اسم نقطه ",null,null,"پروسیجر یافتن راس سوم مثلث با داشتن دو راس و دو ضلع"]
[null,null,null,null,null,"متغیرهای ورودی- یقه انگلیسی",null,null,null,{"$f":"J245","v":11.995530171826225},{"$f":"K245","v":141.44270341296786},"e5",null,null,"(19→ 19')",{"$f":"SQRT(P238*P238+P239*P239)","v":6.4401353652393247},null,"مولفه عمودی 51'",{"$f":"0.5*S243","v":6.6749999999999998},null,null,null,null,null,null,null,null,null,{"$f":"CI117","v":24.254696527337614},{"$f":"CJ117","v":143.73265925554304},"22f",null,"زاویه (25 - 22f - f24)",{"$f":"AD245+RADIANS(90)-AH239","v":1.9177528176482221},null,"(b1 → b2)",{"$f":"AC240-AC244+'متغیرها '!C385*AH254*SIN(2*AD245-AH252)","v":22.684339572183557},null,{"$f":"AC240","v":24.254696527337614},{"$f":"AD240","v":143.73265925554304},{"$f":"AE240","v":"22f"},null,{"$f":"BW105","v":13.351253177760661},{"$f":"BX105","v":146.84676563115454},25,"انتهای سرشانه",15.327636764497575,150.60056838362178,{"$f":"AS241","v":"a13"},null,{"$f":"BO170-AZ243-AZ245","v":24.087906522700877},{"$f":"BP170-AZ244-AZ246","v":107.99088584720475},10,null,null,{"$f":"J338","v":5},{"$f":"K338","v":95.7},"d4",null,"(2 → 31)",{"$f":"BE258*(1+'متغیرها '!C320)","v":5.1929987085680596},null,{"$f":"BI242+BK268","v":10.192998708568059},{"$f":"0+BE260","v":71.580000000000013},3,null,{"$f":"-BK240-BN238","v":-0.19299870856805867},{"$f":"BL240","v":71.580000000000013},3,null,{"$f":"J310","v":15},{"$f":"K310","v":91.7},"d1",null,"(2 → 31)",{"$f":"BT259*(1+'متغیرها '!C320)","v":5.2643912230530621},null,{"$f":"BX242+BZ262","v":20.26439122305306},{"$f":"0+BT261","v":66.580000000000013},3,null,null,"(1 → m1)",{"$f":"H104-H114-CF238","v":3.8027198322132705},null,{"$f":"AZ113","v":35.844145557703101},{"$f":"BA113","v":119.86926418849009},12,null,{"$f":"0+AX99","v":5},{"$f":"CF242+AX98","v":86.1},"m3",null,{"$f":"CL245","v":16.475011200000001},{"$f":"CM245","v":83.420679958053313},"m8",null,{"$f":"CL274","v":28.092461291217532},{"$f":"CM274","v":65.336178087484711},"m8",null,{"$f":"CL270","v":42.601317974907232},{"$f":"CM270","v":78.703501658714671},"m4",null,{"$f":"BK162-DC283","v":38.272440000000003},{"$f":"BL162-DC284","v":96.524704632477565},36,null,{"$f":"DF239+0.1*H132","v":17.137799999999999},{"$f":"DG239-0.05*H132","v":65.059897026237124},"p10",null,{"$f":"DB241","v":42.32244},{"$f":"DC241","v":79.87470463247756},42,null,{"$f":"DB259","v":32.230039999999995},{"$f":"DC259","v":87.271202973762882},45,null,"(p2 → p25)",{"$f":"'متغیرها '!C431*G163","v":11.25712},null,{"$f":"DS247+AX99","v":9.5028480000000002},{"$f":"DS238+AX98","v":131.16},"p27",null,{"$f":"DU243","v":14.005696},{"$f":"DV243","v":128.18979371383062},"p30",null,"(p2 → p21)",{"$f":"'متغیرها '!C441*G166","v":1.4226615372603557},null,{"$f":"ED247+BI98","v":18.859584000000002},{"$f":"ED238+BI97","v":125.82},"p22",null,{"$f":"EF243","v":22.236719999999998},{"$f":"EG243","v":124.96640307764378},"p25",null,{"$f":"AZ136-'متغیرها '!C51","v":23.841769503972678},{"$f":"BA136-'متغیرها '!C52","v":138.08286385513222},34,null,"xd9",{"$f":"EN242","v":0},"شیفت",{"$f":"EN252+'متغیرها '!C51","v":29.538294582241775},{"$f":"EO252+EO249+'متغیرها '!C52","v":128.14350418849008},16,null,{"$f":"BK146-'متغیرها '!C56-'متغیرها '!C53","v":15.85129361203964},{"$f":"BL146-'متغیرها '!C57-'متغیرها '!C54","v":137.41410497225814},32,"شیفت",{"$f":"EY251+'متغیرها '!C53","v":35.042555899094573},{"$f":"EZ251+EZ249+'متغیرها '!C54","v":129.37423969210775},{"$f":"FA251","v":20},null,{"$f":"BK395","v":34.9},{"$f":"BL395","v":121.742314084874},{"$f":"AZ113","v":35.844145557703101},{"$f":"BA113","v":119.86926418849009},12,null,"αdp2",{"$f":"ATAN((FI243-FI244)/(FJ243-FJ244))","v":3.6503799809183057E-2},null,null,null,null,null,{"$f":"FQ263","v":24.42136345554907},{"$f":"FR263","v":67.070422233022157},"dp6",null,{"$f":"CR176","v":33.525039999999997},{"$f":"CS176","v":103.92120297376289},{"$f":"CT176","v":" شیفت41 یا d3"},null,{"$f":"BS111","v":5},{"$f":"BT111","v":120.2},4,null,"c2",{"$f":"GD251*GG239","v":-5.8915544550834947E-2},null,{"$f":"GB240","v":5},{"$f":"GC240","v":120.2},"a1",null,{"$f":"GI246+2*SIN(GG250)","v":32.73047999073777},{"$f":"GJ246+2*COS(GG250)","v":118.80175632162923},"a36",null,null,null,"کاسه بالا",null,null,null,"کاسه بالا",null,{"$f":"GI253","v":6.2601469111540613},{"$f":"GJ253","v":120.86895434192765},"a14",null,null,null,"قرینه کاسه بالا",null,null,1,{"$f":"RADIANS(HH240)","v":1.7453292519943295E-2},{"$f":"GI247+GG254*SIN(GG257+HI240)","v":18.002305972680848},{"$f":"GJ247+GG254*COS(GG257+HI240)","v":122.79428212531215},{"$f":"ATAN((HK240-GJ242)/(HJ240-GI242))","v":0.16252092889946659},{"$f":"(HJ240-GI242)/COS(HL240)","v":11.898957370276939},null,null,{"$f":"GI250","v":13.809278427687049},118.35618887438309,"a11",null,"d2",{"$f":"'متغیرها '!C478","v":20},null,"f2",{"$f":"HT259","v":0.31747893816869005},null,{"$f":"HZ242","v":5},{"$f":"IA242-(1-HU239)*HX239","v":111.01895434192765},"e1",null,null,null,null,null,{"$f":"HZ287","v":6.2601469111540613},120.86895434192765,"e48",null,{"$f":"-HZ287+HT270","v":3.7398530888459387},{"$f":"IA287","v":120.86895434192765},"e48",null,{"$f":"HZ240","v":5},{"$f":"IA240","v":111.01895434192765},"e1",null,{"$f":"-HZ240+HT270","v":5},{"$f":"IA240","v":111.01895434192765},"e1",null,null,null,null,"اطلاعات ورودی"]
[null,null,null,null,null,"γ10","(90º - 180º)",{"$f":"'متغیرها '!C171","v":160},null,{"$f":"P242+AX147+AX99","v":10.550392420718223},{"$f":"G273+AX98-P241","v":135.16680344539915},"d2",null,null,"(e4 → d1)",{"$f":"P240*COS(O244)","v":6.2758999675686962},null,"مولفه افقی 51'",{"$f":"0.93*S244+0.4*(AX128-S244)","v":7.7666654553174173},null,{"$f":"R252","v":5},{"$f":"S252","v":120.14676563115455},49,null,{"$f":"Y239","v":3.3200600000000002},{"$f":"Z239","v":120.14676563115455},"49''",null,{"$f":"CI118","v":24.654976297485689},{"$f":"CJ118","v":137.92004719817979},"24f",null,"(22f → 24f)",{"$f":"SQRT(POWER((AC240-AC241),2)+POWER((AD240-AD241),2))","v":5.8263781909342676},null,"(1 → b3)",{"$f":"AD242-AD244+0.85*(AK239-AD242+AD244)","v":77.136855899764669},null,null,null,"انحنا",null,{"$f":"BW119","v":15.327636764497575},{"$f":"BX119","v":150.60056838362178},"a13","از یقه آرشال",18.292212144602942,154.35437113608901,{"$f":"AS242","v":"a2"},null,{"$f":"BK168-AZ245","v":0},{"$f":"BL168-AZ246","v":66.580000000000013},1,null,null,{"$f":"J340","v":16.647006148577656},{"$f":"K340","v":92.82},"d5",null,"(31 →4)",{"$f":"BE257*SIN(BE259)","v":-0.9595714537547595},null,{"$f":"BI242+BI243+BK268","v":11.351147222474768},{"$f":"BI244+BE260","v":71.608959746379583},6,null,{"$f":"-BK241-BN238","v":-1.3511472224747685},71.608959746379583,6,null,{"$f":"J312","v":27.182038596491228},{"$f":"K312","v":88.82},"d2",null,"(31 →4)",{"$f":"BT258*SIN(BT260)","v":-0.96103759430801028},null,{"$f":"BX242+BX243+BZ262","v":21.472867693458227},{"$f":"BX244+BT261","v":66.610218207482362},6,null,null,"(m1 → m2)",{"$f":"0.18*'متغیرها '!U84+'متغیرها '!C419*'متغیرها '!C417","v":5.2799999999999994},null,{"$f":"AZ168","v":33.525039999999997},{"$f":"BA168","v":103.92120297376289},41,null,{"$f":"CF243+AX99","v":32.40504},{"$f":"CF242+AX98","v":86.1},"m4",null,{"$f":"CL243","v":24.661276000000001},{"$f":"CM243","v":85.88565439664427},"m6",null,{"$f":"CL272","v":37.020988481180432},{"$f":"CM272","v":71.412234256225588},"m6",null,null,null,null,null,{"$f":"BK165-DC283","v":42.32244},{"$f":"BL165-DC284","v":79.87470463247756},42,null,{"$f":"DF242","v":12.57704098312473},{"$f":"DG242+'متغیرها '!C409*(DG275-DG278)","v":67.064000000000007},"p11",null,{"$f":"DF243","v":41.159304059732627},{"$f":"DG243","v":67.064000000000007},"p13",null,{"$f":"DF279","v":30.857237622711477},{"$f":"DG279","v":72.064000000000007},"p7",null,"(12 →p15)",{"$f":"'متغیرها '!C429*(G156+'متغیرها '!C61*H120)","v":12.111911999999995},null,{"$f":"DS247+AX99","v":9.5028480000000002},{"$f":"DS238-DS248+AX98","v":125.81362868489515},"p28",null,{"$f":"DU239","v":16.25712},{"$f":"DV239","v":131.16},"p25",null,"(8→p10)",{"$f":"'متغیرها '!C440*(G155+'متغیرها '!C61*H120)","v":12.200344000000007},null,{"$f":"ED247+BI98","v":18.859584000000002},{"$f":"ED238-ED248+BI97","v":124.53960461646568},"p23",null,{"$f":"EF239","v":24.648960000000002},{"$f":"EG239","v":125.82},"p20",null,{"$f":"AZ138-'متغیرها '!C51","v":14.249863555213253},{"$f":"BA138-'متغیرها '!C52","v":140.83531262309054},32,null,"yd9",{"$f":"ES243-ES238*COS(ES239)","v":114.57701952817357},"شیفت",{"$f":"EN253+'متغیرها '!C51","v":30.799464777334041},{"$f":"EO253+EO249+'متغیرها '!C52","v":123.17896018849009},20,null,{"$f":"BO161-'متغیرها '!C53","v":14.193225623847461},{"$f":"BP161-'متغیرها '!C54","v":137.7458624935949},30,"شیفت",{"$f":"EY252+'متغیرها '!C53","v":34.785538025546387},{"$f":"EZ252+EZ249+'متغیرها '!C54","v":122.47080584720476},{"$f":"FA252","v":12},null,{"$f":"BG395","v":32.494999999999997},{"$f":"BH395","v":103.92120297376289},{"$f":"AZ168","v":33.525039999999997},{"$f":"BA168","v":103.92120297376289},41,null,"αdp3",{"$f":"IF('متغیرها '!C125=0,ATAN((FI245-FI244)/(FJ244-FJ245)),ATAN((FI247-FI244)/(FJ244-FJ247)))","v":3.9947872191616544E-2},null,null,null,null,null,null,null,"انحنا",null,null,null,null,null,{"$f":"BS104","v":17.60146911154062},{"$f":"BT104","v":120.2},5,"بدون شیفت","c3",{"$f":"(GI241-GI240)*GD253/COS(GG240)","v":11.361033807033797},null,{"$f":"GB241","v":17.60146911154062},{"$f":"GC241","v":120.2},"a2",null,{"$f":"GI256+(GI273-GI256)*(0.5+GD262)","v":27.229636628382146},{"$f":"GJ273+(GJ256-GJ273)*(0.5+GD262)","v":125.49003703524946},"a37",null,{"$f":"GI256","v":22.642056756156865},{"$f":"GJ256+GD267","v":126.875},"a17",null,{"$f":"GI256","v":22.642056756156865},{"$f":"GJ256+GD267","v":126.875},"a17",null,null,null,null,null,{"$f":"-GI256+GC249","v":-12.642056756156865},{"$f":"GJ256+GD267","v":126.875},"a17",null,null,2,{"$f":"RADIANS(HH241)","v":3.4906585039886591E-2},{"$f":"GI247+GG254*SIN(GG257+HI241)","v":18.179607691661804},{"$f":"GJ247+GG254*COS(GG257+HI241)","v":122.77443744227682},{"$f":"ATAN((HK241-GJ242)/(HJ241-GI242))","v":0.15852187054489233},{"$f":"(HJ241-GI242)/COS(HL241)","v":12.070808222475351},null,null,13.809278427687049,118.35618887438309,"a12",null,"d3",{"$f":"'متغیرها '!C479","v":1.5},null,"f3",{"$f":"ATAN((HZ247-HZ246)/(IA247-IA246))","v":0.58800260354756839},null,{"$f":"HZ243-0.05*(IA243-IA241)-0.15*(HZ243-HZ242)","v":5.5786248744809521},{"$f":"IA240","v":111.01895434192765},"e2",null,{"$f":"HZ278","v":38.935607471417576},{"$f":"IA278","v":103.96481621386422},"e39",null,11.703522032300938,122.46911937530713,"e49",null,{"$f":"-HZ288+HT270","v":-1.7035220323009383},{"$f":"IA288","v":122.46911937530713},"e49",null,{"$f":"HZ244","v":5},{"$f":"IA244","v":120.86895434192766},"e5",null,{"$f":"-HZ244+HT270","v":5},{"$f":"IA244","v":120.86895434192766},"e5",null,null,"اسم نقطه ","مولفه افقی","مولفه عمودی"]
[null,null,null,null,null,"γ9","(90º - 180º)",{"$f":"'متغیرها '!C170","v":130},null,null,null,null,null,null,"(d1→ d2)",{"$f":"G274-P240*SIN(O244)","v":7.2303324207182236},null,"(2 → 49)",{"$f":"'متغیرها '!C446*H123","v":26.699999999999992},null,{"$f":"Y239","v":3.3200600000000002},{"$f":"Z239","v":120.14676563115455},"49''",null,{"$f":"CR183","v":3.3200600000000002},{"$f":"CS183","v":95.7},"26''",null,{"$f":"AZ145","v":8.3405012711042659},{"$f":"BA145","v":137.41708606643653},28,null,null,null,null,"(b3 → b4)",{"$f":"AC242-AC244+0.4*(AK240-AC242+AC244)","v":11.078036591535984},null,{"$f":"AM239","v":27.684339572183557},{"$f":"AN239","v":150.71093292917556},"b2",null,{"$f":"BW118","v":18.292212144602942},{"$f":"BX118","v":154.35437113608901},"a2","از یقه آرشال",null,null,null,null,null,{"$f":"BI100","v":1.1751228271808217E-3},"زاویه پهلو با عمود",null,null,{"$f":"J352-BE250","v":18.555932074503581},{"$f":"K352","v":92.82},"dd5",null,"(1 → 3)",{"$f":"BE258*(1+'متغیرها '!C320)","v":5.1929987085680596},null,{"$f":"BI242+BI243+BI247+BK268","v":16.537656034887842},{"$f":"BI244+BI248+BE260","v":71.868501507857516},10,null,{"$f":"-BK242-BN238","v":-6.5376560348878421},71.868501507857516,10,null,{"$f":"J322-BT251","v":26.351161403508772},{"$f":"K322-BT250","v":88.82},"dd2",null,"(1 → 3)",{"$f":"BT259*(1+'متغیرها '!C320)","v":5.2643912230530621},null,{"$f":"BX242+BX243+BX247+BZ262","v":26.730679798303449},{"$f":"BX244+BX248+BT261","v":66.873328107526405},10,null,null,"(1 → m3)",{"$f":"H108-H114+'متغیرها '!C416*(H104-H108)","v":14.519999999999987},null,{"$f":"AZ172-'متغیرها '!C55","v":32.230039999999995},{"$f":"BA172","v":87.271202973762882},45,null,{"$f":"0+AX99","v":5},{"$f":"CF244+AX98","v":85.88565439664427},"m5",null,{"$f":"CL241","v":32.40504},{"$f":"CM241","v":86.1},"m4",null,{"$f":"CL270","v":42.601317974907232},{"$f":"CM270","v":78.703501658714671},"m4",null,null,"خط مرکزی پشت مایو متصل به یقه گرد",null,null,{"$f":"BK169","v":15},{"$f":"BL169","v":66.580000000000013},46,null,{"$f":"DF265-0.25*DD266*(DC274-1)","v":12.57704098312473},{"$f":"DG244","v":66.580000000000013},"p12",null,null,null,null,null,null,null,null,null,"(p15 →p16)",{"$f":"DS238-AX113-(AX104-DS241-DS240)*TAN(BI101)","v":9.1557865076859599},null,{"$f":"DS249+AX99","v":14.005696},{"$f":"DS238+AX98","v":131.16},"p29",null,null,null,null,null,"(p10 →p11)",{"$f":"ED238-BI110-(BI108-ED241-ED239)*TAN(BI101)","v":12.707872240700445},null,{"$f":"ED249+BI98","v":22.236719999999998},{"$f":"ED238+BI97","v":125.82},"p24",null,null,null,null,null,{"$f":"AZ141-'متغیرها '!C51","v":0},{"$f":"BA141-'متغیرها '!C52","v":141.84676563115454},2,null,"x32d",{"$f":"EN260","v":8.3512531777606629},"شیفت",{"$f":"EN254+'متغیرها '!C51","v":32.691220069972438},{"$f":"EO254+EO249+'متغیرها '!C52","v":121.11040018849008},18,null,{"$f":"BK103-'متغیرها '!C53","v":0},{"$f":"BL103-'متغیرها '!C54","v":139.03229312467974},2,"شیفت",{"$f":"EY253+'متغیرها '!C53","v":36.076248574692741},{"$f":"EZ253+EZ249+'متغیرها '!C54","v":116.47198184720476},{"$f":"FA253","v":16},null,{"$f":"BG392","v":31.2},{"$f":"BH392","v":85.421202973762888},{"$f":"AZ172-'متغیرها '!C55","v":32.230039999999995},{"$f":"BA172","v":87.271202973762882},45,null,"αdp4",{"$f":"ATAN((FI242-FI241)/(FJ241-FJ242))","v":-7.7621508737393555E-2},null,null,null,null,null,{"$f":"FQ263","v":24.42136345554907},{"$f":"FR263","v":67.070422233022157},"dp6",null,{"$f":"FX240","v":33.525039999999997},{"$f":"FY240","v":103.92120297376289},{"$f":"FZ240","v":" شیفت41 یا d3"},null,{"$f":"DD168-GC248","v":35.844145557703101},{"$f":"DE168","v":119.86926418849009},12,"بدون شیفت عصایی","c4",{"$f":"(GI241-GI240)*GD254/COS(GG240)","v":7.5740225380225308},null,{"$f":"GI241-GG241*COS(GG240)","v":6.2601469111540613},{"$f":"GJ241-GG241*SIN(GG240)","v":120.86895434192765},"a3",null,{"$f":"GI247+GG254*SIN(GG257+GG258)","v":18.35653606925823},{"$f":"GJ247+GG254*COS(GG257+GG258)","v":122.75150144002116},"a40",null,{"$f":"GI257","v":15.023198402438101},{"$f":"GJ257+GD267","v":119.52697248066318},"a18",null,{"$f":"GI257","v":15.023198402438101},{"$f":"GJ257+GD267","v":119.52697248066318},"a18",null,{"$f":"GI253","v":6.2601469111540613},{"$f":"GJ253","v":120.86895434192765},"a14",null,{"$f":"-GI257+GC249","v":-5.0231984024381013},{"$f":"GJ257+GD267","v":119.52697248066318},"a18",null,null,3,5.235987755982989E-2,{"$f":"GI247+GG254*SIN(GG257+HI242)","v":18.35653606925823},{"$f":"GJ247+GG254*COS(GG257+HI242)","v":122.75150144002116},{"$f":"ATAN((HK242-GJ242)/(HJ242-GI242))","v":0.15439033504641483},{"$f":"(HJ242-GI242)/COS(HL242)","v":12.242002051986447},null,null,5,120.86895434192765,"a13",null,"d4",{"$f":"'متغیرها '!C485","v":1.5},null,"f4",{"$f":"SQRT(POWER((HZ247-HZ246),2)+POWER((IA247-IA246),2))","v":4.2617616075984284},null,{"$f":"HP242+HU250","v":5},{"$f":"HQ242","v":120.86895434192765},"e3",null,{"$f":"HZ279","v":38.751769178261661},{"$f":"IA279","v":99.104997565727018},"e40",null,18.35653606925823,122.75150144002116,"e50",null,{"$f":"-HZ289+HT270","v":-8.3565360692582296},{"$f":"IA289","v":122.75150144002116},"e50",null,null,null,null,null,null,null,null,null,"راس پایین","منهای شیفتa50",{"$f":"HP267","v":18.35653606925823},{"$f":"HQ267","v":117.64849855997885},"ضلع پایین",{"$f":"HX255","v":12.30395615369909}]
[null,null,null,null,null,"γ7","(0 - 0.4)",{"$f":"'متغیرها '!C166","v":9.9999999999999992E-2},null,"برش یقه انگلیسی ",null,"رسم",null,"متغیرهای محاسبه- یقه انگلیسی",null,null,null,"(2 →50)",{"$f":"'متغیرها '!C447*H123","v":13.35},null,null,null,null,null,null,null,null,null,{"$f":"AZ102","v":5},{"$f":"BA102","v":136.36934389257897},26,null,null,null,null,"(1 → b5)",{"$f":"AD242-AD244+0.25*(AK239-AD242+AD244)","v":69.16054778212127},null,{"$f":"AK242+AC244","v":16.078036591535984},{"$f":"AK241+AD244","v":148.71685589976468},"b4",null,{"$f":"J248","v":3.3200600000000002},{"$f":"K248","v":114.42},"e1","از یقه انگلیسی",{"$f":"AQ242","v":18.292212144602942},{"$f":"AR242","v":154.35437113608901},{"$f":"AS242","v":"a2"},null,null,{"$f":"'متغیرها '!C56","v":0},"شیفت افقی",null,null,{"$f":"J354-BE250","v":32.778373333333327},{"$f":"K354","v":94.321202973762894},"d3",null,"(3 → 5)",{"$f":"(BE255+BE258*SIN(BE259))*SIN(BE252)","v":1.15814851390671},null,{"$f":"BI242+BI243+BI247+BI249+BK268","v":17.651235092302631},{"$f":"BI244+BI248+BI250+BE260","v":71.952176887365994},12,null,{"$f":"-BK243-BN238","v":-7.6512350923026311},71.952176887365994,12,null,{"$f":"J324-BT251","v":40.607575135135136},{"$f":"K324-BT250","v":86.924704632477571},"d3",null,"(3 → 5)",{"$f":"(BT256+BT259*SIN(BT260))*SIN(BT253)","v":1.2084764704051663},null,{"$f":"BX242+BX243+BX247+BX249+BZ262","v":27.880846456764829},{"$f":"BX244+BX248+BX250+BT261","v":66.959752713847735},12,null,null,"(m3 → m4)",{"$f":"AX156+AX157+AX158+(AX155-CF242)*TAN(CF237)","v":27.405039999999996},null,{"$f":"CL241","v":32.40504},{"$f":"CM241","v":86.1},"m4",null,{"$f":"CF245+AX99","v":24.661276000000001},{"$f":"CF244+AX98","v":85.88565439664427},"m6",null,null,null,null,null,null,null,null,null,{"$f":"CE108","v":15.000000000000002},{"$f":"CF108","v":136.41391319447115},24,null,{"$f":"BK169","v":15},{"$f":"'متغیرها '!U58-H106+'متغیرها '!C54","v":0},"46' زمین",null,{"$f":"DF244","v":41.159304059732627},{"$f":"DG241","v":67.064000000000007},"p13",null,{"$f":"DF243","v":41.159304059732627},{"$f":"DG243","v":67.064000000000007},"p13",null,{"$f":"DF279","v":30.857237622711477},{"$f":"DG279","v":72.064000000000007},"p7",null,"(12 →p17)",{"$f":"0.5*DS241","v":6.0559559999999975},null,{"$f":"DS249+AX99","v":14.005696},{"$f":"DS238-DS250+AX98","v":128.18979371383062},"p30",null,{"$f":"DU244","v":23.732233557703104},{"$f":"DV244","v":129.02505069617604},"p16",null,"(8 →p12)",{"$f":"0.45*ED241","v":5.4901548000000027},null,{"$f":"ED249+BI98","v":22.236719999999998},{"$f":"ED238-ED250+BI97","v":124.96640307764378},"p25",null,{"$f":"EF244","v":26.887562522700875},{"$f":"EG244","v":125.18063808790521},"p11",null,{"$f":"BD116-'متغیرها '!C55-'متغیرها '!C51","v":30.844145557703101},{"$f":"BE116-'متغیرها '!C52","v":110.38738418849009},14,null,"y32d",{"$f":"EO260","v":141.84676563115454},"شیفت",{"$f":"EN255+'متغیرها '!C51","v":35.844145557703101},{"$f":"EO255+EO249+'متغیرها '!C52","v":119.86926418849009},12,null,{"$f":"BO181-'متغیرها '!C56-'متغیرها '!C53","v":24.087906522700877},{"$f":"BP181-'متغیرها '!C57-'متغیرها '!C54","v":107.99088584720475},10,"شیفت",{"$f":"EY254+'متغیرها '!C53","v":38.227432823269979},{"$f":"EZ254+EZ249+'متغیرها '!C54","v":113.47256984720475},{"$f":"FA254","v":14},null,null,null,{"$f":"AZ161","v":17.60146911154062},{"$f":"BA161","v":118.23},43,null,"dp7",{"$f":"ROUNDUP(((FR259-FR260)*10)/(FH240-FH242),0)","v":5},"تعداد دراپه ها",null,null,null,null,{"$f":"MIN(FT245,FT242)+0.5*(MAX(FT242,FT245)-MIN(FT242,FT245))","v":29.552978117200311},{"$f":"FU242+0.3*(FU245-FU242)","v":80.517865637453454},null,null,{"$f":"CR173","v":32.778373333333327},{"$f":"CS173","v":94.321202973762894},{"$f":"CT173","v":"d3"},null,{"$f":"AZ168","v":33.525039999999997},{"$f":"BA168","v":103.92120297376289},41,"بدون شیفت","c5",{"$f":"(GI241-GI240)*GD255/COS(GG240)","v":13.885707986374641},null,{"$f":"GB242","v":35.844145557703101},{"$f":"GC242","v":119.86926418849009},"a4",null,{"$f":"GI247+(0.5+GD261)*(GM242-GI247)","v":17.865637634057066},{"$f":"GJ247+0.5*(GN242-GJ247)","v":117.68873945099932},"a41",null,{"$f":"GI251","v":13.809278427687049},{"$f":"GJ251+GD267","v":118.35618887438309},"a12",null,{"$f":"GI251","v":13.809278427687049},{"$f":"GJ251+GD267","v":118.35618887438309},"a12",null,{"$f":"GM260","v":9.4682935712700278},{"$f":"GN260","v":116.74746590195255},"a59",null,{"$f":"-GI251+GC249","v":-3.8092784276870493},{"$f":"GJ251+GD267","v":118.35618887438309},"a12",null,null,4,6.9813170079773182E-2,{"$f":"GI247+GG254*SIN(GG257+HI243)","v":18.53303721137236},{"$f":"GJ247+GG254*COS(GG257+HI243)","v":122.72548110507364},{"$f":"ATAN((HK243-GJ242)/(HJ243-GI242))","v":0.15013229891794094},{"$f":"(HJ243-GI242)/COS(HL243)","v":12.412514972537585},null,null,6.2601469111540613,120.86895434192765,"a14",null,"d5",{"$f":"'متغیرها '!C486","v":0.38},null,"xf5",{"$f":"HP247-HU248*(HP247-HP246)","v":30.848644154093151},null,{"$f":"HZ242+HP243-HP242","v":6.2601469111540613},{"$f":"IA242","v":120.86895434192765},"e4",null,null,null,null,null,{"$f":"HZ298","v":24.270729993966881},{"$f":"IA298","v":120.95089546996316},"e58",null,{"$f":"-HZ298+HT270","v":-14.270729993966881},{"$f":"IA298","v":120.95089546996316},"e58",null,{"$f":"HZ244","v":5},120.86895434192766,"e5",null,{"$f":"-HZ244+HT270","v":5},{"$f":"IA244","v":120.86895434192766},"e5",null,"راس بالا "," منهای شیفتe18",{"$f":"HZ257-HU251","v":15.506295544343416},{"$f":"IA257","v":126.48521900392882},"ضلع بالا",{"$f":"HX256","v":17.14443855102833}]
[null,null,null,null,null,"γ6","(0 - 0.4)",{"$f":"'متغیرها '!C167","v":9.9999999999999992E-2},null,{"$f":"G276+AX147+AX99","v":12.516127859984596},{"$f":"G275+AX98","v":143.70353910958187},"e7",null,"γ2",{"$f":"ATAN((AX128-AX147-O246)/(AX103-AX155-(1-H248)*H124))","v":0.22632272923112168},null,null,"(50 → 51)",{"$f":"'متغیرها '!C448*AX128","v":8.3512531777606629},null,{"$f":"Y239","v":3.3200600000000002},{"$f":"Z239","v":120.14676563115455},"49''",null,{"$f":"CR183","v":3.3200600000000002},{"$f":"CS183","v":95.7},"26''",null,{"$f":"BD150","v":5},{"$f":"BE150","v":71.580000000000013},1,null,null,null,null,"(b5 →b6)",{"$f":"AC242-AC244+0.15*(AK240-AC242+AC244)","v":6.2420770162661601},null,{"$f":"AK244+AC244","v":11.24207701626616},{"$f":"AK243+AD244","v":140.74054778212127},"b6",null,{"$f":"BW132","v":34.581596165257494},{"$f":"BX132","v":126.8768192529092},"b4","نقطه زیر بغل با ساسون",{"$f":"AQ258","v":14.275820510974198},{"$f":"AR258","v":156.99766748983123},{"$f":"AS258","v":"d4"},null,null,{"$f":"'متغیرها '!C57","v":0},"شیفت عمودی",null,null,{"$f":"AZ106","v":5},{"$f":"BA106","v":71.580000000000013},1,null,"(5 → 6)",{"$f":"(BE255+BE258*SIN(BE259))*(1-COS(BE252))","v":2.8959746379564309E-2},null,{"$f":"BI242+BI243+BI247+BI249+BI253+BK268","v":22.81829043761126},{"$f":"BI244+BI248+BI250+BI254+BE260","v":72.470611691084898},16,null,{"$f":"-BK244-BN238","v":-12.81829043761126},72.470611691084898,16,null,{"$f":"BK169","v":15},{"$f":"BL169","v":66.580000000000013},46,null,"(5 → 6)",{"$f":"(BT256+BT259*SIN(BT260))*(1-COS(BT253))","v":3.0218207482346882E-2},null,{"$f":"BX242+BX243+BX247+BX249+BX253+BZ262","v":33.118937651355708},{"$f":"BX244+BX248+BX250+BX254+BT261","v":67.485314876210694},16,null,null,"(1 → m5)",{"$f":"CF240+0.98*(CF242-CF240)","v":14.305654396644252},null,{"$f":"CL238","v":5},{"$f":"CM238","v":75.382719832213283},"m1",null,{"$f":"0+AX99","v":5},{"$f":"CF246+AX98","v":83.420679958053313},"m7",null,{"$f":"CL238","v":5},{"$f":"CM238","v":75.382719832213283},"m1",null,{"$f":"CL268","v":20.28},{"$f":"CM268","v":54.399276983751093},"m2",null,{"$f":"BK167","v":15},{"$f":"BL167","v":128.44999999999999},45,null,{"$f":"BO178","v":15},{"$f":"BP178","v":96.5},44,null,{"$f":"DB241-(DC241-DG244)*TAN(RADIANS(DC277))","v":41.159304059732627},{"$f":"DC242","v":66.580000000000013},"p14",null,{"$f":"DF244","v":41.159304059732627},{"$f":"DG244","v":66.580000000000013},"p14",null,{"$f":"DF280","v":30.857237622711477},{"$f":"DG280","v":71.580000000000013},"p8",null,"(p17 →p18)",{"$f":"IF('متغیرها '!C432=1,0.5,0.15)*DS242","v":1.3733679761528939},null,{"$f":"AX104-DS241+AX99","v":23.732233557703104},{"$f":"AX113+DS242+AX98","v":129.02505069617604},"p16",null,{"$f":"DU247","v":25.5490203577031},{"$f":"DV247","v":124.44715744233307},"p20",null,"(p12 →p13)",{"$f":"IF('متغیرها '!C443=1,0.45,0.17)*ED242","v":2.1603382809190759},null,{"$f":"BI108-ED241+BI98","v":26.887562522700875},{"$f":"BI110+ED242+BI97","v":125.18063808790521},"p11",null,{"$f":"EF247","v":29.937648522700876},{"$f":"EG247","v":118.19130835551996},"p15",null,{"$f":"AZ168-'متغیرها '!C51","v":28.525039999999997},{"$f":"BA168-'متغیرها '!C52","v":98.921202973762888},41,null,"محاسبات یقه دراپه جلو",null,"شیفت",{"$f":"EN256+'متغیرها '!C51","v":37.567945557703098},{"$f":"EO256+EO249+'متغیرها '!C52","v":119.86926418849009},13,null,{"$f":"BK162-'متغیرها '!C56-'متغیرها '!C53","v":23.272440000000003},{"$f":"BL162-'متغیرها '!C57-'متغیرها '!C54","v":96.524704632477565},36,"شیفت",{"$f":"EY255+'متغیرها '!C53","v":40.811706522700881},{"$f":"EZ255+EZ249+'متغیرها '!C54","v":112.47276584720476},{"$f":"FA255","v":9},null,null,null,{"$f":"AZ166","v":16.953969111540619},{"$f":"BA166","v":100.5},39,null,"dp8",{"$f":"FI243-FI244-IF('متغیرها '!C341<0,(FR260-FJ241)*TAN(FN240),(FJ241-FR260)*TAN(FN241))","v":0.26379629629629692},null,null,null,null,null,{"$f":"MIN(FT245,FT242)+0.9*(MAX(FT242,FT245)-MIN(FT242,FT245))","v":33.658269846521307},{"$f":"FU242+0.7*(FU245-FU242)","v":98.447790176695193},null,null,null,null,null,null,{"$f":"AZ166","v":16.953969111540619},{"$f":"BA166","v":100.5},39,null,"c6",{"$f":"ATAN((GI243-GI244)/(GJ243-GJ244))","v":0.1444039718248929},null,{"$f":"GB243","v":33.525039999999997},{"$f":"GC243","v":103.92120297376289},"a5",null,{"$f":"GI254+0.75*(GM242-GI254)","v":17.219721658865435},{"$f":"GJ254+(0.75+2*GD260)*(GN242-GJ254)","v":122.92842401862222},"a42",null,null,null,null,null,null,null,null,null,{"$f":"GM261","v":12.676440231385996},{"$f":"GN261","v":114.27457283796751},"a60",null,null,null,null,null,null,5,8.7266462599716474E-2,{"$f":"GI247+GG254*SIN(GG257+HI244)","v":18.709057354046507},{"$f":"GJ247+GG254*COS(GG257+HI244)","v":122.69638436348033},{"$f":"ATAN((HK244-GJ242)/(HJ244-GI242))","v":0.14575339681407984},{"$f":"(HJ244-GI242)/COS(HL244)","v":12.582323779764558},null,null,{"$f":"GI256","v":22.642056756156865},{"$f":"GJ256","v":126.875},"a17",null,"d6",{"$f":"'متغیرها '!C487","v":0.45},null,"yf5",{"$f":"HQ247-5","v":110.88224888480829},null,{"$f":"HZ242","v":5},{"$f":"IA242+HQ241-HQ240","v":120.86895434192766},"e5",null,{"$f":"HZ279","v":38.751769178261661},{"$f":"IA279","v":99.104997565727018},"e40",null,{"$f":"HZ295","v":29.715440555197141},{"$f":"IA295","v":118.02258762060484},"e56",null,{"$f":"-HZ295+HT270","v":-19.715440555197141},{"$f":"IA295","v":118.02258762060484},"e56",null,6.2139199747510521,122.03973794820774,"e6",null,{"$f":"-HZ245+HT270","v":3.7860800252489479},{"$f":"IA245","v":122.03973794820774},"e6",null,"c19",{"$f":"ATAN((IZ243-IZ242)/(JA243-JA242))","v":-0.31200988990231121},null,"محاسبات"]
[null,null,null,null,null,"γ5","(-0.2 - 0.3)",{"$f":"'متغیرها '!C169","v":0},null,{"$f":"G274+AX147+AX99","v":11.995530171826225},{"$f":"G273+AX98","v":141.44270341296786},"e5",null,"γ8",{"$f":"ATAN(O248/G272)","v":0.40727813033152666},null,null,"خطوط برش یقه دلبری",null,null,{"$f":"BD97","v":3.3200600000000002},{"$f":"BE97","v":71.580000000000013},"1'",null,{"$f":"CR182","v":5},{"$f":"CS182","v":95.7},"d4",null,"α2",{"$f":"'متغیرها '!B245","v":0.27820102979369776},"زاویه سرشانه با افق",null,null,null,null,null,null,null,{"$f":"AC242","v":8.3405012711042659},{"$f":"AD242","v":137.41708606643653},{"$f":"AE242","v":28},null,{"$f":"BD97","v":3.3200600000000002},{"$f":"BE97","v":71.580000000000013},"1'",null,null,null,null,null,null,{"$f":"'متغیرها '!C53","v":15},"شیفت افقی کلی",null,null,{"$f":"AZ165","v":5},{"$f":"BA165","v":100.5},38,null,"(4 → 7)",{"$f":"BE257*(1+'متغیرها '!C320)*COS(BE256+BE252)","v":5.2282879268001388},null,{"$f":"BI242+BI243+BI247+BI249+BI253+BI255+BK268","v":23.884829687904144},{"$f":"BI244+BI248+BI250+BI254+BI256+BE260","v":72.604627826243203},18,null,{"$f":"-BK245-BN238","v":-13.884829687904144},72.604627826243203,18,null,{"$f":"BO178","v":15},{"$f":"BP178","v":96.5},44,null,"(4 → 7)",{"$f":"BT258*(1+'متغیرها '!C320)*COS(BT257+BT253)","v":5.3132398955859879},null,{"$f":"BX242+BX243+BX247+BX249+BX253+BX255+BZ262","v":34.208334955774845},{"$f":"BX244+BX248+BX250+BX254+BX256+BT261","v":67.622203243282058},18,null,null,"(m5 → m6)",{"$f":"0.65*(CF243-CF241)+CF241","v":19.661276000000001},null,{"$f":"CL243","v":24.661276000000001},{"$f":"CM243","v":85.88565439664427},"m6",null,{"$f":"CF247+AX99","v":16.475011200000001},{"$f":"CF246+AX98","v":83.420679958053313},"m8",null,{"$f":"CL239","v":10.28},{"$f":"CM239","v":75.382719832213283},"m2",null,{"$f":"CL279","v":15},{"$f":"CM279","v":54.399276983751093},"m'1",null,null,null,null,null,null,null,null,null,null,null,null,null,null,null,null,null,null,null,null,null,"(12 → p19)",{"$f":"0.85*DS241","v":10.295125199999996},null,{"$f":"AX104-DS241+AX99","v":23.732233557703104},{"$f":"AX113+AX98","v":119.86926418849009},"p15",null,{"$f":"DU249","v":29.788189557703099},{"$f":"DV249","v":121.24263216464297},"p18",null,"(8 → p14)",{"$f":"0.75*ED241","v":9.1502580000000044},null,{"$f":"BI108-ED241+BI98","v":26.887562522700875},{"$f":"BI110+BI97","v":112.47276584720476},"p10",null,{"$f":"EF249","v":33.597751722700878},{"$f":"EG249","v":114.63310412812383},"p13",null,{"$f":"AZ172-'متغیرها '!C55-'متغیرها '!C51","v":27.230039999999995},{"$f":"BA172-'متغیرها '!C52","v":82.271202973762882},45,null,"xd3",{"$f":"EN242","v":0},null,null,null,"پهلو دراپه",null,{"$f":"BK165-'متغیرها '!C56-'متغیرها '!C53","v":27.32244},{"$f":"BL165-'متغیرها '!C57-'متغیرها '!C54","v":79.87470463247756},42,null,null,null,"پهلو دراپه",null,null,null,{"$f":"AZ162","v":17.60146911154062},{"$f":"BA162","v":84.3},47,null,"(dp4 →dp6)",{"$f":"FR259-FR260+FN243*'متغیرها '!C306","v":47.574030607363596},null,null,null,null,null,{"$f":"FQ259","v":34.684592778851552},{"$f":"FR259","v":111.89523358112649},"dp4",null,{"$f":"FX243","v":32.778373333333327},{"$f":"FY243","v":94.321202973762894},{"$f":"FZ243","v":"d3"},null,{"$f":"AZ167","v":18.248969111540617},{"$f":"BA167","v":100.5},40,"بدون شیفت","c7",{"$f":"SQRT(POWER((GI243-GI244),2)+POWER((GJ243-GJ244),2))","v":16.115796818539739},null,{"$f":"GI243-GD252*GG245*SIN(GG244)","v":35.264369168277327},{"$f":"GJ243-GD252*GG245*COS(GG244)","v":115.88224888480829},"a6",null,{"$f":"GI241-GM242+GI241+GD268","v":16.846402153823011},{"$f":"GN242+GD266","v":122.75150144002116},"a43",null,{"$f":"GI251","v":13.809278427687049},{"$f":"GJ251+GD267","v":118.35618887438309},"a12",null,{"$f":"GI251","v":13.809278427687049},{"$f":"GJ251+GD267","v":118.35618887438309},"a12",null,{"$f":"GI247","v":16.953969111540619},{"$f":"GJ247","v":112.62597746197747},"a8",null,{"$f":"-GI251+GC249","v":-3.8092784276870493},{"$f":"GJ251+GD267","v":118.35618887438309},"a12",null,null,6,0.10471975511965978,{"$f":"GI247+GG254*SIN(GG257+HI245)","v":18.884542879840069},{"$f":"GJ247+GG254*COS(GG257+HI245)","v":122.66422007839061},{"$f":"ATAN((HK245-GJ242)/(HJ245-GI242))","v":0.14125894509840889},{"$f":"(HJ245-GI242)/COS(HL245)","v":12.751405908318244},null,null,{"$f":"GI257","v":15.023198402438101},{"$f":"GJ257","v":119.52697248066318},"a18",null,"d7",{"$f":"'متغیرها '!C488","v":0},null,"xf6",{"$f":"HX243","v":30.848644154093151},null,{"$f":"HZ244+HP245-HP241","v":6.2139199747510521},{"$f":"IA244+HQ245-HQ241","v":122.03973794820774},"e6",null,{"$f":"HZ280","v":15},{"$f":"IA280","v":99.104997565727018},"e41",null,null,null,null,null,null,null,null,null,13.832778328469816,129.38776546754457,"e7",null,{"$f":"-HZ246+HT270","v":-3.832778328469816},{"$f":"IA246","v":129.38776546754457},"e7",null,null," درجه α","x","y","c21","c'17"]
[null,null,null,null,null,"γ4","(0º - 40º)",{"$f":"IF('متغیرها '!C168=0,0.001,'متغیرها '!C168)","v":8},null,{"$f":"G278+AX147+AX99","v":4.4957399631022836},{"$f":"G277+AX98","v":138.20730158273469},"e9",null,"قد یقه انگلیسی",{"$f":"0.8*G254","v":2.5643528198721892},null,null,{"$f":"AZ140","v":13.351253177760663},{"$f":"BA140","v":146.84676563115454},25,null,null,null,null,null,null,null,null,{"$f":"AZ140","v":13.351253177760663},{"$f":"BA140","v":146.84676563115454},25,null,null,null,null,"مولفه عمودی نقطه اتصال به سرشانه پشت",{"$f":"AD240-'متغیرها '!C386*AH241*COS(AH239)","v":139.08256960965244},null,5,{"$f":"AD243","v":136.36934389257897},26,null,{"$f":"AZ106","v":5},{"$f":"BA106","v":71.580000000000013},1,null,{"$f":"AQ258","v":14.275820510974198},156.99766748983123,{"$f":"AS258","v":"d4"},null,null,{"$f":"'متغیرها '!C54","v":0},"شیفت عمودی کلی",null,null,{"$f":"BD152","v":17.954541134235299},{"$f":"BE152","v":71.580000000000013},"3'",null,"(7 → 8)",{"$f":"BE257*SIN(BE256+BE252)","v":-0.57534409160952671},null,{"$f":"BI242+BI243+BI247+BI249+BI253+BI255+BI259+BK268","v":29.019516618695459},{"$f":"BI244+BI248+BI250+BI254+BI256+BI260+BE260","v":73.380659855189421},22,null,{"$f":"-BK246-BN238","v":-19.019516618695459},73.380659855189421,22,null,{"$f":"BO192-'متغیرها '!C56","v":25.8416},{"$f":"BP192-'متغیرها '!C57","v":66.580000000000013},50,null,"(7 → 8)",{"$f":"BT258*SIN(BT257+BT253)","v":-0.84452196425620396},null,{"$f":"BX242+BX243+BX247+BX249+BX253+BX255+BX259+BZ262","v":39.413612740070057},{"$f":"BX244+BX248+BX250+BX254+BX256+BX260+BT261","v":68.408904036265511},22,null,null,"(1 → m7)",{"$f":"CF240+0.75*(CF242-CF240)","v":11.840679958053308},null,null,{"$f":"CF240","v":3.8027198322132705},"(1 → m1)",null,{"$f":"0+AX99","v":5},{"$f":"CF248+AX98","v":79.133767890938628},"m9",null,null,null,null,null,null,null,null,null,{"$f":"BK167","v":15},{"$f":"BL167","v":128.44999999999999},45,null,null,null,null,null,"نقاط تکه وسط پا ",null,null,null,{"$f":"DF244","v":41.159304059732627},{"$f":"DG244","v":66.580000000000013},"p14",null,{"$f":"DF280","v":30.857237622711477},{"$f":"DG280","v":71.580000000000013},"p8",null,"(p19 → p20)",{"$f":"IF('متغیرها '!C432=1,0.85,0.5)*DS242","v":4.57789325384298},null,{"$f":"AZ99","v":35.844145557703101},{"$f":"BA99","v":119.86926418849009},12,null,{"$f":"AZ99-'متغیرها '!C55","v":35.844145557703101},{"$f":"BA99","v":119.86926418849009},12,null,"(p14 → p15)",{"$f":"IF('متغیرها '!C443=1,0.75,0.45)*ED242","v":5.7185425083151999},null,{"$f":"BK122-'متغیرها '!C56","v":39.087906522700877},{"$f":"BL122-'متغیرها '!C57","v":112.47276584720476},8,null,{"$f":"BK122-'متغیرها '!C56","v":39.087906522700877},{"$f":"BL122-'متغیرها '!C57","v":112.47276584720476},8,null,null,{"$f":"O140","v":0.60372434649990336},"β4",null,"yd3",{"$f":"IF(EO247<3,'متغیرها '!U60+(EO247-2)*('متغیرها '!U56-'متغیرها '!U60),'متغیرها '!U56+(EO247-3)*(I124-I123))","v":105.35},"شیفت",{"$f":"EN256+'متغیرها '!C51","v":37.567945557703098},{"$f":"EO256+EO249+'متغیرها '!C52","v":119.86926418849009},13,null,null,{"$f":"AD140","v":0.4629988279829681},"β8","شیفت",{"$f":"EY255+'متغیرها '!C53","v":40.811706522700881},{"$f":"EZ255+EZ249+'متغیرها '!C54","v":112.47276584720476},{"$f":"FA255","v":9},null,null,null,{"$f":"AZ165","v":5},{"$f":"BA165","v":100.5},38,null,"(dp'5 →dp5)",{"$f":"2*(FQ260-FI246)-4*FN244","v":54.501561481481467},null,null,null,null,null,null,null,"انحنا یقه",null,{"$f":"CR170","v":18.555932074503581},{"$f":"CS170","v":92.82},{"$f":"CT170","v":" dd5"},null,null,{"$f":"H123","v":26.7},"t2",null,"c8",{"$f":"IF(GJ252>GJ261,ATAN((GI261-GI242)/(GJ242-GJ261)),ATAN((GI262-GI242)/(GJ242-GJ262)))","v":0.76048334608207291},null,{"$f":"GI241+GG243*COS(GG239)","v":31.220270643954034},{"$f":"GJ241-GG243*SIN(GG239)","v":117.49054782223371},"a7",null,{"$f":"GM245+(0.5-GD261)*(GM247-GM245)","v":17.337300589024174},{"$f":"GN247+0.5*(GN245-GN247)","v":117.68873945099932},"a44",null,{"$f":"GI250","v":13.809278427687049},{"$f":"GJ250+GD267","v":118.35618887438309},"a11",null,{"$f":"GI250","v":13.809278427687049},{"$f":"GJ250+GD267","v":118.35618887438309},"a11",null,null,null,null,null,{"$f":"-GI250+GC249","v":-3.8092784276870493},{"$f":"GJ250+GD267","v":118.35618887438309},"a11",null,null,7,0.12217304763960307,{"$f":"GI247+GG254*SIN(GG257+HI246)","v":19.059440334161913},{"$f":"GJ247+GG254*COS(GG257+HI246)","v":122.6289980473573},{"$f":"ATAN((HK246-GJ242)/(HJ246-GI242))","v":0.13665396354406467},{"$f":"(HJ246-GI242)/COS(HL246)","v":12.919739392622228},null,null,{"$f":"GI241","v":17.60146911154062},{"$f":"GJ241","v":120.2},"a2",null,"d8",{"$f":"'متغیرها '!C480","v":1.2},null,"yf6",{"$f":"HQ247+5","v":120.88224888480829},null,{"$f":"HZ244+HP244-HP241","v":13.832778328469816},{"$f":"IA244+HQ244-HQ241","v":129.38776546754457},"e7",null,null,null,null,null,{"$f":"HZ295","v":29.715440555197141},{"$f":"IA295","v":118.02258762060484},"e56",null,{"$f":"-HZ295+HT270","v":-19.715440555197141},{"$f":"IA295","v":118.02258762060484},"e56",null,16.196778328469815,132.93376546754456,"e8",null,{"$f":"-HZ247+HT270","v":-6.196778328469815},{"$f":"IA247","v":132.93376546754456},"e8",null,null,2,{"$f":"IZ242+JC242*SIN(RADIANS(IY246)+IY244)","v":14.990535298383884},{"$f":"JA242+JC242*COS(RADIANS(IY246)+IY244)","v":129.48308244969053},{"$f":"IF(IZ243>IZ246,ATAN((JA243-JA246)/(IZ243-IZ246)),ATAN((JA243-JA246)/(IZ246-IZ243)))","v":-1.4004216072021154},{"$f":"IF(IZ243>IZ246,(IZ243-IZ246)/COS(JB246),(IZ246-IZ243)/COS(JB246))","v":3.0419062889488413}]
[null,null,null,null,null,"γ3","(0.01 - 0.3)",{"$f":"'متغیرها '!C172","v":5.0000000000000017E-2},null,{"$f":"-G279+AX147+AX99","v":1.368287202162044E-2},{"$f":"G270+G280+AX98","v":137.94609570720104},"e10",null,"x",{"$f":"SQRT(0.01*AX128*AX128+0.09*AX129*AX129)","v":3.2522772425345945},null,null,{"$f":"S241+AX99","v":12.766665455317417},{"$f":"AX103-S240+AX98","v":140.17176563115453},"51'",{"$f":"BD97","v":3.3200600000000002},{"$f":"BE97","v":71.580000000000013},"1'",null,{"$f":"CR182","v":5},{"$f":"CS182","v":95.7},"d4",null,{"$f":"AZ148","v":11.681002542208532},{"$f":"BA148","v":141.60805476186675},30,null,null,null,null,"مولفه افقی نقطه اتصال به سرشانه پشت",{"$f":"AC240-'متغیرها '!C386*AH241*SIN(AH239)","v":24.574920343456075},null,null,null,null,null,null,{"$f":"FC680","v":3.2054410248402365},"قد یقه فرنچی",null,10.188677653980946,150.01735172551085,{"$f":"AS259","v":"d5"},null,"نقاط  محاسبه شده",null,null,null,null,{"$f":"AZ108","v":35.894694877454754},{"$f":"BA108","v":72.371202973762905},7,null,"(6 →9)",{"$f":"BE258*(1+'متغیرها '!C320)*COS(BE252)","v":5.1865088124130727},null,{"$f":"BI242+BI243+BI247+BI249+BI253+BI255+BI259+BI261+BK268","v":30.0368710949217},{"$f":"BI244+BI248+BI250+BI254+BI256+BI260+BI262+BE260","v":73.560536893260547},24,null,{"$f":"-BK247-BN238","v":-20.0368710949217},73.560536893260547,24,null,{"$f":"BK129-'متغیرها '!C56","v":39.138455842452537},{"$f":"BL129-'متغیرها '!C57","v":64.974704632477568},4,null,"(6 →9)",{"$f":"BT259*(1+'متغیرها '!C320)*COS(BT253)","v":5.2578121048452209},null,{"$f":"BX242+BX243+BX247+BX249+BX253+BX255+BX259+BX261+BZ262","v":40.44020873705476},{"$f":"BX244+BX248+BX250+BX254+BX256+BX260+BX262+BT261","v":68.590415054842126},24,null,null,"(m7→ m8)",{"$f":"0.28*(CF243-CF241)+CF241","v":11.475011200000001},null,null,{"$f":"CF242","v":14.519999999999987},"(1 → m3)",null,{"$f":"CF249+AX99","v":11.8287528},{"$f":"CF248+AX98","v":79.133767890938628},"m10",null,{"$f":"CL239","v":10.28},{"$f":"CM239","v":75.382719832213283},"m2",null,{"$f":"CL268","v":20.28},{"$f":"CM268","v":54.399276983751093},"m2",null,{"$f":"BO178","v":15},{"$f":"BP178","v":96.5},44,null,null,null,null,null,"مولفه افقی","مولفه عمودی","اسم نقطه ",null,{"$f":"DF242","v":12.57704098312473},{"$f":"DG242","v":66.580000000000013},"p12",null,{"$f":"DF278","v":2.7989645989935896},{"$f":"DG278","v":71.580000000000013},"p6",null,"(p2 → p27)",{"$f":"0.4*DS240","v":4.5028480000000002},null,{"$f":"AX104-DS245+AX99","v":25.5490203577031},{"$f":"AX113+DS246+AX98","v":124.44715744233307},"p20",null,null,null,null,null,"(p2 → p22)",{"$f":"0.4*ED239","v":3.8595840000000003},null,{"$f":"BI108-ED245+BI98","v":29.937648522700876},{"$f":"BI110+ED246+BI97","v":118.19130835551996},"p15",null,null,null,null,null,null,{"$f":"'متغیرها '!C309","v":3.5},"d1",null,"(d3 → d5)",{"$f":"((ES251-ES246)-(ES250-ES245)*TAN(RADIANS(EO248)))*COS(RADIANS(EO248))*COS(RADIANS(EO248))","v":25.86383473209176},"شیفت",{"$f":"EN243+'متغیرها '!C51","v":35.844145557703101},{"$f":"EO243+EO249+'متغیرها '!C52","v":115.38738418849009},14,null,null,{"$f":"'متغیرها '!C312","v":3.5},"d1","شیفت",{"$f":"EY243+'متغیرها '!C53","v":39.087906522700877},{"$f":"EZ243+EZ249+'متغیرها '!C54","v":107.99088584720475},{"$f":"FA243","v":10},null,null,null,{"$f":"AZ176","v":16.306469111540622},{"$f":"BA176","v":84.3},"47'",null,"(dp4 →dp'5)",{"$f":"SQRT(POWER((FQ259-FQ262),2)+POWER((FR259-FR262),2))","v":60.090257331772676},null,null,null,null,null,{"$f":"FP254","v":-3.3512531777606629},{"$f":"FQ254","v":146.84676563115454},"25قرینه",null,null,null,null,null,null,{"$f":"0.5*(BT172-BT171)","v":0.19638514850278327},"نصف زاویه سرشانه",null,"c9",{"$f":"((GJ242-GJ252)/(GJ242-IF(GJ252>GJ261,GJ261,GJ262)+0.000123))*GG246","v":0},null,{"$f":"GI263","v":16.953969111540619},{"$f":"GJ241-GG242","v":112.62597746197747},"a8",null,{"$f":"GI265+GD268","v":18.248969111540617},{"$f":"GJ265+GD266","v":112.62597746197747},"a45",null,null,null,null,null,null,null,null,null,{"$f":"GI247","v":16.953969111540619},{"$f":"GJ247","v":112.62597746197747},"a8",null,null,null,null,null,null,8,0.13962634015954636,{"$f":"GI247+GG254*SIN(GG257+HI247)","v":19.233696441553192},{"$f":"GJ247+GG254*COS(GG257+HI247)","v":122.59072899935224},{"$f":"ATAN((HK247-GJ242)/(HJ247-GI242))","v":0.13194319533152596},{"$f":"(HJ247-GI242)/COS(HL247)","v":13.087302830937668},null,null,{"$f":"GI245","v":35.264369168277327},{"$f":"GJ245","v":115.88224888480829},"a6",null,"d9",{"$f":"'متغیرها '!C482","v":0.30000000000000004},null,"xf7",{"$f":"HP251-HT260","v":31.220270643954034},null,{"$f":"HZ246+HU252*HX239*0.15","v":16.196778328469815},{"$f":"IA246+HU246*HX239*0.15","v":132.93376546754456},"e8",null,{"$f":"HZ280","v":15},{"$f":"IA280","v":99.104997565727018},"e41",null,{"$f":"HZ286","v":29.68559878346603},{"$f":"IA286","v":116.93561016134666},"e47",null,{"$f":"-HZ286+HT270","v":-19.68559878346603},{"$f":"IA286","v":116.93561016134666},"e47",null,null,null,null,null,null,null,null,null,null,4,{"$f":"IZ242+JC242*SIN(RADIANS(IY247)+IY244)","v":15.405606796541667},{"$f":"JA242+JC242*COS(RADIANS(IY247)+IY244)","v":129.59334487374841},{"$f":"IF(IZ243>IZ247,ATAN((JA243-JA247)/(IZ243-IZ247)),ATAN((JA243-JA247)/(IZ247-IZ243)))","v":-1.5384123271308145},{"$f":"IF(IZ243>IZ247,(IZ243-IZ247)/COS(JB247),(IZ247-IZ243)/COS(JB247))","v":3.1097563645044075}]
[null,null,null,null,null,"γ1","(0.7 - 1.5)",{"$f":"'متغیرها '!C165","v":0.7},null,{"$f":"AX147+AX99","v":3.3200600000000002},{"$f":"G270+AX98","v":114.42},"e1",null,"(e → e2)",{"$f":"(G273-G271)/(1+(G274/G272))","v":1.3307705557789606},null,null,{"$f":"S244+AX99","v":13.351253177760663},{"$f":"AX103-S243+AX98","v":133.49676563115455},51,{"$f":"CY109","v":16.306469111540622},{"$f":"CZ109","v":71.580000000000013},52,null,{"$f":"R252","v":5},{"$f":"S252","v":120.14676563115455},49,null,null,{"$f":"H128","v":46},"v",null,null,null,null,null,null,null,{"$f":"AK247","v":24.574920343456075},{"$f":"AK246","v":139.08256960965244},"نقطه اتصال",null,null,null,"متغیرهای ورودی",null,9.5018158885828523,132.21867586275542,{"$f":"AS260","v":"d6"},null,"مولفه افقی","مولفه عمودی","اسم نقطه ",null,null,"بالای دامن فون تا زمین درانتخاب دامن فون متصل به پیراهن راسته  k2",{"$f":"K112","v":66.580000000000013},"k",null,"(9 → 10)",{"$f":"BE258*SIN(BE252)","v":0.25954176147793701},null,{"$f":"BI242+BI243+BI247+BI249+BI253+BI255+BI259+BI261+BI265+BK268","v":35.126355567961987},{"$f":"BI244+BI248+BI250+BI254+BI256+BI260+BI262+BI266+BE260","v":74.592226471511381},28,null,{"$f":"-BK248-BN238","v":-25.126355567961987},74.592226471511381,28,null,"بالای دامن فون تا زمین درانتخاب دامن فون متصل به پیراهن راسته  k2",{"$f":"K112","v":66.580000000000013},"k",null,"(9 → 10)",{"$f":"BT259*SIN(BT253)","v":0.26310990004404233},null,{"$f":"BX242+BX243+BX247+BX249+BX253+BX255+BX259+BX261+BX265+BZ262","v":45.599662627449845},{"$f":"BX244+BX248+BX250+BX254+BX256+BX260+BX262+BX266+BT261","v":69.636288136169469},28,null,null,"(1 → m9)",{"$f":"CF240+0.35*(CF242-CF240)","v":7.5537678909386212},null,null,{"$f":"CF248","v":7.5537678909386212},"(1 → m9)",null,{"$f":"0+AX99","v":5},{"$f":"CF250+AX98","v":73.382719832213283},"m11",null,{"$f":"CL249","v":10.28},{"$f":"CM249","v":73.382719832213283},"m12",null,{"$f":"CL278","v":20.28},{"$f":"CM278","v":52.399276983751093},"m12",null,null,null,null,null,null,null,null,null,{"$f":"DB241+2+DC278","v":46.32244},{"$f":"DC241+DC279","v":69.87470463247756},"p15",null,null,null,null,null,null,null,null,null,"(p27 → p28)",{"$f":"0.9*DS239","v":5.3463713151048537},null,{"$f":"AX104-DS245+AX99","v":25.5490203577031},{"$f":"AX113+AX98","v":119.86926418849009},"p19",null,{"$f":"DU239","v":16.25712},{"$f":"DV239","v":131.16},"p25",null,"(p22 → p23)",{"$f":"0.9*ED240","v":1.2803953835343203},null,{"$f":"BI108-ED245+BI98","v":29.937648522700876},{"$f":"BI110+BI97","v":112.47276584720476},"p14",null,{"$f":"EF239","v":24.648960000000002},{"$f":"EG239","v":125.82},"p20",null,null,{"$f":"'متغیرها '!C310","v":20},"d2",null,"(d5 → d4)",{"$f":"((ES251-ES246)-(ES250-ES245)*TAN(RADIANS(EO248)))*COS(RADIANS(EO248))*SIN(RADIANS(EO248))","v":9.413665986461778},null,null,null,null,null,null,{"$f":"'متغیرها '!C313","v":20},"d2",null,null,null,null,null,null,null,{"$f":"AZ148","v":11.681002542208532},{"$f":"BA148","v":141.60805476186675},30,null,"(dp'5 →dp6)",{"$f":"FN246","v":54.501561481481467},null,null,null,null,null,{"$f":"FP255","v":-1.6810025422085317},{"$f":"FQ255","v":141.60805476186675},"30قرینه",null,{"$f":"FX246","v":18.555932074503581},{"$f":"FY246","v":92.82},{"$f":"FZ246","v":" dd5"},null,null,{"$f":"AZ179-AZ167","v":0},"شیفت افقی تکه جلو",null,"c10",{"$f":"ATAN((GI256-GI253)/(GJ256-GJ253))","v":1.2193867573915091},null,{"$f":"GI240","v":5},{"$f":"GJ242","v":120.86895434192765},"a9",null,{"$f":"GI267+GD268","v":23.437489724505983},{"$f":"GJ267+GD266-0.07*(GJ246-GJ265)","v":113.7448286448364},"a46",null,{"$f":"GI250","v":13.809278427687049},{"$f":"GJ250+GD267","v":118.35618887438309},"a11",null,{"$f":"GI250","v":13.809278427687049},{"$f":"GJ250+GD267","v":118.35618887438309},"a11",null,{"$f":"GI263","v":16.953969111540619},{"$f":"GJ263","v":100.5},"a24",null,{"$f":"-GI250+GC249","v":-3.8092784276870493},{"$f":"GJ250+GD267","v":118.35618887438309},"a11",null,null,9,0.15707963267948966,{"$f":"GI247+GG254*SIN(GG257+HI248)","v":19.407258121915532},{"$f":"GJ247+GG254*COS(GG257+HI248)","v":122.54942459149817},{"$f":"ATAN((HK248-GJ242)/(HJ248-GI242))","v":0.12713112549267491},{"$f":"(HJ248-GI242)/COS(HL248)","v":13.254075352427327},null,null,{"$f":"GM245","v":16.846402153823011},{"$f":"GN245","v":122.75150144002116},"a43",null,"d10",{"$f":"'متغیرها '!C483","v":0.25},null,"yf7",{"$f":"HQ251-HT261","v":117.49054782223371},null,{"$f":"HZ247+HU241*COS(HX240)","v":17.621816492130623},{"$f":"IA247-HU241*SIN(HX240)","v":132.46550674406978},"e9",null,{"$f":"HZ281","v":15},{"$f":"IA281","v":102.10499756572702},"e42",null,null,null,null,null,null,null,null,null,{"$f":"HZ247","v":16.196778328469815},{"$f":"IA247","v":132.93376546754456},"e8",null,{"$f":"-HZ247+HT270","v":-6.196778328469815},{"$f":"IA247","v":132.93376546754456},"e8",null,null,6,{"$f":"IZ242+JC242*SIN(RADIANS(IY248)+IY244)","v":15.824273547462447},{"$f":"JA242+JC242*COS(RADIANS(IY248)+IY244)","v":129.68905434253548},{"$f":"IF(IZ243>IZ248,ATAN((JA243-JA248)/(IZ243-IZ248)),ATAN((JA243-JA248)/(IZ248-IZ243)))","v":-1.4718711239456328},{"$f":"IF(IZ243>IZ248,(IZ243-IZ248)/COS(JB248),(IZ248-IZ243)/COS(JB248))","v":3.2195761968576604}]
[null,null,null,null,null,"متغیرهای محاسبه-یقه آرشال",null,null,null,null,null,null,null,"(e → e3)",{"$f":"SQRT(O248*O248+G272*G272)","v":3.3595851590529344},null,null,null,null,null,null,null,null,null,null,null,null,null,null,null,null,null,null,null,null,null,null,null,null,null,null,null,"d0",{"$f":"'متغیرها '!C451","v":0.9},null,null,7.6472891220079973,120.6495365519644,{"$f":"AS261","v":"d7"},null,{"$f":"'متغیرها '!C425*(AY240-AY241)","v":14.452743913620525},{"$f":"AZ241+0.01*(AZ240-AZ241)","v":66.99410885847206},"5n",null,null,null,{"$f":"L125","v":3.4212029737628913},"(10 → 11)",null,"(10 → 11)",{"$f":"(BE255+BE257*SIN(BE256)+BE258*SIN(BE259))*(SIN(2*BE252)-SIN(BE252))","v":1.1135790574147892},null,null,null,null,null,null,null,null,null,null,{"$f":"Y128","v":2.4704632477561245E-2},"(12 → 13)",null,"(10 → 11)",{"$f":"(BT256+BT258*SIN(BT257)+BT259*SIN(BT260))*(SIN(2*BT253)-SIN(BT253))","v":1.1501666584613819},null,null,null,null,null,null,"(m9→ m10)",{"$f":"0.07*(CF243-CF241)+CF241","v":6.8287527999999993},null,null,{"$f":"CF249","v":6.8287527999999993},"(m9→ m10)",null,{"$f":"CF251+AX99","v":10.28},{"$f":"CF250+AX98","v":73.382719832213283},"m12",null,null,null,null,null,null,null,null,null,{"$f":"BO178","v":15},{"$f":"BP178","v":96.5},44,null,null,null,null,null,{"$f":"DF248+I111-DC260+DG275-DC239+DG239-SQRT(POWER(DB244-DB239,2)+POWER(DC244-DC239,2))","v":58.251237026237121},{"$f":"DG248","v":69.87470463247756},"p16",null,{"$f":"DF242","v":12.57704098312473},{"$f":"DG242","v":66.580000000000013},"p12",null,{"$f":"DF278","v":2.7989645989935896},{"$f":"DG278","v":71.580000000000013},"p6",null,"(p2 → p29)",{"$f":"0.8*DS240","v":9.0056960000000004},null,{"$f":"AX104-DS243+AX99","v":29.788189557703099},{"$f":"AX113+DS244+AX98","v":121.24263216464297},"p18",null,{"$f":"DU244","v":23.732233557703104},{"$f":"DV244","v":129.02505069617604},"p16",null,"(p2 → p24)",{"$f":"0.75*ED239","v":7.23672},null,{"$f":"BI108-ED243+BI98","v":33.597751722700878},{"$f":"BI110+ED244+BI97","v":114.63310412812383},"p13",null,{"$f":"EF244","v":26.887562522700875},{"$f":"EG244","v":125.18063808790521},"p11",null,null,{"$f":"'متغیرها '!C311","v":0},"شیفت عمودی دراپه",null,"(22 → 34)",{"$f":"SQRT(POWER((EN239-EN240),2)+POWER((EO240-EO239),2))","v":5.354732138280319},"شیفت",{"$f":"EU247","v":35.844145557703101},{"$f":"EV247","v":115.38738418849009},14,null,null,{"$f":"'متغیرها '!C314","v":0},"شیفت عمودی دراپه","شیفت",{"$f":"FC247","v":39.087906522700877},{"$f":"FD247","v":107.99088584720475},10,null,null,null,null,null,null,null,null,null,null,null,null,null,null,{"$f":"FQ259","v":34.684592778851552},{"$f":"FR259","v":111.89523358112649},"dp4",null,{"$f":"CR167","v":18.248969111540617},{"$f":"CS167","v":100.5},{"$f":"CT167","v":" شیفت40 یا dd5"},null,null,{"$f":"-GK101","v":10},"شیفت قرینه",null,"c11",{"$f":"ATAN((GI246-GI268)/(GJ246-GJ268))","v":1.0303466894430937},null,{"$f":"GI242","v":6.2601469111540613},{"$f":"GJ241+GJ241-GJ242","v":119.53104565807236},"a10",null,{"$f":"GI268+GD268","v":27.977445260850679},{"$f":"GJ268+GD266+0.03*(GJ246-GJ265)","v":115.69065678893891},"a47",null,{"$f":"GI255","v":13.809278427687049},{"$f":"GJ255+GD267","v":118.35618887438309},"a16",null,{"$f":"GI255","v":13.809278427687049},{"$f":"GJ255+GD267","v":118.35618887438309},"a16",null,null,null,null,null,{"$f":"-GI255+GC249","v":-3.8092784276870493},{"$f":"GJ255+GD267","v":118.35618887438309},"a16",null,null,10,0.17453292519943295,{"$f":"GI247+GG254*SIN(GG257+HI249)","v":19.58007250667977},{"$f":"GJ247+GG254*COS(GG257+HI249)","v":122.50509740551787},{"$f":"ATAN((HK249-GJ242)/(HJ249-GI242))","v":0.12222199793604907},{"$f":"(HJ249-GI242)/COS(HL249)","v":13.4200365869425},null,null,{"$f":"GM251","v":21.877256125368866},{"$f":"GN251","v":122.61997759957647},"a49",null,"d11",{"$f":"'متغیرها '!C489","v":3},null,"xf8",{"$f":"HP250-HT260","v":26.908110096914726},null,{"$f":"HZ248+HX242*SIN(0.5*HX241-HX240)","v":17.521769594261922},{"$f":"IA248-HX242*COS(0.5*HX241-HX240)","v":128.20491962276517},"e10",null,null,null,null,null,{"$f":"HZ286","v":29.68559878346603},{"$f":"IA286","v":116.93561016134666},"e47",null,{"$f":"-HZ286+HT270","v":-19.68559878346603},{"$f":"IA286","v":116.93561016134666},"e47",null,{"$f":"HZ248","v":17.621816492130623},{"$f":"IA248","v":132.46550674406978},"e9",null,{"$f":"-HZ248+HT270","v":-7.6218164921306233},{"$f":"IA248","v":132.46550674406978},"e9",null,null,8,{"$f":"IZ242+JC242*SIN(RADIANS(IY249)+IY244)","v":16.246025470200895},{"$f":"JA242+JC242*COS(RADIANS(IY249)+IY244)","v":129.77009424880697},{"$f":"IF(IZ243>IZ249,ATAN((JA243-JA249)/(IZ243-IZ249)),ATAN((JA243-JA249)/(IZ249-IZ243)))","v":-1.3492984772969323},{"$f":"IF(IZ243>IZ249,(IZ243-IZ249)/COS(JB249),(IZ249-IZ243)/COS(JB249))","v":3.3671361329210319}]
[null,null,null,null,null,"(25 → a2)",{"$f":"SQRT(POWER((BK138-BK132),2)+POWER((BL138-BL132),2))+SQRT(POWER((BK132-BK135),2)+POWER((BL132-BL135),2))+SQRT(POWER((BK135-BK104),2)+POWER((BL135-BL104),2))","v":8.9876145850687976},"نصف نوار گردن از پشت",null,"خطوط برش یقه آرشال",null,"رسم",null,"(e3 → e5)",{"$f":"O249+O253","v":12.807905372734655},null,null,{"$f":"R248","v":13.351253177760663},{"$f":"S248","v":133.49676563115455},51,null,null,null,null,null,null,null,null,null,null,null,null,null,null,null,null,null,null,null,null,null,null,"d1",{"$f":"'متغیرها '!C452","v":1.5},null,null,{"$f":"AQ243","v":3.3200600000000002},{"$f":"AR243","v":114.42},{"$f":"AS243","v":"e1"},null,{"$f":"AY249+0.65*(AY252-AY249)","v":20.734578140387264},{"$f":"AZ249+0.2*(AZ252-AZ249)","v":70.22415795455403},"6n",null,null,null,{"$f":"'متغیرها '!C55","v":0},"شیفت افقی تکه پهلو پیراهن",null,"(11 → 12)",{"$f":"(BE255+BE257*SIN(BE256)+BE258*SIN(BE259))*(COS(BE252)-COS(2*BE252))","v":8.3675379508474493E-2},null,null,null,"انحنا بالا",null,null,null,"انحنا بالا",null,null,{"$f":"'متغیرها '!C57","v":0},"شیفت عمودی تکه پهلو پیراهن",null,"(11 → 12)",{"$f":"(BT256+BT258*SIN(BT257)+BT259*SIN(BT260))*(COS(BT253)-COS(2*BT253))","v":8.642460632132927E-2},null,null,null,null,null,null,"(1 → m11)",{"$f":"CF240-('متغیرها '!C420)*'متغیرها '!C417","v":1.8027198322132705},null,{"$f":"CL246","v":5},{"$f":"CM246","v":79.133767890938628},"m9",null,{"$f":"BD97","v":3.3200600000000002},{"$f":"CM248","v":73.382719832213283},"m'11",null,{"$f":"CL249","v":10.28},{"$f":"CM249","v":73.382719832213283},"m12",null,{"$f":"CL278","v":20.28},{"$f":"CM278","v":52.399276983751093},"m12",null,{"$f":"CH273","v":15},{"$f":"CI273","v":88.352063105894246},"s5",null,null,null,null,null,{"$f":"DF269-0.25*(DC274-1)*DD266","v":44.154267052201249},{"$f":"DG268","v":67.454704632477572},"p17",null,{"$f":"DF241","v":12.57704098312473},{"$f":"DG241","v":67.064000000000007},"p11",null,{"$f":"DF277","v":2.7989645989935896},{"$f":"DG277","v":72.064000000000007},"p5",null,"(p29 →p30)",{"$f":"0.5*DS239","v":2.970206286169363},null,{"$f":"AX104-DS243+AX99","v":29.788189557703099},{"$f":"AX113+AX98","v":119.86926418849009},"p17",null,null,null,null,null,"(p24 →p25)",{"$f":"0.6*ED240","v":0.85359692235621343},null,{"$f":"BI108-ED243+BI98","v":33.597751722700878},{"$f":"BI110+BI97","v":112.47276584720476},"p12",null,null,null,"بندینک",null,null,{"$f":"'متغیرها '!B315","v":0.27820102979369776},"زاویه متوسط سرشانه",null,"x34d",{"$f":"EN259-(EO257-0.5*EO257*EO258)*COS(EO246)","v":18.77572451061917},"شیفت",{"$f":"IF(ES255>EO244,ES254,EN244)+'متغیرها '!C51","v":34.825303673989595},{"$f":"IF(ES255>EO244,ES255,EO244)+EO249+'متغیرها '!C52","v":110.35},"41 یا  d8",null,null,{"$f":"'متغیرها '!B315","v":0.27820102979369776},"زاویه متوسط سرشانه","شیفت",{"$f":"IF(ES272>EZ244,ES271,EY244)+'متغیرها '!C53","v":38.850305135321662},{"$f":"IF(ES272>EZ244,ES272,EZ244)+EZ249+'متغیرها '!C54","v":104.65},"36 یا d8",null,null,"محاسبه α1 به روش تخمین",null,null,null,null,null,null,null,null,null,null,null,null,null,null,null,null,null,null,null,null,"متغیرهای ورودی",null,null,"c12",{"$f":"GG249-RADIANS(10)","v":0.85581376424366074},null,{"$f":"GI251","v":13.809278427687049},{"$f":"IF(GD256>0,GJ249,GJ255)","v":118.35618887438309},"a11",null,{"$f":"GI246+GD268","v":31.220270643954034},{"$f":"GJ246+GD266","v":117.49054782223371},"a48",null,{"$f":"GM253","v":16.08290724847264},{"$f":"GN253+GD267","v":117.82542113857991},"a51",null,{"$f":"GI258","v":15.705373769613836},{"$f":"GJ258+GD267","v":119.73904721859577},"a19",null,{"$f":"GM262","v":18.248969111540617},{"$f":"GN262","v":100.5},"a61",null,{"$f":"-GM253+GC249","v":-6.0829072484726403},{"$f":"GN253+GD267","v":117.82542113857991},"a51",null,null,11,0.19198621771937624,{"$f":"GI247+GG254*SIN(GG257+HI250)","v":19.752086954910215},{"$f":"GJ247+GG254*COS(GG257+HI250)","v":122.45776094390158},{"$f":"ATAN((HK250-GJ242)/(HJ250-GI242))","v":0.1172198311754416},{"$f":"(HJ250-GI242)/COS(HL250)","v":13.585166637284461},null,null,{"$f":"GM258","v":26.908110096914726},{"$f":"GN258","v":120.64711999290618},"a57",null,"d12",{"$f":"'متغیرها '!C491","v":0},null,"yf8",{"$f":"HQ250-HT261","v":120.64711999290618},null,{"$f":"HZ249-HZ246+HZ245-0.05*(HZ249-HZ243)","v":9.3398301063877653},{"$f":"IA249-IA246+IA245+0.05*(IA249-IA243)","v":121.22369036747023},"e11",null,{"$f":"HZ281","v":15},102.10499756572702,"e42",null,{"$f":"HZ299","v":22.180122725483372},{"$f":"IA299","v":113.6008415726856},"e59",null,{"$f":"-HZ299+HT270","v":-12.180122725483372},{"$f":"IA299","v":113.6008415726856},"e59",null,null,null,null,null,null,null,null,null,null,10,{"$f":"IZ242+JC242*SIN(RADIANS(IY250)+IY244)","v":16.670348725005059},{"$f":"JA242+JC242*COS(RADIANS(IY250)+IY244)","v":129.83636585792027},{"$f":"IF(IZ243>IZ250,ATAN((JA243-JA250)/(IZ243-IZ250)),ATAN((JA243-JA250)/(IZ250-IZ243)))","v":-1.2364756507553958},{"$f":"IF(IZ243>IZ250,(IZ243-IZ250)/COS(JB250),(IZ250-IZ243)/COS(JB250))","v":3.5475632544642948}]
[null,null,null,null,null,"(a2 → a4)",{"$f":"2.4*G254*'متغیرها '!C164","v":7.6930584596165676},null,null,{"$f":"G257+AX99","v":18.292212144602942},{"$f":"AX103+G256+AX98","v":154.35437113608901},"a2",null,"(e → e4)",{"$f":"O248*G274/G272","v":3.7425889646099306},null,null,{"$f":"S239+AX99","v":8.3405012711042659},{"$f":"AX103-S238++AX98","v":128.15676563115454},"49'",null,null,null,null,null,null,null,null,"نقاط  ورودی",null,null,null,"محاسبات",null,null,"پشت یقه پروانه ای ",null,null,"رسم",null,null,null,"d2",{"$f":"'متغیرها '!C453","v":0.9},null,null,null,null,null,null,{"$f":"AY249+0.9*(AY252-AY249)","v":23.150668227605237},{"$f":"AZ249+0.5*(AZ252-AZ249)","v":75.069231598676993},"7n",null,null,"متغیر ورودی جلو",null,null,null,"(8 → 13)",{"$f":"BE257*(1+'متغیرها '!C320)*COS(2*BE252+BE256)","v":5.2505091480549337},null,{"$f":"0+BK268","v":5},{"$f":"BI239+BE260","v":95.7},2,null,{"$f":"-BK251-BN238","v":5},{"$f":"BL251","v":95.7},2,null,null,{"$f":"'متغیرها '!C56","v":0},"شیفت افقی تکه پهلو پیراهن",null,"(8 → 13)",{"$f":"BT258*(1+'متغیرها '!C320)*COS(2*BT253+BT257)","v":5.3488082354617958},null,null,null,"انحنا بالا",null,null,"(m11→ m12)",{"$f":"CF241","v":5.2799999999999994},null,null,{"$f":"CF241","v":5.2799999999999994},"(m1 → m2)",null,null,"جلو شورت",null,null,{"$f":"CL248","v":5},{"$f":"CM248","v":73.382719832213283},"m11",null,{"$f":"CL277","v":15},{"$f":"CM277","v":52.399276983751093},"m'11",null,null,null,null,null,null,null,null,null,null,null,null,null,null,null,null,null,null,null,null,null,null,null,null,null,null,null,null,{"$f":"DY238","v":5},{"$f":"DZ238","v":125.21958742766127},"p26",null,null,null,null,{"$f":"ED257","v":39.087906522700877},{"$f":"BI115+ED255+DS257","v":116.805465},"p1",null,{"$f":"ED257","v":39.087906522700877},{"$f":"BI115+DS257","v":87.498040000000003},"p4",null,{"$f":"AZ128-'متغیرها '!C51","v":25.651785035248011},{"$f":"BA128-'متغیرها '!C52","v":129.09321014225543},24,null,"y34d",{"$f":"EO259+(EO257-0.5*EO257*EO258)*SIN(EO246)","v":141.47393379513576},null,null,null,null,null,{"$f":"BK110-'متغیرها '!C56-'متغیرها '!C53","v":20.042555899094573},{"$f":"BL110-'متغیرها '!C57-'متغیرها '!C54","v":129.37423969210775},20,null,null,null,null,null,null," درجه α1"," رادیان α1","xdp'6","ydp'6","(dp4→dp'6)","(dp4→dp6)-(dp4→dp'6) ",null,null,null,null,null,null,{"$f":"FP254","v":-3.3512531777606629},{"$f":"FQ254","v":146.84676563115454},"25قرینه",null,{"$f":"FX249","v":18.248969111540617},{"$f":"FY249","v":100.5},{"$f":"FZ249","v":" شیفت40 یا dd5"},null,null,"b1",{"$f":"'متغیرها '!C457","v":-0.29999999999999982},null,"c13",{"$f":"GD266","v":0},null,{"$f":"IF(GD256>0,GI240,GI255)","v":13.809278427687049},{"$f":"IF(GD256>0,GJ250+GD256*(GI241-GI240),GJ255)","v":118.35618887438309},"a12",null,{"$f":"GM245+0.35*(GM250-GM245)","v":21.877256125368866},{"$f":"GN245-(0.4-1.5*GD260)*(GN245-GN250)","v":122.61997759957647},"a49",null,{"$f":"GM252","v":18.35653606925823},{"$f":"GN252+GD267","v":117.64849855997885},"a50",null,{"$f":"GI241","v":17.60146911154062},{"$f":"GJ241+GD267","v":120.2},"a2",null,{"$f":"GM263","v":18.248969111540617},{"$f":"GN263","v":112.62597746197747},"a62",null,{"$f":"-GM252+GC249","v":-8.3565360692582296},{"$f":"GN252+GD267","v":117.64849855997885},"a50",null,null,12,0.20943951023931956,{"$f":"GI247+GG254*SIN(GG257+HI251)","v":19.92324906933959},{"$f":"GJ247+GG254*COS(GG257+HI251)","v":122.40742962579407},{"$f":"ATAN((HK251-GJ242)/(HJ251-GI242))","v":0.11212843287256904},{"$f":"(HJ251-GI242)/COS(HL251)","v":13.749446053717289},null,null,{"$f":"GM250","v":31.220270643954034},{"$f":"GN250","v":117.49054782223371},"a48",null,"d13",{"$f":"'متغیرها '!C493","v":0},null,"xf9",{"$f":"HP255-HT260","v":27.977445260850679},null,{"$f":"IM294+HT260","v":30.84871295700874},{"$f":"IN294+HT261","v":117.76254044369443},"e12",null,19.635511681068955,107.39649878286352,"e43",null,{"$f":"HZ293","v":16.953969111540619},{"$f":"IA293","v":112.62597746197747},"e54",null,{"$f":"-HZ293+HT270","v":-6.9539691115406193},{"$f":"IA293","v":112.62597746197747},"e54",null,{"$f":"HZ248","v":17.621816492130623},{"$f":"IA248","v":132.46550674406978},"e9",null,{"$f":"-HZ248+HT270","v":-7.6218164921306233},{"$f":"IA248","v":132.46550674406978},"e9",null,null,12,{"$f":"IZ242+JC242*SIN(RADIANS(IY251)+IY244)","v":17.096726339350948},{"$f":"JA242+JC242*COS(RADIANS(IY251)+IY244)","v":129.88778842812809},{"$f":"IF(IZ243>IZ251,ATAN((JA243-JA251)/(IZ243-IZ251)),ATAN((JA243-JA251)/(IZ251-IZ243)))","v":-1.1335502995650133},{"$f":"IF(IZ243>IZ251,(IZ243-IZ251)/COS(JB251),(IZ251-IZ243)/COS(JB251))","v":3.7559218309496334}]
[null,null,null,null,null,"(a4 → a6)",{"$f":"0.8*G250","v":7.1900916680550386},null,null,{"$f":"G259+AX99","v":13.179570593859246},{"$f":"AX103+G258+AX98","v":160.10276611527121},"a4",null,"(e2 → e8)",{"$f":"H244*H124*SIN(O245)","v":1.8379576901557224},null,null,{"$f":"0+AX99","v":5},{"$f":"AX103-S242+AX98","v":120.14676563115455},49,null,null,null,null,null,null,null,null,"مولفه افقی","مولفه عمودی","اسم نقطه ",null,"ζ1",{"$f":"ATAN((AC253-AC254)/(AD253-AD254))","v":9.9598142252939573E-2},null,"(1 → b1)",{"$f":"AD253-AD257+'متغیرها '!C386*AH241*COS(2*AD245-AH239)","v":73.117739378628542},null,{"$f":"AK253+AC257","v":36.979658414692906},{"$f":"AK252+AD257","v":139.69773937862857},"b2",null,"d3",{"$f":"'متغیرها '!C454","v":0.5},null,null,{"$f":"AQ240","v":13.351253177760661},{"$f":"AR240","v":146.84676563115454},{"$f":"AS240","v":25},null,{"$f":"AY240+(AZ240-AZ252)*TAN(AZ242)","v":24.117104262492429},{"$f":"AZ241+'متغیرها '!C424*(AZ240-AZ241)","v":83.144354338881911},"8n",null,null,"β1",{"$f":"'متغیرها '!C321","v":0.05},null,null,"(13 → 14)",{"$f":"BE257*SIN(2*BE252+BE256)","v":-0.31331957402233218},null,{"$f":"BI242+BK268","v":10.192998708568059},{"$f":"BI239+BI241+BE260","v":94.740428546245241},4,null,{"$f":"-BK252-BN238","v":-0.19299870856805867},94.740428546245241,4,null,"متغیر ورودی پشت",null,null,null,"(13 → 14)",{"$f":"BT258*SIN(2*BT253+BT257)","v":-0.57791521559293857},null,{"$f":"BZ262","v":15},{"$f":"BX239+BT261","v":91.7},2,null,null,null,null,null,{"$f":"CL247","v":11.8287528},{"$f":"CM247","v":79.133767890938628},"m10",null,"مولفه افقی","مولفه عمودی","اسم نقطه ",null,null,null,null,null,null,null,null,null,null,"خط مرکزی پشت مایو متصل به دکلته",null,null,null,null,null,null,{"$f":"DF268+0.25*(DC274-1)*DD266","v":60.419409974035872},{"$f":"DG268","v":67.454704632477572},"p19",null,{"$f":"DF241","v":12.57704098312473},{"$f":"DG241","v":67.064000000000007},"p11",null,{"$f":"DF277","v":2.7989645989935896},{"$f":"DG277","v":72.064000000000007},"p5",null,null,null,null,null,null,"بندینک پشت گردنی وصل به پیش سینه رکابی",null,{"$f":"DY256","v":3.3200600000000002},{"$f":"DZ238","v":125.21958742766127},"p10",null,null,null,null,null,null,null,null,{"$f":"ED256+ED257","v":46.56302008040398},{"$f":"BI115+DS257","v":87.498040000000003},"p5",null,{"$f":"AZ115-'متغیرها '!C51","v":24.538294582241775},{"$f":"BA115-'متغیرها '!C52","v":123.14350418849008},16,null,"x d4",{"$f":"ES245-ES248","v":-9.413665986461778},"شیفت",{"$f":"EU250","v":34.825303673989595},{"$f":"EV250","v":110.35},"41 یا  d8",null,{"$f":"BK112-'متغیرها '!C56-'متغیرها '!C53","v":19.785538025546387},{"$f":"BL112-'متغیرها '!C57-'متغیرها '!C54","v":122.47080584720476},12,"شیفت",{"$f":"FC250","v":38.850305135321662},{"$f":"FD250","v":104.65},"36 یا d8",null,null,5,{"$f":"RADIANS(FH252)","v":8.7266462599716474E-2},{"$f":"FQ262+FN248*COS(FI252)","v":31.51579325223981},{"$f":"FR262-FN248*SIN(FI252)","v":89.571078901937227},{"$f":"SQRT(POWER((FQ259-FJ252),2)+POWER((FR259-FK252),2))","v":22.547930560923383},{"$f":"ABS(FN245-FL252)","v":25.026100046440213},null,null,null,null,null,null,{"$f":"FQ259","v":34.684592778851552},{"$f":"FR259","v":111.89523358112649},"dp4",null,{"$f":"CR166","v":17.60146911154062},{"$f":"CS166","v":118.23},{"$f":"CT166","v":"شیفت 43"},null,null,"b2",{"$f":"'متغیرها '!C458","v":0.25},null,"c14",{"$f":"GD267","v":0},null,{"$f":"GI240","v":5},{"$f":"GJ248+IF(GD256<0,GD256*(GI241-GI240),0)","v":120.86895434192765},"a13",null,{"$f":"GM242","v":18.35653606925823},{"$f":"GJ241-GN242+GJ241","v":117.64849855997885},"a50",null,{"$f":"GM255","v":23.402569537846315},{"$f":"GN255+GD267","v":118.16258963072848},"a53",null,{"$f":"GI271","v":24.410869877747327},{"$f":"GJ271+GD267","v":120.87736304444158},"a32",null,null,null,null,null,{"$f":"-GM255+GC249","v":-13.402569537846315},{"$f":"GN255+GD267","v":118.16258963072848},"a53",null,"بهینه c20",13,0.22689280275926285,{"$f":"GI247+GG254*SIN(GG257+HI252)","v":20.093506712329763},{"$f":"GJ247+GG254*COS(GG257+HI252)","v":122.3541187826024},{"$f":"ATAN((HK252-GJ242)/(HJ252-GI242))","v":0.10695141329414286},{"$f":"(HJ252-GI242)/COS(HL252)","v":13.912855810531084},null,null,{"$f":"GM246","v":17.337300589024174},117.68873945099932,"a44",null,"d14",{"$f":"'متغیرها '!C481","v":0.8},null,"yf9",{"$f":"HQ255-HT261","v":115.69065678893891},null,{"$f":"IM301+HT260","v":30.848708174706346},{"$f":"IN301+HT261","v":117.28431020428536},"e13",null,24.27102336213791,112.688,"e44",null,{"$f":"HZ294","v":11.607058011347341},{"$f":"IA294","v":115.92316821395754},"e55",null,{"$f":"-HZ294+HT270","v":-1.6070580113473412},{"$f":"IA294","v":115.92316821395754},"e55",null,{"$f":"HZ249","v":17.521769594261922},{"$f":"IA249","v":128.20491962276517},"e10",null,{"$f":"-HZ249+HT270","v":-7.5217695942619223},{"$f":"IA249","v":128.20491962276517},"e10",null,null,14,{"$f":"IZ242+JC242*SIN(RADIANS(IY252)+IY244)","v":17.524638837793916},{"$f":"JA242+JC242*COS(RADIANS(IY252)+IY244)","v":129.92429930894963},{"$f":"IF(IZ243>IZ252,ATAN((JA243-JA252)/(IZ243-IZ252)),ATAN((JA243-JA252)/(IZ252-IZ243)))","v":-1.0400763186057778},{"$f":"IF(IZ243>IZ252,(IZ243-IZ252)/COS(JB252),(IZ252-IZ243)/COS(JB252))","v":3.987603665686779}]
[null,null,null,null,null,"یقه آرشال در مانتو راسته ",null,null,null,null,null,"خطوط انحنا یقه آرشال",null,null,null,null,null," یقه قایقی در  جلو پیراهن با ساسون زیر بغل",null,null,null,null,null,null,null,null,null,null,{"$f":"BK132","v":18.339368512476952},{"$f":"BL132","v":136.67575118749201},26,null,null,null,null,"(b3 → b4)",{"$f":"AC255-AC257+0.5*(AK253-AC255+AC257)","v":12.659513463584929},null,{"$f":"AM252","v":36.979658414692906},{"$f":"AN252","v":139.69773937862857},"b2",null,"d12",{"$f":"SQRT(POWER((AQ242-AQ240),2)+POWER((AR242-AR240),2))","v":8.9876145850688083},null,null,{"$f":"AQ244","v":34.581596165257494},{"$f":"AR244","v":126.8768192529092},{"$f":"AS244","v":"b4"},null,{"$f":"AY252+AZ243+AZ245","v":39.117104262492433},{"$f":"AZ252+AZ244+AZ246","v":83.144354338881911},"8n",null,null,"a1",{"$f":"IF('متغیرها '!C318=1,(BE240-BE244),BE248-BE261)","v":24.11999999999999},null,null,"(16 →17)",{"$f":"(BE255+2*BE257*SIN(BE256)+BE258*SIN(BE259))*(SIN(3*BE252)-SIN(2*BE252))","v":1.0665392502928852},null,{"$f":"BI242+BI245+BI251+BI257+BK268","v":25.931402614275029},{"$f":"BI239+BI246+BI252+BI258+BI241+BE260","v":93.801252959939617},20,null,{"$f":"-BK255-BN238","v":-15.931402614275029},93.801252959939617,20,null,"متغیرهای محاسبه ای پشت دامن فون",null,null,null,"(16 →17)",{"$f":"(BT256+2*BT258*SIN(BT257)+BT259*SIN(BT260))*(SIN(3*BT253)-SIN(2*BT253))","v":1.0893973044191347},null,{"$f":"BX242+BX245+BX251+BZ262","v":30.926439354100847},{"$f":"BX239+BX246+BX252+BX241+BT261","v":89.316525225842852},14,null,null,"متغیرهای خروجی مایو در  پشت پیراهن",null,null,"مولفه افقی","مولفه عمودی","اسم نقطه ",null,{"$f":"BD97","v":3.3200600000000002},{"$f":"CM253","v":96},"s'1",null,null,null,null,null,null,null,null,null,null,null,null,null,"مولفه افقی","مولفه عمودی","اسم نقطه ",null,null,null,null,null,null,null,null,null,null,null,null,null,"(p4→ p5)",{"$f":"AX104-DS240-DS241","v":7.4751135577031018},null,null,null,null,null,{"$f":"DY252","v":3.3200600000000002},{"$f":"DZ252","v":125.21958742766127},"p10",null,"(p1→ p4)",{"$f":"'متغیرها '!C428*(H127-0.5*(H126-H125))+'متغیرها '!C428*(H124-0.5*(H123-H122))","v":29.307424999999999},null,{"$f":"BO178","v":15},{"$f":"BP178","v":96.5},44,null,{"$f":"ED254+ED257","v":41.32650904540175},{"$f":"BI115+ED255+DS257","v":116.805465},"p3",null,{"$f":"AZ113-'متغیرها '!C51","v":30.844145557703101},{"$f":"BA113-'متغیرها '!C52","v":114.86926418849009},12,null,"yd8",{"$f":"ES246","v":105.35},"شیفت",{"$f":"EN239+'متغیرها '!C51","v":33.249929425595901},{"$f":"EO239+EO249+'متغیرها '!C52","v":140.04291609602075},{"$f":"EP239","v":22},null,{"$f":"BK114-'متغیرها '!C56-'متغیرها '!C53","v":25.811706522700881},{"$f":"BL114-'متغیرها '!C57-'متغیرها '!C54","v":112.47276584720476},9,"شیفت",{"$f":"FC239","v":35.642264270707003},{"$f":"FD239","v":135.02250374702837},{"$f":"FA239","v":18},null,null,20,0.3490658503988659,{"$f":"FQ262+FN248*COS(FI255)","v":28.436341812124311},{"$f":"FR262-FN248*SIN(FI255)","v":75.680571104393863},{"$f":"SQRT(POWER((FQ259-FJ255),2)+POWER((FR259-FK255),2))","v":36.749726780574491},{"$f":"ABS(FN245-FL255)","v":10.824303826789105},null,null,{"$f":"-(AZ148)+2*GC101","v":-1.6810025422085317},{"$f":"BA148","v":141.60805476186675},30,"قرینه",{"$f":"FX282","v":-23.525039999999997},{"$f":"FY282","v":103.92120297376289},{"$f":"FZ282","v":" شیفت41 یا d3"},null,16.953969111540619,100.5,"39 یا d5",null,null,"b5",{"$f":"'متغیرها '!C461","v":1.1000000000000001},null,"c17",{"$f":"SQRT(POWER((GG241),2)+GD265*0.5*POWER((GG253),2))","v":12.079088514499631},null,{"$f":"GE274","v":13.809278427687049},{"$f":"GF274","v":118.35618887438309},"a16",null,{"$f":"GM252+0.35*(GM254-GM252)","v":23.402569537846315},{"$f":"GN252+(0.35-GD260)*(GN254-GN252)","v":118.16258963072848},"a53",null,null,null,null,null,{"$f":"GI270","v":31.220270643954034},{"$f":"GJ270+GD267","v":122.9094521777663},"a31",null,27.328880184230009,114.57180560607996,"a64",null,null,null,null,null,null,16,0.27925268031909273,{"$f":"GI247+GG254*SIN(GG257+HI255)","v":20.598335663642573},{"$f":"GJ247+GG254*COS(GG257+HI255)","v":122.17647600052192},{"$f":"ATAN((HK255-GJ242)/(HJ255-GI242))","v":9.0940024054104451E-2},{"$f":"(HJ255-GI242)/COS(HL255)","v":14.397682785423534},null,null,27.977445260850679,115.69065678893891,"a47",null,"d17",{"$f":"'متغیرها '!C477","v":0.9},null,"f12",{"$f":"SQRT(POWER((ID265-ID270),2)+POWER((IE265-IE270),2))","v":12.30395615369909},null,{"$f":"HZ256+0.03*(IA256-IA255)+0.1*(HZ253-HZ256)","v":30.197586161188603},{"$f":"IA254","v":111.01895434192765},"e16",null,{"$f":"HZ284","v":25.77102336213791},{"$f":"IA284","v":112.688},"e45",null,null,null,null,null,null,null,null,null,{"$f":"HZ250","v":9.3398301063877653},{"$f":"IA250","v":121.22369036747023},"e11",null,{"$f":"-HZ250+HT270","v":0.66016989361223466},{"$f":"IA250","v":121.22369036747023},"e11",null,null,20,{"$f":"IZ242+JC242*SIN(RADIANS(IY255)+IY244)","v":18.812366645540546},{"$f":"JA242+JC242*COS(RADIANS(IY255)+IY244)","v":129.94400812721011},{"$f":"IF(IZ243>IZ255,ATAN((JA243-JA255)/(IZ243-IZ255)),ATAN((JA243-JA255)/(IZ255-IZ243)))","v":-0.80796952204267714},{"$f":"IF(IZ243>IZ255,(IZ243-IZ255)/COS(JB255),(IZ255-IZ243)/COS(JB255))","v":4.7846973076151613}]
[null,null,null,null,null,"(2 → a1)",{"$f":"G250*COS(O244+G253)","v":7.507605504934463},null,null,{"$f":"AZ140","v":13.351253177760663},{"$f":"BA140","v":146.84676563115454},25,null,"نقاط ورودی یقه آرشال",null,null,null,"نقاط  ورودی",null,null,null,"محاسبات",null,null,"رسم",null,null,null,{"$f":"BK138","v":15},{"$f":"BL138","v":136.41391319447115},24,null,null,null,null,"(1 → b5)",{"$f":"AD255-AD257+0.25*(AK252-AD255+AD257)","v":70.851248235276131},null,{"$f":"AK255+AC257","v":27.659513463584929},{"$f":"AK254+AD257","v":139.24444114995808},"b4",null,"نقاط  خروجی ",null,null,null,null,null,null,null,{"$f":"AY251+AZ243+AZ245","v":38.150668227605237},{"$f":"AZ251+AZ244+AZ246","v":75.069231598676993},"7n",null,null,"α1",{"$f":"ASIN((H105-H104)/(0.4*('متغیرها '!U52-'متغیرها '!U53)))+IF('متغیرها '!C318=1,ATAN((BE243-BE240-BE249)/(BD241-BD240+BD243-BD242)),ATAN((BE247-BE246-BE249)/(BD247-BD244)))","v":-0.15960344935412882},null,null,"(17 → 18)",{"$f":"(BE255+2*BE257*SIN(BE256)+BE258*SIN(BE259))*(COS(2*BE252)-COS(3*BE252))","v":0.13401613515829236},null,{"$f":"BI242+BI245+BI251+BI257+BI263+BK268","v":31.186960849997046},{"$f":"BI239+BI246+BI252+BI258+BI264+BI241+BE260","v":94.013674946110015},26,null,{"$f":"-BK256-BN238","v":-21.186960849997046},94.013674946110015,26,null,"a1",{"$f":"IF('متغیرها '!C318=1,(BT240-BT244),BT248-BT262)","v":25.11999999999999},null,null,"(17 → 18)",{"$f":"(BT256+2*BT258*SIN(BT257)+BT259*SIN(BT260))*(COS(2*BT253)-COS(3*BT253))","v":0.13688836707136803},null,{"$f":"BX242+BX245+BX251+BX257+BZ262","v":36.297446694455274},{"$f":"BX239+BX246+BX252+BX258+BX241+BT261","v":89.006661245979728},20,null,null,"(1 → m1)",{"$f":"H106-H114-CF254","v":-12.180723016248919},null,{"$f":"CL270","v":42.601317974907232},{"$f":"CM270","v":78.703501658714671},"m4",null,null," شورت - مرغک",null,null,{"$f":"CL248","v":5},{"$f":"CM248","v":73.382719832213283},"m11",null,{"$f":"CH269","v":15},{"$f":"CI267-(CM264-CM258)","v":64.026931958362965},"m7'",null,{"$f":"GJ347","v":15},{"$f":"GK347","v":112.8},"45 یا d3",null,{"$f":"BD150","v":5},{"$f":"BE150","v":71.580000000000013},1,null,null,null,null,null,{"$f":"DF239","v":15},{"$f":"DG239","v":66.128797026237123},"p9",null,{"$f":"DF275","v":5},{"$f":"DG275","v":74},"p3",null,"مولفه افقی مرجع بندینک",{"$f":"DY262+'متغیرها '!C435*(DY246-DY262)","v":35.844145557703101},null,{"$f":"DS256","v":35.844145557703101},{"$f":"DS257","v":77.5},"p4",null,{"$f":"BD97","v":3.3200600000000002},{"$f":"BE97","v":71.580000000000013},"1'",null,"(p4 → p5)",{"$f":"AX104-DS240-DS241","v":7.4751135577031018},null,null,null,null,null,null,null,null,null,{"$f":"BD156-'متغیرها '!C55-'متغیرها '!C51","v":32.567945557703098},{"$f":"BE156-'متغیرها '!C52","v":114.86926418849009},13,null,"xd'3",{"$f":"ES245+(ES254-ES245)*(1-COS(RADIANS(EO248)))","v":1.7986858988427288},null,{"$f":"ES250+'متغیرها '!C51","v":23.77572451061917},{"$f":"ES251+EO249+'متغیرها '!C52","v":146.47393379513576},"34d شیفت",null,{"$f":"CA418-'متغیرها '!C53","v":21.04},{"$f":"CB418-'متغیرها '!C54","v":134.82840415344404},"شبیه ساز 18",null,{"$f":"ES267+'متغیرها '!C53","v":25.406044422299345},{"$f":"ES268+EZ249+'متغیرها '!C54","v":140.13676085203045},"32d شیفت",null,null,25,0.43633231299858238,{"$f":"FQ262+FN248*COS(FI256)","v":26.616816242990062},{"$f":"FR262-FN248*SIN(FI256)","v":71.287847798305336},{"$f":"SQRT(POWER((FQ259-FJ256),2)+POWER((FR259-FK256),2))","v":41.401072429919772},{"$f":"ABS(FN245-FL256)","v":6.1729581774438245},null,null,{"$f":"-(AZ145)+2*GC101","v":1.6594987288957341},{"$f":"BA145","v":137.41708606643653},28,null,null,null,null,null,null,null,null,null,null,"b6",{"$f":"'متغیرها '!C462","v":0},null,"c18",{"$f":"SQRT(POWER((GG243),2)+0.4*POWER((GG253),2))","v":14.823729306937299},null,{"$f":"GI240+GD258*(GI241-GI240)","v":22.642056756156865},{"$f":"GJ241+GD257*GC246","v":126.875},"a17",null,{"$f":"GM252+0.7*(GM254-GM252)","v":28.448603006434404},{"$f":"GN252+(0.7-GD260)*(GN254-GN252)","v":119.96190837835221},"a54",null,{"$f":"GM254","v":32.773774550938477},{"$f":"GN254+GD267","v":122.78940926747519},"a52",null,{"$f":"GI273","v":31.817216500607426},{"$f":"GJ273+GD267","v":124.1050740704989},"a34",null,31.220270643954034,117.49054782223371,"a65",null,{"$f":"-GM254+GC249","v":-22.773774550938477},{"$f":"GN254+GD267","v":122.78940926747519},"a52",null,null,17,0.29670597283903605,{"$f":"GI247+GG254*SIN(GG257+HI256)","v":20.764459791138162},{"$f":"GJ247+GG254*COS(GG257+HI256)","v":122.11141844706189},{"$f":"ATAN((HK256-GJ242)/(HJ256-GI242))","v":8.5453091701744643E-2},{"$f":"(HJ256-GI242)/COS(HL256)","v":14.557431407120546},null,null,{"$f":"GM242","v":18.35653606925823},{"$f":"GN242+HT261","v":122.75150144002116},"a40",null,null,null,null,"f13",{"$f":"SQRT(POWER((HZ256-HZ260),2)+POWER((IA256-IA260),2))","v":17.14443855102833},null,{"$f":"HZ251-HT260+HU251-HX266","v":29.553712957008742},{"$f":"IA251-HT261","v":117.76254044369443},"e17",null,null,null,null,null,"رسم کاسه یک تکه زیرین در سوتین متصل به بالاتنه",null,null,null,"قرینه کاسه یک تکه زیرین در سوتین متصل به بالاتنه",null,null,null,{"$f":"HZ243","v":6.2601469111540613},{"$f":"IA243","v":120.86895434192765},"e4",null,{"$f":"-HZ243+HT270","v":3.7398530888459387},{"$f":"IA243","v":120.86895434192765},"e4",null,null,22,{"$f":"IZ242+JC242*SIN(RADIANS(IY256)+IY244)","v":19.241196061466763},{"$f":"JA242+JC242*COS(RADIANS(IY256)+IY244)","v":129.92060977730145},{"$f":"IF(IZ243>IZ256,ATAN((JA243-JA256)/(IZ243-IZ256)),ATAN((JA243-JA256)/(IZ256-IZ243)))","v":-0.74365150097805521},{"$f":"IF(IZ243>IZ256,(IZ243-IZ256)/COS(JB256),(IZ256-IZ243)/COS(JB256))","v":5.0745829029174461}]
[null,null,null,null,null,"(2 → a3)",{"$f":"G256+G251*SIN(RADIANS(15)+O244+G253)","v":13.256000484116663},null,null,{"$f":"J251","v":18.292212144602942},{"$f":"K251","v":154.35437113608901},"a2",null,{"$f":"J251","v":18.292212144602942},{"$f":"K251","v":154.35437113608901},"a2",null,{"$f":"BW137","v":24.463474035591126},{"$f":"BX137","v":144.52135929212406},"b16","چرخیده","(b1 → b2)",{"$f":"R258-R261-'متغیرها '!C382*H167*COS(S262)","v":18.270317405808413},null,{"$f":"R258","v":24.463474035591126},{"$f":"S258","v":144.52135929212406},{"$f":"T258","v":"b16"},null,null,null,null,null,null,null,null,"مولفه عمودی نقطه اتصال به سرشانه جلو",{"$f":"AD253-'متغیرها '!C385*AH254*COS(AH252)","v":128.18119785145331},null,{"$f":"AC255","v":18.339368512476952},{"$f":"AD255","v":136.67575118749201},{"$f":"AE255","v":26},null,{"$f":"AQ242-AR247*AR250*COS(RADIANS(90)-AR254)","v":14.275820510974198},{"$f":"AR242+AR247*AR250*SIN(RADIANS(90)-AR254)","v":156.99766748983123},"d4",null,null,null,null,null,{"$f":"AY249+AZ243+AZ245","v":29.452743913620523},{"$f":"AZ249+AZ244+AZ246","v":66.99410885847206},"5n",null,null,"b1",{"$f":"BE257*COS(BE256)","v":5.1929987085680596},null,null,"(19 → 20)",{"$f":"BE257*SIN(3*BE252+BE256)","v":-5.0511920673761493E-2},null,{"$f":"BI242+BI245+BI251+BI257+BI263+BK268","v":31.186960849997046},{"$f":"BI239+BI246+BI252+BI258+BI264+BI241+BE260","v":94.013674946110015},26,null,{"$f":"-BK258-BN238","v":-21.186960849997046},{"$f":"BL258","v":94.013674946110015},26,null,"c1",{"$f":"IF('متغیرها '!C318=1,0.2*(SQRT(POWER((BS240-BS241),2)+POWER((BT240-BT241),2))+SQRT(POWER((BS242-BS243),2)+POWER((BT242-BT243),2))),0.2*(SQRT(POWER((BS244-BS246),2)+POWER((BT244-BT246),2))+SQRT(POWER((BS246-BS247),2)+POWER((BT246-BT247),2))))","v":5.3799382465003962},null,null,"(19 → 20)",{"$f":"BT258*SIN(3*BT253+BT257)","v":-0.30986397986311703},null,null,null,"خطوط برش ",null,null,"(1 → m3)",{"$f":"BI110-AX113+CF242","v":12.123501658714657},null,{"$f":"BK122-'متغیرها '!C56","v":39.087906522700877},{"$f":"BL122-'متغیرها '!C57","v":112.47276584720476},8,null,{"$f":"CL264","v":41.991914000000001},{"$f":"CM264-0.1*CI261","v":74.073473703091537},"s10",null,null,null,null,null,{"$f":"CT256+0.7*CI261","v":24.164722903852272},{"$f":"CU256+0.5*(CU259-CU256)","v":64.681555022923845},"m8'",null,null,null,null,null,{"$f":"AZ168","v":33.525039999999997},{"$f":"BA168","v":103.92120297376289},41,null,"نقاط کمکی",null,null,null,null,null,null,null,null,null,null,null,null,null,null,null,null,null,null,{"$f":"BD97","v":3.3200600000000002},{"$f":"BE97","v":71.580000000000013},"1'",null,null,null,null,{"$f":"BK170","v":15},{"$f":"BL170","v":79.400000000000006},48,null,{"$f":"EF251","v":39.087906522700877},{"$f":"EG251","v":116.805465},"p1",null,null,{"$f":"'متغیرها '!C71","v":0.05},"x6",null,"xd'4",{"$f":"ES252-(ES256-ES245)*COS(RADIANS(EO248))*COS(RADIANS(EO248))","v":-11.001945604745611},null,{"$f":"EU256","v":23.77572451061917},{"$f":"EV256","v":146.47393379513576},"34d شیفت",null,null,null,null,null,{"$f":"FC256","v":25.406044422299345},{"$f":"FD256","v":140.13676085203045},"32d شیفت",null,null,35,0.6108652381980153,{"$f":"FQ262+FN248*COS(FI258)","v":21.866692171164388},{"$f":"FR262-FN248*SIN(FI258)","v":63.060391563647315},{"$f":"SQRT(POWER((FQ259-FJ258),2)+POWER((FR259-FK258),2))","v":50.48901237755296},{"$f":"ABS(FN245-FL258)","v":2.9149817701893639},null,null,"اسم نقطه ","مولفه افقی","مولفه عمودی","قرینه",{"$f":"GV127","v":-25.844145557703101},{"$f":"GW127","v":115.38738418849009},{"$f":"GX127","v":"شیفت 14"},null,{"$f":"CR158","v":16.647006148577656},{"$f":"CS158","v":92.82},{"$f":"CT158","v":"d5"},null,null,"b8",{"$f":"'متغیرها '!C464","v":1.4},null,"c20",{"$f":"RADIANS(HG253)","v":5.235987755982989E-2},null,{"$f":"GI255+0.5*(GI241-GI255)","v":15.705373769613836},{"$f":"GJ241+(0.5-GD260)*(GJ255-GJ241)","v":119.73904721859577},"a19",null,{"$f":"GM245+0.7*(GM250-GM245)","v":26.908110096914726},{"$f":"GN245-(0.7-1.2*GD260)*(GN245-GN250)","v":120.64711999290618},"a57",null,null,null,null,null,{"$f":"GI273","v":31.817216500607426},{"$f":"GJ273+GD267","v":124.1050740704989},"a34",null,null,null,null,null,null,null,null,null,null,19,0.33161255787892263,{"$f":"GI247+GG254*SIN(GG257+HI258)","v":21.093175659552884},{"$f":"GJ247+GG254*COS(GG257+HI258)","v":121.97265596579429},{"$f":"ATAN((HK258-GJ242)/(HJ258-GI242))","v":7.4271510008268579E-2},{"$f":"(HJ258-GI242)/COS(HL258)","v":14.874034393040505},null,null,{"$f":"GI247","v":16.953969111540619},{"$f":"GJ247+HT261","v":112.62597746197747},"a8",null,{"$f":"I124-I123","v":19.7},"شبیه سازt3-t2",null,"f15",{"$f":"HZ243-HZ241","v":0.68152203667310918},null,{"$f":"HZ249-HU250+HU251","v":17.521769594261922},{"$f":"IA249","v":128.20491962276517},"e19",null,{"$f":"HZ285","v":32.353315416777747},{"$f":"IA285","v":108.32640810693212},"e46",null,{"$f":"HZ287","v":6.2601469111540613},{"$f":"IA287","v":120.86895434192765},"e48",null,{"$f":"-HZ287+HT270","v":3.7398530888459387},{"$f":"IA287","v":120.86895434192765},"e48",null,null,null,null,null,null,null,null,null,null,26,{"$f":"IZ242+JC242*SIN(RADIANS(IY258)+IY244)","v":20.095100278104749},{"$f":"JA242+JC242*COS(RADIANS(IY258)+IY244)","v":129.82900476965125},{"$f":"IF(IZ243>IZ258,ATAN((JA243-JA258)/(IZ243-IZ258)),ATAN((JA243-JA258)/(IZ258-IZ243)))","v":-0.62971831375375265},{"$f":"IF(IZ243>IZ258,(IZ243-IZ258)/COS(JB258),(IZ258-IZ243)/COS(JB258))","v":5.677854535970285}]
[null,null,null,null,null,"(a3 →a4)",{"$f":"G257-G251*COS(RADIANS(15)+O244+G253)","v":8.1795705938592462},null,null,null,null,null,null,{"$f":"J252","v":13.179570593859246},{"$f":"K252","v":160.10276611527121},"a4",null,{"$f":"BW108","v":5.0000000000000018},{"$f":"BX108","v":136.36934389257897},26,"چرخیده","(1 → b3)",{"$f":"S259-S261+0.8*(W257-(S259-S261))","v":71.510705589111026},null,null,null,"انحنا",null,null,null,null,null,null,null,null,"مولفه افقی نقطه اتصال به سرشانه جلو",{"$f":"AC253-'متغیرها '!C385*AH254*SIN(AH252)","v":33.478716729423311},null,15,{"$f":"AD256","v":136.41391319447115},24,null,{"$f":"AQ258-AR249*AR255*COS(AR254+RADIANS(3))","v":10.188677653980946},{"$f":"AR258-AR249*AR255*SIN(AR254+RADIANS(3))","v":150.01735172551085},"d5",null,null,null,null,null,{"$f":"AY241+AZ243+AZ245","v":15},{"$f":"AZ241+AZ244+AZ246","v":66.580000000000013},{"$f":"BA241","v":1},null,null,"α0",{"$f":"IF('متغیرها '!C318=1,ATAN((BE243-BE240-BE249)/(BD241-BD240+BD243-BD242)),ATAN((BE247-BE246-BE249)/(BD247-BD244)))","v":-0.18346067424668669},null,null,"(18 → 21)",{"$f":"BE258*(1+'متغیرها '!C320)*COS(3*BE252)","v":5.1346869307913154},null,{"$f":"BI242+BI243+BI247+BI249+BI253+BI255+BI259+BI261+BI265+BK268","v":35.126355567961987},{"$f":"BI244+BI248+BI250+BI254+BI256+BI260+BI262+BI266+BE260","v":74.592226471511381},28,null,{"$f":"-BK259-BN238","v":-25.126355567961987},{"$f":"BL259","v":74.592226471511381},28,null,"b1",{"$f":"BT258*COS(BT257)","v":5.2643912230530621},null,null,"(18 → 21)",{"$f":"BT259*(1+'متغیرها '!C320)*COS(3*BT253)","v":5.205277784295216},null,{"$f":"BX242+BX245+BX251+BX257+BX263+BZ262","v":41.677228418517998},{"$f":"BX239+BX246+BX252+BX258+BX264+BX241+BT261","v":88.965623000422056},26,null,null,"(m3 → m4)",{"$f":"BI149+BI150+BI151+(BI148-CF258)*TAN(CF253)","v":27.601317974907236},null,{"$f":"BK162-'متغیرها '!C56","v":38.272440000000003},{"$f":"BL162-'متغیرها '!C57","v":96.524704632477565},36,null,{"$f":"CL258+0.3*CI261","v":45.919652387365261},{"$f":"CM258+0.1*(CM264-CM258)","v":74.204398316003704},"s11",null,{"$f":"CL250","v":3.3200600000000002},{"$f":"CM250","v":73.382719832213283},"m'11",null,{"$f":"CH268","v":28.092461291217532},{"$f":"CI268","v":65.336178087484711},"m8",null,{"$f":"BO178","v":15},{"$f":"BP178","v":96.5},44,null,{"$f":"AZ172-DC282","v":32.230039999999995},{"$f":"BA172","v":87.271202973762882},45,null,"مولفه افقی","مولفه عمودی","اسم نقطه ",null,{"$f":"DB239","v":15},{"$f":"DC239","v":79.400000000000006},48,null,{"$f":"DF281","v":3.3200600000000002},{"$f":"DG281","v":74},"p'3",null,null,null,null,{"$f":"DS256+DS255","v":43.319259115406204},{"$f":"DS257","v":77.5},"p5",null,{"$f":"AZ177","v":16.306469111540622},{"$f":"BA177","v":71.580000000000013},52,null,null,null,null,null,null,null,null,null,null,null,null,{"$f":"BK390-'متغیرها '!C51","v":28.560000000000002},{"$f":"BL390-'متغیرها '!C52","v":134.72651834803014},"شبیه ساز22",null,"yd'4",{"$f":"ES253-(ES256-ES245)*COS(RADIANS(EO248))*SIN(RADIANS(EO248))","v":130.63574822734475},null,{"$f":"ES258+'متغیرها '!C51","v":-6.001945604745611},{"$f":"ES259+EO249+'متغیرها '!C52","v":135.63574822734475},"d'4 شیفت",null,null,null,null,null,{"$f":"ES275+'متغیرها '!C53","v":3.5419563878938938},{"$f":"ES276+EZ249+'متغیرها '!C54","v":132.17888360813103},"d'4 شیفت",null,null,40,0.69813170079773179,{"$f":"FQ262+FN248*COS(FI259)","v":18.972244980862882},{"$f":"FR262-FN248*SIN(FI259)","v":59.288274544897462},{"$f":"SQRT(POWER((FQ259-FJ259),2)+POWER((FR259-FK259),2))","v":54.903278703228992},{"$f":"ABS(FN245-FL259)","v":7.3292480958653954},null,null,"dp4",{"$f":"FI241+(FR259-FJ241)*TAN(FN239)","v":34.684592778851552},{"$f":"FJ241+('متغیرها '!C305-3)*(FJ240-FJ241)","v":111.89523358112649},null,null,null,null,null,null,null,null,null,null,"b9",{"$f":"'متغیرها '!C465","v":0},null,"c21",{"$f":"ATAN((GN242-GJ242)/(GM242-GI242))","v":0.15439033504641483},null,{"$f":"GI254+0.5*(GI241-GI254)","v":15.705373769613836},{"$f":"GJ254+(0.5+GD260)*(GJ241-GJ254)","v":120.66095278140423},"a20",null,{"$f":"GI254+0.4*(GM242-GI254)","v":15.628181484315522},{"$f":"GJ254+(0.4+2*GD260)*(GN242-GJ254)","v":122.68073240858074},"a58",null,{"$f":"GI273","v":31.817216500607426},{"$f":"GJ273+GD267","v":124.1050740704989},"a34",null,{"$f":"GM241","v":27.229636628382146},{"$f":"GN241+GD267","v":125.49003703524946},"a37",null,{"$f":"GM267","v":32.229381884518993},{"$f":"GN267","v":118.36663008861314},"a66",null,{"$f":"-GI273+GC249","v":-21.817216500607426},{"$f":"GJ273+GD267","v":124.1050740704989},"a34",null,null,20,0.3490658503988659,{"$f":"GI247+GG254*SIN(GG257+HI259)","v":21.255667270434156},{"$f":"GJ247+GG254*COS(GG257+HI259)","v":121.89899330638274},{"$f":"ATAN((HK259-GJ242)/(HJ259-GI242))","v":6.8582050145685788E-2},{"$f":"(HJ259-GI242)/COS(HL259)","v":15.030855302140312},null,null,{"$f":"GI262","v":12.676440231385996},{"$f":"GJ262+HT261","v":114.93401098836353},"a23",null,{"$f":"F136","v":0.31747893816869005}," زاویه خام سرشانه جلو",null,"f16",{"$f":"HZ255-HZ256","v":0.6438732041798616},null,{"$f":"HZ261+(HZ253-HZ261)*(0.5+HT262)","v":28.348795129661209},{"$f":"IA253+(IA261-IA253)*(0.5+HT262)","v":124.48469527768091},"e20",null,{"$f":"HZ278","v":38.935607471417576},{"$f":"IA278","v":103.96481621386422},"e39",null,{"$f":"HP262","v":13.809278427687049},{"$f":"HQ262+HU254","v":122.04381112561691},"a15",null,{"$f":"-HP262+HT270","v":-3.8092784276870493},{"$f":"HQ262+HU254","v":122.04381112561691},"a15",null,{"$f":"HZ241","v":5.5786248744809521},{"$f":"IA241","v":111.01895434192765},"e2",null,{"$f":"-HZ241+HT270","v":4.4213751255190479},{"$f":"IA241","v":111.01895434192765},"e2",null,null,28,{"$f":"IZ242+JC242*SIN(RADIANS(IY259)+IY244)","v":20.519134728062408},{"$f":"JA242+JC242*COS(RADIANS(IY259)+IY244)","v":129.76090971850084},{"$f":"IF(IZ243>IZ259,ATAN((JA243-JA259)/(IZ243-IZ259)),ATAN((JA243-JA259)/(IZ259-IZ243)))","v":-0.57880382860100144},{"$f":"IF(IZ243>IZ259,(IZ243-IZ259)/COS(JB259),(IZ259-IZ243)/COS(JB259))","v":5.98821395237026}]
[null,null,null,null,null,"(1 →a7)",{"$f":"G271+0.5*(AX103+G260-G271)","v":74.04183116900613},null,null,{"$f":"-G272+AX147+AX99","v":0.23528088816711445},{"$f":"G271+AX98","v":136.36934389257897},"e3",null,null,{"$f":"G250","v":8.9876145850687976},"نصف نوار گردن از پشت",null,null,{"$f":"ATAN((S260-S258)/(R258-R260))","v":0.2062887762426914},"زاویه سرشانه با افق",null,"(b5 →b6)",{"$f":"0.4*W258","v":7.3081269623233656},null,{"$f":"W262+AX99","v":12.308126962323366},{"$f":"AX98+W261","v":137.79763325309204},"b6  ..",null,null,null,null,null,null,null,null,null,null,null,null,null,null,null,{"$f":"AQ240+0.6*(AQ244-AQ240)","v":26.089458970258761},{"$f":"AR244+0.12*(AR240-AR244)","v":129.27321281829865},"d8",null,null,null,null,null,null,null,null,null,null,"شیفت افقی",{"$f":"'متغیرها '!C323","v":0},null,null,"(23 → 24)",{"$f":"(BE255+3*BE257*SIN(BE256)+BE258*SIN(BE259))*(COS(3*BE252)-COS(4*BE252))","v":0.17987703807113389},null,{"$f":"BI268+BK268","v":3.3200600000000002},{"$f":"BI239+BE260","v":95.7},30,null,{"$f":"-BK262-BN238","v":6.6799400000000002},{"$f":"BL262","v":95.7},30,null,"پایین دامن فون تا زمین درانتخاب دامن فون متصل به پیراهن راسته  k1",{"$f":"IF('متغیرها '!C319<1,'متغیرها '!C319*'متغیرها '!U59,IF('متغیرها '!C319<2,'متغیرها '!U59+('متغیرها '!C319-1)*('متغیرها '!U60-'متغیرها '!U59),IF('متغیرها '!C319<3,'متغیرها '!U60+('متغیرها '!C319-2)*(I105-'متغیرها '!U60),I105+('متغیرها '!C319-3)*(H127-H126))))","v":41.1},null,null,"(23 → 24)",{"$f":"(BT256+3*BT258*SIN(BT257)+BT259*SIN(BT260))*(COS(3*BT253)-COS(4*BT253))","v":0.18151101857660321},null,{"$f":"BS244+BT263","v":15},{"$f":"0+BT261","v":66.580000000000013},1,null,null,"(1 → m7)",{"$f":"CF256+0.45*(CF258-CF256)","v":-1.2438219125153083},null,null,{"$f":"CF262","v":-1.2438219125153083},"(1 → m7)",null,{"$f":"CL264-0.93*'متغیرها '!C403*CI249","v":39.4516179584},{"$f":"CM264+0.7*(CM261-CM264)","v":85.664284245934539},"s14",null,{"$f":"CL261","v":39.260412880000004},90.070668994672232,"s13",null,{"$f":"BK170","v":15},{"$f":"BL170","v":79.400000000000006},48,null,null,"خط مرکزی پشت مایو متصل به پیش سینه رکابی",null,null,null,null,null,null,{"$f":"DF275+(DG275-DG280)*(DF261-DF275)/(DG275-DG261)","v":5.1763236975423004},{"$f":"DG280","v":71.580000000000013},"p'''8",null,null,null,null,null,{"$f":"CL253","v":5},{"$f":"CM253","v":96},"s1",null,null,null,null,{"$f":"DS256+DS255","v":43.319259115406204},{"$f":"DS257+DS254","v":126.0616},"p3",null,{"$f":"BD150","v":5},{"$f":"BE150","v":71.580000000000013},1,null,null,null,null,null,null,null,null,null,null,null,null," رسم طراحی یقه دراپه جلو",null,null,null,"xd3",{"$f":"EY242","v":0},null,{"$f":"ES254+'متغیرها '!C51-AX157-AX158","v":18.254232785530213},{"$f":"ES255+'متغیرها '!C52","v":110.35},"d8",null,"αd",{"$f":"ASIN((EZ265-EY242)/EZ261)","v":0.41006889845142419},null,null,{"$f":"ES271+'متغیرها '!C53-BI151","v":27.344465135321663},{"$f":"ES272+'متغیرها '!C54","v":104.65},"d8",null,null,55,0.95993108859688125,{"$f":"FQ262+FN248*COS(FI262)","v":8.4824380767822554},{"$f":"FR262-FN248*SIN(FI262)","v":49.676137469265178},{"$f":"SQRT(POWER((FQ259-FJ262),2)+POWER((FR259-FK262),2))","v":67.51124967002319},{"$f":"ABS(FN245-FL262)","v":19.937219062659594},null,null,"dp'5",{"$f":"-FQ260+2*GC101","v":-22.778373333333327},{"$f":"FR260","v":94.321202973762894},null,null,null,null,null,null,null,null,null,null,"b12",{"$f":"'متغیرها '!C468","v":0},null,"c24",{"$f":"ATAN((GN242-GJ242)/(GM242-GI242))","v":0.15439033504641483},null,{"$f":"GI242+0.6*(GI247-GI242)","v":12.676440231385996},{"$f":"GJ247+0.28*(GJ242-GJ247)","v":114.93401098836353},"a23",null,{"$f":"GI264+GC248","v":18.248969111540617},{"$f":"GJ264","v":100.5},"a61",null,null,null,"کاسه پایین چپ",null,{"$f":"GI241","v":17.60146911154062},{"$f":"GJ241+GD266","v":120.2},"a2",null,null,null,null,null,null,null,"قرینه کاسه پایین چپ",null,null,null,null,"اطلاعات ورودی",null,null,null,null,null,{"$f":"GI254","v":13.809278427687049},{"$f":"GJ254+HT261","v":122.04381112561691},"a15",null,{"$f":"GD262","v":0},"b12",null,"f19",{"$f":"0.5*(HX261+HX260-HX258-HX259)","v":-0.21711196189412785},null,{"$f":"IZ280","v":27.225611784925295},{"$f":"JA280+HT263","v":126.17650143180731},"e23",null,null,null,null,null,{"$f":"HZ297","v":15.173455720158403},{"$f":"IA297","v":122.6099633771403},"e57",null,{"$f":"-HZ297+HT270","v":-5.1734557201584028},{"$f":"IA297","v":122.6099633771403},"e57",null,{"$f":"ID265","v":16.846402153823011},{"$f":"IE265","v":122.75150144002116},"e60",null,{"$f":"-ID265+HT270","v":-6.8464021538230107},{"$f":"IE265","v":122.75150144002116},"e60",null,null,34,{"$f":"IZ242+JC242*SIN(RADIANS(IY262)+IY244)","v":21.77337951119933},{"$f":"JA242+JC242*COS(RADIANS(IY262)+IY244)","v":129.46850354836246},{"$f":"IF(IZ243>IZ262,ATAN((JA243-JA262)/(IZ243-IZ262)),ATAN((JA243-JA262)/(IZ262-IZ243)))","v":-0.44428377867312457},{"$f":"IF(IZ243>IZ262,(IZ243-IZ262)/COS(JB262),(IZ262-IZ243)/COS(JB262))","v":6.9409169509999984}]
[null,null,null,null,null,"(a7 →a8)",{"$f":"0.5*(G261+AX147-G272)-0.2*(G261+G272-AX147)","v":-2.362130611109778},null,null,{"$f":"G265+AX99","v":1.1607146217169801},{"$f":"G264+AX98","v":125.39467194628949},"a11",null,null,{"$f":"'متغیرها '!C183","v":0},"شیفت افقی پایه",null,null,null,null,null,null,null,null,{"$f":"R259","v":5.0000000000000018},{"$f":"S259","v":136.36934389257897},{"$f":"T259","v":26},null,null,null,null,null,null,null,null,null,null,null,null,null,null,null,{"$f":"AQ240+0.25*(AQ244-AQ240)","v":18.658838924634871},{"$f":"AR244+0.5*(AR240-AR244)","v":136.86179244203186},"d9",null,null,null,null,null,null,null,null,null,null,null,null,null,null,"(20→25)",{"$f":"BE257*(1+'متغیرها '!C320)*COS(4*BE252+BE256)","v":5.2555582357220159},null,null,null,null,null,null,null,null,null,"شیفت افقی",{"$f":"'متغیرها '!C325","v":0},null,null,"(20→25)",{"$f":"BT258*(1+'متغیرها '!C320)*COS(4*BT253+BT257)","v":5.3797817240627248},null,{"$f":"BX242+BZ262","v":20.26439122305306},{"$f":"0+BT261","v":66.580000000000013},3,null,null,"(m7→ m8)",{"$f":"0.35*(CF259-CF257)+CF257","v":13.092461291217532},null,null,{"$f":"CF256","v":-12.180723016248919},"(1 → m1)",null,{"$f":"CL264-0.55*'متغیرها '!C403*CI249","v":40.489588384000001},{"$f":"CM264+0.3*(CM261-CM264)","v":79.789104580950962},"s15",null,39.4516179584,85.664284245934539,"s14",null,null,null,null,null,{"$f":"EJ238","v":15},{"$f":"EK238","v":124.39733846273964},"p21",null,null,"محاسبات جلو ",null,null,{"$f":"DB241-(DC241-DC243)*TAN(RADIANS(DC277))","v":35.334308842176611},{"$f":"DC243","v":0},"p'14",null,null,null,null,null,{"$f":"DF275","v":5},{"$f":"DG275","v":74},"p3",null,null,null,null,{"$f":"DS256","v":35.844145557703101},{"$f":"DS257+DS254","v":126.0616},"p1",null,null,null,null,null,null,null,null,null,null,"خط مرکزی پشت بالاتنه در پیش سینه",null,null,null,null,null,{"$f":"ES242","v":8.3512531777606629},{"$f":"ES243","v":141.84676563115454},"32d",null,"yd3",{"$f":"IF(EZ247<3,'متغیرها '!U60+(EZ247-2)*('متغیرها '!U58-'متغیرها '!U60),'متغیرها '!U58+(EZ247-3)*(I127-I126))","v":104.65},null,null,null,null,null,"xd9",{"$f":"EY242","v":0},null,null,null,null,null,null,null,60,1.0471975511965976,{"$f":"FQ262+FN248*COS(FI263)","v":4.4724074074074132},{"$f":"FR262-FN248*SIN(FI263)","v":47.121466184880504},{"$f":"SQRT(POWER((FQ259-FJ263),2)+POWER((FR259-FK263),2))","v":71.473191391048729},{"$f":"ABS(FN245-FL263)","v":23.899160783685133},null,null,"dp6",{"$f":"FQ262+FN248*COS(RADIANS(FG265))","v":24.42136345554907},{"$f":"FR262-FN248*SIN(RADIANS(FG265))","v":67.070422233022157},null,null,null,null,null,{"$f":"FX261","v":5},{"$f":"FY261","v":95.7},{"$f":"FZ261","v":"d4"},null,null,"b15",{"$f":"'متغیرها '!C469","v":0},null,null,null,null,{"$f":"GB244","v":16.953969111540619},{"$f":"GC244","v":100.5},"a24",null,{"$f":"GI265+GC248","v":18.248969111540617},{"$f":"GJ265","v":112.62597746197747},"a62",null,{"$f":"GM242","v":18.35653606925823},{"$f":"GN242+GD266","v":122.75150144002116},"a40",null,{"$f":"GI259","v":15.705373769613836},{"$f":"GJ259+GD266","v":120.66095278140423},"a20",null,"رسم قرینه پایه",null,null,null,{"$f":"-GM242+GC249","v":-8.3565360692582296},{"$f":"GN242+GD266","v":122.75150144002116},"a40",null,null,"اسم نقطه ","مولفه افقی","مولفه عمودی",null,null,null,null,null,{"$f":"GM259","v":15.628181484315522},{"$f":"GN259+HT261","v":122.68073240858074},"a58",null,{"$f":"GD267","v":0},"b14",null,"f20",{"$f":"ATAN((0.25*HT266-0.25*HT267)/(HT265))","v":3.7810192597948863E-2},null,{"$f":"HZ264+0.5*(HZ262-HZ264)","v":22.791073927091762},{"$f":"IA264+0.3*(IA262-IA264)","v":120.20689942152738},"e24",null,"نقاط خروجی",null,null,null,{"$f":"HZ289","v":18.35653606925823},122.75150144002116,"e50",null,{"$f":"-HZ289+HT270","v":-8.3565360692582296},{"$f":"IA289","v":122.75150144002116},"e50",null,{"$f":"ID271","v":23.027245162015642},{"$f":"IE271","v":122.62092063536167},"e66",null,{"$f":"-ID271+HT270","v":-13.027245162015642},{"$f":"IE271","v":122.62092063536167},"e66",null,null,36,{"$f":"IZ242+JC242*SIN(RADIANS(IY263)+IY244)","v":22.183810287610157},{"$f":"JA242+JC242*COS(RADIANS(IY263)+IY244)","v":129.3420570042544},{"$f":"IF(IZ243>IZ263,ATAN((JA243-JA263)/(IZ243-IZ263)),ATAN((JA243-JA263)/(IZ263-IZ243)))","v":-0.4042648423569401},{"$f":"IF(IZ243>IZ263,(IZ243-IZ263)/COS(JB263),(IZ263-IZ243)/COS(JB263))","v":7.2629695377750938}]
[null,null,null,null,null,"(a10 →a11)",{"$f":"AX147-0.7*G272","v":-3.8392853782830199},null,null,null,null,null,null,"نقاط خروجی",null,null,null," یقه قایقی در پشت پیراهن با ساسون زیر بغل",null,null,null,null,null,null,null,null,null,null,{"$f":"BK104","v":23.348421281192373},{"$f":"BL104","v":139.03229312467974},23,null,"ζ6",{"$f":"ATAN((AC246-AC247)/(AD246-AD247))","v":0.30863995524740523},null,"(1 → b7)",{"$f":"AD265-AD257+'متغیرها '!C389*AD248*COS(AD245)+'متغیرها '!C389*AD248*TAN(AH265-AD245)*SIN(AD245)","v":74.68309291060838},null,{"$f":"AC253","v":34.251864630769326},{"$f":"AD253","v":135.91818674906824},"18f",null,null,null,null,null,null,null,null,null,null,null,null,null,null,null,null,null,null,"(24 → 27)",{"$f":"BE258*(1+'متغیرها '!C320)*COS(4*BE252)","v":5.0894844730402857},null,{"$f":"BI267+BK268","v":3.3200600000000002},{"$f":"0+BE260","v":71.580000000000013},29,null,{"$f":"-BK265-BN238","v":6.6799400000000002},{"$f":"BL265","v":71.580000000000013},29,null,null,null,null,null,"(24 → 27)",{"$f":"BT259*(1+'متغیرها '!C320)*COS(4*BT253)","v":5.1594538903950831},null,{"$f":"BZ262","v":15},{"$f":"CA262","v":66.580000000000013},1,null,null,"(m9→ m10)",{"$f":"0.12*(CF259-CF257)+CF257","v":7.9585581569888681},null,null,{"$f":"CF265","v":7.9585581569888681},"(m9→ m10)",null,null,null,null,null,{"$f":"CL258","v":41.991914000000001},{"$f":"CM258","v":74.073473703091537},"s10",null,{"$f":"CH273","v":15},{"$f":"CI273","v":88.352063105894246},"s5",null,null,null,null,null,null,"(p3→p6)",{"$f":"SQRT(POWER(DF276-DF275,2)+POWER(DG275-DG276,2))+SQRT(POWER(DF277-DF276,2)+POWER(DG276-DG277,2))+DG277-DG278","v":7.2987635595105331},null,{"$f":"DF239+(DG239-DG244)*(DF264-DF239)/(DG239-DG264)","v":14.954400081673441},{"$f":"DG244","v":66.580000000000013},"p'''14",null,{"$f":"DF252","v":60.419409974035872},{"$f":"DG252","v":67.454704632477572},"p19",null,null,null,null,null,null,null,null,null,null,null,null,{"$f":"DY252","v":3.3200600000000002},{"$f":"DZ252","v":125.21958742766127},"p10",null,null,null,null,{"$f":"CV180","v":15},{"$f":"CW180","v":96.5},{"$f":"CX180","v":"44 یا d1"},null,null,null,null,null,{"$f":"ES240","v":0},{"$f":"ES241","v":114.57701952817357},"d9",null,"(d5 → d4)",{"$f":"((ES268-ES263)-(ES267-ES262)*TAN(RADIANS(EZ248)))*COS(RADIANS(EZ248))*SIN(RADIANS(EZ248))","v":10.187949132923407},null,{"$f":"ES256+'متغیرها '!C51","v":6.798685898842729},{"$f":"ES257+EO249+'متغیرها '!C52","v":100.14914536269048},"d'3 شیفت",null,"x30d",{"$f":"EY257","v":8.3484212811923726},null,null,{"$f":"ES273+'متغیرها '!C53","v":16.438349396167638},{"$f":"ES274+EZ249+'متغیرها '!C54","v":96.492715219256354},"d'3 شیفت",null,{"$f":"IF(FM253>FM252,FH252,IF(FM254>FM253,FH253,IF(FM255>FM254,FH254,IF(FM256>FM255,FH255,IF(FM257>FM256,FH256,IF(FM258>FM257,FH257,IF(FM259>FM258,FH258,IF(FM260>FM259,FH259,IF(FM261>FM260,FH260,IF(FM262>FM261,FH261,IF(FM263>FM262,FH262,IF(FM264>FM263,FH263,IF(FM265>FM264,FH264,FH265)))))))))))))","v":30},70,1.2217304763960306,{"$f":"FQ262+FN248*COS(FI265)","v":-4.1377414639642858},{"$f":"FR262-FN248*SIN(FI265)","v":43.106487828305262},{"$f":"SQRT(POWER((FQ259-FJ265),2)+POWER((FR259-FK265),2))","v":78.987753343839273},{"$f":"ABS(FN245-FL265)","v":31.413722736475677},null,null,null,null,null,null,null,null,null,null,null,null,null,null,null,"b18",{"$f":"'متغیرها '!C471","v":0.5},null,null,null,null,{"$f":"GI264","v":18.248969111540617},{"$f":"GJ247","v":112.62597746197747},"a26",null,{"$f":"GI265+0.7*(GI246-GI265)+GC248","v":27.328880184230009},{"$f":"GJ265+0.4*(GJ246-GJ265)","v":114.57180560607996},"a64",null,{"$f":"GM259","v":15.628181484315522},{"$f":"GN259+GD266","v":122.68073240858074},"a58",null,null,null,null,null,{"$f":"-GI252+GC249","v":5},{"$f":"GJ252","v":120.86895434192765},"a13",null,{"$f":"-GM259+GC249","v":-5.6281814843155225},{"$f":"GN259+GD266","v":122.68073240858074},"a58",null,"راس بالا "," a34",{"$f":"GI273","v":31.817216500607426},{"$f":"GJ273","v":124.1050740704989},"ضلع بالا",{"$f":"GG261","v":1.336359257893305},null,null,null,{"$f":"GI255","v":13.809278427687049},{"$f":"GJ255","v":118.35618887438309},"a16",null,{"$f":"I127-I126","v":16.3},"شبیه سازt6-t5",null,"f22",{"$f":"HP256-HP248+HT260","v":1.5101339154352189},null,{"$f":"HP266","v":16.08290724847264},{"$f":"HQ266+HT263","v":117.82542113857991},"e26",null,{"$f":"HP248","v":16.846402153823011},{"$f":"HQ248","v":122.75150144002116},"e60",null,30.766974317821624,113.7923301156917,"e52",null,{"$f":"-HZ291+HT270","v":-20.766974317821624},{"$f":"IA291","v":113.7923301156917},"e52",null,null,null,null,null,null,null,null,null,null,40,{"$f":"IZ242+JC242*SIN(RADIANS(IY265)+IY244)","v":22.990188642565883},{"$f":"JA242+JC242*COS(RADIANS(IY265)+IY244)","v":129.04659493007631},{"$f":"IF(IZ243>IZ265,ATAN((JA243-JA265)/(IZ243-IZ265)),ATAN((JA243-JA265)/(IZ265-IZ243)))","v":-0.32975559022218937},{"$f":"IF(IZ243>IZ265,(IZ243-IZ265)/COS(JB265),(IZ265-IZ243)/COS(JB265))","v":7.9100760135835468}]
[null,null,null,null,null,"(2 →a12)",{"$f":"0.5*G256","v":3.7538027524672315},null,null,null,null,"انحنا یقه آرشال با پایه",null,"مولفه افقی","مولفه عمودی","اسم نقطه ",null,"نقاط  ورودی",null,null,null,"محاسبات",null,null,"رسم",null,null,null,null,null,null,null,null,null,null,"(b7 →b8)",{"$f":"AC265-AC257+'متغیرها '!C389*AD248*SIN(AD245)-'متغیرها '!C389*AD248*TAN(AH265-AD245)*COS(AD245)","v":8.9127232201050326},null,{"$f":"AK268+AC257","v":35.683170866084879},{"$f":"AK267+AD257","v":137.90136351165029},"b10",null,null,null,"پیش بند حمام بچه یا انحنا لبه پیراهن",null,null,null,null,null,null,null,null,null,null,null,null,null,null,"(27 → 28)",{"$f":"BE258*SIN(4*BE252)","v":1.0316895782508335},null,null,null,null,null,null,null,null,null,null,null,null,null,"(27 → 28)",{"$f":"BT259*SIN(4*BT253)","v":1.0458730813273456},null,{"$f":"BZ262","v":15},{"$f":"BX239+BT261","v":91.7},2,null,null,"(1 → m11)",{"$f":"CF256-CF240+CF250","v":-14.180723016248919},null,null,{"$f":"CF264","v":-6.1046668475080246},"(1 → m9)",null,null,"نقاط خروجی فاق مایو یا شورت",null,null,null,null,null,null,null,null,null,null,{"$f":"BO178","v":15},{"$f":"BP178","v":96.5},44,null,null,"a'",{"$f":"DF280-DF262+DF268-DF269+DF244-DF265","v":63.396242627965563},null,{"$f":"DF248+0.5*(DF249-DF248)","v":52.28683851311856},{"$f":"DG248","v":69.87470463247756},"p'16",null,null,null,null,null,null,null,null,null,null,null,null,null,null,null,null,{"$f":"CR183","v":3.3200600000000002},{"$f":"CS183","v":95.7},"26''",null,null,null,null,null,null,null,null,null,null,null,null,{"$f":"EN265-(EN264-EN265)","v":-5.0107519066563979},{"$f":"EO264","v":122.75794335906785},null,null,"(18 → 32)",{"$f":"SQRT(POWER((EY239-EY240),2)+POWER((EZ240-EZ239),2))","v":5.3547321382803217},null,null,null,null,null,"y30d",{"$f":"EZ257","v":139.03229312467974},null,null,null,null,null,null,null,null,null,null,null,null,null,null,null,null,null,null,null,null,null,null,null,{"$f":"FX264","v":-6.6470061485776561},{"$f":"FY264","v":92.82},{"$f":"FZ264","v":"d5"},null,null,"b13",{"$f":"'متغیرها '!C472","v":0},null,null,null,null,{"$f":"GI241+(0.5-GD261)*(GI265-GI241)","v":17.828094111540619},{"$f":"GJ265+0.5*(GJ241-GJ265)","v":116.41298873098873},"a27",null,{"$f":"GI246+GC248","v":31.220270643954034},{"$f":"GJ246","v":117.49054782223371},"a65",null,{"$f":"GI254","v":13.809278427687049},{"$f":"GJ254+GD266","v":122.04381112561691},"a15",null,{"$f":"GI254","v":13.809278427687049},{"$f":"GJ254+GD266","v":122.04381112561691},"a15",null,{"$f":"-GI253+GC249","v":3.7398530888459387},{"$f":"GJ253","v":120.86895434192765},"a14",null,{"$f":"-GI254+GC249","v":-3.8092784276870493},{"$f":"GJ254+GD266","v":122.04381112561691},"a15",null,"c19",{"$f":"ATAN((HI265-HI264)/(HJ265-HJ264))","v":1.1235511790108412},null,"محاسبات",null,null,null,null,null,{"$f":"GM253","v":16.08290724847264},{"$f":"GN253","v":117.82542113857991},"a51",null,{"$f":"H121","v":47.066400000000002},"شبیه سازs2",null,"f23",{"$f":"HP253-HP258-HT260","v":1.2949999999999982},null,{"$f":"HP273","v":6.2601469111540613},{"$f":"HQ273+HT263","v":119.53104565807236},"e27",null,{"$f":"HP252","v":17.337300589024174},{"$f":"HQ252","v":117.68873945099932},"e61",null,null,null,null,null,null,null,null,null,{"$f":"ID270","v":29.06175938039403},{"$f":"IE270","v":121.27760020201065},"e65",null,{"$f":"-ID270+HT270","v":-19.06175938039403},{"$f":"IE270","v":121.27760020201065},"e65",null,null,42,{"$f":"IZ242+JC242*SIN(RADIANS(IY266)+IY244)","v":23.385153773298331},{"$f":"JA242+JC242*COS(RADIANS(IY266)+IY244)","v":128.87793937503122},{"$f":"IF(IZ243>IZ266,ATAN((JA243-JA266)/(IZ243-IZ266)),ATAN((JA243-JA266)/(IZ266-IZ243)))","v":-0.29483749619391098},{"$f":"IF(IZ243>IZ266,(IZ243-IZ266)/COS(JB266),(IZ266-IZ243)/COS(JB266))","v":8.2341677033115488}]
[null,null,null,null,null,"یقه انگلیسی در مانتو راسته ",null,null,null,{"$f":"N268","v":12.635483360656545},{"$f":"O268","v":147.65154092824005},"a15",null,{"$f":"N268+0.25*(N267-N268)","v":13.751428132849762},{"$f":"O268+0.45*(O267-O268)","v":151.27139599458621},"a16",null,{"$f":"CE108","v":15.000000000000002},{"$f":"CF108","v":136.41391319447115},24,"چرخیده","(1 → b3)",{"$f":"S269-S271+0.8*(W267-(S269-S271))","v":69.023664782096205},null,null,null,"انحنا",null,null,null,null,null,null,null,null,null,null,null,{"$f":"AK266+AC257","v":23.912723220105033},{"$f":"AK265+AD257","v":141.26309291060841},"b8",null,null,null,{"$f":"CI117-AT276","v":19.254696527337614},{"$f":"CJ117-AT277","v":138.73265925554304},"22f",null,{"$f":"AS281+AT276","v":13.351253177760663},{"$f":"AT281+AT277","v":155.83438021622334},"1n",null,null,null,null,null,null,null,null,null,null,null,null,null,null,null,null,null,null,null,null,null,null,null,null,null,null,null,null,null,null,null,"محاسبات جلو شورت",null,null,{"$f":"CL277","v":15},{"$f":"CM277","v":52.399276983751093},"m'11",null,{"$f":"0+BI98","v":15},{"$f":"CF258+BI97","v":78.703501658714671},"m3",null,51.156636903852274,74.728096767652403,"s12",null,{"$f":"CH274","v":40.254370595863563},{"$f":"CI274","v":88.352063105894246},"s6",null,null,"خط جلو مایو متصل به یقه گرد",null,null,{"$f":"DX578","v":7.1350042480883538},{"$f":"DY578","v":5},"2r",null,{"$f":"DF266-DF268+DF266","v":46.531626150749958},{"$f":"DG268","v":67.454704632477572},"p''''16",null,null,null,null,null,null,null,null,null,null,null,null,null,null,null,null,{"$f":"CR204","v":5},{"$f":"CS204","v":95.7},"d4",null,null,null,null,null,null,null,null,null,null,null,null,null,null,null,null,"x d4",{"$f":"ES262-ES265","v":-10.187949132923407},null,null,null,null,null,null,null,null,null,null,null,null,null,null,null,null,null,null,null,null,null,null,null,null,null,null,null,null,null,null,{"$f":"FX267","v":-6.9539691115406193},{"$f":"FY267","v":100.5},{"$f":"FZ267","v":"39 یا d5"},null,null,null,"به دست آوردن نقطه تقاطع دو خط ","مولفه افقی","مولفه عمودی",null,null,{"$f":"GI241+0.5*(GI246-GI241)","v":24.410869877747327},{"$f":"GJ246+(0.5+GD260)*(GJ241-GJ246)","v":119.52263695555843},"a30",null,null,null,null,null,{"$f":"GI253","v":6.2601469111540613},{"$f":"GJ253+GD266","v":120.86895434192765},"a14",null,{"$f":"GI253","v":6.2601469111540613},{"$f":"GJ253+GD266","v":120.86895434192765},"a14",null,{"$f":"-GM260+GC249","v":0.5317064287299722},{"$f":"GN260","v":116.74746590195255},"a22",null,{"$f":"-GI253+GC249","v":3.7398530888459387},{"$f":"GJ253+GD266","v":120.86895434192765},"a14",null,null,4,{"$f":"HI264+HL264*SIN(RADIANS(HH269)+HH266)","v":32.585576762512069},{"$f":"HJ264+HL264*COS(RADIANS(HH269)+HH266)","v":123.28943193042551},{"$f":"IF(HI265>HI269,ATAN((HJ265-HJ269)/(HI265-HI269)),ATAN((HJ265-HJ269)/(HI269-HI265)))","v":0.81523892809093468},{"$f":"IF(HI265>HI269,(HI265-HI269)/COS(HK269),(HI269-HI265)/COS(HK269))","v":1.1205577150408974},null,null,null,{"$f":"GM254","v":32.773774550938477},{"$f":"GN254","v":122.78940926747519},"a52",null,{"$f":"GG245","v":16.115796818539739},"c7",null,"f26",{"$f":"SQRT(POWER((HZ260-HZ256),2)+POWER((IA260-IA256),2))-SQRT(POWER((HZ257-HZ256),2)+POWER((IA257-IA256),2))","v":0.60917147635349878},null,{"$f":"HZ268+0.65*(HZ262-HZ268)","v":23.123851100721637},{"$f":"IA268-0.5*(IA268-IA262)","v":126.33086021786806},"e30",null,{"$f":"HU297","v":29.327585288251875},{"$f":"HV297","v":120.22319748031535},"e64",null,16.953969111540619,112.62597746197747,"e54",null,{"$f":"-HZ293+HT270","v":-6.9539691115406193},{"$f":"IA293","v":112.62597746197747},"e54",null,{"$f":"ID269","v":29.327585288251875},{"$f":"IE269","v":120.22319748031535},"e64",null,{"$f":"-ID269+HT270","v":-19.327585288251875},{"$f":"IE269","v":120.22319748031535},"e64",null,null,48,{"$f":"IZ242+JC242*SIN(RADIANS(IY269)+IY244)","v":24.531402671115139},{"$f":"JA242+JC242*COS(RADIANS(IY269)+IY244)","v":128.29078964232676},{"$f":"IF(IZ243>IZ269,ATAN((JA243-JA269)/(IZ243-IZ269)),ATAN((JA243-JA269)/(IZ269-IZ243)))","v":-0.19745407253864852},{"$f":"IF(IZ243>IZ269,(IZ243-IZ269)/COS(JB269),(IZ269-IZ243)/COS(JB269))","v":9.2039471956302776}]
[null,null,null,null,null,"(1' → e1)",{"$f":"AX155+(1-H248)*H124","v":42.839999999999989},null,null,{"$f":"N261","v":12.516127859984596},{"$f":"O261","v":143.70353910958187},{"$f":"P261","v":"e7"},null,"پایه یقه آرشال",null,null,null,{"$f":"CE105","v":23.348421281192373},{"$f":"CF105","v":139.03229312467974},23,"چرخیده","(b3 → b4)",{"$f":"0.75*W268","v":14.611387708861656},null,{"$f":"Y267","v":34.481850278482213},{"$f":"Z267","v":135.40110267900249},"b2",null,null,null,null,null,null,null,null,null,null,null,null,null,null,null,null,null,{"$f":"BD155-AT274-AT276","v":30.844145557703101},{"$f":"BE155-AT277","v":110.38738418849009},14,null,null,null,null,null,null,null,null,null,null,null,null,null,null,null,{"$f":"BK268","v":5},{"$f":"0+BE260","v":71.580000000000013},1,null,{"$f":"-BK270-BN238","v":5},{"$f":"BL270","v":71.580000000000013},1,null,null,null,null,null,null,null,null,null,null,null,null,null,"زاویه s3",{"$f":"ATAN((CH240-CH241)/(CI240-CI241))","v":0.1444039718248929},null,null,null,null,null,{"$f":"CF259+BI98","v":42.601317974907232},{"$f":"CF258+BI97","v":78.703501658714671},"m4",null,{"$f":"CL264+CI261","v":55.084375291217533},{"$f":"CM264","v":75.382719832213283},"پشتm8",null,null,null,null,null,{"$f":"BW108","v":5.0000000000000018},{"$f":"BX108","v":136.36934389257897},"26 چرخیده",null,{"$f":"DX585","v":32.868721015935662},{"$f":"DY585","v":1.3815936094849928},"p1r",null,null,null,null,null,{"$f":"DF250","v":44.154267052201249},{"$f":"DG250","v":67.454704632477572},"p17",null,null,null,null,null,null,null,null,null,null,null,null,null,null,null,null,null,null,null,null,null,null,null,null,null,null,null,null,null,null,null,"y d4",{"$f":"ES263+ES264","v":132.64116019325937},null,{"$f":"ES254+'متغیرها '!C51+'متغیرها '!C55","v":34.825303673989595},{"$f":"EV262","v":110.35},"شیفتd8",null,null,null,null,null,{"$f":"ES271+'متغیرها '!C53+'متغیرها '!C56","v":38.850305135321662},{"$f":"FD262+'متغیرها '!C57","v":104.65}," شیفتd8",null,null,null,null,null,null,null,null,null,null,null,null,null,null,null,null,null,"قرینه",{"$f":"GV102","v":-7.6014691115406201},{"$f":"GW102","v":118.23},{"$f":"GX102","v":43},null,null,"نقطه اول از خط اول","a50",{"$f":"GM252","v":18.35653606925823},{"$f":"GN252","v":117.64849855997885},null,null,{"$f":"GI246","v":31.220270643954034},{"$f":"GJ241+GJ241-GJ246","v":122.9094521777663},"a31",null,null,null,null,null,null,null,null,null,{"$f":"GM260","v":9.4682935712700278},{"$f":"GN260+GD266","v":116.74746590195255},"a22",null,{"$f":"-GI262+GC249","v":-2.6764402313859961},{"$f":"GN261","v":114.27457283796751},"a23",null,null,null,null,null,null,6,{"$f":"HI264+HL264*SIN(RADIANS(HH270)+HH266)","v":32.773774550938477},{"$f":"HJ264+HL264*COS(RADIANS(HH270)+HH266)","v":122.78940926747519},{"$f":"IF(HI265>HI270,ATAN((HJ265-HJ270)/(HI265-HI270)),ATAN((HJ265-HJ270)/(HI270-HI265)))","v":0.94214376478817996},{"$f":"IF(HI265>HI270,(HI265-HI270)/COS(HK270),(HI270-HI265)/COS(HK270))","v":1.6266459902414396},null,null,null,{"$f":"BO170","v":39.087906522700877},{"$f":"BP170","v":107.99088584720475},"10پشت",null,{"$f":"-GK101","v":10},"شیفت قرینه",null,null,null,null,{"$f":"HP261","v":6.2601469111540613},{"$f":"HQ261-HT261","v":120.86895434192765},"e31",null,{"$f":"HU291","v":29.06175938039403},{"$f":"HV291","v":121.27760020201065},"e65",null,11.607058011347341,115.92316821395754,"e55",null,{"$f":"-HZ294+HT270","v":-1.6070580113473412},{"$f":"IA294","v":115.92316821395754},"e55",null,{"$f":"ID268","v":23.006536946604875},{"$f":"IE268","v":114.97929903271813},"e63",null,{"$f":"-ID268+HT270","v":-13.006536946604875},{"$f":"IE268","v":114.97929903271813},"e63",null,null,50,{"$f":"IZ242+JC242*SIN(RADIANS(IY270)+IY244)","v":24.899051711756055},{"$f":"JA242+JC242*COS(RADIANS(IY270)+IY244)","v":128.06880690953457},{"$f":"IF(IZ243>IZ270,ATAN((JA243-JA270)/(IZ243-IZ270)),ATAN((JA243-JA270)/(IZ270-IZ243)))","v":-0.16702597986454537},{"$f":"IF(IZ243>IZ270,(IZ243-IZ270)/COS(JB270),(IZ270-IZ243)/COS(JB270))","v":9.5253146444224601}]
[null,null,null,null,null,"(e2 → e3)",{"$f":"(G271-G270)*TAN(RADIANS(H246))","v":3.0847791118328858},null,null,{"$f":"O263","v":0},{"$f":"O271+O264","v":161.89781308918174},"p3",null,"(p1 →p2)",{"$f":"O281","v":12.23989182760339},null,null,null,{"$f":"ATAN((S270-S268)/(R268-R270))","v":0.31527351586958252},"زاویه سرشانه با افق",null,"(b5 →b6)",{"$f":"0.4*W268","v":7.7927401113928845},null,{"$f":"W272+BI98","v":22.792740111392884},{"$f":"BI97+W271","v":136.16071056560398},"b6",null,null,null,null,null,null,null,null,null,null,null,{"$f":"AC265","v":23.348421281192373},{"$f":"AD265","v":139.03229312467974},23,null,null,null,{"$f":"BD150-AT276","v":0},{"$f":"BE150-AT277","v":66.580000000000013},1,null,{"$f":"AS282+AT276","v":24.254696527337614},{"$f":"AT282+AT277","v":155.83438021622334},"2n",null,null,null,null,null,null,null,null,null,null,null,null,null,null,null,null,null,null,null,null,null,null,null,null,null,null,null,null,null,null,null,"طول خط (s2 - m4 )",{"$f":"SQRT(POWER(CH243-CL254,2)+POWER(CM254-CI243,2))","v":9.9298992945548097},null,"مولفه افقی","مولفه عمودی","اسم نقطه ",null,{"$f":"CF261+BI98","v":37.020988481180432},{"$f":"CF260+BI97","v":71.412234256225588},"m6",null,{"$f":"CL261","v":39.260412880000004},{"$f":"CM261","v":90.070668994672232},"s13",null,{"$f":"CH274","v":40.254370595863563},{"$f":"CI274","v":88.352063105894246},"s6",null,null,null,null,null,null,null,null,null,null,null,null,null,null,null,null,null,null,null,null,null,null,null,null,null,null,null,null,{"$f":"CR204","v":5},{"$f":"CS204","v":95.7},"d4",null,null,null,null,null,null,null,null,null,null,null,null,null,null,null,null,"yd8",{"$f":"ES263","v":104.65},null,null,null,null,null,{"$f":"EZ265","v":8.3484212811923726},{"$f":"EZ266","v":139.03229312467974},"30d",null,null,null,null,null,null,null,null,null,null,null,null,null,null,null,null,null,null,null,null,null,"قرینه",{"$f":"GV114","v":-7.6014691115406201},118.23,"شیفت 43",null,null,"نقطه اول از خط دوم","a18",{"$f":"GI257","v":15.023198402438101},{"$f":"GJ257","v":119.52697248066318},null,null,{"$f":"GE281","v":32.229381884518993},{"$f":"GF281","v":118.36663008861314},"a33",null,null,null,null,null,{"$f":"GI261","v":9.789108237281626},{"$f":"GJ261+GD266","v":117.15961474595007},"a22",null,{"$f":"GI247","v":16.953969111540619},{"$f":"GJ247+GD266","v":112.62597746197747},"a8",null,null,null,null,null,{"$f":"-GM260+GC249","v":0.5317064287299722},{"$f":"GN260+GD266","v":116.74746590195255},"a22",null,null,10,{"$f":"HI264+HL264*SIN(RADIANS(HH272)+HH266)","v":33.097266685393336},{"$f":"HJ264+HL264*COS(RADIANS(HH272)+HH266)","v":121.77119054976288},{"$f":"IF(HI265>HI272,ATAN((HJ265-HJ272)/(HI265-HI272)),ATAN((HJ265-HJ272)/(HI272-HI265)))","v":1.0691334499220024},{"$f":"IF(HI265>HI272,(HI265-HI272)/COS(HK272),(HI272-HI265)/COS(HK272))","v":2.6618679088064492},null,null,null,{"$f":"CA415","v":23.040800000000001},{"$f":"CB415","v":139.1},"23پشت شبیه ساز",null,null,null,null,null,null,null,{"$f":"HZ252-HX262-HX257","v":29.770820136600474},{"$f":"IA240","v":111.01895434192765},"e33",null,{"$f":"ID265+SQRT(POWER((ID270-ID265),2)+POWER((IE270-IE265),2))*0.5*COS(HX268)","v":22.954080767108518},{"$f":"IE265+IF(IE265>IE270,-1,1)*SQRT(POWER((ID270-ID265),2)+POWER((IE270-IE265),2))*0.5*SIN(HX268)","v":122.0145508210159},"e67",null,null,null,null,null,null,null,null,null,null,null,null,null,null,null,null,null,null,54,{"$f":"IZ242+JC242*SIN(RADIANS(IY272)+IY244)","v":25.609998438268093},{"$f":"JA242+JC242*COS(RADIANS(IY272)+IY244)","v":127.5870407414815},{"$f":"IF(IZ243>IZ272,ATAN((JA243-JA272)/(IZ243-IZ272)),ATAN((JA243-JA272)/(IZ272-IZ243)))","v":-0.10862205306845481},{"$f":"IF(IZ243>IZ272,(IZ243-IZ272)/COS(JB272),(IZ272-IZ243)/COS(JB272))","v":10.163602870539831}]
[null,null,null,null,null,"(1' →e4)",{"$f":"G275-H247*H124*COS(O244)","v":69.862703412967846},null,null,{"$f":"O273+O263","v":6.1199459138016952},{"$f":"O276+O264","v":161.89781308918174},"p6",null,"(p1 → p4)",{"$f":"0.5*O272","v":6.1199459138016952},null,null,null,null,null,null,null,null,null,{"$f":"R269","v":15.000000000000002},{"$f":"S269","v":136.41391319447115},{"$f":"T269","v":24},null,null,null,null,null,null,null,null,null,null,null,null,null,null,null,null,null,null,{"$f":"AX101","v":1.1751228271808215E-3},"زاویه پهلو با عمود",null,null,null,null,null,null,null,null,null,null,null,null,null,null,null,{"$f":"BK268","v":5},{"$f":"0+BE260","v":71.580000000000013},1,null,{"$f":"-BK273-BN238","v":5},{"$f":"BL273","v":71.580000000000013},1,null,null,null,null,null,null,null,null,null,null,null,null,null,null,null,null,{"$f":"BO178-(BP178-CI273)*(BO178-BK170)/(BP178-BL170)","v":15},{"$f":"CI256+CF272*COS(CF276)","v":88.352063105894246},"s5",null,{"$f":"0+BI98","v":15},{"$f":"CF262+BI97","v":65.336178087484711},"m7",null,{"$f":"CL264+CI249","v":48.820666799999998},{"$f":"CQ276+CI248-CI246","v":90.070668994672232},"جلوm10",null,null,null,null,null,{"$f":"BW110","v":3.3200599999999998},{"$f":"BX110","v":136.36934389257897},"چرخیده 26'",null,null,null,null,null,"نقاط جلو",null,null,null,{"$f":"DF248","v":46.32244},{"$f":"DG248","v":69.87470463247756},"p15",null,null,null,null,null,null,null,null,null,null,null,null,null,null,null,null,null,null,null,null,null,null,null,null,null,null,null,null,null,null,null,"xd'3",{"$f":"ES262+(ES271-ES262)*(1-COS(RADIANS(EZ248)))","v":1.4383493961676392},null,null,null,null,null,{"$f":"EY274+0.6*(EY272-EY274)","v":5.0090527687154234},{"$f":"EZ274+0.3*(EZ272-EZ274)","v":125.5891863530352},null,null,null,null,null,null,null,null,null,null,null,null,null,null,null,null,null,null,null,null,null,null,"قرینه",-8.2489691115406174,100.5," شیفت40 یا dd5",null,null,"نقطه دوم از خط دوم","a56",{"$f":"GM257","v":7.4043400487193392},{"$f":"GN257","v":112.17894496132635},null,null,{"$f":"GG302","v":31.817216500607426},{"$f":"GH302","v":124.1050740704989},"a34",null,null,null,null,null,{"$f":"GI262","v":12.676440231385996},{"$f":"GJ262+GD266","v":114.93401098836353},"a23",null,null,null,null,null,{"$f":"-GI247+GC249","v":-6.9539691115406193},{"$f":"GJ247","v":112.62597746197747},"a8",null,{"$f":"-GI262+GC249","v":-2.6764402313859961},{"$f":"GJ262+GD266","v":114.93401098836353},"a23",null,null,12,{"$f":"HI264+HL264*SIN(RADIANS(HH273)+HH266)","v":33.2321669060861},{"$f":"HJ264+HL264*COS(RADIANS(HH273)+HH266)","v":121.25423503766385},{"$f":"IF(HI265>HI273,ATAN((HJ265-HJ273)/(HI265-HI273)),ATAN((HJ265-HJ273)/(HI273-HI265)))","v":1.1100908640009974},{"$f":"IF(HI265>HI273,(HI265-HI273)/COS(HK273),(HI273-HI265)/COS(HK273))","v":3.1826667813486491},null,null,null,{"$f":"GI249","v":6.2601469111540613},{"$f":"GJ249","v":119.53104565807236},"a10",null,null,null,null,null,null,null,{"$f":"HZ252-HX257","v":29.553708174706347},{"$f":"IA252-HT261","v":117.28431020428536},"e34",null,null,null,null,null,null,null,null,null,null,null,null,null,{"$f":"ID267","v":18.248969111540617},{"$f":"IE267","v":112.62597746197747},"e62",null,{"$f":"-ID267+HT270","v":-8.2489691115406174},{"$f":"IE267","v":112.62597746197747},"e62",null,null,56,{"$f":"IZ242+JC242*SIN(RADIANS(IY273)+IY244)","v":25.952429945065905},{"$f":"JA242+JC242*COS(RADIANS(IY273)+IY244)","v":127.32784426408598},{"$f":"IF(IZ243>IZ273,ATAN((JA243-JA273)/(IZ243-IZ273)),ATAN((JA243-JA273)/(IZ273-IZ243)))","v":-8.0489564139428385E-2},{"$f":"IF(IZ243>IZ273,(IZ243-IZ273)/COS(JB273),(IZ273-IZ243)/COS(JB273))","v":10.480063990597229}]
[null,null,null,null,null,"(1'→e6)",{"$f":"AX103-0.3*AX129","v":72.123539109581856},null,null,{"$f":"O263+O272","v":12.23989182760339},{"$f":"O264","v":160.10276611527121},"p2",null,"(p5 → p7)",{"$f":"0.65*O271","v":1.1667805330418461},null,null," یقه قایقی در  جلو پیراهن بدون ساسون سرشانه",null,null,null,null,null,null,null,null,null,null,null,null,null,null,null,null,null,null,null,null,null,null,null,null,null,null,null,{"$f":"1*(SQRT(POWER(AR141-AR146,2)+POWER(AS141-AS146,2))+SQRT(POWER(AR146-AR144,2)+POWER(AS146-AS144,2))+SQRT(POWER(AR144-AR142,2)+POWER(AS144-AS142,2)))","v":8.9876145850688047},"نصف نوار گرد پشت گردن",null,{"$f":"AS269+AT276","v":24.254696527337614},{"$f":"AT269+AT277","v":143.73265925554304},"22f",null,null,null,null,null,null,null,null,null,null,null,null,null,null,null,null,null,null,null,null,null,null,null,null,null,null,null,null,null,null,null,"زاویه s7",{"$f":"ATAN((CH258-CH259)/(CI258-CI259))","v":5.108815000348723E-2},null,null,null,null,null,{"$f":"0+BI98","v":15},{"$f":"CF264+BI97","v":60.475333152491984},"m9",null,{"$f":"CP273","v":48.820666799999998},{"$f":"CQ273","v":90.070668994672232},"جلوm10",null,{"$f":"CL253","v":5},{"$f":"CM253","v":96},"s1",null,null,null,null,null,null,{"$f":"'متغیرها '!C409","v":0.2},"p2",null,{"$f":"DB260","v":5},{"$f":"DC260-DD264","v":74},"p3",null,null,null,null,null,null,null,null,null,null,null,null,null,null,null,null,null,null,null,null,null,null,null,null,null,null,null,null,null,null,null,null,null,null,null,"xd'4",{"$f":"ES269-(ES273-ES262)*COS(RADIANS(EZ248))*COS(RADIANS(EZ248))","v":-11.458043612106106},null,null,null,null,null,{"$f":"EY274-(EY273-EY274)","v":-5.0090527687154234},{"$f":"EZ273","v":125.5891863530352},null,null,null,null,null,null,null,null,null,null,null,null,null,null,null,null,null,null,null,null,null,null,null,{"$f":"FX273","v":-8.2489691115406174},{"$f":"FY273","v":100.5},{"$f":"FZ273","v":" شیفت40 یا dd5"},null,null,null,null,null,null,null,null,null,null,null,null,null,null,null,null,null,null,null,null,{"$f":"GI260","v":17.374844111540618},{"$f":"GJ260+GD266","v":116.41298873098873},"a21",null,null,null,null,null,null,null,null,null,null,16,{"$f":"HI264+HL264*SIN(RADIANS(HH275)+HH266)","v":33.447454078948041},{"$f":"HJ264+HL264*COS(RADIANS(HH275)+HH266)","v":120.2077800929314},{"$f":"IF(HI265>HI275,ATAN((HJ265-HJ275)/(HI265-HI275)),ATAN((HJ265-HJ275)/(HI275-HI265)))","v":1.1746144061243653},{"$f":"IF(HI265>HI275,(HI265-HI275)/COS(HK275),(HI275-HI265)/COS(HK275))","v":4.2245206721494197},null,null,null,{"$f":"GM261","v":12.676440231385996},{"$f":"GN261","v":114.27457283796751},"a60",null,null,null,null,null,null,null,{"$f":"HP258","v":16.953969111540619},{"$f":"HQ258-HT261","v":112.62597746197747},"e36",null,"پروسیجر چرخش یک نقطه حول نقطه دیگر",null,null,null,null,null,"کامل شده",null,null,null,null,null,{"$f":"ID265","v":16.846402153823011},{"$f":"IE265","v":122.75150144002116},"e60",null,{"$f":"-ID265+HT270","v":-6.8464021538230107},{"$f":"IE265","v":122.75150144002116},"e60",null,null,60,{"$f":"IZ242+JC242*SIN(RADIANS(IY275)+IY244)","v":26.609123753821585},{"$f":"JA242+JC242*COS(RADIANS(IY275)+IY244)","v":126.77440309272205},{"$f":"IF(IZ243>IZ275,ATAN((JA243-JA275)/(IZ243-IZ275)),ATAN((JA243-JA275)/(IZ275-IZ243)))","v":-2.6040096849856552E-2},{"$f":"IF(IZ243>IZ275,(IZ243-IZ275)/COS(JB275),(IZ275-IZ243)/COS(JB275))","v":11.106593613092873}]
[null,null,null,null,null,"(e6 →e7)",{"$f":"0.9*AX128-AX147","v":9.1960678599845966},null,null,null,null,"برش",null,"(p4 → p6)",{"$f":"1*O271","v":1.7950469739105324},null,null,"نقاط  ورودی",null,null,null,"محاسبات",null,null,"رسم",null,null,null,null,null,null,"شنل متصل به سرشانه با ساسون متغیر",null,null,"رسم ",null,null,"متغیر محاسبه ای",null,null,null,"رسم یقه مربعی جلو در پیراهن",null,null,null,{"$f":"'متغیرها '!C51","v":5},"شیفت افقی کلی",null,null,null,null,null,null,null,null,null,null,null,null,null,null,null,null,null,null,null,null,null,null,null,null,null,null,null,null,null,null,null,null,null,null,null,"زاویه s8",{"$f":"ATAN((CH260-CH259)/(CI259-CI260))","v":0.23860932250820072},null,null,null,null,null,{"$f":"CF265+BI98","v":22.958558156988868},{"$f":"CF264+BI97","v":60.475333152491984},"m10",null,{"$f":"CL264+CI251","v":47.271914000000002},{"$f":"CQ277+CI266-CI263","v":86.319620935946887},"جلوm2",null,{"$f":"CL254","v":33.175039999999996},{"$f":"CM254","v":96},"s2",null,{"$f":"BW112","v":3.3200600350105507},{"$f":"BX112","v":120.20099999999755},"چرخیده 4'",null,null,{"$f":"'متغیرها '!C410","v":1.4999999999999999E-2},"p20",null,{"$f":"0.1*H132+DB256","v":7.1378000000000004},{"$f":"DG275-0.05*H132","v":72.931100000000001},"p4",null,{"$f":"DF250","v":44.154267052201249},{"$f":"DG250","v":67.454704632477572},"p17",null,null,null,null,null,null,null,null,null,null,null,null,null,null,null,null,null,null,null,null,null,null,null,null,null,null,null,null,null,null,null,"yd'4",{"$f":"ES270-(ES273-ES262)*COS(RADIANS(EZ248))*SIN(RADIANS(EZ248))","v":132.17888360813103},null,null,null,null,null,{"$f":"EY274-(EY272-EY274)","v":-8.3484212811923726},{"$f":"EZ266","v":139.03229312467974},"30d'",null,null,null,null,null,null,null,null,null,null,null,null,null,null,null,null,null,null,null,null,null,"قرینه",{"$f":"GV118","v":-8.5559320745035805},{"$f":"GW118","v":92.82},{"$f":"GX118","v":" dd5"},null,null,null,"به دست آوردن نقطه تقاطع دو خط ","مولفه افقی","مولفه عمودی",null,null,null,null,null,null,null,null,null,null,{"$f":"GI247","v":16.953969111540619},{"$f":"GJ247+GD266","v":112.62597746197747},"a8",null,{"$f":"GI241","v":17.60146911154062},{"$f":"GJ241+GD266","v":120.2},"a2",null,{"$f":"-GI264+GC249-GC248","v":-8.2489691115406174},{"$f":"GJ264","v":100.5},"a25",null,{"$f":"-GI247+GC249","v":-6.9539691115406193},{"$f":"GJ247+GD266","v":112.62597746197747},"a8",null,null,18,{"$f":"HI264+HL264*SIN(RADIANS(HH276)+HH266)","v":33.527578736859553},{"$f":"HJ264+HL264*COS(RADIANS(HH276)+HH266)","v":119.67955560445412},{"$f":"IF(HI265>HI276,ATAN((HJ265-HJ276)/(HI265-HI276)),ATAN((HJ265-HJ276)/(HI276-HI265)))","v":1.2020015654503717},{"$f":"IF(HI265>HI276,(HI265-HI276)/COS(HK276),(HI276-HI265)/COS(HK276))","v":4.7445287092081854},null,null,null,{"$f":"GM264","v":22.140359571264643},{"$f":"GN264","v":112.86920597999028},"a63",null,null,null,null,null,null,null,{"$f":"HP275","v":12.676440231385996},{"$f":"HQ275","v":114.27457283796751},"e37",null,"رادیان",{"$f":"-HX264","v":-0.27441579596702703},"زاویه چرخش","چرخش مخالف عقربه های ساعت",null,null,null,null,null,null,null,null,null,null,"کاسه زیرین مرکزی",null,null,null,"کاسه زیرین مرکزی",null,null,62,{"$f":"IZ242+JC242*SIN(RADIANS(IY276)+IY244)","v":26.922585975529419},{"$f":"JA242+JC242*COS(RADIANS(IY276)+IY244)","v":126.48083268156986},{"$f":"IF(IZ243>IZ276,ATAN((JA243-JA276)/(IZ243-IZ276)),ATAN((JA243-JA276)/(IZ276-IZ243)))","v":3.8421606121132051E-4},{"$f":"IF(IZ243>IZ276,(IZ243-IZ276)/COS(JB276),(IZ276-IZ243)/COS(JB276))","v":11.416291273833764}]
[null,null,null,null,null,"(e10 →e11)",{"$f":"O254*SIN(RADIANS(H246))","v":3.3063771279783793},null,null,null,null,null,null,"(a14→e7)",{"$f":"SQRT(POWER((N267-N269),2)+POWER((O267-O269),2))+SQRT(POWER((N269-N268),2)+POWER((O269-O268),2))+SQRT(POWER((N268-N261),2)+POWER((O268-O261),2))","v":13.285936265911188},null,null,{"$f":"AZ102","v":5},{"$f":"BA102","v":136.36934389257897},26,null,"(1 → b3)",{"$f":"S279-S281+0.75*(W277-(S279-S281))","v":70.562907941929325},null,null,null,"انحنا",null,"اسم نقطه","مولفه افقی","مولفه عمودی",null,{"$f":"AD282","v":44.548225092204078},{"$f":"AE282","v":126.8768192529092},"c12",null,null,"یقه مربعی جلو",null,null,null,null,null,null,"نقاط  محاسبه شده",null,null,null,null,null,null,null,null,null,null,null,null,null,null,null,null,null,null,null,null,null,null,null,null,null,null,null,null,null,null,null,null,null,null,null,null,null,null,null,null,"محاسبات از شلوار جلو و پشت",null,null,null,{"$f":"BK170","v":15},{"$f":"CF256+BI97","v":54.399276983751093},"m'1",null,null,null,"خط مرغک در جلو",null,{"$f":"CL241","v":32.40504},{"$f":"CM241","v":86.1},"m4",null,{"$f":"CL255","v":3.3200600000000002},{"$f":"CM255","v":96},"s'1",null,null,{"$f":"'متغیرها '!C413","v":-10},"جابجایی عمودی وسط پا",null,{"$f":"DF280","v":30.857237622711477},{"$f":"DG277","v":72.064000000000007},"p7",null,{"$f":"DF254","v":42.474327052201247},{"$f":"DG254","v":67.454704632477572},"p22",null,null,null,null,null,null,null,null,null,null,null,null,null,null,null,null,null,null,null,null,null,null,null,null,null,null,null,null,null,null,null,null,null,null,null,null,null,null,null,null,null,null,null,null,null,null,null,null,null,null,null,null,null,null,null,null,null,null,null,null,null,null,"قرینه",{"$f":"GV121","v":-22.778373333333327},{"$f":"GW121","v":94.321202973762894},{"$f":"GX121","v":"d3"},null,null,"نقطه اول از خط دوم","a6",{"$f":"GI245","v":35.264369168277327},{"$f":"GJ245","v":115.88224888480829},null,null,null,null,null,null,null,null,null,null,null,null,"کاسه پایین راست",null,{"$f":"GI266","v":17.828094111540619},{"$f":"GJ266+GD266","v":116.41298873098873},"a27",null,{"$f":"-GI265+GC249-GC248","v":-8.2489691115406174},{"$f":"GJ265","v":112.62597746197747},"a26",null,null,null,"قرینه کاسه پایین راست",null,null,24,{"$f":"HI264+HL264*SIN(RADIANS(HH279)+HH266)","v":33.656773449421983},{"$f":"HJ264+HL264*COS(RADIANS(HH279)+HH266)","v":118.08262348523911},{"$f":"IF(HI265>HI279,ATAN((HJ265-HJ279)/(HI265-HI279)),ATAN((HJ265-HJ279)/(HI279-HI265)))","v":1.2743471510232967},{"$f":"IF(HI265>HI279,(HI265-HI279)/COS(HK279),(HI279-HI265)/COS(HK279))","v":6.2971327459271418},null,null,null,null,null,null,null,null,null,null,null,null,null,{"$f":"HZ278-(IA253-IA254)*SIN(HX263)","v":38.751769178261661},{"$f":"IA278-(IA253-IA254)*COS(HX263)","v":99.104997565727018},"e40",null,{"$f":"ID270-HT260+HX265","v":30.571893295829248},{"$f":"IE270","v":121.27760020201065},"e65-b16+f22","نقطه قبل از چرخش",{"$f":"IF(IE279>IE278,IF(ID279>ID278,ID278+SQRT(POWER(ID279-ID278,2)+POWER(IE279-IE278,2))*COS(ATAN((IE279-IE278)/(ID279-ID278+0.000123))+IE276),ID278-SQRT(POWER(ID279-ID278,2)+POWER(IE279-IE278,2))*COS(ATAN((IE279-IE278)/(ID278-ID279+0.000123))-IE276)),IF(ID279>ID278,ID278+SQRT(POWER(ID279-ID278,2)+POWER(IE279-IE278,2))*COS(ATAN((IE278-IE279)/(ID279-ID278+0.000123))-IE276),ID278-SQRT(POWER(ID279-ID278,2)+POWER(IE279-IE278,2))*COS(ATAN((IE278-IE279)/(ID278-ID279+0.000123))+IE276)))","v":29.715440555197141},{"$f":"IF(IE279>IE278,IF(ID279>ID278,IE278+SQRT(POWER(ID279-ID278,2)+POWER(IE279-IE278,2))*SIN(ATAN((IE279-IE278)/(ID279-ID278+0.000123))+IE276),IE278+SQRT(POWER(ID279-ID278,2)+POWER(IE279-IE278,2))*SIN(ATAN((IE279-IE278)/(ID278-ID279+0.000123))-IE276)),IF(ID279>ID278,IE278-SQRT(POWER(ID279-ID278,2)+POWER(IE279-IE278,2))*SIN(ATAN((IE278-IE279)/(ID279-ID278+0.000123))-IE276),IE278-SQRT(POWER(ID279-ID278,2)+POWER(IE279-IE278,2))*SIN(ATAN((IE278-IE279)/(ID278-ID279+0.000123))+IE276)))","v":118.02258762060484},"e56",null,null,null,null,null,{"$f":"HP263","v":15.628181484315522},{"$f":"HQ263","v":122.68073240858074},"a58",null,{"$f":"-HP263+HT270","v":-5.6281814843155225},{"$f":"HQ263","v":122.68073240858074},"a58",null,null,null,"مولفه افقی","مولفه عمودی"]
[null,null,null,null,null,"(e1 →e11)",{"$f":"O254*COS(RADIANS(H246))","v":23.526095707201023},null,null,{"$f":"0+O263","v":0},{"$f":"0+O264","v":160.10276611527121},"p1",null,"(a2→a14)",{"$f":"0.8*(0.4*H166+0.037*'متغیرها '!U83)*ES740","v":1.7950469739105324},null,null,{"$f":"AZ140","v":13.351253177760663},{"$f":"BA140","v":146.84676563115454},25,null,"(b3 → b4)",{"$f":"0.75*W278","v":13.561922819835406},null,{"$f":"Y277","v":23.082563759780541},{"$f":"Z277","v":144.06742929171278},"b2  ..",null,34,{"$f":"BW138","v":19.227447802367497},{"$f":"BX138","v":145.64260215507844},null,{"$f":"AD283","v":62.543988071182255},{"$f":"AE283","v":81.868564019927717},"c2",null,"اسم نقطه ","مولفه افقی","مولفه عمودی",null,{"$f":"AL283","v":10.932349773316066},{"$f":"AM283","v":136.36934389257897},"sq2",null,"مولفه افقی","مولفه عمودی","اسم نقطه ",null,{"$f":"AS284+AT276","v":25.478801107224793},{"$f":"AT284+AT277","v":85.919410908776172},"4n",null,null,null,null,null,null,null,null,null,null,null,null,null,null,null,null,null,null,null,null,null,null,null,null,null,null,null,null,null,null,null,null,"فاق جلو","s'8",{"$f":"O574+0.33*CH282-0.4*'متغیرها '!C417*'متغیرها '!C418*CH282","v":25.117280167786717},null,null,null,null,"رسم پهلو مایو جلو",null,null,{"$f":"CH252","v":11.8287528},{"$f":"CI252","v":79.133767890938628},"m10",null,null,null,null,null,{"$f":"CL253","v":5},{"$f":"CM253","v":96},"s1",null,null,null,null,null,{"$f":"DB259-(DC259-DG280)*TAN(RADIANS(DC277))","v":30.857237622711477},{"$f":"DC256","v":71.580000000000013},"p8",null,{"$f":"DF253","v":44.642499999999998},{"$f":"DG253","v":69.87470463247756},"p21",null,null,null,null,null,null,null,null,null,null,null,null,null,null,null,null,null,null,null,null,null,null,null,null,null,null,null,null,null,null,null,null,null,null,null,null,null,null,null,null,null,null,null,null,null,null,null,null,null,null,null,null,null,null,null,null,null,null,null,null,null,null,null,null,null,null,null,null,"نقطه دوم از خط دوم","a35",{"$f":"GI274","v":24.813128293430722},{"$f":"GJ274","v":124.43734830375297},null,null,null,null,null,null,null,null,null,null,{"$f":"GM245","v":16.846402153823011},122.75150144002116,"a43",null,{"$f":"GI265","v":18.248969111540617},{"$f":"GJ265+GD266","v":112.62597746197747},"a26",null,{"$f":"-GI267+GC249-GC248","v":-13.437489724505983},{"$f":"GN264","v":112.86920597999028},"a28",null,{"$f":"-GM245+GC249","v":-6.8464021538230107},{"$f":"GN245","v":122.75150144002116},"a43",null,null,26,{"$f":"HI264+HL264*SIN(RADIANS(HH280)+HH266)","v":33.662603699606159},{"$f":"HJ264+HL264*COS(RADIANS(HH280)+HH266)","v":117.5483884440678},{"$f":"IF(HI265>HI280,ATAN((HJ265-HJ280)/(HI265-HI280)),ATAN((HJ265-HJ280)/(HI280-HI265)))","v":1.2964424112399213},{"$f":"IF(HI265>HI280,(HI265-HI280)/COS(HK280),(HI280-HI265)/COS(HK280))","v":6.8114301228212453},null,null,null,null,null,null,null,null,null,null,null,null,null,{"$f":"HP271","v":15},{"$f":"IA279","v":99.104997565727018},"e41",null,null,null,null,null,null,null,null,null,null,null,null,null,{"$f":"HP261","v":6.2601469111540613},{"$f":"HQ261","v":120.86895434192765},"a14",null,{"$f":"-HP261+HT270","v":3.7398530888459387},{"$f":"HQ261","v":120.86895434192765},"a14",null,null,"e23",{"$f":"IZ242+JC242*SIN(JA278+IY244)","v":27.225611784925295},{"$f":"JA242+JC242*COS(JA278+IY244)","v":126.17650143180731},"راس سوم "]
[null,null,null,null,null,{"$f":"J248","v":3.3200600000000002},{"$f":"K248","v":114.42},"e1",null,null,null,null,null,null,null,null,null,null,{"$f":"'متغیرها '!B245","v":0.27820102979369776},"زاویه سرشانه با افق",null,"(b5 →b6)",{"$f":"0.3*W278","v":5.4247691279341623},null,{"$f":"W282+AX99","v":10.424769127934162},{"$f":"AX98+W281","v":137.29311414047504},"b6  ..",null,"c12",{"$f":"AD281+0.27*H130+TAN(AD277)*(AE281-AE282)","v":44.548225092204078},{"$f":"BX132","v":126.8768192529092},null,{"$f":"BD152","v":17.954541134235299},{"$f":"BE152","v":71.580000000000013},"3'",null,"نقطه پایین یقه",{"$f":"BW108","v":5.0000000000000018},{"$f":"BX108","v":136.36934389257897},26,null,null,null,null,{"$f":"AS269","v":19.254696527337614},{"$f":"AT281","v":150.83438021622334},"2n",null,null,null,null,null,null,null,null,null,null,null,null,null,null,null,null,null,null,null,null,null,null,null,null,null,null,null,null,null,null,null,null,null,null,null,null,"تغییر خط فاق","(p11→p13)",{"$f":"SQRT(POWER((AG578-AG583),2)+POWER((AH578-AH583),2))","v":6.7491014812117278},null,null,null,{"$f":"AZ168+BT130","v":33.525039999999997},{"$f":"BA168","v":103.92120297376289},"شیفت 41",null,null,null,null,null,{"$f":"CL253","v":5},{"$f":"CM253","v":96},"s1",null,{"$f":"CL253","v":5},{"$f":"CM253","v":96},"s1",null,null,{"$f":"BD167-AZ161","v":0},"شیفت تکه جلو",null,null,null,null,null,{"$f":"DF253","v":44.642499999999998},{"$f":"DG253","v":69.87470463247756},"p21",null,null,null,null,null,null,null,null,null,null,null,null,null,null,null,null,null,null,null,null,null,null,null,null,null,null,null,null,null,null,null,null,null,null,null,null,null,null,null,null,null,null,null,null,null,null,null,null,null,null,null,null,null,null,null,null,null,null,null,null,null,null,"قرینه",{"$f":"GV124","v":-23.525039999999997},{"$f":"GW124","v":103.92120297376289},{"$f":"GX124","v":" شیفت41 یا d3"},null,null,null,null,null,null,null,null,null,null,null,null,null,null,null,null,18.248969111540617,112.62597746197747,"a45",null,{"$f":"GI265","v":18.248969111540617},{"$f":"GJ265+GD266","v":112.62597746197747},"a26",null,{"$f":"-GI246+GC249-GC248","v":-21.220270643954034},{"$f":"GJ246","v":117.49054782223371},"a7",null,{"$f":"-GM247+GC249","v":-8.2489691115406174},{"$f":"GN247","v":112.62597746197747},"a45",null,null,30,{"$f":"HI264+HL264*SIN(RADIANS(HH282)+HH266)","v":33.618335559466828},{"$f":"HJ264+HL264*COS(RADIANS(HH282)+HH266)","v":116.48093500249647},{"$f":"IF(HI265>HI282,ATAN((HJ265-HJ282)/(HI265-HI282)),ATAN((HJ265-HJ282)/(HI282-HI265)))","v":1.3388105250102376},{"$f":"IF(HI265>HI282,(HI265-HI282)/COS(HK282),(HI282-HI265)/COS(HK282))","v":7.8339981103155507},null,null,null,null,"رادیان",{"$f":"-HX264","v":-0.27441579596702703},"زاویه چرخش","چرخش مخالف عقربه های ساعت",null,null,null,null,null,{"$f":"HZ281+(HZ283-HZ281)*(0.5)","v":19.635511681068955},{"$f":"IA281+(IA283-IA281)*(0.5+HU253)","v":107.39649878286352},"e43",null,"رادیان",{"$f":"-HX264","v":-0.27441579596702703},"زاویه چرخش","چرخش مخالف عقربه های ساعت",null,null,null,null,null,null,null,null,{"$f":"HP261","v":6.2601469111540613},{"$f":"HQ261","v":120.86895434192765},"a14",null,{"$f":"-HP261+HT270","v":3.7398530888459387},{"$f":"HQ261","v":120.86895434192765},"a14"]
[null,null,null,null,null,{"$f":"J244","v":12.516127859984596},{"$f":"K244","v":143.70353910958187},"e7",null,null,null,null,null,"α17",{"$f":"ATAN((O259-O258)/(N258-N259))","v":0.84386669040665818},null,null,null,null,null,null,null,null,null,{"$f":"R279","v":5},{"$f":"S279","v":136.36934389257897},{"$f":"T279","v":26},null,"c2",{"$f":"(1+'متغیرها '!C496)*((AD281-AX99)+0.27*H130)+AX99","v":62.543988071182255},{"$f":"BE182+AD278","v":81.868564019927717},null,{"$f":"AD285","v":40.249264602708777},{"$f":"AE285","v":74.66656920597832},"c5",null,"sq2",{"$f":"AL281-(AM281-AM282)*TAN(RADIANS(AL277))","v":10.932349773316066},{"$f":"AM282","v":136.36934389257897},null,null,null,null,null,{"$f":"AS272","v":0},{"$f":"AT272+'متغیرها '!C423*25*COS(RADIANS(55))","v":80.919410908776172},"3n",null,{"$f":"AW268","v":13.351253177760663},{"$f":"AX268","v":146.84676563115454},{"$f":"AY268","v":25},null,null,null,null,null,null,null,null,null,null,null,null,null,null,null,null,null,null,null,null,null,null,null,null,null,null,null,null,null,null,null,null,null,null,null,null,null,null,{"$f":"CL241","v":32.40504},{"$f":"CM241","v":86.1},"m4",null,{"$f":"CH250-'متغیرها '!C403*CI249","v":2.2684988800000001},{"$f":"CI250","v":79.133767890938628},"m9'",null,{"$f":"EU372+EU376","v":5},{"$f":"EV372+EU377","v":120.2},"d3",null,{"$f":"BS111","v":5},{"$f":"BT111","v":120.2},4,null,null,{"$f":"BO158-BO116","v":0},"شیفت افقی تکه پهلو پشت",null,null,null,null,null,{"$f":"DF248","v":46.32244},{"$f":"DG248","v":69.87470463247756},"p15",null,null,null,null,null,null,null,null,null,null,null,null,null,null,null,null,null,null,null,null,null,null,null,null,null,null,null,null,null,null,null,null,null,null,null,null,null,null,null,null,null,null,null,null,null,null,null,null,null,null,null,null,null,null,null,null,null,null,null,null,null,null,null,null,null,null,null,null,null,null,null,null,null,null,null,null,null,null,null,null,null,null,null,null,null,null,{"$f":"GI267","v":23.437489724505983},{"$f":"GJ267+GD266","v":114.08534857005434},"a28",null,{"$f":"-GI272+GC249-GC248","v":-22.229381884518993},{"$f":"GJ272","v":118.36663008861314},"a33",null,null,null,null,null,null,32,{"$f":"HI264+HL264*SIN(RADIANS(HH283)+HH266)","v":33.568291103053099},{"$f":"HJ264+HL264*COS(RADIANS(HH283)+HH266)","v":115.94901712968641},{"$f":"IF(HI265>HI283,ATAN((HJ265-HJ283)/(HI265-HI283)),ATAN((HJ265-HJ283)/(HI283-HI265)))","v":1.3593105422487659},{"$f":"IF(HI265>HI283,(HI265-HI283)/COS(HK283),(HI283-HI265)/COS(HK283))","v":8.3419138742320946},null,null,null,null,"مولفه افقی","مولفه عمودی","اسم نقطه ",null,"نقطه  خروجی چرخیده",null,null,null,null,{"$f":"HZ284-HU242","v":24.27102336213791},{"$f":"IA284","v":112.688},"e44",null,"مولفه افقی","مولفه عمودی","اسم نقطه ",null,"نقطه  خروجی چرخیده",null,null,null,null,null,null,null,{"$f":"HP260","v":9.789108237281626},{"$f":"HQ260","v":117.15961474595007},"a22",null,{"$f":"-HP260+HT270","v":0.21089176271837395},{"$f":"HQ260","v":117.15961474595007},"a22"]
[null,null,null,null,null,null,null,null,null,null,null,null,null,"مرجع قرینه",{"$f":"GK101","v":-10},null,null,"نقاط  ورودی",null,null,null,"محاسبات",null,null,"رسم",null,null,null,null,null,null,null,null,null,null,null,"اسم نقطه ","مولفه افقی","مولفه عمودی",null,{"$f":"AL289","v":22.743920643025636},{"$f":"AM289","v":136.41391319447115},"sq3",null,{"$f":"AS285+0.65*(AS288-AS285)","v":26.546042021158129},{"$f":"AT285+0.2*(AT288-AT285)","v":70.435049808587138},"6n",null,null,null,"انحنا پهلو پیش بند",null,null,null,null,null,null,null,null,null,null,null,null,null,null,null,null,null,null,null,null,null,null,null,null,null,null,null,null,null,null,null,null,null,null,null,null,null,null,{"$f":"CL253","v":5},{"$f":"CM253","v":96},"s1",null,{"$f":"CT275","v":5},{"$f":"CU275","v":96},"s1",null,{"$f":"FA315","v":3.3200600000000002},{"$f":"FB316","v":120.2},"d'3",null,{"$f":"BW108","v":5.0000000000000018},{"$f":"BX108","v":136.36934389257897},"26 چرخیده",null,null,null,null,null,null,null,null,null,null,null,null,null,null,null,null,null,null,null,null,null,null,null,null,null,null,null,null,null,null,null,null,null,null,null,null,null,null,null,null,null,null,null,null,null,null,null,null,null,null,null,null,null,null,null,null,null,null,null,null,null,null,null,null,null,null,null,null,null,null,null,null,null,null,null,null,null,null,null,null,"پروسیجر چرخش یک نقطه حول نقطه دیگر",null,null,null,null,null,"کامل شده",null,null,null,null,null,null,null,27.977445260850679,115.69065678893891,"a47",null,null,null,null,null,{"$f":"-GI245+GC249-GC248","v":-25.264369168277327},{"$f":"GJ245","v":115.88224888480829},"a6",null,{"$f":"-GM249+GC249","v":-17.977445260850679},{"$f":"GN249","v":115.69065678893891},"a47",null,null,38,{"$f":"HI264+HL264*SIN(RADIANS(HH286)+HH266)","v":33.307315335085391},{"$f":"HJ264+HL264*COS(RADIANS(HH286)+HH266)","v":114.36826568949466},{"$f":"IF(HI265>HI286,ATAN((HJ265-HJ286)/(HI265-HI286)),ATAN((HJ265-HJ286)/(HI286-HI265)))","v":1.4189368479989575},{"$f":"IF(HI265>HI286,(HI265-HI286)/COS(HK286),(HI286-HI265)/COS(HK286))","v":9.8501691348375893},null,null,null,null,null,null,null,null,null,null,null,null,null,{"$f":"IH285","v":29.68559878346603},{"$f":"II285+HU254","v":116.93561016134666},"e47"]
[null,null,null,null,null,null,null,null,null,null,null,null,null,null,"رسم",null,null,"مولفه افقی","مولفه عمودی","اسم نقطه ",null,"(1 → b1)",{"$f":"S288-S291+'متغیرها '!C382*H167*SIN(S292)","v":69.672956785237972},null,{"$f":"W288+BI98","v":33.079731863212253},{"$f":"BI97+W287","v":136.25295678523798},"b2",null,null,null,null,"شنل متصل به سرشانه با ساسون متغیر",null,null,"رسم",null,"نقطه بالا یقه",{"$f":"CE105","v":23.348421281192373},{"$f":"CF105","v":139.03229312467974},23,null,null,null,null,{"$f":"AS285+0.92*(AS288-AS285)","v":29.885549352488582},{"$f":"AT285+0.5*(AT288-AT285)","v":75.560513758640468},"7n",null,{"$f":"AS270+AT274+AT276","v":35.844145557703101},{"$f":"AT270+AT277","v":115.38738418849009},14,null,null,null,null,null,null,null,null,null,null,null,null,null,null,null,null,null,null,null,null,null,null,null,null,null,null,null,null,null,null,null,null,null,null,null,null,null,null,{"$f":"DY238","v":5},{"$f":"DZ238","v":125.21958742766127},"p26",null,null,null,null,null,null,null,null,null,null,null,null,null,null,null,null,null,null,null,null,null,null,null,null,null,null,null,null,null,null,null,null,null,null,null,null,null,null,null,null,null,null,null,null,null,null,null,null,null,null,null,null,null,null,null,null,null,null,null,null,null,null,null,null,null,null,null,null,null,null,null,null,null,null,null,null,null,null,null,null,null,null,null,null,null,null,null,{"$f":"FX285","v":-24.684592778851552},{"$f":"FY285","v":111.89523358112649},{"$f":"FZ285","v":"dp'4"},null,null,"رادیان",{"$f":"2*GG262","v":0.30878067009282967},"زاویه چرخش","چرخش مخالف عقربه های ساعت",null,null,null,null,null,null,null,null,null,null,31.220270643954034,117.49054782223371,"a48",null,{"$f":"GI246","v":31.220270643954034},{"$f":"GJ246+GD266","v":117.49054782223371},"a7",null,null,null,null,null,{"$f":"-GM250+GC249","v":-21.220270643954034},{"$f":"GN250","v":117.49054782223371},"a48",null,null,40,{"$f":"HI264+HL264*SIN(RADIANS(HH287)+HH266)","v":33.183729248066292},{"$f":"HJ264+HL264*COS(RADIANS(HH287)+HH266)","v":113.84848924704288},{"$f":"IF(HI265>HI287,ATAN((HJ265-HJ287)/(HI265-HI287)),ATAN((HJ265-HJ287)/(HI287-HI265)))","v":1.4383436465690986},{"$f":"IF(HI265>HI287,(HI265-HI287)/COS(HK287),(HI287-HI265)/COS(HK287))","v":10.347216501538766},null,null,null,null,"پروسیجر چرخش یک نقطه حول نقطه دیگر",null,null,null,null,null,"کامل شده",null,null,{"$f":"HP261","v":6.2601469111540613},{"$f":"HQ261+HU254","v":120.86895434192765},"e48",null,"پروسیجر چرخش یک نقطه حول نقطه دیگر",null,null,null,null,null,"کامل شده",null,null,null,null,null,{"$f":"HP258","v":16.953969111540619},{"$f":"HQ258","v":112.62597746197747},"a8",null,{"$f":"-HP258+HT270","v":-6.9539691115406193},{"$f":"HQ258","v":112.62597746197747},"a8"]
[null,null,null,null,null,null,null,null,null,null,null,null,null,{"$f":"-Y278-O286","v":-14.254696527337614},{"$f":"Z278","v":143.73265925554304},"22f",null,{"$f":"BK138","v":15},{"$f":"BL138","v":136.41391319447115},24,null,"(1 → b3)",{"$f":"S289-S291+0.8*(W287-(S289-S291))","v":69.705148067084608},null,null,null,"انحنا",null,"پهلو پشت",{"$f":"AD288-SQRT(POWER(AD295-AD291,2)+POWER(AE291-AE295,2))-SQRT(POWER(AD293-AD295,2)+POWER(AE295-AE293,2))","v":47.676746990162378},null,null,{"$f":"AD295","v":45.683145280119135},{"$f":"AE295","v":128.49463892801742},"c4",null,"sq3",{"$f":"AL287-(AM287-AM288)*TAN(RADIANS(AL277))","v":22.743920643025636},{"$f":"AM288","v":136.41391319447115},null,{"$f":"AL288","v":15.000000000000002},{"$f":"AM288","v":136.41391319447115},{"$f":"AN288","v":24},null,null,null,null,null,{"$f":"AS287+AT274+AT276","v":34.885549352488582},{"$f":"AT287+AT277","v":80.560513758640468},"7n",null,null,null,null,null,null,null,null,null,null,null,null,null,null,null,null,null,null,null,null,null,null,null,null,null,null,null,null,null,null,null,null,null,null,null,null,null,null,{"$f":"DY238","v":5},{"$f":"DZ238","v":125.21958742766127},"p26",null,{"$f":"CL253","v":5},{"$f":"CM253","v":96},"s1",null,{"$f":"CL255","v":3.3200600000000002},{"$f":"CM255","v":96},"s'1",null,null,null,null,null,null,null,null,null,null,null,null,null,null,null,null,null,null,null,null,null,null,null,null,null,null,null,null,null,null,null,null,null,null,null,null,null,null,null,null,null,null,null,null,null,null,null,null,null,null,null,null,null,null,null,null,null,null,null,null,null,null,null,null,null,null,null,null,null,null,null,null,null,null,null,null,null,null,null,null,null,null,null,null,{"$f":"GM242","v":18.35653606925823},{"$f":"GN242","v":122.75150144002116},"a40","نقطه مرکزی چرخش","مولفه افقی","مولفه عمودی","اسم نقطه ",null,null,null,null,null,null,null,{"$f":"GM250","v":31.220270643954034},{"$f":"GN250","v":117.49054782223371},"a48",null,{"$f":"GI241","v":17.60146911154062},{"$f":"GJ241+GD266","v":120.2},"a2",null,null,null,null,null,{"$f":"-GM250+GC249","v":-21.220270643954034},{"$f":"GN250","v":117.49054782223371},"a48",null,null,44,{"$f":"HI264+HL264*SIN(RADIANS(HH289)+HH266)","v":32.882535700829585},{"$f":"HJ264+HL264*COS(RADIANS(HH289)+HH266)","v":112.8234531670648},{"$f":"IF(HI265>HI289,ATAN((HJ265-HJ289)/(HI265-HI289)),ATAN((HJ265-HJ289)/(HI289-HI265)))","v":1.4766458872417507},{"$f":"IF(HI265>HI289,(HI265-HI289)/COS(HK289),(HI289-HI265)/COS(HK289))","v":11.331808117293692},null,null,null,null,"مولفه افقی","مولفه عمودی","اسم نقطه ",null,"نقطه  خروجی چرخیده",null,null,null,null,{"$f":"HP256","v":18.35653606925823},{"$f":"HQ256+HU254","v":122.75150144002116},"e50",null,"مولفه افقی","مولفه عمودی","اسم نقطه ",null,"نقطه  خروجی چرخیده",null,null,null,"به دست آوردن نقطه تقاطع دو خط ","مولفه افقی","مولفه عمودی",null,{"$f":"HP256","v":18.35653606925823},{"$f":"HQ256","v":122.75150144002116},"a40",null,{"$f":"-HP256+HT270","v":-8.3565360692582296},{"$f":"HQ256","v":122.75150144002116},"a40"]
[null,null,null,null,null,null,null,null,null,null,null,null,null,null,null,null,null,{"$f":"BK104","v":23.348421281192373},{"$f":"BL104","v":139.03229312467974},23,null,"(b3 → b4)",{"$f":"0.75*W288","v":13.559798897409189},null,{"$f":"Y287","v":33.079731863212253},{"$f":"Z287","v":136.25295678523798},"b2",null,"اسم نقطه","مولفه افقی","مولفه عمودی",null,{"$f":"AD293","v":55.725520808425614},{"$f":"AE293","v":117.37857870331206},"c8",null,null,null,null,null,null,null,null,null,null,null,null,null,{"$f":"AS286+AT274+AT276","v":31.546042021158129},{"$f":"AT286+AT277","v":75.435049808587138},"6n",null,null,null,null,null,null,null,null,null,null,null,null,null,null,null,null,null,null,null,null,null,null,null,null,null,null,null,null,null,null,null,null,null,null,null,null,null,null,{"$f":"DY252","v":3.3200600000000002},{"$f":"DZ252","v":125.21958742766127},"p10",null,{"$f":"CP289","v":5},{"$f":"CQ293","v":114.42},"e'1",null,null,null,null,null,null,null,null,null,null,null,null,null,null,null,null,null,null,null,null,null,null,null,null,null,null,null,null,null,null,null,null,null,null,null,null,null,null,null,null,null,null,null,null,null,null,null,null,null,null,null,null,null,null,null,null,null,null,null,null,null,null,null,null,null,null,null,null,null,null,null,null,null,null,null,null,null,null,null,null,null,null,null,{"$f":"FI239","v":13.351253177760663},{"$f":"FJ239","v":146.84676563115454},25,null,null,{"$f":"GI253","v":6.2601469111540613},{"$f":"GJ253","v":120.86895434192765},"a14","نقطه قبل از چرخش",{"$f":"IF(GD290>GD289,IF(GC290>GC289,GC289+SQRT(POWER(GC290-GC289,2)+POWER(GD290-GD289,2))*COS(ATAN((GD290-GD289)/(GC290-GC289+0.000123))+GD287),GC289-SQRT(POWER(GC290-GC289,2)+POWER(GD290-GD289,2))*COS(ATAN((GD290-GD289)/(GC289-GC290+0.000123))-GD287)),IF(GC290>GC289,GC289+SQRT(POWER(GC290-GC289,2)+POWER(GD290-GD289,2))*COS(ATAN((GD289-GD290)/(GC290-GC289+0.000123))-GD287),GC289-SQRT(POWER(GC290-GC289,2)+POWER(GD290-GD289,2))*COS(ATAN((GD289-GD290)/(GC289-GC290+0.000123))+GD287)))","v":7.4043400487193392},{"$f":"IF(GD290>GD289,IF(GC290>GC289,GD289+SQRT(POWER(GC290-GC289,2)+POWER(GD290-GD289,2))*SIN(ATAN((GD290-GD289)/(GC290-GC289+0.000123))+GD287),GD289+SQRT(POWER(GC290-GC289,2)+POWER(GD290-GD289,2))*SIN(ATAN((GD290-GD289)/(GC289-GC290+0.000123))-GD287)),IF(GC290>GC289,GD289-SQRT(POWER(GC290-GC289,2)+POWER(GD290-GD289,2))*SIN(ATAN((GD289-GD290)/(GC290-GC289+0.000123))-GD287),GD289-SQRT(POWER(GC290-GC289,2)+POWER(GD290-GD289,2))*SIN(ATAN((GD289-GD290)/(GC289-GC290+0.000123))+GD287)))","v":117.28194784136866},"a55",null,null,null,null,null,null,null,{"$f":"GM258","v":26.908110096914726},{"$f":"GN258","v":120.64711999290618},"a57",null,null,null,null,null,null,null,null,null,{"$f":"-GM258+GC249","v":-16.908110096914726},{"$f":"GN258","v":120.64711999290618},"a57",null,null,46,{"$f":"HI264+HL264*SIN(RADIANS(HH290)+HH266)","v":32.705295198553983},{"$f":"HJ264+HL264*COS(RADIANS(HH290)+HH266)","v":112.31944237810724},{"$f":"IF(HI265>HI290,ATAN((HJ265-HJ290)/(HI265-HI290)),ATAN((HJ265-HJ290)/(HI290-HI265)))","v":1.495585800926222},{"$f":"IF(HI265>HI290,(HI265-HI290)/COS(HK290),(HI290-HI265)/COS(HK290))","v":11.819043876830866},null,null,null,null,{"$f":"HP253","v":18.248969111540617},{"$f":"HQ253","v":112.62597746197747},"a45","نقطه مرکزی چرخش","مولفه افقی","مولفه عمودی","اسم نقطه ",null,null,{"$f":"HZ289+0.55*(HZ291-HZ289)","v":25.182277105968097},{"$f":"IA289-0.3*(IA289-IA291)","v":120.06375004272232},"e51",null,{"$f":"HP256","v":18.35653606925823},{"$f":"HQ256","v":122.75150144002116},"a40","نقطه مرکزی چرخش","مولفه افقی","مولفه عمودی","اسم نقطه ","نقطه اول از خط اول","f5",{"$f":"HX243","v":30.848644154093151},{"$f":"HX244","v":110.88224888480829},null,null,null,"تکه پهلو",null,null,null,"تکه پهلو"]
[null,null,null,null,null,null,null,null,null,null,null,null,null,{"$f":"-Y282-O286","v":-0.42476912793416233},{"$f":"Z282","v":137.29311414047504},"b6  ..",null,null,null,null,null,null,null,null,{"$f":"R289","v":15},{"$f":"S289","v":136.41391319447115},{"$f":"T289","v":24},null,"c8",{"$f":"AD292+(AD282-AD281)","v":55.725520808425614},{"$f":"AE292-(AE281-AE282)","v":117.37857870331206},null,{"$f":"BO176","v":15},{"$f":"BP176","v":66.580000000000013},47,null,null,null,null,null,null,null,null,null,null,null,null,null,null,null,null,null,null,null,null,null,null,null,null,null,null,null,null,null,null,null,null,null,null,null,null,null,null,null,null,null,null,null,null,null,null,null,null,null,null,null,null,null,null,{"$f":"CL255","v":3.3200600000000002},{"$f":"CM255","v":96},"s'1",null,{"$f":"J248","v":3.3200600000000002},{"$f":"K248","v":114.42},"e1",null,null,null,null,null,null,null,null,null,null,null,null,null,null,null,null,null,null,null,null,null,null,null,null,null,null,null,null,null,null,null,null,null,null,null,null,null,null,null,null,null,null,null,null,null,null,null,null,null,null,null,null,null,null,null,null,null,null,null,null,null,null,null,null,null,null,null,null,null,null,null,null,null,null,null,null,null,null,null,null,null,null,null,null,null,null,null,null,"رادیان",{"$f":"-2*GG239","v":-0.39277029700556654},"زاویه چرخش","چرخش مخالف عقربه های ساعت",null,null,null,null,null,null,null,null,null,null,null,null,null,null,null,null,null,null,null,null,null,null,null,null,null,null,null,52,{"$f":"HI264+HL264*SIN(RADIANS(HH293)+HH266)","v":32.06965314135023},{"$f":"HJ264+HL264*COS(RADIANS(HH293)+HH266)","v":110.84878176387689},{"$f":"IF(HI265>HI293,ATAN((HJ265-HJ293)/(HI265-HI293)),ATAN((HJ265-HJ293)/(HI293-HI265)))","v":1.5517558494080643},{"$f":"IF(HI265>HI293,(HI265-HI293)/COS(HK293),(HI293-HI265)/COS(HK293))","v":13.2586956363058},null,null,null,null,"پروسیجر چرخش یک نقطه حول نقطه دیگر",null,null,null,null,null,"کامل شده",null,null,{"$f":"HP258","v":16.953969111540619},{"$f":"HQ258+HU254","v":112.62597746197747},"e54",null,"پروسیجر چرخش یک نقطه حول نقطه دیگر",null,null,null,null,null,"کامل شده","نقطه دوم از خط دوم","f8",{"$f":"HX249","v":26.908110096914726},{"$f":"HX250","v":120.64711999290618}]
[null,null,null,null,null,null,null,null,null,null,null,null,null,{"$f":"-Y283-O286","v":5},{"$f":"Z283","v":136.36934389257897},26,null,null,null,null,null,null,null,null,null,null,null,null,"c2",{"$f":"AD293+AD289*SIN(AD277)","v":80.575573815596101},{"$f":"AE293-AD289*COS(AD277)","v":76.690164269903931},null,{"$f":"BO150","v":25.8416},{"$f":"BP150","v":66.580000000000013},"7'",null,null,null,null,null,null,null,null,null,null,null,null,null,null,null,null,null,null,null,null,null,null,null,null,null,null,null,null,null,null,null,null,null,null,null,null,null,null,null,null,null,null,null,null,null,null,null,null,null,null,null,null,null,null,null,null,null,null,null,null,null,null,null,null,null,null,null,null,null,null,null,null,null,null,null,null,null,null,null,null,null,null,null,null,null,null,null,null,null,null,null,null,null,null,null,null,null,null,null,null,null,null,null,null,null,null,null,null,null,null,null,null,null,null,null,null,null,null,null,null,null,null,null,null,null,null,null,null,null,null,null,null,null,null,null,null,null,null,null,null,null,null,null,null,null,null,null,null,null,"مولفه افقی","مولفه عمودی","اسم نقطه ",null,"نقطه  خروجی چرخیده",null,null,null,null,null,null,null,null,null,null,null,null,null,null,null,null,null,null,null,null,null,null,null,null,null,null,54,{"$f":"HI264+HL264*SIN(RADIANS(HH294)+HH266)","v":31.823992787042435},{"$f":"HJ264+HL264*COS(RADIANS(HH294)+HH266)","v":110.37434308358839},{"$f":"IF(HI265>HI294,ATAN((HJ265-HJ294)/(HI265-HI294)),ATAN((HJ265-HJ294)/(HI294-HI265)))","v":1.5703028144035069},{"$f":"IF(HI265>HI294,(HI265-HI294)/COS(HK294),(HI294-HI265)/COS(HK294))","v":13.730732658999532},null,null,null,null,"رادیان",{"$f":"HX267","v":0.24697421637032432},"زاویه چرخش","چرخش مخالف عقربه های ساعت",null,null,null,null,null,{"$f":"HZ287+0.5*(HZ293-HZ287)","v":11.607058011347341},{"$f":"IA293+0.4*(IA287-IA293)","v":115.92316821395754},"e55",null,"رادیان",{"$f":"-RADIANS(HU240)","v":-0.3490658503988659},"زاویه چرخش","چرخش مخالف عقربه های ساعت",null,null,null,"نقطه تقاطع","f10",{"$f":"(IN292-IN290+IM290*((IN291-IN290)/(IM291-IM290+0.0001))-IM292*((IN293-IN292)/(IM293-IM292+0.0001)))/(((IN291-IN290)/(IM291-IM290+0.0001))-((IN293-IN292)/(IM293-IM292+0.0001)))","v":30.84871295700874},{"$f":"IN290+(IM294-IM290)*((IN291-IN290)/(IM291-IM290+0.0001))","v":117.76254044369443},null,{"$f":"HZ254","v":33.969369168277325},{"$f":"IA254","v":111.01895434192765},"e15",null,{"$f":"-HZ254+HT270","v":-23.969369168277325},{"$f":"IA254","v":111.01895434192765},"e15"]
[null,null,null,null,null,null,null,null,null,null,null,null,null,null,null,null,null,null,null,null,null,null,null,null,null,null,null,null,"c5",{"$f":"BO150+0.5*(AD294-BO150)","v":53.20858690779805},{"$f":"BP150+0.3*(AE294-BP150)","v":69.613049280971182},null,{"$f":"AD294","v":80.575573815596101},{"$f":"AE294","v":76.690164269903931},"c2",null,null,null,null,null,null,null,null,null,null,null,null,null,null,null,null,null,null,null,null,null,null,null,null,null,null,null,null,null,null,null,null,null,null,null,null,null,null,null,null,null,null,null,null,null,null,null,null,null,null,null,null,null,null,{"$f":"CL253","v":5},{"$f":"CM253","v":96},"s1",null,{"$f":"CL255","v":3.3200600000000002},{"$f":"CM255","v":96},"s'1",null,null,null,null,null,null,null,null,null,null,null,null,null,null,null,null,null,null,null,null,null,null,null,null,null,null,null,null,null,null,null,null,null,null,null,null,null,null,null,null,null,null,null,null,null,null,null,null,null,null,null,null,null,null,null,null,null,null,null,null,null,null,null,null,null,null,null,null,null,null,null,null,null,null,null,null,null,null,null,null,null,null,null,null,null,null,null,null,{"$f":"GI256","v":22.642056756156865},{"$f":"GJ256","v":126.875},"a17","نقطه قبل از چرخش",{"$f":"IF(GD296>GD295,IF(GC296>GC295,GC295+SQRT(POWER(GC296-GC295,2)+POWER(GD296-GD295,2))*COS(ATAN((GD296-GD295)/(GC296-GC295+0.000123))+GD293),GC295-SQRT(POWER(GC296-GC295,2)+POWER(GD296-GD295,2))*COS(ATAN((GD296-GD295)/(GC295-GC296+0.000123))-GD293)),IF(GC296>GC295,GC295+SQRT(POWER(GC296-GC295,2)+POWER(GD296-GD295,2))*COS(ATAN((GD295-GD296)/(GC296-GC295+0.000123))-GD293),GC295-SQRT(POWER(GC296-GC295,2)+POWER(GD296-GD295,2))*COS(ATAN((GD295-GD296)/(GC295-GC296+0.000123))+GD293)))","v":24.813128293430722},{"$f":"IF(GD296>GD295,IF(GC296>GC295,GD295+SQRT(POWER(GC296-GC295,2)+POWER(GD296-GD295,2))*SIN(ATAN((GD296-GD295)/(GC296-GC295+0.000123))+GD293),GD295+SQRT(POWER(GC296-GC295,2)+POWER(GD296-GD295,2))*SIN(ATAN((GD296-GD295)/(GC295-GC296+0.000123))-GD293)),IF(GC296>GC295,GD295-SQRT(POWER(GC296-GC295,2)+POWER(GD296-GD295,2))*SIN(ATAN((GD295-GD296)/(GC296-GC295+0.000123))-GD293),GD295-SQRT(POWER(GC296-GC295,2)+POWER(GD296-GD295,2))*SIN(ATAN((GD295-GD296)/(GC295-GC296+0.000123))+GD293)))","v":124.43734830375297},"a35",null,null,null,null,null,null,null,null,null,null,null,null,null,null,null,null,null,null,null,null,null,null,null,null,58,{"$f":"HI264+HL264*SIN(RADIANS(HH296)+HH266)","v":31.283767303850404},{"$f":"HJ264+HL264*COS(RADIANS(HH296)+HH266)","v":109.45262026979684},{"$f":"IF(HI265>HI296,ATAN((HJ265-HJ296)/(HI265-HI296)),ATAN((HJ265-HJ296)/(HI296-HI265)))","v":1.5344055827321776},{"$f":"IF(HI265>HI296,(HI265-HI296)/COS(HK296),(HI296-HI265)/COS(HK296))","v":14.662161178599483},null,null,null,null,{"$f":"HP253","v":18.248969111540617},{"$f":"HQ253","v":112.62597746197747},"a45","نقطه مرکزی چرخش","مولفه افقی","مولفه عمودی","اسم نقطه ",null,null,{"$f":"IH285","v":29.68559878346603},{"$f":"II285+HU254","v":116.93561016134666},"e57",null,{"$f":"HZ253","v":33.969369168277325},{"$f":"IA253","v":115.88224888480829},"e14","نقطه مرکزی چرخش","مولفه افقی","مولفه عمودی","اسم نقطه ",null,"به دست آوردن نقطه تقاطع دو خط ","مولفه افقی","مولفه عمودی"]
[null,null,null,null,null,null,null,null,null,null,null,null,null,null,null,null,null,null,null,null,null,null,null,null,null,null,null,null,null,null,null,null,null,null,null,null,null,null,null,null,null,null,null,null,null,null,null,null,null,null,null,null,null,null,null,null,null,null,null,null,null,null,null,null,null,null,null,null,null,null,null,null,null,null,null,null,null,null,null,null,null,null,null,null,null,null,null,null,null,null,null,null,null,null,null,null,null,null,null,null,null,null,null,null,null,null,null,null,null,null,null,null,null,null,null,null,null,null,null,null,null,null,null,null,null,null,null,null,null,null,null,null,null,null,null,null,null,null,null,null,null,null,null,null,null,null,null,null,null,null,null,null,null,null,null,null,null,null,null,null,null,null,null,null,null,null,null,null,null,null,null,null,null,null,null,null,null,null,null,null,null,null,null,null,null,null,null,null,null,null,null,null,null,null,null,null,null,null,null,null,null,null,null,null,null,null,null,null,null,null,null,null,null,null,null,60,{"$f":"HI264+HL264*SIN(RADIANS(HH297)+HH266)","v":30.989860356502081},{"$f":"HJ264+HL264*COS(RADIANS(HH297)+HH266)","v":109.00645911356187},{"$f":"IF(HI265>HI297,ATAN((HJ265-HJ297)/(HI265-HI297)),ATAN((HJ265-HJ297)/(HI297-HI265)))","v":1.5160542503426242},{"$f":"IF(HI265>HI297,(HI265-HI297)/COS(HK297),(HI297-HI265)/COS(HK297))","v":15.121266210441251},null,null,null,null,{"$f":"HZ252","v":30.848708174706346},{"$f":"IA252","v":117.28431020428536},"e13","نقطه قبل از چرخش",{"$f":"IF(HR297>HR296,IF(HQ297>HQ296,HQ296+SQRT(POWER(HQ297-HQ296,2)+POWER(HR297-HR296,2))*COS(ATAN((HR297-HR296)/(HQ297-HQ296+0.000123))+HR294),HQ296-SQRT(POWER(HQ297-HQ296,2)+POWER(HR297-HR296,2))*COS(ATAN((HR297-HR296)/(HQ296-HQ297+0.000123))-HR294)),IF(HQ297>HQ296,HQ296+SQRT(POWER(HQ297-HQ296,2)+POWER(HR297-HR296,2))*COS(ATAN((HR296-HR297)/(HQ297-HQ296+0.000123))-HR294),HQ296-SQRT(POWER(HQ297-HQ296,2)+POWER(HR297-HR296,2))*COS(ATAN((HR296-HR297)/(HQ296-HQ297+0.000123))+HR294)))","v":29.327585288251875},{"$f":"IF(HR297>HR296,IF(HQ297>HQ296,HR296+SQRT(POWER(HQ297-HQ296,2)+POWER(HR297-HR296,2))*SIN(ATAN((HR297-HR296)/(HQ297-HQ296+0.000123))+HR294),HR296+SQRT(POWER(HQ297-HQ296,2)+POWER(HR297-HR296,2))*SIN(ATAN((HR297-HR296)/(HQ296-HQ297+0.000123))-HR294)),IF(HQ297>HQ296,HR296-SQRT(POWER(HQ297-HQ296,2)+POWER(HR297-HR296,2))*SIN(ATAN((HR296-HR297)/(HQ297-HQ296+0.000123))-HR294),HR296-SQRT(POWER(HQ297-HQ296,2)+POWER(HR297-HR296,2))*SIN(ATAN((HR296-HR297)/(HQ296-HQ297+0.000123))+HR294)))","v":120.22319748031535},"e64",null,null,{"$f":"HP262+0.3*(HZ289-HP262)","v":15.173455720158403},{"$f":"II259+0.8*(IA289-II259)","v":122.6099633771403},"e57",null,{"$f":"HZ257","v":15.506295544343416},{"$f":"IA257","v":126.48521900392882},"e18","نقطه قبل از چرخش",{"$f":"IF(IE297>IE296,IF(ID297>ID296,ID296+SQRT(POWER(ID297-ID296,2)+POWER(IE297-IE296,2))*COS(ATAN((IE297-IE296)/(ID297-ID296+0.000123))+IE294),ID296-SQRT(POWER(ID297-ID296,2)+POWER(IE297-IE296,2))*COS(ATAN((IE297-IE296)/(ID296-ID297+0.000123))-IE294)),IF(ID297>ID296,ID296+SQRT(POWER(ID297-ID296,2)+POWER(IE297-IE296,2))*COS(ATAN((IE296-IE297)/(ID297-ID296+0.000123))-IE294),ID296-SQRT(POWER(ID297-ID296,2)+POWER(IE297-IE296,2))*COS(ATAN((IE296-IE297)/(ID296-ID297+0.000123))+IE294)))","v":20.246137654421656},{"$f":"IF(IE297>IE296,IF(ID297>ID296,IE296+SQRT(POWER(ID297-ID296,2)+POWER(IE297-IE296,2))*SIN(ATAN((IE297-IE296)/(ID297-ID296+0.000123))+IE294),IE296+SQRT(POWER(ID297-ID296,2)+POWER(IE297-IE296,2))*SIN(ATAN((IE297-IE296)/(ID296-ID297+0.000123))-IE294)),IF(ID297>ID296,IE296-SQRT(POWER(ID297-ID296,2)+POWER(IE297-IE296,2))*SIN(ATAN((IE296-IE297)/(ID297-ID296+0.000123))-IE294),IE296-SQRT(POWER(ID297-ID296,2)+POWER(IE297-IE296,2))*SIN(ATAN((IE296-IE297)/(ID296-ID297+0.000123))+IE294)))","v":132.16048526983741},"e21","نقطه اول از خط اول","f5",{"$f":"HX243","v":30.848644154093151},{"$f":"HX244","v":110.88224888480829},null,{"$f":"HZ255","v":30.197586161188603},{"$f":"IA255","v":111.01895434192765},"e16",null,{"$f":"-HZ255+HT270","v":-20.197586161188603},{"$f":"IA255","v":111.01895434192765},"e16"]
[null,null,null,null,null,null,null,null,null,null,null,null,null,null,null,null,null,null,null,null,null,null,null,null,null,null,null,null,null,null,null,null,null,null,null,null,null,null,null,null,null,null,null,null,null,null,null,null,null,null,null,null,null,null,null,null,null,null,null,null,null,null,null,null,null,null,null,null,null,null,null,null,null,null,null,null,null,null,null,null,null,null,null,null,null,null,null,null,null,null,null,null,null,null,null,null,null,null,null,null,null,null,null,null,null,null,null,null,null,null,null,null,null,null,null,null,null,null,null,null,null,null,null,null,null,null,null,null,null,null,null,null,null,null,null,null,null,null,null,null,null,null,null,null,null,null,null,null,null,null,null,null,null,null,null,null,null,null,null,null,null,null,null,null,null,null,null,null,null,null,null,null,null,null,null,null,null,null,null,null,null,null,null,null,"مولفه افقی","مولفه عمودی","اسم نقطه ",null,"نقطه  خروجی چرخیده",null,null,null,null,null,null,null,null,null,null,null,null,null,null,null,null,null,null,null,null,null,null,null,null,null,null,"بهینه α",{"$f":"IF(HL265<HL268,HH268,IF(HL265<HL269,HH269,IF(HL265<HL270,HH270,IF(HL265<HL271,HH271,IF(HL265<HL272,HH272,IF(HL265<HL273,HH273,IF(HL265<HL274,HH274,IF(HL265<HL275,HH275,IF(HL265<HL276,HH276,IF(HL265<HL277,HH277,IF(HL265<HL278,HH278,IF(HL265<HL279,HH279,IF(HL265<HL280,HH280,IF(HL265<HL281,HH281,IF(HL265<HL282,HH282,IF(HL265<HL283,HH283,IF(HL265<HL284,HH284,IF(HL265<HL285,HH285,IF(HL265<HL286,HH286,IF(HL265<HL287,HH287,IF(HL265<HL288,HH288,IF(HL265<HL289,HH289,IF(HL265<HL290,HH290,IF(HL265<HL291,HH291,IF(HL265<HL292,HH292,IF(HL265<HL293,HH293,IF(HL265<HL294,HH294,IF(HL265<HL295,HH295,IF(HL265<HL296,HH296,IF(HL265<HL297,HH297,IF(HL265<HL298,HH298,HH299)))))))))))))))))))))))))))))))","v":6},{"$f":"RADIANS(HI300)","v":0.10471975511965978},"c21",{"$f":"IF(HI265>HI302,ATAN((HJ265-HJ302)/(HI265-HI302)),ATAN((HJ265-HJ302)/(HI302-HI265)))","v":0.94214376478817996},null,null,null,null,"رادیان",{"$f":"HX267","v":0.24697421637032432},"زاویه چرخش","چرخش مخالف عقربه های ساعت",null,null,null,null,null,{"$f":"HZ251","v":30.84871295700874},{"$f":"IA251+HX269","v":118.37171192004793},"e'12",null,"رادیان",{"$f":"-RADIANS(HU240)","v":-0.3490658503988659},"زاویه چرخش","چرخش مخالف عقربه های ساعت",null,null,null,"نقطه دوم از خط دوم","f9",{"$f":"HX251","v":27.977445260850679},{"$f":"HX252","v":115.69065678893891},null,null,null,null,null,null,null,null,null,"مولفه افقی","مولفه عمودی","اسم نقطه ",null,"نقطه  خروجی چرخیده"]
[null,null,null,null,null,null,null,null,null,null,null,null,null,null,null,null,null,null,null,null,null,null,null,null,null,null,null,null,null,null,null,null,null,null,null,null,null,null,null,null,null,null,null,null,null,null,null,null,null,null,null,null,null,null,null,null,null,null,null,null,null,null,null,null,null,null,null,null,null,null,null,null,null,null,null,null,null,null,null,null,null,null,null,null,null,null,null,null,null,null,null,null,null,null,null,null,null,null,null,null,null,null,null,null,null,null,null,null,null,null,null,null,null,null,null,null,null,null,null,null,null,null,null,null,null,null,null,null,null,null,null,null,null,null,null,null,null,null,null,null,null,null,null,null,null,null,null,null,null,null,null,null,null,null,null,null,null,null,null,null,null,null,null,null,null,null,null,null,null,null,null,null,null,null,null,null,null,null,null,null,null,null,null,null,{"$f":"GI241","v":17.60146911154062},{"$f":"GJ241","v":120.2},"a2","نقطه مرکزی چرخش","مولفه افقی","مولفه عمودی","اسم نقطه ",null,null,null,null,null,null,null,null,null,null,null,null,null,null,null,null,null,null,null,null,null,null,null,null,null,"مولفه افقی","مولفه عمودی",null,null,null,null,null,null,"مولفه افقی","مولفه عمودی","اسم نقطه ",null,"نقطه  خروجی چرخیده",null,null,null,null,null,null,null,null,"مولفه افقی","مولفه عمودی","اسم نقطه ",null,"نقطه  خروجی چرخیده",null,null,"نقطه تقاطع","f11",{"$f":"(IN299-IN297+IM297*((IN298-IN297)/(IM298-IM297+0.0001))-IM299*((IN300-IN299)/(IM300-IM299+0.0001)))/(((IN298-IN297)/(IM298-IM297+0.0001))-((IN300-IN299)/(IM300-IM299+0.0001)))","v":30.848708174706346},{"$f":"IN297+(IM301-IM297)*((IN298-IN297)/(IM298-IM297+0.0001))","v":117.28431020428536},null,{"$f":"HZ260","v":20.246137654421656},{"$f":"IA260","v":132.16048526983741},"e21",null,{"$f":"-HZ260+HT270","v":-10.246137654421656},{"$f":"IA260","v":132.16048526983741},"e21",null,{"$f":"HP256","v":18.35653606925823},{"$f":"HQ256","v":122.75150144002116},"a40","نقطه مرکزی چرخش","مولفه افقی","مولفه عمودی","اسم نقطه "]
[null,null,null,null,null,null,null,null,null,null,null,null,null,null,null,null,null,null,null,null,null,null,null,null,null,null,null,null,null,null,null,null,null,null,null,null,null,null,null,null,null,null,null,null,null,null,null,null,null,null,null,null,null,null,null,null,null,null,null,null,null,null,null,null,null,null,null,null,null,null,null,null,null,null,null,null,null,null,null,null,null,null,null,null,null,null,null,null,null,null,null,null,null,null,null,null,null,null,null,null,null,null,null,null,null,null,null,null,null,null,null,null,null,null,null,null,null,null,null,null,null,null,null,null,null,null,null,null,null,null,null,null,null,null,null,null,null,null,null,null,null,null,null,null,null,null,null,null,null,null,null,null,null,null,null,null,null,null,null,null,null,null,null,null,null,null,null,null,null,null,null,null,null,null,null,null,null,null,null,null,null,null,null,null,null,null,null,null,null,null,null,null,null,null,null,null,null,null,null,null,null,null,null,null,null,null,null,null,null,null,null,null,null,null,null,null,null,null,null,null,null,null,null,null,{"$f":"HP254","v":23.437489724505983},{"$f":"HQ254","v":113.7448286448364},"a46","نقطه قبل از چرخش",{"$f":"IF(HR303>HR302,IF(HQ303>HQ302,HQ302+SQRT(POWER(HQ303-HQ302,2)+POWER(HR303-HR302,2))*COS(ATAN((HR303-HR302)/(HQ303-HQ302+0.000123))+HR300),HQ302-SQRT(POWER(HQ303-HQ302,2)+POWER(HR303-HR302,2))*COS(ATAN((HR303-HR302)/(HQ302-HQ303+0.000123))-HR300)),IF(HQ303>HQ302,HQ302+SQRT(POWER(HQ303-HQ302,2)+POWER(HR303-HR302,2))*COS(ATAN((HR302-HR303)/(HQ303-HQ302+0.000123))-HR300),HQ302-SQRT(POWER(HQ303-HQ302,2)+POWER(HR303-HR302,2))*COS(ATAN((HR302-HR303)/(HQ302-HQ303+0.000123))+HR300)))","v":23.006536946604875},{"$f":"IF(HR303>HR302,IF(HQ303>HQ302,HR302+SQRT(POWER(HQ303-HQ302,2)+POWER(HR303-HR302,2))*SIN(ATAN((HR303-HR302)/(HQ303-HQ302+0.000123))+HR300),HR302+SQRT(POWER(HQ303-HQ302,2)+POWER(HR303-HR302,2))*SIN(ATAN((HR303-HR302)/(HQ302-HQ303+0.000123))-HR300)),IF(HQ303>HQ302,HR302-SQRT(POWER(HQ303-HQ302,2)+POWER(HR303-HR302,2))*SIN(ATAN((HR302-HR303)/(HQ303-HQ302+0.000123))-HR300),HR302-SQRT(POWER(HQ303-HQ302,2)+POWER(HR303-HR302,2))*SIN(ATAN((HR302-HR303)/(HQ302-HQ303+0.000123))+HR300)))","v":114.97929903271813},"e63",null,null,null,null,null,null,{"$f":"HZ258","v":17.521769594261922},{"$f":"IA258","v":128.20491962276517},"e19","نقطه قبل از چرخش",{"$f":"IF(IE303>IE302,IF(ID303>ID302,ID302+SQRT(POWER(ID303-ID302,2)+POWER(IE303-IE302,2))*COS(ATAN((IE303-IE302)/(ID303-ID302+0.000123))+IE300),ID302-SQRT(POWER(ID303-ID302,2)+POWER(IE303-IE302,2))*COS(ATAN((IE303-IE302)/(ID302-ID303+0.000123))-IE300)),IF(ID303>ID302,ID302+SQRT(POWER(ID303-ID302,2)+POWER(IE303-IE302,2))*COS(ATAN((IE302-IE303)/(ID303-ID302+0.000123))-IE300),ID302-SQRT(POWER(ID303-ID302,2)+POWER(IE303-IE302,2))*COS(ATAN((IE302-IE303)/(ID302-ID303+0.000123))+IE300)))","v":22.728221091045093},{"$f":"IF(IE303>IE302,IF(ID303>ID302,IE302+SQRT(POWER(ID303-ID302,2)+POWER(IE303-IE302,2))*SIN(ATAN((IE303-IE302)/(ID303-ID302+0.000123))+IE300),IE302+SQRT(POWER(ID303-ID302,2)+POWER(IE303-IE302,2))*SIN(ATAN((IE303-IE302)/(ID302-ID303+0.000123))-IE300)),IF(ID303>ID302,IE302-SQRT(POWER(ID303-ID302,2)+POWER(IE303-IE302,2))*SIN(ATAN((IE302-IE303)/(ID303-ID302+0.000123))-IE300),IE302-SQRT(POWER(ID303-ID302,2)+POWER(IE303-IE302,2))*SIN(ATAN((IE302-IE303)/(ID302-ID303+0.000123))+IE300)))","v":133.08714167055354},"e22"]
[null,null,null,null,null,null,null,null,null,null,null,null,null,null,null,null,null,null,null,null,null,null,null,null,null,null,null,null,null,null,null,null,null,null,null,null,null,null,null,null,null,null,null,null,null,null,null,null,null,null,null,null,null,null,null,null,null,null,null,null,null,null,null,null,null,null,null,null,null,null,null,null,null,null,null,null,null,null,null,null,null,null,null,null,null,null,null,null,null,null,null,null,null,null,null,null,null,null,null,null,null,null,null,null,null,null,null,null,null,null,null,null,null,null,null,null,null,null,null,null,null,null,null,null,null,null,null,null,null,null,null,null,null,null,null,null,null,null,null,null,null,null,null,null,null,null,null,null,null,null,null,null,null,null,null,null,null,null,null,null,null,null,null,null,null,null,null,null,null,null,null,null,null,null,null,null,null,null,null,null,null,null,null,null,null,null,null,null,null,null,null,null,null,null,null,null,null,null,null,null,null,null,null,null,null,null,null,null,null,null,null,null,null,null,null,null,null,null,null,null,null,null,null,null,null,null,null,null,null,null,null,null,null,null,null,null,null,null,null,null,null,null,null,null,null,null,null,null,null,{"$f":"HZ261","v":22.728221091045093},{"$f":"IA261","v":133.08714167055354},"e22",null,{"$f":"-HZ261+HT270","v":-12.728221091045093},{"$f":"IA261","v":133.08714167055354},"e22"]
[null,null,null,null,null,"نقاط  ورودی",null,null,"تکه پشت وسط","نقاط  خروجی",null,null,null,"رسم",null,null,null,"مولفه افقی","مولفه عمودی","اسم نقطه ",null,"اسم نقطه","محاسبات برای رسم نقطه","مولفه افقی","مولفه عمودی",null,"کمریکسره ",null,null,null,"خطوط اصلی دامن ترک",null,null,null,{"$f":"AI349","v":-13.567651125695903},{"$f":"AJ349","v":58.84},"s'u3",null,{"$f":"X330","v":5},{"$f":"Y330","v":71.580000000000013},"sp13",null,"مولفه افقی","مولفه عمودی","اسم نقطه ",null,"اسم نقطه","محاسبات برای رسم نقطه","مولفه افقی","مولفه عمودی",null,"کمریکسره ",null,null,null,"خطوط اصلی دامن ترک",null,null,null,{"$f":"BH349","v":11.454461974726385},{"$f":"BI349","v":54.840000000000018},"s'u3",null,{"$f":"AW330","v":15},{"$f":"AX330","v":66.580000000000013},"sp13",null,"نقاط  ورودی",null,null,null,"نقاط  خروجی",null,null,null,"رسم",null,"اوز مان",null,"نقاط  ورودی",null,null,null,"رسم",null,"اوز مان",null,"نقاط  ورودی",null,null,null,"محاسبات",null,null,"رسم",null,"اوز مان",null,null,"نقاط  ورودی",null,null,null,"نقاط  خروجی",null,null,null,"رسم",null,"اوز مان",null,"نقاط  ورودی",null,null,null,"نقاط  خروجی",null,null,null,"رسم",null,"گوده",null,"نقاط  ورودی",null,null,null,"محاسبات",null,null,"رسم",null,"اوز مان",null,"نقاط  ورودی",null,null,null,"محاسبات",null,null,"رسم",null,"اوز مان",null,"رسم",null,"اوز مان",null,"اسم نقطه","مولفه افقی","مولفه عمودی",null,"بنفش",null,null,null,null,null,null,"رسم دکلته قرمز و آستین",null,"قرمز",null,"رسم دکلته سبز و آستین",null,"سبز",null,null,null,"جادکمه دکلته در پیراهن",null,"قرینه دکلته قرمز و آستین",null,"قرمز",null,"قرینه دکلته سبز و آستین",null,"سبز",null,"اسم نقطه","مولفه افقی","مولفه عمودی",null,"بنفش طراحی",null,null,null,null,"قرمز",null,"نقاط ورودی",null,null,null,null,"به دست آوردن نقطه تقاطع دو خط (d''4b16)","مولفه افقی","مولفه عمودی",null,"نقاط ورودی",null,null,null,"مولفه افقی","مولفه عمودی","اسم نقطه",null,"مولفه افقی","مولفه عمودی","اسم نقطه",null,"مولفه افقی","مولفه عمودی","اسم نقطه",null,"مولفه افقی","مولفه عمودی","اسم نقطه",null,"مولفه افقی","مولفه عمودی","اسم نقطه",null,"نقاط ورودی",null,null,null,null,"به دست آوردن نقطه تقاطع دو خط (d''4b10) شیفت","مولفه افقی","مولفه عمودی",null,null,null,"قرمز",null,null,null,"آبی",null,null,null,"بنفش",null,null,null,null,null,null,null,"کاسه رویی",null,null,null,"کاسه رویی"]
[null,null,null,null,null,"مولفه افقی","مولفه عمودی","اسم نقطه ",null,"مولفه افقی","مولفه عمودی","اسم نقطه ",null,null,null,null,null,{"$f":"BD150","v":5},{"$f":"BE150","v":71.580000000000013},1,null,"sf1",null,{"$f":"R308","v":5},{"$f":"S308","v":71.580000000000013},null,{"$f":"X323","v":33.567651125695903},{"$f":"Y323","v":104.34},"su3",null,{"$f":"X322","v":30.869447407407399},{"$f":"Y322","v":90.9},"sd3",null,{"$f":"AI353","v":-10.869447407407399},{"$f":"AJ353","v":45.400000000000006},"s'd3",null,{"$f":"X329","v":5},{"$f":"Y329","v":78.860000000000028},"sp12",null,{"$f":"BK168","v":15},{"$f":"BL168","v":66.580000000000013},1,null,"sf1",null,{"$f":"AQ308","v":15},{"$f":"AR308","v":66.580000000000013},null,{"$f":"AW323","v":38.545538025273615},{"$f":"AX323","v":100.34000000000002},"su3",null,{"$f":"AW322","v":41.438452328117592},{"$f":"AX322","v":86.9},"sd3",null,{"$f":"BH353","v":8.5615476718824084},{"$f":"BI353","v":41.400000000000006},"s'd3",null,{"$f":"AW329","v":15},{"$f":"AX329","v":73.860000000000028},"sp12",null,"مولفه افقی","مولفه عمودی","اسم نقطه ",null,"مولفه افقی","مولفه عمودی","اسم نقطه ",null,{"$f":"BP309","v":-6.306469111540622},{"$f":"BQ309","v":84.3},{"$f":"BR309","v":"47'"},null,"مولفه افقی","مولفه عمودی","اسم نقطه ",null,{"$f":"CB309","v":16.306469111540622},{"$f":"CC309","v":84.3},{"$f":"CD309","v":"47'"},null,"مولفه افقی","مولفه عمودی","اسم نقطه ",null,null,"اوزمان",null,{"$f":"CJ309","v":18.896469111540618},{"$f":"CK309","v":84.3},{"$f":"CL309","v":"47''"},null,null,"مولفه افقی","مولفه عمودی","اسم نقطه ",null,"مولفه افقی","مولفه عمودی","اسم نقطه ",null,{"$f":"CV309","v":5},{"$f":"CW309","v":84.3},{"$f":"CX309","v":46},null,"مولفه افقی","مولفه عمودی","اسم نقطه ",null,"مولفه افقی","مولفه عمودی","اسم نقطه ",null,{"$f":"DL314","v":42.32244},59.3,"e25",null,"مولفه افقی","مولفه عمودی","اسم نقطه ",null,null,"اوزمان",null,{"$f":"DT309","v":27.691600000000001},{"$f":"DU309","v":79.400000000000006},{"$f":"DV309","v":"38'"},null,"مولفه افقی","مولفه عمودی","اسم نقطه ",null,null,"اوزمان",null,{"$f":"EE309","v":25.8416},{"$f":"EF309","v":79.400000000000006},{"$f":"EG309","v":"38''شیفت"},null,{"$f":"-CQ308-GK101","v":-8.8964691115406183},{"$f":"CR308","v":84.3},"47''",null,"b10",{"$f":"BW134-EU376","v":23.654272756814162},{"$f":"BX134-EU377","v":123.00364177662831},null,null,null,null,null,null,"جادکمه دکلته در پیراهن",null,{"$f":"EU356+EU376+EU378","v":24.463474035591126},{"$f":"EV356+EU377","v":144.52135929212406},{"$f":"ET356","v":"b16"},null,{"$f":"EU340+EU376+EU378","v":25.588962427831195},{"$f":"EV340+EU377","v":132.10743514081653},{"$f":"ET340","v":"b6"},null,{"$f":"-FA309-FU306","v":5},{"$f":"FB309","v":120.2},"d3",null,{"$f":"-FE308-FU306","v":-14.463474035591126},{"$f":"FF308","v":144.52135929212406},"b16",null,{"$f":"-FI308-FU306","v":-15.588962427831195},{"$f":"FJ308","v":132.10743514081653},"b6",null,"b10",{"$f":"BW162-GG359","v":23.654272756814162},{"$f":"BX162-GG360","v":123.00364177662831},null,null,null,null,{"$f":"FZ356-GG358+GG357","v":15.667105328225627},{"$f":"GA356","v":139.52135929212406},{"$f":"FY356","v":"b16"},null,"اسم نقطه","مولفه افقی","مولفه عمودی",null,"نقطه اول از خط اول","d4b16",{"$f":"GK324","v":24.41328},{"$f":"GL324","v":121.33159840077614},null,"اسم نقطه","مولفه افقی","مولفه عمودی",null,null,"رسم یقه دکلته سیاه و رگلاژ","سیاه",null,null,"رسم یقه دکلته بنفش و رگلاژ","بنفش",null,null,"رسم یقه دکلته سبز و رگلاژ","سبز",null,null,"رسم یقه دکلته آبی و رگلاژ","آبی",null,null,"رسم یقه دکلته قرمز و رگلاژ","قرمز",null,"اسم نقطه","مولفه افقی","مولفه عمودی",null,"نقطه اول از خط اول","d4b10",{"$f":"HR354","v":9.4132800000000003},{"$f":"HS354","v":113.23279034655765},null,{"$f":"HR309","v":19.12612735477154},{"$f":"HS309","v":135.58580837720058}," شیفت b16",null,{"$f":"HR310","v":18.919340080706185},{"$f":"HS310","v":129.90956173101131},"شیفتb12",null,{"$f":"HR312-HR341+HR319","v":20.844797250181742},{"$f":"HS312","v":117.10997608410614},"شیفتb10",null,null,null,null,null,{"$f":"HZ262","v":27.225611784925295},126.17650143180731,"e23",null,{"$f":"-HZ262+HT270","v":-17.225611784925295},{"$f":"IA262","v":126.17650143180731},"e23"]
[null,null,null,null,null,{"$f":"BO178","v":15},{"$f":"BP178","v":96.5},44,null,{"$f":"F310-IF(G319>0,I317*TAN(K316),-I317*TAN(K315))","v":15},{"$f":"G310-I317","v":91.7},"d1",null,{"$f":"J311","v":26.7666},{"$f":"K311","v":104.18},{"$f":"L311","v":"u2"},null,{"$f":"AZ176","v":16.306469111540622},{"$f":"BA176","v":84.3},"47'",null,"sf11",null,{"$f":"R310","v":16.306469111540622},{"$f":"Y309","v":84.3},null,{"$f":"X319","v":9.8000000000000007},{"$f":"Y319","v":105.3},"su5",null,{"$f":"X316","v":29.640039999999999},{"$f":"Y316","v":72.371202973762905},"sfp9",null,{"$f":"AI343","v":43.567651125695903},{"$f":"AJ343","v":58.84},"su3",null,{"$f":"-X329+2*X308","v":5},{"$f":"Y329","v":78.860000000000028},"s'p12",null,{"$f":"BO187","v":27.691600000000001},{"$f":"BP187","v":79.400000000000006},"38'",null,"sf11",null,{"$f":"AQ310","v":27.691600000000001},{"$f":"AX309","v":79.400000000000006},null,{"$f":"AW319","v":15},{"$f":"AX319","v":101.3},"su5",null,{"$f":"AW316","v":44.172439999999995},{"$f":"AX316","v":64.974704632477568},"sfp9",null,{"$f":"BH343","v":58.545538025273615},{"$f":"BI343","v":54.840000000000018},"su3",null,{"$f":"-AW329+2*AW308","v":15},{"$f":"AX329","v":73.860000000000028},"s'p12",null,{"$f":"GN132","v":-6.306469111540622},{"$f":"GO132","v":71.580000000000013},52,null,{"$f":"BP309+BQ324","v":-6.306469111540622},{"$f":"BQ309-BQ325","v":71.580000000000013},"e21",null,null,null,null,null,{"$f":"AZ177","v":16.306469111540622},{"$f":"BA177","v":71.580000000000013},52,null,null,null,null,null,{"$f":"AZ181","v":18.896469111540618},{"$f":"BA181","v":71.580000000000013},53,null,"(e22→e21)",{"$f":"CK311*0.25*CK312+CJ310-CJ309","v":0},null,null,null,null,null,null,{"$f":"BD150","v":5},{"$f":"BE150","v":71.580000000000013},1,null,{"$f":"CV309-CW324","v":5},{"$f":"CW309-CW325","v":71.580000000000013},"e21",null,null,null,null,null,{"$f":"BK172","v":42.32244},{"$f":"BL172","v":64.974704632477568},"شیفت 43''",null,{"$f":"DH309+DI325","v":42.32244},{"$f":"DI309-DI326","v":64.974704632477568},"e21",null,null,null,null,null,{"$f":"BO188","v":27.691600000000001},{"$f":"BP188","v":66.580000000000013},49,null,"(e22→e21)",{"$f":"DU311*0.25*DU312+DT310-DT309","v":0},null,null,null,null,null,{"$f":"BO192","v":25.8416},{"$f":"BP192","v":66.580000000000013},"50شیفت",null,"(e22→e21)",{"$f":"EF311*0.25*EF312+EE310-EE309","v":0},null,null,null,null,null,null,null,null,null,null,null,null,"مولفه افقی","مولفه عمودی",null,null,{"$f":"AZ106","v":5},{"$f":"BA106","v":71.580000000000013},1,null,null,null,null,null,null,null,null,null,null,null,null,null,null,null,null,null,null,null,null,null,null,null,null,"مولفه افقی","مولفه عمودی",null,null,{"$f":"GC368","v":6.2134199501025398},{"$f":"GD368","v":123.77607738152145},"g8",null,"b12",{"$f":"CE119","v":35.04145278326785},{"$f":"CF119","v":129.37481314382703},null,"نقطه اول از خط دوم"," یا  22",{"$f":"IF(GQ308>GQ311,GK317,GK315)","v":28.676935650976734},{"$f":"IF(GQ308>GQ311,GL317,GL315)","v":130.9189297056397},null,"d4  b16",24.41328,121.33159840077614,null,{"$f":"GT372","v":24.41328},{"$f":"GU372","v":96.5},"m10",null,{"$f":"GT372","v":24.41328},{"$f":"GU372","v":96.5},"m10",null,{"$f":"GT372","v":24.41328},{"$f":"GU372","v":96.5},"m10",null,{"$f":"GT372","v":24.41328},{"$f":"GU372","v":96.5},"m10",null,{"$f":"GT372","v":24.41328},{"$f":"GU372","v":96.5},"m10",null,"b12",{"$f":"CE135-HR320","v":18.919340080706185},{"$f":"CF135-HR321","v":129.90956173101131},null,"نقطه اول از خط دوم"," یا  22",{"$f":"IF(HX308>HX311,HR316,HR315)","v":11.7666},{"$f":"IF(HX308>HX311,HS316,HS315)","v":96.5},null,{"$f":"HR344-HR341+HR319","v":13.238505470954308},{"$f":"HS344","v":127.15267138406435},"شیفتd4  b16'",null,{"$f":"HR348-HR341+HR319","v":13.197148016141238},{"$f":"HS348","v":123.31579022445109},"شیفتd4  b12'",null,{"$f":"HR356-HR341+HR319","v":13.582239450036349},{"$f":"HS356","v":114.18938226378241},"شیفتd4  b10'",null,null,null,null,null,18.35653606925823,117.64849855997885,"e25",null,{"$f":"-HZ264+HT270","v":-8.3565360692582296},{"$f":"IA264","v":117.64849855997885},"e25"]
[null,null,null,null,null,{"$f":"BK170","v":15},{"$f":"BL170","v":79.400000000000006},48,null,{"$f":"F313+ABS(I316)*TAN(IF(I316>0,K317,K318))","v":26.7666},{"$f":"G313+I316","v":104.18},"u2",null,null,null,null,null,{"$f":"CB323","v":16.306469111540622},{"$f":"CC323","v":71.580000000000013},"جلو وسطe21",null,"sf2",null,{"$f":"X310","v":16.306469111540622},{"$f":"Y308","v":71.580000000000013},null,{"$f":"X317","v":5},{"$f":"Y317","v":105.3},"su4",null,{"$f":"X312","v":16.306469111540622},{"$f":"Y312","v":71.580000000000013},"sf9",null,{"$f":"AI347","v":40.869447407407399},{"$f":"AJ347","v":45.400000000000006},"sd3",null,{"$f":"-X330+2*X308","v":5},{"$f":"Y330","v":71.580000000000013},"s'p13",null,{"$f":"DT324","v":27.691600000000001},{"$f":"DU324","v":66.580000000000013},"پشت وسطe21",null,"sf2",null,{"$f":"AW310","v":27.691600000000001},{"$f":"AX308","v":66.580000000000013},null,{"$f":"AW317","v":15},{"$f":"AX317","v":101.3},"su4",null,{"$f":"AW312","v":27.691600000000001},{"$f":"AX312","v":66.580000000000013},"sf9",null,{"$f":"BH347","v":61.438452328117592},{"$f":"BI347","v":41.400000000000006},"sd3",null,{"$f":"-AW330+2*AW308","v":15},{"$f":"AX330","v":66.580000000000013},"s'p13",null,null,0,"e20",null,{"$f":"BP310+0.3*(BT310-BP310)","v":-6.306469111540622},{"$f":"BQ310+0.12*(BU310-BQ310)","v":71.580000000000013},"e23",null,{"$f":"BT310","v":-6.306469111540622},{"$f":"BU310","v":71.580000000000013},{"$f":"BV310","v":"e21"},null,null,0,"e20",null,{"$f":"CB323","v":16.306469111540622},{"$f":"CC323","v":71.580000000000013},{"$f":"CD323","v":"e21"},null,null,0,"e20",null,"(47'→e22)",{"$f":"SQRT(POWER((CO309),2)-POWER((CO310),2))","v":12.719999999999985},null,{"$f":"CJ323","v":18.896469111540618},{"$f":"CK323","v":71.580000000000013},{"$f":"CL323","v":"e21"},null,null,null,0,"e10",null,{"$f":"CV310+0.3*(CZ310-CV310)","v":5},{"$f":"CW310+0.12*(DA310-CW310)","v":71.580000000000013},"e23",null,{"$f":"CZ310","v":5},{"$f":"DA310","v":71.580000000000013},{"$f":"DB310","v":"e21"},null,null,0,"e30",null,{"$f":"DH310+0.3*(DL310-DH310)","v":42.32244},{"$f":"DI310+0.12*(DM310-DI310)","v":64.974704632477568},"e23",null,{"$f":"DL315","v":42.32244},{"$f":"DM315","v":53.625295367522426},{"$f":"DN315","v":"e26"},null,null,0,"e50",null,"(47'→e22)",{"$f":"SQRT(POWER((DY309),2)-POWER((DY310),2))","v":12.819999999999993},null,{"$f":"DT324","v":27.691600000000001},{"$f":"DU324","v":66.580000000000013},{"$f":"DV324","v":"e21"},null,null,0,"e50",null,"(47'→e22)",{"$f":"SQRT(POWER((EJ309),2)-POWER((EJ310),2))","v":12.819999999999993},null,{"$f":"EE325","v":25.8416},{"$f":"EF325","v":66.580000000000013},{"$f":"EG325","v":"e21"},null,{"$f":"-CQ311-GK101","v":-8.8964691115406183},{"$f":"CR311","v":71.580000000000013},"e21",null,"خط اول","نقطه اول","d3",{"$f":"EU372","v":0},{"$f":"EV372","v":115.2},null,null,null,null,null,null,{"$f":"EX367+EU376","v":17.426839900205081},{"$f":"EY367+EU377","v":137.3521547630429},"g7",null,{"$f":"EX351+EU376","v":17.524258209339543},{"$f":"EY351+EU377","v":127.78368736718652},"g7",null,{"$f":"-FA312-FU306","v":5},{"$f":"FB312","v":71.580000000000013},1,null,{"$f":"-FE311-FU306","v":-7.4268399002050813},{"$f":"FF311","v":137.3521547630429},"g7",null,{"$f":"-FI311-FU306","v":-7.5242582093395427},{"$f":"FJ311","v":127.78368736718652},"g7",null,"خط اول","نقطه اول","d3",{"$f":"GG355","v":0},{"$f":"GH355","v":115.2},null,null,{"$f":"GG355","v":0},{"$f":"GH355","v":115.2},"d3",null,"b6",{"$f":"CE118","v":34.784913290103987},{"$f":"CF118","v":122.47136150521011},null,"نقطه دوم از خط دوم",40,{"$f":"BO164","v":26.7666},{"$f":"BP164","v":113.45561085030904},null,"d5  b16",20.294969999999999,117.29840230868756,null,null,null,null,null,null,null,null,null,null,null,null,null,null,null,null,null,null,null,null,null,"b6",{"$f":"CE134-HR320","v":19.141414517036921},{"$f":"CF134-HR321","v":123.00491547048473},null,"نقطه دوم از خط دوم",40,{"$f":"HR317","v":11.7666},{"$f":"HS317","v":113.45561085030904},null,{"$f":"HW361-HR341+HR319","v":13.268995703553493},{"$f":"HX361","v":127.18974977224084},"شیفتd4  b16''",null,{"$f":"HW368-HR341+HR319","v":12.805391355470531},{"$f":"HX368","v":122.95171414266389},"شیفتd4  b12''",null,{"$f":"HW312-HR341+HR319","v":{"$error":"#DIV/0!"}},{"$f":"HX312","v":{"$error":"#DIV/0!"}},"شیفتd4  b10''",null,null,null,null,null,16.08290724847264,117.82542113857991,"e26",null,{"$f":"-HZ265+HT270","v":-6.0829072484726403},{"$f":"IA265","v":117.82542113857991},"e26"]
[null,null,null,null,null,{"$f":"BO187","v":27.691600000000001},{"$f":"BP187","v":79.400000000000006},"38'","محاسبات",null,"محاسبات",null,null,null,null,null,null,33.525039999999997,103.92120297376289,41,null,"sfp16",null,{"$f":"X313+SQRT(POWER((R314-R313),2)+POWER((S314-S313),2))","v":32.608456378037729},{"$f":"Y313","v":100.5},null,{"$f":"-X323+2*X308","v":-23.567651125695903},{"$f":"Y323","v":104.34},"s'u3",null,{"$f":"-X311+2*X308","v":-6.306469111540622},{"$f":"Y311","v":71.580000000000013},"s'f2",null,{"$f":"X320+'متغیرها '!C337","v":27.234442884806271},{"$f":"Y320-'متغیرها '!U56+'متغیرها '!C336","v":62.680000000000007},"su6",null,{"$f":"X333","v":16.306469111540622},{"$f":"Y333","v":78.860000000000028},"sp25",null,{"$f":"BO184-AR317","v":38.272440000000003},{"$f":"BP184-AR320","v":96.524704632477565},36,null,"sfp16",null,{"$f":"AW313+SQRT(POWER((AQ314-AQ313),2)+POWER((AR314-AR313),2))","v":38.27246652210367},{"$f":"AX313","v":96.5},null,{"$f":"-AW323+2*AW308","v":-8.5455380252736148},{"$f":"AX323","v":100.34000000000002},"s'u3",null,{"$f":"-AW311+2*AW308","v":2.3083999999999989},{"$f":"AX311","v":66.580000000000013},"s'f2",null,{"$f":"AW320+'متغیرها '!C349","v":46.766599999999997},{"$f":"AX320-'متغیرها '!U56+'متغیرها '!C348","v":58.680000000000007},"su6",null,{"$f":"AW333","v":26.691600000000001},{"$f":"AX333","v":73.860000000000028},"sp25",null,null,{"$f":"'متغیرها '!C147","v":1.5},"e0",null,{"$f":"BP309+(BQ309-BQ327)*TAN(BQ328)","v":-6.306469111540622},{"$f":"BQ327","v":64.3},"e25",null,{"$f":"BP310","v":-6.306469111540622},{"$f":"BQ310","v":71.580000000000013},{"$f":"BR310","v":52},null,null,{"$f":"'متغیرها '!C147","v":1.5},"e0",null,{"$f":"CB310","v":16.306469111540622},{"$f":"CC310","v":71.580000000000013},{"$f":"CD310","v":52},null,null,{"$f":"'متغیرها '!C147","v":1.5},"e0",null,"e210",{"$f":"ATAN((CJ323-CJ309)/(CK309-CK323))","v":0},null,{"$f":"CJ310","v":18.896469111540618},{"$f":"CK310","v":71.580000000000013},{"$f":"CL310","v":53},null,null,null,{"$f":"'متغیرها '!C147","v":1.5},"e0",null,{"$f":"CV309+(CW309-CW327)*TAN(CW328)","v":5},{"$f":"CW327","v":64.3},"e25",null,{"$f":"CV310","v":5},{"$f":"CW310","v":71.580000000000013},{"$f":"CX310","v":1},null,null,{"$f":"'متغیرها '!C57","v":0},"شیفت عمودی تکه پهلو",null,{"$f":"DH309+(DI309-DI328)*TAN(DI329)","v":42.32244},{"$f":"DI328","v":59.3},"e25",null,{"$f":"DL310","v":42.32244},{"$f":"DM310","v":64.974704632477568},{"$f":"DN310","v":"e21"},null,null,{"$f":"'متغیرها '!C147","v":1.5},"e0",null,"e210",{"$f":"ATAN((DT324-DT309)/(DU309-DU324))","v":0},null,{"$f":"DT310","v":27.691600000000001},{"$f":"DU310","v":66.580000000000013},{"$f":"DV310","v":49},null,null,{"$f":"'متغیرها '!C57","v":0},"شیفت عمودی تکه پهلو",null,"e210",{"$f":"ATAN((EE325-EE309)/(EF309-EF325))","v":0},null,{"$f":"EE310","v":25.8416},{"$f":"EF310","v":66.580000000000013},{"$f":"EG310","v":"50شیفت"},null,{"$f":"-CQ314-GK101","v":-8.8964691115406183},{"$f":"CR314","v":71.580000000000013},53,null,null,"نقطه دوم",35,{"$f":"EX378","v":14.238655678790375},{"$f":"EY378","v":140.73895738908448},null,null,null,null,null,null,null,null,"حلقه آستین با ساسون متغیر",null,null,null,"حلقه آستین با ساسون متغیر",null,{"$f":"-FA315-FU306","v":6.6799400000000002},{"$f":"FB315","v":71.580000000000013},"1'",null,null,null,"قرینه حلقه آستین با ساسون متغیر",null,null,null,"قرینه حلقه آستین با ساسون متغیر",null,null,"نقطه دوم",35,{"$f":"GG367","v":14.238655678790375},{"$f":"GH367","v":140.73895738908448},null,null,{"$f":"-GF309","v":-12.42683990020508},132.3521547630429,"g7",null,"b14",{"$f":"CE122","v":40.811774596123236},{"$f":"CF122","v":112.47373911807699},null,null,"به دست آوردن نقطه تقاطع دو خط (d''4b12)","مولفه افقی","مولفه عمودی",null,"d'ʻ4  b16",{"$f":"GP312","v":28.068355711933492},{"$f":"GQ312","v":125.35560081155975},null,null,null,null,null,null,null,null,null,null,null,null,null,null,null,null,null,null,null,null,null,34,{"$f":"BK159-HR320","v":11.7666},{"$f":"BL159-HR321","v":96.5},null,null,"به دست آوردن نقطه تقاطع دو خط (d''4b14) شیفت","مولفه افقی","مولفه عمودی",null,{"$f":"HR342-HR341+HR319","v":9.4132800000000003},{"$f":"HS342","v":122.50091300822071},"d4  b16",null,{"$f":"HR346-HR341+HR319","v":9.4132800000000003},{"$f":"HS346","v":119.79928117784529},"d4  b12",null,{"$f":"HR354-HR341+HR319","v":9.4132800000000003},{"$f":"HS354","v":113.23279034655765},"d4  b10",null,null,null,null,null,{"$f":"HZ266","v":6.2601469111540613},119.53104565807236,"e27",null,{"$f":"-HZ266+HT270","v":3.7398530888459387},{"$f":"IA266","v":119.53104565807236},"e27"]
[null,null,null,null,null,null,{"$f":"I105","v":96},"f",{"$f":"G317*G315*0.01","v":4.8},"u1 u'1",{"$f":"ATAN((F310-F309)/(G309-G310))","v":0},"αu1",null,null,null,null,null,{"$f":"AZ180-S317","v":18.896469111540618},{"$f":"BA180","v":84.3},"47''",null,"sfp13",{"$f":"SQRT(POWER((R315-AD350),2)+POWER((S315-AE350),2))","v":13.102595168896283},{"$f":"X310+W315","v":29.409064280436905},{"$f":"Y309","v":84.3},null,null,null,null,null,{"$f":"-X312+2*X308","v":-6.306469111540622},{"$f":"Y312","v":71.580000000000013},"s'f9",null,null,null,null,null,{"$f":"X331","v":16.306469111540622},{"$f":"Y331","v":78.860000000000028},"sp21",null,{"$f":"BO191-AR317","v":25.8416},{"$f":"BP191-AR320","v":79.400000000000006},"38''",null,"sfp13",{"$f":"SQRT(POWER((AQ315-BC350),2)+POWER((AR315-BD350),2))","v":16.59630869438643},{"$f":"AW310+AV315","v":44.287908694386431},{"$f":"AX309","v":79.400000000000006},null,null,null,null,null,{"$f":"-AW312+2*AW308","v":2.3083999999999989},{"$f":"AX312","v":66.580000000000013},"s'f9",null,null,null,null,null,{"$f":"AW331","v":27.691600000000001},{"$f":"AX331","v":73.860000000000028},"sp21",null,null,{"$f":"'متغیرها '!C143","v":0},"e211",null,{"$f":"BT314-BQ329","v":-6.306469111540622},{"$f":"BU314-BQ331","v":57.019999999999982},"e26",null,null,null,"گوده",null,null,{"$f":"'متغیرها '!C143","v":0},"e211",null,null,null,"گوده",null,null,{"$f":"'متغیرها '!C143","v":0},"e211",null,"(e29→e26)",{"$f":"CK315-(CJ323-CJ327)","v":0},null,null,null,"گوده",null,null,null,{"$f":"'متغیرها '!C142","v":0},"e111",null,{"$f":"CZ314-CW329","v":5},{"$f":"DA314-CW331","v":57.019999999999982},"e26",null,null,null,"گوده",null,null,{"$f":"'متغیرها '!C147","v":1.5},"e0",null,{"$f":"DL314+DI330","v":42.32244},{"$f":"DM314-DI332","v":53.625295367522426},"e26",null,null,null,"پیلی",null,null,{"$f":"'متغیرها '!C146","v":0},"e511",null,"(e29→e26)",{"$f":"DU315+DT324-DT328","v":0},null,null,null,"گوده",null,null,{"$f":"'متغیرها '!C147","v":1.5},"e0",null,"(e29→e26)",{"$f":"EF316-(EE325-EE329)","v":0},null,null,null,"گوده",null,null,null,"گوده",null,null,"نقطه تقاطع","g1",{"$f":"(EX313-EX311+EW311*((EX312-EX311)/(EW312-EW311))-EW313*((EX314-EX313)/(EW314-EW313)))/(((EX312-EX311)/(EW312-EW311))-((EX314-EX313)/(EW314-EW313)))","v":12.873731199531017},{"$f":"EX311+(EW315-EW311)*((EX312-EX311)/(EW312-EW311))","v":119.4470968202057},null,null,{"$f":"FA313","v":3.3200600000000002},{"$f":"FB313","v":71.580000000000013},"1'",null,{"$f":"BW139+BT130","v":36.174132720781841},{"$f":"BX139","v":127.53660236827258},"شیفت b14",null,{"$f":"BW139+BT130","v":36.174132720781841},{"$f":"BX139","v":127.53660236827258},"شیفت b14",null,{"$f":"-FA316-FU306","v":6.6799400000000002},{"$f":"FB316","v":120.2},"d3'",null,{"$f":"-FE315-GK101","v":-26.174132720781841},{"$f":"FF315","v":127.53660236827258},"شیفت b14",null,{"$f":"-FE315-GK101","v":-26.174132720781841},{"$f":"FF315","v":127.53660236827258},"شیفت b14",null,null,"نقطه تقاطع","g1",{"$f":"(GC313-GC311+GB311*((GC312-GC311)/(GB312-GB311))-GB313*((GC314-GC313)/(GB314-GB313)))/(((GC312-GC311)/(GB312-GB311))-((GC314-GC313)/(GB314-GB313)))","v":12.873731199531017},{"$f":"GC311+(GB315-GB311)*((GC312-GC311)/(GB312-GB311))","v":119.4470968202057},null,null,{"$f":"-GF310","v":-6.2134199501025398},123.77607738152145,"g8",null,34,{"$f":"BK159","v":26.7666},{"$f":"BL159","v":96.5},null,"نقطه اول از خط اول","d4b12",{"$f":"GK328","v":24.41328},{"$f":"GL328","v":118.98171606805077},null,"شیفت d'ʻ4  b16",{"$f":"GP347+GT346","v":28.068355711933492},{"$f":"GQ347+GT347","v":125.35560081155975},null,{"$f":"GT373","v":15},{"$f":"GU373","v":81.719763705982047},"m11",null,{"$f":"GT373","v":15},{"$f":"GU373","v":81.719763705982047},"m11",null,{"$f":"GT373","v":15},{"$f":"GU373","v":81.719763705982047},"m11",null,{"$f":"GT373","v":15},{"$f":"GU373","v":81.719763705982047},"m11",null,{"$f":"GT373","v":15},{"$f":"GU373","v":81.719763705982047},"m11",null,35,{"$f":"BK180-HR322-HR320","v":11.7666},{"$f":"BL180-HR323-HR321","v":96.5},null,"نقطه اول از خط اول","d4b14",{"$f":"HR358","v":9.4132800000000003},{"$f":"HS358","v":111.522673023162},null,{"$f":"HR343-HR341+HR319","v":5.2949700000000002},{"$f":"HS343","v":117.97297346591355},"d5  b16",null,{"$f":"HR347-HR341+HR319","v":5.2949700000000002},{"$f":"HS347","v":116.45330556132738},"d5  b12",null,{"$f":"HR355-HR341+HR319","v":5.2949700000000002},{"$f":"HS355","v":112.75965446872809},"d5  b10",null,null,null,null,null,9.9586063644298033,123.00813233100058,"e28",null,{"$f":"-HZ267+HT270","v":4.1393635570196707E-2},{"$f":"IA267","v":123.00813233100058},"e28"]
[null,null,null,null,null,"u10",{"$f":"'متغیرها '!C344","v":5},null,{"$f":"G319*G315*0.01","v":4.8},"d1 d'1",{"$f":"ATAN((F312-F313)/(G312-G313))","v":0},"αu2",null,null,null,null,null,null,{"$f":"'متغیرها '!C55","v":0},"شیفت افقی",null,"su4",null,{"$f":"R321","v":5},{"$f":"S321","v":105.3},null,{"$f":"X321","v":16.647006148577656},{"$f":"Y321","v":92.82},"sd5",null,{"$f":"-X315+2*X308","v":-19.409064280436905},{"$f":"Y315","v":84.3},"s'fp13",null,{"$f":"X319+'متغیرها '!C337","v":19.8},{"$f":"Y319-'متغیرها '!U56+'متغیرها '!C336","v":59.8},"su5",null,{"$f":"X334","v":16.306469111540622},{"$f":"Y334","v":71.580000000000013},"sp23",null,null,{"$f":"'متغیرها '!C56","v":0},"شیفت افقی",null,"su1",null,{"$f":"AW308","v":15},{"$f":"AR322","v":101.3},null,{"$f":"AW321","v":27.182038596491228},{"$f":"AX321","v":88.82},"sd5",null,{"$f":"-AW315+2*AW308","v":-14.287908694386431},{"$f":"AX315","v":79.400000000000006},"s'fp13",null,{"$f":"AW319+'متغیرها '!C349","v":35},{"$f":"AX319-'متغیرها '!U56+'متغیرها '!C348","v":55.8},"su5",null,{"$f":"AW334","v":28.691600000000001},{"$f":"AX334","v":66.580000000000013},"sp23",null,null,{"$f":"'متغیرها '!U60","v":77.5},"j",null,{"$f":"BT310+0.7*(BT315-BT310)","v":-6.306469111540622},{"$f":"BU310+0.5*(BU315-BU310)","v":64.3},"e28",null,-6.306469111540622,57.019999999999982,"e26",null,null,{"$f":"'متغیرها '!U60","v":77.5},"j",null,16.306469111540622,57.019999999999982,"e26",null,null,{"$f":"'متغیرها '!U60","v":77.5},"j",null,"(e25→e29)",{"$f":"SQRT(POWER((CO316),2)-POWER((CO315),2))","v":7.2800000000000153},null,18.896469111540618,57.019999999999982,"e26",null,null,null,{"$f":"'متغیرها '!U60","v":77.5},"j",null,{"$f":"CZ310+0.7*(CZ315-CZ310)","v":5},{"$f":"DA310+0.5*(DA315-DA310)","v":64.3},"e28",null,5,57.019999999999982,"e26",null,null,{"$f":"'متغیرها '!U59","v":41.1},"h",null,{"$f":"DL310+0.7*(DL315-DL310)","v":42.32244},{"$f":"DM310+0.5*(DM315-DM310)","v":59.3},"e28",null,{"$f":"DL322","v":42.32244},{"$f":"DM322","v":59.3},{"$f":"DN322","v":"e215"},null,null,{"$f":"'متغیرها '!U60","v":77.5},"j",null,"(e25→e29)",{"$f":"SQRT(POWER((DY316),2)-POWER((DY315),2))","v":7.2800000000000153},null,27.691600000000001,52.019999999999982,"e26",null,null,{"$f":"'متغیرها '!U59","v":41.1},"h",null,"(e25→e29)",{"$f":"SQRT(POWER((EJ316),2)-POWER((EJ315),2))","v":7.2800000000000153},null,25.8416,52.019999999999982,"e26",null,{"$f":"-CQ317-GK101","v":-8.8964691115406183},{"$f":"CR317","v":57.019999999999982},"e26",null,"(g1→ g5)",{"$f":"'متغیرها '!C354*EU308","v":0},null,"g5",{"$f":"EW315+EU317*SIN(EY374)","v":12.873731199531017},{"$f":"EX315+EU317*COS(EY374)","v":119.4470968202057},null,null,null,null,null,null,null,null,null,null,null,null,null,{"$f":"-FA318-FU306","v":6.6799400000000002},{"$f":"FB318","v":120.2},"d3'",null,null,null,null,null,null,null,null,null,"(g1→ g5)",{"$f":"'متغیرها '!C354*FZ308","v":0},null,"g5",{"$f":"GB315+FZ317*SIN(GG363)","v":12.873731199531017},{"$f":"GC315+FZ317*COS(GG363)","v":119.4470968202057},null,null,null,null,null,22,{"$f":"BK101","v":28.676935650976734},{"$f":"BL101","v":130.9189297056397},null,"نقطه اول از خط دوم"," یا  22",{"$f":"IF(GQ315>GQ318,GK317,GK315)","v":28.676935650976734},{"$f":"IF(GQ315>GQ318,GL317,GL315)","v":130.9189297056397},null,"d5  b12",20.294969999999999,115.97659349652955,null,null,null,null,null,null,null,null,null,null,null,null,null,null,null,null,null,null,null,null,null,40,{"$f":"BO164-HR320","v":11.7666},{"$f":"BP164-HR321","v":113.45561085030904},null,"نقطه اول از خط دوم"," یا  22",{"$f":"IF(HX315>HX318,HR316,HR315)","v":11.7666},{"$f":"IF(HX315>HX318,HS316,HS315)","v":96.5}]
[null,null,null,null,null,"u20",{"$f":"'متغیرها '!C346","v":8},null,{"$f":"G320*G315*0.01","v":7.68},"d2 d'2",{"$f":"ATAN((F314-F313)/(G313-G314))","v":5.4040898374529633E-2},"αd2",null,null,null,null,null,{"$f":"CQ309","v":18.896469111540618},{"$f":"CR309","v":71.580000000000013},"جلو پهلوe21 شیفت",null,"sd4",null,{"$f":"R326","v":5},{"$f":"S326","v":95.7},null,{"$f":"X318","v":5},{"$f":"Y318","v":95.7},"sd4",null,{"$f":"-X322+2*X308","v":-20.869447407407399},{"$f":"Y322","v":90.9},"s'd3",null,null,null,null,null,null,null,null,null,{"$f":"EE325","v":25.8416},{"$f":"EF325","v":66.580000000000013},"پشت پهلوe21 شیفت",null,"sd1",null,{"$f":"AW308","v":15},{"$f":"AR327","v":91.7},null,{"$f":"AW318","v":15},{"$f":"AX318","v":91.7},"sd4",null,{"$f":"-AW322+2*AW308","v":-11.438452328117592},{"$f":"AX322","v":86.9},"s'd3",null,null,null,null,null,null,null,null,null,null,{"$f":"'متغیرها '!C138","v":0},"e219",null,null,null,"پیلی",null,null,null,null,null,null,{"$f":"'متغیرها '!C138","v":0},"e219",null,null,null,null,null,{"$f":"AZ161+'متغیرها '!C55","v":17.60146911154062},{"$f":"BA161","v":118.23},"43شیفت",null,null,null,null,null,null,null,null,null,null,{"$f":"'متغیرها '!C137","v":0},"e119",null,null,null,"پیلی",null,null,null,null,null,null,{"$f":"'متغیرها '!U60","v":77.5},"j",null,null,null,"پیلی",null,null,null,null,null,null,{"$f":"'متغیرها '!C141","v":2},"e519",null,null,null,null,null,null,null,null,null,{"$f":"'متغیرها '!U60","v":77.5},"j",null,null,null,null,null,null,null,null,null,null,null,null,"(5→ g5)",{"$f":"SQRT(POWER((EX317-EU373),2)+POWER((EY317-EV373),2))","v":4.2558146158823984},null,"g6",{"$f":"EU373+EU318*SIN(EU319)","v":13.187207047768069},{"$f":"EV373+EU318*COS(EU319)","v":119.41531364370698},null,{"$f":"FA316","v":3.3200600000000002},{"$f":"FB316","v":120.2},"d3'",null,{"$f":"BW139+BT130","v":36.174132720781841},{"$f":"BX139","v":127.53660236827258},"شیفتb14",null,{"$f":"BW139+BT130","v":36.174132720781841},{"$f":"BX139","v":127.53660236827258},"شیفتb14",null,{"$f":"-FA319-FU306","v":5},{"$f":"FB319","v":120.2},"d3",null,{"$f":"-FE318-GK101","v":-26.174132720781841},{"$f":"FF318","v":127.53660236827258},"شیفتb14",null,{"$f":"-FE318-GK101","v":-26.174132720781841},{"$f":"FF318","v":127.53660236827258},"شیفتb14",null,"(5→ g5)",{"$f":"SQRT(POWER((GC317-GG356),2)+POWER((GD317-GH356),2))","v":4.2558146158823984},null,"g6",{"$f":"GG356+FZ318*SIN(FZ319)","v":13.187207047768069},{"$f":"GH356+FZ318*COS(FZ319)","v":119.41531364370698},null,null,null,"آبی",null,40,{"$f":"BO164","v":26.7666},{"$f":"BP164","v":113.45561085030904},null,"نقطه دوم از خط دوم",40,{"$f":"BO164","v":26.7666},{"$f":"BP164","v":113.45561085030904},null,"d4  b12ʻ",28.42157055665357,122.39688596073252,null,{"$f":"GT374","v":18.35988},{"$f":"GU374","v":81.719763705982047},"m12",null,{"$f":"GT374","v":18.35988},{"$f":"GU374","v":81.719763705982047},"m12",null,{"$f":"GT374","v":18.35988},{"$f":"GU374","v":81.719763705982047},"m12",null,{"$f":"GT374","v":18.35988},{"$f":"GU374","v":81.719763705982047},"m12",null,{"$f":"GT374","v":18.35988},{"$f":"GU374","v":81.719763705982047},"m12",null,44,{"$f":"BO178-HR320","v":0},{"$f":"BP178-HR321","v":96.5},null,"نقطه دوم از خط دوم",40,{"$f":"HR317","v":11.7666},{"$f":"HS317","v":113.45561085030904},null,{"$f":"HR325","v":9.4132800000000003},{"$f":"HS325","v":121.33159840077614},"m5",null,{"$f":"HR326","v":9.4132800000000003},{"$f":"HS326","v":118.98171606805077},"m6",null,{"$f":"HR328","v":9.4132800000000003},{"$f":"HS328","v":112.83700457224168},"m8",null,null,null,null,null,{"$f":"HZ268","v":15.506295544343416},{"$f":"IA268","v":126.48521900392882},"e29",null,{"$f":"-HZ268+HT270","v":-5.5062955443434163},{"$f":"IA268","v":126.48521900392882},"e29"]
[null,null,null,null,null,{"$f":"BK179","v":26.7666},{"$f":"BL179","v":113.45561085030904},40,"تکه پشت پهلو",{"$f":"F322-ABS(I327)*TAN(IF(I327>0,K327,K328))","v":26.7666},{"$f":"G322+I327","v":104.18},"uu2",null,{"$f":"J321","v":26.7666},{"$f":"K321","v":104.18},{"$f":"L321","v":"uu2"},null,{"$f":"J337","v":5},{"$f":"K337","v":105.3},"u4",null,"sd5",null,{"$f":"R327","v":16.647006148577656},{"$f":"S327","v":92.82},null,null,null,null,null,{"$f":"X310","v":16.306469111540622},{"$f":"Y310","v":84.3},"sf11",null,null,null,null,null,{"$f":"-X331+2*X308","v":-6.306469111540622},{"$f":"Y331","v":78.860000000000028},"s'p21",null,{"$f":"J323","v":38.545538025273615},{"$f":"K323","v":100.36470463247757}," شیفتu3",null,"sd2",null,{"$f":"AQ328","v":27.182038596491228},{"$f":"AR328","v":88.82},null,null,null,null,null,{"$f":"AW310","v":27.691600000000001},{"$f":"AX310","v":79.400000000000006},"sf11",null,null,null,null,null,{"$f":"-AW331+2*AW308","v":2.3083999999999989},{"$f":"AX331","v":73.860000000000028},"s'p21",null,"محاسبات",null,null,null,{"$f":"BT314-1.5*BQ318*COS(BQ328)","v":-6.306469111540622},{"$f":"BU314-1.5*BQ318*SIN(BQ328)","v":64.3},"e214",null,{"$f":"BT316","v":-6.306469111540622},{"$f":"BU316","v":69.832800000000006},{"$f":"BV316","v":"e27"},null,"نقاط  خروجی",null,null,null,{"$f":"CB329","v":16.306469111540622},{"$f":"CC329","v":69.832800000000006},{"$f":"CD329","v":"e27"},null,"مولفه افقی","مولفه عمودی","اسم نقطه ",null,null,null,null,{"$f":"CJ329","v":18.896469111540618},{"$f":"CK329","v":69.832800000000006},{"$f":"CL329","v":"e27"},null,null,"محاسبات",null,null,null,{"$f":"CZ314-1.5*CW318*COS(CW328)","v":5},{"$f":"DA314-1.5*CW318*SIN(CW328)","v":64.3},"e214",null,{"$f":"CZ316","v":5},{"$f":"DA316","v":69.832800000000006},{"$f":"DB316","v":"e27"},null,null,{"$f":"'متغیرها '!C134","v":0},"انتخاب ترک گشاد",null,{"$f":"DL314+1.5*DI319*COS(DI329)","v":42.32244},{"$f":"DM314+1.5*DI319*SIN(DI329)","v":59.3},"e214",null,null,null,null,null,"نقاط  خروجی",null,null,null,null,null,null,{"$f":"DT330","v":27.691600000000001},{"$f":"DU330","v":64.832800000000006},{"$f":"DV330","v":"e27"},null,null,{"$f":"'متغیرها '!C134","v":0},"انتخاب ترک گشاد",null,null,null,null,{"$f":"EE331","v":25.8416},{"$f":"EF331","v":64.832800000000006},{"$f":"EG331","v":"e27"},null,{"$f":"-CQ321-GK101","v":-8.8964691115406183},{"$f":"CR321","v":69.832800000000006},"e27",null,null,null,null,null,null,null,null,{"$f":"CY109","v":16.306469111540622},{"$f":"CZ109","v":71.580000000000013},52,null,{"$f":"ED107","v":28.654272756814162},128.00364177662831,"شیفت b10 یا b'10g",null,{"$f":"ED107","v":28.654272756814162},{"$f":"EE107","v":128.00364177662831},"شیفت b10 یا b'10g",null,{"$f":"-FA322-FU306","v":5},{"$f":"FB322","v":71.580000000000013},1,null,{"$f":"-FE321-GK101","v":-18.654272756814162},128.00364177662831,"شیفت b10 یا b'10g",null,{"$f":"-FE321-GK101","v":-18.654272756814162},{"$f":"FF321","v":128.00364177662831},"شیفت b10 یا b'10g",null,null,null,null,null,null,null,null,{"$f":"GC336","v":6.2377540632745712},{"$f":"GD336","v":121.38597052622501},"g8",null,"محاسبات آستین و یقه دکلته",null,null,null,null,"به دست آوردن نقطه تقاطع دو خط (d''4b6)","مولفه افقی","مولفه عمودی",null,"شیفت d'ʻ4  b12",{"$f":"GP354+GT346","v":27.675126122001252},{"$f":"GQ354+GT347","v":121.76089549952385},null,{"$f":"GT375","v":27.773160000000004},{"$f":"GU375","v":96.5},"m13",null,{"$f":"GT375","v":27.773160000000004},{"$f":"GU375","v":96.5},"m13",null,{"$f":"GT375","v":27.773160000000004},{"$f":"GU375","v":96.5},"m13",null,{"$f":"GT375","v":27.773160000000004},{"$f":"GU375","v":96.5},"m13",null,{"$f":"GT375","v":27.773160000000004},{"$f":"GU375","v":96.5},"m13",null,null,{"$f":"'متغیرها '!C54","v":0},"شیفت عمودی کل",null,null,"به دست آوردن نقطه تقاطع دو خط (d''4b16)","مولفه افقی","مولفه عمودی",null,{"$f":"HR334","v":9.4132800000000003},{"$f":"HS334","v":96.5},"m'10",null,{"$f":"HR334","v":9.4132800000000003},{"$f":"HS334","v":96.5},"m'10",null,{"$f":"HR334","v":9.4132800000000003},{"$f":"HS334","v":96.5},"m'10",null,null,null,null,null,null,null,"تکه پایه",null,null,null,"تکه پایه"]
[null,null,null,null,null,{"$f":"BK180","v":26.7666},{"$f":"BL180","v":96.5},35,null,{"$f":"F322-IF(G331>0,I329*TAN(K328),-I329*TAN(K327))","v":26.351161403508772},{"$f":"G322-I329","v":88.82},"dd2",null,{"$f":"J323","v":38.545538025273615},{"$f":"K323","v":100.36470463247757},{"$f":"L323","v":"u3"},null,{"$f":"J341","v":9.8000000000000007},{"$f":"K341","v":105.3},"u5 ",null,"sd3",null,{"$f":"X321+R325-R328","v":30.869447407407399},{"$f":"Y314-S314+S325","v":90.9},null,{"$f":"X323","v":33.567651125695903},{"$f":"Y323","v":104.34},"su3",null,{"$f":"X312","v":16.306469111540622},{"$f":"Y312","v":71.580000000000013},"sf9",null,{"$f":"AI320","v":15},{"$f":"AJ320","v":59.8},"su4",null,{"$f":"-X332+2*X308","v":-6.306469111540622},{"$f":"Y332","v":78.860000000000028},"s'p22",null,{"$f":"J309","v":15},{"$f":"K309","v":101.3},"u1",null,"sd3",null,{"$f":"AW321+AQ326-AQ329","v":41.438452328117592},{"$f":"AX314-AR314+AR326-AR320","v":86.9},null,{"$f":"AW323","v":38.545538025273615},{"$f":"AX323","v":100.34000000000002},"su3",null,{"$f":"AW312","v":27.691600000000001},{"$f":"AX312","v":66.580000000000013},"sf9",null,{"$f":"BH320","v":35},{"$f":"BI320","v":55.8},"su4",null,{"$f":"-AW332+2*AW308","v":1.3083999999999989},{"$f":"AX332","v":73.860000000000028},"s'p22",null,null,"اوزمان",null,null,{"$f":"BT314-2*BQ318*COS(BQ328)","v":-6.306469111540622},{"$f":"BU314-2*BQ318*SIN(BQ328)","v":64.3},"e215",null,{"$f":"BT310","v":-6.306469111540622},{"$f":"BU310","v":71.580000000000013},{"$f":"BV310","v":"e21"},null,null,null,"اوزمان",null,{"$f":"CB323","v":16.306469111540622},{"$f":"CC323","v":71.580000000000013},{"$f":"CD323","v":"e21"},null,null,null,"اوزمان",null,null,null,null,{"$f":"CJ323","v":18.896469111540618},{"$f":"CK323","v":71.580000000000013},{"$f":"CL323","v":"e21"},null,null,null,"اوزمان",null,null,{"$f":"CZ314-2*CW318*COS(CW328)","v":5},{"$f":"DA314-2*CW318*SIN(CW328)","v":64.3},"e215",null,{"$f":"CZ310","v":5},{"$f":"DA310","v":71.580000000000013},{"$f":"DB310","v":"e21"},null,"محاسبات",null,null,null,{"$f":"DL314+2*DI319*COS(DI329)","v":42.32244},{"$f":"DM314+2*DI319*SIN(DI329)","v":59.3},"e215",null,{"$f":"DL319","v":42.32244},{"$f":"DM319","v":59.3},{"$f":"DN319","v":"e212"},null,"مولفه افقی","مولفه عمودی","اسم نقطه ",null,null,null,null,{"$f":"DT324","v":27.691600000000001},{"$f":"DU324","v":66.580000000000013},{"$f":"DV324","v":"e21"},null,"نقاط  خروجی",null,null,null,null,null,null,{"$f":"EE325","v":25.8416},{"$f":"EF325","v":66.580000000000013},{"$f":"EG325","v":"e21"},null,{"$f":"-CQ322-GK101","v":-8.8964691115406183},{"$f":"CR322","v":71.580000000000013},"e21",null,null,"نقطه اتصال به آستین",null,null,null,null,null,{"$f":"AZ106","v":5},{"$f":"BA106","v":71.580000000000013},1,null,25.588962427831195,132.10743514081653,"شیفت b6 یا b'6g",null,{"$f":"ED108","v":25.588962427831195},{"$f":"EE108","v":132.10743514081653},"شیفت b6 یا b'6g",null,null,null,null,null,{"$f":"-FE322-GK101","v":-15.588962427831195},132.10743514081653,"شیفت b6 یا b'6g",null,{"$f":"-FE322-GK101","v":-15.588962427831195},{"$f":"FF322","v":132.10743514081653},"شیفت b6 یا b'6g",null,null,"نقطه اتصال به آستین",null,null,null,null,null,{"$f":"GG355","v":0},{"$f":"GH355","v":115.2},"d3",null,"اسم نقطه","مولفه افقی","عمودی",null,"نقطه اول از خط اول","d4b6",{"$f":"GK332","v":24.41328},{"$f":"GL332","v":115.79813097576023},null,"d4  b6",{"$f":"GK332","v":24.41328},115.79813097576023,null,{"$f":"GT380","v":27.773160000000004},{"$f":"GU380","v":111.07769989952921},"m18",null,{"$f":"GT379","v":27.773160000000004},{"$f":"GU379","v":112.83700457224168},"m17",null,{"$f":"GT378","v":27.773160000000004},{"$f":"GU378","v":115.79813097576023},"m16",null,{"$f":"GT377","v":27.773160000000004},{"$f":"GU377","v":118.98171606805077},"m15",null,{"$f":"GT376","v":27.773160000000004},{"$f":"GU376","v":121.33159840077614},"m14",null,null,{"$f":"'متغیرها '!C56","v":0},"شیفت افقی",null,"نقطه اول از خط اول","d4b16",{"$f":"HR342","v":9.4132800000000003},{"$f":"HS342","v":122.50091300822071},null,{"$f":"HR335","v":0},{"$f":"HS335","v":81.719763705982047},"m'11",null,{"$f":"HR335","v":0},{"$f":"HS335","v":81.719763705982047},"m'11",null,{"$f":"HR335","v":0},{"$f":"HS335","v":81.719763705982047},"m'11",null,null,null,null,null,{"$f":"HZ270","v":6.2601469111540613},{"$f":"IA270","v":120.86895434192765},"e31",null,{"$f":"-HZ270+HT270","v":3.7398530888459387},{"$f":"IA270","v":120.86895434192765},"e31"]
[null,null,null,null,null,{"$f":"BO181","v":39.087906522700877},{"$f":"BP181","v":107.99088584720475},10,null,{"$f":"F325+IF(G332>0,I330*TAN(K330),-I330*TAN(K329))","v":40.607575135135136},{"$f":"G325-I330","v":86.924704632477571},"d3",null,{"$f":"J322","v":26.351161403508772},{"$f":"K322","v":88.82},{"$f":"L322","v":"dd2"},null,{"$f":"J351","v":17.968495338274966},{"$f":"K351","v":108.18}," جلو پهلوu6 ",null,null,null,null,null,null,{"$f":"X322","v":30.869447407407399},{"$f":"Y322","v":90.9},"sd3",null,{"$f":"X318","v":5},{"$f":"Y318","v":95.7},"sd4",null,null,null,null,null,null,null,null,null,{"$f":"J311","v":26.7666},{"$f":"K311","v":104.18},"پشت وسطu2 ",null,null,null,null,null,null,{"$f":"AW322","v":41.438452328117592},{"$f":"AX322","v":86.9},"sd3",null,{"$f":"AW318","v":15},{"$f":"AX318","v":91.7},"sd4",null,null,null,null,null,null,null,null,null,"(e22→e21)",{"$f":"BQ311*0.25*BQ312+BP310-BP309","v":0},null,null,{"$f":"BT310-1*BQ318*COS(BQ328)","v":-6.306469111540622},{"$f":"BU310-1*BQ318*SIN(BQ328)","v":71.580000000000013},"e218",null,{"$f":"BT314","v":-6.306469111540622},{"$f":"BU314","v":64.3},{"$f":"BV314","v":"e25"},null,{"$f":"CB310+0.3*(CB323-CB310)","v":16.306469111540622},{"$f":"CC310+0.12*(CC323-CC310)","v":71.580000000000013},"e23",null,{"$f":"CB327","v":16.306469111540622},{"$f":"CC327","v":64.3},{"$f":"CD327","v":"e25"},null,{"$f":"CJ310+0.3*(CJ323-CJ310)","v":18.896469111540618},{"$f":"CK310+0.12*(CK323-CK310)","v":71.580000000000013},"e23",null,null,null,null,null,null,null,null,null,"(e22→e21)",{"$f":"CW311*0.25*CW312+CV310-CV309","v":0},null,null,{"$f":"CZ310-1*CW318*COS(CW328)","v":5},{"$f":"DA310-1*CW318*SIN(CW328)","v":71.580000000000013},"e218",null,{"$f":"CZ314","v":5},{"$f":"DA314","v":64.3},{"$f":"DB314","v":"e25"},null,"(47'→52)",{"$f":"SQRT(POWER((DI309-DI310),2)+POWER((DH310-DH309),2))","v":14.899999999999991},null,null,{"$f":"DL310+1*DI319*COS(DI329)","v":42.32244},{"$f":"DM310+1*DI319*SIN(DI329)","v":64.974704632477568},"e218",null,null,null,null,null,{"$f":"DT309+DY310","v":27.691600000000001},{"$f":"DU309-DY311","v":66.580000000000013},"e21",null,null,null,null,{"$f":"DT328","v":27.691600000000001},{"$f":"DU328","v":59.3},{"$f":"DV328","v":"e25"},null,null,null,"اوزمان",null,null,null,null,{"$f":"EE329","v":25.8416},{"$f":"EF329","v":59.3},{"$f":"EG329","v":"e25"},null,{"$f":"-CQ329-GK101","v":-8.8964691115406183},{"$f":"CR329","v":71.580000000000013},"e21",null,"b12",{"$f":"BW136-EU376","v":19.340417771240173},{"$f":"BX136-EU377","v":133.03027214395152},null,null,null,null,null,null,"جادکمه دکلته در بالاتنه جناقی",null,{"$f":"DT151+BT130","v":24.573105577030464},{"$f":"DU151","v":145.30037824350708},"شیفت22b ",null,{"$f":"FI309","v":18.645284222445888},{"$f":"FJ309","v":127.71190559185145},{"$f":"FG309","v":"g6"},null,{"$f":"-FA325-FU306","v":5},{"$f":"FB325","v":120.2},"d3",null,{"$f":"-FE324-GK101","v":-14.573105577030464},145.30037824350708,"شیفت22b ",null,{"$f":"FU309","v":-8.6452842224458877},{"$f":"FV309","v":127.71190559185145},"g6",null,"b12",{"$f":"BW164-GG359","v":19.340417771240173},{"$f":"BX164-GG360","v":133.03027214395152},null,null,null,null,{"$f":"-GF319","v":-15.544049063874674},{"$f":"GG319","v":133.03027214395152},"b12",null,"d4  b16",{"$f":"0.8*(GK318-GK323)+GK323","v":24.41328},{"$f":"GL323+((GK324-GK323)/(GK309-GK323))*(GL309-GL323)+0.8*'متغیرها '!C358*(GK310-GK323)","v":121.33159840077614},null,"نقطه اول از خط دوم"," یا  22",{"$f":"IF(GQ322>GQ325,GK317,GK315)","v":28.676935650976734},{"$f":"IF(GQ322>GQ325,GL317,GL315)","v":130.9189297056397},null,"d4  b6ʻ",28.370262658020799,117.83261054071858,null,{"$f":"GT380","v":27.773160000000004},{"$f":"GU380","v":111.07769989952921},"m18",null,{"$f":"GT379","v":27.773160000000004},{"$f":"GU379","v":112.83700457224168},"m17",null,{"$f":"GT378","v":27.773160000000004},{"$f":"GU378","v":115.79813097576023},"m16",null,{"$f":"GT377","v":27.773160000000004},{"$f":"GU377","v":118.98171606805077},"m15",null,{"$f":"GT376","v":27.773160000000004},{"$f":"GU376","v":121.33159840077614},"m14",null,"رگلاژ",null,null,null,"نقطه اول از خط دوم"," یا  22",{"$f":"IF(HX322>HX325,HR316,HR314)","v":13.676935650976734},{"$f":"IF(HX322>HX325,HS316,HS314)","v":130.9189297056397},null,{"$f":"-HZ308","v":-19.12612735477154},{"$f":"IA308","v":135.58580837720058}," شیفت b16",null,{"$f":"-ID308","v":-18.919340080706185},{"$f":"IE308","v":129.90956173101131},"شیفتb12",null,{"$f":"-IH308","v":-20.844797250181742},{"$f":"II308","v":117.10997608410614},"شیفتb10"]
[null,null,null,null,null,{"$f":"BO184","v":38.272440000000003},{"$f":"BP184","v":96.524704632477565},36,null,null,null,null,null,{"$f":"J324","v":40.607575135135136},{"$f":"K324","v":86.924704632477571},{"$f":"L324","v":"d3"},null,{"$f":"J354","v":32.778373333333327},{"$f":"K354","v":94.321202973762894},"d3",null,null,null,null,null,null,null,null,null,null,{"$f":"X308","v":5},{"$f":"Y308","v":71.580000000000013},"sf1",null,{"$f":"AI323","v":10.199999999999999},{"$f":"AJ323","v":59.8},"s'u5",null,{"$f":"X338","v":29.640039999999999},{"$f":"Y338","v":72.371202973762905},"sp33",null,{"$f":"J321","v":26.7666},{"$f":"K321","v":104.18}," پشت پهلوu2 ",null,null,null,null,null,null,null,null,null,null,{"$f":"AW308","v":15},{"$f":"AX308","v":66.580000000000013},"sf1",null,{"$f":"BH323","v":35},{"$f":"BI323","v":55.8},"s'u5",null,{"$f":"AW338","v":44.172439999999995},{"$f":"AX338","v":64.974704632477568},"sp33",null,"(47'→e22)",{"$f":"SQRT(POWER((BQ323),2)-POWER((BQ324),2))","v":12.719999999999985},null,null,{"$f":"BT310-1.5*BQ318*COS(BQ328)","v":-6.306469111540622},{"$f":"BU310-1.5*BQ318*SIN(BQ328)","v":71.580000000000013},"e217",null,{"$f":"BT322","v":-6.306469111540622},{"$f":"BU322","v":64.3},{"$f":"BV322","v":"e215"},null,{"$f":"CB310+0.6*(CB323-CB310)","v":16.306469111540622},{"$f":"CC310+0.4*(CC323-CC310)","v":71.580000000000013},"e24",null,{"$f":"CB335","v":16.306469111540622},{"$f":"CC335","v":64.3},{"$f":"CD335","v":"e215"},null,{"$f":"CJ310+0.6*(CJ323-CJ310)","v":18.896469111540618},{"$f":"CK310+0.4*(CK323-CK310)","v":71.580000000000013},"e24",null,null,null,null,null,null,null,null,null,"(47'→e22)",{"$f":"SQRT(POWER((CW323),2)-POWER((CW324),2))","v":12.719999999999985},null,null,{"$f":"CZ310-1.5*CW318*COS(CW328)","v":5},{"$f":"DA310-1.5*CW318*SIN(CW328)","v":71.580000000000013},"e217",null,{"$f":"CZ322","v":5},{"$f":"DA322","v":64.3},{"$f":"DB322","v":"e215"},null,"(e22→e21)",{"$f":"DI311*0.25*DI312+DH310-DH309","v":0},null,null,{"$f":"DL310+1.5*DI319*COS(DI329)","v":42.32244},{"$f":"DM310+1.5*DI319*SIN(DI329)","v":64.974704632477568},"e217",null,{"$f":"DL320","v":42.32244},{"$f":"DM320","v":59.3},{"$f":"DN320","v":"e213"},null,{"$f":"DT310+0.3*(DT324-DT310)","v":27.691600000000001},{"$f":"DU310+0.12*(DU324-DU310)","v":66.580000000000013},"e23",null,null,null,null,{"$f":"DT336","v":31.691600000000001},{"$f":"DU336","v":59.3},{"$f":"DV336","v":"e215"},null,{"$f":"EE309+EJ310","v":25.8416},{"$f":"EF309-EJ311","v":66.580000000000013},"e21",null,null,null,null,{"$f":"EE337","v":21.8416},{"$f":"EF337","v":59.3},{"$f":"EG337","v":"e215"},null,{"$f":"-CQ330-GK101","v":-8.8964691115406183},{"$f":"CR330","v":71.580000000000013},"e21",null,"به دست آوردن مختصات نقطه تقاطع دو خط با داشتن دونقطه از یک خط",null,null,null,null,null,null,{"$f":"EU372+EU376","v":5},{"$f":"EV372+EU377","v":120.2},"d3",null,null,null,"ساسون سرشانه",null,{"$f":"EU373+EU376+EU378","v":17.60146911154062},{"$f":"EV373+EU377","v":120.2},"شیفت بالاتنه 5",null,{"$f":"-FA326-FU306","v":5},{"$f":"FB326","v":95.7},"d4",null,null,null,"قرینه ساسون سرشانه",null,{"$f":"-FE327-FU306","v":-7.6014691115406201},{"$f":"FF327","v":120.2},"شیفت بالاتنه 5",null,"به دست آوردن مختصات نقطه تقاطع دو خط با داشتن دونقطه از یک خط",null,null,null,null,null,null,{"$f":"-GF320","v":-12.475508126549142},127.57194105245,"g7",null,"d5  b16",{"$f":"0.45*(GK318-GK323)+GK323","v":20.294969999999999},{"$f":"GL323+((GK325-GK323)/(GK309-GK323))*(GL309-GL323)+0.6*'متغیرها '!C358*(GK310-GK323)","v":117.29840230868756},null,"نقطه دوم از خط دوم",40,{"$f":"BO164","v":26.7666},{"$f":"BP164","v":113.45561085030904},null,"d6  b6",31.577587974062393,119.90146786317351,null,{"$f":"GT371","v":24.41328},{"$f":"GU371","v":111.07769989952921},"m9",null,{"$f":"GT370","v":24.41328},{"$f":"GU370","v":112.83700457224168},"m8",null,{"$f":"GT369","v":24.41328},{"$f":"GU369","v":115.79813097576023},"m7",null,{"$f":"GT368","v":24.41328},{"$f":"GU368","v":118.98171606805077},"m6",null,{"$f":"GT367","v":24.41328},{"$f":"GU367","v":121.33159840077614},"m5",null,"m5",{"$f":"GT367-HR320-HR341","v":9.4132800000000003},{"$f":"GU367-HR321","v":121.33159840077614},null,"نقطه دوم از خط دوم",40,{"$f":"HR317","v":11.7666},{"$f":"HS317","v":113.45561085030904},null,{"$f":"-HZ309","v":-16.182316412862924},{"$f":"IA309","v":131.13274812962362},"شیفتd6  b16",null,{"$f":"-ID309","v":-16.05824404842371},{"$f":"IE309","v":126.37618422672237},"شیفتd6  b12",null,{"$f":"-IH309","v":-17.213518350109045},{"$f":"II309","v":115.41318742293544},"شیفتd6  b10",null,null,null,null,null,{"$f":"HZ271","v":6.0430349492599333},{"$f":"IA271","v":111.01895434192765},"e32",null,{"$f":"-HZ271+HT270","v":3.9569650507400667},{"$f":"IA271","v":111.01895434192765},"e32"]
[null,null,null,null,null,null,{"$f":"G315","v":96},"f",{"$f":"G329*G327*0.01","v":7.68},"u2 u'2",{"$f":"ATAN((F322-F321)/(G321-G322))","v":0},"αu2",null,null,null,null,null,{"$f":"J340","v":16.647006148577656},{"$f":"K340","v":92.82},"جلو وسطd5",null,"اسم نقطه","محاسبات برای رسم نقطه","مولفه افقی","مولفه عمودی",null,{"$f":"-X314+2*X308","v":-22.608456378037729},{"$f":"Y314","v":100.5},"s'fp16",null,{"$f":"-X321+2*X308","v":-6.6470061485776561},{"$f":"Y321","v":92.82},"s'd5",null,null,null,null,null,{"$f":"X336","v":29.499104739873847},{"$f":"Y336","v":79.649838646226073},"sp31",null,{"$f":"J310","v":15},{"$f":"K310","v":91.7},"d1",null,"اسم نقطه","محاسبات برای رسم نقطه","مولفه افقی","مولفه عمودی",null,{"$f":"-AW314+2*AW308","v":-8.2724665221036702},{"$f":"AX314","v":96.5},"s'fp16",null,{"$f":"-AW321+2*AW308","v":2.8179614035087717},{"$f":"AX321","v":88.82},"s'd5",null,null,null,null,null,{"$f":"AW336","v":44.230711608621682},{"$f":"AX336","v":72.254471415804417},"sp31",null,"e01",{"$f":"IF(BQ314<1,BQ314*BQ316,BQ316+(BQ314-1)*(BQ317-BQ316))+BQ313","v":64.3},null,null,null,null,null,null,{"$f":"BT310","v":-6.306469111540622},{"$f":"BU310","v":71.580000000000013},{"$f":"BV310","v":"e21"},null,{"$f":"CB309+(CC309-CE342)*TAN(CE343)","v":16.306469111540622},{"$f":"CE342","v":64.3},"e25",null,{"$f":"CB323","v":16.306469111540622},{"$f":"CC323","v":71.580000000000013},{"$f":"CD323","v":"e21"},null,{"$f":"CJ309+(CK309-CO313)*TAN(CO314)","v":18.896469111540618},{"$f":"CO313","v":64.3},"e25",null,null,null,null,null,null,null,null,null,"e01",{"$f":"IF(CW314<1,CW314*CW316,CW316+(CW314-1)*(CW317-CW316))+CW313","v":64.3},null,null,null,null,null,null,{"$f":"CZ310","v":5},{"$f":"DA310","v":71.580000000000013},{"$f":"DB310","v":"e21"},null,null,"گوده",null,null,null,null,null,null,null,null,null,null,null,null,"گوده",null,null,null,null,{"$f":"DT324","v":27.691600000000001},{"$f":"DU324","v":66.580000000000013},{"$f":"DV324","v":"e21"},null,{"$f":"EE310+0.6*(EE325-EE310)","v":25.8416},{"$f":"EF310+0.4*(EF325-EF310)","v":66.580000000000013},"e24",null,null,null,null,{"$f":"EE325","v":25.8416},{"$f":"EF325","v":66.580000000000013},{"$f":"EG325","v":"e21"},null,null,null,null,null,"خط اول","نقطه اول","d3",{"$f":"EU372","v":0},{"$f":"EV372","v":115.2},null,null,null,null,null,null,{"$f":"EU373+EU376+EU378","v":17.60146911154062},{"$f":"EV373+EU377","v":120.2},"شیفت بالاتنه 5",null,{"$f":"EU373+EU376","v":17.60146911154062},{"$f":"EV373+EU377","v":120.2},{"$f":"ET373","v":" بالاتنه 5"},null,{"$f":"-FA328-FU306","v":5},{"$f":"FB328","v":95.7},"d4",null,{"$f":"-FE327-FU306","v":-7.6014691115406201},{"$f":"FF327","v":120.2},"شیفت بالاتنه 5",null,{"$f":"-FE329-FU306","v":-7.6014691115406201},{"$f":"FF329","v":120.2}," بالاتنه 5",null,"خط اول","نقطه اول","d3",{"$f":"GG355","v":0},{"$f":"GH355","v":115.2},null,null,{"$f":"-GF322","v":0},115.2,"d3",null,"d6  b16",{"$f":"0.6*(GK309-GK318)+GK318","v":32.0911018510876},{"$f":"GL323+((GK327-GK323)/(GK309-GK323))*(GL309-GL323)+0.5*'متغیرها '!C358*(GK310-GK323)","v":130.19925591807154},null,null,null,null,null,null,"شیفت d'ʻ4  b6",{"$f":"GP361+GT346","v":27.178369614556413},{"$f":"GQ361+GT347","v":117.21979965674134},null,null,null,"رگلاژ جدا",null,null,null,"رگلاژ جدا",null,null,null,"رگلاژ جدا",null,null,null,"رگلاژ جدا",null,null,null,"رگلاژ جدا",null,"m7",{"$f":"GT369-HR320-HR341","v":9.4132800000000003},{"$f":"GU369-HR321","v":115.79813097576023},null,null,null,null,null,null,{"$f":"-HZ311","v":-13.268995703553493},{"$f":"IA311","v":127.18974977224084},"شیفتd4  b16''",null,{"$f":"-ID311","v":-12.805391355470531},{"$f":"IE311","v":122.95171414266389},"شیفتd4  b12''",null,{"$f":"-IH311","v":{"$error":"#DIV/0!"}},{"$f":"II311","v":{"$error":"#DIV/0!"}},"شیفتd4  b10''"]
[null,null,null,null,null,"متغیرهای  ورودی",null,null,{"$f":"G330*G327*0.01","v":3.84},"u3 u'3",{"$f":"ATAN((F322-F323)/(G322-G323))","v":5.4040898374529633E-2},"αd2",null,null,null,null,null,{"$f":"J352","v":18.555932074503581},{"$f":"K352","v":92.82}," جلو پهلوd5",null,"sp11",null,{"$f":"X308","v":5},{"$f":"Y308+S332","v":78.860000000000028},null,{"$f":"-X322+2*X308","v":-20.869447407407399},{"$f":"Y322","v":90.9},"s'd3",null,{"$f":"-X310+2*X308","v":-6.306469111540622},{"$f":"Y310","v":84.3},"s'f11",null,{"$f":"AI326","v":2.7655571151937295},{"$f":"AJ326","v":62.680000000000007},"s'u6",null,null,null,null,null,{"$f":"J312","v":27.182038596491228},{"$f":"K312","v":88.82},"پشت وسطd2",null,"sp11",null,{"$f":"AW308","v":15},{"$f":"AX308+AR333","v":73.860000000000028},null,{"$f":"-AW322+2*AW308","v":-11.438452328117592},{"$f":"AX322","v":86.9},"s'd3",null,{"$f":"-AW310+2*AW308","v":2.3083999999999989},{"$f":"AX310","v":79.400000000000006},"s'f11",null,{"$f":"BH326","v":23.2334},{"$f":"BI326","v":58.680000000000007},"s'u6",null,null,null,null,null,"e210",{"$f":"ATAN((BT310-BP309)/(BQ309-BU310))","v":0},null,null,null,null,null,null,{"$f":"BT326","v":-6.306469111540622},{"$f":"BU326","v":71.580000000000013},{"$f":"BV326","v":"e216"},null,{"$f":"CB327+CE344","v":16.306469111540622},{"$f":"CC327-CE346","v":57.019999999999982},"e26",null,{"$f":"CB339","v":16.306469111540622},{"$f":"CC339","v":71.580000000000013},{"$f":"CD339","v":"e216"},null,{"$f":"CJ327-CO315","v":18.896469111540618},{"$f":"CK327-CO317","v":57.019999999999982},"e26",null,null,null,null,null,null,"ترک گشاد",null,null,"e210",{"$f":"ATAN((CZ310-CV309)/(CW309-DA310))","v":0},null,null,null,null,null,null,{"$f":"CZ326","v":5},{"$f":"DA326","v":71.580000000000013},{"$f":"DB326","v":"e216"},null,"e01",{"$f":"IF(DI315<1,DI315*DI317,DI317+(DI315-1)*(DI318-DI317))+DI313+DI314","v":59.3},null,null,null,null,null,null,{"$f":"DL321","v":42.32244},{"$f":"DM321","v":59.3},{"$f":"DN321","v":"e214"},null,{"$f":"DT309+(DU309-DY313)*TAN(DY314)","v":27.691600000000001},{"$f":"DY313","v":59.3},"e25",null,null,null,null,{"$f":"DT340","v":31.691600000000001},{"$f":"DU340","v":66.580000000000013},{"$f":"DV340","v":"e216"},null,null,null,"گوده",null,null,null,null,{"$f":"EE341","v":21.8416},{"$f":"EF341","v":66.580000000000013},{"$f":"EG341","v":"e216"},null,"36'",null,null,null,null,"نقطه دوم",{"$f":"ET324","v":"b12"},{"$f":"EU324","v":19.340417771240173},{"$f":"EV324","v":133.03027214395152},null,null,{"$f":"FA326","v":5},{"$f":"FB326","v":95.7},"d4",null,null,null,null,null,{"$f":"FI311","v":17.524258209339543},{"$f":"FJ311","v":127.78368736718652},{"$f":"FG311","v":"g7"},null,{"$f":"-FA329-FU306","v":6.6799400000000002},{"$f":"FB329","v":95.7},"26''",null,null,null,null,null,{"$f":"FU311","v":-7.5242582093395427},{"$f":"FV311","v":127.78368736718652},"g7",null,null,"نقطه دوم",{"$f":"FY324","v":"b12"},{"$f":"FZ324","v":19.340417771240173},{"$f":"GA324","v":133.03027214395152},null,null,null,null,null,null,"d4  b12",{"$f":"0.8*(GK318-GK323)+GK323","v":24.41328},{"$f":"GL323+((GK328-GK323)/(GK310-GK323))*(GL310-GL323)+0.8*'متغیرها '!C358*(GK310-GK323)","v":118.98171606805077},null,null,"به دست آوردن نقطه تقاطع دو خط (d''4b10)","مولفه افقی","مولفه عمودی",null,"d4  b10",{"$f":"GK336","v":24.41328},112.83700457224168,null,{"$f":"GT371+GT359","v":54.41328},{"$f":"GU371","v":111.07769989952921}," جدا m9",null,{"$f":"GT370+GT359","v":54.41328},{"$f":"GU370","v":112.83700457224168}," جدا m8",null,{"$f":"GT369+GT359","v":54.41328},{"$f":"GU369","v":115.79813097576023}," جدا m7",null,{"$f":"GT368+GT359","v":54.41328},{"$f":"GU368","v":118.98171606805077}," جدا m6",null,{"$f":"GT367+GT359","v":54.41328},{"$f":"GU367","v":121.33159840077614}," جدا m5",null,"m8",{"$f":"GT370-HR320-HR341","v":9.4132800000000003},{"$f":"GU370-HR321","v":112.83700457224168},null,null,"به دست آوردن نقطه تقاطع دو خط (d''4b12)","مولفه افقی","مولفه عمودی",null,null,null,null,null,null,null,null,null,null,null,null,null,null,null,null,null,{"$f":"HZ272","v":29.770820136600474},{"$f":"IA272","v":111.01895434192765},"e33",null,{"$f":"-HZ272+HT270","v":-19.770820136600474},{"$f":"IA272","v":111.01895434192765},"e33"]
[null,null,null,null,null,"d20",{"$f":"'متغیرها '!C347","v":8},null,null,null,null,null,null,null,null,null,null,"نصف عرض پیلی3",{"$f":"'متغیرها '!C139*0.5","v":0},"0.5*e319",null,"sp21",{"$f":"ATAN((X312-X310)/(Y310-Y312))","v":0},{"$f":"X312-S332*SIN(W331)","v":16.306469111540622},{"$f":"Y312+S332*COS(W331)","v":78.860000000000028},null,{"$f":"X318","v":5},{"$f":"Y318","v":95.7},"sd4",null,{"$f":"X315","v":29.409064280436905},{"$f":"Y315","v":84.3},"sfp13",null,{"$f":"X322+'متغیرها '!C337","v":40.869447407407399},{"$f":"Y322-'متغیرها '!U56+'متغیرها '!C336","v":45.400000000000006},"sd3",null,{"$f":"-X336+2*X308","v":-19.499104739873847},{"$f":"Y336","v":79.649838646226073},"s'p31",null,"نصف عرض پیلی5",{"$f":"'متغیرها '!C141*0.5","v":1},"0.5*e519",null,"sp21",{"$f":"ATAN((AW312-AW310)/(AX310-AX312))","v":0},{"$f":"AW312-AR333*SIN(AV331)","v":27.691600000000001},{"$f":"AX312+AR333*COS(AV331)","v":73.860000000000028},null,{"$f":"AW318","v":15},{"$f":"AX318","v":91.7},"sd4",null,{"$f":"AW315","v":44.287908694386431},{"$f":"AX315","v":79.400000000000006},"sfp13",null,{"$f":"AW322+'متغیرها '!C349","v":61.438452328117592},{"$f":"AX322-'متغیرها '!U56+'متغیرها '!C348","v":41.400000000000006},"sd3",null,{"$f":"-AW336+2*AW308","v":-14.230711608621682},{"$f":"AX336","v":72.254471415804417},"s'p31",null,"(e25→e29)",{"$f":"SQRT(POWER((BQ330),2)-POWER((BQ329),2))","v":7.2800000000000153},null,null,null,null,null,null,{"$f":"BT323","v":-6.306469111540622},{"$f":"BU323","v":71.580000000000013},{"$f":"BV323","v":"e220"},null,null,null,"پیلی",null,{"$f":"CB336","v":16.306469111540622},{"$f":"CC336","v":71.580000000000013},{"$f":"CD336","v":"e220"},null,null,null,null,null,null,null,null,null,null,null,null,null,"(e25→e29)",{"$f":"SQRT(POWER((CW330),2)-POWER((CW329),2))","v":7.2800000000000153},null,null,null,null,null,null,{"$f":"CZ323","v":5},{"$f":"DA323","v":71.580000000000013},{"$f":"DB323","v":"e220"},null,"(e25→e21)",{"$f":"SQRT(POWER((DM314-DM310),2)+POWER((DL314-DL310),2))","v":5.674704632477571},null,null,null,null,null,null,{"$f":"DL322","v":42.32244},{"$f":"DM322","v":59.3},{"$f":"DN322","v":"e215"},null,{"$f":"DT324+0.7*(DT329-DT324)","v":27.691600000000001},{"$f":"DU324+0.5*(DU329-DU324)","v":59.3},"e28",null,null,null,null,{"$f":"DT337","v":28.691600000000001},{"$f":"DU337","v":66.580000000000013},{"$f":"DV337","v":"e220"},null,{"$f":"EE325+0.3*(EE330-EE325)","v":25.8416},{"$f":"EF325+0.12*(EF330-EF325)","v":64.832800000000006},"e27",null,null,null,null,{"$f":"EE338","v":24.8416},{"$f":"EF338","v":66.580000000000013},{"$f":"EG338","v":"e220"},null,{"$f":"-CF309-GK101","v":-6.306469111540622},{"$f":"CG309","v":71.580000000000013},"e21",null,null,"نقطه تقاطع","g1",{"$f":"(EX329-EX327+EW327*((EX328-EX327)/(EW328-EW327))-EW329*((EX330-EX329)/(EW330-EW329)))/(((EX328-EX327)/(EW328-EW327))-((EX330-EX329)/(EW330-EW329)))","v":13.392994443755272},{"$f":"EX327+(EW331-EW327)*((EX328-EX327)/(EW328-EW327))","v":127.54723771632749},null,null,{"$f":"CR183","v":3.3200600000000002},{"$f":"CS183","v":95.7},"26''",null,null,null,null,null,{"$f":"AZ161+BT130","v":17.60146911154062},{"$f":"BA161","v":118.23},"شیفت 43",null,{"$f":"-FA332-FU306","v":6.6799400000000002},{"$f":"FB332","v":120.2},"d3'",null,null,null,null,null,{"$f":"-FE333-FU306","v":-7.6014691115406201},{"$f":"FF333","v":118.23},"شیفت 43",null,null,"نقطه تقاطع","g1",{"$f":"(GC329-GC327+GB327*((GC328-GC327)/(GB328-GB327))-GB329*((GC330-GC329)/(GB330-GB329)))/(((GC328-GC327)/(GB328-GB327))-((GC330-GC329)/(GB330-GB329)))","v":13.392994443755272},{"$f":"GC327+(GB331-GB327)*((GC328-GC327)/(GB328-GB327))","v":127.54723771632749},null,null,{"$f":"GC351","v":12.524258209339541},{"$f":"GD351","v":122.78368736718652},"g7",null,"d6  b12",{"$f":"0.6*(GK310-GK318)+GK318","v":31.73151166996071},{"$f":"GL323+((GK331-GK323)/(GK310-GK323))*(GL310-GL323)+0.5*'متغیرها '!C358*(GK310-GK323)","v":125.63533139248892},null,"نقطه اول از خط دوم"," یا  22",{"$f":"IF(GQ329>GQ332,GK317,GK315)","v":26.7666},{"$f":"IF(GQ329>GQ332,GL317,GL315)","v":96.5},null,"d6  b10",32.352263718090846,114.82166393463736,null,{"$f":"GW329","v":54.41328},{"$f":"GX329","v":96.5},"جدا m10",null,{"$f":"HA329","v":54.41328},{"$f":"HB329","v":96.5},"جدا m10",null,{"$f":"HE329","v":54.41328},{"$f":"HF329","v":96.5},"جدا m10",null,{"$f":"HI329","v":54.41328},{"$f":"HJ329","v":96.5},"جدا m10",null,{"$f":"HM329","v":54.41328},{"$f":"HN329","v":96.5},"جدا m10",null,"m11",{"$f":"GT373-HR320","v":0},{"$f":"GU373-HR321","v":81.719763705982047},null,"نقطه اول از خط دوم"," یا  22",{"$f":"IF(HX329>HX332,HR316,HR314)","v":13.676935650976734},{"$f":"IF(HX329>HX332,HS316,HS314)","v":130.9189297056397},null,{"$f":"-HZ315","v":-5.2949700000000002},{"$f":"IA315","v":117.97297346591355},"d5  b16",null,{"$f":"-ID315","v":-5.2949700000000002},{"$f":"IE315","v":116.45330556132738},"d5  b12",null,{"$f":"-IH315","v":-5.2949700000000002},{"$f":"II315","v":112.75965446872809},"d5  b10",null,null,null,null,null,{"$f":"HZ273","v":29.553708174706347},117.28431020428536,"e34",null,{"$f":"-HZ273+HT270","v":-19.553708174706347},{"$f":"IA273","v":117.28431020428536},"e34"]
[null,null,null,null,null,"d30",{"$f":"'متغیرها '!C341","v":10},null,null,null,null,null,null,null,null,null,null,"طول پیلی",{"$f":"CE345","v":7.2800000000000153},"(e25→e21)",null,"sp22",null,{"$f":"X331+S330*COS(W331)","v":16.306469111540622},{"$f":"Y331+S330*SIN(W331)","v":78.860000000000028},null,null,null,null,null,{"$f":"X310","v":16.306469111540622},{"$f":"Y310","v":84.3},"sf11",null,{"$f":"X321+'متغیرها '!C337","v":26.647006148577656},{"$f":"Y321-'متغیرها '!U56+'متغیرها '!C336","v":47.319999999999993},"sd5",null,null,null,null,null,"نصف عرض پیلی3",{"$f":"'متغیرها '!C139*0.5","v":0},"0.5*e319",null,"sp22",null,{"$f":"AW331+AR331*COS(AV331)","v":28.691600000000001},{"$f":"AX331+AR331*SIN(AV331)","v":73.860000000000028},null,null,null,null,null,{"$f":"AW310","v":27.691600000000001},{"$f":"AX310","v":79.400000000000006},"sf11",null,{"$f":"AW321+'متغیرها '!C349","v":47.182038596491225},{"$f":"AX321-'متغیرها '!U56+'متغیرها '!C348","v":43.319999999999993},"sd5",null,null,null,null,null,null,null,null,null,null,null,null,null,null,null,null,null,{"$f":"CB327+0.5*CC318*COS(CE343)","v":16.306469111540622},{"$f":"CC327+0.5*CC318*SIN(CE343)","v":64.3},"e212",null,null,null,null,null,null,null,null,null,null,null,null,null,null,null,null,null,null,null,null,null,null,null,null,null,null,null,null,null,"(e25→e29)",{"$f":"SQRT(POWER((DI331),2)-POWER((DI330),2))","v":5.674704632477571},null,null,null,null,null,null,{"$f":"DL326","v":42.32244},{"$f":"DM326","v":64.974704632477568},{"$f":"DN326","v":"e216"},null,null,null,"پیلی",null,null,null,null,null,null,null,null,{"$f":"EE325+0.7*(EE330-EE325)","v":25.8416},{"$f":"EF325+0.5*(EF330-EF325)","v":59.3},"e28",null,null,null,null,null,null,null,null,null,null,null,null,"متغیرهای محاسبه ای",null,null,"اسم نقطه","مولفه افقی","مولفه عمودی",null,{"$f":"FA316","v":3.3200600000000002},{"$f":"FB316","v":120.2},"d3'",null,{"$f":"BS104+BT130","v":17.60146911154062},{"$f":"BT104","v":120.2},"شیفت 5 بالاتنه",null,null,null,null,null,null,null,null,null,{"$f":"-FE332-FU306","v":-7.6014691115406201},{"$f":"FF332","v":120.2},"شیفت 5 بالاتنه",null,null,null,null,null,"متغیرهای محاسبه ای",null,null,"اسم نقطه","مولفه افقی","مولفه عمودی",null,{"$f":"GC352","v":6.2621291046697705},{"$f":"GD352","v":118.99184368359326},"g8",null,"d4  b6",{"$f":"0.8*(GK318-GK323)+GK323","v":24.41328},{"$f":"GL323+((GK332-GK323)/(GK311-GK323))*(GL311-GL323)+0.8*'متغیرها '!C358*(GK310-GK323)","v":115.79813097576023},null,"نقطه دوم از خط دوم",40,{"$f":"BO164","v":26.7666},{"$f":"BP164","v":113.45561085030904},null,"d'ʻ4  b10",{"$f":"GP333","v":{"$error":"#DIV/0!"}},{"$f":"GQ333","v":{"$error":"#DIV/0!"}},null,{"$f":"GW334","v":45},{"$f":"GX334","v":81.719763705982047},"جدا m11",null,{"$f":"HA334","v":45},{"$f":"HB334","v":81.719763705982047},"جدا m11",null,{"$f":"HE334","v":45},{"$f":"HF334","v":81.719763705982047},"جدا m11",null,{"$f":"HI334","v":45},{"$f":"HJ334","v":81.719763705982047},"جدا m11",null,{"$f":"HM334","v":45},{"$f":"HN334","v":81.719763705982047},"جدا m11",null,null,null,null,null,"نقطه دوم از خط دوم",40,{"$f":"HR317","v":11.7666},{"$f":"HS317","v":113.45561085030904},null,{"$f":"-HZ316","v":0},{"$f":"IA316","v":112.8},"d3",null,{"$f":"-ID316","v":0},{"$f":"IE316","v":112.8},"d3",null,{"$f":"-IH316","v":0},{"$f":"II316","v":112.8},"d3",null,null,null,null,null,20.845359571264645,112.86920597999028,"e35",null,{"$f":"-HZ274+HT270","v":-10.845359571264645},{"$f":"IA274","v":112.86920597999028},"e35"]
[null,null,null,null,null,"کمر پهن در جلو ",null,null,null,null,null,null,null,null,null,null,null,null,null,null,null,"sp23",null,{"$f":"X312+S330*COS(W331)","v":16.306469111540622},{"$f":"Y312+S330*SIN(W331)","v":71.580000000000013},null,{"$f":"X322","v":30.869447407407399},{"$f":"Y322","v":90.9},"sd3",null,{"$f":"-X310+2*X308","v":-6.306469111540622},{"$f":"Y310","v":84.3},"s'f11",null,{"$f":"AI332","v":26.647006148577656},{"$f":"AJ332","v":47.319999999999993},"sd5",null,null,null,null,null,null,null,null,null,"sp23",null,{"$f":"AW312+AR331*COS(AV331)","v":28.691600000000001},{"$f":"AX312+AR331*SIN(AV331)","v":66.580000000000013},null,{"$f":"AW322","v":41.438452328117592},{"$f":"AX322","v":86.9},"sd3",null,{"$f":"-AW310+2*AW308","v":2.3083999999999989},{"$f":"AX310","v":79.400000000000006},"s'f11",null,{"$f":"BH332","v":47.182038596491225},{"$f":"BI332","v":43.319999999999993},"sd5",null,null,null,null,null,null,null,null,"ضریب بزرگ شدن اوزمان در خط مرکزی جلو دامن e10 ","(از -0.2 الی 1)",0,"بهینه=0",null,{"$f":"BT324","v":-6.306469111540622},{"$f":"BU324","v":71.580000000000013},{"$f":"BV324","v":"e218"},null,{"$f":"CB327+1.5*CC318*COS(CE343)","v":16.306469111540622},{"$f":"CC327+1.5*CC318*SIN(CE343)","v":64.3},"e214",null,{"$f":"CB337","v":16.306469111540622},{"$f":"CC337","v":71.580000000000013},{"$f":"CD337","v":"e218"},null,"نقاط  ورودی",null,null,null,"نقاط  خروجی",null,null,null,"رسم",null,"اوز مان",null,null,null,null,null,null,null,null,null,{"$f":"CZ324","v":5},{"$f":"DA324","v":71.580000000000013},{"$f":"DB324","v":"e218"},null,null,null,null,null,null,null,null,null,{"$f":"IF(DI321=1,DH320,DL310)","v":42.32244},{"$f":"IF(DI321=1,DI320,DM310)","v":64.974704632477568},{"$f":"IF(DI321=1,DJ320,DN310)","v":"e21"},null,{"$f":"DT328+1*DU318*COS(DY314)","v":29.691600000000001},{"$f":"DU328+1*DU318*SIN(DY314)","v":59.3},"e213",null,null,null,null,{"$f":"DT338","v":29.691600000000001},{"$f":"DU338","v":66.580000000000013},{"$f":"DV338","v":"e218"},null,{"$f":"EE329-0.5*EF319*COS(EJ314)","v":24.8416},{"$f":"EF329-0.5*EF319*SIN(EJ314)","v":59.3},"e212",null,null,null,null,{"$f":"EE339","v":23.8416},{"$f":"EF339","v":66.580000000000013},{"$f":"EG339","v":"e218"},null,{"$f":"-CF312-GK101","v":-6.306469111540622},{"$f":"CG312","v":71.580000000000013},"e24",null,"(5→ g5)",{"$f":"SQRT(POWER((EX333-EU373),2)+POWER((EY333-EV373),2))","v":12.372582251698207},null,"g6",{"$f":"EU373+EU334*SIN(EU335)","v":14.304337175123194},{"$f":"EV373+EU334*COS(EU335)","v":127.4548370830896},null,{"$f":"FA332","v":3.3200600000000002},{"$f":"FB332","v":120.2},"d3'",null,null,null,null,null,{"$f":"BS104","v":17.60146911154062},{"$f":"BT104","v":120.2}," 5 بالاتنه",null,{"$f":"-FA335-FU306","v":5},{"$f":"FB335","v":120.2},"d3",null,null,null,null,null,{"$f":"-FE336-FU306","v":-7.6014691115406201},{"$f":"FF336","v":120.2}," 5 بالاتنه",null,"(5→ g5)",{"$f":"SQRT(POWER((GC333-GG356),2)+POWER((GD333-GH356),2))","v":12.372582251698207},null,"g6",{"$f":"GG356+FZ334*SIN(FZ335)","v":14.304337175123194},{"$f":"GH356+FZ334*COS(FZ335)","v":127.4548370830896},null,null,null,"قرینه",null,"d4  b6ʻ",{"$f":"0.2*(GK311-GK318)+GK318","v":28.370262658020799},{"$f":"GL323+((GK334-GK323)/(GK311-GK323))*(GL311-GL323)+0.75*'متغیرها '!C358*(GK310-GK323)","v":117.83261054071858},null,null,null,null,null,null,"d4  b14",{"$f":"GK340","v":24.41328},111.07769989952921,null,{"$f":"GT373+GT359","v":45},{"$f":"GU373","v":81.719763705982047},"جدا m11",null,{"$f":"GT373+GT359","v":45},{"$f":"GU373","v":81.719763705982047},"جدا m11",null,{"$f":"GT373+GT359","v":45},{"$f":"GU373","v":81.719763705982047},"جدا m11",null,{"$f":"GT373+GT359","v":45},{"$f":"GU373","v":81.719763705982047},"جدا m11",null,{"$f":"GT373+GT359","v":45},{"$f":"GU373","v":81.719763705982047},"جدا m11",null,"m'10",{"$f":"HR330-HR318","v":9.4132800000000003},{"$f":"HS330","v":96.5},null,null,null,null,null,null,{"$f":"-HR325","v":-9.4132800000000003},{"$f":"HS325","v":121.33159840077614},"m5",null,{"$f":"-HR326","v":-9.4132800000000003},{"$f":"HS326","v":118.98171606805077},"m6",null,{"$f":"-HR328","v":-9.4132800000000003},{"$f":"HS328","v":112.83700457224168},"m8",null,null,null,null,null,12.676440231385996,114.27457283796751,"e37",null,{"$f":"-HZ276+HT270","v":-2.6764402313859961},{"$f":"IA276","v":114.27457283796751},"e37"]
[null,null,null,null,null,"نقاط  ورودی",null,null,"تکه جلو وسط","نقاط  خروجی",null,null,null,"رسم",null,null,null,null,null,null,null,"sp24",null,{"$f":"X312-S330*COS(W331)","v":16.306469111540622},{"$f":"Y312-S330*SIN(W331)","v":71.580000000000013},null,null,null,null,null,{"$f":"-X315+2*X308","v":-19.409064280436905},{"$f":"Y315","v":84.3},"s'fp13",null,{"$f":"X318+'متغیرها '!C337","v":15},{"$f":"Y318-'متغیرها '!U56+'متغیرها '!C336","v":50.2},"sd4",null,null,null,null,null,null,null,null,null,"sp24",null,{"$f":"AW312-AR331*COS(AV331)","v":26.691600000000001},{"$f":"AX312-AR331*SIN(AV331)","v":66.580000000000013},null,null,null,null,null,{"$f":"-AW315+2*AW308","v":-14.287908694386431},{"$f":"AX315","v":79.400000000000006},"s'fp13",null,{"$f":"AW318+'متغیرها '!C349","v":35},{"$f":"AX318-'متغیرها '!U56+'متغیرها '!C348","v":46.2},"sd4",null,null,null,null,null,null,null,null,null,null,null,null,null,null,null,null,null,{"$f":"CB327+2*CC318*COS(CE343)","v":16.306469111540622},{"$f":"CC327+2*CC318*SIN(CE343)","v":64.3},"e215",null,null,null,null,null,"مولفه افقی","مولفه عمودی","اسم نقطه ",null,"مولفه افقی","مولفه عمودی","اسم نقطه ",null,{"$f":"CJ336","v":-8.8964691115406183},{"$f":"CK336","v":84.3},{"$f":"CL336","v":"47''"},null,null,null,null,null,null,null,null,null,null,null,null,null,null,null,null,null,null,null,null,null,{"$f":"DL310","v":42.32244},{"$f":"DM310","v":64.974704632477568},{"$f":"DN310","v":"e21"},null,{"$f":"DT328+1.5*DU318*COS(DY314)","v":30.691600000000001},{"$f":"DU328+1.5*DU318*SIN(DY314)","v":59.3},"e214",null,null,null,null,null,null,null,null,{"$f":"EE329-1*EF319*COS(EJ314)","v":23.8416},{"$f":"EF329-1*EF319*SIN(EJ314)","v":59.3},"e213",null,null,null,null,null,null,null,null,{"$f":"-CF313-GK101","v":-6.306469111540622},{"$f":"CG313","v":71.580000000000013},"e23",null,"g10",{"$f":"ATAN((EU375-EU373)/(EV375-EV373))","v":0.13807065700945106},null,"g7",{"$f":"EU373-EU334*SIN(EU336)","v":12.475508126549142},{"$f":"EV373+EU334*COS(EU336)","v":127.57194105245},null,{"$f":"FA325","v":5},{"$f":"FB325","v":120.2},"d3",null,{"$f":"AZ161","v":17.60146911154062},{"$f":"BA161","v":118.23},43,null,null,null,null,null,null,null,null,null,{"$f":"-FE335-FU306","v":-7.6014691115406201},{"$f":"FF335","v":118.23},43,null,null,null,null,null,"g10",{"$f":"ATAN((GG358-GG356)/(GH358-GH356))","v":0.13807065700945106},null,"g7",{"$f":"GG356-FZ334*SIN(FZ336)","v":12.475508126549142},{"$f":"GH356+FZ334*COS(FZ336)","v":127.57194105245},null,{"$f":"-GF330","v":-16.792593720465696},{"$f":"GG330","v":127.10743514081653},"b6",null,"d6  b6",{"$f":"0.6*(GK311-GK318)+GK318","v":31.577587974062393},{"$f":"GL323+((GK335-GK323)/(GK311-GK323))*(GL311-GL323)+0.5*'متغیرها '!C358*(GK310-GK323)","v":119.90146786317351},null,null,"به دست آوردن نقطه تقاطع دو خط (d''4b14)","مولفه افقی","مولفه عمودی",null,"d5  b14",20.294969999999999,111.53058440173616,null,{"$f":"GT374+GT359","v":48.359880000000004},{"$f":"GU374","v":81.719763705982047},"جدا m12",null,{"$f":"GT374+GT359","v":48.359880000000004},{"$f":"GU374","v":81.719763705982047},"جدا m12",null,{"$f":"GT374+GT359","v":48.359880000000004},{"$f":"GU374","v":81.719763705982047},"جدا m12",null,{"$f":"GT374+GT359","v":48.359880000000004},{"$f":"GU374","v":81.719763705982047},"جدا m12",null,{"$f":"GT374+GT359","v":48.359880000000004},{"$f":"GU374","v":81.719763705982047},"جدا m12",null,"m'11",{"$f":"HR319","v":0},{"$f":"HS331","v":81.719763705982047},null,null,"به دست آوردن نقطه تقاطع دو خط (d''4b6)","مولفه افقی","مولفه عمودی",null,{"$f":"-HR334","v":-9.4132800000000003},{"$f":"HS334","v":96.5},"m'10",null,{"$f":"-HR334","v":-9.4132800000000003},{"$f":"HS334","v":96.5},"m'10",null,{"$f":"-HR334","v":-9.4132800000000003},{"$f":"HS334","v":96.5},"m'10",null,null,null,null,null,9.4682935712700278,116.74746590195255,"e38",null,{"$f":"-HZ277+HT270","v":0.5317064287299722},{"$f":"IA277","v":116.74746590195255},"e38"]
[null,null,null,null,null,{"$f":"AZ165","v":5},{"$f":"BA165","v":100.5},38,null,{"$f":"F338-I348*TAN(K345)","v":5},{"$f":"G338-I348","v":95.7},"d4",null,{"$f":"J341","v":9.8000000000000007},{"$f":"K341","v":105.3},{"$f":"L341","v":"u5"},null,null,null,null,null,"sp33",null,{"$f":"X316-S331*COS(W336)","v":29.640039999999999},{"$f":"Y316-S331*SIN(W336)","v":72.371202973762905},null,null,null,null,null,null,null,null,null,{"$f":"-X321+'متغیرها '!C337+2*X308","v":3.3529938514223439},{"$f":"Y321-'متغیرها '!U56+'متغیرها '!C336","v":47.319999999999993},"s'd5",null,null,null,null,null,null,null,null,null,"sp33",null,{"$f":"AW316-AR332*COS(AV336)","v":44.172439999999995},{"$f":"AX316-AR332*SIN(AV336)","v":64.974704632477568},null,null,null,null,null,null,null,null,null,{"$f":"-AW321+'متغیرها '!C349+2*AW308","v":22.817961403508772},{"$f":"AX321-'متغیرها '!U56+'متغیرها '!C348","v":43.319999999999993},"s'd5",null,null,null,null,null,null,null,null,null,null,null,null,null,null,null,null,null,{"$f":"CB323+1.5*CC318*COS(CE343)","v":16.306469111540622},{"$f":"CC323+1.5*CC318*SIN(CE343)","v":71.580000000000013},"e217",null,null,null,null,null,null,0,"e20",null,{"$f":"CJ337+0.3*(CN337-CJ337)","v":-8.8964691115406183},{"$f":"CK337+0.12*(CO337-CK337)","v":71.580000000000013},"e23",null,{"$f":"CN337","v":-8.8964691115406183},{"$f":"CO337","v":71.580000000000013},{"$f":"CP337","v":"e21"},null,null,null,null,null,null,null,null,null,null,null,null,null,null,null,null,null,null,null,null,null,null,null,null,null,{"$f":"DT324+1*DU318*COS(DY314)","v":29.691600000000001},{"$f":"DU324+1*DU318*SIN(DY314)","v":66.580000000000013},"e218",null,null,null,null,null,null,null,null,{"$f":"EE325-0.5*EF319*COS(EJ314)","v":24.8416},{"$f":"EF325-0.5*EF319*SIN(EJ314)","v":66.580000000000013},"e220",null,null,null,null,null,null,null,null,{"$f":"-CF316-GK101","v":-6.306469111540622},{"$f":"CG316","v":64.3},"e25",null,null,"نقطه اتصال به آستین",null,null,null,null,null,null,null,null,null,null,null,null,null,"رسم دکلته بنفش و آستین",null,"بنفش",null,null,null,null,null,null,null,null,null,null,null,null,null,null,"نقطه اتصال به آستین",null,null,null,null,null,{"$f":"-GF333","v":0},115.2,"d3",null,"d4  b10ʻ",{"$f":"0.2*(GK312-GK318)+GK318","v":28.628487906030283},{"$f":"GL323+((GK338-GK323)/(GK312-GK323))*(GL312-GL323)+0.75*'متغیرها '!C358*(GK310-GK323)","v":113.67173722827441},null,"نقطه اول از خط دوم"," یا  22",{"$f":"IF(GQ336>GQ339,GK317,GK315)","v":26.7666},{"$f":"IF(GQ336>GQ339,GL317,GL315)","v":96.5},null,"d'ʻ4  b14",{"$f":"GP340","v":{"$error":"#DIV/0!"}},{"$f":"GQ340","v":{"$error":"#DIV/0!"}},null,{"$f":"GW340","v":57.773160000000004},{"$f":"GX340","v":96.5},"جدا m13",null,{"$f":"HA340","v":57.773160000000004},{"$f":"HB340","v":96.5},"جدا m13",null,{"$f":"HE340","v":57.773160000000004},{"$f":"HF340","v":96.5},"جدا m13",null,{"$f":"HI340","v":57.773160000000004},{"$f":"HJ340","v":96.5},"جدا m13",null,{"$f":"HM340","v":57.773160000000004},{"$f":"HN340","v":96.5},"جدا m13",null,null,null,null,null,"نقطه اول از خط دوم"," یا  22",{"$f":"IF(HX336>HX339,HR316,HR314)","v":13.676935650976734},{"$f":"IF(HX336>HX339,HS316,HS314)","v":130.9189297056397},null,{"$f":"HR335","v":0},{"$f":"HS335","v":81.719763705982047},"m'11",null,{"$f":"-HR335","v":0},{"$f":"HS335","v":81.719763705982047},"m'11",null,{"$f":"HR335","v":0},{"$f":"HS335","v":81.719763705982047},"m'11"]
[null,null,null,null,null,{"$f":"AZ163","v":5},{"$f":"BA163","v":84.3},46,null,{"$f":"F341+ABS(I347)*TAN(IF(I347>0,K346,K347))","v":17.234442884806271},{"$f":"G341+I347","v":108.18},"u6",null,null,null,null,null,null,null,null,null,null,null,null,null,null,null,null,null,null,null,null,null,null,null,null,null,null,null,null,null,null,"شبیه ساز پشت دامن تنگ کل نما",null,null,"رسم الگو شبیه ساز پشت دامن تنگ با نمای کل",null,null,null,null,null,null,null,null,null,null,null,null,null,null,null,null,null,null,null,null,null,null,null,null,null,null,null,null,null,{"$f":"BT322","v":-6.306469111540622},{"$f":"BU322","v":64.3},{"$f":"BV322","v":"e215"},null,{"$f":"CB323+2*CC318*COS(CE343)","v":16.306469111540622},{"$f":"CC323+2*CC318*SIN(CE343)","v":71.580000000000013},"e216",null,{"$f":"CB335","v":16.306469111540622},{"$f":"CC335","v":64.3},{"$f":"CD335","v":"e215"},null,null,{"$f":"'متغیرها '!U54-'متغیرها '!U55","v":51.4},"(c-d)",null,{"$f":"CJ337+0.6*(CN337-CJ337)","v":-8.8964691115406183},{"$f":"CK337+0.4*(CO337-CK337)","v":71.580000000000013},"e24",null,{"$f":"CN339","v":-8.8964691115406183},{"$f":"CO339","v":71.580000000000013},{"$f":"CP339","v":"e24"},null,null,null,null,null,null,null,null,null,{"$f":"CZ322","v":5},{"$f":"DA322","v":64.3},{"$f":"DB322","v":"e215"},null," گوده و پیلی و ترک گشاد در خط مرکزی پشت دامن - 4",null,null,null,null,null,null,null,null,null,null,null,{"$f":"DT324+1.5*DU318*COS(DY314)","v":30.691600000000001},{"$f":"DU324+1.5*DU318*SIN(DY314)","v":66.580000000000013},"e217",null,null,null,null,{"$f":"DT336","v":31.691600000000001},{"$f":"DU336","v":59.3},{"$f":"DV336","v":"e215"},null,{"$f":"EE325-1*EF319*COS(EJ314)","v":23.8416},{"$f":"EF325-1*EF319*SIN(EJ314)","v":66.580000000000013},"e218",null,null,null,null,{"$f":"EE337","v":21.8416},{"$f":"EF337","v":59.3},{"$f":"EG337","v":"e215"},null,{"$f":"-CF317-GK101","v":-6.306469111540622},{"$f":"CG317","v":57.019999999999982},"e26",null,"اسم نقطه","مولفه افقی","مولفه عمودی",null,"سبز",null,null,null,null,null,null,"رسم دکلته آبی و آستین",null,"آبی",null,{"$f":"EU308+EU376+EU378","v":28.654272756814162},{"$f":"EV308+EU377","v":128.00364177662831},{"$f":"ET308","v":"b10"},null,null,null,null,null,"قرینه دکلته آبی و آستین",null,"آبی",null,"قرینه دکلته بنفش و آستین",null,"بنفش",null,"اسم نقطه","مولفه افقی","مولفه عمودی",null,"سبز طراحی",null,null,null,null,null,null,"d6  b10",{"$f":"0.6*(GK312-GK318)+GK318","v":32.352263718090846},{"$f":"GL323+((GK339-GK323)/(GK312-GK323))*(GL312-GL323)+0.5*'متغیرها '!C358*(GK310-GK323)","v":114.82166393463736},null,"نقطه دوم از خط دوم",40,{"$f":"BO164","v":26.7666},{"$f":"BP164","v":113.45561085030904},null,"شیفت d'ʻ4  b14",{"$f":"GP375+GT346","v":{"$error":"#DIV/0!"}},{"$f":"GQ375+GT347","v":{"$error":"#DIV/0!"}},null,null,null,null,null,null,null,null,null,null,null,null,null,null,null,null,null,null,null,null,null,"محاسبات آستین و یقه دکلته",null,null,null,"نقطه دوم از خط دوم",40,{"$f":"HR317","v":11.7666},{"$f":"HS317","v":113.45561085030904}]
[null,null,null,null,null,{"$f":"AZ166","v":16.953969111540619},{"$f":"BA166","v":100.5},39,null,{"$f":"F338+I346","v":9.8000000000000007},{"$f":"G338+I345","v":105.3},"u5",null,{"$f":"J340","v":16.647006148577656},{"$f":"K340","v":92.82},{"$f":"L340","v":"d5"},null,"ys1",{"$f":"'متغیرها '!U59","v":41.1},null,{"$f":"0+'متغیرها '!C51","v":5},{"$f":"S341+'متغیرها '!C52","v":46.1},"s1",null,null,null,null,null,null,null,null,null,null,null,{"$f":"-X322+'متغیرها '!C337+2*X308","v":-10.869447407407399},{"$f":"Y322-'متغیرها '!U56+'متغیرها '!C336","v":45.400000000000006},"s'd3",null,null,null,null,null,"ys8",{"$f":"'متغیرها '!U60","v":77.5},null,{"$f":"AR343+'متغیرها '!C53","v":37.299999999999997},{"$f":"AR342+'متغیرها '!C54","v":96},"s10",null,null,null,null,null,null,null,null,null,null,null,{"$f":"-AW322+'متغیرها '!C349+2*AW308","v":8.5615476718824084},{"$f":"AX322-'متغیرها '!U56+'متغیرها '!C348","v":41.400000000000006},"s'd3",null,null,null,null,null,null,null,null,null,null,null,null,null,null,null,"ترک گشاد",null,null,null,null,"گوده",null,null,"ترک گشاد",null,null,{"$f":"'متغیرها '!C52","v":5},"شیفت عمودی",null,{"$f":"CJ336+(CK336-CK354)*TAN(CK355)","v":-8.8964691115406183},{"$f":"CK354","v":64.3},"e25",null,{"$f":"CJ337","v":-8.8964691115406183},{"$f":"CK337","v":71.580000000000013},{"$f":"CL337","v":53},null,null,null,null,null,null,null,null,null,null,null,"ترک گشاد",null,"مولفه افقی","مولفه عمودی","اسم نقطه ",null,"مولفه افقی","مولفه عمودی","اسم نقطه ",null,{"$f":"DL347","v":15},59.3,"e25",null,null,null,null,null,null,null,null,null,null,"ترک گشاد",null,{"$f":"EE325-2*EF319*COS(EJ314)","v":21.8416},{"$f":"EF325-2*EF319*SIN(EJ314)","v":66.580000000000013},"e216",null,null,null,null,null,null,"ترک گشاد",null,{"$f":"-CF319-GK101","v":-6.306469111540622},{"$f":"CG319","v":57.019999999999982},"e26",null,"به دست آوردن مختصات نقطه تقاطع دو خط با داشتن دونقطه از یک خط",null,null,null,null,null,null,null,null,null,null,{"$f":"EX334+EU376+EU378","v":19.304337175123194},{"$f":"EY334+EU377","v":132.45483708308961},"g6",null,null,null,null,null,null,null,null,null,{"$f":"-FE341-FU306","v":-9.3043371751231945},{"$f":"FF341","v":132.45483708308961},"g6",null,{"$f":"-FI340-FU306","v":-8.1872070477680694},{"$f":"FJ340","v":124.41531364370698},"g6",null,"به دست آوردن مختصات نقطه تقاطع دو خط با داشتن دونقطه از یک خط",null,null,null,null,null,null,{"$f":"FZ308-GG358+GG357","v":19.857904049448663},{"$f":"GA308","v":123.00364177662831},{"$f":"FY308","v":"b10"},null,"d5  b14",{"$f":"0.45*(GK318-GK323)+GK323","v":20.294969999999999},{"$f":"GL323+((GK341-GK323)/(GK313-GK323))*(GL313-GL323)+0.6*'متغیرها '!C358*(GK310-GK323)","v":111.53058440173616},null,null,null,null,null,null,34,{"$f":"BK159","v":26.7666},{"$f":"BL159","v":96.5},null,{"$f":"GT380+GT359","v":57.773160000000004},{"$f":"GU380","v":111.07769989952921},"جدا m18",null,{"$f":"GT379+GT359","v":57.773160000000004},{"$f":"GU379","v":112.83700457224168},"جدا m17",null,{"$f":"GT378+GT359","v":57.773160000000004},{"$f":"GU378","v":115.79813097576023},"جدا m16",null,{"$f":"GT377+GT359","v":57.773160000000004},{"$f":"GU377","v":118.98171606805077},"جدا m15",null,{"$f":"GT376+GT359","v":57.773160000000004},{"$f":"GU376","v":121.33159840077614},"جدا m14",null,"d3",{"$f":"HR319+IF(HS341<HS319,((HS319-HS341)/(HS319-HS318))*(HR318-HR319),0)","v":0},{"$f":"BL150-HR321+('متغیرها '!C357-4)*(H127-H126)","v":112.8},null,null,null,null,null,null,null,null,null,null,{"$f":"HR311-HR341+HR319","v":19.141414517036921},{"$f":"HS311","v":123.00491547048473},"شیفتb6",null,{"$f":"HR313-HR341+HR319","v":25.846051418403469},{"$f":"HS313","v":113.44859009832776},"شیفتb14"]
[null,null,null,null,null,{"$f":"AZ176","v":16.306469111540622},{"$f":"BA176","v":84.3},"47'",null,null,null,null,null,null,null,null,null,"ys2",{"$f":"'متغیرها '!U60","v":77.5},null,{"$f":"0+'متغیرها '!C51","v":5},{"$f":"S343+'متغیرها '!C52","v":101},"s3",null,null,null,"به دست آوردن مختصات نقطه تقاطع دو خط با داشتن دونقطه از یک خط",null,null,null,null,null,null,null,null,null,null,null,null,null,null,null,"ys9",{"$f":"I105","v":96},null,{"$f":"AR344+'متغیرها '!C53","v":41.8},{"$f":"AR341+'متغیرها '!C54","v":77.5},"s11",null,null,null,"به دست آوردن مختصات نقطه تقاطع دو خط با داشتن دونقطه از یک خط",null,null,null,null,null,null,null,null,null,null,null,null,null,null,null,null,null,null,null,null,null,null,null,{"$f":"IF(BQ320=1,BP319,BT310)","v":-6.306469111540622},{"$f":"IF(BQ320=1,BQ319,BU310)","v":71.580000000000013},{"$f":"IF(BQ320=1,BR319,BV310)","v":"e21"},null,null,"اوزمان","e01",{"$f":"IF(CC314<1,CC314*CC316,CC316+(CC314-1)*(CC317-CC316))+CC313","v":64.3},{"$f":"IF(CC320=1,CB319,CB323)","v":16.306469111540622},{"$f":"IF(CC320=1,CC319,CC323)","v":71.580000000000013},{"$f":"IF(CC320=1,CD319,CD323)","v":"e21"},null,null,{"$f":"'متغیرها '!C147","v":1.5},"e0",null,{"$f":"CN341+CK356","v":-8.8964691115406183},{"$f":"CO341-CK358","v":57.019999999999982},"e26",null,null,null,"گوده",null,null,null,null,null,null,null,null,null,{"$f":"IF(CW320=1,CV319,CZ310)","v":5},{"$f":"IF(CW320=1,CW319,DA310)","v":71.580000000000013},{"$f":"IF(CW320=1,CX319,DB310)","v":"e21"},null,{"$f":"BK170","v":15},{"$f":"BL170","v":79.400000000000006},48,null,null,null,"اوزمان",null,15,52.019999999999982,"e26",null,null,null,null,null,null,null,null,{"$f":"IF(DU320=1,DT319,DT324)","v":27.691600000000001},{"$f":"IF(DU320=1,DU319,DU324)","v":66.580000000000013},{"$f":"IF(DU320=1,DV319,DV324)","v":"e21"},null,null,null,null,null,null,null,null,{"$f":"IF(EF321=1,EE320,EE325)","v":25.8416},{"$f":"IF(EF321=1,EF320,EF325)","v":66.580000000000013},{"$f":"IF(EF321=1,EG320,EG325)","v":"e21"},null,{"$f":"-CF320-GK101","v":-6.306469111540622},{"$f":"CG320","v":64.3},"e28",null,null,null,null,"مولفه افقی","مولفه عمودی",null,null,null,null,null,null,null,null,null,null,{"$f":"EX319+EU376","v":17.558142133384216},{"$f":"EY319+EU377","v":124.45559406167013},"g7",null,null,null,null,null,null,null,null,null,null,null,null,null,null,null,null,"مولفه افقی","مولفه عمودی",null,null,{"$f":"GC319","v":12.558142133384214},{"$f":"GD319","v":119.45559406167013},"g7",null,"d4  b14ʻ",{"$f":"0.2*(GK313-GK318)+GK318","v":29.575634919224647},{"$f":"GL323+((GK342-GK323)/(GK313-GK323))*(GL313-GL323)+0.75*'متغیرها '!C358*(GK310-GK323)","v":111.11265498706094},null,null,"به دست آوردن نقطه تقاطع دو خط (d''4b16) شیفت","مولفه افقی","مولفه عمودی",null,48,{"$f":"BW386","v":15},{"$f":"BX386","v":78.024704632477551},null,null,null,null,null,null,null,null,null,null,null,null,null,null,null,null,null,null,null,null,null,"d4  b16",{"$f":"0.8*(HR317-HR341)+HR341","v":9.4132800000000003},{"$f":"HS341+((HR342-HR341)/(HR309-HR341))*(HS309-HS341)+0.8*'متغیرها '!C358*(HR310-HR341)","v":122.50091300822071},null,null,"به دست آوردن نقطه تقاطع دو خط (d''4b10)","مولفه افقی","مولفه عمودی",null,null,null,null,null,{"$f":"HR353-HR341+HR319","v":16.191488710222153},{"$f":"HS353","v":120.4862463301495},"شیفتd6  b6",null,{"$f":"HR361-HR341+HR319","v":20.21427085104208},{"$f":"HS361","v":112.36129716977059},"شیفتd6  b14"]
[null,null,null,null,null,"u40",{"$f":"'متغیرها '!C330","v":5},null,{"$f":"G346*G343*0.01","v":4.8},"u'5",{"$f":"ATAN((F338-F339)/(G338-G339))","v":0},"αd4",null,null,null,null,null,"xs5",{"$f":"0.5*('متغیرها '!U54-'متغیرها '!U55)","v":25.7},null,{"$f":"-S345+'متغیرها '!C51","v":-20.7},{"$f":"S342+'متغیرها '!C52","v":82.5},"s'5",null,null,null,null,"نقطه دوم",45,{"$f":"R316","v":32.230039999999995},{"$f":"S316","v":87.271202973762882},null,null,null,null,null,null,null,null,null,null,null,null,null,null,{"$f":"-AR344+'متغیرها '!C53","v":-11.8},{"$f":"AR341+'متغیرها '!C54","v":77.5},"s'11",null,null,null,null,"نقطه دوم",45,{"$f":"AQ316","v":42.32244},{"$f":"AR316","v":79.87470463247756},null,null,null,null,null,null,null,null,null,null,null,null,null,null,null,null,null,null,null,null,null,null,null,"(47'→e22)",{"$f":"SQRT(POWER((CC343),2)-POWER((CC344),2))","v":12.719999999999985},"(e25→e21)",{"$f":"SQRT(POWER((CC327-CC323),2)+POWER((CB327-CB323),2))","v":7.2800000000000153},null,null,null,null,null,{"$f":"'متغیرها '!U60","v":77.5},"j",null,null,null,null,null,null,null,null,null,null,null,null,null,null,null,null,null,null,null,null,null,null,{"$f":"'متغیرها '!U54-'متغیرها '!U55","v":51.4},"(c-d)",null,{"$f":"DH343+0.6*(DL343-DH343)","v":15},{"$f":"DI343+0.4*(DM343-DI343)","v":66.580000000000013},"e24",null,{"$f":"DL350","v":15},{"$f":"DM350","v":59.3},{"$f":"DN350","v":"e28"},null,null,null,null,null,null,null,null,null,null,null,null,null,null,null,null,null,null,null,null,null,null,null,null,null,"پیلی",null,"خط دوم","نقطه اول",{"$f":"ET373","v":" بالاتنه 5"},{"$f":"EU373","v":12.60146911154062},{"$f":"EV373","v":115.2},null,null,null,null,null,null,{"$f":"EU372+EU376","v":5},{"$f":"EV372+EU377","v":120.2},"d3",null,null,null,"حلقه آستین با ساسون متغیر",null,null,null,null,null,{"$f":"-FE345-FU306","v":5},{"$f":"FF345","v":120.2},"d3",null,{"$f":"-FI344-FU306","v":5},{"$f":"FJ344","v":120.2},"d3",null,"خط دوم","نقطه اول",{"$f":"GF356","v":" بالاتنه 5"},{"$f":"GG356","v":12.60146911154062},{"$f":"GH356","v":115.2},null,null,null,null,"قرینه",null,null,null," خط پشت دکلته در پیراهن",null,"نقطه اول از خط دوم"," یا  22",{"$f":"IF(GQ343>GQ346,GK317,GK316)","v":28.676935650976734},{"$f":"IF(GQ343>GQ346,GL317,GL316)","v":130.9189297056397},null,"w2",{"$f":"H130","v":34.475999999999999},null,null,null,null,null,null,null,null,null,null,null,null,null,null,null,null,null,null,null,null,null,null,"d6  b16",{"$f":"0.6*(HR309-HR317)+HR317","v":16.182316412862924},{"$f":"HS341+((HR345-HR341)/(HR309-HR341))*(HS309-HS341)+0.5*'متغیرها '!C358*(HR310-HR341)","v":131.13274812962362},null,"نقطه اول از خط دوم"," یا  22",{"$f":"IF(HX343>HX346,HR316,HR314)","v":11.7666},{"$f":"IF(HX343>HX346,HS316,HS314)","v":96.5}]
[null,null,null,null,null,"u'50",{"$f":"'متغیرها '!C332","v":5},null,{"$f":"G347*G343*0.01","v":4.8},"u''5",{"$f":"ATAN((F340-F341)/(G340-G341))","v":3.6503799809183057E-2},"αu6",null,null,null,null,null,null,null,null,{"$f":"-S345+'متغیرها '!C51","v":-20.7},{"$f":"S341+'متغیرها '!C52","v":46.1},"s'6",null,null,null,null,null,null,null,null,null,null,null,{"$f":"AI344","v":42.608456378037729},{"$f":"AJ344","v":55},"sfp16",null,null,null,null,null,null,null,null,{"$f":"-AR343+'متغیرها '!C53","v":-7.3000000000000007},{"$f":"AR342+'متغیرها '!C54","v":96},"s'10",null,null,null,null,null,null,null,null,null,null,null,{"$f":"BH344","v":58.27246652210367},{"$f":"BI344","v":51},"sfp16",null,null,null,null,null,"  گوده و پیلی و ترک گشاد در خط پهلو جلو دامن - 3 ",null,null,null,null,null,null,null,null,null,null,null,null,null,"(e25→e29)",{"$f":"SQRT(POWER((CE345),2)-POWER((CE344),2))","v":7.2800000000000153},null,null,null,null,{"$f":"GN123","v":-7.6014691115406201},{"$f":"GO123","v":118.23},"43شیفت",null,null,null,null,null,{"$f":"CN342","v":-8.8964691115406183},{"$f":"CO342","v":57.019999999999982},{"$f":"CP342","v":"e26"},null," گوده و پیلی و ترک گشاد در خط پهلو جلو دامن کامل - 3 ",null,null,null,null,null,null,null,null,null,null,null,null,{"$f":"'متغیرها '!C54","v":0},"شیفت عمودی",null,null,null,"گوده",null,{"$f":"DL349","v":15},{"$f":"DM349","v":64.832800000000006},{"$f":"DN349","v":"e27"},null,null,null,null,null,null,null,null,null,null,null,null,null,null,null,null,null,null,null,null,null,null,null,{"$f":"-CF324-GK101","v":-6.306469111540622},{"$f":"CG324","v":64.3},"e25",null,null,"نقطه دوم",35,{"$f":"EX378","v":14.238655678790375},{"$f":"EY378","v":140.73895738908448},null,null,null,null,null,null,null,null,"حلقه آستین با ساسون متغیر",null,{"$f":"BW139+BT130","v":36.174132720781841},{"$f":"BX139","v":127.53660236827258},"شیفت b14",null,null,null,null,null,null,null,"قرینه حلقه آستین با ساسون متغیر",null,null,null,"قرینه حلقه آستین با ساسون متغیر",null,null,"نقطه دوم",35,{"$f":"GG367","v":14.238655678790375},{"$f":"GH367","v":140.73895738908448},null,null,{"$f":"-GF341","v":-19.857904049448663},{"$f":"GG341","v":123.00364177662831},"b10",null,{"$f":"GK323","v":15},{"$f":"GL323","v":112.8},"d3",null,"نقطه دوم از خط دوم",40,{"$f":"BO164","v":26.7666},{"$f":"BP164","v":113.45561085030904},null,"شیفت افقی",{"$f":"'متغیرها '!C56","v":0},null,null,{"$f":"GW334","v":45},{"$f":"GX334","v":81.719763705982047},"جدا m11",null,{"$f":"HA334","v":45},{"$f":"HB334","v":81.719763705982047},"جدا m11",null,{"$f":"HE334","v":45},{"$f":"HF334","v":81.719763705982047},"جدا m11",null,{"$f":"HI334","v":45},{"$f":"HJ334","v":81.719763705982047},"جدا m11",null,{"$f":"HM334","v":45},{"$f":"HN334","v":81.719763705982047},"جدا m11",null,"d4  b12",{"$f":"0.8*(HR317-HR341)+HR341","v":9.4132800000000003},{"$f":"HS341+((HR346-HR341)/(HR310-HR341))*(HS310-HS341)+0.8*'متغیرها '!C358*(HR310-HR341)","v":119.79928117784529},null,"نقطه دوم از خط دوم",40,{"$f":"HR317","v":11.7666},{"$f":"HS317","v":113.45561085030904},null,null,null,null,null,{"$f":"HW340-HR341+HR319","v":12.25149310042565},{"$f":"HX340","v":117.88825744786035},"d4  b6''",null,{"$f":"HW354-HR341+HR319","v":{"$error":"#DIV/0!"}},{"$f":"HX354","v":{"$error":"#DIV/0!"}},"d4  b14''"]
[null,null,null,null,null,"u60",{"$f":"'متغیرها '!C335","v":8},null,{"$f":"G349*G343*0.01","v":4.8},"d4 d'4",null,null,null,null,null,null,null,null,null,null,{"$f":"S345+'متغیرها '!C51","v":30.7},{"$f":"S342+'متغیرها '!C52","v":82.5},"s5",null,null,null,null,"نقطه دوم","47''امتداد",{"$f":"R315+2*(R314-R313)","v":49.448610888459378},{"$f":"S315","v":84.3},null,null,null,null,null,null,null,null,null,null,null,null,null,null,{"$f":"0+'متغیرها '!C53","v":15},{"$f":"AR340+'متغیرها '!C54","v":41.1},"s7",null,null,null,null,"نقطه دوم","47''امتداد",{"$f":"AQ315+2*(AQ314-AQ313)","v":48.853280000000005},{"$f":"AR315","v":79.400000000000006},null,null,null,null,null,null,null,null,null,null,null,"مولفه افقی","مولفه عمودی","اسم نقطه ",null,"مولفه افقی","مولفه عمودی","اسم نقطه ",null,{"$f":"BT354","v":32.230039999999995},64.3,"e25",null,"قرینه گوده...پهلو جلو دامن",null,null,null,null,null,null,null,"محاسبات",null,null,null,null,null,null,null,{"$f":"CN343","v":-8.8964691115406183},{"$f":"CO343","v":69.832800000000006},{"$f":"CP343","v":"e27"},null,"مولفه افقی","مولفه عمودی","اسم نقطه ",null,"مولفه افقی","مولفه عمودی","اسم نقطه ",null,{"$f":"CZ354","v":-22.230039999999995},64.3,"e25",null,null,{"$f":"'متغیرها '!C145","v":0},"e411",null,{"$f":"DL347-DI362","v":15},{"$f":"DM347-DI364","v":52.019999999999982},"e26",null,null,null,"پیلی",null,null,null,null,null,null,null,null,null,null,null,null,null,null,null,null,null,null,null,null,null,null,null,null,null,null,null,"متغیرهای محاسبه ای",null,null,"اسم نقطه","مولفه افقی","مولفه عمودی",null,null,null,null,null,{"$f":"BW140+BT130","v":36.297032265202304},{"$f":"BX140","v":122.73622420854588},"شیفت b2",null,null,null,null,null,null,null,null,null,{"$f":"-FE316-GK101","v":-26.297032265202304},{"$f":"FF316","v":122.73622420854588},"شیفت b2",null,{"$f":"-FE316-GK101","v":-26.297032265202304},{"$f":"FF316","v":122.73622420854588},"شیفت b2",null,"متغیرهای محاسبه ای",null,null,"اسم نقطه","مولفه افقی","مولفه عمودی",null,{"$f":"-GF343","v":-6.279071066692107},117.32779703083506,"g8",null,null,null,null,null,null,null,null,null,null,"شیفتb16",{"$f":"CE120+GT346","v":35.640769751812662},{"$f":"CF120+GT347","v":135.02311874252692},null,null,null,null,null,null,null,null,null,null,null,null,null,null,null,null,null,null,null,null,null,"d4  b12ʻ",{"$f":"0.2*(HR310-HR317)+HR317","v":13.197148016141238},{"$f":"HS341+((HR348-HR341)/(HR310-HR341))*(HS310-HS341)+0.75*'متغیرها '!C358*(HR310-HR341)","v":123.31579022445109},null,null,null,null,null,null,null,null,null,null,{"$f":"HR351-HR341+HR319","v":5.2949700000000002},{"$f":"HS351","v":114.48776165353836},"d5  b6",null,{"$f":"HR359-HR341+HR319","v":5.2949700000000002},{"$f":"HS359","v":111.79771347431803},"d5  b14"]
[null,null,null,null,null,"d40",{"$f":"'متغیرها '!C331","v":5},null,{"$f":"G350*G343*0.01","v":7.68},"d5 d'5",null,null,null,null,null,null,null,null,null,null,null,null,null,null,null,null,null,null,null,null,null,null,null,null,{"$f":"-X323+'متغیرها '!C337+2*X308","v":-13.567651125695903},{"$f":"Y323-'متغیرها '!U56+'متغیرها '!C336","v":58.84},"s'u3",null,null,null,null,null,null,null,null,null,null,null,null,null,null,null,null,null,null,null,null,null,null,{"$f":"-AW323+'متغیرها '!C349+2*AW308","v":11.454461974726385},{"$f":"AX323-'متغیرها '!U56+'متغیرها '!C348","v":54.840000000000018},"s'u3",null,null,null,null,null,{"$f":"AZ172","v":32.230039999999995},{"$f":"BA172","v":87.271202973762882},"45شیفت",null,null,null,"اوزمان",null,32.230039999999995,56.228797026237089,"e26",null,"رسم",null,"گوده",null,null,null,null,null,null,"اوزمان",null,null,null,null,null,null,{"$f":"CN337","v":-8.8964691115406183},{"$f":"CO337","v":71.580000000000013},{"$f":"CP337","v":"e21"},null,{"$f":"GN109","v":-22.230039999999995},{"$f":"GO109","v":87.271202973762882},"45 شیفت",null,null,null,"اوزمان",null,-22.230039999999995,56.228797026237089,"e26",null,null,{"$f":"'متغیرها '!U59","v":41.1},"h",null,{"$f":"DL343+0.3*(DL348-DL343)","v":15},{"$f":"DM343+0.12*(DM348-DM343)","v":64.832800000000006},"e27",null,{"$f":"DL347","v":15},{"$f":"DM347","v":59.3},{"$f":"DN347","v":"e25"},null,null,null,null,null,null,null,null,null,null,null,null,null,null,null,null,null,null,null,null,null,null,null,{"$f":"-CF327-GK101","v":-6.306469111540622},{"$f":"CG327","v":71.580000000000013},"e21",null,"(g1→ g5)",{"$f":"'متغیرها '!C354*EU340","v":0},null,"g5",{"$f":"EW347+EU349*SIN(EY374)","v":13.086654147362923},{"$f":"EX347+EU349*COS(EY374)","v":122.76854484611522},null,null,null,null,null,null,null,null,null,{"$f":"BW139+BT130","v":36.174132720781841},{"$f":"BX139","v":127.53660236827258},"شیفتb14",null,null,null,null,null,null,null,null,null,null,null,null,null,"(g1→ g5)",{"$f":"'متغیرها '!C354*FZ340","v":0},null,"g5",{"$f":"GB347+FZ349*SIN(GG363)","v":13.086654147362923},{"$f":"GC347+FZ349*COS(GG363)","v":122.76854484611522},null,{"$f":"-GF344","v":0},115.2,"d3",null,{"$f":"IF(GL323<BL167,GK323,BK167)","v":15},{"$f":"IF(GL323<BL167,GL323,BL167)","v":112.8},"45 یا d3",null,null,"به دست آوردن نقطه تقاطع دو خط (d''4b12) شیفت","مولفه افقی","مولفه عمودی",null,"شیفتb12",{"$f":"CE119+GT346","v":35.04145278326785},{"$f":"CF119+GT347","v":129.37481314382703},null,{"$f":"GW347","v":45},{"$f":"GX347","v":96.5},"جدا 44",null,{"$f":"HA347","v":45},{"$f":"HB347","v":96.5},"جدا 44",null,{"$f":"HE347","v":45},{"$f":"HF347","v":96.5},"جدا 44",null,{"$f":"HI347","v":45},{"$f":"HJ347","v":96.5},"جدا 44",null,{"$f":"HM347","v":45},{"$f":"HN347","v":96.5},"جدا 44",null,"d6  b12",{"$f":"0.6*(HR310-HR317)+HR317","v":16.05824404842371},{"$f":"HS341+((HR349-HR341)/(HR310-HR341))*(HS310-HS341)+0.5*'متغیرها '!C358*(HR310-HR341)","v":126.37618422672237},null,null,"به دست آوردن نقطه تقاطع دو خط (d''4b14)","مولفه افقی","مولفه عمودی",null,null,null,null,null,{"$f":"HR341-HR341+HR319","v":0},{"$f":"HS341","v":112.8},"d3",null,{"$f":"HR341-HR341+HR319","v":0},{"$f":"HS341","v":112.8},"d3"]
[null,null,null,null,null,{"$f":"AZ179","v":18.248969111540617},{"$f":"BA179","v":100.5},"شیفت40",null,{"$f":"F352-IF(G361>0,I359*TAN(K358),-I359*TAN(K357))","v":18.555932074503581},{"$f":"G352-I359","v":92.82},"dd5",null,{"$f":"J353","v":34.301703579164595},{"$f":"K353","v":107.76120297376289},{"$f":"L353","v":"u3"},null,null,null,null,{"$f":"-S345+'متغیرها '!C51","v":-20.7},{"$f":"S342+'متغیرها '!C52","v":82.5},"s'5",null,null,null,null,null,null,null,null,null,null,null,{"$f":"AI350","v":-12.608456378037729},{"$f":"AJ350","v":55},"s'fp16",null,null,null,null,null,null,null,null,{"$f":"AR344+'متغیرها '!C53","v":41.8},{"$f":"AR341+'متغیرها '!C54","v":77.5},"s11",null,null,null,null,null,null,null,null,null,null,null,{"$f":"BH350","v":11.72753347789633},{"$f":"BI350","v":51},"s'fp16",null,null,null,null,null,null,{"$f":"'متغیرها '!U54-'متغیرها '!U55","v":51.4},"(c-d)",null,{"$f":"BP350+0.6*(BT350-BP350)","v":32.230039999999995},{"$f":"BQ350+0.4*(BU350-BQ350)","v":72.371202973762905},"e24",null,{"$f":"BT357","v":32.230039999999995},{"$f":"BU357","v":64.3},{"$f":"BV357","v":"e28"},null,null,null,null,null,null,null,null,null,"(47'→e22)",{"$f":"SQRT(POWER((CK350),2)-POWER((CK351),2))","v":12.719999999999985},null,null,null,null,null,null,null,null,null,null,null,{"$f":"'متغیرها '!U54-'متغیرها '!U55","v":51.4},"(c-d)",null,{"$f":"CV350+0.6*(CZ350-CV350)","v":-22.230039999999995},{"$f":"CW350+0.4*(DA350-CW350)","v":72.371202973762905},"e24",null,{"$f":"CZ357","v":-22.230039999999995},{"$f":"DA357","v":64.3},{"$f":"DB357","v":"e28"},null,{"$f":"BK167","v":15},{"$f":"BL167","v":128.44999999999999},45,null,{"$f":"DL347-0.5*DI351*COS(DI361)","v":15},{"$f":"DM347-0.5*DI351*SIN(DI361)","v":59.3},"e212",null,{"$f":"DL343","v":15},{"$f":"DM343","v":66.580000000000013},{"$f":"DN343","v":"e21"},null,null,null,null,null,null,null,null,null,null,null,null,null,null,null,null,null,null,null,null,null,null,null,{"$f":"-CF330-GK101","v":-6.306469111540622},{"$f":"CG330","v":64.3},"e212",null,"g11",{"$f":"ATAN((EU373-EU374)/(EV374-EV373))","v":1.0180830356731995E-2},null,"g8",{"$f":"EU372+EY376*(EX351-EU372)","v":6.2621291046697705},{"$f":"EV372+EY376*(EY351-EV372)+EY375*'متغیرها '!C354*EU340","v":118.99184368359326},null,null,null,null,null,{"$f":"BW133+BT130","v":31.193714930354844},{"$f":"BX133","v":126.81666578358194},"شیفتb8",null,{"$f":"ED107","v":28.654272756814162},{"$f":"EE107","v":128.00364177662831},"شیفت b10 یا b'10g",null,null,null,null,null,{"$f":"-FE320-GK101","v":-21.193714930354844},126.81666578358194,"شیفتb8",null,{"$f":"-FE320-GK101","v":-21.193714930354844},{"$f":"FF320","v":126.81666578358194},"شیفتb8",null,"g11",{"$f":"ATAN((GG356-GG357)/(GH357-GH356))","v":1.0180830356731995E-2},null,"g8",{"$f":"GG355+GG365*(GC351-GG355)","v":6.2621291046697705},{"$f":"GH355+GG365*(GD351-GH355)+GG364*'متغیرها '!C354*FZ340","v":118.99184368359326},null,null,null,null,null,{"$f":"BO178","v":15},{"$f":"BP178","v":96.5},44,null,"نقطه اول از خط دوم","یا  22",{"$f":"IF(GQ350>GQ353,GK317,GK316)","v":28.676935650976734},{"$f":"IF(GQ350>GQ353,GL317,GL316)","v":130.9189297056397},null,"شیفتb8 تغییر به b14",{"$f":"CE122+GT346","v":40.811774596123236},{"$f":"CF122+GT347","v":112.47373911807699},null,{"$f":"GW350","v":45},{"$f":"GX350","v":112.8},"جدا d3",null,{"$f":"HA350","v":45},{"$f":"HB350","v":112.8},"جدا d3",null,{"$f":"HE350","v":45},{"$f":"HF350","v":112.8},"جدا d3",null,{"$f":"HI350","v":45},{"$f":"HJ350","v":112.8},"جدا d3",null,{"$f":"HM350","v":45},{"$f":"HN350","v":112.8},"جدا d3",null,"d4  b6ʻ",{"$f":"0.2*(HR311-HR317)+HR317","v":13.241562903407385},{"$f":"HS341+((HR352-HR341)/(HR311-HR341))*(HS311-HS341)+0.75*'متغیرها '!C358*(HR310-HR341)","v":118.44056069183193},null,"نقطه اول از خط دوم"," یا  22",{"$f":"IF(HX350>HX353,HR316,HR314)","v":11.7666},{"$f":"IF(HX350>HX353,HS316,HS314)","v":96.5},null,null,null,null,null,{"$f":"HR334","v":9.4132800000000003},{"$f":"HS334","v":96.5},"m'10",null,{"$f":"HR334","v":9.4132800000000003},{"$f":"HS334","v":96.5},"m'10"]
[null,null,null,null,null,{"$f":"AZ180","v":18.896469111540618},{"$f":"BA180","v":84.3},"شیفت47''",null,{"$f":"F355+ABS(I358)*TAN(IF(I358>0,K359,K360))","v":34.301703579164595},{"$f":"G355+I358","v":107.76120297376289},"u3",null,null,null,null,null,null,null,null,null,null,null,null,null,null,null,null,null,null,null,null,null,null,{"$f":"-X322+'متغیرها '!C337+2*X308","v":-10.869447407407399},{"$f":"Y322-'متغیرها '!U56+'متغیرها '!C336","v":45.400000000000006},"s'd3",null,null,null,null,null,null,null,null,null,null,null,null,null,null,null,null,null,null,null,null,null,null,{"$f":"-AW322+'متغیرها '!C349+2*AW308","v":8.5615476718824084},{"$f":"AX322-'متغیرها '!U56+'متغیرها '!C348","v":41.400000000000006},"s'd3",null,null,null,null,null,null,{"$f":"'متغیرها '!C52","v":5},"شیفت عمودی",null,null,null,"گوده",null,{"$f":"BT356","v":32.230039999999995},{"$f":"BU356","v":70.4341142600598},{"$f":"BV356","v":"e27"},null,{"$f":"-BX351-GK101","v":-22.230039999999995},{"$f":"BY351","v":56.228797026237089},"e26",null,null,null,null,null,null,"گوده",null,null,null,null,null,null,null,null,null,null,null,{"$f":"'متغیرها '!C52","v":5},"شیفت عمودی",null,null,null,"گوده",null,{"$f":"CZ356","v":-22.230039999999995},{"$f":"DA356","v":70.4341142600598},{"$f":"DB356","v":"e27"},null,null,{"$f":"'متغیرها '!C134","v":0},"انتخاب ترک گشاد",null,{"$f":"DL347-1*DI351*COS(DI361)","v":15},{"$f":"DM347-1*DI351*SIN(DI361)","v":59.3},"e213",null,{"$f":"DL359","v":15},{"$f":"DM359","v":66.580000000000013},{"$f":"DN359","v":"e216"},null,null,null,null,null,null,null,null,null,null,null,null,null,null,null,null,null,null,null,null,null,null,null,{"$f":"-CF331-GK101","v":-6.306469111540622},{"$f":"CG331","v":71.580000000000013},"e220",null,null,null,null,null,null,null,null,null,null,null,null,{"$f":"ED107","v":28.654272756814162},128.00364177662831,"شیفت b10 یا b'10g",null,null,null,"ساسون سرشانه",null,null,null,null,null,{"$f":"-FE321-GK101","v":-18.654272756814162},128.00364177662831,"شیفت b10 یا b'10g",null,{"$f":"-FE321-GK101","v":-18.654272756814162},{"$f":"FF321","v":128.00364177662831},"شیفت b10 یا b'10g",null,null,null,null,null,null,null,null,"نقاط کپی شده از قسمتهای دیگر",null,null,null,{"$f":"BK170","v":15},{"$f":"BL170","v":79.400000000000006},48,null,"نقطه دوم از خط دوم",40,{"$f":"BO164","v":26.7666},{"$f":"BP164","v":113.45561085030904},null,"شیفت10",{"$f":"BO170","v":39.087906522700877},{"$f":"BP170","v":107.99088584720475},null,{"$f":"IF(OR(GT355=2,GT355=3,GT355=4),GT335,GT371)+GT359","v":50.294969999999999},{"$f":"IF(OR(GT355=2,GT355=3,GT355=4),GU335,GU371)","v":111.53058440173616},"جدا m9 یا d5b14",null,{"$f":"IF(OR(GT355=2,GT355=3,GT355=4),GT329,GT370)+GT359","v":50.294969999999999},{"$f":"IF(OR(GT355=2,GT355=3,GT355=4),GU329,GU370)","v":112.52019328013694},"جدا m8 یا d5b10",null,{"$f":"IF(OR(GT355=2,GT355=3,GT355=4),GT323,GT369)+GT359","v":50.294969999999999},{"$f":"IF(OR(GT355=2,GT355=3,GT355=4),GU323,GU369)","v":114.18582688211612},"جدا m7 یا d5b6",null,{"$f":"IF(OR(GT355=2,GT355=3,GT355=4),GT317,GT368)+GT359","v":50.294969999999999},{"$f":"IF(OR(GT355=2,GT355=3,GT355=4),GU317,GU368)","v":115.97659349652955},"جدا m6 یا d5b12",null,{"$f":"IF(OR(GT355=2,GT355=3,GT355=4),GT311,GT367)+GT359","v":50.294969999999999},{"$f":"IF(OR(GT355=2,GT355=3,GT355=4),GU311,GU367)","v":117.29840230868756},"جدا m5 یا d5b16",null,"d6  b6",{"$f":"0.6*(HR311-HR317)+HR317","v":16.191488710222153},{"$f":"HS341+((HR353-HR341)/(HR311-HR341))*(HS311-HS341)+0.5*'متغیرها '!C358*(HR310-HR341)","v":120.4862463301495},null,"نقطه دوم از خط دوم",40,{"$f":"HR317","v":11.7666},{"$f":"HS317","v":113.45561085030904}]
[null,null,null,null,null,{"$f":"BD178","v":33.525039999999997},{"$f":"BE178","v":103.92120297376289},"شیفت41",null,null,null,null,null,{"$f":"J354","v":32.778373333333327},{"$f":"K354","v":94.321202973762894},{"$f":"L354","v":"d3"},null,null,null,null,null,null,null,null,null,null,null,null,null,null,null,null,null,null,{"$f":"X317+'متغیرها '!C337","v":15},{"$f":"Y317-'متغیرها '!U56+'متغیرها '!C336","v":59.8},"su4",null,null,null,null,null,null,null,null,null,null,null,null,null,null,null,null,null,null,null,null,null,null,{"$f":"AW317+'متغیرها '!C349","v":35},{"$f":"AX317-'متغیرها '!U56+'متغیرها '!C348","v":55.8},"su4",null,null,null,null,null,null,{"$f":"'متغیرها '!C144","v":0},"e311",null,{"$f":"BT354+BQ369","v":32.230039999999995},{"$f":"BU354-BQ371","v":56.228797026237089},"e26",null,null,null,"پیلی",null,{"$f":"-BX353-GK101","v":-22.230039999999995},{"$f":"BY353","v":70.4341142600598},"e27",null,null,null,null,null,"e210",{"$f":"ATAN((CN337-CJ336)/(CK336-CO337))","v":0},null,null,null,null,null,null,null,null,"ترک گشاد",null,null,{"$f":"'متغیرها '!C144","v":0},"e311",null,{"$f":"CZ354-CW369","v":-22.230039999999995},{"$f":"DA354-CW371","v":56.228797026237089},"e26",null,null,null,"پیلی",null,null,"اوزمان",null,null,{"$f":"DL347-2*DI351*COS(DI361)","v":15},{"$f":"DM347-2*DI351*SIN(DI361)","v":59.3},"e215",null,{"$f":"DL352","v":15},{"$f":"DM352","v":59.3},{"$f":"DN352","v":"e212"},null,null,null,null,null,null,null,null,null,null,null,null,null,null,null,null,null,null,null,null,null,null,null,{"$f":"-CF333-GK101","v":-6.306469111540622},{"$f":"CG333","v":64.3},"e213",null,"اسم نقطه","مولفه افقی","مولفه عمودی",null,"قرمز",null,null,null,null,null,null,24.340417771240173,138.03027214395152,"شیفت b12 یا b'12g",null,{"$f":"EU373+EU376+EU378","v":17.60146911154062},{"$f":"EV373+EU377","v":120.2},"شیفت بالاتنه 5",null,null,null,null,null,{"$f":"-FE323-GK101","v":-14.340417771240173},138.03027214395152,"شیفت b12 یا b'12g",null,{"$f":"FU341","v":-8.1872070477680694},{"$f":"FV341","v":124.41531364370698},"g6",null,"اسم نقطه","مولفه افقی","مولفه عمودی",null,"قرمز طراحی",null,null,"d3",{"$f":"AZ105-GG359","v":0},{"$f":"BE193+('متغیرها '!C352-4)*(I124-I123)-GG360","v":115.2},null,{"$f":"BK170","v":15},{"$f":"BL170","v":79.400000000000006},48,null,null,null,null,null,null,"m1",{"$f":"'متغیرها '!C375","v":2},null,null,{"$f":"IF(GT355=4,GT336,GT371)+GT359","v":54.41328},{"$f":"IF(GT355=4,GU336,GU371)","v":111.07769989952921},"جدا m9 یا d'4b14",null,{"$f":"IF(GT355=4,GT330,GT370)+GT359","v":54.41328},{"$f":"IF(GT355=4,GU330,GU370)","v":112.83700457224168},"جدا m8 یا d'4b10",null,{"$f":"IF(GT355=4,GT324,GT369)+GT359","v":54.41328},{"$f":"IF(GT355=4,GU324,GU369)","v":115.79813097576023},"جدا m7 یا d'4b6",null,{"$f":"IF(GT355=4,GT318,GT368)+GT359","v":54.41328},{"$f":"IF(GT355=4,GU318,GU368)","v":118.98171606805077},"جدا m6 یا d'4b12",null,{"$f":"IF(GT355=4,GT312,GT367)+GT359","v":54.41328},{"$f":"IF(GT355=4,GU312,GU367)","v":121.33159840077614},"جدا m5 یا d'4b16",null,"d5  b10",{"$f":"0.45*(HR317-HR341)+HR341","v":5.2949700000000002},{"$f":"HS341+((HR355-HR341)/(HR312-HR341))*(HS312-HS341)+0.6*'متغیرها '!C358*(HR310-HR341)","v":112.75965446872809},null,null,null,null,null,null,null,null,null,null,{"$f":"HR335","v":0},{"$f":"HS335","v":81.719763705982047},"m'11",null,{"$f":"HR335","v":0},{"$f":"HS335","v":81.719763705982047},"m'11"]
[null,null,null,null,null,{"$f":"BD179","v":32.230039999999995},{"$f":"BE179","v":87.271202973762882},"شیفت45","محاسبات",null,"محاسبات",null,null,null,null,null,null,null,null,null,null,null,null,null,null,null,null,null,null,null,null,null,null,null,{"$f":"X318+'متغیرها '!C337","v":15},{"$f":"Y318-'متغیرها '!U56+'متغیرها '!C336","v":50.2},"sd4",null,null,null,null,null,null,null,null,null,null,null,null,null,null,null,null,null,null,null,null,null,null,{"$f":"AW318+'متغیرها '!C349","v":35},{"$f":"AX318-'متغیرها '!U56+'متغیرها '!C348","v":46.2},"sd4",null,null,null,null,null,null,{"$f":"'متغیرها '!U59","v":41.1},"h",null,{"$f":"BT350+0.3*(BT355-BT350)","v":32.230039999999995},{"$f":"BU350+0.12*(BU355-BU350)","v":70.4341142600598},"e27",null,{"$f":"BT354","v":32.230039999999995},{"$f":"BU354","v":64.3},{"$f":"BV354","v":"e25"},null,{"$f":"-BX354-GK101","v":-22.230039999999995},{"$f":"BY354","v":72.371202973762905},"e21",null,null,null,null,null,"(e29→e26)",{"$f":"CK343+(CN337-CN341)","v":0},null,null,null,null,null,null,{"$f":"IF(CK347=1,CJ346,CN337)","v":-8.8964691115406183},{"$f":"IF(CK347=1,CK346,CO337)","v":71.580000000000013},{"$f":"IF(CK347=1,CL346,CP337)","v":"e21"},null,null,{"$f":"'متغیرها '!U59","v":41.1},"h",null,{"$f":"CZ350+0.3*(CZ355-CZ350)","v":-22.230039999999995},{"$f":"DA350+0.12*(DA355-DA350)","v":70.4341142600598},"e27",null,{"$f":"CZ354","v":-22.230039999999995},{"$f":"DA354","v":64.3},{"$f":"DB354","v":"e25"},null,"(47'→52)",{"$f":"SQRT(POWER((DI342-DI343),2)+POWER((DH343-DH342),2))","v":12.819999999999993},null,null,{"$f":"DL343-0.5*DI351*COS(DI361)","v":15},{"$f":"DM343-0.5*DI351*SIN(DI361)","v":66.580000000000013},"e220",null,{"$f":"DL356","v":15},{"$f":"DM356","v":66.580000000000013},{"$f":"DN356","v":"e220"},null,null,null,null,null,null,null,null,null,null,null,null,null,null,null,null,null,null,null,null,null,null,null,{"$f":"-CF334-GK101","v":-6.306469111540622},{"$f":"CG334","v":71.580000000000013},"e218",null,"b16",{"$f":"BW137-EU376","v":19.463474035591126},{"$f":"BX137-EU377","v":139.52135929212406},null,null,null,null,null,null,null,null,null,null,"ساسون سرشانه",null,null,null,null,null,null,null,null,null,null,null,"قرینه ساسون سرشانه",null,{"$f":"-FE327-FU306","v":-7.6014691115406201},{"$f":"FF327","v":120.2},"شیفت بالاتنه 5",null,"b16",{"$f":"BW165-GG359","v":19.463474035591126},{"$f":"BX165-GG360","v":139.52135929212406},null,null,null,null," بالاتنه 5",{"$f":"BS104-GG359","v":12.60146911154062},{"$f":"BT104-GG360","v":115.2},null,{"$f":"BO176","v":15},{"$f":"BP176","v":66.580000000000013},47,null,null,"به دست آوردن نقطه تقاطع دو خط (d''4b6) شیفت","مولفه افقی","مولفه عمودی",null,"m2",{"$f":"'متغیرها '!C376","v":0.8},null,null,{"$f":"GW328","v":54.41328},{"$f":"GX328","v":111.07769989952921},"جدا m9",null,{"$f":"HA328","v":54.41328},{"$f":"HB328","v":112.83700457224168},"جدا m8",null,{"$f":"HE328","v":54.41328},{"$f":"HF328","v":115.79813097576023},"جدا m7",null,{"$f":"HI328","v":54.41328},{"$f":"HJ328","v":118.98171606805077},"جدا m6",null,{"$f":"HM328","v":54.41328},{"$f":"HN328","v":121.33159840077614},"جدا m5",null,"d4  b10ʻ",{"$f":"0.2*(HR312-HR317)+HR317","v":13.582239450036349},{"$f":"HS341+((HR356-HR341)/(HR312-HR341))*(HS312-HS341)+0.75*'متغیرها '!C358*(HR310-HR341)","v":114.18938226378241},null,null,"به دست آوردن نقطه تقاطع دو خط (d''4b16) شیفت","مولفه افقی","مولفه عمودی",null,null,null,null,null,null,null,"قرینه",null,null,null,"قرینه"]
[null,null,null,null,null,"u60",{"$f":"'متغیرها '!C335","v":8},null,{"$f":"G361*G357*0.01","v":7.68},"d5 d'5",{"$f":"ATAN((F354-F355)/(G354-G355))","v":0.19956398140621215},"αu3",null,null,null,null,null,null,null,null,null,null,null,null,null,null,null,null,null,null,null,null,null,null,{"$f":"X322+'متغیرها '!C337","v":40.869447407407399},{"$f":"Y322-'متغیرها '!U56+'متغیرها '!C336","v":45.400000000000006},"sd3",null,null,null,null,null,null,null,null,null,null,null,null,null,null,null,null,null,null,null,null,null,null,{"$f":"AW322+'متغیرها '!C349","v":61.438452328117592},{"$f":"AX322-'متغیرها '!U56+'متغیرها '!C348","v":41.400000000000006},"sd3",null,null,null,null,null,{"$f":"BD177","v":35.844145557703101},{"$f":"BE177","v":115.38738418849009},"14شیفت",null,{"$f":"BT354+0.5*BQ358*COS(BQ368)","v":32.230039999999995},{"$f":"BU354+0.5*BQ358*SIN(BQ368)","v":64.3},"e212",null,{"$f":"BT350","v":32.230039999999995},{"$f":"BU350","v":72.371202973762905},{"$f":"BV350","v":"e21"},null,{"$f":"-BX357-GK101","v":-22.230039999999995},{"$f":"BY357","v":64.3},"e215",null,null,null,null,null,null,null,null,null,null,null,null,null,null,null,null,null,{"$f":"GN103","v":-25.844145557703101},{"$f":"GO103","v":115.38738418849009},"14 شیفت",null,{"$f":"CZ354-0.5*CW358*COS(CW368)","v":-22.230039999999995},{"$f":"DA354-0.5*CW358*SIN(CW368)","v":64.3},"e212",null,{"$f":"CZ350","v":-22.230039999999995},{"$f":"DA350","v":72.371202973762905},{"$f":"DB350","v":"e21"},null,null,"گوده",null,null,{"$f":"DL343-2*DI351*COS(DI361)","v":15},{"$f":"DM343-2*DI351*SIN(DI361)","v":66.580000000000013},"e216",null,{"$f":"DL357","v":15},{"$f":"DM357","v":66.580000000000013},{"$f":"DN357","v":"e218"},null,null,null,null,null,null,null,null,null,null,null,null,null,null,null,null,null,null,null,null,null,null,null,{"$f":"-CF337-GK101","v":-6.306469111540622},{"$f":"CG337","v":71.580000000000013},"e217",null,"خط اول","نقطه اول","d3",{"$f":"EU372","v":0},{"$f":"EV372","v":115.2},null,null,null,null,null,null,null,null,null,null,null,null,null,null,null,null,null,null,null,null,null,null,{"$f":"FU343","v":-7.5581421333842158},{"$f":"FV343","v":124.45559406167013},"g7",null,"خط اول","نقطه اول","d3",{"$f":"GG355","v":0},{"$f":"GH355","v":115.2},null,null,"شیفت افقی کل",{"$f":"'متغیرها '!C51","v":5},null,null,{"$f":"GK323","v":15},{"$f":"GL323","v":112.8},"d3",null,"نقطه اول از خط دوم"," یا  22",{"$f":"IF(GQ357>GQ360,GK317,GK316)","v":28.676935650976734},{"$f":"IF(GQ357>GQ360,GL317,GL316)","v":130.9189297056397},null,"m21",{"$f":"'متغیرها '!C379","v":30},null,null,{"$f":"GT341+GT359","v":56.766599999999997},{"$f":"GU341","v":96.5},"جدا 34",null,{"$f":"GT341+GT359","v":56.766599999999997},{"$f":"GU341","v":96.5},"جدا 34",null,{"$f":"GT341+GT359","v":56.766599999999997},{"$f":"GU341","v":96.5},"جدا 34",null,{"$f":"GT341+GT359","v":56.766599999999997},{"$f":"GU341","v":96.5},"جدا 34",null,{"$f":"GT341+GT359","v":56.766599999999997},{"$f":"GU341","v":96.5},"جدا 34",null,"d5  b14",{"$f":"0.45*(HR317-HR341)+HR341","v":5.2949700000000002},{"$f":"HS341+((HR359-HR341)/(HR313-HR341))*(HS313-HS341)+0.6*'متغیرها '!C358*(HR310-HR341)","v":111.79771347431803},null,"نقطه اول از خط دوم"," یا  22",{"$f":"IF(HX357>HX360,HR316,HR315)","v":13.676935650976734},{"$f":"IF(HX357>HX360,HS316,HS315)","v":130.9189297056397},null,null,null,null,null,{"$f":"-ID343","v":-13.241562903407385},{"$f":"IE343","v":118.44056069183193},"شیفتd4  b6'",null,{"$f":"-IH343","v":-14.582490283680695},{"$f":"II343","v":111.74698774323107},"شیفتd4  b14'"]
[null,null,null,null,null,"u30",{"$f":"'متغیرها '!C340","v":4},null,{"$f":"G362*G357*0.01","v":9.6},"d3 d'3",{"$f":"ATAN((F356-F355)/(G355-G356))","v":-7.7621508737393555E-2},"αd3",null,null,null,null,null,null,null,null,null,null,null,null,null,null,null,null,null,null,null,null,null,null,null,null,null,null,null,null,null,null,null,null,null,null,null,null,null,null,null,null,null,null,null,null,null,null,null,null,null,null,null,null,null,null,null,null,{"$f":"'متغیرها '!C134","v":0},"انتخاب ترک گشاد",null,{"$f":"BT354+1*BQ358*COS(BQ368)","v":32.230039999999995},{"$f":"BU354+1*BQ358*SIN(BQ368)","v":64.3},"e213",null,{"$f":"BT366","v":32.230039999999995},{"$f":"BU366","v":72.371202973762905},{"$f":"BV366","v":"e216"},null,null,null,null,null,null,null,null,null,null,null,null,null,null,null,null,null,null,null,null,null,null,{"$f":"'متغیرها '!C134","v":0},"انتخاب ترک گشاد",null,{"$f":"CZ354-1*CW358*COS(CW368)","v":-22.230039999999995},{"$f":"DA354-1*CW358*SIN(CW368)","v":64.3},"e213",null,{"$f":"CZ366","v":-22.230039999999995},{"$f":"DA366","v":72.371202973762905},{"$f":"DB366","v":"e216"},null,"e01",{"$f":"IF(DI347<1,DI347*DI349,DI349+(DI347-1)*(DI350-DI349))+DI346","v":59.3},null,null,null,null,null,null,null,null,null,null,null,null,null,null,null,null,null,null,null,null,null,null,null,null,null,null,null,null,null,null,null,null,null,null,null,null,null,"نقطه دوم",{"$f":"ET356","v":"b16"},{"$f":"EU356","v":19.463474035591126},{"$f":"EV356","v":139.52135929212406},null,null,null,null,null,null,{"$f":"EU373+EU376","v":17.60146911154062},{"$f":"EV373+EU377","v":120.2},{"$f":"ET373","v":" بالاتنه 5"},null,{"$f":"BS104+BT130","v":17.60146911154062},{"$f":"BT104","v":120.2},"شیفت 5 بالاتنه",null,null,null,null,null,{"$f":"-FE329-FU306","v":-7.6014691115406201},{"$f":"FF329","v":120.2}," بالاتنه 5",null,null,null,null,null,null,"نقطه دوم",{"$f":"FY356","v":"b16"},{"$f":"FZ356","v":19.463474035591126},{"$f":"GA356","v":139.52135929212406},null,null,"شیفت عمودی کل",{"$f":"'متغیرها '!C52","v":5},null,null,{"$f":"IF(GL323<BL167,GK323,BK167)","v":15},{"$f":"IF(GL323<BL167,GL323,BL167)","v":112.8},"45 یا d3",null,"نقطه دوم از خط دوم",40,{"$f":"BO164","v":26.7666},{"$f":"BP164","v":113.45561085030904},null,"محاسبات ",null,null,null,null,null,"یقه",null,null,null,"یقه",null,null,null,"یقه",null,null,null,"یقه",null,null,null,"یقه",null,"d4  b14ʻ",{"$f":"0.2*(HR313-HR317)+HR317","v":14.582490283680695},{"$f":"HS341+((HR360-HR341)/(HR313-HR341))*(HS313-HS341)+0.75*'متغیرها '!C358*(HR310-HR341)","v":111.74698774323107},null,"نقطه دوم از خط دوم",40,{"$f":"HR317","v":11.7666},{"$f":"HS317","v":113.45561085030904},null,null,null,null,null,{"$f":"-ID344","v":-12.25149310042565},{"$f":"IE344","v":117.88825744786035},"شیفتd4  b6''",null,{"$f":"-IH344","v":{"$error":"#DIV/0!"}},{"$f":"II344","v":{"$error":"#DIV/0!"}},"شیفتd4  b14''"]
[null,null,null,null,null,"d30",{"$f":"'متغیرها '!C341","v":10},null,null,null,null,null,null,null,null,null,null,null,null,null,null,null,null,null,null,null,null,null,null,null,null,null,null,null,{"$f":"AI350","v":-12.608456378037729},{"$f":"AJ350","v":55},"s'fp16",null,null,null,null,null,null,null,null,null,null,null,null,null,null,null,null,null,null,null,null,null,null,{"$f":"BH350","v":11.72753347789633},{"$f":"BI350","v":51},"s'fp16",null,null,null,null,null,null,"اوزمان",null,null,{"$f":"BT354+2*BQ358*COS(BQ368)","v":32.230039999999995},{"$f":"BU354+2*BQ358*SIN(BQ368)","v":64.3},"e215",null,{"$f":"BT359","v":32.230039999999995},{"$f":"BU359","v":64.3},{"$f":"BV359","v":"e212"},null,{"$f":"-BX360-GK101","v":-22.230039999999995},{"$f":"BY360","v":72.371202973762905},"e216",null,null,null,null,null,null,null,null,null,null,null,null,null,null,null,null,null,null,"اوزمان",null,null,{"$f":"CZ354-2*CW358*COS(CW368)","v":-22.230039999999995},{"$f":"DA354-2*CW358*SIN(CW368)","v":64.3},"e215",null,{"$f":"CZ359","v":-22.230039999999995},{"$f":"DA359","v":64.3},{"$f":"DB359","v":"e212"},null,"(e29→e26)",{"$f":"DI348-(DL343-DL347)","v":0},null,null,null,null,null,null,{"$f":"DL358","v":15},{"$f":"DM358","v":66.580000000000013},{"$f":"DN358","v":"e217"},null,null,null,null,null,null,null,null,null,null,null,null,null,null,null,null,null,null,null,null,null,null,null,{"$f":"-CF340-GK101","v":-6.306469111540622},{"$f":"CG340","v":71.580000000000013},"e216",null,null,"نقطه دوم",35,{"$f":"EX378","v":14.238655678790375},{"$f":"EY378","v":140.73895738908448},null,null,null,null,null,null,null,null,null,null,null,null,null,null,null,null,null,null,null,null,null,null,{"$f":"-FE333-FU306","v":-7.6014691115406201},{"$f":"FF333","v":118.23},"شیفت 43",null,null,"نقطه دوم",35,{"$f":"GG367","v":14.238655678790375},{"$f":"GH367","v":140.73895738908448},null,null,"متغیرهای محاسبه ای",null,null,null,{"$f":"IF(GL323<BL167,GK323,BK167)","v":15},{"$f":"IF(GL323<BL167,GL323,BL167)","v":112.8},"45 یا d3",null,null,null,null,null,null,"m20",{"$f":"SQRT(POWER((GT340-GT342),2)+POWER((GU340-GU342),2))","v":18.475295367522449},null,null,{"$f":"GT337+GT346","v":35.193704757673942},{"$f":"GU337+GT347","v":111.54267889277813},"شیفتd6  b14",null,{"$f":"GT331+GT346","v":32.352263718090846},{"$f":"GU331+GT347","v":114.82166393463736},"شیفتd6  b10",null,{"$f":"GT325+GT346","v":31.577587974062393},{"$f":"GU325+GT347","v":119.90146786317351},"شیفتd6  b6",null,{"$f":"GT319+GT346","v":31.73151166996071},{"$f":"GU319+GT347","v":125.63533139248892},"شیفتd6  b12",null,{"$f":"GT313+GT346","v":32.0911018510876},{"$f":"GU313+GT347","v":130.19925591807154},"شیفتd6  b16",null,null,null,null,null,null,null,null,null,null,null,null,null,null,{"$f":"-ID346","v":-12.25149310042565},{"$f":"IE346","v":117.88825744786035},"d4  b6''",null,{"$f":"-IH346","v":{"$error":"#DIV/0!"}},{"$f":"II346","v":{"$error":"#DIV/0!"}},"d4  b14''"]
[null,null,null,null,null,null,null,null,null,null,null,null,null,null,null,null,null,null,null,null,null,null,null,null,null,null,null,null,null,null,null,null,null,null,null,null,null,null,null,null,null,null,null,null,null,null,null,null,null,null,null,null,null,null,null,null,null,null,null,null,null,null,null,null,null,null,null,"(47'→52)",{"$f":"SQRT(POWER((BQ349-BQ350),2)+POWER((BP350-BP349),2))","v":14.899999999999977},null,null,{"$f":"BT350+0.5*BQ358*COS(BQ368)","v":32.230039999999995},{"$f":"BU350+0.5*BQ358*SIN(BQ368)","v":72.371202973762905},"e220",null,{"$f":"BT363","v":32.230039999999995},{"$f":"BU363","v":72.371202973762905},{"$f":"BV363","v":"e220"},null,null,null,null,null,null,null,null,null,null,null,null,null,null,null,null,null,null,null,null,null,"(47'→52)",{"$f":"SQRT(POWER((CW349-CW350),2)+POWER((CV350-CV349),2))","v":14.899999999999977},null,null,{"$f":"CZ350-0.5*CW358*COS(CW368)","v":-22.230039999999995},{"$f":"DA350-0.5*CW358*SIN(CW368)","v":72.371202973762905},"e220",null,{"$f":"CZ363","v":-22.230039999999995},{"$f":"DA363","v":72.371202973762905},{"$f":"DB363","v":"e220"},null,"(e25→e21)",{"$f":"SQRT(POWER((DM347-DM343),2)+POWER((DL347-DL343),2))","v":7.2800000000000153},null,null,null,null,null,null,null,null,null,null,null,null,null,null,null,null,null,null,null,null,null,null,null,null,null,null,null,null,null,null,null,null,null,null,"ترک گشاد",null,null,"نقطه تقاطع","g1",{"$f":"(EX361-EX359+EW359*((EX360-EX359)/(EW360-EW359))-EW361*((EX362-EX361)/(EW362-EW361)))/(((EX360-EX359)/(EW360-EW359))-((EX362-EX361)/(EW362-EW361)))","v":13.698820363010261},{"$f":"EX359+(EW363-EW359)*((EX360-EX359)/(EW360-EW359))","v":132.31790666546951},null,null,null,null,null,null,{"$f":"BS104+BT130","v":17.60146911154062},{"$f":"BT104","v":120.2},"شیفت 5 بالاتنه",null,{"$f":"AZ161","v":17.60146911154062},{"$f":"BA161","v":118.23},43,null,null,null,null,null,{"$f":"-FE332-FU306","v":-7.6014691115406201},{"$f":"FF332","v":120.2},"شیفت 5 بالاتنه",null,null,null,null,null,null,"نقطه تقاطع","g1",{"$f":"(GC361-GC359+GB359*((GC360-GC359)/(GB360-GB359))-GB361*((GC362-GC361)/(GB362-GB361)))/(((GC360-GC359)/(GB360-GB359))-((GC362-GC361)/(GB362-GB361)))","v":13.698820363010261},{"$f":"GC359+(GB363-GB359)*((GC360-GC359)/(GB360-GB359))","v":132.31790666546951},null,null,"α5",{"$f":"ATAN((GG367-GG356)/(GH367-GH356))","v":6.4017860160674803E-2},null,null,{"$f":"IF(CO170>CO169,CN170,CN169)","v":15},{"$f":"IF(CO170>CO169,CO170,CO169)","v":96.5},"44 یا d1",null,null,"به دست آوردن نقطه تقاطع دو خط (d''4b10) شیفت","مولفه افقی","مولفه عمودی",null,null,null,null,null,{"$f":"GT336+GT346","v":29.575634919224647},{"$f":"GU336+GT347","v":111.11265498706094},"شیفتd4  b14'",null,{"$f":"GT330+GT346","v":28.628487906030283},{"$f":"GU330+GT347","v":113.67173722827441},"شیفتd4  b10'",null,{"$f":"GT324+GT346","v":28.370262658020799},{"$f":"GU324+GT347","v":117.83261054071858},"شیفتd4  b6'",null,{"$f":"GT318+GT346","v":28.42157055665357},{"$f":"GU318+GT347","v":122.39688596073252},"شیفتd4  b12'",null,{"$f":"GT312+GT346","v":28.541433950362531},{"$f":"GU312+GT347","v":125.87642941319785},"شیفتd4  b16'",null,null,null,null,null,null,"به دست آوردن نقطه تقاطع دو خط (d''4b12) شیفت","مولفه افقی","مولفه عمودی",null,null,null,null,null,{"$f":"-ID347","v":-9.4132800000000003},{"$f":"IE347","v":116.30498089733146},"d4  b6",null,{"$f":"-IH347","v":-9.4132800000000003},{"$f":"II347","v":111.522673023162},"d4  b14''"]
[null,null,null,null,null,null,null,null,null,null,null,null,null,null,null,null,null,null,null,null,null,null,null,null,null,null,null,null,null,null,null,null,null,null,null,null,null,null,null,null,null,null,null,null,null,null,null,null,null,null,null,null,null,null,null,null,null,null,null,null,null,null,null,null,null,null,null,null,"گوده",null,null,{"$f":"BT350+2*BQ358*COS(BQ368)","v":32.230039999999995},{"$f":"BU350+2*BQ358*SIN(BQ368)","v":72.371202973762905},"e216",null,{"$f":"BT364","v":32.230039999999995},{"$f":"BU364","v":72.371202973762905},{"$f":"BV364","v":"e218"},null,null,null,null,null,null,null,null,null,null,null,null,null,null,null,null,null,null,null,null,null,null,"گوده",null,null,{"$f":"CZ350-2*CW358*COS(CW368)","v":-22.230039999999995},{"$f":"DA350-2*CW358*SIN(CW368)","v":72.371202973762905},"e216",null,{"$f":"CZ364","v":-22.230039999999995},{"$f":"DA364","v":72.371202973762905},{"$f":"DB364","v":"e218"},null,null,null,null,null,null,null,null,null,null,null,"ترک گشاد",null,null,null,null,null,null,null,null,null,null,null,null,null,null,null,null,null,null,null,null,null,null,null,null,null,null,null,"(5→ g5)",{"$f":"SQRT(POWER((EX365-EU373),2)+POWER((EY365-EV373),2))","v":17.153043705909084},null,"g6",{"$f":"EU373+EU366*SIN(EU367)","v":14.962283509522862},{"$f":"EV373+EU366*COS(EU367)","v":132.1898047003227},null,null,null,null,null,{"$f":"AZ161","v":17.60146911154062},{"$f":"BA161","v":118.23},43,null,null,null,null,null,null,null,null,null,{"$f":"-FE335-FU306","v":-7.6014691115406201},{"$f":"FF335","v":118.23},43,null,null,null,null,null,"(5→ g5)",{"$f":"SQRT(POWER((GC365-GG356),2)+POWER((GD365-GH356),2))","v":17.153043705909084},null,"g6",{"$f":"GG356+FZ366*SIN(FZ367)","v":14.962283509522862},{"$f":"GH356+FZ366*COS(FZ367)","v":132.1898047003227},null,"اسم نقطه","مولفه افقی","مولفه عمودی",null,{"$f":"CN170","v":15},{"$f":"CO170","v":91.7},"d1",null,"نقطه اول از خط دوم"," یا  22",{"$f":"IF(GQ364>GQ367,GK317,GK316)","v":26.7666},{"$f":"IF(GQ364>GQ367,GL317,GL316)","v":96.5},null,"اسم نقطه","مولفه افقی","مولفه عمودی",null,{"$f":"GT339","v":{"$error":"#DIV/0!"}},{"$f":"GU339","v":{"$error":"#DIV/0!"}},"شیفتd4  b14''",null,{"$f":"GT332+GT346","v":{"$error":"#DIV/0!"}},{"$f":"GU332+GT347","v":{"$error":"#DIV/0!"}},"شیفتd4  b10''",null,{"$f":"GT327","v":27.178369614556413},{"$f":"GU327","v":117.21979965674134},"شیفتd4  b6''",null,{"$f":"GT321","v":27.675126122001252},{"$f":"GU321","v":121.76089549952385},"شیفتd4  b12''",null,{"$f":"GT315","v":28.068355711933492},{"$f":"GU315","v":125.35560081155975},"شیفتd4  b16''",null,null,null,null,null,"نقطه اول از خط دوم","یا  22",{"$f":"IF(HX364>HX367,HR316,HR315)","v":13.676935650976734},{"$f":"IF(HX364>HX367,HS316,HS315)","v":130.9189297056397}]
[null,null,null,null,null,null,null,null,null,null,null,null,null,null,null,null,null,null,null,null,null,null,null,null,null,null,null,null,null,null,null,null,null,null,null,null,null,null,null,null,null,null,null,null,null,null,null,null,null,null,null,null,null,null,null,null,null,null,null,null,null,null,null,null,null,null,null,"e01",{"$f":"IF(BQ354<1,BQ354*BQ356,BQ356+(BQ354-1)*(BQ357-BQ356))+BQ353","v":64.3},null,null,null,null,null,null,null,null,null,null,{"$f":"-BX365-GK101","v":-22.230039999999995},{"$f":"BY365","v":64.3},"e213",null,null,null,null,null,null,null,null,null,null,null,null,null,null,null,null,null,"e01",{"$f":"IF(CW354<1,CW354*CW356,CW356+(CW354-1)*(CW357-CW356))+CW353","v":64.3},null,null,null,null,null,null,null,null,null,null,null,null,null,null,null,null,null,null,{"$f":"IF(DI353=1,DH352,DL343)","v":15},{"$f":"IF(DI353=1,DI352,DM343)","v":66.580000000000013},{"$f":"IF(DI353=1,DJ352,DN343)","v":"e21"},null,null,null,null,null,null,null,null,null,null,null,null,null,null,null,null,null,null,null,null,null,null,null,null,null,null,null,"g10",{"$f":"ATAN((EU375-EU373)/(EV375-EV373))","v":0.13807065700945106},null,"g7",{"$f":"EU373-EU366*SIN(EU368)","v":12.42683990020508},{"$f":"EV373+EU366*COS(EU368)","v":132.3521547630429},null,null,null,null,null,{"$f":"BS104","v":17.60146911154062},{"$f":"BT104","v":120.2}," 5 بالاتنه",null,null,null,null,null,null,null,null,null,{"$f":"-FE336-FU306","v":-7.6014691115406201},{"$f":"FF336","v":120.2}," 5 بالاتنه",null,null,null,null,null,"g10",{"$f":"ATAN((GG358-GG356)/(GH358-GH356))","v":0.13807065700945106},null,"g7",{"$f":"GG356-FZ366*SIN(FZ368)","v":12.42683990020508},{"$f":"GH356+FZ366*COS(FZ368)","v":132.3521547630429},null,35,{"$f":"0.5*(GG357+GG358)","v":14.238655678790375},{"$f":"0.5*(GH357+GH358)","v":140.73895738908448},null,null,null,null,null,"نقطه دوم از خط دوم",40,{"$f":"BO164","v":26.7666},{"$f":"BP164","v":113.45561085030904},null,"m5",{"$f":"IF(GT355=1,GT311,IF(GT355=2,GT310,IF(GT355=3,GT312,IF(GT355=4,GT313,GT309))))","v":24.41328},{"$f":"IF(GT355=1,GU311,IF(GT355=2,GU310,IF(GT355=3,GU312,IF(GT355=4,GU313,GU309))))","v":121.33159840077614},null,{"$f":"GT343+GT346","v":26.7666},{"$f":"GU343+GT347","v":113.45561085030904}," شیفت 40",null,{"$f":"GT343+GT346","v":26.7666},{"$f":"GU343+GT347","v":113.45561085030904}," شیفت 40",null,{"$f":"GT343+GT346","v":26.7666},{"$f":"GU343+GT347","v":113.45561085030904}," شیفت 40",null,{"$f":"GT343+GT346","v":26.7666},{"$f":"GU343+GT347","v":113.45561085030904}," شیفت 40",null,{"$f":"GT343+GT346","v":26.7666},{"$f":"GU343+GT347","v":113.45561085030904}," شیفت 40",null,null,null,null,null,"نقطه دوم از خط دوم",40,{"$f":"HR317","v":11.7666},{"$f":"HS317","v":113.45561085030904},null,null,null,null,null,{"$f":"-HR327","v":-9.4132800000000003},{"$f":"HS327","v":115.79813097576023},"m7",null,{"$f":"-HR329","v":-9.4132800000000003},{"$f":"HS329","v":111.07769989952921},"m9"]
[null,null,null,null,null,null,null,null,null,null,null,null,null,null,null,null,null,null,null,null,null,null,null,null,null,null,null,null,null,null,null,null,null,null,null,null,null,null,null,null,null,null,null,null,null,null,null,null,null,null,null,null,null,null,null,null,null,null,null,null,null,null,null,null,null,null,null,"(e29→e26)",{"$f":"BQ355+BT350-BT354","v":0},null,null,null,null,null,null,{"$f":"BT365","v":32.230039999999995},{"$f":"BU365","v":72.371202973762905},{"$f":"BV365","v":"e217"},null,null,null,null,null,null,null,null,null,null,null,null,null,null,null,null,null,null,null,null,null,"(e29→e26)",{"$f":"CW355-(CZ350-CZ354)","v":0},null,null,null,null,null,null,{"$f":"CZ365","v":-22.230039999999995},{"$f":"DA365","v":72.371202973762905},{"$f":"DB365","v":"e217"},null,null,null,null,null,null,null,null,null,null,null,null,null,null,null,null,null,null,null,null,null,null,null,null,null,null,null,null,null,null,null,null,null,null,null,null,null,null,null,null,null,null,null,null,null,null,null,null,null,null,null,null,null,null,null,null,null,null,null,null,null,null,null,null,null,null,null,null,null,null,null,null,null,null,null,null,null,null,null,null,null,null,null,null,null,null,null,null,null,null,"m7",{"$f":"IF(GT355=1,GT323,IF(GT355=2,GT322,IF(GT355=3,GT324,IF(GT355=4,GT325,GT309))))","v":24.41328},{"$f":"IF(GT355=1,GU323,IF(GT355=2,GU322,IF(GT355=3,GU324,IF(GT355=4,GU325,GU309))))","v":115.79813097576023},null,{"$f":"GT343","v":26.7666},{"$f":"GU343","v":113.45561085030904},40,null,{"$f":"GT343","v":26.7666},{"$f":"GU343","v":113.45561085030904},40,null,{"$f":"GT343","v":26.7666},{"$f":"GU343","v":113.45561085030904},40,null,{"$f":"GT343","v":26.7666},{"$f":"GU343","v":113.45561085030904},40,null,{"$f":"GT343","v":26.7666},{"$f":"GU343","v":113.45561085030904},40]
[null,null,null,null,null,null,null,null,null,null,null,null,null,null,null,null,null,null,null,null,null,null,null,null,null,null,null,null,null,null,null,null,null,null,null,null,null,null,null,null,null,null,null,null,null,null,null,null,null,null,null,null,null,null,null,null,null,null,null,null,null,null,null,null,null,null,null,"(e25→e21)",{"$f":"SQRT(POWER((BU354-BU350),2)+POWER((BT354-BT350),2))","v":8.0712029737629081},null,null,null,null,null,null,null,null,null,null,{"$f":"-BX368-GK101","v":-22.230039999999995},{"$f":"BY368","v":64.3},"e214",null,null,null,null,null,null,null,null,null,null,null,null,null,null,null,null,null,"(e25→e21)",{"$f":"SQRT(POWER((DA354-DA350),2)+POWER((CZ354-CZ350),2))","v":8.0712029737629081},null,null,null,null,null,null,null,null,null,null,null,null,null,null,null,null,null,null,null,null,null,null,null,null,null,null,null,null,null,null,null,null,null,null,null,null,null,null,null,null,null,null,null,null,null,null,null,null,"نقاط کپی شده از قسمتهای دیگر",null,null,null,null,null,null,null,null,null,null,null,null,null,null,null,null,null,null,null,null,null,null,null,null,null,null,null,null,null,null,null,null,null,null,null,null,null,null,null,null,null,null,null,null,null,null,"به دست آوردن نقطه تقاطع دو خط (d''4b14) شیفت","مولفه افقی","مولفه عمودی",null,"m8",{"$f":"IF(GT355=1,GT329,IF(GT355=2,GT328,IF(GT355=3,GT330,IF(GT355=4,GT331,GT309))))","v":24.41328},{"$f":"IF(GT355=1,GU329,IF(GT355=2,GU328,IF(GT355=3,GU330,IF(GT355=4,GU331,GU309))))","v":112.83700457224168},null,{"$f":"GT338","v":{"$error":"#DIV/0!"}},{"$f":"GU338","v":{"$error":"#DIV/0!"}},"d4  b14''",null,{"$f":"GT332","v":{"$error":"#DIV/0!"}},{"$f":"GU332","v":{"$error":"#DIV/0!"}},"d4  b10''",null,{"$f":"GT326","v":27.178369614556413},{"$f":"GU326","v":117.21979965674134},"d4  b6''",null,{"$f":"GT320","v":27.675126122001252},{"$f":"GU320","v":121.76089549952385},"d4  b12''",null,{"$f":"GT314","v":28.068355711933492},{"$f":"GU314","v":125.35560081155975},"d4  b16''",null,null,null,null,null,null,"به دست آوردن نقطه تقاطع دو خط (d''4b6) شیفت","مولفه افقی","مولفه عمودی",null,null,null,null,null,{"$f":"-HR334","v":-9.4132800000000003},{"$f":"HS334","v":96.5},"m'10",null,{"$f":"-HR334","v":-9.4132800000000003},{"$f":"HS334","v":96.5},"m'10"]
[null,null,null,null,null,null,null,null,null,null,null,null,null,null,null,null,null,null,null,null,null,null,null,null,null,null,null,null,null,null,null,null,null,null,null,null,null,null,null,null,null,null,null,null,null,null,null,null,null,null,null,null,null,null,null,null,null,null,null,null,null,null,null,null,null,null,null,null,null,null,null,null,null,null,null,{"$f":"BT366","v":32.230039999999995},{"$f":"BU366","v":72.371202973762905},{"$f":"BV366","v":"e216"},null,null,null,null,null,null,null,null,null,null,null,null,null,null,null,null,null,null,null,null,null,null,null,null,null,null,null,null,null,{"$f":"CZ366","v":-22.230039999999995},{"$f":"DA366","v":72.371202973762905},{"$f":"DB366","v":"e216"},null,null,null,null,null,null,null,null,null,null,null,null,null,null,null,null,null,null,null,null,null,null,null,null,null,null,null,null,null,null,null,null,null,null,null,null,null,null,null,"d3",{"$f":"AZ105-EU376","v":0},{"$f":"BE193+('متغیرها '!C352-4)*(I124-I123)-EU377","v":115.2},null,null,null,null,null,null,null,null,null,null,null,null,null,null,null,null,null,null,null,null,null,null,null,null,null,null,null,null,null,null,null,null,null,null,null,null,null,null,null,null,null,null,null,"نقطه دوم از خط اول","d'4b14",{"$f":"GK342","v":29.575634919224647},{"$f":"GL342","v":111.11265498706094},null,"m10",{"$f":"GT340+GT356*(GT341-GT340)","v":24.41328},{"$f":"GU340","v":96.5},null,{"$f":"GT338","v":{"$error":"#DIV/0!"}},{"$f":"GU338","v":{"$error":"#DIV/0!"}},"d4  b14''",null,{"$f":"GT332","v":{"$error":"#DIV/0!"}},{"$f":"GU332","v":{"$error":"#DIV/0!"}},"d4  b10''",null,{"$f":"GT326","v":27.178369614556413},{"$f":"GU326","v":117.21979965674134},"d4  b6''",null,{"$f":"GT320","v":27.675126122001252},{"$f":"GU320","v":121.76089549952385},"d4  b12''",null,{"$f":"GT314","v":28.068355711933492},{"$f":"GU314","v":125.35560081155975},"d4  b16''",null,null,null,null,null,"نقطه دوم از خط اول","d'4b6",{"$f":"HR352","v":13.241562903407385},{"$f":"HS352","v":118.44056069183193}]
[null,null,null,null,null,null,null,null,null,null,null,null,null,null,null,null,null,null,null,null,null,null,null,null,null,null,null,null,null,null,null,null,null,null,null,null,null,null,null,null,null,null,null,null,null,null,null,null,null,null,null,null,null,null,null,null,null,null,null,null,null,null,null,null,null,null,null,null,null,null,null,null,null,null,null,null,null,"ترک گشاد",null,{"$f":"-BX371-GK101","v":-22.230039999999995},{"$f":"BY371","v":64.3},"e215",null,null,null,null,null,null,null,null,null,null,null,null,null,null,null,null,null,null,null,null,null,null,null,null,null,null,null,"ترک گشاد",null,null,null,null,null,null,null,null,null,null,null,null,null,null,null,null,null,null,null,null,null,null,null,null,null,null,null,null,null,null,null,null,null,null,null,null,null,null,null," بالاتنه 5",{"$f":"BS104-EU376","v":12.60146911154062},{"$f":"BT104-EU377","v":115.2},null,"متغیرهای محاسبه ای",null,null,null,null,null,null,null,null,null,null,null,null,null,null,null,null,null,null,null,null,null,null,null,null,null,null,null,null,null,null,null,null,null,null,null,null,null,null,null,null,null,"نقطه اول از خط دوم"," یا  22",{"$f":"IF(GQ371>GQ374,GK317,GK316)","v":26.7666},{"$f":"IF(GQ371>GQ374,GL317,GL316)","v":96.5},null,"m11",{"$f":"GT340-GT357*GT362*SIN(GT361)","v":15},{"$f":"GU340-GT357*GT362*COS(GT361)","v":81.719763705982047},null,{"$f":"GT334","v":24.41328},{"$f":"GU334","v":111.07769989952921},"d4  b14",null,{"$f":"GT328","v":24.41328},{"$f":"GU328","v":112.83700457224168},"d4  b10",null,{"$f":"GT322","v":24.41328},{"$f":"GU322","v":115.79813097576023},"d4  b6",null,{"$f":"GT316","v":24.41328},{"$f":"GU316","v":118.98171606805077},"d4  b12",null,{"$f":"GT310","v":24.41328},{"$f":"GU310","v":121.33159840077614},"d4  b16",null,null,null,null,null,"نقطه اول از خط دوم"," یا  22",{"$f":"IF(HX371>HX374,HR316,HR315)","v":13.676935650976734},{"$f":"IF(HX371>HX374,HS316,HS315)","v":130.9189297056397}]
[null,null,null,null,null,null,null,null,null,null,null,null,null,null,null,null,null,null,null,null,null,null,null,null,null,null,null,null,null,null,null,null,null,null,null,null,null,null,null,null,null,null,null,null,null,null,null,null,null,null,null,null,null,null,null,null,null,null,null,null,null,null,null,null,null,null,null,null,null,null,null,null,null,null,null,null,null,null,null,{"$f":"-BX374-GK101","v":-22.230039999999995},{"$f":"BY374","v":72.371202973762905},"e21",null,null,null,null,null,null,null,null,null,null,null,null,null,null,null,null,null,null,null,null,null,null,null,null,null,null,null,null,null,null,null,null,null,null,null,null,null,null,null,null,null,null,null,null,null,null,null,null,null,null,null,null,null,null,null,null,null,null,null,null,null,null,null,null,null,null,null,"شیفت افقی کل",{"$f":"'متغیرها '!C51","v":5},null,null,"ضریب افقی g8",0.5,null,null,null,null,null,null,null,null,null,null,null,null,null,null,null,null,null,null,null,null,null,null,null,null,null,null,null,null,null,null,null,null,null,null,null,null,null,null,null,null,null,null,null,null,null,"m14",{"$f":"GT367+GT374-GT373","v":27.773160000000004},{"$f":"GU367","v":121.33159840077614}]
[null,null,null,null,null,null,null,null,null,null,null,null,null,null,null,null,null,null,null,null,null,null,null,null,null,null,null,null,null,null,null,null,null,null,null,null,null,null,null,null,null,null,null,null,null,null,null,null,null,null,null,null,null,null,null,null,null,null,null,null,null,null,null,null,null,null,null,null,null,null,null,null,null,null,null,null,null,null,null,{"$f":"-BX375-GK101","v":-22.230039999999995},{"$f":"BY375","v":72.371202973762905},"e21",null,null,null,null,null,null,null,null,null,null,null,null,null,null,null,null,null,null,null,null,null,null,null,null,null,null,null,null,null,null,null,null,null,null,null,null,null,null,null,null,null,null,null,null,null,null,null,null,null,null,null,null,null,null,null,null,null,null,null,null,null,null,null,null,null,null,null,"شیفت عمودی کل",{"$f":"'متغیرها '!C52","v":5},null,"اسم نقطه","مولفه افقی","مولفه عمودی",null,null,null,null,null,null,null,null,null,null,null,null,null,null,null,null,null,null,null,null,null,null,null,null,null,null,null,null,null,null,null,null,null,null,null,null,null,null,null,null,null,null,null,null,null,"m15",{"$f":"GT368+GT374-GT373","v":27.773160000000004},{"$f":"GU368","v":118.98171606805077},null,{"$f":"GT352","v":40.811774596123236},{"$f":"GU352","v":112.47373911807699},"شیفتb8 تغییر به b14",null,{"$f":"GT351","v":36.076039530151412},{"$f":"GU351","v":116.47262696058199},"شیفتb10",null,{"$f":"GT350","v":34.784913290103987},122.47136150521011,"شیفتb6",null,{"$f":"GT349","v":35.04145278326785},129.37481314382703,"شیفتb12",null,{"$f":"GT348","v":35.640769751812662},135.02311874252692,"شیفتb16"]
[null,null,null,null,null,null,null,null,null,null,null,null,null,null,null,null,null,null,null,null,null,null,null,null,null,null,null,null,null,null,null,null,null,null,null,null,null,null,null,null,null,null,null,null,null,null,null,null,null,null,null,null,null,null,null,null,null,null,null,null,null,null,null,null,null,null,null,null,null,null,null,null,null,null,null,null,null,null,null,null,null,null,null,null,null,null,null,null,null,null,null,null,null,null,null,null,null,null,null,null,null,null,null,null,null,null,null,null,null,null,null,null,null,null,null,null,null,null,null,null,null,null,null,null,null,null,null,null,null,null,null,null,null,null,null,null,null,null,null,null,null,null,null,null,null,null,null,null,null,null,null,null,null,null,null,null,null,null,null,null,null,null,null,null,null,null,null,null,null,null,null,null,null,null,null,null,null,null,null,null,null,null,null,null,null,null,null,null,null,null,null,null,null,null,null,null,null,null,null,null,"m17",{"$f":"GT370+GT374-GT373","v":27.773160000000004},{"$f":"GU370","v":112.83700457224168},null,null,null,null,null,null,null,null,null,40.811774596123236,112.47373911807699,"شیفتb8 تغییر به b14",null,36.076039530151412,116.47262696058199,"شیفتb10",null,34.784913290103987,122.47136150521011,"شیفتb6"]
[null,null,null,null,null,null,null,null,null,null,null,null,null,null,null,null,null,null,null,null,null,null,null,null,null,null,null,null,null,null,null,null,null,null,null,null,null,null,null,null,null,null,null,null,null,null,null,null,null,null,null,null,null,null,null,null,null,null,null,null,null,null,null,null,null,null,null,null,null,null,null,null,null,null,null,null,null,null,null,null,null,null,null,null,null,null,null,null,null,null,null,null,null,null,null,null,null,null,null,null,null,null,null,null,null,null,null,null,null,null,null,null,null,null,null,null,null,null,null,null,null,null,null,null,null,null,null,null,null,null,null,null,null,null,null,null,null,null,null,null,null,null,null,null,null,null,null,null,null,null,null,null,null,null,null,null,null,null,null,null,null,null,null,null,null,null,null,null,null,null,null,null,null,null,null,null,null,null,null,null,null,null,null,null,null,null,null,null,null,null,null,null,null,null,null,null,null,null,null,null,"m18",{"$f":"GT371+GT374-GT373","v":27.773160000000004},{"$f":"GU371","v":111.07769989952921},null,null,null,null,null,{"$f":"GT352","v":40.811774596123236},{"$f":"GU352","v":112.47373911807699},"شیفتb8 تغییر به b14",null,null,null,null,null,40.811774596123236,112.47373911807699,"شیفتb8 تغییر به b14",null,36.076039530151412,116.47262696058199,"شیفتb10"]
[null,null,null,null,null,"نقاط  ورودی آستین ",null,"شبیه ساز",null,"اسم نقطه ","مولفه افقی","مولفه عمودی",null,null,null,null,{"$f":"L424","v":23.348421281192373},139.03229312467974,23,null,{"$f":"H393","v":13.351253177760663},146.84676563115454,25,null,{"$f":"-U383-GK101","v":-3.3512531777606629},{"$f":"V383","v":146.84676563115454},25,null,{"$f":"H393","v":13.351253177760663},146.84676563115454,25,null,{"$f":"-AC383-GK101","v":-3.3512531777606629},{"$f":"AD383","v":146.84676563115454},25,null,"رسم شبیه ساز دست خمیده و سر",null,null,null,"خطوط انحنا",null,null,null,{"$f":"F393","v":13.040800000000001},{"$f":"G393","v":146.9},25,null,null,"نقاط  ورودی",null,null,null,null,null,null," رسم شبیه ساز اندام",null,"شبیه سازپیراهن راسته با ساسون جلو",null,null,null,null,null,null,null,null,{"$f":"2*'متغیرها '!C51","v":10},"مرجع",null,"خطوط برش",null,null,null,null,null,null,"شبیه ساز پشت پیراهن با ساسون",null,null,null,null,"نقاط  ورودی",null,null,null,"محاسبات ",null,null,null,"رسم ",null,null,null,"نقاط  ورودی",null,null,null,"نقاط  خروجی ",null,null,null,"رسم انحنا",null,null,null,null,null,null,null,"رسم ",null,null,null,null,null,null,null,"رسم ",null,null,null,null,null," رسم انحنا",null,"مولفه افقی","مولفه عمودی","اسم نقطه ",null,null,null," رسم شبیه ساز ",null,"مولفه افقی","مولفه عمودی","اسم نقطه ",null,null,null," رسم شبیه ساز ",null,null,null,null,null,null,null,null,null,null,null,null,null,null,null,null,null,null,null,null,null,null,null,null,null,null,null,null,null,null,null,null,null,null,null,null,null,null,null,null,null,null,null,null,null,null,null,null,null,null,null,null,null,null,null,null,null,null,null,null,null,null,null,null,null,null,null,null,null,null,null,null,null,null,null,{"$f":"GT353","v":39.087906522700877},{"$f":"GU353","v":107.99088584720475},"شیفت10",null,{"$f":"GT352","v":40.811774596123236},{"$f":"GU352","v":112.47373911807699},"شیفتb8 تغییر به b14"]
[null,null,null,null,null,"(3 →10)",{"$f":"BK507","v":20.768198647446344},{"$f":"BL507","v":20.008421721198992},null,"k4",{"$f":"F394+(H385+H387)*COS(RADIANS(K390)+I398)","v":67.895641327950145},{"$f":"G394-(H385+H387)*SIN(RADIANS(K390)+I398)","v":100.41878598592318},null,"محاسبات آستین کیمونو و سرخود",null,null,34.251864630769326,135.91818674906824,"18f",null,24.254696527337614,143.73265925554304,"22f",null,{"$f":"-U384-GK101","v":-14.254696527337614},{"$f":"V384","v":143.73265925554304},"22f",null,24.254696527337614,143.73265925554304,"22f",null,{"$f":"-AC384-GK101","v":-14.254696527337614},{"$f":"AD384","v":143.73265925554304},"22f",null,"خطوط انحنا",null,null,null,{"$f":"F393","v":13.040800000000001},{"$f":"G393","v":146.9},{"$f":"J393","v":25},null,{"$f":"F394","v":24.762127675570746},{"$f":"G394","v":143.55229963830257},"22f",null,null,"مولفه افقی","مولفه عمودی","اسم نقطه ",null,null,null,null,"قرینه سرشانه",null,"دامن",null,null,null,"بالاتنه",null,null,null,"دامن",null,null,null,"بالاتنه",null,null,null,"دامن",null,null,null,"بالاتنه",null,null,null,"مولفه افقی","مولفه عمودی","اسم نقطه ",null,null,{"$f":"IF(CE389>CE388,ATAN((CF389-CF388)/(CE389-CE388)),RADIANS(90)+ATAN((CE388-CE389)/(CF389-CF388)))+ATAN((CF390-CF389)/(CE389-CE390))","v":1.5893717062439645},"αd",null,{"$f":"CI403","v":12.305686000638515},{"$f":"CJ403","v":131.3850560801213},{"$f":"CL403","v":"e15"},null,"مولفه افقی","مولفه عمودی","اسم نقطه ",null,"مولفه افقی","مولفه عمودی","اسم نقطه ",null,{"$f":"CQ391","v":-1.6799399999999998},{"$f":"CR391","v":109.42},{"$f":"CS391","v":"e1"},null,"شبیه ساز نقاط حلقه آستین جلو بدون ساسون سرشانه",null,null,null,{"$f":"BK385","v":13.040800000000001},146.9,25,null,"شبیه ساز حلقه آستین پشت بدون ساسون سرشانه",null,null,null,"بالاتنه",null,null,null,"مولفه افقی","مولفه عمودی","اسم نقطه ",null,"نقاط  ورودی از شبیه ساز دامن",null,null,null,{"$f":"DW403","v":32.494999999999997},103.92120297376289,"q1",null,"نقاط  ورودی از شبیه ساز دامن",null,null,null,{"$f":"EE407","v":37.299999999999997},96.5,"r1",null,null,null,null,null,null,null,null,null,null,null,null,null,null,null,null,null,null,null,null,null,null,null,null,null,null,null,null,null,null,null,null,null,null,null,null,null,null,null,null,null,null,null,null,null,null,null,null,null,null,null,null,null,null,null,null,null,null,null,null,null,null,null,null,null,null,null,null,null,null,null,null,null,null,null,null,null,null,null,{"$f":"GT353","v":39.087906522700877},{"$f":"GU353","v":107.99088584720475},"شیفت10"]
[null,null,null,null,null,"(3 → 18)",{"$f":"BK515","v":37.515490268119386},{"$f":"BL515","v":34.728403903346035},null,"k6",{"$f":"F395+0.15*(G395-G396)*SIN(0.5*(F423-F424))","v":36.509413271061945},{"$f":"G395-0.15*(G395-G396)*COS(0.5*(F423-F424))","v":119.60792683071709},null,"αk2",{"$f":"ATAN((L426-L427)/(M426-M427))","v":5.108815000348723E-2},null,null,null,null,null,null,null,null,null,null,null,null,null,null,null,null,null,null,null,null,null,{"$f":"F394","v":24.762127675570746},{"$f":"G394","v":143.55229963830257},{"$f":"J394","v":"22f"},null,{"$f":"F406","v":83.416741023598831},{"$f":"J406","v":126.80009581333303},"k4",null,null,null,null,null,null,{"$f":"AV132","v":6.432640000000001},{"$f":"AV103-AV133+H114","v":136.94965618971773}," شبیه ساز30",null,"قرینه",{"$f":"-AX385","v":-8.0408000000000008},{"$f":"AY385","v":141.9},{"$f":"AZ385","v":"25 شبیه ساز"},null,{"$f":"0+BI382","v":5},{"$f":"0+'متغیرها '!U59+BM382-H114","v":46.099999999999994},1,null,{"$f":"AV132+BI382","v":11.432640000000001},{"$f":"AV103-AV133+BM382","v":141.94965618971773},30,null,{"$f":"-BG386+BP383","v":5},{"$f":"0+'متغیرها '!U59+BM382-H114","v":46.099999999999994},1,null,{"$f":"-BK386+BP383","v":-1.432640000000001},{"$f":"AV103-AV133+BM382","v":141.94965618971773},30,null,{"$f":"-BG165+BY382","v":15},{"$f":"BG167+CC382","v":78.024704632477551},48,null,{"$f":"BG131+BY382","v":21.0306},{"$f":"BG103-BG132+CC382","v":137.67733846273964},28,null,null,{"$f":"H243*H124","v":4.6399999999999997},"γ7 t3",null,null,{"$f":"ATAN((CJ403-CJ401)/(CI403-CI401))","v":1.2741037203396944E-2},"αe13",null,null,null,null,null,{"$f":"BC410","v":19.762127675570746},{"$f":"BD410","v":138.55229963830254},"پایین شبیه ساز سرشانه",null,{"$f":"CQ390-0.3*CR389","v":7.5819473317990065},{"$f":"CR390","v":141.84676563115454},"e'25",null,null,null,null,null,{"$f":"DC391+DD394*COS(DD393)","v":24.762127675570746},{"$f":"DD391-DD394*SIN(DD393)","v":143.55229963830257},"22f",null,8.2163199999999996,137.98938114149192,28,null,{"$f":"DK394+DL393*COS(DL392)","v":34.63822114950387},{"$f":"DL394-DL393*SIN(DL392)","v":135.34547701154324},"18f",null,{"$f":"BG131+BY382","v":21.0306},{"$f":"BG103-BG132+CC382","v":137.67733846273964},28,null,{"$f":"DS385+H167*COS('متغیرها '!B315)","v":19.762127675570746},{"$f":"DT385-H167*SIN('متغیرها '!B315)","v":135.75229963830256},"سرشانه",null,{"$f":"BG395","v":32.494999999999997},{"$f":"BH395","v":103.92120297376289},41,null,28.91719826536124,60.05,"q3",null,{"$f":"BW398","v":37.299999999999997},{"$f":"BX398","v":96.5},36,null,39.243168655010457,53.259460747489385,"r3"]
[null,null,null,null,null,"(3 → 19)",{"$f":"BK516","v":43.341974285614356},{"$f":"BL516","v":44.634824285614357},null,"k7",{"$f":"F394+(H385+H388)*COS(RADIANS(K390)+I398)","v":48.485560184379423},{"$f":"G394-(H385+H388)*SIN(RADIANS(K390)+I398)","v":119.8288671294939},null,"(k4 →k5)",{"$f":"(G386-G384)*H132*'متغیرها '!C394/G386","v":19.086707794992964},null,{"$f":"M398","v":86.766812207515031},{"$f":"N398","v":104.43914170311859},"k''4",null,{"$f":"H407","v":76.769644104083312},{"$f":"I407","v":112.25361420959339},"k''4",null,{"$f":"-U387-GK101","v":-66.769644104083312},{"$f":"V387","v":112.25361420959339},"k4",null,{"$f":"H419","v":38.354994865064356},{"$f":"I419","v":135.28051473257722},"k13",null,{"$f":"-AC387-GK101","v":-28.354994865064356},{"$f":"AD387","v":135.28051473257722},"k13",null,{"$f":"K384","v":67.895641327950145},{"$f":"L384","v":100.41878598592318},"k4",null,null,null,null,null,{"$f":"F408","v":77.082344142089184},{"$f":"J408","v":112.18998229891177},"k4'",null,null,{"$f":"AV130","v":3.2163200000000005},{"$f":"AV103-AV131+H114","v":132.98938114149192}," شبیه ساز28",null,null,null,null,null,null,null,null,null,null,{"$f":"AV130+BI382","v":8.2163199999999996},{"$f":"AV103-AV131+BM382","v":137.98938114149192},28,null,null,null,null,null,{"$f":"-BK387+BP383","v":1.7836800000000004},{"$f":"AV103-AV131+BM382","v":137.98938114149192},28,null,null,null,null,null,{"$f":"BG129+BY382","v":18.21632},{"$f":"BG103-BG130+CC382","v":136.96600769410946},26,null,null,{"$f":"O245","v":0.40727813033152666},"γ8",null,null,{"$f":"ATAN((CF390-CF389)/(CE389-CE390))","v":5.8343422456732328E-3},"α26",null,{"$f":"CM385","v":7.6660626104910827},{"$f":"CN385","v":131.32593926697291},{"$f":"CO385","v":"e13"},null,{"$f":"BD150-'متغیرها '!C51","v":0},{"$f":"BE150-'متغیرها '!C52","v":66.580000000000013},1,"پایین لباس روی خط مرکزی",{"$f":"CU386+IF(CV420>0,CV420*COS(CV414),0)","v":11.712800218472939},{"$f":"CV386+IF(CV420>0,-CV420*SIN(CV414),CV415-CV417)","v":140.66696261859488},"e'9",null,{"$f":"CQ391","v":-1.6799399999999998},{"$f":"CR391","v":109.42},"e1",null,{"$f":"DC388+IF(DC386>DC388,0.3,0.7)*(DC386-DC388)","v":24.77717058072507},{"$f":"DD388+0.5*(DD386-DD388)","v":137.88679948601703},"24f",null,{"$f":"BK388","v":5},{"$f":"BL388","v":136.99931237943548},26,null,{"$f":"DK388+0.2*(DK386-DK388)","v":34.127644229900774},{"$f":"DL388+0.4*(DL386-DL388)","v":128.41558879311822},"20f",null,{"$f":"BG129+BY382","v":18.21632},{"$f":"BG103-BG130+CC382","v":136.96600769410946},26,null,null,null,null,null,{"$f":"BG392","v":31.2},{"$f":"BH392","v":85.421202973762888},45,null,27.224901310134641,46.1,"q4",null,{"$f":"BW395","v":41.8},{"$f":"BX395","v":78.024704632477551},42,null,37.390283645158412,39.915419836264114,"r4"]
[null,null,null,null,null,"تمام قد",{"$f":"G19","v":161},null,null,"زاویه خم بودن دست",{"$f":"45-DEGREES(I398)","v":29.060255136627845},null,null,null,null,null,{"$f":"M400","v":76.953641931600387},{"$f":"N400","v":88.068310826606847},"k''5",null,{"$f":"H410","v":64.600400606834128},{"$f":"I410","v":91.95226188540903},"k''5",null,{"$f":"-U390-GK101","v":-54.600400606834128},{"$f":"V390","v":91.95226188540903},"k5",null,{"$f":"H418","v":34.06434256875368},{"$f":"I418","v":121.5971235379304},"k11",null,{"$f":"-AC390-GK101","v":-24.06434256875368},{"$f":"AD390","v":121.5971235379304},"k11",null,{"$f":"K385","v":59.340399195176104},{"$f":"L385","v":91.863543853149139},"k5",null,null,null,null,null,{"$f":"F411","v":70.861839574671805},{"$f":"J411","v":101.81261949193987},"k5'",null,null,0,{"$f":"'متغیرها '!U56+I124-I123","v":115.2},"خط سینه",null,null,null,null,null,null,null,null,null,null,{"$f":"AV104-AV117+AV123+BI382","v":33.56},{"$f":"AV113+AV118+AV124+BM382","v":139.72651834803014},22,null,null,null,null,null,{"$f":"-BK390+BP383","v":-23.560000000000002},{"$f":"AV113+AV118+AV124+BM382","v":139.72651834803014},22,null,null,null,null,null,{"$f":"CA418","v":36.04},{"$f":"CB418","v":134.82840415344404},18,null,{"$f":"FF683","v":14.133086501856628},{"$f":"FG683","v":18.681340919554856},21,"تکه پشت یقه","نقاط  خروجی ",null,null,null,{"$f":"CM388","v":11.582509014168489},{"$f":"CN388","v":129.13082837131364},{"$f":"CO388","v":"e20"},null,{"$f":"AZ140-'متغیرها '!C51","v":8.3512531777606629},{"$f":"BA140-'متغیرها '!C52-'متغیرها '!C63*(محاسبات!AY385-BA140)*1.7","v":141.84676563115454},25,"راس سرشانه",null,null,null,null,null,null,null,null,{"$f":"DC392-0.5*(DC392-DC388)","v":29.856135346375915},{"$f":"DD392+0.15*(DD388-DD392)","v":123.31416187220262},"18f",null,24.77717058072507,137.88679948601703,{"$f":"DE387","v":"24f"},null,{"$f":"DK395-0.55*(DK395-DK388)","v":35.892593302946885},{"$f":"DL395+0.09*(DL386-DL395)","v":116.23578525770458},"14f",null,{"$f":"DK386","v":34.63822114950387},135.34547701154324,{"$f":"DM386","v":"18f"},null,null,null,null,null,{"$f":"DX578","v":7.1350042480883538},{"$f":"DY578","v":5},"2r",null,25.602415597119297,11.576000000000001,"q7",null,{"$f":"DX585","v":32.868721015935662},{"$f":"DY585","v":1.3815936094849928},"p1r",null,35.225567686539648,6.5760000000000005,"r7"]
[null,null,null,null,null,"شبیه ساز","شبیه ساز","نقاط  ورودی جلو آستین کیمونو و سرخود",null,null,null,null,null,null,"بررسی خطا سرخود",null,{"$f":"M401","v":41.997452557053037},{"$f":"N401","v":106.79570261738466},"k6",null,{"$f":"H412","v":37.898615918009412},{"$f":"I412","v":113.82992179216807},"k6",null,{"$f":"-U391-GK101","v":-27.898615918009412},{"$f":"V391","v":113.82992179216807},"k6",null,{"$f":"H420","v":32.044682618994678},{"$f":"I420","v":115.66503085163446},"K15",null,{"$f":"-AC391-GK101","v":-22.044682618994678},{"$f":"AD391","v":115.66503085163446},"K15",null,null,null,null,null,{"$f":"F409","v":80.094054141764161},{"$f":"J409","v":115.16634801711241},"k5",null,{"$f":"F395","v":34.9},{"$f":"G395","v":121.742314084874},12,null,null,0,{"$f":"BA106-'متغیرها '!C52","v":66.580000000000013},"پایین لباس",null,null,{"$f":"AX389","v":0},{"$f":"AY389","v":95.5},{"$f":"AZ389","v":"کمر"},null,{"$f":"BG389","v":31.2},{"$f":"BH389","v":46.099999999999994},44,null,{"$f":"AV104-AV117+AV125+BI382","v":30.228000000000002},{"$f":"AV113+AV118+AV126+BM382","v":134.13441621645205},24,null,{"$f":"-BG389+BP383","v":-21.2},{"$f":"BP386","v":46.099999999999994},44,null,{"$f":"-BK391+BP383","v":-20.228000000000002},{"$f":"AV113+AV118+AV126+BM382","v":134.13441621645205},24,null,{"$f":"BW385","v":15},{"$f":"BX385","v":41.1},46,null,{"$f":"BG108-BG114+BG122+BY382","v":34.611999999999995},{"$f":"BG110+BG115+BG123+CC382","v":129.43623936900914},20,null,{"$f":"FF681","v":3.6397516121211382},{"$f":"FG681","v":18.360963073860152},9,"تکه پشت یقه","مولفه افقی","مولفه عمودی","اسم نقطه ",null,{"$f":"CE399","v":-1.6799399999999998},{"$f":"CF399","v":109.42},"e1",null,{"$f":"J248-'متغیرها '!C51","v":-1.6799399999999998},{"$f":"K248-'متغیرها '!C52","v":109.42},"e1","نقطه اول خط تقارن","نقاط قرینه شده نسبت به خط تقارن",null,null,null,null,null,null,null,{"$f":"BK385","v":13.040800000000001},{"$f":"BL385","v":146.9},25,null,24.812270692751827,132.22129933373145,{"$f":"DE388","v":"16f"},null,"کارور پشت",{"$f":"I129","v":38},"v3",null,34.127644229900774,128.41558879311822,{"$f":"DM387","v":"20f"},null,{"$f":"0","v":0},{"$f":"0","v":0},"زمین",null,{"$f":"DX577","v":7.1350042480883538},{"$f":"DY577","v":13.22},"4r",null,25.152270661292143,5,"q8",null,{"$f":"DX593","v":19.217585642856363},{"$f":"DY593","v":-1.1845801637358875},"p2r",null,34.816033625347266,0,"r8"]
[null,null,null,null,null,{"$f":"BK385","v":13.040800000000001},{"$f":"BL385","v":146.9},{"$f":"AZ140","v":13.351253177760663},{"$f":"BA140","v":146.84676563115454},25,null,null,null,"(k10 →k11)''",{"$f":"0.5*(H386-2*H389+2*(H385+H387-'متغیرها '!C397*(H385+H388))*TAN(L164))","v":10.5},null,null,null,"پهلو لباس",null,null,null,"پهلو و پایین لباس",null,null,null,"پهلو و پایین لباس",null,null,null,"پهلو و پایین لباس",null,null,null,"پهلو و پایین لباس",null,{"$f":"K386","v":36.509413271061945},{"$f":"L386","v":119.60792683071709},"k6",null,{"$f":"AO394+0.2*(AO392-AO394)","v":33.297882654212387},{"$f":"AP394+0.85*(AP392-AP394)","v":117.25491825217397},"k6'",null,{"$f":"F395","v":34.9},{"$f":"G395","v":121.742314084874},12,null,null,{"$f":"I106","v":96.5},"g","کمر تا زمین",null,null,{"$f":"AX389","v":0},{"$f":"AY389","v":95.5},{"$f":"AZ389","v":"کمر"},null,null,null,null,null,{"$f":"AV104-AV121+BI382","v":30.02},{"$f":"AV113+AV122+BM382","v":124.462314084874},20,null,null,null,null,null,{"$f":"-BK393+BP383","v":-20.02},{"$f":"AV113+AV122+BM382","v":124.462314084874},20,null,null,null,null,null,{"$f":"BG108-BG118+BY382","v":35.261728868631252},{"$f":"BG110+BG119+CC382","v":117.74581574358868},16,null,{"$f":"BC410","v":19.762127675570746},{"$f":"BD410","v":138.55229963830254},"g3","پایین شبیه ساز سرشانه",{"$f":"CE401+CF386*COS(RADIANS(CF385)+CF387)","v":-4.6507876170742026},{"$f":"CF401+CF386*SIN(RADIANS(CF385)+CF387)","v":135.2895861518644},"ee15",null,{"$f":"CM391","v":-1.6799399999999998},{"$f":"CN391","v":109.42},"e1",null,{"$f":"J263-'متغیرها '!C51","v":-3.8392853782830199},{"$f":"K263-'متغیرها '!C52","v":120.39467194628949},"a11",null,{"$f":"CQ393+2*(SIN(ATAN((CQ392-CQ391)/(CR392-CR391)))*(CR393-CR391)+COS(ATAN((CQ392-CQ391)/(CR392-CR391)))*(CQ391-CQ393))*COS(ATAN((CQ392-CQ391)/(CR392-CR391)))","v":5.0616747914287412},{"$f":"CR393-2*(SIN(ATAN((CQ392-CQ391)/(CR392-CR391)))*(CR393-CR391)+COS(ATAN((CQ392-CQ391)/(CR392-CR391)))*(CQ391-CQ393))*SIN(ATAN((CQ392-CQ391)/(CR392-CR391)))","v":118.34506732721805},{"$f":"CS393","v":"a11"},"e13",{"$f":"CU387","v":11.712800218472939},{"$f":"CV387","v":140.66696261859488},{"$f":"CW387","v":"e'9"},null,null,{"$f":"AY392","v":0.27820102979369776},"زاویه سرشانه با افق",null,29.856135346375915,123.31416187220262,{"$f":"DE390","v":"18f"},null,null,{"$f":"H167","v":12.190021336724966},"w",null,34.420576289543753,119.59573106057732,{"$f":"DM389","v":"16f"},null,0,{"$f":"'متغیرها '!U58","v":96.5},"خط کمر",null,{"$f":"DX568","v":24.776199078690585},{"$f":"DY568","v":46.1},"7r",null,{"$f":"DW410","v":25.152270661292143},{"$f":"DX410","v":5},"q8",null,{"$f":"DX591","v":11.734165209800697},{"$f":"DY591","v":39.915419836264114},"p6r",null,{"$f":"EE414","v":34.816033625347266},{"$f":"EF414","v":0},"r8"]
[null,null,null,null,null,{"$f":"F393+H167*COS(I398)","v":24.762127675570746},{"$f":"G393-H167*SIN(I398)","v":143.55229963830257},{"$f":"CI117","v":24.254696527337614},{"$f":"CJ117","v":143.73265925554304},"22f",null,null,null,null,null,null,{"$f":"Q439","v":38.272440000000003},{"$f":"R439","v":96.524704632477565},36,null,{"$f":"AC394","v":33.525039999999997},{"$f":"AD394","v":103.92120297376289},41,null,{"$f":"AG394","v":-23.525039999999997},{"$f":"AH394","v":103.92120297376289},41,null,{"$f":"AZ168","v":33.525039999999997},{"$f":"BA168","v":103.92120297376289},41,null,{"$f":"-AC394-GK101","v":-23.525039999999997},{"$f":"AD394","v":103.92120297376289},41,null,{"$f":"AK395+0.2*(AK393-AK395)","v":33.297882654212387},{"$f":"AL395+0.85*(AL393-AL395)","v":117.25491825217397},"k6'",null,{"$f":"F396","v":32.494999999999997},{"$f":"G396","v":103.92120297376289},{"$f":"J396","v":41},null,{"$f":"BG395","v":32.494999999999997},{"$f":"BH395","v":103.92120297376289},41,null,null,{"$f":"I108","v":77.5},"j","باسن تا زمین",null,null,{"$f":"AX388","v":0},{"$f":"AY388","v":131.99931237943548},{"$f":"AZ388","v":" شبیه ساز26"},null,{"$f":"BG392","v":31.2},{"$f":"BH392","v":85.421202973762888},45,null,{"$f":"AV104-AV119+BI382","v":31.85},{"$f":"AV113+AV120+BM382","v":122.76231408487399},18,null,{"$f":"-BG392+BP383","v":-21.2},{"$f":"BP386+AV162","v":85.421202973762888},45,null,{"$f":"-BK394+BP383","v":-21.85},{"$f":"AV113+AV120+BM382","v":122.76231408487399},18,null,{"$f":"BG156+BY382","v":41.8},{"$f":"0+CC382","v":41.1},41,null,{"$f":"BG108-BG116+BY382","v":37.364610316350017},{"$f":"BG110+BG117+CC382","v":115.19581574358867},14,null,{"$f":"BD150-'متغیرها '!C51","v":0},{"$f":"BE150-'متغیرها '!C52","v":66.580000000000013},1,"پایین لباس روی خط مرکزی",{"$f":"CI403-CJ437*CJ385*COS(CJ384-CJ386-CJ436)","v":11.505801382950613},{"$f":"CJ403+CJ437*CJ385*SIN(CJ384-CJ386-CJ436)","v":135.7183380812765},"e21",null,{"$f":"CE395","v":-1.6799399999999998},{"$f":"CF395","v":66.580000000000013},{"$f":"CG395","v":"1'"},null,{"$f":"J262-'متغیرها '!C51","v":-4.7647191118328855},{"$f":"K262-'متغیرها '!C52","v":131.36934389257897},"e3",null,{"$f":"CQ394+2*(SIN(ATAN((CQ392-CQ391)/(CR392-CR391)))*(CR394-CR391)+COS(ATAN((CQ392-CQ391)/(CR392-CR391)))*(CQ391-CQ394))*COS(ATAN((CQ392-CQ391)/(CR392-CR391)))","v":10.693641145496933},{"$f":"CR394-2*(SIN(ATAN((CQ392-CQ391)/(CR392-CR391)))*(CR394-CR391)+COS(ATAN((CQ392-CQ391)/(CR392-CR391)))*(CQ391-CQ394))*SIN(ATAN((CQ392-CQ391)/(CR392-CR391)))","v":127.80978110580159},{"$f":"CS394","v":"e3"},"e20",{"$f":"CU395","v":12.383778015817764},{"$f":"CV395","v":134.23837186219822},"e15",null,null,{"$f":"H167","v":12.190021336724966},"W",null,{"$f":"DC392","v":34.9},{"$f":"DD392","v":121.742314084874},12,null,{"$f":"CA415","v":23.040800000000001},{"$f":"CB415","v":139.1},23,null,35.892593302946885,116.23578525770458,{"$f":"DM390","v":"14f"},null,null,null,null,null,"نقاط  ورودی از شبیه ساز مایو پادار",null,null,null,{"$f":"DW411","v":11.04772933870786},{"$f":"DX411","v":5},"q9",null,{"$f":"DX583","v":31.712573310152727},{"$f":"DY583","v":42.481593609484996},"p7r",null,{"$f":"EE415","v":21.983966374652731},{"$f":"EF415","v":0},"r9"]
[null,null,null,null,null,{"$f":"BG392","v":31.2},{"$f":"BH392","v":85.421202973762888},{"$f":"AZ172-'متغیرها '!C55","v":32.230039999999995},{"$f":"BA172","v":87.271202973762882},45,null,"k4",{"$f":"L425+(G385+G387)*COS(RADIANS('متغیرها '!C392)+M431)","v":86.766812207515031},{"$f":"M425-(G385+G387)*SIN(RADIANS('متغیرها '!C392)+M431)","v":104.43914170311859},null,null,{"$f":"Q442","v":42.32244},{"$f":"R442","v":79.87470463247756},42,null,{"$f":"AC397","v":32.230039999999995},{"$f":"AD397","v":87.271202973762882},45,null,{"$f":"AG397","v":-22.230039999999995},{"$f":"AH397","v":87.271202973762882},45,null,{"$f":"AZ172-'متغیرها '!C55","v":32.230039999999995},{"$f":"BA172","v":87.271202973762882},45,null,{"$f":"-AC397-GK101","v":-22.230039999999995},{"$f":"AD397","v":87.271202973762882},45,null,{"$f":"K387","v":48.485560184379423},{"$f":"L387","v":119.8288671294939},"k7",null,{"$f":"F413","v":57.0221650169862},{"$f":"J413","v":134.33858753456931},"k7",null,{"$f":"F416","v":46.695691707996772},{"$f":"J416","v":114.88792601396854},"k8'",null,null,null,null,null,null,null,{"$f":"AX421","v":19.812270692751827},{"$f":"AY421","v":127.22129933373145},"شبیه سازb6",null,null,null,null,null,null,null,"ساسون کمر",null,null,null,null,null,null,null,"ساسون کمر",null,{"$f":"BW395","v":41.8},{"$f":"BX395","v":78.024704632477551},42,null,{"$f":"CA406","v":26.55},{"$f":"CB406","v":96.5},34,null,null,{"$f":"O246","v":2.5643528198721892},"قد یقه انگلیسی",null,{"$f":"CI395+IF(CJ432>0,CJ432*COS(CJ426),0)","v":11.722670878374871},{"$f":"CJ395+IF(CJ432>0,-CJ432*SIN(CJ426),CJ427-CJ429)","v":140.66414348302948},"e'9",null,{"$f":"CI395","v":7.5819473317990065},{"$f":"CJ395","v":141.84676563115454},{"$f":"CK395","v":"e'25"},null,null,null,null,null,null,null,null,null,{"$f":"CQ391","v":-1.6799399999999998},{"$f":"CR391","v":109.42},{"$f":"CS391","v":"e1"},null,"رسم قرینه",null,null,null,{"$f":"BK398","v":17.41264},{"$f":"BL398","v":120.19999999999999},43,null,null,null,null,null,{"$f":"DO406","v":26.55},{"$f":"DP406","v":96.5},34,null,null,null,null,null,{"$f":"DF260","v":25.032242405155458},{"$f":"DG260","v":5},"p'8",null,10.597584402880706,11.576000000000001,"q10",null,{"$f":"EE385","v":15},{"$f":"EF385-EF400+EF401","v":66.603501658714663},"p'9",null,21.574432313460349,6.5760000000000005,"r10"]
[null,null,null,null,null,null,null,"α2",{"$f":"'متغیرها '!B315","v":0.27820102979369776},"زاویه سرشانه با افق",null,"k''4",{"$f":"L425+'متغیرها '!C393*(G385+G387)*COS(RADIANS('متغیرها '!C392)+M431)","v":86.766812207515031},{"$f":"M425-'متغیرها '!C393*(G385+G387)*SIN(RADIANS('متغیرها '!C392)+M431)","v":104.43914170311859},null,null,{"$f":"Q443","v":42.32244},{"$f":"R443","v":64.974704632477568},"43''",null,{"$f":"AC398","v":32.230039999999995},{"$f":"AD398","v":72.371202973762905},"49'  …",null,{"$f":"AG398","v":-22.230039999999995},{"$f":"AH398","v":72.371202973762905},"49'  …",null,{"$f":"BD180-'متغیرها '!C55","v":32.230039999999995},{"$f":"BE180","v":72.371202973762905},"49'  …",null,{"$f":"-AC398-GK101","v":-22.230039999999995},{"$f":"AD398","v":72.371202973762905},"49'  …",null,{"$f":"K388","v":36.508221198495768},{"$f":"L388","v":107.85152814361024},"k8",null,{"$f":"F415","v":52.370403382417656},{"$f":"J415","v":118.05134061986045},"k8",null,null,null,null,null,null,"نقاط  خروجی ",null,null,null,null,null,null,"قرینه",null,{"$f":"BI382","v":5},{"$f":"'متغیرها '!C52","v":5},"زمین",null,{"$f":"BK405","v":17.41264},{"$f":"BH386+AV159","v":120.19999999999999},43,null,null,null,null,null,{"$f":"-BK398+BP383","v":-7.4126399999999997},{"$f":"BP386+AV159","v":120.19999999999999},43,null,{"$f":"BG149+BG150+BG151+BY382","v":37.299999999999997},{"$f":"BG148+CC382","v":96.5},36,null,{"$f":"CA403","v":26.55},{"$f":"BX385+BG152","v":77.5},38,null,{"$f":"AZ140-'متغیرها '!C51","v":8.3512531777606629},{"$f":"BA140-'متغیرها '!C52-'متغیرها '!C63*(محاسبات!AY385-BA140)*1.7","v":141.84676563115454},25,"راس سرشانه",{"$f":"CI423","v":4.565655292124422},{"$f":"CJ423","v":131.28643472431693},"ee13",null,null,null,null,null,null,null,null,null,null,null,null,null,null,null,"قرینه",null,{"$f":"-BK385+BP383","v":-3.0408000000000008},{"$f":"BL385","v":146.9},25,null,{"$f":"BK399","v":18.060139999999997},{"$f":"BL399","v":100.5},40,null,null,null,null,null,{"$f":"DO403","v":26.55},{"$f":"BX385+BG152","v":77.5},38,null,{"$f":"DS386","v":19.762127675570746},{"$f":"DT386","v":135.75229963830256},"سرشانه",null,{"$f":"DW385","v":5},{"$f":"DX385-I110","v":74},"p'3",null,9.8041509494023629,25.55,"q11",null,{"$f":"EE397+0.1*H132","v":17.137799999999999},{"$f":"EF397-0.05*H132","v":65.534601658714664},"p'10",null,20.439416362766046,19.957709918132057,"r11"]
[null,null,null,null,null,null,null,{"$f":"AZ181-'متغیرها '!C55","v":18.896469111540618},{"$f":"BA181","v":71.580000000000013},53,null,"k''5",{"$f":"M398-O387*SIN(RADIANS('متغیرها '!C392)+M431)","v":76.953641931600387},{"$f":"N398-O387*COS(RADIANS('متغیرها '!C392)+M431)","v":88.068310826606847},null,null,null,null,"رسم آستین کیمونو تا اوزمان",null,{"$f":"AC400","v":16.306469111540622},{"$f":"AD400","v":71.580000000000013},52,null,{"$f":"AG400","v":-6.306469111540622},{"$f":"AH400","v":71.580000000000013},52,null,{"$f":"AZ177","v":16.306469111540622},{"$f":"BA177","v":71.580000000000013},52,null,{"$f":"-AC400-GK101","v":-6.306469111540622},{"$f":"AD400","v":71.580000000000013},52,null,{"$f":"AO400","v":5},165.04499999999999,"s1","سر",{"$f":"AX403+I403","v":5},{"$f":"AY403+I402","v":165.04499999999999},"s1","سر",{"$f":"-AS406-GK101","v":-6.5704000000000207E-2},{"$f":"AT406","v":150.71283750000001},"s4'",null,null,{"$f":"AV128+H167*COS(AY392)","v":19.762127675570746},{"$f":"AV103-H167*SIN(AY392)+H114","v":138.55229963830254},"سرشانه g3",null,"قرینه",{"$f":"-BC397","v":-19.812270692751827},{"$f":"AY421","v":127.22129933373145},"شبیه سازb6",null,{"$f":"AZ170","v":5},{"$f":"BA170","v":120.2},"خط سینه",null,null,null,null,null,null,null,null,null,null,null,null,null,null,null,null,null,{"$f":"CA398","v":26.55},{"$f":"CB398","v":77.5},38,null,{"$f":"CI392","v":5.7869003578884737},{"$f":"CJ392","v":141.84676563115454},{"$f":"CK392","v":"ee25"},"نقطه دوم خط تقارن","مولفه افقی","مولفه عمودی","اسم نقطه ",null,{"$f":"CE399","v":-1.6799399999999998},{"$f":"CF399","v":109.42},{"$f":"CG399","v":"e1"},null,null,null,null,null,null,null,null,null,{"$f":"-CU386","v":-7.5819473317990065},{"$f":"CV386","v":141.84676563115454},{"$f":"CW386","v":"e'25"},null,{"$f":"-BK387+BP383","v":1.7836800000000004},{"$f":"BL387","v":137.98938114149192},28,null,{"$f":"BK401","v":16.765139999999999},{"$f":"BL401","v":100.5},39,null,null,null,null,null,{"$f":"DO398","v":26.55},{"$f":"DP398","v":77.5},38,null,null,null,null,null,null,null,null,null,8.9750986898653622,46.1,"q13",null,{"$f":"DW404","v":31.2},{"$f":"DX404","v":85.421202973762888},"q2",null,19.409716354841585,39.915419836264114,"r13"]
[null,null,null,null,null,{"$f":"BK388","v":5},{"$f":"BL388","v":136.99931237943548},null,null,26,null,"k6",{"$f":"L426+'متغیرها '!C395*(M426-M427)*SIN(0.5*(O385-O386))","v":41.997452557053037},{"$f":"M426-'متغیرها '!C395*(M426-M427)*COS(0.5*(O385-O386))","v":106.79570261738466},null,null,{"$f":"Q383","v":23.348421281192373},139.03229312467974,23,null,{"$f":"AC401","v":18.615019999999998},{"$f":"AD401","v":71.580000000000013},50,null,{"$f":"AG401","v":-8.6150199999999977},{"$f":"AH401","v":71.580000000000013},50,null,{"$f":"BD186-'متغیرها '!C55","v":18.615019999999998},{"$f":"BE186","v":71.580000000000013},50,null,{"$f":"-AC401-GK101","v":-8.6150199999999977},{"$f":"AD401","v":71.580000000000013},50,null,10.065704,163.17558750000001,"s2","سر",{"$f":"AX404+I403","v":10.065704},{"$f":"AY404+I402","v":163.17558750000001},"s2","سر",{"$f":"-AS405-GK101","v":-2.2367200000000018},{"$f":"AT405","v":157.56735},"s3'",null,null,{"$f":"AX402","v":6.2826008486643889},{"$f":"AY385+0.04*(AX395+AX393)","v":147.464},"g1","گردن",null,null,null,"یقه گرد کیپ",null,null,null,null,null,{"$f":"BG385+AV156","v":16.765139999999999},{"$f":"BH385","v":100.5},39,null,null,null,null,null,{"$f":"-BK401+BP383","v":-6.7651399999999988},{"$f":"BT404","v":100.5},39,null,null,null,null,null,{"$f":"CA404","v":26.55},{"$f":"CB404","v":96.5},35,null,{"$f":"J246-'متغیرها '!C51","v":-0.50426003689771637},{"$f":"K246-'متغیرها '!C52","v":133.20730158273469},"e9",null,{"$f":"CE401+2*(SIN(ATAN((CE400-CE399)/(CF400-CF399)))*(CF401-CF399)+COS(ATAN((CE400-CE399)/(CF400-CF399)))*(CE399-CE401))*COS(ATAN((CE400-CE399)/(CF400-CF399)))","v":7.6660626104910827},{"$f":"CF401-2*(SIN(ATAN((CE400-CE399)/(CF400-CF399)))*(CF401-CF399)+COS(ATAN((CE400-CE399)/(CF400-CF399)))*(CE399-CE401))*SIN(ATAN((CE400-CE399)/(CF400-CF399)))","v":131.32593926697291},{"$f":"CG401","v":"e9"},"e13",null,null,null,null,null,null,null,null,null,null,null,null,null,null,null,null,{"$f":"-BK388+BP383","v":5},{"$f":"BL388","v":136.99931237943548},26,null,{"$f":"BK402","v":17.41264},{"$f":"BL402","v":120.19999999999999},43,null,null,null,null,null,{"$f":"DO404","v":26.55},{"$f":"DP404","v":96.5},35,null,{"$f":"DS389","v":-19.762127675570746},{"$f":"DT389","v":135.75229963830256},"قرینه سرشانه",null,"نقاط  خروجی ",null,null,null,7.8288027844292767,60.05,"q14",null,{"$f":"DW418","v":5},{"$f":"DX418","v":74},"q16",null,17.989692327720423,53.259460747489385,"r14"]
[null,null,null,null,null,"افقی شبیه ساز","آستین کیمونو و سرخود",null,null,"عمودی شبیه ساز",null,"k10",{"$f":"L425+'متغیرها '!C397*(G385+G388)*COS(RADIANS('متغیرها '!C392)+M431)","v":51.229774874154586},{"$f":"M425-'متغیرها '!C397*(G385+G388)*SIN(RADIANS('متغیرها '!C392)+M431)","v":125.74111477243591},null,null,null,null,null,null,{"$f":"AC404","v":33.264795993798657},{"$f":"AD404","v":84.110298993010559},"37'",null,{"$f":"AG404","v":-23.264795993798657},{"$f":"AH404","v":84.110298993010559},"37'",null,{"$f":"EP179-'متغیرها '!C55","v":33.264795993798657},{"$f":"EQ179","v":84.110298993010559},"37'",null,{"$f":"-AC404-GK101","v":-23.264795993798657},{"$f":"AD404","v":84.110298993010559},"37'",null,5,148.428,"s5","سر",{"$f":"AX407+I403","v":5},{"$f":"AY407+I402","v":148.428},"s5","سر",10.065704,163.17558750000001,"s2",null,null,{"$f":"AX403+0.7*(AX405-AX403)","v":5.0657040000000002},{"$f":"AY405+0.75*(AY403-AY405)","v":158.17558750000001},"s2","سر",null,3.2163200000000005,132.98938114149192,{"$f":"AZ387","v":" شبیه ساز28"},null,null,null,null,null,{"$f":"BK401","v":16.765139999999999},{"$f":"BL401","v":100.5},39,null,null,null,null,null,{"$f":"-BK401+BP383","v":-6.7651399999999988},{"$f":"BP385","v":100.5},39,null,null,null,null,null,{"$f":"CA406+BG150","v":26.55},{"$f":"CB406","v":96.5},35,null,null,null,null,null,null,null,null,null,null,null,"قرینه",null,null,null,null,null,null,null,null,null,null,null,null,null,{"$f":"-DC387+BP383","v":-14.77717058072507},137.88679948601703,"24f",null,{"$f":"BK405","v":17.41264},{"$f":"BL405","v":82.5},47,null,null,null,null,null,{"$f":"DO406+BG150","v":26.55},{"$f":"DP406","v":96.5},35,null,{"$f":"DS395","v":0},{"$f":"DT395","v":112.8},"سینه",null,{"$f":"DW387","v":31.2},{"$f":"DX387","v":85.421202973762888},"q2"]
[null,null,null,null,null,null,"اسم نقطه ","مولفه افقی","مولفه عمودی",null,null,"k11",{"$f":"M404-O388*SIN(RADIANS('متغیرها '!C392)+M431)","v":42.109129203268644},{"$f":"N404-O388*COS(RADIANS('متغیرها '!C392)+M431)","v":110.52558874318375},null,null,{"$f":"Q387","v":86.766812207515031},{"$f":"R387","v":104.43914170311859},"k''4",null,null,null,null,null,null,null,null,null,null,null,null,null,null,null,null,null,null,null,null,null,null,null,null,null,12.236720000000002,157.56735,"s3",null,null,{"$f":"AX388+0.9*(AX385-AX388)","v":7.2367200000000009},{"$f":"AY407+0.55*(AY403-AY407)","v":152.56735},"s3","سر",null,{"$f":"AX388","v":0},{"$f":"AY388","v":131.99931237943548},{"$f":"AZ388","v":" شبیه ساز26"},null,null,null,null,null,{"$f":"BG385+AV164","v":17.41264},{"$f":"BH386+AV163","v":82.5},47,null,null,null,null,null,{"$f":"-BK405+BP383","v":-7.4126399999999997},{"$f":"BP386+AV163","v":82.5},47,null,null,null,null,null,null,null,null,null,null,null,null,null,null,null,null,null,{"$f":"-(CI403)","v":-12.305686000638515},{"$f":"CJ403","v":131.3850560801213},{"$f":"CL403","v":"e15"},null,null,null,null,null,null,null,null,null,null,null,null,null,{"$f":"-DC388+BP383","v":-14.812270692751827},132.22129933373145,"16f",null,null,null,null,null,null,null,null,null,null,null,null,null,{"$f":"DS412","v":0},{"$f":"DT412","v":136.72889743789941},24,null,{"$f":"DW406+1.2*(DX405-DX406)*((DW404-DW406)/(DX404-DX406))","v":28.91719826536124},{"$f":"DX406+0.5*(DX418-DX406)","v":60.05},"q3",null,null,null," رسم قرینه شبیه ساز ",null,"نقاط  خروجی ",null,null,null,{"$f":"EE422","v":15},{"$f":"EF422","v":66.603501658714663},"r16"]
[null,null,null,null,null,null,"k''4",{"$f":"H394+'متغیرها '!C393*(G385+G387)*COS(RADIANS('متغیرها '!C392)+I398)","v":76.769644104083312},{"$f":"I394-'متغیرها '!C393*(G385+G387)*SIN(RADIANS('متغیرها '!C392)+I398)","v":112.25361420959339},null,null,"k15",{"$f":"L427+0.5*(M405-L427)-'متغیرها '!C396*O389*COS(O386)","v":38.740972978704555},{"$f":"M427+0.65*(N405-M427)+'متغیرها '!C396*O389*SIN(O386)","v":105.69941200475694},null,null,null,null,null,null,{"$f":"U383","v":13.351253177760663},146.84676563115454,25,null,{"$f":"Y383","v":-3.3512531777606629},146.84676563115454,25,null,null,null,"پانچو سرشانه خط جیب",null,"قرینه",null,"پانچو سرشانه خط جیب",null,11.582679151335611,164.57303999999999,"s16","سر",{"$f":"AX409+I403","v":11.582679151335611},{"$f":"AY409+I402","v":164.57303999999999},"s16","سر",5,148.428,"s5",null,null,{"$f":"AX388","v":0},{"$f":"AY385+0.08*(AY396-AY385)","v":143.428},"s5","سر","قرینه",{"$f":"-AX386","v":-6.432640000000001},{"$f":"AY386","v":136.94965618971773},{"$f":"AZ386","v":" شبیه ساز30"},null,null,null,null,null,{"$f":"BK405","v":17.41264},{"$f":"BL405","v":82.5},47,null,null,null,null,null,{"$f":"-BK407+BP383","v":-7.4126399999999997},{"$f":"BT405","v":82.5},47,null,null,null,null,null,{"$f":"CA403","v":26.55},{"$f":"CB403","v":118.65899999999999},40,null,null,null,null,null,null,null,null,null,null,null,null,null,null,null,null,null,null,null,null,null,null,null,null,null,{"$f":"-DC390+BP383","v":-19.856135346375915},123.31416187220262,"18f",null,{"$f":"BK408","v":18.060139999999997},{"$f":"BL408","v":100.5},40,null,null,null,null,null,{"$f":"DO403","v":26.55},{"$f":"DP403","v":118.65899999999999},40,null,{"$f":"DS391","v":0},{"$f":"I108","v":77.5},"باسن",null,{"$f":"DW406-0.2*(DW406-DW410)","v":26.81037518036614},{"$f":"DX406-0.2*(DX406-DX410)","v":37.880000000000003},"q5",null,{"$f":"-DW404+BP383","v":-21.2},85.421202973762888,"q2",null,{"$f":"EE386","v":37.299999999999997},{"$f":"EF386","v":96.5},"r1"]
[null,null,null,null,null,{"$f":"F394+(H385+H387)*COS(RADIANS('متغیرها '!C392)+I398)","v":77.082344142089184},"k'4",null,null,{"$f":"G394-(H385+H387)*SIN(RADIANS('متغیرها '!C392)+I398)","v":112.18998229891177},null,null,null,null,null,null,{"$f":"M400","v":76.953641931600387},{"$f":"N400","v":88.068310826606847},"k''5",null,24.254696527337614,143.73265925554304,"22f",null,-14.254696527337614,143.73265925554304,"22f",null,{"$f":"H410","v":64.600400606834128},{"$f":"I410","v":91.95226188540903},"k''5",null,{"$f":"-AC408-GK101","v":-54.600400606834128},{"$f":"AD408","v":91.95226188540903},"k5",null,15.422575322948052,154.9332,"s17","سر",{"$f":"AX410+I403","v":15.422575322948052},{"$f":"AY410+I402","v":154.9332},"s17","سر",null,null,null,null,null,{"$f":"AX403","v":0},{"$f":"1.003*AY396+0.5","v":161.98299999999998},"s15","مو","قرینه",{"$f":"-AX385","v":-8.0408000000000008},{"$f":"AY385","v":141.9},{"$f":"AZ385","v":"25 شبیه ساز"},null,null,null,null,null,{"$f":"BK399","v":18.060139999999997},{"$f":"BL399","v":100.5},40,null,null,null,null,null,{"$f":"-BK408+BP383","v":-8.060139999999997},{"$f":"BT399","v":100.5},40,null,null,null,null,null,null,null,"ساسون سرشانه",null,null,null,null,null,null,null,null,null,{"$f":"CM406","v":-7.6660626104910827},{"$f":"CN406","v":131.32593926697291},{"$f":"CO406","v":"e13"},null,null,null,null,null,null,null,null,null,{"$f":"-CU387","v":-11.712800218472939},{"$f":"CV387","v":140.66696261859488},{"$f":"CW387","v":"e'9"},null,{"$f":"-DC392+BP383","v":-24.9},{"$f":"DD392","v":121.742314084874},12,null,null,null,"سرشانه",null,null,null,null,null,null,null,"سرشانه",null,null,null,null,null,{"$f":"DW410+1.2*0.5*(DX406-DX410)*((DW406-DW410)/(DX406-DX410))","v":26.39584905059764},{"$f":"DX410+0.5*(DX406-DX410)","v":25.55},"q6",null,{"$f":"-DW405+BP383","v":-18.91719826536124},60.05,"q3",null,{"$f":"EE387","v":41.8},{"$f":"EF387","v":78.024704632477551},"r2",null,{"$f":"EE385","v":15},{"$f":"EF385","v":78.024704632477551},48]
[null,null,null,null,null,{"$f":"F408-F425*SIN(RADIANS('متغیرها '!C392)+I398)","v":70.861839574671805},"k'5",null,null,{"$f":"J408-F425*COS(RADIANS('متغیرها '!C392)+I398)","v":101.81261949193987},null,"k14",{"$f":"L430+0.8*(M400-L430)","v":66.731233545280304},{"$f":"M430+0.6*(N400-M430)","v":79.472986495964108},null,null,null,null,null,null,{"$f":"U387","v":76.769644104083312},{"$f":"V387","v":112.25361420959339},"k''4",null,{"$f":"Y387","v":-66.769644104083312},{"$f":"Z387","v":112.25361420959339},"k4",null,{"$f":"H400","v":18.896469111540618},{"$f":"I400","v":71.580000000000013},{"$f":"J400","v":53},null,{"$f":"-AC411-GK101","v":-8.8964691115406183},{"$f":"AD411","v":71.580000000000013},53,null,{"$f":"F393","v":13.040800000000001},{"$f":"G393","v":146.9},25,"گردن",{"$f":"F393","v":13.040800000000001},{"$f":"G393","v":146.9},25,"گردن",{"$f":"-AS413-GK101","v":-1.5826791513356113},{"$f":"AT413","v":164.57303999999999},"s16'",null,null,{"$f":"AX385+0.25*(AX400-AX385)","v":10.971131918892688},{"$f":"AY385","v":141.9},"s18","مو",null,{"$f":"AX385","v":8.0408000000000008},{"$f":"AY385","v":141.9},{"$f":"AZ385","v":"25 شبیه ساز"},null,null,null,null,null,{"$f":"BK419","v":19.082355507010465},{"$f":"BL419","v":146.09454230206421},32,null,null,null,null,null,{"$f":"-BK411+BP383","v":-9.0823555070104653},{"$f":"BT419","v":146.09454230206421},32,null,null,null,null,null,null,null,null,null,null,null,null,null,null,null,null,null,{"$f":"CM409","v":-11.582509014168489},{"$f":"CN409","v":129.13082837131364},{"$f":"CO409","v":"e20"},null,"مولفه افقی","مولفه عمودی","اسم نقطه ",null,null,null,null,null,{"$f":"-CU393","v":-5.0616747914287412},{"$f":"CV393","v":118.34506732721805},{"$f":"CX393","v":"e13"},null,{"$f":"-BK398+BP383","v":-7.4126399999999997},{"$f":"BL398","v":120.19999999999999},43,null,null,null,null,null,null,null,null,null,null,null,"خط مرکزی پشت",null,{"$f":"CA387-'متغیرها '!C53","v":3.2163199999999996},{"$f":"CB387-'متغیرها '!C54","v":136.96600769410946},26,null,{"$f":"DW419-(DW410-DW419)","v":11.04772933870786},{"$f":"DX410","v":5},"q9",null,{"$f":"-DW408+BP383","v":-16.39584905059764},25.55,"q6",null,{"$f":"EE410-0.2*(EE410-EE414)","v":36.875433641196182},{"$f":"EF410-0.2*(EF410-EF414)","v":31.93233586901129},"r5"]
[null,null,null,null,null,{"$f":"F395+0.15*(G395-G396)*SIN(0.5*(F423-F424))","v":36.509413271061945},"k6",{"$f":"H395+'متغیرها '!C395*(I395-I396)*SIN(0.5*(H423-H424))","v":37.898615918009412},{"$f":"I395-'متغیرها '!C395*(I395-I396)*COS(0.5*(H423-H424))","v":113.82992179216807},{"$f":"G395-0.15*(G395-G396)*COS(0.5*(F423-F424))","v":119.60792683071709},null,"k15",{"$f":"L430+0.4*(M400-L430)","v":46.286416772640152},{"$f":"M430+0.13*(N400-M430)","v":69.373480407458899},null,null,{"$f":"Q442","v":42.32244},{"$f":"R442","v":79.87470463247756},42,null,{"$f":"U388","v":64.600400606834128},{"$f":"V388","v":91.95226188540903},"k''5",null,{"$f":"Y388","v":-54.600400606834128},{"$f":"Z388","v":91.95226188540903},"k5",null,null,null,null,null,null,null,null,null,{"$f":"AO412","v":11.282600848664389},{"$f":"AP412","v":149.68200000000002},"g2","گردن",{"$f":"AX402+I403","v":11.282600848664389},{"$f":"AY402+I402","v":149.68200000000002},"g2","گردن",{"$f":"AO406","v":5},166.98299999999998,"s15",null,null,null,null,null,null,null,null,null,"گردن",null,null,null,null,null,{"$f":"BK398","v":17.41264},{"$f":"BL398","v":120.19999999999999},43,null,null,null,null,null,{"$f":"-BK412+BP383","v":-7.4126399999999997},{"$f":"BT398","v":120.19999999999999},43,null,null,null,null,null,{"$f":"CA410","v":28.432719534522356},{"$f":"CB410","v":131.09572883722478},22,null,null,null,null,null,null,null,null,null,{"$f":"-CE399","v":1.6799399999999998},{"$f":"CF399","v":109.42},"e1",null,{"$f":"BC411","v":8.0408000000000008},{"$f":"BD411","v":141.9},25,"بالای شبیه ساز سرشانه",null,null,null,null,{"$f":"-CQ391","v":1.6799399999999998},{"$f":"CR391","v":109.42},{"$f":"CS391","v":"e1"},null,{"$f":"-BK399+BP383","v":-8.060139999999997},{"$f":"BL399","v":100.5},40,null,null,null,"خط مرکزی جلو",null,null,null,null,null,{"$f":"BW389","v":15},{"$f":"BX389","v":96.5},44,null,{"$f":"CA423-'متغیرها '!C53","v":0},{"$f":"CB423-'متغیرها '!C54","v":136.72889743789941},24,null,{"$f":"DW419-DW409+DW419","v":10.597584402880706},{"$f":"DX409","v":11.576000000000001},"q10",null,{"$f":"-DW409+BP383","v":-15.602415597119297},11.576000000000001,"q7",null,{"$f":"EE414+1.2*0.5*(EF410-EF414)*((EE410-EE414)/(EF410-EF414))","v":36.360583637233951},{"$f":"EF414+0.5*(EF410-EF414)","v":19.957709918132057},"r6"]
[null,null,null,null,null,{"$f":"F394+(H385+H388)*COS(RADIANS('متغیرها '!C392)+I398)","v":53.538246732155891},"k'7",null,null,{"$f":"G394-(H385+H388)*SIN(RADIANS('متغیرها '!C392)+I398)","v":126.30302510163763},null,null,null,null,null,null,null,null,null,null,{"$f":"H410","v":64.600400606834128},{"$f":"I410","v":91.95226188540903},"k''5",null,{"$f":"-U414-GK101","v":-54.600400606834128},{"$f":"V414","v":91.95226188540903},"k5",null,24.254696527337614,143.73265925554304,"22f",null,-14.254696527337614,143.73265925554304,"22f",null,null,null,"خط سینه",null,null,null,null,null,15.422575322948052,154.9332,"s17",null,null,{"$f":"U108","v":14.082355507010465},{"$f":"V108","v":45.59454230206422},"32 شبیه ساز","نقطه ساسون سرشانه",null,{"$f":"AX402","v":6.2826008486643889},{"$f":"AY402","v":144.68200000000002},{"$f":"AZ402","v":"g2"},null,null,null,null,null,{"$f":"BK398","v":17.41264},{"$f":"BL398","v":120.19999999999999},43,null,null,null,null,null,{"$f":"-BK414+BP383","v":-7.4126399999999997},{"$f":"BT398","v":120.19999999999999},43,null,null,null,null,null,null,null,"سرشانه",null,null,null,null,null,null,null,null,null,{"$f":"CM412","v":1.6799399999999998},{"$f":"CN412","v":109.42},"e1",null,{"$f":"AX389","v":0},{"$f":"AY389","v":95.5},"کمر شبیه ساز",null,null,{"$f":"ATAN((CR412-CR413)/(CQ413-CQ412))","v":0.27820102979369904},"m1",null,{"$f":"CQ424","v":7.5819473317990065},{"$f":"CR424","v":144.14181260506507},"e''9",null,{"$f":"-BK401+BP383","v":-6.7651399999999988},{"$f":"BL401","v":100.5},39,null,{"$f":"BK425","v":5},{"$f":"BL425","v":100.5},38,null,null,null,null,null,{"$f":"0+BY382","v":15},{"$f":"BG103-BG128+CC382","v":136.72889743789941},24,null,{"$f":"-DS410","v":-6.0305999999999997},{"$f":"DT410","v":137.67733846273964},"28قرینه",null,{"$f":"DW419-DW407+DW419","v":9.3896248196338625},{"$f":"DX407","v":37.880000000000003},"q12",null,null,null,null,null,{"$f":"EE423+0.47*(EE390-EE391)","v":34.816033625347266},{"$f":"EF396","v":0},"r8"]
[null,null,null,null,null,{"$f":"F413-(1.4/1)*F425*SIN(RADIANS(0)+I398)","v":52.370403382417656},"k8",{"$f":"H413-(1.4/'متغیرها '!C394)*H425*SIN(RADIANS('متغیرها '!C392)+I398)","v":44.512345135848335},{"$f":"I413-(1.4/'متغیرها '!C394)*H425*COS(RADIANS('متغیرها '!C392)+I398)","v":112.27243809194904},{"$f":"J413-(1.4/1)*F425*COS(RADIANS(0)+I398)","v":118.05134061986045},null,null,null,null,"شببیه ساز آرنچ",null,null,null,"رسم آستین کیمونو تا پایین لباس",null,{"$f":"AP428","v":40.252666688250748},{"$f":"AQ428","v":107.59790254297694},"k6",null,{"$f":"-U415-GK101","v":-30.252666688250748},{"$f":"V415","v":107.59790254297694},"k6",null,76.769644104083312,112.25361420959339,"k''4",null,-66.769644104083312,112.25361420959339,"k''4",null,{"$f":"AX390+I403","v":5},{"$f":"AY390+I402","v":120.2},{"$f":"AZ390","v":"خط سینه"},null,null,null,"خط سینه",null,15.971131918892688,146.9,"s18",null,null,{"$f":"U110","v":23.527994812619404},{"$f":"V110","v":42.665715760454624},"34 شبیه ساز","نقطه ساسون سرشانه",null,{"$f":"AX401","v":6.2826008486643889},{"$f":"AY401","v":147.464},{"$f":"AZ401","v":"g1"},null,null,null,null,null,{"$f":"BK421","v":28.527994812619404},{"$f":"BL421","v":143.16571576045462},34,null,null,null,null,null,{"$f":"-BK415+BP383","v":-18.527994812619404},{"$f":"BT421","v":143.16571576045462},34,null,null,null,null,null,{"$f":"BG127+BY382","v":23.040800000000001},{"$f":"BG103+CC382","v":139.1},23,null,null,"به دست آوردن مختصات نقطه تقاطع دو خط با داشتن دونقطه از یک خط ",null,null,null,null,null,null,{"$f":"-CE395","v":1.6799399999999998},{"$f":"CF395","v":66.580000000000013},{"$f":"CG395","v":"1'"},null,{"$f":"AX402","v":6.2826008486643889},{"$f":"AY402","v":144.68200000000002},"g2","گردن شبیه ساز",null,{"$f":"0.5+CR416","v":2.2950469739105324},"m2",null,{"$f":"CQ426","v":8.8212031978011858},{"$f":"CR426","v":142.40438761182997},"e99",null,{"$f":"-BK402+BP383","v":-7.4126399999999997},{"$f":"BL402","v":120.19999999999999},43,null,null,null,null,null,null,null,null,null,null,null,null,null,{"$f":"-DS409","v":-8.0408000000000008},{"$f":"DT409","v":139.1},"23قرینه",null,{"$f":"DW419-DW406+DW419","v":8.9750986898653622},{"$f":"DX406","v":46.1},"q13",null,{"$f":"-DW410+BP383","v":-15.152270661292143},{"$f":"DX410","v":5},"q8",null,{"$f":"EE423-(EE414-EE423)","v":21.983966374652731},{"$f":"EF414","v":0},"r9"]
[null,null,null,null,null,null,"k11",{"$f":"H417-H426*SIN(RADIANS('متغیرها '!C392)+I398)","v":34.06434256875368},{"$f":"I417-H426*COS(RADIANS('متغیرها '!C392)+I398)","v":121.5971235379304},null,null,null,null,null,null,null,86.766812207515031,104.43914170311859,"k''4",null,{"$f":"U397","v":32.230039999999995},{"$f":"V397","v":87.271202973762882},45,null,{"$f":"Y397","v":-22.230039999999995},{"$f":"Z397","v":87.271202973762882},45,null,{"$f":"U388","v":64.600400606834128},{"$f":"V388","v":91.95226188540903},"k''5",null,{"$f":"Y388","v":-54.600400606834128},{"$f":"Z388","v":91.95226188540903},"k''5",null,null,null,null,null,null,null,null,null,11.282600848664389,149.68200000000002,"g2",null,null,{"$f":"(AX417-AX416)","v":0.3867582025696934},"زاویه چرخش به ساسون زیر بغل شبیه ساز",null,null,null,{"$f":"-AX402","v":-6.2826008486643889},{"$f":"AY402","v":144.68200000000002},{"$f":"AZ402","v":"g2"},null,null,null,null,null,{"$f":"BK385","v":13.040800000000001},{"$f":"BL385","v":146.9},25,null,null,null,null,null,{"$f":"-BK418+BP383","v":-3.0408000000000008},{"$f":"BT385","v":146.9},25,null,null,null,null,null,{"$f":"BG108-BG114+BG120+BY382","v":36.04},{"$f":"BG110+BG115+BG121+CC382","v":134.82840415344404},18,null,null,null,"نقطه دوم",{"$f":"CL403","v":"e15"},{"$f":"CI403","v":12.305686000638515},{"$f":"CJ403","v":131.3850560801213},null,null,{"$f":"-CI395","v":-7.5819473317990065},{"$f":"CJ395","v":141.84676563115454},{"$f":"CK395","v":"e'25"},null,null,{"$f":"0","v":0},"γ18","پشت یقه آرشال",null,{"$f":"RADIANS(90)-RADIANS(CR418)-CV414","v":1.2925952970011976},"m5",null,{"$f":"CU386","v":7.5819473317990065},{"$f":"CV386","v":141.84676563115454},"e'25",null,{"$f":"-BK405+BP383","v":-7.4126399999999997},{"$f":"BL405","v":82.5},47,null,32.494999999999997,103.92120297376289,41,null,null,null,null,null,null,null,null,null,{"$f":"AX410","v":10.422575322948052},{"$f":"AY410","v":149.9332},"s17",null,{"$f":"DW398","v":5},{"$f":"DX398","v":74},"q16",null,{"$f":"-DW411+BP383","v":-1.0477293387078603},{"$f":"DX411","v":5},"q9",null,{"$f":"EE423-EE411+EE423","v":19.924566358803816},{"$f":"EF411","v":31.93233586901129},"r12"]
[null,null,null,null,null,null,"k13",{"$f":"H394+('متغیرها '!C397-'متغیرها '!C398)*(G385+G388)*COS(RADIANS('متغیرها '!C392)+I398)","v":38.354994865064356},{"$f":"I394-('متغیرها '!C397-'متغیرها '!C398)*(G385+G388)*SIN(RADIANS('متغیرها '!C392)+I398)","v":135.28051473257722},null,null,null,null,null,null,null,null,null,null,null,{"$f":"U398","v":32.230039999999995},{"$f":"V398","v":72.371202973762905},"49'  …",null,{"$f":"Y398","v":-22.230039999999995},{"$f":"Z398","v":72.371202973762905},"49'  …",null,null,null,null,null,null,null,null,null,null,null,null,null,null,null,null,null,11.282600848664389,152.464,"g1",null,null,{"$f":"L117","v":12.41264},{"$f":"L116","v":19.7}," شبیه ساز5 بالاتنه","نقطه مرکزی چرخش",null,{"$f":"-AX401","v":-6.2826008486643889},{"$f":"AY401","v":147.464},{"$f":"AZ401","v":"g1"},null,null,null,null,null,{"$f":"AV128+AV135+BI382","v":19.082355507010465},{"$f":"AV103-AV136+BM382","v":146.09454230206421},32,null,null,null,null,null,{"$f":"-BK419+BP383","v":-9.0823555070104653},{"$f":"AV103-AV136+BM382","v":146.09454230206421},32,null,null,null,null,null,{"$f":"BG108-BG114+BG120-BG136+BY382","v":30.568924354402032},{"$f":"BG110+BG115+BG121+BG137+CC382","v":137.51475601565369},32,null,null,null,null,null,null,null,null,null,null,null,null,null,null,null,null,null,null,{"$f":"CV415*COS(CV418)","v":0.63028024089883539},"m6",null,{"$f":"CQ424","v":7.5819473317990065},{"$f":"CR424","v":144.14181260506507},"e''9",null,null,null,null,null,null,null,null,null,null,null,null,null,null,null,null,null,{"$f":"AX409","v":6.5826791513356122},{"$f":"AY409","v":159.57303999999999},"s16",null,{"$f":"DW385+0.5*(DW404-DW385)","v":18.100000000000001},{"$f":"DX410","v":5},"q17",null,{"$f":"-DW412+BP383","v":-0.59758440288070602},11.576000000000001,"q10",null,{"$f":"EE423-EE410+EE423","v":19.409716354841585},{"$f":"EF410","v":39.915419836264114},"r13"]
[null,null,null,null,null,null,null,null,null,null,null,null,null,null,null,null,{"$f":"Q388","v":76.953641931600387},{"$f":"R388","v":88.068310826606847},"k''5",null,{"$f":"U400","v":16.306469111540622},{"$f":"V400","v":71.580000000000013},52,null,{"$f":"Y400","v":-6.306469111540622},{"$f":"Z400","v":71.580000000000013},52,null,{"$f":"AC401","v":18.615019999999998},{"$f":"AD401","v":71.580000000000013},50,null,{"$f":"AG401","v":-8.6150199999999977},{"$f":"AH401","v":71.580000000000013},50,null,null,null,null,null,null,null,null,null,{"$f":"-AS383-GK101","v":-3.0408000000000008},{"$f":"AT383","v":146.9},25,null,null,{"$f":"AX419+SQRT(POWER(AX420-AX419,2)+POWER(AY420-AY419,2))*SIN(ATAN((AX420-AX419)/(AY420-AY419))-AX418)","v":19.812270692751827},{"$f":"AY419+SQRT(POWER(AX420-AX419,2)+POWER(AY420-AY419,2))*COS(ATAN((AX420-AX419)/(AY420-AY419))-AX418)+AY389","v":127.22129933373145}," شبیه سازb6",null,null,{"$f":"AX403","v":0},160.04499999999999,"s1",null,null,null,null,null,{"$f":"AV104-AV117+AV123-AV138+BI382","v":28.527994812619404},{"$f":"AV113+AV118+AV124+AV139+BM382","v":143.16571576045462},34,null,null,null,null,null,{"$f":"-BK421+BP383","v":-18.527994812619404},{"$f":"AV113+AV118+AV124+AV139+BM382","v":143.16571576045462},34,null,null,null,null,null,{"$f":"BW389","v":15},{"$f":"BX389","v":96.5},44,null,null,null,"نقطه دوم",{"$f":"CK395","v":"e'25"},{"$f":"CI395","v":7.5819473317990065},{"$f":"CJ395","v":141.84676563115454},null,null,{"$f":"-CE399","v":1.6799399999999998},{"$f":"CF399","v":109.42},{"$f":"CG399","v":"e1"},null,null,null,null,null,null,{"$f":"IF(CV417>CV415,ASIN(CV422/CV417),0)","v":0.42115861790615011},"m8",null,null,null,"قرینه",null,{"$f":"-BK408+BP383","v":-8.060139999999997},{"$f":"BL408","v":100.5},40,null,null,null,null,null,null,null,null,null,null,null,null,null,{"$f":"-AX409","v":-6.5826791513356122},{"$f":"AY409","v":159.57303999999999},"قرینهs16",null,null,null,null,null,{"$f":"-DW414+BP383","v":0.61037518036613747},37.880000000000003,"q12",null,{"$f":"EE398","v":17.137799999999999},{"$f":"EF398","v":65.534601658714664},"r15"]
[null,null,null,null,null,"شبیه ساز","محاسبات آستین کیمونو و سرخود",null,null,"شبیه ساز","شبیه ساز","نقاط  ورودی پشت آستین کیمونو و سرخود",null,null,null,null,null,null,null,null,{"$f":"U401","v":18.615019999999998},{"$f":"V401","v":71.580000000000013},50,null,{"$f":"Y401","v":-8.6150199999999977},{"$f":"Z401","v":71.580000000000013},50,null,null,null,"چیب",null,null,null,"چیب",null,null,null,null,null,null,null,null,null,{"$f":"-AS384-GK101","v":-14.762127675570746},{"$f":"AT384","v":143.55229963830257},"22f",null,null,null,null,null,null,null,5.0657040000000002,158.17558750000001,"s2",null,null,null,null,null,{"$f":"BK390","v":33.56},{"$f":"BL390","v":139.72651834803014},22,null,null,null,null,null,{"$f":"-BK422+BP383","v":-23.560000000000002},{"$f":"BT390","v":139.72651834803014},22,null,null,null,null,null,{"$f":"0+BY382","v":15},{"$f":"BG148+BG164+CC382","v":128.44999999999999},45,null,null,null,null,null,null,null,null,null,null,null,null,null,"نقاط  خروجی ",null,null,null,null,{"$f":"CV415*SIN(CV418)","v":2.2068048011521992},"m9",null,{"$f":"-CQ424","v":-7.5819473317990065},{"$f":"CR424","v":144.14181260506507},"e''9",null,null,null,"سرشانه",null,null,null,null,null,null,null,null,null,null,null,null,null,{"$f":"-AX410","v":-10.422575322948052},{"$f":"AY410","v":149.9332},"قرینهs17",null,null,null,null,null,{"$f":"-DW415+BP383","v":1.0249013101346378},46.1,"q13",null,{"$f":"EE397","v":15},{"$f":"EF397","v":66.603501658714663},"r16"]
[null,null,null,null,null,{"$f":"ATAN((F395-F396)/(G395-G396))","v":0.13414188512102307},"αk2",{"$f":"ATAN((H395-H396)/(I395-I396))","v":0.1444039718248929},null,{"$f":"CA415","v":23.040800000000001},{"$f":"CB415","v":139.1},{"$f":"BK104","v":23.348421281192373},{"$f":"BL104","v":139.03229312467974},23,null,null,{"$f":"AP432","v":48.744161210106284},{"$f":"AQ432","v":96.261566426054813},"k6",null,{"$f":"U403","v":27.70354846332329},{"$f":"V403","v":99.389701006989441},37,null,{"$f":"Y403","v":-17.70354846332329},{"$f":"Z403","v":99.389701006989441},37,null,{"$f":"AC404","v":33.264795993798657},{"$f":"AD404","v":84.110298993010559},"37'",null,{"$f":"AG404","v":-23.264795993798657},{"$f":"AH404","v":84.110298993010559},"37'",null,null,null,null,null,null,null,null,null,null,null,null,null,null,null,null,null,null,null,5.0657040000000002,145.71283750000001,"s4",null,null,null,null,null,{"$f":"BK388","v":5},{"$f":"BL388","v":136.99931237943548},26,null,null,null,null,null,{"$f":"-BK424+BP383","v":5},{"$f":"BT388","v":136.99931237943548},26,null,null,null,null,null,null,null,null,null,null,null,null,null,null,null,null,null,{"$f":"-CI401","v":-7.6660626104910827},{"$f":"CJ401","v":131.32593926697291},{"$f":"CL401","v":"e13"},null,{"$f":"CU386-CV415*SIN(RADIANS(CR418))","v":7.5819473317990065},{"$f":"CV386+CV415*COS(RADIANS(CR418))","v":144.14181260506507},"e''9",null,null,{"$f":"ATAN((CU387-CU394)/(CV387-CV394))","v":7.9102290037701889E-2},"m11",null,{"$f":"-CU387","v":-11.712800218472939},{"$f":"CV387","v":140.66696261859488},"e'9",null,{"$f":"-DC386+BP383","v":-14.762127675570746},{"$f":"DD386","v":143.55229963830257},{"$f":"DE386","v":"22f"},null,null,null,null,null,null,null,null,null,null,null,null,null,null,null,null,null,null,null,null,null,{"$f":"-DW417+BP383","v":2.8621999999999996},72.931100000000001,"q15",null,null,{"$f":"ATAN((EE419-EE421)/(EF421-EF419))","v":8.8448909843596005E-2},"r18"]
[null,null,null,null,null,{"$f":"H384*'متغیرها '!U84*1/H386","v":12.09893945355477},"(k4 →k5)",{"$f":"G384*H132*'متغیرها '!C394/G386","v":23.669292205007054},null,{"$f":"J424+H167*COS(M431)","v":34.762127675570746},{"$f":"K424-H167*SIN(M431)","v":135.75229963830256},{"$f":"CQ120","v":34.251864630769326},{"$f":"CR120","v":135.91818674906824},"18f",null,null,{"$f":"L429","v":42.32244},{"$f":"M429","v":64.974704632477568},{"$f":"N429","v":"43''"},null,{"$f":"U404","v":33.264795993798657},{"$f":"V404","v":84.110298993010559},"37'",null,{"$f":"Y404","v":-23.264795993798657},{"$f":"Z404","v":84.110298993010559},"37'",null,null,null,null,null,null,null,null,null,null,null,null,null,null,null,null,null,{"$f":"-AS387-GK101","v":-67.082344142089184},{"$f":"AT387","v":112.18998229891177},"k4'",null,null,null,null,null,null,null,0,143.428,"s5",null,null,null,null,null,{"$f":"BG385","v":5},{"$f":"BH385","v":100.5},38,null,null,null,null,null,{"$f":"BO385","v":5},{"$f":"BP385","v":100.5},38,null,null,null,null,null,{"$f":"BG108+BY382","v":38.205762895437516},{"$f":"BG110+CC382","v":114.34581574358867},8,null,"نقاط  ورودی",null,null,null,null,"محاسبات ",null,null,null,null,"رسم انحنا",null,{"$f":"CQ415","v":6.2826008486643889},{"$f":"CR424+0.5","v":144.64181260506507},"e'''9",null,null,{"$f":"SQRT(POWER((CU387-CU394),2)+POWER((CV387-CV394),2))","v":12.897511452561027},"m12",null,null,null,null,null,null,null,null,null,null,null,null,null,null,null,null,null,null,null,null,null,{"$f":"DS409","v":8.0408000000000008},{"$f":"DT409","v":139.1},23,null,null,null,null,null,{"$f":"-DW418+BP383","v":5},74,"q16"]
[null,null,null,null,null,null,null,null,null,null,null,{"$f":"BK165-'متغیرها '!C56","v":42.32244},{"$f":"BL165-'متغیرها '!C57","v":79.87470463247756},42,null,null,{"$f":"L424","v":23.348421281192373},139.03229312467974,23,null,{"$f":"U383","v":13.351253177760663},146.84676563115454,25,null,{"$f":"Y383","v":-3.3512531777606629},146.84676563115454,25,null,null,null,null,null,null,null,null,null,"αk2",{"$f":"ATAN((H395-H397)/(I395-I397))","v":0.11041778684867222},{"$f":"J397","v":45},"مربوط به نقطه ","k6",{"$f":"H395+'متغیرها '!C395*(I395-I397)*SIN(0.5*(H423-AL428))","v":40.252666688250748},{"$f":"I395-'متغیرها '!C395*(I395-I397)*COS(0.5*(H423-AL428))","v":107.59790254297694},null,{"$f":"-AS390-GK101","v":-60.861839574671805},{"$f":"AT390","v":101.81261949193987},"k5'",null,null,null,null,null,null,null,{"$f":"-AX404","v":-5.0657040000000002},{"$f":"AY404","v":158.17558750000001},"s2",null,null,null,null,null,{"$f":"AV104+BI382","v":34.9},{"$f":"AV113-AV115+BM382","v":121.742314084874},14,null,null,null,null,null,{"$f":"-BK428+BP383","v":-24.9},{"$f":"AV113-AV115+BM382","v":121.742314084874},14,null,null,null,null,null,null,null,null,null,{"$f":"AX402","v":6.2826008486643889},{"$f":"AY402","v":144.68200000000002},"g2",null,null,{"$f":"SQRT(POWER(CE429-CE391,2)+POWER(CF429-CF391,2))","v":7.7024284114944965},"m3",null,{"$f":"CI403","v":12.305686000638515},{"$f":"CJ403","v":131.3850560801213},{"$f":"CL403","v":"e15"},null,null,null,null,null,null,null,null,null,{"$f":"-CQ425","v":-6.2826008486643889},{"$f":"CR425","v":144.64181260506507},"e'''9",null,{"$f":"-BK425+BP383","v":5},{"$f":"BL425","v":100.5},38]
[null,null,null,null,null,"انحنا پایین پانچو",null,null,null,null,null,{"$f":"BK172-'متغیرها '!C56","v":42.32244},{"$f":"BL172-'متغیرها '!C57","v":64.974704632477568},"43''",null,null,34.251864630769326,135.91818674906824,"18f",null,24.254696527337614,143.73265925554304,"22f",null,-14.254696527337614,143.73265925554304,"22f",null,null,null,null,null,null,null,null,null,"αk2",{"$f":"ATAN((H395-H399)/(I395-I399))","v":7.594320338684786E-2},{"$f":"J399","v":"49'"},"مربوط به نقطه ","k6",{"$f":"H395+'متغیرها '!C395*(I395-I399)*SIN(0.5*(H423-AL429))","v":42.57496397375585},{"$f":"I395-'متغیرها '!C395*(I395-I399)*COS(0.5*(H423-AL429))","v":102.10225502781816},null,{"$f":"-AS391-GK101","v":-24.9},{"$f":"AT391","v":121.742314084874},12,null,null,null,null,null,null,null,{"$f":"AX403","v":0},{"$f":"AY403","v":160.04499999999999},"s1",null,null,null,null,null,{"$f":"BG395","v":32.494999999999997},{"$f":"BH395","v":103.92120297376289},41,null,null,null,null,null,{"$f":"-BK429+BP383","v":-22.494999999999997},{"$f":"BP395","v":103.92120297376289},41,null,null,null,null,null,null,null,null,null,{"$f":"FF687","v":3.6397516121211382},{"$f":"FG687","v":10.658534662365655},7,"تکه پشت یقه",null,{"$f":"CJ428-CJ427","v":5.4073814375839646},"m4",null,null,null,"قرینه",null,null,null,null,null,null,null,null,null,null,null,null,null,null,null,null,null,null,null,null,null,null,null,null,null,null,null,null,null,{"$f":"-DS409","v":-8.0408000000000008},{"$f":"DT409","v":139.1},"قرینه 23"]
[null,null,null,null,null,"k14",{"$f":"H400+0.8*(H410-H400)","v":55.459614307775425},{"$f":"I400+0.6*(I410-I400)","v":83.80335713124542},null,null,null,"α4",{"$f":"'متغیرها '!B315","v":0.27820102979369776},"زاویه سرشانه با افق",null,null,null,null,null,null,null,null,null,null,null,null,null,null,null,null,null,null,null,null,null,null,"αk2",{"$f":"ATAN((L426-L428)/(M426-M428))","v":-9.8900989169925665E-2},{"$f":"N428","v":42},"مربوط به نقطه ","k6",{"$f":"L426+'متغیرها '!C395*(M426-M428)*SIN(0.5*(O385-AL431))","v":45.887764652992118},{"$f":"M426-'متغیرها '!C395*(M426-M428)*COS(0.5*(O385-AL431))","v":101.34697128675343},null,{"$f":"-AS391-GK101","v":-24.9},{"$f":"AT391","v":121.742314084874},12,null,null,null,null,null,null,null,{"$f":"AX411","v":10.971131918892688},{"$f":"AY411","v":141.9},"s18",null,null,null,null,null,null,null,null,null,null,null,null,null,null,null,null,null,null,null,null,null,null,null,null,null,"با شرط پایه دار",{"$f":"IF(CE434=1,ES741,0)","v":0},"γ18","تکه پشت یقه",null,{"$f":"CJ427*COS(CJ430)","v":0.63028024089883528},"m6",null,{"$f":"-CI394","v":-11.505801382950613},{"$f":"CJ394","v":135.7183380812765},{"$f":"CK394","v":"e21"},null,null,null,null,null,null,null,null,null,null,null,null,null,{"$f":"-BK428+BP383","v":-24.9},{"$f":"BL428","v":121.742314084874},14,null,null,null,null,null,null,null,null,null,null,null,null,null,{"$f":"-AX401","v":-6.2826008486643889},{"$f":"AY401-(AY385-DT409)","v":144.66399999999999},"قرینه g1"]
[null,null,null,null,null,"k15",{"$f":"H400+0.4*(H410-H400)","v":37.178041709658018},{"$f":"I400+0.13*(I410-I400)","v":74.228394045103187},null,null,null,null,null,null,null,null,{"$f":"M406","v":48.352162968496067},{"$f":"N406","v":127.4660422261024},"k13",null,{"$f":"U387","v":76.769644104083312},{"$f":"V387","v":112.25361420959339},"k''4",null,{"$f":"Y387","v":-66.769644104083312},{"$f":"Z387","v":112.25361420959339},"k4",null,null,null,null,null,null,null,null,null,"αk2",{"$f":"ATAN((L426-L429)/(M426-M429))","v":-6.799324758912402E-2},{"$f":"N429","v":"43''"},"مربوط به نقطه ","k6",{"$f":"L426+'متغیرها '!C395*(M426-M429)*SIN(0.5*(O385-AL432))","v":48.744161210106284},{"$f":"M426-'متغیرها '!C395*(M426-M429)*COS(0.5*(O385-AL431))","v":96.261566426054813},null,{"$f":"-BG395+BP383","v":-22.494999999999997},{"$f":"BP385+L125","v":103.92120297376289},41,null,null,null,null,null,null,null,{"$f":"AX410","v":10.422575322948052},{"$f":"AY410","v":149.9332},"s17",null,null,null,null,null,null,null,null,null,null,null,null,null,null,null,null,null,null,null,null,null,null,null,null,null,null,{"$f":"ES740","v":0.7},"γ17","تکه پشت یقه",null,{"$f":"CJ435-CJ431","v":4.3062961619474969},"m7",null,{"$f":"-CI403","v":-12.305686000638515},{"$f":"CJ403","v":131.3850560801213},{"$f":"CL403","v":"e15"},null,null,null,null,null,null,null,null,null,null,null,null,null,{"$f":"-BK429+BP383","v":-22.494999999999997},{"$f":"BL429","v":103.92120297376289},41]
[null,null,null,null,null,null,null,null,null,null,null,null,34.251864630769326,135.91818674906824,"18f",null,{"$f":"M405","v":42.109129203268644},{"$f":"N405","v":110.52558874318375},"k11",null,{"$f":"H410","v":64.600400606834128},{"$f":"I410","v":91.95226188540903},"k''5",null,{"$f":"-U435-GK101","v":-54.600400606834128},{"$f":"V435","v":91.95226188540903},"k''5",null,null,null,null,null,null,null,null,null,null,null,null,null,null,null,null,null,{"$f":"-AS397-GK101","v":-36.695691707996772},{"$f":"AT397","v":114.88792601396854},"k8'",null,null,null,null,null,null,"قرینه",{"$f":"-AX409","v":-6.5826791513356122},{"$f":"AY409","v":159.57303999999999},"s16",null,null,null,null,null,null,null,null,null,null,null,null,null,null,null,null,null,null,null,null,null,null,null,null,null,"نقاط  خروجی ",null,null,null,null,{"$f":"CJ429*COS(CJ433)","v":4.9365764028463319},"m10",null,{"$f":"CE439","v":8.8241643957717653},{"$f":"CF439","v":142.40297804404727},"e99"]
[null,null,null,null,null,null,null,null,null,null,null,null,86.766812207515031,104.43914170311859,"k''4",null,{"$f":"M407","v":38.740972978704555},{"$f":"N407","v":105.69941200475694},"k15",null,{"$f":"AP429","v":42.57496397375585},{"$f":"AQ429","v":102.10225502781816},"k6",null,{"$f":"-U436-GK101","v":-32.57496397375585},{"$f":"V436","v":102.10225502781816},"k6",null,null,null,null,null,null,null,null,null,null,null,null,null,null,null,null,null,null,null,null,null,null,null,null,null,null,null,{"$f":"-AX410","v":-10.422575322948052},{"$f":"AY410","v":149.9332},"s17",null,null,null,null,null,null,null,null,null,null,null,null,null,null,null,null,null,null,null,null,null,null,null,null,null,"مولفه افقی","مولفه عمودی","اسم نقطه ",null,null,{"$f":"((CJ395-CF427)/(CJ395-CJ401))*RADIANS(3.5)*CF432","v":0.18837056076088501},"m11",null,{"$f":"CI397","v":11.722670878374871},{"$f":"CJ397","v":140.66414348302948},"e'9"]
[null,null,null,null,null,null,null,null,null,null,null,null,{"$f":"Q387","v":86.766812207515031},{"$f":"R387","v":104.43914170311859},"k''4",null,null,null,"پهلو لباس",null,null,null,null,null,null,null,null,null,null,null,null,null,null,null,null,null,null,null,null,null,null,null,null,null,{"$f":"-AS418-GK101","v":-1.2826008486643889},{"$f":"AT418","v":149.68200000000002},"g2'",null,null,null,null,null,null,null,null,null,null,null,null,null,null,null,null,null,null,null,null,null,null,null,null,null,null,null,null,null,null,null,null,null,null,null,{"$f":"CE428","v":6.2826008486643889},{"$f":"CF437+0.5","v":144.64181260506507},"e'''9",null,null,null,null,null,{"$f":"CI395","v":7.5819473317990065},{"$f":"CJ395","v":141.84676563115454},"e'25"]
[null,null,null,null,null,null,null,null,null,null,null,null,{"$f":"Q388","v":76.953641931600387},{"$f":"R388","v":88.068310826606847},"k''5",null,{"$f":"BK162-'متغیرها '!C56","v":38.272440000000003},{"$f":"BL162-'متغیرها '!C57","v":96.524704632477565},36,null,{"$f":"U400","v":16.306469111540622},{"$f":"V400","v":71.580000000000013},52,null,{"$f":"Y400","v":-6.306469111540622},{"$f":"Z400","v":71.580000000000013},52,null,null,null,null,null,null,null,null,null,null,null,null,null,null,null,null,null,{"$f":"-AS419-GK101","v":-1.2826008486643889},{"$f":"AT419","v":152.464},"g1'",null,null,null,null,null,null,null,0,0,"زمین",null,null,null,null,null,null,null,null,null,null,null,null,null,null,null,null,null,null,null,null,null,null,null,null,null,{"$f":"CE437+0.3*(CI397-CE437)","v":8.8241643957717653},{"$f":"CJ397+0.5*(CF437-CJ397)","v":142.40297804404727},"e99",null,null,null,null,null,{"$f":"CE437","v":7.5819473317990065},{"$f":"CF437","v":144.14181260506507},"e''9"]
[null,null,null,null,null,null,null,null,null,null,null,null,{"$f":"M411","v":66.731233545280304},{"$f":"N411","v":79.472986495964108},"k14",null,{"$f":"BK165-'متغیرها '!C56","v":42.32244},{"$f":"BL165-'متغیرها '!C57","v":79.87470463247756},42,null,{"$f":"U403","v":27.70354846332329},{"$f":"V403","v":99.389701006989441},37,null,{"$f":"Y403","v":-17.70354846332329},{"$f":"Z403","v":99.389701006989441},37,null,null,null,null,null,null,null,null,null,null,null,null,null,null,null,null,null,null,null,null,null,null,null,null,null,null,null,null,null,null,null,null,null,null,null,null,null,null,null,null,null,null,null,null,null,null,null,null,null,null,null,null,null,null,null,null,null,null,null,null,null,null,null,{"$f":"-CE437","v":-7.5819473317990065},{"$f":"CF437","v":144.14181260506507},"e''9"]
[null,null,null,null,null,null,null,null,null,null,null,null,{"$f":"M412","v":46.286416772640152},{"$f":"N412","v":69.373480407458899},"k15",null,{"$f":"BK172-'متغیرها '!C56","v":42.32244},{"$f":"BL172-'متغیرها '!C57","v":64.974704632477568},"43''",null,{"$f":"U404","v":33.264795993798657},{"$f":"V404","v":84.110298993010559},"37'",null,{"$f":"Y404","v":-23.264795993798657},{"$f":"Z404","v":84.110298993010559},"37'",null,null,null,null,null,null,null,null,null,null,null,null,null,null,null,null,null,null,null,null,null,null,null,null,null,null,null,null,null,null,null,null,null,null,null,null,null,null,null,null,null,null,null,null,null,null,null,null,null,null,null,null,null,null,null,null,null,null,null,null,null,null,null,{"$f":"-CE439","v":-8.8241643957717653},{"$f":"CF439","v":142.40297804404727},"e99"]
[]
[null,null,null,null,null,null,null,null,null,null,null,null,null,null,null,null,null,null,null,null,null,null,null,null,null,null,null,null,null,null,null,null,null,null,null,null,null,null,null,null,null,null,null,null,null,null,null,null,null,null,null,null,null,null,null,null,null,null,null,null,null,null,null,null,null,null,null,null,null,null,null,null,null,null,null,null,null,null,null,null,null,null,null,null,null,null,null,null,null,null,{"$f":"-CI395","v":-7.5819473317990065},{"$f":"CJ395","v":141.84676563115454},"e'25"]
[]
[]
[]
[]
[]
[]
[null,null,null,null,null,null,{"$f":"P471","v":26.091229764109709},{"$f":"Q471","v":131.43500685772256},"g10","طول حلقه","جلو پیراهن برش از کارور (حلقه با ساسون سرشانه)",null,null,null,null,"مولفه افقی","مولفه عمودی","محاسبات",null,{"$f":"AC471","v":35.430529358465584},{"$f":"AD471","v":133.04169313113715},"g10","طول حلقه","پشت پیراهن مردانه یا برش از کارور (حلقه با ساسون سرشانه)",null,null,null,null,"مولفه افقی","مولفه عمودی","محاسبات",null,"جلو برش سرشانه  (حلقه با ساسون سرشانه)",null,null,null,null,"به دست آوردن نقطه تقاطع دو خط ","مولفه افقی","مولفه عمودی",null,null,null,"جلو پیراهن مردانه وصل به برش سرشانه (حلقه بدون ساسون سرشانه)",null,null,null,null,null,null,"مولفه افقی","مولفه عمودی","اسم نقطه ورودی","جلو پیراهن برش از کارور (حلقه بدون ساسون سرشانه)",null,null,null,null,null,null,null,"پشت پیراهن برش از کارور (حلقه بدون ساسون سرشانه)",null,null,null,null,null,null,null,null,"جلو پیراهن برش از کارور (با ساسون عصایی)",null,null,null,null,"پشت پیراهن برش از کارور (با ساسون عصایی)",null,null,null,null,null,null,null,"جلو برش سرشانه  (حلقه با ساسون عصایی)",null,"یقه مربعی (رسم کاربر)",null,null,null,null,null,null,null,"یقه مربعی و برش سرشانه در پیراهن مردانه و تکه برش از کارور",null,null,null,null,null,null,null,null,null,null,null,null,null,null,null,null,null,null,null,null,null,null,null,"جیب پهلو",null,null,null,"پاکت جیب",null,null,null,null,null,null,null,"رسم پاکت جیب اول",null,null,null,"جیب دوم درمکان دلخواه",null,null,null,"پاکت جیب دوم",null,"متغیر محاسبه ای محلی",null,null,null,null,null," جیب مستطیل",null,null,null,null,"متغیر محاسبه ای محلی",null,null,null,null,null," جادکمه با بلیطی",null,null,null,null,null,null,null,null,"جادکمه جلوبا طول دلخواه"]
[null,null,null,null,null,null,"مولفه افقی","مولفه عمودی","اسم نقطه ورودی",{"$f":"IF(H459>H462,SQRT(POWER(G462-G459,2)+POWER(H462-H459,2))+J463+J464+J465+J466,IF(H459>H463,SQRT(POWER(G463-G459,2)+POWER(H463-H459,2))+J464+J465+J466,IF(H459>H464,SQRT(POWER(G464-G459,2)+POWER(H464-H459,2))+J465+J466,IF(H459>H465,SQRT(POWER(G465-G459,2)+POWER(H465-H459,2))+J466,SQRT(POWER(G466-G459,2)+POWER(H466-H459,2))))))","v":10.474496395817035},null,"به دست آوردن نقطه تقاطع دو خط ","مولفه افقی","مولفه عمودی",null,{"$f":"G470","v":5},{"$f":"H470-H471","v":131.65931237943548},"g1",null,"مولفه افقی","مولفه عمودی","اسم نقطه ورودی",{"$f":"IF(U459>U462,SQRT(POWER(T462-T459,2)+POWER(U462-U459,2))+W463+W464+W465+W466,IF(U459>U463,SQRT(POWER(T463-T459,2)+POWER(U463-U459,2))+W464+W465+W466,IF(U459>U464,SQRT(POWER(T464-T459,2)+POWER(U464-U459,2))+W465+W466,IF(U459>U465,SQRT(POWER(T465-T459,2)+POWER(U465-U459,2))+W466,SQRT(POWER(T466-T459,2)+POWER(U466-U459,2))))))","v":23.193802446527055},null,"به دست آوردن نقطه تقاطع دو خط ","مولفه افقی","مولفه عمودی",null,{"$f":"T470","v":15},{"$f":"U470-U471","v":127.92864751789941},"g1",null,"مولفه افقی","مولفه عمودی","اسم نقطه ورودی",null,"نقطه اول از خط اول",{"$f":"AI461","v":32},{"$f":"AG461","v":19.249863555213253},145.83531262309054,null,"مولفه افقی","مولفه عمودی","اسم نقطه ورودی",null,null,"به دست آوردن نقطه تقاطع دو خط ","مولفه افقی","مولفه عمودی",null,{"$f":"CI117","v":24.254696527337614},143.73265925554304,"22f",null,null,"به دست آوردن نقطه تقاطع دو خط ","مولفه افقی","مولفه عمودی",null,"مولفه افقی","مولفه عمودی","اسم نقطه ورودی",null,null,"به دست آوردن نقطه تقاطع دو خط ","مولفه افقی","مولفه عمودی",null,"مولفه افقی","مولفه عمودی","اسم نقطه ورودی",null,null,"مولفه افقی","مولفه عمودی","اسم نقطه ورودی",null,null,"مولفه افقی","مولفه عمودی","اسم نقطه ورودی",null,null,null,null,"(1 → 2)",{"$f":"IF('متغیرها '!C282=1,0.3*CI463,CI465-CL474+CL473)","v":2.9701300847248575},null,"نوار باز شده دور یقه",{"$f":"2*(SQRT(POWER(AN139-AN144,2)+POWER(AO139-AO144,2))+SQRT(POWER(AN144-AN142,2)+POWER(AO144-AO142,2))+SQRT(POWER(AN142-AN140,2)+POWER(AO142-AO140,2))+SQRT(POWER(AR141-AR146,2)+POWER(AS141-AS146,2))+SQRT(POWER(AR146-AR144,2)+POWER(AS146-AS144,2))+SQRT(POWER(AR144-AR142,2)+POWER(AS144-AS142,2)))","v":46.693005929805381},null,"پیراهن برش از کارور","پیراهن مردانه برش از سرشانه","یقه مربعی",null,null,"متغیر ورودی و محاسبه ای برش سرشانه",null,null,null,null,null,"یقه مربعی",null,null,null," یقه (هفت ) ملوانی",null,"نقاط خروجی برای یقه مربعی",null,null,null,null,null,null,null,null,null,null,{"$f":"DM464+DN463","v":28.04556860664896},{"$f":"DM465-DN462","v":98.450008386203535},"β13",null,null,null,"جیب اول درمکان دلخواه",null,{"$f":"DU464+DV463","v":147.99600000000001},{"$f":"DU465-DV462","v":123.82000000000001},"β13",null,"متغیر محاسبه ای محلی",null,null,null,{"$f":"EC463+ED462","v":147.18299999999999},{"$f":"EC464-ED461","v":-15.55},"β13",null,"(41→β4)",{"$f":"0.5*ES463*COS(RADIANS(ES465))","v":0},null,null,{"$f":"EK462+EK461","v":19.95},{"$f":"EK463-EK460","v":122.19000000000001},"β13",null,"متغیرهای ورودی ",null,null,"(41→β4)",{"$f":"0.5*FD463*COS(RADIANS(FD465))","v":6.1257422745431001E-17},null,null,{"$f":"EV462+EV461","v":18.510999999999999},{"$f":"EV463-EV460","v":101},"β13",null,"متغیرهای ورودی ",null,null,null,null,"نقطه ورودی برای پروسیجر",null,{"$f":"FF462+FG468","v":5},{"$f":"FG462-FG467","v":134.68940389257898},"β13"]
[null,null,null,null,null,null,{"$f":"BW135","v":25.588962427831195},{"$f":"BX135","v":132.10743514081653},"b6",{"$f":"SQRT(POWER(G462-G463,2)+POWER(H462-H463,2))","v":6.0530043718146302},"نقطه اول از خط دوم",{"$f":"I469","v":5},{"$f":"G469","v":17.60146911154062},{"$f":"H469","v":122.17},null,null,{"$f":"IF(G468=G469,RADIANS(90),IF(G468>G469,ATAN((H468-H469)/(G468-G469)),RADIANS(180)-ATAN((H468-H469)/(G469-G468))))","v":1.5016354651581725},"g5",null,{"$f":"CE118","v":34.784913290103987},{"$f":"CF118","v":122.47136150521011},"b6",{"$f":"SQRT(POWER(T462-T463,2)+POWER(U462-U463,2))","v":6.9082166322630139},"نقطه اول از خط دوم",{"$f":"V469","v":22},{"$f":"T469","v":28.676935650976734},{"$f":"U469","v":130.9189297056397},null,null,{"$f":"IF(T468=T469,RADIANS(90),IF(T468>T469,ATAN((U468-U469)/(T468-T469)),RADIANS(180)-ATAN((U468-U469)/(T469-T468))))","v":1.2480007181145307},"g5",null,{"$f":"BW106","v":11.681002542208532},{"$f":"BX106","v":141.60805476186675},30,null,"نقطه دوم از خط دوم",{"$f":"AI474","v":"g1"},{"$f":"AG474","v":18.889802867775071},{"$f":"AH474","v":140.37193942159979},null,{"$f":"AZ148","v":11.681002542208532},{"$f":"BA148","v":141.60805476186675},30,null,"نقطه اول از خط دوم",{"$f":"AR463","v":30},11.681002542208532,141.60805476186675,null,27.435924455871671,125.98834966465331,"20f",null,"نقطه اول از خط دوم",{"$f":"BA468","v":5},{"$f":"AY468","v":17.60146911154062},{"$f":"AZ468","v":122.17},null,33.561040967086534,123.02320525304333,"12f",null,"نقطه اول از خط دوم",{"$f":"BJ469","v":40},{"$f":"BH469","v":26.7666},{"$f":"BI469","v":113.45561085030904},null,{"$f":"CZ155","v":25.588962427831195},{"$f":"DA155","v":132.10743514081653},35,null,null,{"$f":"DH155","v":34.784913290103987},{"$f":"DI155","v":122.47136150521011},37,null,null,{"$f":"AZ148","v":11.681002542208532},{"$f":"BA148","v":141.60805476186675},30,null,null,null,null,"(1 → 5)",{"$f":"CL465+G166-CL464*SIN(CL462)*(1-0.5*'متغیرها '!C76+0.5*'متغیرها '!C78)","v":7.9707431516109928},null,"زاویه سرشانه جلو پیراهن ",{"$f":"CL462","v":0.27820102979369776},{"$f":"CL463","v":0.27820102979369776},{"$f":"'متغیرها '!C289*H123","v":5.3399999999999972},{"$f":"CN463","v":5.3399999999999972},{"$f":"'متغیرها '!C289*G168","v":8.0002271999999959},"جلو یقه روی خط مرکزی",null,{"$f":"BD103","v":11.681002542208532},{"$f":"BE103","v":141.60805476186675},"30جلو",null,{"$f":"CI461+'متغیرها '!C301","v":18.482747563761421},{"$f":"0+'متغیرها '!C302","v":0},3,null,{"$f":"CI493+'متغیرها '!C301","v":16.958420182373885},{"$f":"CI492+'متغیرها '!C302","v":43.915354221756431},33,null,"sq3",{"$f":"CP472-(CQ472-CQ471)*TAN(RADIANS(CP476))","v":7.7439206430256382},{"$f":"CQ471","v":8.4651135735563052},null,null,null,null,"(β3→β4)",{"$f":"0.5*'متغیرها '!C196*SIN(RADIANS('متغیرها '!C198)+RADIANS('متغیرها '!C199))","v":0.34202014332566871},{"$f":"0.5*'متغیرها '!C196*SIN(RADIANS('متغیرها '!C198))","v":0.34202014332566871},"(41→β8)",{"$f":"DM464+DM462","v":28.643241084109199},{"$f":"DM465+DM463","v":99.73172115031511},"β11",null,"(β3→β4)",{"$f":"0.5*'متغیرها '!C204*SIN(RADIANS('متغیرها '!C206)+RADIANS('متغیرها '!C207))","v":0},{"$f":"0.5*'متغیرها '!C204*SIN(RADIANS('متغیرها '!C206))","v":0},"(41→β8)",{"$f":"DU464+DU462","v":147.99600000000001},{"$f":"DU465+DU463","v":123.82000000000001},"β11",null,"افقی بالای جیب",{"$f":"EC476-'متغیرها '!C215*0.5*SIN(RADIANS('متغیرها '!C216))*(0.5*'متغیرها '!U84+0.06*H105)","v":147.18299999999999},null,null,{"$f":"EC463+EC461","v":147.18299999999999},{"$f":"EC464+EC462","v":-15.55},"β11",null,"عمودی بالای جیب",{"$f":"EK469+ES464*0.5*COS(RADIANS(ES465))*(0.5*ES467+0.06*ES477)","v":122.19000000000001},null,null,{"$f":"EN473","v":19.95},{"$f":"EO473","v":122.19000000000001},"β9",null,"عرض پاکت جادکمه به سانتیمتر",{"$f":"0","v":0},null,"عمودی بالای جیب",{"$f":"EV469+FD464*0.5*COS(RADIANS(FD465))*(0.5*FD467+0.06*FD477)","v":101},null,null,{"$f":"EY467","v":17.510999999999999},{"$f":"EZ467","v":100},"β9",null,"عرض پاکت جادکمه به سانتیمتر",{"$f":"'متغیرها '!C230","v":2},null,null,null,null,null,{"$f":"FF462+FG467","v":6.6799400000000002},{"$f":"FG462+FG468","v":136.36934389257897},"β11"]
[null,null,null,null,null,null,{"$f":"BW134","v":28.654272756814162},{"$f":"BX134","v":128.00364177662831},"b10",{"$f":"SQRT(POWER(G463-G464,2)+POWER(H463-H464,2))","v":5.122230704383095},"نقطه دوم از خط دوم",{"$f":"I467","v":32},{"$f":"G467","v":19.249863555213253},{"$f":"H467","v":145.83531262309054},null,{"$f":"G469+Q462*COS(Q463)","v":18.258823939904232},{"$f":"H469+Q462*SIN(Q463)","v":131.65956369966463},"g4",null,{"$f":"CE117","v":36.076039530151412},{"$f":"CF117","v":116.47262696058199},"b10",{"$f":"SQRT(POWER(T463-T464,2)+POWER(U463-U464,2))","v":6.1361081399086963},"نقطه دوم از خط دوم",{"$f":"V467","v":30},{"$f":"T467","v":29.193225623847461},{"$f":"U467","v":137.7458624935949},null,{"$f":"T469+AD462*COS(AD463)","v":29.628218713408405},{"$f":"U469+AD462*SIN(AD463)","v":133.76286853551701},"g4",null,null,{"$f":"O139","v":0.16982153113944554},"β3",null,"نقطه تقاطع","g2",{"$f":"(AN462-AN460+AM460*((AN461-AN460)/(AM461-AM460))-AM462*((AN463-AN462)/(AM463-AM462)))/(((AN461-AN460)/(AM461-AM460))-((AN463-AN462)/(AM463-AM462)))","v":18.869557087465747},{"$f":"AN460+(AM464-AM460)*((AN461-AN460)/(AM461-AM460))","v":140.3754110283146},null,null,{"$f":"0.5*(P139+0.3*(P140-P139)+AE139+0.3*(AE140-AE139))","v":0.27820102979369776},"α2",null,"نقطه دوم از خط دوم",{"$f":"AR474","v":"g1"},{"$f":"AP474","v":18.713799147550979},{"$f":"AQ474","v":139.59943454484829},null,31.025238551326837,121.70498983133906,"18f",null,"نقطه دوم از خط دوم",{"$f":"BA466","v":" وسط 22f"},{"$f":"AY466","v":18.802974852549138},{"$f":"AZ466","v":145.28971244334878},null,34.594792081207657,118.33412107267063,"16f",null,"نقطه دوم از خط دوم",{"$f":"BJ467","v":"وسط 18f"},{"$f":"BH467","v":28.800142955980849},{"$f":"BI467","v":137.475239936874},null,{"$f":"AZ168","v":33.525039999999997},{"$f":"BA168","v":103.92120297376289},41,null,null,{"$f":"BK114-'متغیرها '!C56","v":40.811706522700881},{"$f":"BL114-'متغیرها '!C57","v":112.47276584720476},9,null,null,null,{"$f":"O139","v":0.16982153113944554},"β3",null,null,null,null,"(5 → 6)",{"$f":"G163+CL464*COS(CL462)*(1-0.5*'متغیرها '!C76+0.5*'متغیرها '!C78)","v":19.24711677595409},null,"پهنا یقه روی خط سرشانه",{"$f":"IF('متغیرها '!C282=1,CP461,IF('متغیرها '!C282=2,CO461,CN461))","v":12.599369737130157},null,{"$f":"IF('متغیرها '!C283=2,IF(Q460>H469,(M465-P460)+SQRT(POWER(P471-P464,2)+POWER(Q464-Q471,2)),(M486-P460)+SQRT(POWER(P476-M486,2)+POWER(N486-Q476,2))),IF(AZ477>AZ468,(BE465-AY477)+SQRT(POWER(AY488-AY481,2)+POWER(AZ481-AZ488,2)),(BE486-AY477)+(BE479-BE486)))","v":20.724222137373676},{"$f":"CN464","v":20.724222137373676},{"$f":"'متغیرها '!C293*G168","v":18.000511200000002},"نصف جلو کارور",null,null,{"$f":"SQRT(POWER(CS462-CS463,2)+POWER(CT462-CT463,2))","v":5.4985296905223935},"(25→30)",null,null,null,null,null,null,null,null,null,null,null,null,null,null,null,null,"افقی بالای جیب",{"$f":"DM477-0.5*SIN(RADIANS('متغیرها '!C198))*'متغیرها '!C197*(0.5*'متغیرها '!U84+0.06*H105)","v":27.70354846332329},null,null,{"$f":"DM466+DM462","v":34.204488614584562},{"$f":"DM467+DM463","v":84.452319136336229},"β5",null,"افقی بالای جیب",{"$f":"DU477-0.5*SIN(RADIANS('متغیرها '!C206))*IF('متغیرها '!C209=0,'متغیرها '!C205*(0.5*'متغیرها '!U84+0.06*H105),DU479)","v":147.99600000000001},null,null,{"$f":"DU466+DU462","v":161.00399999999999},{"$f":"DU467+DU463","v":123.82000000000001},"β5",null,"عمودی بالای جیب",{"$f":"EC477+'متغیرها '!C215*0.5*COS(RADIANS('متغیرها '!C216))*(0.5*'متغیرها '!U84+0.06*H105)","v":-15.55},null,null,{"$f":"EC465+EC461","v":161.81700000000001},{"$f":"EC466+EC462","v":-15.55},"β5",null,"افقی پایین جیب",{"$f":"2*EK468-EK462","v":19.95},null,null,{"$f":"EN480","v":19.95},{"$f":"EO480","v":122.19000000000001},"β3",null,"ضریب طول پاکت جادکمه یا عرض جیب مستطیل",{"$f":"'متغیرها '!C223","v":0},null,"افقی پایین جیب",{"$f":"2*EV468-EV462","v":22.388999999999999},null,null,{"$f":"EY482","v":22.388999999999999},{"$f":"EZ482","v":100},"β3",null,"ضریب طول پاکت جادکمه یا عرض جیب مستطیل",{"$f":"'متغیرها '!C231","v":0.30000000000000004},null,"متغیر محاسبه ای محلی",null,null,null,{"$f":"FG469+FG467","v":6.6799400000000002},{"$f":"FG470+FG468","v":120.76934389257897},"β5"]
[null,null,null,null,null,null,{"$f":"BW132","v":34.581596165257494},{"$f":"BX132","v":126.8768192529092},"b4",{"$f":"SQRT(POWER(G465-G466,2)+POWER(H465-H466,2))","v":3.3884152197860304},null,null,null,null,null,null,{"$f":"(Q465-H469)/(H468-H469)+Q473*(H478-H477)/(Q467-Q463)","v":-75.175807310407777},"g11",null,{"$f":"CE122","v":40.811774596123236},{"$f":"CF122","v":112.47373911807699},"b14",{"$f":"SQRT(POWER(T465-T466,2)+POWER(U465-U466,2))","v":2.7709346062269811},null,null,null,null,null,null,0.5,"g11",null,null,{"$f":"H167","v":12.190021336724966},"w",null,null,"به دست آوردن نقطه تقاطع دو خط ","مولفه افقی","مولفه عمودی",null,null,{"$f":"H167","v":12.190021336724966},"w",null,null,null,null,null,null,{"$f":"CM132","v":18.802974852549138},{"$f":"CN132","v":145.28971244334878}," وسط 22f",null,null,null,null,null,null,{"$f":"BK114-BI473","v":40.811706522700881},{"$f":"BL114-BI475","v":112.47276584720476},9,null,null,null,null,null,null,null,{"$f":"CN463","v":5.3399999999999972},"جلو یقه روی خط مرکزی",null,null,null,{"$f":"CN462","v":8.8002499199999988},"پشت یقه روی خط مرکزی",null,null,null,{"$f":"H167","v":12.190021336724966},"w",null,null,null,null,"(1 → 8)",{"$f":"CI465+0.1*(CI470-CI465)","v":8.7269515665771635},null,"جلو یقه روی خط مرکزی",{"$f":"IF('متغیرها '!C282=1,CP463,IF('متغیرها '!C282=2,CO463,CN463))","v":5.3399999999999972},null,null,null,null,null,null,null,{"$f":"RADIANS(90)+ATAN((CS462-CS463)/(CT462-CT463))-CL463","v":1.6012352522486042},"g20",null,{"$f":"0+'متغیرها '!C301","v":0},{"$f":"0+'متغیرها '!C302","v":0},1,null,{"$f":"DA463","v":16.958420182373885},{"$f":"DB463","v":43.915354221756431},33,null,{"$f":"CP471","v":0},{"$f":"CQ471","v":8.4651135735563052},{"$f":"CR471","v":7},null,null,null,null,"افقی پایین جیب",{"$f":"2*DM477-DM464","v":33.264795993798657},null,null,{"$f":"DP464","v":34.204488614584562},{"$f":"DQ464","v":84.452319136336229},"β5",null,"افقی پایین جیب",{"$f":"2*DU477-DU464","v":161.00399999999999},null,null,{"$f":"DX464","v":161.00399999999999},{"$f":"DY464","v":123.82000000000001},"β5",null,"عمودی پایین جیب",{"$f":"EC477-(EC464-EC477)","v":-15.55},null,null,{"$f":"EF464","v":161.81700000000001},{"$f":"EG464","v":-15.55},"β5",null,null,null,null,null,{"$f":"EN480","v":19.95},{"$f":"EO480","v":122.19000000000001},"β3",null,"ضریب ارتفاع جیب مستطیل",{"$f":"'متغیرها '!C225","v":0},null,null,null,null,null,{"$f":"EY485-EV472*COS(RADIANS(FD465))","v":17.510999999999999},{"$f":"EZ485-EV472*SIN(RADIANS(FD465))","v":100},"β''3",null,"ضریب ارتفاع جیب مستطیل",{"$f":"0","v":0},null,null,null,null,null,{"$f":"FG469+FG467","v":6.6799400000000002},{"$f":"FG470+FG468","v":120.76934389257897},"β5"]
[null,null,null,null,null,null,{"$f":"BW109","v":19.249863555213253},{"$f":"BX109","v":145.83531262309054},32,null,null,"به دست آوردن نقطه تقاطع دو خط ","مولفه افقی","مولفه عمودی",null,null,{"$f":"IF(G467=G469,RADIANS(90),IF(G467>G469,ATAN((H467-H469)/(G467-G469)),RADIANS(180)-ATAN((H467-H469)/(G469-G467))))","v":1.5012541939084774},"g8",null,{"$f":"CE109","v":29.193225623847461},{"$f":"CF109","v":137.7458624935949},30,null,null,"به دست آوردن نقطه تقاطع دو خط ","مولفه افقی","مولفه عمودی",null,null,{"$f":"IF(T467=T469,RADIANS(90),IF(T467>T469,ATAN((U467-U469)/(T467-T469)),RADIANS(180)-ATAN((U467-U469)/(T469-T467))))","v":1.4953145408259216},"g8",null,{"$f":"BW138","v":19.227447802367497},{"$f":"BX138","v":145.64260215507844},34,null,"نقطه اول از خط اول",{"$f":"AI477","v":"g3"},{"$f":"AG477","v":18.862615795650385},{"$f":"AH477","v":140.37589319055024},null,{"$f":"CM132","v":18.802974852549138},{"$f":"CN132","v":145.28971244334878}," وسط 22f",null,null,"به دست آوردن نقطه تقاطع دو خط ","مولفه افقی","مولفه عمودی",null,{"$f":"CM132","v":18.802974852549138},{"$f":"CN132","v":145.28971244334878}," وسط 22f",null,null,"به دست آوردن نقطه تقاطع دو خط ","مولفه افقی","مولفه عمودی",null,{"$f":"CU119","v":28.800142955980849},{"$f":"CV119","v":137.475239936874},"وسط 18f",null,null,"به دست آوردن نقطه تقاطع دو خط ","مولفه افقی","مولفه عمودی",null,null,{"$f":"H129","v":38.76},"v3",null,null,null,{"$f":"H129","v":38.76},"v3",null,null,"مولفه افقی","مولفه عمودی","اسم نقطه محاسبه شده",null,null,null,null,"(8 → 9)",{"$f":"0.45*CI471","v":3.7567895765365686},null,"نصف جلو کارور",{"$f":"IF('متغیرها '!C282=1,CP464,IF('متغیرها '!C282=2,CO464,CN464))","v":20.724222137373676},null,null,"متغیر ورودی",null,null,null,{"$f":"CI471-CT464*COS(RADIANS(180)-CT466+CL462)","v":9.6968533013420135},{"$f":"CI470+CT464*SIN(RADIANS(180)-CT466+CL462)","v":16.414118218054156},"g21",null,null,null,null,null,null,null,null,null,{"$f":"DF463","v":7.7439206430256382},{"$f":"DG463","v":8.4651135735563052},"sq3",null,null,null,null,"عمودی پایین جیب",{"$f":"DM478-(DM465-DM478)","v":84.110298993010559},null,null,{"$f":"DM466-DN463","v":32.922775850472988},{"$f":"DM467+DN462","v":85.049991613796465},"β7",null,"عمودی پایین جیب",{"$f":"DU478-(DU465-DU478)","v":123.82000000000001},null,null,{"$f":"DU466-DV463","v":161.00399999999999},{"$f":"DU467+DV462","v":123.82000000000001},"β7",null,"متغیر محاسبه ای محلی",null,null,null,{"$f":"EC465-ED462","v":161.81700000000001},{"$f":"EC466+ED461","v":-15.55},"β7",null,"متغیر محاسبه ای خارجی",null,null,null,{"$f":"EN480-EK472*COS(RADIANS(ES465))","v":19.95},{"$f":"EO480-EK472*SIN(RADIANS(ES465))","v":122.19000000000001},"β'3",null,"w11",{"$f":"'متغیرها '!U84","v":21},null,"متغیر محاسبه ای خارجی",null,null,null,{"$f":"EY485","v":17.510999999999999},{"$f":"EZ485","v":100},"β9",null,"w11",{"$f":"ES467","v":21},null,"(41→β4)",{"$f":"0.5*FH471*COS(RADIANS(0))","v":1.6799399999999998},null,null,{"$f":"FG469-FG468","v":5},{"$f":"FG470+FG467","v":122.44928389257898},"β7"]
[null,null,null,null,null,null,{"$f":"AZ104","v":17.60146911154062},{"$f":"BA104","v":122.17},5,null,"نقطه دوم از خط اول",{"$f":"R465","v":"g6"},{"$f":"P465","v":29.886823939904232},{"$f":"Q465","v":131.65956369966463},null,null,{"$f":"IF(M470=M471,RADIANS(90),IF(M470>M471,ATAN((N470-N471)/(M470-M471)),RADIANS(180)-ATAN((N470-N471)/(M471-M470))))","v":2.2123397413118724},"g9",null,{"$f":"BK101","v":28.676935650976734},{"$f":"BL101","v":130.9189297056397},22,null,"نقطه دوم از خط اول",{"$f":"AE465","v":"g6"},{"$f":"AC465","v":41.256218713408401},{"$f":"AD465","v":133.76286853551701},null,null,{"$f":"IF(Z470=Z471,RADIANS(90),IF(Z470>Z471,ATAN((AA470-AA471)/(Z470-Z471)),RADIANS(180)-ATAN((AA470-AA471)/(Z471-Z470))))","v":1.4650862315054194},"g9",null,{"$f":"BW136","v":24.340417771240173},{"$f":"BX136","v":138.03027214395152},"b12",null,"نقطه اول از خط دوم",{"$f":"AI468","v":"b16"},{"$f":"AG468","v":24.463474035591126},{"$f":"AH468","v":144.52135929212406},null,{"$f":"CI118","v":24.654976297485689},{"$f":"CJ118","v":137.92004719817979},"24f",null,"نقطه دوم از خط اول",{"$f":"AR478","v":"g4"},{"$f":"AP478","v":25.543074846204213},{"$f":"AQ478","v":137.64894144719676},null,{"$f":"BK388","v":5},{"$f":"BL388","v":136.99931237943548},"26شبیه ساز",null,"نقطه دوم از خط اول",{"$f":"BA482","v":"g6"},{"$f":"AY482","v":29.722618121505704},{"$f":"AZ482","v":131.65931237943548},null,{"$f":"BK154","v":26.7666},{"$f":"BL154","v":113.45561085030904},40,null,"نقطه دوم از خط اول",{"$f":"BJ485","v":"g6"},{"$f":"BH485","v":39.619912083752908},{"$f":"BI485","v":127.92864751789941},null,{"$f":"BQ465","v":5},{"$f":"BR465-BR466","v":131.65931237943548},"g1",null,null,{"$f":"BV465","v":15},{"$f":"BW465-BW466","v":127.92864751789941},"g1",null,null,null,null,null,null,null,null,null,"(10 → 11)",{"$f":"0.75*CI471","v":6.2613159608942812},null,"طول حلقه آستین در یقه مربعی",{"$f":"SQRT(POWER(CW463-CW462,2)+POWER(CX463-CX462,2))+SQRT(POWER(CW462-#REF!,2)+POWER(CX462-#REF!,2))+SQRT(POWER(#REF!-#REF!,2)+POWER(#REF!-#REF!,2))+SQRT(POWER(#REF!-CW461,2)+POWER(#REF!-CX461,2))","v":{"$error":"#REF!"}},null,null,"α2+α4",{"$f":"2*CM463","v":0.55640205958739553},"رادیان",null,null,null,null,null,{"$f":"0+'متغیرها '!C301","v":0},{"$f":"CI465+'متغیرها '!C302","v":8.4651135735563052},7,null,{"$f":"CW480","v":5.366216770045753},{"$f":"CX480","v":25.276831818896795},29,null,{"$f":"CP473","v":6.7927559631396495},{"$f":"CQ473","v":24.389597726806656},{"$f":"CR473","v":21},null,null,null,null,"(β15→β16)",{"$f":"'متغیرها '!C197*(0.5*'متغیرها '!U84+0.18*'متغیرها '!U83)*SIN(0.5*(RADIANS(90)-RADIANS('متغیرها '!C198)))","v":12.32042185282047},null,null,{"$f":"DP467","v":32.922775850472988},{"$f":"DQ467","v":85.049991613796465},"β7",null,"(β15→β16)",{"$f":"'متغیرها '!C205*(0.5*'متغیرها '!U84+(0.18-'متغیرها '!C208*0.08)*'متغیرها '!U83)*SIN((0.5*'متغیرها '!C208+0.5)*(RADIANS(90)-RADIANS('متغیرها '!C206)))","v":0},null,null,{"$f":"DX467","v":161.00399999999999},{"$f":"DY467","v":123.82000000000001},"β7",null,"(وسط جیب→β16)",{"$f":"'متغیرها '!C215*(0.5*'متغیرها '!U84+(0.18-'متغیرها '!C218*0.08)*'متغیرها '!U83)*COS((0.5*'متغیرها '!C218+0.5)*(RADIANS(90)-RADIANS('متغیرها '!C216)))","v":14.94},null,null,{"$f":"EF467","v":161.81700000000001},{"$f":"EG467","v":-15.55},"β7",null,"عمودی وسط جیب",{"$f":"IF(ES462<1,ES462*ES470,IF(ES462<2,ES470+(ES462-1)*(ES471-ES470),IF(ES462<3,ES471+(ES462-2)*(ES477-ES471),ES477+(ES462-3)*(ES476-ES475))))+ES474","v":122.19000000000001},null,null,{"$f":"EN480-EK472*COS(RADIANS(ES465))","v":19.95},{"$f":"EO480-EK472*SIN(RADIANS(ES465))","v":122.19000000000001},"β'3",null,"s2",{"$f":"'متغیرها '!U73","v":46.2},null,"عمودی وسط جیب",{"$f":"IF(FD462<1,FD462*FD470,IF(FD462<2,FD470+(FD462-1)*(FD471-FD470),IF(FD462<3,FD471+(FD462-2)*(FD477-FD471),FD477+(FD462-3)*(FD476-FD475))))+FD474","v":101},null,null,{"$f":"EV462+EV460","v":17.510999999999999},{"$f":"EV463+EV461","v":102},"β11",null,"s2",46.2,null,"افقی پایین جادکمه",{"$f":"FF462","v":5},null,null,{"$f":"FG469-FG468","v":5},{"$f":"FG470+FG467","v":122.44928389257898},"β7"]
[null,null,null,null,null,null,{"$f":"BK388","v":5},{"$f":"BL388","v":136.99931237943548},"26شبیه ساز",null,"نقطه اول از خط دوم","نقطه بالایی",{"$f":"IF(Q465>H462,G461,IF(Q465>H463,G462,IF(Q465>H464,G463,IF(Q465>H465,G464,IF(Q465>H466,G465,G466)))))","v":25.588962427831195},{"$f":"IF(Q465>H462,H461,IF(Q465>H463,H462,IF(Q465>H464,H463,IF(Q465>H465,H464,IF(Q465>H466,H465,H466)))))","v":132.10743514081653},null,null,{"$f":"Q468/COS(RADIANS(90)-Q466*(Q467-Q463)-Q469)","v":0.28028505545930249},"(g7→g10)",null,{"$f":"CA423","v":15},{"$f":"CB423","v":136.72889743789941},"24شبیه ساز",null,"نقطه اول از خط دوم","نقطه بالایی",{"$f":"IF(AD465>U462,T461,IF(AD465>U463,T462,IF(AD465>U464,T463,IF(AD465>U465,T464,IF(AD465>U466,T465,T466)))))","v":35.640769751812662},{"$f":"IF(AD465>U462,U461,IF(AD465>U463,U462,IF(AD465>U464,U463,IF(AD465>U465,U464,IF(AD465>U466,U465,U466)))))","v":135.02311874252692},null,null,{"$f":"AD468/COS(RADIANS(90)-AD466*(AD467-AD463)-AD469)","v":0.72522368351825972},"(g7→g10)",null,null,{"$f":"O140","v":0.60372434649990336},"β4",null,"نقطه دوم از خط دوم",{"$f":"AI469","v":"b12"},{"$f":"AG469","v":24.340417771240173},{"$f":"AH469","v":138.03027214395152},null,null,{"$f":"0.5*(P139+0.3*(P140-P139)+AE139+0.3*(AE140-AE139))","v":0.27820102979369776},"α2",null,"نقطه اول از خط دوم",{"$f":"AR468","v":"22f"},{"$f":"AP468","v":24.254696527337614},{"$f":"AQ468","v":143.73265925554304},null,null,{"$f":"CN463","v":5.3399999999999972},"جلو یقه روی خط مرکزی",null,"نقطه اول از خط دوم","نقطه بالایی",{"$f":"IF(AZ482>AZ461,AY460,IF(AZ482>AZ462,AY461,IF(AZ482>AZ463,AY462,IF(AZ482>AZ464,AY463,IF(AZ482>AZ465,AY464,AY465)))))","v":25.588962427831195},{"$f":"IF(AZ482>AZ461,AZ460,IF(AZ482>AZ462,AZ461,IF(AZ482>AZ463,AZ462,IF(AZ482>AZ464,AZ463,IF(AZ482>AZ465,AZ464,AZ465)))))","v":132.10743514081653},null,{"$f":"CA423","v":15},{"$f":"CB423","v":136.72889743789941},"24شبیه ساز",null,"نقطه اول از خط دوم","نقطه بالایی",{"$f":"IF(BI485>BI462,BH461,IF(BI485>BI463,BH462,IF(BI485>BI464,BH463,IF(BI485>BI465,BH464,IF(BI485>BI466,BH465,BH466)))))","v":33.478716729423311},{"$f":"IF(BI485>BI462,BI461,IF(BI485>BI463,BI462,IF(BI485>BI464,BI463,IF(BI485>BI465,BI464,IF(BI485>BI466,BI465,BI466)))))","v":128.18119785145331},null,{"$f":"BQ469+0.6*BR467","v":28.255999999999997},{"$f":"BR469","v":131.65931237943548},"g2",null,null,{"$f":"BV469+0.6*BW467","v":38.256},{"$f":"BW469","v":127.92864751789941},"g2",null,null,"به دست آوردن مختصات نقطه تقاطع دو خط با داشتن دونقطه از یک خط",null,null,null,null,null,null,"(1 → 12)",{"$f":"CL465+G166-(AA146-G163)*TAN(CL462)","v":11.083493503764897},null,null,null,null,null,"اسم نقطه ","مولفه افقی","مولفه عمودی",null,"برش سرشانه در پیراهن مردانه",null,null,null,null,null,null,null,null,null,null,null,{"$f":"DF462","v":11.82787010253249},{"$f":"DG462","v":21.258015402492354},"sq2",null,null,null,null,"(وسط جیب→β16)",{"$f":"'متغیرها '!C197*(0.5*'متغیرها '!U84+0.18*'متغیرها '!U83)*COS(0.5*(RADIANS(90)-RADIANS('متغیرها '!C198)))","v":17.595385911327543},null,null,{"$f":"DM466-DM462","v":32.325103373012752},{"$f":"DM467-DM463","v":83.76827884968489},"β3",null,"(وسط جیب→β16)",{"$f":"'متغیرها '!C205*(0.5*'متغیرها '!U84+(0.18-'متغیرها '!C208*0.08)*'متغیرها '!U83)*COS((0.5*'متغیرها '!C208+0.5)*(RADIANS(90)-RADIANS('متغیرها '!C206)))","v":13.279999999999998},null,null,{"$f":"DU466-DU462","v":161.00399999999999},{"$f":"DU467-DU463","v":123.82000000000001},"β3",null,"(β9→β15)",{"$f":"SQRT(POWER(EF487-EF489,2)+POWER(EG487-EG489,2))","v":16.635566987632256},null,null,{"$f":"EC465-EC461","v":161.81700000000001},{"$f":"EC466-EC462","v":-15.55},"β3",null,null,null,null,null,{"$f":"EN481-EK472*COS(RADIANS(ES465))","v":19.95},{"$f":"EO481-EK472*SIN(RADIANS(ES465))","v":122.19000000000001},"β''3",null,"h",{"$f":"'متغیرها '!U59","v":41.1},null,null,null,null,null,{"$f":"EV464+EV460","v":22.388999999999999},{"$f":"EV465+EV461","v":102},"β5",null,"h",41.1,null,"عمودی پایین جادکمه",{"$f":"FG462-'متغیرها '!B239","v":120.76934389257897},null,null,{"$f":"FG469-FG467","v":3.3200600000000002},{"$f":"FG470-FG468","v":120.76934389257897},"β3"]
[null,null,null,null,null,null,null,{"$f":"'متغیرها '!C55","v":0},"شیفت افقی حلقه آستین ",null,null,null,null,null,null,null,0.3,"g17",null,null,{"$f":"'متغیرها '!C56","v":0},"شیفت افقی حلقه آستین ",null,null,null,null,null,null,null,1,"g17",null,"مولفه افقی","مولفه عمودی","محاسبات",null,null,"رسم جلو ",null,null,null,"مولفه افقی","مولفه عمودی","محاسبات",null,null,"رسم جلو ",null,null,null,{"$f":"AZ168","v":33.525039999999997},{"$f":"BA168","v":103.92120297376289},41,null,null,null,null,null,null,null,{"$f":"'متغیرها '!C56","v":0},"شیفت افقی حلقه آستین ",null,null,null,null,null,null,"نقطه دوم از خط اول",{"$f":"BS470","v":"g2"},{"$f":"BQ470","v":28.255999999999997},{"$f":"BR470","v":131.65931237943548},null,"نقطه دوم از خط اول",{"$f":"BX470","v":"g2"},{"$f":"BV470","v":38.256},{"$f":"BW470","v":127.92864751789941},null,null,"نقطه دوم",{"$f":"CC462","v":37},{"$f":"CA462","v":24.340417771240173},{"$f":"CB462","v":138.03027214395152},null,null,"(14 → 15)",{"$f":"CI471+0.3*K144*SIN(CL463+CL462)-(1-0.95)*AA146*COS(CL463+CL462)","v":9.6540097076821123},null,{"$f":"BK101","v":28.676935650976734},{"$f":"BL101","v":130.9189297056397},22,null,"نقطه پایین یقه جلو",{"$f":"DE491","v":6.7927559631396495},{"$f":"DF491","v":24.389597726806656},21,6.2613159608942812,9.512465545639742,11,null,null,null,null,null,{"$f":"CW463","v":18.482747563761421},{"$f":"CX463","v":0},3,null,{"$f":"CP472","v":8.3484212811923744},{"$f":"CQ472","v":11.083493503764897},{"$f":"CR472","v":13},null,null,null,null,"(β3→β15)",{"$f":"SQRT(POWER(DP491-DP489,2)+POWER(DQ491-DQ489,2))","v":17.116263285264221},null,null,{"$f":"DM466+DM462","v":34.204488614584562},{"$f":"DM467+DM463","v":84.452319136336229},"β5",null,"(β3→β15)",{"$f":"SQRT(POWER(DX473-DX489,2)+POWER(DY473-DY489,2))","v":14.787170655673108},null,null,{"$f":"DU466-DU462","v":161.00399999999999},{"$f":"DU467-DU463","v":123.82000000000001},"β3",null,"(زاویهβ3  β15)",{"$f":"IF(EG489<EG491,ATAN((EF491-EF489)/(EG491-EG489+0.00001)),ATAN((EF491-EF489)/-(EG491-EG489+0.00001)))","v":0.45542106029392893},null,null,{"$f":"EC465-EC461","v":161.81700000000001},{"$f":"EC466-EC462","v":-15.55},"β3",null,null,null,null,null,{"$f":"EN481","v":19.95},{"$f":"EO481","v":122.19000000000001},"β9",null,"شیفت افقی کل الگو جلو پیراهن  برحسب سانتیمتر",{"$f":"'متغیرها '!C51","v":5},null,null,null,null,null,{"$f":"EV464-EV461","v":21.388999999999999},{"$f":"EV465+EV460","v":101},"β7",null,"شیفت افقی کل الگو جلو پیراهن  برحسب سانتیمتر",{"$f":"ES473","v":5},null,null,null,null,null,{"$f":"FG469+FG467","v":6.6799400000000002},{"$f":"FG470+FG468","v":120.76934389257897},"β5"]
[null,null,null,null,null,null,null,{"$f":"0.5*'متغیرها '!U85","v":29.5},"نصف دور سر",null,null,"به دست آوردن نقطه تقاطع دو خط ","مولفه افقی","مولفه عمودی",null,null,{"$f":"IF(M477=M478,RADIANS(90),IF(M477>M478,ATAN((N477-N478)/(M477-M478)),RADIANS(180)-ATAN((N477-N478)/(M478-M477))))","v":2.2123397413118724},"g18",null,{"$f":"BK162-U473","v":38.272440000000003},{"$f":"BL162-U475","v":96.524704632477565},36,null,null,"به دست آوردن نقطه تقاطع دو خط ","مولفه افقی","مولفه عمودی",null,null,{"$f":"IF(Z477=Z478,RADIANS(90),IF(Z477>Z478,ATAN((AA477-AA478)/(Z477-Z478)),RADIANS(180)-ATAN((AA477-AA478)/(Z478-Z477))))","v":1.5336523710620684},"g18",null,{"$f":"AG463+(0.6*AH466)*COS(AH464)","v":18.889802867775071},{"$f":"AH463-(0.6*AH466)*SIN(AH464)","v":140.37193942159979},"g1",null,null,{"$f":"AG463","v":11.681002542208532},{"$f":"AH463","v":141.60805476186675},{"$f":"AI463","v":30},null,{"$f":"AP463+(0.6*AQ466)*COS(AQ464)","v":18.713799147550979},{"$f":"AQ463-(0.6*AQ466)*SIN(AQ464)","v":139.59943454484829},"g1",null,null,{"$f":"AP463","v":11.681002542208532},{"$f":"AQ463","v":141.60805476186675},{"$f":"AR463","v":30},null,{"$f":"AZ161","v":17.60146911154062},{"$f":"BA161","v":118.23},43,null,null,"به دست آوردن نقطه تقاطع دو خط ","مولفه افقی","مولفه عمودی",null,{"$f":"BK162-BI473","v":38.272440000000003},{"$f":"BL162-BI475","v":96.524704632477565},36,null,null,"به دست آوردن نقطه تقاطع دو خط ","مولفه افقی","مولفه عمودی",null,"نقطه اول از خط دوم","نقطه بالایی",{"$f":"IF(BR470>BR462,BQ461,IF(BR470>BR463,BQ462,BQ463))","v":25.588962427831195},{"$f":"IF(BR470>BR462,BR461,IF(BR470>BR463,BR462,BR463))","v":132.10743514081653},null,"نقطه اول از خط دوم","نقطه بالایی",{"$f":"IF(BW470>BW462,BV461,IF(BW470>BW463,BV462,BV463))","v":35.04145278326785},{"$f":"IF(BW470>BW462,BW461,IF(BW470>BW463,BW462,BW463))","v":129.37481314382703},null,null,null,null,null,null,null,null,"(1 → 16)",{"$f":"CI470+0.65*K144*COS(CL463+CL462)+(1-0.75)*AA146*SIN(CL463+CL462)","v":17.968825886573221},null,{"$f":"CA108","v":15},{"$f":"CB108","v":136.41391319447115},24,null,null,null,null,null,8.3484212811923744,11.083493503764897,13,null,{"$f":"CI485+'متغیرها '!C301","v":9.2619991499884513},{"$f":"CI484+'متغیرها '!C302","v":28.359769989936986},27,null,null,null,null,null,{"$f":"DF462","v":11.82787010253249},{"$f":"DG462","v":21.258015402492354},"sq2",null,null,null,null,"(زاویهβ3  β15)",{"$f":"ATAN((DP491-DP489)/(DQ491-DQ489+0.00001))","v":0.97439485319475816},null,null,null,null,null,null,"(زاویهβ3  β15)",{"$f":"IF(DY489<DY473,ATAN((DX473-DX489)/(DY473-DY489+0.00001)),ATAN((DX473-DX489)/-(DY473-DY489+0.00001)))","v":0.45542102724424066},{"$f":"DEGREES(DU474)","v":26.093702762607471},null,null,null,null,null,null,null,null,null,null,null,null,null,null,null,null,null,null,null,null,null,"شیفت عمودی کل الگو جلو پیراهن   برحسب سانتیمتر",{"$f":"'متغیرها '!C52","v":5},null,null,null,null,null,null,null,null,null,"شیفت عمودی کل الگو جلو پیراهن   برحسب سانتیمتر",{"$f":"ES474","v":5}]
[null,null,null,null,null,null,{"$f":"AZ168","v":33.525039999999997},{"$f":"BA168","v":103.92120297376289},41,null,"نقطه دوم از خط اول",{"$f":"R472","v":"g13"},{"$f":"P472","v":28.255999999999997},{"$f":"Q472","v":131.65931237943548},null,{"$f":"M479-Q475*COS(Q474)","v":26.494112700699496},{"$f":"N479-Q475*SIN(Q474)","v":130.89563297897064},"g16",null,{"$f":"BK154","v":26.7666},{"$f":"BL154","v":113.45561085030904},40,null,"نقطه دوم از خط اول",{"$f":"AE472","v":"g13"},{"$f":"AC472","v":38.256},{"$f":"AD472","v":127.92864751789941},null,{"$f":"Z479-AD475*COS(AD474)","v":34.9640294281593},{"$f":"AA479-AD475*SIN(AD474)","v":127.29135854157623},"g16",null,null,{"$f":"IF(AG467>AG462,ATAN((AH467-AH462)/(AG467-AG462)),RADIANS(180)+ATAN((AH467-AH462)/(AG467-AG462)))","v":1.5016354651581725},"g6",null,null,null,null,null,null,null,{"$f":"IF(AP467>AP462,ATAN((AQ467-AQ462)/(AP467-AP462)),RADIANS(180)+ATAN((AQ467-AQ462)/(AP467-AP462)))","v":1.5188741486235511},"g6",null,null,null,null,null,null,"مولفه افقی","مولفه عمودی","محاسبات",null,"نقطه دوم از خط اول",{"$f":"BA489","v":"g13"},{"$f":"AY489","v":28.255999999999997},{"$f":"AZ489","v":131.65931237943548},null,null,null,null,null,"نقطه دوم از خط اول",{"$f":"BJ492","v":"g13"},{"$f":"BH492","v":38.256},{"$f":"BI492","v":127.92864751789941},null,"نقطه تقاطع","g3",{"$f":"(BT474-BT472+BS472*((BT473-BT472)/(BS473-BS472))-BS474*((BT475-BT474)/(BS475-BS474)))/(((BT473-BT472)/(BS473-BS472))-((BT475-BT474)/(BS475-BS474)))","v":25.715135269064351},{"$f":"BT472+(BS476-BS472)*((BT473-BT472)/(BS473-BS472))","v":131.65931237943548},null,"نقطه تقاطع","g3",{"$f":"(BY474-BY472+BX472*((BY473-BY472)/(BX473-BX472))-BX474*((BY475-BY474)/(BX475-BX474)))/(((BY473-BY472)/(BX473-BX472))-((BY475-BY474)/(BX475-BX474)))","v":34.9877117539788},{"$f":"BY472+(BX476-BX472)*((BY473-BY472)/(BX473-BX472))","v":127.92864751789941},null,null,"نقطه دوم",{"$f":"CC468","v":"g1"},{"$f":"CA468","v":24.897136472413859},{"$f":"CB468","v":139.34184330471066},null,null,"(1 → 18)",{"$f":"CI470+0.92*K144*COS(CL463+CL462)+(1-0.4)*AA146*SIN(CL463+CL462)","v":21.914201099228258},null,{"$f":"CE135","v":33.919340080706185},{"$f":"CF135","v":129.90956173101131},"b12",null,"sq1",{"$f":"CP468-5","v":13},"درجه",null,null,null,null,null,null,null,null,null,{"$f":"CW466","v":0},{"$f":"CX466","v":0},1,null,{"$f":"DE481","v":8.3484212811923744},{"$f":"DF481","v":11.083493503764897},13,null,null,null,null,"متغیر محاسبه ای خارجی",null,null,null,{"$f":"DM464-DM462","v":26.763855842537382},{"$f":"DM465-DM463","v":99.047680863663771},"β9",null,"متغیر محاسبه ای خارجی",null,null,null,{"$f":"DU464-DU462","v":147.99600000000001},{"$f":"DU465-DU463","v":123.82000000000001},"β9",null,"افقی وسط جیب",{"$f":"('متغیرها '!C212)*0.5*('متغیرها '!U72-'متغیرها '!U73)+'متغیرها '!C51","v":154.5},null,null,{"$f":"EC463-EC461","v":147.18299999999999},{"$f":"EC464-EC462","v":-15.55},"β9",null,null,null,null,null,{"$f":"EK464+EK460","v":19.95},{"$f":"EK465+EK461","v":122.19000000000001},"β5",null,"t6",{"$f":"H127","v":42.6},null,null,null,null,null,{"$f":"EV464-EV460","v":22.388999999999999},{"$f":"EV465-EV461","v":100},"β3",null,"t6",{"$f":"ES476","v":42.6},null,null,null,null,null,{"$f":"FG469-FG467","v":3.3200600000000002},{"$f":"FG470-FG468","v":120.76934389257897},"β3"]
[null,null,null,null,null,null,null,{"$f":"AD146","v":0.14159126107346839},"β'5",null,"نقطه اول از خط دوم","نقطه بالایی",{"$f":"IF(Q472>H462,G461,IF(Q472>H463,G462,IF(Q472>H464,G463,IF(Q472>H465,G464,IF(Q472>H466,G465,G466)))))","v":25.588962427831195},{"$f":"IF(Q472>H462,H461,IF(Q472>H463,H462,IF(Q472>H464,H463,IF(Q472>H465,H464,IF(Q472>H466,H465,H466)))))","v":132.10743514081653},null,null,null,null,null,null,{"$f":"AD146","v":0.14159126107346839},"β'5",null,"نقطه اول از خط دوم","نقطه بالایی",{"$f":"IF(AD472>U462,T461,IF(AD472>U463,T462,IF(AD472>U464,T463,IF(AD472>U465,T464,IF(AD472>U466,T465,T466)))))","v":35.04145278326785},{"$f":"IF(AD472>U462,U461,IF(AD472>U463,U462,IF(AD472>U464,U463,IF(AD472>U465,U464,IF(AD472>U466,U465,U466)))))","v":129.37481314382703},null,null,null,null,null,{"$f":"AG462+AH475*COS(AH476)","v":18.862615795650385},{"$f":"AH462+AH475*SIN(AH476)","v":140.37589319055024},"g3",null,"شیفت",{"$f":"AG477+AH465","v":18.862615795650385},{"$f":"AH477","v":140.37589319055024},{"$f":"AI477","v":"g3"},null,{"$f":"AP462+AQ475*COS(AQ476)","v":18.510278240861766},{"$f":"AQ462+AQ475*SIN(AQ476)","v":139.65756166421522},"g3",null,"شیفت",{"$f":"AP477+AQ465","v":18.510278240861766},{"$f":"AQ477","v":139.65756166421522},{"$f":"AR477","v":"g3"},null,{"$f":"AY469","v":5},{"$f":"AZ469-AZ470","v":131.65931237943548},"g1",null,"نقطه اول از خط دوم","نقطه بالایی",{"$f":"IF(AZ489>AZ461,AY460,IF(AZ489>AZ462,AY461,IF(AZ489>AZ463,AY462,IF(AZ489>AZ464,AY463,IF(AZ489>AZ465,AY464,AY465)))))","v":25.588962427831195},{"$f":"IF(AZ489>AZ461,AZ460,IF(AZ489>AZ462,AZ461,IF(AZ489>AZ463,AZ462,IF(AZ489>AZ464,AZ463,IF(AZ489>AZ465,AZ464,AZ465)))))","v":132.10743514081653},null,{"$f":"BK159","v":26.7666},{"$f":"BL159","v":96.5},34,null,"نقطه اول از خط دوم","نقطه بالایی",{"$f":"IF(BI492>BI462,BH461,IF(BI492>BI463,BH462,IF(BI492>BI464,BH463,IF(BI492>BI465,BH464,IF(BI492>BI466,BH465,BH466)))))","v":33.478716729423311},{"$f":"IF(BI492>BI462,BI461,IF(BI492>BI463,BI462,IF(BI492>BI464,BI463,IF(BI492>BI465,BI464,IF(BI492>BI466,BI465,BI466)))))","v":128.18119785145331},null,"مولفه افقی","مولفه عمودی","رسم جلو ",null,null,"مولفه افقی","مولفه عمودی","رسم ",null,null,null,null,null,null,null,null,null,"(18 →19)",{"$f":"CI471+0.92*K144*SIN(CL463+CL462)-(1-0.4)*AA146*COS(CL463+CL462)","v":9.1857378566229801},null,{"$f":"CK476","v":33.919340080706185},{"$f":"CL473","v":130.9189297056397},"22''",null,"(sq4 → sq5)",{"$f":"SIN(CP469)*((CQ473-CQ472)-(CP472-CP473)*TAN(CP469))","v":6.5164180617494738},null,null,{"$f":"CS467+'متغیرها '!C301","v":9.6968533013420135},{"$f":"CT467+'متغیرها '!C302","v":16.414118218054156},"g21",null,{"$f":"CI479+'متغیرها '!C301","v":6.7927559631396495},{"$f":"CI478+'متغیرها '!C302","v":24.389597726806656},21,null,null,null,null,null,{"$f":"DE482","v":19.24711677595409},{"$f":"DF482","v":7.9707431516109928},6,null,null,null,null,"افقی وسط جیب",{"$f":"AX112+'متغیرها '!C51+'متغیرها '!C55","v":30.484172228560976},null,null,null,null,null,null,"افقی وسط جیب",{"$f":"('متغیرها '!C202)*0.5*('متغیرها '!U72-'متغیرها '!U73)+'متغیرها '!C51","v":154.5},null,null,null,null,null,null,"عمودی وسط جیب",{"$f":"IF('متغیرها '!C213<1,'متغیرها '!C213*'متغیرها '!U59,IF('متغیرها '!C213<2,'متغیرها '!U59+('متغیرها '!C213-1)*('متغیرها '!U60-'متغیرها '!U59),IF('متغیرها '!C213<3,'متغیرها '!U60+('متغیرها '!C213-2)*(I105-'متغیرها '!U60),I105+('متغیرها '!C213-3)*(H127-H126))))+'متغیرها '!C52","v":-15.55},null,null,null,null,null,null,null,null,null,null,{"$f":"EK464-EK461","v":19.95},{"$f":"EK465+EK460","v":122.19000000000001},"β7",null,"f",{"$f":"I105","v":96},null,null,null,null,null,null,null,null,null,"f",{"$f":"ES477","v":96}]
[null,null,null,null,null,null,null,null,"اگر برش کارور ساسون سرشانه را قطع کند",{"$f":"CL469+J460+W460","v":{"$error":"#REF!"}},"طول کل حلقه آستین با ساسون سرشانه",null,null,null,null,{"$f":"IF(Q460>H469+1,M465,M486)","v":18.262441989848305},{"$f":"IF(Q460>H469+1,N465,N486)","v":131.65931237943548},{"$f":"IF(Q460>H469+1,L465,L486)","v":"g3"},null,null,null,null,null,null,null,null,null,null,{"$f":"IF(AD460>U469+1,Z465,Z486)","v":28.349824709634831},{"$f":"IF(AD460>U469+1,AA465,AA486)","v":127.92864751789939},{"$f":"IF(AD460>U469+1,Y465,Y486)","v":"g15"},null,null,null,null,null,null,null,null,null,null,null,null,null,null,null,null,null,null,null,null,{"$f":"IF(AY467=AY468,RADIANS(90),IF(AY467>AY468,ATAN((AZ467-AZ468)/(AY467-AY468)),RADIANS(180)-ATAN((AZ467-AZ468)/(AY468-AY467))))","v":1.5188741486235511},"g5",null,null,null,null,null,null,{"$f":"BH470","v":15},{"$f":"BI470-BI471","v":127.92864751789941},"g1",null,null,null,null,null,null,null,null,null,null,null,null,null,null,null,null,null,null,null,null,null,null,null,"(1 → 22)",{"$f":"CT468+0.5*(CI482-CT468)","v":15.061448931264092},null,"به دست آوردن نقطه تقاطع دو خط ","مولفه افقی","مولفه عمودی",null,"(13 → sq4)",{"$f":"SQRT(POWER((CQ472-CP479),2)+POWER((CP478-CP472),2))","v":10.477421738575577},null,null,{"$f":"CS478","v":22.672053407824087},{"$f":"CT478","v":12.70830235044582},"g22",null,{"$f":"CI487+'متغیرها '!C301","v":5.366216770045753},{"$f":"CI486+'متغیرها '!C302","v":25.276831818896795},29,null,null,null,null,null,null,null,"سرشانه",null,null,null,null,null,null,null,null,null,null,null,null,null,null,null,null,null,null,null,null,null,null,null,null,null,null,null,null,null,null,null,null,{"$f":"EK464-EK460","v":19.95},{"$f":"EK465-EK461","v":122.19000000000001},"β3"]
[null,null,null,null,null,null,null,null,null,null,null,"به دست آوردن نقطه تقاطع دو خط ","مولفه افقی","مولفه عمودی",null,null,null,null,null,null,null,null,null,null,"به دست آوردن نقطه تقاطع دو خط ","مولفه افقی","مولفه عمودی",null,null,null,null,null,null,null,null,null,null,null,null,null,null,null,null,null,null,null,null,null,null,null,{"$f":"AY468+AZ479*COS(AZ480)","v":18.094618121505707},{"$f":"AZ468+AZ479*SIN(AZ480)","v":131.65931237943548},"g4",null,null,"به دست آوردن نقطه تقاطع دو خط ","مولفه افقی","مولفه عمودی",null,{"$f":"BH480+0.4*BI472","v":30.503999999999998},{"$f":"BI480","v":127.92864751789941},"g2",null,null,"به دست آوردن نقطه تقاطع دو خط ","مولفه افقی","مولفه عمودی",null,null,null,null,null,null,null,null,null,null,null,null,null,null,null,null,null,null,"(22 → 23)",{"$f":"CS468+0.4*(CI483-CS468)","v":24.347310518301683},"نقطه اول از خط اول",22,{"$f":"CK473","v":28.676935650976734},{"$f":"CL473","v":130.9189297056397},null,"(sq2 → sq4)",{"$f":"CP480*TAN(RADIANS(CP476))","v":2.4189034044445963},null,null,{"$f":"CW462","v":19.24711677595409},{"$f":"CX462","v":7.9707431516109928},6,null,{"$f":"CI489+'متغیرها '!C301","v":7.8354599568945549},{"$f":"CI488+'متغیرها '!C302","v":29.247004082027125},31,null,{"$f":"DE481","v":8.3484212811923744},{"$f":"DF481","v":11.083493503764897},13,null,{"$f":"CI471+'متغیرها '!C301","v":8.3484212811923744},{"$f":"CI470+'متغیرها '!C302","v":11.083493503764897},13,null,null,null,null,null,null,null,null,{"$f":"DP479","v":28.04556860664896},{"$f":"DQ479","v":98.450008386203535},"β13",null,null,null,null,null,{"$f":"DX479","v":147.99600000000001},{"$f":"DY479","v":123.82000000000001},"β13",null,null,null,null,null,{"$f":"EF479","v":147.18299999999999},{"$f":"EG479","v":-15.55},"β13",null,null,null,null,null,{"$f":"EK462-EK460","v":19.95},{"$f":"EK463-EK461","v":122.19000000000001},"β9",null,null,null,null,null,null,null,null,{"$f":"EV464+EV460","v":22.388999999999999},{"$f":"EV465+EV461","v":102},"β5",null,null,null,null,null,null,null,null,{"$f":"FF462-FG467","v":3.3200600000000002},{"$f":"FG462-FG468","v":136.36934389257897},"β9"]
[null,null,null,null,null,null,null,null,null,null,"نقطه دوم از خط اول",{"$f":"I479","v":43},{"$f":"G479","v":17.60146911154062},{"$f":"H479","v":118.23},"شیفت",{"$f":"IF(Q460>H469+1,P471+H473,P476+H473)","v":26.091229764109709},{"$f":"IF(Q460>H469+1,Q471,Q476)","v":131.43500685772256},{"$f":"IF(Q460>H469+1,R471,R476)","v":"g10"},null,null,null,null,null,"نقطه دوم از خط اول",{"$f":"V476","v":40},{"$f":"T476","v":26.7666},{"$f":"U476","v":113.45561085030904},"شیفت",{"$f":"IF(AD460>U469+1,AC471+U473,AC476+U473)","v":34.9640294281593},{"$f":"IF(AD460>U469+1,AD471+U475,AD476+U475)","v":127.29135854157623},{"$f":"IF(AD460>U469+1,AE471,AE476)","v":"g16"},null,null,null,null,null,null,null,null,null,null,null,null,null,null,null,null,null,null,null,null,{"$f":"(AZ482-AZ468)/(AZ467-AZ468)","v":0.41044249156158602},"g11",null,"نقطه دوم از خط اول",{"$f":"BA474","v":43},{"$f":"AY474","v":17.60146911154062},{"$f":"AZ474","v":118.23},null,null,{"$f":"IF(BH468=BH469,RADIANS(90),IF(BH468>BH469,ATAN((BI468-BI469)/(BH468-BH469)),RADIANS(180)-ATAN((BI468-BI469)/(BH469-BH468))))","v":1.4863360217646828},"g5",null,"نقطه دوم از خط اول",{"$f":"BJ477","v":34},{"$f":"BH477","v":26.7666},{"$f":"BI477","v":96.5},null,null,null,null,null,null,null,null,null,null,null,null,null,null,null,null,null,null,"(24 → 25)",{"$f":"CI485+CL467*COS(CL462+CL463)","v":26.860196184018072},"نقطه اول از خط دوم","b6",{"$f":"CK475","v":34.141414517036921},{"$f":"CL475","v":123.00491547048473},null,{"$f":"IF(CI460>0.2*CI465,CI462,CI461)+'متغیرها '!C301","v":18.886875734879027},{"$f":"IF(CI460>0.2*CI465,CI460,0)+'متغیرها '!C302","v":2.9701300847248575},4,null,{"$f":"CW463","v":18.482747563761421},{"$f":"CX463","v":0},3,null,{"$f":"CI489+'متغیرها '!C301","v":7.8354599568945549},{"$f":"CI488+'متغیرها '!C302","v":29.247004082027125},31,null,null,null,"یقه گرد دور گردن",null,null,null,"یقه گرد دور گردن",null,null,null,null,null,null,null,null,null,null,null,null,null,null,null,null,null,null,null,null,null,null,null,null,null,null,null,null,null,null,null,null,{"$f":"EK462+EK460","v":19.95},{"$f":"EK463+EK461","v":122.19000000000001},"β11"]
[null,null,null,null,null,null,null,null,null,null,"نقطه اول از خط دوم",{"$f":"R460","v":"g1"},{"$f":"P460","v":5},{"$f":"Q460","v":131.65931237943548},null,null,null,null,null,null,null,null,null,"نقطه اول از خط دوم",{"$f":"AE460","v":"g1"},{"$f":"AC460","v":15},{"$f":"AD460","v":127.92864751789941},null,null,null,null,null,null,null,null,null,null,null,null,null,null,null,null,null,null,null,null,null,null,null,null,{"$f":"IF(AY466=AY468,RADIANS(90),IF(AY466>AY468,ATAN((AZ466-AZ468)/(AY466-AY468)),RADIANS(180)-ATAN((AZ466-AZ468)/(AY468-AY466))))","v":1.5188741486235511},"g8",null,"نقطه اول از خط دوم",{"$f":"BA477","v":"g1"},{"$f":"AY477","v":5},{"$f":"AZ477","v":131.65931237943548},null,{"$f":"BH469+BI482*COS(BI483)","v":27.991912083752911},{"$f":"BI469+BI482*SIN(BI483)","v":127.92864751789941},"g4",null,"نقطه اول از خط دوم",{"$f":"BJ480","v":"g1"},{"$f":"BH480","v":15},{"$f":"BI480","v":127.92864751789941},null,null,null,null,null,null,null,null,null,null,null,null,null,null,null,null,null,null,"(1 → 26)",{"$f":"CL465+G166+G163*SIN(CL462+CL463)+G165*COS(CL462+CL463)+CL466*COS(CL462+CL463)","v":28.359769989936986},"نقطه دوم از خط دوم","b12",{"$f":"CK476","v":33.919340080706185},{"$f":"CL476","v":129.90956173101131},null,null,null,null,null,null,null,null,null,{"$f":"CI485+'متغیرها '!C301","v":9.2619991499884513},{"$f":"CI484+'متغیرها '!C302","v":28.359769989936986},27,null,{"$f":"DE484","v":0},8.4651135735563052,7,null,{"$f":"0+'متغیرها '!C301","v":0},{"$f":"CI465+'متغیرها '!C302","v":8.4651135735563052},7,null,null,null,null,null,null,null,null,{"$f":"DP482","v":28.643241084109199},{"$f":"DQ482","v":99.73172115031511},"β11",null,null,null,null,null,{"$f":"DX482","v":147.99600000000001},{"$f":"DY482","v":123.82000000000001},"β11",null,null,null,null,null,{"$f":"EF482","v":147.18299999999999},{"$f":"EG482","v":-15.55},"β11",null,null,null,null,null,{"$f":"EK462-EK460","v":19.95},{"$f":"EK463-EK461","v":122.19000000000001},"β9",null,null,null,null,null,null,null,null,{"$f":"EV464-EV460","v":22.388999999999999},{"$f":"EV465-EV461","v":100},"β3",null,null,null,null,null,null,null,null,{"$f":"FJ463","v":6.6799400000000002},{"$f":"FK463","v":136.36934389257897},"β11"]
[null,null,null,null,null,null,null,null,null,null,null,null,null,null,null,null,null,null,null,null,null,null,null,null,null,null,null,null,null,null,null,null,null,null,null,null,null,null,null,null,null,null,null,null,null,null,null,null,null,null,null,{"$f":"AZ485/COS(RADIANS(90)-AZ483*(AZ484-AZ480)-AZ486)","v":0},"(g7→g10)",null,null,"مولفه افقی","مولفه عمودی","رسم جلو ",null,null,{"$f":"IF(BH467=BH469,RADIANS(90),IF(BH467>BH469,ATAN((BI467-BI469)/(BH467-BH469)),RADIANS(180)-ATAN((BI467-BI469)/(BH469-BH467))))","v":1.4863360217646828},"g8",null,null,"مولفه افقی","مولفه عمودی","رسم ",null,null,null,null,null,null,null,null,null,null,null,null,null,null,null,null,null,null,"(28 → 29)",{"$f":"CI479-CL461*COS(CL463+CL462)","v":5.366216770045753},null,null,null,null,null,null,null,null,null,null,null,null,null,null,null,null,null,8.3484212811923744,11.083493503764897,13,null,{"$f":"CI471+'متغیرها '!C301","v":8.3484212811923744},{"$f":"CI470+'متغیرها '!C302","v":11.083493503764897},13,null,null,null,null,null,null,null,null,{"$f":"DM464-DM462","v":26.763855842537382},{"$f":"DM465-DM463","v":99.047680863663771},"β9",null,null,null,null,null,{"$f":"DU464-DU462","v":147.99600000000001},{"$f":"DU465-DU463","v":123.82000000000001},"β9",null,null,null,null,null,{"$f":"EC463-EC461","v":147.18299999999999},{"$f":"EC464-EC462","v":-15.55},"β9",null,null,null,null,null,null,null,null,null,null,null,null,null,null,null,null,{"$f":"EV462-EV460","v":17.510999999999999},{"$f":"EV463-EV461","v":100},"β9",null,null,null,null,null,null,null,null,{"$f":"FJ460","v":5},{"$f":"FK460","v":134.68940389257898},"β13"]
[null,null,null,null,null,null,null,null,null,null,null,null,null,null,null,null,null,null,null,null,null,null,null,null,null,null,null,null,null,null,null,null,null,null,null,null,null,null,null,null,null,null,null,null,null,null,null,null,null,null,{"$f":"BE472-AZ487*COS(AZ486)","v":25.724222137373676},{"$f":"BF472-AZ487*SIN(AZ486)","v":131.65931237943548},"g10",null,null,{"$f":"AY477","v":5},{"$f":"AZ477","v":131.65931237943548},{"$f":"BA477","v":"g1"},null,null,{"$f":"(BN472-BH484)*SIN(BI486*(BI487-BI483))","v":0},"(g7→g12)",null,null,{"$f":"BH480","v":15},{"$f":"BI480","v":127.92864751789941},{"$f":"BJ480","v":"g1"},null,null,null,null,null,null,null,null,null,null,null,null,null,null,null,null,null,null,"(1 → 30)",{"$f":"CI484+CL461*SIN(CL463+CL462)","v":29.247004082027125},null,null,null,null,null,null,null,null,null,{"$f":"CW466","v":0},{"$f":"CX466","v":0},1,null,null,null,null,null,9.6540097076821123,13.973052669321913,15,null,{"$f":"CI473+'متغیرها '!C301","v":9.6540097076821123},{"$f":"CI472+'متغیرها '!C302","v":13.973052669321913},15,null,null,null,null,null,null,null,null,{"$f":"DP489+0.3*(DP487-DP489)-0.17*DM471*COS(DM472)","v":16.511960482759132},{"$f":"DQ489+0.4*(DQ487-DQ489)+0.17*DM471*SIN(DM472)","v":85.573858203331525},"β'9",null,null,null,null,null,{"$f":"DX489+(0.3+'متغیرها '!C208*0.1)*(DX487-DX489)-(0.17+'متغیرها '!C208*0.05)*DU471*COS(DU472)","v":148.97679957438868},{"$f":"DY489+(0.4)*(DY487-DY489)+(0.17+'متغیرها '!C208*0.05)*DU471*SIN(DU472)","v":114.42112086902223},"β'9",null,null,null,null,null,{"$f":"EF489+(0.3+'متغیرها '!C218*0.1)*(EF487-EF489)-(0.17+'متغیرها '!C218*0.05)*EC470*COS(EC471)","v":148.28639957438861},{"$f":"EG489+(0.4)*(EG487-EG489)+(0.17+'متغیرها '!C218*0.05)*EC470*SIN(EC471)","v":-26.123739130977722},"β'9",null,null,null,null,null,null,null,null,null,null,null,null,null,null,null,null,{"$f":"EV462+EV461","v":18.510999999999999},{"$f":"EV463-EV460","v":101},"β13",null,null,null,null,null,null,null,null,{"$f":"FJ479","v":3.3200600000000002},{"$f":"FK479","v":136.36934389257897},"β9"]
[null,null,null,null,null,null,null,null,null,null,null,null,null,null,null,null,null,null,null,null,null,null,null,null,null,null,null,null,null,null,null,null,null,null,null,null,null,null,null,null,null,null,null,null,null,null,null,null,null,null,null,null,null,null,null,null,null,null,null,null,{"$f":"BI488/COS(RADIANS(90)-BI486*(BI487-BI483)-BI489)","v":0},"(g7→g10)",null,null,null,null,null,null,null,null,null,null,null,null,null,null,null,null,null,null,null,null,null,null,null,null,"یقه مربعی متصل به یقه هفت (ملوانی)",null,null,null,null,null,null,null,null,null,null,null,null,null,null,null,null,null,{"$f":"CW474","v":9.2619991499884513},{"$f":"CX474","v":28.359769989936986},27,null,{"$f":"CI477+'متغیرها '!C301","v":9.1857378566229801},{"$f":"CI476+'متغیرها '!C302","v":21.914201099228258},19,null,null,null,null,null,null,null,null,{"$f":"DP489+0.45*(DP491-DP489)+0.17*DM473*COS(DM474)","v":26.170683397583126},{"$f":"DQ489+0.35*(DQ491-DQ489)-0.17*DM473*SIN(DM474)","v":75.111967535486244},"β'15",null,null,null,null,null,{"$f":"DX489+(0.45-'متغیرها '!C208*0.05)*(DX473-DX489)+(0.17+'متغیرها '!C208*0.05)*DU473*COS(DU474)","v":160.02320042561132},{"$f":"DY489+(0.35+'متغیرها '!C208*0.05)*(DY473-DY489)-(0.17+'متغیرها '!C208*0.05)*DU473*SIN(DU474)","v":114.42112086902223},"β'15",null,null,null,null,null,{"$f":"EF489+(0.45-'متغیرها '!C218*0.05)*(EF491-EF489)+(0.17+'متغیرها '!C218*0.05)*EC472*COS(EC473)","v":160.71360042561139},{"$f":"EG489+(0.35+'متغیرها '!C218*0.05)*(EG491-EG489)-(0.17+'متغیرها '!C218*0.05)*EC472*SIN(EC473)","v":-26.123739130977722},"β'15",null,null,null,null,null,null,null,null,null,null,null,null,null,null,null,null,{"$f":"EV462+EV461","v":18.510999999999999},{"$f":"EV463-EV460","v":101},"β13"]
[null,null,null,null,null,null,null,null,null,null,null,null,null,null,null,null,null,null,null,null,null,null,null,null,null,null,null,null,null,null,null,null,null,null,null,null,null,null,null,null,null,null,null,null,null,null,null,null,null,null,null,null,null,null,"شیفت",{"$f":"IF(AZ477>AZ468+1,AY481+AZ472,BE486+AZ472)","v":18.094618121505707},{"$f":"IF(AZ477>AZ468+1,AZ481,BF486)","v":131.65931237943548},{"$f":"IF(AZ477>AZ468+1,BA481,BD486)","v":"g4"},null,{"$f":"BN472-BI490*COS(BI489)","v":33.482747563761421},{"$f":"BO472-BI490*SIN(BI489)","v":127.92864751789941},"g10",null,"شیفت",{"$f":"IF(BI480>BI469+1,BH484+BI473,BN486+BI473)","v":27.991912083752911},{"$f":"IF(BI480>BI469+1,BI484+BI475,BO486+BI475)","v":127.92864751789941},{"$f":"IF(BI480>BI469+1,BJ484,BM486)","v":"g4"},null,null,null,null,null,null,null,null,null,null,null,null,null,null,null,null,null,null,"(33 → 29)",{"$f":"K114-K144-(1-'متغیرها '!C165)*H124","v":21.949343892578945},null,null,null,null,null,null,null,null,null,{"$f":"DE481","v":8.3484212811923744},{"$f":"DF481","v":11.083493503764897},13,null,null,null,null,null,{"$f":"CW475","v":6.7927559631396495},{"$f":"CX475","v":24.389597726806656},21,null,{"$f":"CI479+'متغیرها '!C301","v":6.7927559631396495},{"$f":"CI478+'متغیرها '!C302","v":24.389597726806656},21,null,null,null,null,null,null,null,null,{"$f":"DM466-DM462","v":32.325103373012752},{"$f":"DM467-DM463","v":83.76827884968489},"β3",null,null,null,null,null,{"$f":"DU466-DU462","v":161.00399999999999},{"$f":"DU467-DU463","v":123.82000000000001},"β3",null,null,null,null,null,{"$f":"EC465-EC461","v":161.81700000000001},{"$f":"EC466-EC462","v":-15.55},"β3",null,null,null,null,null,null,null,null,null,null,null,null,null,null,null,null,{"$f":"EV462+EV460","v":17.510999999999999},{"$f":"EV463+EV461","v":102},"β11"]
[null,null,null,null,null,null,null,null,null,null,null,null,null,null,null,null,null,null,null,null,null,null,null,null,null,null,null,null,null,null,null,null,null,null,null,null,null,null,null,null,null,null,null,null,null,null,null,null,null,null,null,null,null,null,null,null,null,null,null,null,null,null,null,null,null,null,null,null,null,null,null,null,null,null,null,null,null,null,null,null,null,null,null,null,null,null,null,null,null,null,null,null,null,null,null,null,null,null,null,null,null,null,null,null,{"$f":"CW478","v":5.366216770045753},{"$f":"CX478","v":25.276831818896795},29,null,null,null,null,null,null,null,null,null,null,null,null,null,null,null,null,null,null,null,null,null,null,null,null,null,null,null,null,null,null,null,null,null,null,null,null,null,null,null,null,null,null,null,null,null,null,null,{"$f":"EV462-EV460","v":17.510999999999999},{"$f":"EV463-EV461","v":100},"β9"]
[]
[]
[null,null,null,null,null,null,null,null,null,null,null,null,null,null,null,null,null,null,null,null,null,null,null,null,null,null,null,null,null,null,"نقاط  ورودی از جلو",null,null,null,null,null," حلقه آستین بدون ساسون سرشانه",null,null,null," حلقه آستین پیراهن با ساسون سرشانه",null,null,null," حلقه آستین با ساسون و اپل و کنترل گودی",null,null,null," حلقه آستین با ساسون عصایی",null,null,null," شبیه ساز حلقه آستین بدون ساسون سرشانه",null,null,null," شبیه ساز حلقه آستین پیراهن با ساسون سرشانه",null,null,null,null,"متغیرهای خروجی آستین ",null,"شبیه ساز",null,"رسم آستین بلند یا کوتاه",null,null,null,null,null,"نقاط آستین ساده",null,null,null,{"$f":"AH522-AI522","v":2.0273094385260002},null,null,null,"نقاط  خروجی مچ",null,"جادکمه آستین بلند",null,null,"هلال پایین آستین بلند یا کوتاه",null,null,null,null,null,null,null,null,null,null,"آستین کتی با آستر",null,null,null,null,null,null,null,null,null,null,null,"نقاط  ورودی رگلان بدون درز  و  با درز",null,null,null,null,null,null,"متغیرهای خروجی آستین رگلان",null,null,"متغیرهای خروجی آستین رگلان با درز ",null,null,"متغیرهای محاسبه ای آستین رگلان با درز",null,null,null,"رسم الگو آستین رگلان با درز",null,null,null,"رسم الگو آستین رگلان بدون درز",null,null,null,"آستین لاله ای"]
[null,null,null,null,null,"β7",{"$f":"ATAN((BO505-BO504)/(BN504-BN505))","v":0.98931683591332042},null,"k3",{"$f":"BN502-G500*TAN(AH533)","v":35.649464406756763},{"$f":"BO502-G500","v":25.488044571368619},null,{"$f":"BN502","v":37.211980829593386},43.341974285614356,3,null,{"$f":"IF(J538<J539,J538,J539)","v":30.981521235359484},{"$f":"IF(J538<J539,K538,K539)","v":25.488044571368619},"7'",null,"f2",{"$f":"IF(OR('متغیرها '!C500=0,'متغیرها '!C500=1),AQ530,0)","v":0},null,null,"f2",{"$f":"V535","v":0},null,"f2",{"$f":"V501","v":0},null,{"$f":"AZ140","v":13.351253177760663},{"$f":"BA140","v":146.84676563115454},25,"نقطه اتصال سرشانه به گردن",null,null,{"$f":"CI117","v":24.254696527337614},143.73265925554304,"22f",null,{"$f":"AZ125","v":33.249929425595901},{"$f":"BA125","v":140.04291609602075},22,null,{"$f":"DT103","v":24.573105577030464},{"$f":"DU103","v":145.30037824350708},"22b",null,{"$f":"CZ157","v":24.573105577030464},{"$f":"DA157","v":145.30037824350708},39,null,{"$f":"CJ162","v":24.762127675570746},143.55229963830257,"22f",null,{"$f":"BK390","v":33.56},139.72651834803014,22,null,null,"(3 → 4)",{"$f":"0.6*BK503","v":3.7382757565403413},{"$f":"0.6*BL503","v":3.6015159098158183},null,{"$f":"BK499-BX498+'متغیرها '!C521","v":38.935780829593384},{"$f":"BK517+'متغیرها '!C522","v":43.341974285614356},1,null,{"$f":"BK499-BK500-BK515-BX498+'متغیرها '!C521","v":-0.30350943852600309},{"$f":"0+'متغیرها '!C522","v":0},20,null,{"$f":"BL499+'متغیرها '!C521","v":38.176003903346029},{"$f":"BL517+'متغیرها '!C522","v":44.634824285614357},1,null,{"$f":"BZ500+BK530*(BV519-BV522)*'متغیرها '!C540","v":33.229986725137721},{"$f":"CA500","v":0},"27'",null,"(c11 → c12)",{"$f":"0.5*CE500","v":1.3125},null,{"$f":"BK499-BK500-CE515-BX498-CE507+'متغیرها '!C521","v":18.454235695533693},{"$f":"BK517-CE514+'متغیرها '!C522","v":2.7450000000000045},"c3",null,"(6'→7')",{"$f":"1.2*BK504","v":6.4386223895967234},null,{"$f":"CV501+CK554","v":9.5504754322303214},{"$f":"CW501","v":13.46489107943197},"a22",null,{"$f":"IF((CQ530-CQ528)>(CQ526-CQ528),CP530,CP526)+CK554","v":28.88423773825463},{"$f":"IF((CQ530-CQ528)>(CQ526-CQ528),CQ530,CQ526)","v":27.677036478938586},"a10 یا z1",null,{"$f":"CV509-CL529*COS(CS548)","v":9.5504754322303214},{"$f":"CW509-CL529*SIN(CS548)","v":13.46489107943197},"a22",null,{"$f":"CR519","v":8.8534354068678933},{"$f":"CS519","v":57.828874662206985},13,null,{"$f":"IF('متغیرها '!C500=3,AZ113,BW160)","v":35.844145557703101},{"$f":"IF('متغیرها '!C500=3,BA113,BX160)","v":119.86926418849009},12,null,"b4",null,null,"(5 →3)",{"$f":"-DE534*COS(DE531)","v":1.5754127050730962},null,"(34 →28)",{"$f":"DR501*COS(DR500)","v":16.752556311834148},null,"(34→27)",{"$f":"SQRT(POWER((DD507-DD503),2)+POWER((DE503-DE507),2))","v":16.843192137002227},null,null,{"$f":"DU500+0.5*(DU502-DU500)","v":11.054537061393226},{"$f":"DV500+0.4*(DV502-DV500)","v":71.99959666651209},"41'",null,{"$f":"-DL502+DE528+'متغیرها '!C521","v":15.619825715131693},{"$f":"DL499+DL503+'متغیرها '!C522","v":69.607090416796495},4,null,{"$f":"BN501","v":38.935780829593384},{"$f":"BO501","v":43.341974285614356},1,null,{"$f":"EC546","v":26.56753927031119},{"$f":"ED546","v":55.422968842087108},"q24",null,null,{"$f":"EC501-EC510","v":40.963090268119387},"انتقال نقاط",null,null,null,null,null,{"$f":"EC501","v":38.935780829593384},43.341974285614356,1]
[null,null,null,null,null,"β9",0.3508566145144939,null,"k''9",{"$f":"BN504-G507*COS(G501+RADIANS('متغیرها '!C571))","v":27.416726604430394},{"$f":"BO504+G507*SIN(G501+RADIANS('متغیرها '!C571))","v":59.476145589319671},null,33.47370507305304,45.2199058159134,5,null,{"$f":"J521","v":24.774770420908819},24.94502423777389,"n9",null,"f3",{"$f":"IF(OR('متغیرها '!C500=0,'متغیرها '!C500=1),AQ532,0)","v":0},null,null,"f5",{"$f":"V538","v":0},null,"f5",{"$f":"V504","v":0},null,{"$f":"AZ113","v":35.844145557703101},{"$f":"BA113","v":119.86926418849009},12,null,null,null,24.654976297485689,137.92004719817979,"24f",null,{"$f":"AZ128","v":30.651785035248011},{"$f":"BA128","v":134.09321014225543},24,null,{"$f":"DT121","v":23.960158357658838},138.05242115064132,"b'12g",null,{"$f":"CZ156","v":24.340417771240173},{"$f":"DA156","v":138.03027214395152},37,null,24.756608485046854,137.87279726517414,"24f",null,30.228000000000002,134.13441621645205,24,null,null,"(4→ 5)",{"$f":"0.35*BK504","v":1.8779315302990442},{"$f":"0.35*BL504","v":1.7183434500104919},null,{"$f":"BK499-BK500-BX498+'متغیرها '!C521","v":37.211980829593386},{"$f":"BK517+'متغیرها '!C522","v":43.341974285614356},3,null,{"$f":"BK499-BK500-BX498+'متغیرها '!C521","v":37.211980829593386},{"$f":"0+'متغیرها '!C522","v":0},19,null,{"$f":"BL499-BL500+'متغیرها '!C521","v":36.452203903346032},{"$f":"BL517+'متغیرها '!C522","v":44.634824285614357},3,null,{"$f":"BZ500-(1-BK530)*(BV519-BV522)*'متغیرها '!C540","v":6.003705086018698},{"$f":"CA500","v":0},"29'",null,"(c4→ c7)",{"$f":"0.8*CE499","v":8.5400000000000009},null,{"$f":"BK499-BK500-CE515-BX498-CE508+'متغیرها '!C521","v":10.851819069969061},{"$f":"BK517-CE514-CE510+'متغیرها '!C522","v":2.1350000000000047},"c4",null,"ζ3",{"$f":"'متغیرها '!C516*'متغیرها '!U84","v":29.400000000000006},null,{"$f":"CV502+CK554","v":10.873169261805273},{"$f":"CW502","v":2.3940147690943712},"a23",null,{"$f":"CP530+CK554","v":28.529546658281824},{"$f":"CQ530","v":4.2799624700338272},"z1",null,{"$f":"CP539-CL529*COS(CS548)","v":10.873169261805273},{"$f":"CQ539-CL529*SIN(CS548)","v":2.3940147690943712},"a23",null,{"$f":"CV537","v":10.113435406867893},{"$f":"CW537","v":43.341974285614356},"تکه زیر 12'",null,{"$f":"IF('متغیرها '!C500=3,BD156-DE511,BW167)","v":37.567945557703098},{"$f":"IF('متغیرها '!C500=3,BE156,BX167)","v":119.86926418849009},13,"نقطه انتهایی\n زیر حلقه","b14",null,null,"(2 → 6)",{"$f":"DE535*SIN(DE533)","v":5.495982615831827},null,"(28 → 27)",{"$f":"DR501*SIN(DR500)","v":1.744986642584816},null,"γ18",{"$f":"DQ524-DQ525","v":1.1763502243629511},{"$f":"DEGREES(DR502)","v":67.399903085264569},null,{"$f":"DQ541","v":12.311673630624266},{"$f":"DR541","v":71.574244462524874},41,null,null,null,null,null,37.211980829593386,43.341974285614356,3,null,{"$f":"EC548","v":20.75130020637253},{"$f":"ED548","v":27.630528651965008},"q29",null,"q0",{"$f":"-ATAN((EC512-EC510)/(ED510-ED512))-ATAN((EC501-EC511)/(ED501-ED511))","v":-0.24680339185257255},"زاویه چرخش",null,null,null,null,null,37.211980829593386,43.341974285614356,3]
[null,null,null,null,null,"β13",-0.87728821628617948,null,"k''13",{"$f":"J503-G509*COS(G503+3*RADIANS('متغیرها '!C571))","v":14.768416629557205},{"$f":"K503+G509*SIN(G503+3*RADIANS('متغیرها '!C571))","v":68.431400099248577},null,{"$f":"J502","v":27.416726604430394},59.476145589319671,"k''9",null,10.349100650611803,21.829245695010023,"n13",null,"f5",{"$f":"IF(OR('متغیرها '!C500=0,'متغیرها '!C500=1),AQ531,0)","v":0},null,null,"f3",{"$f":"V536","v":0},null,"f3",{"$f":"V502","v":0},null,"α2",{"$f":"'متغیرها '!B315","v":0.27820102979369776},"زاویه سرشانه با افق",null,null,null,27.435924455871671,125.98834966465331,"20f",null,{"$f":"AZ121","v":30.799464777334041},{"$f":"BA121","v":123.17896018849009},20,null,28.464143050023495,128.00364177662831,"b'10g",null,{"$f":"CZ158","v":29.538294582241775},{"$f":"DA158","v":128.14350418849008},"16g","نقطه ساسون",26.27610665002755,126.96780448845988,"20f",null,30.02,124.462314084874,20,null,null,"(6 → 7)",{"$f":"0.3*BK508","v":5.3655186579972698},{"$f":"0.3*BL508","v":4.9095527143156916},null,{"$f":"BK499-BK500-BK503-BX498+'متغیرها '!C521","v":30.981521235359484},{"$f":"BK517+BK504+'متغیرها '!C522","v":48.707492943611626},7,null,{"$f":"BK499-BK500-BK501-BX498+'متغیرها '!C521","v":33.47370507305304},{"$f":"BK517+'متغیرها '!C522","v":43.341974285614356},4,null,{"$f":"BL499-BL500-BL503+'متغیرها '!C521","v":30.449677386986334},{"$f":"BL517+BL504+'متغیرها '!C522","v":49.544376999930051},7,null,{"$f":"BZ502","v":6.003705086018698},{"$f":"CA503","v":5.535407295787719},"30'",null,null,null,null,null,null,null,null," درجه  ζ1",{"$f":"DEGREES(CL503)","v":3.8157957790528454},null,null,null,null,null,{"$f":"CP530+CK554","v":28.529546658281824},{"$f":"CQ530","v":4.2799624700338272},"z1",null,{"$f":"CP530","v":28.529546658281824},{"$f":"CQ530","v":4.2799624700338272},"z1",null,{"$f":"CV535","v":9.1495468836058276},{"$f":"CW535","v":12.211857474322743},"a'25",null,null,{"$f":"ATAN((DE500-DE508)/(DD508-DD500))","v":0.2062887762426914},"β''3",null,null,null,null,"(2 → 9)",{"$f":"DE540*COS(DE542)-DL501","v":16.49822176824582},null,"(29 → 30)",{"$f":"DR503*COS(DR502)","v":2.1130678280348962},null,"(30→ 32)",{"$f":"SQRT(POWER((DD508-DD500),2)+POWER((DE508-DE500),2))","v":11.352927685615088},null,null,{"$f":"DQ541","v":12.311673630624266},{"$f":"DR541","v":71.574244462524874},41,null,{"$f":"DI536","v":6.7609716536686157},{"$f":"DJ536","v":57.275827757077401},"8'",null,30.981521235359484,48.707492943611626,7,null,null,null,null,null,"مولفه افقی","مولفه عمودی","اسم نقطه ",null,"نقاط  خروجی چرخیده",null,null,null,30.981521235359484,48.707492943611626,7]
[null,null,null,null,null,"β15",-0.95854101977496187,null,"k''15",{"$f":"J504-G510*COS(G504+4*RADIANS('متغیرها '!C571))","v":5.370230046995955},{"$f":"K504+G510*SIN(G504+4*RADIANS('متغیرها '!C571))","v":70.043785760730913},null,21.74264184305089,66.26290141411512,"k''11",null,{"$f":"IF(J524<J526,J526,J524)","v":4.6212416476555322},{"$f":"IF(J524<J526,K526,K524)","v":19.744475511860252},"n15",null,"f6",{"$f":"IF(OR('متغیرها '!C500=0,'متغیرها '!C500=1),AQ534,0)","v":0},null,null,"f4",{"$f":"V537","v":0},null,"f4",{"$f":"V503","v":0},null,null,{"$f":"G167","v":12.599369737130157},"W",null,null,null,31.025238551326837,121.70498983133906,"18f",null,{"$f":"AZ118","v":32.691220069972438},{"$f":"BA118","v":121.11040018849008},18,null,{"$f":"DT108","v":31.193714930354844},{"$f":"DU108","v":126.81666578358194},"b8",null,{"$f":"DD170-DA160","v":30.799464777334041},{"$f":"DE170","v":123.17896018849009},"20g",null,29.827121558839735,123.30996120594976,"18f",null,31.85,122.76231408487399,18,null,null,"(3 →8)",{"$f":"0.6*BK507","v":12.460919188467805},{"$f":"0.6*BL507","v":12.005053032719395},null,{"$f":"BK499-BK500-BK505-BX498+'متغیرها '!C521","v":24.751061641125577},{"$f":"BK517+BK506+'متغیرها '!C522","v":58.186575906073472},9,null,{"$f":"BK499-BK500-BK501-BX498+'متغیرها '!C521","v":33.47370507305304},{"$f":"BK517+BK502+'متغیرها '!C522","v":45.2199058159134},5,null,{"$f":"BL499-BL500-BL505+'متغیرها '!C521","v":24.447150870626636},{"$f":"BL517+BL506+'متغیرها '!C522","v":58.217920128554439},9,null,{"$f":"BZ500+BK530*'متغیرها '!C539*AI520","v":56.897689402196832},{"$f":"CA501+BW510-BW522","v":44.634824285614357},"1'",null,null,null,null,null,null,null,null,"(11 → a15)",{"$f":"0.55*H131+AI524*0.5*'متغیرها '!C518","v":33.550000000000004},null,{"$f":"CV500","v":6.1541042451996875},{"$f":"CW500","v":13.83857995823146},"a24",null,{"$f":"CR506+0.5*(CR504-CR506)","v":21.265235882218228},{"$f":"CS506+0.6*(CS504-CS506)","v":3.6750589411778409},"a'13",null,{"$f":"CK542","v":28.88423773825463},{"$f":"CL542","v":27.677036478938586},"a10",null,{"$f":"CN515","v":7.9591662599740953},{"$f":"CO515","v":2.3940147690943712},"a26",null,{"$f":"IF('متغیرها '!C500=3,CI120,BW162)","v":27.435924455871671},{"$f":"IF('متغیرها '!C500=3,CJ120,BX162)","v":125.98834966465331},"20f",null,"b10",null,null,"(9 →10)",{"$f":"DL500+DE540*SIN(DE542)","v":16.813799717844489},null,"(30 →31)",{"$f":"DR504*COS(DQ525)","v":10.343494975648753},null,"γ19",{"$f":"ATAN((DD507-DD503)/(DE503-DE507))","v":0.97149839880177835},{"$f":"DEGREES(DR505)","v":55.662758055059214},null,{"$f":"DQ559","v":16.856993037299318},{"$f":"DR559","v":59.413863330621268},"43'",null,{"$f":"DI537","v":0.11683110757130777},{"$f":"DJ537","v":50.549684488139711},"8''",null,24.751061641125577,58.186575906073472,9,null,{"$f":"EC545","v":7.0367713633048758},{"$f":"ED545","v":2.7677036478938613},"q23",null,{"$f":"EC510","v":-2.0273094385260002},{"$f":"ED510","v":43.341974285614356},2,"نقطه مرکزی چرخش","مولفه افقی","مولفه عمودی","اسم نقطه ",null,24.751061641125577,58.186575906073472,9]
[null,null,null,null,null,"k'''11",8.8462021514723492,null,"7'",{"$f":"BN504","v":30.981521235359484},{"$f":"K501","v":25.488044571368619},null,0.23860522747158885,71.919626835259223,"k''17",null,{"$f":"J526","v":2.2426976776561007},{"$f":"K526","v":18.635342243391122},"n2",null,"e7",{"$f":"V507+SQRT(POWER((Q516-Q517),2)+POWER((R516-R517),2))","v":10.820033051145003},null,null,"e5",{"$f":"BK500+SQRT(POWER((Q535-Q534),2)+POWER((R535-R534),2))","v":5.9072593895995436},null,"e5",{"$f":"BK500+SQRT(POWER((BN503-BN502),2)+POWER((BO503-BO502),2))","v":5.9072593895995436},null,null,{"$f":"'متغیرها '!C71","v":0.05},"x6",null,null,null,{"$f":"CQ120","v":34.251864630769326},135.91818674906824,"18f",null,{"$f":"BK140-'متغیرها '!C56","v":35.642264270707003},{"$f":"BL140-'متغیرها '!C57","v":135.02250374702837},18,null,{"$f":"DX103","v":35.891298348860708},{"$f":"DY103","v":135.5582862620688},"18b",null,{"$f":"DD167-DA160","v":37.567945557703098},{"$f":"DE167","v":119.86926418849009},13,"نقطه انتهایی  زیر حلقه",{"$f":"CJ179","v":34.762127675570746},135.75229963830256,"18f",null,{"$f":"CA418","v":36.04},{"$f":"CB418","v":134.82840415344404},18,null,null,"(10→11)",{"$f":"AH524","v":17.885062193324234},{"$f":"AI524","v":16.365175714385639},null,{"$f":"BK499-BK500-BK511-BX498+'متغیرها '!C521","v":3.883439880089373},{"$f":"BK517+BK512+'متغیرها '!C522","v":50.495999162944052},15,null,{"$f":"BK499-BK500-BK503-BX498+'متغیرها '!C521","v":30.981521235359484},{"$f":"BK517+BK504+'متغیرها '!C522","v":48.707492943611626},7,null,{"$f":"BL499-BL500-BL511+'متغیرها '!C521","v":5.262010298287052},{"$f":"BL517+BL512+'متغیرها '!C522","v":51.180894571368611},15,null,{"$f":"BZ503+(CA508-CA503)*TAN(BK531)","v":45.529190307476256},{"$f":"CA501+BW513-BW519","v":27.449999999999992},"25'",null,"(b2→c5)",{"$f":"1.5*CE507","v":22.807249876693895},null,{"$f":"BK499-BK500-CE515-BX498-CE508+CE503-CE500+'متغیرها '!C521","v":9.0143190699690603},{"$f":"CE499+BK517-CE514+'متغیرها '!C522","v":13.420000000000002},"c11",null,"(a16 →a11)",{"$f":"CL507*TAN(CL503)","v":1.0448017936921048},null,{"$f":"CP548","v":4.8314104156247355},{"$f":"CQ548","v":2.7677036478938613},"z3",null,{"$f":"CP539+CK554","v":14.000925106154634},{"$f":"CQ539","v":2.7677036478938613},"z2",null,{"$f":"CP557","v":-9.9011510825726035},{"$f":"CQ557","v":4.2799624700338272},"z4",null,{"$f":"CR525","v":-2.5348703334739344},{"$f":"CS525","v":3.6750589411778409},"a'4",null,{"$f":"BW165","v":24.463474035591126},{"$f":"BX165","v":144.52135929212406},null,null,"b16","رگلان با درز",null,"(7 →12)",{"$f":"DE545*COS(DE547)","v":2.9817343393760871},null,null,null,null,"γ22",{"$f":"ATAN((DD520-DD517)/(DE517-DE520))","v":0.7055937412530835},{"$f":"DEGREES(DR508)","v":40.427543424647531},null,{"$f":"DU561","v":17.50904778322689},{"$f":"DV561","v":2.7450000000000014},"چپ z2",null,{"$f":"DY499","v":23.199605891169821},{"$f":"DZ499","v":71.0151596307185},3,null,3.883439880089373,50.495999162944052,15,null,null,null,null,null,{"$f":"EC503-EL501","v":-7.4893851950663475},45.2199058159134,5,null,{"$f":"EK505+SQRT(POWER(EK508-EK505,2)+POWER(EL508-EL505,2))*SIN(EL502-ATAN((EK505-EK508)/(EL508-EL505)))","v":-7.7826640826092452},{"$f":"EL505+SQRT(POWER(EK508-EK505,2)+POWER(EL508-EL505,2))*COS(EL502-ATAN((EK505-EK508)/(EL508-EL505)))","v":43.82858637291443},"q5",null,{"$f":"IF(ED530>(ED533+ED534),EC508,EC551)","v":9.6309867285074766},{"$f":"IF(ED530>(ED533+ED534),ED508,ED551)","v":57.410332755813606},"q31 یا 15"]
[null,null,null,null,null,"k'''13",7.3035747326878635,null,"k7",{"$f":"J508-G513*SIN(RADIANS('متغیرها '!C571))","v":24.971885779848268},{"$f":"K508+G513*(1-COS(RADIANS('متغیرها '!C571)))","v":26.279228088676437},null,-3.06984183841569,73.901533292911864,"k''2",null,{"$f":"J537","v":-8.2811132281023134},{"$f":"K537","v":33.42764043846794},"n'2",null,"en'9",{"$f":"V508+SQRT(POWER((Q517-Q518),2)+POWER((R517-R518),2))","v":23.650955721326994},null,null,"e7",{"$f":"Z508+SQRT(POWER((Q536-Q535),2)+POWER((R536-R535),2))","v":10.193778286577293},null,"e7",{"$f":"AC508+SQRT(POWER((BN504-BN503),2)+POWER((BO504-BO503),2))","v":10.193778286577293},null,null,{"$f":"'متغیرها '!C76","v":0.35000000000000003},"x8",null,null,null,33.478716729423311,128.18119785145331,"20f",null,{"$f":"BK110-'متغیرها '!C56","v":35.042555899094573},{"$f":"BL110-'متغیرها '!C57","v":129.37423969210775},20,null,{"$f":"DX121","v":34.879841159792562},129.39918473310706,"b'12p",null,{"$f":"DH157","v":35.891298348860708},{"$f":"DI157","v":135.5582862620688},41,null,34.152425535114148,128.68815995304698,"20f",null,{"$f":"CA391","v":34.611999999999995},129.43623936900914,20,null,null,"(3 → 12)",{"$f":"BK507+0.35*(BK499-BK500-BK507)","v":27.233080714681908},{"$f":"BL507+0.35*(BL499-BL500-BL507)","v":25.763745484950455},null,{"$f":"BK499-BK500-BK513-BX498+'متغیرها '!C521","v":0.74335430457495377},{"$f":"BK517+BK514+'متغیرها '!C522","v":46.024733614612991},17,null,{"$f":"BK499-BK500-BK503-BX498+'متغیرها '!C521","v":30.981521235359484},{"$f":"BK517+'متغیرها '!C522","v":43.341974285614356},6,null,{"$f":"BL499-BL500-BL513+'متغیرها '!C521","v":2.4665673273220534},{"$f":"BL517+BL514+'متغیرها '!C522","v":47.089600642772204},17,null,{"$f":"BZ504-BZ508+BZ503","v":-6.295498496319837},{"$f":"CA508","v":27.449999999999992},"26'",null,"(b2 → c1)",{"$f":"0.5*CE507","v":7.602416625564631},null,{"$f":"BK499-BK500-CE515-BX498-CE508+CE503-CE501+'متغیرها '!C521","v":10.32681906996906},{"$f":"CE499+CE501+BK517-CE514+'متغیرها '!C522","v":14.732500000000002},"c13",null,"(a16 → a17)",{"$f":"BK516-CL507","v":27.677036478938586},null,null,null,"برگرد مچ",null,{"$f":"IF((CQ539-CQ537)>(CQ535-CQ537),CP539,CP535)+CK554","v":11.023701908603581},{"$f":"IF((CQ539-CQ537)>(CQ535-CQ537),CQ539,CQ535)","v":27.677036478938586},"a11 یا z2",null,{"$f":"CP539-CL530*SIN(CS548)","v":12.678231276579682},{"$f":"CQ539+CL530*COS(CS548)","v":13.83857995823146},"a21",null,{"$f":"CR526","v":-9.9011510825726035},{"$f":"CS526","v":4.2799624700338272},"a'8",null,null,{"$f":"SQRT(POWER((DD501-DD510),2)+POWER((DE501-DE510),2))+SQRT(POWER((DD510-DD505),2)+POWER((DE510-DE505),2))+SQRT(POWER((DD505-DD507),2)+POWER((DE505-DE507),2))","v":17.136881711935199},null,"محاسبه برای شیفت حلقه ",null,"رگلان با درز",null,"(12 →13)",{"$f":"DL507+DE545*SIN(DE547)","v":27.643117769489521},null,"(36 → 38)",{"$f":"DR512*COS(DR511)","v":18.532265735275764},null,null,null,null,null,null,null,null,null,{"$f":"DI538","v":33.722394748970224},{"$f":"DJ538","v":57.909458903342298},"10'",null,0.74335430457495377,46.024733614612991,17,null,{"$f":"EO518","v":-2.0739618331748648},{"$f":"EP518","v":1.4880687029909225},"q44",null,{"$f":"EC504-EL501","v":-9.9815690327599036},48.707492943611626,7,null,{"$f":"EK505+SQRT(POWER(EK509-EK505,2)+POWER(EL509-EL505,2))*SIN(EL502-ATAN((EK505-EK509)/(EL509-EL505)))","v":-11.051367174531443},{"$f":"EL505+SQRT(POWER(EK509-EK505,2)+POWER(EL509-EL505,2))*COS(EL502-ATAN((EK505-EK509)/(EL509-EL505)))","v":46.601639627182301},"q7",null,{"$f":"IF(ED530>(ED533+ED534+ED535),EC509,EC551)","v":9.6309867285074766},{"$f":"IF(ED530>(ED533+ED534+ED535),ED509,ED551)","v":57.410332755813606},"q31 یا 17"]
[null,null,null,null,null,"k'''17",5.4637306874740803,null,"m11",{"$f":"J515-G515*(SIN(3*RADIANS('متغیرها '!C571))-SIN(2*RADIANS('متغیرها '!C571)))","v":-3.5286416875629802},{"$f":"K515+G515*(COS(2*RADIANS('متغیرها '!C571))-COS(3*RADIANS('متغیرها '!C571)))","v":40.991617883501249},null,{"$f":"J501","v":35.649464406756763},{"$f":"K501","v":25.488044571368619},"k3",null,{"$f":"J538","v":35.649464406756763},{"$f":"K538","v":25.488044571368619},"k3",null,"en''13",{"$f":"V510+SQRT(POWER((Q520-Q521),2)+POWER((R520-R521),2))","v":21.264082971828675},null,null,"e17",{"$f":"SQRT(POWER((Q541-Q542),2)+POWER((R541-R542),2))","v":3.8566533671907028},null,"e17",{"$f":"SQRT(POWER((BN509-BN510),2)+POWER((BO509-BO510),2))","v":3.8566533671907046},null,{"$f":"BK103","v":15},{"$f":"BL103","v":139.03229312467974},2,null,null,null,34.594792081207657,118.33412107267063,"16f",null,{"$f":"BK117-'متغیرها '!C56","v":36.076248574692741},{"$f":"BL117-'متغیرها '!C57","v":116.47198184720476},16,null,35.995233718413772,116.47262696058199,"b'10p",null,{"$f":"DH155","v":34.784913290103987},{"$f":"DI155","v":122.47136150521011},37,null,34.59295628954375,119.69743671726715,"16f",null,35.261728868631252,117.74581574358868,16,null,null,"(3 → 14)",{"$f":"BK507+0.68*(BK499-BK500-BK507)","v":33.32854094950401},{"$f":"BL507+0.68*(BL499-BL500-BL507)","v":31.19019360505898},null,null,null,null,null,{"$f":"BK499-BK500-BK505-BX498+'متغیرها '!C521","v":24.751061641125577},{"$f":"BK517+BK506+'متغیرها '!C522","v":58.186575906073472},9,null,null,null,null,null,{"$f":"BZ500-(1-BK530)*(BZ510-BZ500)/BK530","v":6.003705086018698},{"$f":"CA510","v":0},"z13",null,null,null,null,{"$f":"BK499-BK500-CE515-BX498-CE508+CE503+'متغیرها '!C521","v":11.63931906996906},{"$f":"BK517-CE514+'متغیرها '!C522","v":2.7450000000000045},"c15",null,"(a19 → a5)",{"$f":"(BK516+CL501)*TAN(CL503)-CL509*TAN(RADIANS('متغیرها '!C564)-CL503)-CL509*TAN(CL503)","v":1.8683387376512468},null,{"$f":"CV526+CK554","v":29.224923147284322},{"$f":"CW526","v":1.2076747981934179},"a'6",null,{"$f":"BK499-BK500-BK509-BX498+CS546+CK554","v":9.9789001149114753},{"$f":"BK517+BK510+CS547","v":57.828874662206985},13,null,{"$f":"CK548","v":7.8086336131757879},{"$f":"CL548","v":27.677036478938586},"a12",null,{"$f":"CR528","v":-9.9011510825726035},4.2799624700338272,"z4",null,null,{"$f":"'متغیرها '!C55","v":0},"شیفت افقی",null,null,null,null,"(12→11)",{"$f":"DL505+DE544*SIN(DE546)","v":23.12937527580711},null,"(39→40)",{"$f":"DR515*SIN(DR514)","v":2.5142731384620793},null,"γ25",{"$f":"RADIANS(180)-DR514-DR513","v":-0.21447640542229229},{"$f":"DEGREES(DR511)","v":-12.288592835834113},null,{"$f":"DQ539","v":5.7605779779542647},{"$f":"DR539","v":53.750899067227799},36,null,{"$f":"DI547","v":44.25189034591822},{"$f":"DJ547","v":47.193319592818455},"11'",null,{"$f":"BN522","v":33.903276092980576},{"$f":"BO522","v":2.7677036478938613},"z1",null,{"$f":"EO516","v":-33.881078060442732},{"$f":"EP516","v":49.824804835186015},"q46",null,{"$f":"EC506-EL501","v":-24.519308085972348},61.227036478938587,11,null,{"$f":"EK505+SQRT(POWER(EK511-EK505,2)+POWER(EL511-EL505,2))*SIN(EL502-ATAN((EK505-EK511)/(EL511-EL505)))","v":-28.207181294857708},{"$f":"EL505+SQRT(POWER(EK511-EK505,2)+POWER(EL511-EL505,2))*COS(EL502-ATAN((EK505-EK511)/(EL511-EL505)))","v":55.190170874203481},"q11"]
[null,null,null,null,null,"k'''2",3.8566533671907046,null,"m13",{"$f":"J516-G516*(SIN(4*RADIANS('متغیرها '!C571))-SIN(3*RADIANS('متغیرها '!C571)))","v":-13.239563808585018},{"$f":"K516+G516*(COS(3*RADIANS('متغیرها '!C571))-COS(4*RADIANS('متغیرها '!C571)))","v":52.260985053829387},null,{"$f":"J508","v":30.981521235359484},{"$f":"K508","v":25.488044571368619},"7'",null,{"$f":"BR530","v":38.935780829593384},{"$f":"BS530","v":43.341974285614356},1,null,"e5  7",{"$f":"ATAN((R517-R516)/(Q516-Q517))","v":0.77667153121065546},null,null,"e15",{"$f":"SQRT(POWER((Q540-Q541),2)+POWER((R540-R541),2))+Z511","v":9.3203840546647854},null,"e15",{"$f":"SQRT(POWER((BN508-BN509),2)+POWER((BO508-BO509),2))+AC511","v":9.3203840546647854},null,"کارور پشت",{"$f":"H129","v":38.76},"v3",null,null,null,37.132525025672678,114.58285372837247,"14f",null,{"$f":"BK120-'متغیرها '!C56","v":38.227432823269979},{"$f":"BL120-'متغیرها '!C57","v":113.47256984720475},14,null,{"$f":"DX108","v":38.227431620563742},{"$f":"DY108","v":113.47336403606502},"b8p",null,{"$f":"DL167-DI161","v":34.785538025546387},{"$f":"DM167-DI162","v":122.47080584720476},"12p","نقطه ساسون",36.668303302946882,116.27239929411293,"14f",null,37.364610316350017,115.19581574358867,14,null,null,"(14→15)",{"$f":"0.4*BK508","v":7.1540248773296939},{"$f":"0.4*BL508","v":6.5460702857542561},null,null,null,null,null,{"$f":"BK499-BK500-BK505-BX498+'متغیرها '!C521","v":24.751061641125577},{"$f":"BK517+'متغیرها '!C522","v":43.341974285614356},8,null,{"$f":"BL499+'متغیرها '!C521","v":38.176003903346029},{"$f":"BL517+'متغیرها '!C522","v":44.634824285614357},1,null,{"$f":"IF('متغیرها '!C538=1,IF((CA512-CA501)<(CA503-CA501),BZ501,IF((CA512-CA501)<(CA508-CA501),(CA512-CA503)*TAN(BK531)+BZ503,BZ508+(CA512-CA508)*TAN(BK532))),BZ510)","v":33.229986725137721},{"$f":"CA501+'متغیرها '!C541*(CA508-CA501)","v":9.6074999999999999},"z14",null,"b5",{"$f":"ATAN((BK520)/BK516)","v":8.7294253365829078E-2},null,null,null,null,null,"(a5 → a6)",{"$f":"(BK509-CL500-CL510-CL511)*SIN(CL503+RADIANS('متغیرها '!C564))","v":1.6802875801555182},null,{"$f":"CV527+CK554","v":17.829374890564818},{"$f":"CW527","v":2.1532098934889277E-2},"a''23",null,null,null,null,null,{"$f":"CK547","v":8.8534354068678933},{"$f":"CL547","v":43.341974285614356},"12تکه زیر",null,-10.255842162545411,27.677036478938586,"a'9 یا z4",null,"نقاط  ورودی رگلان بدون درز  و  با درز",null,null,null,null,null,null,"(9 →14)",{"$f":"0.7*DL510","v":4.0284386126101026},null,"(40 →41)",{"$f":"DR515*COS(DR514)","v":-0.70892033997869375},null,"(36→ 39)",{"$f":"SQRT(POWER((DD520-DD517),2)+POWER((DE517-DE520),2))","v":18.96683445633699},null,null,{"$f":"DU513+0.55*(DU511-DU513)","v":1.9135434065648331},{"$f":"DV513+0.3*(DV511-DV513)","v":47.369646720098388},"36'",null,null,null,null,null,{"$f":"BN525","v":3.0051952980868037},{"$f":"BO525","v":2.7677036478938613},"z2",null,null,null,null,null,{"$f":"EC507-EL501","v":-30.984190153207912},57.828874662206985,13,null,{"$f":"EK505+SQRT(POWER(EK512-EK505,2)+POWER(EL512-EL505,2))*SIN(EL502-ATAN((EK505-EK512)/(EL512-EL505+0.001)))","v":-33.645784461359611},{"$f":"EL505+SQRT(POWER(EK512-EK505,2)+POWER(EL512-EL505,2))*COS(EL502-ATAN((EK505-EK512)/(EL512-EL505+0.001)))","v":50.316446342772771},"q13",null,{"$f":"EC551","v":9.6309867285074766},{"$f":"ED551","v":57.410332755813606},"q31"]
[null,null,null,null,null,"m'9",{"$f":"G500+BK506","v":32.698531334704853},null,"k9",{"$f":"J509-G519*COS(RADIANS('متغیرها '!C571))","v":18.95372394812723},{"$f":"K509+G519*SIN(RADIANS('متغیرها '!C571))","v":27.891789691405894},null,{"$f":"J514","v":18.95372394812723},{"$f":"K514","v":27.891789691405894},"k9",null,{"$f":"BR530","v":38.935780829593384},{"$f":"BS530","v":43.341974285614356},1,null,"en'2n''15",{"$f":"ATAN((R521-R522)/(Q521-Q522))","v":1.2292373053283145},null,null,"e5, 7",{"$f":"ATAN((R536-R535)/(Q535-Q536))","v":0.95034748030145799},null,"e5, 7",{"$f":"ATAN((BO504-BO503)/(BN503-BN504))","v":0.95034748030145799},null,{"$f":"BK114-'متغیرها '!C56","v":40.811706522700881},{"$f":"BL114-'متغیرها '!C57","v":112.47276584720476},9,"نقطه انتهایی\n زیر حلقه",null,null,{"$f":"BK122-'متغیرها '!C56","v":39.087906522700877},{"$f":"BL122-'متغیرها '!C57","v":112.47276584720476},8,null,{"$f":"BK122-'متغیرها '!C56","v":39.087906522700877},{"$f":"BL122-'متغیرها '!C57","v":112.47276584720476},8,null,{"$f":"CE115","v":39.087974600262015},{"$f":"CF115","v":112.47361966577814},"b4",null,{"$f":"DL169-DI161","v":38.227432823269979},{"$f":"DM169-DI162","v":113.47256984720475},14,null,{"$f":"CI174","v":38.205762895437516},{"$f":"CJ174","v":114.34581574358867},8,null,{"$f":"CA425","v":38.205762895437516},{"$f":"CB425","v":114.34581574358867},8,null,null,"(16→ 17)",{"$f":"0.15*BK508","v":2.6827593289986349},{"$f":"0.15*BL508","v":2.4547763571578458},null,null,null,null,null,{"$f":"BK499-BK500-BK507-BX498+'متغیرها '!C521","v":16.443782182147039},{"$f":"BK517+BK508+'متغیرها '!C522","v":61.227036478938587},11,null,null,null,null,null,null,null,null,null,"(3 → b1)",{"$f":"BK516-'متغیرها '!C520*0.45*H131","v":40.596974285614351},null,{"$f":"BK499-BK500-CE515-BX498-CE508+'متغیرها '!C521","v":10.851819069969061},{"$f":"BK517-CE514-CE510+CE502-CE503+'متغیرها '!C522","v":9.8875000000000064},"c6",null,"(a12 →a16)",{"$f":"CL508","v":1.0448017936921048},null,null,null,null,null,{"$f":"BR514+CK554","v":16.443782182147039},{"$f":"BS514","v":61.227036478938587},11,null,null,null,"محاسبات",null,null,null,null,null,{"$f":"BK104","v":23.348421281192373},{"$f":"BL104","v":139.03229312467974},23,"نقطه اتصال سرشانه به گردن",null,null,null,"(9 →16)",{"$f":"0.3*DL510","v":1.7264736911186154},null,"(42 →43)",{"$f":"DR516*SIN(DQ526)","v":4.1321085515227738},null,"γ26",{"$f":"DQ522-DQ526","v":1.845620095032362},{"$f":"DEGREES(DR514)","v":105.74624202988825},null,null,null,null,null,{"$f":"DY516","v":38.162350604059277},{"$f":"DZ516","v":27.45},"27 یا z1",null,null,{"$f":"'متغیرها '!C557","v":0.30000000000000004},"q'20",null,{"$f":"IF(ED530>(ED533+ED534+ED535),EO514,EO516)","v":-33.881078060442732},{"$f":"IF(ED530>(ED533+ED534+ED535),EP514,EP516)","v":49.824804835186015},"q46 یا q17",null,{"$f":"EC509-EL501","v":-40.219735963544437},46.024733614612991,17,null,{"$f":"EK505+SQRT(POWER(EK514-EK505,2)+POWER(EL514-EL505,2))*SIN(EL502-ATAN((EK505-EK514)/(EL514-EL505+0.001)))","v":-39.718029496191491},{"$f":"EL505+SQRT(POWER(EK514-EK505,2)+POWER(EL514-EL505,2))*COS(EL502-ATAN((EK505-EK514)/(EL514-EL505+0.0001)))","v":36.612921106495222},"q17",null,{"$f":"EC549","v":28.665427919730515},{"$f":"ED549","v":2.7677036478938613},"q30"]
[null,null,null,null,null,"m'11",{"$f":"G500+BK508","v":35.738991907569968},null,"k11",{"$f":"J510-G520*COS(2*RADIANS('متغیرها '!C571))","v":3.8731458892659054},{"$f":"K510+G520*SIN(2*RADIANS('متغیرها '!C571))","v":35.31202651651305},null,{"$f":"J510","v":11.067460937077968},{"$f":"K510","v":31.15838678702378},"m9",null,{"$f":"BN502","v":37.211980829593386},{"$f":"BO502","v":43.341974285614356},3,null,"en''15n''13",{"$f":"ATAN((R520-R521)/(Q520-Q521))","v":1.054472132129324},null,null,"e7, 9",{"$f":"ATAN((R537-R536)/(Q536-Q537))","v":1.25111622371247},null,"e7, 9",{"$f":"ATAN((BO505-BO504)/(BN504-BN505))","v":0.98931683591332042},null,{"$f":"BK122-'متغیرها '!C56","v":39.087906522700877},{"$f":"BL122-'متغیرها '!C57","v":112.47276584720476},8,null,null,null,"متغیر های محاسبه ای برای رسم آستین ",null,null,null,"متغیر های محاسبه ای برای رسم آستین ",null,null,null,"متغیر های محاسبه ای برای رسم آستین ",null,null,null,{"$f":"DL170-DI161","v":40.811706522700881},{"$f":"DM170-DI162","v":112.47276584720476},9,"نقطه انتهایی\n زیر حلقه","متغیر های محاسبه ای برای رسم شبیه ساز آستین",null,null,null,"متغیر های محاسبه ای برای رسم شبیه ساز آستین ",null,null,null,null,"(3 → 18)",{"$f":"AH520-BK500","v":37.515490268119386},{"$f":"AI520-BL500","v":34.728403903346035},null,{"$f":"BK499-BX498+'متغیرها '!C521","v":38.935780829593384},{"$f":"BK517+'متغیرها '!C522","v":43.341974285614356},1,null,{"$f":"BK499-BK500-BK507-BX498+'متغیرها '!C521","v":16.443782182147039},{"$f":"BK517+'متغیرها '!C522","v":43.341974285614356},10,null,{"$f":"BV513","v":33.809422033170954},{"$f":"BW513","v":27.449999999999992},25,null,"رسم مچ آستین",null,null,null,"(b1 →b2)",{"$f":"CE514*TAN(CE512)","v":3.5529118829304305},null,{"$f":"BK499-BK500-CE515-BX498-CE508-CE503+'متغیرها '!C521","v":10.064319069969061},{"$f":"BK517-CE514-CE510+CE502+'متغیرها '!C522","v":10.675000000000006},"c9",null,"(a17 →a14)",{"$f":"CL510","v":4.3528275687488307},null,{"$f":"CV506","v":7.9591662599740953},{"$f":"CW506","v":2.3940147690943712},"a26",null,{"$f":"BN505+CK554","v":24.751061641125577},{"$f":"BO505","v":58.186575906073472},9,null,"(a13→a23)",{"$f":"SQRT(POWER(CV503-CV502,2)+POWER(CW503-CW502,2))","v":3.1500000000000004},null,null,{"$f":"CR532","v":-11.730079700226872},49.780596675211079,"7''",null,{"$f":"IF('متغیرها '!C500=3,BK114-DE524,CE138)","v":40.811706522700881},{"$f":"IF('متغیرها '!C500=3,BL114-DE525,CF138)","v":112.47276584720476},9,"نقطه انتهایی\n زیر حلقه","b14",null,null,"(16 →17)",{"$f":"DL505+0.2*(DL511-DL505)","v":18.076914829437012},null,"(r19 →r23)",{"$f":"DR517*BL520-(DE552-1)*0.5*H132*(1-DE560)","v":1.3844613661711094},null,"(39→ 41)",{"$f":"DE534","v":2.6123050096088436},null,null,{"$f":"DU561","v":17.50904778322689},{"$f":"DV561","v":2.7450000000000014},"چپ z2",null,null,null,null,null,null,{"$f":"'متغیرها '!C558","v":0.7},"q21",null,{"$f":"IF(ED530>(ED533+ED534),EO513,EO516)","v":-33.881078060442732},{"$f":"IF(ED530>(ED533+ED534),EP513,EP516)","v":49.824804835186015},"q46 یا q15",null,{"$f":"EC510-EL501","v":-42.990399706645391},43.341974285614356,2,null,{"$f":"EK505+SQRT(POWER(EK515-EK505,2)+POWER(EL515-EL505,2))*SIN(EL502-ATAN((EK505-EK515)/(EL515-EL505+0.0001)))","v":-41.74917382975346},{"$f":"EL505+SQRT(POWER(EK515-EK505,2)+POWER(EL515-EL505,2))*COS(EL502-ATAN((EK505-EK515)/(EL515-EL505+0.0001)))","v":33.33456435101926},"q1"]
[null,null,null,null,null,"m'17",{"$f":"G500+BK514","v":20.536689043244372},null,"k17",{"$f":"J513-G523*COS(5*RADIANS('متغیرها '!C571))","v":-19.598313105865888},{"$f":"K513+G523*SIN(5*RADIANS('متغیرها '!C571))","v":66.604340587519303},null,{"$f":"J516","v":-8.1000036368765542},{"$f":"K516","v":45.562979832814818},"k13",null,{"$f":"0.5*(J528+J529)","v":20.510817838963675},{"$f":"0.5*(K528+K529)","v":57.332959598548761},"(n'9,n''9)",null,"xf1",{"$f":"IF(OR('متغیرها '!C500=0,'متغیرها '!C500=1),Q517+IF(V500<V508,(V508-V500)*COS(V512),-(V516-V509+V500)*COS(V513)),V522)","v":-8.2811132281023134},null,null,"(7→9)",{"$f":"SQRT(POWER((Q537-Q536),2)+POWER((R537-R536),2))","v":11.343352263092941},null,"(7→9)",{"$f":"SQRT(POWER((BN505-BN504),2)+POWER((BO505-BO504),2))","v":11.343352263092941},null,null,null,null,null,null,null," گشادترین قسمت پشت آستین","w5",{"$f":"(1+'متغیرها '!C519)*SQRT(AM525*AM525-AM520*AM520)","v":18.471091620673036},null,null,"w5",{"$f":"(1+'متغیرها '!C519)*SQRT(AQ525*AQ525-AQ520*AQ520)","v":19.079122388827244},null,null,"w5",{"$f":"(1+'متغیرها '!C519)*SQRT(AU525*AU525-AU520*AU520)","v":20.233372003802664},null,null,"w3",{"$f":"(AY519+AY520)","v":39.954553126036487},null," گشادترین قسمت پشت آستین","w5",{"$f":"SQRT(BC525*BC525-BC520*BC520)","v":16.443782182147036},null,null,"w5",{"$f":"SQRT(BG525*BG525-BG520*BG520)","v":17.597502754746284},null,null,"(3 → 21)",{"$f":"0.55*H131-BK508","v":15.66493780667577},{"$f":"0.55*'متغیرها '!U83-BL508","v":17.184824285614365},null,{"$f":"BN516","v":35.841037682768118},{"$f":"BO516","v":27.677036478938586},"25 یا z1",null,{"$f":"BK499-BK500-BK509-BX498+'متغیرها '!C521","v":9.9789001149114753},{"$f":"BK517+'متغیرها '!C522","v":43.341974285614356},12,null,{"$f":"BV516","v":30.432285967972604},{"$f":"BW516","v":5.4899999999999984},28,null,{"$f":"IF('متغیرها '!C538=1,IF(CA511<CA504,IF(CA513<CA504,BZ513,BZ504),BZ511),BZ511)","v":6.003705086018698},{"$f":"CA521","v":5.535407295787719},"z15 یا 30' یا z13",null,"w3  مچ ",{"$f":"AI520*'متغیرها '!#REF!","v":{"$error":"#REF!"}},null,null,null,null,null,"(a'19→ a'7)",{"$f":"CL511","v":1.8683387376512468},null,{"$f":"CP557","v":-9.9011510825726035},{"$f":"CQ557","v":4.2799624700338272},"z4",null,null,null,"انحنا تکه زیر",null,"αa23",{"$f":"ATAN((CV502-CV501)/(CW501-CW502+0.00123))","v":0.11889833946911793},null,null,-0.38211040346862779,45.2199058159134,"17'",null,{"$f":"IF('متغیرها '!C500=3,CQ123,CE133)","v":34.594792081207657},{"$f":"IF('متغیرها '!C500=3,CR123,CF133)","v":118.33412107267063},"16f",null,"b10",null,null,"(7 →20)",{"$f":"0.3*DL508","v":0.89452030181282616},null,"(r22 →r26)",{"$f":"DO517","v":0.53303055828406398},null,"β'1",{"$f":"ATAN(DO515/(BL516))","v":3.1007574332600568E-2},null,null,null,null,"انحنا جلو",null,null,null,null,null,null,{"$f":"'متغیرها '!C561","v":0.15000000000000013},"q'22",null,{"$f":"EO510","v":-19.408825189499264},{"$f":"EP510","v":54.271355142940749},"q9",null,{"$f":"EC549-EL501","v":-12.297662348388872},{"$f":"ED549","v":2.7677036478938613},"q30",null,{"$f":"EK505+IF(EL518>EL505,1,-1)*SQRT(POWER(EK518-EK505,2)+POWER(EL518-EL505,2))*SIN(EL502-ATAN((EK505-EK518)/(EL518-EL505+0.0001)))","v":-2.0739618331748648},{"$f":"EL505+IF(EL518>EL505,1,-1)*SQRT(POWER(EK518-EK505,2)+POWER(EL518-EL505,2))*COS(EL502-ATAN((EK505-EK518)/(EL518-EL505)))","v":1.4880687029909225},"q44"]
[null,null,null,null,null,"k'7",{"$f":"BN504-BN505","v":6.2304595942339063},null,"k2",{"$f":"J518-G524*COS(5*RADIANS('متغیرها '!C571))","v":-19.464852371692146},{"$f":"K518+G524*SIN(5*RADIANS('متغیرها '!C571))","v":66.106258346767461},null,{"$f":"J512","v":-13.239563808585018},{"$f":"K512","v":52.260985053829387},"m13",null,{"$f":"0.5*(J530+J531)","v":8.8657259158443598},{"$f":"0.5*(K530+K531)","v":58.361106100588998},"(n'11,n''11)",null,"yf1",{"$f":"IF(OR('متغیرها '!C500=0,'متغیرها '!C500=1),R517+IF(V500<V508,-(V508-V500)*SIN(V512),(V516-V509+V500)*SIN(V513)),V523)","v":33.42764043846794},null,null,"(15→13)",{"$f":"SQRT(POWER((Q540-Q539),2)+POWER((R540-R539),2))","v":9.535496765349361},null,"(15→13)",{"$f":"SQRT(POWER((BN508-BN507),2)+POWER((BO508-BO507),2))","v":9.535496765349361},null,null,null,"متغیرهای محاسبه شده آستین",null,"شبیه ساز",null,"فاصله عمودی حلقه جلو بالاتنه - شبیه ساز","w6",{"$f":"AQ519","v":20.173651907530655},null,null,"w6",{"$f":"AP501-AP506","v":20.173651907530655},null,null,"w6",{"$f":"AT501-AT506","v":18.423558990597883},null,null,"w4",{"$f":"(1+'متغیرها '!C519)*SQRT(AY526*AY526-AY522*AY522)","v":19.725304693129278},null,"فاصله عمودی حلقه جلو بالاتنه - شبیه ساز","w6",{"$f":"BG519","v":17.984204263156144},null,null,"w6",{"$f":"BF501-BF506","v":17.984204263156144},null,null,"(18→22)",{"$f":"BK518","v":15.66493780667577},{"$f":"BL518","v":17.184824285614365},null,{"$f":"IF((BS540-BS533)>(BS532-BS533),BR540,BR532)","v":33.903276092980576},{"$f":"IF((BS540-BS533)>(BS532-BS533),BS540,BS532)","v":5.535407295787719},"28 یا z1",null,{"$f":"BK499-BK500-BK511-BX498+'متغیرها '!C521","v":3.883439880089373},{"$f":"BK517+'متغیرها '!C522","v":43.341974285614356},14,null,{"$f":"BL499-BL500-BL524+'متغیرها '!C521","v":30.432285967972604},{"$f":"0+'متغیرها '!C522","v":0},27,null,{"$f":"BZ511","v":6.003705086018698},{"$f":"CA511","v":0},"z13",null,"b8",{"$f":"ATAN(CE529/BL516)","v":0},null,null,null,null,null,"(a'7 → a'8)",{"$f":"CL512","v":1.6802875801555182},null,null,null,null,null,{"$f":"BK499-BK500-BK509-BX498-0.03*BK515+CS546","v":8.8534354068678933},{"$f":"BK517+BK510+CS547","v":57.828874662206985},13,null,"αa10",{"$f":"ATAN((CV504-CV505)/(CW505-CW504+0.000123))","v":-1.5158393239060375E-2},null,null,4.7085224471888658,52.642206626142965,"15'",null,"β''7 با  α4",{"$f":"IF('متغیرها '!C500=3,'متغیرها '!B245,DE526)","v":0.27820102979369776},"زاویه سرشانه با افق",null,"β''7",null,null,"(20→21)",{"$f":"DL507+0.2*(DL509-DL507)","v":18.479351940899289},null,"(r19 →r27)",{"$f":"DO515-DO520*TAN(DR518)","v":1.2127667830805307},null,null,null,null,null,{"$f":"DQ535+DR529","v":31.199936233184566},{"$f":"DR535","v":69.230427147613852},27,null,{"$f":"DY517","v":33.312259788109714},{"$f":"DZ517","v":5.490000000000002},"30 یا z1",null,"نقاط  خروجی و محاسبات",null,null,null,{"$f":"EO509","v":-11.051367174531443},{"$f":"EP509","v":46.601639627182301},"q7",null,{"$f":"EC552-EL501","v":-25.913080127094375},{"$f":"ED552","v":28.661435112512002},"q43",null,{"$f":"EK505+IF(EL519>EL505,1,-1)*SQRT(POWER(EK519-EK505,2)+POWER(EL519-EL505,2))*SIN(EL502-ATAN((EK505-EK519)/(EL519-EL505)))","v":-21.602765251237461},{"$f":"EL505+IF(EL519>EL505,1,-1)*SQRT(POWER(EK519-EK505,2)+POWER(EL519-EL505,2))*COS(EL502-ATAN((EK505-EK519)/(EL519-EL505)))","v":23.270855693855555},"q45",null,{"$f":"EC511","v":33.903276092980576},{"$f":"ED511","v":2.7677036478938613},"z1"]
[null,null,null,null,null,"k'11",{"$f":"BN506-BN507","v":6.464882067235564},null,"n9",{"$f":"J539-G519*COS(RADIANS('متغیرها '!C575))","v":24.774770420908819},{"$f":"K539-G519*SIN(RADIANS('متغیرها '!C575))","v":24.94502423777389},null,{"$f":"J513","v":-18.785599155671047},{"$f":"K513","v":63.571250833372147},"m15",null,{"$f":"0.5*(J534+J535)","v":-4.9397796087816657},{"$f":"0.5*(K534+K535)","v":42.826822699288385},"(n'15,n''15)",null,"yf2",{"$f":"IF(OR('متغیرها '!C500=0,'متغیرها '!C500=1),R517+IF(V501<V508,-(V508-V501)*SIN(V512),(V516-V509+V501)*SIN(V513)),V525)","v":33.42764043846794},null,null,"yf1",{"$f":"R536+IF(Z500<Z509,-(Z509-Z500)*SIN(Z514),(Z518-Z510+Z500)*SIN(Z515))","v":40.413655732269177},null,"yf1",{"$f":"BO504+IF(AC500<AC509,-(AC509-AC500)*SIN(AC514),(AC518-AC510+AC500)*SIN(AC515))","v":40.413655732269177},null,null,"گشادترین قسمت جلو آستین","w4",{"$f":"IF('متغیرها '!C500=0,AQ517,IF('متغیرها '!C500=1,AU517,IF('متغیرها '!C500=2,AY519,IF('متغیرها '!C500=3,AM517,0))))","v":20.768198647446344},{"$f":"IF('متغیرها '!C500=3,BC517,BG517)","v":20.008421721198992},null,"فاصله عمودی حلقه پشت بالاتنه - شبیه ساز","w8",{"$f":"AQ521","v":22.549737899823612},null,null,"w8",{"$f":"AP508-AP513","v":22.549737899823612},null,null,"w8",{"$f":"AT508-AT513","v":23.084547143991813},null,null,"w6",{"$f":"AX501-AX506","v":24.189978055017008},null,"فاصله عمودی حلقه پشت بالاتنه - شبیه ساز","w8",{"$f":"BG521","v":20.482588409855367},null,null,"w8",{"$f":"BF508-BF513","v":20.482588409855367},null,null,"(20→24) ",{"$f":"BK520","v":3.7931451340596887},{"$f":"BL520","v":6.8642019516730173},null,{"$f":"BN519","v":33.903276092980576},{"$f":"BO519","v":5.535407295787719},"28 یا z1",null,{"$f":"BK499-BK500-BK511-BX498+'متغیرها '!C521","v":3.883439880089373},{"$f":"BK517+'متغیرها '!C522","v":43.341974285614356},14,null,{"$f":"BV519","v":30.432285967972604},{"$f":"BW519","v":0},27,null,{"$f":"IF('متغیرها '!C538=1,IF(CA510<CA503,IF(CA512<CA503,BZ512,BZ503),BZ510),BZ510)","v":33.229986725137721},{"$f":"IF(CA510<CA503,IF(CA512<CA503,CA512,CA503),CA510)","v":5.535407295787719},"z14 یا 28' یا z12",null,"مولفه افقی  b6",{"$f":"CE518+CE520","v":{"$error":"#REF!"}},null,null,null,null,null,"(a'20 → a'9)",{"$f":"CL513","v":1.4742375376814609},null,null,null,null,null,{"$f":"IF((CQ548-CQ546)>(CQ544-CQ546),CP548,CP544)","v":7.8086336131757879},{"$f":"IF((CQ548-CQ546)>(CQ544-CQ546),CQ548,CQ544)","v":27.677036478938586},"a12 یا z3",null,"α'a6",{"$f":"2*CW520-CW519","v":0.2225879271173741},null,null,null,null,null,null,null,{"$f":"SQRT(POWER((DD515-DD522),2)+POWER((DE515-DE522),2))+SQRT(POWER((DD522-DD518),2)+POWER((DE522-DE518),2))+SQRT(POWER((DD518-DD520),2)+POWER((DE518-DE520),2))","v":13.572036379633232},null,"محاسبه برای شیفت حلقه ",null,"رگلان با درز",null,"(13→23)",{"$f":"DD502-DD501","v":1.7237999999999971},null,"(r20 →r29)",{"$f":"DO519","v":1.2127667830805307},null,{"$f":"DE530","v":0.64524637843791022},{"$f":"DEGREES(DQ521)","v":36.969894230593383},"γ1",null,{"$f":"DU529","v":26.123641018002516},{"$f":"DV529","v":71.343494975648753},30,null,null,null,null,null,null,{"$f":"SQRT(POWER((EC502-EC503),2)+POWER((ED502-ED503),2))","v":4.1834593895995464},"q4",null,{"$f":"EO507","v":-3.6988998364113304},{"$f":"EP507","v":42.92093749185689},"q3"]
[null,null,null,null,null,"k'13",{"$f":"BN507-BN508","v":6.0954602348221023},null,"n11",{"$f":"J521-G520*COS(2*RADIANS('متغیرها '!C575))","v":16.593697203267695},{"$f":"K521-G520*SIN(2*RADIANS('متغیرها '!C575))","v":23.502480298352342},null,{"$f":"J519","v":-19.464852371692146},{"$f":"K519","v":66.106258346767461},"k2",null,{"$f":"J537","v":-8.2811132281023134},{"$f":"K537","v":33.42764043846794},"n'2",null,"xf3",{"$f":"Q521+IF(V502<V510,-(V510-V502)*COS(V514),(V517-V511+V502)*COS(V515))","v":-8.2811132281023134},null,null,"xf2",{"$f":"Q536+IF(Z501<Z509,(Z509-Z501)*COS(Z514),-(Z518-Z510+Z501)*COS(Z515))","v":36.908188095209631},null,"xf2",{"$f":"BN504+IF(AC501<AC509,(AC509-AC501)*COS(AC514),-(AC518-AC510+AC501)*COS(AC515))","v":36.908188095209631},null,null," گشادترین قسمت پشت آستین","w5",{"$f":"IF('متغیرها '!C500=0,AQ518,IF('متغیرها '!C500=1,AU518,IF('متغیرها '!C500=2,AY520,IF('متغیرها '!C500=3,AM518,0))))","v":18.471091620673036},{"$f":"IF('متغیرها '!C500=3,BC518,BG518)","v":16.443782182147036},null,"زاویه حلقه جلو آستین با افق","α8",{"$f":"ASIN(AM520/AM524)","v":0.7109462990581481},null,null,"α8",{"$f":"ASIN(AQ520/AQ524)","v":0.73856193686296534},null,null,"α8",{"$f":"ASIN(AU520/AU524)","v":0.67347981195156492},null,null,"w7",{"$f":"0.75*0.5*(AY521+AY523)*(1+0.5*'متغیرها '!C518)+0.5*0.5*H167*('متغیرها '!C76-3*'متغیرها '!C78)","v":14.647633173319418},null,"زاویه حلقه جلو آستین با افق","α8",{"$f":"ASIN(BC520/BC524)","v":0.68556928782130311},null,null,"α8",{"$f":"ASIN(BG520/BG524)","v":0.75095186867409658},null,null,"(21→25)",{"$f":"BK518*TAN(AH533)","v":1.3709431468252649},{"$f":"BL518*TAN(AI533)","v":2.6427818701750798},null,{"$f":"BR540","v":33.903276092980576},{"$f":"BS540","v":2.7677036478938613},"z1",null,{"$f":"BK499-BK500-BK513-BX498+'متغیرها '!C521","v":0.74335430457495377},{"$f":"BK517+'متغیرها '!C522","v":43.341974285614356},16,null,{"$f":"BL500+BL526+'متغیرها '!C521","v":7.7437179353734269},{"$f":"0+'متغیرها '!C522","v":0},29,null,{"$f":"IF('متغیرها '!C538=1,IF(CA510<CA508,IF(CA512<CA508,BZ512,BZ508),BZ510),BZ510)","v":33.229986725137721},{"$f":"IF(CA510<CA508,IF(CA512<CA508,CA512,CA508),CA510)","v":9.6074999999999999},"z14 یا 25' یا z12",null,null,null,null,null,null,null,null,"(2→ 4')",{"$f":"0.5*CL524","v":4.2886527768286449},null,null,null,null,null,{"$f":"CP548","v":4.8314104156247355},{"$f":"CQ548","v":2.7677036478938613},"z3",null,"αa26",{"$f":"ATAN((CW508-CW506)/(CV506-CV508))","v":0.10520444021173794},null,null,null,null,"انحنا تکه رو",null,{"$f":"IF('متغیرها '!C500=3,CQ124,CE132)","v":37.132525025672678},{"$f":"IF('متغیرها '!C500=3,CR124,CF132)","v":114.58285372837247},"14f",null,"b8","رگلان با درز",null,"(1→24)",{"$f":"DL511-DL520-(DL499-DL506-DL508)*TAN(DE548)","v":10.983928753158796},null,"(r29 →r30)",{"$f":"DO520","v":5.535407295787719},null,{"$f":"RADIANS(180)-DQ521-DE519","v":2.2181452453581851},127.09036090603446,"γ2",null,null,null,null,null,{"$f":"DN540","v":33.312259788109714},{"$f":"DO540","v":2.7450000000000023},"z1",null,null,{"$f":"SQRT(POWER((EC503-EC504),2)+POWER((ED503-ED504),2))","v":4.2865188969777499},"q6",null,{"$f":"EC510","v":-2.0273094385260002},{"$f":"ED510","v":43.341974285614356},2,null,null,null,null,null,null,null,null,null,{"$f":"EC510","v":-2.0273094385260002},{"$f":"ED510","v":43.341974285614356},2]
[null,null,null,null,null,"کلوش معکوس",null,null,"n17",{"$f":"J524-G523*COS(5*RADIANS('متغیرها '!C575))","v":1.7753576386053536},{"$f":"K524-G523*SIN(5*RADIANS('متغیرها '!C575))","v":18.417418004219304},null,{"$f":"J519","v":-19.464852371692146},{"$f":"K519","v":66.106258346767461},"k2",null," کاپ کلوش معکوس",null,null,null,"yf4",{"$f":"R521+IF(V503<V510,-(V510-V503)*SIN(V514),(V517-V511+V503)*SIN(V515))","v":33.42764043846794},null,null,"yf3",{"$f":"IF(OR('متغیرها '!C500=0,'متغیرها '!C500=1),R540+IF(Z504<Z512,-(Z512-Z504)*SIN(Z516),(Z519-Z513+Z504)*SIN(Z517)),Z521)","v":40.413655732269177},null,"yf3",{"$f":"IF(OR('متغیرها '!C500=0,'متغیرها '!C500=1),BO508+IF(AC504<AC512,-(AC512-AC504)*SIN(AC516),(AC519-AC513+AC504)*SIN(AC517)),AC521)","v":40.413655732269177},null,null,"فاصله عمودی حلقه پشت بالاتنه - شبیه ساز","w8",{"$f":"IF('متغیرها '!C500=0,AQ521,IF('متغیرها '!C500=1,AU521,IF('متغیرها '!C500=2,AY523,IF('متغیرها '!C500=3,AM521,0))))","v":22.549737899823612},{"$f":"IF('متغیرها '!C500=3,BC521,BG521)","v":20.482588409855367},null,"پشت ","h2",{"$f":"0.97*AM528","v":25.711022447938035},null,null,"h2",{"$f":"0.97*AQ528","v":24.430760162946818},null,null,"h2",{"$f":"0.97*AU528","v":25.0706560481823},null,null,"α9",{"$f":"ASIN(AY522/AY527)","v":0.62670616079187957},null,"پشت ","h2",{"$f":"0.97*BC528","v":23.199503197625027},null,null,"h2",{"$f":"0.97*BG528","v":22.75421041118938},null,null,"(27→28) ",{"$f":"'متغیرها '!C515*(BK516-BK518)","v":5.535407295787719},{"$f":"0.2*(BL516-BL518)","v":5.4899999999999984},null,{"$f":"BR541","v":3.0051952980868037},{"$f":"BS541","v":2.7677036478938613},"z2",null,{"$f":"BK499-BK500-BK515-BX498+'متغیرها '!C521","v":-0.30350943852600309},{"$f":"BK517+'متغیرها '!C522","v":43.341974285614356},18,null,{"$f":"BL500+BL526+'متغیرها '!C521","v":7.7437179353734269},{"$f":"BL527+'متغیرها '!C522","v":5.4899999999999984},30,null,null,null,null,null,null,null,null,null,null,null,null,"(6'' → 7'')",{"$f":"CL501","v":6.4386223895967234},null,"نقطه زیر حلقه آستین","7'",{"$f":"CK541","v":30.35847527593609},49.780596675211079,{"$f":"CR526+0.5*(CR524-CR526)","v":-2.5348703334739344},{"$f":"CS524+0.6*(CS526-CS524)","v":3.6750589411778409},"a'4",null,{"$f":"CV502-CW515*SIN(CW518)","v":10.499521311958953},{"$f":"CW502+CW515*COS(CW518)","v":5.5217755031620595},"a'23",null,28.529546658281824,4.2799624700338272,"z1",null,null,{"$f":"'متغیرها '!C57","v":0},"شیفت عمودی",null,null,null,null,"(26 →27)",{"$f":"DL511-DL520-(DL499-DL506-DL508-DL524)*TAN(DE548)","v":17.046542273095756},null,"(35 →35')",{"$f":"(BW501-BW519)*TAN(RADIANS(DE557))-(1-DR517)*BL520+(DE552-1)*0.5*H132*DE560","v":1.1350714339959009},null,{"$f":"DQ526+RADIANS(DE553)","v":0.42488502788565308},24.344118876146212,"β'3",null,{"$f":"DU524+0.4*(DU526-DU524)","v":34.253851315698263},{"$f":"DV526+0.3*(DV524-DV526)","v":46.987738250663959},"34'",null,{"$f":"DN549","v":4.4056143801349137},{"$f":"DO549","v":2.7450000000000023},"z2",null,null,{"$f":"ATAN((ED506-ED505)/(EC505-EC506))","v":0.3508566145144939},"q12",null,{"$f":"EC507","v":9.9789001149114753},{"$f":"ED507","v":57.828874662206985},13,null,null,null,null,null,null,null,null,null,{"$f":"EC507","v":9.9789001149114753},{"$f":"ED507","v":57.828874662206985},13]
[null,null,null,null,null,"زاویه زیر بغل",{"$f":"ATAN((M500-J538)/G528)","v":0.18202933629247628},null,"n2",{"$f":"J525-G529*COS(5*RADIANS('متغیرها '!C575))","v":2.2426976776561007},{"$f":"K525-G529*SIN(5*RADIANS('متغیرها '!C575))","v":18.635342243391122},null,null,null,null,null,{"$f":"V518","v":-8.2811132281023134},{"$f":"V519","v":33.42764043846794},"f1",null,null,null,null,null,"xf4",{"$f":"IF(OR('متغیرها '!C500=0,'متغیرها '!C500=1),Q540+IF(Z505<Z512,-(Z512-Z505)*COS(Z516),(Z519-Z513+Z505)*COS(Z517)),Z522)","v":36.908188095209631},null,"xf4",{"$f":"IF(OR('متغیرها '!C500=0,'متغیرها '!C500=1),BN508+IF(AC505<AC512,-(AC512-AC505)*COS(AC516),(AC519-AC513+AC505)*COS(AC517)),AC522)","v":36.908188095209631},null,null,"زاویه حلقه جلو آستین با افق","α8",{"$f":"IF('متغیرها '!C500=0,AQ522,IF('متغیرها '!C500=1,AU522,IF('متغیرها '!C500=2,AY524,IF('متغیرها '!C500=3,AM522,0))))","v":0.7109462990581481},{"$f":"IF('متغیرها '!C500=3,BC522,BG522)","v":0.68556928782130311},null,null," حلقه کل بالاتنه",{"$f":"1.01*AM527+AM528","v":55.645144490504919},null,null," حلقه کل بالاتنه",{"$f":"1.01*AQ527+AQ528","v":49.284000153461932},null,null," حلقه کل بالاتنه",{"$f":"1.01*AU527+AU528","v":51.079939770211965},null,null,"h1",{"$f":"0.95*AY529","v":24.569102605038619},null,null," حلقه کل بالاتنه",{"$f":"1.01*BC527+BC528","v":51.398275917110979},null,null," حلقه کل بالاتنه",{"$f":"1.01*BG527+BG528","v":45.93386555006628},null,null,"(20→29)",{"$f":"BK524","v":3.3087047366128037},{"$f":"BL524","v":6.0199179353734298},null,null,null,null,null,{"$f":"BK499-BK500-BX498+'متغیرها '!C521","v":37.211980829593386},{"$f":"BK516-BK518+'متغیرها '!C522","v":27.677036478938586},21,null,null,null,null,null,null,null,null,null,null,null,null,null,null,null,null,null,null,null,"نقطه آرنج","a10",28.88423773825463,27.677036478938586,{"$f":"CP557","v":-9.9011510825726035},{"$f":"CQ557","v":4.2799624700338272},"z4",null,{"$f":"CV504+CW515*SIN(CW521)","v":29.224923147284322},{"$f":"CW504-CW515*COS(CW521)","v":1.2076747981934179},"a'6",null,null,null,null,null,null,{"$f":"ATAN((DE514-DE523)/(DD523-DD514))","v":0.30950251697114045},"β''7",null,null,null,null,"(26→28)",{"$f":"DL509-DL521-(DL499-DL506-DL508-DL524)*TAN(DE548)","v":21.560284766778175},null,"(35' →35'')",{"$f":"2*(1-DR517)*BL520-(DE552-1)*H132*DE560","v":2.4082811710038081},null,{"$f":"0.5*(DR499+DR510)-0.5*(DE506+DE519)-RADIANS(DE554)","v":0.37252515032582317},21.344118876146212,"β'7",null,{"$f":"BV502+DR529","v":41.452203903346032},{"$f":"BW502","v":44.634824285614357},3,null,{"$f":"DY528","v":4.4056143801349137},{"$f":"DZ528","v":5.490000000000002},"32 یا z2",null,null,{"$f":"ATAN((ED505-ED504)/(EC504-EC505))","v":0.98931683591332042},"q14",null,{"$f":"EC506","v":16.443782182147039},{"$f":"ED506","v":61.227036478938587},11,null,null,null,null,null,null,null,null,null,{"$f":"EC506","v":16.443782182147039},{"$f":"ED506","v":61.227036478938587},11]
[null,null,null,null,null,"k'0",{"$f":"'متغیرها '!C574*BL516","v":17.853929714245737},null,"n'9",{"$f":"J521-G531*SIN(RADIANS('متغیرها '!C575))","v":21.924905635675042},{"$f":"K521+G531*COS(RADIANS('متغیرها '!C575))","v":57.519127788793668},null,{"$f":"J501","v":35.649464406756763},{"$f":"K501","v":25.488044571368619},"k3",null,null,null,null,null,null,null,null,null,"xf5",{"$f":"Q536+IF(Z502<Z509,(Z509-Z502)*COS(Z514),-(Z518-Z510+Z502)*COS(Z515))","v":36.908188095209631},null,"xf5",{"$f":"BN504+IF(AC502<AC509,(AC509-AC502)*COS(AC514),-(AC518-AC510+AC502)*COS(AC515))","v":36.908188095209631},null,null,"جلو","h1",{"$f":"IF('متغیرها '!C500=0,AQ524,IF('متغیرها '!C500=1,AU524,IF('متغیرها '!C500=2,AY526,IF('متغیرها '!C500=3,AM524,0))))","v":27.407909893292995},{"$f":"IF('متغیرها '!C500=3,BC524,BG524)","v":25.84871207499641},null,null,"طول حلقه پشت",{"$f":"SQRT(POWER(AK508-AK509,2)+POWER(AL508-AL509,2))+SQRT(POWER(AK509-AK510,2)+POWER(AL509-AL510,2))+SQRT(POWER(AK511-AK510,2)+POWER(AL510-AL511,2))+SQRT(POWER(AK512-AK511,2)+POWER(AL511-AL512,2))+SQRT(POWER(AK513-AK512,2)+POWER(AL512-AL513,2))","v":26.506208709214469},null,null,"طول حلقه پشت",{"$f":"SQRT(POWER(AO508-AO509,2)+POWER(AP508-AP509,2))+SQRT(POWER(AO509-AO510,2)+POWER(AP509-AP510,2))+SQRT(POWER(AO511-AO510,2)+POWER(AP510-AP511,2))+SQRT(POWER(AO512-AO511,2)+POWER(AP511-AP512,2))+SQRT(POWER(AO513-AO512,2)+POWER(AP512-AP513,2))","v":25.186350683450328},null,null,"طول حلقه پشت",{"$f":"SQRT(POWER(AS508-AS509,2)+POWER(AT508-AT509,2))+SQRT(POWER(AS509-AS510,2)+POWER(AT509-AT510,2))+SQRT(POWER(AS511-AS510,2)+POWER(AT510-AT511,2))+SQRT(POWER(AS512-AS511,2)+POWER(AT511-AT512,2))+SQRT(POWER(AS513-AS512,2)+POWER(AT512-AT513,2))","v":25.846037163074538},null,null," حلقه کل بالاتنه",{"$f":"1.01*AY529+AY530","v":51.86877456689794},null,null,"طول حلقه پشت",{"$f":"SQRT(POWER(BA508-BA509,2)+POWER(BB508-BB509,2))+SQRT(POWER(BA509-BA510,2)+POWER(BB509-BB510,2))+SQRT(POWER(BA511-BA510,2)+POWER(BB510-BB511,2))+SQRT(POWER(BA512-BA511,2)+POWER(BB511-BB512,2))+SQRT(POWER(BA513-BA512,2)+POWER(BB512-BB513,2))","v":23.917013605798999},null,null,"طول حلقه پشت",{"$f":"SQRT(POWER(BE508-BE509,2)+POWER(BF508-BF509,2))+SQRT(POWER(BE509-BE510,2)+POWER(BF509-BF510,2))+SQRT(POWER(BE511-BE510,2)+POWER(BF510-BF511,2))+SQRT(POWER(BE512-BE511,2)+POWER(BF511-BF512,2))+SQRT(POWER(BE513-BE512,2)+POWER(BF512-BF513,2))","v":23.457948877514827},null,null,null,null,null,null,{"$f":"IF((BS540-BS533)>(BS532-BS533),BR541,BR535)","v":3.0051952980868002},{"$f":"IF((BS540-BS533)>(BS532-BS533),BS540,BS532)","v":5.535407295787719},"26 یا z2",null,{"$f":"BK500-BX498+'متغیرها '!C521","v":-0.30350943852600309},{"$f":"BK517-BK519+'متغیرها '!C522","v":27.677036478938586},22,null,{"$f":"BL500+BL523+'متغیرها '!C521","v":4.3665818701750769},{"$f":"BL517-BL519+'متغیرها '!C522","v":27.449999999999992},26,null,null,null,{"$f":"CF542","v":-1.5896990687464481},{"$f":"CG542","v":27.449999999999992},"z15",null,"مولفه افقی","مولفه عمودی","اسم نقطه ",null,null,"(a'21→a17)",{"$f":"'متغیرها '!C565*CL509","v":11.070814591575434},null,"نقطه پایین مچ","a6",{"$f":"CK543","v":28.490136538284844},{"$f":"CL543","v":1.6802875801555182},{"$f":"CP557","v":-9.9011510825726035},{"$f":"CQ557","v":4.2799624700338272},"z4",null,{"$f":"CV506-CW515*SIN(CW522)","v":7.6283832451160478},{"$f":"CW506-CW515*COS(CW522)","v":-0.73856924367869814},"a'26",null,{"$f":"CR505","v":21.265235882218228},{"$f":"CS505","v":3.6750589411778409},"a'13",null,"شیفت",{"$f":"BR537-(-DL509)-'متغیرها '!C521+DE527","v":21.115808330963521},null,null,null,null,null,"(25→31)",{"$f":"DL527","v":1.2125227039873923},null,"(z1 →r1)",{"$f":"0.5*(DI558-DN558)","v":7.7351076042333009},null,{"$f":"DE509-SQRT(POWER((BV503-BV502),2)+POWER((BW503-BW502),2))-SQRT(POWER((BV503-DQ534),2)+POWER((DR534-BW503),2))","v":2.7541158619650172},null,"شیفت حلقه جلو",null,null,null,null,null,{"$f":"IF((DO549-DJ543)>(DJ544-DJ543),DN549,DI544)","v":4.4056143801349137},{"$f":"IF((DO549-DJ543)>(DJ544-DJ543),DO549,DJ544)","v":5.490000000000002},"32 یا z2",null,null,{"$f":"ATAN((ED503-ED502)/(EC502-EC503))","v":0.46552770042370717},"q18",null,{"$f":"IF(ED529>(ED524+ED523),EC504,EC546)","v":26.56753927031119},{"$f":"IF(ED529>(ED524+ED523),ED504,ED546)","v":55.422968842087108},"q24 یا 7",null,null,null,null,null,null,null,null,null,26.56753927031119,55.422968842087108,{"$f":"EI528","v":"q24 یا 7"}]
[null,null,null,null,null,"k'17",{"$f":"BN509-BR525-G528*TAN(AH533)","v":-0.51565267973566309},null,"n''9",{"$f":"J521-G531*SIN(2*RADIANS('متغیرها '!C575))","v":19.096730042252304},{"$f":"K521+G531*COS(2*RADIANS('متغیرها '!C575))","v":57.146791408303855},null,null,null,null,null,{"$f":"V520","v":-8.2811132281023134},{"$f":"V521","v":33.42764043846794},"f2",null,null,null,null,null,"yf5",{"$f":"R536+IF(Z502<Z509,-(Z509-Z502)*SIN(Z514),(Z518-Z510+Z502)*SIN(Z515))","v":40.413655732269177},null,"yf5",{"$f":"BO504+IF(AC502<AC509,-(AC509-AC502)*SIN(AC514),(AC518-AC510+AC502)*SIN(AC515))","v":40.413655732269177},null,null,"پشت ","h2",{"$f":"IF('متغیرها '!C500=0,AQ525,IF('متغیرها '!C500=1,AU525,IF('متغیرها '!C500=2,AY527,IF('متغیرها '!C500=3,AM525,0))))","v":25.711022447938035},{"$f":"IF('متغیرها '!C500=3,BC525,BG525)","v":23.199503197625027},null,null,"طول حلقه جلو تا نقطه 24f",{"$f":"SQRT(POWER(AK502-AK503,2)+POWER(AL502-AL503,2))+SQRT(POWER(AK504-AK503,2)+POWER(AL503-AL504,2))+SQRT(POWER(AK505-AK504,2)+POWER(AL504-AL505,2))+SQRT(POWER(AK506-AK505,2)+POWER(AL505-AL506,2))+AE503-AE502","v":24.747853275689934},null,null,"طول حلقه جلو تا نقطه 24",{"$f":"SQRT(POWER(AO502-AO503,2)+POWER(AP502-AP503,2))+SQRT(POWER(AO504-AO503,2)+POWER(AP503-AP504,2))+SQRT(POWER(AO505-AO504,2)+POWER(AP504-AP505,2))+SQRT(POWER(AO506-AO505,2)+POWER(AP505-AP506,2))+AE503-AE502","v":19.090605404219005},null,null,"طول حلقه جلو تا نقطه b12",{"$f":"SQRT(POWER(AS502-AS503,2)+POWER(AT502-AT503,2))+SQRT(POWER(AS504-AS503,2)+POWER(AT503-AT504,2))+SQRT(POWER(AS505-AS504,2)+POWER(AT504-AT505,2))+SQRT(POWER(AS506-AS505,2)+POWER(AT505-AT506,2))+AK503-AK502","v":18.644219255603801},null,null,"طول حلقه جلو",{"$f":"SQRT(POWER(AW501-AW502,2)+POWER(AX501-AX502,2))+SQRT(POWER(AW502-AW503,2)+POWER(AX502-AX503,2))+SQRT(POWER(AW504-AW503,2)+POWER(AX504-AX505,2))+SQRT(POWER(AW506-AW505,2)+POWER(AX505-AX506,2))+SQRT(POWER(AW507-AW506,2)+POWER(AX506-AX507,2))","v":25.862213268461705},null,null,null,null,null,null,null,null,null,null,null,"محاسبات مچ",null,null,null,null,null,null,{"$f":"BK500+BK523-BX498+'متغیرها '!C521","v":1.0674337082992618},{"$f":"BK517-BK519+'متغیرها '!C522","v":27.677036478938586},26,null,null,null,null,null,null,null,{"$f":"IF(BZ535=1,IF(CG540<CG538,IF(CG542<CG538,CF542,CF538),CF540),CF540)","v":-3.0323781293934005},{"$f":"CC534","v":27.449999999999992},"z15 یا 26' یا z13",null,{"$f":"BV506+BZ540","v":16.443782182147039},{"$f":"BW519+BZ541","v":0},"10'",null,null,"(a21→a22)",{"$f":"'متغیرها '!C566*0.5*'متغیرها '!U84","v":3.15},null,"ضریب کوتاهی آستین","z0",{"$f":"BZ542","v":0.10000000000000009},null,{"$f":"IF((CQ557-CQ555)>(CQ553-CQ555),CP557,CP553)","v":-10.255842162545411},{"$f":"IF((CQ557-CQ555)>(CQ553-CQ555),CQ557,CQ553)","v":27.677036478938586},"a'9 یا z4",null,{"$f":"CV528-CW517*COS(CW522)","v":-10.231934097430653},{"$f":"CW528+CW517*SIN(CW522)","v":1.1473784572607577},"a''8",null,{"$f":"CV533+CK554","v":17.133998401562319},{"$f":"CW533","v":3.0938197707752986},"a''13",null,"محاسبات رگلان",null,null,null,null,null,null,"(29→ 30)",{"$f":"'متغیرها '!C515*DL524","v":5.490000000000002},null,"(r3 →r4)",{"$f":"0.006*('متغیرها '!U82+'متغیرها '!U83)*DE559","v":0.57000000000000006},null,null,{"$f":"'متغیرها '!C511","v":5},"شیفت تکه جلو",null,{"$f":"DQ536+DR529","v":26.123641018002516},{"$f":"DR536","v":71.343494975648753},30,null,{"$f":"IF((DO549-DJ543)>(DJ545-DJ543),DN549,DI545)","v":-0.44447643581465357},{"$f":"IF((DO549-DJ543)>(DJ545-DJ543),DO549,DJ545)","v":27.45},"28 یا z2",null,null,{"$f":"ED513*(ED520+ED521+ED522+ED523+ED524)","v":12.153333080457035},"q25",null,{"$f":"IF(ED529>(ED524+ED523+ED522),EC503,EC546)","v":26.56753927031119},{"$f":"IF(ED529>(ED524+ED523+ED522),ED503,ED546)","v":55.422968842087108},"q24 یا 5",null,null,null,null,null,null,null,null,null,26.56753927031119,55.422968842087108,{"$f":"EI529","v":"q24 یا 5"}]
[null,null,null,null,null,"m'11",{"$f":"G528+BK508","v":35.738991907569968},null,"n'13",{"$f":"J523-G533*SIN(3*RADIANS('متغیرها '!C575))","v":1.9786778886781473},{"$f":"K523+G533*COS(3*RADIANS('متغیرها '!C575))","v":53.068088723377436},null,"رسم خطوط کاپ در آستین کلوش",null,null,null,null,null,null,null,null,null,null,null,null,null,null,null,null,null,null,null,"حلقه پشت بالاتنه",{"$f":"IF('متغیرها '!C500=0,AQ528,IF('متغیرها '!C500=1,AU528,IF('متغیرها '!C500=2,AY530,IF('متغیرها '!C500=3,AM528,0))))","v":26.506208709214469},{"$f":"IF('متغیرها '!C500=3,BC528,BG528)","v":23.917013605798999},null,null,"طول حلقه پشت تا نقطه 20f",{"$f":"SQRT(POWER(AK509-AK510,2)+POWER(AL509-AL510,2))+SQRT(POWER(AK511-AK510,2)+POWER(AL510-AL511,2))+SQRT(POWER(AK512-AK511,2)+POWER(AL511-AL512,2))+SQRT(POWER(AK513-AK512,2)+POWER(AL512-AL513,2))","v":18.730685904979854},null,null,"طول حلقه پشت تا نقطه 26",{"$f":"SQRT(POWER(AO509-AO510,2)+POWER(AP509-AP510,2))+SQRT(POWER(AO511-AO510,2)+POWER(AP510-AP511,2))+SQRT(POWER(AO512-AO511,2)+POWER(AP511-AP512,2))+SQRT(POWER(AO513-AO512,2)+POWER(AP512-AP513,2))","v":19.506338626677003},null,null,"طول حلقه پشت تا نقطه b12",{"$f":"SQRT(POWER(AS509-AS510,2)+POWER(AT509-AT510,2))+SQRT(POWER(AS511-AS510,2)+POWER(AT510-AT511,2))+SQRT(POWER(AS512-AS511,2)+POWER(AT511-AT512,2))+SQRT(POWER(AS513-AS512,2)+POWER(AT512-AT513,2))","v":19.604436623999923},null,null,"طول حلقه جلو تا نقطه 16",{"$f":"SQRT(POWER(AW504-AW503,2)+POWER(AX504-AX505,2))+SQRT(POWER(AW506-AW505,2)+POWER(AX505-AX506,2))+SQRT(POWER(AW507-AW506,2)+POWER(AX506-AX507,2))","v":12.535380034640591},null,null,null,null,null,null,null,null,null,null,"z11",{"$f":"ATAN((BZ505-BZ508)/(CA505-CA508))","v":0.58444701136192878},null,null,null,null,null,null,{"$f":"BK499-BK500-BK524-BX498+'متغیرها '!C521","v":33.903276092980576},{"$f":"BK525+'متغیرها '!C522","v":5.535407295787719},28,null,null,null,null,null,null,null,{"$f":"CF539","v":41.854179079179389},{"$f":"CG539","v":6.862499999999998},"z12",null,{"$f":"CF530","v":41.623088996633058},{"$f":"CG530+BS532-BS533","v":5.535407295787719},"28'",null,null,"(a'21→a'22)",{"$f":"CL529*SIN(CL503+RADIANS('متغیرها '!C564))","v":0.37383479540930686},null,null,null,null,"به دست آوردن z2 در کوتاهی آستین کتی",{"$f":"BR537-CL524-0.03*BK515","v":-11.730079700226872},{"$f":"BS537+CL525","v":49.780596675211079},"7''",null,{"$f":"CV511+0.7*CW515","v":10.013633613175788},{"$f":"CW511","v":27.677036478938586},"a'12",null,{"$f":"CV530+CK554","v":15.02084176330359},{"$f":"CW530","v":12.815756950621392},"a'21",null,"γ3",{"$f":"ATAN((DE500-DE503)/(DD500-DD503))","v":1.2621563715474913},{"$f":"DEGREES(DE532)","v":72.316233175217064},null,null,null,null,null,null,null,null,null,null,"مولفه افقی","مولفه عمودی","اسم نقطه ",null,{"$f":"IF((DO558-DO555)>(DO554-DO555),DN558,DN554)+DR529","v":22.808006033668264},{"$f":"IF((DO558-DO555)>(DO554-DO555),DO558,DO554)","v":27.449999999999992},"ra15 یا z2",null,{"$f":"DI546","v":-8.4644367084123786},{"$f":"DJ546","v":47.186612853670866},"13'",null,null,{"$f":"SQRT(POWER((EC546-EC547),2)+POWER((ED546-ED547),2))","v":28.080366128792583},"q28"]
[null,null,null,null,null,"m'13",{"$f":"G528+BK510","v":32.340830090838367},null,"n''13",{"$f":"J523-G533*SIN(4*RADIANS('متغیرها '!C575))","v":-0.71211469232783564},{"$f":"K523+G533*COS(4*RADIANS('متغیرها '!C575))","v":52.219685081461698},null,null,null,null,null,"محاسبات کاپ آستین کلوش",null,null,null,"محاسبات کاپ آستین کلوش",null,null,null,null,"رسم خطوط کاپ در آستین ساده",null,null,null,null,null,null,"β1",{"$f":"ATAN(BK520/BK516)","v":8.7294253365829078E-2},{"$f":"ATAN(BL520/BL516)","v":0.15259036490588435},null,null,"طول حلقه پشت تا نقطه 12f",{"$f":"SQRT(POWER(AK511-AK510,2)+POWER(AL510-AL511,2))+SQRT(POWER(AK512-AK511,2)+POWER(AL511-AL512,2))+SQRT(POWER(AK513-AK512,2)+POWER(AL512-AL513,2))","v":13.572036379633232},null,null,"طول حلقه پشت تا نقطه 18",{"$f":"SQRT(POWER(AO511-AO510,2)+POWER(AP510-AP511,2))+SQRT(POWER(AO512-AO511,2)+POWER(AP511-AP512,2))+SQRT(POWER(AO513-AO512,2)+POWER(AP512-AP513,2))","v":12.598121994413992},null,null,"طول حلقه پشت تا نقطه b6",{"$f":"SQRT(POWER(AS511-AS510,2)+POWER(AT510-AT511,2))+SQRT(POWER(AS512-AS511,2)+POWER(AT511-AT512,2))+SQRT(POWER(AS513-AS512,2)+POWER(AT512-AT513,2))","v":12.670593834694323},null,null,"طول حلقه جلو تا نقطه 20",{"$f":"SQRT(POWER(AW506-AW505,2)+POWER(AX505-AX506,2))+SQRT(POWER(AW507-AW506,2)+POWER(AX506-AX507,2))","v":6.1915703280212941},null,null,null,null,null,null,null,null,null,null,null,null,null,null,{"$f":"BN531","v":1.0674337082992618},{"$f":"BO531","v":27.677036478938586},"26 یا z2",null,{"$f":"BK499-BK500-BK524-BX498+'متغیرها '!C521","v":33.903276092980576},{"$f":"0+'متغیرها '!C522","v":0},27,null,{"$f":"BV528","v":4.3665818701750769},{"$f":"BW528","v":27.449999999999992},26,null,null,null,{"$f":"IF(BZ535=1,IF(CG539<CG532,IF(CG541<CG532,CF541,CF532),CF539),CF539)","v":41.854179079179389},{"$f":"IF(CG539<CG532,IF(CG541<CG532,CG541,CG532),CG539)","v":6.862499999999998},"z14 یا 28' یا z12",null,{"$f":"CF531","v":0.78366653795452379},{"$f":"CG532","v":5.535407295787719},"30'",null,null,"(a'22→a22)",{"$f":"CL531-CL529*COS(CL503+RADIANS('متغیرها '!C564))","v":-9.8121148772364553E-2},null,null,"نقطه","مولفه افقی","مولفه عمودی",{"$f":"BR537-CL522-0.03*BK515","v":-7.4414269233982271},{"$f":"BS537+CL523","v":44.629698763533703},"5'",null,{"$f":"CV503+CW515*COS(CW520)","v":17.133998401562319},{"$f":"CW503+CW515*SIN(CW520)","v":3.0938197707752986},"a''13",null,{"$f":"CV538+CK554","v":11.93248260942911},{"$f":"CW538","v":28.078865618117874},{"$f":"CX538","v":"a''11"},null,"γ4",{"$f":"RADIANS(180)-DE532-DE519","v":1.6012352522486042},{"$f":"DEGREES(DE533)","v":91.74402196141078},null,null,null,null,null,null,null,null,"به دست آوردن z1 در کوتاهی آستین رگلان بدون درز",null,"جلو",null,null,null,{"$f":"DU549","v":24.769221911798898},{"$f":"DV549","v":2.7450000000000014},"راست z2",null,null,null,null,null,null,{"$f":"SQRT(POWER((EC506-EC507),2)+POWER((ED506-ED507),2))","v":7.3035747326878635},"q32",null,null,null,null,null,null,null,null,null,null,null,null,null,{"$f":"EC546","v":26.56753927031119},{"$f":"ED546","v":55.422968842087108},"q24"]
[null,null,null,null,null,"m'17",{"$f":"G528+BK514","v":20.536689043244372},null,"n''15",{"$f":"J524-G534*SIN(5*RADIANS('متغیرها '!C575))","v":-5.9475766515264201},{"$f":"K524+G534*COS(5*RADIANS('متغیرها '!C575))","v":42.409379496064005},null,{"$f":"Z524","v":36.908188095209631},{"$f":"Z525","v":40.413655732269177},"f3",null,33.47370507305304,45.2199058159134,5,null,"f2",{"$f":"IF(OR('متغیرها '!C500=0,'متغیرها '!C500=1),AQ530,0)","v":0},null,null,null,{"$f":"AC520","v":36.908188095209631},{"$f":"AC521","v":40.413655732269177},"f1",null,null,null,null,null,null,null,null,null,null,null,null,null,null,null,null,null,null,null,null,null,"طول حلقه پشت تا نقطه 18",{"$f":"SQRT(POWER(AW513-AW512,2)+POWER(AX512-AX513,2))+SQRT(POWER(AW514-AW513,2)+POWER(AX513-AX514,2))+SQRT(POWER(AW515-AW514,2)+POWER(AX514-AX515,2))","v":12.598121994413992},null,null,null,null,null,null,null,null,null,null,null,"طول حلقه آستین مدل 85",{"$f":"0.2*SQRT(POWER(CM106-CM107,2)+POWER(CN106-CN107,2))+SQRT(POWER(CM102-CM103,2)+POWER(CN102-CN103,2))+SQRT(POWER(CM103-CM104,2)+POWER(CN103-CN104,2))+SQRT(POWER(CM104-CM105,2)+POWER(CN104-CN105,2))+SQRT(POWER(CM105-CM106,2)+POWER(CN105-CN106,2))+SQRT(POWER(FN101-FN102,2)+POWER(FO101-FO102,2))+SQRT(POWER(FN102-FN103,2)+POWER(FO102-FO103,2))+SQRT(POWER(FN103-FN104,2)+POWER(FO103-FO104,2))+SQRT(POWER(FN104-FN105,2)+POWER(FO104-FO105,2))+SQRT(POWER(DL163-DL164,2)+POWER(DM163-DM164,2))+SQRT(POWER(DL164-DL165,2)+POWER(DM164-DM165,2))","v":51.88876220036046},null,null,null,null,null,{"$f":"BK500+BK526-BX498+'متغیرها '!C521","v":3.0051952980868002},{"$f":"BK527+'متغیرها '!C522","v":5.535407295787719},30,null,null,null,null,"انتخاب مچ ",{"$f":"'متغیرها '!C547","v":1},null,{"$f":"CF541","v":45.439133663980982},{"$f":"CG541","v":27.449999999999992},"z14",null,{"$f":"CF529-(1-CD540)*BZ536*AI520","v":-4.5229343228305368},{"$f":"CG534","v":44.634824285614357},"2'",null,null,"(a'23→a23)",{"$f":"CL510-CL529*COS(CL503+RADIANS('متغیرها '!C564))","v":1.2250891612503261},null,"نقطه آرنج","a11",{"$f":"CK545","v":11.023701908603581},{"$f":"CL545","v":27.677036478938586},{"$f":"BK499-BK500-BK513-BX498-0.03*BK515+CS546","v":-0.38211040346862779},{"$f":"BS522+0.7*(BS523-BS522)","v":45.2199058159134},"17'",null,{"$f":"CV507-0.4*CW515*SIN(CW522)","v":9.1495468836058276},{"$f":"CW507-0.4*CW515*COS(CW522)","v":12.211857474322743},"a'25",null,{"$f":"CR511","v":9.9789001149114753},{"$f":"CS511","v":57.828874662206985},13,null,"(2→4)",{"$f":"SQRT(POWER((DD500-DD503),2)+POWER((DE500-DE503),2))","v":5.4985296905223935},null,null,null,"مولفه افقی","مولفه عمودی","اسم نقطه ","نقطه زیر حلقه آستین","11'",{"$f":"DI547","v":44.25189034591822},{"$f":"DJ547","v":47.193319592818455},null,{"$f":"DQ536+DO503","v":26.199936233184566},{"$f":"DR536-DO504","v":69.230427147613852},27,null,{"$f":"DU546","v":40.239437120265499},{"$f":"DV546","v":2.7450000000000014},"راست z1",null,null,null,"حلقه دیگر در رگلان بدون درز",null,null,{"$f":"SQRT(POWER((EC508-EC509),2)+POWER((ED508-ED509),2))","v":5.4637306874740803},"q34",null,null,null,null,null,null,null,null,null,null,null,null,null,{"$f":"EC545","v":7.0367713633048758},{"$f":"ED545","v":2.7677036478938613},"q23"]
[null,null,null,null,null,null,null,null,"n'17",{"$f":"J525-G535*SIN(5*RADIANS('متغیرها '!C575))","v":-6.9038221867598519},{"$f":"K525+G535*COS(5*RADIANS('متغیرها '!C575))","v":37.029979204061931},null,null,null,null,null,30.981521235359484,48.707492943611626,7,null,"f3",{"$f":"IF(OR('متغیرها '!C500=0,'متغیرها '!C500=1),AQ532,0)","v":0},null,null,null,{"$f":"AC524","v":36.908188095209631},{"$f":"AC525","v":40.413655732269177},"f3",null,null,null,null,null,null,null,null,null,null,null,null,null,null,null,null,null,null,null,null,null,"طول حلقه پشت تا نقطه 22",{"$f":"SQRT(POWER(AW514-AW513,2)+POWER(AX513-AX514,2))+SQRT(POWER(AW515-AW514,2)+POWER(AX514-AX515,2))","v":6.4620138545053027},null,null,null,null,null,null,null,null,null,null,null,"طول تاج آستین کتی",{"$f":"SQRT(POWER(CR513-CR514,2)+POWER(CS513-CS514,2))+SQRT(POWER(CR514-CR515,2)+POWER(CS514-CS515,2))+SQRT(POWER(CR515-CR516,2)+POWER(CS515-CS516,2))+SQRT(POWER(CR532-CR533,2)+POWER(CS532-CS533,2))+SQRT(POWER(CR533-CR534,2)+POWER(CS533-CS534,2))+SQRT(POWER(CR534-CR535,2)+POWER(CS534-CS535,2))+SQRT(POWER(CR535-CR536,2)+POWER(CS535-CS536,2))+SQRT(POWER(CR536-CR537,2)+POWER(CS536-CS537,2))","v":56.421592733570748},null,null,null,null,null,{"$f":"BK500+BK523-BX498+'متغیرها '!C521","v":1.0674337082992618},{"$f":"BK517-BK519+'متغیرها '!C522","v":27.677036478938586},26,null,null,null,null,"  z3",{"$f":"'متغیرها '!C548","v":1.5000000000000004},null,{"$f":"CF542","v":-1.5896990687464481},{"$f":"CG542","v":27.449999999999992},"z15",null,{"$f":"CF534-BV501+BV502","v":48.431571532188528},{"$f":"CG534","v":44.634824285614357},"3'",null,null,"(a'21→a24)",{"$f":"CL531","v":3.0296172587261401},null,"نقطه بالای مچ","a13",{"$f":"CK544","v":14.331727683660308},{"$f":"CL544","v":0},{"$f":"1.33*(BK499-BK500-BK511-BX498+BX498)-BX498-0.03*BK515+CS546","v":4.7085224471888658},{"$f":"BS521+1.3*(BS520-BS521)","v":52.642206626142965},"15'",null,{"$f":"CV513+0.2*CW515","v":10.608900114911476},{"$f":"CW513","v":43.341974285614356},"تکه رو 12'",null,null,null,null,null,"γ5",{"$f":"ATAN((DD518-DD517)/(DE517-DE518))","v":0.60877503155243706},{"$f":"DEGREES(DE536)","v":34.880239980898168},null,null,{"$f":"DY550+0.6*(DY501-DY550)","v":6.7609716536686157},{"$f":"DZ550+0.45*(DZ501-DZ550)","v":57.275827757077401},"8'","نقطه آرنج",27,{"$f":"DI540","v":38.162350604059277},27.45,null,{"$f":"DQ537+DO506","v":21.123641018002516},{"$f":"DR537+DO505","v":71.343494975648753},30,null,{"$f":"DQ554+DR529","v":32.5043295160322},{"$f":"DR554","v":3.1250000000000013},"r2",null,{"$f":"DL500+DE528+'متغیرها '!C521","v":23.199605891169821},{"$f":"DL499+DL501+'متغیرها '!C522","v":71.0151596307185},3,null,null,{"$f":"SQRT(POWER((EC509-EC510),2)+POWER((ED509-ED510),2))","v":3.8566533671907046},"q35"]
[null,null,null,null,null,null,null,null,"7'",{"$f":"BN504","v":30.981521235359484},{"$f":"K538","v":25.488044571368619},null,null,null,null,null,14.768416629557205,68.431400099248577,"k''13",null,"f6",{"$f":"IF(OR('متغیرها '!C500=0,'متغیرها '!C500=1),AQ534,0)","v":0},null,null,null,{"$f":"AC522","v":36.908188095209631},{"$f":"AC523","v":40.413655732269177},"f2",null,null,null,null,null,null,null,null,null,null,null,null,null,null,null,null,null,null,null,null,null,null,null,null,null,null,null,null,null,null,null,null,null,null,"طول کل حلقه آستین با ساسون",{"$f":"ROUND(AQ526,1)","v":49.3},null,null,null,null,null,"مولفه افقی","مولفه عمودی","اسم نقطه ",null,null,null,null,"   z6",{"$f":"'متغیرها '!C551","v":0.25},null,null,null,"محاسبات آستر مچ",null,{"$f":"IF((CG539-CG530)<(CG532-CG530),CF530,IF((CG539-CG530)<(CG537-CG530),(CG539-CG532)*TAN(CD541)+CF532,CF537+(CG539-CG537)*TAN(CD542)))","v":41.854179079179389},{"$f":"CG530+BZ539*(CG537-CG530)","v":6.862499999999998},"z12",null,null,null,null,null,null,"z2",{"$f":"IF((CQ539-CQ537)<(CQ536-CQ537),CP537,IF((CQ539-CQ537)<(CQ535-CQ537),(CQ539-CQ536)*(CP535-CP536)/(CQ535-CQ536)+CP536,CP535+(CQ539-CQ535)*(CP534-CP535)/(CQ534-CQ535)))","v":14.000925106154634},{"$f":"CQ537+CP538*(CQ535-CQ537)","v":2.7677036478938613},null,null,null,null,{"$f":"CV535+0.7*(CV537-CV535)","v":9.8242688498892736},{"$f":"CW535+0.5*(CW537-CW535)","v":27.776915879968548},"a''12",null,24.751061641125577,58.186575906073472,9,null,"γ8",{"$f":"RADIANS(90)+DE532-DE538","v":2.0432448110638548},{"$f":"DEGREES(DE539)","v":117.06930418596417},null,null,{"$f":"DY499+0.8*(DY542-DY499)","v":40.036068063650468},{"$f":"DZ542+0.15*(DZ499-DZ542)","v":50.760894870228014},"10''","ضریب کوتاهی آستین","z0",{"$f":"BZ542","v":0.10000000000000009},null,null,{"$f":"DQ540+DO510","v":5.7605779779542647},{"$f":"DR540-DO509","v":53.750899067227799},36,null,{"$f":"BV501+DR529+DQ528","v":45.930119765311048},{"$f":"BW501","v":44.634824285614357},1,null,{"$f":"DL505+DE528+'متغیرها '!C521","v":37.929608048808007},{"$f":"DL499-DL504+'متغیرها '!C522","v":52.941525157399589},10,null,null,{"$f":"ATAN((ED508-ED509)/(EC508-EC509))","v":0.95854101977496187},"q38"]
[null,null,null,null,null,null,null,null,null,null,null,null,{"$f":"Z528","v":36.908188095209631},{"$f":"Z529","v":40.413655732269177},"f5",null,5.370230046995955,70.043785760730913,"k''15",null,null,null,null,null,null,null,null,null,null,null,null,null,null,null,null,null,null,null,null,null,null,null,null,null,null,null,null,null,null,null,null,null,null,null,null,null,null,null,null,null,null,null,"طول کل حلقه آستین بدون ساسون",{"$f":"ROUND(AM526,1)","v":55.6},null,null,null,null,null,{"$f":"IF((BS540-BS533)<(BS532-BS533),BR533,IF((BS540-BS533)<(BS531-BS533),(BS540-BS532)*TAN(AH533)+BR532,BR531+(BS540-BS531)*TAN(AH534)))","v":33.903276092980576},{"$f":"BS533+BZ542*(BS531-BS533)","v":2.7677036478938613},"z1",null,null,null,null,"   z7",{"$f":"'متغیرها '!C552","v":0},null,null,"z9",{"$f":"(BV519-BV506)/(BV519-BV522)","v":0.61654414530378165},null,{"$f":"CF529-(1-CD540)*(CF539-CF529)/CD540","v":0.63994147659503575},{"$f":"CG539","v":6.862499999999998},"z13",null,null,"نقاط  خروجی آستین کتی",null,null,null,null,null,null,null,null,null,null,null,null,null,null,30.35847527593609,49.780596675211079,"7'",null,"(3→ 10)",{"$f":"SQRT(POWER((DD518-DD517),2)+POWER(DE517-DE518,2))","v":23.315857836227419},null,null,null,{"$f":"DL525+DE528+'متغیرها '!C521","v":38.162350604059277},{"$f":"DL524+'متغیرها '!C522","v":27.45},27,null,"z1",{"$f":"IF((DO540-DO538)<(DO537-DO538),DN538,IF((DO540-DO538)<(DO536-DO538),(DO540-DO537)*(DN536-DN537)/(DO536-DO537)+DN537,DN536+(DO540-DO536)*(DN535-DN536)/(DO535-DO536)))","v":33.312259788109714},{"$f":"DO538+DN539*(DO536-DO538)","v":2.7450000000000023},null,{"$f":"DQ541-DO511","v":9.7974004921621862},{"$f":"DR541-DO512","v":72.283164802503563},39,null,{"$f":"DU542","v":40.919173345061971},{"$f":"DV542","v":27.449999999999992},"r25 یا z1",null,{"$f":"DL515+DE528+'متغیرها '!C521","v":39.192723160400533},{"$f":"DL499-DL504-DL514+'متغیرها '!C522","v":51.215051466280975},17,null,null,{"$f":"ATAN((ED509-ED510)/(EC509-EC510))","v":0.76928043315055927},"q39",null,null,null,null,null,null,null,null,null,null,null,null,null,{"$f":"EC512","v":3.0051952980868037},{"$f":"ED512","v":2.7677036478938613},"z2"]
[null,null,null,null,null,null,null,null,null,null,null,null,null,null,null,null,-3.06984183841569,73.901533292911864,"k''2",null,null,null,null,null,null,{"$f":"AC530","v":36.908188095209631},{"$f":"AC531","v":40.413655732269177},"f6",null,null,null,null,null,null,null,null,null,null,null,null,null,null,null,null,null,null,null,null,null,null,null,null,null,null,null,null,null,null,null,null,null,null,"طول حلقه آستین مدل 83 کت مردانه",{"$f":"ROUND(BL537,1)","v":48.4},null,null,null,null,null,null,null,null,null,null,null,null,"z0",{"$f":"'متغیرها '!C520","v":0.10000000000000009},null,null,"z11",{"$f":"ATAN((CF534-CF537)/(CG534-CG537))","v":0.26784738617994625},null,{"$f":"CF529-(1-CD540)*(CF541-CF529)/CD540","v":-1.5896990687464481},{"$f":"CG541","v":27.449999999999992},"z15",null,null,{"$f":"BK499-BK500-CL500-CL513-BX498+'متغیرها '!C521","v":28.88423773825463},{"$f":"BK517-CL507+'متغیرها '!C522","v":27.677036478938586},"a10",null,"نقطه","مولفه افقی","مولفه عمودی",null,null,null,null,null,null,null,null,null,null,null,null,"γ9",{"$f":"DE531+DE537-RADIANS(180)","v":0.68382026544876151},{"$f":"DEGREES(DE542)","v":39.180015155729663},null,null,{"$f":"DL522+DL527+DE528+'متغیرها '!C521","v":33.312259788109714},{"$f":"0+'متغیرها '!C522","v":0},29,null,null,null,"به دست آوردن z2 در کوتاهی آستین رگلان بدون درز","شبیه ساز نقطه 11",{"$f":"BV506","v":16.443782182147039},{"$f":"BW506","v":61},43,null,{"$f":"IF((DJ558-DJ556)>(DJ554-DJ556),DI558,DI554)+DR529","v":40.919173345061971},{"$f":"IF((DJ558-DJ556)>(DJ554-DJ556),DJ558,DJ554)","v":27.449999999999992},"r25 یا z1",null,{"$f":"DL511+DE528+'متغیرها '!C521","v":44.245183606770631},{"$f":"DL499-DL506-DL508+'متغیرها '!C522","v":47.186612853670866},11,null,null,{"$f":"SQRT(POWER((EC550-EC551),2)+POWER((ED550-ED551),2))","v":28.931500424657408},"q42"]
[null,null,null,null,null,null,null,null,null,null,null,null,null,null,null,null,null,null,null,null,null,null,null,null,null,null,null,null,null,null,null,null,null,null,null,null,null,null,null,null,null,null,null,null,null,null,null,null,null,null,null,null,null,null,null,null,null,null,null,null,null,null,"طول تاج آستین کتی",{"$f":"ROUND(BL536,1)","v":56.4},null,null,null,null,null,null,null,null,null,null,null,null,null,null,null,null,null,null,null,null,null,null,null,null,{"$f":"BK499-BK500-CL500-CL511-BX498+'متغیرها '!C521","v":28.490136538284844},{"$f":"BK517-CL507-CL509+CL512+'متغیرها '!C522","v":1.6802875801555182},"a6","نقطه زیر حلقه آستین","زیر12",{"$f":"CK547","v":8.8534354068678933},43.341974285614356,null,null,null,null,null,null,null,null,null,null,null,null,"γ10",{"$f":"DE533+DE539-RADIANS(180)","v":0.50288740972266588},{"$f":"DEGREES(DE543)","v":28.813326147374955},null,null,{"$f":"-DL523-DL528+DE528+'متغیرها '!C521","v":4.4056143801349137},{"$f":"0+'متغیرها '!C522","v":0},31,null,"نقطه","مولفه افقی","مولفه عمودی",null,"مچ",null,null,null,{"$f":"IF((DJ558-DJ556)>(DJ555-DJ556),DI558,DI555)+DR529","v":40.239437120265499},{"$f":"IF((DJ558-DJ556)>(DJ555-DJ556),DJ558,DJ555)","v":5.535407295787719},"r28 یا z1",null,null,null,null,null,"مولفه افقی","مولفه عمودی","اسم نقطه ",null,null,null,null,null,null,null,null,null,null,null,null,null,{"$f":"EC506","v":16.443782182147039},{"$f":"ED506","v":61.227036478938587},11]
[null,null,null,null,null,null,null,null,null,null,null,null,null,null,null,null,null,null,null,null,null,null,null,null,null,null,null,null,null,null,null,null,null,null,null,null,null,null,null,null,null,null,null,null,null,null,null,null,null,null,null,null,null,null,null,null,null,null,null,null,null,null,null,null,null,null,null,null,null,null,null,null,null,null,null,null,null,null,null,null,null,null,null,null,null,null,null,null,{"$f":"BK499-BK500-BK509-BX498+'متغیرها '!C521","v":9.9789001149114753},{"$f":"BK517+'متغیرها '!C522","v":43.341974285614356},"رو12","نقطه پایین مچ","a14",{"$f":"CK549","v":4.5006078381190626},{"$f":"CL549","v":0},null,{"$f":"CK541-(BK499-BK500-CL500-BX498)","v":0},"شیفت افقی آستین",null,null,null,null,null,null,null,null,null,"γ11",{"$f":"ACOS((DE545*COS(DE547)-DL504+DL506)/(DE544))","v":0.83181389804079831},{"$f":"DEGREES(DE546)","v":47.659425698063117},null,null,{"$f":"DY550-DE549","v":-8.4644367084123786},{"$f":"DZ550","v":47.186612853670866},"13'","نقطه بالای مچ",32,{"$f":"DI544","v":4.4056143801349137},{"$f":"DJ544","v":5.490000000000002},null,{"$f":"DQ545","v":35.239437120265499},{"$f":"BW519","v":0},"r27",null,{"$f":"DU548","v":40.239437120265499},{"$f":"DV548","v":2.7450000000000014},"راست z1",null,null,null,null,null,{"$f":"IF(ED529<ED524,EC506+ED529*COS(ED525),IF(ED529<(ED524+ED523),EC505+(ED529-ED524)*COS(ED526),IF(ED529<(ED524+ED523+ED522),EC504+(ED529-ED524-ED523)*COS(ED527),IF(ED529<(ED524+ED523+ED522+ED521),EC503+(ED529-ED524-ED523-ED522)*COS(ED528),EC502))))","v":26.56753927031119},{"$f":"IF(ED529<ED524,ED506-ED529*SIN(ED525),IF(ED529<(ED524+ED523),ED505-(ED529-ED524)*SIN(ED526),IF(ED529<(ED524+ED523+ED522),ED504-(ED529-ED524-ED523)*SIN(ED527),IF(ED529<(ED524+ED523+ED522+ED521),ED503-(ED529-ED524-ED523-ED522)*SIN(ED528),ED502))))","v":55.422968842087108},"q24"]
[null,null,null,null,null,null,null,null,null,null,null,null,null,null,null,null,null,null,null,null,null,null,null,null,null,null,null,null,null,null,null,null,null,null,null,null,null,null,null,null,null,null,null,null,null,null,null,null,null,null,null,null,null,null,null,null,null,null,null,null,null,null,null,null,null,null,null,null,null,null,null,null,null,null,null,null,null,null,null,null,null,null,null,null,null,null,null,null,{"$f":"BK499-BK500-BK509-BX498-0.03*BK515+'متغیرها '!C521","v":8.8534354068678933},{"$f":"BK517+'متغیرها '!C522","v":43.341974285614356},"زیر12","ضریب کوتاهی آستین","z0",{"$f":"BZ542","v":0.10000000000000009},null,null,{"$f":"CL541-(BK517+CL501)","v":0},"شیفت عمودی آستین",null,null,null,null,null,null,null,null,null,"γ12",{"$f":"IF(DL504+DE544>DL506+DE545,0.5*ACOS((DL504-DL506)/(DE545)),0.5*(RADIANS(90)+ACOS((DE544-DL506+DL504)/DE545)))","v":1.3161412316936365},{"$f":"DEGREES(DE547)","v":75.409337819195187},null,null,{"$f":"DY542-DE550","v":44.25189034591822},{"$f":"DZ542-DE550","v":47.193319592818455},"11'","نقطه پایین مچ",31,{"$f":"DI543","v":4.4056143801349137},{"$f":"DJ543","v":0},null,{"$f":"DQ550+DO526","v":19.987134787146747},{"$f":"DR546","v":0},"35''",null,null,null,null,null,{"$f":"-DL507+DE528+'متغیرها '!C521","v":4.9273978472117896},{"$f":"DL499-DL506+'متغیرها '!C522","v":50.168347193046955},8,null,{"$f":"EC545+0.5*(EC546-EC545)","v":16.802155316808033},{"$f":"ED545+0.5*(ED546-ED545)","v":29.095336244990484},"q26"]
[null,null,null,null,null,null,null,null,null,null,null,null,null,null,null,null,null,null,null,null,null,null,null,null,null,null,null,null,null,null,null,null,null,null,null,null,null,null,null,null,null,null,null,null,null,null,null,null,null,null,null,null,null,null,null,null,null,null,null,null,null,null,null,null,null,null,null,null,null,null,null,null,null,null,null,null,null,null,null,null,null,null,null,null,null,null,null,null,{"$f":"BK499-BK500-BK509-CL515-BX498-0.03*BK515+'متغیرها '!C521","v":4.5006078381190626},{"$f":"0+'متغیرها '!C522","v":0},"a14",null,null,null,null,null,null,null,null,null,null,null,null,null,null,null,null,"شیفت افقی نقطه 13",{"$f":"DE541+DE545-SQRT(POWER(DY501-DI536,2)+POWER(DZ501-DJ536,2))-SQRT(POWER(DI536-DI537,2)+POWER(DJ536-DJ537,2))-SQRT(POWER(DI537-DY550,2)+POWER(DJ537-DZ550,2))","v":1.9371272698863775},null,null,null,null,null,null,null,"z2",{"$f":"IF((DO549-DO547)<(DO546-DO547),DN547,IF((DO549-DO547)<(DO545-DO547),(DO549-DO546)*(DN545-DN546)/(DO545-DO546)+DN546,DN545+(DO549-DO545)*(DN544-DN545)/(DO544-DO545)))","v":4.4056143801349137},{"$f":"DO547+DN548*(DO545-DO547)","v":2.7450000000000023},null,{"$f":"BV506+DO523","v":16.880795286982462},{"$f":"DR544-0*(DR544-DR546)","v":27.449999999999992},"r'a15",null,{"$f":"DN558+DR529","v":24.769221911798898},{"$f":"DO558","v":2.7450000000000014},"راست z2",null,{"$f":"-DL517+DE528+'متغیرها '!C521","v":-1.9454265242308857},{"$f":"DL499-DL506-DL516+'متغیرها '!C522","v":48.081133155483691},19,null,{"$f":"EC544+ED516*(EC511-EC544)","v":28.665427919730515},{"$f":"ED511","v":2.7677036478938613},"q30"]
[null,null,null,null,null,null,null,null,null,null,null,null,null,null,null,null,null,null,null,null,null,null,null,null,null,null,null,null,null,null,null,null,null,null,null,null,null,null,null,null,null,null,null,null,null,null,null,null,null,null,null,null,null,null,null,null,null,null,null,null,null,null,null,null,null,null,null,null,null,null,null,null,null,null,null,null,null,null,null,null,null,null,null,null,null,null,null,null,{"$f":"BR537-CL524+CL518-0.03*BK515","v":-9.8617409625756256},{"$f":"BK517-CL507-CL509+CL512+'متغیرها '!C522","v":1.6802875801555182},"a'8",null,null,null,"به دست آوردن z4 در کوتاهی آستین کتی",null,null,null,null,null,null,null,null,null,null,null,null,"شیفت افقی نقطه 11",{"$f":"DE540+DE544-SQRT(POWER(DI538-DY499,2)+POWER(DZ499-DJ538,2))-SQRT(POWER(DI539-DI538,2)+POWER(DJ538-DJ539,2))-SQRT(POWER(DY542-DI539,2)+POWER(DJ539-DZ542,2))","v":-6.7067391475870153E-3},null,null,null,null,null,null,null,null,null,null,null,{"$f":"BV506+DO525","v":17.57885361614294},{"$f":"DR546","v":0},"35'",null,null,null,null,null,{"$f":"-DL509+DE528+'متغیرها '!C521","v":-6.5273094385260002},{"$f":"DL499-DL506-DL508+'متغیرها '!C522","v":47.186612853670866},13,null,{"$f":"EC549-0.5*(EC549-EC551)","v":19.148207324118996},{"$f":"ED549+0.5*(ED551-ED549)","v":30.089018201853733},"q40"]
[null,null,null,null,null,null,null,null,null,null,null,null,null,null,null,null,null,null,null,null,null,null,null,null,null,null,null,null,null,null,null,null,null,null,null,null,null,null,null,null,null,null,null,null,null,null,null,null,null,null,null,null,null,null,null,null,null,null,null,null,null,null,null,null,null,null,null,null,null,null,null,null,null,null,null,null,null,null,null,null,null,null,null,null,null,null,null,null,null,null,null,"نقطه آرنج","a'9",{"$f":"CK551","v":-10.255842162545411},{"$f":"CL551","v":27.677036478938586},null,null,"نقطه زیر حلقه آستین",2,{"$f":"BV510","v":0},{"$f":"BW510","v":44.634824285614357},null,"نقطه زیر حلقه آستین","10''",{"$f":"DQ560","v":17.844371702630969},{"$f":"DR560","v":44.634824285614357},null,"α1",{"$f":"'متغیرها '!C503","v":3},null,"نقطه زیر حلقه آستین",1,{"$f":"BV501","v":38.176003903346029},{"$f":"BW501","v":44.634824285614357},null,"نقطه زیر حلقه آستین","10'",{"$f":"DQ557","v":15.04319266166311},{"$f":"DR557","v":44.634824285614357},null,{"$f":"BV501-BL500-BL515+DO518","v":2.2568305582840611},{"$f":"DR544","v":27.449999999999992},"r26"]
[null,null,null,null,null,null,null,null,null,null,null,null,null,null,null,null,null,null,null,null,null,null,null,null,null,null,null,null,null,null,null,null,null,null,null,null,null,null,null,null,null,null,null,null,null,null,null,null,null,null,null,null,null,null,null,null,null,null,null,null,null,null,null,null,null,null,null,null,null,null,null,null,null,null,null,null,null,null,null,null,null,null,null,null,null,null,null,null,{"$f":"'متغیرها '!C567","v":0},"شیفت افقی تکه جلو آستین",null,"نقطه بالای مچ","a'8",{"$f":"CK550","v":-9.8617409625756256},{"$f":"CL550","v":1.6802875801555182},null,null,"نقطه آرنج","r26",{"$f":"DQ553","v":2.2568305582840611},{"$f":"DR553","v":27.449999999999992},null,"نقطه آرنج","r'a15",{"$f":"DQ549","v":16.880795286982462},{"$f":"DR549","v":27.449999999999992},null,"α2",{"$f":"'متغیرها '!C504","v":3},null,"نقطه آرنج","r25",{"$f":"DQ544","v":35.919173345061971},27.449999999999992,null,"نقطه آرنج","ra15",{"$f":"DQ548","v":17.808006033668264},{"$f":"DR548","v":27.449999999999992},null,{"$f":"DI558-DO528","v":27.5043295160322},{"$f":"DO558+DO527","v":3.1250000000000013},"r2",null,{"$f":"IF((CW558-CW556)>(CW554-CW556),CV558,CV554)","v":2.2568305582840611},{"$f":"IF((CW558-CW556)>(CW554-CW556),CW558,CW554)","v":27.449999999999992},"r26 یا z1"]
[null,null,null,null,null,null,null,null,null,null,null,null,null,null,null,null,null,null,null,null,null,null,null,null,null,null,null,null,null,null,null,null,null,null,null,null,null,null,null,null,null,null,null,null,null,null,null,null,null,null,null,null,null,null,null,null,null,null,null,null,null,null,null,null,null,null,null,null,null,null,null,null,null,null,null,null,null,null,null,null,null,null,null,null,null,null,null,null,null,null,null,"ضریب کوتاهی آستین","z0",{"$f":"BZ542","v":0.10000000000000009},null,null,null,"نقطه پایین مچ","r29",{"$f":"DQ551","v":2.9365667830805275},{"$f":"DR551","v":0},null,"نقطه پایین مچ","35'",{"$f":"DQ550","v":17.57885361614294},{"$f":"DR550","v":0},null,"α4",{"$f":"'متغیرها '!C506","v":1},null,"نقطه پایین مچ","r27",35.239437120265499,0,null,"نقطه پایین مچ","35''",{"$f":"DQ547","v":19.987134787146747},{"$f":"DR547","v":0},null,"درز"]
[null,null,null,null,null,null,null,null,null,null,null,null,null,null,null,null,null,null,null,null,null,null,null,null,null,null,null,null,null,null,null,null,null,null,null,null,null,null,null,null,null,null,null,null,null,null,null,null,null,null,null,null,null,null,null,null,null,null,null,null,null,null,null,null,null,null,null,null,null,null,null,null,null,null,null,null,null,null,null,null,null,null,null,null,null,null,null,null,null,null,null,null,"z4",{"$f":"IF((CQ557-CQ555)<(CQ554-CQ555),CP555,IF((CQ557-CQ555)<(CQ553-CQ555),(CQ557-CQ554)*(CP553-CP554)/(CQ553-CQ554)+CP554,CP553+(CQ557-CQ553)*(CP552-CP553)/(CQ552-CQ553)))","v":-9.9011510825726035},{"$f":"CQ555+CP556*(CQ553-CQ555)","v":4.2799624700338272},null,null,"ضریب کوتاهی آستین","z0",{"$f":"BZ542","v":0.10000000000000009},null,null,"ضریب کوتاهی آستین","z0",{"$f":"BZ542","v":0.10000000000000009},null,null,"α5",{"$f":"'متغیرها '!C507","v":3},null,"ضریب کوتاهی آستین","z0",{"$f":"BZ542","v":0.10000000000000009},null,null,"ضریب کوتاهی آستین","z0",{"$f":"BZ542","v":0.10000000000000009},null,null,{"$f":"BV506-DE556*0.07*(BV502-BV506)","v":15.04319266166311},{"$f":"BW501","v":44.634824285614357},"10'",null,{"$f":"DU555","v":2.9365667830805275},{"$f":"DV555","v":5.535407295787719},"r30 یا z1"]
[null,null,null,null,null,null,null,null,null,null,null,null,null,null,null,null,null,null,null,null,null,null,null,null,null,null,null,null,null,null,null,null,null,null,null,null,null,null,null,null,null,null,null,null,null,null,null,null,null,null,null,null,null,null,null,null,null,null,null,null,null,null,null,null,null,null,null,null,null,null,null,null,null,null,null,null,null,null,null,null,null,null,null,null,null,null,null,null,null,null,null,null,null,null,null,null,null,null,null,null,null,null,null,null,null,null,null,"α8",{"$f":"'متغیرها '!C510","v":0.2},null,null,null,null,null,null,null,null,null,null,null,{"$f":"BV506+DE556*0.07*(BV502-BV506)","v":17.844371702630969},{"$f":"BW501","v":44.634824285614357},"10''",null,{"$f":"CV558","v":2.9365667830805275},{"$f":"CW558","v":2.7450000000000014},"چپ z1"]
[null,null,null,null,null,null,null,null,null,null,null,null,null,null,null,null,null,null,null,null,null,null,null,null,null,null,null,null,null,null,null,null,null,null,null,null,null,null,null,null,null,null,null,null,null,null,null,null,null,null,null,null,null,null,null,null,null,null,null,null,null,null,null,null,null,null,null,null,null,null,null,null,null,null,null,null,null,null,null,null,null,null,null,null,null,null,null,null,null,null,null,null,null,null,null,null,null,null,null,null,null,null,null,null,null,null,null,null,null,null,null,null,null,null,null,null,null,null,null,null,null,null,null,null,{"$f":"DA558","v":17.50904778322689},{"$f":"DB558","v":2.7450000000000014},"چپ z2"]
[]
[]
[null,null,null,null,null,"اسم متغیر ورودی","مقدار","شبیه ساز",null,"اسم متغیر ورودی","مقدار","شبیه ساز",null,"s0",{"$f":"IF(G567<1,G567*L586,L586+(G567-1)*(L587-L586))","v":0},0,null,"s31",{"$f":"ATAN((W594-W587)/(X587-X578))","v":-2.9561845496141402E-2},null,"مولفه افقی","اسم نقطه ","مولفه افقی","مولفه عمودی","مولفه عمودی",null,"اسم نقطه ","مولفه افقی","مولفه عمودی",null,"مولفه افقی","اسم نقطه ","مولفه افقی","مولفه عمودی","مولفه عمودی",null,"اسم نقطه ","مولفه افقی","مولفه عمودی",null,null,"محاسبه s6 به روش تخمین",null,null,null,null,null,null,null,null,"متغیر محاسبه ای محلی",null,null,null,"متغیر محاسبه ای محلی",null,null,null,null,null,"رسم شبیه ساز پشت  ",null,null,null,"رسم شبیه ساز جلو  ",null,null,null,"کمر شلوار",null,null,null,"کمر جدا",null,null,null,"جیب مردانه",null,null,null,"تکه پهلو جدا",null,null,null,"کمر شلوار",null,null,null,"کمر جدا",null,null,null,"پاکت جیب در مکان دلخواه",null,null,null,"جین تکه پهلو جدا",null,null,null,"دامن شلواری",null,null,"مولفه افقی","مولفه عمودی","اسم نقطه ",null,"مولفه افقی","مولفه عمودی","اسم نقطه ",null,{"$f":"CZ567","v":5},{"$f":"DA567","v":100.5},"38b",null,{"$f":"CZ571","v":33.525039999999997},{"$f":"DA571","v":103.92120297376289},"41b",null,"مولفه افقی","مولفه عمودی","اسم نقطه ",null,"مولفه افقی","مولفه عمودی","اسم نقطه ",null,"مولفه افقی","مولفه عمودی","اسم نقطه ",null,null,null,null,null,"شبیه ساز جلو شلوار متصل به بالاتنه"]
[null,null,null,null,null,"t1",{"$f":"'متغیرها '!C581","v":0},null,null,"t33",{"$f":"'متغیرها '!C644","v":2},null,null,"s1",{"$f":"G568*L591/(G571+1)","v":18.613636363636367},{"$f":"1*K591/(H571+1)","v":13.363636363636362},null,"s32",{"$f":"0.22*L592*G583","v":4.62},null,{"$f":"L569","v":10},1,{"$f":"K569","v":6},{"$f":"K570+O566-(Y579-Y568)*G606","v":0},{"$f":"K570","v":0},null,41,{"$f":"IF(X568>0.9*X572,W616,W574+S573*0.5*(G598+1))","v":8.0798600446726212},{"$f":"X574","v":41.1},null,{"$f":"L571","v":10},"p1",{"$f":"K571","v":5},{"$f":"K572+O566-(AI578-AI568)*G606","v":0},{"$f":"K572","v":0},null,"p36",{"$f":"AG615+0.5*K582*G591*SIN(O572-O581+RADIANS(G592)+RADIANS(G589))","v":3.1525603541056024},{"$f":"AH615-0.5*K582*G591*COS(O572-O581+RADIANS(G592)+RADIANS(G589))","v":67.795020510642075},null,"درجه اضافه شده به زاویه خط پهلو پشت","s'6","xp10","yp10","xp11","yp11","xp12","yp12","s11",null,"(41→β4)",{"$f":"0.5*'متغیرها '!C681*COS(RADIANS('متغیرها '!C683)+RADIANS('متغیرها '!C684))","v":6.1257422745431001E-17},{"$f":"0.5*'متغیرها '!C681*COS(RADIANS('متغیرها '!C683))","v":6.1257422745431001E-17},"(β7→β8)","(41→β4)",{"$f":"0.5*'متغیرها '!C672*COS(RADIANS('متغیرها '!C674)+RADIANS('متغیرها '!C675))","v":6.1257422745431001E-17},{"$f":"0.5*'متغیرها '!C672*COS(RADIANS('متغیرها '!C674))","v":6.1257422745431001E-17},null,"مولفه افقی","مولفه عمودی","اسم نقطه ",null,"مولفه افقی","مولفه عمودی","اسم نقطه ",null,{"$f":"W583","v":24.282558648616341},{"$f":"X583","v":90.5},{"$f":"V583","v":15},null,{"$f":"W600","v":-0.27863302682780516},96.013640909231029,{"$f":"V600","v":23},null,{"$f":"W607","v":4.3386721218671118},{"$f":"X607","v":90.855865233553772},{"$f":"V607","v":30},null,{"$f":"AB579","v":4.2282469331932813},{"$f":"AC579","v":90.85963851866137},{"$f":"AA579","v":53},null,{"$f":"AG592","v":6.9453148895506347},{"$f":"AH592","v":91.497523813783317},{"$f":"AF592","v":"p18"},null,{"$f":"AG598","v":-5.1103357383975041},{"$f":"AH598","v":97.988208919556371},{"$f":"AF598","v":"p21"},null,{"$f":"AZ569+BA568","v":1.7718244401852719},{"$f":"AZ570-BA567","v":77.5},"β13",null,{"$f":"AG603","v":20.160991799641138},{"$f":"AH603","v":84.705649549969408},{"$f":"AF603","v":"p25"},null,{"$f":"AG578","v":35.913574022264768},{"$f":"AH578","v":68.75889797151163},"p11",null,null,{"$f":"AZ165","v":5},{"$f":"BA165","v":100.5},38,null,{"$f":"CZ573","v":17.60146911154062},{"$f":"DE583","v":5},"47r",null,{"$f":"DD576","v":4.4926035502958612},91.5,{"$f":"DF576","v":"12r"},null,{"$f":"DD572","v":33.189437055267248},85.409735249698898,{"$f":"DF572","v":"10r"},null,{"$f":"DD612","v":15},{"$f":"DE612","v":96.5},"44b",null,{"$f":"BG385","v":5},{"$f":"BH385","v":100.5},38,null,{"$f":"DT570+DT580-DT581","v":31.458017260508768},{"$f":"DU570-DU580+DU581","v":85.392381885950456},"10r",null,null,null,null,null,{"$f":"DT567","v":5},{"$f":"DU567","v":100.5},"38b"]
[null,null,null,null,null,"t4",{"$f":"'متغیرها '!C579","v":-0.05},null,null,"y1",{"$f":"'متغیرها '!C586","v":0},null,null,"s4",{"$f":"G571*G569*L588/(G571+1)","v":25.461818181818181},{"$f":"H571*1*K588/(H571+1)","v":22.36363636363636},null,"s35",{"$f":"O587*IF(AH605>AH602,SQRT(POWER((AG602-AG605),2)+POWER((AH602-AH605),2)),0)/SQRT(POWER((AG602-AG591),2)+POWER((AH602-AH591),2))","v":1.1301160026662681E-3},null,{"$f":"U568","v":23.36363636363636},4,{"$f":"W568","v":24.613636363636367},{"$f":"X568+G576*L586","v":0},{"$f":"Y568+0.2*K586","v":8.2200000000000006},null,44,{"$f":"AB575+S574-AL570+AG567","v":-3.6877794123740379},{"$f":"X567-K568","v":0},null,{"$f":"AE568","v":26.036363636363632},"p4",{"$f":"AG568","v":27.33636363636364},{"$f":"AH568+G576*L586","v":0},{"$f":"AI568+0.2*K586","v":8.2200000000000006},null,"p39",{"$f":"AG567+S574*G599","v":6.8083475941922211},{"$f":"AH567","v":0},null,3,{"$f":"RADIANS(3)+O581","v":0.17744945448225408},{"$f":"AG574-O576*SIN(AP570)","v":-3.0386423334226365},{"$f":"AH574+O576*COS(AP570)","v":77.210565067167664},{"$f":"AG573+O575*SIN(O573+(AP570-O581)*G579)","v":34.944019370125638},{"$f":"AH573+O575*COS(O573+(AP570-O581)*G579)","v":68.98685084846376},{"$f":"AQ570+0.5*L582*COS(AP570-O581)","v":22.413927933634564},{"$f":"AR570+0.5*L582*SIN(AP570-O581)","v":78.544477751909696},15.759169503254302,null,"عمودی بالای جیب",{"$f":"AZ583+'متغیرها '!C682*0.5*COS(RADIANS('متغیرها '!C683))*(0.5*'متغیرها '!U84+0.06*H105)","v":77.5},null,null,"عمودی بالای جیب",{"$f":"BD583+'متغیرها '!C673*0.5*COS(RADIANS('متغیرها '!C674))*(0.5*'متغیرها '!U84+0.06*H105)","v":77.5},null,null,null,null,null,null,null,null,null,null,null,null,null,null,-0.27863302682780516,99.513640909231029,{"$f":"V603","v":26},null,{"$f":"W612","v":1.5900825980803077},65.813640909231026,{"$f":"V612","v":35},null,{"$f":"AB569","v":4.2282469331932813},{"$f":"AC569","v":90.85963851866137},{"$f":"AA569","v":43},null,{"$f":"AG596","v":18.759117838824942},{"$f":"AH596","v":92.988208919556371},{"$f":"AF596","v":"p15"},null,{"$f":"AG599","v":18.34034603164455},{"$f":"AH599","v":97.988208919556371},{"$f":"AF599","v":"p22"},null,{"$f":"AZ569+AZ567","v":0.77182444018527196},{"$f":"AZ570+AZ568","v":78.5},"β11",null,null,null,null,null,{"$f":"AG568","v":27.33636363636364},{"$f":"AH568","v":0},"p2",null,null,{"$f":"AZ179","v":18.248969111540617},{"$f":"BA179","v":100.5},"40 شیفت",null,{"$f":"CZ571+CZ583-CZ585","v":33.17984694302735},{"$f":"DA571-DA583+DA585","v":94.947625418883092},"32r",null,-1.4923964497041382,74.265000000000001,{"$f":"DF579","v":"11r"},null,27.310005237085434,5,{"$f":"DF575","v":"1r"},null,6.1746472394879239,68.817773815476116,{"$f":"DJ614","v":"p13r"},null,{"$f":"BG395","v":32.494999999999997},{"$f":"BH395","v":103.92120297376289},41,null,{"$f":"DX569","v":22.139835442326948},{"$f":"DY578","v":5},"1r",null,null,null,null,null,0.57932242990653648,76.125,{"$f":"DZ573","v":"13r"}]
[null,null,null,null,null,"t5",{"$f":"'متغیرها '!C611","v":1.2},1.2,null,"xp1",{"$f":"'متغیرها '!C587","v":5},10,null,"s5",{"$f":"0.5*(O570-O569)","v":2.1218181818181812},{"$f":"0.5*(P570-P569)","v":1.8636363636363633},null,"s36",{"$f":"ATAN((AG587-AG577)/(AH587-AH577))","v":-6.0414809801343033E-2},null,{"$f":"U567","v":10},5,{"$f":"W567","v":6},{"$f":"X570","v":0},{"$f":"Y570","v":8.2200000000000006},null,45,{"$f":"AB576-S573+W616-W567","v":0.37532336311508274},{"$f":"AC570","v":0},null,{"$f":"AE567","v":10},"p5",{"$f":"AG567","v":5},{"$f":"AH570","v":0},{"$f":"AI570","v":8.2200000000000006},null,"p40",{"$f":"AG571+S574*G599","v":6.8083475941922211},{"$f":"AH571","v":0},null,4,{"$f":"RADIANS(4)+O581","v":0.1949027470021974},{"$f":"AG574-O576*SIN(AP571)","v":-3.6678722784242765},{"$f":"AH574+O576*COS(AP571)","v":77.092044951509905},{"$f":"AG573+O575*SIN(O573+(AP571-O581)*G579)","v":35.429791353505045},{"$f":"AH573+O575*COS(O573+(AP571-O581)*G579)","v":68.877104997620265},{"$f":"AQ571+0.5*L582*COS(AP571-O581)","v":21.757541452572994},{"$f":"AR571+0.5*L582*SIN(AP571-O581)","v":78.8699630760633},16.934805281710229,null,"افقی پایین جیب",{"$f":"2*AZ582-AZ569","v":17.031824440185268},null,null,"افقی پایین جیب",{"$f":"2*BD582-BD569","v":19.63131818181818},null,null,{"$f":"AE568","v":26.036363636363632},{"$f":"AI568","v":0},{"$f":"AF568","v":"p2"},null,{"$f":"U568","v":23.36363636363636},{"$f":"Y568","v":0},{"$f":"V568","v":2},null,{"$f":"W592","v":-0.27863302682780516},{"$f":"X592","v":91.013640909231029},{"$f":"V592","v":17},null,{"$f":"W600","v":-0.27863302682780516},{"$f":"X600","v":96.013640909231029},{"$f":"V600","v":23},null,7.4368181818181824,59.513640909231029,{"$f":"V613","v":36},null,{"$f":"AB568","v":4.6300785444119805},{"$f":"AC568","v":77.5},{"$f":"AA568","v":42},null,{"$f":"AG591","v":7.5021165690197718},{"$f":"AH591","v":91.546237648569075},{"$f":"AF591","v":"p17"},null,{"$f":"AG600","v":18.34034603164455},{"$f":"AH600","v":101.48820891955637},{"$f":"AF600","v":"p23"},null,{"$f":"AZ571+AZ567","v":17.031824440185268},{"$f":"AZ572+AZ568","v":78.5},"β5",null,null,null,null,null,{"$f":"AL589","v":13.642832606548595},{"$f":"AM589","v":0},"p75",null,null,{"$f":"BD178","v":33.525039999999997},{"$f":"BE178","v":103.92120297376289},"41 شیفت",null,{"$f":"CZ571+CZ583-CZ586","v":32.316491551665308},{"$f":"DA571-DA583+DA586","v":83.97991951847446},"29r",null,null,null,null,null,null,null,null,null,-0.40224524411788309,67.775269282269463,{"$f":"DJ615","v":"p11r"},null,{"$f":"BK405","v":17.41264},{"$f":"BL405","v":82.5},47,null,{"$f":"DT567-DT577+DT578","v":4.1168224299065415},{"$f":"DU567-DU578+DU577","v":91.5},"12r",null,null,null,null,null,-2.1831775700934664,74,{"$f":"DZ574","v":"11r"}]
[null,null,null,null,null,"t7",{"$f":"'متغیرها '!C595","v":5},null,null,"t49",{"$f":"'متغیرها '!C598","v":0},null,null,"s7",{"$f":"ATAN((W579-W573)/(X579-X573))","v":0.16110389365676628},{"$f":"ATAN((U579-U573)/(Y579-Y573))","v":0.23506430041031551},null,"s38",{"$f":"0.5*(W584-W594)*G596","v":4.5095103625937965},null,{"$f":"U569+0.5*P569","v":25.999999999999996},6,{"$f":"IF(X568>0.9*X572,W570,W569+0.5*O569)","v":25.915909090909093},{"$f":"IF(X568>0.9*X572,X570,X572-G577*L586)","v":41.1},{"$f":"Y572","v":41.1},null,47,{"$f":"AB575+S576*SIN(S577)","v":-5.2604345563130464},{"$f":"AC575+S576*COS(S577)","v":91.427128068885324},null,{"$f":"AE569+0.5*P570","v":29.199999999999996},"p6",{"$f":"IF(AH568>0.9*AH572,AG570,AG569+0.5*O570)","v":28.899090909090912},{"$f":"IF(AH568>0.9*AH572,AH570,AH572-G577*L586)","v":41.1},{"$f":"AI572","v":41.1},null,"p42",{"$f":"AG577+S574*COS(O572-O581)","v":-0.69200535614558589},{"$f":"AH577+S574*SIN(O572-O581)","v":77.277777065732693},null,6,{"$f":"RADIANS(6)+O581","v":0.22980933204208398},{"$f":"AG574-O576*SIN(AP573)","v":-4.9196482701628863},{"$f":"AH574+O576*COS(AP573)","v":76.822153585500843},{"$f":"AG573+O575*SIN(O573+(AP573-O581)*G579)","v":36.395220011517402},{"$f":"AH573+O575*COS(O573+(AP573-O581)*G579)","v":68.632265777143118},{"$f":"AQ573+0.5*L582*COS(AP573-O581)","v":20.428228538035981},{"$f":"AR573+0.5*L582*SIN(AP573-O581)","v":79.486322793035157},19.306873657287543,null,"متغیر محاسبه ای محلی",null,null,null,"متغیر محاسبه ای محلی",null,null,null,{"$f":"AE573","v":29.199999999999996},{"$f":"AI573","v":41.1},{"$f":"AF573","v":"p6"},null,{"$f":"U573","v":25.999999999999996},{"$f":"Y573","v":41.1},{"$f":"V573","v":6},null,null,null,null,null,{"$f":"W602","v":24.291331774566483},{"$f":"X602","v":99.513640909231029},{"$f":"V602","v":25},null,21.093818181818182,81.102728181846203,{"$f":"V615","v":38},null,{"$f":"W617","v":8.2547551812968987},{"$f":"X617","v":0},{"$f":"V617","v":40},null,{"$f":"AG591","v":7.5021165690197718},{"$f":"AH591","v":91.546237648569075},{"$f":"AF591","v":"p17"},null,{"$f":"AG600","v":18.34034603164455},{"$f":"AH600","v":101.48820891955637},{"$f":"AF600","v":"p23"},null,{"$f":"AZ571+AZ567","v":17.031824440185268},{"$f":"AZ572+AZ568","v":78.5},"β5",null,{"$f":"AL573","v":-0.69200535614558589},{"$f":"AM573","v":77.277777065732693},{"$f":"AK573","v":"p42"},null,{"$f":"AL592","v":-4.2739083648086043},{"$f":"AM592","v":1.6106260918314261},"p78",null,null,{"$f":"AZ162","v":17.60146911154062},{"$f":"BA162","v":84.3},47,null,{"$f":"DD572-CZ588+CZ587","v":28.612277964358157},{"$f":"DE581","v":46.1},"7r",null,2.3981887775685884,54.549500000000002,{"$f":"DF580","v":"8r"},null,23.852006679320041,97.944801698224708,{"$f":"DF586","v":"31'r"},null,{"$f":"DH615","v":-0.40224524411788309},67.775269282269463,{"$f":"DJ615","v":"p11r"},null,null,null,"نقاط ورودی از شبیه ساز جلو شلوار",null,{"$f":"DX572-DT575+DT576","v":0.57932242990653648},{"$f":"DY572-DU576+DU575","v":76.125},"13r",null,null,null,null,null,{"$f":"DX574","v":-2.1831775700934664},74,{"$f":"DZ574","v":"11r"}]
[null,null,null,null,null,"t8",{"$f":"'متغیرها '!C596","v":3.5},null,null,"t50",{"$f":"'متغیرها '!C599","v":5},null,"فاق جلو","s8",{"$f":"SQRT(POWER((W579-W581),2)+POWER((X579-X581),2))+SQRT(POWER((W581-W582),2)+POWER((X581-X582),2))+SQRT(POWER((W582-W580),2)+POWER((X582-X580),2))+SQRT(POWER((W580-W585),2)+POWER((X580-X585),2))","v":28.28935786395623},{"$f":"SQRT(POWER((U579-U581),2)+POWER((Y579-Y581),2))+SQRT(POWER((U581-U582),2)+POWER((Y581-Y582),2))+SQRT(POWER((U582-U580),2)+POWER((Y582-Y580),2))+SQRT(POWER((U580-U585),2)+POWER((Y580-Y585),2))","v":28.575474788145506},null,"s39",{"$f":"(AG592-AG587)*G597","v":3.6166951883844423},null,{"$f":"2*U572-U573","v":7.3636363636363633},7,{"$f":"IF(X568>0.9*X572,W571,2*W572-W573)","v":4.6977272727272741},{"$f":"X573","v":41.1},{"$f":"Y573","v":41.1},null,48,{"$f":"IF(X568>0.9*X572,AB570,AB575+S574-AL572+AG574)","v":-4.5919532094701481},{"$f":"IF(X568>0.9*X572,AC570,AC570+AM571-AM570+SQRT(POWER((AL571-AL572),2)+POWER((AM571-AM572),2)))","v":41.105275728065202},null,{"$f":"2*AE572-AE573","v":6.836363636363636},"p7",{"$f":"IF(AH568>0.9*AH572,AG571,2*AG572-AG573)","v":3.437272727272731},{"$f":"AH573","v":41.1},{"$f":"AI573","v":41.1},null,"p43",{"$f":"AG587+S574*COS(O572-O581)","v":-1.5074031671149957},{"$f":"AH587+S574*SIN(O572-O581)","v":90.758006807844197},null,7,{"$f":"RADIANS(7)+O581","v":0.24726262456202727},{"$f":"AG574-O576*SIN(AP574)","v":-5.5418130138065447},{"$f":"AH574+O576*COS(AP574)","v":76.670864546674125},{"$f":"AG573+O575*SIN(O573+(AP574-O581)*G579)","v":36.874582607228803},{"$f":"AH573+O575*COS(O573+(AP574-O581)*G579)","v":68.497246987907843},{"$f":"AQ574+0.5*L582*COS(AP574-O581)","v":19.755707026151647},{"$f":"AR574+0.5*L582*SIN(AP574-O581)","v":79.777009436712817},20.500949784384879,null,"(β15→β16)",{"$f":"'متغیرها '!C682*(0.5*'متغیرها '!U84+(0.18-'متغیرها '!C685*0.08)*'متغیرها '!U83)*SIN((0.5*'متغیرها '!C685+0.5)*(RADIANS(90)-RADIANS('متغیرها '!C683)))","v":0},null,null,"(β15→β16)",{"$f":"'متغیرها '!C673*(0.5*'متغیرها '!U84+(0.18-'متغیرها '!C676*0.08)*'متغیرها '!U83)*SIN((0.5*'متغیرها '!C676+0.5)*(RADIANS(90)-RADIANS('متغیرها '!C674)))","v":0},null,null,{"$f":"AE575","v":30.634233791178325},{"$f":"AI575","v":49.214616208318652},{"$f":"AF575","v":"p8"},null,{"$f":"U575","v":27.002272727272725},{"$f":"Y575","v":49.47},{"$f":"V575","v":8},null,{"$f":"W590","v":-0.27863302682780516},{"$f":"X590","v":91.013640909231029},{"$f":"V590","v":19},null,{"$f":"W605","v":29.720158490880486},{"$f":"X605","v":99.513640909231029},{"$f":"V605","v":28},null,{"$f":"W580","v":24.508068181818182},{"$f":"X580","v":86.5},{"$f":"V580","v":12},null,{"$f":"W616","v":8.2547551812968987},{"$f":"X616","v":0},{"$f":"V616","v":39},null,{"$f":"AG589","v":7.3942141510353094},{"$f":"AH589","v":89.573074853034214},{"$f":"AF589","v":"p19"},null,{"$f":"AG601","v":-4.5094250919545358},{"$f":"AH601","v":101.48820891955637},{"$f":"AF601","v":"p24"},null,{"$f":"AZ571-BA568","v":16.031824440185268},{"$f":"AZ572+BA567","v":77.5},"β7",null,{"$f":"AL572","v":6.1497941185610632},{"$f":"AM572","v":41.1},{"$f":"AK572","v":"p41"},null,{"$f":"AL593","v":-16.963475005496743},{"$f":"AM593","v":4.307876746058712},"p79",null,null,{"$f":"BD149","v":5},{"$f":"BE149","v":136.36934389257897},26,null,{"$f":"DD573+CZ588-CZ589","v":27.310005237085434},{"$f":"DE582","v":5},"5r",null,3.08476264120495,46.1,{"$f":"DF581","v":"6r"},null,27.93293679469199,95.375793458789033,{"$f":"DF587","v":"32'r"},null,7.2539534147691063,48.414040702211324,{"$f":"DJ616","v":"p8r"},null,{"$f":"U579","v":32.68181818181818},{"$f":"Y579","v":69},11,null,{"$f":"DX573-DT574+DT575","v":-2.1831775700934664},{"$f":"DY573-DU575+DU574","v":74},"11r",null,null,null,null,null,3.4963678844519883,54.47,{"$f":"DZ575","v":"8r"}]
[null,null,null,null,null,"t11",{"$f":"'متغیرها '!C614","v":0},null,null,null,null,null,null,"s11",{"$f":"SQRT(POWER((AG578-AG579),2)+POWER((AH578-AH579),2))","v":18.117800136610107},{"$f":"SQRT(POWER((AE578-AE579),2)+POWER((AI578-AI579),2))","v":19.335294911218455},null,"s42",{"$f":"AY602","v":1.7453292519943295E-2},null,{"$f":"U569","v":16.68181818181818},9,{"$f":"W569","v":15.306818181818183},{"$f":"X567-O566+L587","v":77.5},{"$f":"Y567+K587","v":77.5},null,51,{"$f":"IF(X568>0.9*X572,AB571,AB576-S573+AB567-W574)","v":1.5027009537635312},{"$f":"AC574","v":41.105275728065202},null,{"$f":"AE574-P576*SIN(P572)","v":-3.6136869092669599},"p10",{"$f":"AG574-O576*SIN(O572)","v":-4.2949379274280943},{"$f":"AH574+O576*COS(O572)","v":76.962561310297161},{"$f":"AI574+P576*COS(P572)","v":76.602156805025828},null,"p46",{"$f":"AL576-SQRT(POWER((AG612-AG613),2)+POWER((AH612-AH613),2))*SIN(S571+S572)","v":-1.0475254564320489},{"$f":"AM576-SQRT(POWER((AG612-AG613),2)+POWER((AH612-AH613),2))*COS(S571+S572)","v":85.723905504808144},null,10,{"$f":"RADIANS(10)+O581","v":0.29962250212185715},{"$f":"AG574-O576*SIN(AP577)","v":-7.3911426993011133},{"$f":"AH574+O576*COS(AP577)","v":76.152186874616376},{"$f":"AG573+O575*SIN(O573+(AP577-O581)*G579)","v":38.297513592577587},{"$f":"AH573+O575*COS(O573+(AP577-O581)*G579)","v":68.042295028560858},{"$f":"AQ577+0.5*L582*COS(AP577-O581)","v":17.70914490559754},{"$f":"AR577+0.5*L582*SIN(AP577-O581)","v":80.578044802902269},24.104479824213616,null,"(زاویهβ9  β15)",{"$f":"IF(CN596<CN594,ATAN((CM594-CM596)/(CN594-CN596)),ATAN((CM594-CM596)/-(CN594-CN596)))","v":-0.48042711719862813},null,null,"(زاویهβ9  β15)",{"$f":"IF(BX611<BX609,ATAN((BW609-BW611)/(BX609-BX611)),ATAN((BW609-BW611)/-(BX609-BX611)))","v":-0.48336264387390715},null,null,{"$f":"AE567","v":10},{"$f":"AI567","v":0},{"$f":"AF567","v":"p1"},null,{"$f":"U567","v":10},{"$f":"Y567","v":0},{"$f":"V567","v":1},null,{"$f":"W593","v":-0.27863302682780516},{"$f":"X593","v":91.013640909231029},{"$f":"V593","v":18},null,null,null,null,null,{"$f":"W611","v":9.9773903103338579},{"$f":"X611","v":85.465407673598804},{"$f":"V611","v":34},null,{"$f":"W568","v":24.613636363636367},{"$f":"X568","v":0},{"$f":"V568","v":2},null,{"$f":"AG592","v":6.9453148895506347},{"$f":"AH592","v":91.497523813783317},{"$f":"AF592","v":"p18"},null,{"$f":"AG598","v":-5.1103357383975041},{"$f":"AH598","v":97.988208919556371},{"$f":"AF598","v":"p21"},null,{"$f":"AZ571-AZ567","v":17.031824440185268},{"$f":"AZ572-AZ568","v":76.5},"β3",null,null,null,null,null,{"$f":"AL602","v":-41.741667439757137},{"$f":"AM602","v":13.077069558192122},"p87",null,null,null,null,"نقاط ورودی از شلوار",null,{"$f":"DD576-CZ580+CZ581","v":3.4951035502958625},{"$f":"DE576-DA581+DA580","v":80.852999999999994},"14r",null,null,null,null,null,{"$f":"DD584","v":28.907734851305079},{"$f":"DE584","v":103.76342729808563},{"$f":"DF584","v":"30r"},null,14.190589230826165,-0.98362868924216684,{"$f":"DJ619","v":"p2r"},null,{"$f":"U580","v":26.381818181818176},{"$f":"Y580","v":86.5},19,null,{"$f":"DX576-DT586+DT585","v":7.1350042480883538},{"$f":"DY576-DU585+DU586","v":13.22},"4r",null,null,null,null,null,7.1350042480883538,5,{"$f":"DZ578","v":"2r"}]
[null,null,null,null,null,"t12",{"$f":"'متغیرها '!C615","v":0.05},0.05,null,"اندازه ورودی","شبیه ساز","مقدار تغییر یافته",null,"s12",{"$f":"SQRT(POWER((W578-W586),2)+POWER((X578-X586),2))","v":18.5},{"$f":"SQRT(POWER((U578-U586),2)+POWER((Y578-Y586),2))","v":18.5},null,"s43",{"$f":"ASIN((AB575-AB576+S576*SIN(S577)+(S573+S574)*COS(S579))/S575)","v":1.532116521825394E-2},null,{"$f":"U577-IF(H572=-1,0.25*(K581-K582)+0.03*K581,(U572-U574)+TAN(RADIANS(H572))*(Y577-Y572))","v":0.68181818181817988},10,{"$f":"W577-IF(G572=-1,0.25*(L581-L582)+0.03*L581,(W572-W574)+TAN(RADIANS(G572))*(X577-X572))","v":0.12056818181818407},{"$f":"X577","v":77.5},{"$f":"Y577","v":77.5},null,52,{"$f":"IF(O584<0.3,AB569,W591+O584*COS(O582))","v":4.2282469331932813},{"$f":"IF(O584<0.3,AC569,X591-O584*SIN(O582))","v":90.85963851866137},null,{"$f":"AE573+P575*SIN(P573+(P572-P581)*H579)","v":38.761558607855534},"p11",{"$f":"AG573+O575*SIN(O573+(O572-O581)*G579)","v":35.913574022264768},{"$f":"AH573+O575*COS(O573+(O572-O581)*G579)","v":68.75889797151163},{"$f":"AI573+P575*COS(P573+(P572-P581)*H579)","v":68.148720694395507},null,"p47a",{"$f":"AG569-S583","v":10.02568181818182},{"$f":"AH567","v":0},null,11,{"$f":"RADIANS(11)+O581","v":0.31707579464180047},{"$f":"AG574-O576*SIN(AP578)","v":-8.0012384910344601},{"$f":"AH574+O576*COS(AP578)","v":75.957866349679989},{"$f":"AG573+O575*SIN(O573+(AP578-O581)*G579)","v":38.766290050472257},{"$f":"AH573+O575*COS(O573+(AP578-O581)*G579)","v":67.874166493988469},{"$f":"AQ578+0.5*L582*COS(AP578-O581)","v":17.017984347087875},{"$f":"AR578+0.5*L582*SIN(AP578-O581)","v":80.821110619339677},25.310317326197787,null,"(β3→β15)",{"$f":"SQRT(POWER(CM598-CM596,2)+POWER(CN598-CN596,2))","v":17.591387097099535},null,null,"(β3→β15)",{"$f":"SQRT(POWER(BW613-BW611,2)+POWER(BX613-BX611,2))","v":15.743636460487771},null,null,{"$f":"AE571","v":10},{"$f":"AI571","v":8.2200000000000006},{"$f":"AF571","v":"p5"},null,{"$f":"U571","v":10},{"$f":"Y571","v":8.2200000000000006},{"$f":"V571","v":5},null,{"$f":"W594","v":-0.27863302682780516},{"$f":"X594","v":91.013640909231029},{"$f":"V594","v":20},null,null,null,"زیپ",null,{"$f":"W610","v":5.8964601949619091},{"$f":"X610","v":82.468231394257174},{"$f":"V610","v":33},null,null,null,null,null,null,null,null,null,null,null,null,null,null,null,null,null,{"$f":"AG608","v":20.160991799641138},{"$f":"AH608","v":85.705649549969408},{"$f":"AF608","v":"p28"},null,null,null,null,null,null,{"$f":"W579","v":30.493068181818181},{"$f":"X579","v":69.265000000000001},11,null,{"$f":"DD577-CZ579+CZ580","v":1.5001035502958615},{"$f":"DE577-DA580+DA579","v":76.323750000000004},"13r",null,{"$f":"DD583","v":4.3870353684776759},{"$f":"DE583","v":5},{"$f":"DF583","v":"2r"},null,{"$f":"DD571","v":32.316491551665308},{"$f":"DE571","v":83.97991951847446},{"$f":"DF571","v":"29r"},null,null,null,null,null,{"$f":"U585","v":25.498640611724717},{"$f":"Y585","v":95.5},"15a",null,{"$f":"DX577","v":7.1350042480883538},{"$f":"DY577-DU586+DU587","v":5},"2r"]
[null,null,null,null,null,"t14",{"$f":"'متغیرها '!C584","v":0.30000000000000004},null,null,{"$f":"'متغیرها '!T53","v":"b"},44.6,{"$f":"K580+0.3*G570*K581","v":43.024999999999999},"فاق پشت","s14",{"$f":"SQRT(POWER((AG578-AG583),2)+POWER((AH578-AH583),2))+SQRT(POWER((AG583-AG584),2)+POWER((AH583-AH584),2))+SQRT(POWER((AG584-AG579),2)+POWER((AH584-AH579),2))+SQRT(POWER((AG579-AG595),2)+POWER((AH579-AH595),2))","v":38.928645320079397},{"$f":"SQRT(POWER((AE578-AE583),2)+POWER((AI578-AI583),2))+SQRT(POWER((AE583-AE584),2)+POWER((AI583-AI584),2))+SQRT(POWER((AE584-AE579),2)+POWER((AI584-AI579),2))+SQRT(POWER((AE579-AE595),2)+POWER((AI579-AI595),2))","v":40.085198846308501},null,"s45",{"$f":"0.45*(W569-W567)*G600","v":4.1880681818181831},null,{"$f":"U577+0.5*(K581-K582)-U577+U578","v":26.381818181818176},12,{"$f":"W577+0.5*(L581-L582)-W577+W578","v":24.508068181818182},{"$f":"X577+0.5*(L583-L587)","v":86.5},{"$f":"Y577+0.5*(K583-K587)","v":86.5},null,54,{"$f":"IF(O584<0.3,AB569,W589-(X589-X590)*TAN(O582))","v":4.2282469331932813},{"$f":"IF(O584<0.3,AC569,X580-(X589-X580)*(G587-1))","v":90.85963851866137},null,{"$f":"AE577-(K584-K587)*SIN(P572-P581)","v":-5.5474634797185489},"p20a",{"$f":"AG577-(L584-L587)*SIN(O572-O581)","v":-5.9073191682597699},{"$f":"AH577+(L584-L587)*COS(O572-O581)","v":95.392163224994448},{"$f":"AI577+(K584-K587)*COS(P572-P581)","v":95.000811869338889},null,"p49",{"$f":"AG569","v":16.168181818181822},{"$f":"AH569+S584","v":0},null,13,{"$f":"RADIANS(13)+O581","v":0.35198237968168705},{"$f":"AG574-O576*SIN(AP580)","v":-9.2107924507853731},{"$f":"AH574+O576*COS(AP580)","v":75.537433594782954},{"$f":"AG573+O575*SIN(O573+(AP580-O581)*G579)","v":39.694684154627282},{"$f":"AH573+O575*COS(O573+(AP580-O581)*G579)","v":67.513496111276538},{"$f":"AQ580+0.5*L582*COS(AP580-O581)","v":15.623464575428311},{"$f":"AR580+0.5*L582*SIN(AP580-O581)","v":81.270873592372212},27.725242058228638,null,null,null,null,null,null,null,null,null,{"$f":"AE577","v":-3.6136869092669599},{"$f":"AI577","v":76.602156805025828},{"$f":"AF577","v":"p10"},null,{"$f":"U578","v":0.68181818181817988},{"$f":"Y578","v":77.5},{"$f":"V578","v":10},null,null,null,"وسط شلوار",null,{"$f":"W596","v":30.896806754979359},{"$f":"X596","v":76.303162911909709},{"$f":"V596","v":21},null,null,null,null,null,{"$f":"AB575","v":-5.4961270065662582},{"$f":"AC575","v":77.924316637219135},{"$f":"AA575","v":49},null,{"$f":"AL585","v":27.33636363636364},{"$f":"AM585","v":0},{"$f":"AK585","v":"p53"},null,{"$f":"AG603","v":20.160991799641138},{"$f":"AH603","v":84.705649549969408},{"$f":"AF603","v":"p25"},null,{"$f":"AZ571-AZ567","v":17.031824440185268},{"$f":"AZ572-AZ568","v":76.5},"β3",null,null,null,null,null,{"$f":"AL588","v":13.642832606548595},{"$f":"AM588","v":92.332835775119761},"p74",null,null,{"$f":"W582","v":25.50556818181818},{"$f":"X582","v":75.852999999999994},14,null,{"$f":"DD579+CZ578-CZ590","v":2.3981887775685884},{"$f":"DE579-DA578+DA590","v":54.549500000000002},"8r",null,null,null,null,null,{"$f":"CZ571","v":33.525039999999997},{"$f":"DA571","v":103.92120297376289},"41b",null,{"$f":"DH606","v":27.691600000000001},{"$f":"DI606","v":0.20027276317281362},{"$f":"DJ606","v":"49r"},null,{"$f":"U594","v":-0.35516455767304844},{"$f":"Y594","v":96.028821087812432},20,null,"نقاط  خروجی پشت شبیه ساز شلوار متصل به بالاتنه",null,null,null,null,null,null,null,{"$f":"DX570","v":22.139835442326948},{"$f":"DY570","v":5},{"$f":"DZ570","v":"1r"}]
[null,null,null,null,null,"t15",{"$f":"'متغیرها '!C623","v":0},null,null,{"$f":"'متغیرها '!T54","v":"c"},105,{"$f":"K581+G570*K581","v":99.75},null,"s15",{"$f":"ATAN((W574-W578)/(X578-X574))","v":0.1250895769224242},{"$f":"ATAN((U574-U578)/(Y578-Y574))","v":0.18154528532085282},null,"s46",{"$f":"0.3*L591*G602","v":0},null,{"$f":"U579-1.3*(Y581-Y579)","v":29.919318181818181},13,{"$f":"W579-0.6*(W579-W582)","v":27.500568181818181},{"$f":"X579+0.25*(X577-X579)","v":71.323750000000004},{"$f":"Y579+0.25*(Y577-Y579)","v":71.125},null,55,{"$f":"W607+S573","v":8.8481824844609083},{"$f":"X607","v":90.855865233553772},null,{"$f":"AE580+0.5*K582*COS(P572-P581)","v":21.105723316151177},"p15a",{"$f":"AG580+0.5*L582*COS(O572-O581)","v":19.483193199353593},{"$f":"AH580+0.5*L582*SIN(O572-O581)","v":97.613545218275391},{"$f":"AI580+0.5*K582*SIN(P572-P581)","v":97.802174684912003},null,"p50",{"$f":"AL578+0.2*(AL580-AL578)","v":11.25418181818182},{"$f":"AM578+0.6*(AM580-AM578)","v":0},null,14,{"$f":"RADIANS(14)+O581","v":0.36943567220163032},{"$f":"AG574-O576*SIN(AP581)","v":-9.8098821769495856},{"$f":"AH574+O576*COS(AP581)","v":75.311449432712294},{"$f":"AG573+O575*SIN(O573+(AP581-O581)*G579)","v":40.154019003049967},{"$f":"AH573+O575*COS(O573+(AP581-O581)*G579)","v":67.321064126829469},{"$f":"AQ581+0.5*L582*COS(AP581-O581)","v":14.920530146509876},{"$f":"AR581+0.5*L582*SIN(AP581-O581)","v":81.477433746808828},28.933229351225339,null,"متغیر محاسبه ای خارجی",null,null,null,"متغیر محاسبه ای خارجی",null,null,null,{"$f":"AE587","v":-4.4286263474292413},{"$f":"AI587","v":95.118406390515005},{"$f":"AF587","v":"p20"},null,{"$f":"U594","v":-0.35516455767304844},{"$f":"Y594","v":96.028821087812432},{"$f":"V594","v":20},null,{"$f":"AB597","v":24.613636363636367},{"$f":"AC597","v":0},{"$f":"AA597","v":70},null,{"$f":"W599","v":29.636209078624695},{"$f":"X599","v":91.400325823819372},{"$f":"V599","v":22},null,null,null,"پاکت جیب در مکان دلخواه",null,{"$f":"AB574","v":-4.5919532094701481},{"$f":"AC574","v":41.105275728065202},{"$f":"AA574","v":48},null,{"$f":"AG570","v":27.33636363636364},{"$f":"AH570","v":0},{"$f":"AF570","v":"p4"},null,{"$f":"AG605","v":7.9149277531468734},{"$f":"AH605","v":83.634257773088706},{"$f":"AF605","v":"p26"},null,null,null,null,null,{"$f":"AG609","v":18.759117838824942},{"$f":"AH609","v":93.988208919556371},{"$f":"AF609","v":"p29"},null,{"$f":"AL591","v":8.4851283976540905},{"$f":"AM591","v":92.395889958245519},"p77",null,null,{"$f":"W580","v":24.508068181818182},{"$f":"X580","v":86.5},19,null,{"$f":"DD580+CZ590-CZ591","v":3.08476264120495},{"$f":"DE580-DA590+DA591","v":46.1},"6r",null,{"$f":"CZ569","v":16.306469111540622},{"$f":"DA569","v":84.3},"47'b",null,{"$f":"BS140+BT130","v":35.844145557703101},{"$f":"BT140","v":115.38738418849009},"شیفت 14",null,null,null,null,null,{"$f":"U578","v":0.68181818181817988},{"$f":"Y578","v":77.5},10,null,"مولفه افقی","مولفه عمودی","اسم نقطه ",null,null,null,null,null,null,null,"شببیه ساز پهلو جلو"]
[null,null,null,null,null,"t18",{"$f":"'متغیرها '!C667","v":1},null,null,{"$f":"'متغیرها '!T57","v":"f"},96,{"$f":"K584+G606*K584","v":96},null,"s18",{"$f":"G609*O583*(0.5*(L584-L587)-G573*COS(O582))/(0.5*(L584-L587))","v":-0.15439181941520935},{"$f":"H609*P583*(0.5*(K584-K587))/(0.5*(K584-K587))","v":-0.34579439252336458},null,"s49",{"$f":"0.2*L591*G603","v":0},null,{"$f":"U580-0.15*(K581-K582)","v":18.671818181818175},16,{"$f":"W580-0.2*(L581-L582)","v":14.753068181818181},{"$f":"X583+0.3*G575","v":90.5},{"$f":"Y583","v":95.5},null,58,{"$f":"W609+S573","v":4.5760703927386359},{"$f":"X609","v":82.040063354351233},null,{"$f":"AE579+0.2*(AE578-AE579)","v":26.18391163085332},"p14",{"$f":"AG579+0.2*(AG578-AG579)","v":24.059174356601169},{"$f":"AH579-0.55*(AH579-AH578)","v":73.45016837094154},{"$f":"AI579-0.55*(AI579-AI578)","v":73.213380211187058},null,"p47",{"$f":"AL578-0.1*(AL578-AG567)","v":9.5231136363636377},{"$f":"AM583","v":0},null,null,null,null,null,null,null,null,null,null,null,null,null,null,null,null,null,null,null,{"$f":"AE583","v":31.686632183291788},{"$f":"AI583","v":69.274200587015855},{"$f":"AF583","v":"p13"},null,{"$f":"U581","v":29.919318181818181},{"$f":"Y581","v":71.125},{"$f":"V581","v":13},null,{"$f":"W575","v":26.602482954545454},{"$f":"X575","v":49.549500000000002},{"$f":"V575","v":8},null,null,null,"دامن شلواری",null,null,null,null,null,{"$f":"AB570","v":-3.6877794123740379},{"$f":"AC570","v":0},{"$f":"AA570","v":44},null,{"$f":"AG578","v":35.913574022264768},{"$f":"AH578","v":68.75889797151163},{"$f":"AF578","v":"p11"},null,null,null,null,null,null,null,null,null,null,null,null,null,{"$f":"AL594","v":7.4642117973385771},{"$f":"AM594","v":92.552119807766331},"p80",null,null,{"$f":"W595","v":-0.21503476291456558},{"$f":"X595","v":96.011467724063991},"20c",null,{"$f":"CZ571-CZ594+CZ583","v":28.907734851305079},{"$f":"DA571-DA583+DA594","v":103.76342729808563},"30r",null,{"$f":"CZ572","v":18.896469111540618},{"$f":"DA572","v":84.3},"47''b",null,{"$f":"CZ571","v":33.525039999999997},{"$f":"DA571","v":103.92120297376289},"41b",null,null,null,null,null,{"$f":"U575","v":27.002272727272725},{"$f":"Y575","v":49.47},8,null,{"$f":"DX583-(DT601-DT600)+(DU600-DU601)*TAN(DU607-DU608)","v":32.004764202051803},{"$f":"DY583-(DU600-DU601)","v":9.6015936094849934},"p5r",null,null,null,null,null,24.776199078690585,46.1,{"$f":"DZ568","v":"7r"}]
[null,null,null,null,null,"t19",{"$f":"'متغیرها '!C631","v":0.5},null,null,{"$f":"'متغیرها '!T58","v":"g"},96.5,{"$f":"K585+G606*K585","v":96.5},null,"s19",{"$f":"(L582-L580)/8","v":0.99375000000000036},{"$f":"(K582-K580)/8","v":1.125},null,"s50",{"$f":"AC600-AC601","v":90.5},null,{"$f":"U580-(Y585-Y580)*(U582-U580)/(Y580-Y582)-(4-2*H609-2*H610)*P583","v":25.498640611724717},"15a",{"$f":"W580-(X585-X580)*(W582-W580)/(X580-X582)-(4-2*G609-2*G610)*O583","v":24.000671732114043},{"$f":"X576","v":95.5},{"$f":"Y576","v":95.5},null,59,{"$f":"W611+S573","v":14.486900672927653},{"$f":"X611","v":85.465407673598804},null,{"$f":"AE581","v":21.105723316151177},"p15c",{"$f":"AG581+G573*SIN(O572-O581)","v":19.918971913091884},{"$f":"AH581-G573*COS(O572-O581)","v":92.632571727816668},{"$f":"AI581","v":97.802174684912003},null,"p53",{"$f":"AG568","v":27.33636363636364},{"$f":"AM583","v":0},null,null,"شبیه ساز محاسبه s6 به روش تخمین",null,null,null,null,null,null,"شبیه ساز",null,"محاسبه s42 به روش تخمین",null,null,null,null,null,null,null,{"$f":"AE584","v":26.18391163085332},{"$f":"AI584","v":73.213380211187058},{"$f":"AF584","v":"p14"},null,{"$f":"U582","v":27.431818181818176},{"$f":"Y582","v":75.8},{"$f":"V582","v":14},null,{"$f":"W579","v":30.493068181818181},{"$f":"X579","v":69.265000000000001},{"$f":"V579","v":11},null,{"$f":"W579","v":30.493068181818181},{"$f":"X579","v":69.265000000000001},{"$f":"V579","v":11},null,{"$f":"BD569+BD567","v":4.9973181818181835},{"$f":"BD570+BD568","v":78.5},"β11",null,{"$f":"AB571","v":0.37532336311508274},{"$f":"AC571","v":0},{"$f":"AA571","v":45},null,null,null,"خط اتو",null,{"$f":"AG607","v":-5.3743966888782051},{"$f":"AH607","v":83.702873173552121},{"$f":"AF607","v":"p27"},null,{"$f":"AZ569-AZ567","v":0.77182444018527174},{"$f":"AZ570-AZ568","v":76.5},"β9",null,{"$f":"AG608","v":20.160991799641138},{"$f":"AH608","v":85.705649549969408},{"$f":"AF608","v":"p28"},null,{"$f":"AL596","v":6.8920452182198808},{"$f":"AM596","v":90.660654831820594},"p82",null,null,{"$f":"W609","v":6.6560030144839577E-2},{"$f":"X609","v":82.040063354351233},32,null,{"$f":"CZ571-CZ595+CZ583","v":21.520046613393212},{"$f":"DA571-DA583+DA595","v":103.51098621700201},"31r",null,{"$f":"CZ570","v":18.248969111540617},{"$f":"DA570","v":100.5},"40b",null,null,null,null,null,{"$f":"DD615","v":27.691600000000001},{"$f":"DE615","v":79.400000000000006},"38'b",null,{"$f":"U573","v":25.999999999999996},{"$f":"Y573","v":41.1},6,null,{"$f":"DX584-(DT603-DT601)+(DU601-DU603)*TAN(DU607-DU608)","v":32.868721015935662},{"$f":"DY584-(DU601-DU603)","v":1.3815936094849928},"p1 r",null,null,null,null,null,22.139835442326948,13.22,{"$f":"DZ569","v":"5r"}]
[null,null,null,null,null,"t21",{"$f":"'متغیرها '!C618","v":1},1,null,{"$f":"'متغیرها '!T60","v":"j"},77.5,{"$f":"K587+G606*K587","v":77.5},null,"s21",{"$f":"(G607*O585/O590)*SQRT(POWER((AG590-AG589),2)+POWER((AH590-AH589),2))","v":0.27946428571428644},{"$f":"(H607*P585/P590)*SQRT(POWER((AE590-AE589),2)+POWER((AI590-AI589),2))","v":1.1249999999999989},null,"s52",{"$f":"0.27*(W583-W594)","v":6.6315217523699195},null,{"$f":"U578","v":0.68181818181817988},"20b",{"$f":"W578","v":0.12056818181818407},{"$f":"X586-G573","v":91},{"$f":"Y586","v":96},null,61,{"$f":"W612+S573","v":6.0995929606741042},{"$f":"X612","v":65.813640909231026},null,{"$f":"AE582+P589*COS(P572-P581)","v":-4.4286263474292413},"p20",{"$f":"AG582+O589*COS(O572-O581)","v":-5.1103357383975041},{"$f":"AH582+O589*SIN(O572-O581)","v":90.442791052408666},{"$f":"AI582+P589*SIN(P572-P581)","v":95.118406390515005},null,null,null,null,null,1,{"$f":"RADIANS(1)+P581","v":0.19899857784079611},{"$f":"AE574-P576*SIN(AP587)","v":-0.47970446649846288},{"$f":"AI574+P576*COS(AP587)","v":77.377842297043514},{"$f":"AE573+P575*SIN(P573+(AP587-P581)*H579)","v":36.367722648145183},{"$f":"AI573+P575*COS(P573+(AP587-P581)*H579)","v":68.879136888214191},{"$f":"AQ587+0.5*K582*COS(AP587-P581)","v":26.316213763692822},{"$f":"AR587+0.5*K582*SIN(AP587-P581)","v":77.84556678956271},{"$f":"SQRT(POWER((AS587-AU587),2)+POWER((AT587-AV587),2))","v":13.469584107537305},null,{"$f":"RADIANS(1)","v":1.7453292519943295E-2},{"$f":"ASIN((AB575-AB576+S576*SIN(AY587)+(S573+S574)*COS(S579))/S575)","v":1.532116521825394E-2},{"$f":"S575*COS(AZ587)+(S573+S574)*SIN(S579)-S576*COS(AY587)","v":0.56954566647385718},null,null,null,null,null,{"$f":"AE596","v":19.875417533392898},{"$f":"AI596","v":98.35212782823578},{"$f":"AF596","v":"p15"},null,{"$f":"U583","v":25.498640611724717},{"$f":"Y583","v":95.5},{"$f":"V583","v":15},null,{"$f":"W569","v":15.306818181818183},{"$f":"X569","v":0},{"$f":"V569","v":3},null,null,null,null,null,null,null,null,null,{"$f":"AB571","v":0.37532336311508274},{"$f":"AC571","v":0},{"$f":"AA571","v":45},null,{"$f":"AG572","v":16.168181818181822},{"$f":"AH572","v":41.1},{"$f":"AF572","v":"p6a"},null,{"$f":"AG574","v":3.437272727272731},{"$f":"AH574","v":41.1},{"$f":"AF574","v":"p7"},null,null,null,null,null,{"$f":"AL577","v":-1.0475254564320489},{"$f":"AM577","v":85.723905504808144},{"$f":"AK577","v":"p46"},null,{"$f":"AL596","v":6.8920452182198808},{"$f":"AM596","v":90.660654831820594},"p82",null,null,{"$f":"W578","v":0.12056818181818407},{"$f":"X578","v":77.5},10,null,{"$f":"DD585+0.55*(DD570-DD585)","v":27.93293679469199},{"$f":"DE570+0.05*(DE585-DE570)","v":95.375793458789033},"32'r",null,{"$f":"DD568","v":16.306469111540622},{"$f":"DE568","v":5},{"$f":"DF568","v":"52r"},null,{"$f":"DL581","v":35.844145557703101},{"$f":"DM581","v":115.38738418849009},"شیفت 14",null,null,null,null,null,{"$f":"U568","v":23.36363636363636},{"$f":"Y568","v":0},2,null,{"$f":"DX586-DT595+DT596+(DU596-DU595)*TAN(DU607-DU608)","v":11.375001310054653},{"$f":"DY586-DU596+DU595","v":72.02880004745117},"p14r"]
[null,null,null,null,null,"t22",{"$f":"'متغیرها '!C656","v":0.75},null,null,{"$f":"'متغیرها '!T61","v":"L"},41,{"$f":"K588+0.4*G570*K581","v":38.9},null,"s22",{"$f":"((4-G608-2*G607)*O585)*SQRT(POWER((AG579-AG585),2)+POWER((AH579-AH585),2))/SQRT(POWER((AG579-AG581),2)+POWER((AH579-AH581),2))","v":1.0877533783783788},{"$f":"((4-H608-2*H607)*P585)*SQRT(POWER((AE579-AE585),2)+POWER((AI579-AI585),2))/SQRT(POWER((AE579-AE581),2)+POWER((AI579-AI581),2))","v":1.125},null,"s53",{"$f":"SQRT(POWER((W591-AB600),2)+POWER((X591-AC600),2))-S587-O584","v":3.9109209960300011},null,{"$f":"U584","v":18.671818181818175},"16a",{"$f":"W584","v":14.753068181818181},{"$f":"X585","v":95.5},{"$f":"Y585","v":95.5},null,62,{"$f":"W613+S573","v":11.94632854441198},{"$f":"X613","v":59.513640909231029},null,{"$f":"AE580+0.25*K582*COS(P572-P581)","v":7.7791299182163138},"p19a",{"$f":"AG580+0.25*L582*COS(O572-O581)","v":6.7879370155469125},{"$f":"AH580+0.25*L582*SIN(O572-O581)","v":96.502854221634919},{"$f":"AI580+0.25*K582*SIN(P572-P581)","v":96.401493277125439},null,"p74",{"$f":"AG596-S594*COS(S593)","v":13.642832606548595},{"$f":"AH596-S594*SIN(S593)","v":92.332835775119761},null,2,{"$f":"RADIANS(2)+P581","v":0.2164518703607394},{"$f":"AE574-P576*SIN(AP588)","v":-1.1117258423259031},{"$f":"AI574+P576*COS(AP588)","v":77.244634011892003},{"$f":"AE573+P575*SIN(P573+(AP588-P581)*H579)","v":36.851443756718275},{"$f":"AI573+P575*COS(P573+(AP588-P581)*H579)","v":68.749811982229701},{"$f":"AQ588+0.5*K582*COS(AP588-P581)","v":25.671948321785862},{"$f":"AR588+0.5*K582*SIN(AP588-P581)","v":78.179940523519036},14.625609132098205,null,{"$f":"RADIANS(2)","v":3.4906585039886591E-2},{"$f":"ASIN((AB575-AB576+S576*SIN(AY588)+(S573+S574)*COS(S579))/S575)","v":3.2955312069468258E-2},{"$f":"S575*COS(AZ588)+(S573+S574)*SIN(S579)-S576*COS(AY588)","v":0.57002703800094245},null,null,null,null,null,null,null,null,null,null,null,null,null,{"$f":"W577","v":15.306818181818183},{"$f":"X577","v":77.5},{"$f":"V577","v":9},null,{"$f":"W568","v":24.613636363636367},{"$f":"X568","v":0},{"$f":"V568","v":2},null,{"$f":"BD571+BD567","v":19.63131818181818},{"$f":"BD572+BD568","v":78.5},"β5",null,{"$f":"AB577","v":1.5027009537635312},{"$f":"AC577","v":41.105275728065202},{"$f":"AA577","v":51},null,null,null,null,null,{"$f":"AG571","v":5},{"$f":"AH571","v":0},{"$f":"AF571","v":"p5"},null,{"$f":"AZ569+BA568","v":1.7718244401852719},{"$f":"AZ570-BA567","v":77.5},"β13",null,null,null,null,null,{"$f":"AL597","v":6.9136336294638703},{"$f":"AM597","v":92.647718128924794},"p81",null,null,{"$f":"W574","v":4.6977272727272741},{"$f":"X574","v":41.1},7,null,{"$f":"CZ575","v":3.3200600000000002},{"$f":"DA567","v":100.5},"38'",null,{"$f":"CZ569","v":16.306469111540622},{"$f":"DA569","v":84.3},"47'b",null,null,null,null,null,{"$f":"DD613","v":26.7666},{"$f":"DE613","v":96.5},"34b",null,null,null,null,null,{"$f":"DX587-DT594+DT595+(DU595-DU594)*TAN(DU607-DU608)","v":6.2863052195888338},{"$f":"DY587-DU595+DU594","v":68.089620423279968},"p13r"]
[null,null,null,null,null,"t24",{"$f":"'متغیرها '!C659","v":0.45},null,null,{"$f":"'متغیرها '!T64","v":"r"},{"$f":"'متغیرها '!U64","v":29.4},{"$f":"K591+0.4*G570*K581","v":27.299999999999997},null,"s25",{"$f":"ATAN((W582-W583)/(X583-X582))","v":8.3305732086711368E-2},null,null,"s56",{"$f":"0.15*L591*G605","v":0},null,{"$f":"U589","v":9.6768181818181773},"19b",{"$f":"W589-(G573)*SIN(O582)","v":7.2660652860635757},{"$f":"X589-(G573)*COS(O582)","v":90.752916505741439},{"$f":"Y589","v":95.75},null,"65a",{"$f":"W569+S580","v":19.494886363636368},{"$f":"X567","v":0},null,{"$f":"AE590+P587*COS(P572-P581)","v":8.8979670505056205},"p17",{"$f":"AG590+O587*COS(O572-O581)","v":7.5021165690197718},{"$f":"AH590+O587*SIN(O572-O581)","v":91.546237648569075},{"$f":"AI590+P587*SIN(P572-P581)","v":96.519087798301555},null,"p77",{"$f":"AL588-S594*COS(RADIANS(G613)-S593)","v":8.4851283976540905},{"$f":"AM588+S594*SIN(RADIANS(G613)-S593)","v":92.395889958245519},null,5,{"$f":"RADIANS(5)+P581","v":0.26881174792056928},{"$f":"AE574-P576*SIN(AP591)","v":-2.9924972459914212},{"$f":"AI574+P576*COS(AP591)","v":76.779128183998367},{"$f":"AE573+P575*SIN(P573+(AP591-P581)*H579)","v":38.288037068999955},{"$f":"AI573+P575*COS(P573+(AP591-P581)*H579)","v":68.31147325021854},{"$f":"AQ591+0.5*K582*COS(AP591-P581)","v":23.705520662867357},{"$f":"AR591+0.5*K582*SIN(AP591-P581)","v":79.114902089635606},18.148384485222778,null,{"$f":"RADIANS(5)","v":8.7266462599716474E-2},{"$f":"ASIN((AB575-AB576+S576*SIN(AY591)+(S573+S574)*COS(S579))/S575)","v":8.585521710318951E-2},{"$f":"S575*COS(AZ591)+(S573+S574)*SIN(S579)-S576*COS(AY591)","v":0.57121784287194899},null,null,null,null,null,null,null,null,null,null,null,null,null,{"$f":"AB595","v":6},{"$f":"AC595","v":0},{"$f":"AA595","v":69},null,{"$f":"AB604","v":-1.508419935550144},{"$f":"AC604","v":1.8032907426501823},{"$f":"AA604","v":78},null,{"$f":"BD571-BE568","v":18.63131818181818},{"$f":"BD572+BE567","v":77.5},"β7",null,null,null,null,null,null,null,null,null,{"$f":"AG608","v":20.160991799641138},{"$f":"AH608","v":85.705649549969408},{"$f":"AF608","v":"p28"},null,{"$f":"AZ569+AZ567","v":0.77182444018527196},{"$f":"AZ570+AZ568","v":78.5},"β11",null,null,null,null,null,{"$f":"AL598","v":9.7595698224326455E-2},{"$f":"AM598","v":93.972621689093558},"p83",null,null,{"$f":"W573","v":25.915909090909093},{"$f":"X573","v":41.1},6,null,null,null,null,null,{"$f":"DD575","v":27.310005237085434},{"$f":"DE575","v":5},{"$f":"DF575","v":"1r"},null,null,null,null,null,{"$f":"DD616","v":26.7666},{"$f":"DE616","v":96.5},"35b",null,null,null,null,null,{"$f":"DX590-DT605+DT606+(DU606-DU605)*TAN(DU607-DU608)","v":11.734165209800697},{"$f":"DY590-DU606+DU605","v":39.915419836264114},"p6r"]
[null,null,null,null,null,"t25",{"$f":"'متغیرها '!C660","v":5},null,null,{"$f":"'متغیرها '!T84","v":"w11"},{"$f":"'متغیرها '!U84","v":21},{"$f":"K592","v":21},null,"s26",{"$f":"1+0.5*G580*K591","v":5.41},null,null,"s57",{"$f":"AM588-AM589","v":92.332835775119761},null,{"$f":"IF(P584<0.3,U594,U591+P584*COS(P582))","v":-0.35516455767304844},17,{"$f":"IF(O584<0.3,W594,W591+O584*COS(O582))","v":-0.27863302682780516},{"$f":"IF(O584<0.3,X594,X591-O584*SIN(O582))","v":91.013640909231029},{"$f":"IF(P584<0.3,Y594,Y591-P584*SIN(P582))","v":96.028821087812432},null,66,{"$f":"W569","v":15.306818181818183},{"$f":"X569+S581","v":0},null,{"$f":"AE590-P587*COS(P572-P581)","v":6.6602927859270071},"p18",{"$f":"AG590-O587*COS(O572-O581)","v":6.9453148895506347},{"$f":"AH590-O587*SIN(O572-O581)","v":91.497523813783317},{"$f":"AI590-P587*SIN(P572-P581)","v":96.283898755949323},null,"p78",{"$f":"AL590-S594*COS(S593)*COS(RADIANS(G613))","v":-4.2739083648086043},{"$f":"AM590+S594*COS(S593)*SIN(RADIANS(G613))","v":1.6106260918314261},null,6,{"$f":"RADIANS(6)+P581","v":0.2862650404405126},{"$f":"AE574-P576*SIN(AP592)","v":-3.6136869092669599},{"$f":"AI574+P576*COS(AP592)","v":76.602156805025828},{"$f":"AE573+P575*SIN(P573+(AP592-P581)*H579)","v":38.761558607855534},{"$f":"AI573+P575*COS(P573+(AP592-P581)*H579)","v":68.148720694395507},{"$f":"AQ592+0.5*K582*COS(AP592-P581)","v":23.039499886602766},{"$f":"AR592+0.5*K582*SIN(AP592-P581)","v":79.403519620598942},19.335294911218455,null,{"$f":"RADIANS(6)","v":0.10471975511965978},{"$f":"ASIN((AB575-AB576+S576*SIN(AY592)+(S573+S574)*COS(S579))/S575)","v":0.10348804167935918},{"$f":"S575*COS(AZ592)+(S573+S574)*SIN(S579)-S576*COS(AY592)","v":0.57153071843588243},null,null,null,null,null,{"$f":"AE591","v":8.8979670505056205},{"$f":"AI591","v":96.519087798301555},{"$f":"AF591","v":"p17"},null,{"$f":"U583","v":25.498640611724717},{"$f":"Y583","v":95.5},{"$f":"V583","v":15},null,{"$f":"W571","v":6},{"$f":"X571","v":0},{"$f":"V571","v":5},null,{"$f":"AB605","v":-13.884349407538934},{"$f":"AC605","v":4.4338757586868134},{"$f":"AA605","v":79},null,{"$f":"BD571-BD567","v":19.63131818181818},{"$f":"BD572-BD568","v":76.5},"β3",null,{"$f":"AB573","v":-5.2604345563130464},{"$f":"AC573","v":91.427128068885324},{"$f":"AA573","v":47},null,null,null,"پهلو",null,{"$f":"AG609","v":18.759117838824942},{"$f":"AH609","v":93.988208919556371},{"$f":"AF609","v":"p29"},null,{"$f":"AZ569-AZ567","v":0.77182444018527174},{"$f":"AZ570-AZ568","v":76.5},"β9",null,{"$f":"AG578","v":35.913574022264768},{"$f":"AH578","v":68.75889797151163},{"$f":"AF578","v":"p11"},null,{"$f":"AL601","v":-4.7794738528713037},{"$f":"AM601","v":95.651931407470016},"p86",null,null,{"$f":"W570","v":24.613636363636367},{"$f":"X570","v":0},4,null,null,null,null,null,null,null,null,null,{"$f":"DL590","v":40.323985557703104},{"$f":"DM590","v":115.38738418849009},"شیفت 14'",null,{"$f":"BK179","v":26.7666},{"$f":"BL179","v":113.45561085030904},"شیفت40",null,null,null,"نقاط ورودی از شبیه ساز پشت شلوار",null,{"$f":"DX591-DT604+DT605+(DU605-DU604)*TAN(DU607-DU608)","v":18.353628828972504},{"$f":"DY591-DU605+DU604","v":7.0354198362641132},"p4r"]
[null,null,null,null,null,"t27",{"$f":"'متغیرها '!C662","v":0},null,null,{"$f":"'متغیرها '!T79","v":"t6"},{"$f":"'متغیرها '!U79","v":42.6},{"$f":"H127","v":42.6},null,"s28",{"$f":"ATAN((K581-K579)/(5*(K584-K587)))","v":8.6271812001177117E-2},null,null,"s59",{"$f":"0.22*(SQRT(POWER((AG587-AG596),2)+POWER((AH587-AH596),2))-2*O587)","v":5.1580896208245299},null,{"$f":"U587+P586*COS(P582)","v":-0.35516455767304844},20,{"$f":"W587+O586*COS(O582)","v":-0.27863302682780516},{"$f":"X587-O586*SIN(O582)","v":91.013640909231029},{"$f":"Y587-P586*SIN(P582)","v":96.028821087812432},null,68,{"$f":"AB591-(AB593-AB590)","v":18.657272727272733},{"$f":"AC593","v":0},null,{"$f":"AE588+P585*COS(P572-P581)","v":8.8979670505056205},"p17a",{"$f":"AG588+O585*COS(O572-O581)","v":7.7779054967755847},{"$f":"AH588+O585*SIN(O572-O581)","v":96.589465240990407},{"$f":"AI588+P585*SIN(P572-P581)","v":96.519087798301555},null,"p80",{"$f":"AL591-S595*COS(2*RADIANS(G613)-S593)","v":7.4642117973385771},{"$f":"AM591+S595*SIN(2*RADIANS(G613)-S593)","v":92.552119807766331},null,8,{"$f":"RADIANS(8)+P581","v":0.32117162548039918},{"$f":"AE574-P576*SIN(AP594)","v":-4.8463284251741499},{"$f":"AI574+P576*COS(AP594)","v":76.215828345778178},{"$f":"AE573+P575*SIN(P573+(AP594-P581)*H579)","v":39.699720703377224},{"$f":"AI573+P575*COS(P573+(AP594-P581)*H579)","v":67.798549761474831},{"$f":"AQ594+0.5*K582*COS(AP594-P581)","v":21.692855817099936},{"$f":"AR594+0.5*K582*SIN(AP594-P581)","v":79.94566745150793},21.720949592689568,null,{"$f":"RADIANS(8)","v":0.13962634015954636},{"$f":"ASIN((AB575-AB576+S576*SIN(AY594)+(S573+S574)*COS(S579))/S575)","v":0.13875363853648287},{"$f":"S575*COS(AZ594)+(S573+S574)*SIN(S579)-S576*COS(AY594)","v":0.57203037364398313},null,null,null,null,null,null,null,null,null,{"$f":"U592","v":-0.35516455767304844},{"$f":"Y592","v":96.028821087812432},{"$f":"V592","v":17},null,{"$f":"W578","v":0.12056818181818407},{"$f":"X578","v":77.5},{"$f":"V578","v":10},null,{"$f":"AB612","v":-32.170639802613046},{"$f":"AC612","v":10.597463366067181},{"$f":"AA612","v":85},null,{"$f":"BD571+BD567","v":19.63131818181818},{"$f":"BD572+BD568","v":78.5},"β5",null,null,null,null,null,{"$f":"AG571","v":5},{"$f":"AH571","v":0},{"$f":"AF571","v":"p5"},null,{"$f":"AG609","v":18.759117838824942},{"$f":"AH609","v":93.988208919556371},{"$f":"AF609","v":"p29"},null,{"$f":"AZ569-AZ567","v":0.77182444018527174},{"$f":"AZ570-AZ568","v":76.5},"β9",null,{"$f":"AG584","v":24.059174356601169},{"$f":"AH584","v":73.45016837094154},{"$f":"AF584","v":"p14"},null,{"$f":"AL601","v":-4.7794738528713037},{"$f":"AM601","v":95.651931407470016},"p86",null,null,{"$f":"W607","v":4.3386721218671118},{"$f":"X607","v":90.855865233553772},30,null,{"$f":"CZ567","v":5},{"$f":"DA567","v":100.5},"38b",null,{"$f":"CZ572","v":18.896469111540618},{"$f":"DA572","v":84.3},"47''b",null,null,null,null,null,{"$f":"DD618","v":25.8416},{"$f":"DE618","v":79.400000000000006},"38''b",null,{"$f":"AE583","v":31.686632183291788},{"$f":"AI583","v":69.274200587015855},"p13",null,null,null,null,null,null,null,null,null,"شبیه ساز پشت شلوار متصل به بالاتنه"]
[null,null,null,null,null,"t28",{"$f":"'متغیرها '!C632","v":0.6},null,null,null,null,null,null,"s29",{"$f":"SQRT(POWER((W594-W593),2)+POWER((X594-X593),2))+SQRT(POWER((W592-W584),2)+POWER((X592-X584),2))+SQRT(POWER((W584-W583),2)+POWER((X584-X583),2))","v":24.569964801394288},null,null,"s60",{"$f":"SQRT(POWER((AG591-AG596),2)+POWER((AH591-AH596),2))-2*S594","v":1.03280127356674},null,null,"20c",{"$f":"W586+2*G610*O583*COS(O582)","v":-0.21503476291456558},{"$f":"X586-2*G610*O583*SIN(O582)","v":96.011467724063991},null,null,69,{"$f":"W567","v":6},{"$f":"X567-S582","v":0},null,{"$f":"AR612","v":19.875417533392898},"p15d",{"$f":"BD612","v":17.860733904042601},{"$f":"BE612","v":98.2960457754358},{"$f":"AS612","v":98.35212782823578},null,"p80a",{"$f":"AL594-O587*COS(2*RADIANS(G613)-S593)","v":7.187963369123799},{"$f":"AM594+O587*SIN(2*RADIANS(G613)-S593)","v":92.594393829324034},null,9,{"$f":"RADIANS(9)+P581","v":0.33862491800034245},{"$f":"AE574-P576*SIN(AP595)","v":-5.4574048032591893},{"$f":"AI574+P576*COS(AP595)","v":76.00658894489419},{"$f":"AE573+P575*SIN(P573+(AP595-P581)*H579)","v":40.16407548678086},{"$f":"AI573+P575*COS(P573+(AP595-P581)*H579)","v":67.611238049835521},{"$f":"AQ595+0.5*K582*COS(AP595-P581)","v":21.012642724690501},{"$f":"AR595+0.5*K582*SIN(AP595-P581)","v":80.199032607972384},22.917895816996985,null,{"$f":"RADIANS(9)","v":0.15707963267948966},{"$f":"ASIN((AB575-AB576+S576*SIN(AY595)+(S573+S574)*COS(S579))/S575)","v":0.15638663377395573},{"$f":"S575*COS(AZ595)+(S573+S574)*SIN(S579)-S576*COS(AY595)","v":0.57221692007021652},null,null,null,null,null,{"$f":"AE589","v":8.6022915664490842},{"$f":"AI589","v":88.569633351100293},{"$f":"AF589","v":"p19"},null,null,null,null,null,{"$f":"W594","v":-0.27863302682780516},{"$f":"X594","v":91.013640909231029},{"$f":"V594","v":20},null,{"$f":"AB614","v":-36.440078253760049},{"$f":"AC614","v":12.498339834677074},{"$f":"AA614","v":87},null,{"$f":"BD571-BD567","v":19.63131818181818},{"$f":"BD572-BD568","v":76.5},"β3",null,{"$f":"W583","v":24.282558648616341},{"$f":"X583","v":90.5},{"$f":"V583","v":15},null,{"$f":"AG574","v":3.437272727272731},{"$f":"AH574","v":41.1},{"$f":"AF574","v":"p7"},null,{"$f":"AG611","v":7.5021165690197718},{"$f":"AH611","v":92.546237648569075},{"$f":"AF611","v":"p31"},null,{"$f":"CM596+(0.3+'متغیرها '!C685*0.1)*(CM594-CM596)-(0.17+'متغیرها '!C685*0.05)*AZ576*COS(AZ577)","v":2.2178244401852707},{"$f":"CN596+(0.4)*(CN594-CN596)+(0.17+'متغیرها '!C685*0.05)*AZ576*SIN(AZ577)","v":65.351399999999998},"β'9",null,{"$f":"AG579","v":21.095574440185271},{"$f":"AH579","v":79.183943303578104},{"$f":"AF579","v":"p12"},null,{"$f":"AL602","v":-41.741667439757137},{"$f":"AM602","v":13.077069558192122},"p87",null,null,{"$f":"W608","v":11.72636035977898},{"$f":"X608","v":90.603424152470154},31,null,{"$f":"DY238","v":5},{"$f":"DZ238","v":125.21958742766127},"p26",null,null,null,null,null,{"$f":"DL593","v":37.669277055267251},{"$f":"DM593","v":85.409735249698898},"10r'",null,{"$f":"DD616","v":26.7666},{"$f":"DE616","v":96.5},"35b",null,{"$f":"AE584","v":26.18391163085332},{"$f":"AI584","v":73.213380211187058},"p14",null,null,null,"جلو شلوار متصل به یقه آرشال یا پشت گردنی",null,null,null,"جلو شلوار متصل به یقه دکلته",null,"مولفه افقی","مولفه عمودی","اسم نقطه "]
[null,null,null,null,null,"t31",{"$f":"'متغیرها '!C642","v":0.5},null,null,"زاویه خط پهلو جلوبه درجه",{"$f":"ROUND(DEGREES(O581),1)","v":7.2},{"$f":"ROUND(DEGREES(P581),1)","v":10.4},null,null,null,null,null,"s63",{"$f":"SQRT(POWER((AG589-AG590),2)+POWER((AH589-AH590),2))","v":1.9562500000000052},null,null,"22b",{"$f":"W583+2","v":26.282558648616341},{"$f":"X583+2*TAN(2*O591)","v":90.83634090816723},null,null,65,{"$f":"AB591+(AB590-AB596)","v":20.006761363636368},{"$f":"AC595","v":0},null,null,"p21",{"$f":"AG587+K575","v":-5.1103357383975041},{"$f":"AH596+K576","v":97.988208919556371},null,null,"p83",{"$f":"AL597-S596*COS(2*RADIANS(G613)-O572+O581)","v":9.7595698224326455E-2},{"$f":"AM597+S596*SIN(2*RADIANS(G613)-O572+O581)","v":93.972621689093558},null,12,{"$f":"RADIANS(12)+P581","v":0.3909847955601724},{"$f":"AE574-P576*SIN(AP598)","v":-7.2674263324877799},{"$f":"AI574+P576*COS(AP598)","v":75.315344550791863},{"$f":"AE573+P575*SIN(P573+(AP598-P581)*H579)","v":41.536540596900458},{"$f":"AI573+P575*COS(P573+(AP598-P581)*H579)","v":67.001089944554508},{"$f":"AQ598+0.5*K582*COS(AP598-P581)","v":18.94692936717821},{"$f":"AR598+0.5*K582*SIN(AP598-P581)","v":80.887377864707815},26.516401107831154,null,{"$f":"RADIANS(12)","v":0.20943951023931956},{"$f":"ASIN((AB575-AB576+S576*SIN(AY598)+(S573+S574)*COS(S579))/S575)","v":0.20928776755917664},{"$f":"S575*COS(AZ598)+(S573+S574)*SIN(S579)-S576*COS(AY598)","v":0.57252061192914283},null,null,null,null,null,{"$f":"AE592","v":6.6602927859270071},{"$f":"AI592","v":96.283898755949323},{"$f":"AF592","v":"p18"},null,null,null,null,null,{"$f":"AB595","v":6},{"$f":"AC595","v":0},{"$f":"AA595","v":69},null,{"$f":"AB600","v":17.651036896246421},{"$f":"AC600","v":90.5},{"$f":"AA600","v":74},null,{"$f":"BD569-BD567","v":4.9973181818181835},{"$f":"BD570-BD568","v":76.5},"β9",null,null,null,null,null,null,null,null,null,{"$f":"AG608","v":20.160991799641138},{"$f":"AH608","v":85.705649549969408},{"$f":"AF608","v":"p28"},null,{"$f":"AZ571-AZ567","v":17.031824440185268},{"$f":"AZ572-AZ568","v":76.5},"β3",null,{"$f":"AL570","v":6.8083475941922211},{"$f":"AM570","v":0},{"$f":"AK570","v":"p39"},null,{"$f":"AG596","v":18.759117838824942},{"$f":"AH596","v":92.988208919556371},"p15",null,null,null,null,null,null,{"$f":"DY252","v":3.3200600000000002},{"$f":"DZ252","v":125.21958742766127},"p10",null,null,null,null,null,null,null,"جلو شلوار متصل به یقه گرد",null,{"$f":"DD618","v":25.8416},{"$f":"DE618","v":79.400000000000006},"38''b",null,{"$f":"AE587","v":-4.4286263474292413},{"$f":"AI587","v":95.118406390515005},"p20",null,null,null,null,null,null,null,null,null,11.375001310054653,72.02880004745117,{"$f":"DZ587","v":"p14r"}]
[null,null,null,null,null,"t32",{"$f":"'متغیرها '!C643","v":0.5},null,null,"زاویه خط پهلو پشت به درجه",{"$f":"ROUND(DEGREES(AP583),1)","v":12.2},{"$f":"ROUND(DEGREES(AP602),1)","v":16.399999999999999},null,null,null,null,null,"s64",{"$f":"AH592-AH568-S596*SIN(O572-O581)","v":90.89234818447062},null,null,22,{"$f":"AX612","v":29.636209078624695},{"$f":"AY612","v":91.400325823819372},null,null,null,null,null,null,null,"p22",{"$f":"AG598+O593","v":18.34034603164455},{"$f":"AH598","v":97.988208919556371},null,null,"p84",{"$f":"AL593-((O587+S595)*COS(S593)+(O587+S596)*COS(O572-O581))*COS(2*RADIANS(G613))","v":-25.131527183164287},{"$f":"AM593+((O587+S595)*COS(S593)+(O587+S596)*COS(O572-O581))*SIN(2*RADIANS(G613))","v":6.6500280186420628},null,13,{"$f":"RADIANS(13)+P581","v":0.40843808808011567},{"$f":"AE574-P576*SIN(AP599)","v":-7.8624183564543966},{"$f":"AI574+P576*COS(AP599)","v":75.063988313248558},{"$f":"AE573+P575*SIN(P573+(AP599-P581)*H579)","v":41.986698030895177},{"$f":"AI573+P575*COS(P573+(AP599-P581)*H579)","v":66.781842762574058},{"$f":"AQ599+0.5*K582*COS(AP599-P581)","v":18.250699379789907},{"$f":"AR599+0.5*K582*SIN(AP599-P581)","v":81.092676569664135},27.716377761522583,null,{"$f":"RADIANS(13)","v":0.22689280275926285},{"$f":"ASIN((AB575-AB576+S576*SIN(AY599)+(S573+S574)*COS(S579))/S575)","v":0.22692258208344848},{"$f":"S575*COS(AZ599)+(S573+S574)*SIN(S579)-S576*COS(AY599)","v":0.57253533417935998},null,null,null,null,null,{"$f":"AE587","v":-4.4286263474292413},{"$f":"AI587","v":95.118406390515005},{"$f":"AF587","v":"p20"},null,{"$f":"U590","v":-0.35516455767304844},{"$f":"Y590","v":96.028821087812432},{"$f":"V590","v":19},null,{"$f":"AB596","v":10.606875},{"$f":"AC596","v":0},{"$f":"AA596","v":64},null,{"$f":"AB603","v":11.113174515578979},{"$f":"AC603","v":91.610601748426888},{"$f":"AA603","v":77},null,null,null,null,null,{"$f":"AB578","v":4.2282469331932813},{"$f":"AC578","v":90.85963851866137},{"$f":"AA578","v":52},null,null,null,"رکاب",null,{"$f":"AG610","v":7.9149277531468734},{"$f":"AH610","v":84.634257773088706},{"$f":"AF610","v":"p30"},null,null,null,null,null,{"$f":"AG568","v":27.33636363636364},{"$f":"AH568","v":0},{"$f":"AF568","v":"p2"},null,{"$f":"AG591","v":7.5021165690197718},{"$f":"AH591","v":91.546237648569075},"p17",null,null,null,null,null,null,null,null,null,null,{"$f":"CZ570","v":18.248969111540617},{"$f":"DA570","v":100.5},"40b",null,{"$f":"CZ567","v":5},{"$f":"DA567","v":100.5},"38b",null,null,null,null,null,{"$f":"AE577","v":-3.6136869092669599},{"$f":"AI577","v":76.602156805025828},"p10",null,{"$f":"BD150","v":5},{"$f":"BT116","v":114.42},"e'1",null,{"$f":"FA325","v":5},{"$f":"FB325","v":120.2},"d3",null,6.2863052195888338,68.089620423279968,{"$f":"DZ588","v":"p13r"}]
[null,null,null,null,null,"t36",{"$f":"'متغیرها '!C649","v":1},null,null,null,null,null,null,null,null,null,null,null,null,null,null,24,{"$f":"W600+O595","v":24.291331774566483},{"$f":"X600","v":96.013640909231029},null,null,75,{"$f":"AB600","v":17.651036896246421},{"$f":"X568","v":0},null,null,"p24",{"$f":"AG598+G574*SIN(2*O594-G581*O594)","v":-4.5094250919545358},{"$f":"AH598+G574","v":101.48820891955637},null,null,"p86",{"$f":"AL598-S594*COS(3*RADIANS(G613)-O572+O581)","v":-4.7794738528713037},{"$f":"AM598+S594*SIN(3*RADIANS(G613)-O572+O581)","v":95.651931407470016},null,null,"بهینه s6",null,null,null,null,null,null,null,null,"بهینه s42",null,null,null,null,null,null,null,null,null,null,null,null,null,null,null,{"$f":"AB596","v":10.606875},{"$f":"AC596","v":0},{"$f":"AA596","v":64},null,null,null,null,null,{"$f":"BD569+BE568","v":5.9973181818181835},{"$f":"BD570-BE567","v":77.5},"β13",null,null,null,null,null,{"$f":"AL584","v":9.5231136363636377},{"$f":"AM584","v":0},{"$f":"AK584","v":"p47"},null,null,null,null,null,{"$f":"AG615","v":1.0583633314424228},{"$f":"AH615","v":79.671802011969305},{"$f":"AF615","v":"p34"},null,null,null,null,null,{"$f":"AG591","v":7.5021165690197718},{"$f":"AH591","v":91.546237648569075},"p17",null,null,null,null,null,null,{"$f":"DD588","v":3.3200600000000002},{"$f":"DE588","v":100.5},"38'",null,null,null,null,null,null,null,null,null,{"$f":"BO170","v":39.087906522700877},{"$f":"BP170","v":107.99088584720475},"شیفت10",null,{"$f":"AE571","v":10},{"$f":"AI571","v":8.2200000000000006},"p5"]
[null,null,null,null,null,"t37",{"$f":"'متغیرها '!C650","v":0},null,null,null,null,null,null,null,null,null,null,null,null,null,null,25,{"$f":"W601","v":24.291331774566483},{"$f":"X601+G574","v":99.513640909231029},null,null,76,{"$f":"AB601-S585*SIN(RADIANS(G612))","v":5.0558712593604991},{"$f":"AC601+S585*(1-COS(RADIANS(G612)))","v":0.88073977888788224},null,null,"p25a",{"$f":"AG588+0.7*(L584-L587)*SIN(O572-O581)","v":7.9166038841290858},{"$f":"AH588-0.7*(L584-L587)*COS(O572-O581)","v":83.602132881346819},null,null,"p87",{"$f":"AL600-S594*COS(O572-O581)*COS(3*RADIANS(G613))","v":-41.741667439757137},{"$f":"AM600+S594*COS(O572-O581)*SIN(3*RADIANS(G613))","v":13.077069558192122},null,null,{"$f":"IF(AW587>P579,AP587,IF(AW588>P579,AP588,IF(AW589>P579,AP589,IF(AW590>P579,AP590,IF(AW591>P579,AP591,IF(AW592>P579,AP592,IF(AW593>P579,AP593,IF(AW594>P579,AP594,IF(AW595>P579,AP595,IF(AW596>P579,AP596,IF(AW597>P579,AP597,IF(AW598>P579,AP598,IF(AW599>P579,AP599,AP600)))))))))))))","v":0.2862650404405126},null,null,null,null,null,null,null,null,{"$f":"IF(BA587>(AC575-AC576),AY587,IF(BA588>(AC575-AC576),AY588,IF(BA589>(AC575-AC576),AY589,IF(BA590>(AC575-AC576),AY590,IF(BA591>(AC575-AC576),AY591,IF(BA592>(AC575-AC576),AY592,IF(BA593>(AC575-AC576),AY593,IF(BA594>(AC575-AC576),AY594,IF(BA595>(AC575-AC576),AY595,IF(BA596>(AC575-AC576),AY596,IF(BA597>(AC575-AC576),AY597,IF(BA598>(AC575-AC576),AY598,IF(BA599>(AC575-AC576),AY599,AY600)))))))))))))","v":1.7453292519943295E-2},null,null,null,null,null,null,null,null,null,"اطلاعات اندام در شلوار",null,{"$f":"U593","v":-0.35516455767304844},{"$f":"Y593","v":96.028821087812432},{"$f":"V593","v":18},null,{"$f":"AB593","v":11.956363636363637},{"$f":"AC593","v":0},{"$f":"AA593","v":67},null,{"$f":"AB609","v":7.6804298282921595},{"$f":"AC609","v":92.702232387442166},{"$f":"AA609","v":81},null,null,null,null,null,{"$f":"AB580","v":4.2282469331932813},{"$f":"AC580","v":90.85963851866137},{"$f":"AA580","v":54},null,null,null,null,null,{"$f":"AG612","v":-4.5978381051946302},{"$f":"AH612","v":92.340640608171171},{"$f":"AF612","v":"p32"},null,{"$f":"AG616","v":15.742273181314754},{"$f":"AH616","v":80.956477660069794},{"$f":"AF616","v":"p35"},null,null,null,null,null,{"$f":"AG589","v":7.3942141510353094},{"$f":"AH589","v":89.573074853034214},"p19",null,null,null,null,"نقاط ورودی از پشت شلوار",null,null,null,null,null,null,null,null,null,{"$f":"CZ574","v":5},{"$f":"DA574","v":136.36934389257897},26,null,{"$f":"DD617","v":38.272440000000003},{"$f":"DE617","v":96.524704632477565},"36b",null,{"$f":"AE568","v":26.036363636363632},{"$f":"AI568","v":0},"p2",null,{"$f":"BS116","v":3.3200600000000002},{"$f":"BT116","v":114.42},"e1",null,{"$f":"FA332","v":3.3200600000000002},{"$f":"FB332","v":120.2},"d3'",null,{"$f":"DX589","v":-0.67032850155415535},66.96414053065962,{"$f":"DZ589","v":"p11r"}]
[null,null,null,null,null,"t40",{"$f":"'متغیرها '!C653","v":0},null,null,null,null,null,null,null,null,null,null,null,null,null,null,28,{"$f":"W604","v":29.720158490880486},{"$f":"X602","v":99.513640909231029},null,null,79,{"$f":"AB604-(S585+S587*SIN(S586))*(SIN(2*RADIANS(G612))-SIN(RADIANS(G612)))","v":-13.884349407538934},{"$f":"AC604+(S585+S587*SIN(S586))*(COS(RADIANS(G612))-COS(2*RADIANS(G612)))","v":4.4338757586868134},null,null,{"$f":"AW622","v":"p26"},{"$f":"AX622","v":7.9149277531468734},{"$f":"AY622","v":83.634257773088706},null,null,null,null,null,null,null,null,null,"مولفه افقی","مولفه عمودی",null,null,null,null,"مولفه افقی","مولفه عمودی",null,null,null,null,"مولفه افقی","مولفه عمودی",null,{"$f":"AG579","v":21.095574440185271},{"$f":"AH579","v":79.183943303578104},"p12",null,null,null,null,null,{"$f":"AB598","v":20.006761363636368},{"$f":"AC598","v":0},{"$f":"AA598","v":65},null,null,null,null,null,null,null,null,null,{"$f":"AB581","v":8.8481824844609083},{"$f":"AC581","v":90.855865233553772},{"$f":"AA581","v":55},null,{"$f":"AL580","v":16.168181818181822},{"$f":"AM580","v":0},{"$f":"AK580","v":"p49"},null,{"$f":"AG578","v":35.913574022264768},{"$f":"AH578","v":68.75889797151163},{"$f":"AF578","v":"p11"},null,{"$f":"AL568","v":15.742273181314754},{"$f":"AM568","v":68.896477660069792},{"$f":"AK568","v":"p37"},null,null,null,null,null,{"$f":"AG592","v":6.9453148895506347},{"$f":"AH592","v":91.497523813783317},"p18",null,null,{"$f":"AG584","v":24.059174356601169},{"$f":"AH584","v":73.45016837094154},"p14",null,null,null,null,null,{"$f":"DD614","v":26.7666},{"$f":"DI619","v":-0.98362868924216684},"38r",null,{"$f":"CZ575","v":3.3200600000000002},{"$f":"DA575","v":136.36934389257897},"26'",null,36.209626684921155,1.0892358978053807,{"$f":"DJ610","v":"p5r"},null,{"$f":"AE573","v":29.199999999999996},{"$f":"AI573","v":41.1},"p6",null,{"$f":"DD588","v":3.3200600000000002},{"$f":"DE588","v":100.5},"38'",null,{"$f":"DD588","v":3.3200600000000002},{"$f":"DE588","v":100.5},"38'",null,18.353628828972504,7.0354198362641132,{"$f":"DZ592","v":"p4r"}]
[null,null,null,null,null,"t41",{"$f":"'متغیرها '!C580","v":0},null,null,null,null,null,null,null,null,null,null,null,null,null,null,29,{"$f":"IF(X606>X578,W594-O596*SIN(S566)-IF(X606>0.5*(X594-X578)+X578,(X594-X606),(X606-X578))*0.03*(W594-W578),W578+(O596-X594+X578)*TAN(O581))","v":0.92991542150688122},{"$f":"X594-O596*COS(S566)","v":71.072357453942601},null,null,80,{"$f":"AB603-S588*COS(S586+2*RADIANS(G612))","v":7.3861669252971804},{"$f":"AC603+S588*SIN(S586+2*RADIANS(G612))","v":92.795809518891687},null,null,"p26a",{"$f":"AG587-SQRT(POWER((AG577-AG587),2)+POWER((AH577-AH587),2))*G585*SIN(S571)-IF(AH606>0.5*(AH587-AH577)+AH577,0.1*(AH587-AH606),0.1*(AH606-AH577))","v":-5.3766483200183748},{"$f":"AH587-SQRT(POWER((AG577-AG587),2)+POWER((AH577-AH587),2))*G585*COS(S571)","v":83.702676181352913},null,null,null,null,null,null,"خط اول","نقطه اول","p17a",{"$f":"AE594","v":8.8979670505056205},{"$f":"AI594","v":96.519087798301555},null,"خط اول","نقطه اول",{"$f":"V596","v":21},30.896806754979359,76.303162911909709,null,"خط اول","نقطه اول","p17a",{"$f":"AG594","v":7.7779054967755847},{"$f":"AH594","v":96.589465240990407},null,{"$f":"AL573","v":-0.69200535614558589},{"$f":"AM573","v":77.277777065732693},"p42",null,null,null,"اطلاعات اندام در شلوار",null,null,null,null,null,{"$f":"AB606","v":7.3861669252971804},{"$f":"AC606","v":92.795809518891687},{"$f":"AA606","v":80},null,{"$f":"BD569+BD567","v":4.9973181818181835},{"$f":"BD570+BD568","v":78.5},"β11",null,{"$f":"AB582","v":5.4394257841006777},{"$f":"AC582","v":71.072357453942601},{"$f":"AA582","v":56},null,{"$f":"AL582","v":21.082181818181823},{"$f":"AM582","v":0},{"$f":"AK582","v":"p51"},null,{"$f":"AG583","v":29.245474210328993},{"$f":"AH583","v":69.801402504718283},{"$f":"AF583","v":"p13"},null,null,null,null,null,null,null,null,null,null,null,null,null,null,{"$f":"AG579","v":21.095574440185271},{"$f":"AH579","v":79.183943303578104},"p12",null,{"$f":"DD589","v":1.8151635502958627},{"$f":"DE589","v":80.852999999999994},"14'r",null,{"$f":"DD615","v":27.691600000000001},{"$f":"DN620","v":0.20027276317281362},"49r",null,{"$f":"DD588","v":3.3200600000000002},{"$f":"DE588","v":100.5},"38'",null,36.209626684921155,1.0892358978053807,{"$f":"DJ611","v":"p1 r"},null,{"$f":"AE575","v":30.634233791178325},{"$f":"AI575","v":49.214616208318652},"p8",null,{"$f":"DD589","v":1.8151635502958627},{"$f":"DE589","v":80.852999999999994},"14'r",null,{"$f":"DD589","v":1.8151635502958627},{"$f":"DE589","v":80.852999999999994},"14'r",null,19.217585642856363,-1.1845801637358875,{"$f":"DZ593","v":"p2r"}]
[null,null,null,null,null,"t43",{"$f":"'متغیرها '!C620","v":0.5},1,null,null,null,null,null,null,null,null,null,null,null,null,null,31,{"$f":"W594+2.6*S567*COS(O582)","v":11.72636035977898},{"$f":"X594-2.6*S567*SIN(O582)","v":90.603424152470154},null,null,82,{"$f":"AB607-SQRT(POWER(((W589-(X589-X590)*TAN(O582))-W591),2)+POWER(((X580-(X589-X580)*(G587-1))-X591),2))*SIN(S586+2*RADIANS(G612))","v":6.2444457626501633},{"$f":"AC607-SQRT(POWER(((W589-(X589-X590)*TAN(O582))-W591),2)+POWER(((X580-(X589-X580)*(G587-1))-X591),2))*COS(S586+2*RADIANS(G612))","v":88.69609150452915},null,null,"p28",{"$f":"AG603","v":20.160991799641138},{"$f":"AH603+1","v":85.705649549969408},null,null,null,null,null,null,null,null,null,null,null,null,null,null,null,null,null,null,null,null,null,null,null,null,{"$f":"AE573","v":29.199999999999996},{"$f":"AI573","v":41.1},"p6",null,null,null,null,null,{"$f":"AB597","v":24.613636363636367},{"$f":"AC597","v":0},{"$f":"AA597","v":70},null,null,null,null,null,null,null,"کیسه جیب در مکان دلخواه",null,{"$f":"AB583","v":16.235870722372777},{"$f":"AC583","v":90.603424152470154},{"$f":"AA583","v":57},null,null,null,null,null,{"$f":"AG579","v":21.095574440185271},{"$f":"AH579","v":79.183943303578104},{"$f":"AF579","v":"p12"},null,{"$f":"AL569","v":9.6478655760658718},{"$f":"AM569","v":66.054608721824167},{"$f":"AK569","v":"p38"},null,null,null,null,null,{"$f":"AL574","v":-1.5074031671149957},{"$f":"AM574","v":90.758006807844197},{"$f":"AK574","v":"p43"},null,null,{"$f":"AG597","v":-5.4123349276454338},{"$f":"AH597","v":95.435468734672185},"p20c",null,null,null,null,null,{"$f":"DD617-(CZ609-CZ608)+(DA608-DA609)*TAN(DA617-DA618)","v":38.771212981779357},{"$f":"DE617-DA608+DA609","v":78.051797208102542},"p10r",null,{"$f":"DD588","v":3.3200600000000002},{"$f":"DE588","v":100.5},"38'",null,{"$f":"DH611","v":36.209626684921155},{"$f":"DI611","v":1.0892358978053807},{"$f":"DJ611","v":"p1 r"},null,null,{"$f":"P581","v":0.18154528532085282},"s15",null,{"$f":"DD589","v":1.8151635502958627},{"$f":"DE589","v":80.852999999999994},"14'r",null,{"$f":"DD589","v":1.8151635502958627},{"$f":"DE589","v":80.852999999999994},"14'r",null,{"$f":"DX593","v":19.217585642856363},{"$f":"DY593","v":-1.1845801637358875},{"$f":"DZ593","v":"p2r"}]
[null,null,null,null,null,"t44",{"$f":"'متغیرها '!C621","v":1},1,null,null,null,null,null,null,null,null,null,null,null,null,null,32,{"$f":"W594-0.45*O596*SIN(S566)-0.2*(W594-W578)","v":6.6560030144839577E-2},{"$f":"X594-0.45*O596*COS(S566)","v":82.040063354351233},null,null,81,{"$f":"AB606-2*O584*COS(S586+2*RADIANS(G612))","v":7.6804298282921595},{"$f":"AC606+2*O584*SIN(S586+2*RADIANS(G612))","v":92.702232387442166},null,null,"p29",{"$f":"AG596","v":18.759117838824942},{"$f":"AH596+1","v":93.988208919556371},null,null,null,null,null,null,"خط دوم","نقطه اول","p12",{"$f":"AE579","v":23.039499886602766},{"$f":"AI579","v":79.403519620598942},null,"خط دوم","نقطه اول",{"$f":"V583","v":15},{"$f":"W583","v":24.282558648616341},{"$f":"X583","v":90.5},null,"خط دوم","نقطه اول","p12",{"$f":"AG579","v":21.095574440185271},{"$f":"AH579","v":79.183943303578104},null,{"$f":"AE573-10","v":19.199999999999996},{"$f":"AI573","v":41.1},"p6'",null,{"$f":"W580","v":24.508068181818182},{"$f":"X580","v":86.5},12,null,null,null,null,null,{"$f":"AB608","v":6.2444457626501633},{"$f":"AC608","v":88.69609150452915},{"$f":"AA608","v":82},null,{"$f":"BD569-BD567","v":4.9973181818181835},{"$f":"BD570-BD568","v":76.5},"β9",null,{"$f":"AB585","v":14.486900672927653},{"$f":"AC585","v":85.465407673598804},{"$f":"AA585","v":59},null,{"$f":"AL586","v":22.813250000000004},{"$f":"AM586","v":0},{"$f":"AK586","v":"p48"},null,{"$f":"AG603","v":20.160991799641138},{"$f":"AH603","v":84.705649549969408},{"$f":"AF603","v":"p25"},null,null,null,null,null,null,null,null,null,null,null,null,null,null,{"$f":"AG577","v":-4.2949379274280943},{"$f":"AH577","v":76.962561310297161},"p10",null,null,null,null,null,{"$f":"DH608-(CZ610-CZ609)+(DA609-DA610)*TAN(DA617-DA618)","v":34.176569886732942},{"$f":"DI608-(DA609-DA610)","v":42.189235897805382},"p7r",null,{"$f":"DD589","v":1.8151635502958627},{"$f":"DE589","v":80.852999999999994},"14'r",null,{"$f":"DH607","v":25.8416},{"$f":"DI607","v":0.20027276317281362},{"$f":"DJ607","v":"50r"},null,"نقاط  ورودی از شبیه ساز پشت پیراهن",null,null,null,{"$f":"DD577","v":3.4951035502958625},{"$f":"DE577","v":80.852999999999994},"14r",null,{"$f":"DD577","v":3.4951035502958625},{"$f":"DE577","v":80.852999999999994},"14r",null,{"$f":"DX585","v":32.868721015935662},{"$f":"DY585","v":1.3815936094849928},{"$f":"DZ585","v":"p1 r"}]
[null,null,null,null,null,"t46",{"$f":"'متغیرها '!C635","v":0},null,null,null,null,null,null,null,null,null,null,null,null,null,null,34,{"$f":"W609+0.85*(W608-W609)","v":9.9773903103338579},{"$f":"X609+0.4*(X608-X609)","v":85.465407673598804},null,null,84,{"$f":"AB605-S587*COS(S586)*COS(2*RADIANS(G612))","v":-20.256363093359894},{"$f":"AC605+S587*COS(S586)*SIN(2*RADIANS(G612))","v":6.261021281087948},null,null,"p31",{"$f":"AG591","v":7.5021165690197718},{"$f":"AH591+1","v":92.546237648569075},null,null,null,null,null,null,null,null,null,null,null,null,null,null,null,null,null,null,null,null,null,null,null,null,{"$f":"AG578","v":35.913574022264768},{"$f":"AH578","v":68.75889797151163},"p11",null,{"$f":"W582","v":25.50556818181818},{"$f":"X582","v":75.852999999999994},14,null,null,null,null,null,null,null,null,null,{"$f":"BD569+0.5*(BD571-BD569)-BD574","v":12.314318181818182},{"$f":"BD572+0.5*(BD570-BD572)-BD575","v":62.56},"β15",null,{"$f":"AB584","v":4.5760703927386359},{"$f":"AC584","v":82.040063354351233},{"$f":"AA584","v":58},null,null,null,null,null,{"$f":"AG567","v":5},{"$f":"AH567","v":0},{"$f":"AF567","v":"p1"},null,{"$f":"AL567","v":3.1525603541056024},{"$f":"AM567","v":67.795020510642075},{"$f":"AK567","v":"p36"},null,null,null,null,null,{"$f":"AL573","v":-0.69200535614558589},{"$f":"AM573","v":77.277777065732693},{"$f":"AK573","v":"p42"},null,null,{"$f":"AG571","v":5},{"$f":"AH571","v":0},"p5",null,"مولفه افقی","مولفه عمودی","اسم نقطه ",null,{"$f":"DH610-(CZ613-CZ611)+(DA611-DA613)*TAN(DA617-DA618)","v":36.209626684921155},{"$f":"DI610-(DA611-DA613)","v":1.0892358978053807},"p1 r",null,{"$f":"DD589","v":1.8151635502958627},{"$f":"DE589","v":80.852999999999994},"14'r",null,null,null,"خط مرکزی پشت شلوار با یقه گرد",null,{"$f":"BW389","v":15},{"$f":"BX389","v":96.5},44,null,null,null,null,null,null,null,null,null,{"$f":"DT615","v":37.299999999999997},{"$f":"DU615","v":96.5},"36b"]
[null,null,null,null,null,"t47",{"$f":"'متغیرها '!C636","v":8},null,null,null,null,null,null,null,null,null,null,null,null,null,null,35,{"$f":"W578+(X578-X612)*TAN(O581)","v":1.5900825980803077},{"$f":"X594-0.8*(X594-X613)","v":65.813640909231026},null,null,85,{"$f":"AB611-(S585+2*S587*SIN(S586))*(SIN(3*RADIANS(G612))-SIN(2*RADIANS(G612)))","v":-32.170639802613046},{"$f":"AC611+(S585+2*S587*SIN(S586))*(COS(2*RADIANS(G612))-COS(3*RADIANS(G612)))","v":10.597463366067181},null,null,"p32",{"$f":"AG611-SQRT(POWER((AG592-AG587),2)+POWER((AH592-AH587),2))*COS(S572-O572+O581)","v":-4.5978381051946302},{"$f":"AH611+SQRT(POWER((AG592-AG587),2)+POWER((AH592-AH587),2))*SIN(S572-O572+O581)","v":92.340640608171171},null,null,null,null,null,null,null,"نقطه تقاطع","p15d",{"$f":"(AS609-AS606+AR606*((AS607-AS606)/(AR607-AR606))-AR609*((AS610-AS609)/(AR610-AR609)))/(((AS607-AS606)/(AR607-AR606))-((AS610-AS609)/(AR610-AR609)))","v":19.875417533392898},{"$f":"AS606+(AR612-AR606)*((AS607-AS606)/(AR607-AR606))","v":98.35212782823578},null,null,"نقطه تقاطع",{"$f":"V599","v":22},{"$f":"(AY609-AY606+AX606*((AY607-AY606)/(AX607-AX606))-AX609*((AY610-AY609)/(AX610-AX609)))/(((AY607-AY606)/(AX607-AX606))-((AY610-AY609)/(AX610-AX609)))","v":29.636209078624695},{"$f":"AY606+(AX612-AX606)*((AY607-AY606)/(AX607-AX606))","v":91.400325823819372},null,null,"نقطه تقاطع","p15d",{"$f":"(BE609-BE606+BD606*((BE607-BE606)/(BD607-BD606))-BD609*((BE610-BE609)/(BD610-BD609)))/(((BE607-BE606)/(BD607-BD606))-((BE610-BE609)/(BD610-BD609)))","v":17.860733904042601},{"$f":"BE606+(BD612-BD606)*((BE607-BE606)/(BD607-BD606))","v":98.2960457754358},null,null,null,null,null,null,null,null,null,null,null,"فاق",null,{"$f":"AB613","v":0.57852103208939898},{"$f":"AC613","v":95.643475149119283},{"$f":"AA613","v":86},null,{"$f":"BW611+(0.45-'متغیرها '!C676*0.05)*(BW613-BW611)+(0.17+'متغیرها '!C676*0.05)*BD578*COS(BD579)","v":18.307918181818181},{"$f":"BX611+(0.35+'متغیرها '!C676*0.05)*(BX613-BX611)-(0.17+'متغیرها '!C676*0.05)*BD578*SIN(BD579)","v":66.526259999999994},"β'15",null,null,null,null,null,null,null,"فاق",null,{"$f":"AG568","v":27.33636363636364},{"$f":"AH568","v":0},{"$f":"AF568","v":"p2"},null,null,null,null,null,null,null,null,null,{"$f":"AL572","v":6.1497941185610632},{"$f":"AM572","v":41.1},{"$f":"AK572","v":"p41"},null,null,{"$f":"AG568","v":27.33636363636364},{"$f":"AH568","v":0},"p2",null,{"$f":"BO178","v":15},{"$f":"BP178","v":96.5},44,null,{"$f":"DD612-CZ606+CZ607+(DA607-DA606)*TAN(DA617-DA618)","v":13.503681054661946},{"$f":"DE612-DA607+DA606","v":78.200314614335937},"p12r",null,{"$f":"DD577","v":3.4951035502958625},{"$f":"DE577","v":80.852999999999994},"14r",null,{"$f":"DD612","v":15},{"$f":"DE612","v":96.5},44,null,{"$f":"CA406","v":26.55},{"$f":"CB406","v":96.5},34,null,null,null,null,null,null,null,null,null,{"$f":"DX582","v":38.431196814508951},77.983750414510823,{"$f":"DZ582","v":"p10r"}]
[null,null,null,null,null,null,null,null,null,null,null,null,null,null,null,null,null,null,null,null,null,38,{"$f":"W613+0.8*(W580-W613)","v":21.093818181818182},{"$f":"X613+0.8*(X580-X613)","v":81.102728181846203},null,null,null,null,null,null,null,"p34",{"$f":"AG614-0.25*K582*G590*COS(O572-O581+RADIANS(G589))","v":1.0583633314424228},{"$f":"AH614-0.25*K582*G590*SIN(O572-O581+RADIANS(G589))","v":79.671802011969305},null,null,null,null,null,null,null,null,null,"مولفه افقی","مولفه عمودی",null,null,null,null,"مولفه افقی","مولفه عمودی",null,null,null,null,"مولفه افقی","مولفه عمودی",null,null,null,null,null,{"$f":"AB568","v":4.6300785444119805},{"$f":"AC568","v":77.5},42,null,{"$f":"W582","v":25.50556818181818},{"$f":"X582","v":75.852999999999994},{"$f":"V582","v":14},null,null,null,null,null,null,null,null,null,19.93432336311508,62.212276818307927,{"$f":"AA589","v":63},null,{"$f":"AG584","v":24.059174356601169},{"$f":"AH584","v":73.45016837094154},{"$f":"AF584","v":"p14"},null,null,null,null,null,null,null,null,null,null,null,null,null,null,null,null,null,null,{"$f":"AG573","v":28.899090909090912},{"$f":"AH573","v":41.1},"p6",null,{"$f":"BO187","v":27.691600000000001},{"$f":"BP187","v":79.400000000000006},"38'",null,{"$f":"DH614-CZ603+CZ604+(DA604-DA603)*TAN(DA617-DA618)","v":-0.40224524411788309},{"$f":"DI614-DA604+DA603","v":67.775269282269463},"p11r",null,"به دست آوردن نقطه تقاطع دو خط ","مولفه افقی","مولفه عمودی",null,{"$f":"DP613","v":15},{"$f":"DQ613","v":128.44999999999999},45,null,{"$f":"BW398","v":37.299999999999997},{"$f":"BX398","v":96.5},36,null,null,null,null,null,null,null,null,null,32.868721015935662,1.3815936094849928,{"$f":"DZ585","v":"p1 r"}]
[null,null,null,null,null,null,null,null,null,null,null,null,null,null,null,null,null,null,null,null,null,39,{"$f":"W567+S573*G598","v":8.2547551812968987},{"$f":"X567","v":0},null,null,null,null,null,null,null,"p35",{"$f":"AG614+0.25*K582*G590*COS(O572-O581+RADIANS(G589))","v":15.742273181314754},{"$f":"AH614+0.25*K582*G590*SIN(O572-O581+RADIANS(G589))","v":80.956477660069794},null,null,null,null,null,null,"خط اول","نقطه اول","p17",{"$f":"AE591","v":8.8979670505056205},{"$f":"AI591","v":96.519087798301555},null,"خط اول","نقطه اول",{"$f":"AF603","v":"p25"},20.160991799641138,84.705649549969408,null,"خط اول","نقطه اول","p17",{"$f":"AG591","v":7.5021165690197718},{"$f":"AH591","v":91.546237648569075},null,null,null,null,null,null,null,null,null,{"$f":"W580","v":24.508068181818182},{"$f":"X580","v":86.5},{"$f":"V580","v":12},null,null,null,null,null,null,null,null,null,{"$f":"W615","v":21.093818181818182},{"$f":"X615","v":81.102728181846203},{"$f":"V615","v":38},null,{"$f":"AG579","v":21.095574440185271},{"$f":"AH579","v":79.183943303578104},{"$f":"AF579","v":"p12"},null,null,null,null,null,null,null,null,null,null,null,null,null,{"$f":"AL570","v":6.8083475941922211},{"$f":"AM570","v":0},{"$f":"AK570","v":"p39"},null,null,{"$f":"AG575","v":29.95126337606699},{"$f":"AH575","v":49.397669391453491},"p8",null,{"$f":"BO190","v":26.7666},{"$f":"BP190","v":96.5},"35 شیفت",null,{"$f":"DH615-CZ616+CZ603+(DA603-DA616)*TAN(DA617-DA618)","v":7.2539534147691063},{"$f":"DI615-DA603+DA616","v":48.414040702211324},"p8r","نقطه اول از خط اول","p1r",{"$f":"DH611-'متغیرها '!C56","v":36.209626684921155},{"$f":"DI611-'متغیرها '!C57","v":1.0892358978053807},null,{"$f":"CE108","v":15.000000000000002},{"$f":"CF108","v":136.41391319447115},24,null,null,null,"خط مرکزی پشت شلوار با یقه دکلته"]
[null,null,null,null,null,null,null,null,null,null,null,null,null,null,null,null,null,null,null,null,null,null,null,null,null,null,null,null,null,null,null,null,null,null,null,null,null,null,null,null,null,null,null,null,null,null,null,null,null,null,null,null,null,null,null,null,null,null,null,null,null,null,{"$f":"U573-10","v":15.999999999999996},{"$f":"Y573","v":41.1},"6'",null,null,null,null,null,null,null,null,null,null,null,null,null,null,null,null,null,{"$f":"AG596","v":18.759117838824942},{"$f":"AH596","v":92.988208919556371},{"$f":"AF596","v":"p15"},null,null,null,null,null,null,null,null,null,null,null,null,null,null,null,null,null,null,null,{"$f":"O581","v":0.1250895769224242},"s15",null,{"$f":"BO191","v":25.8416},{"$f":"BP191","v":79.400000000000006},"38'' شیفت",null,{"$f":"DH617-CZ614+CZ615+(DA615-DA614)*TAN(DA617-DA618)","v":14.190589230826165},{"$f":"DI617-DA615+DA614","v":-0.98362868924216684},"p4r","نقطه اول از خط دوم","38r",{"$f":"DH605","v":26.7666},{"$f":"DI605","v":-0.98362868924216684},null,null,null,"خط مرکزی پشت شلوار پیش سینه دار",null,{"$f":"GJ347","v":15},{"$f":"GK347","v":112.8},"45 یا d3"]
[null,null,null,null,null,null,null,null,null,null,null,null,null,null,null,null,null,null,null,null,null,null,null,null,null,null,null,null,null,null,null,null,null,null,null,null,null,null,null,null,"خط دوم","نقطه اول","p12",{"$f":"AE579","v":23.039499886602766},{"$f":"AI579","v":79.403519620598942},null,"خط دوم","نقطه اول",{"$f":"AF602","v":"p25a"},{"$f":"AG602","v":7.9166038841290858},{"$f":"AH602","v":83.602132881346819},null,"خط دوم","نقطه اول","p12",{"$f":"AG579","v":21.095574440185271},{"$f":"AH579","v":79.183943303578104},null,null,null,null,null,null,null,null,null,null,null,"لبه پایین",null,null,null,null,null,null,null,null,null,{"$f":"W572","v":15.306818181818183},{"$f":"X572","v":41.1},{"$f":"V572","v":"6a"},null,null,null,null,null,null,null,null,null,null,null,null,null,null,null,null,null,null,null,null,null,null,null,null,null,null,null,null,null,null,{"$f":"DH618-CZ612+CZ614+(DA614-DA612)*TAN(DA617-DA618)","v":14.190589230826165},{"$f":"DI618-DA614+DA612","v":-0.98362868924216684},"p2r","نقطه دوم از خط دوم","38b",{"$f":"DD614","v":26.7666},{"$f":"DE614","v":79.400000000000006},null,{"$f":"DD612","v":15},{"$f":"DE612","v":96.5},44]
[null,null,null,null,null,null,null,null,null,null,null,null,null,null,null,null,null,null,null,null,null,null,null,null,null,null,null,null,null,null,null,null,null,null,null,null,null,null,null,null,null,"نقطه تقاطع","p15",{"$f":"(AS619-AS616+AR616*((AS617-AS616)/(AR617-AR616))-AR619*((AS620-AS619)/(AR620-AR619)))/(((AS617-AS616)/(AR617-AR616))-((AS620-AS619)/(AR620-AR619)))","v":19.875417533392898},{"$f":"AS616+(AR622-AR616)*((AS617-AS616)/(AR617-AR616))","v":98.35212782823578},null,null,"نقطه تقاطع","p26",{"$f":"(AY619-AY616+AX616*((AY617-AY616)/(AX617-AX616))-AX619*((AY620-AY619)/(AX620-AX619)))/(((AY617-AY616)/(AX617-AX616))-((AY620-AY619)/(AX620-AX619)))","v":7.9149277531468734},{"$f":"AY616+(AX622-AX616)*((AY617-AY616)/(AX617-AX616))","v":83.634257773088706},null,null,"نقطه تقاطع","p15f",{"$f":"(BE619-BE616+BD616*((BE617-BE616)/(BD617-BD616))-BD619*((BE620-BE619)/(BD620-BD619)))/(((BE617-BE616)/(BD617-BD616))-((BE620-BE619)/(BD620-BD619)))","v":18.682877912929928},{"$f":"BE616+(BD622-BD616)*((BE617-BE616)/(BD617-BD616))","v":93.43865006491491},null,null,null,null,null,null,null,null,null,null,null,null,null,null,null,null,null,null,null,null,null,null,null,null,null,{"$f":"AG568","v":27.33636363636364},{"$f":"AH568","v":0},{"$f":"AF568","v":"p2"}]
[]
[]
[]
[]
[]
[]
[]
[]
[]
[]
[]
[]
[]
[]
[null,null,null,null,null,null,null,null,null,null,null,null,null,null,null,null,null,null,null,null,null,null,null,null,null,null,null,null,null,null,null,null,null,null,null,null,null,null,null,null,null,null,null,null,null,null,null,null,null,null,null,null,null,null,null,null,null,null,null,null,null,null,null,null,null,null,null,null,null,null,null,null,null,null,null,null,null,null,null,null,null,null,null,null,null,null,null,null,null,null,null,null,null,null,null,null,null,null,null,null,null,null,null,null,null,null,null,null,null,null,null,null,null,null,null,null,null,null,null,null,null,null,null,null,null,null,null,null,null,null,null,null,null," "]
[]
[]
[]
[]
[]
[]
[]
[]
[]
[]
[]
[]
[]
[]
[]
[]
[null,null,null,null,null,null,"طراحی یقه شکاری با پایه روی شبیه ساز اندام",null,null,null,null,null,null,null,"طراحی جلو یقه شومیزیه روی شبیه ساز اندام",null,null,null,null,null,null,null,"طراحی یقه شکاری روی شبیه ساز اندام",null,null,null,null,null,null,null,"طراحی جلو یقه فرنچی و ...  روی شبیه ساز اندام",null,null,null,null,null,null,null,"طراحی جلو یقه ب ب روی شبیه ساز اندام",null,null,null,null,null,null,null,"طراحی جلو یقه روی شبیه ساز اندام",null,null,null,null,null,null,null,"طراحی پشت یقه قایقی روی شبیه ساز اندام",null,null,null,null,null,null,null,"طراحی یقه پشت گردنی",null,null,null,null,null,null,null,null,null,null,"شیفت افقی یقه",{"$f":"'متغیرها '!C705","v":0},null,"رسم الگو واقعی یقه ب ب مثلثی و گرد",null,null,null,null,null,null,null,"یقه شومیزیه ",null,null,null,null,null,null,null,"یقه فرنچی ایستاده و کاسبرگی",null,null,null,null,null,null,null,"یقه شکاری با پایه",null,null,null,null,null,null,null,"یقه شکاری",null,null,null,null,null,null,null,"کلاه سه تکه ",null,null,null,"رسم کلاه سه تکه ",null,null,null,null,null,null,"(29 → 21)",{"$f":"'متغیرها '!C66*(2*H129+H130)","v":1.6799399999999998},null,null,null,null,null,null,"شعاع گودی یقه باز شده جلو  'v",{"$f":"K144","v":10.477421738575579},null,null,"رسم  کلاه دو تکه ",null,null,null,null,null,null,"تکه پشت یقه انگلیسی با پایه",null,null,null,null,null,null,null,null,null,null,null,null,null,null,"تکه پشت یقه انگلیسی "]
[null,null,null,null,null,null,"نقاط  ورودی و محاسبات",null,null,null,"رسم",null,"پایه",null,"نقاط  ورودی و محاسبات",null,null,null,"رسم",null,"پایه",null,"نقاط  ورودی و محاسبات",null,null,null,"رسم",null,"پایه",null,"نقاط  ورودی و محاسبات",null,null,null,"رسم فرنچی و ...",null,null,null,"نقاط  ورودی",null,null,null,"رسم",null,"ب ب مثلثی",null,"طراحی جلو یقه دلبری",null,null,null,"طراحی جلو یقه گرد ",null,null,null,"نقاط  ورودی",null,null,null,"رسم",null,null,null,"نقاط  ورودی",null,null,null,null,null,null,"رسم",null,null,null,"شیفت عمودی یقه",{"$f":"'متغیرها '!C706","v":30},null,0,{"$f":"BW710","v":24.094222989323605},29,null,null,null,"مثلثی",null,"نقاط  ورودی و محاسبات پایه",null,null,null,"رسم",null,"پایه",null,"نقاط  ورودی و محاسبات",null,null,null,"رسم",null,null,null,"نقاط  ورودی و محاسبات ",null,null,null,"رسم",null,"پایه",null,"نقاط  ورودی و محاسبات ",null,null,null,"رسم",null,null,null,"(1 → 2)",{"$f":"0.35*EG679","v":20.65},null,null,null,null,"خطوط انحنا",null,"جلو یقه روی خط مرکزی",{"$f":"'متغیرها '!C722*G168","v":12.000340799999998},null,"زاویه سرشانه پشت پیراهن بدون ساسون با افق ",{"$f":"'متغیرها '!B245","v":0.27820102979369776},"شبیه ساز",null,"رسم  کلاه متصل به یقه مربعی",null,null,null,"نوار باز شده گردن v",{"$f":"2.12*SQRT(K144*K144+K143*K143)+2.08*SQRT(AA147*AA147+AA146*AA146)","v":46.603577560374745},null,null,"خطوط انحنا",null,null,null,"مولفه افقی","مولفه عمودی","اسم نقطه ",null,null,"ضخیم دوزی",null,null,null,null,null,null,null,null,null,{"$f":"1.04*SQRT(AA147*AA147+AA146*AA146)","v":9.0993790303028455},"نصف نوار گردن از پشت برای یقه یاز شده",null," نقاط تکه پشت یقه انگلیسی"]
[null,null,null,null,null,null,{"$f":"AZ145-'متغیرها '!C51","v":3.3405012711042659},{"$f":"BA145-'متغیرها '!C52","v":132.41708606643653},28,null,{"$f":"G705","v":7.3491027964293831},{"$f":"H705","v":139.1194887159194},"m5",null,{"$f":"AZ145-'متغیرها '!C51","v":3.3405012711042659},{"$f":"BA145-'متغیرها '!C52","v":132.41708606643653},28,null,{"$f":"O705","v":6.8161419394335816},{"$f":"P705","v":140.31683062131506},"m5",null,{"$f":"AZ145-'متغیرها '!C51","v":3.3405012711042659},{"$f":"BA145-'متغیرها '!C52","v":132.41708606643653},28,null,{"$f":"W705","v":7.3491027964293831},{"$f":"X705","v":139.30540429536015},"m5",null,{"$f":"AZ145-'متغیرها '!C51","v":3.3405012711042659},{"$f":"BA145-'متغیرها '!C52","v":132.41708606643653},28,null,null,null,null,null,{"$f":"AX400","v":19.762127675570746},{"$f":"AY400","v":138.55229963830254},"سرشانه",null,{"$f":"AM690","v":10.028793885026849},{"$f":"AN690","v":128.33117349092254},{"$f":"AO690","v":"m5"},null,{"$f":"S244","v":8.3512531777606629},{"$f":"AX103-S243+AX98-'متغیرها '!C52","v":128.49676563115455},51,null,{"$f":"AZ145-'متغیرها '!C51","v":3.3405012711042659},{"$f":"BA145-'متغیرها '!C52","v":132.41708606643653},28,null,{"$f":"DS386","v":19.762127675570746},{"$f":"DT386","v":135.75229963830256},"سرشانه",null,null,null,null,null,{"$f":"AX402","v":6.2826008486643889},{"$f":"AY402","v":144.68200000000002},"g2","از شبیه ساز اندام",null,null,null,null,null,null,null,"یقه ب ب مثلثی و گرد ",null,null,0,{"$f":"BW712","v":27.279560674070105},31,null,null,null,"مثلثی",null,"c7",{"$f":"CP681","v":14.202409749884527},"نصف نوار گردن از جلو برای یقه باز شده",null,null,null,null,null,"c7",{"$f":"1.06*SQRT(K143*K143+K144*K144)","v":14.202409749884527},"نصف نوار گردن از جلو برای یقه باز شده",null,null,null,null,null,"c7",{"$f":"CP681","v":14.202409749884527},"نصف نوار گردن از جلو برای یقه باز شده",null,null,null,null,null,"c7",{"$f":"CP681","v":14.202409749884527},"نصف نوار گردن از جلو برای یقه باز شده",null,null,null,null,null,"(4 → 5)",{"$f":"DN679+0.0075*EG679","v":31.836695217002905},"عمود",null,{"$f":"DN682+'متغیرها '!C718","v":-13.067},{"$f":"DN683+'متغیرها '!C719","v":49.764408890924273},7,null,"کلاه متصل به یقه مربعی ",null,null,"نقاط خروجی کلاه متصل به یقه مربعی یا کلاه ملوانی",null,null,null,{"$f":"DX684+DY728","v":-26.243210423463431},{"$f":"DY684+DY729","v":49.761837993020862},9,null,"(1 → 2)",{"$f":"0.45*EG679","v":26.55},null,null,{"$f":"EG685+'متغیرها '!C718","v":-8.8780000000000001},{"$f":"EG686+'متغیرها '!C719","v":55.646466156140001},7,null,{"$f":"EN679-(EO691-EO693)*SIN(RADIANS(ES735))*COS(RADIANS(ES735))","v":8.906573042142224E-2},{"$f":"EO697-(EO691-EO693)*SIN(RADIANS(ES735))*SIN(RADIANS(ES735))","v":18.332263552689991},29,{"$f":"EQ683","v":8.906573042142224E-2},{"$f":"ER683","v":19.132263552689992},"29'",null,{"$f":"EQ681+EO729","v":8.906573042142224E-2},{"$f":"ER681+EO730","v":49.132263552689992},"29'",null,{"$f":"EQ691+EO729","v":3.6397516121211382},{"$f":"ER691+EO730","v":48.360963073860148},9,null,"پشت یقه انگلیسی ",null,null,{"$f":"FD686","v":3.6397516121211382},{"$f":"FD689","v":18.360963073860152},9,null,{"$f":"FF680+FD719","v":0},{"$f":"FG680+FD720","v":48.351593121982219},3,null,{"$f":"FF711+FD719","v":0},{"$f":"FG711+FD720","v":40.658534662365653},4]
[null,null,null,null,null,null,{"$f":"AZ148-'متغیرها '!C51","v":6.6810025422085317},{"$f":"BA148-'متغیرها '!C52","v":136.60805476186675},30,null,{"$f":"G706","v":4.1756265888803314},{"$f":"H706","v":134.04180762476531},"m6",null,{"$f":"AZ148-'متغیرها '!C51","v":6.6810025422085317},{"$f":"BA148-'متغیرها '!C52","v":136.60805476186675},30,null,{"$f":"O706","v":4.5955750688998052},{"$f":"P706","v":137.18100830767028},"m6",null,{"$f":"AZ148-'متغیرها '!C51","v":6.6810025422085317},{"$f":"BA148-'متغیرها '!C52","v":136.60805476186675},30,null,{"$f":"W706","v":4.1756265888803314},{"$f":"X706","v":134.10591644526212},"m6",null,{"$f":"AZ148-'متغیرها '!C51","v":6.6810025422085317},{"$f":"BA148-'متغیرها '!C52","v":136.60805476186675},30,null,{"$f":"AE707","v":6.2826008486643889},{"$f":"AF707","v":145.62755639615699},"m8",null,{"$f":"BW108-'متغیرها '!C51","v":0},{"$f":"BX108-'متغیرها '!C52","v":131.36934389257897},26,null,{"$f":"AM688","v":3.1948342424005922},{"$f":"AN688","v":124.51799974986999},{"$f":"AO688","v":"m1"},null,null,null,null,null,{"$f":"AZ102-'متغیرها '!C51","v":0},{"$f":"BA102-'متغیرها '!C52","v":131.36934389257897},26,null,{"$f":"CE108-'متغیرها '!C53","v":0},{"$f":"CF108-'متغیرها '!C54","v":136.41391319447115},24,null,{"$f":"BC685","v":18.589994908013672},136.0870696744723,"bs2",null,{"$f":"J248-BL691","v":-1.6799399999999998},{"$f":"K248-BL692","v":109.42},"e1","از یقه انگلیسی",null,{"$f":"BK682","v":-1.6799399999999998},{"$f":"BL682","v":109.42},{"$f":"BM682","v":"e1"},null,null,null,"(1 → 2)",{"$f":"0.08*BW686","v":0.62134356071749264},null,{"$f":"BW713","v":13.12411444158316},{"$f":"BW712","v":27.279560674070105},32,null,{"$f":"BV725+BW677","v":0},{"$f":"BW725+BW678","v":29.664863653556306},35,null,"c1 * c9",{"$f":"'متغیرها '!C738*CH679","v":2.8848969223562131},"قد پایه یقه",null,{"$f":"-(CG696-CG690)+CG690","v":-24.892800712560145},{"$f":"CH696","v":31.73921119787466},"قرینه7",null,"c1 * c9",{"$f":"'متغیرها '!C699*CP679","v":3.2054410248402365},"قد یقه فرنچی",null,{"$f":"-(CO696-CO690)+CO690","v":-23.427877124713682},{"$f":"CP696","v":36.956844791498646},"قرینه7",null,"c1 * c9",{"$f":"'متغیرها '!C690*CX679","v":7.0519702546485208},"قد برگردان یقه",null,{"$f":"-(CW713-CW700)+CW700","v":-8.8028643066010694},{"$f":"CX713","v":30.692769075928449},"قرینه18",null,"c1 * c9",{"$f":"'متغیرها '!C731*DF679","v":8.0136025621005906},"قد برگردان یقه",null,{"$f":"-(DE701-DE697)+DE697","v":-9.0755473060487404},{"$f":"DF701","v":29.49043477430304},"قرینه5",null,"(1 → 6)",{"$f":"DN680+0.65*(DN678-DN680)","v":16.933},null,null,{"$f":"DN678+'متغیرها '!C718","v":-9.3500000000000014},{"$f":"DN684+'متغیرها '!C719","v":43.547549912688368},8,null,"(1 → 2)",{"$f":"0.5*0.5*H133","v":14.75},null,null,null,null,null,{"$f":"DX685+DY728","v":-23.738684039105721},{"$f":"DY685+DY729","v":50.547351972083433},11,null,"(1 → 3)",{"$f":"0.5*EG679+0.7*EG677","v":36.834195217002907},"عمود",null,{"$f":"EG681+'متغیرها '!C718","v":-3.4499999999999993},{"$f":"EG687+'متغیرها '!C719","v":47.355549912688375},8,null,{"$f":"EN681","v":8.906573042142224E-2},{"$f":"EO681+1.6*'متغیرها '!C176","v":19.132263552689992},"29'",null,null,null,null,null,null,null,null,{"$f":"EQ692+EO729","v":7.8382088694091143},{"$f":"ER692+EO730","v":48.828248468456884},13,null,"(1 → 2)",{"$f":"FD694+(G276)/TAN(O244)","v":51.97306799564506},null,{"$f":"FD690","v":7.8382088694091143},{"$f":"FD693","v":18.828248468456884},13,null,{"$f":"FF681+FD719","v":3.6397516121211382},{"$f":"FG681+FD720","v":48.360963073860148},9,null,{"$f":"FF712+FD719","v":-0.26832031522513206},{"$f":"FG712+FD720","v":49.142223170104295},"24''"]
[null,null,null,null,null,null,{"$f":"BW108-'متغیرها '!C51","v":0},{"$f":"BX108-'متغیرها '!C52","v":131.36934389257897},26,null,{"$f":"G703","v":0},{"$f":"H703","v":131.36934389257897},"m3",null,{"$f":"BW108-'متغیرها '!C51","v":0},{"$f":"BX108-'متغیرها '!C52","v":131.36934389257897},26,null,{"$f":"O703","v":-1.2431402340018898},{"$f":"P703","v":132.62408189549603},"m3",null,{"$f":"BW108-'متغیرها '!C51","v":0},{"$f":"BX108-'متغیرها '!C52","v":131.36934389257897},26,null,{"$f":"W703","v":0},{"$f":"X703","v":131.36934389257897},"m3",null,{"$f":"BW108-'متغیرها '!C51","v":0},{"$f":"BX108-'متغیرها '!C52","v":131.36934389257897},26,null,{"$f":"AE705","v":5.0628381322724358},{"$f":"AF705","v":138.59397454605113},"m5",null,null,{"$f":"BW680","v":7.5596218422780943},"پهنا یقه ب ب",null,{"$f":"AM688","v":3.1948342424005922},{"$f":"AN688","v":124.51799974986999},{"$f":"AO688","v":"m1"},null,{"$f":"S239","v":3.3405012711042654},{"$f":"AX103-S238+AX98-'متغیرها '!C52","v":123.15676563115454},"49'",null,{"$f":"-(AZ148-AX99)","v":-6.6810025422085317},{"$f":"BA148-'متغیرها '!C52","v":136.60805476186675},"قرینه 30",null,"نقاط  خروجی",null,null,null,7.4359979632054696,136.35834979607134,"bs6",null,{"$f":"BW132-BL691","v":29.581596165257494},{"$f":"BX132-BL692","v":121.8768192529092},"b4","نقطه زیر بغل با ساسون",null,{"$f":"BK687","v":4.5018158885828523},{"$f":"BL687","v":127.21867586275542},{"$f":"BM687","v":"d6"},null,null,null,"(1 → 4)",{"$f":"0.42*BW686","v":3.2620536937668363},null,0,0,1,null,{"$f":"BV727+BW677","v":12.025385305967632},{"$f":"BW727+BW678","v":33.715829081262484},37,null,"c11",{"$f":"IF('متغیرها '!C740=-1,ASIN((CH679*'متغیرها '!C739-0.33*CH681*(SIN(0.6*CH683)+SIN(CH683)))/(0.34*CH681+CH686)),ASIN(('متغیرها '!C740*'متغیرها '!C739*CH679-0.33*'متغیرها '!C740*CH681*(SIN(0.6*CH683)+SIN(CH683)))/(0.34*'متغیرها '!C740*CH681)))","v":0.12853290322954172},null,null,{"$f":"-(CG697-CG690)+CG690","v":-13.775588330915822},{"$f":"CH697","v":30.424855222429343},"قرینه8",null,"c11",{"$f":"IF('متغیرها '!C701=-1,ASIN((CP679*'متغیرها '!C700-0.33*CP681*(SIN(0.6*CP683)+SIN(CP683)))/(0.34*CP681+CP686)),ASIN(('متغیرها '!C701*'متغیرها '!C700*CP679-0.33*'متغیرها '!C701*CP681*(SIN(0.6*CP683)+SIN(CP683)))/(0.34*'متغیرها '!C701*CP681)))","v":0.57455590219375641},null,null,{"$f":"-(CO697-CO690)+CO690","v":-13.630613066757363},{"$f":"CP697","v":31.634635558013542},"قرینه8",null,"c11",{"$f":"ASIN((CX687*'متغیرها '!C691*CX679-CX690*CX687*CX681*(SIN(CX688)+SIN(CX689)))/(CX691*CX687*CX681))","v":6.2113310670937484E-2},null,null,null,null,null,null,"c11",{"$f":"ASIN((DF688*'متغیرها '!C732*DF679-DF691*DF688*DF681*(SIN(DF689)+SIN(DF690)))/(DF692*DF688*DF681))","v":-1.3246543378792724E-2},null,null,null,null,null,null,"(2 → 8)",{"$f":"0.7*(DN679-DN687)+DN687","v":23.547549912688371},"عمود",null,{"$f":"DN686+'متغیرها '!C718","v":-12.377145641982882},{"$f":"DN687+'متغیرها '!C719","v":25.23871086928779},10,null,"(3 → 4)",{"$f":"0.5*H133+0.1*'متغیرها '!C710*H133","v":29.5},null,{"$f":"DV689","v":3.7567895765365686},{"$f":"DV688","v":29.761837993020858},9,null,{"$f":"DX687+DY728","v":-20.345990292317886},{"$f":"DY687+DY729","v":55.007939095765607},15,null,"(4 → 5)",{"$f":"EG682+0.015*EG679","v":37.719195217002905},"عمود",null,{"$f":"EG689+'متغیرها '!C718","v":-7.7167878859454078},{"$f":"EG690+'متغیرها '!C719","v":25.23871086928779},10,null,{"$f":"EO698","v":7.8382088694091143},{"$f":"EO701+1.3*'متغیرها '!C176","v":19.478248468456883},"13'",3.6397516121211382,19.160963073860152,"9'",null,{"$f":"EQ684+EO729","v":3.6397516121211382},{"$f":"ER684+EO730","v":49.160963073860152},"9'",null,{"$f":"EQ694+EO729","v":20.427964134304144},{"$f":"ER694+EO730","v":48.644614032329343},26,null,"(1 → 4)",{"$f":"FD695+SIN(O244)*(FC678+O247)-FD711*AA147","v":10.658534662365655},null,{"$f":"FD704","v":20.427964134304144},{"$f":"FD705","v":18.644614032329347},26,null,{"$f":"FF683+FD719","v":14.133086501856628},{"$f":"FG683+FD720","v":48.681340919554856},21,null,null,null,"24''"]
[null,null,null,null,null,null,{"$f":"BD97-'متغیرها '!C51","v":-1.6799399999999998},{"$f":"BE97-'متغیرها '!C52","v":66.580000000000013},"1'",null,{"$f":"G708","v":0},{"$f":"H708","v":131.36934389257897},"m9",null,{"$f":"BD97-'متغیرها '!C51","v":-1.6799399999999998},{"$f":"BE97-'متغیرها '!C52","v":66.580000000000013},"1'",null,{"$f":"O708","v":-1.6799399999999998},{"$f":"P708","v":131.36934389257897},"m9",null,{"$f":"BD97-'متغیرها '!C51","v":-1.6799399999999998},{"$f":"BE97-'متغیرها '!C52","v":66.580000000000013},"1'",null,{"$f":"W708","v":0},{"$f":"X708","v":131.36934389257897},"m9",null,{"$f":"BD97-'متغیرها '!C51","v":-1.6799399999999998},{"$f":"BE97-'متغیرها '!C52","v":66.580000000000013},"1'",null,{"$f":"AE706","v":2.1128726994032454},{"$f":"AF706","v":135.57958232457719},"m6",null,null,{"$f":"BW679","v":0.43633231299858238},"زاویه جلو یقه ب ب",null,{"$f":"AM682","v":0},{"$f":"AN682","v":131.36934389257897},{"$f":"AO682","v":26},null,{"$f":"0","v":0},{"$f":"AX103-S242+AX98-'متغیرها '!C52","v":115.14676563115455},49,null,{"$f":"-(AZ140-AX99)","v":-8.3512531777606629},{"$f":"BA140-'متغیرها '!C52","v":141.84676563115454},"قرینه 25",null,{"$f":"BC681-'متغیرها '!C382*H167*COS(BD683)","v":18.589994908013672},{"$f":"BD681+'متغیرها '!C382*H167*SIN(BD683)","v":136.0870696744723},"bs2",null,{"$f":"BC682","v":0},{"$f":"BD682","v":136.41391319447115},26,null,{"$f":"BD97-BL691","v":-1.6799399999999998},{"$f":"BE97-BL692","v":66.580000000000013},"1'",null,null,{"$f":"BK681","v":6.2826008486643889},{"$f":"BL681","v":144.68200000000002},{"$f":"BM681","v":"g2"},null,null,null,"(4 → 5)",{"$f":"0.73*BW687","v":11.400689965397884},null,0,{"$f":"BW714","v":29.003957769839158},33,null,{"$f":"BW687+BW677","v":15.617383514243677},{"$f":"BW686+BW678","v":37.766794508968658},7,null,"c12",{"$f":"ASIN((0.03*'متغیرها '!C739*CH680)/(CH680-CG692+CG690))","v":2.5002604899361139E-2},null,null,{"$f":"-(CG694-CG690)+CG690","v":-9.0976726300679545},{"$f":"CH694","v":30.136490685454543},"قرینه5",null,"c12",{"$f":"ASIN((0.03*'متغیرها '!C700*CP680)/(CP680-CO692+CO690))","v":0.1001674211615598},null,null,{"$f":"-(CO694-CO690)+CO690","v":-9.0720123044947876},{"$f":"CP694","v":30.545962741818173},"قرینه5",null,"c12",{"$f":"ASIN((0.07*'متغیرها '!C691*CX680)/(CX680-CW702+CW700))","v":-0.15225422832310578},null,null,{"$f":"CW711","v":0},{"$f":"CX711","v":32.564352819872191},16,null,"c12",{"$f":"ASIN((0.07*'متغیرها '!C732*DF680)/(DF680-DE699+DE697))","v":-9.346937346109277E-2},null,null,{"$f":"DE697","v":0},30,1,null,"(3→5→7→8→12→10)","هلال وصل",null,null,null,null,null,null,"(1 → 5)",{"$f":"DV692-(DV686-DV693)*TAN(DY678)","v":27.381890788583711},null,{"$f":"DV691","v":6.2613159608942812},{"$f":"DV690","v":30.547351972083437},11,null,{"$f":"DX688+DY728","v":-19.827100340493004},{"$f":"DY688+DY729","v":59.003712313016912},17,null,"(1 → 6)",{"$f":"EG683+0.6*(EG681-EG683)","v":21.122},null,null,null,null,null,null,{"$f":"EO705","v":14.133086501856628},{"$f":"EO706+0.8*'متغیرها '!C176","v":19.081340919554854},"21'",7.8382088694091143,19.478248468456883,"13'",null,{"$f":"EQ685+EO729","v":7.8382088694091143},{"$f":"ER685+EO730","v":49.478248468456883},"13'",null,null,null,null,null,"(1 → 5)",{"$f":"FD684+O246*ES740","v":12.453581636276187},null,null,null,null,null,{"$f":"FF684+FD719","v":20.427964134304144},{"$f":"FG684+FD720","v":48.644614032329343},26,null,{"$f":"FF714+FD719","v":-0.26832031522513206},{"$f":"FG715+FD720","v":49.151593121982224},"3'"]
[null,null,null,null,null,null,{"$f":"AX402","v":6.2826008486643889},{"$f":"AY402","v":144.68200000000002},"g2",null,null,null,null,null,{"$f":"AX402","v":6.2826008486643889},{"$f":"AY402","v":144.68200000000002},"g2",null,null,null,null,null,{"$f":"AX402","v":6.2826008486643889},{"$f":"AY402","v":144.68200000000002},"g2",null,null,null,null,null,{"$f":"AX402","v":6.2826008486643889},{"$f":"AY402","v":144.68200000000002},"g2",null,{"$f":"AE704","v":-0.97930106539675232},{"$f":"AF704","v":133.98687904580518},"m4",null,{"$f":"-AM680","v":-8.3512531777606629},{"$f":"AN680","v":141.84676563115454},"قرینه 25",null,null,null,null,null,null,null,null,null,null,null,null,null,{"$f":"BC682+0.8*(BC685-BC682)","v":14.871995926410939},{"$f":"BD682+0.75*(BD685-BD682)","v":136.16878055447202},"bs4",null,{"$f":"-BC687","v":-7.4359979632054696},{"$f":"BD687","v":136.35834979607134},"قرینه bs6",null,null,{"$f":"'متغیرها '!C452","v":1.5},"d1","از پشت گردنی",null,null,null,null,null,null,null,"(1 → 6)",{"$f":"BW693-BW680*SIN(DY678)","v":7.7667945089686583},null,{"$f":"BW715","v":10.434257784235538},{"$f":"BW714","v":29.003957769839158},34,null,{"$f":"BW704+BW677","v":17.483161603481854},{"$f":"BW703+BW678","v":42.245228068255678},24,null,null,{"$f":"-AX147","v":1.6799399999999998},"ضریب جادکمه*(v3*2+w2)",null,{"$f":"-(CG692-CG690)+CG690","v":-3.6397516121211382},{"$f":"CH692","v":30},"قرینه 3",null,null,{"$f":"-AX147","v":1.6799399999999998},"ضریب جادکمه*(v3*2+w2)",null,{"$f":"-(CO692-CO690)+CO690","v":-3.6397516121211382},{"$f":"CP692","v":30},"قرینه 3",null,null,{"$f":"-AX147","v":1.6799399999999998},"ضریب جادکمه*(v3*2+w2)",null,{"$f":"CW701","v":0},{"$f":"CX701","v":37.051970254648523},{"$f":"CY701","v":2},null,null,{"$f":"-AX147","v":1.6799399999999998},"ضریب جادکمه*(v3*2+w2)",null,0,{"$f":"DF698","v":38.013602562100587},2,null,"(1 → 9)",{"$f":"DN697+0.05*EG678","v":17.622854358017118},null,null,{"$f":"0+'متغیرها '!C718","v":-30},{"$f":"0+'متغیرها '!C719","v":20},1,null,"(5 → 6)",{"$f":"AA146+(DV684-AA146-(DV692-DV683)*TAN(DV680))*(COS(DY678)+SIN(DY678)*TAN(DY678+DV680))*COS(DY678)","v":24.932325233879979},null,{"$f":"DV693","v":8.3484212811923744},{"$f":"DV692","v":32.11837993020859},13,null,{"$f":"DX689+DY728","v":-20.814262143377022},{"$f":"DY689+DY729","v":62.949087525671956},19,null,"(6 → 7)",{"$f":"EG687+0.8*(EG684-EG687)","v":35.646466156140001},"عمود",null,{"$f":"0+'متغیرها '!C718","v":-30},{"$f":"0+'متغیرها '!C719","v":20},1,null,null,null,null,14.133086501856628,19.081340919554854,"21'",null,{"$f":"EQ686+EO729","v":14.133086501856628},{"$f":"ER686+EO730","v":49.081340919554854},"21'",null,{"$f":"EQ696+EO729","v":0.49948800440331809},{"$f":"ER696+EO730","v":42.453581636276184},27,null,"(1 → 6)",{"$f":"0.4*FC678","v":3.6397516121211382},null,0,{"$f":"FD684","v":10.658534662365655},4,null,null,null,null,null,{"$f":"FF716+FD719","v":3.6397516121211382},{"$f":"FG716+FD720","v":49.110963073860148},"9'"]
[null,null,null,null,null,null,"پایه",{"$f":"0","v":0},"c2",null,{"$f":"G683","v":-1.6799399999999998},{"$f":"H683","v":131.36934389257897},"26'",null,"پایه",{"$f":"'متغیرها '!C739","v":0.5},"c2",null,{"$f":"O683","v":-1.6799399999999998},{"$f":"P683","v":131.36934389257897},"26'",null,"پایه",{"$f":"0","v":0},"c2",null,{"$f":"W683","v":-1.6799399999999998},{"$f":"X683","v":131.36934389257897},"26'",null,null,{"$f":"'متغیرها '!C700","v":2},"c2",null,{"$f":"AE703","v":-1.4020015830372257},{"$f":"AF703","v":132.9985178263249},"m3",null,"نقاط  خروجی",null,null,null,{"$f":"AM682","v":0},{"$f":"AN682","v":131.36934389257897},{"$f":"AO682","v":26},null,{"$f":"-AU679","v":-8.3512531777606629},{"$f":"AV679","v":141.84676563115454},"25قرینه",null,null,null,null,null,{"$f":"BC682+0.4*(BC685-BC682)","v":7.4359979632054696},{"$f":"BD682+0.17*(BD685-BD682)","v":136.35834979607134},"bs6",null,{"$f":"-BC686","v":-14.871995926410939},{"$f":"BD686","v":136.16878055447202},"قرینهbs4",null,{"$f":"AQ260-BL691","v":4.5018158885828523},{"$f":"AR260-BL692","v":127.21867586275542},"d6","از پشت گردنی",null,{"$f":"BK680","v":8.0408000000000008},{"$f":"BL680","v":141.9},{"$f":"BM680","v":"25 شبیه ساز"},null,null,null,"(6 → 7)",{"$f":"BW694+BW680*COS(DY678)","v":15.617383514243677},null,null,null,null,null,{"$f":"BW706+BW677","v":17.975519037167889},{"$f":"BW705+BW678","v":45.69824149161235},26,null,null,null,null,null,{"$f":"CG690","v":0},{"$f":"CH690","v":30},{"$f":"CI690","v":1},null,null,null,null,null,{"$f":"CO690","v":0},{"$f":"CP690","v":30},{"$f":"CQ690","v":1},null,"c3",{"$f":"'متغیرها '!C692","v":1},null,null,null,null,null,null,null,null,null,null,null,null,null,null,"(9 → 10)",{"$f":"DN698","v":5.2387108692877895},"عمود",null,{"$f":"DN690+'متغیرها '!C718","v":-27.669821121981261},{"$f":"0+'متغیرها '!C719","v":20},13,null,"(1 → 7)",{"$f":"0.5*H133","v":29.5},null,{"$f":"DV695","v":9.6540097076821123},{"$f":"DV694","v":35.007939095765607},15,null,{"$f":"DX690+DY728","v":-23.207244036860352},{"$f":"DY690+DY729","v":65.424484153250347},21,null,"(2 → 8)",{"$f":"0.7*(EG682-EG690)+EG690","v":27.355549912688371},"عمود",null,{"$f":"EG693+'متغیرها '!C718","v":-25.339642243962526},{"$f":"0+'متغیرها '!C719","v":20},13,null,null,null,null,{"$f":"EO712","v":20.427964134304144},{"$f":"EO713","v":18.644614032329347},26,null,{"$f":"EQ687+EO729","v":20.427964134304144},{"$f":"ER687+EO730","v":48.644614032329343},26,null,{"$f":"EQ697+EO729","v":3.6397516121211382},{"$f":"ER697+EO730","v":42.453581636276184},8,null,"(6 → 7)",{"$f":"FD684","v":10.658534662365655},null,{"$f":"FD686","v":3.6397516121211382},{"$f":"FD687","v":10.658534662365655},7,null,{"$f":"FF686+FD719","v":0},{"$f":"FG686+FD720","v":40.658534662365653},4,null,{"$f":"FF717+FD719","v":7.8382088694091143},{"$f":"FG717+FD720","v":49.478248468456883},"13'"]
[null,null,null,null,null,null,"پایه",{"$f":"'متغیرها '!C692","v":1},"c3",null,{"$f":"G685","v":-1.6799399999999998},{"$f":"H685","v":66.580000000000013},"1'",null,"پایه",{"$f":"'متغیرها '!C740","v":-1},"c3",null,{"$f":"O685","v":-1.6799399999999998},{"$f":"P685","v":66.580000000000013},"1'",null,"پایه",{"$f":"'متغیرها '!C733","v":1},"c3",null,{"$f":"W685","v":-1.6799399999999998},{"$f":"X685","v":66.580000000000013},"1'",null,null,{"$f":"'متغیرها '!C701","v":-1},"c3",null,{"$f":"AE708","v":-1.6799399999999998},{"$f":"AF708","v":131.36934389257897},"m9",null,{"$f":"AM682+AN684*SIN(AN685)","v":3.1948342424005922},{"$f":"AN682-AN684*COS(AN685)","v":124.51799974986999},"m1",null,{"$f":"AM692","v":-3.1948342424005922},{"$f":"AN692","v":124.51799974986999},{"$f":"AO692","v":"قرینه m1"},null,{"$f":"-AU680","v":-7.7666654553174173},{"$f":"AV680","v":135.17176563115453}," قرینه51'",null,null,null,null,null,null,null,null,null,{"$f":"-BC685","v":-18.589994908013672},{"$f":"BD685","v":136.0870696744723},"قرینهbs2",null,{"$f":"AQ261-BL691","v":2.6472891220079973},{"$f":"AR261-BL692","v":115.6495365519644},"d7","از پشت گردنی",null,{"$f":"BK690","v":13.658838924634871},{"$f":"BL690","v":131.86179244203186},{"$f":"BM690","v":"d9"},null,null,null,"(1 → 8)",{"$f":"BW693-AA147","v":7.2244854958344007},null,0,{"$f":"BW682","v":0.62134356071749264},2,null,{"$f":"BW708+BW677","v":17.781166143077854},{"$f":"BW707+BW678","v":49.316216462203855},28,null,"نقاط  خروجی پایه",null,null,null,{"$f":"CG692","v":3.6397516121211382},{"$f":"CH692","v":30},{"$f":"CI692","v":3},null,"نقاط  خروجی",null,null,null,{"$f":"CO692","v":3.6397516121211382},{"$f":"CP692","v":30},{"$f":"CQ692","v":3},null,"c16",{"$f":"IF(CX687=-1,2*CX683,2*CX687*CX683)","v":-0.58176191715664738},null,null,{"$f":"-(CW706-CW700)+CW700","v":-22.112925266370436},{"$f":"CX706","v":25.004883175950134},"قرینه7",null,"c3",{"$f":"'متغیرها '!C733","v":1},null,null,{"$f":"-(DE703-DE697)+DE697","v":-22.954352580895524},{"$f":"DF703","v":26.926081954430849},"قرینه7",null,"(1 → 11)",{"$f":"DN686+0.65*(DN678-DN686)","v":19.590499025305991},null,null,{"$f":"DN691+'متغیرها '!C718","v":-24.429196971486352},{"$f":"DN692+'متغیرها '!C719","v":20.916774402125363},15,null,"(1 → 8)",{"$f":"DV687+0.1*(DV692-DV687)","v":29.761837993020858},null,{"$f":"DV697","v":10.172899659506996},{"$f":"DV696","v":39.003712313016912},17,null,null,null,null,null,"(3→5→7→8→12→10)","هلال وصل",null,null,{"$f":"EG694+'متغیرها '!C718","v":-22.099018093467613},{"$f":"EG695+'متغیرها '!C719","v":20.916774402125363},15,null,"قد یقه انگلیسی",{"$f":"0.8*G254*ES740","v":1.7950469739105324},null,null,null,null,null,null,null,null,null,{"$f":"EQ698+EO729","v":7.8382088694091143},{"$f":"ER698+EO730","v":41.868594915323762},12,null,"(6 → 8)",{"$f":"FD685","v":12.453581636276187},null,{"$f":"FD690","v":7.8382088694091143},{"$f":"FD691","v":10.073547941413231},11,null,{"$f":"FF687+FD719","v":3.6397516121211382},{"$f":"FG687+FD720","v":40.658534662365653},7,null,{"$f":"FF718+FD719","v":14.133086501856628},{"$f":"FG718+FD720","v":49.081340919554854},"21'"]
[null,null,null,null,null,null,"پایه",null,"c4",null,null,null,null,null,"پایه",{"$f":"'متغیرها '!C741","v":0.89999999999999991},"c4",null,null,null,null,null,"پایه",null,"c4",null,null,null,null,null,null,{"$f":"'متغیرها '!C702","v":0.71333333333333326},"c4",null,null,null,null,null,{"$f":"AM680+AN684*COS(AN683)","v":15.620215410811966},{"$f":"AN680-AN684*SIN(AN683)","v":139.77069471408021},"m2",null,null,null,null,null,{"$f":"-AU681","v":-8.3512531777606629},{"$f":"AV681","v":128.49676563115455},"قرینه51",null,null,null,null,null,null,null,null,null,{"$f":"-BC681","v":-19.762127675570746},{"$f":"BD681","v":135.75229963830256},"قرینه سرشانه",null,{"$f":"AQ262-BL691","v":21.089458970258761},{"$f":"AR262-BL692","v":124.27321281829865},"d8","از پشت گردنی",null,{"$f":"BK689","v":21.089458970258761},{"$f":"BL689","v":124.27321281829865},{"$f":"BM689","v":"d8"},null,null,null,"(1 → 9)",{"$f":"BW688+0.1*(BW693-BW688)","v":7.4863234888552599},null,{"$f":"BW683","v":6.2469534056974716},{"$f":"BW682","v":0.62134356071749264},3,null,{"$f":"BW711+BW677","v":15.918345462479977},{"$f":"BW710+BW678","v":54.094222989323605},30,null,"مولفه افقی","مولفه عمودی","اسم نقطه ",null,{"$f":"CG694","v":9.0976726300679545},{"$f":"CH694","v":30.136490685454543},{"$f":"CI694","v":5},null,"مولفه افقی","مولفه عمودی","اسم نقطه ",null,{"$f":"CO694","v":9.0720123044947876},{"$f":"CP694","v":30.545962741818173},{"$f":"CQ694","v":5},null,"c17",{"$f":"IF(CX687=-1,1.2*CX683,1.2*CX687*CX683)","v":-0.34905715029398843},null,null,{"$f":"-(CW708-CW700)+CW700","v":-17.860418768777933},{"$f":"CX708","v":24.740405707611338},"قرینه9",null,"c16",{"$f":"IF(DF688=-1,1.3*DF683,1.3*DF688*DF683)","v":-0.23684228044031486},null,null,{"$f":"-(DE705-DE697)+DE697","v":-18.694003466931655},{"$f":"DF705","v":26.982520154903884},"قرینه9",null,"(11 → 12)",{"$f":"DN687+0.4*(DN684-DN687)","v":12.562246486648021},"عمود",null,{"$f":"DN693+'متغیرها '!C718","v":-21.188572820991439},{"$f":"DN694+'متغیرها '!C719","v":22.619355434643893},17,null,"(8 → 9)",{"$f":"0.45*DV693","v":3.7567895765365686},null,{"$f":"DV699","v":9.1857378566229801},{"$f":"DV698","v":42.949087525671956},19,null,{"$f":"DX692+DY728","v":-0.5},{"$f":"DY692+DY729","v":21.280892125040729},4,null,"(1 → 9)",{"$f":"EG700+0.1*EG678","v":22.283212114054592},null,null,{"$f":"EG696+'متغیرها '!C718","v":-18.858393942972704},{"$f":"EG697+'متغیرها '!C719","v":22.619355434643893},17,null,"یقه انگلیسی با پایه",null,null,null,null,"انحنا",null,{"$f":"EQ696+EO729","v":0.49948800440331809},{"$f":"ER696+EO730","v":42.453581636276184},27,null,{"$f":"EQ699+EO729","v":10.3572832237819},{"$f":"ER699+EO730","v":40.799584093188095},28,null,"(6 → 9)",{"$f":"(1+0.1*FD709)*FD683+FD706","v":18.360963073860152},null,{"$f":"FD694","v":12.03666612669709},{"$f":"FD695","v":9.1960678599845966},15,null,{"$f":"FF688+FD719","v":7.8382088694091143},{"$f":"FG688+FD720","v":40.073547941413231},11,null,{"$f":"FF719+FD719","v":20.427964134304144},{"$f":"FG719+FD720","v":48.644614032329343},26]
[null,null,null,null,null,null,"پایه",{"$f":"CP681","v":14.202409749884527},"c7",null,{"$f":"G685","v":-1.6799399999999998},{"$f":"H685","v":66.580000000000013},"1'",null,"پایه",{"$f":"CP681","v":14.202409749884527},"c7",null,{"$f":"O685","v":-1.6799399999999998},{"$f":"P685","v":66.580000000000013},"1'",null,"پایه",{"$f":"CP681","v":14.202409749884527},"c7",null,{"$f":"W685","v":-1.6799399999999998},{"$f":"X685","v":66.580000000000013},"1'",null,null,{"$f":"CP681","v":14.202409749884527},"c7",null,{"$f":"AE683","v":-1.6799399999999998},{"$f":"AF683","v":131.36934389257897},"26'",null,{"$f":"AM688+0.55*(AM689-AM688)","v":10.028793885026849},{"$f":"AN688+0.25*(AN689-AN688)","v":128.33117349092254},"m5",null,{"$f":"AM692","v":-3.1948342424005922},{"$f":"AN692","v":124.51799974986999},{"$f":"AO692","v":"قرینه m1"},null,null,null,null,null,null,null,null,null,null,null,null,null,null,null,null,null,{"$f":"AQ263-BL691","v":13.658838924634871},{"$f":"AR263-BL692","v":131.86179244203186},"d9","از پشت گردنی",null,{"$f":"BK684","v":29.581596165257494},{"$f":"BL684","v":121.8768192529092},{"$f":"BM684","v":"b4"},null,null,null,"(9 → 10)",{"$f":"0.45*BW694","v":3.7567895765365686},null,null,null,null,null,{"$f":"BW713+BW677","v":13.12411444158316},{"$f":"BW712+BW678","v":57.279560674070105},32,null,{"$f":"'متغیرها '!C705","v":0},{"$f":"'متغیرها '!C706","v":30},1,null,{"$f":"CG697","v":13.775588330915822},30.424855222429343,8,null,{"$f":"'متغیرها '!C705","v":0},{"$f":"'متغیرها '!C706","v":30},1,null,{"$f":"CO697","v":13.630613066757363},31.634635558013542,8,null,"c18",0.35,null,null,{"$f":"-(CW707-CW700)+CW700","v":-13.189339103887278},{"$f":"CX707","v":26.440493645171586},"قرینه8",null,"c17",{"$f":"IF(DF688=-1,1.5*DF683,1.5*DF688*DF683)","v":-0.27327955435420942},null,null,{"$f":"-(DE704-DE697)+DE697","v":-13.907623307415381},{"$f":"DF704","v":28.324104740303483},"قرینه8",null,"(1 → 13)",{"$f":"0.05*EG678","v":2.3301788780187374},null,null,{"$f":"DN695+'متغیرها '!C718","v":-17.94794867049653},{"$f":"DN696+'متغیرها '!C719","v":24.452904238894622},19,null,"(1 → 10)",{"$f":"DV687+0.4*(DV692-DV687)","v":30.547351972083437},null,{"$f":"DV701","v":6.7927559631396495},{"$f":"DV700","v":45.424484153250347},21,null,{"$f":"DX693+DY728","v":-5.067674766120021},{"$f":"DY693+DY729","v":47.381890788583711},6,null,"(9 → 10)",{"$f":"EG701","v":5.2387108692877895},"عمود",null,{"$f":"EG698+'متغیرها '!C718","v":-15.617769792477793},{"$f":"EG699+'متغیرها '!C719","v":24.452904238894622},19,null,"(1 → 2)",{"$f":"EO702+(G276)/TAN(O244)","v":51.97306799564506},null,{"$f":"EN681","v":8.906573042142224E-2},{"$f":"EO681","v":18.332263552689991},29,null,{"$f":"EQ697+EO729","v":3.6397516121211382},{"$f":"ER697+EO730","v":42.453581636276184},8,null,{"$f":"EQ700+EO729","v":12.03666612669709},{"$f":"ER700+EO730","v":39.196067859984595},15,null,"(1 → 10)",{"$f":"FD686+0.5*(FD694-FD686)","v":7.8382088694091143},null,null,null,null,null,{"$f":"FF689+FD719","v":12.03666612669709},{"$f":"FG689+FD720","v":39.196067859984595},15]
[null,null,null,null,null,null,"پایه",{"$f":"('متغیرها '!C689+0.1)*H699","v":2.8848969223562131},"c1*c9",null,{"$f":"-G685","v":1.6799399999999998},{"$f":"H685","v":66.580000000000013},"قرینه 1'",null,"پایه",{"$f":"CH682","v":2.8848969223562131},"c1*c9",null,{"$f":"-O685","v":1.6799399999999998},{"$f":"P685","v":66.580000000000013},"قرینه 1'",null,"پایه",{"$f":"0.4*'متغیرها '!C731*X699","v":3.2054410248402365},"c1*c9",null,{"$f":"-W685","v":1.6799399999999998},{"$f":"X685","v":66.580000000000013},"قرینه 1'",null,null,{"$f":"CP682","v":3.2054410248402365},"c1*c9",null,{"$f":"AE685","v":-1.6799399999999998},{"$f":"AF685","v":66.580000000000013},"1'",null,{"$f":"AM688+0.85*(AM689-AM688)","v":13.756408235550259},{"$f":"AN688+0.57*(AN689-AN688)","v":133.21203587946982},"m6",null,{"$f":"AM694","v":-10.028793885026849},128.33117349092254,"قرینهm5",null,{"$f":"-AU681","v":-8.3512531777606629},{"$f":"AV681","v":128.49676563115455},"قرینه51",null,null,null,null,null,null,null,null,null,{"$f":"BG688","v":-18.589994908013672},{"$f":"BD685","v":136.0870696744723},"قرینه bs2",null,null,{"$f":"'متغیرها '!C51","v":5},"شیفت افقی",null,null,null,null,null,null,null,null,"(1 → 11)",{"$f":"BW688+0.4*(BW693-BW688)","v":8.2718374679178375},null,0,{"$f":"BW684","v":3.2620536937668363},4,null,null,null,"مشترک",null,{"$f":"CG690","v":0},{"$f":"CH682+CH690","v":32.884896922356212},2,null,18.437732072654065,30.904923073669803,9,null,{"$f":"CO690","v":0},{"$f":"CP682+CP690","v":33.205441024840233},2,null,17.964204979510079,33.419581087756093,9,null,"c19",0.3,null,null,null,null,null,null,"c18",0.35,null,null,{"$f":"-(DE701-DE697)+DE697","v":-9.0755473060487404},{"$f":"DF701","v":29.49043477430304},"قرینه5",null,"(1 → 14)",{"$f":"DN690+0.5*(DN693-DN690)","v":5.5708030285136481},null,null,{"$f":"DN697+'متغیرها '!C718","v":-14.70732452000162},{"$f":"DN698+'متغیرها '!C719","v":25.23871086928779},21,null,"(10 → 11)",{"$f":"0.75*DV693","v":6.2613159608942812},null,null,null,null,null,{"$f":"DX694+DY728","v":-3.8222009649092286},{"$f":"DY694+DY729","v":57.063322999220127},23,null,"(1 → 11)",{"$f":"EG689+0.65*(EG681-EG689)","v":25.05662423991911},null,null,{"$f":"EG700+'متغیرها '!C718","v":-12.377145641982882},{"$f":"EG701+'متغیرها '!C719","v":25.23871086928779},21,null,"(1 → 3)",{"$f":"EO692+0.95*G254+1.45*FC680","v":18.351593121982223},null,{"$f":"EO694","v":3.6397516121211382},{"$f":"EO697","v":18.360963073860152},9,null,{"$f":"EQ698+EO729","v":7.8382088694091143},{"$f":"ER698+EO730","v":41.868594915323762},12,null,null,null,"خطوط برش",null,"(10 → 11)",{"$f":"FD695+FD712*(FD687-FD695)","v":10.073547941413231},null,0,{"$f":"FD685","v":12.453581636276187},5,null,null,null,null,null,{"$f":"FN681","v":0},{"$f":"FO681","v":40.658534662365653},4]
[null,null,null,null,null,null,"پایه",{"$f":"ATAN((H680-H684)/(G680-G684))","v":0.89784367118138519},"m7",null,null,null,null,null,"پایه",{"$f":"ATAN((P680-P684)/(O680-O684))","v":0.89784367118138519},"m7",null,null,null,null,null,"پایه",{"$f":"ATAN((X680-X684)/(W680-W684))","v":0.89784367118138519},"m7",null,null,null,null,null,null,{"$f":"ATAN((AF680-AF684)/(AE680-AE684))","v":0.89784367118138519},"m7",null,null,null,null,null,{"$f":"-AM688","v":-3.1948342424005922},{"$f":"AN688","v":124.51799974986999},"قرینه m1",null,-13.756408235550259,133.21203587946982,"قرینهm6",null,{"$f":"-AU684","v":-3.3405012711042654},{"$f":"AV684","v":123.15676563115454},"قرینه49'",null,null,null,null,null,null,null,null,null,{"$f":"BG689","v":-19.762127675570746},{"$f":"BD681","v":135.75229963830256},"قرینه سرشانه",null,null,{"$f":"'متغیرها '!C52","v":5},"شیفت عمودی",null,null,{"$f":"BK680","v":8.0408000000000008},{"$f":"BL680","v":141.9},{"$f":"BM680","v":"25 شبیه ساز"},null,null,null,"(11 → 12)",{"$f":"0.75*BW694","v":6.2613159608942812},null,{"$f":"BW685","v":11.400689965397884},{"$f":"BW684","v":3.2620536937668363},5,null,{"$f":"0+BW677","v":0},{"$f":"BW688+BW678","v":37.224485495834401},8,null,{"$f":"CG690+0.4*CH680","v":3.6397516121211382},{"$f":"CH690","v":30},3,null,{"$f":"CG696","v":24.892800712560145},{"$f":"CH696","v":31.73921119787466},{"$f":"CI696","v":7},null,{"$f":"CO690+0.4*CP680","v":3.6397516121211382},{"$f":"CP690","v":30},3,null,{"$f":"CO696","v":23.427877124713682},{"$f":"CP696","v":36.956844791498646},{"$f":"CQ696","v":7},null,"c20",{"$f":"'متغیرها '!C689","v":0.8},null,null,{"$f":"DA690","v":-13.189339103887278},{"$f":"DB690","v":26.440493645171586},"قرینه8",null,"c19",0.3,null,null,{"$f":"-(DE699-DE697)+DE697","v":-3.6397516121211382},{"$f":"DF699","v":30},"قرینه 3",null,"(14 → 15)",{"$f":"0.35*DN694","v":0.9167744021253631},"عمود",null,{"$f":"DN686+'متغیرها '!C718","v":-12.377145641982882},{"$f":"DN687+'متغیرها '!C719","v":25.23871086928779},10,null,"(1 → 12)",{"$f":"DV687+AA147","v":32.11837993020859},null,{"$f":"DV684","v":29.5},{"$f":"DV683","v":1.2808921250407292},4,null,{"$f":"DX695+DY728","v":-0.91609542875070815},{"$f":"DY695+DY729","v":64.984494807922644},25,null,"(11 → 12)",{"$f":"EG690+0.4*(EG687-EG690)","v":14.085446486648022},"عمود",null,{"$f":"EG689+'متغیرها '!C718","v":-7.7167878859454078},{"$f":"EG690+'متغیرها '!C719","v":25.23871086928779},10,null,"(1 → 4)",{"$f":"FD695+SIN(O244)*(FC678+O247)-ES738*AA147","v":10.658534662365655},null,{"$f":"EO698","v":7.8382088694091143},{"$f":"EO701","v":18.828248468456884},13,null,{"$f":"EQ699+EO729","v":10.3572832237819},{"$f":"ER699+EO730","v":40.799584093188095},28,null,{"$f":"EQ702+EO729","v":12.03666612669709},{"$f":"ER702+EO730","v":39.196067859984595},15,null,"(10 → 12)",{"$f":"FD691+(FD685-FD684)","v":11.868594915323763},null,{"$f":"FD686","v":3.6397516121211382},{"$f":"FD688","v":12.453581636276187},8,null,{"$f":"FF691+FD719","v":0},{"$f":"FG691+FD720","v":42.453581636276184},5,null,{"$f":"FJ688","v":3.6397516121211382},40.658534662365653,7]
[null,null,null,null,null,null,"پایه",{"$f":"H687*RADIANS(15)","v":0},"m10",null,{"$f":"-G685","v":1.6799399999999998},{"$f":"H685","v":66.580000000000013},"قرینه 1'",null,"پایه",{"$f":"P687*RADIANS(15)","v":0.1308996938995747},"m10",null,{"$f":"-O685","v":1.6799399999999998},{"$f":"P685","v":66.580000000000013},"قرینه 1'",null,"پایه",{"$f":"X687*RADIANS(15)","v":0},"m10",null,{"$f":"-W685","v":1.6799399999999998},{"$f":"X685","v":66.580000000000013},"قرینه 1'",null,null,{"$f":"AF687*RADIANS(15)","v":0.52359877559829882},"m10",null,{"$f":"AE685","v":-1.6799399999999998},{"$f":"AF685","v":66.580000000000013},"1'",null,{"$f":"-AM689","v":-15.620215410811966},{"$f":"AN689","v":139.77069471408021},"قرینهm2",null,{"$f":"AM693","v":-15.620215410811966},{"$f":"AN693","v":139.77069471408021},{"$f":"AO693","v":"قرینهm2"},null,{"$f":"-AU685","v":0},{"$f":"AV685","v":115.14676563115455},"قرینه49",null,null,null,null,null,null,null,null,null,null,null,null,null,"نقاط  خروجی ",null,null,null,null,{"$f":"BK696","v":7.8649800848664402},{"$f":"BL696","v":144.30408076863017},{"$f":"BM696","v":"g4"},null,null,null,"(1 → 13)",{"$f":"BW680+G166-(AA146-G163)*TAN(DY678)","v":9.8428654260429926},null,null,null,null,null,{"$f":"BW690+BW677","v":3.7567895765365686},{"$f":"BW689+BW678","v":37.486323488855263},10,null,{"$f":"CG692","v":3.6397516121211382},{"$f":"CH691","v":32.884896922356212},4,null,null,null,null,null,{"$f":"CO692","v":3.6397516121211382},{"$f":"CP691","v":33.205441024840233},4,null,null,null,null,null,"c21",{"$f":"SQRT(POWER((CW711-CW712),2)+POWER((CX711-CX712),2))+SQRT(POWER((CW712-CW713),2)+POWER((CX712-CX713),2))+SQRT(POWER((CW713-CW707),2)+POWER((CX713-CX707),2))","v":15.167876093876352},null,null,{"$f":"-(CW713-CW700)+CW700","v":-8.8028643066010694},{"$f":"CX713","v":30.692769075928449},"قرینه18",null,null,{"$f":"IF(DF688=-1,\" وصل به خط جادکمه\",IF(DF688=1,\" وصل به خط مرکزی جلو  \",\"   \"))","v":" وصل به خط مرکزی جلو  "},"برچسب جلو الگو",null,{"$f":"DE697","v":0},{"$f":"DF697","v":30},{"$f":"DG697","v":1},null,"(1 → 16)",{"$f":"DN690+0.5*(DN697-DN690)","v":8.8114271790085592},null,null,null,null,null,null,"(12 → 13)",{"$f":"AA146","v":8.3484212811923744},null,{"$f":"DV686","v":24.932325233879979},{"$f":"DV685","v":27.381890788583711},6,null,null,null,null,null,"(1 → 13)",{"$f":"0.1*EG678","v":4.6603577560374747},null,null,null,null,"خطوط برش",null,"(1 → 5)",{"$f":"EO692+EO688","v":12.453581636276187},null,{"$f":"EO705","v":14.133086501856628},{"$f":"EO706","v":18.681340919554856},21,null,{"$f":"EQ700+EO729","v":12.03666612669709},{"$f":"ER700+EO730","v":39.196067859984595},15,null,{"$f":"EQ703+EO729","v":14.297501823311102},{"$f":"ER703+EO730","v":38.675470171826227},19,null,"(10 → 13)",{"$f":"FD692+FD710*(FD683-FD685)","v":18.828248468456884},null,{"$f":"FD690","v":7.8382088694091143},{"$f":"FD692","v":11.868594915323763},12,null,{"$f":"FF692+FD719","v":3.6397516121211382},{"$f":"FG692+FD720","v":42.453581636276184},8,null,7.8382088694091143,40.073547941413231,11]
[null,null,null,null,null,null,null,{"$f":"ATAN((H682-H681)/(G682-G681))","v":0.89784367118138508},"m17",null,{"$f":"-G683","v":1.6799399999999998},{"$f":"H683","v":131.36934389257897},"قرینه 26'",null,null,{"$f":"ATAN((P682-P681)/(O682-O681))","v":0.89784367118138508},"m17",null,{"$f":"-O683","v":1.6799399999999998},{"$f":"P683","v":131.36934389257897},"قرینه 26'",null,null,{"$f":"ATAN((X682-X681)/(W682-W681))","v":0.89784367118138508},"m17",null,{"$f":"-W683","v":1.6799399999999998},{"$f":"X683","v":131.36934389257897},"قرینه 26'",null,null,{"$f":"ATAN((AF682-AF681)/(AE682-AE681))","v":0.89784367118138508},"m17",null,{"$f":"-AE685","v":1.6799399999999998},{"$f":"AF685","v":66.580000000000013},"قرینه 1'",null,{"$f":"-AM690","v":-10.028793885026849},{"$f":"AN690","v":128.33117349092254},"قرینهm5",null,null,null,"مشترک",null,null,null,null,null,null,null,null,null,null,null,null,null,null,null,null,null,"مولفه افقی","مولفه عمودی","اسم نقطه ",null,null,{"$f":"BK695","v":6.2826008486643889},{"$f":"BL695","v":146.70816153726037},{"$f":"BM695","v":"g3"},null,null,null,"(13 → 14)",{"$f":"AA146","v":8.3484212811923744},null,0,{"$f":"BW686","v":7.7667945089686583},6,null,{"$f":"BW692+BW677","v":6.2613159608942812},{"$f":"BW691+BW678","v":38.271837467917834},12,null,{"$f":"CG692+(CH680-CG692+CG690)*COS(CH685)","v":9.0976726300679545},{"$f":"CH690+(CH680-CG692+CG690)*SIN(CH685)","v":30.136490685454543},5,null,{"$f":"-(CG696-CG690)+CG690","v":-24.892800712560145},{"$f":"CH696","v":31.73921119787466},"قرینه7",null,{"$f":"CO692+(CP680-CO692+CO690)*COS(CP685)","v":9.0720123044947876},{"$f":"CP690+(CP680-CO692+CO690)*SIN(CP685)","v":30.545962741818173},5,null,{"$f":"-(CO696-CO690)+CO690","v":-23.427877124713682},{"$f":"CP696","v":36.956844791498646},"قرینه7",null,"c22",{"$f":"SQRT(CX693*CX693-CX692*CX692*CX679*CX679)","v":14.949533765786787},null,null,{"$f":"-(CW712-CW700)+CW700","v":-3.6397516121211382},{"$f":"CX712","v":32.307917537884968},"قرینه 17",null,null,null,null,null,{"$f":"DE699","v":3.6397516121211382},{"$f":"DF699","v":30},{"$f":"DG699","v":3},null,"(16→17)",{"$f":"0.5*DN698","v":2.6193554346438948},"عمود",null,{"$f":"DN705+'متغیرها '!C718","v":-8.1103577560374731},{"$f":"DN706+'متغیرها '!C719","v":25.23871086928779},26,null,"(1 → 14)",{"$f":"DV692+0.3*K144*COS(DY679+DY678)+(1-0.95)*AA146*SIN(DY679+DY678)","v":35.007939095765607},null,{"$f":"DV703","v":26.177799035090771},{"$f":"DV702","v":37.063322999220127},23,null,{"$f":"DX697+DY728","v":-0.5},{"$f":"DY697+DY729","v":21.280892125040729},4,null,"(1 → 14)",{"$f":"EG693+0.5*(EG696-EG693)","v":7.900981906532385},null,null,{"$f":"0+'متغیرها '!C718","v":-30},{"$f":"0+'متغیرها '!C719","v":20},1,null,"(1 → 6)",{"$f":"0.4*FC678","v":3.6397516121211382},null,{"$f":"EQ687","v":20.427964134304144},{"$f":"ER687","v":18.644614032329347},26,null,null,null,null,null,null,null,null,null,"(1 → 14)",{"$f":"COS(O244)*(FC678+O247)","v":12.03666612669709},null,{"$f":"FD694","v":12.03666612669709},{"$f":"FD696","v":10.991114833895129},16,null,{"$f":"FF693+FD719","v":7.8382088694091143},{"$f":"FG693+FD720","v":41.868594915323762},12,null,12.03666612669709,39.196067859984595,15]
[null,null,null,null,null,null,null,{"$f":"ATAN((H680-H682)/(G680-G682))","v":1.2621563715474913},"m18",null,null,null,null,null,null,{"$f":"ATAN((P680-P682)/(O680-O682))","v":1.2621563715474913},"m18",null,null,null,null,null,null,{"$f":"ATAN((X680-X682)/(W680-W682))","v":1.2621563715474913},"m18",null,null,null,null,null,null,{"$f":"ATAN((AF680-AF682)/(AE680-AE682))","v":1.2621563715474913},"m18",null,null,null,null,null,{"$f":"-AM691","v":-13.756408235550259},{"$f":"AN691","v":133.21203587946982},"قرینهm6",null,{"$f":"AM680","v":8.3512531777606629},{"$f":"AN680","v":141.84676563115454},{"$f":"AO680","v":25},null,null,null,null,null,null,null,null,null,null,null,null,null,null,null,null,null,{"$f":"BK681","v":6.2826008486643889},{"$f":"BL680+BL686*BL683","v":146.70816153726037},"g3",null,null,null,null,"قرینه",null,null,null,"(1 → 15)",{"$f":"BW693+0.3*K144*COS(DY679+DY678)+(1-0.95)*AA146*SIN(DY679+DY678)","v":12.732424591600008},null,{"$f":"BW687","v":15.617383514243677},{"$f":"BW686","v":7.7667945089686583},7,null,{"$f":"BW694+BW677","v":8.3484212811923744},{"$f":"BW693+BW678","v":39.842865426042991},14,null,{"$f":"CG694-CH682*SIN(CH685)","v":9.025550207009049},{"$f":"CH694+CH682*COS(CH685)","v":33.020485936614378},6,null,{"$f":"-(CG700-CG690)+CG690","v":-24.16904071869158},{"$f":"CH700","v":33.486838394892004},"قرینه11",null,{"$f":"CO694-CP682*SIN(CP685)","v":8.7514682020107646},{"$f":"CP694+CP682*COS(CP685)","v":33.735336291920376},6,null,{"$f":"-(CO700-CO690)+CO690","v":-22.220124819869451},{"$f":"CP700","v":38.383982334656686},"قرینه11",null,null,null,null,null,{"$f":"CW711","v":0},32.564352819872191,16,null,"نقاط  خروجی ",null,null,null,{"$f":"DE701","v":9.0755473060487404},{"$f":"DF701","v":29.49043477430304},{"$f":"DG701","v":5},null,"(1 → 18)",{"$f":"DN693+0.5*(DN697-DN693)","v":12.05205132950347},null,null,{"$f":"DN703+'متغیرها '!C718","v":-8.9161252146131176},{"$f":"DN704+'متغیرها '!C719","v":32.562246486648021},24,null,"(14 → 15)",{"$f":"DV693+0.3*K144*SIN(DY679+DY678)-(1-0.95)*AA146*COS(DY679+DY678)","v":9.6540097076821123},null,{"$f":"DV705","v":29.083904571249292},{"$f":"DV704","v":44.984494807922644},25,null,{"$f":"DX698+DY728","v":-15.25},{"$f":"DY698+DY729","v":20},2,null,"(14 → 15)",{"$f":"0.35*EG697","v":0.9167744021253631},"عمود",null,{"$f":"0+'متغیرها '!C718","v":-30},{"$f":"EG682+'متغیرها '!C719","v":56.834195217002907},3,null,"(6 → 7)",{"$f":"EO692","v":10.658534662365655},null,null,null,null,null,{"$f":"EQ702+EO729","v":12.03666612669709},{"$f":"ER702+EO730","v":39.196067859984595},15,null,{"$f":"EQ705+EO729","v":20.487080947452526},{"$f":"ER705+EO730","v":44.004990642181909},23,null,"(14 → 15)",{"$f":"G276","v":9.1960678599845966},null,{"$f":"FD699","v":14.297501823311102},{"$f":"FD701","v":10.470517145736757},20,null,{"$f":"FF694+FD719","v":12.03666612669709},{"$f":"FG694+FD720","v":40.991114833895125},16]
[null,null,null,null,null,null,null,{"$f":"ATAN((H681-H684)/(G681-G684))","v":0.30393056307578614},"m19",null,{"$f":"-G707","v":-6.2826008486643889},{"$f":"H707","v":146.06789441960393},"قرینهm8",null,null,{"$f":"ATAN((P681-P684)/(O681-O684))","v":0.30393056307578614},"m19",null,{"$f":"-O707","v":-6.2826008486643889},{"$f":"P707","v":145.75225596496597},"قرینهm8",null,null,{"$f":"ATAN((X681-X684)/(W681-W684))","v":0.30393056307578614},"m19",null,{"$f":"-W707","v":-6.2826008486643889},{"$f":"X707","v":146.42049293233637},"قرینهm8",null,null,{"$f":"ATAN((AF681-AF684)/(AE681-AE684))","v":0.30393056307578614},"m19",null,{"$f":"-AE685","v":1.6799399999999998},{"$f":"AF685","v":66.580000000000013},"قرینه 1'",null,{"$f":"AM682+0.4*(AM697-AM682)","v":2.371367239780438},{"$f":"AN682-0.7*(AN682-AN697)","v":128.17493596392475},"m7",null,{"$f":"AM689","v":15.620215410811966},{"$f":"AN689","v":139.77069471408021},{"$f":"AO689","v":"m2"},null,null,null,null,null,null,null,null,null,"طراحی پشت یقه ب ب روی شبیه ساز اندام",null,null,null,"رسم",null,null,null,{"$f":"BK695+0.9*(BK680-BK695)","v":7.8649800848664402},{"$f":"BL680+0.5*(BL695-BL680)","v":144.30408076863017},"g4",null,"قرینه",{"$f":"-BK685","v":1.6799399999999998},{"$f":"BL685","v":66.580000000000013},{"$f":"BM685","v":"1'"},null,null,null,"(15 → 16)",{"$f":"BW694+0.3*K144*SIN(DY679+DY678)-(1-0.95)*AA146*COS(DY679+DY678)","v":9.6540097076821123},null,null,null,null,null,{"$f":"BW696+BW677","v":9.6540097076821123},{"$f":"BW695+BW678","v":42.732424591600008},16,null,{"$f":"CG698+IF('متغیرها '!C740>=0,0.34*'متغیرها '!C740*CH681,0.34*CH681+CH686)*COS(CH684)","v":24.892800712560145},{"$f":"CH694+IF('متغیرها '!C740>=0,CH679*'متغیرها '!C739*'متغیرها '!C740,'متغیرها '!C739*CH679)","v":31.73921119787466},7,null,{"$f":"-(CG699-CG690)+CG690","v":-22.240450215244241},{"$f":"CH699","v":34.099942751075275},"قرینه10",null,{"$f":"CO698+IF('متغیرها '!C701>=0,0.34*'متغیرها '!C701*CP681,0.34*CP681+CP686)*COS(CP684)","v":23.427877124713682},{"$f":"CP694+IF('متغیرها '!C701>=0,CP679*'متغیرها '!C700*'متغیرها '!C701,'متغیرها '!C700*CP679)","v":36.956844791498646},7,null,{"$f":"-(CO699-CO690)+CO690","v":-20.858658084234762},{"$f":"CP699","v":38.553088356195609},"قرینه10",null,null,{"$f":"IF(CX687=-1,\" وصل به خط جادکمه\",IF(CX687=1,\" وصل به خط مرکزی جلو  \",\"   \"))","v":" وصل به خط مرکزی جلو  "},"برچسب جلو الگو : ",null,3.6397516121211382,32.307917537884968,17,null,"مولفه افقی","مولفه عمودی","اسم نقطه ",null,{"$f":"DE704","v":13.907623307415381},28.324104740303483,8,null,"(18 → 19)",{"$f":"0.85*DN698","v":4.4529042388946207},"عمود",null,{"$f":"DN678+'متغیرها '!C718","v":-9.3500000000000014},{"$f":"DN684+'متغیرها '!C719","v":43.547549912688368},8,null,"(1 → 16)",{"$f":"DV692+0.65*K144*COS(DY679+DY678)+(1-0.75)*AA146*SIN(DY679+DY678)","v":39.003712313016912},null,null,null,null,null,{"$f":"DX699+DY728","v":-25.574999999999999},{"$f":"DY699+DY729","v":23.285826894630045},30,null,"(1 → 16)",{"$f":"EG693+0.5*(EG700-EG693)","v":11.141606057027296},null,null,null,null,null,null,"(6 → 8)",{"$f":"EO693","v":12.453581636276187},null,{"$f":"EQ680","v":0.49948800440331809},{"$f":"ER680","v":12.453581636276187},27,null,{"$f":"EQ703+EO729","v":14.297501823311102},{"$f":"ER703+EO730","v":38.675470171826227},19,null,{"$f":"EQ706+EO729","v":20.427964134304144},{"$f":"ER706+EO730","v":48.644614032329343},26,null,"(14 → 16)",{"$f":"FD695+(FD685-FD684)","v":10.991114833895129},null,"خطوط برش",null,null,null,{"$f":"FF695+FD719","v":14.297501823311102},{"$f":"FG695+FD720","v":40.470517145736757},20,null,{"$f":"FJ692","v":0},42.453581636276184,5]
[null,null,null,null,null,null,null,{"$f":"SQRT(POWER((G684-G681),2)+POWER((H681-H684),2))","v":3.5009587836946863},"m20",null,{"$f":"-G701","v":-8.3512531777606629},{"$f":"H701","v":144.73166255351074},"قرینهm1",null,null,{"$f":"SQRT(POWER((O684-O681),2)+POWER((P681-P684),2))","v":3.5009587836946863},"m20",null,{"$f":"-O701","v":-7.9746985675381605},{"$f":"P701","v":144.70698186041773},"قرینهm1",null,null,{"$f":"SQRT(POWER((W684-W681),2)+POWER((X681-X684),2))","v":3.5009587836946863},"m20",null,{"$f":"-W701","v":-8.3512531777606629},{"$f":"X701","v":145.05220665599478},"قرینهm1",null,null,{"$f":"SQRT(POWER((AE684-AE681),2)+POWER((AF681-AF684),2))","v":3.5009587836946863},"m20",null,{"$f":"-AE683","v":1.6799399999999998},{"$f":"AF683","v":131.36934389257897},"قرینه 26'",null,{"$f":"AM688+0.4*(AM690-AM688)","v":5.9284180994510951},{"$f":"AN688+0.6*(AN690-AN688)","v":126.80590399450152},"m8",null,null,null,null,null,"طراحی جلو یقه قایقی روی شبیه ساز اندام",null,null,null,null,null,null,null,"نقاط  ورودی",null,null,null,{"$f":"BC699","v":8.3484212811923726},{"$f":"BD699","v":139.03229312467974},{"$f":"BE699","v":23},null,null,null,null,null,"قرینه",{"$f":"-BK682","v":1.6799399999999998},{"$f":"BL682","v":109.42},{"$f":"BM682","v":"e1"},null,null,null,"(1→17)",{"$f":"BW693+0.65*K144*COS(DY679+DY678)+(1-0.75)*AA146*SIN(DY679+DY678)","v":16.728197808851316},null,0,{"$f":"BW689","v":7.4863234888552599},9,null,{"$f":"BW698+BW677","v":10.172899659506996},{"$f":"BW697+BW678","v":46.72819780885132},18,null,{"$f":"CG694+0.33*CH681*IF('متغیرها '!C740>=0,'متغیرها '!C740,1)*COS(0.6*CH683)","v":13.775588330915822},{"$f":"CH694+0.33*CH681*IF('متغیرها '!C740>=0,'متغیرها '!C740,1)*SIN(0.6*CH683)","v":30.424855222429343},8,null,{"$f":"-(CG701-CG690)+CG690","v":-13.703465907856916},{"$f":"CH701","v":33.308850473589175},"قرینه13",null,{"$f":"CO694+0.33*CP681*IF('متغیرها '!C701>=0,'متغیرها '!C701,1)*COS(0.6*CP683)","v":13.630613066757363},{"$f":"CP694+0.33*CP681*IF('متغیرها '!C701>=0,'متغیرها '!C701,1)*SIN(0.6*CP683)","v":31.634635558013542},8,null,{"$f":"-(CO701-CO690)+CO690","v":-13.310068964273338},{"$f":"CP701","v":34.824009108115746},"قرینه13",null,null,null,null,null,8.8028643066010694,30.692769075928449,18,null,{"$f":"'متغیرها '!C705","v":0},{"$f":"'متغیرها '!C706","v":30},1,null,18.694003466931655,26.982520154903884,9,null,"(1 → 20)",{"$f":"DN690+SQRT((0.3*EG678)*(0.3*EG678)-(DN698)*(DN698))","v":15.29267547999838},null,null,null,null,"خطوط برش",null,"(16 → 17)",{"$f":"DV693+0.65*K144*SIN(DY679+DY678)-(1-0.75)*AA146*COS(DY679+DY678)","v":10.172899659506996},null,{"$f":"DV684","v":29.5},{"$f":"DV683","v":1.2808921250407292},4,null,{"$f":"DX700+DY728","v":-30},{"$f":"DY700+DY729","v":33.690945394291859},28,null,"(16→17)",{"$f":"0.5*EG701","v":2.6193554346438948},"عمود",null,{"$f":"EG700+'متغیرها '!C718","v":-12.377145641982882},{"$f":"EG701+'متغیرها '!C719","v":25.23871086928779},21,null,"(6 → 9)",{"$f":"(1+0.1*ES736)*EO691+EO714","v":18.360963073860152},null,{"$f":"EO694","v":3.6397516121211382},{"$f":"EO696","v":12.453581636276187},8,null,null,null,null,null,null,null,null,null,"(1 → 17)",{"$f":"FD690+0.5*(FD704-FD690)","v":14.133086501856628},null,{"$f":"FD694","v":12.03666612669709},{"$f":"FD695","v":9.1960678599845966},15,null,null,null,null,null,3.6397516121211382,42.453581636276184,8]
[null,null,null,null,null,null,null,{"$f":"SQRT(POWER((G681-G682),2)+POWER((H681-H682),2))","v":5.3593999056168},"m21",null,{"$f":"-G705","v":-7.3491027964293831},{"$f":"H705","v":139.1194887159194},"قرینهm5",null,null,{"$f":"SQRT(POWER((O681-O682),2)+POWER((P681-P682),2))","v":5.3593999056168},"m21",null,{"$f":"-O705","v":-6.8161419394335816},{"$f":"P705","v":140.31683062131506},"قرینهm5",null,null,{"$f":"SQRT(POWER((W681-W682),2)+POWER((X681-X682),2))","v":5.3593999056168},"m21",null,{"$f":"-W705","v":-7.3491027964293831},{"$f":"X705","v":139.30540429536015},"قرینهm5",null,null,{"$f":"SQRT(POWER((AE681-AE682),2)+POWER((AF681-AF682),2))","v":5.3593999056168},"m21",null,null,null,null,null,{"$f":"-AM696","v":-2.371367239780438},{"$f":"AN696","v":128.17493596392475},"قرینه m7",null,{"$f":"AM693","v":-15.620215410811966},{"$f":"AN693","v":139.77069471408021},{"$f":"AO693","v":"قرینهm2"},null,"نقاط  ورودی",null,null,null,"رسم",null,null,null,"مولفه افقی","مولفه عمودی","اسم نقطه ",null,{"$f":"BC706","v":15.617383514243675},{"$f":"BD706","v":136.95622220760541},{"$f":"BE706","v":"m4"},null,null,null,null,null,null,null,null,null,null,null,null,"(17→ 18)",{"$f":"BW694+0.65*K144*SIN(DY679+DY678)-(1-0.75)*AA146*COS(DY679+DY678)","v":10.172899659506996},null,{"$f":"BW690","v":3.7567895765365686},{"$f":"BW689","v":7.4863234888552599},10,null,{"$f":"BW700+BW677","v":9.1857378566229801},{"$f":"BW699+BW678","v":50.673573021506357},20,null,{"$f":"CG697+0.33*CH681*IF('متغیرها '!C740>=0,'متغیرها '!C740,1)*COS(CH683)","v":18.437732072654065},{"$f":"CH697+0.33*CH681*IF('متغیرها '!C740>=0,'متغیرها '!C740,1)*SIN(CH683)","v":30.904923073669803},9,null,{"$f":"-(CG695-CG690)+CG690","v":-9.025550207009049},{"$f":"CH695","v":33.020485936614378},"قرینه6",null,{"$f":"CO697+0.33*CP681*IF('متغیرها '!C701>=0,'متغیرها '!C701,1)*COS(CP683)","v":17.964204979510079},{"$f":"CP697+0.33*CP681*IF('متغیرها '!C701>=0,'متغیرها '!C701,1)*SIN(CP683)","v":33.419581087756093},9,null,{"$f":"-(CO695-CO690)+CO690","v":-8.7514682020107646},{"$f":"CP695","v":33.735336291920376},"قرینه6",null,"نقاط  خروجی ",null,null,null,{"$f":"CW707","v":13.189339103887278},{"$f":"CX707","v":26.440493645171586},{"$f":"CY707","v":8},null,{"$f":"DE697","v":0},{"$f":"DF682+DF697","v":38.013602562100587},2,null,{"$f":"DE703","v":22.954352580895524},{"$f":"DF703","v":26.926081954430849},{"$f":"DG703","v":7},null,"(20 → 21)",{"$f":"0.5*EG677","v":5.2387108692877895},"عمود",null,{"$f":"0+'متغیرها '!C718","v":-30},{"$f":"0+'متغیرها '!C719","v":20},1,null,"(1 → 18)",{"$f":"DV692+0.92*K144*COS(DY679+DY678)+(1-0.4)*AA146*SIN(DY679+DY678)","v":42.949087525671956},null,{"$f":"DV682","v":14.75},0,2,null,{"$f":"DX701+DY728","v":-30},{"$f":"DY701+DY729","v":49.5},7,null,"(1 → 18)",{"$f":"EG696+0.5*(EG700-EG696)","v":14.382230207522207},null,null,{"$f":"EG689+'متغیرها '!C718","v":-7.7167878859454078},{"$f":"EG690+'متغیرها '!C719","v":25.23871086928779},10,null,"(1 → 10)",{"$f":"EO694+0.5*(EO702-EO694)","v":7.8382088694091143},null,{"$f":"EO698","v":7.8382088694091143},{"$f":"EO700","v":11.868594915323763},12,null,{"$f":"EQ705+EO729","v":20.487080947452526},{"$f":"ER705+EO730","v":44.004990642181909},23,null,{"$f":"EQ708+EO729","v":14.297501823311102},{"$f":"ER708+EO730","v":38.675470171826227},19,null,"(17 → 21)",{"$f":"MIN(FD705,FD693)+0.4*ABS(FD693-FD705)*(FD704-FD697)/(FD704-FD690)","v":18.681340919554856},null,{"$f":"FD699","v":14.297501823311102},{"$f":"FD700","v":8.675470171826225},19,null,{"$f":"FJ690","v":12.03666612669709},{"$f":"FK690","v":39.196067859984595},15,null,7.8382088694091143,41.868594915323762,12]
[null,null,null,null,null,null,null,{"$f":"CP679","v":3.2054410248402365},"c9",null,{"$f":"-G706","v":-4.1756265888803314},{"$f":"H706","v":134.04180762476531},"قرینهm6",null,null,null,null,null,{"$f":"-O706","v":-4.5955750688998052},{"$f":"P706","v":137.18100830767028},"قرینهm6",null,null,{"$f":"CP679","v":3.2054410248402365},"c9",null,{"$f":"-W706","v":-4.1756265888803314},{"$f":"X706","v":134.10591644526212},"قرینهm6",null,null,null,null,null,{"$f":"-AE683","v":1.6799399999999998},{"$f":"AF683","v":131.36934389257897},"قرینه 26'",null,{"$f":"-AM697","v":-5.9284180994510951},{"$f":"AN697","v":126.80590399450152},"قرینهm8",null,{"$f":"AM686","v":-8.3512531777606629},{"$f":"AN686","v":141.84676563115454},{"$f":"AO686","v":"قرینه 25"},null,"مولفه افقی","مولفه عمودی","اسم نقطه ",null,{"$f":"AU701","v":19.762127675570746},{"$f":"AV701","v":138.55229963830254},"سرشانه",null,{"$f":"BK104-'متغیرها '!C53","v":8.3484212811923726},{"$f":"BL104-'متغیرها '!C54","v":139.03229312467974},23,null,null,null,null,null,null,null,null,null,"قرینه",{"$f":"-BK682","v":1.6799399999999998},{"$f":"BL682","v":109.42},{"$f":"BM682","v":"e1"},null,null,null,"(1→19)",{"$f":"BW693+0.92*K144*COS(DY679+DY678)+(1-0.4)*AA146*SIN(DY679+DY678)","v":20.673573021506357},null,null,null,null,null,{"$f":"BW702+BW677","v":6.7927559631396495},{"$f":"BW701+BW678","v":53.148969649084748},22,null,{"$f":"CG702-0.9*'متغیرها '!C741*CH682*SIN(RADIANS(85)-CH684)","v":22.240450215244241},{"$f":"CH702-0.9*'متغیرها '!C741*CH682*COS(RADIANS(85)-CH684)","v":34.099942751075275},10,null,{"$f":"-(CG693-CG690)+CG690","v":-3.6397516121211382},{"$f":"CH693","v":32.884896922356212},"قرینه4",null,{"$f":"CO702-0.6*'متغیرها '!C702*CP682*SIN(RADIANS(70)-CP684)","v":20.858658084234762},{"$f":"CP702-0.6*'متغیرها '!C702*CP682*COS(RADIANS(70)-CP684)","v":38.553088356195609},10,null,{"$f":"-(CO693-CO690)+CO690","v":-3.6397516121211382},{"$f":"CP693","v":33.205441024840233},"قرینه4",null,"مولفه افقی","مولفه عمودی","اسم نقطه ",null,null,null,null,null,{"$f":"DE697+0.4*DF680","v":3.6397516121211382},{"$f":"DF697","v":30},3,null,null,null,null,null,"(13→15→17→19→21)","هلال وصل",null,null,{"$f":"0+'متغیرها '!C718","v":-30},{"$f":"DN679+'متغیرها '!C719","v":51.394195217002903},3,null,"(18 →19)",{"$f":"DV693+0.92*K144*SIN(DY679+DY678)-(1-0.4)*AA146*COS(DY679+DY678)","v":9.1857378566229801},null,{"$f":"DV710","v":4.4249999999999998},{"$f":"DV709","v":3.2858268946300453},30,null,null,null,"کلاه ملوانی",null,"(18 → 19)",{"$f":"0.85*EG701","v":4.4529042388946207},"عمود",null,null,null,"بلیطی",null,"(10 → 11)",{"$f":"EO703+ES739*(EO695-EO703)","v":10.073547941413231},null,{"$f":"EN680","v":10.3572832237819},{"$f":"EO680","v":10.799584093188097},28,null,{"$f":"EQ706+EO729","v":20.427964134304144},{"$f":"ER706+EO730","v":48.644614032329343},26,null,{"$f":"EQ709+EO729","v":20.487080947452526},{"$f":"ER709+EO730","v":44.004990642181909},23,null,"(1 →18)",{"$f":"FD694+H247*H124*COS(O244)","v":14.297501823311102},null,{"$f":"FD702","v":20.487080947452526},{"$f":"FD703","v":14.004990642181912},23,null,{"$f":"FF698+FD719","v":14.297501823311102},{"$f":"FG698+FD720","v":38.675470171826227},19,null,12.03666612669709,40.991114833895125,16]
[null,null,null,null,null,null,"نقاط  خروجی پایه",null,null,null,{"$f":"-G704","v":0},{"$f":"H704","v":131.36934389257897},"قرینهm4",null,"نقاط  خروجی پایه",null,null,null,{"$f":"-O704","v":-0.62132577317973992},{"$f":"P704","v":133.84846556934266},"قرینهm4",null,"نقاط  خروجی پایه",null,null,null,{"$f":"-W704","v":0},{"$f":"X704","v":131.36934389257897},"قرینهm4",null,"نقاط  خروجی",null,null,null,{"$f":"-AE683","v":1.6799399999999998},{"$f":"AF683","v":131.36934389257897},"26'",null,null,null,null,null,null,null,"گرد",null,{"$f":"AX385","v":8.0408000000000008},{"$f":"AY385","v":141.9},"25 شبیه ساز",null,{"$f":"AU705","v":18.589994908013672},{"$f":"AV705","v":138.88706967447229},"bs2",null,{"$f":"DS386","v":19.762127675570746},{"$f":"DT386","v":135.75229963830256},"سرشانه",null,{"$f":"BC706","v":15.617383514243675},136.95622220760541,{"$f":"BE706","v":"m4"},null,null,null,null,null,"قرینه",{"$f":"-BK688","v":-2.6472891220079973},{"$f":"BL688","v":115.6495365519644},{"$f":"BM688","v":"d7"},null,null,null,"(19→20)",{"$f":"BW694+0.92*K144*SIN(DY679+DY678)-(1-0.4)*AA146*COS(DY679+DY678)","v":9.1857378566229801},null,0,{"$f":"BW691","v":8.2718374679178375},11,null,null,null,null,null,{"$f":"CG702-0.45*'متغیرها '!C741*CH682*SIN(RADIANS(25)-CH684)","v":24.16904071869158},{"$f":"CH702-0.45*'متغیرها '!C741*CH682*COS(RADIANS(25)-CH684)","v":33.486838394892004},11,null,{"$f":"CG691","v":0},{"$f":"CH691","v":32.884896922356212},{"$f":"CI691","v":2},null,{"$f":"CO702-0.6*'متغیرها '!C702*CP682*SIN(RADIANS(10)-CP684)","v":22.220124819869451},{"$f":"CP702-0.6*'متغیرها '!C702*CP682*COS(RADIANS(10)-CP684)","v":38.383982334656686},11,null,{"$f":"CO691","v":0},{"$f":"CP691","v":33.205441024840233},{"$f":"CQ691","v":2},null,{"$f":"'متغیرها '!C705","v":0},{"$f":"'متغیرها '!C706","v":30},1,null,{"$f":"CW707","v":13.189339103887278},{"$f":"CX707","v":26.440493645171586},8,null,{"$f":"DE699","v":3.6397516121211382},{"$f":"DF698","v":38.013602562100587},4,null,{"$f":"-(DE707-DE697)+DE697","v":-25.566060746475046},{"$f":"DF707","v":36.180953640813357},"قرینه15",null,"(21 → 10)","وصل",null,null,null,null,null,null,"(1 → 20)",{"$f":"DV692+K144*COS(DY679+DY678)+AA146*SIN(DY679+DY678)","v":45.424484153250347},null,0,{"$f":"DV708","v":13.690945394291855},28,null,{"$f":"DX703+DY728","v":-0.5},{"$f":"DY703+DY729","v":21.280892125040729},4,null,"(1 → 20)",{"$f":"EG693+SQRT((0.3*EG678)*(0.3*EG678)-(EG701)*(EG701))","v":17.622854358017118},null,null,null,null,null,null,"(10 → 12)",{"$f":"EO699+(EO693-EO692)","v":11.868594915323763},null,{"$f":"EO702","v":12.03666612669709},{"$f":"EO703","v":9.1960678599845966},15,null,null,null,null,null,null,null,null,null,"(18 → 19)",{"$f":"FD695-H247*H124*SIN(O244)","v":8.675470171826225},null,{"$f":"FD704","v":20.427964134304144},{"$f":"FD705","v":18.644614032329347},26,null,null,null,null,null,14.297501823311102,40.470517145736757,20]
[null,null,null,null,null,null,{"$f":"G680-H691*SIN(H693)","v":8.3512531777606629},{"$f":"H680+H691*COS(H693)","v":144.73166255351074},"m1",null,{"$f":"-G703","v":0},{"$f":"H703","v":131.36934389257897},"قرینهm3",null,{"$f":"O680-P691*SIN(P693)","v":7.9746985675381605},{"$f":"P680+P691*COS(P693)","v":144.70698186041773},"m1",null,{"$f":"-O703","v":1.2431402340018898},{"$f":"P703","v":132.62408189549603},"قرینهm3",null,{"$f":"W680-X691*SIN(X693)","v":8.3512531777606629},{"$f":"X680+X691*COS(X693)","v":145.05220665599478},"m1",null,{"$f":"-W703","v":0},{"$f":"X703","v":131.36934389257897},"قرینهm3",null,{"$f":"AE680-AF691*SIN(AF693)","v":6.7485326653405444},{"$f":"AF680+AF691*COS(AF693)","v":144.62275898899901},"m1",null,null,null,null,null,null,null,null,null,{"$f":"AY679","v":8.3512531777606629},141.84676563115454,25,null,{"$f":"AX400","v":19.762127675570746},{"$f":"AY400","v":138.55229963830254},"سرشانه",null,null,null,null,null,{"$f":"CE108-'متغیرها '!C53","v":0},{"$f":"CF108-'متغیرها '!C54","v":136.41391319447115},24,null,13.274775987107123,133.71544986544046,{"$f":"BE707","v":"m9"},null,null,null,null,null,"قرینه",{"$f":"-BK687","v":-4.5018158885828523},{"$f":"BL687","v":127.21867586275542},{"$f":"BM687","v":"d6"},null,null,null,"(1 → 21)",{"$f":"BW693+K144*COS(DY679+DY678)+AA146*SIN(DY679+DY678)","v":23.148969649084751},null,{"$f":"BW692","v":6.2613159608942812},{"$f":"BW691","v":8.2718374679178375},12,null,{"$f":"BW722+BW677","v":10.434257784235538},{"$f":"BW721+BW678","v":59.003957769839161},34,null,{"$f":"CG695+CG697-CG694","v":13.703465907856916},{"$f":"CH695+CH697-CH694","v":33.308850473589175},13,null,{"$f":"CG693","v":3.6397516121211382},{"$f":"CH693","v":32.884896922356212},{"$f":"CI693","v":4},null,{"$f":"CO695+CO697-CO694","v":13.310068964273338},{"$f":"CP695+CP697-CP694","v":34.824009108115746},13,null,{"$f":"CO693","v":3.6397516121211382},{"$f":"CP693","v":33.205441024840233},{"$f":"CQ693","v":4},null,{"$f":"CW700","v":0},{"$f":"CX682+CX700","v":37.051970254648523},2,null,{"$f":"CW708","v":17.860418768777933},{"$f":"CX708","v":24.740405707611338},{"$f":"CY708","v":9},null,{"$f":"DE699+(DF680-DE699+DE697)*COS(DF685)","v":9.0755473060487404},{"$f":"DF697+(DF680-DE699+DE697)*SIN(DF685)","v":29.49043477430304},5,null,{"$f":"-(DE702-DE697)+DE697","v":-9.8234835451781279},{"$f":"DF702","v":37.469057299871103},"قرینه6",null,"(13→1→3)","وصل",null,null,{"$f":"DN697+'متغیرها '!C718","v":-14.70732452000162},{"$f":"DN698+'متغیرها '!C719","v":25.23871086928779},21,null,"(20 → 21)",{"$f":"DV693+K144*SIN(DY679+DY678)-AA146*COS(DY679+DY678)","v":6.7927559631396495},null,0,{"$f":"DV687","v":29.5},7,null,{"$f":"DX704+DY728","v":-5.067674766120021},{"$f":"DY704+DY729","v":47.381890788583711},6,null,"(20 → 21)",{"$f":"0.5*EG677","v":5.2387108692877895},"عمود",null,{"$f":"DQ720","v":-30},20,32,null,"(10 → 13)",{"$f":"EO700+ES737*(EO691-EO693)","v":18.828248468456884},null,null,null,"خطوط برش",null,{"$f":"EQ708+EO729","v":14.297501823311102},{"$f":"ER708+EO730","v":38.675470171826227},19,null,{"$f":"EQ711+EO729","v":0.49948800440331809},{"$f":"ER711+EO730","v":42.453581636276184},27,null,"(18 → 20)",{"$f":"FD700+(FD685-FD684)","v":10.470517145736757},null,null,null,null,null,{"$f":"FJ699","v":14.297501823311102},{"$f":"FK699","v":38.675470171826227},19]
[null,null,null,null,null,null,{"$f":"G708","v":0},{"$f":"H708","v":131.36934389257897},"m2",null,{"$f":"-G708","v":0},{"$f":"H708","v":131.36934389257897},"قرینهm9",null,{"$f":"IF(P688=-1,O683,O708)","v":-1.6799399999999998},{"$f":"IF(P688=-1,P683+P691,P708+P691*P688)","v":134.25424081493517},"m2",null,{"$f":"-O708","v":1.6799399999999998},{"$f":"P708","v":131.36934389257897},"قرینهm9",null,{"$f":"W708","v":0},{"$f":"X708","v":131.36934389257897},"m2",null,{"$f":"-W708","v":0},{"$f":"X708","v":131.36934389257897},"قرینهm9",null,{"$f":"IF(AF688=-1,AE683,AE708)","v":-1.6799399999999998},{"$f":"IF(AF688=-1,AF683+AF691,AF708+AF691*AF688)","v":134.57478491741921},"m2",null,{"$f":"-AE707","v":-6.2826008486643889},{"$f":"AF707","v":145.62755639615699},"قرینهm8",null,null,null,null,null,6.6810025422085317,136.60805476186675,30,null,{"$f":"BW108-'متغیرها '!C51","v":0},{"$f":"BX108-'متغیرها '!C52","v":131.36934389257897},26,null,{"$f":"AU705","v":18.589994908013672},138.88706967447229,"bs2",null,null,{"$f":"'متغیرها '!B245","v":0.27820102979369776},"زاویه سرشانه با افق",null,7.8086917571218377,130.06958098050492,{"$f":"BE708","v":"m10"},null,null,null,null,null,"قرینه",{"$f":"-BK681","v":-6.2826008486643889},{"$f":"BL681","v":144.68200000000002},{"$f":"BM681","v":"g2"},null,null,null,"(21 → 22)",{"$f":"BW694+K144*SIN(DY679+DY678)-AA146*COS(DY679+DY678)","v":6.7927559631396495},null,null,null,null,null,null,null,"مشترک",null,{"$f":"CG696-CH682*SIN(CH684)","v":24.523016683775321},{"$f":"CH696+CH682*COS(CH684)","v":34.600310641213881},14,null,{"$f":"CG695","v":9.025550207009049},{"$f":"CH695","v":33.020485936614378},{"$f":"CI695","v":6},null,{"$f":"CO696-CP682*SIN(CP684)","v":21.685841562637734},{"$f":"CP696+CP682*COS(CP684)","v":39.647600124893259},14,null,{"$f":"CO695","v":8.7514682020107646},{"$f":"CP695","v":33.735336291920376},{"$f":"CQ695","v":6},null,{"$f":"CW700+0.4*CX680","v":3.6397516121211382},{"$f":"CX700","v":30},3,null,{"$f":"CW706","v":22.112925266370436},{"$f":"CX706","v":25.004883175950134},{"$f":"CY706","v":7},null,{"$f":"DE701-DF682*SIN(DF685)","v":9.8234835451781279},{"$f":"DF701+DF682*COS(DF685)","v":37.469057299871103},6,null,{"$f":"DE698","v":0},{"$f":"DF698","v":38.013602562100587},{"$f":"DG698","v":2},null,"(2 → 22)",{"$f":"DN684+1.15*(SQRT((DN682-DN680)*(DN682-DN680)+(DN681-DN683)*(DN681-DN683))+SQRT((DN678-DN682)*(DN678-DN682)+(DN683-DN684)*(DN683-DN684)))","v":40.165790640409455},null,null,{"$f":"DN686+'متغیرها '!C718","v":-12.377145641982882},{"$f":"DN687+'متغیرها '!C719","v":25.23871086928779},10,null,"(1 → 22)",{"$f":"DV685+0.55*(DV704-DV685)","v":37.063322999220127},null,null,null,"کلاه ملوانی",null,{"$f":"DX705+DY728","v":-11.629844361947335},{"$f":"DY705+DY729","v":85.779896697189756},25,null,"(13→15→17→19→21)","هلال وصل",null,null,-30,20,35,null,"(1 → 14)",{"$f":"COS(O244)*(FC678+O247)","v":12.03666612669709},null,{"$f":"EO702","v":12.03666612669709},{"$f":"EO703","v":9.1960678599845966},15,null,{"$f":"EQ709+EO729","v":20.487080947452526},{"$f":"ER709+EO730","v":44.004990642181909},23,null,{"$f":"EQ712+EO729","v":8.906573042142224E-2},{"$f":"ER712+EO730","v":48.332263552689994},29,null,"(1 →22)",{"$f":"FD699+(O250-H244*H124)*COS(RADIANS(90)-O245-2*O244)","v":20.487080947452526},null,0,{"$f":"FD684","v":10.658534662365655},4,null,{"$f":"FF699+FD719","v":20.487080947452526},{"$f":"FG699+FD720","v":44.004990642181909},23,null,{"$f":"FJ698","v":12.03666612669709},{"$f":"FK698","v":39.196067859984595},15]
[null,null,null,null,null,null,{"$f":"G708","v":0},{"$f":"H708","v":131.36934389257897},"m3",null,null,null,null,null,{"$f":"O702+0.65*P689*P691*SIN(RADIANS(15))*IF(P688=-1,1,P688)","v":-1.2431402340018898},{"$f":"P702-0.65*P689*P691*COS(RADIANS(15))*IF(P688=-1,1,P688)","v":132.62408189549603},"m3",null,null,null,null,null,{"$f":"W708","v":0},{"$f":"X708","v":131.36934389257897},"m3",null,null,null,null,null,{"$f":"AE702+0.7*AF689*AF691*SIN(RADIANS(10))*(1.5*IF(AF688=-1,1,AF688)-0.5)","v":-1.4020015830372257},{"$f":"AF702-0.7*AF689*AF691*COS(RADIANS(10))*IF(AF688=-1,1,AF688)","v":132.9985178263249},"m3",null,{"$f":"-AE701","v":-6.7485326653405444},{"$f":"AF701","v":144.62275898899901},"قرینهm1",null,null,null,null,null,3.3405012711042659,132.41708606643653,28,null,null,{"$f":"'متغیرها '!B245","v":0.27820102979369776},"زاویه سرشانه با افق",null,14.871995926410939,137.00763822899896,"bs4",null,null,{"$f":"BW680","v":7.5596218422780943},"پهنا یقه ب ب",null,{"$f":"BC705","v":0},{"$f":"BD705","v":128.85429135219306},{"$f":"BE705","v":"m3"},null,null,null,null,null,null,null,null,null,null,null,null,"(1 → 23)",{"$f":"BW686+0.3*(K144-BW680*SIN(DY679)+BW680)*COS(DY679+DY678)+(1-0.95)*(AA146+BW680*COS(DY679))*SIN(DY679+DY678)","v":12.245228068255676},null,0,{"$f":"BW693","v":9.8428654260429926},13,null,{"$f":"BW694+BW677","v":8.3484212811923744},{"$f":"BW693+BW678","v":39.842865426042991},14,null,null,null,null,null,{"$f":"CG701","v":13.703465907856916},{"$f":"CH701","v":33.308850473589175},{"$f":"CI701","v":13},null,null,null,null,null,{"$f":"CO701","v":13.310068964273338},{"$f":"CP701","v":34.824009108115746},{"$f":"CQ701","v":13},null,{"$f":"CW702","v":3.6397516121211382},{"$f":"CX701","v":37.051970254648523},4,null,null,null,null,null,{"$f":"DE705+IF(DF688>=0,DF692*DF688*DF681,DF692*DF681+DF686)*COS(DF684)","v":22.954352580895524},{"$f":"DF701+IF(DF688>=0,DF679*DF688*'متغیرها '!C732,'متغیرها '!C732*DF679)","v":26.926081954430849},7,null,{"$f":"DE702","v":9.8234835451781279},{"$f":"DF702","v":37.469057299871103},{"$f":"DG702","v":6},null,"(1 → 23)",{"$f":"DN705-0.65*(DN705-DN678)","v":21.083874785386882},null,null,null,null,null,null,"(22 → 23)",{"$f":"DV686+0.3*(DV705-DV686)","v":26.177799035090771},null,{"$f":"DX692","v":29.5},{"$f":"DY692","v":1.2808921250407292},4,null,null,null,"سرشانه",null,"(21 → 10)","وصل",null,null,-30,20,33,null,"(14 → 15)",{"$f":"G276","v":9.1960678599845966},null,{"$f":"EO707","v":14.297501823311102},{"$f":"EO708","v":8.675470171826225},19,null,null,null,null,null,null,null,"رسم انحنا پایه",null,"(22 → 23)",{"$f":"FD700+(O250-H244*H124)*SIN(RADIANS(90)-O245-2*O244)","v":14.004990642181912},null,{"$f":"FF679","v":-0.26832031522513206},{"$f":"FG679","v":18.342223170104294},24,null,null,null,null,null,{"$f":"FJ699","v":14.297501823311102},{"$f":"FK699","v":38.675470171826227},19]
[null,null,null,null,null,null,{"$f":"G708","v":0},{"$f":"H708","v":131.36934389257897},"m4",null,{"$f":"G701","v":8.3512531777606629},{"$f":"H701","v":144.73166255351074},"m1",null,{"$f":"O702+0.9*P689*P691*SIN(RADIANS(80))*IF(P688=-1,1,P688*P688*P688*P688*P688)","v":0.62132577317973992},{"$f":"P702-0.9*P689*P691*COS(RADIANS(80))*IF(P688=-1,1,P688)","v":133.84846556934266},"m4",null,{"$f":"O701","v":7.9746985675381605},{"$f":"P701","v":144.70698186041773},"m1",null,{"$f":"W708","v":0},{"$f":"X708","v":131.36934389257897},"m4",null,{"$f":"W701","v":8.3512531777606629},{"$f":"X701","v":145.05220665599478},"m1",null,{"$f":"AE702+0.4*AF689*AF691*SIN(RADIANS(50))*(2*IF(AF688=-1,1,AF688)-1)","v":-0.97930106539675232},{"$f":"AF702-0.4*AF689*AF691*COS(RADIANS(50))*(2*IF(AF688=-1,1,AF688)-1)","v":133.98687904580518},"m4",null,{"$f":"-AE705","v":-5.0628381322724358},{"$f":"AF705","v":138.59397454605113},"قرینهm5",null,null,null,null,null,{"$f":"AY682","v":0},131.36934389257897,26,null,"نقاط  خروجی",null,null,null,7.4359979632054696,132.64735727550084,"bs6",null,"نقاط  خروجی",null,null,null,{"$f":"BC712","v":-7.8086917571218377},{"$f":"BD712","v":130.06958098050492},{"$f":"BE712","v":"قرینهm10"},null,null,null,null,null,"قرینه",{"$f":"-BK680","v":-8.0408000000000008},{"$f":"BL680","v":141.9},{"$f":"BM680","v":"25 شبیه ساز"},null,null,null,"(23 → 24)",{"$f":"BW687+0.3*(K144-BW680*SIN(DY679)+BW680)*SIN(DY679+DY678)-(1-0.95)*(AA146+BW680*COS(DY679))*COS(DY679+DY678)","v":17.483161603481854},null,{"$f":"BW694","v":8.3484212811923744},{"$f":"BW693","v":9.8428654260429926},14,null,{"$f":"BW687+BW677","v":15.617383514243677},{"$f":"BW686+BW678","v":37.766794508968658},7,null,null,{"$f":"IF('متغیرها '!C740=-1,\" وصل به خط جادکمه\",IF('متغیرها '!C740=1,\" وصل به خط مرکزی جلو  \",\"   \"))","v":" وصل به خط جادکمه"},"برچسب جلو الگو",null,{"$f":"CG699","v":22.240450215244241},34.099942751075275,10,null,null,{"$f":"IF('متغیرها '!C701=-1,\" وصل به خط جادکمه\",IF('متغیرها '!C701=1,\" وصل به خط مرکزی جلو  \",\"   \"))","v":" وصل به خط جادکمه"},"برچسب جلو الگو",null,{"$f":"CO699","v":20.858658084234762},38.553088356195609,10,null,{"$f":"CW702+(CX680-CW702+CW700)*COS(CX685)","v":9.0362204132094384},{"$f":"CX700+(CX680-CW702+CW700)*SIN(CX685)","v":29.171956508242442},5,null,{"$f":"-(CW710-CW700)+CW700","v":-24.020435033142565},{"$f":"CX710","v":34.430119298362577},"قرینه15",null,{"$f":"DE701+DF691*DF681*IF(DF688>=0,DF688,1)*COS(DF689)","v":13.907623307415381},{"$f":"DF701+DF691*DF681*IF(DF688>=0,DF688,1)*SIN(DF689)","v":28.324104740303483},8,null,{"$f":"DE707","v":25.566060746475046},{"$f":"DF707","v":36.180953640813357},15,null,"(23 → 24)",{"$f":"DN689","v":12.562246486648021},"عمود",null,{"$f":"DN705+'متغیرها '!C718","v":-8.1103577560374731},{"$f":"DN706+'متغیرها '!C719","v":25.23871086928779},26,null,"(1 → 24)",{"$f":"DV706-DV679*SIN(DY679+DY678)","v":44.984494807922644},null,{"$f":"DX693","v":24.932325233879979},{"$f":"DY693","v":27.381890788583711},6,null,{"$f":"DX707+DY728","v":-5.067674766120021},{"$f":"DY707+DY729","v":47.381890788583711},6,null,"(13→1→3)","وصل",null,null,-30,51.394195217002903,3,null,"(14 → 16)",{"$f":"EO703+(EO693-EO692)","v":10.991114833895129},null,null,null,null,null,{"$f":"EQ711+EO729","v":0.49948800440331809},{"$f":"ER711+EO730","v":42.453581636276184},27,null,{"$f":"EQ714+EO729","v":0},{"$f":"ER714+EO730","v":31.795046973910534},"p3",null,"(1 → 25)",{"$f":"FD702+H243*H124*COS(RADIANS(270)-RADIANS(H242)-O245-2*O244)","v":20.427964134304144},null,null,null,null,null,{"$f":"FJ702","v":20.487080947452526},{"$f":"FK702","v":44.004990642181909},23]
[null,null,null,null,null,null,{"$f":"G702+0.88*(G701-G702)","v":7.3491027964293831},{"$f":"H702+0.58*(H701-H702)","v":139.1194887159194},"m5",null,{"$f":"G730","v":9.2886407173880201},{"$f":"H730","v":140.67139104076026},"m14",null,{"$f":"O702+0.88*(O701-O702)","v":6.8161419394335816},{"$f":"P702+0.58*(P701-P702)","v":140.31683062131506},"m5",null,{"$f":"O730","v":9.579695868979659},{"$f":"P730","v":140.17460929952256},"m14",null,{"$f":"W702+0.88*(W701-W702)","v":7.3491027964293831},{"$f":"X702+0.58*(X701-X702)","v":139.30540429536015},"m5",null,{"$f":"W730","v":9.020419928818102},{"$f":"X730","v":140.29083781629447},"m14",null,{"$f":"AE702+0.8*((1+IF(AF688=-1,1,AF688))/2)*(AE701-AE702)","v":5.0628381322724358},{"$f":"AF702+(0.4/((1+IF(AF688=-1,1,AF688))/2))*(AF701-AF702)","v":138.59397454605113},"m5",null,{"$f":"-AE706","v":-2.1128726994032454},{"$f":"AF706","v":135.57958232457719},"قرینهm6",null,null,null,null,null,-3.3405012711042659,132.41708606643653,"قرینه 28",null,{"$f":"AU701-'متغیرها '!C382*H167*COS(AV703)","v":18.589994908013672},{"$f":"AV701+'متغیرها '!C382*H167*SIN(AV703)","v":138.88706967447229},"bs2",null,{"$f":"AU702","v":0},{"$f":"AV702","v":131.36934389257897},26,null,{"$f":"BC701","v":0},{"$f":"BD701-BD703","v":128.85429135219306},"m3",null,{"$f":"BC711","v":-13.274775987107123},{"$f":"BD711","v":133.71544986544046},{"$f":"BE711","v":"قرینهm9"},null,null,null,null,null,"قرینه",{"$f":"-BK690","v":-13.658838924634871},{"$f":"BL690","v":131.86179244203186},{"$f":"BM690","v":"d9"},null,null,null,"(1 → 25)",{"$f":"BW686+0.5*(K144-BW680*SIN(DY679)+BW680)*COS(DY679+DY678)+(1-0.86)*(AA146+BW680*COS(DY679))*SIN(DY679+DY678)","v":15.698241491612354},null,null,null,null,null,null,null,"مشترک",null,null,null,null,null,24.16904071869158,33.486838394892004,11,null,null,null,null,null,22.220124819869451,38.383982334656686,11,null,{"$f":"CW704-CX682*SIN(CX685)","v":10.105769235164464},{"$f":"CX704+CX682*COS(CX685)","v":36.142347443469973},6,null,{"$f":"-(CW705-CW700)+CW700","v":-10.105769235164464},{"$f":"CX705","v":36.142347443469973},"قرینه6",null,{"$f":"DE704+DF691*DF681*IF(DF688>=0,DF688,1)*COS(DF690)","v":18.694003466931655},{"$f":"DF704+DF691*DF681*IF(DF688>=0,DF688,1)*SIN(DF690)","v":26.982520154903884},9,null,null,null,null,null,"(1 → 25)",{"$f":"DN707-0.1*EG678","v":21.889642243962527},null,null,{"$f":"DN707+'متغیرها '!C718","v":-3.4499999999999993},{"$f":"DN708+'متغیرها '!C719","v":25.23871086928779},28,null,"(24 → 25)",{"$f":"DV707+DV679*COS(DY679+DY678)","v":29.083904571249292},null,{"$f":"DV729","v":18.370155638052665},{"$f":"DV728","v":65.779896697189756},25,null,{"$f":"DX708+DY728","v":-21.651578718807627},{"$f":"DY708+DY729","v":52.11837993020859},13,null,null,null,null,null,null,null,null,null,"(1 → 17)",{"$f":"EO698+0.5*(EO712-EO698)","v":14.133086501856628},null,{"$f":"EO710","v":20.487080947452526},{"$f":"EO711","v":14.004990642181912},23,null,{"$f":"EQ712+EO729","v":8.906573042142224E-2},{"$f":"ER712+EO730","v":48.332263552689994},29,null,{"$f":"EQ715+EO729","v":6.0839706395678483},{"$f":"ER715+EO730","v":31.615542276519481},"p6",null,"(25 → 26)",{"$f":"FD703+H243*H124*SIN(RADIANS(270)-RADIANS(H242)-O245-2*O244)","v":18.644614032329347},null,{"$f":"FD682","v":51.97306799564506},0,2,null,{"$f":"FF700+FD719","v":20.427964134304144},{"$f":"FG700+FD720","v":48.644614032329343},26,null,{"$f":"FJ701","v":14.297501823311102},{"$f":"FK701","v":38.675470171826227},19]
[null,null,null,null,null,null,{"$f":"G702+0.5*(G701-G702)","v":4.1756265888803314},{"$f":"H702+0.2*(H701-H702)","v":134.04180762476531},"m6",null,null,null,null,null,{"$f":"O702+0.65*(O701-O702)","v":4.5955750688998052},{"$f":"P702+0.28*(P701-P702)","v":137.18100830767028},"m6",null,null,null,null,null,{"$f":"W702+0.5*(W701-W702)","v":4.1756265888803314},{"$f":"X702+0.2*(X701-X702)","v":134.10591644526212},"m6",null,null,null,null,null,{"$f":"AE702+0.45*(1.2*IF(AF688=-1,1,AF688)-0.2)*(AE701-AE702)","v":2.1128726994032454},{"$f":"AF702+(0.1/(1.2*IF(AF688=-1,1,AF688)-0.2))*(AF701-AF702)","v":135.57958232457719},"m6",null,{"$f":"-AE704","v":0.97930106539675232},{"$f":"AF704","v":133.98687904580518},"قرینهm4",null,null,null,null,null,-6.6810025422085317,136.60805476186675,"قرینه 30",null,{"$f":"AU702+0.8*(AU705-AU702)","v":14.871995926410939},{"$f":"AV702+0.75*(AV705-AV702)","v":137.00763822899896},"bs4",null,{"$f":"-AU707","v":-7.4359979632054696},{"$f":"AV707","v":132.64735727550084},"قرینه bs6",null,{"$f":"BC699+BD703*COS(BD702)","v":15.617383514243675},{"$f":"BD699-BD703*SIN(BD702)","v":136.95622220760541},"m4",null,{"$f":"BC710","v":-15.617383514243675},{"$f":"BD710","v":136.95622220760541},{"$f":"BE710","v":"قرینهm4"},null,null,null,null,null,"قرینه",{"$f":"-BK689","v":-21.089458970258761},{"$f":"BL689","v":124.27321281829865},{"$f":"BM689","v":"d8"},null,null,null,"(25 → 26)",{"$f":"BW687+0.5*(K144-BW680*SIN(DY679)+BW680)*SIN(DY679+DY678)-(1-0.86)*(AA146+BW680*COS(DY679))*COS(DY679+DY678)","v":17.975519037167889},null,0,{"$f":"BW695","v":12.732424591600008},15,null,{"$f":"BW702+BW677","v":6.7927559631396495},{"$f":"BW701+BW678","v":53.148969649084748},22,null,"نقاط  ورودی و محاسبات برگردان",null,null,null,{"$f":"CG696","v":24.892800712560145},{"$f":"CH696","v":31.73921119787466},{"$f":"CI696","v":7},null,null,null,null,null,{"$f":"CO696","v":23.427877124713682},{"$f":"CP696","v":36.956844791498646},{"$f":"CQ696","v":7},null,{"$f":"CW708+IF(CX687>=0,CX691*CX687*CX681,CX691*CX681+CX686)*COS(CX684)","v":22.112925266370436},{"$f":"CX704+IF(CX687>=0,CX679*CX687*'متغیرها '!C691,'متغیرها '!C691*CX679)","v":25.004883175950134},7,null,{"$f":"CW701","v":0},{"$f":"CX701","v":37.051970254648523},{"$f":"CY701","v":2},null,{"$f":"DE703-DF682*SIN(DF684)","v":23.060502010435048},{"$f":"DF703+DF682*COS(DF684)","v":34.938981449739245},14,null,{"$f":"DE703","v":22.954352580895524},{"$f":"DF703","v":26.926081954430849},{"$f":"DG703","v":7},null,"(25→ 26)",{"$f":"DN698","v":5.2387108692877895},"عمود",null,null,null,null,null,"(1 → 26)",{"$f":"DV700+(G165+DV678-K144)*COS(DY679+DY678)","v":55.124963133658326},null,null,null,"سرشانه",null,null,null,null,null,"انحنا جلو صورت",null,null,null,{"$f":"DQ725","v":-30},{"$f":"DR725","v":20},1,null,"(17 → 21)",{"$f":"MIN(EO713,EO701)+0.4*ABS(EO701-EO713)*(EO712-EO705)/(EO712-EO698)","v":18.681340919554856},null,{"$f":"EO712","v":20.427964134304144},{"$f":"EO713","v":18.644614032329347},26,null,null,null,"رسم انحنا پایه",null,{"$f":"EQ716+EO729","v":9.7343530233085573},{"$f":"ER716+EO730","v":31.077028184346318},"p7",null,"(3 → 24')",{"$f":"(FD683-FD684)*SIN(RADIANS(FD708))*SIN(RADIANS(FD708))","v":9.3699518779299246E-3},null,null,null,"خطوط برش یفه دوبل",null,null,null,null,null,{"$f":"FJ702","v":20.487080947452526},{"$f":"FK702","v":44.004990642181909},23]
[null,null,null,null,null,null,{"$f":"G686","v":6.2826008486643889},{"$f":"H701+0.1*(H701-H702)","v":146.06789441960393},"m8",null,{"$f":"G704","v":0},{"$f":"H704","v":131.36934389257897},"m4",null,{"$f":"O686","v":6.2826008486643889},{"$f":"P701+0.1*(P701-P702)","v":145.75225596496597},"m8",null,{"$f":"O704","v":0.62132577317973992},{"$f":"P704","v":133.84846556934266},"m4",null,{"$f":"W686","v":6.2826008486643889},{"$f":"X701+0.1*(X701-X702)","v":146.42049293233637},"m8",null,{"$f":"W704","v":0},{"$f":"X704","v":131.36934389257897},"m4",null,{"$f":"AE686","v":6.2826008486643889},{"$f":"AF701+0.1*(AF701-AF702)","v":145.62755639615699},"m8",null,{"$f":"-AE703","v":1.4020015830372257},{"$f":"AF703","v":132.9985178263249},"قرینهm3",null,null,null,null,null,-8.3512531777606629,141.84676563115454,"قرینه 25",null,{"$f":"AU702+0.4*(AU705-AU702)","v":7.4359979632054696},{"$f":"AV702+0.17*(AV705-AV702)","v":132.64735727550084},"bs6",null,{"$f":"-AU706","v":-14.871995926410939},{"$f":"AV706","v":137.00763822899896},"قرینهbs4",null,{"$f":"BC705+0.85*(BC706-BC705)","v":13.274775987107123},{"$f":"BD705+0.6*(BD706-BD705)","v":133.71544986544046},"m9",null,null,null,null,null,null,null,null,null,"قرینه",{"$f":"-BK684","v":-29.581596165257494},{"$f":"BL684","v":121.8768192529092},{"$f":"BM684","v":"b4"},null,null,null,"(1 → 27)",{"$f":"BW686+0.7*(K144-BW680*SIN(DY679)+BW680)*COS(DY679+DY678)+(1-0.75)*(AA146+BW680*COS(DY679))*SIN(DY679+DY678)","v":19.316216462203858},null,{"$f":"BW696","v":9.6540097076821123},{"$f":"BW695","v":12.732424591600008},16,null,{"$f":"BW722+BW677","v":10.434257784235538},{"$f":"BW721+BW678","v":59.003957769839161},34,null,"c9",{"$f":"CP679","v":3.2054410248402365},"قد یقه پایه",null,null,null,null,null,null,null,null,null,null,null,null,null,{"$f":"CW704+CX690*CX681*IF(CX687>=0,CX687,1)*COS(CX688)","v":13.189339103887278},{"$f":"CX704+CX690*CX681*IF(CX687>=0,CX687,1)*SIN(CX688)","v":26.440493645171586},8,null,{"$f":"CW705","v":10.105769235164464},{"$f":"CX705","v":36.142347443469973},{"$f":"CY705","v":6},null,{"$f":"DE703-'متغیرها '!C735*DF679*SIN(DF684-RADIANS('متغیرها '!C734))","v":25.566060746475046},{"$f":"DF703+'متغیرها '!C735*DF679*COS(DF684-RADIANS('متغیرها '!C734))","v":36.180953640813357},15,null,{"$f":"DE707","v":25.566060746475046},{"$f":"DF707","v":36.180953640813357},15,null,"(1 → 27)",{"$f":"0.45*EG679","v":26.55},null,null,{"$f":"DQ705","v":-3.4499999999999993},{"$f":"DR705","v":25.23871086928779},28,null,"(26 → 27)",{"$f":"G163-G163*COS(DY679+DY678)+(G165+DV678)*SIN(DY679+DY678)","v":12.779554195227515},null,{"$f":"DV686","v":24.932325233879979},{"$f":"DV685","v":27.381890788583711},6,null,{"$f":"DX710+DY728","v":-0.91609542875070815},{"$f":"DY710+DY729","v":64.984494807922644},25,null,"نقاط  ورودی ",null,null,null,{"$f":"DQ726","v":-30},{"$f":"DR726","v":20},31,null,"(1 →18)",{"$f":"EO702+H247*H124*COS(O244)","v":14.297501823311102},null,null,null,null,null,{"$f":"EQ714+EO729","v":0},{"$f":"ER714+EO730","v":31.795046973910534},"p3",null,{"$f":"EQ717+EO729","v":12.167941279135697},{"$f":"ER717+EO730","v":30},"p2",null,"(24' → 24)",{"$f":"(FD683-FD684)*SIN(RADIANS(FD708))*COS(RADIANS(FD708))","v":0.26832031522513206},null,{"$f":"FF698","v":14.297501823311102},{"$f":"FG698","v":8.675470171826225},19,null,{"$f":"FJ687","v":0},{"$f":"FK687","v":40.658534662365653},4]
[null,null,null,null,null,null,{"$f":"IF(H688=-1,G683,IF((1-H688)*H690<H697,G684+(1-H688)*H690*COS(H696),IF((1-H688)*H690<H697+H698,G681+((1-H688)*H690-H697)*COS(H694),G682+((1-H688)*H690-H697-H698)*COS(H695))))","v":0},{"$f":"IF(H688=-1,H683,IF(G708<G681,H684+(G708-G684)*TAN(H696),IF(G708<G682,H681+(G708-G681)*TAN(H694),H682+(G708-G682)*TAN(H695))))","v":131.36934389257897},"m9",null,{"$f":"G729","v":5.0275829494221451},{"$f":"H729","v":123.17196143473066},"m12",null,{"$f":"IF(P688=-1,O683,IF((1-P688)*P690<P697,O684+(1-P688)*P690*COS(P696),IF((1-P688)*P690<P697+P698,O681+((1-P688)*P690-P697)*COS(P694),O682+((1-P688)*P690-P697-P698)*COS(P695))))","v":-1.6799399999999998},{"$f":"IF(P688=-1,P683,IF(O708<O681,P684+(O708-O684)*TAN(P696),IF(O708<O682,P681+(O708-O681)*TAN(P694),P682+(O708-O682)*TAN(P695))))","v":131.36934389257897},"m9",null,{"$f":"O729","v":4.7770744312473514},{"$f":"P729","v":126.99663522159803},"m12",null,{"$f":"IF(X688=-1,W683,IF((1-X688)*X690<X697,W684+(1-X688)*X690*COS(X696),IF((1-X688)*X690<X697+X698,W681+((1-X688)*X690-X697)*COS(X694),W682+((1-X688)*X690-X697-X698)*COS(X695))))","v":0},{"$f":"IF(X688=-1,X683,IF(W708<W681,X684+(W708-W684)*TAN(X696),IF(W708<W682,X681+(W708-W681)*TAN(X694),X682+(W708-W682)*TAN(X695))))","v":131.36934389257897},"m9",null,{"$f":"W729","v":5.1241833103397569},{"$f":"X729","v":123.2319969738594},"m12",null,{"$f":"IF(AF688=-1,AE683,IF((1-AF688)*AF690<AF697,AE684+(1-AF688)*AF690*COS(AF696),IF((1-AF688)*AF690<AF697+AF698,AE681+((1-AF688)*AF690-AF697)*COS(AF694),AE682+((1-AF688)*AF690-AF697-AF698)*COS(AF695))))","v":-1.6799399999999998},{"$f":"IF(AF688=-1,AF683,IF(AE708<AE681,AF684+(AE708-AE684)*TAN(AF696),IF(AE708<AE682,AF681+(AE708-AE681)*TAN(AF694),AF682+(AE708-AE682)*TAN(AF695))))","v":131.36934389257897},"m9",null,{"$f":"-AE708","v":1.6799399999999998},{"$f":"AF708","v":131.36934389257897},"قرینهm9",null,null,null,null,null,null,null,"ب ب گرد",null,null,null,null,null,{"$f":"-AU705","v":-18.589994908013672},{"$f":"AV705","v":138.88706967447229},"قرینهbs2",null,{"$f":"BC705+0.5*(BC706-BC705)","v":7.8086917571218377},{"$f":"BD705+0.15*(BD706-BD705)","v":130.06958098050492},"m10",null,{"$f":"BC710","v":-15.617383514243675},{"$f":"BD710","v":136.95622220760541},{"$f":"BE710","v":"قرینهm4"},null,null,null,null,null,null,null,null,null,null,null,null,"(27 → 28)",{"$f":"BW687+0.65*(K144-BW680*SIN(DY679)+BW680)*SIN(DY679+DY678)-(1-0.75)*(AA146+BW680*COS(DY679))*COS(DY679+DY678)","v":17.781166143077854},null,null,null,null,null,null,null,"مشترک",null,"c8",{"$f":"CP680","v":9.0993790303028455},"نصف نوار گردن از پشت برای یقه یاز شده",null,{"$f":"CG694","v":9.0976726300679545},30.136490685454543,5,null,null,null,null,null,{"$f":"CO694","v":9.0720123044947876},30.545962741818173,5,null,{"$f":"CW707+CX690*CX681*IF(CX687>=0,CX687,1)*COS(CX689)","v":17.860418768777933},{"$f":"CX707+CX690*CX681*IF(CX687>=0,CX687,1)*SIN(CX689)","v":24.740405707611338},9,null,{"$f":"CW710","v":24.020435033142565},{"$f":"CX710","v":34.430119298362577},15,null,null,null,null,null,null,null,null,null,"(27 →28)",{"$f":"DN698","v":5.2387108692877895},"عمود",null,{"$f":"DN707+'متغیرها '!C718","v":-3.4499999999999993},{"$f":"DN709+'متغیرها '!C719","v":70.195790640409456},29,null,"(1 → 28)",{"$f":"0.5*DV685","v":13.690945394291855},null,{"$f":"DV693","v":8.3484212811923744},{"$f":"DV692","v":32.11837993020859},13,null,{"$f":"DX711+DY728","v":-17.220445804772485},{"$f":"DY711+DY729","v":75.124963133658326},27,null,"مولفه افقی","مولفه عمودی","اسم نقطه ",null,null,null,null,null,"(18 → 19)",{"$f":"EO703-H247*H124*SIN(O244)","v":8.675470171826225},null,{"$f":"EQ703","v":14.297501823311102},{"$f":"ER703","v":8.675470171826225},19,null,{"$f":"EQ715+EO729","v":6.0839706395678483},{"$f":"ER715+EO730","v":31.615542276519481},"p6",null,null,null,null,null,"γ11      ",{"$f":"'متغیرها '!C150","v":2},null,{"$f":"FF698+P239","v":20.573401790879799},{"$f":"FG698-P238","v":7.2303324207182236},"19'",null,{"$f":"FJ680","v":-0.26832031522513206},{"$f":"FK680","v":48.34222317010429},24,null,{"$f":"FJ704","v":20.487080947452526},{"$f":"FK704","v":44.004990642181909},23]
[null,null,null,null,null,null,null,null,null,null,null,null,null,null,null,null,null,null,null,null,null,null,null,null,null,null,null,null,null,null,null,null,null,null,null,null,null,null,null,null,null,null,{"$f":"AM689","v":15.620215410811966},{"$f":"AN689","v":139.77069471408021},{"$f":"AO689","v":"m2"},null,null,null,null,null,{"$f":"-AU701","v":-19.762127675570746},{"$f":"AV701","v":138.55229963830254},"قرینه سرشانه",null,{"$f":"-BC699","v":-8.3484212811923726},{"$f":"BD699","v":139.03229312467974},"قرینه 23",null,{"$f":"BC709","v":-8.3484212811923726},{"$f":"BD709","v":139.03229312467974},{"$f":"BE709","v":"قرینه 23"},null,null,null,null,null,"قرینه",{"$f":"-BK680","v":-8.0408000000000008},{"$f":"BL680","v":141.9},{"$f":"BM680","v":"25 شبیه ساز"},null,null,null,"مثلثی",null,null,0,{"$f":"BW697","v":16.728197808851316},17,null,{"$f":"BV725+BW677","v":0},{"$f":"BW725+BW678","v":29.664863653556306},35,null,"c7",{"$f":"CP681","v":14.202409749884527},"نصف نوار گردن از جلو برای یقه باز شده",null,9.025550207009049,33.020485936614378,6,null,null,null,null,null,8.7514682020107646,33.735336291920376,6,null,{"$f":"CW706-CX682*SIN(CX684)","v":21.675185645044294},{"$f":"CX706+CX682*COS(CX684)","v":32.043254329588507},14,null,null,null,null,null,null,null,null,null,{"$f":"-(DE703-DE697)+DE697","v":-22.954352580895524},{"$f":"DF703","v":26.926081954430849},"قرینه7",null,"(27→29)",{"$f":"DN702+DN680","v":50.195790640409456},null,null,null,null,null,null,"(1 → 29)",{"$f":"0.12*DV685","v":3.2858268946300453},null,null,null,null,null,null,null,null,null,{"$f":"EJ686","v":-30},{"$f":"EK686","v":20},1,null,{"$f":"DQ728","v":-30},{"$f":"DR728","v":20},31,null,"(18 → 20)",{"$f":"EO708+(EO693-EO692)","v":10.470517145736757},null,{"$f":"EQ705","v":20.487080947452526},{"$f":"ER705","v":14.004990642181912},23,null,{"$f":"EQ716+EO729","v":9.7343530233085573},{"$f":"ER716+EO730","v":31.077028184346318},"p7",null,{"$f":"EQ719+EO729","v":0},{"$f":"ER719+EO730","v":30},"p1",null,"γ13      ",{"$f":"'متغیرها '!C152","v":0},null,{"$f":"FF699","v":20.487080947452526},{"$f":"FG699","v":14.004990642181912},23,null,null,null,null,null,{"$f":"FJ705","v":20.427964134304144},{"$f":"FK705","v":48.644614032329343},26]
[null,null,null,null,null,null,null,null,null,null,{"$f":"G730","v":9.2886407173880201},{"$f":"H730","v":140.67139104076026},"m14",null,null,null,null,null,{"$f":"O730","v":9.579695868979659},{"$f":"P730","v":140.17460929952256},"m14",null,null,null,null,null,{"$f":"W730","v":9.020419928818102},{"$f":"X730","v":140.29083781629447},"m14",null,"رسم یقه هفت",null,null,null,{"$f":"-AE701","v":-6.7485326653405444},{"$f":"AF701","v":144.62275898899901},"قرینهm1",null,null,null,null,null,{"$f":"AM691","v":13.756408235550259},{"$f":"AN691","v":133.21203587946982},{"$f":"AO691","v":"m6"},null,null,null,null,null,null,null,null,null,{"$f":"-BC706","v":-15.617383514243675},{"$f":"BD706","v":136.95622220760541},"قرینهm4",null,null,null,null,null,null,null,null,null,"قرینه",{"$f":"-BK696","v":-7.8649800848664402},{"$f":"BL696","v":144.30408076863017},{"$f":"BM696","v":"g4"},null,null,null,"(1 → 29)",{"$f":"BW707+0.6*(BW712-BW707)","v":24.094222989323605},null,{"$f":"BW698","v":10.172899659506996},{"$f":"BW697","v":16.728197808851316},18,null,{"$f":"0+BW677","v":0},{"$f":"BW688+BW678","v":37.224485495834401},8,null,"c1 * c9",{"$f":"'متغیرها '!C742*CH707","v":4.8081615372603546},"قد برگردان یقه",null,null,null,null,null,null,null,null,null,null,null,null,null,{"$f":"CW706-'متغیرها '!C694*CX679*SIN(CX684-RADIANS('متغیرها '!C693))","v":24.020435033142565},{"$f":"CX706+'متغیرها '!C694*CX679*COS(CX684-RADIANS('متغیرها '!C693))","v":34.430119298362577},15,null,{"$f":"CW706","v":22.112925266370436},{"$f":"CX706","v":25.004883175950134},{"$f":"CY706","v":7},null,null,null,null,null,{"$f":"DI700","v":-25.566060746475046},{"$f":"DJ700","v":36.180953640813357},"قرینه15",null,"(29 →30)",{"$f":"DN707-DN678-DN681+DN679","v":5.4575000000000031},"عمود",null,{"$f":"DQ708","v":-3.4499999999999993},{"$f":"DR708","v":70.195790640409456},29,null,"(29 → 30)",{"$f":"0.15*DV684","v":4.4249999999999998},null,{"$f":"DV705","v":29.083904571249292},{"$f":"DV704","v":44.984494807922644},25,null,{"$f":"EB708","v":-17.220445804772485},{"$f":"EC708","v":75.124963133658326},27,null,{"$f":"EJ679","v":-30},{"$f":"EK679","v":56.834195217002907},3,null,{"$f":"DQ729","v":-30},{"$f":"DR729","v":20},32,null,"(1 →22)",{"$f":"EO707+(O250-H244*H124)*COS(RADIANS(90)-O245-2*O244)","v":20.487080947452526},null,null,null,null,null,{"$f":"EQ717+EO729","v":12.167941279135697},{"$f":"ER717+EO730","v":30},"p2",null,{"$f":"EQ720+EO729","v":12.167941279135697},{"$f":"ER720+EO730","v":30},"p2",null,"γ14      ",{"$f":"'متغیرها '!C153","v":1.18},null,null,null,"رویه با ضخیم دوزی",null,{"$f":"FF705+FD719","v":51.97306799564506},{"$f":"FG705+FD720","v":30},2]
[null,null,null,null,null,null,null,null,null,null,{"$f":"G731","v":8.4364291637948448},{"$f":"H731","v":135.42156215895139},"m15",null,null,null,null,null,{"$f":"O731","v":8.6191715814331982},{"$f":"P731","v":136.22121707614519},"m15",null,null,null,null,null,{"$f":"W731","v":8.2411726051224328},{"$f":"X731","v":135.17318556356395},"m15",null,{"$f":"AE680","v":8.3512531777606629},{"$f":"AF680","v":141.84676563115454},25,null,{"$f":"-AE680","v":-8.3512531777606629},{"$f":"AF680","v":141.84676563115454},"قرینه25",null,null,null,null,null,{"$f":"AM690","v":10.028793885026849},{"$f":"AN690","v":128.33117349092254},{"$f":"AO690","v":"m5"},null,null,null,null,null,{"$f":"AY708","v":-18.589994908013672},{"$f":"AV705","v":138.88706967447229},"قرینه bs2",null,{"$f":"-BC707","v":-13.274775987107123},{"$f":"BD707","v":133.71544986544046},"قرینهm9",null,{"$f":"BK717","v":8.3484212811923726},139.03229312467974,23,null,null,null,null,null,"قرینه",{"$f":"-BK695","v":-6.2826008486643889},{"$f":"BL695","v":146.70816153726037},{"$f":"BM695","v":"g3"},null,null,null,"(29 → 30)",{"$f":"BW713+0.6*(BW708-BW713)","v":15.918345462479977},null,null,null,null,null,null,null,null,null,"c10",{"$f":"ATAN(('متغیرها '!C743*CH707)/(0.98*(CH715)+0.001))","v":-0.17188299975984217},null,null,{"$f":"CK685","v":-9.0976726300679545},{"$f":"CL685","v":30.136490685454543},{"$f":"CM685","v":"قرینه5"},null,null,null,null,null,{"$f":"CO702","v":21.685841562637734},{"$f":"CP702","v":39.647600124893259},{"$f":"CQ702","v":14},null,{"$f":"CW700","v":0},{"$f":"CX700+CX692*CX679","v":32.564352819872191},16,null,{"$f":"CW710","v":24.020435033142565},{"$f":"CX710","v":34.430119298362577},15,null,null,null,null,null,null,null,null,null,"(26→28→29→30→22→8)","وصل",null,null,{"$f":"DN707-DN710+'متغیرها '!C718","v":-8.9075000000000024},{"$f":"DN709+'متغیرها '!C719","v":70.195790640409456},30,null,"(7 →9→11→13→15→17→19→21)","هلال وصل",null,{"$f":"DV707","v":12.779554195227515},{"$f":"DV706","v":55.124963133658326},27,null,{"$f":"DX712+DY728","v":-23.207244036860352},{"$f":"DY712+DY729","v":65.424484153250347},21,null,{"$f":"EJ680","v":-17.02},{"$f":"EK680","v":57.719195217002905},5,null,null,null,null,null,"(22 → 23)",{"$f":"EO708+(O250-H244*H124)*SIN(RADIANS(90)-O245-2*O244)","v":14.004990642181912},null,{"$f":"EN679","v":0.49948800440331809},{"$f":"EO679","v":12.453581636276187},27,null,null,null,null,null,null,null,"برش",null,"γ15      ",{"$f":"'متغیرها '!C154","v":0.5},null,0,{"$f":"FD684","v":10.658534662365655},4,null,null,null,"خطوط برش یفه دوبل",null,{"$f":"FJ710","v":51.97306799564506},{"$f":"FK710","v":30},2]
[null,null,null,null,null,null,null,null,null,null,{"$f":"G729","v":5.0275829494221451},{"$f":"H729","v":123.17196143473066},"m12",null,null,null,null,null,{"$f":"O729","v":4.7770744312473514},{"$f":"P729","v":126.99663522159803},"m12",null,null,null,null,null,{"$f":"W729","v":5.1241833103397569},{"$f":"X729","v":123.2319969738594},"m12",null,{"$f":"AE723","v":7.5161278599845964},{"$f":"AF723","v":138.70353910958187},"e7",null,null,null,null,null,null,null,null,null,{"$f":"AM697","v":5.9284180994510951},{"$f":"AN697","v":126.80590399450152},{"$f":"AO697","v":"m8"},null,null,null,null,null,{"$f":"AY709","v":-19.762127675570746},{"$f":"AV701","v":138.55229963830254},"قرینه سرشانه",null,{"$f":"-BC708","v":-7.8086917571218377},{"$f":"BD708","v":130.06958098050492},"قرینهm10",null,6.2613159608942794,137.4612651665546,28,null,null,null,null,null,null,null,null,null,null,null,null,"(1 → 31)",{"$f":"BW701+BW680*COS(DY678+DY679+BW679)","v":27.279560674070105},null,0,{"$f":"BW699","v":20.673573021506357},19,null,null,null,"گرد",null,"c11",{"$f":"ASIN(('متغیرها '!C743*CH707-0.33*CH715*(SIN(0.6*CH711)+SIN(CH711)))/(0.34*CH715))","v":-0.23668039242413105},null,null,{"$f":"CK698","v":-9.025550207009049},{"$f":"CL698","v":33.020485936614378},{"$f":"CM698","v":"قرینه6"},null,null,null,null,null,{"$f":"CO696","v":23.427877124713682},{"$f":"CP696","v":36.956844791498646},{"$f":"CQ696","v":7},null,{"$f":"CW702","v":3.6397516121211382},{"$f":"CX700+0.9*CX692*CX679","v":32.307917537884968},17,null,null,null,null,null,null,null,null,null,null,null,null,null,"(8→24→26)","هلال وصل","بلیطی",null,null,null,null,null,"(4 → 2→30→28→7)","هلال وصل",null,{"$f":"DV701","v":6.7927559631396495},{"$f":"DV700","v":45.424484153250347},21,null,null,null,null,null,"متغیرهای ورودی",null,null,null,{"$f":"DQ731","v":-30},20,31,null,"(1 → 25)",{"$f":"EO710+H243*H124*COS(RADIANS(270)-RADIANS(H242)-O245-2*O244)","v":20.427964134304144},null,{"$f":"EN681","v":8.906573042142224E-2},{"$f":"EO681","v":18.332263552689991},29,null,{"$f":"EQ719+EO729","v":0},{"$f":"ER719+EO730","v":30},"p1",null,{"$f":"EQ722+EO729","v":0},{"$f":"ER722+EO730","v":30},"p1",null,"γ16      ",{"$f":"'متغیرها '!C155","v":0.6},null,{"$f":"FC714","v":-0.26832031522513206},{"$f":"FD714","v":19.142223170104295},"24''",null,{"$f":"FJ699","v":14.297501823311102},{"$f":"FK699","v":38.675470171826227},19,null,null,null,"خطوط برش یفه دوبل"]
[null,null,null,null,null,null,null,null,null,null,null,null,null,null,null,null,null,null,null,null,null,null,null,null,null,null,null,null,null,null,{"$f":"AE724","v":-1.6799399999999998},{"$f":"AF724","v":109.42},"e1",null,{"$f":"AE708","v":-1.6799399999999998},{"$f":"AF708","v":131.36934389257897},"m9",null,null,null,null,null,{"$f":"AM696","v":2.371367239780438},{"$f":"AN696","v":128.17493596392475},{"$f":"AO696","v":"m7"},null,null,null,null,null,null,null,null,null,null,null,null,null,3.3393685124769519,136.67575118749201,26,null,null,null,null,null,null,null,null,null,null,null,null,"(31 →32)",{"$f":"BW702+BW680*SIN(DY678+DY679+BW679)","v":13.12411444158316},null,{"$f":"BW700","v":9.1857378566229801},{"$f":"BW699","v":20.673573021506357},20,null,{"$f":"BV725+BW677","v":0},{"$f":"BW725+BW678","v":29.664863653556306},35,null,"c12",{"$f":"ASIN((0.03*'متغیرها '!C743*CH708)/(CH708-CG720+CG718))","v":-3.5007149775348648E-2},null,null,null,null,"برگردان",null,null,null,null,null,null,null,null,null,{"$f":"CW704+0.6*CX692*CX679*SIN(CX685)","v":8.8028643066010694},{"$f":"CX704+0.6*CX692*CX679*COS(CX685)","v":30.692769075928449},18,null,{"$f":"-(CW706-CW700)+CW700","v":-22.112925266370436},{"$f":"CX706","v":25.004883175950134},"قرینه7",null,null,null,null,null,null,null,null,null,"(1 → 31)",{"$f":"'متغیرها '!C711*0.1*(2*H129+H130)","v":0},null,null,{"$f":"DQ711","v":-8.9075000000000024},{"$f":"DR711","v":70.195790640409456},30,null,"(4 →6→23→25)","هلال وصل",null,null,null,null,null,{"$f":"DX714+DY728","v":-23.207244036860352},{"$f":"DY714+DY729","v":65.424484153250347},21,null,"a",{"$f":"DN733","v":0.2},null,null,-30,20,"32'",null,"(25 → 26)",{"$f":"EO711+H243*H124*SIN(RADIANS(270)-RADIANS(H242)-O245-2*O244)","v":18.644614032329347},null,null,null,"رسم انحنا پایه",null,{"$f":"EQ720+EO729","v":12.167941279135697},{"$f":"ER720+EO730","v":30},"p2",null,{"$f":"EQ723+EO729","v":0},{"$f":"ER723+EO730","v":31.795046973910534},"p3",null,"مولفه افقی","مولفه عمودی","اسم نقطه ",null,null,null,null,{"$f":"FF708+FD719","v":20.573401790879799},{"$f":"FG708+FD720","v":37.230332420718227},"19'",null,{"$f":"FJ712","v":14.297501823311102},{"$f":"FK712","v":38.675470171826227},19]
[null,null,null,null,null,null,null,null,null,null,{"$f":"-G701","v":-8.3512531777606629},{"$f":"H701","v":144.73166255351074},"قرینهm1",null,null,null,null,null,{"$f":"-O701","v":-7.9746985675381605},{"$f":"P701","v":144.70698186041773},"قرینهm1",null,null,null,null,null,{"$f":"-W701","v":-8.3512531777606629},{"$f":"X701","v":145.05220665599478},"قرینهm1",null,{"$f":"AE685","v":-1.6799399999999998},{"$f":"AF685","v":66.580000000000013},"1'",null,{"$f":"AE683","v":-1.6799399999999998},{"$f":"AF683","v":131.36934389257897},"26'",null,null,null,null,null,{"$f":"AM682","v":0},{"$f":"AN682","v":131.36934389257897},{"$f":"AO682","v":26},null,null,null,null,null,null,null,null,null,null,null,null,null,{"$f":"BK720","v":0},136.41391319447115,24,null,null,null,null,null,null,null,null,null,null,null,null,"(1 → 33)",{"$f":"BW680+G166+G163*SIN(DY678+DY679)+G165*COS(DY678+DY679)+BW680*COS(DY678+DY679)","v":29.003957769839158},null,null,null,null,null,{"$f":"BV726+BW677","v":6.2469534056974716},{"$f":"BW726+BW678","v":30.475056739097543},36,null,null,{"$f":"-AX147","v":1.6799399999999998},"ضریب جادکمه*(v3*2+w2)",null,{"$f":"CG718","v":0},40,1,null,null,null,null,null,{"$f":"CO702","v":21.685841562637734},{"$f":"CP702","v":39.647600124893259},{"$f":"CQ702","v":14},null,{"$f":"CW700+'متغیرها '!C695","v":0},{"$f":"CX700+'متغیرها '!C696","v":25},19,null,{"$f":"DA704","v":-24.020435033142565},{"$f":"DB704","v":34.430119298362577},"قرینه15",null,null,null,null,null,null,null,null,null,"(31→ 32)",{"$f":"'متغیرها '!C712*EG677","v":0},"عمود",null,{"$f":"DN678+'متغیرها '!C718","v":-9.3500000000000014},{"$f":"DN702+'متغیرها '!C719","v":60.165790640409455},22,null,"(21 → 27→ 25)","وصل",null,{"$f":"DX712","v":6.7927559631396495},{"$f":"DY712","v":45.424484153250347},21,null,{"$f":"DX715+DY728","v":-24.633783229954247},{"$f":"DY715+DY729","v":66.311718245340487},29,null,"b",{"$f":"DN734","v":0.4},null,null,-30,20,"32''",null,"(3 → 24')",{"$f":"(EO691-EO692)*SIN(RADIANS(ES734))*SIN(RADIANS(ES734))","v":9.3699518779299246E-3},null,{"$f":"EO724","v":0},{"$f":"EO717+EO725","v":1.7950469739105324},"p3",null,null,null,"برش",null,null,null," یفه دوبل",null,{"$f":"-FD707","v":-0.26832031522513206},{"$f":"FD683-FD706+1.6*'متغیرها '!C176","v":19.142223170104295},"24''",{"$f":"FC714","v":-0.26832031522513206},19.142223170104295,"24''",null,null,null,null,null,{"$f":"FJ713","v":20.573401790879799},{"$f":"FK713","v":37.230332420718227},"19'"]
[null,null,null,null,null,null,null,null,null,null,{"$f":"-G730","v":-9.2886407173880201},{"$f":"H730","v":140.67139104076026},"قرینهm14",null,null,null,null,null,{"$f":"-O730","v":-9.579695868979659},{"$f":"P730","v":140.17460929952256},"قرینهm14",null,null,null,null,null,{"$f":"-W730","v":-9.020419928818102},{"$f":"X730","v":140.29083781629447},"قرینهm14",null,null,null,null,null,null,null,null,null,null,null,null,null,null,null,null,null,null,null,null,null,null,null,null,null,null,null,null,null,-3.3393685124769519,136.67575118749201,"26قرینه",null,"طراحی پشت یقه گرد روی شبیه ساز اندام",null,null,null,null,null,null,null,null,null,null,"(33 →34)",{"$f":"G163-G163*COS(DY678+DY679)+(G165+BW680)*SIN(DY678+DY679)","v":10.434257784235538},null,0,{"$f":"BW701","v":23.148969649084751},21,null,{"$f":"BV727+BW677","v":12.025385305967632},{"$f":"BW727+BW678","v":33.715829081262484},37,null,"c13",{"$f":"CG693-CG691+SQRT(POWER((CG693-CG695),2)+POWER((CH693-CH695),2))+SQRT(POWER((CG695-CG701),2)+POWER((CH695-CH701),2))+SQRT(POWER((CG701-CG699),2)+POWER((CH701-CH699),2))-(CG720-CG718)-SQRT(POWER((CG720-CG722),2)+POWER((CH720-CH722),2))","v":13.188232693877872},null,null,0,{"$f":"CH719","v":44.808161537260354},2,null,null,null,null,null,{"$f":"CO701","v":13.310068964273338},{"$f":"CP701","v":34.824009108115746},{"$f":"CQ701","v":13},null,{"$f":"CW714","v":0},{"$f":"CX714+CX692*CX679","v":27.564352819872191},20,null,null,null,null,null,null,null,null,null,null,null,null,null,"(1 → 33)",{"$f":"1.9*DN714","v":0},null,null,null,null,null,null,"(1 → 28)",{"$f":"DV700+DY677*SIN(DY679+DY678)","v":46.311718245340487},null,{"$f":"DV716","v":5.366216770045753},{"$f":"DV715","v":46.311718245340487},29,null,null,null,null,null,"c",{"$f":"DN735","v":0.30000000000000004},null,null,-30,20,32,null,"(24' → 24)",{"$f":"(EO691-EO692)*SIN(RADIANS(ES734))*COS(RADIANS(ES734))","v":0.26832031522513206},null,{"$f":"EO719+EO724","v":6.0839706395678483},{"$f":"EO722+EO725","v":1.6155422765194791},"p6",null,{"$f":"EQ722+EO729","v":0},{"$f":"ER722+EO730","v":30},"p1",null,{"$f":"EQ725+EO729","v":14.297501823311102},{"$f":"ER725+EO730","v":38.675470171826227},19,null,0,{"$f":"FD683+1.6*'متغیرها '!C176","v":19.151593121982224},"3'",0,19.151593121982224,"3'",null,{"$f":"FJ713","v":20.573401790879799},{"$f":"FK713","v":37.230332420718227},"19'"]
[null,null,null,null,null,null,null,null,null,null,null,null,null,null,null,null,null,null,null,null,null,null,null,null,null,null,null,null,null,null,{"$f":"-AE680","v":-8.3512531777606629},{"$f":"AF680","v":141.84676563115454},"قرینه25",null,{"$f":"AI708","v":1.6799399999999998},{"$f":"AJ708","v":131.36934389257897},"قرینهm9",null,null,null,null,null,{"$f":"AM693","v":-15.620215410811966},{"$f":"AN693","v":139.77069471408021},{"$f":"AO693","v":"قرینهm2"},null,null,null,null,null,null,null,null,null,null,null,null,null,-6.2613159608942794,137.4612651665546,"28قرینه",null,"مولفه افقی","مولفه عمودی","اسم نقطه ",null,null,null,null,null,null,null,null,"گرد",null,null,{"$f":"BW702","v":6.7927559631396495},{"$f":"BW701","v":23.148969649084751},22,null,{"$f":"BW687+BW677","v":15.617383514243677},{"$f":"BW686+BW678","v":37.766794508968658},7,null,"نقاط  خروجی برگردان",null,null,null,null,null,null,null,null,null,null,null,null,null,null,null,{"$f":"CW714+CX694","v":14.949533765786787},{"$f":"CX714","v":25},21,null,{"$f":"CW716","v":14.949533765786787},{"$f":"CX716","v":25},21,null,null,null,null,null,null,null,null,null,"(1 → 34)",{"$f":"0.45*DN713","v":0},null,null,{"$f":"DQ714","v":-9.3500000000000014},{"$f":"DR714","v":60.165790640409455},22,null,"(28 → 29)",{"$f":"DV701-DY677*COS(DY679+DY678)","v":5.366216770045753},null,{"$f":"DV718","v":11.353015002133619},{"$f":"DV717","v":56.012197225748466},31,null,{"$f":"EB714","v":-24.633783229954247},{"$f":"EC714","v":66.311718245340487},29,null,"نقاط  خروجی ",null,null,null,null,null,null,null,"پایه یقه انگلیسی ",null,null,{"$f":"EO720+EO724","v":9.7343530233085573},{"$f":"EO721+EO725","v":1.0770281843463194},"p7",null,{"$f":"EQ723+EO729","v":0},{"$f":"ER723+EO730","v":31.795046973910534},"p3",null,{"$f":"EQ726+EO729","v":20.573401790879799},{"$f":"ER726+EO730","v":37.230332420718227},"19'",null,{"$f":"FD686","v":3.6397516121211382},{"$f":"FD689+1.5*'متغیرها '!C176","v":19.110963073860152},"9'",3.6397516121211382,19.110963073860152,"9'",null,{"$f":"FJ702","v":20.487080947452526},{"$f":"FK702","v":44.004990642181909},23,null,{"$f":"FJ715","v":20.573401790879799},{"$f":"FK715","v":37.230332420718227},"19'"]
[null,null,null,null,null,null,null,null,null,null,{"$f":"-G704","v":0},{"$f":"H704","v":131.36934389257897},"قرینهm4",null,null,null,null,null,{"$f":"-O704","v":-0.62132577317973992},{"$f":"P704","v":133.84846556934266},"قرینهm4",null,null,null,null,null,{"$f":"-W704","v":0},{"$f":"X704","v":131.36934389257897},"قرینهm4",null,{"$f":"-AE723","v":-7.5161278599845964},{"$f":"AF723","v":138.70353910958187},"قرینهe7",null,{"$f":"AI699","v":1.6799399999999998},{"$f":"AJ699","v":131.36934389257897},"قرینه '26",null,null,null,null,null,{"$f":"AM695","v":-13.756408235550259},{"$f":"AN695","v":133.21203587946982},{"$f":"AO695","v":"قرینهm6"},null,null,null,null,null,null,null,null,null,null,null,null,null,-8.3484212811923726,139.03229312467974,"23قرینه",null,{"$f":"BK104-'متغیرها '!C53","v":8.3484212811923726},{"$f":"BL104-'متغیرها '!C54","v":139.03229312467974},23,null,null,null,null,null,null,null,null,"(1 → 29)",{"$f":"BW712-0.4*(BW712-BW707)","v":24.094222989323605},null,null,null,null,null,{"$f":"BW704+BW677","v":17.483161603481854},{"$f":"BW703+BW678","v":42.245228068255678},24,null,"مولفه افقی","مولفه عمودی","اسم نقطه ",null,{"$f":"-(CG724-CG718)+CG718","v":-22.072006052525715},{"$f":"CH724","v":37.565104322975479},"قرینه7",null,null,null,null,null,{"$f":"CS694","v":-23.427877124713682},{"$f":"CT694","v":36.956844791498646},{"$f":"CU694","v":"قرینه7"},null,{"$f":"CW714+0.5*(CW716-CW714)","v":7.4747668828933937},{"$f":"CX714+0.8*(CX715-CX714)","v":27.051482255897753},22,null,{"$f":"-(CW716-CW714)+CW714","v":-14.949533765786787},{"$f":"CX716","v":25},"قرینه21",null,null,null,null,null,null,null,null,null,"(34→35)",{"$f":"1.3*DN714","v":0},"عمود",null,{"$f":"DN678+'متغیرها '!C718","v":-9.3500000000000014},{"$f":"DN684+'متغیرها '!C719","v":43.547549912688368},8,null,"(1 → 30)",{"$f":"DV706+DY677*SIN(DY679+DY678)","v":56.012197225748466},null,{"$f":"DX711","v":12.779554195227515},{"$f":"DY711","v":55.124963133658326},27,null,{"$f":"DX716+DY728","v":-18.646984997866383},{"$f":"DY716+DY729","v":76.012197225748466},31,null,"مولفه افقی","مولفه عمودی","اسم نقطه ",null,{"$f":"DQ736","v":-31.679939999999998},{"$f":"DR736","v":20},36,null,"(p1 → p3)",{"$f":"EO688","v":1.7950469739105324},null,{"$f":"EO718+EO724","v":12.167941279135697},{"$f":"0+EO725","v":0},"p2",null,null,null," یفه دوبل",null,null,null,null,null,{"$f":"FD690","v":7.8382088694091143},{"$f":"FD693+1.3*'متغیرها '!C176","v":19.478248468456883},"13'",7.8382088694091143,19.478248468456883,"13'",null,null,null,null,null,{"$f":"FJ716","v":20.487080947452526},{"$f":"FK716","v":44.004990642181909},23]
[null,null,null,null,null,null,"نقاط  ورودی و محاسبات برگردان",null,null,null,{"$f":"-G729","v":-5.0275829494221451},{"$f":"H729","v":123.17196143473066},"قرینهm12",null,"نقاط  ورودی و محاسبات برگردان",null,null,null,{"$f":"-O729","v":-4.7770744312473514},{"$f":"P729","v":126.99663522159803},"قرینهm12",null,"نقاط  ورودی و محاسبات برگردان",null,null,null,{"$f":"-W729","v":-5.1241833103397569},{"$f":"X729","v":123.2319969738594},"قرینهm12",null,{"$f":"-AE724","v":1.6799399999999998},{"$f":"AF724","v":109.42},"قرینهe1",null,null,null,"گرد",null,null,null,null,null,{"$f":"AM694","v":-10.028793885026849},{"$f":"AN694","v":128.33117349092254},{"$f":"AO694","v":"قرینهm5"},null,null,null,null,null,null,null,null,null,null,null,null,null,null,null,null,null,{"$f":"BK135-'متغیرها '!C53","v":6.2613159608942794},{"$f":"BL135-'متغیرها '!C54","v":137.4612651665546},28,null,null,null,null,null,null,null,null,"(29 → 30)",{"$f":"BW713+0.45*(BW708-BW713)","v":15.219787707255772},null,0,{"$f":"BW703","v":12.245228068255676},23,null,{"$f":"BW706+BW677","v":17.975519037167889},{"$f":"BW705+BW678","v":45.69824149161235},26,null,{"$f":"'متغیرها '!C746","v":0},{"$f":"'متغیرها '!C747","v":40},1,null,{"$f":"-(CG726-CG718)+CG718","v":-17.713013205238074},{"$f":"CH726","v":38.616498363691349},"قرینه9",null,null,null,null,null,{"$f":"-(CO702-CO690)+CO690","v":-21.685841562637734},{"$f":"CP702","v":39.647600124893259},"قرینه14",null,null,null,null,null,null,null,null,null,null,null,null,null,null,null,null,null,"(1 → 36)",{"$f":"'متغیرها '!C66*(2*H129+H130)","v":1.6799399999999998},"امتداد جادکمه",null,null,null,"بلیطی",null,"(30 → 31)",{"$f":"DV707-DY677*COS(DY679+DY678)","v":11.353015002133619},null,null,null,"کلاه ملوانی",null,null,null,null,null,{"$f":"EF709","v":-30},{"$f":"EG709+EG713*(EG710-EG709)","v":27.366839043400581},38,null,{"$f":"DQ737","v":-31.679939999999998},{"$f":"DR737","v":20},37,null,"(p1 →p2)",{"$f":"EO728","v":12.167941279135697},null,null,null,null,null,{"$f":"EQ725+EO729","v":14.297501823311102},{"$f":"ER725+EO730","v":38.675470171826227},19,null,{"$f":"EQ728+EO729","v":20.573401790879799},{"$f":"ER728+EO730","v":37.230332420718227},"19'",null,{"$f":"FD697","v":14.133086501856628},{"$f":"FD698+0.8*'متغیرها '!C176","v":19.081340919554854},"21'",14.133086501856628,19.081340919554854,"21'"]
[null,null,null,null,null,null,"برگردان",{"$f":"('متغیرها '!C690-'متغیرها '!C689-0.1)*H699","v":4.1670733322923077},"c1*c9",null,null,null,null,null,"برگردان",{"$f":"CH710","v":4.8081615372603546},"c1*c9",null,null,null,null,null,"برگردان",{"$f":"0.6*'متغیرها '!C731*X699","v":4.8081615372603546},"c1*c9",null,null,null,null,null,{"$f":"-AE685","v":1.6799399999999998},{"$f":"AF685","v":66.580000000000013},"قرینه1'",null,{"$f":"AY679","v":8.3512531777606629},141.84676563115454,25,null,null,null,null,null,{"$f":"AM699","v":-5.9284180994510951},{"$f":"AN699","v":126.80590399450152},{"$f":"AO699","v":"قرینهm8"},null,null,null,null,null,null,null,null,null,null,null,null,null,null,null,null,null,{"$f":"BK132-'متغیرها '!C53","v":3.3393685124769519},{"$f":"BL132-'متغیرها '!C54","v":136.67575118749201},26,null,null,null,null,null,null,null,null,"(1 → 31)",{"$f":"BW701+0.55*(BW712-BW701)","v":25.420794712826694},null,{"$f":"BW704","v":17.483161603481854},{"$f":"BW703","v":12.245228068255676},24,null,{"$f":"BW708+BW677","v":17.781166143077854},{"$f":"BW707+BW678","v":49.316216462203855},28,null,{"$f":"CG718","v":0},{"$f":"CH710+CH718","v":44.808161537260354},2,null,{"$f":"-(CG725-CG718)+CG718","v":-13.425027253038316},{"$f":"CH725","v":39.360875296875392},"قرینه8",null,null,null,null,null,null,null,null,null,null,null,null,null,{"$f":"-(CW716-CW714)+CW714","v":-14.949533765786787},{"$f":"CX716","v":25},"قرینه21",null,null,null,null,null,null,null,null,null,"(36→37)",{"$f":"DN714","v":0},"عمود",null,null,null,null,null,"(21 → 29→ 31→ 27)","وصل جادکمه",null,{"$f":"DX687","v":9.6540097076821123},{"$f":"DY687","v":35.007939095765607},15,null,{"$f":"EB717","v":-18.646984997866383},{"$f":"EC717","v":76.012197225748466},31,null,{"$f":"EF718+0.7*(EF720-EF718)","v":-26.365600000000001},{"$f":"EG718+0.1*(EG710-EG718)","v":30.313574660760814},39,null,null,null,"انحنا جلو صورت",null,"(p1 → p4)",{"$f":"0.5*EO718","v":6.0839706395678483},null,{"$f":"0+EO724","v":0},{"$f":"0+EO725","v":0},"p1",null,{"$f":"EQ726+EO729","v":20.573401790879799},{"$f":"ER726+EO730","v":37.230332420718227},"19'",null,{"$f":"EQ729+EO729","v":20.487080947452526},{"$f":"ER729+EO730","v":44.004990642181909},23,null,"شیفت افقی یقه",{"$f":"'متغیرها '!C705","v":0},null,{"$f":"FD704","v":20.427964134304144},{"$f":"FD705","v":18.644614032329347},26]
[null,null,null,null,null,null,"برگردان",{"$f":"H699*'متغیرها '!C694","v":9.6163230745207091},"c9*c15",null,{"$f":"-G730","v":-9.2886407173880201},{"$f":"H730","v":140.67139104076026},"قرینهm14",null,"برگردان",{"$f":"CH679*'متغیرها '!C745","v":8.0136025621005906},"c9*c15",null,{"$f":"-O730","v":-9.579695868979659},{"$f":"P730","v":140.17460929952256},"قرینهm14",null,"برگردان",{"$f":"X699*'متغیرها '!C735","v":9.6163230745207091},"c9*c15",null,{"$f":"-W730","v":-9.020419928818102},{"$f":"X730","v":140.29083781629447},"قرینهm14",null,null,null,null,null,6.6810025422085317,136.60805476186675,30,null,null,null,null,null,{"$f":"AM698","v":-2.371367239780438},{"$f":"AN698","v":128.17493596392475},{"$f":"AO698","v":"قرینه m7"},null,null,null,null,null,null,null,null,null,null,null,null,null,null,null,null,null,{"$f":"BK138-'متغیرها '!C53","v":0},{"$f":"BL138-'متغیرها '!C54","v":136.41391319447115},24,null,null,null,null,null,null,null,null,"(31 →32)",{"$f":"BW702+0.6*(BW713-BW702)","v":10.591571050205756},null,null,null,null,null,{"$f":"BW718+BW677","v":15.219787707255772},{"$f":"BW717+BW678","v":54.094222989323605},30,null,{"$f":"CG718+0.4*CH708","v":3.6397516121211382},{"$f":"CH718","v":40},3,null,{"$f":"-(CG722-CG718)+CG718","v":-9.0960339837747881},{"$f":"CH722","v":39.808913040363642},"قرینه5",null,null,null,null,null,{"$f":"CS718","v":-21.685841562637734},{"$f":"CT718","v":39.647600124893259},{"$f":"CU718","v":"قرینه14"},null,null,null,null,null,{"$f":"-(CW717-CW714)+CW714","v":-7.4747668828933937},{"$f":"CX717","v":27.051482255897753},"قرینه22",null,null,null,null,null,null,null,null,null,"(1 →31→32→37)","وصل",null,null,{"$f":"-DN713+'متغیرها '!C718","v":-30},{"$f":"DN714+'متغیرها '!C719","v":20},32,null,null,null,null,{"$f":"DV725","v":16.958420182373885},{"$f":"DV724","v":64.950240648200122},17,null,{"$f":"DX717+DY728","v":-17.220445804772485},{"$f":"DY717+DY729","v":75.124963133658326},27,null,{"$f":"EF709+EG714*(EF711-EF709)","v":-24.808},{"$f":"EG718+0.3*(EG710-EG718)","v":36.207045895481279},40,null,{"$f":"EF718","v":-30},27.366839043400581,38,null,"(p1 → p5)",{"$f":"0.8*EO718","v":9.7343530233085573},null,{"$f":"EO718+EO724","v":12.167941279135697},{"$f":"0+EO725","v":0},"p2",null,null,null,null,null,null,null,"پایه مستطیل",null,"شیفت عمودی یقه ",{"$f":"'متغیرها '!C706","v":30}]
[null,null,null,null,null,null,"برگردان",{"$f":"'متغیرها '!C691","v":-1.3},"c2",null,{"$f":"-G731","v":-8.4364291637948448},{"$f":"H731","v":135.42156215895139},"قرینهm15",null,"برگردان",{"$f":"'متغیرها '!C743","v":-0.70000000000000007},"c2",null,{"$f":"-O731","v":-8.6191715814331982},{"$f":"P731","v":136.22121707614519},"قرینهm15",null,"برگردان",{"$f":"'متغیرها '!C732","v":-0.8},"c2",null,{"$f":"-W731","v":-8.2411726051224328},{"$f":"X731","v":135.17318556356395},"قرینهm15",null,null,null,null,null,3.3405012711042659,132.41708606643653,28,null,null,null,null,null,{"$f":"AM682","v":0},{"$f":"AN682","v":131.36934389257897},{"$f":"AO682","v":26},null,null,null,null,null,null,null,null,null,null,null,null,null,null,null,null,null,{"$f":"-BK719","v":-3.3393685124769519},{"$f":"BL132-'متغیرها '!C54","v":136.67575118749201},"26قرینه",null,null,null,null,null,null,null,null,"(1 → 33)",{"$f":"BW680+G166+G163*SIN(DY678+DY679)+G165*COS(DY678+DY679)+BW680*COS(DY678+DY679)","v":29.003957769839158},null,0,{"$f":"BW705","v":15.698241491612354},25,null,{"$f":"BW720+BW677","v":10.591571050205756},{"$f":"BW719+BW678","v":55.420794712826691},32,null,{"$f":"CG720","v":3.6397516121211382},{"$f":"CH719","v":44.808161537260354},4,null,{"$f":"-(CG720-CG718)+CG718","v":-3.6397516121211382},{"$f":"CH720","v":40},"قرینه 3",null,null,null,null,null,{"$f":"CS697","v":-13.310068964273338},{"$f":"CT697","v":34.824009108115746},{"$f":"CU697","v":"قرینه13"},null,null,null,null,null,{"$f":"CW715","v":0},{"$f":"CX715","v":27.564352819872191},20,null,null,null,null,null,null,null,null,null,"(37→35→33)","هلال وصل",null,null,{"$f":"-DN716+'متغیرها '!C718","v":-30},{"$f":"DN717+'متغیرها '!C719","v":20},35,null,"جلو یقه روی خط مرکزی",{"$f":"'متغیرها '!C727*G168","v":24.0006816},null,{"$f":"DV731","v":17.690807705718424},{"$f":"DV730","v":66.202416210762081},27,null,null,null,"کلاه ملوانی",null,{"$f":"EF709+EG715*(EF711-EF709)","v":-26.105999999999998},{"$f":"EG710+(EF721-EF710)*(EG711-EG710)/(EF711-EF710)","v":57.09969521700291},41,null,-26.365600000000001,30.313574660760814,39,null,"(p5 → p7)",{"$f":"0.6*EO717","v":1.0770281843463194},null,null,null,"برش",null,{"$f":"EQ728+EO729","v":20.573401790879799},{"$f":"ER728+EO730","v":37.230332420718227},"19'",null,{"$f":"EQ711+EO729","v":0.49948800440331809},{"$f":"ER711+EO730","v":42.453581636276184},27]
[null,null,null,null,null,null,"برگردان",{"$f":"'متغیرها '!C693","v":15},"c14",null,{"$f":"-G729","v":-5.0275829494221451},{"$f":"H729","v":123.17196143473066},"قرینهm12",null,"برگردان",{"$f":"'متغیرها '!C744","v":15},"c14",null,{"$f":"-O729","v":-4.7770744312473514},{"$f":"P729","v":126.99663522159803},"قرینهm12",null,"برگردان",{"$f":"'متغیرها '!C734","v":15},"c14",null,{"$f":"-W729","v":-5.1241833103397569},{"$f":"X729","v":123.2319969738594},"قرینهm12",null,"نقاط  ورودی یقه هفت",null,null,null,{"$f":"AY682","v":0},131.36934389257897,26,null,null,null,null,null,null,null,null,null,null,null,null,null,null,null,null,null,null,null,null,null,null,null,null,null,{"$f":"-BK718","v":-6.2613159608942794},{"$f":"BL135-'متغیرها '!C54","v":137.4612651665546},"28قرینه",null,null,null,null,null,null,null,null,"(33 →34)",{"$f":"G163-G163*COS(DY678+DY679)+(G165+BW680)*SIN(DY678+DY679)","v":10.434257784235538},null,{"$f":"BW706","v":17.975519037167889},{"$f":"BW705","v":15.698241491612354},26,null,{"$f":"BW702+BW677","v":6.7927559631396495},{"$f":"BW701+BW678","v":53.148969649084748},22,null,{"$f":"CG720+(CH708-CG720+CG718)*COS(CH713)","v":9.0960339837747881},{"$f":"CH718+(CH708-CG720+CG718)*SIN(CH713)","v":39.808913040363642},5,null,{"$f":"CG718","v":0},{"$f":"CH718","v":40},{"$f":"CI718","v":1},null,null,null,null,null,null,null,null,null,null,null,null,null,{"$f":"CW717","v":7.4747668828933937},{"$f":"CX717","v":27.051482255897753},22,null,null,null,null,null,null,null,null,null,"(1 → 38)",{"$f":"'متغیرها '!C66*(2*H129+H130)","v":1.6799399999999998},"امتداد جادکمه",null,{"$f":"0+'متغیرها '!C718","v":-30},{"$f":"DN715+'متغیرها '!C719","v":20},33,null,"نصف جلو کارور",{"$f":"'متغیرها '!C728*G168","v":0.80002271999999996},null,{"$f":"DX705","v":18.370155638052665},{"$f":"DY705","v":65.779896697189756},25,null,{"$f":"DX719+DY728","v":-20.345990292317886},{"$f":"DY719+DY729","v":55.007939095765607},15,null,null,null,null,null,-24.808,36.207045895481279,40,null,"(p4 → p6)",{"$f":"0.9*EO717","v":1.6155422765194791},null,{"$f":"0+EO724","v":0},{"$f":"0+EO725","v":0},"p1",null,{"$f":"EQ729+EO729","v":20.487080947452526},{"$f":"ER729+EO730","v":44.004990642181909},23,null,{"$f":"EQ697+EO729","v":3.6397516121211382},{"$f":"ER697+EO730","v":42.453581636276184},8]
[null,null,null,null,null,null,null,{"$f":"ATAN((H705-H704)/(G705-G704))","v":0.81195231836184401},"m11",null,null,null,null,null,null,{"$f":"ATAN((P705-P704)/(O705-O704))","v":0.8069967130093173},"m11",null,null,null,null,null,null,{"$f":"ATAN((X705-X704)/(W705-W704))","v":0.82377978517535999},"m11",null,null,null,null,null,{"$f":"BW113-'متغیرها '!C51","v":7.5161278599845964},{"$f":"BX113-'متغیرها '!C52","v":138.70353910958187},"e7",null,-3.3405012711042659,132.41708606643653,"قرینه 28",null,null,null,null,null,null,null,null,null,null,null,null,null,null,null,null,null,null,null,null,null,null,null,null,null,{"$f":"-BK717","v":-8.3484212811923726},{"$f":"BL104-'متغیرها '!C54","v":139.03229312467974},"23قرینه",null,null,null,null,null,null,null,null,"خروجی",null,null,null,null,null,null,null,null,null,null,{"$f":"CG722-CH710*SIN(CH713)","v":9.2643196375789003},{"$f":"CH722+CH710*COS(CH713)","v":44.614128676223658},6,null,{"$f":"CG720","v":3.6397516121211382},{"$f":"CH720","v":40},{"$f":"CI720","v":3},null,null,null,null,null,{"$f":"CS685","v":-9.0720123044947876},{"$f":"CT685","v":30.545962741818173},{"$f":"CU685","v":"قرینه5"},null,null,null,null,null,{"$f":"CW716","v":14.949533765786787},{"$f":"CX716","v":25},21,null,null,null,null,null,null,null,null,null,null,null,null,null,{"$f":"0+'متغیرها '!C718","v":-30},{"$f":"DN679+'متغیرها '!C719","v":51.394195217002903},3,null,"محاسبات کلاه ملوانی ",null,null,null,null,null,null,{"$f":"DX720+DY728","v":-13.041579817626115},{"$f":"DY720+DY729","v":84.950240648200122},17,null,null,null,null,null,-26.105999999999998,57.09969521700291,41,null,"(p3 → p2)",{"$f":"SQRT(POWER((EO717-EO722),2)+POWER((EO719),2))+SQRT(POWER((EO722-EO721),2)+POWER((EO720-EO719),2))+SQRT(POWER((EO721),2)+POWER((EO718-EO720),2))","v":12.437775167000975},null,{"$f":"0+EO724","v":0},{"$f":"EO717+EO725","v":1.7950469739105324},"p3",null,null,null,"پایه مستطیل",null,{"$f":"EQ698+EO729","v":7.8382088694091143},{"$f":"ER698+EO730","v":41.868594915323762},12]
[null,null,null,null,null,null,null,{"$f":"(H687-H721)*RADIANS(10)","v":0.22689280275926285},"m13",null,{"$f":"G708","v":0},{"$f":"H708","v":131.36934389257897},"m9",null,null,{"$f":"(P687-P721)*RADIANS(10)","v":0.20943951023931956},"m13",null,{"$f":"O708","v":-1.6799399999999998},{"$f":"P708","v":131.36934389257897},"m9",null,null,{"$f":"(X687-X721)*RADIANS(10)","v":0.13962634015954636},"m13",null,{"$f":"W708","v":0},{"$f":"X708","v":131.36934389257897},"m9",null,{"$f":"BS116-'متغیرها '!C51","v":-1.6799399999999998},{"$f":"BT116-'متغیرها '!C52","v":109.42},"e1",null,-6.6810025422085317,136.60805476186675,"قرینه 30",null,null,null,null,null,null,null,null,null,null,null,null,null,null,null,null,null,null,null,null,null,null,null,null,null,null,null,null,null,null,null,null,null,null,null,null,"مولفه افقی","مولفه عمودی","اسم نقطه ",0,{"$f":"BW707","v":19.316216462203858},27,null,null,null,null,null,{"$f":"CG726+0.34*CH715*COS(CH712)","v":22.072006052525715},{"$f":"CH722+'متغیرها '!C743*CH707","v":37.565104322975479},7,null,{"$f":"CG722","v":9.0960339837747881},{"$f":"CH722","v":39.808913040363642},{"$f":"CI722","v":5},null,null,null,null,null,{"$f":"CS698","v":-8.7514682020107646},{"$f":"CT698","v":33.735336291920376},{"$f":"CU698","v":"قرینه6"},null,null,null,null,null,null,null,null,null,null,null,null,null,null,null,null,null,"انحنا جلو صورت",null,null,null,null,null,null,null,"(1 → 16)",{"$f":"DV692+(K114-(1-'متغیرها '!C726)*H124)*COS(DY678+DY679)+('متغیرها '!C66*(2*H129+H130)+AA146)*SIN(DY678+DY679)","v":64.950240648200122},null,null,null,null,null,null,null,null,null,null,null,null,null,null,null,null,null,"شیفت افقی پایه",{"$f":"'متغیرها '!C179","v":0},null,null,null," یفه دوبل",null,{"$f":"EQ711+EO729","v":0.49948800440331809},{"$f":"ER711+EO730","v":42.453581636276184},27,null,{"$f":"EN745+EO729","v":16.154375560553529},{"$f":"EO745+EO730","v":40.274326312932928},30]
[null,null,null,null,null,null,null,{"$f":"ATAN((H730-H729)/(G730-G729))","v":1.3319474823397239},"m16",null,{"$f":"G684","v":0},{"$f":"H684","v":131.36934389257897},26,null,null,{"$f":"ATAN((P730-P729)/(O730-O729))","v":1.2213130081393375},"m16",null,{"$f":"O684","v":0},{"$f":"P684","v":131.36934389257897},26,null,null,{"$f":"ATAN((X730-X729)/(W730-W729))","v":1.3462482279603776},"m16",null,{"$f":"W684","v":0},{"$f":"X684","v":131.36934389257897},26,null,null,null,null,null,-8.3512531777606629,141.84676563115454,"قرینه 25",null,null,null,null,null,null,null,null,null,null,null,null,null,null,null,null,null,null,null,null,null,null,null,null,null,null,null,null,null,null,null,null,null,null,null,null,{"$f":"CC692-BW677","v":0},{"$f":"CD692-BW680-BW678","v":-0.33513634644369361},35,{"$f":"BW708","v":17.781166143077854},{"$f":"BW707","v":19.316216462203858},28,null,null,null,null,null,{"$f":"CG722+0.33*CH715*COS(0.6*CH711)","v":13.425027253038316},{"$f":"CH722+0.33*CH715*SIN(0.6*CH711)","v":39.360875296875392},8,null,{"$f":"CG725","v":13.425027253038316},39.360875296875392,8,null,null,null,null,null,null,null,null,null,null,null,null,null,{"$f":"CW715","v":0},{"$f":"CX715","v":27.564352819872191},20,null,null,null,null,null,null,null,null,null,"نقاط  ورودی ",null,null,null,{"$f":"0+'متغیرها '!C718","v":-30},{"$f":"0+'متغیرها '!C719","v":20},1,null,"(16 → 17)",{"$f":"DV693+(K114-(1-'متغیرها '!C726)*H124)*SIN(DY678+DY679)-('متغیرها '!C66*(2*H129+H130)+AA146)*COS(DY678+DY679)","v":16.958420182373885},null,null,null,null,null,{"$f":"EB723","v":-13.041579817626115},{"$f":"EC723","v":84.950240648200122},17,null,null,null,null,null,null,null,null,null,"شیفت عمودی پایه",{"$f":"'متغیرها '!C180","v":0},null,{"$f":"EQ708","v":14.297501823311102},{"$f":"ER708","v":8.675470171826225},19,null,{"$f":"EQ697+EO729","v":3.6397516121211382},{"$f":"ER697+EO730","v":42.453581636276184},8]
[null,null,null,null,null,null,null,null,null,null,{"$f":"G683","v":-1.6799399999999998},{"$f":"H683","v":131.36934389257897},"26'",null,null,null,null,null,{"$f":"O683","v":-1.6799399999999998},{"$f":"P683","v":131.36934389257897},"26'",null,null,null,null,null,{"$f":"W683","v":-1.6799399999999998},{"$f":"X683","v":131.36934389257897},"26'",null,null,null,null,null,null,null,null,null,null,null,null,null,null,null,null,null,null,null,null,null,null,null,null,null,null,null,null,null,null,null,null,null,null,null,null,null,null,null,null,null,null,null,null,{"$f":"BV725+0.4*(CC704-BW677-BV725)","v":6.2469534056974716},{"$f":"BW725+0.1*(CD704-BW678-BW725)","v":0.47505673909754165},36,null,null,null,null,null,null,null,null,{"$f":"CG725+0.33*CH715*COS(CH711)","v":17.713013205238074},{"$f":"CH725+0.33*CH715*SIN(CH711)","v":38.616498363691349},9,null,17.713013205238074,38.616498363691349,9,null,null,null,null,null,null,null,null,null,null,null,null,null,{"$f":"CW714","v":0},{"$f":"CX714","v":25},19,null,null,null,null,null,null,null,null,null,"مولفه افقی","مولفه عمودی","اسم نقطه ",null,{"$f":"-DN713+'متغیرها '!C718","v":-30},{"$f":"0+'متغیرها '!C719","v":20},31,null,"(1 → 20)",{"$f":"DV692+K144*COS(DY678+DY679)+('متغیرها '!C66*(2*H129+H130)+AA146)*SIN(DY678+DY679)","v":46.311718245340487},null,null,null,null,null,{"$f":"DX721+DY728","v":-12.309192294281576},{"$f":"DY721+DY729","v":86.202416210762081},27,null,null,null,null,null,null,null,null,null,"محاسبه ای",null,null,{"$f":"FF708","v":20.573401790879799},{"$f":"FG708","v":7.2303324207182236},"19'",null,{"$f":"EQ698+EO729","v":7.8382088694091143},{"$f":"ER698+EO730","v":41.868594915323762},12,null,{"$f":"EN739+EO729","v":0},{"$f":"EO739+EO730","v":30},"p8"]
[null,null,null,null,null,null,null,null,null,null,null,null,null,null,null,null,null,null,null,null,null,null,null,null,null,null,null,null,null,null,null,null,null,null,null,null,null,null,null,null,null,null,null,null,null,null,null,null,null,null,null,null,null,null,null,null,null,null,null,null,null,null,null,null,null,null,null,null,null,null,null,null,null,{"$f":"BV725+0.77*(CC704-BW677-BV725)","v":12.025385305967632},{"$f":"BW725+0.5*(CD704-BW678-BW725)","v":3.7158290812624823},37,0,{"$f":"BW721","v":29.003957769839158},33,null,null,null,null,null,{"$f":"CG724-CH710*SIN(CH712)","v":23.199408680489729},{"$f":"CH724+CH710*COS(CH712)","v":42.239222494657675},14,null,{"$f":"CG724","v":22.072006052525715},{"$f":"CH724","v":37.565104322975479},{"$f":"CI724","v":7},null,null,null,null,null,null,null,null,null,null,null,null,null,null,null,null,null,null,null,null,null,null,null,null,null,{"$f":"DQ725","v":-30},{"$f":"DR725","v":20},1,null,null,null,null,null,"(20 → 21)",{"$f":"DV693+K144*SIN(DY678+DY679)-('متغیرها '!C66*(2*H129+H130)+AA146)*COS(DY678+DY679)","v":5.366216770045753},null,null,null,null,null,null,null,null,null,null,null,null,null,null,null,null,null,"(5 → 15)",{"$f":"EO694+SQRT(POWER((EQ697-EQ698),2)+POWER((ER697-ER698),2))+SQRT(POWER((EQ698-EQ699),2)+POWER((ER698-ER699),2))+SQRT(POWER((EQ699-EQ700),2)+POWER((ER699-ER700),2))","v":12.937263171404293},null,null,null,null,null,{"$f":"EN745+EO729","v":16.154375560553529},{"$f":"EO745+EO730","v":40.274326312932928},30,null,{"$f":"EN741+EO729","v":0},{"$f":"EO741+EO730","v":31.795046973910534},"p10"]
[null,null,null,null,null,null,"نقاط  خروجی برگردان",null,null,null,{"$f":"K702","v":0},{"$f":"L702","v":131.36934389257897},"قرینهm9",null,"نقاط  خروجی برگردان",null,null,null,{"$f":"S702","v":1.6799399999999998},{"$f":"T702","v":131.36934389257897},"قرینهm9",null,"نقاط  خروجی برگردان",null,null,null,{"$f":"AA702","v":0},{"$f":"AB702","v":131.36934389257897},"قرینهm9",null,null,null,null,null,null,null,null,null,null,null,null,null,null,null,null,null,null,null,null,null,null,null,null,null,null,null,null,null,null,null,null,null,null,null,null,null,null,null,null,null,null,null,null,null,null,null,{"$f":"BW722","v":10.434257784235538},{"$f":"BW721","v":29.003957769839158},34,null,null,null,null,null,{"$f":"CG724-'متغیرها '!C745*CH707*SIN(CH712-RADIANS('متغیرها '!C744))","v":25.903236247305269},{"$f":"CH724+'متغیرها '!C745*CH707*COS(CH712-RADIANS('متغیرها '!C744))","v":44.603534632207399},15,null,null,null,null,null,null,null,null,null,null,null,null,null,null,null,null,null,null,null,null,null,null,null,null,null,null,null,null,null,{"$f":"DQ723","v":-30},{"$f":"DR723","v":51.394195217002903},3,null,{"$f":"DQ726","v":-30},{"$f":"DR726","v":20},31,null,"(1 → 24)",{"$f":"DV730-DV722*SIN(DY678+DY679)","v":65.779896697189756},null,"شیفت افثی کلاه",{"$f":"'متغیرها '!C718","v":-30},null,null,{"$f":"EB726","v":-12.309192294281576},{"$f":"EC726","v":86.202416210762081},27,null,null,null,null,null,null,null,null,null,"(4 → 15)",{"$f":"EO694+SQRT(POWER((EO695-EO699),2)+POWER((EO698-EO694),2))+SQRT(POWER((EO699-EO703),2)+POWER((EO702-EO698),2))","v":12.167941279135697},null,{"$f":"FF708","v":20.573401790879799},{"$f":"FG708","v":7.2303324207182236},"19'"]
[null,null,null,null,null,null,{"$f":"G704+H720*SIN(H723-RADIANS(H722))","v":5.0275829494221451},{"$f":"H704-H720*COS(H723-RADIANS(H722))","v":123.17196143473066},"m12",null,{"$f":"G684","v":0},{"$f":"H684","v":131.36934389257897},26,null,{"$f":"O704+P720*SIN(P723-RADIANS(P722))","v":4.7770744312473514},{"$f":"P704-P720*COS(P723-RADIANS(P722))","v":126.99663522159803},"m12",null,{"$f":"O684","v":0},{"$f":"P684","v":131.36934389257897},26,null,{"$f":"W704+X720*SIN(X723-RADIANS(X722))","v":5.1241833103397569},{"$f":"X704-X720*COS(X723-RADIANS(X722))","v":123.2319969738594},"m12",null,{"$f":"W684","v":0},{"$f":"X684","v":131.36934389257897},26,null,null,null,null,null,null,null,null,null,null,null,null,null,null,null,null,null,null,null,null,null,null,null,null,null,null,null,null,null,null,null,null,null,null,null,null,null,null,null,null,null,null,null,null,null,null,null,null,"گرد",null,null,null,null,null,null,null,null,null,null,{"$f":"-(CG728-CG718)+CG718","v":-25.903236247305269},{"$f":"CH728","v":44.603534632207399},"قرینه15",null,null,null,null,null,null,null,null,null,null,null,null,null,null,null,null,null,null,null,null,null,null,null,null,null,{"$f":"DQ680","v":-19.97},{"$f":"DR680","v":51.836695217002905},5,null,{"$f":"-DN713+'متغیرها '!C718","v":-30},{"$f":"DN714+'متغیرها '!C719","v":20},32,null,"(24 → 25)",{"$f":"DV731+DV722*COS(DY678+DY679)","v":18.370155638052665},null,"شیفت عمودی کلاه",{"$f":"'متغیرها '!C719","v":20},null,null,{"$f":"DX722+DY728","v":-11.629844361947335},{"$f":"DY722+DY729","v":85.779896697189756},25,null,null,null,null,null,null,null,null,null,"شیفت افقی یقه",{"$f":"'متغیرها '!C705","v":0},null,{"$f":"EQ709","v":20.487080947452526},{"$f":"ER709","v":14.004990642181912},23,null,{"$f":"EN739+EO729","v":0},{"$f":"EO739+EO730","v":30},"p8",null,{"$f":"EN740+EO729","v":14.332234539870937},{"$f":"EO740+EO730","v":27.421835975871389},"p9"]
[null,null,null,null,null,null,{"$f":"G701+H719*SIN(H693+H724)","v":9.2886407173880201},{"$f":"H701-H719*COS(H693+H724)","v":140.67139104076026},"m14",null,{"$f":"-G683","v":1.6799399999999998},{"$f":"H683","v":131.36934389257897},"قرینه 26'",null,{"$f":"O701+P719*SIN(P693+P724)","v":9.579695868979659},{"$f":"P701-P719*COS(P693+P724)","v":140.17460929952256},"m14",null,{"$f":"-O683","v":1.6799399999999998},{"$f":"P683","v":131.36934389257897},"قرینه 26'",null,{"$f":"W701+X719*SIN(X693+X724)","v":9.020419928818102},{"$f":"X701-X719*COS(X693+X724)","v":140.29083781629447},"m14",null,{"$f":"-W683","v":1.6799399999999998},{"$f":"X683","v":131.36934389257897},"قرینه 26'",null,null,null,null,null,null,null,null,null,null,null,null,null,null,null,null,null,null,null,null,null,null,null,null,null,null,null,null,null,null,null,null,null,null,null,null,null,null,null,null,null,null,null,null,null,null,null,0,{"$f":"BW717","v":24.094222989323605},29,null,null,null,null,null,null,null,null,null,{"$f":"-(CG723-CG718)+CG718","v":-9.2643196375789003},{"$f":"CH723","v":44.614128676223658},"قرینه6",null,null,null,null,null,null,null,null,null,null,null,null,null,null,null,null,null,null,null,null,null,null,null,null,null,{"$f":"DQ710","v":-3.4499999999999993},{"$f":"DR710","v":70.195790640409456},29,null,null,null,null,null,"(1 → 26)",{"$f":"DV726+(G165+DV721-K144)*COS(DY678+DY679)","v":66.202416210762081},null,null,null,null,null,null,null,null,null,null,null,null,null,null,null,null,null,"شیفت عمودی یقه ",{"$f":"'متغیرها '!C706","v":30},null,null,null,null,null,{"$f":"EN741+EO729","v":0},{"$f":"EO741+EO730","v":31.795046973910534},"p10",null,{"$f":"EN744+EO729","v":16.244650051070277},{"$f":"EO744+EO730","v":28.953824209683731},"p13"]
[null,null,null,null,null,null,{"$f":"G729+0.8*(G730-G729)","v":8.4364291637948448},{"$f":"H729+0.7*(G730-G729)*TAN(H725)","v":135.42156215895139},"m15",null,null,null,"گرد",null,{"$f":"O729+0.8*(O730-O729)","v":8.6191715814331982},{"$f":"P729+0.7*(O730-O729)*TAN(P725)","v":136.22121707614519},"m15",null,null,null,"گرد",null,{"$f":"W729+0.8*(W730-W729)","v":8.2411726051224328},{"$f":"X729+0.7*(W730-W729)*TAN(X725)","v":135.17318556356395},"m15",null,null,null,"گرد",null,null,null,null,null,null,null,null,null,null,null,null,null,null,null,null,null,null,null,null,null,null,null,null,null,null,null,null,null,null,null,null,null,null,null,null,null,null,null,null,null,null,null,null,null,null,null,{"$f":"BW718","v":15.219787707255772},{"$f":"BW717","v":24.094222989323605},30,null,null,null,null,null,null,null,null,null,{"$f":"-(CG721-CG718)+CG718","v":-3.6397516121211382},{"$f":"CH721","v":44.808161537260354},"قرینه4",null,null,null,null,null,null,null,null,null,null,null,null,null,null,null,null,null,null,null,null,null,null,null,null,null,{"$f":"DQ711","v":-8.9075000000000024},{"$f":"DR711","v":70.195790640409456},30,null,{"$f":"DQ728","v":-30},{"$f":"DR728","v":20},31,null,"(26 → 27)",{"$f":"G163-(G163+'متغیرها '!C66*(2*H129+H130))*COS(DY678+DY679)+(G165+DV721)*SIN(DY678+DY679)","v":17.690807705718424},null,null,null,null,null,null,null,null,null,null,null,null,null,null,null,null,null,"پایه مستطیل یقه انگلیسی "]
[null,null,null,null,null,null,null,null,null,null,{"$f":"AY679","v":8.3512531777606629},141.84676563115454,25,null,null,null,null,null,{"$f":"AY679","v":8.3512531777606629},141.84676563115454,25,null,null,null,null,null,{"$f":"AY679","v":8.3512531777606629},141.84676563115454,25,null,null,null,null,null,null,null,null,null,null,null,null,null,null,null,null,null,null,null,null,null,null,null,null,null,null,null,null,null,null,null,null,null,null,null,null,null,null,null,null,null,null,null,null,null,null,null,null,null,null,null,null,null,null,null,null,null,null,null,{"$f":"CG719","v":0},{"$f":"CH719","v":44.808161537260354},{"$f":"CI719","v":2},null,null,null,null,null,null,null,null,null,null,null,null,null,null,null,null,null,null,null,null,null,null,null,null,null,"متغیرهای ورودی",null,null,null,{"$f":"DQ734-0.15*(DR734-DR731)","v":-30},{"$f":"DR731+0.2*(DR734-DR731)","v":20},"32'",null,null,null,null,null,null,null,null,null,null,null,null,null,null,null,null,null,null,null,null,"(p8→p9)",{"$f":"FC678+O247+H247*H124","v":14.67165627283744},null,null,null,null,null,{"$f":"EN740+EO729","v":14.332234539870937},{"$f":"EO740+EO730","v":27.421835975871389},"p9",null,{"$f":"EN739+EO729","v":0},{"$f":"EO739+EO730","v":30},"p8"]
[null,null,null,null,null,null,null,null,null,null,6.6810025422085317,136.60805476186675,30,null,null,null,null,null,6.6810025422085317,136.60805476186675,30,null,null,null,null,null,6.6810025422085317,136.60805476186675,30,null,null,null,null,null,null,null,null,null,null,null,null,null,null,null,null,null,null,null,null,null,null,null,null,null,null,null,null,null,null,null,null,null,null,null,null,null,null,null,null,null,null,null,null,null,null,null,0,{"$f":"BW719","v":25.420794712826694},31,null,null,null,null,null,null,null,null,null,{"$f":"CG721","v":3.6397516121211382},{"$f":"CH721","v":44.808161537260354},{"$f":"CI721","v":4},null,null,null,null,null,null,null,null,null,null,null,null,null,null,null,null,null,null,null,null,null,null,null,null,null,"a",{"$f":"'متغیرها '!$C$713","v":0.2},null,null,{"$f":"DQ734-0.15*(DR734-DR731)","v":-30},{"$f":"DR731+0.7*(DR734-DR731)","v":20},"32''",null,null,null,null,null,null,null,null,null,null,null,null,null,null,null,null,null,null,null,null,"(p8→p10)",{"$f":"EO717","v":1.7950469739105324},null,null,null,null,null,{"$f":"EN744+EO729","v":16.244650051070277},{"$f":"EO744+EO730","v":28.953824209683731},"p13",null,{"$f":"EN742+EO729","v":4.7103954115767301},{"$f":"EO742+EO730","v":30},"p11"]
[null,null,null,null,null,null,null,null,null,null,3.3405012711042659,132.41708606643653,28,null,null,null,null,null,3.3405012711042659,132.41708606643653,28,null,null,null,null,null,3.3405012711042659,132.41708606643653,28,null,null,null,null,null,null,null,null,null,null,null,null,null,null,null,null,null,null,null,null,null,null,null,null,null,null,null,null,null,null,null,null,null,null,null,null,null,null,null,null,null,null,null,null,null,null,null,{"$f":"BW720","v":10.591571050205756},{"$f":"BW719","v":25.420794712826694},32,null,null,null,null,null,null,null,null,null,{"$f":"CG723","v":9.2643196375789003},{"$f":"CH723","v":44.614128676223658},{"$f":"CI723","v":6},null,null,null,null,null,null,null,null,null,null,null,null,null,null,null,null,null,null,null,null,null,null,null,null,null,"b",{"$f":"'متغیرها '!$C$714","v":0.4},null,null,{"$f":"DQ729","v":-30},{"$f":"DR729","v":20},32,null,null,null,null,null,null,null,null,null,null,null,null,null,null,null,null,null,null,null,null,"(p8→p11)",{"$f":"SQRT(POWER((EN679-FF692),2)+POWER((EO679-FG692),2))*1.5","v":4.7103954115767301},null,null,"γ11",{"$f":"'متغیرها '!C150","v":2},null,null,null,null,null,{"$f":"EN740+EO729","v":14.332234539870937},{"$f":"EO740+EO730","v":27.421835975871389},"p9"]
[null,null,null,null,null,null,null,null,null,null,{"$f":"AY682","v":0},131.36934389257897,26,null,null,null,null,null,{"$f":"AY682","v":0},131.36934389257897,26,null,null,null,null,null,{"$f":"AY682","v":0},131.36934389257897,26,null,null,null,null,null,null,null,null,null,null,null,null,null,null,null,null,null,null,null,null,null,null,null,null,null,null,null,null,null,null,null,null,null,null,null,null,null,null,null,null,null,null,null,null,null,null,null,null,null,null,null,null,null,null,null,null,null,null,null,{"$f":"CG728","v":25.903236247305269},{"$f":"CH728","v":44.603534632207399},15,null,null,null,null,null,null,null,null,null,null,null,null,null,null,null,null,null,null,null,null,null,null,null,null,null,"c",{"$f":"'متغیرها '!$C$715","v":0.30000000000000004},null,null,null,null,null,null,null,null,null,null,null,null,null,null,null,null,null,null,null,null,null,null,null,null,null,"(p11→p9)",{"$f":"EO732-EO734","v":9.9612608612607101},null,null,"γ12",{"$f":"'متغیرها '!C151","v":4},null,{"$f":"EN739+EO729","v":0},{"$f":"EO739+EO730","v":30},"p8"]
[null,null,null,null,null,null,null,null,null,null,-3.3405012711042659,132.41708606643653,"قرینه 28",null,null,null,null,null,-3.3405012711042659,132.41708606643653,"قرینه 28",null,null,null,null,null,-3.3405012711042659,132.41708606643653,"قرینه 28",null,null,null,null,null,null,null,null,null,null,null,null,null,null,null,null,null,null,null,null,null,null,null,null,null,null,null,null,null,null,null,null,null,null,null,null,null,null,null,null,null,null,null,null,null,null,null,null,null,null,null,null,null,null,null,null,null,null,null,null,null,null,null,null,null,null,null,null,null,null,null,null,null,null,null,null,null,null,null,null,null,null,null,null,null,null,null,"نقاط  خروجی ",null,null,null,{"$f":"-DN718+'متغیرها '!C718","v":-31.679939999999998},{"$f":"0+'متغیرها '!C719","v":20},36,null,null,null,null,null,null,null,null,null,null,null,null,null,null,null,null,null,null,null,null,"(p9→p13)",{"$f":"SQRT(POWER((FF698-FF699),2)+POWER((FG698-FG699),2))*(1-ES742)","v":2.4503716118203966},null,null,"γ13",{"$f":"'متغیرها '!C152","v":0},null,{"$f":"EN742+EO729","v":4.7103954115767301},{"$f":"EO742+EO730","v":30},"p11",null,{"$f":"EN741+EO729","v":0},{"$f":"EO741+EO730","v":31.795046973910534},"p10"]
[null,null,null,null,null,null,null,null,null,null,-6.6810025422085317,136.60805476186675,"قرینه 30",null,null,null,null,null,-6.6810025422085317,136.60805476186675,"قرینه 30",null,null,null,null,null,-6.6810025422085317,136.60805476186675,"قرینه 30",null,null,null,null,null,null,null,null,null,null,null,null,null,null,null,null,null,null,null,null,null,null,null,null,null,null,null,null,null,null,null,null,null,null,null,null,null,null,null,null,null,null,null,null,null,null,null,null,null,null,null,null,null,null,null,null,null,null,null,{"$f":"CG724","v":22.072006052525715},{"$f":"CH724","v":37.565104322975479},{"$f":"CI724","v":7},null,null,null,null,null,null,null,null,null,null,null,null,null,null,null,null,null,null,null,null,null,null,null,null,null,"مولفه افقی","مولفه عمودی","اسم نقطه ",null,{"$f":"DQ736","v":-31.679939999999998},{"$f":"DN719+'متغیرها '!C719","v":20},37,null,null,null,null,null,null,null,null,null,null,null,null,null,null,null,null,null,null,null,null,null,null,null,null,"γ14",{"$f":"'متغیرها '!C153","v":1.18},null,{"$f":"EN740+EO729","v":14.332234539870937},{"$f":"EO740+EO730","v":27.421835975871389},"p9",null,{"$f":"EN743+EO729","v":4.7103954115767301},{"$f":"EO743+EO730","v":31.795046973910534},"p12"]
[null,null,null,null,null,null,null,null,null,null,-8.3512531777606629,141.84676563115454,"قرینه 25",null,null,null,null,null,-8.3512531777606629,141.84676563115454,"قرینه 25",null,null,null,null,null,-8.3512531777606629,141.84676563115454,"قرینه 25",null,null,null,null,null,null,null,null,null,null,null,null,null,null,null,null,null,null,null,null,null,null,null,null,null,null,null,null,null,null,null,null,null,null,null,null,null,null,null,null,null,null,null,null,null,null,null,null,null,null,null,null,null,null,null,null,null,null,null,{"$f":"CG728","v":25.903236247305269},{"$f":"CH728","v":44.603534632207399},15,null,null,null,null,null,null,null,null,null,null,null,null,null,null,null,null,null,null,null,null,null,null,null,null,null,{"$f":"DM727","v":-30},{"$f":"DN727+DN733*(DN728-DN727)","v":26.278839043400581},38,null,null,null,"انحنا جلو صورت",null,null,null,null,null,null,null,null,null,null,null,null,null,null,null,null,null,null,null,null,"مولفه افقی","مولفه عمودی","اسم نقطه ",null,"γ15",{"$f":"'متغیرها '!C154","v":0.5},null,null,null,null,null,{"$f":"EN744+EO729","v":16.244650051070277},{"$f":"EO744+EO730","v":28.953824209683731},"p13"]
[null,null,null,null,null,null,null,null,null,null,null,null,null,null,null,null,null,null,null,null,null,null,null,null,null,null,null,null,null,null,null,null,null,null,null,null,null,null,null,null,null,null,null,null,null,null,null,null,null,null,null,null,null,null,null,null,null,null,null,null,null,null,null,null,null,null,null,null,null,null,null,null,null,null,null,null,null,null,null,null,null,null,null,null,null,null,null,null,null,null,null,null,null,null,null,null,null,null,null,null,null,null,null,null,null,null,null,null,null,null,null,null,null,null,null,null,{"$f":"DM738+0.7*(DM740-DM738)","v":-27.191600000000001},{"$f":"DN738+0.1*(DN728-DN738)","v":28.790374660760811},39,null,{"$f":"DM738","v":-30},26.278839043400581,38,null,null,null,null,null,null,null,null,null,null,null,null,null,null,null,null,null,null,null,null,{"$f":"EQ719+ES744","v":0},{"$f":"ER719+ES743","v":0},"p8",null,"γ16",{"$f":"'متغیرها '!C155","v":0.6},null,{"$f":"EN741+EO729","v":0},{"$f":"EO741+EO730","v":31.795046973910534},"p10"]
[null,null,null,null,null,null,null,null,null,null,null,null,null,null,null,null,null,null,null,null,null,null,null,null,null,null,null,null,null,null,null,null,null,null,null,null,null,null,null,null,null,null,null,null,null,null,null,null,null,null,null,null,null,null,null,null,null,null,null,null,null,null,null,null,null,null,null,null,null,null,null,null,null,null,null,null,null,null,null,null,null,null,null,null,null,null,null,null,{"$f":"-(CG724-CG718)+CG718","v":-22.072006052525715},{"$f":"CH724","v":37.565104322975479},"قرینه7",null,null,null,null,null,null,null,null,null,null,null,null,null,null,null,null,null,null,null,null,null,null,null,null,null,{"$f":"DM727+DN734*(DM729-DM727)","v":-25.988},{"$f":"DN738+0.3*(DN728-DN738)","v":33.81344589548128},40,null,-27.191600000000001,28.790374660760811,39,null,null,null,null,null,null,null,null,null,null,null,null,null,null,null,null,null,null,null,null,{"$f":"EN742+EO735*COS(RADIANS(ES741))","v":14.332234539870937},{"$f":"EO742+EO735*SIN(RADIANS(ES741))","v":-2.5781640241286103},"p9",null,"γ17",{"$f":"'متغیرها '!C156","v":0.7},null,{"$f":"EN743+EO729","v":4.7103954115767301},{"$f":"EO743+EO730","v":31.795046973910534},"p12"]
[null,null,null,null,null,null,null,null,null,null,null,null,null,null,null,null,null,null,null,null,null,null,null,null,null,null,null,null,null,null,null,null,null,null,null,null,null,null,null,null,null,null,null,null,null,null,null,null,null,null,null,null,null,null,null,null,null,null,null,null,null,null,null,null,null,null,null,null,null,null,null,null,null,null,null,null,null,null,null,null,null,null,null,null,null,null,null,null,{"$f":"CK729","v":-25.903236247305269},{"$f":"CL729","v":44.603534632207399},"قرینه15",null,null,null,null,null,null,null,null,null,null,null,null,null,null,null,null,null,null,null,null,null,null,null,null,null,{"$f":"DM727+DN735*(DM729-DM727)","v":-26.991},{"$f":"DN728+(DM741-DM728)*(DN729-DN728)/(DM729-DM728)","v":51.526945217002904},41,null,-25.988,33.81344589548128,40,null,null,null,null,null,null,null,null,null,null,null,null,null,null,null,null,null,null,null,null,{"$f":"EN739","v":0},{"$f":"EO739+EO733","v":1.7950469739105324},"p10",null,"γ18",{"$f":"'متغیرها '!C157","v":-15},null,{"$f":"EN744+EO729","v":16.244650051070277},{"$f":"EO744+EO730","v":28.953824209683731},"p13"]
[null,null,null,null,null,null,null,null,null,null,null,null,null,null,null,null,null,null,null,null,null,null,null,null,null,null,null,null,null,null,null,null,null,null,null,null,null,null,null,null,null,null,null,null,null,null,null,null,null,null,null,null,null,null,null,null,null,null,null,null,null,null,null,null,null,null,null,null,null,null,null,null,null,null,null,null,null,null,null,null,null,null,null,null,null,null,null,null,null,null,null,null,null,null,null,null,null,null,null,null,null,null,null,null,null,null,null,null,null,null,null,null,null,null,null,null,{"$f":"DM730","v":-3.4499999999999993},{"$f":"DN730-DM741+DM728","v":67.186790640409455},42,null,-26.991,51.526945217002904,41,null,null,null,null,null,null,null,null,null,null,null,null,null,null,null,null,null,null,null,null,{"$f":"EN739+EO734","v":4.7103954115767301},{"$f":"EO739","v":0},"p11",null,"γ19",{"$f":"'متغیرها '!C158","v":0.7}]
[null,null,null,null,null,null,null,null,null,null,null,null,null,null,null,null,null,null,null,null,null,null,null,null,null,null,null,null,null,null,null,null,null,null,null,null,null,null,null,null,null,null,null,null,null,null,null,null,null,null,null,null,null,null,null,null,null,null,null,null,null,null,null,null,null,null,null,null,null,null,null,null,null,null,null,null,null,null,null,null,null,null,null,null,null,null,null,null,null,null,null,null,null,null,null,null,null,null,null,null,null,null,null,null,null,null,null,null,null,null,null,null,null,null,null,null,{"$f":"DM731","v":-8.9075000000000024},{"$f":"DN742","v":67.186790640409455},43,null,null,null,null,null,null,null,null,null,null,null,null,null,null,null,null,null,null,null,null,null,null,null,null,{"$f":"EN742","v":4.7103954115767301},{"$f":"EO741","v":1.7950469739105324},"p12",null,"γ20",{"$f":"'متغیرها '!C160","v":0}]
[null,null,null,null,null,null,null,null,null,null,null,null,null,null,null,null,null,null,null,null,null,null,null,null,null,null,null,null,null,null,null,null,null,null,null,null,null,null,null,null,null,null,null,null,null,null,null,null,null,null,null,null,null,null,null,null,null,null,null,null,null,null,null,null,null,null,null,null,null,null,null,null,null,null,null,null,null,null,null,null,null,null,null,null,null,null,null,null,null,null,null,null,null,null,null,null,null,null,null,null,null,null,null,null,null,null,null,null,null,null,null,null,null,null,null,null,null,null,null,null,{"$f":"DM742","v":-3.4499999999999993},{"$f":"DN742","v":67.186790640409455},42,null,null,null,null,null,null,null,null,null,null,null,null,null,null,null,null,null,null,null,null,{"$f":"EN740-EO736*COS(RADIANS(90)+O244+O245-RADIANS(ES741))","v":16.244650051070277},{"$f":"EO740+EO736*SIN(RADIANS(90)+O244+O245-RADIANS(ES741))","v":-1.0461757903162692},"p13",null,"γ21",{"$f":"'متغیرها '!C161","v":0}]
[null,null,null,null,null,null,null,null,null,null,null,null,null,null,null,null,null,null,null,null,null,null,null,null,null,null,null,null,null,null,null,null,null,null,null,null,null,null,null,null,null,null,null,null,null,null,null,null,null,null,null,null,null,null,null,null,null,null,null,null,null,null,null,null,null,null,null,null,null,null,null,null,null,null,null,null,null,null,null,null,null,null,null,null,null,null,null,null,null,null,null,null,null,null,null,null,null,null,null,null,null,null,null,null,null,null,null,null,null,null,null,null,null,null,null,null,null,null,null,null,{"$f":"DM743","v":-8.9075000000000024},{"$f":"DN743","v":67.186790640409455},43,null,null,null,null,null,null,null,null,null,null,null,null,null,null,null,null,null,null,null,null,{"$f":"EQ725+EO736*COS(RADIANS(90)-O245-2*O244)","v":16.154375560553529},{"$f":"ER725+EO736*SIN(RADIANS(90)-O245-2*O244)","v":10.274326312932931},30]

{"sheet":"متغیرها ","index":2,"n_rows":751,"n_cols":149,"rows_kept":751,"cut":false,"hidden":true,"merged":[]}
[]
[]
["متغیرهای ورودی چادر",null,null,null,"تبدیل رنج متغیر ورودی","توضیح متغیر ورودی برای صفحه نمایش"]
[" متغیر ورودی چادر شماره 1 یا مقنعه ",null,null,null,null," متغیر ورودی چادر شماره 1 یا مقنعه ","x1","y1","x2","y2(بهینه)","a","b",null,"کمترین",null,"بیشترین",null,null,null,null,"انتخاب ستون سلول مرجع برای انتخاب سایز در رسم الگو","انتخاب نوع الگو","انتخاب نوع اندازه گیری","اندازه جدید یا اندازه موجود","انتخاب ستون سلول مرجع برای انتخاب سایز در بررسی اندازه ها"]
["ضریب فاصله لبه چادر یا مقنعه تا زمین   j0","(از -0.1 الی 4.5)",{"$f":"K5*E5+L5","v":3},"خط زمین=0 \nخط زانو=1 \nخط باسن=2 \nخط کمر=3 \nخط سینه=4  ",{"$f":"'طراحی همه الگوها'!Q177","v":70},"ضریب فاصله لبه چادر یا مقنعه تا زمین   ",10,0,30,1,{"$f":"(J5-H5)/(I5-G5)","v":0.05},{"$f":"H5-G5*K5","v":-0.5},2,{"$f":"(M5-L5)/K5","v":50},4,{"$f":"(O5-L5)/K5","v":90},3,{"$f":"(Q5-L5)/K5","v":70},null,"سلول مرجع",{"$f":"MATCH('طراحی مدل 30a'!A323,'متغیرها '!AJ51:AJ179,0)","v":90},1,3,2,22]
["انتخاب چادر تا پایین پیشانی=1    انتخاب چادر تا بالای پیشانی=0\nانتخاب چادر روی سر = -1"," -1 یا 0 یا 1",{"$f":"K6*E6+L6","v":0},null,{"$f":"'طراحی همه الگوها'!Q178","v":2},"انتخاب چادر تا پایین پیشانی=3    انتخاب چادر تا بالای پیشانی=2\nانتخاب چادر روی سر = 1",2,0,1,-1,{"$f":"(J6-H6)/(I6-G6)","v":1},{"$f":"H6-G6*K6","v":-2},0,{"$f":"(M6-L6)/K6","v":2},2,{"$f":"(O6-L6)/K6","v":4},1,{"$f":"(Q6-L6)/K6","v":3},null,null," 1ماهه","1 تا 3 ماهه"," 3 تا 6 ماهه","6ماهه تا یکساله","بچگانه 1 ساله","بچگانه 2 ساله","بچگانه 3 ساله","بچگانه 4 ساله","بچگانه 5 ساله","بچگانه 6 ساله","بچگانه 7 ساله","بچگانه 8 ساله","بچگانه 9 ساله","بچگانه 10 ساله","بچگانه 11 ساله","بچگانه 12 ساله","بچگانه 13 ساله","بچگانه 14 ساله","34زنانه","36زنانه","38زنانه","40زنانه","42زنانه","44زنانه","46زنانه","48زنانه","50زنانه","52زنانه","54زنانه","56زنانه","58زنانه","60زنانه","37 مردانه","38 مردانه","39 مردانه","40 مردانه","41 مردانه","42 مردانه","43 مردانه","44 مردانه","45 مردانه","46 مردانه","47 مردانه","48 مردانه","49 مردانه","50 مردانه","6ماهه تا یکساله کت","1ساله کت","2ساله کت","3ساله کت","4ساله کت","5ساله کت","6ساله کت","7ساله کت","8ساله کت","9ساله کت","10ساله کت","11ساله کت","12ساله کت","13ساله کت","14ساله کت","34زنانه کمر پهن","36زنانه کمر پهن","38زنانه کمر پهن","40زنانه کمر پهن","42زنانه کمر پهن","44زنانه کمر پهن","46زنانه کمر پهن","48زنانه کمر پهن","50زنانه کمر پهن","52زنانه کمر پهن","54زنانه کمر پهن","56زنانه کمر پهن","58زنانه کمر پهن","60زنانه کمر پهن","37مردانه کت","38مردانه کت","39مردانه کت","40مردانه کت","41مردانه کت","42مردانه کت","43مردانه کت","44مردانه کت","45مردانه کت","46 مردانه کت","47 مردانه کت","48 مردانه کت","49 مردانه کت","50 مردانه کت",{"$f":"'اندازه های شخصی'!G5","v":"زلیخا ۵ ۹۹"},{"$f":"'اندازه های شخصی'!I5","v":"عنوان 2"},{"$f":"'اندازه های شخصی'!K5","v":"عنوان 3"},{"$f":"'اندازه های شخصی'!M5","v":"عنوان 4"},{"$f":"'اندازه های شخصی'!O5","v":"عنوان 5"},{"$f":"'اندازه های شخصی'!Q5","v":"عنوان 6"},{"$f":"'اندازه های شخصی'!S5","v":"عنوان 7"},{"$f":"'اندازه های شخصی'!U5","v":"عنوان 8"},{"$f":"'اندازه های شخصی'!W5","v":"عنوان 9"},{"$f":"'اندازه های شخصی'!Y5","v":"عنوان 10"},{"$f":"'اندازه های شخصی'!AA5","v":"عنوان 11"},{"$f":"'اندازه های شخصی'!AC5","v":"عنوان 12"},{"$f":"'اندازه های شخصی'!AE5","v":"عنوان 13"},{"$f":"'اندازه های شخصی'!AG5","v":"عنوان 14"},{"$f":"'اندازه های شخصی'!AI5","v":"عنوان 15"},{"$f":"'اندازه های شخصی'!AK5","v":"عنوان 16"},{"$f":"'اندازه های شخصی'!AM5","v":"عنوان 17"},{"$f":"'اندازه های شخصی'!AO5","v":"عنوان 18"},{"$f":"'اندازه های شخصی'!AQ5","v":"عنوان 19"},{"$f":"'اندازه های شخصی'!AS5","v":"عنوان 20"},{"$f":"'اندازه های شخصی'!AU5","v":"عنوان 21"},{"$f":"'اندازه های شخصی'!AW5","v":"عنوان 22"},{"$f":"'اندازه های شخصی'!AY5","v":"عنوان 23"},{"$f":"'اندازه های شخصی'!BA5","v":"عنوان 24"},{"$f":"'اندازه های شخصی'!BC5","v":"عنوان 25"},{"$f":"'اندازه های شخصی'!BE5","v":"عنوان 26"},{"$f":"'اندازه های شخصی'!BG5","v":"عنوان 27"},{"$f":"'اندازه های شخصی'!BI5","v":"عنوان 28"},{"$f":"'اندازه های شخصی'!BK5","v":"عنوان 29"},{"$f":"'اندازه های شخصی'!BM5","v":"عنوان 30"},{"$f":"'اندازه های شخصی'!BO5","v":"عنوان 31"},{"$f":"'اندازه های شخصی'!BQ5","v":"عنوان 32"},{"$f":"'اندازه های شخصی'!BS5","v":"عنوان 33"},{"$f":"'اندازه های شخصی'!BU5","v":"عنوان 34"},{"$f":"'اندازه های شخصی'!BW5","v":"عنوان 35"},{"$f":"'اندازه های شخصی'!BY5","v":"عنوان 36"},{"$f":"'اندازه های شخصی'!CA5","v":"عنوان 37"},{"$f":"'اندازه های شخصی'!CC5","v":"عنوان 38"},{"$f":"'اندازه های شخصی'!CE5","v":"عنوان 39"},{"$f":"'اندازه های شخصی'!CG5","v":"عنوان 40"}]
[null,null,null,null,null,null,null,null,null,null,null,null,null,null,null,null,null,null,null,"a",41,42,45,47,48,49,51,53,55,57,59,61,63,65.5,68,71,73,75,63,65,68,72,77,82,87,92,97,103,110,117,124,131,74,78,82,86,90,94,98,102,106,111,116,121,126,131,47,48,49,51,53,55,57,59,61,63,65.5,68,71,73,75,67,69,72,76,81,86,91,96,101,107,114,121,127,135,75.5,79.599999999999994,83.6,87.7,91.8,95.9,100,104,108.1,113.2,118.3,123.4,128.5,133.6,{"$f":"'اندازه های شخصی'!G8","v":97},{"$f":"'اندازه های شخصی'!I8","v":0},{"$f":"'اندازه های شخصی'!K8","v":0},{"$f":"'اندازه های شخصی'!M8","v":0},{"$f":"'اندازه های شخصی'!O8","v":0},{"$f":"'اندازه های شخصی'!Q8","v":0},{"$f":"'اندازه های شخصی'!S8","v":0},{"$f":"'اندازه های شخصی'!U8","v":0},{"$f":"'اندازه های شخصی'!W8","v":0},{"$f":"'اندازه های شخصی'!Y8","v":0},{"$f":"'اندازه های شخصی'!AA8","v":0},{"$f":"'اندازه های شخصی'!AC8","v":0},{"$f":"'اندازه های شخصی'!AE8","v":0},{"$f":"'اندازه های شخصی'!AG8","v":0},{"$f":"'اندازه های شخصی'!AI8","v":0},{"$f":"'اندازه های شخصی'!AK8","v":0},{"$f":"'اندازه های شخصی'!AM8","v":0},{"$f":"'اندازه های شخصی'!AO8","v":0},{"$f":"'اندازه های شخصی'!AQ8","v":0},{"$f":"'اندازه های شخصی'!AS8","v":0},{"$f":"'اندازه های شخصی'!AU8","v":0},{"$f":"'اندازه های شخصی'!AW8","v":0},{"$f":"'اندازه های شخصی'!AY8","v":0},{"$f":"'اندازه های شخصی'!BA8","v":0},{"$f":"'اندازه های شخصی'!BC8","v":0},{"$f":"'اندازه های شخصی'!BE8","v":0},{"$f":"'اندازه های شخصی'!BG8","v":0},{"$f":"'اندازه های شخصی'!BI8","v":0},{"$f":"'اندازه های شخصی'!BK8","v":0},{"$f":"'اندازه های شخصی'!BM8","v":0},{"$f":"'اندازه های شخصی'!BO8","v":0},{"$f":"'اندازه های شخصی'!BQ8","v":0},{"$f":"'اندازه های شخصی'!BS8","v":0},{"$f":"'اندازه های شخصی'!BU8","v":0},{"$f":"'اندازه های شخصی'!BW8","v":0},{"$f":"'اندازه های شخصی'!BY8","v":0},{"$f":"'اندازه های شخصی'!CA8","v":0},{"$f":"'اندازه های شخصی'!CC8","v":0},{"$f":"'اندازه های شخصی'!CE8","v":0},{"$f":"'اندازه های شخصی'!CG8","v":0}]
[" متغیرهای ورودی چادر شماره 2",null,null,null,null," متغیرهای ورودی چادر شماره 2","x1","y1","x2","y2(بهینه)","a","b",null,"کمترین",null,"بیشترین",null,null,null,"b",20.100000000000001,20.6,22.1,23,23.5,24,25,26,27,27.9,28.9,29.9,30.9,32.1,33.299999999999997,34.799999999999997,35.799999999999997,36.799999999999997,32.200000000000003,32.700000000000003,33.700000000000003,35.200000000000003,36.9,38.700000000000003,40.6,42.3,44.3,47.5,51,54.8,59.2,63.6,37,39,41,43,45,47,49,51,53,55.5,58,60.5,63,65.5,23,23.5,24,25,26,27,27.9,28.9,29.9,30.9,32.1,33.299999999999997,34.799999999999997,35.799999999999997,36.799999999999997,34.200000000000003,34.700000000000003,35.700000000000003,37.1,38.799999999999997,40.6,42.4,44.2,46.1,49.4,52.8,56.7,60.7,64.5,37.799999999999997,39.799999999999997,41.8,43.9,45.9,48,50,52,54.1,56.6,59.2,61.7,64.3,66.8,{"$f":"'اندازه های شخصی'!G9","v":44.6},{"$f":"'اندازه های شخصی'!I9","v":0},{"$f":"'اندازه های شخصی'!K9","v":0},{"$f":"'اندازه های شخصی'!M9","v":0},{"$f":"'اندازه های شخصی'!O9","v":0},{"$f":"'اندازه های شخصی'!Q9","v":0},{"$f":"'اندازه های شخصی'!S9","v":0},{"$f":"'اندازه های شخصی'!U9","v":0},{"$f":"'اندازه های شخصی'!W9","v":0},{"$f":"'اندازه های شخصی'!Y9","v":0},{"$f":"'اندازه های شخصی'!AA9","v":0},{"$f":"'اندازه های شخصی'!AC9","v":0},{"$f":"'اندازه های شخصی'!AE9","v":0},{"$f":"'اندازه های شخصی'!AG9","v":0},{"$f":"'اندازه های شخصی'!AI9","v":0},{"$f":"'اندازه های شخصی'!AK9","v":0},{"$f":"'اندازه های شخصی'!AM9","v":0},{"$f":"'اندازه های شخصی'!AO9","v":0},{"$f":"'اندازه های شخصی'!AQ9","v":0},{"$f":"'اندازه های شخصی'!AS9","v":0},{"$f":"'اندازه های شخصی'!AU9","v":0},{"$f":"'اندازه های شخصی'!AW9","v":0},{"$f":"'اندازه های شخصی'!AY9","v":0},{"$f":"'اندازه های شخصی'!BA9","v":0},{"$f":"'اندازه های شخصی'!BC9","v":0},{"$f":"'اندازه های شخصی'!BE9","v":0},{"$f":"'اندازه های شخصی'!BG9","v":0},{"$f":"'اندازه های شخصی'!BI9","v":0},{"$f":"'اندازه های شخصی'!BK9","v":0},{"$f":"'اندازه های شخصی'!BM9","v":0},{"$f":"'اندازه های شخصی'!BO9","v":0},{"$f":"'اندازه های شخصی'!BQ9","v":0},{"$f":"'اندازه های شخصی'!BS9","v":0},{"$f":"'اندازه های شخصی'!BU9","v":0},{"$f":"'اندازه های شخصی'!BW9","v":0},{"$f":"'اندازه های شخصی'!BY9","v":0},{"$f":"'اندازه های شخصی'!CA9","v":0},{"$f":"'اندازه های شخصی'!CC9","v":0},{"$f":"'اندازه های شخصی'!CE9","v":0},{"$f":"'اندازه های شخصی'!CG9","v":0}]
["ضریب فاصله لبه چادر تا زمین   j0","(از -0.1 الی 0.5)",{"$f":"K9*E9+L9","v":0},"خط زمین=0 \nخط زانو=1  ",{"$f":"'طراحی همه الگوها'!Q188","v":10},"ضریب فاصله لبه چادر تا زمین   ",10,0,30,1,{"$f":"(J9-H9)/(I9-G9)","v":0.05},{"$f":"H9-G9*K9","v":-0.5},-0.1,{"$f":"(M9-L9)/K9","v":8},0.5,{"$f":"(O9-L9)/K9","v":20},0,{"$f":"(Q9-L9)/K9","v":10},null,"c",43,45,48,50,53,56,59,62,65,68,71,74,77,80,83,85,89,93,85,89,93,97,102,107,112,117,122,126,132,138,144,150,92,96,100,104,108,112,116,120,124,128,132,136,140,144,50,53,56,59,62,65,68,71,74,77,80,83,85,89,93,85,89,93,97,102,107,112,117,122,126,132,138,144,150,92,96,100,104,108,112,116,120,124,128,132,136,140,144,{"$f":"'اندازه های شخصی'!G10","v":105},{"$f":"'اندازه های شخصی'!I10","v":0},{"$f":"'اندازه های شخصی'!K10","v":0},{"$f":"'اندازه های شخصی'!M10","v":0},{"$f":"'اندازه های شخصی'!O10","v":0},{"$f":"'اندازه های شخصی'!Q10","v":0},{"$f":"'اندازه های شخصی'!S10","v":0},{"$f":"'اندازه های شخصی'!U10","v":0},{"$f":"'اندازه های شخصی'!W10","v":0},{"$f":"'اندازه های شخصی'!Y10","v":0},{"$f":"'اندازه های شخصی'!AA10","v":0},{"$f":"'اندازه های شخصی'!AC10","v":0},{"$f":"'اندازه های شخصی'!AE10","v":0},{"$f":"'اندازه های شخصی'!AG10","v":0},{"$f":"'اندازه های شخصی'!AI10","v":0},{"$f":"'اندازه های شخصی'!AK10","v":0},{"$f":"'اندازه های شخصی'!AM10","v":0},{"$f":"'اندازه های شخصی'!AO10","v":0},{"$f":"'اندازه های شخصی'!AQ10","v":0},{"$f":"'اندازه های شخصی'!AS10","v":0},{"$f":"'اندازه های شخصی'!AU10","v":0},{"$f":"'اندازه های شخصی'!AW10","v":0},{"$f":"'اندازه های شخصی'!AY10","v":0},{"$f":"'اندازه های شخصی'!BA10","v":0},{"$f":"'اندازه های شخصی'!BC10","v":0},{"$f":"'اندازه های شخصی'!BE10","v":0},{"$f":"'اندازه های شخصی'!BG10","v":0},{"$f":"'اندازه های شخصی'!BI10","v":0},{"$f":"'اندازه های شخصی'!BK10","v":0},{"$f":"'اندازه های شخصی'!BM10","v":0},{"$f":"'اندازه های شخصی'!BO10","v":0},{"$f":"'اندازه های شخصی'!BQ10","v":0},{"$f":"'اندازه های شخصی'!BS10","v":0},{"$f":"'اندازه های شخصی'!BU10","v":0},{"$f":"'اندازه های شخصی'!BW10","v":0},{"$f":"'اندازه های شخصی'!BY10","v":0},{"$f":"'اندازه های شخصی'!CA10","v":0},{"$f":"'اندازه های شخصی'!CC10","v":0},{"$f":"'اندازه های شخصی'!CE10","v":0},{"$f":"'اندازه های شخصی'!CG10","v":0}]
["ضریب قرارگیری نقطه اتصال جلو چادر به پشت چادر  a0","(از 0.5 الی 1.2)",1,"روی پیشانی=0.5 \nبالای گوش=1  ",{"$f":"'طراحی همه الگوها'!Q189","v":20},"مکان نقطه اتصال جلو چادر به پشت چادر  ",10,0.5,20,1,0.05,0,0.5,10,1.2,23.999999999999996,0.5,10,null,"d",24.1,25.2,26.9,28,29.7,31.4,31.3,32.9,34.5,36,37.6,39.200000000000003,40.799999999999997,42.4,44,45.1,47.2,49.3,47.5,49,50.4,51.9,53.6,55.4,57.2,59,61,63.7,67,70.8,75.3,79.8,50.6,52.8,55,57.2,59.4,61.6,63.8,66,68.2,70.400000000000006,72.599999999999994,74.8,77,79.2,28,29.7,31.4,31.3,33.5,35.1,36.700000000000003,38.299999999999997,40,41.6,43.2,44,45.1,47.2,49.3,47.5,49,50.4,51.9,53.6,55.4,57.2,59,61,63.7,67,70.8,75.3,79.8,48.3,50.4,52.5,54.6,56.7,58.8,60.9,63,65.099999999999994,67.2,69.3,71.400000000000006,73.5,75.599999999999994,{"$f":"'اندازه های شخصی'!G11","v":53.6},{"$f":"'اندازه های شخصی'!I11","v":0},{"$f":"'اندازه های شخصی'!K11","v":0},{"$f":"'اندازه های شخصی'!M11","v":0},{"$f":"'اندازه های شخصی'!O11","v":0},{"$f":"'اندازه های شخصی'!Q11","v":0},{"$f":"'اندازه های شخصی'!S11","v":0},{"$f":"'اندازه های شخصی'!U11","v":0},{"$f":"'اندازه های شخصی'!W11","v":0},{"$f":"'اندازه های شخصی'!Y11","v":0},{"$f":"'اندازه های شخصی'!AA11","v":0},{"$f":"'اندازه های شخصی'!AC11","v":0},{"$f":"'اندازه های شخصی'!AE11","v":0},{"$f":"'اندازه های شخصی'!AG11","v":0},{"$f":"'اندازه های شخصی'!AI11","v":0},{"$f":"'اندازه های شخصی'!AK11","v":0},{"$f":"'اندازه های شخصی'!AM11","v":0},{"$f":"'اندازه های شخصی'!AO11","v":0},{"$f":"'اندازه های شخصی'!AQ11","v":0},{"$f":"'اندازه های شخصی'!AS11","v":0},{"$f":"'اندازه های شخصی'!AU11","v":0},{"$f":"'اندازه های شخصی'!AW11","v":0},{"$f":"'اندازه های شخصی'!AY11","v":0},{"$f":"'اندازه های شخصی'!BA11","v":0},{"$f":"'اندازه های شخصی'!BC11","v":0},{"$f":"'اندازه های شخصی'!BE11","v":0},{"$f":"'اندازه های شخصی'!BG11","v":0},{"$f":"'اندازه های شخصی'!BI11","v":0},{"$f":"'اندازه های شخصی'!BK11","v":0},{"$f":"'اندازه های شخصی'!BM11","v":0},{"$f":"'اندازه های شخصی'!BO11","v":0},{"$f":"'اندازه های شخصی'!BQ11","v":0},{"$f":"'اندازه های شخصی'!BS11","v":0},{"$f":"'اندازه های شخصی'!BU11","v":0},{"$f":"'اندازه های شخصی'!BW11","v":0},{"$f":"'اندازه های شخصی'!BY11","v":0},{"$f":"'اندازه های شخصی'!CA11","v":0},{"$f":"'اندازه های شخصی'!CC11","v":0},{"$f":"'اندازه های شخصی'!CE11","v":0},{"$f":"'اندازه های شخصی'!CG11","v":0}]
["ضریب گشادی عرضی چادر  a1","(از 0.35 الی 0.53)",0.45,"بهینه=0.45",{"$f":"'طراحی همه الگوها'!Q190","v":20},"ضریب گشادی عرضی چادر  ",21,0.46,20,0.45,1.0000000000000009E-2,0.24999999999999983,0.35,10.000000000000005,0.53,27.999999999999993,0.45,20,null,"e",23,25,32,38,42,48,53.9,60.4,66.400000000000006,70.400000000000006,74.400000000000006,77.900000000000006,80.900000000000006,84.4,87.9,91.9,95.9,99.9,101,102,103,104,104.4,104.9,105.4,105.9,106.4,106.9,107.4,107.9,108.4,108.9,103.8,105.1,106.5,107.2,107.8,108.4,109,109.6,110.2,110.7,111.2,111.7,112.2,112.7,38,42,48,53.9,60.4,66.400000000000006,70.400000000000006,74.400000000000006,77.900000000000006,80.900000000000006,84.4,87.9,91.9,95.9,99.9,101,102,103,104,104.4,104.9,105.4,105.9,106.4,106.9,107.4,107.9,108.4,108.9,104.7,106.1,107.5,108.2,108.8,109.4,110,110.6,111.2,111.7,112.2,112.7,113.2,113.7,{"$f":"'اندازه های شخصی'!G12","v":95.5},{"$f":"'اندازه های شخصی'!I12","v":0},{"$f":"'اندازه های شخصی'!K12","v":0},{"$f":"'اندازه های شخصی'!M12","v":0},{"$f":"'اندازه های شخصی'!O12","v":0},{"$f":"'اندازه های شخصی'!Q12","v":0},{"$f":"'اندازه های شخصی'!S12","v":0},{"$f":"'اندازه های شخصی'!U12","v":0},{"$f":"'اندازه های شخصی'!W12","v":0},{"$f":"'اندازه های شخصی'!Y12","v":0},{"$f":"'اندازه های شخصی'!AA12","v":0},{"$f":"'اندازه های شخصی'!AC12","v":0},{"$f":"'اندازه های شخصی'!AE12","v":0},{"$f":"'اندازه های شخصی'!AG12","v":0},{"$f":"'اندازه های شخصی'!AI12","v":0},{"$f":"'اندازه های شخصی'!AK12","v":0},{"$f":"'اندازه های شخصی'!AM12","v":0},{"$f":"'اندازه های شخصی'!AO12","v":0},{"$f":"'اندازه های شخصی'!AQ12","v":0},{"$f":"'اندازه های شخصی'!AS12","v":0},{"$f":"'اندازه های شخصی'!AU12","v":0},{"$f":"'اندازه های شخصی'!AW12","v":0},{"$f":"'اندازه های شخصی'!AY12","v":0},{"$f":"'اندازه های شخصی'!BA12","v":0},{"$f":"'اندازه های شخصی'!BC12","v":0},{"$f":"'اندازه های شخصی'!BE12","v":0},{"$f":"'اندازه های شخصی'!BG12","v":0},{"$f":"'اندازه های شخصی'!BI12","v":0},{"$f":"'اندازه های شخصی'!BK12","v":0},{"$f":"'اندازه های شخصی'!BM12","v":0},{"$f":"'اندازه های شخصی'!BO12","v":0},{"$f":"'اندازه های شخصی'!BQ12","v":0},{"$f":"'اندازه های شخصی'!BS12","v":0},{"$f":"'اندازه های شخصی'!BU12","v":0},{"$f":"'اندازه های شخصی'!BW12","v":0},{"$f":"'اندازه های شخصی'!BY12","v":0},{"$f":"'اندازه های شخصی'!CA12","v":0},{"$f":"'اندازه های شخصی'!CC12","v":0},{"$f":"'اندازه های شخصی'!CE12","v":0},{"$f":"'اندازه های شخصی'!CG12","v":0}]
["ضریب گشادی دور مچ  a2","(از 1.1 الی 2)",1.7000000000000006,"بهینه=1.7",{"$f":"'طراحی همه الگوها'!Q191","v":7},"ضریب گشادی دور مچ  ",1,1.1000000000000001,0,1,0.10000000000000009,1,1.1000000000000001,1,2,9.9999999999999911,1.7,6.9999999999999938,null,"f",23,25,32,38,42,48,54,60.5,66.5,70.5,74.5,78,81,84.5,88,92,96,100,102,103,104,105,105.5,106,106.5,107,107.5,108,108.5,109,109.5,110,104.8,106.2,107.6,108.3,108.9,109.5,110.1,110.7,111.3,111.8,112.3,112.8,113.3,113.8,38,42,48,54,60.5,66.5,70.5,74.5,78,81,84.5,88,92,96,100,102,103,104,105,105.5,106,106.5,107,107.5,108,108.5,109,109.5,110,104.8,106.2,107.6,108.3,108.9,109.5,110.1,110.7,111.3,111.8,112.3,112.8,113.3,113.8,{"$f":"'اندازه های شخصی'!G13","v":96},{"$f":"'اندازه های شخصی'!I13","v":0},{"$f":"'اندازه های شخصی'!K13","v":0},{"$f":"'اندازه های شخصی'!M13","v":0},{"$f":"'اندازه های شخصی'!O13","v":0},{"$f":"'اندازه های شخصی'!Q13","v":0},{"$f":"'اندازه های شخصی'!S13","v":0},{"$f":"'اندازه های شخصی'!U13","v":0},{"$f":"'اندازه های شخصی'!W13","v":0},{"$f":"'اندازه های شخصی'!Y13","v":0},{"$f":"'اندازه های شخصی'!AA13","v":0},{"$f":"'اندازه های شخصی'!AC13","v":0},{"$f":"'اندازه های شخصی'!AE13","v":0},{"$f":"'اندازه های شخصی'!AG13","v":0},{"$f":"'اندازه های شخصی'!AI13","v":0},{"$f":"'اندازه های شخصی'!AK13","v":0},{"$f":"'اندازه های شخصی'!AM13","v":0},{"$f":"'اندازه های شخصی'!AO13","v":0},{"$f":"'اندازه های شخصی'!AQ13","v":0},{"$f":"'اندازه های شخصی'!AS13","v":0},{"$f":"'اندازه های شخصی'!AU13","v":0},{"$f":"'اندازه های شخصی'!AW13","v":0},{"$f":"'اندازه های شخصی'!AY13","v":0},{"$f":"'اندازه های شخصی'!BA13","v":0},{"$f":"'اندازه های شخصی'!BC13","v":0},{"$f":"'اندازه های شخصی'!BE13","v":0},{"$f":"'اندازه های شخصی'!BG13","v":0},{"$f":"'اندازه های شخصی'!BI13","v":0},{"$f":"'اندازه های شخصی'!BK13","v":0},{"$f":"'اندازه های شخصی'!BM13","v":0},{"$f":"'اندازه های شخصی'!BO13","v":0},{"$f":"'اندازه های شخصی'!BQ13","v":0},{"$f":"'اندازه های شخصی'!BS13","v":0},{"$f":"'اندازه های شخصی'!BU13","v":0},{"$f":"'اندازه های شخصی'!BW13","v":0},{"$f":"'اندازه های شخصی'!BY13","v":0},{"$f":"'اندازه های شخصی'!CA13","v":0},{"$f":"'اندازه های شخصی'!CC13","v":0},{"$f":"'اندازه های شخصی'!CE13","v":0},{"$f":"'اندازه های شخصی'!CG13","v":0}]
["ضریب بلند شدن آستین نسبت به مچ  a4","(از -0.4 الی 0.4)",0,"آستین تا مچ=0 \nآستین کوتاه تر از مچ = منفی \nآستین بلند تر از مچ = مثبت   ",{"$f":"'طراحی همه الگوها'!Q192","v":10},"بلند شدن آستین چادر نسبت به مچ اندام ",30,-0.45,10,0,-2.2499999999999999E-2,0.22499999999999992,-0.4,27.777777777777779,0.4,-7.7777777777777821,0,9.9999999999999964,null,"g",23,25,32,38,42,48,54.1,60.6,66.599999999999994,70.599999999999994,74.599999999999994,78.099999999999994,81.099999999999994,84.6,88.1,92.1,96.1,100.1,103,104,105,106.1,106.6,107.1,107.6,108.1,108.6,109.1,109.6,110.1,110.6,111.1,105.8,107.3,108.7,109.4,110,110.6,111.2,111.8,112.4,112.9,113.4,113.9,114.4,114.9,38,42,48,54.1,60.6,66.599999999999994,70.599999999999994,74.599999999999994,78.099999999999994,81.099999999999994,84.6,88.1,92.1,96.1,100.1,103,104,105,106.1,106.6,107.1,107.6,108.1,108.6,109.1,109.6,110.1,110.6,111.1,104.9,106.3,107.7,108.4,109,109.6,110.2,110.8,111.4,111.9,112.4,112.9,113.4,113.9,{"$f":"'اندازه های شخصی'!G14","v":96.5},{"$f":"'اندازه های شخصی'!I14","v":0},{"$f":"'اندازه های شخصی'!K14","v":0},{"$f":"'اندازه های شخصی'!M14","v":0},{"$f":"'اندازه های شخصی'!O14","v":0},{"$f":"'اندازه های شخصی'!Q14","v":0},{"$f":"'اندازه های شخصی'!S14","v":0},{"$f":"'اندازه های شخصی'!U14","v":0},{"$f":"'اندازه های شخصی'!W14","v":0},{"$f":"'اندازه های شخصی'!Y14","v":0},{"$f":"'اندازه های شخصی'!AA14","v":0},{"$f":"'اندازه های شخصی'!AC14","v":0},{"$f":"'اندازه های شخصی'!AE14","v":0},{"$f":"'اندازه های شخصی'!AG14","v":0},{"$f":"'اندازه های شخصی'!AI14","v":0},{"$f":"'اندازه های شخصی'!AK14","v":0},{"$f":"'اندازه های شخصی'!AM14","v":0},{"$f":"'اندازه های شخصی'!AO14","v":0},{"$f":"'اندازه های شخصی'!AQ14","v":0},{"$f":"'اندازه های شخصی'!AS14","v":0},{"$f":"'اندازه های شخصی'!AU14","v":0},{"$f":"'اندازه های شخصی'!AW14","v":0},{"$f":"'اندازه های شخصی'!AY14","v":0},{"$f":"'اندازه های شخصی'!BA14","v":0},{"$f":"'اندازه های شخصی'!BC14","v":0},{"$f":"'اندازه های شخصی'!BE14","v":0},{"$f":"'اندازه های شخصی'!BG14","v":0},{"$f":"'اندازه های شخصی'!BI14","v":0},{"$f":"'اندازه های شخصی'!BK14","v":0},{"$f":"'اندازه های شخصی'!BM14","v":0},{"$f":"'اندازه های شخصی'!BO14","v":0},{"$f":"'اندازه های شخصی'!BQ14","v":0},{"$f":"'اندازه های شخصی'!BS14","v":0},{"$f":"'اندازه های شخصی'!BU14","v":0},{"$f":"'اندازه های شخصی'!BW14","v":0},{"$f":"'اندازه های شخصی'!BY14","v":0},{"$f":"'اندازه های شخصی'!CA14","v":0},{"$f":"'اندازه های شخصی'!CC14","v":0},{"$f":"'اندازه های شخصی'!CE14","v":0},{"$f":"'اندازه های شخصی'!CG14","v":0}]
["انتخاب چادر تا پایین پیشانی=1    انتخاب چادر تا بالای پیشانی=0\nانتخاب چادر روی سر = -1"," -1 یا 0 یا 1",0,null,{"$f":"'طراحی همه الگوها'!Q193","v":2},"انتخاب چادر تا پایین پیشانی=3    انتخاب چادر تا بالای پیشانی=2\nانتخاب چادر روی سر = 1",2,0,1,-1,1,-2,0,2,1,3,1,3,null,"h",7.4,8.4,11.1,13.4,14.9,17.2,24.9,27.4,30.3,32.1,33.9,35.4,36.6,38.200000000000003,39.700000000000003,41.4,43.5,45.7,44.5,45,45.5,46,46,46,46,46,46.3,46.3,46.4,46.5,46.6,46.7,48.1,48.8,49.6,50,50.4,50.8,51.2,51.5,51.9,52.3,52.6,53,53.2,53.6,13.4,14.9,17.2,24.9,27.4,30.3,32.1,33.9,35.4,36.6,38.200000000000003,39.700000000000003,41.4,43.5,45.7,44.5,45,45.5,46,46,46,46,46,46.3,46.3,46.4,46.5,46.6,46.7,48.1,48.8,49.6,50,50.3,50.8,51.2,51.5,51.9,52.3,52.6,52.9,53.3,53.6,{"$f":"'اندازه های شخصی'!G15","v":41.1},{"$f":"'اندازه های شخصی'!I15","v":0},{"$f":"'اندازه های شخصی'!K15","v":0},{"$f":"'اندازه های شخصی'!M15","v":0},{"$f":"'اندازه های شخصی'!O15","v":0},{"$f":"'اندازه های شخصی'!Q15","v":0},{"$f":"'اندازه های شخصی'!S15","v":0},{"$f":"'اندازه های شخصی'!U15","v":0},{"$f":"'اندازه های شخصی'!W15","v":0},{"$f":"'اندازه های شخصی'!Y15","v":0},{"$f":"'اندازه های شخصی'!AA15","v":0},{"$f":"'اندازه های شخصی'!AC15","v":0},{"$f":"'اندازه های شخصی'!AE15","v":0},{"$f":"'اندازه های شخصی'!AG15","v":0},{"$f":"'اندازه های شخصی'!AI15","v":0},{"$f":"'اندازه های شخصی'!AK15","v":0},{"$f":"'اندازه های شخصی'!AM15","v":0},{"$f":"'اندازه های شخصی'!AO15","v":0},{"$f":"'اندازه های شخصی'!AQ15","v":0},{"$f":"'اندازه های شخصی'!AS15","v":0},{"$f":"'اندازه های شخصی'!AU15","v":0},{"$f":"'اندازه های شخصی'!AW15","v":0},{"$f":"'اندازه های شخصی'!AY15","v":0},{"$f":"'اندازه های شخصی'!BA15","v":0},{"$f":"'اندازه های شخصی'!BC15","v":0},{"$f":"'اندازه های شخصی'!BE15","v":0},{"$f":"'اندازه های شخصی'!BG15","v":0},{"$f":"'اندازه های شخصی'!BI15","v":0},{"$f":"'اندازه های شخصی'!BK15","v":0},{"$f":"'اندازه های شخصی'!BM15","v":0},{"$f":"'اندازه های شخصی'!BO15","v":0},{"$f":"'اندازه های شخصی'!BQ15","v":0},{"$f":"'اندازه های شخصی'!BS15","v":0},{"$f":"'اندازه های شخصی'!BU15","v":0},{"$f":"'اندازه های شخصی'!BW15","v":0},{"$f":"'اندازه های شخصی'!BY15","v":0},{"$f":"'اندازه های شخصی'!CA15","v":0},{"$f":"'اندازه های شخصی'!CC15","v":0},{"$f":"'اندازه های شخصی'!CE15","v":0},{"$f":"'اندازه های شخصی'!CG15","v":0}]
[null,null,null,null,null,null,null,null,null,null,null,null,null,null,null,null,null,null,null,"j",15.8,17.899999999999999,23.8,28.7,31.8,36.700000000000003,45.2,49.8,55.1,58.3,61.6,64.3,66.5,69.400000000000006,72.099999999999994,75.3,79.099999999999994,83,82.5,82.7,83.4,84.1,84.3,84.5,84.7,85,85.3,85.7,86.1,86.5,86.9,87.3,87.4,88.8,90.2,90.9,91.6,92.3,93,93.7,94.3,95,95.7,96.3,96.8,97.5,28.7,31.8,36.700000000000003,45.2,49.8,55.1,58.3,61.6,64.3,66.5,69.400000000000006,72.099999999999994,75.3,79.099999999999994,83,82.5,82.7,83.4,84.1,84.3,84.5,84.7,85,85.3,85.7,86.1,86.5,86.9,87.3,87.4,88.8,90.2,90.9,91.5,92.3,93,93.6,94.4,95,95.7,96.2,96.9,97.5,{"$f":"'اندازه های شخصی'!G16","v":77.5},{"$f":"'اندازه های شخصی'!I16","v":0},{"$f":"'اندازه های شخصی'!K16","v":0},{"$f":"'اندازه های شخصی'!M16","v":0},{"$f":"'اندازه های شخصی'!O16","v":0},{"$f":"'اندازه های شخصی'!Q16","v":0},{"$f":"'اندازه های شخصی'!S16","v":0},{"$f":"'اندازه های شخصی'!U16","v":0},{"$f":"'اندازه های شخصی'!W16","v":0},{"$f":"'اندازه های شخصی'!Y16","v":0},{"$f":"'اندازه های شخصی'!AA16","v":0},{"$f":"'اندازه های شخصی'!AC16","v":0},{"$f":"'اندازه های شخصی'!AE16","v":0},{"$f":"'اندازه های شخصی'!AG16","v":0},{"$f":"'اندازه های شخصی'!AI16","v":0},{"$f":"'اندازه های شخصی'!AK16","v":0},{"$f":"'اندازه های شخصی'!AM16","v":0},{"$f":"'اندازه های شخصی'!AO16","v":0},{"$f":"'اندازه های شخصی'!AQ16","v":0},{"$f":"'اندازه های شخصی'!AS16","v":0},{"$f":"'اندازه های شخصی'!AU16","v":0},{"$f":"'اندازه های شخصی'!AW16","v":0},{"$f":"'اندازه های شخصی'!AY16","v":0},{"$f":"'اندازه های شخصی'!BA16","v":0},{"$f":"'اندازه های شخصی'!BC16","v":0},{"$f":"'اندازه های شخصی'!BE16","v":0},{"$f":"'اندازه های شخصی'!BG16","v":0},{"$f":"'اندازه های شخصی'!BI16","v":0},{"$f":"'اندازه های شخصی'!BK16","v":0},{"$f":"'اندازه های شخصی'!BM16","v":0},{"$f":"'اندازه های شخصی'!BO16","v":0},{"$f":"'اندازه های شخصی'!BQ16","v":0},{"$f":"'اندازه های شخصی'!BS16","v":0},{"$f":"'اندازه های شخصی'!BU16","v":0},{"$f":"'اندازه های شخصی'!BW16","v":0},{"$f":"'اندازه های شخصی'!BY16","v":0},{"$f":"'اندازه های شخصی'!CA16","v":0},{"$f":"'اندازه های شخصی'!CC16","v":0},{"$f":"'اندازه های شخصی'!CE16","v":0},{"$f":"'اندازه های شخصی'!CG16","v":0}]
[" متغیرهای ورودی چادر شماره 3",null,null,null,null," متغیرهای ورودی چادر شماره 3","x1","y1","x2","y2(بهینه)","a","b",null,"کمترین",null,"بیشترین",null,null,null,"L",17.600000000000001,18.5,19.7,20.5,21.7,23,24.2,25.4,26.7,27.9,29.1,30.3,31.6,32.799999999999997,34,34.9,36.5,38.1,34.9,36.5,38.1,39.799999999999997,41.8,43.9,45.9,48,50,51.7,54.1,56.6,59,61.5,37.700000000000003,39.4,41,42.6,44.3,45.9,47.6,49.2,50.8,52.5,54.1,55.8,57.4,59,20.5,21.7,23,24.2,25.4,26.7,27.9,29.1,30.3,31.6,32.799999999999997,34,34.9,36.5,38.1,34.9,36.5,38.1,39.799999999999997,41.8,43.9,45.9,48,50,51.7,54.1,56.6,59,61.5,37.700000000000003,39.4,41,42.6,44.3,45.9,47.6,49.2,50.8,52.5,54.1,55.8,57.4,59,{"$f":"'اندازه های شخصی'!G17","v":41},{"$f":"'اندازه های شخصی'!I17","v":0},{"$f":"'اندازه های شخصی'!K17","v":0},{"$f":"'اندازه های شخصی'!M17","v":0},{"$f":"'اندازه های شخصی'!O17","v":0},{"$f":"'اندازه های شخصی'!Q17","v":0},{"$f":"'اندازه های شخصی'!S17","v":0},{"$f":"'اندازه های شخصی'!U17","v":0},{"$f":"'اندازه های شخصی'!W17","v":0},{"$f":"'اندازه های شخصی'!Y17","v":0},{"$f":"'اندازه های شخصی'!AA17","v":0},{"$f":"'اندازه های شخصی'!AC17","v":0},{"$f":"'اندازه های شخصی'!AE17","v":0},{"$f":"'اندازه های شخصی'!AG17","v":0},{"$f":"'اندازه های شخصی'!AI17","v":0},{"$f":"'اندازه های شخصی'!AK17","v":0},{"$f":"'اندازه های شخصی'!AM17","v":0},{"$f":"'اندازه های شخصی'!AO17","v":0},{"$f":"'اندازه های شخصی'!AQ17","v":0},{"$f":"'اندازه های شخصی'!AS17","v":0},{"$f":"'اندازه های شخصی'!AU17","v":0},{"$f":"'اندازه های شخصی'!AW17","v":0},{"$f":"'اندازه های شخصی'!AY17","v":0},{"$f":"'اندازه های شخصی'!BA17","v":0},{"$f":"'اندازه های شخصی'!BC17","v":0},{"$f":"'اندازه های شخصی'!BE17","v":0},{"$f":"'اندازه های شخصی'!BG17","v":0},{"$f":"'اندازه های شخصی'!BI17","v":0},{"$f":"'اندازه های شخصی'!BK17","v":0},{"$f":"'اندازه های شخصی'!BM17","v":0},{"$f":"'اندازه های شخصی'!BO17","v":0},{"$f":"'اندازه های شخصی'!BQ17","v":0},{"$f":"'اندازه های شخصی'!BS17","v":0},{"$f":"'اندازه های شخصی'!BU17","v":0},{"$f":"'اندازه های شخصی'!BW17","v":0},{"$f":"'اندازه های شخصی'!BY17","v":0},{"$f":"'اندازه های شخصی'!CA17","v":0},{"$f":"'اندازه های شخصی'!CC17","v":0},{"$f":"'اندازه های شخصی'!CE17","v":0},{"$f":"'اندازه های شخصی'!CG17","v":0}]
["ضریب فاصله لبه چادر تا زمین   j0","(از -0.1 الی 0.5)",{"$f":"K17*E17+L17","v":0},"خط زمین=0 \nخط زانو=1  ",{"$f":"'طراحی همه الگوها'!Q210","v":10},"ضریب فاصله لبه چادر تا زمین   ",10,0,30,1,{"$f":"(J17-H17)/(I17-G17)","v":0.05},{"$f":"H17-G17*K17","v":-0.5},-0.1,{"$f":"(M17-L17)/K17","v":8},0.5,{"$f":"(O17-L17)/K17","v":20},0,{"$f":"(Q17-L17)/K17","v":10},null,"m",10,10,11,12,13,14,14,16,17,18,19,20,21,22,23,24,24.5,25,25.1,25.8,26.4,27.1,27.8,28.4,29.1,29.7,30.3,31,31.6,32.299999999999997,32.9,33.5,23.1,23.5,23.8,24.2,24.5,24.7,25,25.3,25.6,25.8,26.1,26.4,26.7,26.9,12,13,14,14,16,17,18,19,20,21,22,23,24,24.5,25,25.1,25.8,26.4,27.1,27.8,28.4,29.1,29.7,30.3,31,31.6,32.299999999999997,32.9,33.5,23.1,23.5,23.8,24.2,24.5,24.7,25,25.3,25.5,25.8,26.1,26.4,26.6,26.9,{"$f":"'اندازه های شخصی'!G18","v":25},{"$f":"'اندازه های شخصی'!I18","v":0},{"$f":"'اندازه های شخصی'!K18","v":0},{"$f":"'اندازه های شخصی'!M18","v":0},{"$f":"'اندازه های شخصی'!O18","v":0},{"$f":"'اندازه های شخصی'!Q18","v":0},{"$f":"'اندازه های شخصی'!S18","v":0},{"$f":"'اندازه های شخصی'!U18","v":0},{"$f":"'اندازه های شخصی'!W18","v":0},{"$f":"'اندازه های شخصی'!Y18","v":0},{"$f":"'اندازه های شخصی'!AA18","v":0},{"$f":"'اندازه های شخصی'!AC18","v":0},{"$f":"'اندازه های شخصی'!AE18","v":0},{"$f":"'اندازه های شخصی'!AG18","v":0},{"$f":"'اندازه های شخصی'!AI18","v":0},{"$f":"'اندازه های شخصی'!AK18","v":0},{"$f":"'اندازه های شخصی'!AM18","v":0},{"$f":"'اندازه های شخصی'!AO18","v":0},{"$f":"'اندازه های شخصی'!AQ18","v":0},{"$f":"'اندازه های شخصی'!AS18","v":0},{"$f":"'اندازه های شخصی'!AU18","v":0},{"$f":"'اندازه های شخصی'!AW18","v":0},{"$f":"'اندازه های شخصی'!AY18","v":0},{"$f":"'اندازه های شخصی'!BA18","v":0},{"$f":"'اندازه های شخصی'!BC18","v":0},{"$f":"'اندازه های شخصی'!BE18","v":0},{"$f":"'اندازه های شخصی'!BG18","v":0},{"$f":"'اندازه های شخصی'!BI18","v":0},{"$f":"'اندازه های شخصی'!BK18","v":0},{"$f":"'اندازه های شخصی'!BM18","v":0},{"$f":"'اندازه های شخصی'!BO18","v":0},{"$f":"'اندازه های شخصی'!BQ18","v":0},{"$f":"'اندازه های شخصی'!BS18","v":0},{"$f":"'اندازه های شخصی'!BU18","v":0},{"$f":"'اندازه های شخصی'!BW18","v":0},{"$f":"'اندازه های شخصی'!BY18","v":0},{"$f":"'اندازه های شخصی'!CA18","v":0},{"$f":"'اندازه های شخصی'!CC18","v":0},{"$f":"'اندازه های شخصی'!CE18","v":0},{"$f":"'اندازه های شخصی'!CG18","v":0}]
["ضریب گشادی دور مچ  b2","(از 1.1 الی 2)",1.5000000000000004,"بهینه=1.5",{"$f":"'طراحی همه الگوها'!Q211","v":5},"ضریب گشادی دور مچ  ",1,1.1000000000000001,0,1,0.10000000000000009,1,1.1000000000000001,1,2,9.9999999999999911,1.5,4.9999999999999956,null,"q",29.1,29.6,32.799999999999997,35.700000000000003,38.5,41.7,37.700000000000003,42.6,45,47.6,50,52.7,55.3,57.7,60.3,62.6,64.400000000000006,66,65.2,67.2,69.2,71.099999999999994,73.400000000000006,75.2,77.3,79.400000000000006,81.2,83.3,85.3,87.5,89.7,91.7,66.5,67.8,69.2,70.5,71.599999999999994,72.8,73.900000000000006,75.099999999999994,76.400000000000006,77.400000000000006,78.5,79.599999999999994,80.900000000000006,81.8,35.700000000000003,38.5,41.7,37.700000000000003,42.6,45,47.6,50.1,52.7,55.3,57.7,60.3,62.6,64.400000000000006,66,65.2,67.2,69.2,71.099999999999994,73.400000000000006,75.2,77.3,79.400000000000006,81.2,83.3,85.3,87.5,89.7,91.7,66.3,67.7,69,70.3,71.7,72.599999999999994,73.8,75.099999999999994,76.099999999999994,77.2,78.3,79.599999999999994,80.5,81.7,{"$f":"'اندازه های شخصی'!G19","v":68.8},{"$f":"'اندازه های شخصی'!I19","v":0},{"$f":"'اندازه های شخصی'!K19","v":0},{"$f":"'اندازه های شخصی'!M19","v":0},{"$f":"'اندازه های شخصی'!O19","v":0},{"$f":"'اندازه های شخصی'!Q19","v":0},{"$f":"'اندازه های شخصی'!S19","v":0},{"$f":"'اندازه های شخصی'!U19","v":0},{"$f":"'اندازه های شخصی'!W19","v":0},{"$f":"'اندازه های شخصی'!Y19","v":0},{"$f":"'اندازه های شخصی'!AA19","v":0},{"$f":"'اندازه های شخصی'!AC19","v":0},{"$f":"'اندازه های شخصی'!AE19","v":0},{"$f":"'اندازه های شخصی'!AG19","v":0},{"$f":"'اندازه های شخصی'!AI19","v":0},{"$f":"'اندازه های شخصی'!AK19","v":0},{"$f":"'اندازه های شخصی'!AM19","v":0},{"$f":"'اندازه های شخصی'!AO19","v":0},{"$f":"'اندازه های شخصی'!AQ19","v":0},{"$f":"'اندازه های شخصی'!AS19","v":0},{"$f":"'اندازه های شخصی'!AU19","v":0},{"$f":"'اندازه های شخصی'!AW19","v":0},{"$f":"'اندازه های شخصی'!AY19","v":0},{"$f":"'اندازه های شخصی'!BA19","v":0},{"$f":"'اندازه های شخصی'!BC19","v":0},{"$f":"'اندازه های شخصی'!BE19","v":0},{"$f":"'اندازه های شخصی'!BG19","v":0},{"$f":"'اندازه های شخصی'!BI19","v":0},{"$f":"'اندازه های شخصی'!BK19","v":0},{"$f":"'اندازه های شخصی'!BM19","v":0},{"$f":"'اندازه های شخصی'!BO19","v":0},{"$f":"'اندازه های شخصی'!BQ19","v":0},{"$f":"'اندازه های شخصی'!BS19","v":0},{"$f":"'اندازه های شخصی'!BU19","v":0},{"$f":"'اندازه های شخصی'!BW19","v":0},{"$f":"'اندازه های شخصی'!BY19","v":0},{"$f":"'اندازه های شخصی'!CA19","v":0},{"$f":"'اندازه های شخصی'!CC19","v":0},{"$f":"'اندازه های شخصی'!CE19","v":0},{"$f":"'اندازه های شخصی'!CG19","v":0}]
["ضریب بلندی طول مچ  b3  معادل ضریب تنگی پایین چادر","(از0 الی 0.4)",0.15,"بهینه=0.15",{"$f":"'طراحی همه الگوها'!Q212","v":15},"گشادی پایین چادر (معادل بلندی طول مچ)",1,0.01,0,0,0.01,0,0,0,0.4,40,0.15,15,null,"r",13.5,13.5,14.2,14.9,16.2,16.2,17.600000000000001,17.600000000000001,17.600000000000001,18.899999999999999,18.899999999999999,20.3,21.6,20.3,21.6,22.3,23,23.6,23,23.5,24,24.5,25.1,25.7,26.3,26.9,27.5,28,28.5,29,29.5,30,24,25,26,27,28,29,29,29,29,29.4,29.8,30.2,32.6,31,14.9,16.2,16.2,17.600000000000001,17.600000000000001,17.600000000000001,18.899999999999999,18.899999999999999,20.3,21.6,20.3,21.6,22.3,23,23.6,23,23.5,24,24.5,25.1,25.7,26.3,26.9,27.5,28,28.5,29,29.5,30,24,25,26,27,28,29,29,29,29,29.4,29.8,30.2,32.6,31,{"$f":"'اندازه های شخصی'!G20","v":29.4},{"$f":"'اندازه های شخصی'!I20","v":0},{"$f":"'اندازه های شخصی'!K20","v":0},{"$f":"'اندازه های شخصی'!M20","v":0},{"$f":"'اندازه های شخصی'!O20","v":0},{"$f":"'اندازه های شخصی'!Q20","v":0},{"$f":"'اندازه های شخصی'!S20","v":0},{"$f":"'اندازه های شخصی'!U20","v":0},{"$f":"'اندازه های شخصی'!W20","v":0},{"$f":"'اندازه های شخصی'!Y20","v":0},{"$f":"'اندازه های شخصی'!AA20","v":0},{"$f":"'اندازه های شخصی'!AC20","v":0},{"$f":"'اندازه های شخصی'!AE20","v":0},{"$f":"'اندازه های شخصی'!AG20","v":0},{"$f":"'اندازه های شخصی'!AI20","v":0},{"$f":"'اندازه های شخصی'!AK20","v":0},{"$f":"'اندازه های شخصی'!AM20","v":0},{"$f":"'اندازه های شخصی'!AO20","v":0},{"$f":"'اندازه های شخصی'!AQ20","v":0},{"$f":"'اندازه های شخصی'!AS20","v":0},{"$f":"'اندازه های شخصی'!AU20","v":0},{"$f":"'اندازه های شخصی'!AW20","v":0},{"$f":"'اندازه های شخصی'!AY20","v":0},{"$f":"'اندازه های شخصی'!BA20","v":0},{"$f":"'اندازه های شخصی'!BC20","v":0},{"$f":"'اندازه های شخصی'!BE20","v":0},{"$f":"'اندازه های شخصی'!BG20","v":0},{"$f":"'اندازه های شخصی'!BI20","v":0},{"$f":"'اندازه های شخصی'!BK20","v":0},{"$f":"'اندازه های شخصی'!BM20","v":0},{"$f":"'اندازه های شخصی'!BO20","v":0},{"$f":"'اندازه های شخصی'!BQ20","v":0},{"$f":"'اندازه های شخصی'!BS20","v":0},{"$f":"'اندازه های شخصی'!BU20","v":0},{"$f":"'اندازه های شخصی'!BW20","v":0},{"$f":"'اندازه های شخصی'!BY20","v":0},{"$f":"'اندازه های شخصی'!CA20","v":0},{"$f":"'اندازه های شخصی'!CC20","v":0},{"$f":"'اندازه های شخصی'!CE20","v":0},{"$f":"'اندازه های شخصی'!CG20","v":0}]
["ضریب بلند شدن آستین نسبت به مچ  b5","(از -0.4 الی 0.4)",0,"آستین تا مچ=0 \nآستین کوتاه تر از مچ = منفی \nآستین بلند تر از مچ = مثبت   ",{"$f":"'طراحی همه الگوها'!Q213","v":10},"بلند شدن آستین چادر نسبت به مچ اندام ",30,-0.45,10,0,-2.2499999999999999E-2,0.22499999999999992,-0.4,27.777777777777779,0.4,-7.7777777777777821,0,9.9999999999999964]
["عرض پارچه به سانتیمتر b1","(از 90 الی 200)",110," 90 یا 100 یا 110 \n115 یا 120 یا ...",{"$f":"'طراحی همه الگوها'!Q214","v":110},"عرض پارچه ",2,2,1,1,1,0,90,90,200,200,100,100,null,null,2,2,2,2,2,2,0,0,0,0,0,0,0,0,0,0,0,0,0,0,0,0,0,0,0,0,0,0,0,0,0,0,1,1,1,1,1,1,1,1,1,1,1,1,1,1,2,2,2,0,0,0,0,0,0,0,0,0,0,0,0,0,0,0,0,0,0,0,0,0,0,0,0,0,0,1,1,1,1,1,1,1,1,1,1,1,1,1,1,{"$f":"'اندازه های شخصی'!G21","v":0},{"$f":"'اندازه های شخصی'!I21","v":0},{"$f":"'اندازه های شخصی'!K21","v":0},{"$f":"'اندازه های شخصی'!M21","v":0},{"$f":"'اندازه های شخصی'!O21","v":0},{"$f":"'اندازه های شخصی'!Q21","v":0},{"$f":"'اندازه های شخصی'!S21","v":0},{"$f":"'اندازه های شخصی'!U21","v":0},{"$f":"'اندازه های شخصی'!W21","v":0},{"$f":"'اندازه های شخصی'!Y21","v":0},{"$f":"'اندازه های شخصی'!AA21","v":0},{"$f":"'اندازه های شخصی'!AC21","v":0},{"$f":"'اندازه های شخصی'!AE21","v":0},{"$f":"'اندازه های شخصی'!AG21","v":0},{"$f":"'اندازه های شخصی'!AI21","v":0},{"$f":"'اندازه های شخصی'!AK21","v":0},{"$f":"'اندازه های شخصی'!AM21","v":0},{"$f":"'اندازه های شخصی'!AO21","v":0},{"$f":"'اندازه های شخصی'!AQ21","v":0},{"$f":"'اندازه های شخصی'!AS21","v":0},{"$f":"'اندازه های شخصی'!AU21","v":0},{"$f":"'اندازه های شخصی'!AW21","v":0},{"$f":"'اندازه های شخصی'!AY21","v":0},{"$f":"'اندازه های شخصی'!BA21","v":0},{"$f":"'اندازه های شخصی'!BC21","v":0},{"$f":"'اندازه های شخصی'!BE21","v":0},{"$f":"'اندازه های شخصی'!BG21","v":0},{"$f":"'اندازه های شخصی'!BI21","v":0},{"$f":"'اندازه های شخصی'!BK21","v":0},{"$f":"'اندازه های شخصی'!BM21","v":0},{"$f":"'اندازه های شخصی'!BO21","v":0},{"$f":"'اندازه های شخصی'!BQ21","v":0},{"$f":"'اندازه های شخصی'!BS21","v":0},{"$f":"'اندازه های شخصی'!BU21","v":0},{"$f":"'اندازه های شخصی'!BW21","v":0},{"$f":"'اندازه های شخصی'!BY21","v":0},{"$f":"'اندازه های شخصی'!CA21","v":0},{"$f":"'اندازه های شخصی'!CC21","v":0},{"$f":"'اندازه های شخصی'!CE21","v":0},{"$f":"'اندازه های شخصی'!CG21","v":0}]
["انتخاب چادر تا پایین پیشانی=1    انتخاب چادر تا بالای پیشانی=0\nانتخاب چادر روی سر = -1"," -1 یا 0 یا 1",0,null,{"$f":"'طراحی همه الگوها'!Q215","v":2},"انتخاب چادر تا پایین پیشانی=3    انتخاب چادر تا بالای پیشانی=2\nانتخاب چادر روی سر = 1",2,0,1,-1,1,-2,0,2,2,4,1,3]
[]
[" متغیرهای ورودی چادر شماره 4",null,null,null,null," متغیرهای ورودی چادر شماره 4","x1","y1","x2","y2(بهینه)","a","b",null,"کمترین",null,"بیشترین",null,null,null,null,"اندازه شخص","اندازه شخص","اندازه شخص","اندازه شخص","اندازه شخص","اندازه شخص","اندازه شخص","اندازه شخص","اندازه شخص","اندازه شخص","اندازه شخص","اندازه شخص","اندازه شخص","اندازه شخص","اندازه شخص","اندازه شخص","اندازه شخص","اندازه شخص","اندازه شخص","اندازه شخص","اندازه شخص","اندازه شخص","اندازه شخص","اندازه شخص","اندازه شخص","اندازه شخص","اندازه شخص","اندازه شخص","اندازه شخص","اندازه شخص","اندازه شخص","اندازه شخص","اندازه شخص","اندازه شخص","اندازه شخص","اندازه شخص","اندازه شخص","اندازه شخص","اندازه شخص","اندازه شخص","اندازه شخص","اندازه شخص","اندازه شخص","اندازه شخص","اندازه شخص","اندازه شخص","اندازه شخص","اندازه شخص","اندازه شخص","اندازه شخص","اندازه شخص","اندازه شخص","اندازه شخص","اندازه شخص","اندازه شخص","اندازه شخص","اندازه شخص","اندازه شخص","اندازه شخص","اندازه شخص","اندازه شخص","اندازه شخص","اندازه شخص","اندازه شخص","اندازه شخص","اندازه شخص","اندازه شخص","اندازه شخص","اندازه شخص","اندازه شخص","اندازه شخص","اندازه شخص","اندازه شخص","اندازه شخص","اندازه شخص","اندازه شخص","اندازه شخص","اندازه شخص","اندازه شخص","اندازه شخص","اندازه شخص","اندازه شخص","اندازه شخص","اندازه شخص","اندازه شخص","اندازه شخص","اندازه شخص","اندازه شخص","اندازه شخص"]
["ضریب فاصله لبه چادر تا زمین   j0","(از -0.1 الی 0.5)",{"$f":"K25*E25+L25","v":0},"خط زمین=0 \nخط زانو=1  ",{"$f":"'طراحی همه الگوها'!Q232","v":10},"ضریب فاصله لبه چادر تا زمین   ",10,0,30,1,{"$f":"(J25-H25)/(I25-G25)","v":0.05},{"$f":"H25-G25*K25","v":-0.5},-0.1,{"$f":"(M25-L25)/K25","v":8},0.5,{"$f":"(O25-L25)/K25","v":20},0,{"$f":"(Q25-L25)/K25","v":10},null,"a",41,42,45,47,48,49,51,53,55,57,59,61,63,65.5,68,71,73,75,63,65,68,72,77,82,87,92,97,103,110,117,124,131,74,78,82,86,90,94,98,102,106,111,116,121,126,131,47,48,49,51,53,55,57,59,61,63,65.5,68,71,73,75,67,69,72,76,81,86,91,96,101,107,114,121,127,135,75.5,79.599999999999994,83.6,87.7,91.8,95.9,100,104,108.1,113.2,118.3,123.4,128.5,133.6,{"$f":"DF7","v":97},0,0,0,0,0,0,0,0,0,0,0,0,0,0,0,0,0,0,0,{"$f":"DZ7","v":0},0,0,{"$f":"EC7","v":0},{"$f":"ED7","v":0},0,0,{"$f":"EG7","v":0},{"$f":"EH7","v":0},0,0,{"$f":"EK7","v":0},{"$f":"EL7","v":0},0,0,{"$f":"EO7","v":0},{"$f":"EP7","v":0},0,0,0]
["ضریب گشادی پشت چادر نسبت به جلو چادر (به درجه)  c1","(از -5 الی 5)",3,"بهینه=3",{"$f":"'طراحی همه الگوها'!Q233","v":3},"ضریب گشادی پشت چادر نسبت به جلو چادر (درجه)  ",1,1,0,0,1,0,-5,-5,5,5,3,3,null,"b",20.100000000000001,20.6,22.1,23,23.5,24,25,26,27,27.9,28.9,29.9,30.9,32.1,33.299999999999997,34.799999999999997,35.799999999999997,36.799999999999997,32.200000000000003,32.700000000000003,33.700000000000003,35.200000000000003,36.9,38.700000000000003,40.6,42.3,44.3,47.5,51,54.8,59.2,63.6,37,39,41,43,45,47,49,51,53,55.5,58,60.5,63,65.5,23,23.5,24,25,26,27,27.9,28.9,29.9,30.9,32.1,33.299999999999997,34.799999999999997,35.799999999999997,36.799999999999997,34.200000000000003,34.700000000000003,35.700000000000003,37.1,38.799999999999997,40.6,42.4,44.2,46.1,49.4,52.8,56.7,60.7,64.5,37.799999999999997,39.799999999999997,41.8,43.9,45.9,48,50,52,54.1,56.6,59.2,61.7,64.3,66.8,{"$f":"DF8","v":44.6},0,0,0,0,0,0,0,0,0,0,0,0,0,0,0,0,0,0,0,0,0,0,{"$f":"EC8","v":0},0,0,0,{"$f":"EG8","v":0},0,0,0,{"$f":"EK8","v":0},0,0,0,{"$f":"EO8","v":0},0,0,0,0]
["ضریب بلند شدن آستین نسبت به مچ  c2","(از -0.4 الی 0.4)",0,"آستین تا مچ=0 \nآستین کوتاه تر از مچ = منفی \nآستین بلند تر از مچ = مثبت   ",{"$f":"'طراحی همه الگوها'!Q234","v":10},"بلند شدن آستین چادر نسبت به مچ اندام ",30,-0.45,10,0,-2.2499999999999999E-2,0.22499999999999992,-0.4,27.777777777777779,0.4,-7.7777777777777821,0,9.9999999999999964,null,"s1",43,45,47,50,52,54,56,58,60,62,64,66,68,71,75,78,82,86,80,84,88,92,97,102,107,112,117,122,128,134,140,146,88,92,96,100,104,108,112,116,120,124,128,132,136,140,50,52,54,56,58,60,62,64,66,68,71,75,78,82,86,80,84,88,92,97,102,107,112,117,122,128,134,140,146,88,92,96,100,104,108,112,116,120,124,128,132,136,140,{"$f":"'اندازه های شخصی'!G22","v":106},{"$f":"'اندازه های شخصی'!I22","v":0},{"$f":"'اندازه های شخصی'!K22","v":0},{"$f":"'اندازه های شخصی'!M22","v":0},{"$f":"'اندازه های شخصی'!O22","v":0},{"$f":"'اندازه های شخصی'!Q22","v":0},{"$f":"'اندازه های شخصی'!S22","v":0},{"$f":"'اندازه های شخصی'!U22","v":0},{"$f":"'اندازه های شخصی'!W22","v":0},{"$f":"'اندازه های شخصی'!Y22","v":0},{"$f":"'اندازه های شخصی'!AA22","v":0},{"$f":"'اندازه های شخصی'!AC22","v":0},{"$f":"'اندازه های شخصی'!AE22","v":0},{"$f":"'اندازه های شخصی'!AG22","v":0},{"$f":"'اندازه های شخصی'!AI22","v":0},{"$f":"'اندازه های شخصی'!AK22","v":0},{"$f":"'اندازه های شخصی'!AM22","v":0},{"$f":"'اندازه های شخصی'!AO22","v":0},{"$f":"'اندازه های شخصی'!AQ22","v":0},{"$f":"'اندازه های شخصی'!AS22","v":0},{"$f":"'اندازه های شخصی'!AU22","v":0},{"$f":"'اندازه های شخصی'!AW22","v":0},{"$f":"'اندازه های شخصی'!AY22","v":0},{"$f":"'اندازه های شخصی'!BA22","v":0},{"$f":"'اندازه های شخصی'!BC22","v":0},{"$f":"'اندازه های شخصی'!BE22","v":0},{"$f":"'اندازه های شخصی'!BG22","v":0},{"$f":"'اندازه های شخصی'!BI22","v":0},{"$f":"'اندازه های شخصی'!BK22","v":0},{"$f":"'اندازه های شخصی'!BM22","v":0},{"$f":"'اندازه های شخصی'!BO22","v":0},{"$f":"'اندازه های شخصی'!BQ22","v":0},{"$f":"'اندازه های شخصی'!BS22","v":0},{"$f":"'اندازه های شخصی'!BU22","v":0},{"$f":"'اندازه های شخصی'!BW22","v":0},{"$f":"'اندازه های شخصی'!BY22","v":0},{"$f":"'اندازه های شخصی'!CA22","v":0},{"$f":"'اندازه های شخصی'!CC22","v":0},{"$f":"'اندازه های شخصی'!CE22","v":0},{"$f":"'اندازه های شخصی'!CG22","v":0}]
["ضریب گشادی دور مچ  c3","(از 1.1 الی 3)",1.7000000000000006,"بدون گشادی=1",{"$f":"'طراحی همه الگوها'!Q235","v":7},"ضریب گشادی دور مچ  ",1,1.1000000000000001,0,1,0.10000000000000009,1,1.1000000000000001,1,3,19.999999999999982,1,0,null,"s2",21.5,22.5,23.5,25,26,27,28,29,30,31,32,33,34,35.5,37.5,39,41,43,38.9,40.200000000000003,41.5,42.8,44.3,45.9,47.5,49.1,50.9,53.6,56.5,59.8,63.7,67.5,44,46,48,50,52,54,56,58,60,62,64,66,68,70,25,26,27,28,29,30,31,32,33,34,35.5,37.5,39,41,43,38.9,40.200000000000003,41.5,42.8,44.3,45.9,47.5,49.1,50.9,53.6,56.5,59.8,63.7,67.5,44,46,48,50,52,54,56,58,60,62,64,66,68,70,{"$f":"'اندازه های شخصی'!G23","v":46.2},{"$f":"'اندازه های شخصی'!I23","v":0},{"$f":"'اندازه های شخصی'!K23","v":0},{"$f":"'اندازه های شخصی'!M23","v":0},{"$f":"'اندازه های شخصی'!O23","v":0},{"$f":"'اندازه های شخصی'!Q23","v":0},{"$f":"'اندازه های شخصی'!S23","v":0},{"$f":"'اندازه های شخصی'!U23","v":0},{"$f":"'اندازه های شخصی'!W23","v":0},{"$f":"'اندازه های شخصی'!Y23","v":0},{"$f":"'اندازه های شخصی'!AA23","v":0},{"$f":"'اندازه های شخصی'!AC23","v":0},{"$f":"'اندازه های شخصی'!AE23","v":0},{"$f":"'اندازه های شخصی'!AG23","v":0},{"$f":"'اندازه های شخصی'!AI23","v":0},{"$f":"'اندازه های شخصی'!AK23","v":0},{"$f":"'اندازه های شخصی'!AM23","v":0},{"$f":"'اندازه های شخصی'!AO23","v":0},{"$f":"'اندازه های شخصی'!AQ23","v":0},{"$f":"'اندازه های شخصی'!AS23","v":0},{"$f":"'اندازه های شخصی'!AU23","v":0},{"$f":"'اندازه های شخصی'!AW23","v":0},{"$f":"'اندازه های شخصی'!AY23","v":0},{"$f":"'اندازه های شخصی'!BA23","v":0},{"$f":"'اندازه های شخصی'!BC23","v":0},{"$f":"'اندازه های شخصی'!BE23","v":0},{"$f":"'اندازه های شخصی'!BG23","v":0},{"$f":"'اندازه های شخصی'!BI23","v":0},{"$f":"'اندازه های شخصی'!BK23","v":0},{"$f":"'اندازه های شخصی'!BM23","v":0},{"$f":"'اندازه های شخصی'!BO23","v":0},{"$f":"'اندازه های شخصی'!BQ23","v":0},{"$f":"'اندازه های شخصی'!BS23","v":0},{"$f":"'اندازه های شخصی'!BU23","v":0},{"$f":"'اندازه های شخصی'!BW23","v":0},{"$f":"'اندازه های شخصی'!BY23","v":0},{"$f":"'اندازه های شخصی'!CA23","v":0},{"$f":"'اندازه های شخصی'!CC23","v":0},{"$f":"'اندازه های شخصی'!CE23","v":0},{"$f":"'اندازه های شخصی'!CG23","v":0}]
["ضریب بلند شدن آستین به سمت زیر بغل c4","(از 0 الی 1)",0.7,"آستین تا زیر بغل=0 \nبدون آستین= 1  ",{"$f":"'طراحی همه الگوها'!Q236","v":30}," بلند شدن آستین به سمت زیر بغل ",30,0.7,10,0.1,0.03,-0.19999999999999996,0,6.6666666666666652,1,40,0,6.6666666666666652,null,"t1",15.8,16.2,18.3,20.3,21.3,24.4,26.5,26.9,28.6,30.2,31.8,33.299999999999997,35.5,36.5,37.299999999999997,38.200000000000003,39,39.799999999999997,43.6,43.8,44.1,44.4,44.8,45,45,45.6,45.9,46.3,46.3,46.6,46.3,46.5,46.9,47.2,47.3,47.5,47.7,48,48.1,48.1,48.3,48.2,48.6,48.7,48.8,48.9,21.8,22.8,25.8,28.2,28.4,30.2,31.7,33.299999999999997,34.9,37.200000000000003,38.200000000000003,39.1,39.700000000000003,40.5,40.9,43.6,43.8,44.1,44.4,44.8,45,45,45.6,45.9,46.3,46.3,46.6,46.3,46.5,46.3,46.3,46,46,45.6,45.6,45.4,45,44.8,44.4,44.4,44.2,44,43.6,{"$f":"'اندازه های شخصی'!G24","v":42.9},{"$f":"'اندازه های شخصی'!I24","v":0},{"$f":"'اندازه های شخصی'!K24","v":0},{"$f":"'اندازه های شخصی'!M24","v":0},{"$f":"'اندازه های شخصی'!O24","v":0},{"$f":"'اندازه های شخصی'!Q24","v":0},{"$f":"'اندازه های شخصی'!S24","v":0},{"$f":"'اندازه های شخصی'!U24","v":0},{"$f":"'اندازه های شخصی'!W24","v":0},{"$f":"'اندازه های شخصی'!Y24","v":0},{"$f":"'اندازه های شخصی'!AA24","v":0},{"$f":"'اندازه های شخصی'!AC24","v":0},{"$f":"'اندازه های شخصی'!AE24","v":0},{"$f":"'اندازه های شخصی'!AG24","v":0},{"$f":"'اندازه های شخصی'!AI24","v":0},{"$f":"'اندازه های شخصی'!AK24","v":0},{"$f":"'اندازه های شخصی'!AM24","v":0},{"$f":"'اندازه های شخصی'!AO24","v":0},{"$f":"'اندازه های شخصی'!AQ24","v":0},{"$f":"'اندازه های شخصی'!AS24","v":0},{"$f":"'اندازه های شخصی'!AU24","v":0},{"$f":"'اندازه های شخصی'!AW24","v":0},{"$f":"'اندازه های شخصی'!AY24","v":0},{"$f":"'اندازه های شخصی'!BA24","v":0},{"$f":"'اندازه های شخصی'!BC24","v":0},{"$f":"'اندازه های شخصی'!BE24","v":0},{"$f":"'اندازه های شخصی'!BG24","v":0},{"$f":"'اندازه های شخصی'!BI24","v":0},{"$f":"'اندازه های شخصی'!BK24","v":0},{"$f":"'اندازه های شخصی'!BM24","v":0},{"$f":"'اندازه های شخصی'!BO24","v":0},{"$f":"'اندازه های شخصی'!BQ24","v":0},{"$f":"'اندازه های شخصی'!BS24","v":0},{"$f":"'اندازه های شخصی'!BU24","v":0},{"$f":"'اندازه های شخصی'!BW24","v":0},{"$f":"'اندازه های شخصی'!BY24","v":0},{"$f":"'اندازه های شخصی'!CA24","v":0},{"$f":"'اندازه های شخصی'!CC24","v":0},{"$f":"'اندازه های شخصی'!CE24","v":0},{"$f":"'اندازه های شخصی'!CG24","v":0}]
["ضریب گشادی پایین چادر (به درجه) c5","(از 0 الی حداکثر)",20,"چادر راسته بدون گشادی=0  ",{"$f":"'طراحی همه الگوها'!Q237","v":20},"ضریب گشادی پایین چادر (درجه) ",21,21,20,20,1,0,0,0,2,2,0,0,null,"t2",19.399999999999999,19.899999999999999,22.2,24.5,25.7,28.7,31,31.6,33.4,35.200000000000003,36.9,38.6,40.9,42.1,43.3,44.5,45.7,46.9,50.8,51.4,51.9,52.5,53.5,54.3,55.1,56.4,57.5,58.7,59.8,61,62.1,63.3,53.7,54.3,54.7,55.3,55.6,56.2,56.8,57.2,57.7,58.1,58.7,59.1,59.7,60.1,26.6,27.9,31.1,33.6,34.200000000000003,36.1,37.9,39.799999999999997,41.8,44.3,45.5,46.9,48,49.4,50.6,50.8,51.4,51.9,52.5,53.5,54.3,55.1,56.4,57.5,58.7,59.8,61,62.1,63.3,55.9,56.4,56.7,57.3,57.7,58.3,58.9,59.3,59.9,60.2,60.8,61.4,62,62.4,{"$f":"'اندازه های شخصی'!G25","v":53},{"$f":"'اندازه های شخصی'!I25","v":0},{"$f":"'اندازه های شخصی'!K25","v":0},{"$f":"'اندازه های شخصی'!M25","v":0},{"$f":"'اندازه های شخصی'!O25","v":0},{"$f":"'اندازه های شخصی'!Q25","v":0},{"$f":"'اندازه های شخصی'!S25","v":0},{"$f":"'اندازه های شخصی'!U25","v":0},{"$f":"'اندازه های شخصی'!W25","v":0},{"$f":"'اندازه های شخصی'!Y25","v":0},{"$f":"'اندازه های شخصی'!AA25","v":0},{"$f":"'اندازه های شخصی'!AC25","v":0},{"$f":"'اندازه های شخصی'!AE25","v":0},{"$f":"'اندازه های شخصی'!AG25","v":0},{"$f":"'اندازه های شخصی'!AI25","v":0},{"$f":"'اندازه های شخصی'!AK25","v":0},{"$f":"'اندازه های شخصی'!AM25","v":0},{"$f":"'اندازه های شخصی'!AO25","v":0},{"$f":"'اندازه های شخصی'!AQ25","v":0},{"$f":"'اندازه های شخصی'!AS25","v":0},{"$f":"'اندازه های شخصی'!AU25","v":0},{"$f":"'اندازه های شخصی'!AW25","v":0},{"$f":"'اندازه های شخصی'!AY25","v":0},{"$f":"'اندازه های شخصی'!BA25","v":0},{"$f":"'اندازه های شخصی'!BC25","v":0},{"$f":"'اندازه های شخصی'!BE25","v":0},{"$f":"'اندازه های شخصی'!BG25","v":0},{"$f":"'اندازه های شخصی'!BI25","v":0},{"$f":"'اندازه های شخصی'!BK25","v":0},{"$f":"'اندازه های شخصی'!BM25","v":0},{"$f":"'اندازه های شخصی'!BO25","v":0},{"$f":"'اندازه های شخصی'!BQ25","v":0},{"$f":"'اندازه های شخصی'!BS25","v":0},{"$f":"'اندازه های شخصی'!BU25","v":0},{"$f":"'اندازه های شخصی'!BW25","v":0},{"$f":"'اندازه های شخصی'!BY25","v":0},{"$f":"'اندازه های شخصی'!CA25","v":0},{"$f":"'اندازه های شخصی'!CC25","v":0},{"$f":"'اندازه های شخصی'!CE25","v":0},{"$f":"'اندازه های شخصی'!CG25","v":0}]
["حداکثر مقدار  c5  برای اندام شما",{"$f":"ROUND(DEGREES(محاسبات!BL46-RADIANS(45)+محاسبات!BL42),0)","v":53},null,null,null,"حداکثر مقدار ضریب گشادی پایین چادر  برای اندام شما",null,null,null,null,null,null,null,null,null,null,null,null,null,"t3",33,34,38,42,44,49,53,54,57,60,63,66,70,72,74,76,78,80,80,81,82,83,84.4,85.7,87,88.9,90.8,92.6,94.5,96.3,98.2,100,86.8,87.6,88.4,89.2,90,90.8,91.6,92.4,93.2,94,94.8,95.6,96.4,97.2,42,44,49,53,54,57,60,63,66,70,72,74,76,78,80,80,81,82,83,84.4,85.7,87,88.9,90.8,92.6,94.5,96.3,98.2,100,88.2,89,89.7,90.5,91.3,92.1,92.9,93.7,94.5,95.3,96.1,97.1,97.9,98.7,{"$f":"'اندازه های شخصی'!G26","v":89},{"$f":"'اندازه های شخصی'!I26","v":0},{"$f":"'اندازه های شخصی'!K26","v":0},{"$f":"'اندازه های شخصی'!M26","v":0},{"$f":"'اندازه های شخصی'!O26","v":0},{"$f":"'اندازه های شخصی'!Q26","v":0},{"$f":"'اندازه های شخصی'!S26","v":0},{"$f":"'اندازه های شخصی'!U26","v":0},{"$f":"'اندازه های شخصی'!W26","v":0},{"$f":"'اندازه های شخصی'!Y26","v":0},{"$f":"'اندازه های شخصی'!AA26","v":0},{"$f":"'اندازه های شخصی'!AC26","v":0},{"$f":"'اندازه های شخصی'!AE26","v":0},{"$f":"'اندازه های شخصی'!AG26","v":0},{"$f":"'اندازه های شخصی'!AI26","v":0},{"$f":"'اندازه های شخصی'!AK26","v":0},{"$f":"'اندازه های شخصی'!AM26","v":0},{"$f":"'اندازه های شخصی'!AO26","v":0},{"$f":"'اندازه های شخصی'!AQ26","v":0},{"$f":"'اندازه های شخصی'!AS26","v":0},{"$f":"'اندازه های شخصی'!AU26","v":0},{"$f":"'اندازه های شخصی'!AW26","v":0},{"$f":"'اندازه های شخصی'!AY26","v":0},{"$f":"'اندازه های شخصی'!BA26","v":0},{"$f":"'اندازه های شخصی'!BC26","v":0},{"$f":"'اندازه های شخصی'!BE26","v":0},{"$f":"'اندازه های شخصی'!BG26","v":0},{"$f":"'اندازه های شخصی'!BI26","v":0},{"$f":"'اندازه های شخصی'!BK26","v":0},{"$f":"'اندازه های شخصی'!BM26","v":0},{"$f":"'اندازه های شخصی'!BO26","v":0},{"$f":"'اندازه های شخصی'!BQ26","v":0},{"$f":"'اندازه های شخصی'!BS26","v":0},{"$f":"'اندازه های شخصی'!BU26","v":0},{"$f":"'اندازه های شخصی'!BW26","v":0},{"$f":"'اندازه های شخصی'!BY26","v":0},{"$f":"'اندازه های شخصی'!CA26","v":0},{"$f":"'اندازه های شخصی'!CC26","v":0},{"$f":"'اندازه های شخصی'!CE26","v":0},{"$f":"'اندازه های شخصی'!CG26","v":0}]
["انتخاب چادر تا پایین پیشانی=1    انتخاب چادر تا بالای پیشانی=0\nانتخاب چادر روی سر = -1"," -1 یا 0 یا 1",{"$f":"K32*E32+L32","v":0},null,{"$f":"'طراحی همه الگوها'!Q239","v":2},"انتخاب چادر تا پایین پیشانی=3    انتخاب چادر تا بالای پیشانی=2\nانتخاب چادر روی سر = 1",2,0,1,-1,{"$f":"(J32-H32)/(I32-G32)","v":1},{"$f":"H32-G32*K32","v":-2},0,{"$f":"(M32-L32)/K32","v":2},1,{"$f":"(O32-L32)/K32","v":3},0,{"$f":"(Q32-L32)/K32","v":2},null,"t4",8.1,8.3000000000000007,9.4,10.4,10.9,12.5,13.6,13.8,14.7,15.5,16.3,17.100000000000001,18.2,18.7,19.100000000000001,19.600000000000001,20,20.399999999999999,21.9,22.1,22.3,22.5,22.8,23,23.1,23.5,23.7,23.9,23.9,24,23.8,23.8,24.7,24.8,24.8,24.9,25,25.1,25.1,25.1,25.2,25.1,25.3,25.4,25.4,25.4,10.8,11.3,12.8,14,14.1,15,15.8,16.600000000000001,17.399999999999999,18.600000000000001,19,19.399999999999999,19.7,20.100000000000001,20.3,21.9,22.1,22.3,22.5,22.8,23,23.1,23.5,23.7,23.9,23.9,24,23.8,23.8,22.9,22.9,22.7,22.7,22.5,22.5,22.4,22.2,22.1,21.9,21.9,21.8,21.7,21.5,{"$f":"'اندازه های شخصی'!G27","v":22.3},{"$f":"'اندازه های شخصی'!I27","v":0},{"$f":"'اندازه های شخصی'!K27","v":0},{"$f":"'اندازه های شخصی'!M27","v":0},{"$f":"'اندازه های شخصی'!O27","v":0},{"$f":"'اندازه های شخصی'!Q27","v":0},{"$f":"'اندازه های شخصی'!S27","v":0},{"$f":"'اندازه های شخصی'!U27","v":0},{"$f":"'اندازه های شخصی'!W27","v":0},{"$f":"'اندازه های شخصی'!Y27","v":0},{"$f":"'اندازه های شخصی'!AA27","v":0},{"$f":"'اندازه های شخصی'!AC27","v":0},{"$f":"'اندازه های شخصی'!AE27","v":0},{"$f":"'اندازه های شخصی'!AG27","v":0},{"$f":"'اندازه های شخصی'!AI27","v":0},{"$f":"'اندازه های شخصی'!AK27","v":0},{"$f":"'اندازه های شخصی'!AM27","v":0},{"$f":"'اندازه های شخصی'!AO27","v":0},{"$f":"'اندازه های شخصی'!AQ27","v":0},{"$f":"'اندازه های شخصی'!AS27","v":0},{"$f":"'اندازه های شخصی'!AU27","v":0},{"$f":"'اندازه های شخصی'!AW27","v":0},{"$f":"'اندازه های شخصی'!AY27","v":0},{"$f":"'اندازه های شخصی'!BA27","v":0},{"$f":"'اندازه های شخصی'!BC27","v":0},{"$f":"'اندازه های شخصی'!BE27","v":0},{"$f":"'اندازه های شخصی'!BG27","v":0},{"$f":"'اندازه های شخصی'!BI27","v":0},{"$f":"'اندازه های شخصی'!BK27","v":0},{"$f":"'اندازه های شخصی'!BM27","v":0},{"$f":"'اندازه های شخصی'!BO27","v":0},{"$f":"'اندازه های شخصی'!BQ27","v":0},{"$f":"'اندازه های شخصی'!BS27","v":0},{"$f":"'اندازه های شخصی'!BU27","v":0},{"$f":"'اندازه های شخصی'!BW27","v":0},{"$f":"'اندازه های شخصی'!BY27","v":0},{"$f":"'اندازه های شخصی'!CA27","v":0},{"$f":"'اندازه های شخصی'!CC27","v":0},{"$f":"'اندازه های شخصی'!CE27","v":0},{"$f":"'اندازه های شخصی'!CG27","v":0}]
["ضریب فاصله افقی مرغک از خط مرکزی جلو","(از -1 الی 4)",{"$f":"K33*E33+L33","v":2},"خط مرکزی جلو=0 \nخط پهلو=1  ",{"$f":"'طراحی همه الگوها'!Q240","v":40},"ضریب فاصله افقی مرغک از خط مرکزی جلو",20,1,0,0,{"$f":"(J33-H33)/(I33-G33)","v":0.05},{"$f":"H33-G33*K33","v":0},-1,{"$f":"(M33-L33)/K33","v":-20},4,{"$f":"(O33-L33)/K33","v":80},0,{"$f":"(Q33-L33)/K33","v":0},null,"t5",10.1,10.4,11.6,12.8,13.4,15,16.2,16.5,17.5,18.399999999999999,19.3,20.2,21.4,22,22.6,23.3,23.9,24.5,25.4,25.7,26,26.3,26.7,27,27.3,27.8,28.2,28.7,29.1,29.6,30,30.5,28.8,29.1,29.3,29.6,29.8,30.1,30.4,30.6,30.9,31.1,31.4,31.7,32,32.200000000000003,13.7,14.4,16,17.3,17.600000000000001,18.600000000000001,19.600000000000001,20.6,21.6,22.9,23.5,24.2,24.8,25.5,26.1,25.4,25.7,26,26.3,26.7,27,27.3,27.8,28.2,28.7,29.1,29.6,30,30.5,28.8,29.1,29.3,29.6,29.8,30.1,30.4,30.6,30.9,31.1,31.4,31.7,32,32.200000000000003,{"$f":"'اندازه های شخصی'!G28","v":26.3},{"$f":"'اندازه های شخصی'!I28","v":0},{"$f":"'اندازه های شخصی'!K28","v":0},{"$f":"'اندازه های شخصی'!M28","v":0},{"$f":"'اندازه های شخصی'!O28","v":0},{"$f":"'اندازه های شخصی'!Q28","v":0},{"$f":"'اندازه های شخصی'!S28","v":0},{"$f":"'اندازه های شخصی'!U28","v":0},{"$f":"'اندازه های شخصی'!W28","v":0},{"$f":"'اندازه های شخصی'!Y28","v":0},{"$f":"'اندازه های شخصی'!AA28","v":0},{"$f":"'اندازه های شخصی'!AC28","v":0},{"$f":"'اندازه های شخصی'!AE28","v":0},{"$f":"'اندازه های شخصی'!AG28","v":0},{"$f":"'اندازه های شخصی'!AI28","v":0},{"$f":"'اندازه های شخصی'!AK28","v":0},{"$f":"'اندازه های شخصی'!AM28","v":0},{"$f":"'اندازه های شخصی'!AO28","v":0},{"$f":"'اندازه های شخصی'!AQ28","v":0},{"$f":"'اندازه های شخصی'!AS28","v":0},{"$f":"'اندازه های شخصی'!AU28","v":0},{"$f":"'اندازه های شخصی'!AW28","v":0},{"$f":"'اندازه های شخصی'!AY28","v":0},{"$f":"'اندازه های شخصی'!BA28","v":0},{"$f":"'اندازه های شخصی'!BC28","v":0},{"$f":"'اندازه های شخصی'!BE28","v":0},{"$f":"'اندازه های شخصی'!BG28","v":0},{"$f":"'اندازه های شخصی'!BI28","v":0},{"$f":"'اندازه های شخصی'!BK28","v":0},{"$f":"'اندازه های شخصی'!BM28","v":0},{"$f":"'اندازه های شخصی'!BO28","v":0},{"$f":"'اندازه های شخصی'!BQ28","v":0},{"$f":"'اندازه های شخصی'!BS28","v":0},{"$f":"'اندازه های شخصی'!BU28","v":0},{"$f":"'اندازه های شخصی'!BW28","v":0},{"$f":"'اندازه های شخصی'!BY28","v":0},{"$f":"'اندازه های شخصی'!CA28","v":0},{"$f":"'اندازه های شخصی'!CC28","v":0},{"$f":"'اندازه های شخصی'!CE28","v":0},{"$f":"'اندازه های شخصی'!CG28","v":0}]
["ضریب فاصله عمودی مرغک از زمین","(از 0 الی 5)",{"$f":"K34*E34+L34","v":1.25},"خط زمین=0 \nخط زانو=1 \nخط باسن=2 \nخط کمر=3 \nخط سینه=4  ",{"$f":"'طراحی همه الگوها'!Q241","v":35},"ضریب فاصله عمودی مرغک از زمین",10,0,30,1,{"$f":"(J34-H34)/(I34-G34)","v":0.05},{"$f":"H34-G34*K34","v":-0.5},0,{"$f":"(M34-L34)/K34","v":10},5,{"$f":"(O34-L34)/K34","v":110},0,{"$f":"(Q34-L34)/K34","v":10},null,"t6",16.8,17.3,19.399999999999999,21.4,22.4,25,27,27.5,29.1,30.6,32.1,33.700000000000003,35.700000000000003,36.700000000000003,37.700000000000003,38.799999999999997,39.799999999999997,40.799999999999997,39,39.5,40,40.5,41,41.5,42,42.7,43.4,44.1,44.8,45.5,46.2,46.9,44.3,44.7,45.1,45.5,45.9,46.3,46.7,47.1,47.5,47.9,48.3,48.8,49.2,49.6,21.1,22.1,24.6,26.6,27.1,28.6,30.2,31.7,33.200000000000003,35.200000000000003,36.200000000000003,37.200000000000003,38.200000000000003,39.200000000000003,40.200000000000003,39,39.5,40,40.5,41,41.5,42,42.7,43.4,44.1,44.8,45.5,46.2,46.9,44.3,44.7,45.1,45.5,45.9,46.3,46.7,47.1,47.5,47.9,48.3,48.8,49.2,49.6,{"$f":"'اندازه های شخصی'!G29","v":42.6},{"$f":"'اندازه های شخصی'!I29","v":0},{"$f":"'اندازه های شخصی'!K29","v":0},{"$f":"'اندازه های شخصی'!M29","v":0},{"$f":"'اندازه های شخصی'!O29","v":0},{"$f":"'اندازه های شخصی'!Q29","v":0},{"$f":"'اندازه های شخصی'!S29","v":0},{"$f":"'اندازه های شخصی'!U29","v":0},{"$f":"'اندازه های شخصی'!W29","v":0},{"$f":"'اندازه های شخصی'!Y29","v":0},{"$f":"'اندازه های شخصی'!AA29","v":0},{"$f":"'اندازه های شخصی'!AC29","v":0},{"$f":"'اندازه های شخصی'!AE29","v":0},{"$f":"'اندازه های شخصی'!AG29","v":0},{"$f":"'اندازه های شخصی'!AI29","v":0},{"$f":"'اندازه های شخصی'!AK29","v":0},{"$f":"'اندازه های شخصی'!AM29","v":0},{"$f":"'اندازه های شخصی'!AO29","v":0},{"$f":"'اندازه های شخصی'!AQ29","v":0},{"$f":"'اندازه های شخصی'!AS29","v":0},{"$f":"'اندازه های شخصی'!AU29","v":0},{"$f":"'اندازه های شخصی'!AW29","v":0},{"$f":"'اندازه های شخصی'!AY29","v":0},{"$f":"'اندازه های شخصی'!BA29","v":0},{"$f":"'اندازه های شخصی'!BC29","v":0},{"$f":"'اندازه های شخصی'!BE29","v":0},{"$f":"'اندازه های شخصی'!BG29","v":0},{"$f":"'اندازه های شخصی'!BI29","v":0},{"$f":"'اندازه های شخصی'!BK29","v":0},{"$f":"'اندازه های شخصی'!BM29","v":0},{"$f":"'اندازه های شخصی'!BO29","v":0},{"$f":"'اندازه های شخصی'!BQ29","v":0},{"$f":"'اندازه های شخصی'!BS29","v":0},{"$f":"'اندازه های شخصی'!BU29","v":0},{"$f":"'اندازه های شخصی'!BW29","v":0},{"$f":"'اندازه های شخصی'!BY29","v":0},{"$f":"'اندازه های شخصی'!CA29","v":0},{"$f":"'اندازه های شخصی'!CC29","v":0},{"$f":"'اندازه های شخصی'!CE29","v":0},{"$f":"'اندازه های شخصی'!CG29","v":0}]
[null,null,null,null,null,null,null,null,null,null,null,null,null,null,null,null,null,null,null,"v",25,27,27,28,28,30,30,31,31,32,32,33,34,35,36,37,38,39,36,37,38,39,40.200000000000003,41.4,42.6,43.8,45,46,47,48,49,50,39,40,41,42,43,44,45,46,47,48,49,50,51,52,28,28,30,30,31,31,32,32,33,34,35,36,37,38,39,36,37,38,39,40.200000000000003,41.4,42.6,43.8,45,46,47,48,49,50,39,40,41,42,43,44,45,46,47,48,49,50,51,52,{"$f":"'اندازه های شخصی'!G30","v":46},{"$f":"'اندازه های شخصی'!I30","v":0},{"$f":"'اندازه های شخصی'!K30","v":0},{"$f":"'اندازه های شخصی'!M30","v":0},{"$f":"'اندازه های شخصی'!O30","v":0},{"$f":"'اندازه های شخصی'!Q30","v":0},{"$f":"'اندازه های شخصی'!S30","v":0},{"$f":"'اندازه های شخصی'!U30","v":0},{"$f":"'اندازه های شخصی'!W30","v":0},{"$f":"'اندازه های شخصی'!Y30","v":0},{"$f":"'اندازه های شخصی'!AA30","v":0},{"$f":"'اندازه های شخصی'!AC30","v":0},{"$f":"'اندازه های شخصی'!AE30","v":0},{"$f":"'اندازه های شخصی'!AG30","v":0},{"$f":"'اندازه های شخصی'!AI30","v":0},{"$f":"'اندازه های شخصی'!AK30","v":0},{"$f":"'اندازه های شخصی'!AM30","v":0},{"$f":"'اندازه های شخصی'!AO30","v":0},{"$f":"'اندازه های شخصی'!AQ30","v":0},{"$f":"'اندازه های شخصی'!AS30","v":0},{"$f":"'اندازه های شخصی'!AU30","v":0},{"$f":"'اندازه های شخصی'!AW30","v":0},{"$f":"'اندازه های شخصی'!AY30","v":0},{"$f":"'اندازه های شخصی'!BA30","v":0},{"$f":"'اندازه های شخصی'!BC30","v":0},{"$f":"'اندازه های شخصی'!BE30","v":0},{"$f":"'اندازه های شخصی'!BG30","v":0},{"$f":"'اندازه های شخصی'!BI30","v":0},{"$f":"'اندازه های شخصی'!BK30","v":0},{"$f":"'اندازه های شخصی'!BM30","v":0},{"$f":"'اندازه های شخصی'!BO30","v":0},{"$f":"'اندازه های شخصی'!BQ30","v":0},{"$f":"'اندازه های شخصی'!BS30","v":0},{"$f":"'اندازه های شخصی'!BU30","v":0},{"$f":"'اندازه های شخصی'!BW30","v":0},{"$f":"'اندازه های شخصی'!BY30","v":0},{"$f":"'اندازه های شخصی'!CA30","v":0},{"$f":"'اندازه های شخصی'!CC30","v":0},{"$f":"'اندازه های شخصی'!CE30","v":0},{"$f":"'اندازه های شخصی'!CG30","v":0}]
[" متغیرهای ورودی چادر شماره 5",null,null,null,null," متغیرهای ورودی چادر شماره 5","x1","y1","x2","y2(بهینه)","a","b",null,"کمترین",null,"بیشترین",null,null,null,"v3",17.7,18.399999999999999,19.2,20.399999999999999,21.2,22,22.7,23.5,24.2,25.2,26,27,27.8,28.9,30.5,31.8,33.4,35.1,31.9,32.9,33.9,34.799999999999997,36,37.1,38.299999999999997,39.5,40.9,43.2,45.7,48.6,52.1,55.5,35.200000000000003,36.9,38.6,40.200000000000003,41.9,43.6,45.4,47.3,49.1,51.8,52.8,54.6,56.5,58.3,20.399999999999999,21.2,22,22.7,23.5,24.2,25.2,26,27,27.8,28.9,30.5,31.8,33.4,35.1,31.9,32.9,33.9,34.799999999999997,36,37.1,38.299999999999997,39.5,40.9,43.2,45.7,48.6,52.1,55.5,35.5,37.200000000000003,38.9,40.6,42.3,44,45.8,47.7,49.5,51.4,53.2,55.1,56.9,58.8,{"$f":"'اندازه های شخصی'!G31","v":38},{"$f":"'اندازه های شخصی'!I31","v":0},{"$f":"'اندازه های شخصی'!K31","v":0},{"$f":"'اندازه های شخصی'!M31","v":0},{"$f":"'اندازه های شخصی'!O31","v":0},{"$f":"'اندازه های شخصی'!Q31","v":0},{"$f":"'اندازه های شخصی'!S31","v":0},{"$f":"'اندازه های شخصی'!U31","v":0},{"$f":"'اندازه های شخصی'!W31","v":0},{"$f":"'اندازه های شخصی'!Y31","v":0},{"$f":"'اندازه های شخصی'!AA31","v":0},{"$f":"'اندازه های شخصی'!AC31","v":0},{"$f":"'اندازه های شخصی'!AE31","v":0},{"$f":"'اندازه های شخصی'!AG31","v":0},{"$f":"'اندازه های شخصی'!AI31","v":0},{"$f":"'اندازه های شخصی'!AK31","v":0},{"$f":"'اندازه های شخصی'!AM31","v":0},{"$f":"'اندازه های شخصی'!AO31","v":0},{"$f":"'اندازه های شخصی'!AQ31","v":0},{"$f":"'اندازه های شخصی'!AS31","v":0},{"$f":"'اندازه های شخصی'!AU31","v":0},{"$f":"'اندازه های شخصی'!AW31","v":0},{"$f":"'اندازه های شخصی'!AY31","v":0},{"$f":"'اندازه های شخصی'!BA31","v":0},{"$f":"'اندازه های شخصی'!BC31","v":0},{"$f":"'اندازه های شخصی'!BE31","v":0},{"$f":"'اندازه های شخصی'!BG31","v":0},{"$f":"'اندازه های شخصی'!BI31","v":0},{"$f":"'اندازه های شخصی'!BK31","v":0},{"$f":"'اندازه های شخصی'!BM31","v":0},{"$f":"'اندازه های شخصی'!BO31","v":0},{"$f":"'اندازه های شخصی'!BQ31","v":0},{"$f":"'اندازه های شخصی'!BS31","v":0},{"$f":"'اندازه های شخصی'!BU31","v":0},{"$f":"'اندازه های شخصی'!BW31","v":0},{"$f":"'اندازه های شخصی'!BY31","v":0},{"$f":"'اندازه های شخصی'!CA31","v":0},{"$f":"'اندازه های شخصی'!CC31","v":0},{"$f":"'اندازه های شخصی'!CE31","v":0},{"$f":"'اندازه های شخصی'!CG31","v":0}]
["ضریب فاصله لبه چادر تا زمین   j0","(از -0.1 الی 0.5)",{"$f":"K37*E37+L37","v":0},"خط زمین=0 \nخط زانو=1  ",{"$f":"'طراحی همه الگوها'!Q249","v":10},"ضریب فاصله لبه چادر تا زمین   ",10,0,30,1,{"$f":"(J37-H37)/(I37-G37)","v":0.05},{"$f":"H37-G37*K37","v":-0.5},-0.1,{"$f":"(M37-L37)/K37","v":8},0.5,{"$f":"(O37-L37)/K37","v":20},0,{"$f":"(Q37-L37)/K37","v":10},null,"w2",16,17,18,19,20,21,22,23,24,24,25,25,26,27.5,29,30,31.5,33,27,28.2,29.4,30.6,32,33.799999999999997,35.4,37,38.5,40,41.5,43,44.5,46,33.9,35.1,36.299999999999997,37.6,38.799999999999997,40,40.700000000000003,41.3,41.9,42.5,43.1,43.7,44.4,45,19,20,21,22,23,24,24,25,25,26,27.5,29,30,31.5,33,27,28.2,29.4,30.6,32,33.799999999999997,35.4,37,38.5,40,41.5,43,44.5,46,33.9,35.1,36.299999999999997,37.6,38.799999999999997,40,40.700000000000003,41.3,41.9,42.5,43.1,43.7,44.4,45,{"$f":"'اندازه های شخصی'!G32","v":34},{"$f":"'اندازه های شخصی'!I32","v":0},{"$f":"'اندازه های شخصی'!K32","v":0},{"$f":"'اندازه های شخصی'!M32","v":0},{"$f":"'اندازه های شخصی'!O32","v":0},{"$f":"'اندازه های شخصی'!Q32","v":0},{"$f":"'اندازه های شخصی'!S32","v":0},{"$f":"'اندازه های شخصی'!U32","v":0},{"$f":"'اندازه های شخصی'!W32","v":0},{"$f":"'اندازه های شخصی'!Y32","v":0},{"$f":"'اندازه های شخصی'!AA32","v":0},{"$f":"'اندازه های شخصی'!AC32","v":0},{"$f":"'اندازه های شخصی'!AE32","v":0},{"$f":"'اندازه های شخصی'!AG32","v":0},{"$f":"'اندازه های شخصی'!AI32","v":0},{"$f":"'اندازه های شخصی'!AK32","v":0},{"$f":"'اندازه های شخصی'!AM32","v":0},{"$f":"'اندازه های شخصی'!AO32","v":0},{"$f":"'اندازه های شخصی'!AQ32","v":0},{"$f":"'اندازه های شخصی'!AS32","v":0},{"$f":"'اندازه های شخصی'!AU32","v":0},{"$f":"'اندازه های شخصی'!AW32","v":0},{"$f":"'اندازه های شخصی'!AY32","v":0},{"$f":"'اندازه های شخصی'!BA32","v":0},{"$f":"'اندازه های شخصی'!BC32","v":0},{"$f":"'اندازه های شخصی'!BE32","v":0},{"$f":"'اندازه های شخصی'!BG32","v":0},{"$f":"'اندازه های شخصی'!BI32","v":0},{"$f":"'اندازه های شخصی'!BK32","v":0},{"$f":"'اندازه های شخصی'!BM32","v":0},{"$f":"'اندازه های شخصی'!BO32","v":0},{"$f":"'اندازه های شخصی'!BQ32","v":0},{"$f":"'اندازه های شخصی'!BS32","v":0},{"$f":"'اندازه های شخصی'!BU32","v":0},{"$f":"'اندازه های شخصی'!BW32","v":0},{"$f":"'اندازه های شخصی'!BY32","v":0},{"$f":"'اندازه های شخصی'!CA32","v":0},{"$f":"'اندازه های شخصی'!CC32","v":0},{"$f":"'اندازه های شخصی'!CE32","v":0},{"$f":"'اندازه های شخصی'!CG32","v":0}]
["ضریب گشادی دامن چادر  d1","(از 1.5 الی 2.3)",{"$f":"K38*E38+L38","v":1.8},"بهینه=1.8",{"$f":"'طراحی همه الگوها'!Q250","v":20},"ضریب گشادی دامن چادر  ",21,1.85,20,1.8,{"$f":"(J38-H38)/(I38-G38)","v":5.0000000000000044E-2},{"$f":"H38-G38*K38","v":0.79999999999999916},1.5,{"$f":"(M38-L38)/K38","v":14.000000000000004},2.2999999999999998,{"$f":"(O38-L38)/K38","v":29.999999999999986},1.8,{"$f":"(Q38-L38)/K38","v":20},null,"w10",17,18,21,23,27,31,35,38,41,44,46,48,50,52,54,56,58,60,57.2,57.8,58.4,59,59.5,60,60.5,61,61.2,62,62.5,63,63.5,64,60,60.3,60.8,61.4,62,62.5,63,63.5,64,64.400000000000006,64.8,65.2,65.599999999999994,66,23,27,31,35,38,41,44,46,48,50,52,54,56,58,60,57.2,57.8,58.4,59,59.5,60,60.5,61,61.2,62,62.5,63,63.5,64,60,60.3,60.8,61.4,62,62.5,63,63.5,64,64.400000000000006,64.8,65.2,65.599999999999994,66,{"$f":"'اندازه های شخصی'!G33","v":61},{"$f":"'اندازه های شخصی'!I33","v":0},{"$f":"'اندازه های شخصی'!K33","v":0},{"$f":"'اندازه های شخصی'!M33","v":0},{"$f":"'اندازه های شخصی'!O33","v":0},{"$f":"'اندازه های شخصی'!Q33","v":0},{"$f":"'اندازه های شخصی'!S33","v":0},{"$f":"'اندازه های شخصی'!U33","v":0},{"$f":"'اندازه های شخصی'!W33","v":0},{"$f":"'اندازه های شخصی'!Y33","v":0},{"$f":"'اندازه های شخصی'!AA33","v":0},{"$f":"'اندازه های شخصی'!AC33","v":0},{"$f":"'اندازه های شخصی'!AE33","v":0},{"$f":"'اندازه های شخصی'!AG33","v":0},{"$f":"'اندازه های شخصی'!AI33","v":0},{"$f":"'اندازه های شخصی'!AK33","v":0},{"$f":"'اندازه های شخصی'!AM33","v":0},{"$f":"'اندازه های شخصی'!AO33","v":0},{"$f":"'اندازه های شخصی'!AQ33","v":0},{"$f":"'اندازه های شخصی'!AS33","v":0},{"$f":"'اندازه های شخصی'!AU33","v":0},{"$f":"'اندازه های شخصی'!AW33","v":0},{"$f":"'اندازه های شخصی'!AY33","v":0},{"$f":"'اندازه های شخصی'!BA33","v":0},{"$f":"'اندازه های شخصی'!BC33","v":0},{"$f":"'اندازه های شخصی'!BE33","v":0},{"$f":"'اندازه های شخصی'!BG33","v":0},{"$f":"'اندازه های شخصی'!BI33","v":0},{"$f":"'اندازه های شخصی'!BK33","v":0},{"$f":"'اندازه های شخصی'!BM33","v":0},{"$f":"'اندازه های شخصی'!BO33","v":0},{"$f":"'اندازه های شخصی'!BQ33","v":0},{"$f":"'اندازه های شخصی'!BS33","v":0},{"$f":"'اندازه های شخصی'!BU33","v":0},{"$f":"'اندازه های شخصی'!BW33","v":0},{"$f":"'اندازه های شخصی'!BY33","v":0},{"$f":"'اندازه های شخصی'!CA33","v":0},{"$f":"'اندازه های شخصی'!CC33","v":0},{"$f":"'اندازه های شخصی'!CE33","v":0},{"$f":"'اندازه های شخصی'!CG33","v":0}]
["ضریب بلند شدن دسته چادر d2","(از 0.1 الی 1)",{"$f":"K39*E39+L39","v":0.5},"بهینه=0.5",{"$f":"'طراحی همه الگوها'!Q251","v":20},"ضریب بلند شدن دسته چادر ",21,0.55000000000000004,20,0.5,{"$f":"(J39-H39)/(I39-G39)","v":5.0000000000000044E-2},{"$f":"H39-G39*K39","v":-0.50000000000000089},0.1,{"$f":"(M39-L39)/K39","v":12.000000000000007},1,{"$f":"(O39-L39)/K39","v":29.999999999999993},0.5,{"$f":"(Q39-L39)/K39","v":20},null,"w11",10,10,10.5,11,12,12,13,13,13,14,14,15,16,15,16,16.5,17,17.5,16.5,17,17.5,18,18.5,19,19.5,20,20.5,21,21.5,22,22.5,23,17.899999999999999,18.3,18.7,19.100000000000001,19.5,19.899999999999999,20.3,20.7,21.1,21.5,21.9,22.3,22.7,23.1,11,12,12,13,13,13,14,14,15,16,15,16,16.5,17,17.5,16.5,17,17.5,18,18.5,19,19.5,20,20.5,21,21.5,22,22.5,23,17.899999999999999,18.3,18.7,19.100000000000001,19.5,19.899999999999999,20.3,20.7,21.1,21.5,21.9,22.3,22.7,23.1,{"$f":"'اندازه های شخصی'!G34","v":21},{"$f":"'اندازه های شخصی'!I34","v":0},{"$f":"'اندازه های شخصی'!K34","v":0},{"$f":"'اندازه های شخصی'!M34","v":0},{"$f":"'اندازه های شخصی'!O34","v":0},{"$f":"'اندازه های شخصی'!Q34","v":0},{"$f":"'اندازه های شخصی'!S34","v":0},{"$f":"'اندازه های شخصی'!U34","v":0},{"$f":"'اندازه های شخصی'!W34","v":0},{"$f":"'اندازه های شخصی'!Y34","v":0},{"$f":"'اندازه های شخصی'!AA34","v":0},{"$f":"'اندازه های شخصی'!AC34","v":0},{"$f":"'اندازه های شخصی'!AE34","v":0},{"$f":"'اندازه های شخصی'!AG34","v":0},{"$f":"'اندازه های شخصی'!AI34","v":0},{"$f":"'اندازه های شخصی'!AK34","v":0},{"$f":"'اندازه های شخصی'!AM34","v":0},{"$f":"'اندازه های شخصی'!AO34","v":0},{"$f":"'اندازه های شخصی'!AQ34","v":0},{"$f":"'اندازه های شخصی'!AS34","v":0},{"$f":"'اندازه های شخصی'!AU34","v":0},{"$f":"'اندازه های شخصی'!AW34","v":0},{"$f":"'اندازه های شخصی'!AY34","v":0},{"$f":"'اندازه های شخصی'!BA34","v":0},{"$f":"'اندازه های شخصی'!BC34","v":0},{"$f":"'اندازه های شخصی'!BE34","v":0},{"$f":"'اندازه های شخصی'!BG34","v":0},{"$f":"'اندازه های شخصی'!BI34","v":0},{"$f":"'اندازه های شخصی'!BK34","v":0},{"$f":"'اندازه های شخصی'!BM34","v":0},{"$f":"'اندازه های شخصی'!BO34","v":0},{"$f":"'اندازه های شخصی'!BQ34","v":0},{"$f":"'اندازه های شخصی'!BS34","v":0},{"$f":"'اندازه های شخصی'!BU34","v":0},{"$f":"'اندازه های شخصی'!BW34","v":0},{"$f":"'اندازه های شخصی'!BY34","v":0},{"$f":"'اندازه های شخصی'!CA34","v":0},{"$f":"'اندازه های شخصی'!CC34","v":0},{"$f":"'اندازه های شخصی'!CE34","v":0},{"$f":"'اندازه های شخصی'!CG34","v":0}]
["انتخاب چادر تا پایین پیشانی=1    انتخاب چادر تا بالای پیشانی=0\nانتخاب چادر روی سر = -1"," -1 یا 0 یا 1",{"$f":"K40*E40+L40","v":0},null,{"$f":"'طراحی همه الگوها'!Q252","v":2},"انتخاب چادر تا پایین پیشانی=3    انتخاب چادر تا بالای پیشانی=2\nانتخاب چادر روی سر = 1",2,0,1,-1,{"$f":"(J40-H40)/(I40-G40)","v":1},{"$f":"H40-G40*K40","v":-2},0,{"$f":"(M40-L40)/K40","v":2},1,{"$f":"(O40-L40)/K40","v":3},0,{"$f":"(Q40-L40)/K40","v":2},null,"w12",37,38,42,45,47,49,50,51,52,53,53.5,54,54.5,55,55.5,56,56.5,57,57,57,57,57,57,57,57,57,57,57,57,57,57,57,59,59,59,59,59,59,59,59,59,59,59,59,59,59,45,47,49,50,51,52,53,53.5,54,54.5,55,55.5,56,56.5,57,57,57,57,57,57,57,57,57,57,57,57,57,57,57,59,59,59,59,59,59,59,59,59,59,59,59,59,59,{"$f":"'اندازه های شخصی'!G35","v":59},{"$f":"'اندازه های شخصی'!I35","v":0},{"$f":"'اندازه های شخصی'!K35","v":0},{"$f":"'اندازه های شخصی'!M35","v":0},{"$f":"'اندازه های شخصی'!O35","v":0},{"$f":"'اندازه های شخصی'!Q35","v":0},{"$f":"'اندازه های شخصی'!S35","v":0},{"$f":"'اندازه های شخصی'!U35","v":0},{"$f":"'اندازه های شخصی'!W35","v":0},{"$f":"'اندازه های شخصی'!Y35","v":0},{"$f":"'اندازه های شخصی'!AA35","v":0},{"$f":"'اندازه های شخصی'!AC35","v":0},{"$f":"'اندازه های شخصی'!AE35","v":0},{"$f":"'اندازه های شخصی'!AG35","v":0},{"$f":"'اندازه های شخصی'!AI35","v":0},{"$f":"'اندازه های شخصی'!AK35","v":0},{"$f":"'اندازه های شخصی'!AM35","v":0},{"$f":"'اندازه های شخصی'!AO35","v":0},{"$f":"'اندازه های شخصی'!AQ35","v":0},{"$f":"'اندازه های شخصی'!AS35","v":0},{"$f":"'اندازه های شخصی'!AU35","v":0},{"$f":"'اندازه های شخصی'!AW35","v":0},{"$f":"'اندازه های شخصی'!AY35","v":0},{"$f":"'اندازه های شخصی'!BA35","v":0},{"$f":"'اندازه های شخصی'!BC35","v":0},{"$f":"'اندازه های شخصی'!BE35","v":0},{"$f":"'اندازه های شخصی'!BG35","v":0},{"$f":"'اندازه های شخصی'!BI35","v":0},{"$f":"'اندازه های شخصی'!BK35","v":0},{"$f":"'اندازه های شخصی'!BM35","v":0},{"$f":"'اندازه های شخصی'!BO35","v":0},{"$f":"'اندازه های شخصی'!BQ35","v":0},{"$f":"'اندازه های شخصی'!BS35","v":0},{"$f":"'اندازه های شخصی'!BU35","v":0},{"$f":"'اندازه های شخصی'!BW35","v":0},{"$f":"'اندازه های شخصی'!BY35","v":0},{"$f":"'اندازه های شخصی'!CA35","v":0},{"$f":"'اندازه های شخصی'!CC35","v":0},{"$f":"'اندازه های شخصی'!CE35","v":0},{"$f":"'اندازه های شخصی'!CG35","v":0}]
[]
["متغیرهای ورودی بافت ",null,null,null,null,"متغیرهای ورودی بافت ","x1","y1","x2","y2(بهینه)","a","b",null,"کمترین",null,"بیشترین",null,null,null,null,"سایز مناسب برای الگوهای شلوار",{"$f":"IF(W43=1,(IF(Y43<U9-1,\" کوچکتر از یک ماهه \",IF(Y43<V9-1,U6,IF(Y43<W9-1,V6,IF(Y43<X9-1,W6,IF(Y43<Y9-1,X6,IF(Y43<Z9-1,Y6,IF(Y43<AA9-1,Z6,IF(Y43<AB9-1,AA6,IF(Y43<AC9-1,AB6,IF(Y43<AD9-1,AC6,IF(Y43<AE9-1,AD6,IF(Y43<AF9-1,AE6,IF(Y43<AG9-1,AF6,IF(Y43<AH9-1,AG6,IF(Y43<AI9-1,AH6,IF(Y43<AJ9-1,AI6,IF(Y43<AK9-1,AJ6,IF(Y43<AL9-1,AK6,IF(Y43<AL9+3,AL6,\" بزرگتر از 14 ساله \")))))))))))))))))))),IF(W43=2,(IF(Y43<AM9-1,\" کوچکتر از سایز 34 \",IF(Y43<AN9-1,AM6,IF(Y43<AO9-1,AN6,IF(Y43<AP9-1,AO6,IF(Y43<AQ9-1,AP6,IF(Y43<AR9-1,AQ6,IF(Y43<AS9-1,AR6,IF(Y43<AT9-1,AS6,IF(Y43<AU9-1,AT6,IF(Y43<AV9-1,AU6,IF(Y43<AW9-1,AV6,IF(Y43<AX9-1,AW6,IF(Y43<AY9-1,AX6,IF(Y43<AZ9-1,AY6,IF(Y43<AZ9+3,AZ6,\" بزرگتر از سایز 60 \")))))))))))))))),IF(Y43<BA9-1,\"  کوچکتراز سایز 37  \",IF(Y43<BB9-1,BA6,IF(Y43<BC9-1,BB6,IF(Y43<BD9-1,BC6,IF(Y43<BE9-1,BD6,IF(Y43<BF9-1,BE6,IF(Y43<BG9-1,BF6,IF(Y43<BH9-1,BG6,IF(Y43<BI9-1,BH6,IF(Y43<BJ9-1,BI6,IF(Y43<BK9-1,BJ6,IF(Y43<BL9-1,BK6,IF(Y43<BM9-1,BL6,IF(Y43<BN9-1,BM6,IF(Y43<BN9+3,BN6,\" بزرگتر از سایز 50 \")))))))))))))))))","v":" کوچکتر از سایز 34 "},"انتخاب نوع اندازه گیری","کمر اندام","باسن اندام","دور سینه اندام"]
["انتخاب ضخامت میل بافتنی","(2 یا 3 یا 4) ",{"$f":"K43*E43+L43","v":3},null,{"$f":"'طراحی همه الگوها'!H243","v":3},"انتخاب ضخامت میل بافتنی",3,3,2,2,{"$f":"(J43-H43)/(I43-G43)","v":1},{"$f":"H43-G43*K43","v":0},2,{"$f":"(M43-L43)/K43","v":2},4,{"$f":"(O43-L43)/K43","v":4},3,{"$f":"(Q43-L43)/K43","v":3},null,null,"سایز مناسب برای الگوهای دامن",{"$f":"IF(W43=1,(IF(X43<U7-1,\" کوچکتر از یک ماهه \",IF(X43<V7-1,U6,IF(X43<W7-1,V6,IF(X43<X7-1,W6,IF(X43<Y7-1,X6,IF(X43<Z7-1,Y6,IF(X43<AA7-1,Z6,IF(X43<AB7-1,AA6,IF(X43<AC7-1,AB6,IF(X43<AD7-1,AC6,IF(X43<AE7-1,AD6,IF(X43<AF7-1,AE6,IF(X43<AG7-1,AF6,IF(X43<AH7-1,AG6,IF(X43<AI7-1,AH6,IF(X43<AJ7-1,AI6,IF(X43<AK7-1,AJ6,IF(X43<AL7-1,AK6,IF(X43<AL7+3,AL6,\" بزرگتر از 14 ساله \")))))))))))))))))))),IF(W43=2,(IF(X43<AM7-1,\" کوچکتر از سایز 34 \",IF(X43<AN7-1,AM6,IF(X43<AO7-1,AN6,IF(X43<AP7-1,AO6,IF(X43<AQ7-1,AP6,IF(X43<AR7-1,AQ6,IF(X43<AS7-1,AR6,IF(X43<AT7-1,AS6,IF(X43<AU7-1,AT6,IF(X43<AV7-1,AU6,IF(X43<AW7-1,AV6,IF(X43<AX7-1,AW6,IF(X43<AY7-1,AX6,IF(X43<AZ7-1,AY6,IF(X43<AZ7+3,AZ6,\" بزرگتر از سایز 60 \")))))))))))))))),IF(X43<BA7-1,\" کوچکتر از سایز 37 \",IF(X43<BB7-1,BA6,IF(X43<BC7-1,BB6,IF(X43<BD7-1,BC6,IF(X43<BE7-1,BD6,IF(X43<BF7-1,BE6,IF(X43<BG7-1,BF6,IF(X43<BH7-1,BG6,IF(X43<BI7-1,BH6,IF(X43<BJ7-1,BI6,IF(X43<BK7-1,BJ6,IF(X43<BL7-1,BK6,IF(X43<BM7-1,BL6,IF(X43<BN7-1,BM6,IF(X43<BN7+3,BN6,\" بزرگتر از سایز 50 \")))))))))))))))))","v":" کوچکتر از سایز 34 "},2,{"$f":"'اندازه گیری و تحلیل'!E275","v":0},{"$f":"'اندازه گیری و تحلیل'!E272","v":0},{"$f":"'اندازه گیری و تحلیل'!E269","v":0}]
["جمع شوندگی عمودی بافت","(0 الی 2) ",{"$f":"K44*E44+L44","v":0},"بافت ساده و جودانه=0 \nبافت همه از زیر=1 ",{"$f":"'طراحی همه الگوها'!H244","v":0},"جمع شوندگی عمودی بافت",1,0.05,0,0,{"$f":"(J44-H44)/(I44-G44)","v":0.05},{"$f":"H44-G44*K44","v":0},0,{"$f":"(M44-L44)/K44","v":0},2,{"$f":"(O44-L44)/K44","v":40},1,{"$f":"(Q44-L44)/K44","v":20},null,null,"سایز مناسب برای الگوهای پیراهن",{"$f":"IF(W43=1,(IF(Z43<U27-1,\" کوچکتر از یک ماهه \",IF(Z43<V27-1,U6,IF(Z43<W27-1,V6,IF(Z43<X27-1,W6,IF(Z43<Y27-1,X6,IF(Z43<Z27-1,Y6,IF(Z43<AA27-1,Z6,IF(Z43<AB27-1,AA6,IF(Z43<AC27-1,AB6,IF(Z43<AD27-1,AC6,IF(Z43<AE27-1,AD6,IF(Z43<AF27-1,AE6,IF(Z43<AG27-1,AF6,IF(Z43<AH27-1,AG6,IF(Z43<AI27-1,AH6,IF(Z43<AJ27-1,AI6,IF(Z43<AK27-1,AJ6,IF(Z43<AL27-1,AK6,IF(Z43<AL27+3,AL6,\" بزرگتر از 14 ساله \")))))))))))))))))))),IF(W43=2,(IF(Z43<AM27-1,\" کوچکتر از سایز 34 \",IF(Z43<AN27-1,AM6,IF(Z43<AO27-1,AN6,IF(Z43<AP27-1,AO6,IF(Z43<AQ27-1,AP6,IF(Z43<AR27-1,AQ6,IF(Z43<AS27-1,AR6,IF(Z43<AT27-1,AS6,IF(Z43<AU27-1,AT6,IF(Z43<AV27-1,AU6,IF(Z43<AW27-1,AV6,IF(Z43<AX27-1,AW6,IF(Z43<AY27-1,AX6,IF(Z43<AZ27-1,AY6,IF(Z43<AZ27+3,AZ6,\" بزرگتر از سایز 60 \")))))))))))))))),IF(Z43<BA27-1,\" کوچکتر از سایز 37 \",IF(Z43<BB27-1,BA6,IF(Z43<BC27-1,BB6,IF(Z43<BD27-1,BC6,IF(Z43<BE27-1,BD6,IF(Z43<BF27-1,BE6,IF(Z43<BG27-1,BF6,IF(Z43<BH27-1,BG6,IF(Z43<BI27-1,BH6,IF(Z43<BJ27-1,BI6,IF(Z43<BK27-1,BJ6,IF(Z43<BL27-1,BK6,IF(Z43<BM27-1,BL6,IF(Z43<BN27-1,BM6,IF(Z43<BN27+3,BN6,\" بزرگتر از سایز 50 \")))))))))))))))))","v":" کوچکتر از سایز 34 "}]
["جمع شوندگی افقی بافت","(0 الی 2) ",{"$f":"K45*E45+L45","v":0},"بافت ساده و جودانه=0 \nبافت کشباف=1 ",{"$f":"'طراحی همه الگوها'!H245","v":0},"جمع شوندگی افقی بافت",1,0.05,0,0,{"$f":"(J45-H45)/(I45-G45)","v":0.05},{"$f":"H45-G45*K45","v":0},0,{"$f":"(M45-L45)/K45","v":0},2,{"$f":"(O45-L45)/K45","v":40},1,{"$f":"(Q45-L45)/K45","v":20}]
["متغیرهای ورودی پیراهن ",null,null,null,null,"متغیرهای ورودی پیراهن "]
[]
[null,"برچسب الگو :",null,null,null," پنج ساله میل سه"]
[]
[" متغیرهای ورودی - شیفت الگو پیراهن",null,null,null,null," متغیرهای ورودی - شیفت الگو پیراهن","x1","y1","x2","y2(بهینه)","a","b","کمترین قبلی","کمترین جدید","بیشترین قبلی","بیشترین جدید",null,null,"اندازه های خوانده شده در محاسبه الگوها",null,null,null,"اندازه های خوانده شده برای بررسی اندازه ها",null,null,null,null,null,null,null,null,null,null,null,null,"رنج تغییرات اندزه ها","رنج تغییرات متغیرها مثبت و منفی","رنج تغییرات متغیرها مثبت",null,null,"انتخاب نوع سایزبندی","رنج تغییرات  کوچک متغیرها مثبت و منفی"]
["شیفت افقی کل الگو جلو پیراهن  برحسب سانتیمتر","(از -100 الی100)",{"$f":"K51*E51+L51","v":5},"بدون شیفت=0 ",{"$f":"'طراحی مدل 30a'!B329","v":5},"شیفت افقی کل الگو جلو پیراهن  (سانتیمتر)",1,1,0,0,{"$f":"(J51-H51)/(I51-G51)","v":1},{"$f":"H51-G51*K51","v":0},-100,{"$f":"(M51-L51)/K51","v":-100},100,{"$f":"(O51-L51)/K51","v":100},null,null,"اندازه ها در دامن و شلوار",null,"اندازه شخص",null,"اندازه شخص",null,null,null,null,null,null,null,null,null,null,null,null,{"$f":"U6","v":" 1ماهه"},-100,1,"اندازه جدید",null,"سایزبندی بچگانه",-50]
["شیفت عمودی کل الگو جلو پیراهن   برحسب سانتیمتر","(از -100 الی100)",5,"بدون شیفت =0  ",{"$f":"'طراحی مدل 30a'!B330","v":5},"شیفت عمودی کل الگو جلو پیراهن   (سانتیمتر)",1,1,0,0,1,0,-100,-100,100,100,null,null,"دور کمر","a",{"$f":"OFFSET('متغیرها '!T5,2,'متغیرها '!U5)","v":97},null,{"$f":"OFFSET('متغیرها '!T5,2,'متغیرها '!Y5)","v":72},null,null,null,null,null,null,null,null,null,null,null,null,{"$f":"V6","v":"1 تا 3 ماهه"},-99,2,"اندازه های موجود",null,"سایزبندی زنانه",-49.5]
["شیفت افقی کل الگو پشت پیراهن  برحسب سانتیمتر","(از -100 الی100)",15,"بدون شیفت=0 ",{"$f":"'طراحی مدل 30a'!B331","v":15},"شیفت افقی کل الگو پشت پیراهن  (سانتیمتر)",1,1,0,0,1,0,-100,-100,100,100,null,null,"نوار کمر از پشت بین دو خط پهلو","b",{"$f":"OFFSET('متغیرها '!T5,3,'متغیرها '!U5)","v":44.6},null,{"$f":"OFFSET('متغیرها '!T5,3,'متغیرها '!Y5)","v":35.200000000000003},null,null,null,null,null,null,null,null,null,null,null,null,{"$f":"W6","v":" 3 تا 6 ماهه"},-98,3,"انتخاب نوع اندازه گیری",null,"سایزبندی مردانه",-49]
["شیفت عمودی کل الگو پشت پیراهن  برحسب سانتیمتر","(از -100 الی100)",0,"بدون شیفت =0  ",{"$f":"'طراحی مدل 30a'!B332","v":0},"شیفت عمودی کل الگو پشت پیراهن  (سانتیمتر)",1,1,0,0,1,0,-100,-100,100,100,null,null,"دور باسن","c",{"$f":"OFFSET('متغیرها '!T5,4,'متغیرها '!U5)","v":105},null,{"$f":"OFFSET('متغیرها '!T5,4,'متغیرها '!Y5)","v":97},null,null,null,null,null,null,null,null,null,null,null,null,{"$f":"X6","v":"6ماهه تا یکساله"},-97,4,"اندازه گیری پیشرفته و با جزئیات",null,null,-48.5]
["شیفت افقی تکه  پهلو جلو   برحسب سانتیمتر","(از -100 الی100)",0,"بدون شیفت=0 ",{"$f":"'طراحی همه الگوها'!B187","v":0},"شیفت افقی تکه  پهلو جلو   (سانتیمتر)",1,1,0,0,1,0,-100,-100,100,100,null,null,"نوار باسن از پشت بین دو خط پهلو","d",{"$f":"OFFSET('متغیرها '!T5,5,'متغیرها '!U5)","v":53.6},null,{"$f":"OFFSET('متغیرها '!T5,5,'متغیرها '!Y5)","v":51.9},null,null,null,null,null,null,null,null,null,null,null,null,{"$f":"Y6","v":"بچگانه 1 ساله"},-96,5,"اندازه گیری مردان و بچه ها",null,null,-48]
["شیفت افقی تکه پهلو پشت  برحسب سانتیمتر","(از -100 الی100)",0,"بدون شیفت=0 ",{"$f":"'طراحی همه الگوها'!B188","v":0},"شیفت افقی تکه پهلو پشت  (سانتیمتر)",1,1,0,0,1,0,-100,-100,100,100,null,null,"فاصله نوار کمر تا زمین، از قسمت جلو","e",{"$f":"OFFSET('متغیرها '!T5,6,'متغیرها '!U5)","v":95.5},null,{"$f":"OFFSET('متغیرها '!T5,6,'متغیرها '!Y5)","v":104},null,null,null,null,null,null,null,null,null,null,null,null,{"$f":"Z6","v":"بچگانه 2 ساله"},-95,6,"اندازه گیری زنان",null,null,-47.5]
["شیفت عمودی تکه پهلو پشت  برحسب سانتیمتر","(از -100 الی100)",0,"بدون شیفت=0 ",{"$f":"'طراحی همه الگوها'!B189","v":0},"شیفت عمودی تکه پهلو پشت  (سانتیمتر)",1,1,0,0,1,0,-100,-100,100,100,null,null,"فاصله نوار کمر تا زمین، از قسمت پهلو","f",{"$f":"OFFSET('متغیرها '!T5,7,'متغیرها '!U5)","v":96},null,{"$f":"OFFSET('متغیرها '!T5,7,'متغیرها '!Y5)","v":105},null,null,null,null,null,null,null,null,null,null,null,null,{"$f":"AA6","v":"بچگانه 3 ساله"},-94,7,"اندازه گیری پیشرفته زنان",null,null,-47]
[null,null,null,null,null,null,null,null,null,null,null,null,null,null,null,null,null,null,"فاصله نوار کمر تا زمین، از قسمت پشت","g",{"$f":"OFFSET('متغیرها '!T5,8,'متغیرها '!U5)","v":96.5},null,{"$f":"OFFSET('متغیرها '!T5,8,'متغیرها '!Y5)","v":106.1},null,null,null,null,null,null,null,null,null,null,null,null,{"$f":"AB6","v":"بچگانه 4 ساله"},-93,8,null,null,null,-46.5]
[" متغیرهای ورودی - گشاد یا تنگ شدن پیراهن",null,null,null,null," متغیرهای ورودی - گشاد یا تنگ شدن پیراهن","x1","y1","x2","y2(بهینه)","a","b","کمترین قبلی","کمترین جدید","بیشترین قبلی","بیشترین جدید",null,null,"فاصله نوار زانو تا زمین","h",{"$f":"OFFSET('متغیرها '!T5,9,'متغیرها '!U5)","v":41.1},null,{"$f":"OFFSET('متغیرها '!T5,9,'متغیرها '!Y5)","v":46},null,null,null,null,null,null,null,null,null,null,null,null,{"$f":"AC6","v":"بچگانه 5 ساله"},-92,9,null,null,null,-46]
["ضریب تغییر اندازه های عرضی در پیراهن f2  ","(از -0.2 الی 0.2)",{"$f":"K60*E60+L60","v":0.02},"اندامی =0",{"$f":"'طراحی مدل 30a'!B335","v":2}," اندازه های عرضی در پیراهن   ",1,0.01,0,0,{"$f":"(J60-H60)/(I60-G60)","v":0.01},{"$f":"H60-G60*K60","v":0},-0.2,{"$f":"(M60-L60)/K60","v":-20},0.2,{"$f":"(O60-L60)/K60","v":20},null,null,"فاصله نوار باسن تا زمین","j",{"$f":"OFFSET('متغیرها '!T5,10,'متغیرها '!U5)","v":77.5},null,{"$f":"OFFSET('متغیرها '!T5,10,'متغیرها '!Y5)","v":84.1},null,null,null,null,null,null,null,null,null,null,null,null,{"$f":"AD6","v":"بچگانه 6 ساله"},-91,10,"انتخاب نوع الگو",null,null,-45.5]
["ضریب گشاد یا تنگ شدن از خط پهلو زیر حلقهf3 ","(از -0.03 الی 0.03)",{"$f":"K61*E61+L61","v":5.0000000000000001E-3},"اندامی =0",{"$f":"'طراحی مدل 30a'!B336","v":1}," گشاد یا تنگ شدن از خط پهلو زیر حلقه ",1,5.0000000000000001E-3,0,0,{"$f":"(J61-H61)/(I61-G61)","v":5.0000000000000001E-3},{"$f":"H61-G61*K61","v":0},-0.03,{"$f":"(M61-L61)/K61","v":-6},0.03,{"$f":"(O61-L61)/K61","v":6},null,null,"دور زانو","L",{"$f":"OFFSET('متغیرها '!T5,11,'متغیرها '!U5)","v":41},null,{"$f":"OFFSET('متغیرها '!T5,11,'متغیرها '!Y5)","v":39.799999999999997},null,null,null,null,null,null,null,null,null,null,null,null,{"$f":"AE6","v":"بچگانه 7 ساله"},-90,11,"فاق معمولی مناسب زنان و بچه ها",null,null,-45]
["ضریب گشاد یا تنگ شدن از خط پهلو دور باسن f4 ","(از -0.03 الی 0.08)",{"$f":"K62*E62+L62","v":5.0000000000000001E-3},"اندامی =0",{"$f":"'طراحی مدل 30a'!B337","v":1}," گشاد یا تنگ شدن از خط پهلو دور باسن  ",1,5.0000000000000001E-3,0,0,{"$f":"(J62-H62)/(I62-G62)","v":5.0000000000000001E-3},{"$f":"H62-G62*K62","v":0},-0.03,{"$f":"(M62-L62)/K62","v":-6},0.08,{"$f":"(O62-L62)/K62","v":16},null,null,"بلندی فاق","m",{"$f":"OFFSET('متغیرها '!T5,12,'متغیرها '!U5)","v":25},null,{"$f":"OFFSET('متغیرها '!T5,12,'متغیرها '!Y5)","v":27.1},null,null,null,null,null,null,null,null,null,null,null,null,{"$f":"AF6","v":"بچگانه 8 ساله"},-89,12,"فاق کمی بلند مناسب مردان",null,null,-44.5]
["ضریب تغییر اندازه های طولی در پیراهن f5 ","(از -0.2 الی 0.2)",{"$f":"K63*E63+L63","v":0},"اندامی =0",{"$f":"'طراحی مدل 30a'!B338","v":0}," اندازه های طولی در پیراهن  ",1,0.01,0,0,{"$f":"(J63-H63)/(I63-G63)","v":0.01},{"$f":"H63-G63*K63","v":0},-0.2,{"$f":"(M63-L63)/K63","v":-20},0.2,{"$f":"(O63-L63)/K63","v":20},null,null,"آنفورشور","q",{"$f":"OFFSET('متغیرها '!T5,13,'متغیرها '!U5)","v":68.8},null,{"$f":"OFFSET('متغیرها '!T5,13,'متغیرها '!Y5)","v":71.099999999999994},null,null,null,null,null,null,null,null,null,null,null,null,{"$f":"AG6","v":"بچگانه 9 ساله"},-88,13,"فاق کاملا بلند مناسب بچه با پوشک",null,null,-44]
[null,null,null,null,null,null,null,null,null,null,null,null,null,null,null,null,null,null,"دور مچ پا","r",{"$f":"OFFSET('متغیرها '!T5,14,'متغیرها '!U5)","v":29.4},null,{"$f":"OFFSET('متغیرها '!T5,14,'متغیرها '!Y5)","v":24.5},null,null,null,null,null,null,null,null,null,null,null,null,{"$f":"AH6","v":"بچگانه 10 ساله"},-87,14,null,null,null,-43.5]
[" متغیرهای ورودی - جادکمه و پایین لباس",null,null,null,null," متغیرهای ورودی - جادکمه و پایین لباس","x1","y1","x2","y2(بهینه)","a","b","کمترین قبلی","کمترین جدید","بیشترین قبلی","بیشترین جدید",null,null,null,null,null,null,null,null,null,null,null,null,null,null,null,null,null,null,null,{"$f":"AI6","v":"بچگانه 11 ساله"},-86,15,"ارتفاع یقه گرد کش",null,null,-43]
["ضریب بزرگی پهنای جادکمه جلو    مرحله اول","(از 0 الی 0.1)",{"$f":"K66*E66+L66","v":1.4999999999999999E-2},"بهینه=0.015",{"$f":"'طراحی مدل 30a'!B341","v":3},"پهنای جادکمه جلو      مرحله اول در طراحی یقه انگلیسی",0,0,1,5.0000000000000001E-3,{"$f":"(J66-H66)/(I66-G66)","v":5.0000000000000001E-3},{"$f":"H66-G66*K66","v":0},0,{"$f":"(M66-L66)/K66","v":0},0.1,{"$f":"(O66-L66)/K66","v":20},null,null,"شلوار زنانه و بچگانه = 0       مردانه=1      بچه با پوشک=2",null,{"$f":"OFFSET('متغیرها '!T5,16,'متغیرها '!U5)","v":0},null,{"$f":"OFFSET('متغیرها '!T5,16,'متغیرها '!Y5)","v":0},null,null,null,null,null,null,null,null,null,null,null,null,{"$f":"AJ6","v":"بچگانه 12 ساله"},-85,16,0.5,"نوع آستین",null,-42.5]
["ضریب فاصله لبه دامن یا پیراهن تا زمین   k0","(از 0 الی 4)",{"$f":"K67*E67+L67","v":1.7000000000000002},"خط زمین=0 \nخط زانو=1 \nخط باسن=2 \nخط کمر=3 \nخط سینه=4  ",{"$f":"'طراحی مدل 30a'!B342","v":44},"لبه پایین لباس",10,0,30,1,{"$f":"(J67-H67)/(I67-G67)","v":0.05},{"$f":"H67-G67*K67","v":-0.5},0,{"$f":"(M67-L67)/K67","v":10},4,{"$f":"(O67-L67)/K67","v":90},null,null,null,null,null,null,null,null,null,null,null,null,null,null,null,null,null,null,null,{"$f":"AK6","v":"بچگانه 13 ساله"},-84,17,1,1,null,-42]
["ضریب انحنا لبه پایین لباس ","(از 0 الی 0.9)",{"$f":"K68*E68+L68","v":-0.05},"بهینه =0.1",{"$f":"'طراحی مدل 30a'!B343","v":-1}," انحنا لبه پایین لباس نزدیک خط پهلو",0,0,1,0.05,{"$f":"(J68-H68)/(I68-G68)","v":0.05},{"$f":"H68-G68*K68","v":0},0,{"$f":"(M68-L68)/K68","v":0},0.9,{"$f":"(O68-L68)/K68","v":18},null,null,null,null,null,null,null,null,null,null,null,null,null,null,null,null,null,null,null,{"$f":"AL6","v":"بچگانه 14 ساله"},-83,18,1.5,2,null,-41.5]
[null,null,null,null,null,null,null,null,null,null,null,null,null,null,null,null,null,null,"اندازه ها در بالاتنه",null,"اندازه شخص",null,"اندازه شخص",null,null,null,null,null,null,null,null,null,null,null,null,{"$f":"AM6","v":"34زنانه"},-82,19,2,4,null,-41]
[" متغیرهای ورودی - یقه",null,null,null,null," متغیرهای ورودی - یقه","x1","y1","x2","y2(بهینه)","a","b","کمترین قبلی","کمترین جدید","بیشترین قبلی","بیشترین جدید",null,null,"دور کمر","a",{"$f":"OFFSET('متغیرها '!T5,20,'متغیرها '!U5)","v":97},null,{"$f":"OFFSET('متغیرها '!T5,20,'متغیرها '!Y5)","v":72},null,null,null,null,null,null,null,null,null,null,null,null,{"$f":"AN6","v":"36زنانه"},-81,20,2.5,null,null,-40.5]
["ضریب باز شدن یقه روی سرشانه (گرد یا مربعی یا دلبری)   مرحله دوم   x6 ","(از 0 الی 0.99)",{"$f":"K71*E71+L71","v":0.05},"یقه کیپ=0",{"$f":"'طراحی مدل 30a'!E319","v":1},"باز شدن یقه روی سرشانه (گرد یا مربعی یا دلبری)   مرحله دوم در طراحی یقه انگلیسی    ",0,0,1,0.05,{"$f":"(J71-H71)/(I71-G71)","v":0.05},{"$f":"H71-G71*K71","v":0},0,{"$f":"(M71-L71)/K71","v":0},0.95,{"$f":"(O71-L71)/K71","v":18.999999999999996},null,null,"نوار کمر از پشت بین دو خط پهلو","b",{"$f":"OFFSET('متغیرها '!T5,21,'متغیرها '!U5)","v":44.6},null,{"$f":"OFFSET('متغیرها '!T5,21,'متغیرها '!Y5)","v":35.200000000000003},null,null,null,null,null,null,null,null,null,null,null,null,{"$f":"AO6","v":"38زنانه"},-80,21,3,null,null,-40]
["ضریب باز شدن یقه روی خط مرکزی جلو (گرد یا مربعی یا قایقی یا پروانه ای)  x'6","(از 0 الی 3)",{"$f":"K72*E72+L72","v":0.1},"یقه کیپ=0",{"$f":"'طراحی مدل 30a'!E320","v":2},"باز شدن یقه روی خط مرکزی جلو (گرد یا مربعی یا قایقی یا پروانه ای)  ",0,0,1,0.05,{"$f":"(J72-H72)/(I72-G72)","v":0.05},{"$f":"H72-G72*K72","v":0},0,{"$f":"(M72-L72)/K72","v":0},3,{"$f":"(O72-L72)/K72","v":60},null,null,"دور سینه : از برجسته ترین قسمت سینه","s1",{"$f":"OFFSET('متغیرها '!T5,22,'متغیرها '!U5)","v":106},null,{"$f":"OFFSET('متغیرها '!T5,22,'متغیرها '!Y5)","v":92},null,null,null,null,null,null,null,null,null,null,null,null,{"$f":"AP6","v":"40زنانه"},-79,22,3.5,null,null,-39.5]
["ضریب باز شدن یقه روی خط مرکزی پشت  (گرد یا مربعی یا قایقی یا پروانه ای) مرحله دوم    x7","(از 0 الی 3)",{"$f":"K73*E73+L73","v":0.05},"یقه کیپ=0",{"$f":"'طراحی مدل 30a'!E321","v":1},"باز شدن یقه روی خط مرکزی پشت(گرد؛ مربعی؛ قایقی؛ پروانه ای)مرحله دوم در طراحی یقه انگلیسی    ",0,0,1,0.05,{"$f":"(J73-H73)/(I73-G73)","v":0.05},{"$f":"H73-G73*K73","v":0},0,{"$f":"(M73-L73)/K73","v":0},3,{"$f":"(O73-L73)/K73","v":60},null,null,"پشت نوار سینه، بین دو خط پهلو","s2",{"$f":"OFFSET('متغیرها '!T5,23,'متغیرها '!U5)","v":46.2},null,{"$f":"OFFSET('متغیرها '!T5,23,'متغیرها '!Y5)","v":42.8},null,null,null,null,null,null,null,null,null,null,null,null,{"$f":"AQ6","v":"42زنانه"},-78,23,4,null,null,-39]
[null,null,null,null,null,null,null,null,null,null,null,null,null,null,null,null,null,null,"فاصله عمودی از خط سینه جلو تا خط سینه پشت که از کنار حلقه آستین بگذرد","t1",{"$f":"OFFSET('متغیرها '!T5,24,'متغیرها '!U5)","v":42.9},null,{"$f":"OFFSET('متغیرها '!T5,24,'متغیرها '!Y5)","v":44.4},null,null,null,null,null,null,null,null,null,null,null,null,{"$f":"AR6","v":"44زنانه"},-77,24,4.5,null,null,-38.5]
[" متغیرهای ورودی - سرشانه و حلقه آستین",null,null,null,null," متغیرهای ورودی - سرشانه و حلقه آستین","x1","y1","x2","y2(بهینه)","a","b","کمترین قبلی","کمترین جدید","بیشترین قبلی","بیشترین جدید",null,null,"فاصله عمودی از خط سینه جلو تا خط سینه پشت که از کنارگردن بگذرد","t2",{"$f":"OFFSET('متغیرها '!T5,25,'متغیرها '!U5)","v":53},null,{"$f":"OFFSET('متغیرها '!T5,25,'متغیرها '!Y5)","v":52.5},null,null,null,null,null,null,null,null,null,null,null,null,{"$f":"AS6","v":"46زنانه"},-76,25,5,null,null,-38]
["میزان کم شدن سرشانه x8 ","(از -0.5 الی 0.9)",{"$f":"K76*E76+L76","v":0.35000000000000003},"اندامی =0",{"$f":"'طراحی مدل 30a'!B346","v":7},"ضریب کم شدن سرشانه  ",0,0,1,0.05,{"$f":"(J76-H76)/(I76-G76)","v":0.05},{"$f":"H76-G76*K76","v":0},-0.5,{"$f":"(M76-L76)/K76","v":-10},0.9,{"$f":"(O76-L76)/K76","v":18},null,null,"فاصله عمودی از خط کمر جلو تا خط کمر پشت که از کنار گردن بگذرد","t3",{"$f":"OFFSET('متغیرها '!T5,26,'متغیرها '!U5)","v":89},null,{"$f":"OFFSET('متغیرها '!T5,26,'متغیرها '!Y5)","v":83},null,null,null,null,null,null,null,null,null,null,null,null,{"$f":"AT6","v":"48زنانه"},-75,26,null,null,null,-37.5]
["میزان بزرگ شدن زیر حلقه آستین x9 ","(از -0.5 الی 1.5)",{"$f":"K77*E77+L77","v":0.2},"اندامی =0",{"$f":"'طراحی مدل 30a'!B347","v":4},"ضریب بزرگ شدن زیر حلقه آستین  ",0,0,1,0.05,{"$f":"(J77-H77)/(I77-G77)","v":0.05},{"$f":"H77-G77*K77","v":0},-0.5,{"$f":"(M77-L77)/K77","v":-10},1.5,{"$f":"(O77-L77)/K77","v":30},null,null,"فاصله عمودی بین خط سینه پشت و سرشانه، نزدیک دست","t4",{"$f":"OFFSET('متغیرها '!T5,27,'متغیرها '!U5)","v":22.3},null,{"$f":"OFFSET('متغیرها '!T5,27,'متغیرها '!Y5)","v":22.5},null,null,null,null,null,null,null,null,null,null,null,null,{"$f":"AU6","v":"50زنانه"},-74,27,"متغیر ورودی به سانتیمتر","متغیر ورودی به سانتیمتر",null,-37]
["میزان زیاد شدن سرشانه x10 ","(از -0.5 الی 0.5)",{"$f":"K78*E78+L78","v":0.2},"اندامی =0",{"$f":"'طراحی مدل 30a'!B348","v":4},"ضریب زیاد شدن سرشانه  ",0,0,1,0.05,{"$f":"(J78-H78)/(I78-G78)","v":0.05},{"$f":"H78-G78*K78","v":0},-0.5,{"$f":"(M78-L78)/K78","v":-10},0.5,{"$f":"(O78-L78)/K78","v":10},null,null,"فاصله عمودی بین خط سینه پشت و سرشانه، نزدیک گردن","t5",{"$f":"OFFSET('متغیرها '!T5,28,'متغیرها '!U5)","v":26.3},null,{"$f":"OFFSET('متغیرها '!T5,28,'متغیرها '!Y5)","v":26.3},null,null,null,null,null,null,null,null,null,null,null,null,{"$f":"AV6","v":"52زنانه"},-73,28,-10,0,null,-36.5]
["انتخاب آستین حلقه ای یا پیش سینه رکابی یا تکه پهلو جدا=0        و انتخاب آستین دیگر=1","0 یا 1 ",{"$f":"K79*E79+L79","v":1},null,{"$f":"'طراحی مدل 30a'!B349","v":2},"انتخاب آستین حلقه ای یا پیش سینه رکابی یا تکه پهلو جدا=1        و انتخاب آستین دیگر=2",1,0,2,1,{"$f":"(J79-H79)/(I79-G79)","v":1},{"$f":"H79-G79*K79","v":-1},null,1,null,2,null,null,"فاصله عمودی بین خط کمرپشت و سرشانه، نزدیک گردن","t6",{"$f":"OFFSET('متغیرها '!T5,29,'متغیرها '!U5)","v":42.6},null,{"$f":"OFFSET('متغیرها '!T5,29,'متغیرها '!Y5)","v":40.5},null,null,null,null,null,null,null,null,null,null,null,null,{"$f":"AW6","v":"54زنانه"},-72,29,-9.5,0.1,null,-36]
[null,null,null,null,null,null,null,null,null,null,null,null,null,null,null,null,null,null,"دور گردن (متر به طور عمودی دور گردن قرار می گیرد و از روی استخوان ترقوه می گذرد)","v",{"$f":"OFFSET('متغیرها '!T5,30,'متغیرها '!U5)","v":46},null,{"$f":"OFFSET('متغیرها '!T5,30,'متغیرها '!Y5)","v":39},null,null,null,null,null,null,null,null,null,null,null,null,{"$f":"AX6","v":"56زنانه"},-71,30,-9,0.2,null,-35.5]
[" متغیرهای ورودی - تنظیم ساسون های بالای کمر\nمجموع ضرایب پهنای دو ساسون پشت باید کمتر از یک یا مساوی یک باشد.\nبا تغییر ضرایب پهنای ساسون، باقیمانده ساسون ها روی خط پهلو قرار میگیرد.",null,null,null,null," متغیرهای ورودی - تنظیم ساسون های بالای کمر\nمجموع ضرایب پهنای دو ساسون پشت باید کمتر از یک یا مساوی یک باشد.\nبا تغییر ضرایب پهنای ساسون، باقیمانده ساسون ها روی خط پهلو قرار میگیرد.","x1","y1","x2","y2","a","b",null,"کمترین",null,"بیشترین",null,"تست جدید","کارور پشت (بین دو خط امتداد زیر بغل)","v3",{"$f":"OFFSET('متغیرها '!T5,31,'متغیرها '!U5)","v":38},null,{"$f":"OFFSET('متغیرها '!T5,31,'متغیرها '!Y5)","v":34.799999999999997},null,null,null,null,null,null,null,null,null,null,null,null,{"$f":"AY6","v":"58زنانه"},-70,31,-8.5,0.3,null,-35]
[" ضریب پهنای ساسون روی خط مرکزی پشت بالاتنه   y'1","(از 0 الی 1)",{"$f":"K82*E82+L82","v":0},"بدون ساسون=0 \nبهینه=0.5  ",{"$f":"'طراحی همه الگوها'!B238","v":0}," ضریب پهنای ساسون روی خط مرکزی پشت بالاتنه   ",0,0,1,0.05,{"$f":"(J82-H82)/(I82-G82)","v":0.05},{"$f":"H82-G82*K82","v":0},0,{"$f":"(M82-L82)/K82","v":0},1,{"$f":"(O82-L82)/K82","v":20},0.5,{"$f":"(Q82-L82)/K82","v":10},"دور بازو از ناحیه زیر بغل","w2",{"$f":"OFFSET('متغیرها '!T5,32,'متغیرها '!U5)","v":34},null,{"$f":"OFFSET('متغیرها '!T5,32,'متغیرها '!Y5)","v":30.6},null,null,null,null,null,null,null,null,null,null,null,null,{"$f":"AZ6","v":"60زنانه"},-69,32,-8,0.4,"متغیر ورودی خاص شلوار",-34.5]
[" ضریب طول ساسون روی خط مرکزی پشت بالاتنه   y'3","(از0.1 الی 0.9)",0.75,"بهینه=0.75 ",{"$f":"'طراحی همه الگوها'!B239","v":15}," ضریب طول ساسون روی خط مرکزی پشت بالاتنه   ",0,0,1,0.05,{"$f":"(J83-H83)/(I83-G83)","v":0.05},{"$f":"H83-G83*K83","v":0},0.1,2,0.9,18,0.75,15,"قد آستین (دست به طور خمیده، قد از سرشانه تا مچ)","w10",{"$f":"OFFSET('متغیرها '!T5,33,'متغیرها '!U5)","v":61},null,{"$f":"OFFSET('متغیرها '!T5,33,'متغیرها '!Y5)","v":59},null,null,null,null,null,null,null,null,null,null,null,null,{"$f":"BA6","v":"37 مردانه"},-68,33,-7.5,0.5,0.5,-34]
[" ضریب پهنای ساسون میانی پشت بالاتنه   y'2","(از 0 الی 1)",0.5,"بدون ساسون=0\nبهینه=0.5",{"$f":"'طراحی همه الگوها'!B240","v":10}," ضریب پهنای ساسون میانی پشت بالاتنه   ",0,0,1,0.05,{"$f":"(J84-H84)/(I84-G84)","v":0.05},{"$f":"H84-G84*K84","v":0},0,0,1,20,0.5,10,"دور مچ دست","w11",{"$f":"OFFSET('متغیرها '!T5,34,'متغیرها '!U5)","v":21},null,{"$f":"OFFSET('متغیرها '!T5,34,'متغیرها '!Y5)","v":18},null,null,null,null,null,null,null,null,null,null,null,null,{"$f":"BB6","v":"38 مردانه"},-67,34,-7,0.6,0.55000000000000004,-33.5]
[" ضریب طول ساسون میانی پشت بالاتنه   y'4","(از 0.3 الی 1)",0.70000000000000007,"بهینه =0.9",{"$f":"'طراحی همه الگوها'!B241","v":14}," ضریب طول ساسون میانی پشت بالاتنه   ",0,0,1,0.05,0.05,0,0.3,5.9999999999999991,1,20,0.9,18,"دور سر","w12",{"$f":"OFFSET('متغیرها '!T5,35,'متغیرها '!U5)","v":59},null,{"$f":"OFFSET('متغیرها '!T5,35,'متغیرها '!Y5)","v":57},null,null,null,null,null,null,null,null,null,null,null,null,{"$f":"BC6","v":"39 مردانه"},-66,35,-6.5,0.7,0.6,-33]
[" ضریب فاصله افقی ساسون وسط بالاتنه از خط مرکزی پشت   y'5","(از0.2 الی 0.8)",0.5,"بهینه=0.5",{"$f":"'طراحی همه الگوها'!B242","v":25}," ضریب فاصله افقی ساسون وسط بالاتنه از خط مرکزی پشت   ",0,0,1,0.02,0.02,0,0.2,10,0.8,40,0.5,25,null,null,null,null,null,null,null,null,null,null,null,null,null,null,null,null,null,{"$f":"BD6","v":"40 مردانه"},-65,36,-6,0.8,0.65,-32.5]
[" ضریب پهنای ساسون میانی جلو بالاتنه    y'6","(از 0 الی 0.5)",0.35000000000000003,"بدون ساسون=0\nبهینه=0.333",{"$f":"'طراحی همه الگوها'!B243","v":7}," ضریب پهنای ساسون میانی جلو بالاتنه    ",0,0,1,0.05,0.05,0,0,0,0.5,10,0.35,6.9999999999999991,null,null,null,null,null,null,null,null,null,null,null,null,null,null,null,null,null,{"$f":"BE6","v":"41 مردانه"},-64,37,-5.5,0.9,0.7,-32]
[" ضریب طول ساسون میانی جلو بالاتنه  y'7","(از 0 الی 0.5)",9.9999999999999978E-2,"بهینه =0.2\nتا خط سینه=0",{"$f":"'طراحی همه الگوها'!B244","v":18}," ضریب طول ساسون میانی جلو بالاتنه  ",20,0,0,1,-0.05,1,0,20,0.5,10,0.2,16,null,null,null,null,null,null,null,null,null,null,null,null,null,null,null,null,null,{"$f":"BF6","v":"42 مردانه"},-63,38,-5,1,0.75,-31.5]
[" ضریب فاصله افقی ساسون میانی بالاتنه از خط مرکزی جلو   y'8","(از0.2 الی 0.8)",0.5,"بهینه=0.5",{"$f":"'طراحی همه الگوها'!B245","v":25}," ضریب فاصله افقی ساسون میانی بالاتنه از خط مرکزی جلو   ",0,0,1,0.02,0.02,0,0.2,10,0.8,40,0.5,25,null,null,null,null,null,null,null,null,null,null,null,null,null,null,null,null,null,{"$f":"BG6","v":"43 مردانه"},-62,39,-4.5,1.1000000000000001,0.8,-31]
[" ضریب نوک ساسون سرشانه جلو تا نوک سینه  y'15","(از 0 الی 0.5)",9.9999999999999978E-2,"بهینه =0.2\nتا خط سینه=0",{"$f":"'طراحی همه الگوها'!B246","v":18}," ضریب نوک ساسون سرشانه جلو تا نوک سینه  ",20,0,0,1,{"$f":"(J90-H90)/(I90-G90)","v":-0.05},{"$f":"H90-G90*K90","v":1},0,20,0.5,10,0.2,16,null,null,null,null,null,null,null,null,null,null,null,null,null,null,null,null,null,{"$f":"BH6","v":"44 مردانه"},-61,40,-4,1.2,0.85,-30.5]
[null,null,null,null,null,null,null,null,null,null,null,null,null,null,null,null,null,null,null,null,null,null,null,null,null,null,null,null,null,null,null,null,null,null,null,{"$f":"BI6","v":"45 مردانه"},-60,41,-3.5,1.3,0.9,-30]
[" متغیرهای ورودی - تنظیم ساسون های پایین کمر\nمجموع پهنای دو ساسون پشت باید کمتر از یک یا مساوی یک باشد.\nبا تغییر ضرایب پهنای ساسون، باقیمانده ساسون ها روی خط پهلو قرار میگیرد.",null,null,null,null," متغیرهای ورودی - تنظیم ساسون های پایین کمر\nمجموع پهنای دو ساسون پشت باید کمتر از یک یا مساوی یک باشد.\nبا تغییر ضرایب پهنای ساسون، باقیمانده ساسون ها روی خط پهلو قرار میگیرد.","x1","y1","x2","y2(بهینه)","a","b",null,"کمترین",null,"بیشترین",null,null,null,null,null,null,null,null,null,null,null,null,null,null,null,null,null,null,null,{"$f":"BJ6","v":"46 مردانه"},-59,42,-3,1.4,0.95,-29.5]
[" ضریب پهنای ساسون روی خط مرکزی پشت دامن   y'9","(از 0 الی 1)",{"$f":"K93*E93+L93","v":0},"بدون ساسون=0 \nبهینه=025  ",{"$f":"'طراحی همه الگوها'!B251","v":0}," ضریب پهنای ساسون روی خط مرکزی پشت دامن   ",0,0,1,0.05,{"$f":"(J93-H93)/(I93-G93)","v":0.05},{"$f":"H93-G93*K93","v":0},0,{"$f":"(M93-L93)/K93","v":0},1,{"$f":"(O93-L93)/K93","v":20},0.25,{"$f":"(Q93-L93)/K93","v":5},null,null,null,null,null,null,null,null,null,null,null,null,null,null,null,null,null,{"$f":"BK6","v":"47 مردانه"},-58,43,-2.5,1.5,1,-29]
[" ضریب طول ساسون روی خط مرکزی پشت دامن   y'10     غیر فعال","(از0.1 الی 0.9)",0.9,"بهینه=0.9 ",{"$f":"'طراحی همه الگوها'!B252","v":18}," ضریب طول ساسون روی خط مرکزی پشت دامن        غیر فعال",0,0,1,0.05,0.05,0,0.1,2,0.9,18,0.9,18,null,null,null,null,null,null,null,null,null,null,null,null,null,null,null,null,null,{"$f":"BL6","v":"48 مردانه"},-57,44,-2,1.6,1.05,-28.5]
[" ضریب پهنای ساسون میانی پشت دامن   y'11","(از 0 الی 1)",0.5,"بدون ساسون=0\nبهینه=0.5",{"$f":"'طراحی همه الگوها'!B253","v":10}," ضریب پهنای ساسون میانی پشت دامن   ",0,0,1,0.05,0.05,0,0,0,1,20,0.5,10,null,null,null,null,null,null,null,null,null,null,null,null,null,null,null,null,null,{"$f":"BM6","v":"49 مردانه"},-56,45,-1.5,1.7,1.1000000000000001,-28]
[" ضریب طول ساسون میانی پشت دامن   y'12    ","(از 0.3 الی 1)",0.9,"بلندی ساسون تا خط باسن=1\nبهینه =0.9",{"$f":"'طراحی همه الگوها'!B254","v":18}," ضریب طول ساسون میانی پشت دامن       ",0,0,1,0.05,0.05,0,0.3,5.9999999999999991,1,20,0.9,18,null,null,null,null,null,null,null,null,null,null,null,null,null,null,null,null,null,{"$f":"BN6","v":"50 مردانه"},-55,46,-1,1.8,1.1499999999999999,-27.5]
[" ضریب پهنای ساسون میانی جلو دامن    y'13","(از 0 الی 0.5)",0.2,"بدون ساسون=0\nبهینه=0.25",{"$f":"'طراحی همه الگوها'!B255","v":4}," ضریب پهنای ساسون میانی جلو دامن    ",0,0,1,0.05,0.05,0,0,0,0.5,10,0.25,5,null,null,null,null,null,null,null,null,null,null,null,null,null,null,null,null,null,{"$f":"BO6","v":"6ماهه تا یکساله کت"},-54,47,-0.5,1.9,1.2,-27]
[" ضریب طول ساسون میانی جلو دامن  y'14     ","(از 0.3 الی 0.99)",0.9,"بلندی ساسون تا خط باسن=1\nبهینه =0.9",{"$f":"'طراحی همه الگوها'!B256","v":18}," ضریب طول ساسون میانی جلو دامن       ",0,0,1,0.05,0.05,0,0.3,5.9999999999999991,0.95,18.999999999999996,0.9,18,null,null,null,null,null,null,null,null,null,null,null,null,null,null,null,null,null,{"$f":"BP6","v":"1ساله کت"},-53,48,0,2,1.25,-26.5]
[null,null,null,null,null,null,null,null,null,null,null,null,null,null,null,null,null,null,null,null,null,null,null,null,null,null,null,null,null,null,null,null,null,null,null,{"$f":"BQ6","v":"2ساله کت"},-52,49,0.5,2.1,1.3,-26]
[" متغیرهای ورودی-بالاتنه عصایی ساسون ها",null,null,null,null," متغیرهای ورودی-بالاتنه عصایی ساسون ها","x1","y1","x2","y2(بهینه)","a","b",null,"کمترین",null,"بیشترین",null,null,null,null,null,null,null,null,null,null,null,null,null,null,null,null,null,null,null,{"$f":"BR6","v":"3ساله کت"},-51,50,1,2.2000000000000002,1.35,-25.5]
["انتخاب بالاتنه عصایی=1        انتخاب دیگر=0","0 یا 1 ",{"$f":"K101*E101+L101","v":0},null,{"$f":"'طراحی همه الگوها'!B259","v":1},"انتخاب بالاتنه عصایی=2        انتخاب دیگر=1",1,0,2,1,{"$f":"(J101-H101)/(I101-G101)","v":1},{"$f":"H101-G101*K101","v":-1},0,{"$f":"(M101-L101)/K101","v":1},1,{"$f":"(O101-L101)/K101","v":2},1,{"$f":"(Q101-L101)/K101","v":2},null,null,null,null,null,null,null,null,null,null,null,null,null,null,null,null,null,{"$f":"BS6","v":"4ساله کت"},-50,51,1.5,2.2999999999999998,1.4,-25]
["ضریب مکان ساسون جلو عصایی در بالاتنه","(از 0.1 الی 0.3)",{"$f":"K102*E102+L102","v":0.2},"بهینه عصایی=0.2",{"$f":"'طراحی همه الگوها'!B260","v":4},"مکان ساسون عصایی جلو در حلقه آستین بالاتنه",0,0,1,0.05,{"$f":"(J102-H102)/(I102-G102)","v":0.05},{"$f":"H102-G102*K102","v":0},0.1,{"$f":"(M102-L102)/K102","v":2},0.3,{"$f":"(O102-L102)/K102","v":5.9999999999999991},0.2,{"$f":"(Q102-L102)/K102","v":4},null,null,null,null,null,null,null,null,null,null,null,null,null,null,null,null,null,{"$f":"BT6","v":"5ساله کت"},-49,52,2,2.4,1.45,-24.5]
["ضریب مکان ساسون پشت عصایی در بالاتنه","(از 0.1 الی 0.4)",{"$f":"K103*E103+L103","v":0.30000000000000004},"بهینه عصایی=0.3",{"$f":"'طراحی همه الگوها'!B261","v":6},"مکان ساسون عصایی پشت در حلقه آستین بالاتنه",0,0,1,0.05,{"$f":"(J103-H103)/(I103-G103)","v":0.05},{"$f":"H103-G103*K103","v":0},0.1,{"$f":"(M103-L103)/K103","v":2},0.4,{"$f":"(O103-L103)/K103","v":8},0.3,{"$f":"(Q103-L103)/K103","v":5.9999999999999991},null,null,null,null,null,null,null,null,null,null,null,null,null,null,null,null,null,{"$f":"BU6","v":"6ساله کت"},-48,53,2.5,2.5,1.5,-24]
[null,null,null,null,null,null,null,null,null,null,null,null,null,null,null,null,null,null,null,null,null,null,null,null,null,null,null,null,null,null,null,null,null,null,null,{"$f":"BV6","v":"7ساله کت"},-47,54,3,2.6,1.55,-23.5]
[" متغیرهای ورودی- انتقال ساسون سرشانه به زیر بغل، عصایی یا خط مرکزی جلو\nبرای حذف کامل ساسون سرشانه مجموع c1 و c2 باید 1 شود.",null,null,null,null," متغیرهای ورودی- انتقال ساسون سرشانه به زیر بغل، عصایی یا خط مرکزی جلو\nبرای حذف کامل ساسون سرشانه مجموع c1 و c2 باید 30 شود.","x1","y1","x2","y2(بهینه)","a","b",null,"کمترین",null,"بیشترین",null,null,null,null,null,null,null,null,null,null,null,null,null,null,null,null,null,null,null,{"$f":"BW6","v":"8ساله کت"},-46,55,3.5,2.7,1.6,-23]
["ضریب انتقال ساسون سرشانه جلو به ساسون زیر بغل یا ساسون عصایی  c1","(از 0 الی 1)",{"$f":"K106*E106+L106","v":1},"بدون انتقال=0 \nبهیه برای کت جلو باز=0.8 ",{"$f":"'طراحی همه الگوها'!B222","v":10},"انتقال ساسون سرشانه جلو به ساسون زیر بغل یا ساسون عصایی  c1",0,0,10,1,{"$f":"(J106-H106)/(I106-G106)","v":0.1},{"$f":"H106-G106*K106","v":0},0,{"$f":"(M106-L106)/K106","v":0},1,{"$f":"(O106-L106)/K106","v":10},null,null,null,null,null,null,null,null,null,null,null,null,null,null,null,null,null,null,null,{"$f":"BX6","v":"9ساله کت"},-45,56,4,2.8,1.65,-22.5]
["ضریب انتقال ساسون سرشانه به خط مرکزی جلو c2","(از 0 الی 1)",{"$f":"K107*E107+L107","v":0},"بدون انتقال=0 \nبهیه برای کت جلو باز=0.2 ",{"$f":"'طراحی همه الگوها'!B223","v":0},"انتقال ساسون سرشانه به خط مرکزی جلو c2",0,0,10,1,{"$f":"(J107-H107)/(I107-G107)","v":0.1},{"$f":"H107-G107*K107","v":0},0,{"$f":"(M107-L107)/K107","v":0},1,{"$f":"(O107-L107)/K107","v":10},null,null,null,null,null,null,null,null,null,null,null,null,null,null,null,null,null,null,null,{"$f":"BY6","v":"10ساله کت"},-44,57,4.5,2.9,1.7,-22]
["انتخاب (اصلاح سرشانه و حلقه آستین برای c1 >1 ) = 1         و انتخاب دیگر=0","0 یا 1 ",{"$f":"K108*E108+L108","v":0},null,{"$f":"'طراحی همه الگوها'!B224","v":1},"انتخاب (اصلاح سرشانه و حلقه آستین برای c1 >30 ) = 2        انتخاب دیگر=1",1,0,2,1,{"$f":"(J108-H108)/(I108-G108)","v":1},{"$f":"H108-G108*K108","v":-1},0,{"$f":"(M108-L108)/K108","v":1},1,{"$f":"(O108-L108)/K108","v":2},null,null,null,null,null,null,null,null,null,null,null,null,null,null,null,null,null,null,null,{"$f":"BZ6","v":"11ساله کت"},-43,58,5,3,1.75,-21.5]
[null,null,null,null,null,null,null,null,null,null,null,null,null,null,null,null,null,null,null,null,null,null,null,null,null,null,null,null,null,null,null,null,null,null,null,{"$f":"CA6","v":"12ساله کت"},-42,59,5.5,3.1,1.8,-21]
[" متغیرهای ورودی- انتقال ساسون سرشانه به زیر بغل، عصایی یا خط مرکزی پشت\nبرای حذف کامل ساسون سرشانه مجموع c1 و c2 باید 1 شود.",null,null,null,null," متغیرهای ورودی- انتقال ساسون سرشانه به زیر بغل، عصایی یا خط مرکزی پشت\nبرای حذف کامل ساسون سرشانه مجموع c1 و c2 باید 30 شود.","x1","y1","x2","y2(بهینه)","a","b",null,"کمترین",null,"بیشترین",null,null,null,null,null,null,null,null,null,null,null,null,null,null,null,null,null,null,null,{"$f":"CB6","v":"13ساله کت"},-41,60,6,3.2,null,-20.5]
["ضریب انتقال ساسون سرشانه پشت به ساسون زیر بغل یا عصایی  c1","(از 0 الی 1)",{"$f":"K111*E111+L111","v":0},"بدون انتقال=0 \nبهیه برای کت پشت باز=0.8 ",{"$f":"'طراحی همه الگوها'!B228","v":0},"انتقال ساسون سرشانه پشت به ساسون زیر بغل یا عصایی  c1",0,0,10,1,{"$f":"(J111-H111)/(I111-G111)","v":0.1},{"$f":"H111-G111*K111","v":0},0,{"$f":"(M111-L111)/K111","v":0},1,{"$f":"(O111-L111)/K111","v":10},null,null,null,null,null,null,null,null,null,null,null,null,null,null,null,null,null,null,null,{"$f":"CC6","v":"14ساله کت"},-40,61,6.5,3.3,null,-20]
["ضریب انتقال ساسون سرشانه به خط مرکزی پشت c2","(از 0 الی 1)",{"$f":"K112*E112+L112","v":0},"بدون انتقال=0 \nبهیه برای کت پشت باز=0.2 ",{"$f":"'طراحی همه الگوها'!B229","v":0},"انتقال ساسون سرشانه به خط مرکزی پشت c2",0,0,10,1,{"$f":"(J112-H112)/(I112-G112)","v":0.1},{"$f":"H112-G112*K112","v":0},0,{"$f":"(M112-L112)/K112","v":0},1,{"$f":"(O112-L112)/K112","v":10},null,null,null,null,null,null,null,null,null,null,null,null,null,null,null,null,null,null,null,{"$f":"CD6","v":"34زنانه کمر پهن"},-39,62,7,3.4,null,-19.5]
[null,null,null,null,null,null,null,null,null,null,null,null,null,null,null,null,null,null,null,null,null,null,null,null,null,null,null,null,null,null,null,null,null,null,null,{"$f":"CE6","v":"36زنانه کمر پهن"},-38,63,7.5,3.5,null,-19]
[" متغیرهای ورودی-ساسون زیر بغل",null,null,null,null," متغیرهای ورودی-ساسون زیر بغل","x1","y1","x2","y2(بهینه)","a","b",null,"کمترین",null,"بیشترین",null,null,null,null,null,null,null,null,null,null,null,null,null,null,null,null,null,null,null,{"$f":"CF6","v":"38زنانه کمر پهن"},-37,64,8,3.6,null,-18.5]
["ضریب کوتاه شدن ساسون زیر بغل جلو  c3","(از0.1 الی 1)",{"$f":"K115*E115+L115","v":0.9},"بلندی ساسون تا نوک سینه=1\nبهینه =0.9",{"$f":"'طراحی همه الگوها'!B232","v":9},"ضریب کوتاه شدن ساسون زیر بغل جلو  ",0,0,1,0.1,{"$f":"(J115-H115)/(I115-G115)","v":0.1},{"$f":"H115-G115*K115","v":0},0.1,{"$f":"(M115-L115)/K115","v":1},1,{"$f":"(O115-L115)/K115","v":10},null,null,null,null,null,null,null,null,null,null,null,null,null,null,null,null,null,null,null,{"$f":"CG6","v":"40زنانه کمر پهن"},-36,65,8.5,3.7,null,-18]
["ضریب کوتاه شدن ساسون زیر بغل پشت  c3","(از 0.1 الی 1)",{"$f":"K116*E116+L116","v":0.70000000000000007},"بلندی ساسون تا نوک سینه=1\nبهینه =0.9",{"$f":"'طراحی همه الگوها'!B233","v":7},"ضریب کوتاه شدن ساسون زیر بغل پشت  ",0,0,1,0.1,{"$f":"(J116-H116)/(I116-G116)","v":0.1},{"$f":"H116-G116*K116","v":0},0.1,{"$f":"(M116-L116)/K116","v":1},1,{"$f":"(O116-L116)/K116","v":10},null,null,null,null,null,null,null,null,null,null,null,null,null,null,null,null,null,null,null,{"$f":"CH6","v":"42زنانه کمر پهن"},-35,66,9,3.8,null,-17.5]
[null,null,null,null,null,null,null,null,null,null,null,null,null,null,null,null,null,null,null,null,null,null,null,null,null,null,null,null,null,null,null,null,null,null,null,{"$f":"CI6","v":"44زنانه کمر پهن"},-34,67,9.5,3.9,null,-17]
[" متغیرهای ورودی - کنترل گودی حلقه آستین و اپل",null,null,null,null," متغیرهای ورودی - کنترل گودی حلقه آستین و اپل","x1","y1","x2","y2(بهینه)","a","b",null,"کمترین",null,"بیشترین",null,null,null,null,null,null,null,null,null,null,null,null,null,null,null,null,null,null,null,{"$f":"CJ6","v":"46زنانه کمر پهن"},-33,68,10,4,null,-16.5]
["انتخاب کنترل گودی حلقه آستین=1        و انتخاب دیگر=0","0 یا 1 ",{"$f":"K119*E119+L119","v":0},null,{"$f":"'طراحی همه الگوها'!B330","v":1},"انتخاب کنترل گودی حلقه آستین=2        و انتخاب دیگر=1",1,0,2,1,{"$f":"(J119-H119)/(I119-G119)","v":1},{"$f":"H119-G119*K119","v":-1},0,{"$f":"(M119-L119)/K119","v":1},1,{"$f":"(O119-L119)/K119","v":2},4,{"$f":"(Q119-L119)/K119","v":5},null,null,null,null,null,null,null,null,null,null,null,null,null,null,null,null,null,{"$f":"CK6","v":"48زنانه کمر پهن"},-32,69,10.5,4.0999999999999996,null,-16]
[" ضریب میزان روی هم آمدن سرشانه پشت و جلو g2","(از 0 الی 1)",{"$f":"K120*E120+L120","v":0.5},"بهینه=0.5",{"$f":"'طراحی همه الگوها'!B331","v":10},"روی هم آمدن سرشانه پشت و جلو ",1,0.05,0,0,{"$f":"(J120-H120)/(I120-G120)","v":0.05},{"$f":"H120-G120*K120","v":0},0,{"$f":"(M120-L120)/K120","v":0},1,{"$f":"(O120-L120)/K120","v":20},0.5,{"$f":"(Q120-L120)/K120","v":10},null,null,null,null,null,null,null,null,null,null,null,null,null,null,null,null,null,{"$f":"CL6","v":"50زنانه کمر پهن"},-31,70,11,4.2,null,-15.5]
[" نسبت اعمال تغییر در حلقه جلو به حلقه پشت  g1","(از 0.5 الی 5)",{"$f":"K121*E121+L121","v":2},"بهینه=2",{"$f":"'طراحی همه الگوها'!B332","v":20},"نسبت اعمال تغییر در حلقه جلو به حلقه پشت  ",1,0.1,0,0,{"$f":"(J121-H121)/(I121-G121)","v":0.1},{"$f":"H121-G121*K121","v":0},0.5,{"$f":"(M121-L121)/K121","v":5},5,{"$f":"(O121-L121)/K121","v":50},2,{"$f":"(Q121-L121)/K121","v":20},null,null,null,null,null,null,null,null,null,null,null,null,null,null,null,null,null,{"$f":"CM6","v":"52زنانه کمر پهن"},-30,71,11.5,4.3,null,-15]
["زاویه اپل  (به درجه)  b","(از 0 الی 10)",{"$f":"K122*E122+L122","v":3},"بهینه =3",{"$f":"'طراحی همه الگوها'!B333","v":15},"زاویه اپل    ",1,0.2,0,0,{"$f":"(J122-H122)/(I122-G122)","v":0.2},{"$f":"H122-G122*K122","v":0},0,{"$f":"(M122-L122)/K122","v":0},10,{"$f":"(O122-L122)/K122","v":50},3,{"$f":"(Q122-L122)/K122","v":15},null,null,null,null,null,null,null,null,null,null,null,null,null,null,null,null,null,{"$f":"CN6","v":"54زنانه کمر پهن"},-29,72,12,4.4000000000000004,null,-14.5]
[null,null,null,null,null,null,null,null,null,null,null,null,null,null,null,null,null,null,null,null,null,null,null,null,null,null,null,null,null,null,null,null,null,null,null,{"$f":"CO6","v":"56زنانه کمر پهن"},-28,73,12.5,4.5,null,-14]
[" متغیرهای ورودی - نوع پیراهن",null,null,null,null," متغیرهای ورودی - نوع پیراهن","x1","y1","x2","y2(بهینه)","a","b",null,"کمترین",null,"بیشترین",null,null,null,null,null,null,null,null,null,null,null,null,null,null,null,null,null,null,null,{"$f":"CP6","v":"58زنانه کمر پهن"},-27,74,13,4.5999999999999996,null,-13.5]
["انتخاب جلو ترک ( سوتین) =1         انتخاب جلو با ساسون  (مایو) = 0","0 یا 1 ",{"$f":"K125*E125+L125","v":0},null,{"$f":"'طراحی همه الگوها'!B209","v":1},"انتخاب الگو جلو ترک ( سوتین) =2         انتخاب الگو جلو با ساسون  (مایو) = 1",1,0,2,1,{"$f":"(J125-H125)/(I125-G125)","v":1},{"$f":"H125-G125*K125","v":-1},null,1,null,2,null,null,null,null,null,null,null,null,null,null,null,null,null,null,null,null,null,null,null,{"$f":"CQ6","v":"60زنانه کمر پهن"},-26,75,13.5,4.7,null,-13]
[null,null,null,null,null,null,null,null,null,null,null,null,null,null,null,null,null,null,null,null,null,null,null,null,null,null,null,null,null,null,null,null,null,null,null,{"$f":"CR6","v":"37مردانه کت"},-25,76,14,4.8,null,-12.5]
[" متغیر ورودی اوزمان ها",null,null,null,null," متغیر ورودی اوزمان ها","x1","y1","x2","y2(بهینه)","a","b",null,"کمترین",null,"بیشترین",null,null,null,null,null,null,null,null,null,null,null,null,null,null,null,null,null,null,null,{"$f":"CS6","v":"38مردانه کت"},-24,77,14.5,4.9000000000000004,null,-12]
["میزان پایین آمدن نقطه شروع اوزمان از خط کمر x5 ","(از 0 الی 1)",{"$f":"K128*E128+L128","v":0.90000000000000013},"روی خط باسن=1",{"$f":"'طراحی همه الگوها'!B212","v":28},"میزان پایین آمدن نقطه شروع اوزمان از خط کمر  ",10,0,30,1,{"$f":"(J128-H128)/(I128-G128)","v":0.05},{"$f":"H128-G128*K128","v":-0.5},0,{"$f":"(M128-L128)/K128","v":10},1,{"$f":"(O128-L128)/K128","v":30},null,null,null,null,null,null,null,null,null,null,null,null,null,null,null,null,null,null,null,{"$f":"CT6","v":"39مردانه کت"},-23,78,15,5,"متغیر ورودی خاص چادر",-11.5]
["ضریب بزرگ شدن اوزمان در خط پهلو جلو دامن f0 ","(از -0.5 الی 2)",0,"بهینه=0.5",{"$f":"'طراحی همه الگوها'!B213","v":0},"اوزمان در خط پهلو جلو دامن  ",0,0,1,0.05,0.05,0,-0.5,-10,2,40,null,null,null,null,null,null,null,null,null,null,null,null,null,null,null,null,null,null,null,{"$f":"CU6","v":"40مردانه کت"},-22,79,15.5,null,70,-11]
["ضریب بزرگ شدن اوزمان در خط ترک جلو دامن e20 ","(از -0.5 الی 2)",0,"بهینه=0.5",{"$f":"'طراحی همه الگوها'!B214","v":0},"اوزمان در خط ترک جلو دامن  ",0,0,1,0.05,0.05,0,-0.5,-10,2,40,null,null,null,null,null,null,null,null,null,null,null,null,null,null,null,null,null,null,null,{"$f":"CV6","v":"41مردانه کت"},-21,80,16,null,75,-10.5]
["ضریب بزرگ شدن اوزمان در خط  پهلو پشت دامن f1  ","(از -0.5 الی 2)",0,"بهینه=0.5",{"$f":"'طراحی همه الگوها'!B215","v":0},"اوزمان در خط  پهلو پشت دامن   ",0,0,1,0.05,0.05,0,-0.5,-10,2,40,null,null,null,null,null,null,null,null,null,null,null,null,null,null,null,null,null,null,null,{"$f":"CW6","v":"42مردانه کت"},-20,81,16.5,null,80,-10]
["ضریب بزرگ شدن اوزمان در خط مرکزی پشت دامن e40 ","(از -0.5 الی 2)",0,"بهینه=0.5",{"$f":"'طراحی همه الگوها'!B216","v":0},"اوزمان در خط مرکزی پشت دامن  ",0,0,1,0.05,0.05,0,-0.5,-10,2,40,null,null,null,null,null,null,null,null,null,null,null,null,null,null,null,null,null,null,null,{"$f":"CX6","v":"43مردانه کت"},-19,82,17,null,85,-9.5]
["ضریب بزرگ شدن اوزمان در خط ترک پشت دامن e50 ","(از -0.5 الی 2)",0,"بهینه=0.5",{"$f":"'طراحی همه الگوها'!B217","v":0},"اوزمان در خط ترک پشت دامن  ",0,0,1,0.05,0.05,0,-0.5,-10,2,40,null,null,null,null,null,null,null,null,null,null,null,null,null,null,null,null,null,null,null,{"$f":"CY6","v":"44مردانه کت"},-18,83,17.5,null,90,-9]
["انتخاب پیراهن ترک گشاد=1            انتخاب دیگر=0","0 یا 1 ",0,null,{"$f":"'طراحی همه الگوها'!B218","v":1},"انتخاب پیراهن ترک گشاد=2            انتخاب دیگر=1",1,0,2,1,1,-1,null,1,null,2,null,null,null,null,null,null,null,null,null,null,null,null,null,null,null,null,null,null,null,{"$f":"CZ6","v":"45مردانه کت"},-17,84,18,null,95,-8.5]
[null,null,null,null,null,null,null,null,null,null,null,null,null,null,null,null,null,null,null,null,null,null,null,null,null,null,null,null,null,null,null,null,null,null,null,{"$f":"DA6","v":"46 مردانه کت"},-16,85,18.5,null,100,-8]
[" متغیرهای ورودی - پیلی ها و گوده ها",null,null,null,null," متغیرهای ورودی - پیلی ها و گوده ها","x1","y1","x2","y2(بهینه)","a","b",null,"کمترین",null,"بیشترین",null,null,null,null,null,null,null,null,null,null,null,null,null,null,null,null,null,null,null,{"$f":"DB6","v":"47 مردانه کت"},-15,86,19,null,105,-7.5]
[" عرض پیلی 1 - روی خط مرکزی جلو  (سانتیمتر)    e119","(از 0 الی 10)",{"$f":"K137*E137+L137","v":0},"بهینه=4",{"$f":"'طراحی همه الگوها'!B298","v":0}," عرض پیلی 1 - روی خط مرکزی جلو  (سانتیمتر)    ",1,1,0,0,{"$f":"(J137-H137)/(I137-G137)","v":1},{"$f":"H137-G137*K137","v":0},0,{"$f":"(M137-L137)/K137","v":0},10,{"$f":"(O137-L137)/K137","v":10},4,{"$f":"(Q137-L137)/K137","v":4},null,null,null,null,null,null,null,null,null,null,null,null,null,null,null,null,null,{"$f":"DC6","v":"48 مردانه کت"},-14,87,19.5,null,110,-7]
[" عرض پیلی 2 - روی خط ترک جلو   (سانتیمتر)    e219","(از 0 الی 10)",0,"بهینه=4",{"$f":"'طراحی همه الگوها'!B299","v":0}," عرض پیلی 2 - روی خط ترک جلو   (سانتیمتر)    ",1,1,0,0,1,0,0,0,10,10,4,4,null,null,null,null,null,null,null,null,null,null,null,null,null,null,null,null,null,{"$f":"DD6","v":"49 مردانه کت"},-13,88,20,null,115,-6.5]
[" عرض پیلی 3 - روی خط پهلو  (سانتیمتر)    e319","(از 0 الی 10",0,"بهینه=4",{"$f":"'طراحی همه الگوها'!B300","v":0}," عرض پیلی 3 - روی خط پهلو  (سانتیمتر)    ",1,1,0,0,1,0,0,0,10,10,4,4,null,null,null,null,null,null,null,null,null,null,null,null,null,null,null,null,null,{"$f":"DE6","v":"50 مردانه کت"},-12,89,null,null,120,-6]
[" عرض پیلی 4 - روی خط مرکزی پشت  (سانتیمتر)    e419","(از 0 الی 10",0,"بهینه=4",{"$f":"'طراحی همه الگوها'!B301","v":0}," عرض پیلی 4 - روی خط مرکزی پشت  (سانتیمتر)    ",1,1,0,0,1,0,0,0,10,10,4,4,null,null,null,null,null,null,null,null,null,null,null,null,null,null,null,null,null,{"$f":"DF6","v":"زلیخا ۵ ۹۹"},-11,90,null,null,125,-5.5]
[" عرض پیلی 5 و لبه برگردان پایین کت یا پیراهن- روی خط ترک پشت  (سانتیمتر) e519","(از 0 الی 10)",2,"بهینه=4",{"$f":"'طراحی همه الگوها'!B302","v":2}," عرض پیلی 5 و لبه برگردان پایین کت یا پیراهن- روی خط ترک پشت  (سانتیمتر) ",1,1,0,0,1,0,0,0,10,10,4,4,null,null,null,null,null,null,null,null,null,null,null,null,null,null,null,null,null,{"$f":"DG6","v":"عنوان 2"},-10,91,null,null,130,-5]
[" عرض گوده 1 - روی خط مرکزی جلو  (سانتیمتر)    e111","(از 0 الی 15)",0,"بهینه=7",{"$f":"'طراحی همه الگوها'!B303","v":0}," عرض گوده 1 - روی خط مرکزی جلو  (سانتیمتر)    ",1,1,0,0,1,0,0,0,15,15,7,7,null,null,null,null,null,null,null,null,null,null,null,null,null,null,null,null,null,{"$f":"DH6","v":"عنوان 3"},-9,92,null,null,135,-4.5]
[" عرض گوده 2 - روی خط ترک جلو  (سانتیمتر)    e211","(از 0 الی 15)",0,"بهینه=7",{"$f":"'طراحی همه الگوها'!B304","v":0}," عرض گوده 2 - روی خط ترک جلو  (سانتیمتر)    ",1,1,0,0,1,0,0,0,15,15,7,7,null,null,null,null,null,null,null,null,null,null,null,null,null,null,null,null,null,{"$f":"DI6","v":"عنوان 4"},-8,93,null,null,140,-4]
[" عرض گوده 3 - روی خط پهلو   (سانتیمتر)    e311","(از 0 الی 15)",0,"بهینه=7",{"$f":"'طراحی همه الگوها'!B305","v":0}," عرض گوده 3 - روی خط پهلو   (سانتیمتر)    ",1,1,0,0,1,0,0,0,15,15,7,7,null,null,null,null,null,null,null,null,null,null,null,null,null,null,null,null,null,{"$f":"DJ6","v":"عنوان 5"},-7,94,null,null,145,-3.5]
[" عرض گوده 4 - روی خط مرکزی پشت  (سانتیمتر)    e411","(از 0 الی 15)",0,"بهینه=7",{"$f":"'طراحی همه الگوها'!B306","v":0}," عرض گوده 4 - روی خط مرکزی پشت  (سانتیمتر)    ",1,1,0,0,1,0,0,0,15,15,7,7,null,null,null,null,null,null,null,null,null,null,null,null,null,null,null,null,null,{"$f":"DK6","v":"عنوان 6"},-6,95,null,null,150,-3]
[" عرض گوده 5 - روی خط ترک پشت  (سانتیمتر)    e511","(از 0 الی 15)",0,"بهینه=7",{"$f":"'طراحی همه الگوها'!B307","v":0}," عرض گوده 5 - روی خط ترک پشت  (سانتیمتر)    ",1,1,0,0,1,0,0,0,15,15,7,7,null,null,null,null,null,null,null,null,null,null,null,null,null,null,null,null,null,{"$f":"DL6","v":"عنوان 7"},-5,96,null,null,155,-2.5]
["ضریب نقطه شروع گوده و پیلی از زمین    e0","(از 0 الی 2)",1.5,"خط زمین=0 \nخط زانو=1 \nخط باسن=2  ",{"$f":"'طراحی همه الگوها'!B308","v":40},"ضریب نقطه شروع گوده و پیلی از زمین    ",10,0,30,1,0.05,-0.5,null,1,null,50,0,10,null,null,null,null,null,null,null,null,null,null,null,null,null,null,null,null,null,{"$f":"DM6","v":"عنوان 8"},-4,97,null,null,160,-2]
[null,null,null,null,null,null,null,null,null,null,null,null,null,null,null,null,null,null,null,null,null,null,null,null,null,null,null,null,null,null,null,null,null,null,null,{"$f":"DN6","v":"عنوان 9"},-3,98,null,null,165,-1.5]
[" متغیرهای ورودی جزئی - طراحی تکه پشت یقه انگلیسی  ",null,null,null,null," متغیرهای ورودی جزئی - طراحی تکه پشت یقه انگلیسی  ","x1","y1","x2","y2(بهینه)","a","b",null,"کمترین",null,"بیشترین",null,null,null,null,null,null,null,null,null,null,null,null,null,null,null,null,null,null,null,{"$f":"DO6","v":"عنوان 10"},-2,99,null,null,170,-1]
["γ11      زاویه تکه پشت یقه روی خط مرکزی ","(از -10 الی 20)",{"$f":"K150*E150+L150","v":2},"بهینه=2",{"$f":"'طراحی همه الگوها'!E225","v":20},"زاویه تکه پشت یقه روی خط مرکزی ",19,1,20,2,{"$f":"(J150-H150)/(I150-G150)","v":1},{"$f":"H150-G150*K150","v":-18},-10,{"$f":"(M150-L150)/K150","v":8},20,{"$f":"(O150-L150)/K150","v":38},2,{"$f":"(Q150-L150)/K150","v":20},null,null,null,null,null,null,null,null,null,null,null,null,null,null,null,null,null,{"$f":"DP6","v":"عنوان 11"},-1,100,null,null,175,-0.5]
["γ12       زاویه تکه پشت یقه با پایه روی خط مرکزی ","(از -10 الی 20)",4,"بهینه=4",{"$f":"'طراحی همه الگوها'!E226","v":20},"زاویه تکه پشت یقه با پایه روی خط مرکزی ",19,3,20,4,1,-16,-10,6,20,36,4,20,null,null,null,null,null,null,null,null,null,null,null,null,null,null,null,null,null,{"$f":"DQ6","v":"عنوان 12"},0,101,null,null,180,0]
[" ضریب تغییر انحنا بالا سمت چپ     مرحله نهم          γ13","(از -1 الی 1)",0,"بهینه=0",{"$f":"'طراحی همه الگوها'!E223","v":20},"ضریب تغییر انحنا بالا سمت چپ     مرحله نهم در طراحی یقه انگلیسی          ",19,-0.1,20,0,0.1,-2,-1,10,1,30,0,20,null,null,null,null,null,null,null,null,null,null,null,null,null,null,null,null,null,{"$f":"DR6","v":"عنوان 13"},1,102,null,null,185,0.5]
["γ14        ضریب تغییر انحنا بالا    مرحله نهم ","(از 0.5 الی 2)",1.18,"بهینه=1.18",{"$f":"'طراحی همه الگوها'!E224","v":40},"ضریب تغییر انحنا بالا    مرحله نهم در طراحی یقه انگلیسی ",39,1.1599999999999999,40,1.18,2.0000000000000018E-2,0.37999999999999923,0.5,6.0000000000000329,2,80.999999999999972,1.18,40,null,null,null,null,null,null,null,null,null,null,null,null,null,null,null,null,null,{"$f":"DS6","v":"عنوان 14"},2,103,null,null,190,1]
["γ15        ضریب تغییر انحنا پایین روی خط مرکزی پشت","(از 0 الی 2)",0.5,"بهینه=0.5",{"$f":"'طراحی همه الگوها'!E227","v":20},"ضریب تغییر انحنا پایین روی خط مرکزی پشت",19,0.45,20,0.5,4.9999999999999989E-2,-0.49999999999999972,0,9.9999999999999964,2,50,0.5,20,null,null,null,null,null,null,null,null,null,null,null,null,null,null,null,null,null,{"$f":"DT6","v":"عنوان 15"},3,104,null,null,195,1.5]
["γ16        ضریب تغییر انحنا پایین","(از 0 الی 2)",0.6,"بهینه=0.6",{"$f":"'طراحی همه الگوها'!E228","v":20},"ضریب تغییر انحنا پایین",19,0.55000000000000004,20,0.6,4.9999999999999933E-2,-0.39999999999999869,0,7.999999999999984,2,48.000000000000036,0.6,20,null,null,null,null,null,null,null,null,null,null,null,null,null,null,null,null,null,{"$f":"DU6","v":"عنوان 16"},4,105,null,null,200,2]
["γ17      ضریب پهنای پشت پایه (انگلیسی و آرشال) مرحله سوم","(از 0.2 الی 2)",0.7,"بهینه=1\nبهینه پایه مستطیل=0.7",{"$f":"'طراحی همه الگوها'!E219","v":20},"پهنای پشت پایه (انگلیسی و آرشال)    مرحله سوم در طراحی یقه انگلیسی      ",19,0.65,20,0.7,4.9999999999999933E-2,-0.29999999999999871,0.2,9.9999999999999876,2,46.000000000000043,1,26.000000000000011,null,null,null,null,null,null,null,null,null,null,null,null,null,null,null,null,null,{"$f":"DV6","v":"عنوان 17"},5,106,null,null,null,2.5]
["γ18        زاویه کج شدن پایه مستطیل به قسمت گردن بر حسب درجه  مرحله سوم ","(از -30 الی 30)",-15,"بهینه=5",{"$f":"'طراحی همه الگوها'!E220","v":20},"زاویه کج شدن پایه مستطیل به قسمت گردن    مرحله سوم در طراحی یقه انگلیسی ",39,4,40,5,1,-35,-30,5,30,65,5,40,null,null,null,null,null,null,null,null,null,null,null,null,null,null,null,null,null,{"$f":"DW6","v":"عنوان 18"},6,107,null,null,null,3]
[" ضریب پهنای جلو پایه مستطیل  مرحله سوم       γ19","(از 0 الی 1)",0.7,"بهینه=0.7",{"$f":"'طراحی همه الگوها'!E221","v":20},"پهنای جلو پایه مستطیل      مرحله سوم در طراحی یقه انگلیسی       ",19,0.65,20,0.7,4.9999999999999933E-2,-0.29999999999999871,0,5.9999999999999822,1,26.000000000000011,0.7,20,null,null,null,null,null,null,null,null,null,null,null,null,null,null,null,null,null,{"$f":"DX6","v":"عنوان 19"},7,108,null,null,null,3.5]
["انتخاب یقه انگلیسی با پایه جدا=1            انتخاب دیگر=0  مرحله سوم","0 یا 1 ",0,null,{"$f":"'طراحی همه الگوها'!E222","v":1},"انتخاب یقه انگلیسی پایه سرخود یا پایه جدا    مرحله سوم در طراحی یقه انگلیسی",1,0,2,1,1,-1,0,1,1,2,0,1,null,null,null,null,null,null,null,null,null,null,null,null,null,null,null,null,null,{"$f":"DY6","v":"عنوان 20"},8,109,null,null,null,4]
["γ20        جابجایی عمودی پایه مستطیل","(از -100 الی100)",0,"بهینه=دلخواه",{"$f":"'طراحی همه الگوها'!E231","v":0},"جابجایی عمودی پایه مستطیل (سانتیمتر)",1,1,0,0,1,0,-100,{"$f":"(M160-L160)/K160","v":-100},100,{"$f":"(O160-L160)/K160","v":100},null,null,null,null,null,null,null,null,null,null,null,null,null,null,null,null,null,null,null,{"$f":"DZ6","v":"عنوان 21"},9,110,null,null,null,4.5]
["γ21        جابجایی افقی پایه مستطیل","(از -100 الی100)",0,"بهینه=دلخواه",{"$f":"'طراحی همه الگوها'!E230","v":0},"جابجایی افقی پایه مستطیل (سانتیمتر)",1,1,0,0,1,0,-100,{"$f":"(M161-L161)/K161","v":-100},100,{"$f":"(O161-L161)/K161","v":100},null,null,null,null,null,null,null,null,null,null,null,null,null,null,null,null,null,null,null,{"$f":"EA6","v":"عنوان 22"},10,111,null,null,null,5]
[null,null,null,null,null,null,null,null,null,null,null,null,null,null,null,null,null,null,null,null,null,null,null,null,null,null,null,null,null,null,null,null,null,null,null,{"$f":"EB6","v":"عنوان 23"},11,112,null,null,null,5.5]
[" متغیرهای ورودی-طراحی یقه انگلیسی و آرشال و یقه هفت",null,null,null,null," متغیرهای ورودی-طراحی یقه انگلیسی و آرشال و یقه هفت","x1","y1","x2","y2(بهینه)","a","b",null,"کمترین",null,"بیشترین",null,null,"مراحل مختلف در طراحی یقه انگلیسی",null,null,null,null,null,null,null,null,null,null,null,null,null,null,null,null,{"$f":"EC6","v":"عنوان 24"},12,113,null,null,null,6]
["پهنای یقه در پشت گردن (انگلیسی یا آرشال)  مرحله سوم","(از 0.7 الی 3)",{"$f":"K164*E164+L164","v":1},"بهینه=1",{"$f":"'طراحی همه الگوها'!E207","v":20},"پهنای یقه در پشت گردن (انگلیسی یا آرشال)  مرحله سوم در طراحی یقه انگلیسی",19,0.95,20,1,{"$f":"(J164-H164)/(I164-G164)","v":5.0000000000000044E-2},{"$f":"H164-G164*K164","v":-8.8817841970012523E-16},0.7,{"$f":"(M164-L164)/K164","v":14.000000000000004},3,{"$f":"(O164-L164)/K164","v":59.999999999999964},1,{"$f":"(Q164-L164)/K164","v":20},"پهنای جادکمه جلو - میزان روی هم آمدن یقه انگلیسی","مرحله اول",null,null,null,null,null,null,null,null,null,null,null,null,null,null,null,{"$f":"ED6","v":"عنوان 25"},13,114,null,null,null,6.5]
["γ1      باز بودن یقه انگلیسی یا آرشال یا هفت   مرحله چهارم ","(از 0.5 الی 1.5)",0.7,"بهینه=0.7",{"$f":"'طراحی همه الگوها'!E208","v":20}," باز بودن یقه انگلیسی یا آرشال یا هفت   مرحله چهارم در طراحی یقه انگلیسی ",19,0.65,20,0.7,4.9999999999999933E-2,-0.29999999999999871,0.5,15.999999999999995,1.5,36.000000000000021,0.7,20,"میزان باز بودن یقه گرد - نشان میدهد یقه چقدر به گردن میچسبد","مرحله دوم",null,null,null,null,null,null,null,null,null,null,null,null,null,null,null,{"$f":"EE6","v":"عنوان 26"},14,115,null,null,null,7]
["γ7        پهنای بالای دال   مرحله پنجم ","(از 0.01 الی 0.4)",9.9999999999999992E-2,"بهینه=0.1",{"$f":"'طراحی همه الگوها'!E209","v":20}," پهنای بالای دال   مرحله پنجم در طراحی یقه انگلیسی ",21,0.11,20,0.1,9.999999999999995E-3,-9.9999999999999908E-2,0.01,10.999999999999996,0.4,50.000000000000021,0.1,20,"پهنای تکه پشت یقه انگلیسی","مرحله سوم",null,null,null,null,null,null,null,null,null,null,null,null,null,null,null,{"$f":"EF6","v":"عنوان 27"},15,116,null,null,null,7.5]
[" پهنای پایین دال   مرحله پنجم         γ6","(از 0.01 الی 0.4)",9.9999999999999992E-2,"بهینه=0.1",{"$f":"'طراحی همه الگوها'!E210","v":20}," پهنای پایین دال   مرحله پنجم در طراحی یقه انگلیسی      ",21,0.11,20,0.1,9.999999999999995E-3,-9.9999999999999908E-2,0.01,10.999999999999996,0.4,50.000000000000021,0.1,20,"باز بودن یقه انگلیسی","مرحله چهارم",null,null,null,null,null,null,null,null,null,null,null,null,null,null,null,{"$f":"EG6","v":"عنوان 28"},16,117,null,null,null,8]
["γ4          پهنای یقه انگلیسی یا آرشال   مرحله ششم ","(از -5 الی 40)",8,"بهینه=8",{"$f":"'طراحی همه الگوها'!E211","v":20}," پهنای یقه انگلیسی یا آرشال   مرحله ششم در طراحی یقه انگلیسی ",19,7,20,8,1,-12,-5,7,40,52,8,20,"پهنای بالا و پایین دال","مرحله پنجم",null,null,null,null,null,null,null,null,null,null,null,null,null,null,null,{"$f":"EH6","v":"عنوان 29"},17,118,null,null,null,8.5]
["γ5        وسط دال پایین یا بالا رود (انگلیسی یا آرشال)  مرحله هفتم","(از -0.2 الی 0.3)",0,"عدد منفی یعنی دال رو به سرشانه برود\nبهینه=0",{"$f":"'طراحی همه الگوها'!E212","v":20}," وسط دال پایین یا بالا رود (انگلیسی یا آرشال)  مرحله هفتم در طراحی یقه انگلیسی",19,-0.01,20,0,0.01,-0.2,-0.2,0,0.3,50,0,20,"پهنای یقه انگلیسی","مرحله ششم",null,null,null,null,null,null,null,null,null,null,null,null,null,null,null,{"$f":"EI6","v":"عنوان 30"},18,119,"متغیر ورودی خاص یقه","متغیر ورودی خاص شلوار",null,9]
["γ9       زاویه بالای دال   مرحله هشتم","(از 90 الی 180)",130,"بهینه=130",{"$f":"'طراحی همه الگوها'!E213","v":20}," زاویه بالای دال   مرحله هشتم در طراحی یقه انگلیسی",19,125,20,130,5,30,90,12,180,30,130,20,"بالا و پایین رفتن نقطه وسط دال","مرحله هفتم",null,null,null,null,null,null,null,null,null,null,null,null,null,null,null,{"$f":"EJ6","v":"عنوان 31"},19,120,"خط جادکمه","روش مولر",null,9.5]
["γ10       زاویه پایین دال    مرحله هشتم ","(از 90 الی 180)",160,"بهینه=160",{"$f":"'طراحی همه الگوها'!E214","v":20}," زاویه پایین دال    مرحله هشتم در طراحی یقه انگلیسی ",19,155,20,160,5,60,90,6,180,24,160,20,"تنظیم زاویه های نوک دال","مرحله هشتم",null,null,null,null,null,null,null,null,null,null,null,null,null,null,null,{"$f":"EK6","v":"عنوان 32"},20,null,"مرکزی جلو",0,null,10]
["  γ3  دال رو به پایین شود یا رو به بالا شود مرحله هشتم  (در آستین رگلان = 0.05)","(از 0.01 الی 0.3)",5.0000000000000017E-2,"بهینه=0.05",{"$f":"'طراحی همه الگوها'!E215","v":20}," دال رو به پایین یا رو به بالا شود مرحله هشتم در طراحی یقه انگلیسی  ",19,0.04,20,0.05,{"$f":"(J172-H172)/(I172-G172)","v":1.0000000000000002E-2},{"$f":"H172-G172*K172","v":-0.15000000000000002},0.01,{"$f":"(M172-L172)/K172","v":16},0.3,{"$f":"(O172-L172)/K172","v":44.999999999999993},0.05,{"$f":"(Q172-L172)/K172","v":19.999999999999996},"اصلاح انحنای بالای تکه پشت یقه انگلیسی","مرحله نهم",null,null,null,null,null,null,null,null,null,null,null,null,null,null,null,{"$f":"EL6","v":"عنوان 33"},21,null,1,0.5,null,10.5]
["γ1      محاسبه در یقه شکاری متصل به یقه هفت   ",{"$f":"ROUND(1-(محاسبات!AX103-محاسبات!AX129-محاسبات!AX155-'متغیرها '!C169*محاسبات!H124)/محاسبات!H124,2)","v":0.23},null,null,null,"   محاسبه در یقه شکاری متصل به یقه هفت   ",null,null,null,null,null,null,null,null,null,null,null,null,null,null,null,null,null,null,null,null,null,null,null,null,null,null,null,null,null,{"$f":"EM6","v":"عنوان 34"},22,null,2,1,null,11]
[null,null,null,null,null,null,null,null,null,null,null,null,null,null,null,null,null,null,null,null,null,null,null,null,null,null,null,null,null,null,null,null,null,null,null,{"$f":"EN6","v":"عنوان 35"},23,null,3,1.5,null,11.5]
[" متغیرهای ورودی -ضخیم دوزی در سجاف یقه انگلیسی و آرشال",null,null,null,null," متغیرهای ورودی -ضخیم دوزی در سجاف یقه انگلیسی و آرشال","x1","y1","x2","y2(بهینه)","a","b",null,"کمترین",null,"بیشترین",null,null,null,null,null,null,null,null,null,null,null,null,null,null,null,null,null,null,null,{"$f":"EO6","v":"عنوان 36"},24,null,4,2,null,12]
["ضریب اعمال ضخیم دوزی در سجاف  (سانتیمتر) a'0","(از 0 الی 1)",{"$f":"K176*E176+L176","v":0.5},"بهینه کت مردانه=0.5",{"$f":"'طراحی همه الگوها'!E229","v":20},"ضریب اعمال ضخیم دوزی در سجاف  (سانتیمتر) ",19,0.45,20,0.5,{"$f":"(J176-H176)/(I176-G176)","v":4.9999999999999989E-2},{"$f":"H176-G176*K176","v":-0.49999999999999972},0,{"$f":"(M176-L176)/K176","v":9.9999999999999964},1,{"$f":"(O176-L176)/K176","v":30.000000000000004},0.5,{"$f":"(Q176-L176)/K176","v":20},null,null,null,null,null,null,null,null,null,null,null,null,null,null,null,null,null,{"$f":"EP6","v":"عنوان 37"},25,null,5,2.5,null,12.5]
[null,null,null,null,null,null,null,null,null,null,null,null,null,null,null,null,null,null,null,null,null,null,null,null,null,null,null,null,null,null,null,null,null,null,null,{"$f":"EQ6","v":"عنوان 38"},26,null,6,3,null,13]
[" متغیرهای ورودی - پایه یقه انگلیسی  ",null,null,null,null," متغیرهای ورودی - پایه یقه انگلیسی  ","x1","y1","x2","y2(بهینه)","a","b",null,"کمترین",null,"بیشترین",null,null,null,null,null,null,null,null,null,null,null,null,null,null,null,null,null,null,null,{"$f":"ER6","v":"عنوان 39"},27,null,7,3.5,null,13.5]
["شیفت افقی پایه (به سانتیمتر)","(از -100 الی100)",{"$f":"K179*E179+L179","v":0},"بهینه=دلخواه",{"$f":"'طراحی همه الگوها'!E232","v":0},"شیفت افقی پایه (سانتیمتر)",1,1,0,0,{"$f":"(J179-H179)/(I179-G179)","v":1},{"$f":"H179-G179*K179","v":0},-100,{"$f":"(M179-L179)/K179","v":-100},100,{"$f":"(O179-L179)/K179","v":100},null,null,null,null,null,null,null,null,null,null,null,null,null,null,null,null,null,null,null,{"$f":"ES6","v":"عنوان 40"},28,null,8,4,null,14]
["شیفت عمودی پایه (به سانتیمتر)","(از -100 الی100)",{"$f":"K180*E180+L180","v":0},"بهینه=دلخواه",{"$f":"'طراحی همه الگوها'!E233","v":0},"شیفت عمودی پایه (سانتیمتر)",1,1,0,0,{"$f":"(J180-H180)/(I180-G180)","v":1},{"$f":"H180-G180*K180","v":0},-100,{"$f":"(M180-L180)/K180","v":-100},100,{"$f":"(O180-L180)/K180","v":100},null,null,null,null,null,null,null,null,null,null,null,null,null,null,null,null,null,null,null,null,29,null,9,4.5,null,14.5]
[null,null,null,null,null,null,null,null,null,null,null,null,null,null,null,null,null,null,null,null,null,null,null,null,null,null,null,null,null,null,null,null,null,null,null,null,30,null,10,5,null,15]
[" متغیرهای ورودی - پایه یقه آرشال  ",null,null,null,null," متغیرهای ورودی - پایه یقه آرشال  ","x1","y1","x2","y2(بهینه)","a","b",null,"کمترین",null,"بیشترین",null,null,null,null,null,null,null,null,null,null,null,null,null,null,null,null,null,null,null,null,31,null,11,5.5,null,15.5]
["شیفت افقی پایه (به سانتیمتر)","(از -100 الی100)",{"$f":"K183*E183+L183","v":0},"بهینه=دلخواه",{"$f":"'طراحی همه الگوها'!E234","v":0},"شیفت افقی پایه (سانتیمتر)",1,1,0,0,{"$f":"(J183-H183)/(I183-G183)","v":1},{"$f":"H183-G183*K183","v":0},-100,{"$f":"(M183-L183)/K183","v":-100},100,{"$f":"(O183-L183)/K183","v":100},null,null,null,null,null,null,null,null,null,null,null,null,null,null,null,null,null,null,null,null,32,null,12,6,null,16]
["شیفت عمودی پایه (به سانتیمتر)","(از -100 الی100)",{"$f":"K184*E184+L184","v":0},"بهینه=دلخواه",{"$f":"'طراحی همه الگوها'!E235","v":0},"شیفت عمودی پایه (سانتیمتر)",1,1,0,0,{"$f":"(J184-H184)/(I184-G184)","v":1},{"$f":"H184-G184*K184","v":0},-100,{"$f":"(M184-L184)/K184","v":-100},100,{"$f":"(O184-L184)/K184","v":100},null,null,null,null,null,null,null,null,null,null,null,null,null,null,null,null,null,null,null,null,33,null,13,6.5,null,16.5]
[null,null,null,null,null,null,null,null,null,null,null,null,null,null,null,null,null,null,null,null,null,null,null,null,null,null,null,null,null,null,null,null,null,null,null,null,34,null,14,7,null,17]
[" متغیرهای ورودی-انتقال ساسون زیر بغل بر روی جیب در تکه پهلو جدا",null,null,null,null," متغیرهای ورودی-انتقال ساسون زیر بغل بر روی جیب در تکه پهلو جدا","x1","y1","x2","y2(بهینه)","a","b",null,"کمترین",null,"بیشترین",null,null,null,null,null,null,null,null,null,null,null,null,null,null,null,null,null,null,null,null,35,null,15,7.5,null,17.5]
["تغییر زاویه جیب با افق  (درجه)","(از -45 الی 45)",{"$f":"K187*E187+L187","v":-41},"بهینه =دلخواه",{"$f":"'طراحی همه الگوها'!B336","v":40},"تغییر زاویه جیب با افق  (درجه)",-2,1,-1,0,{"$f":"(J187-H187)/(I187-G187)","v":-1},{"$f":"H187-G187*K187","v":-1},-45,{"$f":"(M187-L187)/K187","v":44},45,{"$f":"(O187-L187)/K187","v":-46},0,{"$f":"(Q187-L187)/K187","v":-1},null,null,null,null,null,null,null,null,null,null,null,null,null,null,null,null,null,null,36,null,16,8,null,18]
["ضریب پهنای جیب در مدل تکه پهلو جدا","(از 0.01 الی 1.5)",{"$f":"K188*E188+L188","v":1},"بهینه=1",{"$f":"'طراحی همه الگوها'!B337","v":20},"ضریب پهنای جیب در مدل تکه پهلو جدا",19,0.95,20,1,{"$f":"(J188-H188)/(I188-G188)","v":5.0000000000000044E-2},{"$f":"H188-G188*K188","v":-8.8817841970012523E-16},0.01,{"$f":"(M188-L188)/K188","v":0.20000000000001758},1.5,{"$f":"(O188-L188)/K188","v":29.999999999999993},1,{"$f":"(Q188-L188)/K188","v":20},null,null,null,null,null,null,null,null,null,null,null,null,null,null,null,null,null,null,37,null,17,8.5,null,18.5]
[null,null,null,null,null,null,null,null,null,null,null,null,null,null,null,null,null,null,null,null,null,null,null,null,null,null,null,null,null,null,null,null,null,null,null,null,38,null,18,9,null,19]
[" متغیرهای ورودی-انحنا لبه پیراهن روی خط مرکزی جلو ",null,null,null,null," متغیرهای ورودی-انحنا لبه پیراهن روی خط مرکزی جلو ","x1","y1","x2","y2(بهینه)","a","b",null,"کمترین",null,"بیشترین",null,null,null,null,null,null,null,null,null,null,null,null,null,null,null,null,null,null,null,null,39,null,19,9.5,null,19.5]
["ضریب انحنا بالای لبه پیراهن  روی خط مرکزی جلو n11","(از 0.01 الی 0.9)",{"$f":"K191*E191+L191","v":0.45},"بهینه کت مردانه=0.45",{"$f":"'طراحی همه الگوها'!B311","v":9},"ضریب انحنا بالای لبه پیراهن  روی خط مرکزی جلو ",1,0.05,0,0,{"$f":"(J191-H191)/(I191-G191)","v":0.05},{"$f":"H191-G191*K191","v":0},0.01,{"$f":"(M191-L191)/K191","v":0.19999999999999998},0.9,{"$f":"(O191-L191)/K191","v":18},0.45,{"$f":"(Q191-L191)/K191","v":9},null,null,null,null,null,null,null,null,null,null,null,null,null,null,null,null,null,null,40,null,20,10,null,20]
["ضریب انحنا میانی لبه پیراهن  روی خط مرکزی جلو n13","(از 0.5 الی 1.7)",{"$f":"K192*E192+L192","v":1.3},"بهینه کت مردانه=1.3",{"$f":"'طراحی همه الگوها'!B312","v":26},"ضریب انحنا میانی لبه پیراهن  روی خط مرکزی جلو ",1,0.05,0,0,{"$f":"(J192-H192)/(I192-G192)","v":0.05},{"$f":"H192-G192*K192","v":0},0.5,{"$f":"(M192-L192)/K192","v":10},1.7,{"$f":"(O192-L192)/K192","v":34},1.3,{"$f":"(Q192-L192)/K192","v":26},null,null,null,null,null,null,null,null,null,null,null,null,null,null,null,null,null,null,41,null,null,10.5,null,20.5]
["ضریب انحنا پایین لبه پیراهن روی خط مرکزی جلو n12","(از 0.3 الی 1)",{"$f":"K193*E193+L193","v":0.8},"بهینه کت مردانه=0.8",{"$f":"'طراحی همه الگوها'!B313","v":16},"ضریب انحنا پایین لبه پیراهن روی خط مرکزی جلو ",1,0.05,0,0,{"$f":"(J193-H193)/(I193-G193)","v":0.05},{"$f":"H193-G193*K193","v":0},0.3,{"$f":"(M193-L193)/K193","v":5.9999999999999991},1,{"$f":"(O193-L193)/K193","v":20},0.8,{"$f":"(Q193-L193)/K193","v":16},null,null,null,null,null,null,null,null,null,null,null,null,null,null,null,null,null,null,42,null,null,11,null,21]
[null,null,null,null,null,null,null,null,null,null,null,null,null,null,null,null,null,null,null,null,null,null,null,null,null,null,null,null,null,null,null,null,null,null,null,null,43,null,null,11.5,null,21.5]
[" متغیرهای ورودی - جیب پهلو",null,null,null,null," متغیرهای ورودی - جیب پهلو آبی با بلیطی  (جلو)","x1","y1","x2","y2(بهینه)","a","b",null,"کمترین",null,"بیشترین",null,null,null,null,null,null,null,null,null,null,null,null,null,null,null,null,null,null,null,null,44,null,null,12,null,22]
["عرض پاکت جیب به سانتیمتر","(از 0 الی 4)",{"$f":"K196*E196+L196","v":2},"بهینه=2",{"$f":"'طراحی همه الگوها'!E326","v":2},"پهنای بلیطی جیب  (سانتیمتر)",1,1,0,0,{"$f":"(J196-H196)/(I196-G196)","v":1},{"$f":"H196-G196*K196","v":0},0,{"$f":"(M196-L196)/K196","v":0},4,{"$f":"(O196-L196)/K196","v":4},2,{"$f":"(Q196-L196)/K196","v":2},null,null,null,null,null,null,null,null,null,null,null,null,null,null,null,null,null,null,45,null,null,12.5,null,22.5]
["ضریب طول پاکت جیب","(از 0.01 الی 1.5)",{"$f":"K197*E197+L197","v":1},"بهینه=1",{"$f":"'طراحی همه الگوها'!E327","v":20},"ضریب طول بلیطی جیب",19,0.95,20,1,{"$f":"(J197-H197)/(I197-G197)","v":5.0000000000000044E-2},{"$f":"H197-G197*K197","v":-8.8817841970012523E-16},0.01,{"$f":"(M197-L197)/K197","v":0.20000000000001758},1.5,{"$f":"(O197-L197)/K197","v":29.999999999999993},1,{"$f":"(Q197-L197)/K197","v":20},null,null,null,null,null,null,null,null,null,null,null,null,null,null,null,null,null,null,46,null,null,13,null,23]
["زاویه جیب با عمود به درجه","(از 0 الی 90)",{"$f":"K198*E198+L198","v":20},"بهینه=20",{"$f":"'طراحی همه الگوها'!E328","v":4},"زاویه جیب با عمود ",1,5,0,0,{"$f":"(J198-H198)/(I198-G198)","v":5},{"$f":"H198-G198*K198","v":0},0,{"$f":"(M198-L198)/K198","v":0},90,{"$f":"(O198-L198)/K198","v":18},20,{"$f":"(Q198-L198)/K198","v":4},null,null,null,null,null,null,null,null,null,null,null,null,null,null,null,null,null,null,47,null,null,13.5,null,23.5]
["زاویه چرخش پاکت جیب از مستطیل به متوازی الاضلاع (به درجه)","(از -90 الی 90)",{"$f":"K199*E199+L199","v":0},"پاکت مستطیل=0  ",{"$f":"'طراحی همه الگوها'!E329","v":20},"زاویه چرخش بلیطی جیب از مستطیل به متوازی الاضلاع ",21,5,20,0,{"$f":"(J199-H199)/(I199-G199)","v":5},{"$f":"H199-G199*K199","v":-100},-90,{"$f":"(M199-L199)/K199","v":2},90,{"$f":"(O199-L199)/K199","v":38},0,{"$f":"(Q199-L199)/K199","v":20},null,null,null,null,null,null,null,null,null,null,null,null,null,null,null,null,null,null,48,null,null,14,null,24]
[null,null,null,null,null,null,null,null,null,null,null,null,null,null,null,null,null,null,null,null,null,null,null,null,null,null,null,null,null,null,null,null,null,null,null,null,49,null,null,14.5,null,24.5]
[" متغیرهای ورودی - جیب اول درمکان دلخواه",null,null,null,null," متغیرهای ورودی - جیب اول سبز با بلیطی  (جلو)","x1","y1","x2","y2(بهینه)","a","b",null,"کمترین",null,"بیشترین",null,null,null,null,null,null,null,null,null,null,null,null,null,null,null,null,null,null,null,null,50,null,null,15,null,25]
["ضریب فاصله افقی وسط جیب از خط مرکزی جلو ","(از 0 الی 1)",{"$f":"K202*E202+L202","v":5},"خط مرکزی جلو=0 \nخط پهلو=1  ",{"$f":"'طراحی مدل 30a'!E343","v":100},"ضریب فاصله افقی وسط جیب از خط مرکزی جلو ",20,1,0,0,{"$f":"(J202-H202)/(I202-G202)","v":0.05},{"$f":"H202-G202*K202","v":0},0,{"$f":"(M202-L202)/K202","v":0},1,{"$f":"(O202-L202)/K202","v":20},0.5,{"$f":"(Q202-L202)/K202","v":10},null,null,null,null,null,null,null,null,null,null,null,null,null,null,null,null,null,null,51,null,null,null,null,25.5]
["ضریب فاصله عمودی بالای جیب از زمین ","(از0 الی 5)",4.4000000000000004,"خط زمین=0 \nخط زانو=1 \nخط باسن=2 \nخط کمر=3 \nخط سینه=4  ",{"$f":"'طراحی مدل 30a'!E344","v":98},"ضریب فاصله عمودی بالای جیب از زمین ",10,0,30,1,0.05,-0.5,0,10,5,110,2,50,null,null,null,null,null,null,null,null,null,null,null,null,null,null,null,null,null,null,52,null,null,null,null,26]
["عرض پاکت جیب به سانتیمتر","(از 0 الی 4)",0,"بهینه=2",{"$f":"'طراحی مدل 30a'!E338","v":0},"پهنای بلیطی جیب  (سانتیمتر)",1,1,0,0,1,0,0,0,4,4,2,2,null,null,null,null,null,null,null,null,null,null,null,null,null,null,null,null,null,null,53,null,null,null,null,26.5]
["ضریب طول پاکت جیب","(از 0.01 الی 2)",0.79999999999999982,"بهینه=1",{"$f":"'طراحی مدل 30a'!E339","v":16},"ضریب طول بلیطی جیب",19,0.95,20,1,5.0000000000000044E-2,-8.8817841970012523E-16,0.01,0.20000000000001758,2,39.999999999999986,1,20,null,null,null,null,null,null,null,null,null,null,null,null,null,null,null,null,null,null,54,null,null,null,null,27]
["زاویه جیب با عمود به درجه","(از 0 الی 180)",90,"بهینه=دلخواه",{"$f":"'طراحی مدل 30a'!E340","v":18},"زاویه جیب با عمود ",1,5,0,0,5,0,0,0,180,36,20,4,null,null,null,null,null,null,null,null,null,null,null,null,null,null,null,null,null,null,55,null,null,null,null,27.5]
["زاویه چرخش پاکت جیب از مستطیل به متوازی الاضلاع (به درجه)","(از -90 الی 90)",0,"پاکت مستطیل=0  ",{"$f":"'طراحی مدل 30a'!E341","v":20},"زاویه چرخش بلیطی جیب از مستطیل به متوازی الاضلاع ",21,5,20,0,5,-100,-90,2,90,38,0,20,null,null,null,null,null,null,null,null,null,null,null,null,null,null,null,null,null,null,56,null,null,null,null,28]
["انتخاب جیب روکار=1        انتخاب دیگر=0","0 یا 1 ",1,null,{"$f":"'طراحی مدل 30a'!E342","v":2},"انتخاب جیب روکار=2        انتخاب دیگر=1",1,0,2,1,1,-1,0,1,1,2,0,1,null,null,null,null,null,null,null,null,null,null,null,null,null,null,null,null,null,null,57,null,null,null,null,28.5]
["انتخاب طول جیب منطبق با جیب با ساسون=1        انتخاب طول جیب دستی=0","0 یا 1 ",0,null,{"$f":"'طراحی همه الگوها'!E330","v":1},"انتخاب طول جیب منطبق با جیب با ساسون=2        انتخاب طول جیب دستی=1",1,0,2,1,{"$f":"(J209-H209)/(I209-G209)","v":1},{"$f":"H209-G209*K209","v":-1},0,1,1,2,0,1,null,null,null,null,null,null,null,null,null,null,null,null,null,null,null,null,null,null,58,null,null,null,null,29]
[null,null,null,null,null,null,null,null,null,null,null,null,null,null,null,null,null,null,null,null,null,null,null,null,null,null,null,null,null,null,null,null,null,null,null,null,59,null,null,null,null,29.5]
[" متغیرهای ورودی - جیب دوم درمکان دلخواه",null,null,null,null," متغیرهای ورودی - جیب دوم سیاه با بلیطی (جلو)","x1","y1","x2","y2(بهینه)","a","b",null,"کمترین",null,"بیشترین",null,null,null,null,null,null,null,null,null,null,null,null,null,null,null,null,null,null,null,null,60,null,null,null,null,30]
["ضریب فاصله افقی وسط جیب از خط مرکزی جلو ","(از 0 الی 1)",{"$f":"K212*E212+L212","v":5},"خط مرکزی جلو=0 \nخط پهلو=1  ",{"$f":"'طراحی مدل 30a'!E352","v":100},"ضریب فاصله افقی وسط جیب از خط مرکزی جلو ",20,1,0,0,{"$f":"(J212-H212)/(I212-G212)","v":0.05},{"$f":"H212-G212*K212","v":0},0,{"$f":"(M212-L212)/K212","v":0},1,{"$f":"(O212-L212)/K212","v":20},0.5,{"$f":"(Q212-L212)/K212","v":10},null,null,null,null,null,null,null,null,null,null,null,null,null,null,null,null,null,null,61,null,null,null,null,30.5]
["ضریب فاصله عمودی بالای جیب از زمین ","(از0 الی 5)",-0.5,"خط زمین=0 \nخط زانو=1 \nخط باسن=2 \nخط کمر=3 \nخط سینه=4  ",{"$f":"'طراحی مدل 30a'!E353","v":0},"ضریب فاصله عمودی بالای جیب از زمین ",10,0,30,1,0.05,-0.5,0,10,5,110,2,50,null,null,null,null,null,null,null,null,null,null,null,null,null,null,null,null,null,null,62,null,null,null,null,31]
["عرض پاکت جیب به سانتیمتر","(از 0 الی 4)",0,"بهینه=2",{"$f":"'طراحی مدل 30a'!E347","v":0},"پهنای بلیطی جیب  (سانتیمتر)",1,1,0,0,1,0,0,0,4,4,2,2,null,null,null,null,null,null,null,null,null,null,null,null,null,null,null,null,null,null,63,null,null,null,null,31.5]
["ضریب طول پاکت جیب","(از 0.01 الی 2)",0.89999999999999991,"بهینه=1",{"$f":"'طراحی مدل 30a'!E348","v":18},"ضریب طول بلیطی جیب",19,0.95,20,1,5.0000000000000044E-2,-8.8817841970012523E-16,0.01,0.20000000000001758,2,39.999999999999986,1,20,null,null,null,null,null,null,null,null,null,null,null,null,null,null,null,null,null,null,64,null,null,null,null,32]
["زاویه جیب با عمود به درجه","(از 0 الی 180)",90,"بهینه=دلخواه",{"$f":"'طراحی مدل 30a'!E349","v":18},"زاویه جیب با عمود ",1,5,0,0,5,0,0,0,180,36,20,4,null,null,null,null,null,null,null,null,null,null,null,null,null,null,null,null,null,null,65,null,null,null,null,32.5]
["زاویه چرخش پاکت جیب از مستطیل به متوازی الاضلاع (به درجه)","(از -90 الی 90)",0,"پاکت مستطیل=0  ",{"$f":"'طراحی مدل 30a'!E350","v":20},"زاویه چرخش بلیطی جیب از مستطیل به متوازی الاضلاع ",21,5,20,0,5,-100,-90,2,90,38,0,20,null,null,null,null,null,null,null,null,null,null,null,null,null,null,null,null,null,null,66,null,null,null,null,33]
["انتخاب جیب روکار=1        انتخاب دیگر=0","0 یا 1 ",1,null,{"$f":"'طراحی مدل 30a'!E351","v":2},"انتخاب جیب روکار=2        انتخاب دیگر=1",1,0,2,1,1,-1,0,1,1,2,0,1,null,null,null,null,null,null,null,null,null,null,null,null,null,null,null,null,null,null,67,null,null,null,null,33.5]
[null,null,null,null,null,null,null,null,null,null,null,null,null,null,null,null,null,null,null,null,null,null,null,null,null,null,null,null,null,null,null,null,null,null,null,null,68,null,null,null,null,34]
["متغیرهای ورودی -  جیب مستطیل",null,null,null,null,"متغیرهای ورودی -  جیب مستطیل قرمز   (جلو)","x1","y1","x2","y2(بهینه)","a","b",null,"کمترین",null,"بیشترین",null,null,null,null,null,null,null,null,null,null,null,null,null,null,null,null,null,null,null,null,69,null,null,null,null,34.5]
["ضریب فاصله افقی وسط  جیب از خط مرکزی جلو لباس ","(از 0 الی 1)",{"$f":"K221*E221+L221","v":0.5},"لبه جلو=0 \nلبه کناری=1  ",{"$f":"'طراحی همه الگوها'!E354","v":10},"ضریب فاصله افقی وسط  جیب از خط مرکزی جلو لباس ",20,1,0,0,{"$f":"(J221-H221)/(I221-G221)","v":0.05},{"$f":"H221-G221*K221","v":0},0,{"$f":"(M221-L221)/K221","v":0},1,{"$f":"(O221-L221)/K221","v":20},0.5,{"$f":"(Q221-L221)/K221","v":10},null,null,null,null,null,null,null,null,null,null,null,null,null,null,null,null,null,null,70,null,null,null,null,35]
["ضریب فاصله عمودی بالای  جیب از زمین ","(از0 الی 5)",{"$f":"K222*E222+L222","v":4.3000000000000007},"خط زمین=0 \nخط زانو=1 \nخط باسن=2 \nخط کمر=3 \nخط سینه=4  ",{"$f":"'طراحی همه الگوها'!E355","v":96},"ضریب فاصله عمودی بالای  جیب از زمین ",10,0,30,1,{"$f":"(J222-H222)/(I222-G222)","v":0.05},{"$f":"H222-G222*K222","v":-0.5},0,{"$f":"(M222-L222)/K222","v":10},5,{"$f":"(O222-L222)/K222","v":110},2,{"$f":"(Q222-L222)/K222","v":50},null,null,null,null,null,null,null,null,null,null,null,null,null,null,null,null,null,null,71,null,null,null,null,35.5]
["ضریب عرض جیب مستطیل","(از 0.01 الی 1.5)",{"$f":"K223*E223+L223","v":0},"بهینه جیب=1.2",{"$f":"'طراحی همه الگوها'!E351","v":0},"ضریب عرض جیب مستطیل",1,0.05,0,0,{"$f":"(J223-H223)/(I223-G223)","v":0.05},{"$f":"H223-G223*K223","v":0},0.01,{"$f":"(M223-L223)/K223","v":0.19999999999999998},1.5,{"$f":"(O223-L223)/K223","v":30},1.2,{"$f":"(Q223-L223)/K223","v":23.999999999999996},null,null,null,null,null,null,null,null,null,null,null,null,null,null,null,null,null,null,72,null,null,null,null,36]
["زاویه  جیب با عمود (به درجه)","(از 0 الی 180)",{"$f":"K224*E224+L224","v":0},"افقی=90",{"$f":"'طراحی همه الگوها'!E352","v":0},"زاویه  جیب با عمود ",1,5,0,0,{"$f":"(J224-H224)/(I224-G224)","v":5},{"$f":"H224-G224*K224","v":0},0,{"$f":"(M224-L224)/K224","v":0},180,{"$f":"(O224-L224)/K224","v":36},90,{"$f":"(Q224-L224)/K224","v":18},null,null,null,null,null,null,null,null,null,null,null,null,null,null,null,null,null,null,73,null,null,null,null,36.5]
["ضریب ارتفاع جیب مستطیل","(از 0 الی 1.5)",{"$f":"K225*E225+L225","v":0},"بهینه جیب=1.1",{"$f":"'طراحی همه الگوها'!E353","v":0},"ضریب ارتفاع جیب مستطیل",1,0.05,0,0,{"$f":"(J225-H225)/(I225-G225)","v":0.05},{"$f":"H225-G225*K225","v":0},0,{"$f":"(M225-L225)/K225","v":0},1.5,{"$f":"(O225-L225)/K225","v":30},1.1000000000000001,{"$f":"(Q225-L225)/K225","v":22},null,null,null,null,null,null,null,null,null,null,null,null,null,null,null,null,null,null,74,null,null,null,null,37]
[null,null,null,null,null,null,null,null,null,null,null,null,null,null,null,null,null,null,null,null,null,null,null,null,null,null,null,null,null,null,null,null,null,null,null,null,75,null,null,null,null,37.5]
["متغیرهای ورودی -  جادکمه با بلیطی",null,null,null,null,"متغیرهای ورودی -  جادکمه با بلیطی (جلو)","x1","y1","x2","y2(بهینه)","a","b",null,"کمترین",null,"بیشترین",null,null,null,null,null,null,null,null,null,null,null,null,null,null,null,null,null,null,null,null,76,null,null,null,null,38]
["ضریب فاصله افقی وسط جادکمه  از خط مرکزی جلو لباس ","(از 0 الی 1)",{"$f":"K228*E228+L228","v":0.5},"لبه جلو=0 \nلبه کناری=1  ",{"$f":"'طراحی همه الگوها'!E361","v":10},"ضریب فاصله افقی وسط جادکمه  از خط مرکزی جلو لباس ",20,1,0,0,{"$f":"(J228-H228)/(I228-G228)","v":0.05},{"$f":"H228-G228*K228","v":0},0,{"$f":"(M228-L228)/K228","v":0},1,{"$f":"(O228-L228)/K228","v":20},0.5,{"$f":"(Q228-L228)/K228","v":10},null,null,null,null,null,null,null,null,null,null,null,null,null,null,null,null,null,null,77,null,null,null,null,38.5]
["ضریب فاصله عمودی بالای جادکمه از زمین ","(از0 الی 5)",{"$f":"K229*E229+L229","v":3},"خط زمین=0 \nخط زانو=1 \nخط باسن=2 \nخط کمر=3 \nخط سینه=4  ",{"$f":"'طراحی همه الگوها'!E362","v":70},"ضریب فاصله عمودی بالای جادکمه از زمین ",10,0,30,1,{"$f":"(J229-H229)/(I229-G229)","v":0.05},{"$f":"H229-G229*K229","v":-0.5},0,{"$f":"(M229-L229)/K229","v":10},5,{"$f":"(O229-L229)/K229","v":110},2,{"$f":"(Q229-L229)/K229","v":50},null,null,null,null,null,null,null,null,null,null,null,null,null,null,null,null,null,null,78,null,null,null,null,39]
["عرض پاکت جادکمه به سانتیمتر","(از 0 الی 4)",{"$f":"K230*E230+L230","v":2},"بهینه جادکمه=2",{"$f":"'طراحی همه الگوها'!E358","v":2},"پهنای جادکمه  (سانتیمتر)",1,1,0,0,{"$f":"(J230-H230)/(I230-G230)","v":1},{"$f":"H230-G230*K230","v":0},0,{"$f":"(M230-L230)/K230","v":0},4,{"$f":"(O230-L230)/K230","v":4},2,{"$f":"(Q230-L230)/K230","v":2},null,null,null,null,null,null,null,null,null,null,null,null,null,null,null,null,null,null,79,null,null,null,null,39.5]
["ضریب طول پاکت جادکمه ","(از 0.01 الی 1.5)",{"$f":"K231*E231+L231","v":0.30000000000000004},"بهینه جادکمه=0.3",{"$f":"'طراحی همه الگوها'!E359","v":20},"ضریب طول جادکمه ",19,0.25,20,0.3,{"$f":"(J231-H231)/(I231-G231)","v":4.9999999999999989E-2},{"$f":"H231-G231*K231","v":-0.69999999999999973},0.01,{"$f":"(M231-L231)/K231","v":14.199999999999998},1.5,{"$f":"(O231-L231)/K231","v":44.000000000000007},0.3,{"$f":"(Q231-L231)/K231","v":20},null,null,null,null,null,null,null,null,null,null,null,null,null,null,null,null,null,null,80,null,null,null,null,40]
["زاویه جادکمه با عمود (به درجه)","(از 0 الی 180)",{"$f":"K232*E232+L232","v":90},"افقی=90",{"$f":"'طراحی همه الگوها'!E360","v":18},"زاویه جادکمه با عمود ",1,5,0,0,{"$f":"(J232-H232)/(I232-G232)","v":5},{"$f":"H232-G232*K232","v":0},0,{"$f":"(M232-L232)/K232","v":0},180,{"$f":"(O232-L232)/K232","v":36},90,{"$f":"(Q232-L232)/K232","v":18},null,null,null,null,null,null,null,null,null,null,null,null,null,null,null,null,null,null,81,null,null,null,null,40.5]
[null,null,null,null,null,null,null,null,null,null,null,null,null,null,null,null,null,null,null,null,null,null,null,null,null,null,null,null,null,null,null,null,null,null,null,null,82,null,null,null,null,41]
[" متغیرهای ورودی - جادکمه با طول دلخواه",null,null,null,null,"جادکمه متصل به یقه گرد","x1","y1","x2","y2(بهینه)","a","b",null,"کمترین",null,"بیشترین",null,null,null,null,null,null,null,null,null,null,null,null,null,null,null,null,null,null,null,null,83,null,null,null,null,41.5]
["ضریب عرض جادکمه به سانتیمتر","(از 0 الی 0.03)",{"$f":"K235*E235+L235","v":1.4999999999999999E-2},"بهینه=0.01",{"$f":"'طراحی مدل 30a'!E356","v":30},"ضریب عرض جادکمه ",1,5.0000000000000001E-4,0,0,{"$f":"(J235-H235)/(I235-G235)","v":5.0000000000000001E-4},{"$f":"H235-G235*K235","v":0},0,{"$f":"(M235-L235)/K235","v":0},0.03,{"$f":"(O235-L235)/K235","v":60},0.01,{"$f":"(Q235-L235)/K235","v":20},null,null,null,null,null,null,null,null,null,null,null,null,null,null,null,null,null,null,84,null,null,null,null,42]
["ضریب طول جادکمه ","(از 0.7 الی 2.5)",{"$f":"K236*E236+L236","v":1.7000000000000006},"حداقل طول جادکمه با پارچه کش برای رد شدن از سر=0.7 \nحداقل طول جادکمه با پارچه غیر کش برای رد شدن از سر=1 \nجادکمه بلند  >1 ",{"$f":"'طراحی مدل 30a'!E357","v":35},"ضریب طول جادکمه ",1,1.02,0,1,{"$f":"(J236-H236)/(I236-G236)","v":2.0000000000000018E-2},{"$f":"H236-G236*K236","v":1},1,{"$f":"(M236-L236)/K236","v":0},2.5,{"$f":"(O236-L236)/K236","v":74.999999999999929},1,{"$f":"(Q236-L236)/K236","v":0},null,null,null,null,null,null,null,null,null,null,null,null,null,null,null,null,null,null,85,null,null,null,null,42.5]
["حداقل طول جادکمه با پارچه غیر کش به سانتیمتر (عدد منفی یعنی دور یقه بزرگتر از دور سر میباشد)  *",{"$f":"ROUND(محاسبات!FH465,0)","v":6},null,null,{"$f":"IF((B261+B239)<B260,\"خیر\",\"بله \")","v":"بله "},"آیا یقه گرد متصل به جادکمه با پارچه غیر کش از سر رد میشود؟",null,null,null,null,null,null,null,null,null,null,null,null,null,null,null,null,null,null,null,null,null,null,null,null,null,null,null,null,null,null,86,null,null,null,null,43]
["حداقل طول جادکمه با پارچه کش به سانتیمتر (عدد منفی یعنی دور یقه بزرگتر از حد لازم برای رد شدن از دور سر میباشد)  '*",{"$f":"ROUND(0.5*('متغیرها '!U85-1.2*(2.12*SQRT(محاسبات!K144*محاسبات!K144+محاسبات!K143*محاسبات!K143)+2.08*SQRT(محاسبات!AA147*محاسبات!AA147+محاسبات!AA146*محاسبات!AA146))),0)","v":2},null,null,{"$f":"IF((B261+B239)<0.85*B260,\"خیر\",\"بله \")","v":"بله "},"آیا یقه گرد متصل به جادکمه با پارچه نیم کش از سر رد میشود؟",null,null,null,null,null,null,null,null,null,null,null,null,null,null,null,null,null,null,null,null,null,null,null,null,null,null,null,null,null,null,87,null,null,null,null,43.5]
[" طول جادکمه اختیار شده برای لباس شما به سانتیمتر",{"$f":"ROUND((C236-1)*'متغیرها '!U77,1)","v":15.6},null,null,{"$f":"IF((B261+B239)<0.7*B260,\"خیر\",\"بله \")","v":"بله "},"آیا یقه گرد متصل به جادکمه با پارچه کش زیاد از سر رد میشود؟",null,null,null,null,null,null,null,null,null,null,null,null,null,null,null,null,null,null,null,null,null,null,null,null,null,null,null,null,null,null,88,null,null,null,null,44]
[" عرض جادکمه اختیار شده برای لباس شما به سانتیمتر",{"$f":"ROUND(محاسبات!FH471,1)","v":3.4},null,null,null,null,null,null,null,null,null,null,null,null,null,null,null,null,null,null,null,null,null,null,null,null,null,null,null,null,null,null,null,null,null,null,89,null,null,null,null,44.5]
[null,null,null,null,null,null,null,null,null,null,null,null,null,null,null,null,null,null,null,null,null,null,null,null,null,null,null,null,null,null,null,null,null,null,null,null,90,null,null,null,null,45]
[" مشخصات مستطیل با پارچه کش برای یقه گرد کیپ :",null,null,null,null," مشخصات مستطیل با پارچه کش برای یقه گرد کیپ :",null,null,null,null,null,null,null,null,null,null,null,null,null,null,null,null,null,null,null,null,null,null,null,null,null,null,null,null,null,null,91,null,null,null,null,45.5]
["طول",{"$f":"'متغیرها '!U80","v":46},null,null,null,"طول",null,null,null,null,null,null,null,null,null,null,null,null,null,null,null,null,null,null,null,null,null,null,null,null,null,null,null,null,null,null,92,null,null,null,null,46]
["عرض",{"$f":"0.5*'متغیرها '!C72*محاسبات!G167","v":0.62996848685650786},null,null,null,"عرض",null,null,null,null,null,null,null,null,null,null,null,null,null,null,null,null,null,null,null,null,null,null,null,null,null,null,null,null,null,null,93,null,null,null,null,46.5]
["زاویه متوسط سرشانه",{"$f":"0.5*(محاسبات!P139+0.3*(محاسبات!P140-محاسبات!P139)+محاسبات!AE139+0.3*(محاسبات!AE140-محاسبات!AE139))","v":0.27820102979369776},null,null,null,"زاویه متوسط سرشانه",null,null,null,null,null,null,null,null,null,null,null,null,null,null,null,null,null,null,null,null,null,null,null,null,null,null,null,null,null,null,94,null,null,null,null,47]
[null,null,null,null,null,null,null,null,null,null,null,null,null,null,null,null,null,null,null,null,null,null,null,null,null,null,null,null,null,null,null,null,null,null,null,null,95,null,null,null,null,47.5]
["متغیر ورودی یقه گرد کش :",null,null,null,null,"متغیر ورودی یقه گرد کش :","x1","y1","x2","y2(بهینه)","a","b",null,"کمترین",null,"بیشترین",null,null,null,null,null,null,null,null,null,null,null,null,null,null,null,null,null,null,null,null,96,null,null,null,null,48]
["ارتفاع یقه گرد کش  به سانتیمتر - متغیر ورودی","(از 0.5 الی 5)",{"$f":"K248*E248+L248","v":2},"cm",{"$f":"'طراحی مدل 30a'!E331","v":2},"ارتفاع یقه گرد کش  به سانتیمتر - متغیر ورودی",0,0,0.5,0.5,{"$f":"(J248-H248)/(I248-G248)","v":1},{"$f":"H248-G248*K248","v":0},0.5,{"$f":"(M248-L248)/K248","v":0.5},5,{"$f":"(O248-L248)/K248","v":5},1,{"$f":"(Q248-L248)/K248","v":1},null,null,null,null,null,null,null,null,null,null,null,null,null,null,null,null,null,null,97,null,null,null,null,48.5]
["طول (دور تا دور) یقه گرد کش به سانتیمتر",{"$f":"ROUND(2.12*SQRT(POWER((محاسبات!K144-C248*(1-SIN(B245))),2)+POWER((محاسبات!K143-C248*COS(B245)),2))+2.08*SQRT(POWER((محاسبات!AA147-C248*(1-SIN(B245))),2)+POWER((محاسبات!AA146-C248*COS(B245)),2)),0)","v":37},null,null,null,"طول (دور تا دور) یقه گرد کش به سانتیمتر",null,null,null,null,null,null,null,null,null,null,null,null,null,null,null,null,null,null,null,null,null,null,null,null,null,null,null,null,null,null,98,null,null,null,null,49]
[null,null,null,null,null,null,null,null,null,null,null,null,null,null,null,null,null,null,null,null,null,null,null,null,null,null,null,null,null,null,null,null,null,null,null,null,99,null,null,null,null,49.5]
[" مشخصات نوار دور یقه گرد کش :",null,null,null,null," مشخصات نوار دور یقه گرد کش :",null,null,null,null,null,null,null,null,null,null,null,null,null,null,null,null,null,null,null,null,null,null,null,null,null,null,null,null,null,null,100,null,null,null,null,50]
["ارتفاع نوار  (بعد از دوخت)",0.5,"cm",null,null,"ارتفاع نوار  (بعد از دوخت)",null,null,null,null,null,null,null,null,null,null,null,null,null,null,null,null,null,null,null,null,null,null,null,null,null,null,null,null,null,null,101]
["طول  نوار  (بعد از دوخت)",{"$f":"ROUND(2.12*SQRT(POWER((محاسبات!K144-B252*(1-SIN(محاسبات!BI101))),2)+POWER((محاسبات!K143-B252*COS(محاسبات!BI101)),2))+2.08*SQRT(POWER((محاسبات!AA147-B252*(1-SIN(محاسبات!BI101))),2)+POWER((محاسبات!AA146-B252*COS(محاسبات!BI101)),2)),0)","v":44},"cm",null,null,"طول  نوار  (بعد از دوخت)",null,null,null,null,null,null,null,null,null,null,null,null,null,null,null,null,null,null,null,null,null,null,null,null,null,null,null,null,null,null,102]
[null,null,null,null,null,null,null,null,null,null,null,null,null,null,null,null,null,null,null,null,null,null,null,null,null,null,null,null,null,null,null,null,null,null,null,null,103]
[" مشخصات نوار دور یقه گرد کش :",null,null,null,null," مشخصات نوار دور یقه گرد کش :",null,null,null,null,null,null,null,null,null,null,null,null,null,null,null,null,null,null,null,null,null,null,null,null,null,null,null,null,null,null,104]
["ارتفاع نوار  (بعد از دوخت)",1,"cm",null,null,"ارتفاع نوار  (بعد از دوخت)",null,null,null,null,null,null,null,null,null,null,null,null,null,null,null,null,null,null,null,null,null,null,null,null,null,null,null,null,null,null,105]
["طول  نوار  (بعد از دوخت)",{"$f":"ROUND(2.12*SQRT(POWER((محاسبات!K144-B256*(1-SIN(محاسبات!BI101))),2)+POWER((محاسبات!K143-B256*COS(محاسبات!BI101)),2))+2.08*SQRT(POWER((محاسبات!AA147-B256*(1-SIN(محاسبات!BI101))),2)+POWER((محاسبات!AA146-B256*COS(محاسبات!BI101)),2)),0)","v":42},"cm",null,null,"طول  نوار  (بعد از دوخت)",null,null,null,null,null,null,null,null,null,null,null,null,null,null,null,null,null,null,null,null,null,null,null,null,null,null,null,null,null,null,106]
[null,null,null,null,null,null,null,null,null,null,null,null,null,null,null,null,null,null,null,null,null,null,null,null,null,null,null,null,null,null,null,null,null,null,null,null,107]
[" کنترل یقه گرد بدون زیپ ",null,null,null,null," کنترل یقه گرد بدون زیپ ",null,null,null,null,null,null,null,null,null,null,null,null,null,null,null,null,null,null,null,null,null,null,null,null,null,null,null,null,null,null,108]
["دور سر",{"$f":"'متغیرها '!U85","v":59},null,null,null,"دور سر",null,null,null,null,null,null,null,null,null,null,null,null,null,null,null,null,null,null,null,null,null,null,null,null,null,null,null,null,null,null,109]
[" دور یقه گرد لباس",{"$f":"ROUND(2.12*SQRT(محاسبات!K144*محاسبات!K144+محاسبات!K143*محاسبات!K143)+2.08*SQRT(محاسبات!AA147*محاسبات!AA147+محاسبات!AA146*محاسبات!AA146)+2*'متغیرها '!C66*محاسبات!H129,1)","v":47.8},null,null,null," دور یقه گرد لباس",null,null,null,null,null,null,null,null,null,null,null,null,null,null,null,null,null,null,null,null,null,null,null,null,null,null,null,null,null,null,110]
["حداقل دور یقه گرد با پارچه غیر کش ",{"$f":"'متغیرها '!U85","v":59},null,{"$f":"IF(B261<B262,\"خطا\",\"صحیح \")","v":"خطا"},{"$f":"IF(B261<B262,\"خیر\",\"بله \")","v":"خیر"},"حداقل دور یقه گرد با پارچه غیر کش ",null,null,null,null,null,null,null,null,null,null,null,null,null,null,null,null,null,null,null,null,null,null,null,null,null,null,null,null,null,null,111]
[" حداقل دور یقه گرد با پارچه نیم کش ",{"$f":"ROUND(0.85*'متغیرها '!U85,1)","v":50.2},null,{"$f":"IF(B261<B263,\"خطا\",\"صحیح \")","v":"خطا"},{"$f":"IF(B261<B263,\"خیر\",\"بله \")","v":"خیر"}," حداقل دور یقه گرد با پارچه نیم کش ",null,null,null,null,null,null,null,null,null,null,null,null,null,null,null,null,null,null,null,null,null,null,null,null,null,null,null,null,null,null,112]
["حداقل دور یقه گرد با پارچه کش زیاد ",{"$f":"ROUND(0.7*'متغیرها '!U85,1)","v":41.3},null,{"$f":"IF(B261<B264,\"خطا\",\"صحیح \")","v":"صحیح "},{"$f":"IF(B261<B264,\"خیر\",\"بله \")","v":"بله "},"حداقل دور یقه گرد با پارچه کش زیاد ",null,null,null,null,null,null,null,null,null,null,null,null,null,null,null,null,null,null,null,null,null,null,null,null,null,null,null,null,null,null,113]
[null,null,null,null,null,null,null,null,null,null,null,null,null,null,null,null,null,null,null,null,null,null,null,null,null,null,null,null,null,null,null,null,null,null,null,null,114]
[" کنترل یقه هفت بدون زیپ ",null,null,null,null," کنترل یقه هفت بدون زیپ ",null,null,null,null,null,null,null,null,null,null,null,null,null,null,null,null,null,null,null,null,null,null,null,null,null,null,null,null,null,null,115]
["دور سر",{"$f":"'متغیرها '!U85","v":59},null,null,null,"دور سر",null,null,null,null,null,null,null,null,null,null,null,null,null,null,null,null,null,null,null,null,null,null,null,null,null,null,null,null,null,null,116]
[" دور یقه هفت لباس",{"$f":"ROUND(2.08*SQRT(محاسبات!AA147*محاسبات!AA147+محاسبات!AA146*محاسبات!AA146)+2*(('متغیرها '!C169*محاسبات!H124+محاسبات!K144)/SIN(محاسبات!O245)),1)","v":71.099999999999994},null,null,null," دور یقه هفت لباس",null,null,null,null,null,null,null,null,null,null,null,null,null,null,null,null,null,null,null,null,null,null,null,null,null,null,null,null,null,null,117]
["حداقل دور یقه هفت با پارچه غیر کش ",{"$f":"'متغیرها '!U85","v":59},null,{"$f":"IF(B268<B269,\"خطا\",\"صحیح \")","v":"صحیح "},{"$f":"IF(B268<B269,\"خیر\",\"بله \")","v":"بله "},"حداقل دور یقه هفت با پارچه غیر کش ",null,null,null,null,null,null,null,null,null,null,null,null,null,null,null,null,null,null,null,null,null,null,null,null,null,null,null,null,null,null,118]
[" حداقل دور یقه هفت با پارچه نیم کش ",{"$f":"ROUND(0.85*'متغیرها '!U85,1)","v":50.2},null,{"$f":"IF(B268<B270,\"خطا\",\"صحیح \")","v":"صحیح "},{"$f":"IF(B268<B270,\"خیر\",\"بله \")","v":"بله "}," حداقل دور یقه هفت با پارچه نیم کش ",null,null,null,null,null,null,null,null,null,null,null,null,null,null,null,null,null,null,null,null,null,null,null,null,null,null,null,null,null,null,119]
[null,null,null,null,null,null,null,null,null,null,null,null,null,null,null,null,null,null,null,null,null,null,null,null,null,null,null,null,null,null,null,null,null,null,null,null,120]
[" مشخصات کمربند به شکل مستطیل (مناسب برای لباس شما)",null,null,null,null," مشخصات کمربند به شکل مستطیل (مناسب برای لباس شما)"]
["طول کمربند به سانتیمتر",{"$f":"ROUND(3*(محاسبات!K120+محاسبات!K124)+2*(محاسبات!AA123+محاسبات!AA127),1)","v":128.19999999999999},null,null,null,"طول کمربند به سانتیمتر"]
["عرض کمربند به سانتیمتر",{"$f":"ROUND(0.07*'متغیرها '!U83,1)","v":4.3},null,null,null,"عرض کمربند به سانتیمتر"]
[]
[" مشخصات کش یا پارچه پایین سویشرت :",null,null,null,null," مشخصات کش پایین سویشرت :"]
["طول  کش از ساسون جلو- دور باسن -تا ساسون دیگر جلو",{"$f":"ROUND(C279*2*(محاسبات!AV110-محاسبات!AV164+محاسبات!BG106+محاسبات!BG165),0)","v":53},"cm",null,null,"طول  کش از ساسون جلو- دور باسن -تا ساسون دیگر جلو"]
["ضریب پهنای کش","(از -0.1 الی 0.1)",{"$f":"K278*E278+L278","v":-0.29999999999999982},"بهینه=   - 0.05 ",{"$f":"'طراحی همه الگوها'!B320","v":45},"ضریب پهنای کش",50,-0.05,51,0,{"$f":"(J278-H278)/(I278-G278)","v":0.05},{"$f":"H278-G278*K278","v":-2.5499999999999998},-0.1,{"$f":"(M278-L278)/K278","v":48.999999999999993},0.1,{"$f":"(O278-L278)/K278","v":52.999999999999993},-0.05,{"$f":"(Q278-L278)/K278","v":50}]
["ضریب کوچک شدن کش","(از 0.5  الی 1)",{"$f":"K279*E279+L279","v":0.64999999999999969},"بهینه=   0.9 ",{"$f":"'طراحی همه الگوها'!B321","v":8},"ضریب کوچک شدن کش",2,0.95,1,1,{"$f":"(J279-H279)/(I279-G279)","v":-5.0000000000000044E-2},{"$f":"H279-G279*K279","v":1.05},0.5,{"$f":"(M279-L279)/K279","v":10.999999999999991},1,{"$f":"(O279-L279)/K279","v":1},0.9,{"$f":"(Q279-L279)/K279","v":2.9999999999999978}]
[]
[" متغیرهای ورودی-طراحی یقه مربعی یا برش سرشانه در پیراهن",null,null,null,null," متغیرهای ورودی-طراحی یقه مربعی یا برش سرشانه در پیراهن","x1","y1","x2","y2(بهینه)","a","b",null,"کمترین",null,"بیشترین"]
["انتخاب یقه مربعی=1         انتخاب برش سرشانه در پیراهن مردانه=2  \nانتخاب برش سرشانه در پیراهن برش از کارور=3","1 یا 2 یا 3",{"$f":"K282*E282+L282","v":2},null,{"$f":"'طراحی همه الگوها'!E249","v":2},"انتخاب یقه مربعی=1         انتخاب برش سرشانه در پیراهن مردانه=2  \nانتخاب برش سرشانه در پیراهن برش از کارور=3",2,2,1,1,{"$f":"(J282-H282)/(I282-G282)","v":1},{"$f":"H282-G282*K282","v":0},1,{"$f":"(M282-L282)/K282","v":1},3,{"$f":"(O282-L282)/K282","v":3},1,{"$f":"(Q282-L282)/K282","v":1}]
["  انتخاب آستین با هر نوع ساسون=2    \n  انتخاب آستین بدون ساسون=3           ","2 یا 3",{"$f":"K283*E283+L283","v":3},null,{"$f":"'طراحی همه الگوها'!E250","v":2},"  انتخاب آستین با هر نوع ساسون=1    \n  انتخاب آستین بدون ساسون=2           ",1,2,2,3,{"$f":"(J283-H283)/(I283-G283)","v":1},{"$f":"H283-G283*K283","v":1},2,{"$f":"(M283-L283)/K283","v":1},3,{"$f":"(O283-L283)/K283","v":2},2,{"$f":"(Q283-L283)/K283","v":1}]
["پهنا یقه روی خط سرشانه  (فقط موثر در انتخاب یقه مربعی) ","(از 0.2 الی 1.2)",{"$f":"K284*E284+L284","v":1},"بهینه=1",{"$f":"'طراحی همه الگوها'!E257","v":20},"پهنا یقه روی خط سرشانه  (فقط موثر در انتخاب یقه مربعی) ",19,0.95,20,1,{"$f":"(J284-H284)/(I284-G284)","v":5.0000000000000044E-2},{"$f":"H284-G284*K284","v":-8.8817841970012523E-16},0.2,{"$f":"(M284-L284)/K284","v":4.0000000000000142},1.2,{"$f":"(O284-L284)/K284","v":23.999999999999996},1,{"$f":"(Q284-L284)/K284","v":20}]
["ضریب پایین آمدن خط کارور پشت","(از0.01 الی 0.6)",{"$f":"K285*E285+L285","v":0.22},"بهینه مربعی=0.4 \nبهینه مردانه=0.22 \nبهینه برش از کارور=0.25",{"$f":"'طراحی همه الگوها'!E251","v":20},"ضریب پایین آمدن خط کارور پشت",19,0.21,20,0.22,{"$f":"(J285-H285)/(I285-G285)","v":1.0000000000000009E-2},{"$f":"H285-G285*K285","v":1.9999999999999823E-2},0.01,{"$f":"(M285-L285)/K285","v":-0.99999999999998146},0.6,{"$f":"(O285-L285)/K285","v":57.999999999999964},0.4,{"$f":"(Q285-L285)/K285","v":37.999999999999986}]
[{"$f":"IF(محاسبات!AD460<محاسبات!U466+1,\"ضریب خط کارور پشت کم شود\",\" \")","v":" "},{"$f":"IF(محاسبات!AD460<محاسبات!U466+1,\" خطا - خط کارور پشت بالا برود \",\"عدم خطا\")","v":"عدم خطا"},"حلقه آستین با ساسون سرشانه یا بدون ساسون : ",null,null,{"$f":"IF(محاسبات!AI460<محاسبات!Z466+1,\"ضریب خط کارور پشت کم شود\",\" \")","v":" "}]
[{"$f":"IF(محاسبات!BW469<محاسبات!BW463,\"ضریب خط کارور پشت کم شود\",\" \")","v":" "},{"$f":"IF(محاسبات!BW469<محاسبات!BW463,\"  خطا - خط کارور پشت بالا برود \",\"عدم خطا\")","v":"عدم خطا"},"حلقه آستین با ساسون عصایی : "]
[]
["ضریب پایین آمدن خط کارور جلو","(از 0.1 الی 0.45)",{"$f":"K289*E289+L289","v":0.1999999999999999},"بهینه مربعی=0.3 \nبهینه برش از کارور=0.3",{"$f":"'طراحی همه الگوها'!E254","v":10},"ضریب پایین آمدن خط کارور جلو",19,0.28999999999999998,20,0.3,{"$f":"(J289-H289)/(I289-G289)","v":1.0000000000000009E-2},{"$f":"H289-G289*K289","v":9.9999999999999811E-2},0.1,{"$f":"(M289-L289)/K289","v":1.9428902930940224E-14},0.45,{"$f":"(O289-L289)/K289","v":34.999999999999986},0.3,{"$f":"(Q289-L289)/K289","v":20}]
[{"$f":"IF(محاسبات!Q460<محاسبات!H466+1,\"ضریب خط کارور جلو کم شود\",\" \")","v":" "},{"$f":"IF(محاسبات!Q460<محاسبات!H466+1,\" خطا - خط کارور جلو بالا برود \",\"عدم خطا\")","v":"عدم خطا"},"حلقه آستین با ساسون سرشانه یا بدون ساسون : ",null,null,{"$f":"IF(محاسبات!V460<محاسبات!M466+1,\"ضریب خط کارور جلو کم شود\",\" \")","v":" "}]
[{"$f":"IF(محاسبات!BR470<محاسبات!BR463,\"ضریب خط کارور جلو کم شود\",\" \")","v":"ضریب خط کارور جلو کم شود"},{"$f":"IF(محاسبات!BR470<محاسبات!BR463,\" خطا - خط کارور جلو بالا برود \",\"عدم خطا\")","v":" خطا - خط کارور جلو بالا برود "},"حلقه آستین با ساسون عصایی : ",null,null,{"$f":"IF(محاسبات!BW470<محاسبات!BW463,\"ضریب خط کارور جلو کم شود\",\" \")","v":" "}]
[]
["نصف جلو کارور  (فقط موثر در انتخاب یقه مربعی) ","(از 0.2 الی 0.55)",{"$f":"K293*E293+L293","v":0.45000000000000007},"بهینه=0.45",{"$f":"'طراحی همه الگوها'!E258","v":20},"نصف جلو کارور  (فقط موثر در انتخاب یقه مربعی) ",19,0.4,20,0.45,{"$f":"(J293-H293)/(I293-G293)","v":4.9999999999999989E-2},{"$f":"H293-G293*K293","v":-0.54999999999999971},0.2,{"$f":"(M293-L293)/K293","v":14.999999999999998},0.55000000000000004,{"$f":"(O293-L293)/K293","v":21.999999999999996},0.45,{"$f":"(Q293-L293)/K293","v":20}]
["نصف پشت کارور  (فقط موثر در انتخاب یقه مربعی) ","(از 0.2 الی 0.6)",{"$f":"K294*E294+L294","v":0.5},"بهینه=0.5",{"$f":"'طراحی همه الگوها'!E259","v":20},"نصف پشت کارور  (فقط موثر در انتخاب یقه مربعی) ",19,0.45,20,0.5,{"$f":"(J294-H294)/(I294-G294)","v":4.9999999999999989E-2},{"$f":"H294-G294*K294","v":-0.49999999999999972},0.2,{"$f":"(M294-L294)/K294","v":13.999999999999998},0.6,{"$f":"(O294-L294)/K294","v":21.999999999999996},0.5,{"$f":"(Q294-L294)/K294","v":20}]
[]
["بررسی خطا گردی یقه تا خط کارور جلو",null,null,null,null,"بررسی خطا گردی یقه تا خط کارور جلو"]
[{"$f":"IF((محاسبات!H474-محاسبات!H475)/محاسبات!H474>0.1,\"دور یقه گشاد شود یا ضریب خط کارور جلو زیاد شود\",\"  \")","v":"  "},{"$f":"IF((محاسبات!H474-محاسبات!H475)/محاسبات!H474>0.1,\"خطا\",\"صحیح \")","v":"صحیح "}," پارچه کش   ",null,{"$f":"IF((محاسبات!H474-محاسبات!H475)/محاسبات!H474>0.1,\"خیر- گردی یقه زیاد شود یا کارور جلو پایین بیاید\",\" بله \")","v":" بله "}]
[{"$f":"IF((محاسبات!H474-محاسبات!H475)/محاسبات!H474>0.05,\"دور یقه گشاد شود یا ضریب خط کارور جلو زیاد شود\",\"  \")","v":"  "},{"$f":"IF((محاسبات!H474-محاسبات!H475)/محاسبات!H474>0.05,\"خطا\",\"صحیح \")","v":"صحیح "}," پارچه غیر کش ",null,{"$f":"IF((محاسبات!H474-محاسبات!H475)/محاسبات!H474>0.05,\"خیر- گردی یقه زیاد شود یا کارور جلو پایین بیاید\",\" بله \")","v":" بله "}]
[]
[" متغیرهای ورودی شیفت افقی برش سرشانه و یقه مربعی و ملوانی",null,null,null,null," متغیرهای ورودی شیفت افقی برش سرشانه و یقه مربعی و ملوانی","x1","y1","x2","y2(بهینه)","a","b",null,"کمترین",null,"بیشترین"]
["شیفت افقی   (به سانتیمتر)   ","(از -100 الی100)",{"$f":"K301*E301+L301","v":0},"بهینه=دلخواه",{"$f":"'طراحی همه الگوها'!E260","v":0},"شیفت افقی   (به سانتیمتر)   ",1,1,0,0,{"$f":"(J301-H301)/(I301-G301)","v":1},{"$f":"H301-G301*K301","v":0},-100,{"$f":"(M301-L301)/K301","v":-100},100,{"$f":"(O301-L301)/K301","v":100}]
["شیفت عمودی  (به سانتیمتر)  ","(از -100 الی100)",{"$f":"K302*E302+L302","v":0},"بهینه=دلخواه",{"$f":"'طراحی همه الگوها'!E261","v":0},"شیفت عمودی  (به سانتیمتر)  ",1,1,0,0,{"$f":"(J302-H302)/(I302-G302)","v":1},{"$f":"H302-G302*K302","v":0},-100,{"$f":"(M302-L302)/K302","v":-100},100,{"$f":"(O302-L302)/K302","v":100}]
[]
[" متغیرهای ورودی - دراپه از پهلو",null,null,null,null," متغیرهای ورودی - دراپه از پهلو","x1","y1","x2","y2(بهینه)","a","b",null,"کمترین",null,"بیشترین"]
["حد بالا برش دراپه   dp1","(از 3 الی 4)",{"$f":"K305*E305+L305","v":3.5},"زیر بغل=4 \nخط کمر=3 ",{"$f":"'طراحی همه الگوها'!B325","v":80},"حد بالا برش دراپه   ",10,0,30,1,{"$f":"(J305-H305)/(I305-G305)","v":0.05},{"$f":"H305-G305*K305","v":-0.5},3,{"$f":"(M305-L305)/K305","v":70},4,{"$f":"(O305-L305)/K305","v":90},-0.05,{"$f":"(Q305-L305)/K305","v":9}]
["پهنای هر دراپه به سانتیمتر   dp3","(از 2 الی 8)",{"$f":"K306*E306+L306","v":6},"بدون دراپه=0",{"$f":"'طراحی همه الگوها'!B326","v":6},"پهنای هر دراپه  (سانتیمتر)   ",2,2,1,1,{"$f":"(J306-H306)/(I306-G306)","v":1},{"$f":"H306-G306*K306","v":0},2,{"$f":"(M306-L306)/K306","v":2},8,{"$f":"(O306-L306)/K306","v":8},0.9,{"$f":"(Q306-L306)/K306","v":0.9}]
["تعداد دراپه ها      -      خط بالای برش دراپه با هر طراحی می تواند باشد.",{"$f":"محاسبات!FN243","v":5},null,null,null,"تعداد دراپه ها     "]
[" متغیرهای ورودی- یقه دراپه ",null,null,null,null," متغیرهای ورودی- یقه دراپه ","x1","y1","x2","y2(بهینه)","a","b",null,"کمترین",null,"بیشترین"]
["نقطه شروع دراپه جلو    d1","(از 2 الی 4)",{"$f":"K309*E309+L309","v":3.5},"خط باسن=2 \nخط کمر=3 \nخط سینه=4  ",{"$f":"'طراحی همه الگوها'!E268","v":80},"نقطه شروع دراپه جلو    ",10,0,30,1,{"$f":"(J309-H309)/(I309-G309)","v":0.05},{"$f":"H309-G309*K309","v":-0.5},2,{"$f":"(M309-L309)/K309","v":50},4,{"$f":"(O309-L309)/K309","v":90},3,{"$f":"(Q309-L309)/K309","v":70}]
["میزان باز بودن یقه جلو به سمت  خط سینه    d2","(از 0 الی 50)",20,"یقه کیپ=0",{"$f":"'طراحی همه الگوها'!E269","v":20},"میزان باز بودن یقه جلو به سمت  خط سینه    ",1,1,0,0,1,0,0,0,5,5,0,{"$f":"(Q310-L310)/K310","v":0}]
["شیفت عمودی یقه دراپه جلو","(از -100 الی100)",0,"بدون شیفت=0 ",{"$f":"'طراحی همه الگوها'!E270","v":0},"شیفت عمودی یقه دراپه جلو (سانتیمتر)",1,1,0,0,1,0,-100,-100,100,100]
["نقطه شروع دراپه پشت    d1","(از 2 الی 4)",3.5,"خط باسن=2 \nخط کمر=3 \nخط سینه=4  ",{"$f":"'طراحی همه الگوها'!E271","v":80},"نقطه شروع دراپه پشت    ",10,0,30,1,0.05,-0.5,2,50,4,90,3,{"$f":"(Q312-L312)/K312","v":70}]
["میزان باز بودن یقه پشت به سمت  خط سینه    d2","(از 0 الی 50)",20,"یقه کیپ=0",{"$f":"'طراحی همه الگوها'!E272","v":20},"میزان باز بودن یقه پشت به سمت  خط سینه    ",1,1,0,0,1,0,0,0,50,50,0,{"$f":"(Q313-L313)/K313","v":0}]
["شیفت عمودی یقه دراپه پشت","(از -100 الی100)",0,"بدون شیفت=0 ",{"$f":"'طراحی همه الگوها'!E273","v":0},"شیفت عمودی یقه دراپه پشت (سانتیمتر)",1,1,0,0,1,0,-100,-100,100,100]
["زاویه متوسط سرشانه",{"$f":"0.5*(محاسبات!P139+0.3*(محاسبات!P140-محاسبات!P139)+محاسبات!AE139+0.3*(محاسبات!AE140-محاسبات!AE139))","v":0.27820102979369776},null,null,null,"زاویه متوسط سرشانه"]
[]
[" متغیرهای ورودی-طراحی دامن فون",null,null,null,null," متغیرهای ورودی-طراحی دامن فون","x1","y1","x2","y2(بهینه)","a","b",null,"کمترین",null,"بیشترین"]
["انتخاب بالاتنه با ساسون=1        انتخاب پیراهن راسته=0","0 یا 1 ",{"$f":"K318*E318+L318","v":1},null,{"$f":"'طراحی همه الگوها'!B264","v":2},"انتخاب بالاتنه با ساسون=2        انتخاب پیراهن راسته=1",1,0,2,1,{"$f":"(J318-H318)/(I318-G318)","v":1},{"$f":"H318-G318*K318","v":-1},null,1,null,2]
["ضریب پایین دامن فون تا زمین \nدرانتخاب دامن فون متصل به پیراهن راسته    k'1","(از 0 الی 4)",1,"خط زمین=0 \nخط زانو=1 \nخط باسن=2 \nخط کمر=3 \nخط سینه=4  ",{"$f":"'طراحی همه الگوها'!B265","v":30},"مکان پایین دامن فون \nدرانتخاب دامن فون متصل به پیراهن راسته    ",10,0,30,1,0.05,-0.5,0,{"$f":"(M319-L319)/K319","v":10},4,100,0.25,{"$f":"(Q319-L319)/K319","v":15}]
["ضریب چین در دامن فون","(از 0 الی 3)",0,null,{"$f":"'طراحی همه الگوها'!B266","v":1},"چین در دامن فون",2,1,1,0,1,-1,0,1,3,{"$f":"(O320-L320)/K320","v":4},0.9,{"$f":"(Q320-L320)/K320","v":1.9}]
["  مقدار اوزمان در جلو دامن فون    β1","(از 0 الی 0.5",0.05,"بهینه=تامین دور باسن",{"$f":"'طراحی همه الگوها'!B267","v":5},"  اوزمان در جلو دامن فون    ",1,0.01,0,0,0.01,0,0,0,0.5,50,0.25,{"$f":"(Q321-L321)/K321","v":25}]
["  مقدار اوزمان در پشت دامن فون   β4","(از 0 الی 0.5)",0.05,"بهینه=تامین دور باسن",{"$f":"'طراحی همه الگوها'!B268","v":5},"  اوزمان در پشت دامن فون   ",1,0.01,0,0,0.01,0,0,0,0.5,50,0.9,{"$f":"(Q322-L322)/K322","v":90}]
["شیفت افقی جلو دامن فون (به سانتیمتر)","(از -100 الی100)",0,"بهینه=دلخواه",{"$f":"'طراحی همه الگوها'!B269","v":0},"شیفت افقی جلو دامن فون (به سانتیمتر)",1,1,0,0,1,0,-100,-100,100,100]
["شیفت عمودی جلو دامن فون (به سانتیمتر)","(از -100 الی100)",0,"بهینه=دلخواه",{"$f":"'طراحی همه الگوها'!B270","v":0},"شیفت عمودی جلو دامن فون (به سانتیمتر)",1,1,0,0,1,0,-100,-100,100,100]
["شیفت افقی پشت دامن فون (به سانتیمتر)","(از -100 الی100)",0,"بهینه=دلخواه",{"$f":"'طراحی همه الگوها'!B271","v":0},"شیفت افقی پشت دامن فون (به سانتیمتر)",1,1,0,0,1,0,-100,-100,100,100]
["شیفت عمودی پشت دامن فون (به سانتیمتر)","(از -100 الی100)",0,"بهینه=دلخواه",{"$f":"'طراحی همه الگوها'!B272","v":0},"شیفت عمودی پشت دامن فون (به سانتیمتر)",1,1,0,0,1,0,-100,-100,100,100]
[]
[" متغیرهای ورودی - جلو کمر پهن",null,null,null,null,"  جلو کمر پهن","x1","y1","x2","y2(بهینه)","a","b",null,"کمترین",null,"بیشترین"]
["انتخاب کمر برای جلیقه =1         انتخاب دیگر = 0","0 یا 1 ",{"$f":"K329*E329+L329","v":0},null,{"$f":"'طراحی همه الگوها'!B275","v":1},"انتخاب کمر برای جلیقه =2         انتخاب دیگر = 1",1,0,2,1,{"$f":"(J329-H329)/(I329-G329)","v":1},{"$f":"H329-G329*K329","v":-1},null,{"$f":"(M329-L329)/K329","v":1},null,{"$f":"(O329-L329)/K329","v":1}]
["بالای کمر روی خط مرکزی جلو -  ضریب فاصله u4 از خط کمر","(از -7 الی 7)",5,"بهینه=دلخواه",{"$f":"'طراحی همه الگوها'!B276","v":5},"بالای کمر پهن یکسره روی خط مرکزی جلو ",1,1,0,0,1,0,-7,-7,7,7,0.25,{"$f":"(Q330-L330)/K330","v":0.25}]
["پایین کمر روی خط مرکزی جلو -  ضریب فاصله d4 از خط کمر  -  (کمر جناقی و حد پایین برش دراپه)","(از -10 الی 30)",5,"مثبت= پایین خط کمر\nمنفی= بالای خط کمر",{"$f":"'طراحی همه الگوها'!B277","v":-5},"پایین کمر روی خط مرکزی جلو  (کمر جناقی و حد پایین برش دراپه)",1,-1,0,0,-1,0,-10,10,30,-30,0.9,-0.9]
["فاصله عمودی دال جلو -  ضریب فاصله u5 از خط کمر - (جلیقه)","(از -10 الی 30)",5,"بهینه=دلخواه",{"$f":"'طراحی همه الگوها'!B278","v":5},"فاصله عمودی دال جلو   (جلیقه)",1,1,0,0,1,0,-10,-10,30,30,0.25,0.25]
["فاصله افقی دال جلو -  ضریب فاصله u5 از خط مرکزی جلو - (جلیقه)","(از 0 الی 10)",5,"بهینه=دلخواه",{"$f":"'طراحی همه الگوها'!B279","v":10},"فاصله افقی دال جلو  (جلیقه)",1,0.5,0,0,0.5,0,0,0,10,20,0.9,1.8]
["پایین کمر روی خط ترک جلو -  ضریب فاصله d5 از خط کمر -  (کمر جناقی و حد پایین برش دراپه)","(از -10 الی 30)",8,"مثبت= پایین خط کمر\nمنفی= بالای خط کمر",{"$f":"'طراحی همه الگوها'!B280","v":-8},"پایین کمر روی خط ترک جلو   (کمر جناقی و حد پایین برش دراپه)",1,-1,0,0,-1,0,-10,10,30,-30,0.25,-0.25]
["بالای کمر روی خط ترک جلو -  ضریب فاصله u6 از خط کمر","(از -7 الی 7)",8,"بهینه=دلخواه",{"$f":"'طراحی همه الگوها'!B281","v":8},"بالای کمر پهن یکسره روی خط ترک جلو ",1,1,0,0,1,0,-7,-7,7,7,0.9,0.9]
["شیفت عمودی کمر پهن یکسره نسبت به زمین (به سانتیمتر)","(از -100 الی100)",{"$f":"K336*E336+L336","v":50},"بهینه=دلخواه",{"$f":"'طراحی همه الگوها'!B283","v":50},"شیفت عمودی کمر پهن یکسره  (به سانتیمتر)",1,1,0,0,1,0,-100,-100,100,100]
["شیفت افقی کمر پهن یکسره (به سانتیمتر)","(از -100 الی100)",{"$f":"K337*E337+L337","v":10},"بهینه=دلخواه",{"$f":"'طراحی همه الگوها'!B282","v":10},"شیفت افقی کمر پهن یکسره (به سانتیمتر)",1,1,0,0,1,0,-100,-100,100,100]
[]
[" متغیرهای ورودی - پهلو کمر پهن",null,null,null,null,"  پهلو کمر پهن","x1","y1","x2","y2(بهینه)","a","b",null,"کمترین",null,"بیشترین"]
["بالای کمر روی خط پهلو -  ضریب فاصله u3 از خط کمر","(از -7 الی 7)",{"$f":"K340*E340+L340","v":4},"بهینه=دلخواه",{"$f":"'طراحی همه الگوها'!B286","v":4},"بالای کمر پهن یکسره روی خط پهلو ",1,1,0,0,{"$f":"(J340-H340)/(I340-G340)","v":1},{"$f":"H340-G340*K340","v":0},-7,{"$f":"(M340-L340)/K340","v":-7},7,{"$f":"(O340-L340)/K340","v":7},0.25,{"$f":"(Q340-L340)/K340","v":0.25}]
["پایین کمر روی خط پهلو -  ضریب فاصله d3 از خط کمر -  (کمر جناقی و حد پایین برش دراپه)","(از -10 الی 30)",{"$f":"K341*E341+L341","v":10},"مثبت= پایین خط کمر\nمنفی= بالای خط کمر",{"$f":"'طراحی همه الگوها'!B287","v":-10},"پایین کمر روی خط پهلو   (کمر جناقی و حد پایین برش دراپه)",1,-1,0,0,{"$f":"(J341-H341)/(I341-G341)","v":-1},{"$f":"H341-G341*K341","v":0},-10,{"$f":"(M341-L341)/K341","v":10},30,{"$f":"(O341-L341)/K341","v":-30},0.9,{"$f":"(Q341-L341)/K341","v":-0.9}]
[]
[" متغیرهای ورودی - پشت کمر پهن",null,null,null,null," پشت کمر پهن","x1","y1","x2","y2(بهینه)","a","b",null,"کمترین",null,"بیشترین"]
["بالای کمر روی خط مرکزی پشت -  ضریب فاصله u1 از خط کمر","(از -7 الی 7)",{"$f":"K344*E344+L344","v":5},"بهینه=دلخواه",{"$f":"'طراحی همه الگوها'!B290","v":5},"بالای کمر پهن یکسره روی خط مرکزی پشت ",1,1,0,0,{"$f":"(J344-H344)/(I344-G344)","v":1},{"$f":"H344-G344*K344","v":0},-7,{"$f":"(M344-L344)/K344","v":-7},7,{"$f":"(O344-L344)/K344","v":7},0.25,{"$f":"(Q344-L344)/K344","v":0.25}]
["پایین کمر روی خط مرکزی پشت -  ضریب فاصله d1 از خط کمر -  (کمر جناقی)","(از -10 الی 30)",5,"مثبت= پایین خط کمر\nمنفی= بالای خط کمر",{"$f":"'طراحی همه الگوها'!B291","v":-5},"پایین کمر روی خط مرکزی پشت   (کمر جناقی)",1,-1,0,0,-1,0,-10,10,30,-30,0.9,{"$f":"(Q345-L345)/K345","v":-0.9}]
["بالای کمر روی خط ترک پشت -  ضریب فاصله u2 از خط کمر","(از -7 الی 7)",8,"بهینه=دلخواه",{"$f":"'طراحی همه الگوها'!B292","v":8},"بالای کمر پهن یکسره روی خط ترک پشت ",1,1,0,0,1,0,-7,-7,7,7,0.25,{"$f":"(Q346-L346)/K346","v":0.25}]
["پایین کمر روی خط ترک پشت -  ضریب فاصله d2 از خط کمر -  (کمر جناقی)","(از -10 الی 30)",8,"مثبت= پایین خط کمر\nمنفی= بالای خط کمر",{"$f":"'طراحی همه الگوها'!B293","v":-8},"پایین کمر روی خط ترک پشت   (کمر جناقی)",1,-1,0,0,-1,0,-10,10,30,-30,0.9,{"$f":"(Q347-L347)/K347","v":-0.9}]
["شیفت عمودی کمر پهن یکسره نسبت به زمین (به سانتیمتر)","(از -100 الی100)",50,"بهینه=دلخواه",{"$f":"'طراحی همه الگوها'!B295","v":50},"شیفت عمودی کمر پهن یکسره  (سانتیمتر)",1,1,0,0,1,0,-100,-100,100,100]
["شیفت افقی کمر پهن یکسره (به سانتیمتر)","(از -100 الی100)",20,"بهینه=دلخواه",{"$f":"'طراحی همه الگوها'!B294","v":20},"شیفت افقی کمر پهن یکسره (سانتیمتر)",1,1,0,0,1,0,-100,-100,100,100]
[]
["متغیرهای ورودی-یقه دکلته جلو",null,null,null,null,"متغیرهای ورودی-یقه دکلته جلو","x1","y1","x2","y2(بهینه)","a","b",null,"کمترین",null,"بیشترین"]
["میزان باز بودن یقه در خط مرکزی جلو  d1","(از 3.5 الی 5)",{"$f":"K352*E352+L352","v":4},"خط کمر=3 \nخط سینه=4  ",{"$f":"'طراحی همه الگوها'!E276","v":90},"میزان باز بودن یقه در خط مرکزی جلو  ",10,0,30,1,{"$f":"(J352-H352)/(I352-G352)","v":0.05},{"$f":"H352-G352*K352","v":-0.5},3.5,{"$f":"(M352-L352)/K352","v":80},5,{"$f":"(O352-L352)/K352","v":110},3,{"$f":"(Q352-L352)/K352","v":70}]
["میزان اضافه شدن ساسون سرشانه  ","(از 0 الی 0.5)",{"$f":"K353*E353+L353","v":0.2},"بدون اضافه شدن=0 \nبهینه=0.2  ",{"$f":"'طراحی همه الگوها'!E277","v":20},"میزان اضافه شدن ساسون سرشانه  ",19,0.18,20,0.2,{"$f":"(J353-H353)/(I353-G353)","v":2.0000000000000018E-2},{"$f":"H353-G353*K353","v":-0.20000000000000034},0,{"$f":"(M353-L353)/K353","v":10.000000000000009},0.5,{"$f":"(O353-L353)/K353","v":34.999999999999986},0.2,{"$f":"(Q353-L353)/K353","v":20}]
["میزان انحنا یقه  d2","(از -0.5 الی 0.5)",{"$f":"K354*E354+L354","v":0},"خط محدب =+ \nخط صاف =0 \nخط مقعر= - ",{"$f":"'طراحی همه الگوها'!E278","v":20},"میزان انحنا یقه  ",19,-0.1,20,0,{"$f":"(J354-H354)/(I354-G354)","v":0.1},{"$f":"H354-G354*K354","v":-2},-0.5,{"$f":"(M354-L354)/K354","v":15},0.5,{"$f":"(O354-L354)/K354","v":25},0,{"$f":"(Q354-L354)/K354","v":20}]
[]
[" متغیرهای ورودی-یقه دکلته پشت",null,null,null,null," متغیرهای ورودی-یقه دکلته پشت","x1","y1","x2","y2(بهینه)","a","b",null,"کمترین",null,"بیشترین"]
["میزان باز بودن یقه در خط مرکزی پشت  d1","(از 3 الی 5.5)",{"$f":"K357*E357+L357","v":4},"خط کمر=3 \nخط سینه=4  ",{"$f":"'طراحی همه الگوها'!E281","v":90},"میزان باز بودن یقه در خط مرکزی پشت  ",10,0,30,1,{"$f":"(J357-H357)/(I357-G357)","v":0.05},{"$f":"H357-G357*K357","v":-0.5},3,{"$f":"(M357-L357)/K357","v":70},5.5,{"$f":"(O357-L357)/K357","v":120},3.5,{"$f":"(Q357-L357)/K357","v":80}]
["میزان انحنا یقه  d2","(از -1 الی 0.5)",{"$f":"K358*E358+L358","v":-9.9999999999999867E-2},"خط صاف =0 \nخط مقعر= -  ",{"$f":"'طراحی همه الگوها'!E282","v":19},"میزان انحنا یقه  ",19,-0.1,20,0,{"$f":"(J358-H358)/(I358-G358)","v":0.1},{"$f":"H358-G358*K358","v":-2},-1,{"$f":"(M358-L358)/K358","v":10},0.5,{"$f":"(O358-L358)/K358","v":25},0,{"$f":"(Q358-L358)/K358","v":20}]
[]
[" طول بند برای لباس دکلته از جلو تا پشت به سانتیمتر",null,null,null,null," طول بند برای لباس دکلته از جلو تا پشت به سانتیمتر"]
["دکلته آبی جلو     به     دکلته آبی پشت",{"$f":"ROUND(محاسبات!EV356-محاسبات!EV324+محاسبات!GL309-محاسبات!GL310,0)","v":12},null,null,null,"دکلته آبی جلو     به     دکلته آبی پشت"]
["دکلته آبی جلو     به     دکلته سبز پشت",{"$f":"ROUND(محاسبات!EV356-محاسبات!EV324+محاسبات!GL309-محاسبات!GL311,0)","v":19},null,null,null,"دکلته آبی جلو     به     دکلته سبز پشت"]
["دکلته آبی جلو     به     دکلته بنفش پشت",{"$f":"ROUND(محاسبات!EV356-محاسبات!EV324+محاسبات!GL309-محاسبات!GL312,0)","v":25},null,null,null,"دکلته آبی جلو     به     دکلته بنفش پشت"]
["دکلته آبی جلو     به     دکلته سیاه پشت",{"$f":"ROUND(محاسبات!EV356-محاسبات!EV324+محاسبات!GL309-محاسبات!GL343,0)","v":30},null,null,null,"دکلته آبی جلو     به     دکلته سیاه پشت"]
["دکلته سبز جلو     به     دکلته آبی پشت",{"$f":"ROUND(محاسبات!EV356-محاسبات!EV340+محاسبات!GL309-محاسبات!GL310,0)","v":18},null,null,null,"دکلته سبز جلو     به     دکلته آبی پشت"]
["دکلته سبز جلو     به     دکلته سبز پشت",{"$f":"ROUND(محاسبات!EV356-محاسبات!EV340+محاسبات!GL309-محاسبات!GL311,0)","v":25},null,null,null,"دکلته سبز جلو     به     دکلته سبز پشت"]
["دکلته سبز جلو     به     دکلته بنفش پشت",{"$f":"ROUND(محاسبات!EV356-محاسبات!EV340+محاسبات!GL309-محاسبات!GL312,0)","v":31},null,null,null,"دکلته سبز جلو     به     دکلته بنفش پشت"]
["دکلته سبز جلو     به     دکلته سیاه پشت",{"$f":"ROUND(محاسبات!EV356-محاسبات!EV340+محاسبات!GL309-محاسبات!GL343,0)","v":36},null,null,null,"دکلته سبز جلو     به     دکلته سیاه پشت"]
["دکلته سیاه جلو     به     دکلته آبی پشت",{"$f":"ROUND(محاسبات!EV356-محاسبات!EV308+محاسبات!GL309-محاسبات!GL310,0)","v":22},null,null,null,"دکلته سیاه جلو     به     دکلته آبی پشت"]
["دکلته سیاه جلو     به     دکلته سبز پشت",{"$f":"ROUND(محاسبات!EV356-محاسبات!EV308+محاسبات!GL309-محاسبات!GL311,0)","v":29},null,null,null,"دکلته سیاه جلو     به     دکلته سبز پشت"]
["دکلته سیاه جلو     به     دکلته بنفش پشت",{"$f":"ROUND(محاسبات!EV356-محاسبات!EV308+محاسبات!GL309-محاسبات!GL312,0)","v":35},null,null,null,"دکلته سیاه جلو     به     دکلته بنفش پشت"]
["دکلته سیاه جلو     به     دکلته سیاه پشت",{"$f":"ROUND(محاسبات!EV356-محاسبات!EV308+محاسبات!GL309-محاسبات!GL343,0)","v":40},null,null,null,"دکلته سیاه جلو     به     دکلته سیاه پشت"]
[]
[" متغیرهای ورودی رگلاژ یقه دکلته پشت",null,null,null,null," متغیرهای ورودی رگلاژ یقه دکلته پشت","x1","y1","x2","y2(بهینه)","a","b",null,"کمترین",null,"بیشترین"]
["نقطه بالای رگلاژ روی یقه دکلته   m1 ","(0 یا 1 یا 2 یا 3 یا 4)",{"$f":"K375*E375+L375","v":2},"نقطه روی خط مرکزی پشت=0\nبهینه = 2",{"$f":"'طراحی همه الگوها'!E299","v":2},"نقطه بالای رگلاژ روی یقه دکلته    ",1,1,0,0,{"$f":"(J375-H375)/(I375-G375)","v":1},{"$f":"H375-G375*K375","v":0},0,{"$f":"(M375-L375)/K375","v":0},4,{"$f":"(O375-L375)/K375","v":4},0,{"$f":"(Q375-L375)/K375","v":0}]
["نقطه وسط رگلاژ روی خط کمر   m2 ","(از 0 الی 1)",{"$f":"K376*E376+L376","v":0.8},"نقطه روی خط مرکزی پشت=0\nنقطه روی ساسون میانی پشت=1",{"$f":"'طراحی همه الگوها'!E300","v":16},"نقطه وسط رگلاژ روی خط کمر    ",1,0.05,0,0,{"$f":"(J376-H376)/(I376-G376)","v":0.05},{"$f":"H376-G376*K376","v":0},0,{"$f":"(M376-L376)/K376","v":0},1,{"$f":"(O376-L376)/K376","v":20},0.8,{"$f":"(Q376-L376)/K376","v":16}]
["نقطه پایین رگلاژ روی خط مرکزی پشت   m3","(از 0 الی 1)",{"$f":"K377*E377+L377","v":0.8},"نقطه روی خط  کمر=0 \nنقطه روی خط باسن=1 ",{"$f":"'طراحی همه الگوها'!E301","v":16},"نقطه پایین رگلاژ روی خط مرکزی پشت   ",1,0.05,0,0,{"$f":"(J377-H377)/(I377-G377)","v":0.05},{"$f":"H377-G377*K377","v":0},0,{"$f":"(M377-L377)/K377","v":0},1,{"$f":"(O377-L377)/K377","v":20},0.8,{"$f":"(Q377-L377)/K377","v":16}]
["پهنای جادکمه برای تکه رگلاژ m4","(از 0 الی 0.08)",{"$f":"K378*E378+L378","v":0.03},"بدون جادکمه =0  \nبهینه =0.03  ",{"$f":"'طراحی همه الگوها'!E302","v":6},"پهنای جادکمه برای تکه رگلاژ ",1,5.0000000000000001E-3,0,0,{"$f":"(J378-H378)/(I378-G378)","v":5.0000000000000001E-3},{"$f":"H378-G378*K378","v":0},0,{"$f":"(M378-L378)/K378","v":0},0.08,{"$f":"(O378-L378)/K378","v":16},0.03,{"$f":"(Q378-L378)/K378","v":6}]
["شیفت افقی تکه رگلاژ جدا (به سانتیمتر)  m21","(از -100 الی100)",{"$f":"K379*E379+L379","v":30},"بهینه=دلخواه",{"$f":"'طراحی همه الگوها'!E303","v":30},"شیفت افقی تکه رگلاژ جدا (سانتیمتر)  ",1,1,0,0,{"$f":"(J379-H379)/(I379-G379)","v":1},{"$f":"H379-G379*K379","v":0},-100,{"$f":"(M379-L379)/K379","v":-100},100,{"$f":"(O379-L379)/K379","v":100}]
[]
["متغیرهای ورودی-یقه قایقی بدون شیفت تکه پهلو",null,null,null,null,"متغیرهای ورودی-یقه قایقی بدون شیفت تکه پهلو","x1","y1","x2","y2(بهینه)","a","b",null,"کمترین",null,"بیشترین"]
["ضریب بزرگ شدن سرشانه  b7","(از 0 الی 0.5)",{"$f":"K382*E382+L382","v":9.9999999999999978E-2},"بهینه=0.1",{"$f":"'طراحی همه الگوها'!E306","v":20},"باز شدن یقه روی سرشانه  ",19,0.05,20,0.1,{"$f":"(J382-H382)/(I382-G382)","v":0.05},{"$f":"H382-G382*K382","v":-0.9},0,{"$f":"(M382-L382)/K382","v":18},0.5,{"$f":"(O382-L382)/K382","v":27.999999999999996},0,{"$f":"(Q382-L382)/K382","v":18}]
[]
[" متغیرهای ورودی-یقه پروانه ای متصل به حلقه آستین بدون ساسون\nبدون شیفت تکه پهلو",null,null,null,null,"یقه پروانه ای متصل به حلقه آستین بدون ساسون  \nبدون شیفت تکه پهلو","x1","y1","x2","y2(بهینه)","a","b",null,"کمترین",null,"بیشترین"]
["ضریب پهنای سرشانه به سمت پشت    ζ3","(از 0 الی 1)",{"$f":"K385*E385+L385","v":1},"بهینه=1",{"$f":"'طراحی همه الگوها'!E309","v":20},"پهنای سرشانه به سمت پشت    ",19,0.9,20,1,{"$f":"(J385-H385)/(I385-G385)","v":9.9999999999999978E-2},{"$f":"H385-G385*K385","v":-0.99999999999999944},0,{"$f":"(M385-L385)/K385","v":9.9999999999999964},30,{"$f":"(O385-L385)/K385","v":310.00000000000006},0,{"$f":"(Q385-L385)/K385","v":9.9999999999999964}]
["ضریب پهنای سرشانه به سمت جلو   ζ4","(از 0 الی 1)",{"$f":"K386*E386+L386","v":0.8},"بهینه=0.8",{"$f":"'طراحی همه الگوها'!E310","v":20},"پهنای سرشانه به سمت جلو   ",19,0.7,20,0.8,{"$f":"(J386-H386)/(I386-G386)","v":0.10000000000000009},{"$f":"H386-G386*K386","v":-1.2000000000000017},0.3,{"$f":"(M386-L386)/K386","v":15.000000000000004},1.2,{"$f":"(O386-L386)/K386","v":23.999999999999996},0.3,{"$f":"(Q386-L386)/K386","v":15.000000000000004}]
[]
[" متغیرهای ورودی-سرشانه دکمه خور متصل به حلقه آستین بدون ساسون\nبدون شیفت تکه پهلو",null,null,null,null,"سرشانه پشت دکمه خور متصل به حلقه آستین بدون ساسون \nبدون شیفت تکه پهلو","x1","y1","x2","y2(بهینه)","a","b",null,"کمترین",null,"بیشترین"]
["ضریب پهنای جادکمه سرشانه","(از 0 الی 0.1)",{"$f":"K389*E389+L389","v":0.05},"بهینه=0.05",{"$f":"'طراحی همه الگوها'!B340","v":5},"ضریب پهنای جادکمه سرشانه",1,0.01,0,0,{"$f":"(J389-H389)/(I389-G389)","v":0.01},{"$f":"H389-G389*K389","v":0},0,{"$f":"(M389-L389)/K389","v":0},0.1,{"$f":"(O389-L389)/K389","v":10},0.05,{"$f":"(Q389-L389)/K389","v":5}]
[]
[" متغیرهای ورودی - آستین کیمونو و آستین سرخود بدون شیفت تکه پهلو",null,null,null,null," متغیرهای ورودی - آستین کیمونو و آستین سرخود بدون شیفت تکه پهلو","x1","y1","x2","y2(بهینه)","a","b",null,"کمترین",null,"بیشترین"]
["میزان خمیدگی آستین کیمونو نسبت به خط سرشانه (به درجه)   k1","(از 0 الی 30)",{"$f":"K392*E392+L392","v":15},"آستین در امتداد سرشانه=0",{"$f":"'طراحی همه الگوها'!B343","v":15},"میزان خمیدگی آستین کیمونو نسبت به خط سرشانه   ",1,1,0,0,{"$f":"(J392-H392)/(I392-G392)","v":1},{"$f":"H392-G392*K392","v":0},0,{"$f":"(M392-L392)/K392","v":0},30,{"$f":"(O392-L392)/K392","v":30},0,{"$f":"(Q392-L392)/K392","v":0}]
["ضریب کوتاهی آستین کیمونو   k16","(از 0.3 الی 1.2)",1,"آستین تا مچ=1",{"$f":"'طراحی همه الگوها'!B344","v":10},"کوتاهی آستین کیمونو   ",11,0.97750000000000004,10,1,-2.2499999999999964E-2,1.2249999999999996,0.3,41.111111111111157,1.2,1.1111111111110989,1,10]
["ضریب گشادی دور مچ   k2","(از 1 الی 2)",2.0000000000000009,"بدون گشادی مچ=1",{"$f":"'طراحی همه الگوها'!B345","v":20},"گشادی دور مچ   ",1,1.05,0,1,5.0000000000000044E-2,1,1,0,2,19.999999999999982,1,0]
["ضریب انحنا پهلو برای آستین کیمونو   k3","(از 0.2 الی 0.8) ",0.4,"بهینه=0.4",{"$f":"'طراحی همه الگوها'!B346","v":8},"انحنا پهلو برای آستین کیمونو   ",1,0.05,0,0,0.05,0,0.2,4,0.8,16,0.4,8]
["ضریب انحنا پهلو برای آستین سرخود   k14","(از 0 الی 0.2)",9.9999999999999978E-2,"بدون انحنا=0",{"$f":"'طراحی همه الگوها'!B347","v":5},"انحنا پهلو برای آستین سرخود   ",9,0.02,10,0,-0.02,0.19999999999999998,0,9.9999999999999982,0.2,-1.3877787807814457E-15,0,9.9999999999999982]
["ضریب کوتاهی آستین سرخود   k9","(از 0.35 الی 2)",0.59000000000000075,"لبه آستین روی خط آرنج=1",{"$f":"'طراحی همه الگوها'!B348","v":40},"کوتاهی آستین سرخود   ",29,1.0409999999999999,30,1,-4.0999999999999925E-2,2.2299999999999978,0.35,45.853658536585392,2,5.6097560975609309,1,30]
["ضریب کوتاهی تاج آستین سرخود   k12","(از 0 الی 0.25)",0.1,"بدون کوتاهی=0",{"$f":"'طراحی همه الگوها'!B349","v":2},"کوتاهی تاج آستین سرخود   ",1,0.05,0,0,0.05,0,0,0,0.25,5,0,0]
["گشادی لبه آستین : در طراحی آستین سرخود",{"$f":"IF(محاسبات!O393<محاسبات!O392,\" \",\"مقدار x9 زیاد شود \")","v":" "},null,{"$f":"IF(محاسبات!O393<محاسبات!O392,\"صحیح \",\"خطا\")","v":"صحیح "},{"$f":"IF(محاسبات!O393<محاسبات!O392,\" صحیح\",\" خطا - زیر حلقه آستین گشاد شود \")","v":" صحیح"},"گشادی لبه آستین : در طراحی آستین سرخود"]
[]
[" متغیرهای ورودی-شورت بدون شیفت تکه پهلو",null,null,null,null," متغیرهای ورودی-شورت بدون شیفت تکه پهلو","x1","y1","x2","y2(بهینه)","a","b",null,"کمترین",null,"بیشترین"]
["ضریب فاصله کمر شورت تا زمین s0","(از 2.2 الی 3.5)",{"$f":"K402*E402+L402","v":2.75},"خط باسن=2 \nخط کمر=3 \nخط سینه=4  ",{"$f":"'طراحی همه الگوها'!B353","v":65},"ضریب فاصله کمر شورت تا زمین ",10,0,30,1,{"$f":"(J402-H402)/(I402-G402)","v":0.05},{"$f":"H402-G402*K402","v":-0.5},2.2000000000000002,{"$f":"(M402-L402)/K402","v":54},3.5,{"$f":"(O402-L402)/K402","v":80},0,{"$f":"(Q402-L402)/K402","v":10}]
["میزان انحنا جلو شورت مردانه s9","(از 0 الی 0.6)",{"$f":"K403*E403+L403","v":0.4},"بدون انحنا (زنانه)=0 \nبهیه مردانه =0.4 ",{"$f":"'طراحی همه الگوها'!B354","v":8},"میزان انحنا جلو شورت مردانه ",1,0.05,0,0,{"$f":"(J403-H403)/(I403-G403)","v":0.05},{"$f":"H403-G403*K403","v":0},0,{"$f":"(M403-L403)/K403","v":0},0.6,{"$f":"(O403-L403)/K403","v":11.999999999999998},0.4,{"$f":"(Q403-L403)/K403","v":8}]
["ضریب حرکت افقی مرغک","(از -1 الی 3)",{"$f":"K404*E404+L404","v":1.5},"خط مرکزی جلو=0 \nخط پهلو=1  ",{"$f":"'طراحی همه الگوها'!B355","v":30},"ضریب شیفت افقی مرغک",20,1,0,0,{"$f":"(J404-H404)/(I404-G404)","v":0.05},{"$f":"H404-G404*K404","v":0},-1,{"$f":"(M404-L404)/K404","v":-20},3,{"$f":"(O404-L404)/K404","v":60},0,{"$f":"(Q404-L404)/K404","v":0}]
["ضریب حرکت عمودی مرغک","(از -3 الی 3)",{"$f":"K405*E405+L405","v":0},null,{"$f":"'طراحی همه الگوها'!B356","v":0},"ضریب شیفت عمودی مرغک",1,0.1,0,0,{"$f":"(J405-H405)/(I405-G405)","v":0.1},{"$f":"H405-G405*K405","v":0},-3,{"$f":"(M405-L405)/K405","v":-30},3,{"$f":"(O405-L405)/K405","v":30},0.3,{"$f":"(Q405-L405)/K405","v":2.9999999999999996}]
[]
[" متغیرهای ورودی - مایو پادار",null,null,null,null," متغیرهای ورودی - مایو پادار","x1","y1","x2","y2(بهینه)","a","b",null,"کمترین",null,"بیشترین"]
["ضریب گشادی دور مچ پا    p1  ","(از 1 الی 2.5)",{"$f":"K408*E408+L408","v":1.1500000000000001},"بهینه=1.7",{"$f":"'طراحی همه الگوها'!B359","v":3},"ضریب گشادی دور مچ پا      ",1,1.05,0,1,{"$f":"(J408-H408)/(I408-G408)","v":5.0000000000000044E-2},{"$f":"H408-G408*K408","v":1},1,{"$f":"(M408-L408)/K408","v":0},2.5,{"$f":"(O408-L408)/K408","v":29.999999999999975},1.7,{"$f":"(Q408-L408)/K408","v":13.999999999999988}]
["ضریب ارتفاع راسته بودن پایین پاچه   p2 ","(از 0 الی 0.5)",0.2,"بهینه=0.2",{"$f":"'طراحی همه الگوها'!B360","v":10},"ضریب ارتفاع راسته بودن پایین پاچه    ",1,0.02,0,0,0.02,0,0,0,0.5,25,0.2,10]
["ضریب عرض جادکمه وسط پا  p20","(از 0 الی 0.1)",1.4999999999999999E-2,"بهینه=0.015",{"$f":"'طراحی همه الگوها'!B361","v":3},"ضریب عرض جادکمه وسط پا  ",1,5.0000000000000001E-3,0,0,5.0000000000000001E-3,0,0,0,0.1,20,1.4999999999999999E-2,3]
["زاویه خط پهلو شلوار  برحسب درجه   p23","(از -5 الی 10)",5,"بهینه=3",{"$f":"'طراحی همه الگوها'!B362","v":5},"زاویه خط پهلو شلوار    ",1,1,0,0,1,0,-5,-5,10,10,3,3]
["ضریب افقی شیفت تکه وسط پا  ","(از -100 الی100)",2,"بدون شیفت=0 ",{"$f":"'طراحی همه الگوها'!B363","v":2},"ضریب شیفت افقی تکه وسط پا  ",1,1,0,0,{"$f":"(J412-H412)/(I412-G412)","v":1},{"$f":"H412-G412*K412","v":0},-100,{"$f":"(M412-L412)/K412","v":-100},100,{"$f":"(O412-L412)/K412","v":100}]
["ضریب عمودی شیفت تکه وسط پا","(از -100 الی100)",-10,"بدون شیفت=0 ",{"$f":"'طراحی همه الگوها'!B364","v":-10},"ضریب شیفت عمودی تکه وسط پا",1,1,0,0,{"$f":"(J413-H413)/(I413-G413)","v":1},{"$f":"H413-G413*K413","v":0},-100,{"$f":"(M413-L413)/K413","v":-100},100,{"$f":"(O413-L413)/K413","v":100}]
[]
[" متغیرهای ورودی-مایو بدون شیفت تکه پهلو      باید  x5=1",null,null,null,null," متغیرهای ورودی-مایو بدون شیفت تکه پهلو      باید  شروع اوزمان = خط باسن","x1","y1","x2","y2(بهینه)","a","b",null,"کمترین",null,"بیشترین"]
[" ضریب بالا آمدن خط مایو در پهلو   mx","(از 0 الی 0.7)",{"$f":"K416*E416+L416","v":0.2},"بهینه مایو=0.3\nبهینه شورت زنانه=0.2\nبهینه شورت مردانه=0.2\nبهینه زیردکمه دار بچه=0",{"$f":"'طراحی همه الگوها'!B367","v":10}," ضریب بالا آمدن خط مایو در پهلو   ",1,0.02,0,0,{"$f":"(J416-H416)/(I416-G416)","v":0.02},{"$f":"H416-G416*K416","v":0},0,{"$f":"(M416-L416)/K416","v":0},0.7,{"$f":"(O416-L416)/K416","v":35},0.3,{"$f":"(Q416-L416)/K416","v":15}]
["انتخاب مایو دکمه دار از وسط پا=1            انتخاب مایو بدون دکمه=0","0 یا 1 ",{"$f":"K417*E417+L417","v":1},null,{"$f":"'طراحی همه الگوها'!B368","v":2},"انتخاب مایو دکمه دار از وسط پا=2            انتخاب مایو بدون دکمه=1",1,0,2,1,{"$f":"(J417-H417)/(I417-G417)","v":1},{"$f":"H417-G417*K417","v":-1},0,{"$f":"(M417-L417)/K417","v":1},1,{"$f":"(O417-L417)/K417","v":2},0,{"$f":"(Q417-L417)/K417","v":1}]
["شیفت محل دکمه از پشت به جلو برای پوشک بچه در انتخاب مایو دکمه دار  (cm)","(از 0 الی 4)",{"$f":"K418*E418+L418","v":2},"بهینه=2",{"$f":"'طراحی همه الگوها'!B369","v":2},"شیفت محل دکمه از پشت به جلو برای پوشک بچه در انتخاب مایو دکمه دار  ",0.5,0.5,0,0,{"$f":"(J418-H418)/(I418-G418)","v":1},{"$f":"H418-G418*K418","v":0},0,{"$f":"(M418-L418)/K418","v":0},4,{"$f":"(O418-L418)/K418","v":4},2,{"$f":"(Q418-L418)/K418","v":2}]
["اضافه پهنا وسط پا برای پوشک بچه در انتخاب مایو دکمه دار  (cm)","(از0 الی 4)",{"$f":"K419*E419+L419","v":1.5},"بهینه=1.5",{"$f":"'طراحی همه الگوها'!B370","v":1.5},"اضافه پهنا وسط پا برای پوشک بچه در انتخاب مایو دکمه دار  ",0.5,0.5,0,0,{"$f":"(J419-H419)/(I419-G419)","v":1},{"$f":"H419-G419*K419","v":0},0,{"$f":"(M419-L419)/K419","v":0},4,{"$f":"(O419-L419)/K419","v":4},1.5,{"$f":"(Q419-L419)/K419","v":1.5}]
["اضافه جادکمه وسط پا در انتخاب مایو دکمه دار  (cm)","(از 0 الی 4)",{"$f":"K420*E420+L420","v":2},"بهینه=2",{"$f":"'طراحی همه الگوها'!B371","v":2},"اضافه جادکمه وسط پا در انتخاب مایو دکمه دار  ",0.5,0.5,0,0,{"$f":"(J420-H420)/(I420-G420)","v":1},{"$f":"H420-G420*K420","v":0},0,{"$f":"(M420-L420)/K420","v":0},4,{"$f":"(O420-L420)/K420","v":4},2,{"$f":"(Q420-L420)/K420","v":2}]
[]
[" متغیر ورودی پیش بند حمام بچه یا انحنا لبه پیراهن",null,null,null,null," متغیر ورودی پیش بند حمام بچه یا انحنا لبه پیراهن","x1","y1","x2","y2(بهینه)","a","b",null,"کمترین",null,"بیشترین"]
["ضریب بزرگی کلاه بچه   n10","(از 0.8 الی 1.3)",{"$f":"K423*E423+L423","v":1},"بهینه برای نوزاد=1\nبهینه یک ساله=1.2",{"$f":"'طراحی همه الگوها'!B374","v":20},"ضریب بزرگی کلاه بچه   ",19,0.95,20,1,{"$f":"(J423-H423)/(I423-G423)","v":5.0000000000000044E-2},{"$f":"H423-G423*K423","v":-8.8817841970012523E-16},0.8,{"$f":"(M423-L423)/K423","v":16.000000000000004},1.3,{"$f":"(O423-L423)/K423","v":25.999999999999996},1,{"$f":"(Q423-L423)/K423","v":20}]
["ضریب انحنا بالای لبه پیراهن  n11","(از 0.1 الی 0.9)",{"$f":"K424*E424+L424","v":0.4},"بهینه=0.4",{"$f":"'طراحی همه الگوها'!B375","v":20},"ضریب انحنا بالای لبه پیراهن  ",19,0.35,20,0.4,{"$f":"(J424-H424)/(I424-G424)","v":5.0000000000000044E-2},{"$f":"H424-G424*K424","v":-0.60000000000000087},0.1,{"$f":"(M424-L424)/K424","v":14.000000000000004},0.9,{"$f":"(O424-L424)/K424","v":29.999999999999993},0.4,{"$f":"(Q424-L424)/K424","v":20}]
["ضریب انحنا پایین لبه پیراهن  n12","(از 0.3 الی 0.9)",{"$f":"K425*E425+L425","v":0.6},"بهینه=0.6",{"$f":"'طراحی همه الگوها'!B376","v":20},"ضریب انحنا پایین لبه پیراهن  ",19,0.55000000000000004,20,0.6,{"$f":"(J425-H425)/(I425-G425)","v":4.9999999999999933E-2},{"$f":"H425-G425*K425","v":-0.39999999999999869},0.3,{"$f":"(M425-L425)/K425","v":13.999999999999991},0.9,{"$f":"(O425-L425)/K425","v":26.000000000000011},0.6,{"$f":"(Q425-L425)/K425","v":20}]
[]
[" متغیرهای ورودی- جلو پیش سینه رکابی بدون شیفت تکه پهلو",null,null,null,null," متغیرهای ورودی- جلو پیش سینه رکابی بدون شیفت تکه پهلو","x1","y1","x2","y2(بهینه)","a","b",null,"کمترین",null,"بیشترین"]
["ضریب پایین آمدن پیش سینه از خط سرشانه      γ0","(از 0.2 الی 0.8)",{"$f":"K428*E428+L428","v":0.35},null,{"$f":"'طراحی همه الگوها'!B379","v":20},"بالا یا پایین رفتن بند پیش سینه جلو",19,0.34,20,0.35,{"$f":"(J428-H428)/(I428-G428)","v":9.9999999999999534E-3},{"$f":"H428-G428*K428","v":0.15000000000000091},0.8,{"$f":"(M428-L428)/K428","v":65.000000000000213},1.3,{"$f":"(O428-L428)/K428","v":115.00000000000044},1,{"$f":"(Q428-L428)/K428","v":85.000000000000298}]
["ضریب بزرگ شدن پهنای کف حلقه آستین      γ1","(از 1 الی 2.5)",{"$f":"K429*E429+L429","v":1.8},null,{"$f":"'طراحی همه الگوها'!B380","v":20},"فاصله بند تا زیر حلقه آستین",19,1.75,20,1.8,{"$f":"(J429-H429)/(I429-G429)","v":5.0000000000000044E-2},{"$f":"H429-G429*K429","v":0.79999999999999916},0.1,{"$f":"(M429-L429)/K429","v":-13.999999999999972},0.9,{"$f":"(O429-L429)/K429","v":2.0000000000000155},0.4,{"$f":"(Q429-L429)/K429","v":-7.999999999999976}]
["ضریب کوچک شدن ارتفاع یقه      γ2","(از 0 الی 1.5)",{"$f":"K430*E430+L430","v":0.6},"صاف=0",{"$f":"'طراحی همه الگوها'!B381","v":20},"گودی بین دو بند در جلو سینه",19,0.55000000000000004,20,0.6,{"$f":"(J430-H430)/(I430-G430)","v":4.9999999999999933E-2},{"$f":"H430-G430*K430","v":-0.39999999999999869},0.3,{"$f":"(M430-L430)/K430","v":13.999999999999991},0.9,{"$f":"(O430-L430)/K430","v":26.000000000000011},0.6,{"$f":"(Q430-L430)/K430","v":20}]
["ضریب بزرگ شدن پهنای یقه      γ3","(از 0.5 الی 2.5)",{"$f":"K431*E431+L431","v":1.4},null,{"$f":"'طراحی همه الگوها'!B382","v":20},"فاصله بند تا خط مرکزی جلو",19,1.35,20,1.4,{"$f":"(J431-H431)/(I431-G431)","v":4.9999999999999822E-2},{"$f":"H431-G431*K431","v":0.40000000000000346},0.8,{"$f":"(M431-L431)/K431","v":7.99999999999996},1.3,{"$f":"(O431-L431)/K431","v":17.999999999999996},1,{"$f":"(Q431-L431)/K431","v":11.999999999999973}]
["انتخاب خط راست پهلو جلو=1        انتخاب دیگر=0","0 یا 1 ",{"$f":"K432*E432+L432","v":0},null,{"$f":"'طراحی همه الگوها'!B383","v":1},"انتخاب خط راست پهلو جلو=2        انتخاب دیگر=1",1,0,2,1,{"$f":"(J432-H432)/(I432-G432)","v":1},{"$f":"H432-G432*K432","v":-1},0.1,{"$f":"(M432-L432)/K432","v":1.1000000000000001},0.9,{"$f":"(O432-L432)/K432","v":1.9},0.4,{"$f":"(Q432-L432)/K432","v":1.4}]
[]
[" متغیرهای ورودی-مکان بندینک در پیش سینه یا پیش بند",null,null,null,null," متغیرهای ورودی-مکان بندینک در پیش سینه یا پیش بند","x1","y1","x2","y2(بهینه)","a","b",null,"کمترین",null,"بیشترین"]
["ضریب فاصله افقی نقطه پایین بندینک از خط مرکزی جلو ","(از 0 الی 2)",{"$f":"K435*E435+L435","v":1},"خط مرکزی جلو=0 \nخط پهلو=1  ",{"$f":"'طراحی همه الگوها'!B386","v":20},"شیفت افقی بند جدا",20,1,0,0,{"$f":"(J435-H435)/(I435-G435)","v":0.05},{"$f":"H435-G435*K435","v":0},0.8,{"$f":"(M435-L435)/K435","v":16},1.3,{"$f":"(O435-L435)/K435","v":26},1,{"$f":"(Q435-L435)/K435","v":20}]
["ضریب فاصله عمودی نقطه پایین بندینک از زمین ","(از0 الی 5)",{"$f":"K436*E436+L436","v":2},"خط زمین=0 \nخط زانو=1 \nخط باسن=2 \nخط کمر=3 \nخط سینه=4  ",{"$f":"'طراحی همه الگوها'!B387","v":50},"شیفت عمودی بند جدا",10,0,30,1,{"$f":"(J436-H436)/(I436-G436)","v":0.05},{"$f":"H436-G436*K436","v":-0.5},0.1,{"$f":"(M436-L436)/K436","v":11.999999999999998},0.9,{"$f":"(O436-L436)/K436","v":27.999999999999996},0.4,{"$f":"(Q436-L436)/K436","v":18}]
[]
[" متغیرهای ورودی- پشت پیش سینه رکابی بدون شیفت تکه پهلو",null,null,null,null," متغیرهای ورودی- پشت پیش سینه رکابی بدون شیفت تکه پهلو","x1","y1","x2","y2(بهینه)","a","b",null,"کمترین",null,"بیشترین"]
["ضریب پایین آمدن پیش سینه از خط سرشانه      γ0","(از 0.2 الی 0.8)",{"$f":"K439*E439+L439","v":0.3},null,{"$f":"'طراحی همه الگوها'!B390","v":20},"بالا یا پایین رفتن بند پیش سینه پشت",19,0.28999999999999998,20,0.3,{"$f":"(J439-H439)/(I439-G439)","v":1.0000000000000009E-2},{"$f":"H439-G439*K439","v":9.9999999999999811E-2},0.8,{"$f":"(M439-L439)/K439","v":69.999999999999957},1.3,{"$f":"(O439-L439)/K439","v":119.99999999999991},1,{"$f":"(Q439-L439)/K439","v":89.999999999999929}]
["ضریب بزرگ شدن پهنای کف حلقه آستین      γ1","(از 1 الی 4)",{"$f":"K440*E440+L440","v":2.6},null,{"$f":"'طراحی همه الگوها'!B391","v":20},"فاصله بند تا زیر حلقه آستین",19,2.5,20,2.6,{"$f":"(J440-H440)/(I440-G440)","v":0.10000000000000009},{"$f":"H440-G440*K440","v":0.59999999999999831},0.1,{"$f":"(M440-L440)/K440","v":-4.9999999999999787},0.9,{"$f":"(O440-L440)/K440","v":3.0000000000000142},0.4,{"$f":"(Q440-L440)/K440","v":-1.9999999999999811}]
["ضریب کوچک شدن ارتفاع یقه      γ2","(از 0 الی 3)",{"$f":"K441*E441+L441","v":0.60000000000000009},"صاف=0",{"$f":"'طراحی همه الگوها'!B392","v":20},"گودی بین دو بند در پشت سینه",19,0.5,20,0.6,{"$f":"(J441-H441)/(I441-G441)","v":9.9999999999999978E-2},{"$f":"H441-G441*K441","v":-1.3999999999999995},0.3,{"$f":"(M441-L441)/K441","v":17},0.9,{"$f":"(O441-L441)/K441","v":23},0.6,{"$f":"(Q441-L441)/K441","v":20}]
["ضریب بزرگ شدن پهنای یقه      γ3","(از 0.5 الی 2.5)",{"$f":"K442*E442+L442","v":1.2},null,{"$f":"'طراحی همه الگوها'!B393","v":20},"فاصله بند تا خط مرکزی پشت",19,1.1000000000000001,20,1.2,{"$f":"(J442-H442)/(I442-G442)","v":9.9999999999999867E-2},{"$f":"H442-G442*K442","v":-0.79999999999999738},0.8,{"$f":"(M442-L442)/K442","v":15.999999999999995},1.3,{"$f":"(O442-L442)/K442","v":21.000000000000004},1,{"$f":"(Q442-L442)/K442","v":17.999999999999996}]
["انتخاب خط راست پهلو پشت=1        انتخاب دیگر=0","0 یا 1 ",{"$f":"K443*E443+L443","v":0},null,{"$f":"'طراحی همه الگوها'!B394","v":1},"انتخاب خط راست پهلو پشت=2        انتخاب دیگر=1",1,0,2,1,{"$f":"(J443-H443)/(I443-G443)","v":1},{"$f":"H443-G443*K443","v":-1},0.1,{"$f":"(M443-L443)/K443","v":1.1000000000000001},0.9,{"$f":"(O443-L443)/K443","v":1.9},0.4,{"$f":"(Q443-L443)/K443","v":1.4}]
[]
[" متغیرهای ورودی-طراحی یقه دلبری",null,null,null,null," متغیرهای ورودی-طراحی یقه دلبری","x1","y1","x2","y2(بهینه)","a","b",null,"کمترین",null,"بیشترین"]
["γ1         باز شدن یقه نسبت به وسط گردن       ","(از 0.3 الی 1.5)",{"$f":"K446*E446+L446","v":0.99999999999999978},"بهینه=1",{"$f":"'طراحی همه الگوها'!E313","v":14}," باز شدن یقه نسبت به وسط گردن       ",1,0.35,0,0.3,{"$f":"(J446-H446)/(I446-G446)","v":4.9999999999999989E-2},{"$f":"H446-G446*K446","v":0.3},0.3,{"$f":"(M446-L446)/K446","v":0},1.5,{"$f":"(O446-L446)/K446","v":24.000000000000004},1,{"$f":"(Q446-L446)/K446","v":14.000000000000002}]
["γ2       فاصله عمودی نقطه شکست یقه دلبری   ","(از 0.1 الی 0.9)",{"$f":"K447*E447+L447","v":0.5},"بهینه=0.5",{"$f":"'طراحی همه الگوها'!E314","v":20},"  فاصله عمودی نقطه شکست یقه دلبری   ",19,0.45,20,0.5,{"$f":"(J447-H447)/(I447-G447)","v":4.9999999999999989E-2},{"$f":"H447-G447*K447","v":-0.49999999999999972},0.1,{"$f":"(M447-L447)/K447","v":11.999999999999998},0.9,{"$f":"(O447-L447)/K447","v":28},0.4,{"$f":"(Q447-L447)/K447","v":17.999999999999996}]
["γ3        فاصله افقی نقطه شکست یقه دلبری","(از 0.3 الی 2)",{"$f":"K448*E448+L448","v":1},"بهینه=1",{"$f":"'طراحی همه الگوها'!E315","v":20}," فاصله افقی نقطه شکست یقه دلبری",19,0.95,20,1,{"$f":"(J448-H448)/(I448-G448)","v":5.0000000000000044E-2},{"$f":"H448-G448*K448","v":-8.8817841970012523E-16},0.3,{"$f":"(M448-L448)/K448","v":6.0000000000000124},0.9,{"$f":"(O448-L448)/K448","v":18.000000000000004},0.6,{"$f":"(Q448-L448)/K448","v":12.000000000000007}]
[]
[" متغیرهای ورودی - یقه پشت گردنی بدون شیفت تکه پهلو - روی حلقه آستین با ساسون",null,null,null,null," متغیرهای ورودی - یقه پشت گردنی بدون شیفت تکه پهلو - روی حلقه آستین با ساسون","x1","y1","x2","y2(بهینه)","a","b",null,"کمترین",null,"بیشترین"]
["ضریب طول یقه پشت گردن  d0","(از 0.5 الی 1.3)",{"$f":"K451*E451+L451","v":0.9},"بهینه=0.9",{"$f":"'طراحی همه الگوها'!E319","v":20}," طول یقه پشت گردن  ",19,0.85,20,0.9,{"$f":"(J451-H451)/(I451-G451)","v":5.0000000000000044E-2},{"$f":"H451-G451*K451","v":-0.10000000000000087},0.5,{"$f":"(M451-L451)/K451","v":12.000000000000007},1.3,{"$f":"(O451-L451)/K451","v":27.999999999999993},0.9,{"$f":"(Q451-L451)/K451","v":20}]
["ضریب پهنای یقه پشت گردن  d1","(از 0 الی 3)",{"$f":"K452*E452+L452","v":1.5},"بهینه=1.5",{"$f":"'طراحی همه الگوها'!E318","v":20}," پهنای یقه پشت گردن  ",0,0,20,1.5,{"$f":"(J452-H452)/(I452-G452)","v":7.4999999999999997E-2},{"$f":"H452-G452*K452","v":0},0,{"$f":"(M452-L452)/K452","v":0},3,{"$f":"(O452-L452)/K452","v":40},1.5,{"$f":"(Q452-L452)/K452","v":20}]
["ضریب افقی انحنا یقه جلو   d2    ","(از 0 الی 1.5)",{"$f":"K453*E453+L453","v":0.9},"بهینه=0.9",{"$f":"'طراحی همه الگوها'!E320","v":20},"  انحنا افقی یقه جلو       ",19,0.85,20,0.9,{"$f":"(J453-H453)/(I453-G453)","v":5.0000000000000044E-2},{"$f":"H453-G453*K453","v":-0.10000000000000087},0,{"$f":"(M453-L453)/K453","v":2.0000000000000155},1.5,{"$f":"(O453-L453)/K453","v":31.999999999999993},0.9,{"$f":"(Q453-L453)/K453","v":20}]
["ضریب عمودی انحنا یقه جلو     d3","(از 0 الی 1)",{"$f":"K454*E454+L454","v":0.5},"بهینه=0.5",{"$f":"'طراحی همه الگوها'!E321","v":20}," انحنا عمودی یقه جلو    ",19,0.55000000000000004,20,0.5,{"$f":"(J454-H454)/(I454-G454)","v":-5.0000000000000044E-2},{"$f":"H454-G454*K454","v":1.5000000000000009},0,{"$f":"(M454-L454)/K454","v":29.999999999999993},1,{"$f":"(O454-L454)/K454","v":10.000000000000009},0.5,{"$f":"(Q454-L454)/K454","v":20}]
[]
[" متغیرهای ورودی - سوتین کلی",null,null,null,null," متغیرهای ورودی - سوتین کلی","x1","y1","x2","y2(بهینه)","a","b",null,"کمترین",null,"بیشترین"]
["ضریب ساسون وسط سینه    b1  ","(از -1 الی 2)",{"$f":"K457*E457+L457","v":-0.29999999999999982},"بهینه= - 0.3",{"$f":"'طراحی همه الگوها'!B397","v":20},"ضریب ساسون وسط سینه      ",19,-0.4,20,-0.3,{"$f":"(J457-H457)/(I457-G457)","v":0.10000000000000003},{"$f":"H457-G457*K457","v":-2.3000000000000007},0,{"$f":"(M457-L457)/K457","v":23},0.7,{"$f":"(O457-L457)/K457","v":30},1,{"$f":"(Q457-L457)/K457","v":32.999999999999993}]
["ضریب پایین آمدن از خط پهلو   b2 ","(از 0 الی 0.5)",0.25,"زیر بغل منطبق با بالاتنه=0 \nخط کمر=1  \nبهینه = 0.25",{"$f":"'طراحی همه الگوها'!B398","v":20},"ضریب پایین آمدن از خط پهلو    ",19,0.2,20,0.25,4.9999999999999989E-2,-0.74999999999999978,0,14.999999999999998,1,35,0.4,23.000000000000004]
["ضریب بزرگ شدن کاسه در خط مرکزی جلو    b3  ","(از0.5 الی 1.5)",0.9,"بهینه= 0.9",{"$f":"'طراحی همه الگوها'!B399","v":20},"ضریب بزرگ شدن کاسه در خط مرکزی جلو      ",19,0.88,20,0.9,2.0000000000000018E-2,0.49999999999999967,0,-24.999999999999961,4,174.99999999999986,0.6,5.0000000000000107]
["ضریب بزرگ شدن کاسه زیر نوک سینه   b4 ","(از0.4 الی 1.3)",0.6,"بهینه= 0.6",{"$f":"'طراحی همه الگوها'!B400","v":20},"ضریب بزرگ شدن کاسه زیر نوک سینه    ",19,0.57999999999999996,20,0.6,2.0000000000000018E-2,0.19999999999999962,0,-9.9999999999999716,4,189.99999999999986,1,39.999999999999986]
["ضریب بزرگ شدن کاسه در پهلو    b5  ","(از0.7 الی 1.7)",1.1000000000000001,"بهینه= 1.1",{"$f":"'طراحی همه الگوها'!B401","v":20},"ضریب بزرگ شدن کاسه در پهلو      ",19,1.08,20,1.1000000000000001,2.0000000000000018E-2,0.69999999999999973,0,-34.999999999999957,0.7,1.1102230246251556E-14,0.4,-14.999999999999972]
["ضریب بالا یا پایین آمدن یقه روی خط مرکزی جلو   b6 ","(از -0.7 الی 0.5)",0,"بالای خط سینه =+ \nروی خط سینه =0 \nپایین خط سینه= - ",{"$f":"'طراحی همه الگوها'!B402","v":20},"ضریب بالا یا پایین آمدن یقه روی خط مرکزی جلو    ",19,-0.05,20,0,0.05,-1,0,20,1,40,1,40]
["ضریب عمودی نقطه اتصال بند جلو    b7  ","(از 0.1 الی 1)",0.25,"بهینه=0.25",{"$f":"'طراحی همه الگوها'!B403","v":20},"ضریب عمودی نقطه اتصال بند جلو      ",19,0.2,20,0.25,4.9999999999999989E-2,-0.74999999999999978,0,14.999999999999998,4,95.000000000000014,0.4,23.000000000000004]
["ضریب افقی نقطه اتصال بند جلو   b8 ","(از 0.5 الی 3)",1.4,"بهینه=1.4",{"$f":"'طراحی همه الگوها'!B404","v":20},"ضریب افقی نقطه اتصال بند جلو    ",19,1.3,20,1.4,9.9999999999999867E-2,-0.59999999999999742,0,5.9999999999999822,4,46.000000000000043,0.6,11.999999999999991]
["میزان انحنا یقه جلو  b9 ","(از -0.5 الی 0.5)",0,"خط محدب =+ \nخط صاف =0 \nخط مقعر= - ",{"$f":"'طراحی همه الگوها'!B405","v":20},"میزان انحنا یقه جلو   ",19,-0.05,20,0,0.05,-1,0,20,0.7,34,1,40]
["ضریب گودی خطوط افقی کاسه    b10  ","(از 0 الی 0.5)",0.25,"بهینه=0.25",{"$f":"'طراحی همه الگوها'!B406","v":20},"ضریب گودی خطوط افقی کاسه      ",19,0.2,20,0.25,4.9999999999999989E-2,-0.74999999999999978,0,14.999999999999998,1,35,0.4,23.000000000000004]
["ضریب گودی خطوط عمودی کاسه   b11 ","(از 0 الی 0.5)",0.15000000000000002,"بهینه=0.15",{"$f":"'طراحی همه الگوها'!B407","v":20},"ضریب گودی خطوط عمودی کاسه    ",19,0.1,20,0.15,4.9999999999999989E-2,-0.84999999999999976,0,17,4,97.000000000000014,1,37]
["میزان انحنا یقه در پهلو   b12 ","(از -0.5 الی 0.5)",0,"خط محدب =+ \nخط صاف =0 \nخط مقعر= - ",{"$f":"'طراحی همه الگوها'!B408","v":20},"انحنا یقه در پهلو    ",19,-0.05,20,0,0.05,-1,0,20,4,100,0.4,27.999999999999996]
["ضریب افزایش یا کاهش ساسون زیر بغل    b15 ","(از -0.5 الی 2)",0,"اندامی=0",{"$f":"'طراحی همه الگوها'!B409","v":20},"ضریب افزایش یا کاهش ساسون زیر بغل     ",19,-0.1,20,0,{"$f":"(J469-H469)/(I469-G469)","v":0.1},{"$f":"H469-G469*K469","v":-2},0,20,4,60,0.6,26]
["ضریب افزایش یا کاهش طول عمودی کاسه    b17 ","(از 0.1 الی 2)",0.70000000000000018,"بهینه=0.7",{"$f":"'طراحی همه الگوها'!B410","v":20},"ضریب افزایش یا کاهش طول عمودی کاسه     ",19,0.6,20,0.7,9.9999999999999978E-2,-1.2999999999999994,0,12.999999999999996,4,53,1,23]
["ضریب افزایش یا کاهش طول افقی کاسه    b18 ","(از 0.1 الی 2)",0.5,"بهینه=0.5",{"$f":"'طراحی همه الگوها'!B411","v":20},"ضریب افزایش یا کاهش طول افقی کاسه     ",19,0.4,20,0.5,9.9999999999999978E-2,-1.4999999999999996,0,{"$f":"(M471-L471)/K471","v":14.999999999999998},4,{"$f":"(O471-L471)/K471","v":55.000000000000014},0.4,19]
["شیفت عمودی کاسه پایین به سانتیمتر   b13 ","(از -100 الی100)",0,"بدون شیفت=0",{"$f":"'طراحی همه الگوها'!B413","v":0},"شیفت عمودی کاسه پایین (سانتیمتر)    ",1,1,0,0,1,0,-100,{"$f":"(M472-L472)/K472","v":-100},100,{"$f":"(O472-L472)/K472","v":100}]
["شیفت عمودی کاسه بالا به سانتیمتر   b14 ","(از -100 الی100)",0,"بدون شیفت=0",{"$f":"'طراحی همه الگوها'!B414","v":0},"شیفت عمودی کاسه بالا (سانتیمتر)    ",1,1,0,0,1,0,-100,{"$f":"(M473-L473)/K473","v":-100},100,{"$f":"(O473-L473)/K473","v":100}]
["شیفت افقی کاسه پایین راست به سانتیمتر   b16 ","(از -100 الی100)",0,"بدون شیفت=0",{"$f":"'طراحی همه الگوها'!B412","v":0},"شیفت افقی کاسه پایین راست (سانتیمتر)    ",1,1,0,0,1,0,-100,{"$f":"(M474-L474)/K474","v":-100},100,{"$f":"(O474-L474)/K474","v":100}]
[]
[" متغیرهای ورودی -  اختصاصی سوتین 6 تکه",null,null,null,null," متغیرهای ورودی -  اختصاصی سوتین 6 تکه","x1","y1","x2","y2(بهینه)","a","b",null,"کمترین",null,"بیشترین"]
["انتقال ساسون روی خط سینه به زیر سینه   d17 ","(از 0 الی 1)",{"$f":"K477*E477+L477","v":0.9},"بدون انتقال=0 \nانتقال کامل=1  ",{"$f":"'طراحی همه الگوها'!B417","v":9},"انتقال ساسون روی خط سینه به زیر سینه    ",1,0.1,0,0,{"$f":"(J477-H477)/(I477-G477)","v":0.1},{"$f":"H477-G477*K477","v":0},0,{"$f":"(M477-L477)/K477","v":0},1,{"$f":"(O477-L477)/K477","v":10},0.9,{"$f":"(Q477-L477)/K477","v":9}]
["ضریب چرخش تکه پهلو به درجه    d2 ","(از0 الی 100)",20,"بهینه= 20",{"$f":"'طراحی همه الگوها'!B418","v":20},"چرخش تکه پهلو     ",19,19,20,20,{"$f":"(J478-H478)/(I478-G478)","v":1},{"$f":"H478-G478*K478","v":0},0,0,1,1,0.4,0.4]
["پهنای بند جلو به سانتیمتر    d3  ","(از0 الی 5)",1.5,"بهینه= 1.5",{"$f":"'طراحی همه الگوها'!B419","v":1.5},"پهنای بند جلو       ",1,1,0,0,{"$f":"(J479-H479)/(I479-G479)","v":1},{"$f":"H479-G479*K479","v":0},0,{"$f":"(M479-L479)/K479","v":0},5,{"$f":"(O479-L479)/K479","v":5},1.5,{"$f":"(Q479-L479)/K479","v":1.5}]
["ضریب عمودی برش جلو بند   d8 ","(از 0.1 الی 2)",1.2,"بهینه=1.2",{"$f":"'طراحی همه الگوها'!B420","v":20},"بالا یا پایین رفتن مکان بند جلو",19,1.1000000000000001,20,1.2,{"$f":"(J480-H480)/(I480-G480)","v":9.9999999999999867E-2},{"$f":"H480-G480*K480","v":-0.79999999999999738},0,7.999999999999984,4,48.000000000000036,1,17.999999999999996]
["ضریب افقی برش جلو بند   d14 ","(از 0.1 الی 2)",0.8,"بهینه=0.8",{"$f":"'طراحی همه الگوها'!B421","v":20},"چپ و راست رفتن مکان بند جلو",19,0.75,20,0.8,{"$f":"(J481-H481)/(I481-G481)","v":5.0000000000000044E-2},{"$f":"H481-G481*K481","v":-0.20000000000000084},0,4.0000000000000133,0.7,18,0.4,12.000000000000007]
["ضریب پهنای افقی برش جلو بند   d9 ","(از 0 الی 1)",0.30000000000000004,"بهینه=0.3",{"$f":"'طراحی همه الگوها'!B422","v":20},"پهنای افقی برش جلو بند    ",19,0.25,20,0.3,4.9999999999999989E-2,-0.69999999999999973,0,13.999999999999998,1,34,1,34]
["ضریب پهنای برش کاسه در پهلو    d10  ","(از 0.1 الی 0.7)",0.25,"بهینه=0.25",{"$f":"'طراحی همه الگوها'!B423","v":20},"پهنای برش کاسه در پهلو      ",19,0.2,20,0.25,4.9999999999999989E-2,-0.74999999999999978,0,14.999999999999998,4,95.000000000000014,0.4,23.000000000000004]
["ضریب بالا یا پایین رفتن خط پایین پایه    d1  ","(از 0.2 الی 0.7)",0.5,"خط کمر=0 \nخط سینه=1  ",{"$f":"'طراحی همه الگوها'!B424","v":80},"بالا یا پایین رفتن خط پایین پایه      ",79,0.45,80,0.5,4.9999999999999989E-2,-3.4999999999999991,0.2,74,0.7,84,0,70]
["پهنای بند پشت به سانتیمتر   d4 ","(از0 الی 5)",1.5,"بهینه= 1.5",{"$f":"'طراحی همه الگوها'!B425","v":1.5},"پهنای بند پشت     ",1,1,0,0,1,0,0,0,5,5,1.5,1.5]
["ضریب عمودی نقطه اتصال بند پشت    d5  ","(از0 الی 1)",0.38,"خط کمر =0 \nخط سرشانه= 1 \nبهینه = 0.38",{"$f":"'طراحی همه الگوها'!B426","v":20},"بالا یا پایین رفتن مکان بند پشت",21,0.4,20,0.38,2.0000000000000018E-2,-2.0000000000000351E-2,0,1.0000000000000167,1,50.999999999999979,0.4,21]
["ضریب افقی نقطه اتصال بند پشت    d6 ","(از0.1 الی 0.9)",0.45,"خط مرکزی پشت =0 \nخط پهلو= 1 \nبهینه = 0.45",{"$f":"'طراحی همه الگوها'!B427","v":9},"چپ و راست رفتن مکان بند پشت",1,0.05,0,0,0.05,0,0.1,2,0.9,18,0.45,9]
["میزان انحنا یقه پشت پهلو    d7  ","(از -0.5 الی 0.5)",0,"خط محدب =+ \nخط صاف =0 \nخط مقعر= - ",{"$f":"'طراحی همه الگوها'!B428","v":20},"انحنا یقه پشت پهلو      ",19,-0.05,20,0,0.05,-1,0,20,4,100,0.4,27.999999999999996]
["پهنای قزن در پشت به سانتیمتر   d11 ","(از 0 الی 10)",3,"بهینه=3",{"$f":"'طراحی همه الگوها'!B429","v":3},"پهنای قزن در پشت (سانتیمتر)    ",2,2,3,3,{"$f":"(J489-H489)/(I489-G489)","v":1},{"$f":"H489-G489*K489","v":0},0,{"$f":"(M489-L489)/K489","v":0},10,{"$f":"(O489-L489)/K489","v":10},3,3]
["میزان انحنا یقه پشت مرکزی    d15  ","(از -0.5 الی 0.5)",0,"خط محدب =+ \nخط صاف =0 \nخط مقعر= - ",{"$f":"'طراحی همه الگوها'!B430","v":20},"انحنا یقه پشت مرکزی      ",19,-0.05,20,0,{"$f":"(J490-H490)/(I490-G490)","v":0.05},{"$f":"H490-G490*K490","v":-1},0,{"$f":"(M490-L490)/K490","v":20},4,{"$f":"(O490-L490)/K490","v":100},1,40]
["شیفت افقی تکه جلو مرکزی به سانتیمتر   d12 ","(از -100 الی100)",0,"بدون شیفت=0",{"$f":"'طراحی همه الگوها'!B431","v":0},"شیفت افقی تکه جلو مرکزی (سانتیمتر)    ",1,1,0,0,{"$f":"(J491-H491)/(I491-G491)","v":1},{"$f":"H491-G491*K491","v":0},-100,{"$f":"(M491-L491)/K491","v":-100},100,{"$f":"(O491-L491)/K491","v":100},0.4,0.4]
["شیفت عمودی کاسه یک تکه زیرین به سانتیمتر   d16 ","(از -100 الی100)",0,"بدون شیفت=0",{"$f":"'طراحی همه الگوها'!B433","v":0},"شیفت عمودی کاسه یک تکه زیرین (سانتیمتر)    ",1,1,0,0,{"$f":"(J492-H492)/(I492-G492)","v":1},{"$f":"H492-G492*K492","v":0},-100,{"$f":"(M492-L492)/K492","v":-100},100,{"$f":"(O492-L492)/K492","v":100}]
["شیفت افقی تکه پهلوجلو به سانتیمتر   d13 ","(از -100 الی100)",0,"بدون شیفت=0",{"$f":"'طراحی همه الگوها'!B432","v":0},"شیفت افقی تکه پهلوجلو (سانتیمتر)    ",1,1,0,0,{"$f":"(J493-H493)/(I493-G493)","v":1},{"$f":"H493-G493*K493","v":0},-100,{"$f":"(M493-L493)/K493","v":-100},100,{"$f":"(O493-L493)/K493","v":100}]
[]
[" متغیرهای ورودی- شنل بدون شیفت تکه پهلو",null,null,null,null," متغیرهای ورودی- شنل بدون شیفت تکه پهلو","x1","y1","x2","y2(بهینه)","a","b",null,"کمترین",null,"بیشترین"]
["ضریب بزرگ شدن اوزمان در شنل  c1","(از 0.5 الی 2)",{"$f":"K496*E496+L496","v":1},"بهینه=1",{"$f":"'طراحی همه الگوها'!B436","v":20},"ضریب بزرگ شدن اوزمان در شنل  ",19,0.95,20,1,{"$f":"(J496-H496)/(I496-G496)","v":5.0000000000000044E-2},{"$f":"H496-G496*K496","v":-8.8817841970012523E-16},0.5,{"$f":"(M496-L496)/K496","v":10.000000000000009},2,{"$f":"(O496-L496)/K496","v":39.999999999999986},1,{"$f":"(Q496-L496)/K496","v":20}]
["متغیرهای ورودی آستین",null,null,null,null,"متغیرهای ورودی آستین"]
[null,null,null,null,"x",null,"x1","y1","x2","y2(بهینه)","a","b",null,"کمترین",null,"بیشترین"]
[" متغیر ورودی نوع آستین :",null,null,null,null," متغیر ورودی نوع آستین :","x1","y1","x2","y2(بهینه)","a","b",null,"کمترین",null,"بیشترین"]
["انتخاب آستین با ساسون سرشانه یا زیر بغل یا عصایی = 0\nانتخاب آستین رگلان (بدون درز یا با درز) برای حلقه آستین با ساسون = 0   \nانتخاب آستین با هر نوع ساسون و اپل و کنترل گودی حلقه آستین = 1\n انتخاب آستین بدون ساسون سرشانه = 3 \n انتخاب آستین رگلان (بدون درز یا با درز) برای حلقه آستین بدون ساسون سرشانه = 3 ","0 یا 1 یا 3",{"$f":"K500*E500+L500","v":3},null,{"$f":"'طراحی همه الگوها'!K175","v":4},"انتخاب آستین با ساسون سرشانه یا زیر بغل یا عصایی = 0\nانتخاب آستین رگلان (بدون درز یا با درز) برای حلقه آستین با ساسون = 0   \nانتخاب آستین با هر نوع ساسون و اپل و کنترل گودی حلقه آستین = 1\n انتخاب آستین بدون ساسون سرشانه = 3 \n انتخاب آستین رگلان (بدون درز یا با درز) برای حلقه آستین بدون ساسون سرشانه = 3 ",1,0,4,3,{"$f":"(J500-H500)/(I500-G500)","v":1},{"$f":"H500-G500*K500","v":-1},null,1,null,4,0.15,{"$f":"(Q500-L500)/K500","v":1.1499999999999999}]
[]
[" متغیرهای ورودی - آستین رگلان درز دار",null,null,null,null," متغیرهای ورودی - آستین رگلان درز دار","x1","y1","x2","y2(بهینه)","a","b",null,"کمترین",null,"بیشترین"]
["میزان خمیدگی بدن به سمت جلو - زاویه به درجه  α1","(از -20 الی 20)",{"$f":"K503*E503+L503","v":3},"بهینه=3",{"$f":"'طراحی همه الگوها'!K234","v":3},"میزان خمیدگی بدن به سمت جلو   ",1,1,0,0,{"$f":"(J503-H503)/(I503-G503)","v":1},{"$f":"H503-G503*K503","v":0},-20,{"$f":"(M503-L503)/K503","v":-20},20,{"$f":"(O503-L503)/K503","v":20},3,{"$f":"(Q503-L503)/K503","v":3}]
["میزان خم شدن سرشانه در آستین - زاویه به درجه  α2","(از -20 الی 20)",3,"بهینه=3",{"$f":"'طراحی همه الگوها'!K235","v":3},"میزان خم شدن سرشانه در آستین  ",1,1,0,0,1,0,-20,-20,20,20,3,3]
["پهنای ساسون مچ روی درز آستین  α3","(از 0 الی 2)",0.70000000000000007,"بهینه=0.7\nبدون ساسون=1",{"$f":"'طراحی همه الگوها'!K236","v":3},"پهنای ساسون مچ روی درز آستین  ",1,0.9,0,1,-9.9999999999999978E-2,1,0,10.000000000000002,2,-10.000000000000002,0.7,3.0000000000000013]
["میزان روی هم آمدن سرشانه در دو تکه آستین رگلان  α4","(از 0 الی 2)",1,"بهینه=1\nروی هم نمی آید=0",{"$f":"'طراحی همه الگوها'!K237","v":10},"میزان روی هم آمدن سرشانه در دو تکه آستین رگلان  ",1,0.1,0,0,0.1,0,0,0,2,20,1,10]
["زاویه درز روی آستین نسبت به عمود به درجه  α5","(از -20 الی 20)",3,"بهینه=3",{"$f":"'طراحی همه الگوها'!K238","v":3},"زاویه درز روی آستین نسبت به عمود  ",1,1,0,0,{"$f":"(J507-H507)/(I507-G507)","v":1},{"$f":"H507-G507*K507","v":0},-20,-20,20,20,3,3]
["میزان انحنا لبه جلو آستین  α6","(از -20 الی 20)",1,"بهینه=1",{"$f":"'طراحی همه الگوها'!K239","v":1},"میزان انحنا لبه جلو آستین  ",1,1,0,0,{"$f":"(J508-H508)/(I508-G508)","v":1},{"$f":"H508-G508*K508","v":0},-20,-20,20,20,1,1]
["میزان انحنا لبه پشت آستین  α7","(از -20 الی 20)",1,"بهینه=1",{"$f":"'طراحی همه الگوها'!K240","v":1},"میزان انحنا لبه پشت آستین  ",1,1,0,0,1,0,-20,-20,20,20,1,1]
["سهم گشادی مچ آستین بر روی درز  α8","(از 0 الی 1)",0.2,"بهینه=0.2",{"$f":"'طراحی همه الگوها'!K241","v":4},"سهم گشادی مچ آستین بر روی درز  ",1,0.05,0,0,0.05,0,0,0,1,20,0.2,4]
["شیفت افقی تکه جلو آستین رگلان درز دار    به سانتیمتر","(از -100 الی100)",5,"بدون شیفت=0",{"$f":"'طراحی همه الگوها'!K242","v":5},"شیفت افقی تکه جلو آستین رگلان درز دار    به سانتیمتر",1,1,0,0,1,0,null,1,null,100,0]
["شیفت افقی کل آستین رگلان بدون درز   به سانتیمتر","(از -100 الی100)",-4.5,"بدون شیفت=0",{"$f":"'طراحی همه الگوها'!K186","v":-4.5},"شیفت افقی کل آستین رگلان بدون درز   به سانتیمتر",1,1,0,0,{"$f":"(J512-H512)/(I512-G512)","v":1},{"$f":"H512-G512*K512","v":0},null,1,null,100,0]
[]
[" متغیرهای ورودی کلی آستین ساده (بلند یا کوتاه)",null,null,null,null," متغیرهای ورودی کلی آستین ساده (بلند یا کوتاه)","x1","y1","x2","y2(بهینه)","a","b",null,"کمترین",null,"بیشترین"]
["ضریب پهنای مچ در آستین ساده و مچ بلند","(از 0 الی 0.5)",{"$f":"K515*E515+L515","v":0.20000000000000007},"بهینه=0.15",{"$f":"'طراحی مدل 30a'!K324","v":14},"ضریب پهنای مچ در آستین ساده و مچ بلند",11,0.05,10,0,{"$f":"(J515-H515)/(I515-G515)","v":0.05},{"$f":"H515-G515*K515","v":-0.5},0,{"$f":"(M515-L515)/K515","v":10},0.5,{"$f":"(O515-L515)/K515","v":20},0.15,{"$f":"(Q515-L515)/K515","v":13}]
["ضریب گشادی مچ آستین  ζ4","(از 0.1 الی 4)",1.4000000000000004,"اندامی=1",{"$f":"'طراحی مدل 30a'!K320","v":4},"ضریب گشادی مچ آستین  ",1,1.1000000000000001,0,1,0.10000000000000009,1,0.1,-8.9999999999999929,4,29.999999999999975,1,0]
["ضریب بلند یا کوتاه شدن اندازه های طولی در آستین","(از -0.2 الی 0.2)",0,"بدون تغییر=0",{"$f":"'طراحی مدل 30a'!K321","v":0},"ضریب بلند یا کوتاه شدن اندازه های طولی در آستین",1,0.01,0,0,0.01,0,-0.2,-20,0.2,20,0,0]
["ضریب بلندی تاج آستین","(از -1 الی 1)",0,"اندامی=0",{"$f":"'طراحی مدل 30a'!K322","v":0},"ضریب بلندی تاج آستین",1,0.05,0,0,0.05,0,-1,-20,1,20,0,0]
["ضریب گشادی تاج آستین","(از 0 الی 1)",0,"اندامی=0",{"$f":"'طراحی مدل 30a'!K323","v":0},"ضریب گشادی تاج آستین",1,0.05,0,0,0.05,0,0,0,1,20,0,0]
["ضریب کوتاهی آستین  (آستین پفی > 0.6)","(از -0.45 الی 1.7)",0.10000000000000009,"آستین تا مچ=0 \nآستین تا آرنج=1 \nآستین کوتاه بالای آرنج بزرگتر از یک",{"$f":"'طراحی مدل 30a'!K319","v":12},"بلندی پایین آستین",10,0,30,1,0.05,-0.5,-0.45,0.99999999999999978,1.7,44,0.3,16]
["شیفت افقی کل الگو آستین به سانتیمتر","(از -100 الی100)",0,"بدون شیفت=0",{"$f":"'طراحی مدل 30a'!K325","v":0},"شیفت افقی کل الگو آستین (سانتیمتر)",1,1,0,0,1,0,null,1,null,100,0]
["شیفت عمودی کل الگو آستین به سانتیمتر","(از -100 الی100)",{"$f":"K522*E522+L522","v":0},"بدون شیفت=0",{"$f":"'طراحی مدل 30a'!K326","v":0},"شیفت عمودی کل الگو آستین (سانتیمتر)",1,1,0,0,1,0,null,1,null,100,0]
[]
["اطلاعات طول حلقه آستین و طول تاج آستین",null,null,null,null,"اطلاعات طول حلقه آستین و طول تاج آستین"]
["طول کل حلقه آستین با اپل",{"$f":"محاسبات!BL538","v":51.1},null,null,null,"طول کل حلقه آستین با اپل (سانتیمتر)"]
["طول کل حلقه آستین با ساسون",{"$f":"محاسبات!BL539","v":49.3},null,null,null,"طول کل حلقه آستین با ساسون (سانتیمتر)"]
["طول کل حلقه آستین بدون ساسون",{"$f":"محاسبات!BL540","v":55.6},null,null,null,"طول کل حلقه آستین بدون ساسون (سانتیمتر)"]
["طول حلقه آستین مدل 85",{"$f":"محاسبات!BL541","v":51.9},null,null,null,"طول حلقه آستین مدل 85  (سانتیمتر)"]
["طول حلقه آستین مدل 83 کت مردانه",{"$f":"محاسبات!BL542","v":48.4},null,null,null,"طول حلقه آستین مدل 83 کت مردانه  (سانتیمتر)"]
["طول تاج آستین کتی",{"$f":"محاسبات!BL543","v":56.4},null,null,null,"طول تاج آستین کتی (سانتیمتر)"]
["طول تاج آستین ساده",{"$f":"محاسبات!BL544","v":56.5},null,null,null,"طول تاج آستین ساده (سانتیمتر) "]
[]
[" متغیرهای ورودی- جادکمه آستین بلند یا کوتاه",null,null,null,null," متغیرهای ورودی- جادکمه آستین بلند یا کوتاه","x1","y1","x2","y2(بهینه)","a","b",null,"کمترین",null,"بیشترین"]
["ضریب طول مستطیل ","(از 0 الی 0.5)",{"$f":"K534*E534+L534","v":0.35000000000000003},"بهینه=0.35",{"$f":"'طراحی همه الگوها'!K204","v":7},"ضریب طول مستطیل ",1,0.05,0,0,{"$f":"(J534-H534)/(I534-G534)","v":0.05},{"$f":"H534-G534*K534","v":0},0,{"$f":"(M534-L534)/K534","v":0},0.5,{"$f":"(O534-L534)/K534","v":10},0.35,{"$f":"(Q534-L534)/K534","v":6.9999999999999991}]
["ضریب عرض مستطیل ","(از 0 الی 0.4)",{"$f":"K535*E535+L535","v":0.25},"بهینه=0.25",{"$f":"'طراحی همه الگوها'!K205","v":5},"ضریب عرض مستطیل ",1,0.05,0,0,{"$f":"(J535-H535)/(I535-G535)","v":0.05},{"$f":"H535-G535*K535","v":0},0,{"$f":"(M535-L535)/K535","v":0},0.4,{"$f":"(O535-L535)/K535","v":8},0.25,{"$f":"(Q535-L535)/K535","v":5}]
[]
[" متغیرهای ورودی - مچ آستین",null,null,null,null," متغیرهای ورودی - مچ آستین","x1","y1","x2","y2(بهینه)","a","b",null,"کمترین",null,"بیشترین"]
["انتخاب مچ اندامی=1        انتخاب مچ مستطیل یا مچ پفی=0","0 یا 1 ",{"$f":"K538*E538+L538","v":0},null,{"$f":"'طراحی مدل 30a'!K333","v":1},"انتخاب مچ اندامی=2        انتخاب مچ مستطیل یا مچ پفی=1",1,0,2,1,{"$f":"(J538-H538)/(I538-G538)","v":1},{"$f":"H538-G538*K538","v":-1},0,{"$f":"(M538-L538)/K538","v":1},1,{"$f":"(O538-L538)/K538","v":2},0,{"$f":"(Q538-L538)/K538","v":1}]
["ضریب گشادی بالای مچ  z3","(از 0.8 الی 3)",1.8000000000000007,"اندامی=1",{"$f":"'طراحی مدل 30a'!K334","v":8},"ضریب گشادی بالای مچ  ",1,1.1000000000000001,0,1,0.10000000000000009,1,0.8,{"$f":"(M539-L539)/K539","v":-1.9999999999999978},3,{"$f":"(O539-L539)/K539","v":19.999999999999982},1,{"$f":"(Q539-L539)/K539","v":0}]
["ضریب گشادی پایین مچ یا مچ مستطیل یا مچ پفی  z4","(از 0.8 الی 3)",1.2000000000000002,"اندامی=1",{"$f":"'طراحی مدل 30a'!K335","v":2},"ضریب گشادی پایین مچ یا مچ مستطیل یا مچ پفی  ",1,1.1000000000000001,0,1,0.10000000000000009,1,0.8,{"$f":"(M540-L540)/K540","v":-1.9999999999999978},3,{"$f":"(O540-L540)/K540","v":19.999999999999982},1,{"$f":"(Q540-L540)/K540","v":0}]
["ضریب ارتفاع بالای مچ    z5","(از 0 الی 1.7)",0.35000000000000009,"ارتفاع تا مچ دست =0 \nارتفاع تا آرنج=1 \nارتفاع بالای آرنج بزرگتر از یک",{"$f":"'طراحی مدل 30a'!K336","v":17},"ضریب ارتفاع بالای مچ    ",10,0,30,1,0.05,-0.5,0,{"$f":"(M541-L541)/K541","v":10},1.7,{"$f":"(O541-L541)/K541","v":44},1,{"$f":"(Q541-L541)/K541","v":30}]
["ضریب ارتفاع پایین مچ   z6","(از 0 الی 1.7)",0,"ارتفاع تا مچ دست =0 \nارتفاع تا آرنج=1 \nارتفاع بالای آرنج بزرگتر از یک",{"$f":"'طراحی مدل 30a'!K337","v":10},"ضریب ارتفاع پایین مچ   ",10,0,30,1,0.05,-0.5,0,{"$f":"(M542-L542)/K542","v":10},1.7,{"$f":"(O542-L542)/K542","v":44},1,{"$f":"(Q542-L542)/K542","v":30}]
["شیفت افقی مچ  به سانتیمتر   z7","(از -100 الی100)",0,"بدون شیفت=0",{"$f":"'طراحی مدل 30a'!K338","v":0},"شیفت افقی مچ  (سانتیمتر)   ",1,1,0,0,1,0,null,1,null,100,0]
["شیفت عمودی مچ  به سانتیمتر  z8","(از -100 الی100)",0,"بدون شیفت=0",{"$f":"'طراحی مدل 30a'!K339","v":0},"شیفت عمودی مچ  (سانتیمتر)  ",1,1,0,0,1,0,null,1,null,100,0]
[]
[" متغیرهای ورودی - آستر مچ آستین",null,null,null,null," متغیرهای ورودی - آستر مچ آستین","x1","y1","x2","y2(بهینه)","a","b",null,"کمترین",null,"بیشترین"]
["انتخاب مچ اندامی=1        انتخاب مچ مستطیل یا مچ پفی=0","0 یا 1 ",{"$f":"K547*E547+L547","v":1},null,{"$f":"'طراحی همه الگوها'!K217","v":2},"انتخاب مچ اندامی=2        انتخاب مچ مستطیل یا مچ پفی=1",1,0,2,1,{"$f":"(J547-H547)/(I547-G547)","v":1},{"$f":"H547-G547*K547","v":-1},0,{"$f":"(M547-L547)/K547","v":1},1,{"$f":"(O547-L547)/K547","v":2},0,{"$f":"(Q547-L547)/K547","v":1}]
["ضریب گشادی بالای مچ  z3","(از 0.8 الی 3)",1.5000000000000004,"اندامی=1",{"$f":"'طراحی همه الگوها'!K218","v":5},"ضریب گشادی بالای مچ  ",1,1.1000000000000001,0,1,0.10000000000000009,1,0.8,{"$f":"(M548-L548)/K548","v":-1.9999999999999978},3,{"$f":"(O548-L548)/K548","v":19.999999999999982},1,{"$f":"(Q548-L548)/K548","v":0}]
["ضریب گشادی پایین مچ یا مچ مستطیل یا مچ پفی  z4","(از 0.8 الی 3)",1.8000000000000007,"اندامی=1",{"$f":"'طراحی همه الگوها'!K219","v":8},"ضریب گشادی پایین مچ یا مچ مستطیل یا مچ پفی  ",1,1.1000000000000001,0,1,0.10000000000000009,1,0.8,{"$f":"(M549-L549)/K549","v":-1.9999999999999978},3,{"$f":"(O549-L549)/K549","v":19.999999999999982},1,{"$f":"(Q549-L549)/K549","v":0}]
["ضریب ارتفاع بالای مچ    z5","(از 0 الی 1.7)",1,"ارتفاع تا مچ دست =0 \nارتفاع تا آرنج=1 \nارتفاع بالای آرنج بزرگتر از یک",{"$f":"'طراحی همه الگوها'!K220","v":30},"ضریب ارتفاع بالای مچ    ",10,0,30,1,0.05,-0.5,0,{"$f":"(M550-L550)/K550","v":10},1.7,{"$f":"(O550-L550)/K550","v":44},1,{"$f":"(Q550-L550)/K550","v":30}]
["ضریب ارتفاع پایین مچ   z6","(از 0 الی 1.7)",0.25,"ارتفاع تا مچ دست =0 \nارتفاع تا آرنج=1 \nارتفاع بالای آرنج بزرگتر از یک",{"$f":"'طراحی همه الگوها'!K221","v":15},"ضریب ارتفاع پایین مچ   ",10,0,30,1,0.05,-0.5,0,{"$f":"(M551-L551)/K551","v":10},1.7,{"$f":"(O551-L551)/K551","v":44},1,{"$f":"(Q551-L551)/K551","v":30}]
["شیفت افقی آستر مچ  به سانتیمتر   z7","(از -100 الی100)",0,"بدون شیفت=0",{"$f":"'طراحی همه الگوها'!K222","v":0},"شیفت افقی آستر مچ  (سانتیمتر)   ",1,1,0,0,1,0,null,1,null,100,0]
["شیفت عمودی آستر مچ  به سانتیمتر  z8","(از -100 الی100)",0,"بدون شیفت=0",{"$f":"'طراحی همه الگوها'!K223","v":0},"شیفت عمودی آستر مچ  (سانتیمتر)  ",1,1,0,0,1,0,null,1,null,100,0]
[]
[" متغیرهای ورودی آستین لاله ای",null,null,null,null," متغیرهای ورودی آستین لاله ای","x1","y1","x2","y2(بهینه)","a","b",null,"کمترین",null,"بیشترین"]
["ضریب قرارگیری نقطه بالای جلو انحنا آستین  q20 ","(از 0 الی 1)",{"$f":"K556*E556+L556","v":0.4},"نقطه بالا روی سرشانه=0 \nنقطه بالا زیر بغل=1 ",{"$f":"'طراحی همه الگوها'!K245","v":20},"ضریب قرارگیری نقطه بالای جلو انحنا آستین   ",19,0.35,20,0.4,{"$f":"(J556-H556)/(I556-G556)","v":5.0000000000000044E-2},{"$f":"H556-G556*K556","v":-0.60000000000000087},0,{"$f":"(M556-L556)/K556","v":12.000000000000007},1,{"$f":"(O556-L556)/K556","v":31.999999999999993},1,{"$f":"(Q556-L556)/K556","v":31.999999999999993}]
["ضریب قرارگیری نقطه بالای پشت انحنا آستین  q'20 ","(از 0 الی 1)",0.30000000000000004,"نقطه بالا روی سرشانه=0 \nنقطه بالا زیر بغل=1 ",{"$f":"'طراحی همه الگوها'!K246","v":20},"ضریب قرارگیری نقطه بالای پشت انحنا آستین   ",19,0.25,20,0.3,4.9999999999999989E-2,-0.69999999999999973,0,13.999999999999998,1,34,1,34]
["ضریب قرارگیری نقطه پایین جلو انحنا آستین  q21 ","(از 0 الی 1)",0.7,"نقطه پایین وسط آستین=0 \nنقطه پایین روی خط پهلو=1 ",{"$f":"'طراحی همه الگوها'!K247","v":20},"ضریب قرارگیری نقطه پایین جلو انحنا آستین   ",19,0.65,20,0.7,4.9999999999999933E-2,-0.29999999999999871,0,5.9999999999999822,1,26.000000000000011,1,26.000000000000011]
["ضریب قرارگیری نقطه پایین پشت انحنا آستین  q'21 ","(از 0 الی 1)",0.7,"نقطه پایین وسط آستین=0 \nنقطه پایین روی خط پهلو=1 ",{"$f":"'طراحی همه الگوها'!K248","v":20},"ضریب قرارگیری نقطه پایین پشت انحنا آستین   ",19,0.65,20,0.7,4.9999999999999933E-2,-0.29999999999999871,0,5.9999999999999822,1,26.000000000000011,2,46.000000000000043]
["ضریب انحنا جلو  q22 ","(از -0.5 الی 0.5)",0.15000000000000013,"خط محدب =+ \nخط صاف =0 \nخط مقعر= - ",{"$f":"'طراحی همه الگوها'!K249","v":23},"ضریب انحنا جلو   ",21,0.05,20,0,0.05,-1,-0.5,10,0.5,30,0.15,22.999999999999996]
["ضریب انحنا پشت  q'22 ","(از -0.5 الی 0.5)",0.15000000000000013,"خط محدب =+ \nخط صاف =0 \nخط مقعر= - ",{"$f":"'طراحی همه الگوها'!K250","v":23},"ضریب انحنا پشت   ",21,0.05,20,0,0.05,-1,-0.5,10,0.5,30,0.15,22.999999999999996]
[]
["متغیرهای ورودی آستین کتی",null,null,null,null,"متغیرهای ورودی آستین کتی","x1","y1","x2","y2(بهینه)","a","b",null,"کمترین",null,"بیشترین"]
["میزان خمیدگی آستین کتی - زاویه به درجه  ζ2","(از 0 الی 7)",{"$f":"K564*E564+L564","v":3},"بهینه=3",{"$f":"'طراحی همه الگوها'!K198","v":3},"میزان خمیدگی آستین کتی - زاویه به درجه  ",1,1,0,0,{"$f":"(J564-H564)/(I564-G564)","v":1},{"$f":"H564-G564*K564","v":0},0,{"$f":"(M564-L564)/K564","v":0},7,{"$f":"(O564-L564)/K564","v":7},3,{"$f":"(Q564-L564)/K564","v":3}]
["ضریب طول مستطیل جادکمه کتی","(از 0.01 الی 0.5)",{"$f":"K565*E565+L565","v":0.4},"بهینه=0.4",{"$f":"'طراحی همه الگوها'!K199","v":20},"ضریب طول مستطیل جادکمه کتی",1,0.02,0,0,{"$f":"(J565-H565)/(I565-G565)","v":0.02},{"$f":"H565-G565*K565","v":0},0.01,{"$f":"(M565-L565)/K565","v":0.5},0.5,{"$f":"(O565-L565)/K565","v":25},0.4,{"$f":"(Q565-L565)/K565","v":20}]
["ضریب عرض مستطیل جادکمه کتی","(از 0 الی 0.5)",{"$f":"K566*E566+L566","v":0.3},"بهینه=0.3",{"$f":"'طراحی همه الگوها'!K200","v":15},"ضریب عرض مستطیل جادکمه کتی",1,0.02,0,0,{"$f":"(J566-H566)/(I566-G566)","v":0.02},{"$f":"H566-G566*K566","v":0},0,{"$f":"(M566-L566)/K566","v":0},0.5,{"$f":"(O566-L566)/K566","v":25},0.3,{"$f":"(Q566-L566)/K566","v":15}]
["شیفت افقی تکه جلو آستین کتی به سانتیمتر","(از -100 الی100)",{"$f":"K567*E567+L567","v":0},"بهینه=دلخواه",{"$f":"'طراحی همه الگوها'!K201","v":0},"شیفت افقی تکه جلو آستین کتی (سانتیمتر)",1,1,0,0,{"$f":"(J567-H567)/(I567-G567)","v":1},{"$f":"H567-G567*K567","v":0},null,1,null,100,0]
[]
[" متغیر ورودی آستین کلوش :",null,null,null,null," متغیر ورودی آستین کلوش :","x1","y1","x2","y2(بهینه)","a","b",null,"کمترین",null,"بیشترین"]
["بلندی آستین","(از 0 الی 1)",{"$f":"K570*E570+L570","v":0.39999999999999991},"بدون بلندی=0 \nآستین تا مچ=1 ",{"$f":"'طراحی همه الگوها'!K226","v":30},"بلندی پایین آستین کلوش",30,0.4,10,1,{"$f":"(J570-H570)/(I570-G570)","v":-0.03},{"$f":"H570-G570*K570","v":1.2999999999999998},0,{"$f":"(M570-L570)/K570","v":43.333333333333329},1,{"$f":"(O570-L570)/K570","v":9.9999999999999947},1,{"$f":"(Q570-L570)/K570","v":9.9999999999999947}]
["زاویه اوزمان آستین (برحسب درجه)","(از 0 الی 30)",{"$f":"K571*E571+L571","v":15},"بدون کلوش=0 \nبهینه=15 ",{"$f":"'طراحی همه الگوها'!K227","v":15}," اوزمان آستین کلوش ",1,1,0,0,{"$f":"(J571-H571)/(I571-G571)","v":1},{"$f":"H571-G571*K571","v":0},0,{"$f":"(M571-L571)/K571","v":0},30,{"$f":"(O571-L571)/K571","v":30},15,{"$f":"(Q571-L571)/K571","v":15}]
[]
[" متغیر ورودی آستین کلوش معکوس :",null,null,null,null," متغیر ورودی آستین کلوش معکوس :","x1","y1","x2","y2(بهینه)","a","b",null,"کمترین",null,"بیشترین"]
["بلندی آستین","(از 0 الی 1)",{"$f":"K574*E574+L574","v":0.39999999999999991},"بدون بلندی=0 \nآستین تا مچ=1 ",{"$f":"'طراحی همه الگوها'!K230","v":30},"بلندی پایین آستین کلوش معکوس",30,0.4,10,1,{"$f":"(J574-H574)/(I574-G574)","v":-0.03},{"$f":"H574-G574*K574","v":1.2999999999999998},0,{"$f":"(M574-L574)/K574","v":43.333333333333329},1,{"$f":"(O574-L574)/K574","v":9.9999999999999947},1,{"$f":"(Q574-L574)/K574","v":9.9999999999999947}]
["زاویه اوزمان آستین (برحسب درجه)","(از 0 الی 10)",{"$f":"K575*E575+L575","v":5},"بدون کلوش=0 \nبهینه=5 ",{"$f":"'طراحی همه الگوها'!K231","v":5}," اوزمان آستین کلوش معکوس ",1,1,0,0,{"$f":"(J575-H575)/(I575-G575)","v":1},{"$f":"H575-G575*K575","v":0},0,{"$f":"(M575-L575)/K575","v":0},10,{"$f":"(O575-L575)/K575","v":10},5,{"$f":"(Q575-L575)/K575","v":5}]
["متغیرهای ورودی شلوار",null,null,null,null,"متغیرهای ورودی شلوار"]
[]
[" متغیرهای ورودی کلی شلوار",null,null,null,null," متغیرهای ورودی کلی شلوار","x1","y1","x2","y2(بهینه)","a","b",null,"کمترین",null,"بیشترین"]
["ضریب گشاد یا تنگ شدن اندازه های عرضی در شلوار   t4 ","(از -0.2 الی 0.3)",{"$f":"K579*E579+L579","v":-0.05},"اندامی=0\nرکاب دار= - 0.15",{"$f":"'طراحی همه الگوها'!N177","v":-5},"ضریب گشاد یا تنگ شدن اندازه های عرضی در شلوار    ",1,0.01,0,0,{"$f":"(J579-H579)/(I579-G579)","v":0.01},{"$f":"H579-G579*K579","v":0},-0.2,{"$f":"(M579-L579)/K579","v":-20},0.3,{"$f":"(O579-L579)/K579","v":30},-0.15,{"$f":"(Q579-L579)/K579","v":-15}]
["ضریب گشاد یا تنگ شدن اندازه های طولی در شلوار   t41 ","(از -0.2 الی 0.2)",0,"اندامی=0\nرکاب دار= - 0.07",{"$f":"'طراحی همه الگوها'!N178","v":0},"ضریب گشاد یا تنگ شدن اندازه های طولی در شلوار    ",1,0.01,0,0,0.01,0,-0.2,-20,0.2,20,-7.0000000000000007E-2,-7.0000000000000009]
["ضریب کوتاهی لبه شلوار تا زمین  (قد شلوار)   t1","(از -0.1 الی 1.8)",0,"خط زمین=0 \nخط زانو=1 \nخط باسن = 2",{"$f":"'طراحی همه الگوها'!N179","v":10},"ضریب کوتاهی پایین شلوار  (قد شلوار)   ",10,0,30,1,0.05,-0.5,-0.1,8,1.8,45.999999999999993,1,30]
["ضریب گشادی پاچه شلوار t2","(از 0.8 الی 3)",1.5000000000000004,"بهینه=1.6",{"$f":"'طراحی همه الگوها'!N180","v":10},"ضریب گشادی پاچه شلوار ",1,1.05,0,1,5.0000000000000044E-2,1,0.8,-3.9999999999999956,3,39.999999999999964,1.6,11.999999999999991]
["ضریب گشادی دور زانو t3","(از 0.8 الی 2)",1.2000000000000002,"بهینه=1.2",{"$f":"'طراحی همه الگوها'!N181","v":4},"ضریب گشادی دور زانو ",1,1.05,0,1,5.0000000000000044E-2,1,0.8,-3.9999999999999956,2,19.999999999999982,1.2,3.9999999999999956]
["ضریب عرض زیپ  t14 ","(از 0 الی 0.5)",0.30000000000000004,"بهینه=0.3",{"$f":"'طراحی همه الگوها'!N182","v":6},"ضریب عرض زیپ   ",1,0.05,0,0,0.05,0,0,0,0.5,10,0.3,5.9999999999999991]
["شیفت افقی کل الگو جلو شلوار (به سانتیمتر)  x1","(از -100 الی100)",6,"بهینه=دلخواه",{"$f":"'طراحی همه الگوها'!N183","v":6},"شیفت افقی کل الگو جلو شلوار (سانتیمتر)  ",1,1,0,0,1,0,-100,-100,100,100]
["شیفت عمودی کل الگو جلو شلوار (به سانتیمتر)  y1","(از -100 الی100)",0,"بهینه=دلخواه",{"$f":"'طراحی همه الگوها'!N184","v":0},"شیفت عمودی کل الگو جلو شلوار (سانتیمتر)  ",1,1,0,0,1,0,-100,-100,100,100]
["شیفت افقی کل الگو پشت شلوار (به سانتیمتر)  xp1","(از -100 الی100)",5,"بهینه=دلخواه",{"$f":"'طراحی همه الگوها'!N185","v":5},"شیفت افقی کل الگو پشت شلوار (سانتیمتر)  ",1,1,0,0,1,0,-100,-100,100,100]
["شیفت عمودی کل الگو پشت شلوار (به سانتیمتر)  yp1","(از -100 الی100)",0,"بهینه=دلخواه",{"$f":"'طراحی همه الگوها'!N186","v":0},"شیفت عمودی کل الگو پشت شلوار (سانتیمتر)  ",1,1,0,0,1,0,-100,-100,100,100]
[]
[" متغیرهای ورودی - شلوار متصل به بالاتنه",null,null,null,null," متغیرهای ورودی - شلوار متصل به بالاتنه","x1","y1","x2","y2(بهینه)","a","b",null,"کمترین",null,"بیشترین"]
[" ضریب بلند شدن فاق در شلوار متصل به بالاتنه   t53 ","(از 0 الی 4)",{"$f":"K591*E591+L591","v":0},"بهینه شلوار متصل به بالاتنه=1\nغیر از آن= 0",{"$f":"'طراحی همه الگوها'!N205","v":10}," ضریب بلند شدن فاق در شلوار متصل به بالاتنه    ",11,0.1,10,0,{"$f":"(J591-H591)/(I591-G591)","v":0.1},{"$f":"H591-G591*K591","v":-1},0,{"$f":"(M591-L591)/K591","v":10},4,{"$f":"(O591-L591)/K591","v":50},1,{"$f":"(Q591-L591)/K591","v":20}]
["ضریب بزرگی پهنای جادکمه پهلو","(از 0 الی 0.1)",{"$f":"K592*E592+L592","v":0.04},"بهینه=0.04",{"$f":"'طراحی همه الگوها'!N206","v":4},"ضریب بزرگی پهنای جادکمه پهلو",1,0.01,0,0,{"$f":"(J592-H592)/(I592-G592)","v":0.01},{"$f":"H592-G592*K592","v":0},0,{"$f":"(M592-L592)/K592","v":0},0.1,{"$f":"(O592-L592)/K592","v":10},0.04,{"$f":"(Q592-L592)/K592","v":4}]
[]
[" متغیرهای ورودی کمر شلوار",null,null,null,null," متغیرهای ورودی کمر شلوار","x1","y1","x2","y2(بهینه)","a","b",null,"کمترین",null,"بیشترین"]
[" پایین آمدن کمر لباس نسبت به کمر اندام به سانتیمتر  t7","(از -2 الی 10)",{"$f":"K595*E595+L595","v":5},"پهنای کش=2الی3  ",{"$f":"'طراحی همه الگوها'!N196","v":-5}," پایین آمدن کمر شلوار نسبت به کمر اندام   ",1,-1,0,0,{"$f":"(J595-H595)/(I595-G595)","v":-1},{"$f":"H595-G595*K595","v":0},-2,{"$f":"(M595-L595)/K595","v":2},10,{"$f":"(O595-L595)/K595","v":-10},2,{"$f":"(Q595-L595)/K595","v":-2}]
[" پهنای کمر شلوار به سانتیمتر  t8","(از 0 الی 10)",3.5,"پهنای کش=2الی3  ",{"$f":"'طراحی همه الگوها'!N197","v":3.5}," پهنای کمر جدا در شلوار  (cm) ",1,1,0,0,1,0,0,0,10,10,2,{"$f":"(Q596-L596)/K596","v":2}]
["کوتاهی جلو کمر شلوار به سانتیمتر t9","(از -2 الی 10)",0,"بدون کوتاهی=0",{"$f":"'طراحی همه الگوها'!N198","v":0},"کوتاهی جلو کمر شلوار نسبت به پشت کمر شلوار (cm) ",1,-1,0,0,-1,0,-2,2,10,-10,0,{"$f":"(Q597-L597)/K597","v":0}]
["شیفت افقی  جلو کمر شلوار (به سانتیمتر)  t49","(از -100 الی100)",0,"بهینه=دلخواه",{"$f":"'طراحی همه الگوها'!N199","v":0},"شیفت افقی  جلو کمر شلوار (سانتیمتر)  ",1,1,0,0,1,0,-100,-100,100,100]
["شیفت عمودی  جلو کمر شلوار (به سانتیمتر)  t50","(از -100 الی100)",5,"بهینه=دلخواه",{"$f":"'طراحی همه الگوها'!N200","v":5},"شیفت عمودی  جلو کمر شلوار (سانتیمتر)  ",1,1,0,0,1,0,-100,-100,100,100]
["شیفت افقی  پشت کمر شلوار (به سانتیمتر)  t51","(از -100 الی100)",0,"بهینه=دلخواه",{"$f":"'طراحی همه الگوها'!N201","v":0},"شیفت افقی  پشت کمر شلوار (سانتیمتر)  ",1,1,0,0,1,0,-100,-100,100,100]
["شیفت عمودی  پشت کمر شلوار (به سانتیمتر)  t52","(از -100 الی100)",5,"بهینه=دلخواه",{"$f":"'طراحی همه الگوها'!N202","v":5},"شیفت عمودی  پشت کمر شلوار (سانتیمتر)  ",1,1,0,0,1,0,-100,-100,100,100]
[]
["اطلاعات شلوار و اندام",null,null,null,null,"اطلاعات شلوار و اندام"]
["گشادی لبه شلوار (محاسبه شده)",{"$f":"ROUND(محاسبات!W568-محاسبات!W567+محاسبات!AG568-محاسبات!AG567,1)","v":41},null,null,null,"گشادی لبه شلوار (سانتیمتر) (محاسبه شده)"]
["دور کمر (اندازه گیری شده)",{"$f":"'متغیرها '!U52","v":97},null,null,null,"دور کمر (سانتیمتر) (اندازه گیری شده)"]
["طول کش برای کل کمر شلوار (محاسبه شده)",{"$f":"ROUND(0.8*B605,1)","v":77.599999999999994},null,null,null,"طول کش برای کل کمر شلوار (سانتیمتر) (محاسبه شده)"]
["طول کش برای پشت کمر بین دو خط پهلو (محاسبه شده)",{"$f":"ROUND(0.8*'متغیرها '!U53,1)","v":35.700000000000003},null,null,null,"طول کش برای پشت کمر بین دو خط پهلو (سانتیمتر) (محاسبه شده)"]
["طول کش از ساسون جلو - پشت - تا ساسون دیگر جلو (محاسبه شده)",{"$f":"ROUND(0.8*('متغیرها '!U53+0.3*('متغیرها '!U52-'متغیرها '!U53)),1)","v":48.3},null,null,null,"طول کش از ساسون جلو - پشت - تا ساسون دیگر جلو (سانتیمتر) (محاسبه شده)"]
[]
[" متغیرهای ورودی جزئی شلوار",null,null,null,null," متغیرهای ورودی جزئی شلوار","x1","y1","x2","y2(بهینه)","a","b",null,"کمترین",null,"بیشترین"]
["ضریب گشادی دور ران یا نسبت گشادی پشت پاچه به جلو پاچه  t5","(از 1 الی 1.5)",{"$f":"K611*E611+L611","v":1.2},"بهینه=1.2",{"$f":"'طراحی همه الگوها'!N209","v":1.2},"ضریب گشادی دور ران یا نسبت گشادی پشت پاچه به جلو پاچه  ",2,2,1,1,{"$f":"(J611-H611)/(I611-G611)","v":1},{"$f":"H611-G611*K611","v":0},1,{"$f":"(M611-L611)/K611","v":1},1.5,{"$f":"(O611-L611)/K611","v":1.5},1.2,{"$f":"(Q611-L611)/K611","v":1.2}]
["زاویه خط پهلو جلو به درجه  t6","(از 0 الی 10)",-1,"بهینه=7\nبهينه پا پرانتزی=4\nکد برای اعمال روش مولر= -1",{"$f":"IF('طراحی همه الگوها'!N210=AN170,-1,'طراحی همه الگوها'!N210)","v":-1},"زاویه خط پهلو جلو به درجه  ",1,1,0,0,1,0,0,0,10,10,7,7]
["ضریب پهنای صافی لبه پایین شلوار  t10 ","(از 0 الی 0.5)",0,"بهینه=0.1",{"$f":"'طراحی همه الگوها'!N211","v":0},"ضریب پهنای صافی لبه پایین شلوار   ",1,0.05,0,0,0.05,0,0,0,0.5,10,0.1,2]
["ضریب بالا یا پایین رفتن خط زانو  t11 ","(از -0.4 الی 0.6)",0,"بدون تغییر=0\nمنفی به سمت بالای زانو\nمثبت به سمت پایین زانو",{"$f":"'طراحی همه الگوها'!N212","v":0},"ضریب بالا یا پایین رفتن خط زانو   ",-1,0.05,0,0,-0.05,0,-0.4,8,0.6,-11.999999999999998,0,0]
["ضریب پهنای فاق جلو (در روش مولر این ضریب ثابت مساوی 0.06 می باشد)  t12 ","(از 0.03 الی 0.08)",0.05,"بهینه=0.05",{"$f":"'طراحی همه الگوها'!N213","v":5},"ضریب پهنای فاق جلو (در روش مولر این ضریب ثابت مساوی 0.06 می باشد)   ",1,0.01,0,0,0.01,0,0.03,3,0.08,8,0.05,5]
["تغییر زاویه خط وسط پا در پشت شلوار  t13 ","(از 0 الی 5)",1,"بهینه=1",{"$f":"'طراحی همه الگوها'!N214","v":2},"تغییر زاویه خط وسط پا در پشت شلوار   ",1,0.5,0,0,0.5,0,0,0,5,10,1,2]
["ضریب کوتاه شدن ساسون پشت شلوار  t20 ","(از 0.07 الی 1.5)",1,"بهینه=1",{"$f":"'طراحی همه الگوها'!N215","v":20},"ضریب کوتاه شدن ساسون پشت شلوار   ",1,0.05,0,0,0.05,0,7.0000000000000007E-2,1.4000000000000001,1.5,30,1,20]
["ضریب کوتاه شدن ساسون جلو شلوار  t21 ","(از 0.1 الی 1.5)",1,"بهینه=1",{"$f":"'طراحی همه الگوها'!N216","v":20},"ضریب کوتاه شدن ساسون جلو شلوار   ",1,0.05,0,0,0.05,0,0.1,2,1.5,30,1,20]
["ضریب پهنای ساسون وسط پشت شلوار  t42 ","(از 0 الی 1.5)",1,"بهینه=1\nبهینه جین=0.5\nحذف ساسون وسط=0",{"$f":"'طراحی همه الگوها'!N217","v":10},"ضریب پهنای ساسون وسط پشت شلوار   ",1,0.1,0,0,0.1,0,0,0,1.5,15,0.5,5]
["ضریب پهنای ساسون پهلو پشت شلوار  t43 ","(از 0 الی 3)",0.5,"بهینه=1\nبهینه جین=1.5\nانتقال ساسون وسط به پهلو=3",{"$f":"'طراحی همه الگوها'!N218","v":5},"ضریب پهنای ساسون پهلو پشت شلوار   ",1,0.1,0,0,0.1,0,0,0,3,30,1,10]
["ضریب پهنای ساسون وسط جلو شلوار  t44 ","(از 0 الی 1.5)",1,"بهینه=1\nحذف ساسون وسط=0",{"$f":"'طراحی همه الگوها'!N219","v":10},"ضریب پهنای ساسون وسط جلو شلوار   ",1,0.1,0,0,0.1,0,0,0,1.5,15,1,10]
["ضریب پهنای ساسون پهلو جلو شلوار  t45 ","(از 0 الی 2)",0.5,"بهینه=1\nانتقال ساسون وسط به پهلو=2",{"$f":"'طراحی همه الگوها'!N220","v":5},"ضریب پهنای ساسون پهلو جلو شلوار   ",1,0.1,0,0,0.1,0,0,0,2,20,1,10]
["ضریب حذف ساسون پهلو در کمر جدا شلوار   t15","(از 0 الی 1)",0,"ساسون حذف شود=0\nساسون حذف نشود=1",{"$f":"'طراحی همه الگوها'!N221","v":0},"ضریب حذف ساسون پهلو در کمر جدا شلوار   ",1,0.1,0,0,{"$f":"(J623-H623)/(I623-G623)","v":0.1},{"$f":"H623-G623*K623","v":0},0,0,1,10,1,10]
[" شبیه ساز   فاق اندازه گیری منهای فاق پشت و جلو",{"$f":"ROUND(محاسبات!L597,1)","v":0.1}]
[" زاویه خط پهلو جلوبه درجه",{"$f":"ROUND(محاسبات!K598,1)","v":7.2}]
[" شبیه ساز   زاویه خط پهلو جلوبه درجه",{"$f":"ROUND(محاسبات!L598,1)","v":10.4}]
["زاویه خط پهلو پشت به درجه",{"$f":"ROUND(محاسبات!K599,1)","v":12.2}]
[" شبیه ساز   زاویه خط پهلو پشت به درجه",{"$f":"ROUND(محاسبات!L599,1)","v":16.399999999999999}]
[]
[" متغیرهای ورودی شلوار - برش پشت جین",null,null,null,null," متغیرهای ورودی شلوار - برش پشت جین","x1","y1","x2","y2(بهینه)","a","b",null,"کمترین",null,"بیشترین"]
["ضریب بالا یا پایین شدن خط برش در قسمت پهلو پشت شلوار جین  t19 ","(از 0.01 الی 1",{"$f":"K631*E631+L631","v":0.5},"بهینه=0.5",{"$f":"'طراحی همه الگوها'!N224","v":20},"ضریب بالا یا پایین شدن خط برش در قسمت پهلو پشت شلوار جین   ",19,0.45,20,0.5,{"$f":"(J631-H631)/(I631-G631)","v":4.9999999999999989E-2},{"$f":"H631-G631*K631","v":-0.49999999999999972},0.01,{"$f":"(M631-L631)/K631","v":10.199999999999996},1,{"$f":"(O631-L631)/K631","v":30.000000000000004},0.5,{"$f":"(Q631-L631)/K631","v":20}]
["ضریب بالا یا پایین شدن خط برش در قسمت مرکزی پشت شلوار جین  t28 ","(از 0.01 الی 1",{"$f":"K632*E632+L632","v":0.6},"بهینه=0.6",{"$f":"'طراحی همه الگوها'!N225","v":20},"ضریب بالا یا پایین شدن خط برش در قسمت مرکزی پشت شلوار جین   ",19,0.55000000000000004,20,0.6,{"$f":"(J632-H632)/(I632-G632)","v":4.9999999999999933E-2},{"$f":"H632-G632*K632","v":-0.39999999999999869},0.01,{"$f":"(M632-L632)/K632","v":8.1999999999999851},1,{"$f":"(O632-L632)/K632","v":28.000000000000011},0.6,{"$f":"(Q632-L632)/K632","v":20}]
[]
[" متغیرهای ورودی دامن شلواری",null,null,null,null," متغیرهای ورودی دامن شلواری","x1","y1","x2","y2(بهینه)","a","b",null,"کمترین",null,"بیشترین"]
[" ضریب بلند شدن فاق در دامن شلواری   t46 ","(از 0 الی 2)",{"$f":"K635*E635+L635","v":0},"بهینه دامن شلواری=1\nغیر از دامن شلواری = 0",{"$f":"'طراحی همه الگوها'!N228","v":10}," ضریب بلند شدن فاق در دامن شلواری    ",11,0.1,10,0,{"$f":"(J635-H635)/(I635-G635)","v":0.1},{"$f":"H635-G635*K635","v":-1},0,{"$f":"(M635-L635)/K635","v":10},2,{"$f":"(O635-L635)/K635","v":30},1,{"$f":"(Q635-L635)/K635","v":20}]
["زاویه اوزمان در جلو دامن شلواری به درجه    t47 ","(از 0 الی 30)",{"$f":"K636*E636+L636","v":8},"بهینه=8",{"$f":"'طراحی همه الگوها'!N229","v":8},"زاویه اوزمان در جلو دامن شلواری به درجه     ",1,1,0,0,{"$f":"(J636-H636)/(I636-G636)","v":1},{"$f":"H636-G636*K636","v":0},0,{"$f":"(M636-L636)/K636","v":0},30,{"$f":"(O636-L636)/K636","v":30},8,{"$f":"(Q636-L636)/K636","v":8}]
["زاویه اوزمان در پشت دامن شلواری به درجه    t48 ","(از 0 الی 30)",{"$f":"K637*E637+L637","v":8},"بهینه=8",{"$f":"'طراحی همه الگوها'!N230","v":8},"زاویه اوزمان در پشت دامن شلواری به درجه     ",1,1,0,0,{"$f":"(J637-H637)/(I637-G637)","v":1},{"$f":"H637-G637*K637","v":0},0,{"$f":"(M637-L637)/K637","v":0},30,{"$f":"(O637-L637)/K637","v":30},8,{"$f":"(Q637-L637)/K637","v":8}]
[]
[" متغیرهای ورودی شلوار با تکه پهلو جدا",null,null,null,null," متغیرهای ورودی شلوار با تکه پهلو جدا","x1","y1","x2","y2(بهینه)","a","b",null,"کمترین",null,"بیشترین"]
["ضریب پهنای تکه پهلو جلو شلوار  t29 ","(از 0 الی 0.9)",{"$f":"K640*E640+L640","v":0.60000000000000009},"بهینه=0.6",{"$f":"'طراحی همه الگوها'!N233","v":12},"ضریب پهنای تکه پهلو جلو شلوار   ",1,0.05,0,0,{"$f":"(J640-H640)/(I640-G640)","v":0.05},{"$f":"H640-G640*K640","v":0},0,{"$f":"(M640-L640)/K640","v":0},0.9,{"$f":"(O640-L640)/K640","v":18},0.6,{"$f":"(Q640-L640)/K640","v":11.999999999999998}]
["ضریب پهنای تکه پهلو پشت شلوار  t30 ","(از 0 الی 0.9)",0.30000000000000004,"بهینه=0.3",{"$f":"'طراحی همه الگوها'!N234","v":6},"ضریب پهنای تکه پهلو پشت شلوار   ",1,0.05,0,0,0.05,0,0,0,0.9,18,0.3,{"$f":"(Q641-L641)/K641","v":5.9999999999999991}]
["ضریب باریک شدن پایین تکه پهلو جلو شلوار  t31 ","(از 0 الی 4)",0.5,"بهینه=0.5",{"$f":"'طراحی همه الگوها'!N235","v":5},"ضریب باریک شدن پایین تکه پهلو جلو شلوار   ",1,0.1,0,0,0.1,0,0,0,4,40,0.5,{"$f":"(Q642-L642)/K642","v":5}]
["ضریب باریک شدن پایین تکه پهلو پشت شلوار  t32 ","(از 0 الی 4)",0.5,"بهینه=0.5",{"$f":"'طراحی همه الگوها'!N236","v":5},"ضریب باریک شدن پایین تکه پهلو پشت شلوار   ",1,0.1,0,0,0.1,0,0,0,4,40,0.5,{"$f":"(Q643-L643)/K643","v":5}]
["شیفت افقی تکه پهلو شلوار (به سانتیمتر)  t33","(از -100 الی100)",2,"بهینه=3",{"$f":"'طراحی همه الگوها'!N237","v":2},"شیفت افقی تکه پهلو شلوار (سانتیمتر)  ",1,1,0,0,1,0,-100,-100,100,100]
["شیفت عمودی تکه پهلو شلوار (به سانتیمتر)  t34","(از -100 الی100)",0,"بهینه=3",{"$f":"'طراحی همه الگوها'!N238","v":0},"شیفت عمودی تکه پهلو شلوار (سانتیمتر)  ",1,1,0,0,1,0,-100,-100,100,100]
[]
[" متغیرهای ورودی شلوار - رکاب دار",null,null,null,null," متغیرهای ورودی شلوار - رکاب دار","x1","y1","x2","y2(بهینه)","a","b",null,"کمترین",null,"بیشترین"]
["ضریب پهنای رکاب جلو شلوار  t35 ","(از 0.1 الی 2)",{"$f":"K648*E648+L648","v":1},"بهینه=1",{"$f":"'طراحی همه الگوها'!N241","v":20},"ضریب پهنای رکاب جلو شلوار   ",1,0.05,0,0,{"$f":"(J648-H648)/(I648-G648)","v":0.05},{"$f":"H648-G648*K648","v":0},0.1,{"$f":"(M648-L648)/K648","v":2},2,{"$f":"(O648-L648)/K648","v":40},1,{"$f":"(Q648-L648)/K648","v":20}]
["ضریب پهنای رکاب پشت شلوار  t36 ","(از 0.1 الی 2)",1,"بهینه=1",{"$f":"'طراحی همه الگوها'!N242","v":20},"ضریب پهنای رکاب پشت شلوار   ",1,0.05,0,0,0.05,0,0.1,2,2,40,1,20]
["ضریب قله رکاب جلو شلوار  t37 ","(از 0 الی 2)",0,"بهینه=1\nبدون رکاب = 0",{"$f":"'طراحی همه الگوها'!N243","v":0},"ضریب قله رکاب جلو شلوار   ",1,0.05,0,0,0.05,0,0,0,2,40,1,20]
["ضریب قله رکاب پشت شلوار  t38 ","(از 0 الی 2)",0,"بهینه=1\nبدون رکاب = 0",{"$f":"'طراحی همه الگوها'!N244","v":0},"ضریب قله رکاب پشت شلوار   ",1,0.05,0,0,0.05,0,0,0,2,40,1,20]
["ضریب ارتفاع رکاب جلو شلوار  t39 ","(از 0 الی 2)",0,"بهینه=1\nبدون رکاب = 0",{"$f":"'طراحی همه الگوها'!N245","v":0},"ضریب ارتفاع رکاب جلو شلوار   ",1,0.05,0,0,0.05,0,0,0,2,40,1,20]
["ضریب ارتفاع رکاب پشت شلوار  t40 ","(از 0 الی 2)",0,"بهینه=1\nبدون رکاب = 0",{"$f":"'طراحی همه الگوها'!N246","v":0},"ضریب ارتفاع رکاب پشت شلوار   ",1,0.05,0,0,0.05,0,0,0,2,40,1,20]
[]
[" متغیرهای ورودی شلوار - جیب پشت جین",null,null,null,null," متغیرهای ورودی شلوار - جیب پشت جین","x1","y1","x2","y2(بهینه)","a","b",null,"کمترین",null,"بیشترین"]
["ضریب بالا یا پایین شدن جیب پشت شلوار  t22 ","(از 0 الی 4)",{"$f":"K656*E656+L656","v":0.75},"بهینه=0.75",{"$f":"'طراحی همه الگوها'!N255","v":20},"ضریب بالا یا پایین شدن جیب پشت شلوار   ",19,0.7,20,0.75,{"$f":"(J656-H656)/(I656-G656)","v":5.0000000000000044E-2},{"$f":"H656-G656*K656","v":-0.25000000000000089},0,{"$f":"(M656-L656)/K656","v":5.0000000000000133},4,{"$f":"(O656-L656)/K656","v":84.999999999999943},0.75,{"$f":"(Q656-L656)/K656","v":20}]
["زاویه چرخش کل جیب پشت شلوار به درجه t'22 ","(از -90 الی 90)",0,"بهینه=0",{"$f":"'طراحی همه الگوها'!N253","v":45},"زاویه چرخش کل جیب پشت شلوار به درجه  ",46,2,45,0,2,-90,-90,0,90,90,0,45]
["ضریب پهنای جیب پشت شلوار  t23 ","(از 0 الی 1)",0.55000000000000004,"بهینه=0.55",{"$f":"'طراحی همه الگوها'!N249","v":11},"ضریب پهنای جیب پشت شلوار   ",1,0.05,0,0,0.05,0,0,0,1,20,0.55000000000000004,11]
["ضریب ارتفاع جیب پشت شلوار  t24 ","(از 0 الی 1)",0.45,"بهینه=0.45",{"$f":"'طراحی همه الگوها'!N250","v":9},"ضریب ارتفاع جیب پشت شلوار   ",1,0.05,0,0,0.05,0,0,0,1,20,0.45,9]
["زاویه خط پهلو جیب پشت شلوار به درجه t25 ","(از 0 الی 45",5,"بهینه=5",{"$f":"'طراحی همه الگوها'!N251","v":5},"زاویه خط پهلو جیب پشت شلوار به درجه  ",1,1,0,0,1,0,0,0,45,45,5,5]
["زاویه مثلث پایین جیب پشت شلوار به درجه t26 ","(از 0 الی 45)",20,"بهینه=20",{"$f":"'طراحی همه الگوها'!N252","v":20},"زاویه مثلث پایین جیب پشت شلوار به درجه  ",1,1,0,0,1,0,0,0,45,45,20,20]
["چپ و راست رفتن جیب پشت شلوار به سانتی متر   t27 ","(از -100 الی100)",0,"بهینه=0",{"$f":"'طراحی همه الگوها'!N254","v":0},"چپ و راست رفتن جیب پشت شلوار به سانتی متر    ",1,1,0,0,1,0,-100,-100,100,100]
[]
[" متغیرهای ورودی شلوار - جیب جلو مردانه و جین",null,null,null,null," متغیرهای ورودی شلوار - جیب جلو مردانه و جین","x1","y1","x2","y2(بهینه)","a","b",null,"کمترین",null,"بیشترین"]
["ضریب بزرگی عمودی جیب جلو مردانه و جیب جین  t16 ","(از 0.5 الی 1.5)",{"$f":"K665*E665+L665","v":1},"بهینه=1",{"$f":"'طراحی همه الگوها'!N258","v":10},"ضریب بزرگی عمودی جیب جلو مردانه و جیب جین   ",1,0.1,0,0,{"$f":"(J665-H665)/(I665-G665)","v":0.1},{"$f":"H665-G665*K665","v":0},0.5,{"$f":"(M665-L665)/K665","v":5},1.5,{"$f":"(O665-L665)/K665","v":15},1,{"$f":"(Q665-L665)/K665","v":10}]
["ضریب بزرگی افقی جیب جلو مردانه و جیب جین  t17 ","(از 0.5 الی 1.5)",{"$f":"K666*E666+L666","v":1},"بهینه=1",{"$f":"'طراحی همه الگوها'!N259","v":10},"ضریب بزرگی افقی جیب جلو مردانه و جیب جین   ",1,0.1,0,0,{"$f":"(J666-H666)/(I666-G666)","v":0.1},{"$f":"H666-G666*K666","v":0},0.5,{"$f":"(M666-L666)/K666","v":5},1.5,{"$f":"(O666-L666)/K666","v":15},1,{"$f":"(Q666-L666)/K666","v":10}]
["ضریب بزرگی کیسه جیب جلو  t18 ","(از 0.5 الی 1.5)",{"$f":"K667*E667+L667","v":1},"بهینه=1",{"$f":"'طراحی همه الگوها'!N260","v":10},"ضریب بزرگی کیسه جیب جلو   ",1,0.1,0,0,{"$f":"(J667-H667)/(I667-G667)","v":0.1},{"$f":"H667-G667*K667","v":0},0.5,{"$f":"(M667-L667)/K667","v":5},1.5,{"$f":"(O667-L667)/K667","v":15},1,{"$f":"(Q667-L667)/K667","v":10}]
[]
[" متغیرهای ورودی شلوار - جیب جلو درمکان دلخواه",null,null,null,null," متغیرهای ورودی شلوار - جیب جلو درمکان دلخواه","x1","y1","x2","y2(بهینه)","a","b",null,"کمترین",null,"بیشترین"]
["ضریب فاصله افقی وسط جیب از خط مرکزی جلو ","(از 0 الی 1)",{"$f":"K670*E670+L670","v":0.5},"خط مرکزی جلو=0 \nخط پهلو=1  ",{"$f":"'طراحی همه الگوها'!N268","v":10},"ضریب فاصله افقی وسط جیب از خط مرکزی جلو ",20,1,0,0,{"$f":"(J670-H670)/(I670-G670)","v":0.05},{"$f":"H670-G670*K670","v":0},0,{"$f":"(M670-L670)/K670","v":0},1,{"$f":"(O670-L670)/K670","v":20},1,{"$f":"(Q670-L670)/K670","v":20}]
["ضریب فاصله عمودی بالای جیب از زمین ","(از0 الی 5)",2,"خط زمین=0 \nخط زانو=1 \nخط باسن=2 \nخط کمر=3 \nخط سینه=4  ",{"$f":"'طراحی همه الگوها'!N269","v":50},"ضریب فاصله عمودی بالای جیب از زمین ",10,0,30,1,0.05,-0.5,0,10,5,110,1,30]
["عرض پاکت جیب به سانتیمتر","(از 0 الی 4)",2,"بهینه=2",{"$f":"'طراحی همه الگوها'!N263","v":2},"پهنای بلیطی جیب  (سانتیمتر)",1,1,0,0,1,0,0,0,4,4,2,2]
["ضریب طول پاکت جیب","(از 0.01 الی 2)",0.89999999999999991,"بهینه=1",{"$f":"'طراحی همه الگوها'!N264","v":18},"ضریب طول پاکت جیب",19,0.95,20,1,5.0000000000000044E-2,-8.8817841970012523E-16,0.01,0.20000000000001758,2,39.999999999999986,1,20]
["زاویه جیب با عمود به درجه","(از 0 الی 180)",90,"بهینه=دلخواه",{"$f":"'طراحی همه الگوها'!N265","v":18},"زاویه جیب با عمود ",1,5,0,0,5,0,0,0,180,36,20,4]
["زاویه چرخش پاکت جیب از مستطیل به متوازی الاضلاع (به درجه)","(از -90 الی 90)",0,"پاکت مستطیل=0  ",{"$f":"'طراحی همه الگوها'!N266","v":20},"زاویه چرخش پاکت جیب از مستطیل به متوازی الاضلاع ",21,5,20,0,5,-100,-90,2,90,38,0,20]
["انتخاب جیب روکار=1        انتخاب دیگر=0","0 یا 1 ",1,null,{"$f":"'طراحی همه الگوها'!N267","v":2},"انتخاب جیب روکار=2        انتخاب دیگر=1",1,0,2,1,1,-1,0,1,1,2,0,1]
[]
[" متغیرهای ورودی شلوار - جیب پشت درمکان دلخواه",null,null,null,null," متغیرهای ورودی شلوار - جیب پشت درمکان دلخواه","x1","y1","x2","y2(بهینه)","a","b",null,"کمترین",null,"بیشترین"]
["ضریب فاصله افقی وسط جیب از خط مرکزی جلو ","(از 0 الی 1)",{"$f":"K679*E679+L679","v":0.5},"خط مرکزی پشت=0 \nخط پهلو=1  ",{"$f":"'طراحی همه الگوها'!N277","v":10},"ضریب فاصله افقی وسط جیب از خط مرکزی جلو ",20,1,0,0,{"$f":"(J679-H679)/(I679-G679)","v":0.05},{"$f":"H679-G679*K679","v":0},0,{"$f":"(M679-L679)/K679","v":0},1,{"$f":"(O679-L679)/K679","v":20},1,{"$f":"(Q679-L679)/K679","v":20}]
["ضریب فاصله عمودی بالای جیب از زمین ","(از0 الی 5)",2,"خط زمین=0 \nخط زانو=1 \nخط باسن=2 \nخط کمر=3 \nخط سینه=4  ",{"$f":"'طراحی همه الگوها'!N278","v":50},"ضریب فاصله عمودی بالای جیب از زمین ",10,0,30,1,0.05,-0.5,0,10,5,110,1,30]
["عرض پاکت جیب به سانتیمتر","(از 0 الی 4)",2,"بهینه=2",{"$f":"'طراحی همه الگوها'!N272","v":2},"پهنای بلیطی جیب  (سانتیمتر)",1,1,0,0,1,0,0,0,4,4,2,2]
["ضریب طول پاکت جیب","(از 0.01 الی 2)",1,"بهینه=1",{"$f":"'طراحی همه الگوها'!N273","v":20},"ضریب طول پاکت جیب",19,0.95,20,1,5.0000000000000044E-2,-8.8817841970012523E-16,0.01,0.20000000000001758,2,39.999999999999986,1,20]
["زاویه جیب با عمود به درجه","(از 0 الی 180)",90,"بهینه=دلخواه",{"$f":"'طراحی همه الگوها'!N274","v":18},"زاویه جیب با عمود ",1,5,0,0,5,0,0,0,180,36,20,4]
["زاویه چرخش پاکت جیب از مستطیل به متوازی الاضلاع (به درجه)","(از -90 الی 90)",0,"پاکت مستطیل=0  ",{"$f":"'طراحی همه الگوها'!N275","v":20},"زاویه چرخش پاکت جیب از مستطیل به متوازی الاضلاع ",21,5,20,0,5,-100,-90,2,90,38,0,20]
["انتخاب جیب روکار=1        انتخاب دیگر=0","0 یا 1 ",1,null,{"$f":"'طراحی همه الگوها'!N276","v":2},"انتخاب جیب روکار=2        انتخاب دیگر=1",1,0,2,1,1,-1,0,1,1,2,0,1]
["متغیرهای ورودی یقه",null,null,null,null,"متغیرهای ورودی یقه"]
[null,null,"y",null,"x",null,"x1","y1","x2","y2(بهینه)","a","b",null,"کمترین",null,"بیشترین"]
[" متغیرهای ورودی یقه شکاری با پایه",null,null,null,null," متغیرهای ورودی یقه شکاری با پایه"]
["ضریب قد پایه یقه   c20","(از 0.5 الی 2)",{"$f":"K689*E689+L689","v":0.8},"بهینه =0.8",{"$f":"'طراحی مدل 30a'!H348","v":8},"ضریب قد پایه یقه   ",1,0.1,0,0,{"$f":"(J689-H689)/(I689-G689)","v":0.1},{"$f":"H689-G689*K689","v":0},0.5,{"$f":"(M689-L689)/K689","v":5},2,{"$f":"(O689-L689)/K689","v":20},0.8,{"$f":"(Q689-L689)/K689","v":8}]
["ضریب قد پشت برگردان یقه   c1","(از 0.5 الی 3)",2.2000000000000002,"بهینه =2",{"$f":"'طراحی مدل 30a'!H349","v":22},"ضریب قد پشت برگردان یقه   ",1,0.1,0,0,0.1,0,0.5,5,3,30,2,20]
["ضریب کج شدن یقه به سمت گردن   c2","(از- 2 الی 0)",-1.3,"بهینه = - 1.3",{"$f":"'طراحی مدل 30a'!H350","v":-13},"ضریب کج شدن یقه به سمت گردن   ",1,0.1,0,0,0.1,0,-2,-20,0,0,-1.3,-13]
["ضریب قرار گرفتن لبه یقه نسبت به لباس   c3","(از 0.3 الی 1)\n- 1 و ",1,"لبه یقه روی خط جادکمه= - 1\nلبه یقه روی خط سرشانه=0\nلبه یقه روی خط مرکزی جلو=1\nبین خط مرکزی جلو تا سرشانه= \nبین 0 تا 1",{"$f":"IF('طراحی مدل 30a'!H351='متغیرها '!AM170,58,IF('طراحی مدل 30a'!H351='متغیرها '!AM171,0,'طراحی مدل 30a'!H351))","v":0},"ضریب قرار گرفتن لبه یقه نسبت به لباس   ",58,-1,0,1,-3.4482758620689655E-2,1,0.3,20.3,1,0,0.3,20.3]
["زاویه لبه برگردان یقه نسبت به عمود  (به درجه)   c14","(از- 40 الی 60)",15,"بهینه =17 \nلبه برگردان عمود به پایه=0",{"$f":"'طراحی مدل 30a'!H352","v":55},"زاویه لبه برگردان یقه نسبت به عمود    ",1,-39,57,17,1,-40,-40,0,60,100,17,57]
["ضریب قد لبه برگردان یقه   c15","(از0.5 الی 4)",3,"بهینه =2.3",{"$f":"'طراحی مدل 30a'!H353","v":30},"ضریب قد لبه برگردان یقه   ",1,0.1,0,0,0.1,0,0.5,5,4,40,2.2999999999999998,22.999999999999996]
["شیفت افقی پایه یقه  (به سانتیمتر)   c23","(از -100 الی100)",0,"بهینه=دلخواه",{"$f":"'طراحی مدل 30a'!H354","v":0},"شیفت افقی پایه یقه  (سانتیمتر)   ",1,1,0,0,1,0,null,1,null,100,0]
["شیفت عمودی پایه یقه  (به سانتیمتر)  c24","(از -100 الی100)",-5,"بهینه=دلخواه",{"$f":"'طراحی مدل 30a'!H355","v":-5},"شیفت عمودی پایه یقه  (سانتیمتر)  ",1,1,0,0,1,0,null,1,null,100,0]
[]
[" متغیرهای ورودی یقه فرنچی ایستاده و کاسبرگی",null,null,null,null," متغیرهای ورودی یقه فرنچی ایستاده و کاسبرگی","x1","y1","x2","y2(بهینه)","a","b",null,"کمترین",null,"بیشترین"]
["ضریب قد یقه    c1","(از 0.5 الی 2)",{"$f":"K699*E699+L699","v":1},"بهینه فرنچی=1.2\nبهینه ایستاده=1.4\nبهینه کاسبرگی=1.8",{"$f":"'طراحی مدل 30a'!H330","v":10},"ضریب قد یقه    ",1,0.1,0,0,{"$f":"(J699-H699)/(I699-G699)","v":0.1},{"$f":"H699-G699*K699","v":0},0.5,{"$f":"(M699-L699)/K699","v":5},2,{"$f":"(O699-L699)/K699","v":20},1.4,{"$f":"(Q699-L699)/K699","v":13.999999999999998}]
["ضریب کج شدن یقه به سمت گردن   c2","(از -2 الی 2)",{"$f":"K700*E700+L700","v":2},"بهینه فرنچی=1.5\nبهینه ایستاده=0\nبهینه کاسبرگی= - 1\nیقه فرنچی= + \nیقه کاسبرگی= -   ",{"$f":"'طراحی مدل 30a'!H331","v":20},"ضریب کج شدن یقه به سمت گردن  ",1,0.1,0,0,{"$f":"(J700-H700)/(I700-G700)","v":0.1},{"$f":"H700-G700*K700","v":0},-2,{"$f":"(M700-L700)/K700","v":-20},2,{"$f":"(O700-L700)/K700","v":20},-1,{"$f":"(Q700-L700)/K700","v":-10}]
["ضریب قرار گرفتن لبه یقه نسبت به لباس   c3     یقه هفت","(از 0.2 الی 1)\n- 1 و ",{"$f":"K701*E701+L701","v":-1},"لبه یقه روی خط جادکمه= - 1\nلبه یقه روی خط سرشانه=0\nلبه یقه روی خط مرکزی جلو=1\nبین خط مرکزی جلو تا سرشانه= \nبین 0 تا 1\nبهینه یقه هفت=0.2",{"$f":"IF('طراحی مدل 30a'!H332='متغیرها '!AM170,58,IF('طراحی مدل 30a'!H332='متغیرها '!AM171,0,'طراحی مدل 30a'!H332))","v":58},"ضریب قرار گرفتن لبه یقه نسبت به لباس        ",58,-1,0,1,{"$f":"(J701-H701)/(I701-G701)","v":-3.4482758620689655E-2},{"$f":"H701-G701*K701","v":1},0.2,{"$f":"(M701-L701)/K701","v":23.200000000000003},1,{"$f":"(O701-L701)/K701","v":0},-1,{"$f":"(Q701-L701)/K701","v":58}]
["ضریب انحنا لبه یقه  c4","(از 0.2 الی 1.2)",{"$f":"K702*E702+L702","v":0.71333333333333326},"بهینه انحنا=0.9",{"$f":"'طراحی مدل 30a'!H333","v":16},"ضریب انحنا لبه یقه  ",5,0.2,20,0.9,{"$f":"(J702-H702)/(I702-G702)","v":4.6666666666666662E-2},{"$f":"H702-G702*K702","v":-3.3333333333333298E-2},0.2,{"$f":"(M702-L702)/K702","v":5},1.2,{"$f":"(O702-L702)/K702","v":26.428571428571427},0.01,{"$f":"(Q702-L702)/K702","v":0.92857142857142794}]
[]
[" متغیرهای ورودی شیفت افقی یقه",null,null,null,null," متغیرهای ورودی شیفت افقی یقه"]
["شیفت افقی همه یقه های جدا  (به سانتیمتر)   c5","(از -100 الی100)",{"$f":"K705*E705+L705","v":0},"بهینه=دلخواه",{"$f":"'طراحی مدل 30a'!H319","v":0},"شیفت افقی همه یقه های جدا  (سانتیمتر)   ",1,1,0,0,{"$f":"(J705-H705)/(I705-G705)","v":1},{"$f":"H705-G705*K705","v":0},null,1,null,100,0]
["شیفت عمودی همه یقه های جدا  (به سانتیمتر)  c6","(از -100 الی100)",{"$f":"K706*E706+L706","v":30},"بهینه=دلخواه",{"$f":"'طراحی مدل 30a'!H320","v":30},"شیفت عمودی همه یقه های جدا  (سانتیمتر)  ",1,1,0,0,{"$f":"(J706-H706)/(I706-G706)","v":1},{"$f":"H706-G706*K706","v":0},null,1,null,100,0]
[]
[" متغیرهای ورودی کلاه کلی",null,null,null,null," متغیرهای ورودی کلاه کلی","x1","y1","x2","y2(بهینه)","a","b",null,"کمترین",null,"بیشترین"]
["ضریب بزرگ یا کوچک شدن کلاه","(از -0.2 الی 0.2)",{"$f":"K709*E709+L709","v":0},"بدون تغییر = 0\nکلاه بزرگتر = + \nکلاه کوچکتر =  -  ",{"$f":"'طراحی همه الگوها'!H224","v":0},"ضریب بزرگ یا کوچک شدن کلاه",1,0.01,0,0,{"$f":"(J709-H709)/(I709-G709)","v":0.01},{"$f":"H709-G709*K709","v":0},-0.2,{"$f":"(M709-L709)/K709","v":-20},0.2,{"$f":"(O709-L709)/K709","v":20},0,{"$f":"(Q709-L709)/K709","v":0}]
["انتخاب کلاه برای موهای دم اسبی که از پشت بسته شود =1      انتخاب دیگر=0","0 یا 1 ",0,null,{"$f":"'طراحی همه الگوها'!H225","v":1},"انتخاب کلاه ملوانی برای موهای دم اسبی که از پشت بسته شود ",1,0,2,1,1,-1,0,1,1,2,1,2]
["ضریب پهنای بلیطی جلو کلاه","(از 0  الی 0.8)",0,"بهینه=0.4",{"$f":"'طراحی همه الگوها'!H226","v":0},"ضریب پهنای بلیطی جلو کلاه",1,0.05,0,0,0.05,0,0,0,0.8,16,0.4,8]
["ضریب بلندی بلیطی جلو کلاه","(از 0 الی 1.6)",0,"بهینه=0.7",{"$f":"'طراحی همه الگوها'!H227","v":0},"ضریب بلندی بلیطی جلو کلاه",1,0.05,0,0,0.05,0,0,0,1.6,32,0.7,13.999999999999998]
["ضریب بلندی انحنا جلو کلاه","(از 0  الی 1)",0.2,"بهینه=0.2",{"$f":"'طراحی همه الگوها'!H228","v":4},"ضریب بلندی انحنا جلو کلاه",1,0.05,0,0,0.05,0,0,0,1,20,0.2,4]
["ضریب پهنای انحنا روی صورت","(از 0  الی 1)",0.4,"بهینه=0.4",{"$f":"'طراحی همه الگوها'!H229","v":8},"ضریب پهنای انحنا روی صورت",1,0.05,0,0,0.05,0,0,0,1,20,0.4,8]
["ضریب پهنای انحنا بالای پیشانی","(از 0 الی 1)",0.30000000000000004,"بهینه=0.3",{"$f":"'طراحی همه الگوها'!H230","v":6},"ضریب پهنای انحنا بالای پیشانی",1,0.05,0,0,{"$f":"(J715-H715)/(I715-G715)","v":0.05},{"$f":"H715-G715*K715","v":0},0,0,1,20,0.3,5.9999999999999991]
[]
[" متغیرهای ورودی شیفت افقی کلاه",null,null,null,null," متغیرهای ورودی شیفت افقی کلاه","x1","y1","x2","y2(بهینه)","a","b",null,"کمترین",null,"بیشترین"]
["شیفت افقی کلاه  (به سانتیمتر)","(از -100 الی100)",{"$f":"K718*E718+L718","v":-30},"بهینه=دلخواه",{"$f":"'طراحی همه الگوها'!H220","v":-30},"شیفت افقی کلاه  (سانتیمتر)",1,1,0,0,{"$f":"(J718-H718)/(I718-G718)","v":1},{"$f":"H718-G718*K718","v":0},null,1,null,100,0]
["شیفت عمودی کلاه (به سانتیمتر)","(از -100 الی100)",{"$f":"K719*E719+L719","v":20},"بهینه=دلخواه",{"$f":"'طراحی همه الگوها'!H221","v":20},"شیفت عمودی کلاه (سانتیمتر)",1,1,0,0,{"$f":"(J719-H719)/(I719-G719)","v":1},{"$f":"H719-G719*K719","v":0},null,1,null,100,0]
[]
[" متغیرهای ورودی کلاه متصل به یقه مربعی",null,null,null,null," متغیرهای ورودی کلاه متصل به یقه مربعی","x1","y1","x2","y2(بهینه)","a","b",null,"کمترین",null,"بیشترین"]
["ضریب جلو یقه روی خط مرکزی","(از 0.1 الی 0.45)",{"$f":"K722*E722+L722","v":0.3},"بهینه=0.3",{"$f":"'طراحی همه الگوها'!H233","v":30},"ضریب جلو یقه روی خط مرکزی",1,0.01,0,0,{"$f":"(J722-H722)/(I722-G722)","v":0.01},{"$f":"H722-G722*K722","v":0},0.1,{"$f":"(M722-L722)/K722","v":10},0.45,{"$f":"(O722-L722)/K722","v":45},0.3,{"$f":"(Q722-L722)/K722","v":30}]
["ضریب نصف جلو کارور","(از 0.2 الی 0.55)",{"$f":"K723*E723+L723","v":0.48},"بهینه=0.48",{"$f":"'طراحی همه الگوها'!H234","v":48},"ضریب نصف جلو کارور",1,0.01,0,0,{"$f":"(J723-H723)/(I723-G723)","v":0.01},{"$f":"H723-G723*K723","v":0},0.2,{"$f":"(M723-L723)/K723","v":20},0.55000000000000004,{"$f":"(O723-L723)/K723","v":55},0.48,{"$f":"(Q723-L723)/K723","v":48}]
[]
[" متغیرهای ورودی کلاه ملوانی",null,null,null,null," متغیرهای ورودی کلاه ملوانی","x1","y1","x2","y2(بهینه)","a","b",null,"کمترین",null,"بیشترین"]
["  باز شدن یقه هفت γ1   تعیین شده در یقه انگلیسی لباس","(از 0.6 الی 0.99)",{"$f":"C165","v":0.7}]
["ضریب جلو یقه روی خط مرکزی","(از 0.4 الی 0.99)",{"$f":"K727*E727+L727","v":0.60000000000000009},null,{"$f":"'طراحی همه الگوها'!H237","v":12},"ضریب جلو یقه روی خط مرکزی",1,0.05,0,0,{"$f":"(J727-H727)/(I727-G727)","v":0.05},{"$f":"H727-G727*K727","v":0},0.4,{"$f":"(M727-L727)/K727","v":8},0.99,{"$f":"(O727-L727)/K727","v":19.799999999999997},0.5,{"$f":"(Q727-L727)/K727","v":10}]
["ضریب نصف جلو کارور","(از 0.01 الی 0.1)",{"$f":"K728*E728+L728","v":0.02},null,{"$f":"'طراحی همه الگوها'!H238","v":4},"ضریب نصف جلو کارور",1,5.0000000000000001E-3,0,0,{"$f":"(J728-H728)/(I728-G728)","v":5.0000000000000001E-3},{"$f":"H728-G728*K728","v":0},0.01,{"$f":"(M728-L728)/K728","v":2},0.1,{"$f":"(O728-L728)/K728","v":20},0.02,{"$f":"(Q728-L728)/K728","v":4}]
[]
[" متغیرهای ورودی یقه شکاری ",null,null,null,null," متغیرهای ورودی یقه شکاری ","x1","y1","x2","y2(بهینه)","a","b",null,"کمترین",null,"بیشترین"]
["ضریب قد پشت یقه   c1","(از 0.5 الی 3)",{"$f":"K731*E731+L731","v":2.5},"بهینه =2",{"$f":"'طراحی مدل 30a'!H323","v":25},"ضریب قد پشت یقه   ",1,0.1,0,0,{"$f":"(J731-H731)/(I731-G731)","v":0.1},{"$f":"H731-G731*K731","v":0},0.5,{"$f":"(M731-L731)/K731","v":5},3,{"$f":"(O731-L731)/K731","v":30},2,{"$f":"(Q731-L731)/K731","v":20}]
["ضریب کج شدن  یقه به سمت گردن   c2","(از- 2 الی 0)",{"$f":"K732*E732+L732","v":-0.8},"بهینه = - 0.8",{"$f":"'طراحی مدل 30a'!H324","v":-8},"ضریب کج شدن  یقه به سمت گردن   ",1,0.1,0,0,{"$f":"(J732-H732)/(I732-G732)","v":0.1},{"$f":"H732-G732*K732","v":0},-2,{"$f":"(M732-L732)/K732","v":-20},0,{"$f":"(O732-L732)/K732","v":0},-0.8,{"$f":"(Q732-L732)/K732","v":-8}]
["ضریب قرار گرفتن لبه یقه نسبت به لباس   c3","(از 0.3 الی 1)\n- 1 و ",{"$f":"K733*E733+L733","v":1},"لبه یقه روی خط جادکمه= - 1\nلبه یقه روی خط سرشانه=0\nلبه یقه روی خط مرکزی جلو=1\nبین خط مرکزی جلو تا سرشانه= \nبین 0 تا 1",{"$f":"IF('طراحی مدل 30a'!H325='متغیرها '!AM170,58,IF('طراحی مدل 30a'!H325='متغیرها '!AM171,0,'طراحی مدل 30a'!H325))","v":0},"ضریب قرار گرفتن لبه یقه نسبت به لباس   ",58,-1,0,1,{"$f":"(J733-H733)/(I733-G733)","v":-3.4482758620689655E-2},{"$f":"H733-G733*K733","v":1},0.3,{"$f":"(M733-L733)/K733","v":20.3},1,{"$f":"(O733-L733)/K733","v":0},-1,{"$f":"(Q733-L733)/K733","v":58}]
["زاویه لبه برگردان یقه نسبت به عمود  (به درجه)   c14","(از- 40 الی 60)",{"$f":"K734*E734+L734","v":15},"بهینه =17 \nلبه برگردان عمود به پایه=0",{"$f":"'طراحی مدل 30a'!H326","v":55},"زاویه لبه برگردان یقه نسبت به عمود     ",1,-39,57,17,{"$f":"(J734-H734)/(I734-G734)","v":1},{"$f":"H734-G734*K734","v":-40},-40,{"$f":"(M734-L734)/K734","v":0},60,{"$f":"(O734-L734)/K734","v":100},17,{"$f":"(Q734-L734)/K734","v":57}]
["ضریب قد لبه برگردان یقه   c15","(از0.5 الی 4)",{"$f":"K735*E735+L735","v":3},"بهینه =2.3",{"$f":"'طراحی مدل 30a'!H327","v":30},"ضریب قد لبه برگردان یقه   ",1,0.1,0,0,{"$f":"(J735-H735)/(I735-G735)","v":0.1},{"$f":"H735-G735*K735","v":0},0.5,{"$f":"(M735-L735)/K735","v":5},4,{"$f":"(O735-L735)/K735","v":40},2.2999999999999998,{"$f":"(Q735-L735)/K735","v":22.999999999999996}]
[]
[" متغیرهای ورودی یقه شومیزیه ",null,null,null,null," متغیرهای ورودی یقه شومیزیه ","x1","y1","x2","y2(بهینه)","a","b",null,"کمترین",null,"بیشترین"]
["ضریب قد پایه یقه   c1","(از 0.5 الی 2)",{"$f":"K738*E738+L738","v":0.9},"بهینه =1.5",{"$f":"'طراحی مدل 30a'!H336","v":9},"ضریب قد پایه یقه   ",1,0.1,0,0,{"$f":"(J738-H738)/(I738-G738)","v":0.1},{"$f":"H738-G738*K738","v":0},0.5,{"$f":"(M738-L738)/K738","v":5},2,{"$f":"(O738-L738)/K738","v":20},1.5,{"$f":"(Q738-L738)/K738","v":15}]
["ضریب کج شدن پایه یقه به سمت گردن   c2","پایه جدا :\n(از0.1 الی 2)\nپایه سرخود :\n(از 0 الی -1 )",0.5,"بهینه پایه جدا =0.5 \nبهینه پایه سرخود= - 0.4",{"$f":"'طراحی مدل 30a'!H337","v":5},"ضریب کج شدن پایه یقه به سمت گردن   ",1,0.1,0,0,{"$f":"(J739-H739)/(I739-G739)","v":0.1},{"$f":"H739-G739*K739","v":0},-1,-10,2,20,-0.4,-4]
["ضریب قرار گرفتن لبه پایه یقه نسبت به لباس   c3","(از 0.3 الی 1)\n- 1 و ",-1,"لبه یقه روی خط جادکمه= - 1\nلبه یقه روی خط سرشانه=0\nلبه یقه روی خط مرکزی جلو=1\nبین خط مرکزی جلو تا سرشانه= \nبین 0 تا 1",{"$f":"IF('طراحی مدل 30a'!H338='متغیرها '!AM170,58,IF('طراحی مدل 30a'!H338='متغیرها '!AM171,0,'طراحی مدل 30a'!H338))","v":58},"ضریب قرار گرفتن لبه پایه یقه نسبت به لباس   ",58,-1,0,1,{"$f":"(J740-H740)/(I740-G740)","v":-3.4482758620689655E-2},{"$f":"H740-G740*K740","v":1},0.3,20.3,1,0,1,0]
["ضریب انحنا لبه پایه یقه  c4","(از 0.2 الی 1.2)",0.89999999999999991,"بهینه انحنا=0.9",{"$f":"'طراحی مدل 30a'!H339","v":20},"ضریب انحنا لبه پایه یقه  ",5,0.2,20,0.9,{"$f":"(J741-H741)/(I741-G741)","v":4.6666666666666662E-2},{"$f":"H741-G741*K741","v":-3.3333333333333298E-2},0.2,5,1.2,26.428571428571427,0.9,20.000000000000004]
["ضریب قد پشت برگردان یقه   c1","(از 0.5 الی 3)",1.5,"بهینه =2.1",{"$f":"'طراحی مدل 30a'!H340","v":15},"ضریب قد پشت برگردان یقه   ",1,0.1,0,0,{"$f":"(J742-H742)/(I742-G742)","v":0.1},{"$f":"H742-G742*K742","v":0},0.5,5,3,30,2.1,21]
["ضریب کج شدن برگردان یقه به سمت گردن   c2","پایه جدا :\n(از - 0.1 الی -2 )\nپایه سرخود :\n(از 0 الی  -1  )",-0.70000000000000007,"بهینه پایه جدا =  - 0.7 \nبهینه پایه سرخود= - 0.4",{"$f":"'طراحی مدل 30a'!H341","v":-7},"ضریب کج شدن برگردان یقه به سمت گردن   ",1,0.1,0,0,0.1,0,-2,-20,0,0,-0.7,-6.9999999999999991]
["زاویه لبه برگردان یقه نسبت به عمود  (به درجه)   c14","(از- 40 الی 60)",15,"بهینه =5 \nلبه برگردان عمود به پایه=0",{"$f":"'طراحی مدل 30a'!H342","v":55},"زاویه لبه برگردان یقه نسبت به عمود    ",1,-39,57,17,1,-40,-40,0,60,100,5,45]
["ضریب قد لبه برگردان یقه   c15","(از0.5 الی 4)",2.5,"بهینه =2",{"$f":"'طراحی مدل 30a'!H343","v":25},"ضریب قد لبه برگردان یقه   ",1,0.1,0,0,0.1,0,0.5,5,4,40,2,20]
["شیفت افقی برگردان یقه  (به سانتیمتر)   c16","(از -100 الی100)",0,"بهینه=دلخواه",{"$f":"'طراحی مدل 30a'!H344","v":0},"شیفت افقی برگردان یقه  (سانتیمتر)   ",1,1,0,0,1,0,null,1,null,100,0]
["شیفت عمودی برگردان یقه  (به سانتیمتر)  c17","(از -100 الی100)",40,"بهینه=دلخواه",{"$f":"'طراحی مدل 30a'!H345","v":40},"شیفت عمودی برگردان یقه  (سانتیمتر)  ",1,1,0,0,1,0,null,1,null,100,0]
[]
[" متغیرهای ورودی یقه ب ب مثلثی و گرد",null,null,null,null," متغیرهای ورودی یقه ب ب مثلثی و گرد","x1","y1","x2","y2(بهینه)","a","b",null,"کمترین",null,"بیشترین"]
["زاویه جلو یقه ب ب مثلثی","(از 0 الی 50)",{"$f":"K750*E750+L750","v":25},"بهینه=25",{"$f":"'طراحی مدل 30a'!H358","v":25},"زاویه جلو یقه ب ب مثلثی",19,19,20,20,{"$f":"(J750-H750)/(I750-G750)","v":1},{"$f":"H750-G750*K750","v":0},0,{"$f":"(M750-L750)/K750","v":0},50,{"$f":"(O750-L750)/K750","v":50},25,{"$f":"(Q750-L750)/K750","v":25}]
["ضریب پهنای یقه ب ب مثلثی و گرد ","(از 0.3 الی 1)",{"$f":"K751*E751+L751","v":0.6},"بهینه=0.5",{"$f":"'طراحی مدل 30a'!H359","v":25},"ضریب پهنای یقه ب ب مثلثی و گرد ",10,0.3,20,0.5,{"$f":"(J751-H751)/(I751-G751)","v":0.02},{"$f":"H751-G751*K751","v":9.9999999999999978E-2},0.3,{"$f":"(M751-L751)/K751","v":10},1,{"$f":"(O751-L751)/K751","v":45},0.5,{"$f":"(Q751-L751)/K751","v":20}]

{"sheet":"راهنما","index":3,"n_rows":0,"n_cols":0,"rows_kept":0,"cut":false,"hidden":false,"merged":[]}

{"sheet":"اندازه های شخصی","index":4,"n_rows":35,"n_cols":85,"rows_kept":35,"cut":false,"hidden":false,"merged":[]}
[]
[]
[]
[]
[null,null,null,null,"عنوان مورد نظر خود را در قسمت سبز رنگ وارد کنید",null,"زلیخا ۵ ۹۹",null,"عنوان 2",null,"عنوان 3",null,"عنوان 4",null,"عنوان 5",null,"عنوان 6",null,"عنوان 7",null,"عنوان 8",null,"عنوان 9",null,"عنوان 10",null,"عنوان 11",null,"عنوان 12",null,"عنوان 13",null,"عنوان 14",null,"عنوان 15",null,"عنوان 16",null,"عنوان 17",null,"عنوان 18",null,"عنوان 19",null,"عنوان 20",null,"عنوان 21",null,"عنوان 22",null,"عنوان 23",null,"عنوان 24",null,"عنوان 25",null,"عنوان 26",null,"عنوان 27",null,"عنوان 28",null,"عنوان 29",null,"عنوان 30",null,"عنوان 31",null,"عنوان 32",null,"عنوان 33",null,"عنوان 34",null,"عنوان 35",null,"عنوان 36",null,"عنوان 37",null,"عنوان 38",null,"عنوان 39",null,"عنوان 40"]
[]
[null,null,null,null,null,null,"اندازه شخصی 1",null,"اندازه شخصی 2",null,"اندازه شخصی 3",null,"اندازه شخصی 3",null,"اندازه شخصی 5",null,"اندازه شخصی 6",null,"اندازه شخصی 7",null,"اندازه شخصی 8",null,"اندازه شخصی 9",null,"اندازه شخصی 10",null,"اندازه شخصی 11",null,"اندازه شخصی 12",null,"اندازه شخصی 13",null,"اندازه شخصی 14",null,"اندازه شخصی 15",null,"اندازه شخصی 16",null,"اندازه شخصی 17",null,"اندازه شخصی 18",null,"اندازه شخصی 19",null,"اندازه شخصی 20",null,"اندازه شخصی 21",null,"اندازه شخصی 22",null,"اندازه شخصی 23",null,"اندازه شخصی 24",null,"اندازه شخصی 25",null,"اندازه شخصی 26",null,"اندازه شخصی 27",null,"اندازه شخصی 28",null,"اندازه شخصی 29",null,"اندازه شخصی 30",null,"اندازه شخصی 31",null,"اندازه شخصی 32",null,"اندازه شخصی 33",null,"اندازه شخصی 34",null,"اندازه شخصی 35",null,"اندازه شخصی 36",null,"اندازه شخصی 37",null,"اندازه شخصی 38",null,"اندازه شخصی 39",null,"اندازه شخصی 40"]
[null,null,null,null,"دور کمر","a",97]
[null,null,null,null,"نوار کمر از پشت بین دو خط پهلو","b",44.6]
[null,null,null,null,"دور باسن","c",105]
[null,null,null,null,"نوار باسن از پشت بین دو خط پهلو","d",53.6]
[null,null,null,null,"فاصله نوار کمر تا زمین، از قسمت جلو","e",95.5]
[null,null,null,null,"فاصله نوار کمر تا زمین، از قسمت پهلو","f",96]
[null,null,null,null,"فاصله نوار کمر تا زمین، از قسمت پشت","g",96.5]
[null,null,null,null,"فاصله نوار زانو تا زمین","h",41.1]
[null,null,null,null,"فاصله نوار باسن تا زمین","j",77.5]
[null,null,null,null,"دور زانو","L",41]
[null,null,null,null,"بلندی فاق","m",25]
[null,null,null,null,"آنفورشور","q",68.8]
[null,null,null,null,"دور مچ پا","r",29.4]
[null,null,null,null,"شلوار زنانه و بچگانه = 0       مردانه=1      بچه با پوشک=2",null,0]
[null,null,null,null,"دور سینه : از برجسته ترین قسمت سینه","s1",106]
[null,null,null,null,"پشت نوار سینه، بین دو خط پهلو","s2",46.2]
[null,null,null,null,"فاصله عمودی از خط سینه جلو تا خط سینه پشت که از کنار حلقه آستین بگذرد","t1",42.9]
[null,null,null,null,"فاصله عمودی از خط سینه جلو تا خط سینه پشت که از کنارگردن بگذرد","t2",53]
[null,null,null,null,"فاصله عمودی از خط کمر جلو تا خط کمر پشت که از کنار گردن بگذرد","t3",89]
[null,null,null,null,"فاصله عمودی بین خط سینه پشت و سرشانه، نزدیک دست","t4",22.3]
[null,null,null,null,"فاصله عمودی بین خط سینه پشت و سرشانه، نزدیک گردن","t5",26.3]
[null,null,null,null,"فاصله عمودی بین خط کمرپشت و سرشانه، نزدیک گردن","t6",42.6]
[null,null,null,null,"دور گردن (متر به طور عمودی دور گردن قرار می گیرد و از روی استخوان ترقوه می گذرد)","v",46]
[null,null,null,null,"کارور پشت (بین دو خط امتداد زیر بغل)","v3",38]
[null,null,null,null,"دور بازو از ناحیه زیر بغل","w2",34]
[null,null,null,null,"قد آستین (دست به طور خمیده، قد از سرشانه تا مچ)","w10",61]
[null,null,null,null,"دور مچ دست","w11",21]
[null,null,null,null,"دور سر","w12",59]

{"sheet":"Sheet2","index":5,"n_rows":0,"n_cols":0,"rows_kept":0,"cut":false,"hidden":true,"merged":[]}

{"sheet":"اندازه گیری و تحلیل","index":6,"n_rows":487,"n_cols":26,"rows_kept":487,"cut":false,"hidden":false,"merged":[[401,25,402,25],[222,8,222,13]]}
[]
[]
[]
[null,null,null,null,null,"0 الی 30","خیلی کم"]
[null,null,null,"برای اندام شما :",null,"30 الی 50","کم",null,null,null,"قد سرشانه تا زمین",{"$f":"L419","v":146.55000000000001}]
[null,null,null,"برجستگی سینه جلو",null,"50 الی 70","متوسط",null,null,null,"تمام قد (تقریبی)",{"$f":"L420","v":167}]
[null,null,null,{"$f":"L479","v":70},null,"70 الی 90","زیاد"]
[null,null,null,null,null,"90 الی 200","خیلی زیاد"]
[]
[]
[]
[null,null,null,null,null,"0 الی 20","خیلی کم"]
[null,null,null,"برای اندام شما :",null,"20 الی 40","کم"]
[null,null,null,"برجستگی باسن",null,"40 الی 60","متوسط"]
[null,null,null,{"$f":"L476","v":63},null,"60 الی 80","زیاد"]
[null,null,null,null,null,"80 الی 200","خیلی زیاد"]
[]
[]
[]
[null,null,null,null,null,"3 الی - 20","شکم تخت"]
[null,null,null,"برای اندام شما :",null,"3 الی 6"]
[null,null,null,"برجستگی شکم نسبت به سینه",null,"6 الی 10"]
[null,null,null,{"$f":"L484","v":0},null,"10 الی 20","شکم در امتداد سینه"]
[null,null,null,null,null,"20 الی 30","شکم برجسته تراز سینه"]
[null,null,null,null,null,"30 الی 40","شکم حاملگی"]
[null,null,null,null,null,"40 الی 150","شکم حاملگی بزرگ"]
[]
[]
[]
[null,null,null,null,null,"0الی 10","خیلی کم"]
[null,null,null,"برای اندام شما :",null,"10 الی 15","کم"]
[null,null,null,"افتادگی سرشانه",null,"15 الی 20","متوسط"]
[null,null,null,{"$f":"L474","v":17},null,"20 الی 25","زیاد"]
[null,null,null,null,null,"25 الی 50","خیلی زیاد"]
[]
[]
[]
[]
[]
[]
[]
[]
[]
[]
[]
[]
[]
[]
[]
[]
[]
[]
[null,null,null,"خطای درجه 1 "]
[null,null,null,{"$f":"IF(AND(V404>20,V404<200),\" \",\" اندازه  a تکرار شود.\")","v":" "}]
[null,null,null,{"$f":"IF(AND(V405>10,V405<100),\" \",\" اندازه  b تکرار شود.\")","v":" "}]
[null,null,null,{"$f":"IF(AND(V406>20,V406<200),\" \",\" اندازه  c تکرار شود.\")","v":" "}]
[null,null,null,{"$f":"IF(AND(V407>10,V407<100),\" \",\" اندازه  d تکرار شود.\")","v":" "}]
[null,null,null,{"$f":"IF(AND(V408>15,V408<140),\" \",\" اندازه  e تکرار شود.\")","v":" "}]
[]
[null,null,null,{"$f":"IF(AND(V410>15,V410<140),\" \",\" اندازه  g تکرار شود.\")","v":" "}]
[null,null,null,{"$f":"IF(AND(V411>5,V411<70),\" \",\" اندازه  h تکرار شود.\")","v":" "}]
[null,null,null,{"$f":"IF(AND(V412>10,V412<120),\" \",\" اندازه  j تکرار شود.\")","v":" "}]
[null,null,null,{"$f":"IF(AND(V413>15,V413<70),\" \",\" اندازه  L تکرار شود.\")","v":" "}]
[null,null,null,{"$f":"IF(AND(W414>10,W414<50),\" \",\" اندازه  m تکرار شود.\")","v":" "}]
[null,null,null,{"$f":"IF(AND(V415>25,V415<140),\" \",\" اندازه  q تکرار شود.\")","v":" "}]
[null,null,null,{"$f":"IF(AND(V416>10,V416<80),\" \",\" اندازه  r تکرار شود.\")","v":" "}]
[null,null,null,{"$f":"IF(AND(V424>20,V424<200),\" \",\" اندازه  s1 تکرار شود.\")","v":" "}]
[null,null,null,{"$f":"IF(AND(V425>10,V425<100),\" \",\" اندازه  s2 تکرار شود.\")","v":" "}]
[null,null,null,{"$f":"IF(AND(V426>12,V426<75),\" \",\" اندازه  t1 تکرار شود.\")","v":" "}]
[null,null,null,{"$f":"IF(AND(V427>13,V427<80),\" \",\" اندازه  t2 تکرار شود.\")","v":" "}]
[null,null,null,{"$f":"IF(AND(V428>20,V428<120),\" \",\" اندازه  t3 تکرار شود.\")","v":" "}]
[null,null,null,{"$f":"IF(AND(V429>6,V429<40),\" \",\" اندازه  t4 تکرار شود.\")","v":" "}]
[null,null,null,{"$f":"IF(AND(V430>7,V430<50),\" \",\" اندازه  t5 تکرار شود.\")","v":" "}]
[null,null,null,{"$f":"IF(AND(V431>10,V431<70),\" \",\" اندازه  t6 تکرار شود.\")","v":" "}]
[null,null,null,{"$f":"IF(AND(V432>15,V432<55),\" \",\" اندازه  v  تکرار شود.\")","v":" "}]
[null,null,null,{"$f":"IF(AND(V433>10,V433<80),\" \",\" اندازه  v3 تکرار شود.\")","v":" "}]
[null,null,null,{"$f":"IF(AND(V434>10,V434<70),\" \",\" اندازه  w2 تکرار شود.\")","v":" "}]
[null,null,null,{"$f":"IF(AND(V435>10,V435<80),\" \",\" اندازه  w10 تکرار شود.\")","v":" "}]
[null,null,null,{"$f":"IF(AND(V436>8,V436<30),\" \",\" اندازه  w11 تکرار شود.\")","v":" "}]
[null,null,null,{"$f":"IF(AND(V437>20,V437<70),\" \",\" اندازه  w12 تکرار شود.\")","v":" "}]
[]
[null,null,null,"خطای درجه 2 "]
[null,null,null,{"$f":"IF(W412>0.9*W410,\"اندازه  j  را دوباره تکرار کنید - j کم شود.\",\"  \")","v":"  "}]
[null,null,null,{"$f":"IF(W411>0.65*W412,\"اندازه گیری h را دوباره تکرار کنید - h کم شود.\",\"  \")","v":"  "}]
[null,null,null,{"$f":"IF(W414>0.45*W415,\"یا m کم شود یا q زیاد شود.\",\"  \")","v":"  "}]
[null,null,null,{"$f":"IF(V413>0.47*V406,\"اندازه گیری  L را دوباره تکرار کنید - L کم شود.\",\"  \")","v":"  "}]
[null,null,null,{"$f":"IF(V416>1.7*V436,\"دور مچ پا (r)  کم شود\",\"  \")","v":"  "}]
[null,null,null,{"$f":"IF(V416<1.2*V436,\"دور مچ پا (r)  زیاد شود\",\"  \")","v":"  "}]
[null,null,null,{"$f":"IF(V413<0.3*V406,\"اندازه گیری  L را دوباره تکرار کنید - زیاد شود.\",\"  \")","v":"  "}]
[null,null,null,{"$f":"IF(W412<0.65*W410,\"اندازه  j  را دوباره تکرار کنید - j زیاد شود.\",\"  \")","v":"  "}]
[null,null,null,{"$f":"IF(W415<0.5*V406,\"اندازه گیری  q را دوباره تکرار کنید - q زیاد شود.\",\"  \")","v":"  "}]
[null,null,null,{"$f":"IF(W414<0.3*W415,\"یا m زیاد شود یا q کم شود.\",\"  \")","v":"  "}]
[null,null,null,{"$f":"IF(V407>0.7*V406,\"نوار پهلو در قسمت باسن به سمت پشت متمایل شود و اندازه های d و c تکرار شود\",\"  \")","v":"  "}]
[null,null,null,{"$f":"IF(V405>0.7*V404,\"نوار پهلو در قسمت کمر به سمت پشت متمایل شود و اندازه های a و b تکرار شود\",\"  \")","v":"  "}]
[null,null,null,{"$f":"IF(W427>0.8*W428,\"نوار سینه و نوار کمر در جلو از هم دور شود و اندازه های t2 و t3 و t5 و t6 تکرار شود.\",\"  \")","v":"  "}]
[null,null,null,{"$f":"IF(V430>0.75*V431,\"نوار کمر و نوار سینه در پشت از هم دور شود و اندازه های t6  و t5 تکرار شود.\",\"  \")","v":"  "}]
[null,null,null,{"$f":"IF(W426>0.99*W427,\"اندام با سینه تو رفته، نوار سینه و نوار سرشانه افقی و صاف شود و اندازه های t1 و t2 و t4 و t5 تکرار شود.\",\"  \")","v":"  "}]
[null,null,null,{"$f":"IF(V429>V430,\"نوار سینه و نوار سرشانه افقی و صاف شود و اندازه های t5  و t4 تکرار شود.\",\"  \")","v":"  "}]
[null,null,null,{"$f":"IF(V432>0.6*V424,\"اندازه های s1  و v تکرار شود.\",\"  \")","v":"  "}]
[null,null,null,{"$f":"IF(V434>0.6*V424,\"اندازه های s1  و w2 تکرار شود.\",\"  \")","v":"  "}]
[null,null,null,{"$f":"IF(V435<0.5*V428,\"اندازه های t3  و w10 تکرار شود.\",\"  \")","v":"  "}]
[null,null,null,{"$f":"IF(V436>V434,\"اندازه های w2  و w11 تکرار شود.\",\"  \")","v":"  "}]
[null,null,null,{"$f":"IF((V433)>V425,\"اندازه - کارور پشت - باید کوچکتر از اندازه - سینه از پشت - باشد.\",\"  \")","v":"  "}]
[null,null,null,{"$f":"IF(V425>0.6*V424,\"نوار پهلو در قسمت سینه به سمت پشت متمایل شود و اندازه های s2 و s1 تکرار شود\",\"  \")","v":"  "}]
[null,null,null,{"$f":"IF(V425<0.35*V424,\"نوار پهلو در قسمت سینه به سمت جلو متمایل شود و اندازه های s2 و s1 تکرار شود\",\"  \")","v":"  "}]
[]
[null,null,null,"خطای درجه 3 "]
[null,null,null,{"$f":"IF(((V415-2*W414-0.03*V406)/(V406))<0.1,\" یا m کم شود و یا q زیاد شود\",\"  \")","v":"  "}]
[null,null,null,{"$f":"IF(((V415-2*W414-0.03*V406)/(V406))>0.16,\"یا m زیاد شود و یا q کم شود\",\"  \")","v":"  "}]
[null,null,null,{"$f":"IF(V412>(W409-0.5*W414),\"یا اندازه j کم شود یا اندازه m کم شود.\",\"  \")","v":"  "}]
[null,null,null,{"$f":"IF(V412<(W409-0.8*W414),\"یا اندازه j زیاد شود یا اندازه m زیاد شود.\",\"  \")","v":"  "}]
[null,null,null,{"$f":"IF(((V415-2*W414-0.03*V406)/(V406))<0.105,\" بهتر است یا m کم شود و یا q زیاد شود\",\"  \")","v":"  "}]
[null,null,null,{"$f":"IF(((V415-2*W414-0.03*V406)/(V406))>0.14,\"بهتر است یا m زیاد شود و یا q کم شود\",\"  \")","v":"  "}]
[null,null,null,{"$f":"IF((0.5*(V425-V433))<(0.05*V434),\"نوار پهلو در قسمت سینه به سمت جلو متمایل شود تا اندازه   s2  زیاد شود.\",\"  \")","v":"  "}]
[null,null,null,{"$f":"IF((0.5*(V425-V433))>(0.15*V434),\"نوار پهلو در قسمت سینه به سمت پشت متمایل شود تا اندازه  s2  کم شود.\",\"  \")","v":"  "}]
[null,null,null,{"$f":"IF(L470<-0.22,\"برای کاهش اختلاف بین افتادگی سرشانه پشت و جلو،اندازه t5 کم شود.\",\"  \")","v":"  "}]
[null,null,null,{"$f":"IF(AND(L469<30,L468<30,L470>0,L470>0.22),\"برای کاهش اختلاف بین افتادگی سرشانه پشت و جلو اندازه t5 زیاد شود.\",\"  \")","v":"  "}]
[null,null,null,{"$f":"IF(OR(L470>0.22,L470<-0.22,L469>30,L468>30),\" \",IF(L472<-3,\"اندازه t3 زیاد شود.\",\"  \"))","v":"  "}]
[null,null,null,{"$f":"IF(OR(L469>30,L468>30,L470>0.22,L470<-0.22),\" \",IF(L472>30,\"شکم برجسته تر از سینه است (در حد بارداری) برای کم کردن برجستگی t3 کم شود.\",\"  \"))","v":"  "}]
[null,null,null,{"$f":"IF(OR(L468>30,L469>30,L470>0.22,L470<-0.22),\" \",IF(AND(L472>15,L472<30),\"شکم برجسته تر از سینه است - برای کم کردن برجستگی t3 کم شود.\",\"  \"))","v":"  "}]
[null,null,null,{"$f":"IF(L469>30,\"سرشانه جلو بیش از حد افتاده است.  t2 کم شود.\",\"  \")","v":"  "}]
[null,null,null,{"$f":"IF(L468>30,\"سرشانه پشت بیش از حد افتاده است.  t5 کم شود.\",\"  \")","v":"  "}]
[null,null,null,{"$f":"IF(M433>1.14*M432-0.14*M425,\"اندازه کارور پشت کم شود\",\"  \")","v":"  "}]
[null,null,null,{"$f":"IF(L478<1,\"اندازه کارور پشت کم شود\",\"  \")","v":"  "}]
[]
[]
[]
[]
[]
[]
[]
[]
[]
[]
[]
[]
[]
[]
[]
[]
[]
[]
[null,null,null,"انتخاب نوع اندازه گیری"]
[null,null,null,"انتخاب بلندی فاق"]
[null,null,null,"گزینه \" اندازه جدید \" را انتخاب کنید"]
[]
[]
[]
[null,null,null,"a   دور کمر",0]
[]
[]
[null,null,null," c   دور باسن",0]
[]
[]
[null,null,null," s1    دور سینه : از برجسته ترین قسمت سینه",0]
[]
[]
[null,null,null," w10   قد آستین (دست به طور خمیده، قد از سرشانه تا مچ)",0]
[]
[]
[null,null,null," f    فاصله نوار کمر تا زمین، از قسمت پهلو",0]
[]
[]
[null,null,null," m   بلندی فاق",0]
[]
[]
[null,null,null," w2   دور بازو از ناحیه زیر بغل",0]
[]
[]
[null,null,null," w11   دور مچ دست",0]
[]
[]
[null,null,null," V    دور گردن (متر به طور عمودی دور گردن قرار می گیرد و از روی استخوان ترقوه می گذرد)",0]
[]
[]
[null,null,null," w12   دور سر",0]
[]
[]
[null,null,null," t3     فاصله عمودی از خط کمر جلو تا خط کمر پشت که از کنار گردن بگذرد",0]
[]
[]
[null,null,null,{"$f":"IF(OR('متغیرها '!W5=1,'متغیرها '!W5=3,'متغیرها '!W5=4),\" t2    فاصله عمودی از خط سینه جلو تا خط سینه پشت که از کنارگردن بگذرد  \",\"   \")","v":" t2    فاصله عمودی از خط سینه جلو تا خط سینه پشت که از کنارگردن بگذرد  "},0]
[]
[]
[null,null,null,{"$f":"IF(OR('متغیرها '!W5=1,'متغیرها '!W5=3,'متغیرها '!W5=4),\"V3   کارور پشت (بین دو خط امتداد زیر بغل)  \",\"   \")","v":"V3   کارور پشت (بین دو خط امتداد زیر بغل)  "},0]
[]
[]
[null,null,null,{"$f":"IF(OR('متغیرها '!W5=1,'متغیرها '!W5=4),\" g    فاصله نوار کمر تا زمین، از قسمت پشت  \",\"   \")","v":"   "}]
[]
[]
[null,null,null,{"$f":"IF(OR('متغیرها '!W5=1,'متغیرها '!W5=4),\" e   فاصله نوار کمر تا زمین، از قسمت جلو  \",\"   \")","v":"   "}]
[]
[]
[null,null,null,{"$f":"IF(OR('متغیرها '!W5=1,'متغیرها '!W5=4),\" j    فاصله نوار باسن تا زمین  \",\"   \")","v":"   "}]
[]
[]
[null,null,null,{"$f":"IF(OR('متغیرها '!W5=1,'متغیرها '!W5=4),\" h    فاصله نوار زانو تا زمین  \",\"   \")","v":"   "}]
[]
[]
[null,null,null,{"$f":"IF(OR('متغیرها '!W5=1,'متغیرها '!W5=4),\"  L   دور زانو  \",\"   \")","v":"   "}]
[]
[]
[null,null,null,{"$f":"IF(OR('متغیرها '!W5=1,'متغیرها '!W5=4),\" r    دور مچ پا  \",\"   \")","v":"   "}]
[]
[]
[null,null,null,{"$f":"IF(OR('متغیرها '!W5=1,'متغیرها '!W5=4),\"  q    آنفورشور  \",\"   \")","v":"   "}]
[]
[]
[null,null,null,{"$f":"IF(OR('متغیرها '!W5=1,'متغیرها '!W5=4),\" b   نوار کمر از پشت بین دو خط پهلو  \",\"   \")","v":"   "}]
[]
[]
[null,null,null,{"$f":"IF(OR('متغیرها '!W5=1,'متغیرها '!W5=4),\" s2    پشت نوار سینه، بین دو خط پهلو  \",\"   \")","v":"   "}]
[]
[]
[null,null,null,{"$f":"IF(OR('متغیرها '!W5=1,'متغیرها '!W5=4),\"  d   نوار باسن از پشت بین دو خط پهلو  \",\"   \")","v":"   "}]
[]
[]
[null,null,null,{"$f":"IF('متغیرها '!W5=1,\" t1    فاصله عمودی از خط سینه جلو تا خط سینه پشت که از کنار حلقه آستین بگذرد  \",\"   \")","v":"   "}]
[]
[]
[null,null,null,{"$f":"IF('متغیرها '!W5=1,\"t4     فاصله عمودی بین خط سینه پشت و سرشانه، نزدیک دست  \",\"   \")","v":"   "}]
[]
[null,null,null,null,null,null,null,null,"اگر تحلیل اندام با شکل واقعی اندام که مشاهده میکنید متفاوت است، میتوانید تغییرات زیر را در اندازه هایی که وارد کردید اعمال کنید :"]
[null,null,null,{"$f":"IF('متغیرها '!W5=1,\"t5     فاصله عمودی بین خط سینه پشت و سرشانه، نزدیک گردن  \",\"   \")","v":"   "},null,null,null,null,"برای افزایش برجستگی سینه ،  v3 (کارور پشت) کم شود."]
[null,null,null,null,null,null,null,null,"برای افزایش برجستگی باسن ،  d  زیاد شود."]
[null,null,null,null,null,null,null,null,"برای کاهش برجستگی شکم، t3 کم شود."]
[null,null,null,{"$f":"IF('متغیرها '!W5=1,\" t6    فاصله عمودی بین خط کمر و سرشانه، نزدیک گردن  \",\"   \")","v":"   "},null,null,null,null,{"$f":"ROUND(L469,0)","v":16},"زاویه سرشانه جلو",null,"برای کاهش افتادگی سرشانه جلو، t2 کم شود."]
[null,null,null,null,null,null,null,null,{"$f":"ROUND(L468,0)","v":18},"زاویه سرشانه پشت",null,"برای کاهش افتادگی سرشانه پشت، t5 کم شود."]
[]
[]
[]
[]
[]
[]
[]
[]
[]
[]
[]
[]
[]
[]
[]
[]
[]
[]
[]
[]
[]
[]
[]
[]
[]
[]
[]
[]
[]
[]
[]
[]
[]
[]
[]
[]
[]
[null,null,null,"انتخاب نوع سایزبندی"]
[]
[]
[null,null,null,"    دور سینه : از برجسته ترین قسمت سینه",0,null,null,null,null,{"$f":"'متغیرها '!V44","v":" کوچکتر از سایز 34 "}]
[]
[]
[null,null,null,"    دور باسن",0,null,null,null,null,{"$f":"'متغیرها '!V42","v":" کوچکتر از سایز 34 "}]
[]
[]
[null,null,null,"   دور کمر",0,null,null,null,null,{"$f":"'متغیرها '!V43","v":" کوچکتر از سایز 34 "}]
[]
[]
[]
[]
[]
[]
[]
[]
[]
[]
[]
[]
[]
[]
[]
[]
[]
[]
[]
[]
[]
[]
[]
[]
[]
[]
[null,null,null,null,null,"ستون آبی رنگ را کپی کرده بعد به صورت عدد در صفحه اندازه های شخصی ذخیره کنید"]
[]
[null,null,null,"دور کمر","a",{"$f":"V404","v":72}]
[null,null,null,"نوار کمر از پشت بین دو خط پهلو","b",35.200000000000003]
[null,null,null,"دور باسن","c",97]
[null,null,null,"نوار باسن از پشت بین دو خط پهلو","d",51.9]
[null,null,null,"فاصله نوار کمر تا زمین، از قسمت جلو","e",104]
[null,null,null,"فاصله نوار کمر تا زمین، از قسمت پهلو","f",105]
[null,null,null,"فاصله نوار کمر تا زمین، از قسمت پشت","g",106.1]
[null,null,null,"فاصله نوار زانو تا زمین","h",46]
[null,null,null,"فاصله نوار باسن تا زمین","j",84.1]
[null,null,null,"دور زانو","L",39.799999999999997]
[null,null,null,"بلندی فاق","m",27.1]
[null,null,null,"آنفورشور","q",71.099999999999994]
[null,null,null,"دور مچ پا","r",24.5]
[null,null,null,"شلوار زنانه و بچگانه = 0       مردانه=1      بچه با پوشک=2",null,{"$f":"V418","v":0}]
[null,null,null,"دور سینه : از برجسته ترین قسمت سینه","s1",{"$f":"V424","v":92}]
[null,null,null,"پشت نوار سینه، بین دو خط پهلو","s2",42.8]
[null,null,null,"فاصله عمودی از خط سینه جلو تا خط سینه پشت که از کنار حلقه آستین بگذرد","t1",44.4]
[null,null,null,"فاصله عمودی از خط سینه جلو تا خط سینه پشت که از کنارگردن بگذرد","t2",52.5]
[null,null,null,"فاصله عمودی از خط کمر جلو تا خط کمر پشت که از کنار گردن بگذرد","t3",83]
[null,null,null,"فاصله عمودی بین خط سینه پشت و سرشانه، نزدیک دست","t4",22.5]
[null,null,null,"فاصله عمودی بین خط سینه پشت و سرشانه، نزدیک گردن","t5",26.3]
[null,null,null,"فاصله عمودی بین خط کمرپشت و سرشانه، نزدیک گردن","t6",40.5]
[null,null,null,"دور گردن (متر به طور عمودی دور گردن قرار می گیرد و از روی استخوان ترقوه می گذرد)","v",39]
[null,null,null,"کارور پشت (بین دو خط امتداد زیر بغل)","v3",34.799999999999997]
[null,null,null,"دور بازو از ناحیه زیر بغل","w2",30.6]
[null,null,null,"قد آستین (دست به طور خمیده، قد از سرشانه تا مچ)","w10",59]
[null,null,null,"دور مچ دست","w11",18]
[null,null,null,"دور سر","w12",57]
[]
[]
[]
[]
[]
[]
[]
[]
[]
[]
[]
[]
[]
[]
[]
[]
[]
[]
[]
[]
[null,null,null,"گزینه \" اندازه های موجود \" را انتخاب کنید"]
[null,null,null,"سایز یا اندازه شخصی خود را انتخاب کنید"]
[]
[null,null,null,"دور کمر","a",{"$f":"'متغیرها '!W52","v":72}]
[null,null,null,"نوار کمر از پشت بین دو خط پهلو","b",{"$f":"'متغیرها '!W53","v":35.200000000000003}]
[null,null,null,"دور باسن","c",{"$f":"'متغیرها '!W54","v":97}]
[null,null,null,"نوار باسن از پشت بین دو خط پهلو","d",{"$f":"'متغیرها '!W55","v":51.9}]
[null,null,null,"فاصله نوار کمر تا زمین، از قسمت جلو","e",{"$f":"'متغیرها '!W56","v":104}]
[null,null,null,"فاصله نوار کمر تا زمین، از قسمت پهلو","f",{"$f":"'متغیرها '!W57","v":105}]
[null,null,null,"فاصله نوار کمر تا زمین، از قسمت پشت","g",{"$f":"'متغیرها '!W58","v":106.1}]
[null,null,null,"فاصله نوار زانو تا زمین","h",{"$f":"'متغیرها '!W59","v":46}]
[null,null,null,"فاصله نوار باسن تا زمین","j",{"$f":"'متغیرها '!W60","v":84.1}]
[null,null,null,"دور زانو","L",{"$f":"'متغیرها '!W61","v":39.799999999999997}]
[null,null,null,"بلندی فاق","m",{"$f":"'متغیرها '!W62","v":27.1}]
[null,null,null,"آنفورشور","q",{"$f":"'متغیرها '!W63","v":71.099999999999994}]
[null,null,null,"دور مچ پا","r",{"$f":"'متغیرها '!W64","v":24.5}]
[null,null,null,"شلوار زنانه و بچگانه = 0       مردانه=1      بچه با پوشک=2",null,{"$f":"'متغیرها '!W66","v":0}]
[null,null,null,"دور سینه : از برجسته ترین قسمت سینه","s1",{"$f":"'متغیرها '!W72","v":92}]
[null,null,null,"پشت نوار سینه، بین دو خط پهلو","s2",{"$f":"'متغیرها '!W73","v":42.8}]
[null,null,null,"فاصله عمودی از خط سینه جلو تا خط سینه پشت که از کنار حلقه آستین بگذرد","t1",{"$f":"'متغیرها '!W74","v":44.4}]
[null,null,null,"فاصله عمودی از خط سینه جلو تا خط سینه پشت که از کنارگردن بگذرد","t2",{"$f":"'متغیرها '!W75","v":52.5}]
[null,null,null,"فاصله عمودی از خط کمر جلو تا خط کمر پشت که از کنار گردن بگذرد","t3",{"$f":"'متغیرها '!W76","v":83}]
[null,null,null,"فاصله عمودی بین خط سینه پشت و سرشانه، نزدیک دست","t4",{"$f":"'متغیرها '!W77","v":22.5}]
[null,null,null,"فاصله عمودی بین خط سینه پشت و سرشانه، نزدیک گردن","t5",{"$f":"'متغیرها '!W78","v":26.3}]
[null,null,null,"فاصله عمودی بین خط کمرپشت و سرشانه، نزدیک گردن","t6",{"$f":"'متغیرها '!W79","v":40.5}]
[null,null,null,"دور گردن (متر به طور عمودی دور گردن قرار می گیرد و از روی استخوان ترقوه می گذرد)","v",{"$f":"'متغیرها '!W80","v":39}]
[null,null,null,"کارور پشت (بین دو خط امتداد زیر بغل)","v3",{"$f":"'متغیرها '!W81","v":34.799999999999997}]
[null,null,null,"دور بازو از ناحیه زیر بغل","w2",{"$f":"'متغیرها '!W82","v":30.6}]
[null,null,null,"قد آستین (دست به طور خمیده، قد از سرشانه تا مچ)","w10",{"$f":"'متغیرها '!W83","v":59}]
[null,null,null,"دور مچ دست","w11",{"$f":"'متغیرها '!W84","v":18}]
[null,null,null,"دور سر","w12",{"$f":"'متغیرها '!W85","v":57}]
[]
[]
[]
[]
[]
[]
[]
[]
[]
[]
[]
[]
[]
[]
[]
[]
[]
[]
[]
[null,null,null,null,null,null,null,null,null,null,null,null,null,"کپی شود",null,"کپی شود",null,"کپی شود",null,"کپی شود",null,"اندازه جدید یا اندازه قبلی",null,null,null,"کپی اندازه های قبلی از فایل دیگر"]
[null,null,null,null,null,null,null,null,null,null,null,"اندازه ها در دامن و شلوار","اندازه جدید","اندازه گیری پیشرفته و با جزییات",null,"اندازه گیری مردان و بچه ها",null,"اندازه گیری زنان",null,"اندازه گیری پیشرفته زنان",null,"اندازه گیری تحلیل شده"," اندازه محاسبه شده برای تحلیل"]
[null,null,null,null,null,null,null,null,null,null,null,"دور کمر",{"$f":"E149","v":0},{"$f":"ROUND(M404,1)","v":0},{"$f":"ROUND(N404-0.02*N404*N418,1)","v":0},{"$f":"ROUND(M404,1)","v":0},{"$f":"ROUND(P404-0.02*P404*P418,1)","v":0},{"$f":"ROUND(M404,1)","v":0},{"$f":"ROUND(R404-0.02*R404*R418,1)","v":0},{"$f":"ROUND(M404,1)","v":0},{"$f":"ROUND(T404-0.02*T404*T418,1)","v":0},{"$f":"IF('متغیرها '!X5=2,'اندازه گیری و تحلیل'!F355,IF('متغیرها '!W5=1,'اندازه گیری و تحلیل'!N404,(IF('متغیرها '!W5=2,'اندازه گیری و تحلیل'!P404,(IF('متغیرها '!W5=3,'اندازه گیری و تحلیل'!R404,'اندازه گیری و تحلیل'!T404))))))","v":72},{"$f":"ROUND(V404-0.02*V404*V418,1)","v":72}]
[null,null,null,null,null,null,null,null,null,null,null,"نوار کمر از پشت بین دو خط پهلو",{"$f":"E209","v":0},0,{"$f":"ROUND(N405-0.02*N405*N418,1)","v":0},{"$f":"ROUND(0.49*P404,1)","v":0},{"$f":"ROUND(P405-0.02*P405*P418,1)","v":0},{"$f":"ROUND(0.46*R404,1)","v":0},{"$f":"ROUND(R405-0.02*R405*R418,1)","v":0},0,{"$f":"ROUND(T405-0.02*T405*T418,1)","v":0},{"$f":"IF('متغیرها '!X5=2,'اندازه گیری و تحلیل'!F356,IF('متغیرها '!W5=1,'اندازه گیری و تحلیل'!N405,(IF('متغیرها '!W5=2,'اندازه گیری و تحلیل'!P405,(IF('متغیرها '!W5=3,'اندازه گیری و تحلیل'!R405,'اندازه گیری و تحلیل'!T405))))))","v":35.200000000000003},{"$f":"ROUND(V405-0.02*V405*V418,1)","v":35.200000000000003}]
[null,null,null,null,null,null,null,null,null,null,null,"دور باسن",{"$f":"E152","v":0},0,{"$f":"ROUND(N406+0.01*N406*N418,1)","v":0},{"$f":"ROUND(M406,1)","v":0},{"$f":"ROUND(P406+0.01*P406*P418,1)","v":0},{"$f":"ROUND(M406,1)","v":0},{"$f":"ROUND(R406+0.01*R406*R418,1)","v":0},0,{"$f":"ROUND(T406+0.01*T406*T418,1)","v":0},{"$f":"IF('متغیرها '!X5=2,'اندازه گیری و تحلیل'!F357,IF('متغیرها '!W5=1,'اندازه گیری و تحلیل'!N406,(IF('متغیرها '!W5=2,'اندازه گیری و تحلیل'!P406,(IF('متغیرها '!W5=3,'اندازه گیری و تحلیل'!R406,'اندازه گیری و تحلیل'!T406))))))","v":97},{"$f":"ROUND(V406+0.01*V406*V418,1)","v":97}]
[null,null,null,null,null,null,null,null,null,null,null,"نوار باسن از پشت بین دو خط پهلو",{"$f":"E215","v":0},0,{"$f":"ROUND(N407+0.01*N406*N418,1)","v":0},{"$f":"ROUND(0.53*P406+0.03*P406*IF(P418=2,1,0),1)","v":0},{"$f":"ROUND(P407+0.01*P406*P418,1)","v":0},{"$f":"ROUND(0.51*R406,1)","v":0},{"$f":"ROUND(R407+0.01*R406*R418,1)","v":0},0,{"$f":"ROUND(T407+0.01*T406*T418,1)","v":0},{"$f":"IF('متغیرها '!X5=2,'اندازه گیری و تحلیل'!F358,IF('متغیرها '!W5=1,'اندازه گیری و تحلیل'!N407,(IF('متغیرها '!W5=2,'اندازه گیری و تحلیل'!P407,(IF('متغیرها '!W5=3,'اندازه گیری و تحلیل'!R407,'اندازه گیری و تحلیل'!T407))))))","v":51.9},{"$f":"ROUND(V407+0.01*V406*V418,1)","v":51.9}]
[null,null,null,null,null,null,null,null,null,null,null,"فاصله نوار کمر تا زمین، از قسمت جلو",{"$f":"E191","v":0},0,{"$f":"ROUND(N408,1)","v":0},{"$f":"ROUND(0.999*P409,1)","v":0},{"$f":"ROUND(P408,1)","v":0},{"$f":"ROUND(0.995*R409,1)","v":0},{"$f":"ROUND(R408,1)","v":0},0,{"$f":"ROUND(T408,1)","v":0},{"$f":"IF('متغیرها '!X5=2,'اندازه گیری و تحلیل'!F359,IF('متغیرها '!W5=1,'اندازه گیری و تحلیل'!N408,(IF('متغیرها '!W5=2,'اندازه گیری و تحلیل'!P408,(IF('متغیرها '!W5=3,'اندازه گیری و تحلیل'!R408,'اندازه گیری و تحلیل'!T408))))))","v":104},{"$f":"ROUND(V408,1)","v":104}]
[null,null,null,null,null,null,null,null,null,null,null,"فاصله نوار کمر تا زمین، از قسمت پهلو",{"$f":"E161","v":0},0,0,{"$f":"ROUND(M409,1)","v":0},0,{"$f":"ROUND(M409,1)","v":0},0,0,0,{"$f":"IF('متغیرها '!X5=2,'اندازه گیری و تحلیل'!F360,IF('متغیرها '!W5=1,'اندازه گیری و تحلیل'!N409,(IF('متغیرها '!W5=2,'اندازه گیری و تحلیل'!P409,(IF('متغیرها '!W5=3,'اندازه گیری و تحلیل'!R409,'اندازه گیری و تحلیل'!T409))))))","v":105},{"$f":"ROUND(0.5*(V408+V410),1)","v":105.1}]
[null,null,null,null,null,null,null,null,null,null,null,"فاصله نوار کمر تا زمین، از قسمت پشت",{"$f":"E188","v":0},0,0,{"$f":"ROUND(1.001*P409,1)","v":0},0,{"$f":"ROUND(1.005*R409,1)","v":0},0,0,0,{"$f":"IF('متغیرها '!X5=2,'اندازه گیری و تحلیل'!F361,IF('متغیرها '!W5=1,'اندازه گیری و تحلیل'!N410,(IF('متغیرها '!W5=2,'اندازه گیری و تحلیل'!P410,(IF('متغیرها '!W5=3,'اندازه گیری و تحلیل'!R410,'اندازه گیری و تحلیل'!T410))))))","v":106.1},{"$f":"ROUND(V410,1)","v":106.1}]
[null,null,null,null,null,null,null,null,null,null,null,"فاصله نوار زانو تا زمین",{"$f":"E197","v":0},0,0,{"$f":"ROUND(0.55*P412*(1-0.15*IF(M418=2,1,0)),1)","v":0},0,{"$f":"ROUND(0.53*R412,1)","v":0},0,0,0,{"$f":"IF('متغیرها '!X5=2,'اندازه گیری و تحلیل'!F362,IF('متغیرها '!W5=1,'اندازه گیری و تحلیل'!N411,(IF('متغیرها '!W5=2,'اندازه گیری و تحلیل'!P411,(IF('متغیرها '!W5=3,'اندازه گیری و تحلیل'!R411,'اندازه گیری و تحلیل'!T411))))))","v":46},{"$f":"ROUND(V411,1)","v":46}]
[null,null,null,null,null,null,null,null,null,null,null,"فاصله نوار باسن تا زمین",{"$f":"E194","v":0},0,0,{"$f":"ROUND(P409-Q414+L445+0.1*L446,1)","v":0},0,{"$f":"ROUND(R409-S414+L445-0.3*L446,1)","v":0},0,0,0,{"$f":"IF('متغیرها '!X5=2,'اندازه گیری و تحلیل'!F363,IF('متغیرها '!W5=1,'اندازه گیری و تحلیل'!N412,(IF('متغیرها '!W5=2,'اندازه گیری و تحلیل'!P412,(IF('متغیرها '!W5=3,'اندازه گیری و تحلیل'!R412,'اندازه گیری و تحلیل'!T412))))))","v":84.1},{"$f":"ROUND(V412,1)","v":84.1}]
[null,null,null,null,null,null,null,null,null,null,null,"دور زانو",{"$f":"E200","v":0},0,0,{"$f":"ROUND(0.41*M406,1)","v":0},0,{"$f":"ROUND(0.39*M406,1)","v":0},0,0,0,{"$f":"IF('متغیرها '!X5=2,'اندازه گیری و تحلیل'!F364,IF('متغیرها '!W5=1,'اندازه گیری و تحلیل'!N413,(IF('متغیرها '!W5=2,'اندازه گیری و تحلیل'!P413,(IF('متغیرها '!W5=3,'اندازه گیری و تحلیل'!R413,'اندازه گیری و تحلیل'!T413))))))","v":39.799999999999997},{"$f":"ROUND(V413,1)","v":39.799999999999997}]
[null,null,null,null,null,null,null,null,null,null,null,"بلندی فاق",{"$f":"E164","v":0},0,{"$f":"ROUND(1.06*N414+0.022*N408*N418,1)","v":0},{"$f":"ROUND(M414,1)","v":0},{"$f":"ROUND(1.06*P414+0.022*P408*P418,1)","v":0},{"$f":"ROUND(M414,1)","v":0},{"$f":"ROUND(1.06*R414+0.022*R408*R418,1)","v":0},0,{"$f":"ROUND(1.06*T414+0.022*T408*T418,1)","v":0},{"$f":"IF('متغیرها '!X5=2,'اندازه گیری و تحلیل'!F365,IF('متغیرها '!W5=1,'اندازه گیری و تحلیل'!N414,(IF('متغیرها '!W5=2,'اندازه گیری و تحلیل'!P414,(IF('متغیرها '!W5=3,'اندازه گیری و تحلیل'!R414,'اندازه گیری و تحلیل'!T414))))))","v":27.1},{"$f":"ROUND(1.06*V414+0.022*V408*V418,1)","v":28.7}]
[null,null,null,null,null,null,null,null,null,null,null,"آنفورشور",{"$f":"E206","v":0},0,{"$f":"ROUND(N415,1)","v":0},{"$f":"ROUND(1.02*(SQRT(POWER((Q414+0.5*(Q410-Q408)-L445),2)+2.25*L448*L448)+1.45*L445+L446+1.45*L444+SQRT(POWER((Q414-0.5*(Q410-Q408)-L444),2)+POWER(IF(L447>1,(0.25*L448+(5/4)*L447),IF(L447>0,(0.25*L448+(7/4)*L447),0.2*L444)),2))),1)","v":6.7},{"$f":"ROUND(P415,1)","v":6.7},{"$f":"ROUND(1.02*(SQRT(POWER((S414+0.5*(S410-S408)-L445),2)+2.25*L448*L448)+1.45*L445+L446+1.45*L444+SQRT(POWER((S414-0.5*(S410-S408)-L444),2)+POWER(IF(L447>1,(0.25*L448+(5/4)*L447),IF(L447>0,(0.25*L448+(7/4)*L447),0.2*L444)),2))),1)","v":6.7},{"$f":"ROUND(R415,1)","v":6.7},0,{"$f":"ROUND(T415,1)","v":0},{"$f":"IF('متغیرها '!X5=2,'اندازه گیری و تحلیل'!F366,IF('متغیرها '!W5=1,'اندازه گیری و تحلیل'!N415,(IF('متغیرها '!W5=2,'اندازه گیری و تحلیل'!P415,(IF('متغیرها '!W5=3,'اندازه گیری و تحلیل'!R415,'اندازه گیری و تحلیل'!T415))))))","v":71.099999999999994},{"$f":"ROUND(V415,1)","v":71.099999999999994}]
[null,null,null,null,null,null,null,null,null,null,null,"دور مچ پا",{"$f":"E203","v":0},0,{"$f":"ROUND(N416,1)","v":0},{"$f":"ROUND(1.35*P436,1)","v":0},{"$f":"ROUND(P416,1)","v":0},{"$f":"ROUND(1.4*R436,1)","v":0},{"$f":"ROUND(R416,1)","v":0},0,{"$f":"ROUND(T416,1)","v":0},{"$f":"IF('متغیرها '!X5=2,'اندازه گیری و تحلیل'!F367,IF('متغیرها '!W5=1,'اندازه گیری و تحلیل'!N416,(IF('متغیرها '!W5=2,'اندازه گیری و تحلیل'!P416,(IF('متغیرها '!W5=3,'اندازه گیری و تحلیل'!R416,'اندازه گیری و تحلیل'!T416))))))","v":24.5},{"$f":"ROUND(V416,1)","v":24.5}]
[]
[null,null,null,null,null,null,null,null,null,null,null,"شلوار زنانه و بچگانه = 0       مردانه=1      بچه با پوشک=2",{"$f":"'متغیرها '!V5-1","v":0},{"$f":"ROUND(M418,1)","v":0},null,{"$f":"ROUND(M418,1)","v":0},null,0,null,{"$f":"ROUND(M418,1)","v":0},null,{"$f":"IF('متغیرها '!X5=2,'اندازه گیری و تحلیل'!F368,IF('متغیرها '!W5=1,'اندازه گیری و تحلیل'!N418,(IF('متغیرها '!W5=2,'اندازه گیری و تحلیل'!P418,(IF('متغیرها '!W5=3,'اندازه گیری و تحلیل'!R418,'اندازه گیری و تحلیل'!T418))))))","v":0}]
[null,null,null,null,null,null,null,null,null,null,"قد سرشانه تا زمین",{"$f":"0.5*(V428+V408+V410)","v":146.55000000000001}]
[null,null,null,null,null,null,null,null,null,null,"تمام قد (تقریبی)",{"$f":"ROUND(L419+IF(V437>51.5,0.35,IF(V437>50.5,0.33,0.31))*V437,0)","v":167}]
[null,null,null,null,null,null,null,null,null,null,null,"اندازه ها در بالاتنه","اندازه شخص","اندازه شخص",null,"اندازه شخص",null,"اندازه شخص",null,"اندازه شخص",null,"اندازه شخص"]
[null,null,null,null,null,null,null,null,null,null,null,"دور کمر",null,{"$f":"ROUND(N404,1)","v":0},{"$f":"N422","v":0},{"$f":"P404","v":0},{"$f":"P422","v":0},{"$f":"R404","v":0},{"$f":"R422","v":0},{"$f":"T404","v":0},{"$f":"T422","v":0},{"$f":"IF('متغیرها '!X5=2,V404,IF('متغیرها '!W5=1,'اندازه گیری و تحلیل'!N422,(IF('متغیرها '!W5=2,'اندازه گیری و تحلیل'!P422,(IF('متغیرها '!W5=3,'اندازه گیری و تحلیل'!R422,'اندازه گیری و تحلیل'!T422))))))","v":72},{"$f":"V422","v":72}]
[null,null,null,null,null,null,null,null,null,null,null,"نوار کمر از پشت بین دو خط پهلو",null,{"$f":"ROUND(N405,1)","v":0},{"$f":"N423","v":0},{"$f":"P405","v":0},{"$f":"P423","v":0},{"$f":"R405","v":0},{"$f":"R423","v":0},{"$f":"T405","v":0},{"$f":"T423","v":0},{"$f":"IF('متغیرها '!X5=2,V405,IF('متغیرها '!W5=1,'اندازه گیری و تحلیل'!N423,(IF('متغیرها '!W5=2,'اندازه گیری و تحلیل'!P423,(IF('متغیرها '!W5=3,'اندازه گیری و تحلیل'!R423,'اندازه گیری و تحلیل'!T423))))))","v":35.200000000000003},{"$f":"V423","v":35.200000000000003}]
[null,null,null,null,null,null,null,null,null,null,null,"دور سینه : از برجسته ترین قسمت سینه",{"$f":"E155","v":0},{"$f":"ROUND(M424,1)","v":0},{"$f":"N424","v":0},{"$f":"ROUND(M424,1)","v":0},{"$f":"P424","v":0},{"$f":"ROUND(M424,1)","v":0},{"$f":"R424","v":0},{"$f":"ROUND(M424,1)","v":0},{"$f":"T424","v":0},{"$f":"IF('متغیرها '!X5=2,'اندازه گیری و تحلیل'!F369,IF('متغیرها '!W5=1,'اندازه گیری و تحلیل'!N424,(IF('متغیرها '!W5=2,'اندازه گیری و تحلیل'!P424,(IF('متغیرها '!W5=3,'اندازه گیری و تحلیل'!R424,'اندازه گیری و تحلیل'!T424))))))","v":92},{"$f":"V424","v":92}]
[null,null,null,null,null,null,null,null,null,null,null,"پشت نوار سینه، بین دو خط پهلو",{"$f":"E212","v":0},0,{"$f":"N425","v":0},{"$f":"ROUND(0.5*P424,1)","v":0},{"$f":"P425","v":0},{"$f":"ROUND(M433+0.24*M434,1)","v":0},{"$f":"R425","v":0},{"$f":"ROUND(M425,1)","v":0},{"$f":"T425","v":0},{"$f":"IF('متغیرها '!X5=2,'اندازه گیری و تحلیل'!F370,IF('متغیرها '!W5=1,'اندازه گیری و تحلیل'!N425,(IF('متغیرها '!W5=2,'اندازه گیری و تحلیل'!P425,(IF('متغیرها '!W5=3,'اندازه گیری و تحلیل'!R425,'اندازه گیری و تحلیل'!T425))))))","v":42.8},{"$f":"V425","v":42.8}]
[null,null,null,null,null,null,null,null,null,null,null,"فاصله عمودی از خط سینه جلو تا خط سینه پشت که از کنار حلقه آستین بگذرد",{"$f":"E218","v":0},0,{"$f":"N426-N429","v":0},{"$f":"ROUND(2*P429-0.5*(2*P430-P427),1)","v":{"$error":"#DIV/0!"}},{"$f":"P426-P429","v":{"$error":"#DIV/0!"}},{"$f":"ROUND(M427-R430+R429-(L462+L458)*SIN(RADIANS(L461)),1)","v":-8.4},{"$f":"R426-R429","v":-4.2},{"$f":"ROUND(M427-T430+T429-(L462+L458)*SIN(RADIANS(L461)),1)","v":-8.4},{"$f":"T426-T429","v":-4.2},{"$f":"IF('متغیرها '!X5=2,'اندازه گیری و تحلیل'!F371,IF('متغیرها '!W5=1,'اندازه گیری و تحلیل'!N426,(IF('متغیرها '!W5=2,'اندازه گیری و تحلیل'!P426,(IF('متغیرها '!W5=3,'اندازه گیری و تحلیل'!R426,'اندازه گیری و تحلیل'!T426))))))","v":44.4},{"$f":"V426-V429","v":21.9}]
[null,null,null,null,null,null,null,null,null,null,null,"فاصله عمودی از خط سینه جلو تا خط سینه پشت که از کنارگردن بگذرد",{"$f":"E182","v":0},0,{"$f":"N427-N430","v":0},{"$f":"ROUND(P430+(P428-P431)*0.95*P430/P431,1)","v":{"$error":"#DIV/0!"}},{"$f":"P427-P430","v":{"$error":"#DIV/0!"}},{"$f":"ROUND(M427,1)","v":0},{"$f":"R427-R430","v":0.8},{"$f":"ROUND(M427,1)","v":0},{"$f":"T427-T430","v":0.8},{"$f":"IF('متغیرها '!X5=2,'اندازه گیری و تحلیل'!F372,IF('متغیرها '!W5=1,'اندازه گیری و تحلیل'!N427,(IF('متغیرها '!W5=2,'اندازه گیری و تحلیل'!P427,(IF('متغیرها '!W5=3,'اندازه گیری و تحلیل'!R427,'اندازه گیری و تحلیل'!T427))))))","v":52.5},{"$f":"V427-V430","v":26.2}]
[null,null,null,null,null,null,null,null,null,null,null,"فاصله عمودی از خط کمر جلو تا خط کمر پشت که از کنار گردن بگذرد",{"$f":"E179","v":0},0,{"$f":"N428-N431","v":0},{"$f":"ROUND(M428,1)","v":0},{"$f":"P428-P431","v":0},{"$f":"ROUND(M428,1)","v":0},{"$f":"R428-R431","v":1.5},{"$f":"ROUND(M428,1)","v":0},{"$f":"T428-T431","v":0.8},{"$f":"IF('متغیرها '!X5=2,'اندازه گیری و تحلیل'!F373,IF('متغیرها '!W5=1,'اندازه گیری و تحلیل'!N428,(IF('متغیرها '!W5=2,'اندازه گیری و تحلیل'!P428,(IF('متغیرها '!W5=3,'اندازه گیری و تحلیل'!R428,'اندازه گیری و تحلیل'!T428))))))","v":83},{"$f":"V428-V431","v":42.5}]
[null,null,null,null,null,null,null,null,null,null,null,"فاصله عمودی بین خط سینه پشت و سرشانه، نزدیک دست",{"$f":"E221","v":0},0,{"$f":"N429","v":0},{"$f":"ROUND(P430-(P433-0.036*P434)*SIN(0.12),1)","v":0},{"$f":"P429","v":0},{"$f":"ROUND(R430-0.5*0.01*M428-L462*SIN(RADIANS(L461)),1)","v":-4.2},{"$f":"R429","v":-4.2},{"$f":"ROUND(T430-0.5*0.01*M428-L462*SIN(RADIANS(L461)),1)","v":-4.2},{"$f":"T429","v":-4.2},{"$f":"IF('متغیرها '!X5=2,'اندازه گیری و تحلیل'!F374,IF('متغیرها '!W5=1,'اندازه گیری و تحلیل'!N429,(IF('متغیرها '!W5=2,'اندازه گیری و تحلیل'!P429,(IF('متغیرها '!W5=3,'اندازه گیری و تحلیل'!R429,'اندازه گیری و تحلیل'!T429))))))","v":22.5},{"$f":"V429","v":22.5}]
[null,null,null,null,null,null,null,null,null,null,null,"فاصله عمودی بین خط سینه پشت و سرشانه، نزدیک گردن",{"$f":"E224","v":0},0,0,{"$f":"ROUND(0.6*P431,1)","v":0},0,{"$f":"ROUND(0.5*M427+0.01*M428-0.5*(L458-0.05*M434)*SIN(RADIANS(L461)),1)","v":-0.8},-0.8,{"$f":"ROUND(0.5*M427+0.01*M428-0.5*(L458-0.05*M434)*SIN(RADIANS(L461)),1)","v":-0.8},-0.8,{"$f":"IF('متغیرها '!X5=2,'اندازه گیری و تحلیل'!F375,IF('متغیرها '!W5=1,'اندازه گیری و تحلیل'!N430,(IF('متغیرها '!W5=2,'اندازه گیری و تحلیل'!P430,(IF('متغیرها '!W5=3,'اندازه گیری و تحلیل'!R430,'اندازه گیری و تحلیل'!T430))))))","v":26.3},26.3]
[null,null,null,null,null,null,null,null,null,null,null,"فاصله عمودی بین خط کمرپشت و سرشانه، نزدیک گردن",{"$f":"E227","v":0},0,0,{"$f":"ROUND(0.51*P428,1)","v":0},0,{"$f":"ROUND(0.5*R428-0.5*L460-0.9*(L458-0.05*R434)*SIN(RADIANS(L461)),1)","v":-1.5},-1.5,{"$f":"ROUND(0.51*T428-0.5*L460-0.5*(L458-0.05*T434)*SIN(RADIANS(L461)),1)","v":-0.8},-0.8,{"$f":"IF('متغیرها '!X5=2,'اندازه گیری و تحلیل'!F376,IF('متغیرها '!W5=1,'اندازه گیری و تحلیل'!N431,(IF('متغیرها '!W5=2,'اندازه گیری و تحلیل'!P431,(IF('متغیرها '!W5=3,'اندازه گیری و تحلیل'!R431,'اندازه گیری و تحلیل'!T431))))))","v":40.5},40.5]
[null,null,null,null,null,null,null,null,null,null,null,"دور گردن (متر به طور عمودی دور گردن قرار می گیرد و از روی استخوان ترقوه می گذرد)",{"$f":"E173","v":0},0,0,{"$f":"ROUND(M432,1)","v":0},0,{"$f":"ROUND(M432,1)","v":0},0,{"$f":"ROUND(M432,1)","v":0},0,{"$f":"IF('متغیرها '!X5=2,'اندازه گیری و تحلیل'!F377,IF('متغیرها '!W5=1,'اندازه گیری و تحلیل'!N432,(IF('متغیرها '!W5=2,'اندازه گیری و تحلیل'!P432,(IF('متغیرها '!W5=3,'اندازه گیری و تحلیل'!R432,'اندازه گیری و تحلیل'!T432))))))","v":39},39]
[null,null,null,null,{"$f":"V425-0.26*V434","v":34.843999999999994},":(زنانه)   v3  محاسبه ",null,null,null,null,null,"کارور پشت (بین دو خط امتداد زیر بغل)",{"$f":"E185","v":0},0,0,{"$f":"ROUND(P425-0.24*P434,1)","v":0},0,0,0,0,0,{"$f":"IF('متغیرها '!X5=2,'اندازه گیری و تحلیل'!F378,IF('متغیرها '!W5=1,'اندازه گیری و تحلیل'!N433,(IF('متغیرها '!W5=2,'اندازه گیری و تحلیل'!P433,(IF('متغیرها '!W5=3,'اندازه گیری و تحلیل'!R433,'اندازه گیری و تحلیل'!T433))))))","v":34.799999999999997},34.799999999999997]
[null,null,null,null,{"$f":"V425-0.23*V434","v":35.762}," :( بچگانه و مردانه)   v3  محاسبه ",null,null,null,null,null,"دور بازو از ناحیه زیر بغل",{"$f":"E167","v":0},0,0,{"$f":"ROUND(M434,1)","v":0},0,0,0,0,0,{"$f":"IF('متغیرها '!X5=2,'اندازه گیری و تحلیل'!F379,IF('متغیرها '!W5=1,'اندازه گیری و تحلیل'!N434,(IF('متغیرها '!W5=2,'اندازه گیری و تحلیل'!P434,(IF('متغیرها '!W5=3,'اندازه گیری و تحلیل'!R434,'اندازه گیری و تحلیل'!T434))))))","v":30.6},30.6]
[null,null,null,null,null,null,null,null,null,null,null,"قد آستین (دست به طور خمیده، قد از سرشانه تا مچ)",{"$f":"E158","v":0},0,0,{"$f":"ROUND(M435,1)","v":0},0,0,0,0,0,{"$f":"IF('متغیرها '!X5=2,'اندازه گیری و تحلیل'!F380,IF('متغیرها '!W5=1,'اندازه گیری و تحلیل'!N435,(IF('متغیرها '!W5=2,'اندازه گیری و تحلیل'!P435,(IF('متغیرها '!W5=3,'اندازه گیری و تحلیل'!R435,'اندازه گیری و تحلیل'!T435))))))","v":59},59]
[null,null,null,null,null,null,null,null,null,null,null,"دور مچ دست",{"$f":"E170","v":0},0,{"$f":"1.2*N436","v":0},{"$f":"ROUND(M436,1)","v":0},{"$f":"1.2*P436","v":0},0,{"$f":"1.2*R436","v":0},0,{"$f":"1.2*T436","v":0},{"$f":"IF('متغیرها '!X5=2,'اندازه گیری و تحلیل'!F381,IF('متغیرها '!W5=1,'اندازه گیری و تحلیل'!N436,(IF('متغیرها '!W5=2,'اندازه گیری و تحلیل'!P436,(IF('متغیرها '!W5=3,'اندازه گیری و تحلیل'!R436,'اندازه گیری و تحلیل'!T436))))))","v":18},{"$f":"1.2*V436","v":21.599999999999998}]
[null,null,null,null,null,null,null,null,null,null,null,"دور سر",{"$f":"E176","v":0},0,null,{"$f":"ROUND(M437,1)","v":0},null,0,null,0,null,{"$f":"IF('متغیرها '!X5=2,'اندازه گیری و تحلیل'!F382,IF('متغیرها '!W5=1,'اندازه گیری و تحلیل'!N437,(IF('متغیرها '!W5=2,'اندازه گیری و تحلیل'!P437,(IF('متغیرها '!W5=3,'اندازه گیری و تحلیل'!R437,'اندازه گیری و تحلیل'!T437))))))","v":57}]
[null,null,null,null,null,null,null,null,null,null,"زاویه سرشانه با افق       کم = 1       متوسط=2     زیاد=3","p",2]
[null,null,null,null,null,null,null,null,null,null,"شکم جلوتر از سینه است = 1       شکم در امتداد سینه است=2      شکم عقب تر از سینه است=3","p3",2]
[]
[]
[]
[]
[null,null,null,null,null,null,null,null,null,null,"x1",{"$f":"(2*0.35)*M406/(3.5*3.14)","v":0},null,null,null,null,null,null,null,"اضافه طول عمودی ناشی از برجستگی شکم (ناشی از محاسبه)",null,{"$f":"L485","v":0}]
[null,null,null,null,null,null,null,null,null,null,"x2",{"$f":"1.5*L444","v":0},null,null,null,null,null,null,null,"اضافه طول عمودی ناشی از برجستگی شکم (ناشی از اندازه گیری t3)    s'3 ",null,{"$f":"L487","v":0.8}]
[null,null,null,null,null,null,null,null,null,null,"x'2",{"$f":"1*L444","v":0}]
[null,null,null,null,null,null,null,null,null,null,"y",{"$f":"0.167*(W406-W407-W404+W405)","v":1.3861000000000008}]
[null,null,null,null,null,null,null,null,null,null,"x",{"$f":"0.167*(V407-V405)","v":2.7888999999999995}]
[null,null,null,null,null,null,null,null,null,null,"نسبت برای x1",{"$f":"((V415-2*W414)/(0.28*(V406-V407)))","v":1.08489071903706}]
[null,null,null,null,null,null,null,null,null,null,"زاویه خام سرشانه پشت",{"$f":"DEGREES(ATAN((V430-V429)/(0.5*V433+0.018*V434-0.16*V432)))","v":17.977562430108456}]
[null,null,null,null,null,null,null,null,null,null,"زاویه خام سرشانه جلو",{"$f":"DEGREES(ATAN((V427-V430-V426+V429-0.15*(V424-2*V425))/(0.5*V433+0.018*V434-0.16*V432)))","v":15.918510918442198}]
[null,null,null,null,null,null,null,null,null,null,"اختلاف نسبی زاویه سرشانه",{"$f":"(L451-L450)/(L451+L450)","v":-6.0746018882281531E-2}]
[null,null,null,null,null,null,null,null,null,null,"α'6",{"$f":"IF(ATAN((0.5*(V424-V425-V404+V405))/(V431-V430))>0,ATAN((0.5*(V424-V425-V404+V405))/(V431-V430)),0)","v":0.41167134343189499}]
[null,null,null,null,null,null,null,null,null,null,"زاویه s'3 با خط افق به درجه",{"$f":"ROUND(DEGREES(ATAN((V428-V427-V431+V430-((V431-V430)/COS(L453)))/(0.25*(V404-V405)))),1)","v":5}]
[null,null,null,null,null,null,null,null,null,null," w1 محاسبه",{"$f":"V425-0.23*V434","v":35.762}]
[null,null,null,null,null,null,null,null,null,null,"زاویه خام متوسط سرشانه ",{"$f":"ROUND(0.5*(L450+L451),0)","v":17}]
[]
[null,null,null,null,null,null,null,null,null,null,"پهنای ساسون سرشانه جلو   p1",{"$f":"(1/COS(RADIANS(L461)))*(0.5*V424+(0.122-0.3)*V434-V433)","v":5.9850507143989757}]
[null,null,null,null,null,null,null,null,null,null,"α'6",{"$f":"ATAN((V424-V425-V404+V405)/(V428-V427))","v":0.38614647523085677}]
[null,null,null,null,null,null,null,null,null,null,"s'3",{"$f":"IF(M439=3,0.5*(V428-V427)*((1/COS(L459))-1),IF(M439=1,0.2*0.5*(V428-V427),0))","v":0}]
[null,null,null,null,null,null,null,null,null,null,"p2",{"$f":"IF(M438=1,10,IF(M438=3,23,16))","v":16}]
[null,null,null,null,null,null,null,null,null,null,"w",{"$f":"(1/COS(RADIANS(L461)))*(0.5*V433+0.018*V434-0.16*V432)","v":12.182738633488047}]
[]
[]
[null,null,null,null,null,null,null,null,null,null,"y",{"$f":"0.167*(W406-W407-W404+W405)","v":1.3861000000000008}]
[null,null,null,null,null,null,null,null,null,null,"x",{"$f":"0.167*(V407-V405)","v":2.7888999999999995}]
[]
[null,null,null,null,null,null,null,null,null,null,"زاویه خام سرشانه پشت",{"$f":"DEGREES(ATAN((V430-V429)/(0.5*V433+0.018*V434-0.16*V432)))","v":17.977562430108456}]
[null,null,null,null,null,null,null,null,null,null,"زاویه خام سرشانه جلو",{"$f":"DEGREES(ATAN((V427-V430-V426+V429-0.15*(V424-2*V425))/(0.5*V433+0.018*V434-0.16*V432)))","v":15.918510918442198}]
[null,null,null,null,null,null,null,null,null,null,"اختلاف نسبی زاویه سرشانه",{"$f":"(L469-L468)/(L469+L468)","v":-6.0746018882281531E-2}]
[null,null,null,null,null,null,null,null,null,null,"α'6",{"$f":"ATAN((0.5*(V424-V425-V404+V405))/(V431-V430))","v":0.41167134343189499},{"$f":"DEGREES(L471)","v":23.587030525128245}]
[null,null,null,null,null,null,null,null,null,null,"زاویه s'3 با خط افق به درجه",{"$f":"ROUND(DEGREES(ATAN((V428-V427-V431+V430-((V431-V430)/COS(L471)))/(0.25*(V404-V405)))),1)","v":5}]
[]
[null,null,null,null,null,null,null,null,null,null,"زاویه خام متوسط سرشانه p2",{"$f":"ROUND(0.5*(L468+L469),0)","v":17}]
[]
[null,null,null,null,null,null,null,null,null,null,"میزان برجستگی باسن",{"$f":"ROUND(500*(L466/(V410-V412)),0)","v":63}]
[]
[null,null,null,null,null,null,null,null,null,null,"پهنای ساسون سرشانه جلو  p1",{"$f":"(1/COS(RADIANS(L474)))*(0.5*V424+(0.122-0.3)*V434-V433)","v":6.0160738134218663}]
[null,null,null,null,null,null,null,null,null,null,"میزان برجستگی سینه",{"$f":"ROUND(500*(L478/V425),0)","v":70}]
[]
[null,null,null,null,null,null,null,null,null,null,"  ناشی از ساسون کمر    α''6",{"$f":"ATAN((0.5*(V424-V425-V405))/(V431-V430))","v":0.45799795159722173},{"$f":"DEGREES(L481)","v":26.241349652157766}]
[null,null,null,null,null,null,null,null,null,null,"  ناشی از ساسون سرشانه    α''6",{"$f":"ATAN((L478)/(V428-V431-V427+V430))","v":0.35357422842930619},{"$f":"DEGREES(L482)","v":20.258311033593731}]
[null,null,null,null,null,null,null,null,null,null,"متوسط    α''6",{"$f":"0.5*(L481+L482)","v":0.40578609001326393},{"$f":"DEGREES(L483)","v":23.249830342875747}]
[null,null,null,null,null,null,null,null,null,null,"میزان برجستگی عمودی شکم",{"$f":"ROUND(IF(L471>0,20*(L483-L471)/L483,20+150*(L483-L471)*L483),0)","v":0}]
[null,null,null,null,null,null,null,null,null,null,"اضافه طول عمودی ناشی از برجستگی شکم (ناشی از محاسبه)",{"$f":"ROUND(IF(L471>0,(V431-V430)*(-(1/COS(L483))+(1/COS(L471))),(V431-V430)*((1/COS(L483))+(1/COS(L471))-2)),1)","v":0}]
[null,null,null,null,null,null,null,null,null,null,"اضافه طول عمودی ناشی از برجستگی سینه",{"$f":"ROUND((V431-V430)*((1/COS(L483))-1),1)","v":1.3}]
[null,null,null,null,null,null,null,null,null,null,"اضافه طول عمودی ناشی از برجستگی شکم (ناشی از اندازه گیری t3)    s'3 ",{"$f":"ROUND(V428-V427-V431+V430-((V431-V430)/COS(L483)),1)","v":0.8}]

{"sheet":"طراحی همه الگوها","index":7,"n_rows":519,"n_cols":22,"rows_kept":519,"cut":false,"hidden":true,"merged":[]}
[]
[]
[]
[]
[null,null,null,null,null,null,null,null,null,null,null,null,null,null,null,null,null,null,""]
[]
[]
[]
[]
[]
[]
[]
[]
[]
[]
[]
[]
[]
[]
[]
[]
[]
[]
[]
[]
[]
[]
[]
[]
[]
[]
[]
[]
[]
[]
[]
[]
[]
[]
[]
[]
[]
[]
[]
[]
[]
[]
[]
[]
[]
[]
[]
[]
[]
[]
[]
[]
[]
[]
[]
[]
[]
[]
[]
[]
[]
[]
[]
[]
[]
[]
[]
[]
[]
[]
[]
[]
[]
[]
[]
[]
[]
[]
[]
[]
[]
[]
[]
[]
[]
[]
[]
[]
[]
[]
[]
[]
[]
[]
[]
[]
[]
[]
[]
[]
[]
[]
[]
[]
[]
[]
[]
[]
[]
[]
[]
[]
[]
[]
[]
[]
[]
[]
[]
[]
[]
[]
[]
[]
[]
[]
[]
[]
[]
[]
[]
[]
[]
[]
[]
[]
[]
[]
[]
[]
[]
[]
[]
[]
[]
[{"$f":"'طراحی مدل 30a'!A326","v":"زلیخا ۵ ۹۹"},null,null,{"$f":"'طراحی مدل 30a'!A326","v":"زلیخا ۵ ۹۹"},null,null,{"$f":"'طراحی مدل 30a'!A326","v":"زلیخا ۵ ۹۹"},null,null,{"$f":"'طراحی مدل 30a'!A326","v":"زلیخا ۵ ۹۹"}]
["محاسبات در بافت بالاتنه و آستین (بافت انتخابی) ",null,null,"یقه شکاری - بافت کشباف","تعداد دانه",null,"یقه شومیزیه - بافت همه از زیر","تعداد دانه",null,"یقه انگلیسی - بافت جودانه","تعداد دانه"]
[" b6  تعداد دانه های جادکمه ",{"$f":"محاسبات!I84","v":8},null,"a1",{"$f":"محاسبات!L77","v":164},null,"e1",{"$f":"محاسبات!O77","v":101},null,"d1",{"$f":"محاسبات!R77","v":80}]
["b3  تعداد دانه های جلو بدون جادکمه",{"$f":"محاسبات!J85","v":12},null,"a2",{"$f":"محاسبات!L78","v":7},null,"e2",{"$f":"محاسبات!O78","v":4},null,"d2",{"$f":"محاسبات!R78","v":13}]
["b4   تعداد دانه های آستین",{"$f":"محاسبات!J86","v":14},null,"a3",{"$f":"محاسبات!L79","v":19},null,"e3",{"$f":"محاسبات!O79","v":14},null,"d3",{"$f":"محاسبات!R79","v":8}]
["b5  تعداد دانه های پشت",{"$f":"محاسبات!J87","v":22},null,"a4",{"$f":"محاسبات!L80","v":38},null,"e4",{"$f":"محاسبات!O80","v":21},null,"d4",{"$f":"محاسبات!R80","v":5}]
[" b2  تعداد دانه های اضافه شده  از خط مرکزی تا خط جادکمه = نیمه جادکمه",{"$f":"محاسبات!F76","v":4},null,"a5",{"$f":"محاسبات!L81","v":57},null,"e5",{"$f":"محاسبات!O81","v":28},null,"d5",{"$f":"محاسبات!R81","v":96}]
["(بدون اعمال بافت اننتخابی)  b1 تعداد دانه ها  دور تا دور گردن ",{"$f":"محاسبات!F77","v":82},null,"a6",{"$f":"محاسبات!L82","v":9},null,"e6",{"$f":"محاسبات!O82","v":4},null,"d6",{"$f":"محاسبات!R82","v":22}]
["تعداد رج دوبل برای گودی گردن جلو b13",{"$f":"محاسبات!F78","v":5},null,null,null,null,"e7",{"$f":"محاسبات!O83","v":4},null,"d7",{"$f":"محاسبات!R83","v":14}]
["تعداد رج سوبل برای گودی گردن جلو b13",{"$f":"محاسبات!F79","v":3},null,null,null,null,"e8",{"$f":"محاسبات!O84","v":4},null,"d8",{"$f":"محاسبات!R84","v":23}]
["فاصله  گردن تا محل جدا شدن آستین در قسمت جلو (cm)     b7",{"$f":"محاسبات!F80","v":28},null,{"$f":"'طراحی مدل 30a'!A326","v":"زلیخا ۵ ۹۹"},null,null,"e9",{"$f":"محاسبات!O85","v":0},null,"d9",{"$f":"محاسبات!R85","v":6}]
["تعداد دانه های اضافه شده زیر بغل   b8",{"$f":"محاسبات!F81","v":11},null,"یقه ب ب گرد - بافت همه از زیر","تعداد دانه",null,null,null,null,"d10",{"$f":"محاسبات!R86","v":11}]
["تعداد دانه های سرتاسر آستین در قسمت زیر بغل   b20",{"$f":"محاسبات!F82","v":98},null,"c1",{"$f":"محاسبات!I77","v":131},null,null,null,null,"d12",{"$f":"محاسبات!R87","v":82}]
["فاصله زیر بغل تا پایین لباس (cm)     b9",{"$f":"محاسبات!F83","v":48},null,"c2",{"$f":"محاسبات!I78","v":12}]
["فاصله زیر بغل تا لبه پایین آستین (cm)     b10",{"$f":"محاسبات!F84","v":46},null,"c3",{"$f":"محاسبات!I79","v":23}]
["گشادی لبه پایین آستین (cm)     b'11",{"$f":"محاسبات!F85","v":29},null,"c4",{"$f":"محاسبات!I80","v":13}]
["تعداد دانه ها  لبه پایین آستین      b'12",{"$f":"محاسبات!F86","v":52}]
["پهنای مچ جدا در پایین آستین (cm)     b14",{"$f":"محاسبات!F87","v":10}]
["گشادی مچ جدا در پایین آستین (cm)     b15",{"$f":"محاسبات!F88","v":27}]
["در بالای مچ جدا هر b12   دانه یکی کم شود",{"$f":"محاسبات!F89","v":14}]
["هر b11   رج در بافت آستین یکدانه از ابتدا و یکدانه از انتها کم شود",{"$f":"محاسبات!F90","v":5}]
[]
[]
["طراحی الگو جلو و پشت",null,null,"طراحی یقه و جیب در الگو جلو و پشت",null,null,"طراحی الگو یقه جدا و کلاه و بافت ",null,null,"طراحی الگو آستین ",null,null,"طراحی الگو شلوار",null,null,"طراحی الگو چادر یا مقنعه",null,null,null,null,"رسم الگو چادر یا مقنعه"]
[null,null,null,null,null,null,null,null,null,"انتخاب نوع آستین و سرشانه",4]
[null,null,null,null,null,null,null,null,null,null,null,null,"طراحی کلی شلوار",null,null,"طراحی چادر شماره 1 یا مقنعه ","عکس راهنما",null,null,"رسم دستی چادر 1 یا مقنعه چانه دار(بر حسب سانتیمتر)"]
[null,null,null,null,null,null,null,null,null,null,null,null," گشاد یا تنگ شدن اندازه های عرضی در شلوار    ",-5,null,"لبه پایین چادر یا مقنعه",70,null,null,"(j1 → j2)",{"$f":"ROUND(محاسبات!G19+0.1*محاسبات!G13-محاسبات!G20,1)","v":70.900000000000006}]
[null,null,null,null,null,null,null,null,null,null,null,null," گشاد یا تنگ شدن اندازه های طولی در شلوار    ",0,null,"انتخاب چادر تا پایین پیشانی یا بالای پیشانی یا روی سر",2,null,null,"(j1 → j3)",{"$f":"ROUND((0.21+'متغیرها '!C6*0.1)*محاسبات!G13,1)","v":12.4}]
[null,null,null,null,null,null,null,null,null,null,null,null,"کوتاهی پایین شلوار  (قد شلوار)   ",10,null,null,null,null,null,"(j1 → j6)",{"$f":"ROUND(0.1*محاسبات!G13,1)","v":5.9}]
[null,null,null,null,null,null,null,null,null,null,null,null," گشادی پاچه شلوار ",10,null,null,null,null,null,"(j1 → j7)",{"$f":"ROUND(0.28*محاسبات!G13,1)","v":16.5}]
[null,null,null,null,null,null,null,null,null,null,null,null," گشادی دور زانو ",4,null,null,null,null,null,"(j7 → j8)",{"$f":"ROUND(1+0.2*U179,1)","v":2.2000000000000002}]
[null,null,null,null,null,null,null,null,null,null,null,null,"ضریب عرض زیپ   ",6,null,null,null,null,null,"(j7 → j9)",{"$f":"ROUND(0.3*محاسبات!G13+20,1)","v":37.700000000000003}]
[null,null,null,null,null,null,null,null,null,null,null,null,"جابجایی افقی کل الگو جلو شلوار (سانتیمتر)  ",6,null,null,null,null,null,"(j3 → j11)",{"$f":"ROUND(0.18*محاسبات!G13,1)","v":10.6}]
[null,null,null,null,null,null,null,null,null,null,null,null,"جابجایی عمودی کل الگو جلو شلوار (سانتیمتر)  ",0,null,null,null,null,null,"(j3 → j12)",{"$f":"ROUND(0.15*محاسبات!G13,1)","v":8.9}]
[null,null,null,null,null,null,null,null,null,null,null,null,"جابجایی افقی کل الگو پشت شلوار (سانتیمتر)  ",5,null,null,null,null,null,{"$f":"'طراحی مدل 30a'!A326","v":"زلیخا ۵ ۹۹"}]
[null,null,null,null,null,null,null,null,null,"جابجایی افقی کل آستین رگلان بدون درز (سانتیمتر)",-4.5,null,"جابجایی عمودی کل الگو پشت شلوار (سانتیمتر)  ",0]
["جابجایی افقی تکه  پهلو جلو   (سانتیمتر)",0,null,null,null,null,null,null,null,null,null,null,null,null,null,"طراحی چادر شماره 2",null,null,null,"رسم دستی چادر 2 (بر حسب سانتیمتر)"]
["جابجایی افقی تکه پهلو پشت  (سانتیمتر)",0,null,null,null,null,null,null,null,null,null,null,"اطلاعات شلوار و اندام",null,null,"لبه پایین چادر",10,null,null,"(1 →2)",{"$f":"ROUND(محاسبات!AH44+محاسبات!AH45-0.07*'متغیرها '!U85+0.1*'متغیرها '!C14*'متغیرها '!U85,1)","v":175.2}]
["جابجایی عمودی تکه پهلو پشت  (سانتیمتر)",0,null,null,null,null,null,null,null,null,null,null,"گشادی لبه شلوار (سانتیمتر) (محاسبه شده)",{"$f":"'متغیرها '!B604","v":41},null,"مکان نقطه اتصال جلو چادر به پشت چادر  ",20,null,null,"(1 →3)",{"$f":"ROUND('متغیرها '!C11*((محاسبات!AH44+محاسبات!AH45-0.07*'متغیرها '!U85)+محاسبات!AH43),1)","v":78.8}]
[null,null,null,null,null,null,null,null,null,null,null,null,"دور کمر (سانتیمتر) (اندازه گیری شده)",{"$f":"'متغیرها '!B605","v":97},null,"گشادی عرضی چادر  ",20,null,null,"(1 → 4)",{"$f":"ROUND(0.26*'متغیرها '!U85*'متغیرها '!C10,1)","v":15.3}]
[null,null,null,null,null,null,null,null,null,null,null,null,"طول کش برای کل کمر شلوار (سانتیمتر) (محاسبه شده)",{"$f":"'متغیرها '!B606","v":77.599999999999994},null,"گشادی لبه پایینی مچ  ",7,null,null,"(6→7)",{"$f":"0.93*U201","v":28.458000000000002}]
[null,null,null,null,null,null,null,null,null,null,null,null,"طول کش برای پشت کمر بین دو خط پهلو (سانتیمتر) (محاسبه شده)",{"$f":"'متغیرها '!B607","v":35.700000000000003},null,"مکان لبه پایینی آستین چادر ",10,null,null,"(5 →8)",{"$f":"ROUND(0.73*U189-U190,1)","v":42.2}]
[null,null,null,"طراحی یقه هفت",null,null,null,null,null,null,null,null,"طول کش از ساسون جلو - پشت - تا ساسون دیگر جلو (سانتیمتر) (محاسبه شده)",{"$f":"'متغیرها '!B608","v":48.3},null,"انتخاب چادر تا پایین پیشانی یا بالای پیشانی یا روی سر",2,null,null,"(8 →9)",{"$f":"ROUND(0.5*U191,1)","v":14.2}]
[null,null,null,"باز شدن یقه هفت روی سرشانه     ",null,null,null,null,null,null,null,null,null,null,null,null,null,null,null,"(8 →10)",{"$f":"ROUND(U195+(U188-U195-محاسبات!W36+'متغیرها '!U83)*(1-COS(ASIN(U192/(U188-U195-محاسبات!W36+'متغیرها '!U83)))),1)","v":36.1}]
[null,null,null,"باز شدن یقه هفت روی خط مرکزی جلو ",null,null,null,null,null,null,null,null," کمر شلوار",null,null,null,null,null,null,"(5 →11)",{"$f":"ROUND('طراحی همه الگوها'!U178+U190+0.1*'متغیرها '!C14*'متغیرها '!U85*1.5,1)","v":27.7}]
[null,null,null,null,null,null,null,null,null,null,null,null," پایین آمدن کمر شلوار نسبت به کمر اندام   (سانتیمتر)",-5,null,null,null,null,null,"(3 →12)",{"$f":"ROUND(محاسبات!W36-U189+'متغیرها '!C13*'متغیرها '!U83,1)","v":20.100000000000001}]
[null,null,null," کنترل یقه هفت بدون زیپ ",null,null,null,null,null," آستین کتی",null,null," پهنای کمر جدا در شلوار  (سانتیمتر) ",3.5,null,null,null,null,null,"(12 →13)",{"$f":"ROUND(محاسبات!F425*'متغیرها '!C12,1)","v":20.6}]
[null,null,null,"دور سر",{"$f":"'متغیرها '!B267","v":59},null,null,null,null,"میزان خمیدگی آستین کتی  ",3,null,"کوتاهی جلو کمر شلوار نسبت به پشت کمر شلوار (سانتیمتر) ",0,null,null,null,null,null,"(3 →14)",{"$f":"ROUND(U197+U196*TAN(محاسبات!F423-RADIANS(90)+'متغیرها '!B245),1)","v":23.3}]
[null,null,null," دور یقه هفت لباس",{"$f":"'متغیرها '!B268","v":71.099999999999994},null,null,null,null,"ضریب طول مستطیل جادکمه کتی",20,null,"جابجایی افقی  جلو کمر شلوار (سانتیمتر)  ",0,null,null,null,null,null,"(5 →15)",{"$f":"ROUND(0.5*(محاسبات!Y17-محاسبات!Y16),1)","v":21.1}]
[null,null,null,"آیا یقه هفت با پارچه غیر کش از سر رد میشود؟",{"$f":"'متغیرها '!E269","v":"بله "},null,null,null,null,"ضریب عرض مستطیل جادکمه کتی",15,null,"جابجایی عمودی  جلو کمر شلوار (سانتیمتر)  ",5,null,null,null,null,null,"(15 →16)",{"$f":"ROUND(0.35*(محاسبات!Z18-محاسبات!Z17),1)","v":5}]
[null,null,null,"آیا یقه هفت با پارچه نیم کش از سر رد میشود؟",{"$f":"'متغیرها '!E270","v":"بله "},null,null,null,null,"جابجایی افقی تکه جلو آستین کتی (سانتیمتر)",0,null,"جابجایی افقی  پشت کمر شلوار (سانتیمتر)  ",0,null,null,null,null,null,"(15 →17)",{"$f":"ROUND(محاسبات!Z15+0.35*(محاسبات!Z19-محاسبات!Z15),1)","v":30.6}]
[null,null,null,null,null,null,null,null,null,null,null,null,"جابجایی عمودی  پشت کمر شلوار (سانتیمتر)  ",5,null,null,null,null,null,"(8 →18)",{"$f":"ROUND(0.5*(محاسبات!Y22-محاسبات!Y21),1)","v":10.7}]
[null,null,null,"طراحی یقه انگلیسی و آرشال ",null,null,null,null,null," جادکمه آستین بلند یا کوتاه",null,null,null,null,null,null,null,null,null,"(18 →19)",{"$f":"ROUND(محاسبات!Z18+0.45*(محاسبات!Z23-محاسبات!Z18),1)","v":20.6}]
[null,null,null,"پهنای جادکمه جلو      مرحله اول در طراحی یقه انگلیسی",null,null,null,null,null,"ضریب طول مستطیل ",7,null,"  شلوار متصل به بالاتنه",null,null,null,null,null,null,"(18 →20)",{"$f":"ROUND(محاسبات!Z23+0.8*(محاسبات!Z19-محاسبات!Z23),1)","v":34.6}]
[null,null,null,"باز شدن یقه روی سرشانه    مرحله دوم در طراحی یقه انگلیسی    ",null,null,null,null,null,"ضریب عرض مستطیل ",5,null," بلند شدن فاق در شلوار متصل به بالاتنه    ",10,null,null,null,null,null,"(1 →21)",{"$f":"ROUND(0.1*'متغیرها '!U85,1)","v":5.9}]
[null,null,null,"باز شدن یقه روی خط مرکزی پشت   مرحله دوم در طراحی یقه انگلیسی    ",null,null,null,null,null,null,null,null," بزرگی پهنای جادکمه پهلو",4,null,null,null,null,null,"(4 →22)",{"$f":"ROUND(0.7*U205,1)","v":4.0999999999999996}]
[null,null,null,"پهنای یقه در پشت گردن (انگلیسی، آرشال)    مرحله سوم در طراحی یقه انگلیسی",20,null,null,null,null,null,null,null,null,null,null,null,null,null,null,{"$f":"'طراحی مدل 30a'!A326","v":"زلیخا ۵ ۹۹"}]
["  نوع پیراهن",null,null,"باز بودن جلو یقه (انگلیسی، آرشال، هفت، پشت گردنی) مرحله چهارم در طراحی یقه انگلیسی ",20,null,null,null,null,"طول کل حلقه آستین با اپل (سانتیمتر)",{"$f":"'متغیرها '!B525","v":51.1},null," جزئی شلوار"]
["انتخاب الگو جلو ترک ( سوتین)=2         انتخاب الگو جلو با ساسون (مایو)=1",1,null,"پهنای بالای دال   مرحله پنجم در طراحی یقه انگلیسی ",20,null,null,null,null,"طول کل حلقه آستین با ساسون (سانتیمتر)",{"$f":"'متغیرها '!B526","v":49.3},null,"ضریب گشادی دور ران یا نسبت گشادی پشت پاچه به جلو پاچه  ",1.2,null,"طراحی چادر شماره 3",null,null,null,"رسم دستی چادر 3 (بر حسب سانتیمتر)"]
[null,null,null,"پهنای پایین دال   مرحله پنجم در طراحی یقه انگلیسی      ",20,null,null,null,null,null,null,null,"زاویه خط پهلو جلو   ","روش مولر",null,"لبه پایین چادر",10,null,null,"(1 →2)",{"$f":"ROUND(محاسبات!G19+0.1*'متغیرها '!U85-محاسبات!AX33,1)","v":166.9}]
[" اوزمان ها در دامن",null,null,"پهنای جلو یقه (انگلیسی، آرشال)   مرحله ششم در طراحی یقه انگلیسی ",20,null,null,null,null,"طول حلقه آستین مدل 85 (سانتیمتر)",{"$f":"'متغیرها '!B528","v":51.9},null," پهنای صافی لبه پایین شلوار   ",0,null,"گشادی لبه پایینی مچ  ",5,null,null,"(1 →3)",{"$f":"ROUND('متغیرها '!C21,1)","v":110}]
["میزان پایین آمدن نقطه شروع اوزمان از خط کمر  ",28,null,"وسط دال پایین یا بالا رود (انگلیسی، آرشال)   مرحله هفتم در طراحی یقه انگلیسی",20,null,null,null,null,"طول حلقه آستین مدل 83 کت مردانه (سانتیمتر)",{"$f":"'متغیرها '!B529","v":48.4},null," بالا یا پایین رفتن خط زانو   ",0,null,"گشادی پایین چادر (معادل کوتاهی طول مچ چادر)",15,null,null,"(1 → 4)",{"$f":"ROUND(محاسبات!AX34*COS(RADIANS(محاسبات!AX32)),1)","v":75.2}]
["اوزمان در خط پهلو جلو دامن  ",0,null," زاویه بالای دال     مرحله هشتم در طراحی یقه انگلیسی",20,null,null,null,null,"طول تاج آستین کتی (سانتیمتر)",{"$f":"'متغیرها '!B530","v":56.4},null," پهنای فاق جلو (در روش مولر این ضریب ثابت مساوی 0.06 می باشد)   ",5,null,"مکان لبه پایینی آستین چادر ",10,null,null,"(4→5)",{"$f":"ROUND(محاسبات!AX34*SIN(RADIANS(محاسبات!AX32)),1)","v":48.9}]
["اوزمان در خط ترک جلو دامن  ",0,null," زاویه پایین دال      مرحله هشتم در طراحی یقه انگلیسی ",20,null,null,null,null,null,null,null," زاویه خط وسط پا در پشت شلوار   ",2,null,"عرض پارچه  (سانتیمتر)",110,null,null,"(5 →6)",{"$f":"ROUND(U225*COS(RADIANS(محاسبات!AX35)),1)","v":18.600000000000001}]
["اوزمان در خط  پهلو پشت دامن   ",0,null," دال رو به پایین یا رو به بالا شود    مرحله هشتم در طراحی یقه انگلیسی  ",20,null,null,null,null,null,null,null," بلندی ساسون پشت شلوار   ",20,null,"انتخاب چادر تا پایین پیشانی یا بالای پیشانی یا روی سر",2,null,null,"(6 →7)",{"$f":"ROUND(U225*SIN(RADIANS(محاسبات!AX35)),1)","v":5}]
["اوزمان در خط مرکزی پشت دامن  ",0,null,"   محاسبه در یقه شکاری متصل به یقه هفت   ",{"$f":"'متغیرها '!B173","v":0.23},null,null,null,null,"  آستر مچ جدا در آستین",null,null,"بلندی ساسون جلو شلوار   ",20,null,null,null,null,null,"(2 →8)",{"$f":"ROUND(U211,1)","v":110}]
["اوزمان در خط ترک پشت دامن  ",0,null,null,null,null,null,null,null,"انتخاب مچ اندامی=2        انتخاب مچ مستطیل یا مچ پفی=1",2,null," پهنای ساسون وسط پشت شلوار   ",10,null,null,null,null,null,"(8 →9)",{"$f":"ROUND(U219,1)","v":69.3}]
["انتخاب پیراهن ترک گشاد=2            انتخاب دیگر=1",1,null," طراحی تکه پشت یقه انگلیسی و آرشال  ",null,null,null,null,null,"گشادی لبه بالایی مچ ",5,null," پهنای ساسون پهلو پشت شلوار   ",5,null,null,null,null,null,"(9→10)",{"$f":"ROUND(2*(U210-U212+U215-U217),1)","v":54.8}]
[null,null,null,"پهنای پشت پایه (انگلیسی، آرشال)    مرحله سوم در طراحی یقه انگلیسی      ",20,null," جابجایی کلاه",null,null,"گشادی لبه پایینی مچ یا (گشادی مچ مستطیل یا مچ پفی)  ",8,null," پهنای ساسون وسط جلو شلوار   ",10,null,null,null,null,null,"(3→11)",{"$f":"ROUND(U210+محاسبات!AH45-U211+0.1*'متغیرها '!C22*'متغیرها '!U85,1)","v":69.3}]
[" انتقال ساسون سرشانه به زیر بغل، عصایی یا خط مرکزی جلو",null,null,"زاویه کج شدن پایه مستطیل به قسمت گردن    مرحله سوم در طراحی یقه انگلیسی ",20,null,"جابجایی افقی کلاه  (سانتیمتر)",-30,null,"مکان لبه بالایی مچ",30,null," پهنای ساسون پهلو جلو شلوار   ",5,null,null,null,null,null,"(12 →13)",{"$f":"ROUND(1+1.5*(U211+U219-محاسبات!AH45-((U210-U217-U218)/TAN((U210-U217-U218)/(U211+U219-محاسبات!AH45)))),1)","v":6.5}]
[" برای حذف کامل ساسون سرشانه مجموع c1 و c2 باید 10 شود.",null,null,"پهنای جلو پایه مستطیل      مرحله سوم در طراحی یقه انگلیسی       ",20,null,"جابجایی عمودی کلاه (سانتیمتر)",20,null,"مکان لبه پایینی مچ",15,null," ساسون پهلو در کمر جدا شلوار   ",0,null,null,null,null,null,"(8 →14)",{"$f":"U220","v":6.5}]
["انتقال ساسون سرشانه جلو به ساسون زیر بغل یا ساسون عصایی  c1",10,null,"انتخاب یقه انگلیسی پایه سرخود یا پایه جدا    مرحله سوم در طراحی یقه انگلیسی",1,null,null,null,null,"جابجایی افقی آستر مچ  (سانتیمتر)   ",0,null,null,null,null,null,null,null,null,"(2→15)",{"$f":"0.4*(U211+U210-U217-U218)","v":61.119999999999983}]
["انتقال ساسون سرشانه به خط مرکزی جلو c2",0,null,"تغییر انحنا بالا سمت چپ     مرحله نهم در طراحی یقه انگلیسی          ",20,null,"طراحی کلی کلاه ",null,null,"جابجایی عمودی آستر مچ  (سانتیمتر)  ",0,null," برش پشت  شلوار جین",null,null,null,null,null,null,"(15→16)",{"$f":"ROUND((U210-محاسبات!W36+'متغیرها '!U83)*(1-COS(ASIN((U222)/(U210-محاسبات!W36+'متغیرها '!U83)))),1)","v":15.4}]
["انتخاب (اصلاح سرشانه و حلقه آستین برای c1 >10 ) = 2     انتخاب دیگر=1",1,null,"تغییر انحنا بالا    مرحله نهم در طراحی یقه انگلیسی ",40,null,"ضریب بزرگ یا کوچک شدن کلاه",0,null,null,null,null," بالا یا پایین شدن خط برش در قسمت پهلو پشت شلوار جین   ",20,null,null,null,null,null,"(17 →18)",{"$f":"ROUND(('متغیرها '!C20+'متغیرها '!C19)*'متغیرها '!U83,1)","v":9.1999999999999993}]
[null,null,null,"زاویه تکه پشت یقه روی خط مرکزی پشت",20,null,"انتخاب کلاه ملوانی برای موهای دم اسبی که از پشت بسته شود ",1,null,"  آستین کلوش ",null,null," بالا یا پایین شدن خط برش در قسمت مرکزی پشت شلوار جین   ",20,null,null,null,null,null,"(17→19)",{"$f":"ROUND(U226+U224*TAN(محاسبات!AX36-RADIANS(90)+محاسبات!AH15),1)","v":19.3}]
[" انتقال ساسون سرشانه به زیر بغل، عصایی یا خط مرکزی پشت",null,null,"زاویه تکه پشت یقه با پایه روی خط مرکزی پشت",20,null," پهنای بلیطی جلو کلاه",0,null,"بلندی پایین آستین کلوش",30,null,null,null,null,null,null,null,null,"(18→20)",{"$f":"ROUND(محاسبات!AX37*'متغیرها '!C18,1)","v":18.100000000000001}]
[" برای حذف کامل ساسون سرشانه مجموع c1 و c2 باید 10 شود.",null,null,"تغییر انحنا پایین روی خط مرکزی پشت",20,null," بلندی بلیطی جلو کلاه",0,null," اوزمان آستین کلوش ",15,null,"  دامن شلواری",null,null,null,null,null,null,"(2→21)",{"$f":"0.6*U222","v":36.67199999999999}]
["انتقال ساسون سرشانه پشت به ساسون زیر بغل یا عصایی  c1",0,null,"تغییر انحنا پایین",20,null," بلندی انحنا جلو کلاه",4,null,null,null,null," بلند شدن فاق در دامن شلواری    ",10,null,null,null,null,null,"(21→22)",{"$f":"ROUND(0.45*U223,1)","v":6.9}]
["انتقال ساسون سرشانه به خط مرکزی پشت c2",0,null,"اعمال ضخیم دوزی در سجاف یقه انگلیسی و آرشال  ",20,null," پهنای انحنا روی صورت",8,null," آستین کلوش معکوس ",null,null," اوزمان در جلو دامن شلواری      ",8,null,null,null,null,null,{"$f":"'طراحی مدل 30a'!A326","v":"زلیخا ۵ ۹۹"}]
[null,null,null,"جابجایی افقی پایه مستطیل  (سانتیمتر)",0,null," پهنای انحنا بالای پیشانی",6,null,"بلندی پایین آستین کلوش معکوس",30,null," اوزمان در پشت دامن شلواری      ",8]
[" ساسون زیر بغل",null,null,"جابجایی عمودی پایه مستطیل  (سانتیمتر)",0,null,null,null,null," اوزمان آستین کلوش معکوس ",5,null,null,null,null,"طراحی چادر شماره 4",null,null,null,"رسم دستی چادر  4  (بر حسب سانتیمتر)"]
["ضریب کوتاه شدن ساسون زیر بغل جلو  ",9,null,"جابجایی افقی پایه لبه گرد یقه انگلیسی (سانتیمتر)",0,null," کلاه متصل به یقه مربعی",null,null,null,null,null," شلوار با تکه پهلو جدا",null,null,"لبه پایین چادر",10,null,null,"(1 →2)",{"$f":"ROUND(U233+محاسبات!AH45+0.1*'متغیرها '!C32*'متغیرها '!U85,1)","v":179.3}]
["ضریب کوتاه شدن ساسون زیر بغل پشت  ",7,null,"جابجایی عمودی پایه لبه گرد یقه انگلیسی (سانتیمتر)",0,null,"بالا یا پایین رفتن خط کارور",30,null," آستین رگلان درز دار",null,null," پهنای تکه پهلو جلو شلوار   ",12,null,"گشادی پشت چادر نسبت به جلو چادر  ",3,null,null,"(1 →4)",{"$f":"ROUND(محاسبات!G19+0.1*'متغیرها '!U85-محاسبات!BL39,1)","v":166.9}]
[null,null,null,"جابجایی افقی پایه یقه آرشال (سانتیمتر)",0,null,"پهنای کارور جلو",48,null,"میزان خمیدگی بدن به سمت جلو   ",3,null," پهنای تکه پهلو پشت شلوار   ",6,null,"مکان لبه پایینی آستین چادر ",10,null,null,"(2 → 3)",{"$f":"ROUND(U232*TAN(RADIANS('متغیرها '!C26)),1)","v":9.4},"عمود"]
["  تنظیم ساسون های بالای کمر",null,null,"جابجایی عمودی پایه یقه آرشال (سانتیمتر)",0,null,null,null,null,"میزان خم شدن سرشانه در آستین  ",3,null," باریک شدن پایین تکه پهلو جلو شلوار   ",5,null,"گشادی لبه پایینی آستین چادر ",7,null,null,"(4→5)",{"$f":"ROUND(U233*TAN(RADIANS('متغیرها '!C26)),1)","v":8.6999999999999993},"عمود"]
["مجموع ضرایب پهنای دو ساسون پشت باید کمتر از 20 یا مساوی 20 باشد.",null,null,null,null,null," کلاه ملوانی",null,null,"پهنای ساسون مچ روی درز آستین  ",3,null," باریک شدن پایین تکه پهلو پشت شلوار   ",5,null,"مکان لبه بالایی آستین چادر ",30,null,null,"(1 →10)",{"$f":"ROUND(محاسبات!W36+'متغیرها '!C27*'متغیرها '!U83,1)","v":98.9},"زاویه 45"]
["اگر مجموع پهنای ساسون ها کمتر از 20 باشد، باقیمانده ساسون ها روی خط پهلو قرار میگیرد.",null,null,"مراحل مختلف در طراحی یقه انگلیسی",null,null,"بالا یا پایین رفتن قسمت پایین کلاه روی خط مرکزی جلو",12,null,"میزان روی هم آمدن سرشانه در دو تکه آستین رگلان  ",10,null,"جابجایی افقی تکه پهلو شلوار (سانتیمتر)  ",2,null,"گشادی پایین چادر  ",20,null,null,"(10 →11)",{"$f":"ROUND('متغیرها '!C28*'متغیرها '!U84*0.5,1)","v":17.899999999999999},"عمود"]
[" ضریب پهنای ساسون روی خط مرکزی پشت بالاتنه   ",0,null,"پهنای جادکمه جلو - میزان روی هم آمدن یقه انگلیسی","مرحله اول",null,"پهنای قسمت پایین کلاه",4,null,"زاویه درز روی آستین نسبت به عمود  ",3,null,"جابجایی عمودی تکه پهلو شلوار (سانتیمتر)  ",0,null," بیشترین مقدار گشادی پایین چادر  برای اندام شما",{"$f":"'متغیرها '!B31","v":53},null,null,"(12 →13)",{"$f":"ROUND(محاسبات!BK35-محاسبات!BK37,1)","v":19}]
[" ضریب طول ساسون روی خط مرکزی پشت بالاتنه   ",15,null,"میزان باز بودن یقه گرد - نشان میدهد یقه چقدر به گردن میچسبد","مرحله دوم",null,null,null,null,"میزان انحنا لبه جلو آستین  ",1,null,null,null,null,"انتخاب چادر تا پایین پیشانی یا بالای پیشانی یا روی سر",2,null,null,"(13 →9)",{"$f":"ROUND(محاسبات!BJ35-محاسبات!BJ29,1)","v":32.4},"عمود"]
[" ضریب پهنای ساسون میانی پشت بالاتنه   ",10,null,"پهنای تکه پشت یقه انگلیسی","مرحله سوم",null,"طراحی بافت ",null,null,"میزان انحنا لبه پشت آستین  ",1,null,"  شلوار رکاب دار",null,null,"مکان افقی الگو مرغک",40,null,null,"(12 →14)",{"$f":"ROUND(محاسبات!BK37-محاسبات!BK34,1)","v":76.099999999999994}]
[" ضریب طول ساسون میانی پشت بالاتنه   ",14,null,"باز بودن یقه انگلیسی","مرحله چهارم",null,null,null,null,"سهم گشادی مچ آستین بر روی درز  ",4,null," پهنای رکاب جلو شلوار   ",20,null,"مکان عمودی الگو مرغک",35,null,null,"(14 →8)",{"$f":"ROUND(محاسبات!BJ34-محاسبات!BJ29,1)","v":67},"عمود"]
[" ضریب فاصله افقی ساسون وسط بالاتنه از خط مرکزی پشت   ",25,null,"پهنای بالا و پایین دال","مرحله پنجم",null,"طراحی بافت",null,null,"جابجایی افقی تکه جلو آستین رگلان درز دار (سانتیمتر)",5,null," پهنای رکاب پشت شلوار   ",20,null,null,null,null,null,"(15 →16)",{"$f":"ROUND(0.33*U244,1)","v":7.3}]
[" ضریب پهنای ساسون میانی جلو بالاتنه    ",7,null,"پهنای یقه انگلیسی","مرحله ششم",null,"انتخاب ضخامت میل بافتنی",3,null,null,null,null," قله رکاب جلو شلوار   ",0,null,null,null,null,null,"(16 →17)",{"$f":"U242","v":7.3}]
[" ضریب طول ساسون میانی جلو بالاتنه  ",18,null,"بالا و پایین رفتن نقطه وسط دال","مرحله هفتم",null,"جمع شوندگی عمودی بافت",0,null," آستین لاله ای",null,null," قله رکاب پشت شلوار   ",0,null,null,null,null,null,"(16 →18)",{"$f":"ROUND(محاسبات!BL40-3-0.2*محاسبات!BL40,1)","v":22},"عمود"]
[" ضریب فاصله افقی ساسون میانی بالاتنه از خط مرکزی جلو   ",25,null,"تنظیم زاویه های نوک دال","مرحله هشتم",null,"جمع شوندگی افقی بافت",0,null,"مکان نقطه بالای انحنا جلو آستین   ",20,null," ارتفاع رکاب جلو شلوار   ",0,null,null,null,null,null,"(16 →19)",{"$f":"U244","v":22}]
[" ضریب نوک ساسون سرشانه جلو تا نوک سینه  ",18,null,"اصلاح انحنای بالای تکه پشت یقه انگلیسی","مرحله نهم",null,null,null,null,"مکان نقطه بالای انحنا پشت آستین   ",20,null," ارتفاع رکاب پشت شلوار   ",0,null,null,null,null,null,{"$f":"'طراحی مدل 30a'!A326","v":"زلیخا ۵ ۹۹"}]
[null,null,null,null,null,null,null,null,null,"مکان نقطه پایین انحنا جلو آستین   ",20]
[" تنظیم ساسون های پایین کمر",null,null,"طراحی یقه مربعی یا برش سرشانه در پیراهن",null,null,null,null,null,"مکان نقطه پایین انحنا پشت آستین   ",20,null," جیب جین پشت شلوار یا پیراهن ",null,null,"طراحی چادر شماره 5",null,null,null,"رسم دستی چادر 5 (بر حسب سانتیمتر)"]
["مجموع ضرایب پهنای دو ساسون پشت باید کمتر از 20 یا مساوی 20 باشد.",null,null,"انتخاب یقه مربعی یا برش سرشانه",2,null,null,null,null,"ضریب انحنا جلو   ",23,null,"ضریب پهنای جیب    ",11,null,"لبه پایین چادر",10,null,null,"(1 →2)",{"$f":"ROUND(0.5*'متغیرها '!C38*'متغیرها '!U54,1)","v":94.5}]
["اگر مجموع پهنای ساسون ها کمتر از 20 باشد، باقیمانده ساسون ها روی خط پهلو قرار میگیرد.",null,null,"  انتخاب آستین با هر نوع ساسون=1    انتخاب آستین بدون ساسون=2           ",2,null,null,null,null,"ضریب انحنا پشت   ",23,null,"ضریب ارتفاع جیب    ",9,null,"گشادی دامن چادر  ",20,null,null,"(1 →3)",{"$f":"ROUND('متغیرها '!U56-محاسبات!BW42,1)","v":95.5},"عمود"]
[" ضریب پهنای ساسون روی خط مرکزی پشت دامن   ",0,null,"بالا یا پایین آمدن خط کارور پشت",20,null,null,null,null,null,null,null,"زاویه خط پهلو جیب    ",5,null,"بلند شدن دسته چادر ",20,null,null,"(2 → 4)",{"$f":"U250","v":95.5},"عمود"]
[" ضریب طول ساسون روی خط مرکزی پشت دامن        غیر فعال",18,null,"  حلقه آستین با ساسون سرشانه یا حلقه آستین بدون ساسون ",{"$f":"'متغیرها '!B286","v":"عدم خطا"},null,null,null,null,null,null,null,"زاویه مثلث پایین جیب    ",20,null,"انتخاب چادر تا پایین پیشانی یا بالای پیشانی یا روی سر",2,null,null,"(3→5)",{"$f":"ROUND(0.14*'متغیرها '!U56,1)","v":13.4}]
[" ضریب پهنای ساسون میانی پشت دامن   ",10,null,"  حلقه آستین با ساسون عصایی  ",{"$f":"'متغیرها '!B287","v":"عدم خطا"},null,null,null,null,null,null,null,"زاویه چرخش کل جیب    ",45,null,null,null,null,null,"(4 →6)",{"$f":"ROUND(0.33*U249,1)","v":31.2},"عمود"]
[" ضریب طول ساسون میانی پشت دامن       ",18,null,"بالا یا پایین آمدن خط کارور جلو",10,null,null,null,null,null,null,null,"مکان افقی جیب  (سانتیمتر)    ",0,null,null,null,null,null,"(6 →7)",{"$f":"U261","v":23.9},"عمود"]
[" ضریب پهنای ساسون میانی جلو دامن    ",4,null,"  حلقه آستین با ساسون سرشانه یا حلقه آستین بدون ساسون ",{"$f":"'متغیرها '!B290","v":"عدم خطا"},null,null,null,null,null,null,null,"مکان عمودی جیب    ",20,null,null,null,null,null,"(4→8)",{"$f":"ROUND(0.2*('متغیرها '!U52-'متغیرها '!U53),1)","v":10.5}]
[" ضریب طول ساسون میانی جلو دامن       ",18,null,"  حلقه آستین با ساسون عصایی  ",{"$f":"'متغیرها '!B291","v":" خطا - خط کارور جلو بالا برود "},null,null,null,null,null,null,null,null,null,null,null,null,null,null,"(4 →11)",{"$f":"ROUND(3*U255+'متغیرها '!U52+10,1)","v":138.5}]
[null,null,null,"پهنا یقه روی خط سرشانه  (فقط موثر در انتخاب یقه مربعی) ",20,null,null,null,null,null,null,null," جیب جلو شلوار مردانه و جیب جین جلو شلوار",null,null,null,null,null,null,"(4 →9)",{"$f":"ROUND(1+0.03*'متغیرها '!U56,1)","v":3.9},"عمود"]
["ساسون ها در بالاتنه عصایی ",null,null,"پهنای کارور جلو  (فقط موثر در انتخاب یقه مربعی) ",20,null,null,null,null,null,null,null," بزرگی عمودی دهانه جیب   ",10,null,null,null,null,null,"(12 →18)",{"$f":"U252","v":13.4}]
["انتخاب بالاتنه عصایی=2        انتخاب دیگر=1",1,null,"پهنای کارور پشت  (فقط موثر در انتخاب یقه مربعی) ",20,null,null,null,null,null,null,null," بزرگی افقی دهانه جیب   ",10,null,null,null,null,null,"(18 →14)",{"$f":"ROUND(محاسبات!AH45+محاسبات!G19+0.1*'متغیرها '!U85-'متغیرها '!U56+U252+0.1*'متغیرها '!C40*'متغیرها '!U85,1)","v":97.2}]
["مکان ساسون عصایی جلو در حلقه آستین بالاتنه",4,null,"جابجایی افقی   (سانتیمتر)   ",0,null,null,null,null,null,null,null," بزرگی کیسه جیب    ",10,null,null,null,null,null,"(12 →16)",{"$f":"U249-U253","v":63.3},"عمود"]
["مکان ساسون عصایی پشت در حلقه آستین بالاتنه",6,null,"جابجایی عمودی  (سانتیمتر)  ",0,null,null,null,null,null,null,null,null,null,null,null,null,null,null,"(16 →17)",{"$f":"ROUND(U258+0.5*(SQRT(POWER(U259-محاسبات!BW43,2)+U260*U260)-U259+محاسبات!BW43),1)","v":23.9},"عمود"]
[null,null,null,null,null,null,null,null,null,null,null,null,"  جیب جلو شلوار با بلیطی",null,null,null,null,null,null,"(16 →13)",{"$f":"ROUND(1.9*(U253-U255),1)","v":39.299999999999997}]
["طراحی دامن فون",null,null,"بررسی خطای گردی یقه تا خط کارور جلو",null,null,null,null,null,null,null,null,"پهنای بلیطی جیب  (سانتیمتر)",2,null,null,null,null,null,"(14 →15)",{"$f":"ROUND(U260+U262+0.5*'متغیرها '!C39*'متغیرها '!U56,1)","v":126.5},"عمود"]
["انتخاب بالاتنه با ساسون=2        انتخاب پیراهن راسته=1",2,null,"آیا یقه گرد که تا خط کارور جلو باز شده، با پارچه کش از سر رد میشود؟",{"$f":"'متغیرها '!E297","v":" بله "},null,null,null,null,null,null,null,"ضریب طول بلیطی جیب",18,null,null,null,null,null,"(3→19)",{"$f":"ROUND(0.4*(محاسبات!CD25-محاسبات!CD22),1)","v":25.3}]
["مکان پایین دامن فون \nدرانتخاب دامن فون متصل به پیراهن راسته    ",30,null,"آیا یقه گرد که تا خط کارور جلو باز شده، با پارچه غیر کش از سر رد میشود؟",{"$f":"'متغیرها '!E298","v":" بله "},null,null,null,null,null,null,null,"زاویه جیب با عمود ",18,null,null,null,null,null,"(19 →20)",{"$f":"ROUND(محاسبات!CA17-(محاسبات!CE25+0.9*(محاسبات!CE22-محاسبات!CE25)),1)","v":14.5},"عمود"]
["چین در دامن فون",1,null,null,null,null,null,null,null,null,null,null,"تبدیل بلیطی جیب از مستطیل به متوازی الاضلاع ",20,null,null,null,null,null,"(3 →21)",{"$f":"ROUND(0.8*(محاسبات!CD25-محاسبات!CD22),1)","v":50.6}]
[" اوزمان در جلو دامن فون    ",5,null," یقه دراپه ",null,null,null,null,null,null,null,null,"انتخاب جیب روکار=2        انتخاب دیگر=1",2,null,null,null,null,null,"(21→22)",{"$f":"ROUND(محاسبات!CA17-(محاسبات!CE25+0.45*(محاسبات!CE22-محاسبات!CE25)),1)","v":19.2},"عمود"]
[" اوزمان در پشت دامن فون   ",5,null,"نقطه شروع دراپه جلو    ",80,null,null,null,null,null,null,null,"مکان افقی وسط جیب",10,null,null,null,null,null,"(12 →23)",{"$f":"U264","v":25.3}]
["جابجایی افقی جلو دامن فون (سانتیمتر)",0,null,"میزان باز بودن یقه جلو به سمت  خط سینه    ",20,null,null,null,null,null,null,null,"مکان عمودی بالای جیب  ",50,null,null,null,null,null,"(23 →24)",{"$f":"U265","v":14.5},"عمود"]
["جابجایی عمودی جلو دامن فون (سانتیمتر)",0,null,"جابجایی عمودی یقه دراپه جلو (سانتیمتر)",0,null,null,null,null,null,null,null,null,null,null,null,null,null,null,"(12 →25)",{"$f":"U266","v":50.6}]
["جابجایی افقی پشت دامن فون (سانتیمتر)",0,null,"نقطه شروع دراپه پشت    ",80,null,null,null,null,null,null,null," جیب پشت شلوار یا پیراهن با بلیطی",null,null,null,null,null,null,"(25 →26)",{"$f":"U267","v":19.2},"عمود"]
["جابجایی عمودی پشت دامن فون (سانتیمتر)",0,null,"میزان باز بودن یقه پشت به سمت  خط سینه    ",20,null,null,null,null,null,null,null,"پهنای بلیطی جیب  (سانتیمتر)",2,null,null,null,null,null,"(15 →27)",{"$f":"ROUND(محاسبات!CD15-(محاسبات!CD11+0.75*(محاسبات!CD15-محاسبات!CD11)),1)","v":6}]
[null,null,null,"جابجایی عمودی یقه دراپه پشت (سانتیمتر)",0,null,null,null,null,null,null,null,"ضریب طول بلیطی جیب",20,null,null,null,null,null,"(27 →28)",{"$f":"ROUND(محاسبات!CE15-محاسبات!CE13,1)","v":55.3},"عمود"]
["  جلو کمر پهن","عکس راهنما",null,null,null,null,null,null,null,null,null,null,"زاویه جیب با عمود ",18,null,null,null,null,null,"(4 →29)",{"$f":"ROUND(0.5*('متغیرها '!U52-'متغیرها '!U53),1)","v":26.2},"نقطه انتهای اتصال به کمر-خط پهلو"]
["انتخاب کمر برای جلیقه =2         انتخاب دیگر = 1",1,null,"یقه دکلته جلو",null,null,null,null,null,null,null,null,"تبدیل بلیطی جیب از مستطیل به متوازی الاضلاع ",20,null,null,null,null,null,{"$f":"'طراحی مدل 30a'!A326","v":"زلیخا ۵ ۹۹"}]
["بالای کمر پهن یکسره روی خط مرکزی جلو (ضریب فاصله نقطه u4 از خط کمر)",5,null,"میزان باز بودن یقه در خط مرکزی جلو  ",90,null,null,null,null,null,null,null,"انتخاب جیب روکار=2        انتخاب دیگر=1",2]
["پایین کمر روی خط مرکزی جلو (ضریب فاصله نقطه d4 از خط کمر)  (کمر جناقی و حد پایین برش دراپه)",-5,null,"میزان اضافه شدن ساسون سرشانه  ",20,null,null,null,null,null,null,null,"مکان افقی وسط جیب",10]
["ضریب فاصله عمودی دال جلو  (جلیقه) - (ضریب فاصله نقطه u5 از خط کمر)",5,null,"میزان انحنا یقه  ",20,null,null,null,null,null,null,null,"مکان عمودی بالای جیب  ",50]
["ضریب فاصله افقی دال جلو  (جلیقه) - (ضریب فاصله نقطه u5 از خط مرکزی جلو)",10]
["پایین کمر روی خط ترک جلو (ضریب فاصله نقطه d5 از خط کمر)  (کمر جناقی و حد پایین برش دراپه)",-8,null,"یقه دکلته پشت"]
["بالای کمر پهن یکسره روی خط ترک جلو (ضریب فاصله نقطه u6 از خط کمر)",8,null,"میزان باز بودن یقه در خط مرکزی پشت  ",90]
["جابجایی افقی کمر پهن یکسره (سانتیمتر)",10,null,"میزان انحنا یقه  ",19]
["جابجایی عمودی کمر پهن یکسره  (سانتیمتر)",50]
[null,null,null," طول بند برای لباس دکلته از جلو تا پشت (سانتیمتر)"]
["  پهلو کمر پهن",null,null,"دکلته آبی جلو     به     دکلته آبی پشت",{"$f":"'متغیرها '!B361","v":12}]
["بالای کمر پهن یکسره روی خط پهلو (ضریب فاصله نقطه u3 از خط کمر)",4,null,"دکلته آبی جلو     به     دکلته سبز پشت",{"$f":"'متغیرها '!B362","v":19}]
["پایین کمر روی خط پهلو (ضریب فاصله نقطه d3 از خط کمر)  (کمر جناقی و حد پایین برش دراپه)",-10,null,"دکلته آبی جلو     به     دکلته بنفش پشت",{"$f":"'متغیرها '!B363","v":25}]
[null,null,null,"دکلته آبی جلو     به     دکلته سیاه پشت",{"$f":"'متغیرها '!B364","v":30}]
[" پشت کمر پهن","عکس راهنما",null,"دکلته سبز جلو     به     دکلته آبی پشت",{"$f":"'متغیرها '!B365","v":18}]
["بالای کمر پهن یکسره روی خط مرکزی پشت (ضریب فاصله نقطه u1 از خط کمر)",5,null,"دکلته سبز جلو     به     دکلته سبز پشت",{"$f":"'متغیرها '!B366","v":25}]
["پایین کمر روی خط مرکزی پشت (ضریب فاصله نقطه d1 از خط کمر) (کمر جناقی)",-5,null,"دکلته سبز جلو     به     دکلته بنفش پشت",{"$f":"'متغیرها '!B367","v":31}]
["بالای کمر پهن یکسره روی خط ترک پشت (ضریب فاصله نقطه u2 از خط کمر)",8,null,"دکلته سبز جلو     به     دکلته سیاه پشت",{"$f":"'متغیرها '!B368","v":36}]
["پایین کمر روی خط ترک پشت (ضریب فاصله نقطه d2 از خط کمر) (کمر جناقی)",-8,null,"دکلته سیاه جلو     به     دکلته آبی پشت",{"$f":"'متغیرها '!B369","v":22}]
["جابجایی افقی کمر پهن یکسره (سانتیمتر)",20,null,"دکلته سیاه جلو     به     دکلته سبز پشت",{"$f":"'متغیرها '!B370","v":29}]
["جابجایی عمودی کمر پهن یکسره  (سانتیمتر)",50,null,"دکلته سیاه جلو     به     دکلته بنفش پشت",{"$f":"'متغیرها '!B371","v":35}]
[null,null,null,"دکلته سیاه جلو     به     دکلته سیاه پشت",{"$f":"'متغیرها '!B372","v":40}]
[" پیلی ها و گوده ها","عکس راهنما"]
[" عرض پیلی 1 (بعد از دوخت) - روی خط مرکزی جلو  (سانتیمتر)    ",0,null," رگلاژ یقه دکلته پشت"]
[" عرض پیلی 2 (بعد از دوخت) - روی خط ترک جلو  (سانتیمتر)     ",0,null,"نقطه بالای رگلاژ روی یقه دکلته    ",2]
[" عرض پیلی 3 (بعد از دوخت) - روی خط پهلو   (سانتیمتر)   ",0,null,"نقطه وسط رگلاژ روی خط کمر    ",16]
[" عرض پیلی 4 (بعد از دوخت) - روی خط مرکزی پشت   (سانتیمتر)   ",0,null,"نقطه پایین رگلاژ روی خط مرکزی پشت   ",16]
[" عرض پیلی 5 (بعد از دوخت)  روی خط ترک پشت (سانتیمتر) و نصف پهنای لبه برگرد پایین کت",2,null,"ضریب پهنای جادکمه برای تکه رگلاژ ",6]
[" عرض پایین گوده 1 - روی خط مرکزی جلو  (سانتیمتر)    ",0,null,"جابجایی افقی تکه رگلاژ جدا (سانتیمتر)  ",30]
[" عرض پایین گوده 2 - روی خط ترک جلو  (سانتیمتر)    ",0]
[" عرض پایین گوده 3 - روی خط پهلو  (سانتیمتر)    ",0,null,"یقه قایقی بدون شیفت تکه پهلو"]
[" عرض پایین گوده 4 - روی خط مرکزی پشت  (سانتیمتر)   ",0,null,"باز شدن یقه قایقی روی سرشانه  ",20]
[" عرض پایین گوده 5 - روی خط ترک پشت   (سانتیمتر)  ",0]
[" نقطه شروع گوده یا پیلی ",40,null,"یقه پروانه ای متصل به حلقه آستین بدون ساسون  \nبدون شیفت تکه پهلو"]
[null,null,null,"پهنای سرشانه به سمت پشت    ",20]
["انحنا لبه پیراهن روی خط مرکزی جلو ",null,null,"پهنای سرشانه به سمت جلو   ",20]
["انحنا بالای لبه پیراهن  روی خط مرکزی جلو ",9]
["انحنا میانی لبه پیراهن  روی خط مرکزی جلو ",26,null," طراحی یقه دلبری"]
["انحنا پایین لبه پیراهن روی خط مرکزی جلو ",16,null," باز شدن یقه نسبت به وسط گردن       ",14]
[null,null,null,"  فاصله عمودی نقطه شکست یقه دلبری   ",20]
[" مشخصات کمربند به شکل مستطیل (مناسب برای لباس شما)",null,null," فاصله افقی نقطه شکست یقه دلبری",20]
["طول کمربند (سانتیمتر)",{"$f":"'متغیرها '!B273","v":128.19999999999999}]
["عرض کمربند (سانتیمتر)",{"$f":"'متغیرها '!B274","v":4.3},null," یقه پشت گردنی متصل به حلقه آستین با ساسون بدون شیفت تکه پهلو "]
[null,null,null," پهنای یقه پشت گردن  ",20]
[" طراحی کش پایین سویشرت ",null,null," طول یقه پشت گردن  ",20]
["بالا یا پایین رفتن برش پایین سویشرت",45,null,"  انحنا افقی یقه جلو       ",20]
["ضریب کوچک شدن کش",8,null," انحنا عمودی یقه جلو    ",20]
["طول  کش از ساسون جلو- دور باسن - تا ساسون دیگر جلو (سانتیمتر)",{"$f":"'متغیرها '!B277","v":53}]
[null,null,null,"طراحی جیب و جادکمه"]
[" دراپه از پهلو"]
["حد بالا برش دراپه   ",80,null,"  جیب پهلو با بلیطی  (جلو) (آبی)"]
["پهنای هر دراپه به سانتیمتر   ",6,null,"پهنای بلیطی جیب  (سانتیمتر)",2]
["تعداد دراپه ها    ",{"$f":"'متغیرها '!B307","v":5},null,"ضریب طول بلیطی جیب",20]
[null,null,null,"زاویه جیب با عمود ",4]
["  کنترل گودی حلقه آستین و اپل",null,null,"زاویه چرخش بلیطی جیب از مستطیل به متوازی الاضلاع ",20]
["انتخاب کنترل گودی حلقه آستین=2        و انتخاب دیگر=1",1,null,"انتخاب طول جیب منطبق با جیب با ساسون=2     انتخاب طول جیب دستی=1",1]
["روی هم آمدن سرشانه پشت و جلو ",10]
["نسبت اعمال تغییر در حلقه جلو به حلقه پشت  ",20]
["زاویه اپل    ",15]
[]
[" انتقال ساسون زیر بغل بر روی جیب در تکه پهلو جدا"]
[" زاویه جیب با افق  ",40]
[" پهنای جیب در مدل تکه پهلو جدا",20]
[]
["سرشانه دکمه خور متصل به حلقه آستین بدون ساسون\nبدون شیفت تکه پهلو"]
["پهنای جادکمه سرشانه",5]
[]
["  آستین کیمونو و آستین سرخود بدون شیفت تکه پهلو"]
["میزان خمیدگی آستین کیمونو نسبت به خط سرشانه   ",15]
["کوتاهی آستین کیمونو   ",10]
["گشادی دور مچ   ",20]
["انحنا پهلو برای آستین کیمونو   ",8]
["انحنا پهلو برای آستین سرخود   ",5]
["کوتاهی آستین سرخود   ",40]
["کوتاهی تاج آستین سرخود   ",2]
[" : گشادی لبه آستین سرخود",{"$f":"'متغیرها '!E399","v":" صحیح"},null,"  جیب مستطیل  (جلو)  (قرمز)"]
[null,null,null,"ضریب عرض جیب مستطیل",0]
[" شورت بدون شیفت تکه پهلو",null,null,"زاویه  جیب با عمود ",0]
["ضریب فاصله کمر شورت تا زمین ",65,null,"ضریب ارتفاع جیب مستطیل",0]
["میزان انحنا جلو شورت مردانه ",8,null,"مکان افقی وسط جیب",10]
["مکان افقی مرغک",30,null,"مکان عمودی بالای جیب  ",96]
["مکان عمودی مرغک",0]
[null,null,null," جادکمه با بلیطی (جلو)"]
[" مایو پادار",null,null,"پهنای جادکمه  (سانتیمتر)",2]
["گشادی پایین پاچه     ",3,null,"ضریب طول جادکمه ",20]
["پهنای صافی لبه پایین پاچه",10,null,"زاویه جادکمه با عمود ",18]
["ضریب عرض جادکمه وسط پا  ",3,null,"مکان افقی وسط جادکمه",10]
["زاویه خط پهلو شلوار    ",5,null,"مکان عمودی بالای جادکمه ",70]
["جابجایی افقی تکه وسط پا (سانتیمتر)",2]
["جابجایی عمودی تکه وسط پا (سانتیمتر)",-10]
[]
[" مایو بدون شیفت تکه پهلو      باید  شروع اوزمان = خط باسن"]
[" ضریب بالا آمدن خط مایو در پهلو   ",10]
["انتخاب مایو دکمه دار از وسط پا=2            انتخاب مایو بدون دکمه=1",2]
["جابجایی محل دکمه از پشت به جلو برای پوشک بچه در انتخاب مایو دکمه دار (سانتیمتر)",2]
["اضافه پهنا وسط پا برای پوشک بچه در انتخاب مایو دکمه دار (سانتیمتر) ",1.5]
["اضافه جادکمه وسط پا در انتخاب مایو دکمه دار  (سانتیمتر)",2]
[]
["  پیش بند حمام بچه و طراحی اانحنا روی خط پهلو پیراهن"]
[" بزرگی کلاه بچه   ",20]
["نقطه بالای انحنا روی خط پهلو",20]
["نقطه پایین انحنا روی خط پهلو",20]
[]
["  جلو پیش سینه رکابی بدون شیفت تکه پهلو"]
["بالا یا پایین رفتن بند پیش سینه جلو",20]
["فاصله بند تا زیر حلقه آستین",20]
["گودی بین دو بند در جلو سینه",20]
["فاصله بند تا خط مرکزی جلو",20]
["انتخاب خط راست پهلو جلو=2        انتخاب دیگر=1",1]
[]
["مکان بند جدا پیش سینه یا پیش بند در الگو پشت"]
["مکان افقی بند جدا",20]
["مکان عمودی بند جدا",50]
[]
[" پشت پیش سینه رکابی بدون شیفت تکه پهلو"]
["بالا یا پایین رفتن بند پیش سینه پشت",20]
["فاصله بند تا زیر حلقه آستین",20]
["گودی بین دو بند در پشت سینه",20]
["فاصله بند تا خط مرکزی پشت",20]
["انتخاب خط راست پهلو پشت=2        انتخاب دیگر=1",1]
[]
["  طراحی سوتین کلی"]
["ضریب ساسون وسط سینه      ",20]
["ضریب پایین آمدن از خط پهلو    ",20]
[" بزرگ شدن کاسه در خط مرکزی جلو      ",20]
[" بزرگ شدن کاسه زیر نوک سینه    ",20]
[" بزرگ شدن کاسه در پهلو      ",20]
[" بالا یا پایین آمدن یقه روی خط مرکزی جلو    ",20]
["حرکت عمودی نقطه اتصال بند جلو      ",20]
["حرکت افقی نقطه اتصال بند جلو    ",20]
["میزان انحنا یقه جلو   ",20]
["ضریب گودی خطوط افقی کاسه      ",20]
["ضریب گودی خطوط عمودی کاسه    ",20]
["میزان انحنا یقه در پهلو    ",20]
[" افزایش یا کاهش ساسون زیر بغل     ",20]
[" افزایش یا کاهش طول عمودی کاسه     ",20]
[" افزایش یا کاهش طول افقی کاسه     ",20]
["جابجایی افقی کاسه پایین راست (سانتیمتر)    ",0]
["جابجایی عمودی کاسه پایین (سانتیمتر)    ",0]
["جابجایی عمودی کاسه بالا (سانتیمتر)    ",0]
[]
["  طراحی اختصاصی سوتین 6 تکه"]
["انتقال ساسون روی خط سینه به زیر سینه    ",9]
["چرخش تکه پهلو     ",20]
["پهنای بند جلو       ",1.5]
["بالا یا پایین رفتن مکان بند جلو",20]
["چپ و راست رفتن مکان بند جلو",20]
["پهنای افقی برش جلو بند    ",20]
["پهنای برش کاسه در پهلو      ",20]
["بالا یا پایین رفتن خط پایین پایه      ",80]
["پهنای بند پشت  (سانتیمتر)   ",1.5]
["بالا یا پایین رفتن مکان بند پشت",20]
["چپ و راست رفتن مکان بند پشت",9]
["انحنا یقه پشت پهلو      ",20]
["پهنای قزن در پشت (سانتیمتر)    ",3]
["انحنا یقه پشت مرکزی      ",20]
["جابجایی افقی تکه جلو مرکزی (سانتیمتر)    ",0]
["جابجایی افقی تکه پهلوجلو (سانتیمتر)    ",0]
["جابجایی عمودی کاسه یک تکه زیرین (سانتیمتر)    ",0]
[]
[" شنل  بدون شیفت تکه پهلو"]
["اوزمان در شنل  ",20]
[]
[]
[]
[]
[]
[]
[]
[]
[]
[]
[]
[]
[]
[]
[]
[]
[]
[]
[]
[]
[]
[]
[]
[]
[]
[]
[]
[]
[]
[]
[]
[]
[]
[]
[]
[]
[]
[]
[]
[]
[]
[]
[]
[]
[]
[]
[]
[]
[]
[]
[]
[]
[]
[]
[]
[]
[]
[]
[]
[]
[]
[]
[]
[]
[]
[]
[]
[]
[]
[]
[]
[]
[]
[]
[]
[]
[]
[]
[]
[]
[]
[]
[null,null,null,null,{"$f":"'طراحی همه الگوها'!J349","v":0}]

{"sheet":"طراحی مدل 30a","index":8,"n_rows":362,"n_cols":11,"rows_kept":362,"cut":false,"hidden":false,"merged":[]}
[]
[]
[]
[null," "]
[]
[]
[]
[]
[]
[]
[]
[]
[]
[]
[]
[]
[]
[]
["in"]
[]
[]
[]
[]
[]
[]
[]
[]
[]
[]
[]
[]
[]
[]
[]
[]
[]
[]
[]
[]
[]
[]
[]
[]
[]
[]
[]
[]
[]
[]
[]
[]
[]
[]
[]
[]
[]
[]
[]
[]
[]
[]
[]
[]
[]
[]
[]
[]
[]
[]
[]
[]
[]
[]
[]
[]
[]
[]
[]
[]
[]
[]
[]
[]
[]
[]
[]
[]
[]
[]
[]
[]
[]
[]
[]
[]
[]
[]
[]
[]
[]
[]
[]
[]
[]
[]
[]
[]
[]
[]
[]
[]
[]
[]
[]
[]
[]
[]
[]
[]
[]
[]
[]
[]
[]
[]
[]
[]
[]
[]
[]
[]
[]
[]
[]
[]
[]
[]
[]
[]
[]
[]
[]
[]
[]
[]
[]
[]
[]
[]
[]
[]
[]
[]
[]
[]
[]
[]
[]
[]
[]
[]
[]
[]
[]
[]
[]
[]
[]
[]
[]
[]
[]
[]
[]
[]
[]
[]
[]
[]
[]
[]
[]
[]
[]
[]
[]
[]
[]
[]
[]
[]
[]
[]
[]
[]
[]
[]
[]
[]
[]
[]
[]
[]
[]
[]
[]
[]
[]
[]
[]
[]
[]
[]
[]
[]
[]
[]
[]
[]
[]
[]
[]
[]
[]
[]
[]
[]
[]
[]
[]
[]
[]
[]
[]
[]
[]
[]
[]
[]
[]
[]
[]
[]
[]
[]
[]
[]
[]
[]
[]
[]
[]
[]
[]
[]
[]
[]
[]
[]
[]
[]
[]
[]
[]
[]
[]
[]
[]
[]
[]
[]
[]
[]
[]
[]
[]
[]
[]
[]
[]
[]
[]
[]
[]
[]
[]
[]
[]
[]
[]
[]
[]
[]
[]
[]
[]
[]
[]
[]
[]
[]
[]
[]
[]
[]
[]
[]
[]
[]
[]
[]
[]
[]
[]
[]
["طراحی الگو جلو و پشت",null,null,"طراحی یقه و جیب در الگو جلو و پشت",null,null,"طراحی الگو یقه جدا و کلاه  ",null,null,"طراحی الگو آستین "]
[]
[null,null,null," طراحی یقه گرد",null,null," جابجایی همه الگوهای یقه",null,null," طراحی کلی آستین "]
[null,null,null,"باز شدن یقه روی سرشانه (گرد، مربعی، هفت، دلبری، پشت گردنی)    ",1,null,"جابجایی افقی همه یقه های جدا  (سانتیمتر)   ",0,null,"بلندی پایین آستین",12]
[null,null,null,"باز شدن یقه روی خط مرکزی جلو (گرد، مربعی، قایقی، پروانه ای)  ",2,null,"جابجایی عمودی همه یقه های جدا  (سانتیمتر)  ",30,null,"گشادی لبه پایین آستین",4]
[null,null,null,"باز شدن یقه روی خط مرکزی پشت (گرد، مربعی، قایقی، پروانه ای، پشت گردنی)   ",1,null,null,null,null,"ضریب بلند یا کوتاه شدن اندازه های طولی در آستین",0]
["انتخاب سایز :",null,null,null,null,null,"  یقه شکاری ",null,null,"ضریب بلندی تاج آستین",0]
["زلیخا ۵ ۹۹","سایز من",null," کنترل یقه گرد بدون زیپ ",null,null," قد پشت یقه   ",25,null,"ضریب گشادی تاج آستین",0]
[null,null,null,"دور سر",{"$f":"'متغیرها '!B260","v":59},null," کج شدن  یقه به سمت گردن   ",-8,null,"مکان لبه بالایی صافی سرآستین ",14]
["برچسب الگو : ",null,null," دور یقه گرد لباس",{"$f":"'متغیرها '!B261","v":47.8},null,"مکان لبه یقه نسبت به جلو لباس        ","مرکزی جلو",null,"جابجایی افقی کل الگو آستین (سانتیمتر)",0]
[{"$f":"A323","v":"زلیخا ۵ ۹۹"},null,null,"آیا یقه گرد با پارچه غیر کش از سر رد میشود؟",{"$f":"'متغیرها '!E262","v":"خیر"},null,"زاویه لبه برگردان یقه (میزان نوک تیز بودن لبه)     ",55,null,"جابجایی عمودی کل الگو آستین (سانتیمتر)",0]
[null,null,null,"آیا یقه گرد با پارچه نیم کش از سر رد میشود؟",{"$f":"'متغیرها '!E263","v":"خیر"},null," قد لبه برگردان یقه   ",30]
[" جابجایی الگو جلو و پشت پیراهن",null,null,"آیا یقه گرد با پارچه کش زیاد از سر رد میشود؟",{"$f":"'متغیرها '!E264","v":"بله "},null,null,null,null,"اطلاعات طول حلقه آستین و طول تاج آستین"]
["جابجایی افقی کل الگو جلو پیراهن  (سانتیمتر)",5,null,null,null,null,"  یقه فرنچی ایستاده و کاسبرگی",null,null,"طول کل حلقه آستین بدون ساسون (سانتیمتر) ",{"$f":"'متغیرها '!B527","v":55.6}]
["جابجایی عمودی کل الگو جلو پیراهن  (سانتیمتر)",5,null,"طراحی نوار یقه گرد کش ",null,null," قد یقه    ",10,null,"طول تاج آستین ساده (سانتیمتر)",{"$f":"'متغیرها '!B531","v":56.5}]
["جابجایی افقی کل الگو پشت پیراهن  (سانتیمتر)",15,null,"ارتفاع نوار یقه گرد کش به سانتیمتر (بعد از دوخت)",2,null," کج شدن یقه به سمت گردن  ",20]
["جابجایی عمودی کل الگو پشت پیراهن  (سانتیمتر)",0,null,"طول مستطیل (بدون جای دوخت) برای دوخت یقه گرد کش (سانتیمتر)",{"$f":"'متغیرها '!B249","v":37},null,"مکان لبه یقه نسبت به جلو لباس        ","خط جادکمه",null,"  مچ جدا در آستین"]
[null,null,null,"عرض مستطیل (بدون جای دوخت) که در موقع دوخت باید دولا شود  (سانتیمتر)",{"$f":"2*'متغیرها '!C248","v":4},null," انحنا لبه یقه  ",16,null,"انتخاب مچ اندامی=2    انتخاب مچ مستطیل، مچ پفی یا مچ بافت=1",1]
[" گشاد یا تنگ شدن پیراهن",null,null,null,null,null,null,null,null,"گشادی لبه بالایی مچ ",8]
[" اندازه های عرضی در پیراهن   ",2,null,"طراحی جیب و جادکمه",null,null," یقه شومیزیه ",null,null,"گشادی لبه پایینی مچ یا (گشادی مچ مستطیل، مچ پفی یا مچ بافت)  ",2]
[" گشاد یا تنگ شدن از خط پهلو زیر حلقه ",1,null,null,null,null," قد پایه یقه   ",9,null,"مکان لبه بالایی مچ",17]
[" گشاد یا تنگ شدن از خط پهلو دور باسن  ",1,null," جیب اول با بلیطی  (جلو) (سبز)",null,null," کج شدن پایه یقه به سمت گردن   ",5,null,"مکان لبه پایینی مچ",10]
[" اندازه های طولی در پیراهن  ",0,null,"پهنای بلیطی جیب  (سانتیمتر)",0,null,"مکان لبه پایه یقه نسبت به جلو لباس   ","خط جادکمه",null,"جابجایی افقی مچ  (سانتیمتر)   ",0]
[null,null,null,"ضریب طول بلیطی جیب",16,null," انحنا لبه پایه یقه  ",20,null,"جابجایی عمودی مچ  (سانتیمتر)  ",0]
[" جادکمه و پایین لباس","عکس راهنما",null,"زاویه جیب با عمود ",18,null," قد پشت برگردان یقه   ",15]
["پهنای جادکمه جلو      ",3,null,"زاویه چرخش بلیطی جیب از مستطیل به متوازی الاضلاع ",20,null," کج شدن برگردان یقه به سمت گردن   ",-7]
["لبه پایین لباس",44,null,"انتخاب جیب روکار=2        انتخاب دیگر=1",2,null,"زاویه لبه برگردان یقه (میزان نوک تیز بودن لبه)     ",55]
[" انحنا لبه پایین لباس نزدیک خط پهلو",-1,null,"مکان افقی وسط جیب",100,null," قد لبه برگردان یقه   ",25]
[null,null,null,"مکان عمودی بالای جیب  ",98,null,"جابجایی افقی برگردان یقه  (سانتیمتر)   ",0]
[" سرشانه و حلقه آستین",null,null,null,null,null,"جابجایی عمودی برگردان یقه  (سانتیمتر)  ",40]
["ضریب کم شدن سرشانه  ",7,null,"جیب دوم با بلیطی (جلو) (سیاه)"]
["ضریب بزرگ شدن زیر حلقه آستین  ",4,null,"پهنای بلیطی جیب  (سانتیمتر)",0,null," یقه شکاری با پایه"]
["ضریب زیاد شدن سرشانه  ",4,null,"ضریب طول بلیطی جیب",18,null," قد پایه یقه   ",8]
["انتخاب آستین حلقه ای یا پیش سینه رکابی یا تکه پهلو جدا=1   انتخاب دیگر=2",2,null,"زاویه جیب با عمود ",18,null," قد پشت برگردان یقه   ",22]
[null,null,null,"زاویه چرخش بلیطی جیب از مستطیل به متوازی الاضلاع ",20,null," کج شدن یقه به سمت گردن   ",-13]
[null,null,null,"انتخاب جیب روکار=2        انتخاب دیگر=1",2,null,"مکان لبه یقه نسبت به جلو لباس   ","مرکزی جلو"]
[null,null,null,"مکان افقی وسط جیب",100,null,"زاویه لبه برگردان یقه (میزان نوک تیز بودن لبه)     ",55]
[null,null,null,"مکان عمودی بالای جیب  ",null,null," قد لبه برگردان یقه   ",30]
[null,null,null,null,null,null,"جابجایی افقی پایه یقه  (سانتیمتر)   ",0]
[null,null,null,"جادکمه متصل به یقه  (جلو)",null,null,"جابجایی عمودی پایه یقه  (سانتیمتر)  ",-5]
[null,null,null,"ضریب عرض جادکمه ",30]
[null,null,null,"ضریب طول جادکمه ",35,null," یقه ب ب مثلثی و گرد"]
[null,null,null," طول جادکمه  (سانتیمتر)",{"$f":"'متغیرها '!B239","v":15.6},null,"زاویه جلو یقه ب ب مثلثی",25]
[null,null,null," عرض جادکمه  (سانتیمتر)",{"$f":"'متغیرها '!B240","v":3.4},null,"ضریب پهنای یقه ب ب مثلثی و گرد ",25]
[null,null,null,"آیا یقه گرد متصل به جادکمه با پارچه غیر کش از سر رد میشود؟",{"$f":"'متغیرها '!E237","v":"بله "}]
[null,null,null,"آیا یقه گرد متصل به جادکمه با پارچه نیم کش از سر رد میشود؟",{"$f":"'متغیرها '!E238","v":"بله "}]
[null,null,null,"آیا یقه گرد متصل به جادکمه با پارچه کش زیاد از سر رد میشود؟",{"$f":"'متغیرها '!E239","v":"بله "}]

{"sheet":"temp_print_sheet","index":9,"n_rows":0,"n_cols":0,"rows_kept":0,"cut":false,"hidden":true,"merged":[]}